{"text_format":"3","workbook":"xlsx","n_sheets":5,"sheets":["LevelDifficultyConfig","Sheet1","Sheet2","Sheet3","Sheet4"],"not_rendered":{"external_links":5,"defined_names":1,"comments":2},"read":"whole","date_system":"1900"}

{"sheet":"LevelDifficultyConfig","index":0,"n_rows":307,"n_cols":17,"rows_kept":307}
[null,"Id","Name","Precondition","LevelLimit","PicShow","MonsterGroup","Cost","PreLevelCost","Exp","FirstReward","RandomReward","Show","RankTime","MaxCountPerDay","RecommendFightAbility","NoUse"]
[null,"int","string","int","int","int","int","mut,int#int,2","mut,int#int,2","int","mut,int#int,1","mut,int#int,1","mut,int#int,2","int","int","int","string"]
[null,2,3,2,2,3,2,2,2,2,4,4,3,2,2,2,0]
[null,"关卡ID","关卡名称","前置关卡","需要等级","新关卡开启拍脸图","关联的怪物组id","关卡结束扣除体力\n关卡消耗体力=预扣除+结束扣除","进入关卡预先扣除的体力","关卡经验奖励","首次通关奖励","关卡道具奖励组\n--每一次","显示","时间需求","每天最大可玩次数：\n0就是无限","推荐战力","备注"]
["默认值",0," ",0,0,0,0,"null","null",0,0,0,"null",0,0,0," "]
["正确性校对"]
["校对值"]
[null,1011,"简单-1-1",0,0,0,51011,"2#7","2#1",8,"5001","3001#401001","70101#1|14#100|3#10",180,0,300,1]
[null,1021,"简单-1-2",{"$f":"B8","v":1011},0,0,51012,"2#7","2#1",8,"5002","3002#401002","70201#1|14#100|3#10",180,0,300,2]
[null,1031,"简单-1-3",{"$f":"B9","v":1021},0,0,51013,{"$f":"H8","v":"2#7"},"2#1",8,"5003","3003#401003","70301#1|14#100|3#10",180,0,300,3]
[null,1041,"简单-1-4",1031,0,0,51014,{"$f":"H9","v":"2#7"},"2#1",8,"5004","3004#401004","70401#1|14#100|3#10",180,0,300,4]
[null,1051,"简单-1-5",1041,0,0,51015,{"$f":"H10","v":"2#7"},"2#1",8,"5005","3005#401005","70501#1|14#100|3#10",180,0,300,5]
[null,2011,"简单-2-1",1051,0,1,51016,{"$f":"H11","v":"2#7"},"2#1",8,"5006","3006#401006","70102#1|14#120|3#12",90,0,5369,{"$f":"Q8","v":1}]
[null,2021,"简单-2-2",2011,0,0,51017,{"$f":"H12","v":"2#7"},"2#1",8,"5007","3007#401007","70202#1|14#120|3#12",90,0,5369,{"$f":"Q9","v":2}]
[null,2031,"简单-2-3",2021,0,0,51018,{"$f":"H13","v":"2#7"},"2#1",8,5008,"3008#401008","70302#1|14#120|3#12",120,0,5369,3]
[null,2041,"简单-2-4",2031,0,0,51019,{"$f":"H14","v":"2#7"},"2#1",8,"5009#401009","3009#401009","70402#1|14#120|3#12",90,0,8054,4]
[null,2051,"简单-2-5",2041,0,0,51020,{"$f":"H15","v":"2#7"},"2#1",8,"5010#401010","3010#401010","70502#1|14#120|3#12",180,0,8054,5]
[null,3011,"简单-3-1",2051,13,1,51021,{"$f":"H16","v":"2#7"},"2#1",8,"5011#401011","3011#401011","70103#1|14#140|3#14",90,0,8054,1]
[null,3021,"简单-3-2",3011,0,0,51022,{"$f":"H17","v":"2#7"},{"$f":"I17","v":"2#1"},{"$f":"J17","v":8},"5012#401012","3012#401012","70203#1|14#140|3#14",90,{"$f":"O17","v":0},10738,2]
[null,3031,"简单-3-3",3021,0,0,51023,{"$f":"H18","v":"2#7"},"2#1",8,"5013#401013","3013#401013","70303#1|14#140|3#14",120,0,10738,3]
[null,3041,"简单-3-4",3031,0,0,51024,{"$f":"H19","v":"2#7"},"2#1",8,"5014#401014","3014#401014","70403#1|14#140|3#14",90,0,10738,4]
[null,3051,"简单-3-5",3041,0,0,51025,{"$f":"H20","v":"2#7"},"2#1",8,"5015#401015","3015#401015","70503#1|14#140|3#14",180,0,10738,5]
[null,4011,"简单-4-1",3051,16,1,51026,{"$f":"H21","v":"2#7"},"2#1",8,"5016#401016","3016#401016","70104#1|14#160|3#16",90,0,13423,1]
[null,4021,"简单-4-2",4011,0,0,51027,{"$f":"H22","v":"2#7"},"2#1",8,"5017#401017","3017#401017","70204#1|14#160|3#16",90,0,16108,2]
[null,4031,"简单-4-3",4021,0,0,51028,{"$f":"H23","v":"2#7"},"2#1",8,"5018#401018","3018#401018","70304#1|14#160|3#16",120,0,16108,3]
[null,4041,"简单-4-4",4031,0,0,51029,{"$f":"H24","v":"2#7"},"2#1",8,"5019#401019","3019#401019","70404#1|14#160|3#16",90,0,16108,4]
[null,4051,"简单-4-5",4041,0,0,51030,{"$f":"H25","v":"2#7"},"2#1",8,"5020#401020","3020#401020","70504#1|14#160|3#16",180,0,16108,5]
[null,5011,"简单-5-1",4051,18,1,51031,{"$f":"H26","v":"2#7"},"2#1",8,"5021#401021","3021#401021","70105#1|14#180|3#18",90,0,21477,1]
[null,5021,"简单-5-2",5011,0,0,51032,{"$f":"H27","v":"2#7"},"2#1",8,"5022#401022","3022#401022","70205#1|14#180|3#18",90,0,21477,2]
[null,5031,"简单-5-3",5021,0,0,51033,{"$f":"H28","v":"2#7"},"2#1",8,"5023#401023","3023#401023","70305#1|14#180|3#18",120,0,21477,3]
[null,5041,"简单-5-4",5031,0,0,51034,{"$f":"H29","v":"2#7"},"2#1",8,"5024#401024","3024#401024","70405#1|14#180|3#18",90,0,24162,4]
[null,5051,"简单-5-5",5041,0,0,51035,{"$f":"H30","v":"2#7"},"2#1",8,"5025#401025","3025#401025","70505#1|14#180|3#18",180,0,24162,5]
[null,6011,"简单-6-1",5051,21,1,51036,{"$f":"H31","v":"2#7"},"2#1",8,"5026#401026","3026#401026","70106#1|14#200|3#20",90,0,26847,1]
[null,6021,"简单-6-2",6011,0,0,51037,{"$f":"H32","v":"2#7"},"2#1",8,"5027#401027","3027#401027","70206#1|14#200|3#20",90,0,29007,2]
[null,6031,"简单-6-3",6021,0,0,51038,{"$f":"H33","v":"2#7"},"2#1",8,"5028#401028","3028#401028","70306#1|14#200|3#20",120,0,31167,3]
[null,6041,"简单-6-4",6031,0,0,51039,{"$f":"H34","v":"2#7"},"2#1",8,"5029#401029","3029#401029","70406#1|14#200|3#20",90,0,33327,4]
[null,6051,"简单-6-5",6041,0,0,51040,{"$f":"H35","v":"2#7"},"2#1",8,"5030#401030","3030#401030","70506#1|14#200|3#20",180,0,35487,5]
[null,7011,"简单-7-1",6051,23,1,51041,{"$f":"H36","v":"2#7"},"2#1",8,"5031#401031","3031#401031","70106#1|70101#1|14#220|3#22",90,0,37647,1]
[null,7021,"简单-7-2",7011,0,0,51042,{"$f":"H37","v":"2#7"},"2#1",8,"5032#401032","3032#401032","70206#1|70201#1|14#220|3#22",90,0,39807,2]
[null,7031,"简单-7-3",7021,0,0,51043,{"$f":"H38","v":"2#7"},"2#1",8,"5033#401033","3033#401033","70306#1|70301#1|14#220|3#22",120,0,41967,3]
[null,7041,"简单-7-4",7031,0,0,51044,{"$f":"H39","v":"2#7"},"2#1",8,"5034#401034","3034#401034","70406#1|70401#1|14#220|3#22",90,0,44128,4]
[null,7051,"简单-7-5",7041,0,0,51045,{"$f":"H40","v":"2#7"},"2#1",8,"5035#401035","3035#401035","70506#1|70501#1|14#220|3#22",180,0,46288,5]
[null,8011,"简单-8-1",7051,26,1,51046,{"$f":"H41","v":"2#7"},"2#1",8,"5036#401036","3036#401036","70107#1|70102#1|14#240|3#24",90,0,48448,1]
[null,8021,"简单-8-2",8011,0,0,51047,{"$f":"H42","v":"2#7"},"2#1",8,"5037#401037","3037#401037","70207#1|70202#1|14#240|3#24",90,0,49162,2]
[null,8031,"简单-8-3",8021,0,0,51048,{"$f":"H43","v":"2#7"},"2#1",8,"5038#401038","3038#401038","70307#1|70302#1|14#240|3#24",120,0,49877,3]
[null,8041,"简单-8-4",8031,0,0,51049,{"$f":"H44","v":"2#7"},"2#1",8,"5039#401039","3039#401039","70407#1|70402#1|14#240|3#24",90,0,50590,4]
[null,8051,"简单-8-5",8041,0,0,51050,{"$f":"H45","v":"2#7"},"2#1",8,"5040#401040","3040#401040","70507#1|70502#1|14#240|3#24",180,0,51304,5]
[null,9011,"简单-9-1",8051,27,1,51051,{"$f":"H46","v":"2#7"},"2#1",8,"5041#401041","3041#401041","70108#1|14#260|3#26",90,0,52019,1]
[null,9021,"简单-9-2",9011,0,0,51052,{"$f":"H47","v":"2#7"},"2#1",8,"5042#401042","3042#401042","70208#1|14#260|3#26",90,0,52732,2]
[null,9031,"简单-9-3",9021,0,0,51053,{"$f":"H48","v":"2#7"},"2#1",8,"5043#401043","3043#401043","70308#1|14#260|3#26",120,0,53446,3]
[null,9041,"简单-9-4",9031,0,0,51054,{"$f":"H49","v":"2#7"},"2#1",8,"5044#401044","3044#401044","70408#1|14#260|3#26",90,0,54160,4]
[null,9051,"简单-9-5",9041,0,0,51055,{"$f":"H50","v":"2#7"},"2#1",8,"5045#401045","3045#401045","70508#1|14#260|3#26",180,0,54874,5]
[null,10011,"简单-10-1",9051,29,1,51056,{"$f":"H51","v":"2#7"},"2#1",8,"5046#401046","3046#401046","70108#1|70101#1|14#280|3#28",90,0,56187,1]
[null,10021,"简单-10-2",10011,0,0,51057,{"$f":"H52","v":"2#7"},"2#1",8,"5047#401047","3047#401047","70208#1|70201#1|14#280|3#28",90,0,57384,2]
[null,10031,"简单-10-3",10021,0,0,51058,{"$f":"H53","v":"2#7"},"2#1",8,"5048#401048","3048#401048","70308#1|70301#1|14#280|3#28",120,0,58581,3]
[null,10041,"简单-10-4",10031,0,0,51059,{"$f":"H54","v":"2#7"},"2#1",8,"5049#401049","3049#401049","70408#1|70401#1|14#280|3#28",90,0,59778,4]
[null,10051,"简单-10-5",10041,0,0,51060,{"$f":"H55","v":"2#7"},"2#1",8,"5050#401050","3050#401050","70508#1|70501#1|14#280|3#28",180,0,60974,5]
[null,11011,"简单-11-1",{"$f":"B57","v":10051},31,1,51061,{"$f":"H56","v":"2#7"},"2#1",8,"5051#401051","3051#401051","70108#1|14#300|3#30",90,{"$f":"O56","v":0},62650,1]
[null,{"$f":"B58+10","v":11021},"简单-11-2",11011,0,0,51062,{"$f":"H57","v":"2#7"},"2#1",8,"5052#401052","3052#401052","70208#1|14#300|3#30",90,{"$f":"O57","v":0},64805,2]
[null,{"$f":"B59+10","v":11031},"简单-11-3",11021,0,0,51063,{"$f":"H58","v":"2#7"},"2#1",8,"5053#401053","3053#401053","70308#1|14#300|3#30",120,{"$f":"O58","v":0},66960,3]
[null,11041,"简单-11-4",11031,0,0,51064,{"$f":"H59","v":"2#7"},"2#1",8,"5054#401054","3054#401054","70408#1|14#300|3#30",90,{"$f":"O59","v":0},69116,4]
[null,11051,"简单-11-5",11041,0,0,51065,{"$f":"H60","v":"2#7"},"2#1",8,"5055#401055","3055#401055","70508#1|14#300|3#30",180,{"$f":"O60","v":0},71271,5]
[null,{"$f":"B58+1000","v":12011},"简单-12-1",11051,32,1,51066,{"$f":"H61","v":"2#7"},"2#1",8,"5056#401056","3056#401056","70109#1|70102#1|14#320|3#32",90,{"$f":"O61","v":0},72815,1]
[null,{"$f":"B63+10","v":12021},"简单-12-2",12011,0,0,51067,{"$f":"H62","v":"2#7"},"2#1",8,"5057#401057","3057#401057","70209#1|70202#1|14#320|3#32",90,{"$f":"O62","v":0},73749,2]
[null,{"$f":"B64+10","v":12031},"简单-12-3",12021,0,0,51068,{"$f":"H63","v":"2#7"},"2#1",8,"5058#401058","3058#401058","70309#1|70302#1|14#320|3#32",120,{"$f":"O63","v":0},74682,3]
[null,12041,"简单-12-4",12031,0,0,51069,{"$f":"H64","v":"2#7"},"2#1",8,"5059#401059","3059#401059","70409#1|70402#1|14#320|3#32",90,{"$f":"O64","v":0},75616,4]
[null,12051,"简单-12-5",12041,0,0,51070,{"$f":"H65","v":"2#7"},"2#1",8,"5060#401060","3060#401060","70509#1|70502#1|14#320|3#32",180,{"$f":"O65","v":0},76550,5]
[null,{"$f":"B63+1000","v":13011},"简单-13-1",12051,36,1,51071,{"$f":"H66","v":"2#7"},"2#1",8,"5061#401061","3061#401061","70109#1|14#340|3#34",90,{"$f":"O66","v":0},81574,1]
[null,{"$f":"B68+10","v":13021},"简单-13-2",13011,0,0,51072,{"$f":"H67","v":"2#7"},"2#1",8,"5062#401062","3062#401062","70209#1|14#340|3#34",90,{"$f":"O67","v":0},87651,2]
[null,{"$f":"B69+10","v":13031},"简单-13-3",13021,0,0,51073,{"$f":"H68","v":"2#7"},"2#1",8,"5063#401063","3063#401063","70309#1|14#340|3#34",120,{"$f":"O68","v":0},92799,3]
[null,13041,"简单-13-4",13031,0,0,51074,{"$f":"H69","v":"2#7"},"2#1",8,"5064#401064","3064#401064","70409#1|14#340|3#34",90,{"$f":"O69","v":0},95157,4]
[null,13051,"简单-13-5",13041,0,0,51075,{"$f":"H70","v":"2#7"},"2#1",8,"5065#401065","3065#401065","70509#1|14#340|3#34",180,{"$f":"O70","v":0},97517,5]
[null,{"$f":"B68+1000","v":14011},"简单-14-1",13051,38,1,51076,{"$f":"H71","v":"2#7"},"2#1",8,"5066#401066","3066#401066","70110#1|70101#1|14#360|3#36",90,{"$f":"O71","v":0},98864,1]
[null,{"$f":"B73+10","v":14021},"简单-14-2",14011,0,0,51077,{"$f":"H72","v":"2#7"},"2#1",8,"5067#401067","3067#401067","70210#1|70201#1|14#360|3#36",90,{"$f":"O72","v":0},99873,2]
[null,{"$f":"B74+10","v":14031},"简单-14-3",14021,0,0,51078,{"$f":"H73","v":"2#7"},"2#1",8,"5068#401068","3068#401068","70310#1|70301#1|14#360|3#36",120,{"$f":"O73","v":0},101276,3]
[null,14041,"简单-14-4",14031,0,0,51079,{"$f":"H74","v":"2#7"},"2#1",8,"5069#401069","3069#401069","70410#1|70401#1|14#360|3#36",90,{"$f":"O74","v":0},103860,4]
[null,14051,"简单-14-5",14041,0,0,51080,{"$f":"H75","v":"2#7"},"2#1",8,"5070#401070","3070#401070","70510#1|70501#1|14#360|3#36",180,{"$f":"O75","v":0},106445,5]
[null,{"$f":"B73+1000","v":15011},"简单-15-1",14051,40,1,51081,{"$f":"H76","v":"2#7"},"2#1",8,"5071#401071","3071#401071","70110#1|70102#1|14#380|3#38",90,{"$f":"O76","v":0},108872,{"$f":"Q73","v":1}]
[null,{"$f":"B78+10","v":15021},"简单-15-2",15011,0,0,51082,{"$f":"H77","v":"2#7"},"2#1",8,"5072#401072","3072#401072","70210#1|70202#1|14#380|3#38",90,{"$f":"O77","v":0},111246,2]
[null,{"$f":"B79+10","v":15031},"简单-15-3",15021,0,0,51083,{"$f":"H78","v":"2#7"},"2#1",8,"5073#401073","3073#401073","70310#1|70302#1|14#380|3#38",120,{"$f":"O78","v":0},113590,3]
[null,15041,"简单-15-4",15031,0,0,51084,{"$f":"H79","v":"2#7"},"2#1",8,"5074#401074","3074#401074","70410#1|70402#1|14#380|3#38",90,{"$f":"O79","v":0},115848,4]
[null,15051,"简单-15-5",15041,0,0,51085,{"$f":"H80","v":"2#7"},"2#1",8,"5075#401075","3075#401075","70510#1|70502#1|14#380|3#38",180,{"$f":"O80","v":0},118106,5]
[null,1012,"普通-1-1",15051,44,1,52011,{"$f":"H56","v":"2#7"},"2#1",8,"8101#401076","7001#401076","70111#1|70103#1|14#180|3#18",90,{"$f":"O56","v":0},120379,1]
[null,1022,"普通-1-2",{"$f":"B83","v":1012},0,0,52012,"2#7","2#1",8,"8102#401077","7002#401077","70211#1|70203#1|14#180|3#18",90,{"$f":"O57","v":0},122659,2]
[null,1032,"普通-1-3",{"$f":"B84","v":1022},0,0,52013,{"$f":"H83","v":"2#7"},"2#1",8,"8103#401078","7003#401078","70311#1|70303#1|14#180|3#18",120,0,124634,3]
[null,1042,"普通-1-4",1032,0,0,52014,{"$f":"H84","v":"2#7"},"2#1",8,"8104#401079","7004#401079","70411#1|70403#1|14#180|3#18",90,0,125701,4]
[null,1052,"普通-1-5",1042,0,0,52015,{"$f":"H85","v":"2#7"},"2#1",8,"8105#401080","7005#401080","70511#1|70503#1|14#180|3#18",180,0,126767,5]
[null,2012,"普通-2-1",1052,46,1,52016,{"$f":"H86","v":"2#7"},"2#1",8,"8106#401081","7006#401081","70111#1|14#200|3#20",90,0,128152,1]
[null,2022,"普通-2-2",2012,0,0,52017,{"$f":"H87","v":"2#7"},"2#1",8,"8107#401082","7007#401082","70211#1|14#200|3#20",90,0,129643,2]
[null,2032,"普通-2-3",2022,0,0,52018,{"$f":"H88","v":"2#7"},"2#1",8,"8108#401083","7008#401083","70311#1|14#200|3#20",120,0,131009,3]
[null,2042,"普通-2-4",2032,0,0,52019,{"$f":"H89","v":"2#7"},"2#1",8,"8109#401084","7009#401084","70411#1|14#200|3#20",90,0,132002,4]
[null,2052,"普通-2-5",2042,0,0,52020,{"$f":"H90","v":"2#7"},"2#1",8,"8110#401085","7010#401085","70511#1|14#200|3#20",180,0,132993,5]
[null,3012,"普通-3-1",2052,47,1,52021,{"$f":"H91","v":"2#7"},"2#1",8,"8111#401086","7011#401086","70111#1|14#220|3#22",90,0,134643,1]
[null,3022,"普通-3-2",3012,0,0,52022,{"$f":"H92","v":"2#7"},"2#1",8,"8112#401087","7012#401087","70211#1|14#220|3#22",90,0,136512,2]
[null,3032,"普通-3-3",3022,0,0,52023,{"$f":"H93","v":"2#7"},"2#1",8,"8113#401088","7013#401088","70311#1|14#220|3#22",120,0,138041,3]
[null,3042,"普通-3-4",3032,0,0,52024,{"$f":"H94","v":"2#7"},"2#1",8,"8114#401089","7014#401089","70411#1|14#220|3#22",90,0,138553,4]
[null,3052,"普通-3-5",3042,0,0,52025,{"$f":"H95","v":"2#7"},"2#1",8,"8115#401090","7015#401090","70511#1|14#220|3#22",180,0,139066,5]
[null,4012,"普通-4-1",3052,49,1,52026,{"$f":"H96","v":"2#7"},"2#1",8,"8116#401091","7016#401091","70112#1|14#240|3#24",90,0,141764,1]
[null,4022,"普通-4-2",4012,0,0,52027,{"$f":"H97","v":"2#7"},"2#1",8,"8117#401092","7017#401092","70212#1|14#240|3#24",90,0,145191,2]
[null,4032,"普通-4-3",4022,0,0,52028,{"$f":"H98","v":"2#7"},"2#1",8,"8118#401093","7018#401093","70312#1|14#240|3#24",120,0,147889,3]
[null,4042,"普通-4-4",4032,0,0,52029,{"$f":"H99","v":"2#7"},"2#1",8,"8119#401094","7019#401094","70412#1|14#240|3#24",90,0,148402,4]
[null,4052,"普通-4-5",4042,0,0,52030,{"$f":"H100","v":"2#7"},"2#1",8,"8120#401095","7020#401095","70512#1|14#240|3#24",180,0,148914,5]
[null,5012,"普通-5-1",4052,50,1,52031,{"$f":"H101","v":"2#7"},"2#1",8,"8121#401096","7021#401096","70112#1|14#260|3#26",90,0,149787,1]
[null,5022,"普通-5-2",5012,0,0,52032,{"$f":"H102","v":"2#7"},"2#1",8,"8122#401097","7022#401097","70212#1|14#260|3#26",90,0,150781,2]
[null,5032,"普通-5-3",5022,0,0,52033,{"$f":"H103","v":"2#7"},"2#1",8,"8123#401098","7023#401098","70312#1|14#260|3#26",120,0,151929,3]
[null,5042,"普通-5-4",5032,0,0,52034,{"$f":"H104","v":"2#7"},"2#1",8,"8124#401099","7024#401099","70412#1|14#260|3#26",90,0,153545,4]
[null,5052,"普通-5-5",5042,0,0,52035,{"$f":"H105","v":"2#7"},"2#1",8,"8125#401100","7025#401100","70512#1|14#260|3#26",180,0,155161,5]
[null,6012,"普通-6-1",5052,51,1,52036,{"$f":"H106","v":"2#7"},"2#1",8,"8126#401101","7026#401101","70112#1|70101#1|14#280|3#28",90,0,156814,1]
[null,6022,"普通-6-2",6012,0,0,52037,{"$f":"H107","v":"2#7"},"2#1",8,"8127#401102","7027#401102","70212#1|70201#1|14#280|3#28",90,0,158480,2]
[null,6032,"普通-6-3",6022,0,0,52038,{"$f":"H108","v":"2#7"},"2#1",8,"8128#401103","7028#401103","70312#1|70301#1|14#280|3#28",120,0,159843,3]
[null,6042,"普通-6-4",6032,0,0,52039,{"$f":"H109","v":"2#7"},"2#1",8,"8129#401104","7029#401104","70412#1|70401#1|14#280|3#28",90,0,160300,4]
[null,6052,"普通-6-5",6042,0,0,52040,{"$f":"H110","v":"2#7"},"2#1",8,"8130#401105","7030#401105","70512#1|70501#1|14#280|3#28",180,0,160758,5]
[null,7012,"普通-7-1",6052,53,1,52041,{"$f":"H111","v":"2#7"},"2#1",8,"8131#401106","7031#401106","70113#1|70102#1|14#300|3#30",90,0,161597,1]
[null,7022,"普通-7-2",7012,0,0,52042,{"$f":"H112","v":"2#7"},"2#1",8,"8132#401107","7032#401107","70213#1|70202#1|14#300|3#30",90,0,162564,2]
[null,7032,"普通-7-3",7022,0,0,52043,{"$f":"H113","v":"2#7"},"2#1",8,"8133#401108","7033#401108","70313#1|70302#1|14#300|3#30",120,0,163404,3]
[null,7042,"普通-7-4",7032,0,0,52044,{"$f":"H114","v":"2#7"},"2#1",8,"8134#401109","7034#401109","70413#1|70402#1|14#300|3#30",90,0,163861,4]
[null,7052,"普通-7-5",7042,0,0,52045,{"$f":"H115","v":"2#7"},"2#1",8,"8135#401110","7035#401110","70513#1|70502#1|14#300|3#30",180,0,164319,5]
[null,8012,"普通-8-1",7052,54,1,52046,{"$f":"H116","v":"2#7"},"2#1",8,"8136#401111","7036#401111","70113#1|70103#1|14#320|3#32",90,0,166473,1]
[null,8022,"普通-8-2",8012,0,0,52047,{"$f":"H117","v":"2#7"},"2#1",8,"8137#401112","7037#401112","70213#1|70203#1|14#320|3#32",90,0,169223,2]
[null,8032,"普通-8-3",8022,0,0,52048,{"$f":"H118","v":"2#7"},"2#1",8,"8138#401113","7038#401113","70313#1|70303#1|14#320|3#32",120,0,173478,3]
[null,8042,"普通-8-4",8032,0,0,52049,{"$f":"H119","v":"2#7"},"2#1",8,"8139#401114","7039#401114","70413#1|70403#1|14#320|3#32",90,0,176669,4]
[null,8052,"普通-8-5",8042,0,0,52050,{"$f":"H120","v":"2#7"},"2#1",8,"8140#401115","7040#401115","70513#1|70503#1|14#320|3#32",180,0,178795,5]
[null,9012,"普通-9-1",8052,55,1,52051,{"$f":"H121","v":"2#7"},"2#1",8,"8141#401116","7041#401116","70113#1|14#340|3#34",90,0,181548,1]
[null,9022,"普通-9-2",9012,0,0,52052,{"$f":"H122","v":"2#7"},"2#1",8,"8142#401117","7042#401117","70213#1|14#340|3#34",90,0,184073,2]
[null,9032,"普通-9-3",9022,0,0,52053,{"$f":"H123","v":"2#7"},"2#1",8,"8143#401118","7043#401118","70313#1|14#340|3#34",120,0,184824,3]
[null,9042,"普通-9-4",9032,0,0,52054,{"$f":"H124","v":"2#7"},"2#1",8,"8144#401119","7044#401119","70413#1|14#340|3#34",90,0,186955,4]
[null,9052,"普通-9-5",9042,0,0,52055,{"$f":"H125","v":"2#7"},"2#1",8,"8145#401120","7045#401120","70513#1|14#340|3#34",180,0,190464,5]
[null,10012,"普通-10-1",9052,57,1,52056,{"$f":"H126","v":"2#7"},"2#1",8,"8146#401121","7046#401121","70114#1|14#360|3#36",90,0,191674,1]
[null,10022,"普通-10-2",10012,0,0,52057,{"$f":"H127","v":"2#7"},"2#1",8,"8147#401122","7047#401122","70214#1|14#360|3#36",90,0,192426,2]
[null,10032,"普通-10-3",10022,0,0,52058,{"$f":"H128","v":"2#7"},"2#1",8,"8148#401123","7048#401123","70314#1|14#360|3#36",120,0,193177,3]
[null,10042,"普通-10-4",10032,0,0,52059,{"$f":"H129","v":"2#7"},"2#1",8,"8149#401124","7049#401124","70414#1|14#360|3#36",90,0,194373,4]
[null,10052,"普通-10-5",10042,0,0,52060,{"$f":"H130","v":"2#7"},"2#1",8,"8150#401125","7050#401125","70514#1|14#360|3#36",180,0,196015,5]
[null,11012,"普通-11-1",{"$f":"B132","v":10052},58,1,52061,{"$f":"H131","v":"2#7"},"2#1",8,"8151#401126","7051#401126","70114#1|14#380|3#38",90,{"$f":"O131","v":0},197165,1]
[null,11022,"普通-11-2",11012,0,0,52062,{"$f":"H132","v":"2#7"},"2#1",8,"8152#401127","7052#401127","70214#1|14#380|3#38",90,{"$f":"O132","v":0},202678,2]
[null,11032,"普通-11-3",11022,0,0,52063,{"$f":"H133","v":"2#7"},"2#1",8,"8153#401128","7053#401128","70314#1|14#380|3#38",120,{"$f":"O133","v":0},208190,3]
[null,11042,"普通-11-4",11032,0,0,52064,{"$f":"H134","v":"2#7"},"2#1",8,"8154#401129","7054#401129","70414#1|14#380|3#38",90,{"$f":"O134","v":0},209506,4]
[null,11052,"普通-11-5",11042,0,0,52065,{"$f":"H135","v":"2#7"},"2#1",8,"8155#401130","7055#401130","70514#1|14#380|3#38",180,{"$f":"O135","v":0},213024,5]
[null,12012,"普通-12-1",11052,60,1,52066,{"$f":"H136","v":"2#7"},"2#1",8,"8156#401131","7056#401131","70114#1|14#400|3#40",90,{"$f":"O136","v":0},215452,1]
[null,12022,"普通-12-2",12012,0,0,52067,{"$f":"H137","v":"2#7"},"2#1",8,"8157#401132","7057#401132","70214#1|14#400|3#40",90,{"$f":"O137","v":0},216949,2]
[null,12032,"普通-12-3",12022,0,0,52068,{"$f":"H138","v":"2#7"},"2#1",8,"8158#401133","7058#401133","70314#1|14#400|3#40",120,{"$f":"O138","v":0},219475,3]
[null,12042,"普通-12-4",12032,0,0,52069,{"$f":"H139","v":"2#7"},"2#1",8,"8159#401134","7059#401134","70414#1|14#400|3#40",90,{"$f":"O139","v":0},223998,4]
[null,12052,"普通-12-5",12042,0,0,52070,{"$f":"H140","v":"2#7"},"2#1",8,"8160#401135","7060#401135","70514#1|14#400|3#40",180,{"$f":"O140","v":0},225027,5]
[null,13012,"普通-13-1",12052,61,1,52071,{"$f":"H141","v":"2#7"},"2#1",8,"8161#401136","7061#401136","70115#1|14#420|3#42",90,{"$f":"O141","v":0},226056,1]
[null,13022,"普通-13-2",13012,0,0,52072,{"$f":"H142","v":"2#7"},"2#1",8,"8162#401137","7062#401137","70215#1|14#420|3#42",90,{"$f":"O142","v":0},227916,2]
[null,13032,"普通-13-3",13022,0,0,52073,{"$f":"H143","v":"2#7"},"2#1",8,"8163#401138","7063#401138","70315#1|14#420|3#42",120,{"$f":"O143","v":0},230241,3]
[null,13042,"普通-13-4",13032,0,0,52074,{"$f":"H144","v":"2#7"},"2#1",8,"8164#401139","7064#401139","70415#1|14#420|3#42",90,{"$f":"O144","v":0},232578,4]
[null,13052,"普通-13-5",13042,0,0,52075,{"$f":"H145","v":"2#7"},"2#1",8,"8165#401140","7065#401140","70515#1|14#420|3#42",180,{"$f":"O145","v":0},235035,5]
[null,14012,"普通-14-1",13052,62,1,52076,{"$f":"H146","v":"2#7"},"2#1",8,"8166#401141","7066#401141","70115#1|14#440|3#44",90,{"$f":"O146","v":0},238479,1]
[null,14022,"普通-14-2",14012,0,0,52077,{"$f":"H147","v":"2#7"},"2#1",8,"8167#401142","7067#401142","70215#1|14#440|3#44",90,{"$f":"O147","v":0},241442,2]
[null,14032,"普通-14-3",14022,0,0,52078,{"$f":"H148","v":"2#7"},"2#1",8,"8168#401143","7068#401143","70315#1|14#440|3#44",120,{"$f":"O148","v":0},243711,3]
[null,14042,"普通-14-4",14032,0,0,52079,{"$f":"H149","v":"2#7"},"2#1",8,"8169#401144","7069#401144","70415#1|14#440|3#44",90,{"$f":"O149","v":0},245980,4]
[null,14052,"普通-14-5",14042,0,0,52080,{"$f":"H150","v":"2#7"},"2#1",8,"8170#401145","7070#401145","70515#1|14#440|3#44",180,{"$f":"O150","v":0},249683,5]
[null,15012,"普通-15-1",14052,63,1,52081,{"$f":"H151","v":"2#7"},"2#1",8,"8171#401146","7071#401146","70115#1|14#460|3#46",90,{"$f":"O151","v":0},257015,1]
[null,15022,"普通-15-2",15012,0,0,52082,{"$f":"H152","v":"2#7"},"2#1",8,"8172#401147","7072#401147","70215#1|14#460|3#46",90,{"$f":"O152","v":0},262462,2]
[null,15032,"普通-15-3",15022,0,0,52083,{"$f":"H153","v":"2#7"},"2#1",8,"8173#401148","7073#401148","70315#1|14#460|3#46",120,{"$f":"O153","v":0},265174,3]
[null,15042,"普通-15-4",15032,0,0,52084,{"$f":"H154","v":"2#7"},"2#1",8,"8174#401149","7074#401149","70415#1|14#460|3#46",90,{"$f":"O154","v":0},268967,4]
[null,15052,"普通-15-5",15042,0,0,52085,{"$f":"H155","v":"2#7"},"2#1",8,"8175#401150","7075#401150","70515#1|14#460|3#46",180,{"$f":"O155","v":0},276244,5]
[null,1013,"困难-1-1",15052,65,1,{"$f":"G83+1000","v":53011},{"$f":"H131","v":"2#7"},"2#1",8,"8701#401151","8501#401151","70116#1|14#220|3#22",90,0,280950,{"$f":"Q128","v":1}]
[null,1023,"困难-1-2",1013,0,0,{"$f":"G84+1000","v":53012},{"$f":"H132","v":"2#7"},"2#1",8,"8702#401152","8502#401152","70216#1|14#220|3#22",90,0,284320,{"$f":"Q129","v":2}]
[null,1033,"困难-1-3",1023,0,0,53013,{"$f":"H158","v":"2#7"},"2#1",8,"8703#401153","8503#401153","70316#1|14#220|3#22",120,0,287174,{"$f":"Q130","v":3}]
[null,1043,"困难-1-4",1033,0,0,53014,{"$f":"H159","v":"2#7"},"2#1",8,"8704#401154","8504#401154","70416#1|14#220|3#22",90,0,289921,{"$f":"Q131","v":4}]
[null,1053,"困难-1-5",1043,0,0,53015,{"$f":"H160","v":"2#7"},"2#1",8,"8705#401155","8505#401155","70516#1|14#220|3#22",180,0,292273,{"$f":"Q132","v":5}]
[null,2013,"困难-2-1",1053,66,1,53016,{"$f":"H161","v":"2#7"},"2#1",8,"8706#401156","8506#401156","70116#1|14#240|3#24",90,0,294964,1]
[null,2023,"困难-2-2",2013,0,0,53017,{"$f":"H162","v":"2#7"},"2#1",8,"8707#401157","8507#401157","70216#1|14#240|3#24",90,0,298539,2]
[null,2033,"困难-2-3",2023,0,0,53018,{"$f":"H163","v":"2#7"},"2#1",8,"8708#401158","8508#401158","70316#1|14#240|3#24",120,0,302187,3]
[null,2043,"困难-2-4",2033,0,0,53019,{"$f":"H164","v":"2#7"},"2#1",8,"8709#401159","8509#401159","70416#1|14#240|3#24",90,0,303743,4]
[null,2053,"困难-2-5",2043,0,0,53020,{"$f":"H165","v":"2#7"},"2#1",8,"8710#401160","8510#401160","70516#1|14#240|3#24",180,0,305328,{"$f":"Q162","v":5}]
[null,3013,"困难-3-1",2053,67,1,53021,{"$f":"H166","v":"2#7"},"2#1",8,"8711#401161","8511#401161","70116#1|14#260|3#26",90,0,306531,1]
[null,3023,"困难-3-2",3013,0,0,53022,{"$f":"H167","v":"2#7"},"2#1",8,"8712#401162","8512#401162","70216#1|14#260|3#26",90,0,309926,2]
[null,3033,"困难-3-3",3023,0,0,53023,{"$f":"H168","v":"2#7"},"2#1",8,"8713#401163","8513#401163","70316#1|14#260|3#26",120,0,314491,3]
[null,3043,"困难-3-4",3033,0,0,53024,{"$f":"H169","v":"2#7"},"2#1",8,"8714#401164","8514#401164","70416#1|14#260|3#26",90,0,315605,4]
[null,3053,"困难-3-5",3043,0,0,53025,{"$f":"H170","v":"2#7"},"2#1",8,"8715#401165","8515#401165","70516#1|14#260|3#26",180,0,317313,5]
[null,4013,"困难-4-1",3053,68,1,53026,{"$f":"H171","v":"2#7"},"2#1",8,"8716#401166","8516#401166","70117#1|14#280|3#28",90,0,318854,1]
[null,4023,"困难-4-2",4013,0,0,53027,{"$f":"H172","v":"2#7"},"2#1",8,"8717#401167","8517#401167","70217#1|14#280|3#28",90,0,323629,2]
[null,4033,"困难-4-3",4023,0,0,53028,{"$f":"H173","v":"2#7"},"2#1",8,"8718#401168","8518#401168","70317#1|14#280|3#28",120,0,325867,3]
[null,4043,"困难-4-4",4033,0,0,53029,{"$f":"H174","v":"2#7"},"2#1",8,"8719#401169","8519#401169","70417#1|14#280|3#28",90,0,327909,4]
[null,4053,"困难-4-5",4043,0,0,53030,{"$f":"H175","v":"2#7"},"2#1",8,"8720#401170","8520#401170","70517#1|14#280|3#28",180,0,329464,5]
[null,5013,"困难-5-1",4053,69,1,53031,{"$f":"H176","v":"2#7"},"2#1",8,"8721#401171","8521#401171","70117#1|14#300|3#30",90,0,336489,1]
[null,5023,"困难-5-2",5013,0,0,53032,{"$f":"H177","v":"2#7"},"2#1",8,"8722#401172","8522#401172","70217#1|14#300|3#30",90,0,339290,2]
[null,5033,"困难-5-3",5023,0,0,53033,{"$f":"H178","v":"2#7"},"2#1",8,"8723#401173","8523#401173","70317#1|14#300|3#30",120,0,341417,3]
[null,5043,"困难-5-4",5033,0,0,53034,{"$f":"H179","v":"2#7"},"2#1",8,"8724#401174","8524#401174","70417#1|14#300|3#30",90,0,342993,4]
[null,5053,"困难-5-5",5043,0,0,53035,{"$f":"H180","v":"2#7"},"2#1",8,"8725#401175","8525#401175","70517#1|14#300|3#30",180,0,348488,5]
[null,6013,"困难-6-1",5053,70,1,53036,{"$f":"H181","v":"2#7"},"2#1",8,"8726#401176","8526#401176","70117#1|14#320|3#32",90,0,350906,1]
[null,6023,"困难-6-2",6013,0,0,53037,{"$f":"H182","v":"2#7"},"2#1",8,"8727#401177","8527#401177","70217#1|14#320|3#32",90,0,353090,2]
[null,6033,"困难-6-3",6023,0,0,53038,{"$f":"H183","v":"2#7"},"2#1",8,"8728#401178","8528#401178","70317#1|14#320|3#32",120,0,359356,3]
[null,6043,"困难-6-4",6033,0,0,53039,{"$f":"H184","v":"2#7"},"2#1",8,"8729#401179","8529#401179","70417#1|14#320|3#32",90,0,361324,4]
[null,6053,"困难-6-5",6043,0,0,53040,{"$f":"H185","v":"2#7"},"2#1",8,"8730#401180","8530#401180","70517#1|14#320|3#32",180,0,362825,5]
[null,7013,"困难-7-1",6053,71,1,53041,{"$f":"H186","v":"2#7"},"2#1",8,"8731#401181","8531#401181","70118#1|14#340|3#34",90,0,364353,1]
[null,7023,"困难-7-2",7013,0,0,53042,{"$f":"H187","v":"2#7"},"2#1",8,"8732#401182","8532#401182","70218#1|14#340|3#34",90,0,366122,2]
[null,7033,"困难-7-3",7023,0,0,53043,{"$f":"H188","v":"2#7"},"2#1",8,"8733#401183","8533#401183","70318#1|14#340|3#34",120,0,369471,3]
[null,7043,"困难-7-4",7033,0,0,{"$f":"G116+1000","v":53044},{"$f":"H189","v":"2#7"},"2#1",8,"8734#401184","8534#401184","70418#1|14#340|3#34",90,0,374306,4]
[null,7053,"困难-7-5",7043,0,0,53045,{"$f":"H190","v":"2#7"},"2#1",8,"8735#401185","8535#401185","70518#1|14#340|3#34",180,0,375524,5]
[null,8013,"困难-8-1",7053,72,1,53046,{"$f":"H191","v":"2#7"},"2#1",8,"8736#401186","8536#401186","70118#1|14#360|3#36",90,0,382690,1]
[null,8023,"困难-8-2",8013,0,0,53047,{"$f":"H192","v":"2#7"},"2#1",8,"8737#401187","8537#401187","70218#1|14#360|3#36",90,0,385997,2]
[null,8033,"困难-8-3",8023,0,0,53048,{"$f":"H193","v":"2#7"},"2#1",8,"8738#401188","8538#401188","70318#1|14#360|3#36",120,0,388328,3]
[null,8043,"困难-8-4",8033,0,0,53049,{"$f":"H194","v":"2#7"},"2#1",8,"8739#401189","8539#401189","70418#1|14#360|3#36",90,0,396599,4]
[null,8053,"困难-8-5",8043,0,0,53050,{"$f":"H195","v":"2#7"},"2#1",8,"8740#401190","8540#401190","70518#1|14#360|3#36",180,0,403116,5]
[null,9013,"困难-9-1",8053,74,1,53051,{"$f":"H196","v":"2#7"},"2#1",8,"8741#401191","8541#401191","70119#1|14#380|3#38",90,0,406969,1]
[null,9023,"困难-9-2",9013,0,0,53052,{"$f":"H197","v":"2#7"},"2#1",8,"8742#401192","8542#401192","70219#1|14#380|3#38",90,0,409567,2]
[null,9033,"困难-9-3",9023,0,0,53053,{"$f":"H198","v":"2#7"},"2#1",8,"8743#401193","8543#401193","70319#1|14#380|3#38",120,0,411393,3]
[null,9043,"困难-9-4",9033,0,0,53054,{"$f":"H199","v":"2#7"},"2#1",8,"8744#401194","8544#401194","70419#1|14#380|3#38",90,0,414169,4]
[null,9053,"困难-9-5",9043,0,0,53055,{"$f":"H200","v":"2#7"},"2#1",8,"8745#401195","8545#401195","70519#1|14#380|3#38",180,0,415756,5]
[null,10013,"困难-10-1",9053,75,1,53056,{"$f":"H201","v":"2#7"},"2#1",8,"8746#401196","8546#401196","70119#1|14#400|3#40",90,0,420023,1]
[null,10023,"困难-10-2",10013,0,0,53057,{"$f":"H202","v":"2#7"},"2#1",8,"8747#401197","8547#401197","70219#1|14#400|3#40",90,0,424739,2]
[null,10033,"困难-10-3",10023,0,0,53058,{"$f":"H203","v":"2#7"},"2#1",8,"8748#401198","8548#401198","70319#1|14#400|3#40",120,0,430114,3]
[null,10043,"困难-10-4",10033,0,0,53059,{"$f":"H204","v":"2#7"},"2#1",8,"8749#401199","8549#401199","70419#1|14#400|3#40",90,0,437881,4]
[null,10053,"困难-10-5",10043,0,0,53060,"2#7","2#1",8,"8750#401200","8550#401200","70519#1|14#400|3#40",180,0,440798,5]
[null,11013,"困难-11-1",10053,77,1,53061,{"$f":"H206","v":"2#7"},"2#1",8,"8751#401201","8551#401201","70120#1|14#420|3#42",90,{"$f":"O206","v":0},446517,1]
[null,11023,"困难-11-2",11013,0,0,53062,{"$f":"H207","v":"2#7"},"2#1",8,"8752#401202","8552#401202","70220#1|14#420|3#42",90,{"$f":"O207","v":0},458389,2]
[null,11033,"困难-11-3",11023,0,0,53063,{"$f":"H208","v":"2#7"},"2#1",8,"8753#401203","8553#401203","70320#1|14#420|3#42",120,{"$f":"O208","v":0},461985,3]
[null,11043,"困难-11-4",11033,0,0,53064,{"$f":"H209","v":"2#7"},"2#1",8,"8754#401204","8554#401204","70420#1|14#420|3#42",90,{"$f":"O209","v":0},464566,4]
[null,11053,"困难-11-5",11043,0,0,53065,{"$f":"H210","v":"2#7"},"2#1",8,"8755#401205","8555#401205","70520#1|14#420|3#42",180,{"$f":"O210","v":0},468335,5]
[null,12013,"困难-12-1",11053,78,1,53066,{"$f":"H211","v":"2#7"},"2#1",8,"8756#401206","8556#401206","70120#1|14#440|3#44",90,{"$f":"O211","v":0},471560,1]
[null,12023,"困难-12-2",12013,0,0,53067,{"$f":"H212","v":"2#7"},"2#1",8,"8757#401207","8557#401207","70220#1|14#440|3#44",90,{"$f":"O212","v":0},482368,2]
[null,12033,"困难-12-3",12023,0,0,53068,{"$f":"H213","v":"2#7"},"2#1",8,"8758#401208","8558#401208","70320#1|14#440|3#44",120,{"$f":"O213","v":0},485168,3]
[null,12043,"困难-12-4",12033,0,0,53069,{"$f":"H214","v":"2#7"},"2#1",8,"8759#401209","8559#401209","70420#1|14#440|3#44",90,{"$f":"O214","v":0},488959,4]
[null,12053,"困难-12-5",12043,0,0,53070,{"$f":"H215","v":"2#7"},"2#1",8,"8760#401210","8560#401210","70520#1|14#440|3#44",180,{"$f":"O215","v":0},492084,5]
[null,13013,"困难-13-1",12053,80,1,53071,{"$f":"H216","v":"2#7"},"2#1",8,"8761#401211","8561#401211","70121#1|14#460|3#46",90,{"$f":"O216","v":0},497278,1]
[null,13023,"困难-13-2",13013,0,0,53072,{"$f":"H217","v":"2#7"},"2#1",8,"8762#401212","8562#401212","70221#1|14#460|3#46",90,{"$f":"O217","v":0},503649,2]
[null,13033,"困难-13-3",13023,0,0,53073,{"$f":"H218","v":"2#7"},"2#1",8,"8763#401213","8563#401213","70321#1|14#460|3#46",120,{"$f":"O218","v":0},506987,3]
[null,13043,"困难-13-4",13033,0,0,53074,{"$f":"H219","v":"2#7"},"2#1",8,"8764#401214","8564#401214","70421#1|14#460|3#46",90,{"$f":"O219","v":0},509278,4]
[null,13053,"困难-13-5",13043,0,0,53075,{"$f":"H220","v":"2#7"},"2#1",8,"8765#401215","8565#401215","70521#1|14#460|3#46",180,{"$f":"O220","v":0},518492,5]
[null,14013,"困难-14-1",13053,81,1,53076,{"$f":"H221","v":"2#7"},"2#1",8,"8766#401216","8566#401216","70121#1|14#480|3#48",90,{"$f":"O221","v":0},529783,1]
[null,14023,"困难-14-2",14013,0,0,53077,{"$f":"H222","v":"2#7"},"2#1",8,"8767#401217","8567#401217","70221#1|14#480|3#48",90,{"$f":"O222","v":0},533403,2]
[null,14033,"困难-14-3",14023,0,0,53078,{"$f":"H223","v":"2#7"},"2#1",8,"8768#401218","8568#401218","70321#1|14#480|3#48",120,{"$f":"O223","v":0},535915,3]
[null,14043,"困难-14-4",14033,0,0,53079,{"$f":"H224","v":"2#7"},"2#1",8,"8769#401219","8569#401219","70421#1|14#480|3#48",90,{"$f":"O224","v":0},539311,4]
[null,14053,"困难-14-5",14043,0,0,53080,{"$f":"H225","v":"2#7"},"2#1",8,"8770#401220","8570#401220","70521#1|14#480|3#48",180,{"$f":"O225","v":0},543612,5]
[null,15013,"困难-15-1",14053,82,1,53081,{"$f":"H226","v":"2#7"},"2#1",8,"8771#401221","8571#401221","70121#1|14#500|3#50",90,{"$f":"O226","v":0},548681,1]
[null,15023,"困难-15-2",15013,0,0,53082,{"$f":"H227","v":"2#7"},"2#1",8,"8772#401222","8572#401222","70221#1|14#500|3#50",90,{"$f":"O227","v":0},555264,2]
[null,15033,"困难-15-3",15023,0,0,53083,{"$f":"H228","v":"2#7"},"2#1",8,"8773#401223","8573#401223","70321#1|14#500|3#50",120,{"$f":"O228","v":0},558321,3]
[null,15043,"困难-15-4",15033,0,0,53084,{"$f":"H229","v":"2#7"},"2#1",8,"8774#401224","8574#401224","70421#1|14#500|3#50",90,{"$f":"O229","v":0},570653,{"$f":"Q226","v":4}]
[null,15053,"困难-15-5",15043,0,0,53085,{"$f":"H230","v":"2#7"},"2#1",8,"8775#401225","8575#401225","70521#1|14#500|3#50",180,{"$f":"O230","v":0},575236,5]
[null,{"$f":"B158+1","v":1014},"地狱-1-1",15053,83,1,{"$f":"G158+1000","v":54011},{"$f":"H231","v":"2#7"},{"$f":"I231","v":"2#1"},{"$f":"J231","v":8},8901,"8801#401226","70122#1|14#260|3#30",90,{"$f":"O231","v":0},577275,{"$f":"Q228","v":1}]
[null,{"$f":"B159+1","v":1024},"地狱-1-2",1014,0,0,54012,"2#7","2#1",8,8902,"8802#401227","70222#1|14#260|3#30",90,0,582000,2]
[null,1034,"地狱-1-3",1024,0,0,54013,"2#7","2#1",8,8903,"8803#401228","70322#1|14#260|3#30",120,0,584038,3]
[null,1044,"地狱-1-4",1034,0,0,54014,"2#7","2#1",8,8904,"8804#401229","70422#1|14#260|3#30",90,0,594990,4]
[null,1054,"地狱-1-5",1044,0,0,54015,"2#7","2#1",8,8905,"8805#401230","70522#1|14#260|3#30",180,0,597029,5]
[null,2014,"地狱-2-1",1054,84,1,54016,"2#7","2#1",8,8906,"8806#401231","70122#1|14#280|3#32",90,0,603693,1]
[null,2024,"地狱-2-2",2014,0,0,54017,"2#7","2#1",8,8907,"8807#401232","70222#1|14#280|3#32",90,0,608322,2]
[null,2034,"地狱-2-3",2024,0,0,54018,"2#7","2#1",8,8908,"8808#401233","70322#1|14#280|3#32",120,0,626391,3]
[null,2044,"地狱-2-4",2034,0,0,54019,"2#7","2#1",8,8909,"8809#401234","70422#1|14#280|3#32",90,0,641997,4]
[null,2054,"地狱-2-5",2044,0,0,54020,"2#7","2#1",8,8910,"8810#401235","70522#1|14#280|3#32",180,0,655467,5]
[null,3014,"地狱-3-1",2054,85,1,54021,"2#7","2#1",8,8911,"8811#401236","70122#1|14#300|3#34",90,0,668938,1]
[null,3024,"地狱-3-2",3014,0,0,54022,"2#7","2#1",8,8912,"8812#401237","70222#1|14#300|3#34",90,0,682408,2]
[null,3034,"地狱-3-3",3024,0,0,54023,"2#7","2#1",8,8913,"8813#401238","70322#1|14#300|3#34",120,0,695880,3]
[null,3044,"地狱-3-4",3034,0,0,54024,"2#7","2#1",8,8914,"8814#401239","70422#1|14#300|3#34",90,0,709350,4]
[null,3054,"地狱-3-5",3044,0,0,54025,"2#7","2#1",8,8915,"8815#401240","70522#1|14#300|3#34",180,0,722821,5]
[null,4014,"地狱-4-1",3054,86,1,54026,"2#7","2#1",8,8916,"8816#401241","70123#1|14#320|3#36",90,0,736291,1]
[null,4024,"地狱-4-2",4014,0,0,54027,"2#7","2#1",8,8917,"8817#401242","70223#1|14#320|3#36",90,0,749763,2]
[null,4034,"地狱-4-3",4024,0,0,54028,"2#7","2#1",8,8918,"8818#401243","70323#1|14#320|3#36",120,0,763233,3]
[null,4044,"地狱-4-4",4034,0,0,54029,"2#7","2#1",8,8919,"8819#401244","70423#1|14#320|3#36",90,0,776704,4]
[null,4054,"地狱-4-5",4044,0,0,54030,"2#7","2#1",8,8920,"8820#401245","70523#1|14#320|3#36",180,0,790174,5]
[null,5014,"地狱-5-1",4054,87,1,54031,"2#7","2#1",8,8921,"8821#401246","70123#1|14#340|3#38",90,0,803646,1]
[null,5024,"地狱-5-2",5014,0,0,54032,"2#7","2#1",8,8922,"8822#401247","70223#1|14#340|3#38",90,0,817116,2]
[null,5034,"地狱-5-3",5024,0,0,54033,"2#7","2#1",8,8923,"8823#401248","70323#1|14#340|3#38",120,0,830587,3]
[null,5044,"地狱-5-4",5034,0,0,54034,"2#7","2#1",8,8924,"8824#401249","70423#1|14#340|3#38",90,0,844057,4]
[null,5054,"地狱-5-5",5044,0,0,54035,"2#7","2#1",8,8925,"8825#401250","70523#1|14#340|3#38",180,0,857529,5]
[null,6014,"地狱-6-1",5054,88,1,54036,"2#7","2#1",8,8926,"8826#401251","70123#1|14#360|3#40",90,0,870999,1]
[null,6024,"地狱-6-2",6014,0,0,54037,"2#7","2#1",8,8927,"8827#401252","70223#1|14#360|3#40",90,0,884470,2]
[null,6034,"地狱-6-3",6024,0,0,54038,"2#7","2#1",8,8928,"8828#401253","70323#1|14#360|3#40",120,0,897941,3]
[null,6044,"地狱-6-4",6034,0,0,54039,"2#7","2#1",8,8929,"8829#401254","70423#1|14#360|3#40",90,0,911412,4]
[null,6054,"地狱-6-5",6044,0,0,54040,"2#7","2#1",8,8930,"8830#401255","70523#1|14#360|3#40",180,0,924883,5]
[null,7014,"地狱-7-1",6054,89,1,54041,"2#7","2#1",8,8931,"8831#401256","70124#1|14#380|3#42",90,0,938353,1]
[null,7024,"地狱-7-2",7014,0,0,54042,"2#7","2#1",8,8932,"8832#401257","70224#1|14#380|3#42",90,0,951824,2]
[null,7034,"地狱-7-3",7024,0,0,{"$f":"G190+1000","v":54043},{"$f":"H263","v":"2#7"},{"$f":"I263","v":"2#1"},{"$f":"J263","v":8},8933,"8833#401258","70324#1|14#380|3#42",120,{"$f":"O263","v":0},965295,{"$f":"Q260","v":3}]
[null,{"$f":"B191+1","v":7044},"地狱-7-4",7034,0,0,54044,"2#7","2#1",8,8934,"8834#401259","70424#1|14#380|3#42",90,0,978766,4]
[null,7054,"地狱-7-5",7044,0,0,54045,"2#7","2#1",8,8935,"8835#401260","70524#1|14#380|3#42",180,0,992236,5]
[null,8014,"地狱-8-1",7054,90,1,54046,"2#7","2#1",8,8936,"8836#401261","70124#1|14#400|3#44",90,0,1005707,1]
[null,8024,"地狱-8-2",8014,0,0,54047,"2#7","2#1",8,8937,"8837#401262","70224#1|14#400|3#44",90,0,1019178,2]
[null,8034,"地狱-8-3",8024,0,0,54048,"2#7","2#1",8,8938,"8838#401263","70324#1|14#400|3#44",120,0,1032649,3]
[null,8044,"地狱-8-4",8034,0,0,54049,"2#7","2#1",8,8939,"8839#401264","70424#1|14#400|3#44",90,0,1046119,4]
[null,8054,"地狱-8-5",8044,0,0,54050,"2#7","2#1",8,8940,"8840#401265","70524#1|14#400|3#44",180,0,1059590,5]
[null,9014,"地狱-9-1",8054,91,1,54051,"2#7","2#1",8,8941,"8841#401266","70124#1|14#420|3#46",90,0,1073061,1]
[null,9024,"地狱-9-2",9014,0,0,54052,"2#7","2#1",8,8942,"8842#401267","70224#1|14#420|3#46",90,0,1086532,2]
[null,9034,"地狱-9-3",9024,0,0,54053,"2#7","2#1",8,8943,"8843#401268","70324#1|14#420|3#46",120,0,1100002,3]
[null,9044,"地狱-9-4",9034,0,0,54054,"2#7","2#1",8,8944,"8844#401269","70424#1|14#420|3#46",90,0,1113473,4]
[null,9054,"地狱-9-5",9044,0,0,54055,"2#7","2#1",8,8945,"8845#401270","70524#1|14#420|3#46",180,0,1126944,5]
[null,10014,"地狱-10-1",9054,92,1,54056,"2#7","2#1",8,8946,"8846#401271","70125#1|14#440|3#48",90,0,1140415,1]
[null,10024,"地狱-10-2",10014,0,0,54057,"2#7","2#1",8,8947,"8847#401272","70225#1|14#440|3#48",90,0,1153885,2]
[null,10034,"地狱-10-3",10024,0,0,54058,"2#7","2#1",8,8948,"8848#401273","70325#1|14#440|3#48",120,0,1167356,3]
[null,10044,"地狱-10-4",10034,0,0,54059,"2#7","2#1",8,8949,"8849#401274","70425#1|14#440|3#48",90,0,1180827,4]
[null,10054,"地狱-10-5",10044,0,0,54060,"2#7","2#1",8,8950,"8850#401275","70525#1|14#440|3#48",180,0,1194298,5]
[null,11014,"地狱-11-1",10054,93,1,54061,"2#7","2#1",8,8951,"8851#401276","70125#1|14#460|3#50",90,0,1207769,1]
[null,11024,"地狱-11-2",11014,0,0,54062,"2#7","2#1",8,8952,"8852#401277","70225#1|14#460|3#50",90,0,1221239,2]
[null,11034,"地狱-11-3",11024,0,0,54063,"2#7","2#1",8,8953,"8853#401278","70325#1|14#460|3#50",120,0,1234710,3]
[null,11044,"地狱-11-4",11034,0,0,54064,"2#7","2#1",8,8954,"8854#401279","70425#1|14#460|3#50",90,0,1248181,4]
[null,11054,"地狱-11-5",11044,0,0,54065,"2#7","2#1",8,8955,"8855#401280","70525#1|14#460|3#50",180,0,1261652,5]
[null,12014,"地狱-12-1",11054,94,1,54066,"2#7","2#1",8,8956,"8856#401281","70125#1|14#480|3#52",90,0,1275122,1]
[null,12024,"地狱-12-2",12014,0,0,54067,"2#7","2#1",8,8957,"8857#401282","70225#1|14#480|3#52",90,0,1288593,2]
[null,12034,"地狱-12-3",12024,0,0,54068,"2#7","2#1",8,8958,"8858#401283","70325#1|14#480|3#52",120,0,1302064,3]
[null,12044,"地狱-12-4",12034,0,0,54069,"2#7","2#1",8,8959,"8859#401284","70425#1|14#480|3#52",90,0,1315535,4]
[null,12054,"地狱-12-5",12044,0,0,54070,"2#7","2#1",8,8960,"8860#401285","70525#1|14#480|3#52",180,0,1329005,5]
[null,13014,"地狱-13-1",12054,95,1,54071,"2#7","2#1",8,8961,"8861#401286","70126#1|14#500|3#54",90,0,1342476,1]
[null,13024,"地狱-13-2",13014,0,0,54072,"2#7","2#1",8,8962,"8862#401287","70226#1|14#500|3#54",90,0,1355947,2]
[null,13034,"地狱-13-3",13024,0,0,54073,"2#7","2#1",8,8963,"8863#401288","70326#1|14#500|3#54",120,0,1369418,3]
[null,13044,"地狱-13-4",13034,0,0,54074,"2#7","2#1",8,8964,"8864#401289","70426#1|14#500|3#54",90,0,1382888,4]
[null,13054,"地狱-13-5",13044,0,0,54075,"2#7","2#1",8,8965,"8865#401290","70526#1|14#500|3#54",180,0,1396359,5]
[null,14014,"地狱-14-1",13054,96,1,54076,"2#7","2#1",8,8966,"8866#401291","70126#1|14#520|3#56",90,0,1409830,1]
[null,14024,"地狱-14-2",14014,0,0,54077,"2#7","2#1",8,8967,"8867#401292","70226#1|14#520|3#56",90,0,1423301,2]
[null,14034,"地狱-14-3",14024,0,0,54078,"2#7","2#1",8,8968,"8868#401293","70326#1|14#520|3#56",120,0,1436771,3]
[null,14044,"地狱-14-4",14034,0,0,54079,"2#7","2#1",8,8969,"8869#401294","70426#1|14#520|3#56",90,0,1450242,4]
[null,14054,"地狱-14-5",14044,0,0,54080,"2#7","2#1",8,8970,"8870#401295","70526#1|14#520|3#56",180,0,1463713,5]
[null,15014,"地狱-15-1",14054,97,1,54081,"2#7","2#1",8,8971,"8871#401296","70126#1|14#540|3#58",90,0,1477184,1]
[null,15024,"地狱-15-2",15014,0,0,54082,"2#7","2#1",8,8972,"8872#401297","70226#1|14#540|3#58",90,0,1490654,2]
[null,15034,"地狱-15-3",15024,0,0,54083,"2#7","2#1",8,8973,"8873#401298","70326#1|14#540|3#58",120,0,1504125,3]
[null,15044,"地狱-15-4",15034,0,0,54084,"2#7","2#1",8,8974,"8874#401299","70426#1|14#540|3#58",90,0,1517597,4]
[null,15054,"地狱-15-5",15044,0,0,54085,"2#7","2#1",8,8975,"8875#401300","70526#1|14#540|3#58",180,0,1531067,5]

{"sheet":"Sheet1","index":1,"n_rows":181,"n_cols":47,"rows_kept":181}
["关卡id","关卡名称","物品1","数量1","输出1","物品2","数量2","输出2","物品3","数量3","输出3","总输出","游戏天数","需要的总经验","关卡经验占比","单关经验","玩家等级_v0","刷本次数_v0","玩家等级_v15","刷本次数_v15","战力","修正战力",null,"天数","队伍等级","队伍人数","累计消耗",{"$nulls":3},"天数","V0等级","V1等级","V2等级","V3等级","V4等级","V5等级","V6等级","V7等级","V8等级","V9等级","V10等级","V11等级","V12等级","V13等级","V14等级","V15等级"]
[1011,"简单-1-1",11024,1,{"$f":"[1]!SUMSTRING(C2:D2,\"#\")","v":{"$error":"#NAME?"}},14,100,{"$f":"[1]!SUMSTRING(F2:G2,\"#\")","v":{"$error":"#NAME?"}},3,10,{"$f":"[1]!SUMSTRING(I2:J2,\"#\")","v":{"$error":"#NAME?"}},{"$f":"E2&\"|\"&H2&\"|\"&K2","v":{"$error":"#NAME?"}},0,{"$f":"N21/20","v":2178},{"$f":"N2*0.3","v":653.4},100,{"$f":"_xlfn.IFNA(VLOOKUP(M2,$AE$2:$AF$21,2,0),\"\")","v":""},{"$nulls":3},{"$f":"INT(VLOOKUP(M2,[2]战力等级细化!H:AA,20,FALSE))","v":3390},1007,null,1,88,5,43560,{"$nulls":3},1,22,23,23,24,25,25,26,26,27,27,27,28,28,29,29,29]
[1021,"简单-1-2",11025,1,{"$f":"[1]!SUMSTRING(C3:D3,\"#\")","v":{"$error":"#NAME?"}},14,100,{"$f":"[1]!SUMSTRING(F3:G3,\"#\")","v":{"$error":"#NAME?"}},3,10,{"$f":"[1]!SUMSTRING(I3:J3,\"#\")","v":{"$error":"#NAME?"}},{"$f":"E3&\"|\"&H3&\"|\"&K3","v":{"$error":"#NAME?"}},0,{"$f":"N2+$N$21/20","v":4356},{"$f":"N3*0.3","v":1306.8},105,{"$f":"_xlfn.IFNA(VLOOKUP(M3,$AE$2:$AF$21,2,0),\"\")","v":""},{"$nulls":3},{"$f":"INT(VLOOKUP(M3,[2]战力等级细化!H:AA,20,FALSE))","v":3390},{"$f":"INT(V2+($V$7-$V$2)/5)","v":1050},null,2,96,5,51360,{"$nulls":3},2,25,26,27,28,29,29,30,31,31,32,32,33,33,34,34,35]
[1031,"简单-1-3",11026,1,{"$f":"[1]!SUMSTRING(C4:D4,\"#\")","v":{"$error":"#NAME?"}},14,100,{"$f":"[1]!SUMSTRING(F4:G4,\"#\")","v":{"$error":"#NAME?"}},3,10,{"$f":"[1]!SUMSTRING(I4:J4,\"#\")","v":{"$error":"#NAME?"}},{"$error":"#NAME?"},0,{"$f":"N3+$N$21/20","v":6534},1960.2,110,{"$f":"_xlfn.IFNA(VLOOKUP(M4,$AE$2:$AF$21,2,0),\"\")","v":""},{"$nulls":3},{"$f":"INT(VLOOKUP(M4,[2]战力等级细化!H:AA,20,FALSE))","v":3390},{"$f":"INT(V3+($V$7-$V$2)/5)","v":1093},null,3,100,5,55590,{"$nulls":3},3,27,29,30,31,32,32,33,34,35,35,36,37,37,38,39,39]
[1041,"简单-1-4",11027,1,{"$f":"[1]!SUMSTRING(C5:D5,\"#\")","v":{"$error":"#NAME?"}},14,100,{"$f":"[1]!SUMSTRING(F5:G5,\"#\")","v":{"$error":"#NAME?"}},3,10,{"$f":"[1]!SUMSTRING(I5:J5,\"#\")","v":{"$error":"#NAME?"}},{"$error":"#NAME?"},0,8712,2613.6,115,"",{"$nulls":3},{"$f":"INT(VLOOKUP(M5,[2]战力等级细化!H:AA,20,FALSE))","v":3390},1136,null,4,100,5,55590,{"$nulls":3},4,29,31,32,33,34,35,36,37,38,38,39,40,41,42,43,43]
[1051,"简单-1-5",11028,1,{"$f":"[1]!SUMSTRING(C6:D6,\"#\")","v":{"$error":"#NAME?"}},14,100,{"$f":"[1]!SUMSTRING(F6:G6,\"#\")","v":{"$error":"#NAME?"}},3,10,{"$f":"[1]!SUMSTRING(I6:J6,\"#\")","v":{"$error":"#NAME?"}},{"$error":"#NAME?"},0,10890,3267,120,"",{"$nulls":3},{"$f":"INT(VLOOKUP(M6,[2]战力等级细化!H:AA,20,FALSE))","v":3390},1179,null,5,108,5,68310,{"$nulls":3},5,31,32,34,35,36,37,38,39,40,41,42,43,44,45,46,46]
[2011,"简单-2-1",11029,1,{"$f":"[1]!SUMSTRING(C7:D7,\"#\")","v":{"$error":"#NAME?"}},14,120,{"$f":"[1]!SUMSTRING(F7:G7,\"#\")","v":{"$error":"#NAME?"}},3,12,{"$f":"[1]!SUMSTRING(I7:J7,\"#\")","v":{"$error":"#NAME?"}},{"$error":"#NAME?"},0.1,13068,3920.4,125,"",{"$nulls":3},{"$f":"INT(VLOOKUP(M7,[2]战力等级细化!H:AA,20,FALSE))","v":2983},1224,null,6,108,5,68310,{"$nulls":3},6,32,34,35,37,38,39,41,42,43,44,45,46,47,47,48,49]
[2021,"简单-2-2",11030,1,{"$f":"[1]!SUMSTRING(C8:D8,\"#\")","v":{"$error":"#NAME?"}},14,120,{"$f":"[1]!SUMSTRING(F8:G8,\"#\")","v":{"$error":"#NAME?"}},3,12,{"$f":"[1]!SUMSTRING(I8:J8,\"#\")","v":{"$error":"#NAME?"}},{"$error":"#NAME?"},0.1,15246,4573.8,130,"",{"$nulls":3},{"$f":"INT(VLOOKUP(M8,[2]战力等级细化!H:AA,20,FALSE))","v":2983},{"$f":"INT(V7+($V$12-$V$7)/5)","v":2769},null,7,120,5,99390,{"$nulls":3},7,34,35,37,38,40,41,43,44,45,46,47,48,49,50,50,51]
[2031,"简单-2-3",11031,1,{"$f":"[1]!SUMSTRING(C9:D9,\"#\")","v":{"$error":"#NAME?"}},14,120,{"$f":"[1]!SUMSTRING(F9:G9,\"#\")","v":{"$error":"#NAME?"}},3,12,{"$f":"[1]!SUMSTRING(I9:J9,\"#\")","v":{"$error":"#NAME?"}},{"$error":"#NAME?"},0.1,17424,5227.2,135,"",{"$nulls":3},{"$f":"INT(VLOOKUP(M9,[2]战力等级细化!H:AA,20,FALSE))","v":2983},{"$f":"INT(V8+($V$12-$V$7)/5)","v":4314},null,8,122,5,105970,{"$nulls":3},8,35,37,38,40,42,43,45,46,47,48,49,50,51,51,52,53]
[2041,"简单-2-4",11032,1,{"$f":"[1]!SUMSTRING(C10:D10,\"#\")","v":{"$error":"#NAME?"}},14,120,{"$f":"[1]!SUMSTRING(F10:G10,\"#\")","v":{"$error":"#NAME?"}},3,12,{"$f":"[1]!SUMSTRING(I10:J10,\"#\")","v":{"$error":"#NAME?"}},{"$error":"#NAME?"},0.1,19602,5880.6,140,"",{"$nulls":3},{"$f":"INT(VLOOKUP(M10,[2]战力等级细化!H:AA,20,FALSE))","v":2983},5859,null,9,124,5,112950,{"$nulls":3},9,36,38,40,42,43,45,46,47,48,50,51,51,52,53,54,55]
[2051,"简单-2-5",11033,1,{"$f":"[1]!SUMSTRING(C11:D11,\"#\")","v":{"$error":"#NAME?"}},14,120,{"$f":"[1]!SUMSTRING(F11:G11,\"#\")","v":{"$error":"#NAME?"}},3,12,{"$f":"[1]!SUMSTRING(I11:J11,\"#\")","v":{"$error":"#NAME?"}},{"$error":"#NAME?"},0.1,21780,6534,145,"",{"$nulls":3},{"$f":"INT(VLOOKUP(M11,[2]战力等级细化!H:AA,20,FALSE))","v":2983},7404,null,10,126,5,120330,{"$nulls":3},10,37,39,41,43,45,46,48,49,50,51,52,53,54,55,55,56]
[3011,"简单-3-1",11034,1,{"$f":"[1]!SUMSTRING(C12:D12,\"#\")","v":{"$error":"#NAME?"}},14,140,{"$f":"[1]!SUMSTRING(F12:G12,\"#\")","v":{"$error":"#NAME?"}},3,14,{"$f":"[1]!SUMSTRING(I12:J12,\"#\")","v":{"$error":"#NAME?"}},{"$error":"#NAME?"},0.3,23958,7187.4,150,"",{"$nulls":3},{"$f":"INT(VLOOKUP(M12,[2]战力等级细化!H:AA,20,FALSE))","v":8949},{"$f":"U12","v":8949},null,11,128,5,128110,{"$nulls":3},11,38,40,43,44,46,48,49,50,51,52,53,54,55,56,57,58]
[3021,"简单-3-2",11035,1,{"$f":"[1]!SUMSTRING(C13:D13,\"#\")","v":{"$error":"#NAME?"}},14,140,{"$f":"[1]!SUMSTRING(F13:G13,\"#\")","v":{"$error":"#NAME?"}},3,14,{"$f":"[1]!SUMSTRING(I13:J13,\"#\")","v":{"$error":"#NAME?"}},{"$error":"#NAME?"},0.35,26136,7840.8,155,"",{"$nulls":3},{"$f":"AVERAGE(U12,U14)","v":10440.5},{"$f":"U13","v":10440.5},null,12,130,5,136290,{"$nulls":3},12,39,42,44,46,47,49,50,51,53,54,55,56,56,57,58,59]
[3031,"简单-3-3",11036,1,{"$f":"[1]!SUMSTRING(C14:D14,\"#\")","v":{"$error":"#NAME?"}},14,140,{"$f":"[1]!SUMSTRING(F14:G14,\"#\")","v":{"$error":"#NAME?"}},3,14,{"$f":"[1]!SUMSTRING(I14:J14,\"#\")","v":{"$error":"#NAME?"}},{"$error":"#NAME?"},0.4,28314,8494.2,160,"",{"$nulls":3},{"$f":"INT(VLOOKUP(M14,[2]战力等级细化!H:AA,20,FALSE))","v":11932},11932,null,13,132,5,144870,{"$nulls":3},13,40,43,45,47,48,50,51,53,54,55,56,57,58,58,59,60]
[3041,"简单-3-4",11037,1,{"$f":"[1]!SUMSTRING(C15:D15,\"#\")","v":{"$error":"#NAME?"}},14,140,{"$f":"[1]!SUMSTRING(F15:G15,\"#\")","v":{"$error":"#NAME?"}},3,14,{"$f":"[1]!SUMSTRING(I15:J15,\"#\")","v":{"$error":"#NAME?"}},{"$error":"#NAME?"},0.45,30492,9147.6,165,"",{"$nulls":3},{"$f":"AVERAGE(U14,U16)","v":13423.5},13423.5,null,14,134,5,153850,{"$nulls":3},14,41,44,46,48,49,51,52,54,55,56,57,58,59,60,60,61]
[3051,"简单-3-5",11038,1,{"$f":"[1]!SUMSTRING(C16:D16,\"#\")","v":{"$error":"#NAME?"}},14,140,{"$f":"[1]!SUMSTRING(F16:G16,\"#\")","v":{"$error":"#NAME?"}},3,14,{"$f":"[1]!SUMSTRING(I16:J16,\"#\")","v":{"$error":"#NAME?"}},{"$error":"#NAME?"},0.5,32670,9801,170,"",{"$nulls":3},{"$f":"INT(VLOOKUP(M16,[2]战力等级细化!H:AA,20,FALSE))","v":14915},14915,null,15,136,5,163230,{"$nulls":3},15,42,45,47,49,50,52,53,55,56,57,58,59,60,60,61,62]
[4011,"简单-4-1",11039,1,{"$f":"[1]!SUMSTRING(C17:D17,\"#\")","v":{"$error":"#NAME?"}},14,160,{"$f":"[1]!SUMSTRING(F17:G17,\"#\")","v":{"$error":"#NAME?"}},3,16,{"$f":"[1]!SUMSTRING(I17:J17,\"#\")","v":{"$error":"#NAME?"}},{"$error":"#NAME?"},0.6,34848,10454.4,175,"",{"$nulls":3},{"$f":"INT(VLOOKUP(M17,[2]战力等级细化!H:AA,20,FALSE))","v":17898},17898,null,16,136.5,5,163230,{"$nulls":3},16,43,46,48,50,51,53,54,56,57,58,59,60,61,61,62,63]
[4021,"简单-4-2",11040,1,{"$f":"[1]!SUMSTRING(C18:D18,\"#\")","v":{"$error":"#NAME?"}},14,160,{"$f":"[1]!SUMSTRING(F18:G18,\"#\")","v":{"$error":"#NAME?"}},3,16,{"$f":"[1]!SUMSTRING(I18:J18,\"#\")","v":{"$error":"#NAME?"}},{"$error":"#NAME?"},0.7,37026,11107.8,180,"",{"$nulls":3},{"$f":"INT(VLOOKUP(M18,[2]战力等级细化!H:AA,20,FALSE))","v":20881},20881,null,17,137,5,168070,{"$nulls":3},17,44,46,49,51,52,54,55,56,58,59,60,61,61,62,63,64]
[4031,"简单-4-3",11041,1,{"$f":"[1]!SUMSTRING(C19:D19,\"#\")","v":{"$error":"#NAME?"}},14,160,{"$f":"[1]!SUMSTRING(F19:G19,\"#\")","v":{"$error":"#NAME?"}},3,16,{"$f":"[1]!SUMSTRING(I19:J19,\"#\")","v":{"$error":"#NAME?"}},{"$error":"#NAME?"},0.8,39204,11761.2,185,"",{"$nulls":3},{"$f":"INT(VLOOKUP(M19,[2]战力等级细化!H:AA,20,FALSE))","v":23864},23864,null,18,137.5,5,168070,{"$nulls":3},18,45,47,49,51,53,55,56,57,58,60,60,61,62,63,64,64]
[4041,"简单-4-4",11042,1,{"$f":"[1]!SUMSTRING(C20:D20,\"#\")","v":{"$error":"#NAME?"}},14,160,{"$f":"[1]!SUMSTRING(F20:G20,\"#\")","v":{"$error":"#NAME?"}},3,16,{"$f":"[1]!SUMSTRING(I20:J20,\"#\")","v":{"$error":"#NAME?"}},{"$error":"#NAME?"},0.9,41382,12414.6,190,"",{"$nulls":3},{"$f":"INT(VLOOKUP(M20,[2]战力等级细化!H:AA,20,FALSE))","v":26847},26847,null,19,138,5,173010,{"$nulls":3},19,45,48,50,52,54,55,57,58,59,60,61,62,63,64,64,65]
[4051,"简单-4-5",11043,1,{"$f":"[1]!SUMSTRING(C21:D21,\"#\")","v":{"$error":"#NAME?"}},14,160,{"$f":"[1]!SUMSTRING(F21:G21,\"#\")","v":{"$error":"#NAME?"}},3,16,{"$f":"[1]!SUMSTRING(I21:J21,\"#\")","v":{"$error":"#NAME?"}},{"$error":"#NAME?"},1,{"$f":"_xlfn.IFNA(VLOOKUP(M21,$X:$AA,4,0),\"\")","v":43560},13068,195,22,{"$f":"(252+290)/8","v":67.75},null,null,{"$f":"INT(VLOOKUP(M21,[2]战力等级细化!H:AA,20,FALSE))","v":29830},29830,null,20,138.5,5,173010,{"$nulls":3},20,46,49,51,53,55,56,58,59,60,61,62,63,64,64,65,66]
[5011,"简单-5-1",11044,1,{"$f":"[1]!SUMSTRING(C22:D22,\"#\")","v":{"$error":"#NAME?"}},14,180,{"$f":"[1]!SUMSTRING(F22:G22,\"#\")","v":{"$error":"#NAME?"}},3,18,{"$f":"[1]!SUMSTRING(I22:J22,\"#\")","v":{"$error":"#NAME?"}},{"$error":"#NAME?"},1.1,{"$f":"N21+($N$31-$N$21)/10","v":44340},13302,200,"",{"$nulls":3},{"$f":"INT(VLOOKUP(M22,[2]战力等级细化!H:AA,20,FALSE))","v":32230},32230,null,21,139,5,178050]
[5021,"简单-5-2",11045,1,{"$f":"[1]!SUMSTRING(C23:D23,\"#\")","v":{"$error":"#NAME?"}},14,180,{"$f":"[1]!SUMSTRING(F23:G23,\"#\")","v":{"$error":"#NAME?"}},3,18,{"$f":"[1]!SUMSTRING(I23:J23,\"#\")","v":{"$error":"#NAME?"}},{"$error":"#NAME?"},1.2,{"$f":"N22+($N$31-$N$21)/10","v":45120},13536,205,"",{"$nulls":3},{"$f":"INT(VLOOKUP(M23,[2]战力等级细化!H:AA,20,FALSE))","v":34630},34630,null,22,139.5,5,178050]
[5031,"简单-5-3",11046,1,{"$f":"[1]!SUMSTRING(C24:D24,\"#\")","v":{"$error":"#NAME?"}},14,180,{"$f":"[1]!SUMSTRING(F24:G24,\"#\")","v":{"$error":"#NAME?"}},3,18,{"$f":"[1]!SUMSTRING(I24:J24,\"#\")","v":{"$error":"#NAME?"}},{"$error":"#NAME?"},1.3,45900,13770,210,"",{"$nulls":3},{"$f":"INT(VLOOKUP(M24,[2]战力等级细化!H:AA,20,FALSE))","v":37031},37031,null,23,140,5,183390]
[5041,"简单-5-4",11002,1,{"$f":"[1]!SUMSTRING(C25:D25,\"#\")","v":{"$error":"#NAME?"}},14,180,{"$f":"[1]!SUMSTRING(F25:G25,\"#\")","v":{"$error":"#NAME?"}},3,18,{"$f":"[1]!SUMSTRING(I25:J25,\"#\")","v":{"$error":"#NAME?"}},{"$error":"#NAME?"},1.4,46680,14004,215,"",{"$nulls":3},{"$f":"INT(VLOOKUP(M25,[2]战力等级细化!H:AA,20,FALSE))","v":39431},39431,null,24,140.5,5,183390]
[5051,"简单-5-5",11003,1,{"$f":"[1]!SUMSTRING(C26:D26,\"#\")","v":{"$error":"#NAME?"}},14,180,{"$f":"[1]!SUMSTRING(F26:G26,\"#\")","v":{"$error":"#NAME?"}},3,18,{"$f":"[1]!SUMSTRING(I26:J26,\"#\")","v":{"$error":"#NAME?"}},{"$error":"#NAME?"},1.5,47460,14238,220,"",{"$nulls":3},{"$f":"INT(VLOOKUP(M26,[2]战力等级细化!H:AA,20,FALSE))","v":41831},41831,null,25,141,5,189030]
[6011,"简单-6-1",11005,1,{"$f":"[1]!SUMSTRING(C27:D27,\"#\")","v":{"$error":"#NAME?"}},14,200,{"$f":"[1]!SUMSTRING(F27:G27,\"#\")","v":{"$error":"#NAME?"}},3,20,{"$f":"[1]!SUMSTRING(I27:J27,\"#\")","v":{"$error":"#NAME?"}},{"$error":"#NAME?"},1.6,48240,14472,225,"",{"$nulls":3},{"$f":"INT(VLOOKUP(M27,[2]战力等级细化!H:AA,20,FALSE))","v":44231},44231,null,26,141.5,5,189030]
[6021,"简单-6-2",11006,1,{"$f":"[1]!SUMSTRING(C28:D28,\"#\")","v":{"$error":"#NAME?"}},14,200,{"$f":"[1]!SUMSTRING(F28:G28,\"#\")","v":{"$error":"#NAME?"}},3,20,{"$f":"[1]!SUMSTRING(I28:J28,\"#\")","v":{"$error":"#NAME?"}},{"$error":"#NAME?"},1.7,49020,14706,230,"",{"$nulls":3},{"$f":"INT(VLOOKUP(M28,[2]战力等级细化!H:AA,20,FALSE))","v":46631},46631,null,27,142,5,194970]
[6031,"简单-6-3",11007,1,{"$f":"[1]!SUMSTRING(C29:D29,\"#\")","v":{"$error":"#NAME?"}},14,200,{"$f":"[1]!SUMSTRING(F29:G29,\"#\")","v":{"$error":"#NAME?"}},3,20,{"$f":"[1]!SUMSTRING(I29:J29,\"#\")","v":{"$error":"#NAME?"}},{"$error":"#NAME?"},1.8,49800,14940,235,"",{"$nulls":3},{"$f":"INT(VLOOKUP(M29,[2]战力等级细化!H:AA,20,FALSE))","v":49032},49032,null,28,142.5,5,194970]
[6041,"简单-6-4",11009,1,{"$f":"[1]!SUMSTRING(C30:D30,\"#\")","v":{"$error":"#NAME?"}},14,200,{"$f":"[1]!SUMSTRING(F30:G30,\"#\")","v":{"$error":"#NAME?"}},3,20,{"$f":"[1]!SUMSTRING(I30:J30,\"#\")","v":{"$error":"#NAME?"}},{"$error":"#NAME?"},1.9,50580,15174,240,"",{"$nulls":3},{"$f":"INT(VLOOKUP(M30,[2]战力等级细化!H:AA,20,FALSE))","v":51432},51432,null,29,143,5,201210]
[6051,"简单-6-5",11010,1,{"$f":"[1]!SUMSTRING(C31:D31,\"#\")","v":{"$error":"#NAME?"}},14,200,{"$f":"[1]!SUMSTRING(F31:G31,\"#\")","v":{"$error":"#NAME?"}},3,20,{"$f":"[1]!SUMSTRING(I31:J31,\"#\")","v":{"$error":"#NAME?"}},{"$error":"#NAME?"},2,{"$f":"_xlfn.IFNA(VLOOKUP(M31,$X:$AA,4,0),\"\")","v":51360},15408,245,25,{"$nulls":3},{"$f":"INT(VLOOKUP(M31,[2]战力等级细化!H:AA,20,FALSE))","v":53832},53832,null,30,144,5,207750]
[7011,"简单-7-1",11011,1,{"$f":"[1]!SUMSTRING(C32:D32,\"#\")","v":{"$error":"#NAME?"}},14,220,{"$f":"[1]!SUMSTRING(F32:G32,\"#\")","v":{"$error":"#NAME?"}},3,22,{"$f":"[1]!SUMSTRING(I32:J32,\"#\")","v":{"$error":"#NAME?"}},{"$error":"#NAME?"},2.2,{"$f":"N31+($N$36-$N$31)/5","v":52206},15661.8,250,"",{"$nulls":3},{"$f":"INT(VLOOKUP(M32,[2]战力等级细化!H:AA,20,FALSE))","v":55419},55419,null,31,144.5,5,207750]
[7021,"简单-7-2",11013,1,{"$f":"[1]!SUMSTRING(C33:D33,\"#\")","v":{"$error":"#NAME?"}},14,220,{"$f":"[1]!SUMSTRING(F33:G33,\"#\")","v":{"$error":"#NAME?"}},3,22,{"$f":"[1]!SUMSTRING(I33:J33,\"#\")","v":{"$error":"#NAME?"}},{"$error":"#NAME?"},2.4,{"$f":"N32+($N$36-$N$31)/5","v":53052},15915.6,255,"",{"$nulls":3},{"$f":"INT(VLOOKUP(M33,[2]战力等级细化!H:AA,20,FALSE))","v":57005},57005,null,32,145,5,214590]
[7031,"简单-7-3",11019,1,{"$f":"[1]!SUMSTRING(C34:D34,\"#\")","v":{"$error":"#NAME?"}},14,220,{"$f":"[1]!SUMSTRING(F34:G34,\"#\")","v":{"$error":"#NAME?"}},3,22,{"$f":"[1]!SUMSTRING(I34:J34,\"#\")","v":{"$error":"#NAME?"}},{"$error":"#NAME?"},2.6,53898,16169.4,260,"",{"$nulls":3},{"$f":"INT(VLOOKUP(M34,[2]战力等级细化!H:AA,20,FALSE))","v":58592},58592,null,33,145.5,5,214590]
[7041,"简单-7-4",11020,1,{"$f":"[1]!SUMSTRING(C35:D35,\"#\")","v":{"$error":"#NAME?"}},14,220,{"$f":"[1]!SUMSTRING(F35:G35,\"#\")","v":{"$error":"#NAME?"}},3,22,{"$f":"[1]!SUMSTRING(I35:J35,\"#\")","v":{"$error":"#NAME?"}},{"$error":"#NAME?"},2.8,54744,16423.2,265,"",{"$nulls":3},{"$f":"INT(VLOOKUP(M35,[2]战力等级细化!H:AA,20,FALSE))","v":60178},60178,null,34,146,5,221730]
[7051,"简单-7-5",11021,1,{"$f":"[1]!SUMSTRING(C36:D36,\"#\")","v":{"$error":"#NAME?"}},14,220,{"$f":"[1]!SUMSTRING(F36:G36,\"#\")","v":{"$error":"#NAME?"}},3,22,{"$f":"[1]!SUMSTRING(I36:J36,\"#\")","v":{"$error":"#NAME?"}},{"$error":"#NAME?"},3,{"$f":"_xlfn.IFNA(VLOOKUP(M36,$X:$AA,4,0),\"\")","v":55590},16677,270,27,{"$nulls":3},{"$f":"INT(VLOOKUP(M36,[2]战力等级细化!H:AA,20,FALSE))","v":61765},61765,null,35,146.5,5,221730]
[8011,"简单-8-1",11022,1,{"$f":"[1]!SUMSTRING(C37:D37,\"#\")","v":{"$error":"#NAME?"}},14,240,{"$f":"[1]!SUMSTRING(F37:G37,\"#\")","v":{"$error":"#NAME?"}},3,24,{"$f":"[1]!SUMSTRING(I37:J37,\"#\")","v":{"$error":"#NAME?"}},{"$error":"#NAME?"},3.4,{"$f":"N36+($N$41-$N$36)/5","v":58134},17440.2,275,"",{"$nulls":3},{"$f":"INT(VLOOKUP(M37,[2]战力等级细化!H:AA,20,FALSE))","v":64425},64425,null,36,147,5,229170]
[8021,"简单-8-2",11002,1,{"$f":"[1]!SUMSTRING(C38:D38,\"#\")","v":{"$error":"#NAME?"}},14,240,{"$f":"[1]!SUMSTRING(F38:G38,\"#\")","v":{"$error":"#NAME?"}},3,24,{"$f":"[1]!SUMSTRING(I38:J38,\"#\")","v":{"$error":"#NAME?"}},{"$error":"#NAME?"},3.8,{"$f":"N37+($N$41-$N$36)/5","v":60678},18203.4,280,"",{"$nulls":3},{"$f":"INT(VLOOKUP(M38,[2]战力等级细化!H:AA,20,FALSE))","v":67084},67084,null,37,147.5,5,229170]
[8031,"简单-8-3",11003,1,{"$f":"[1]!SUMSTRING(C39:D39,\"#\")","v":{"$error":"#NAME?"}},14,240,{"$f":"[1]!SUMSTRING(F39:G39,\"#\")","v":{"$error":"#NAME?"}},3,24,{"$f":"[1]!SUMSTRING(I39:J39,\"#\")","v":{"$error":"#NAME?"}},{"$error":"#NAME?"},4.2,63222,18966.6,285,"",{"$nulls":3},{"$f":"INT(VLOOKUP(M39,[2]战力等级细化!H:AA,20,FALSE))","v":70809},70809,null,38,148,5,236910]
[8041,"简单-8-4",11005,1,{"$f":"[1]!SUMSTRING(C40:D40,\"#\")","v":{"$error":"#NAME?"}},14,240,{"$f":"[1]!SUMSTRING(F40:G40,\"#\")","v":{"$error":"#NAME?"}},3,24,{"$f":"[1]!SUMSTRING(I40:J40,\"#\")","v":{"$error":"#NAME?"}},{"$error":"#NAME?"},4.6,65766,19729.8,290,"",{"$nulls":3},{"$f":"INT(VLOOKUP(M40,[2]战力等级细化!H:AA,20,FALSE))","v":75598},75598,null,39,148.5,5,236910]
[8051,"简单-8-5",11006,1,{"$f":"[1]!SUMSTRING(C41:D41,\"#\")","v":{"$error":"#NAME?"}},14,240,{"$f":"[1]!SUMSTRING(F41:G41,\"#\")","v":{"$error":"#NAME?"}},3,24,{"$f":"[1]!SUMSTRING(I41:J41,\"#\")","v":{"$error":"#NAME?"}},{"$error":"#NAME?"},5,{"$f":"_xlfn.IFNA(VLOOKUP(M41,$X:$AA,4,0),\"\")","v":68310},20493,295,31,{"$nulls":3},{"$f":"INT(VLOOKUP(M41,[2]战力等级细化!H:AA,20,FALSE))","v":80388},80388,null,40,149,5,244950]
[9011,"简单-9-1",11007,1,{"$f":"[1]!SUMSTRING(C42:D42,\"#\")","v":{"$error":"#NAME?"}},14,260,{"$f":"[1]!SUMSTRING(F42:G42,\"#\")","v":{"$error":"#NAME?"}},3,26,{"$f":"[1]!SUMSTRING(I42:J42,\"#\")","v":{"$error":"#NAME?"}},{"$error":"#NAME?"},5.4,{"$f":"N41+($N$46-$N$41)/5","v":74526},22357.8,300,"",{"$nulls":3},{"$f":"INT(VLOOKUP(M42,[2]战力等级细化!H:AA,20,FALSE))","v":82462},82462,null,41,149.5,5,244950]
[9021,"简单-9-2",11009,1,{"$f":"[1]!SUMSTRING(C43:D43,\"#\")","v":{"$error":"#NAME?"}},14,260,{"$f":"[1]!SUMSTRING(F43:G43,\"#\")","v":{"$error":"#NAME?"}},3,26,{"$f":"[1]!SUMSTRING(I43:J43,\"#\")","v":{"$error":"#NAME?"}},{"$error":"#NAME?"},5.8,{"$f":"N42+($N$46-$N$41)/5","v":80742},24222.6,305,"",{"$nulls":3},{"$f":"INT(VLOOKUP(M43,[2]战力等级细化!H:AA,20,FALSE))","v":84537},84537,null,42,150,5,253290]
[9031,"简单-9-3",11010,1,{"$f":"[1]!SUMSTRING(C44:D44,\"#\")","v":{"$error":"#NAME?"}},14,260,{"$f":"[1]!SUMSTRING(F44:G44,\"#\")","v":{"$error":"#NAME?"}},3,26,{"$f":"[1]!SUMSTRING(I44:J44,\"#\")","v":{"$error":"#NAME?"}},{"$error":"#NAME?"},6.2,86958,26087.4,310,"",{"$nulls":3},{"$f":"INT(VLOOKUP(M44,[2]战力等级细化!H:AA,20,FALSE))","v":88950},88950,null,43,150.5,5,253290]
[9041,"简单-9-4",11011,1,{"$f":"[1]!SUMSTRING(C45:D45,\"#\")","v":{"$error":"#NAME?"}},14,260,{"$f":"[1]!SUMSTRING(F45:G45,\"#\")","v":{"$error":"#NAME?"}},3,26,{"$f":"[1]!SUMSTRING(I45:J45,\"#\")","v":{"$error":"#NAME?"}},{"$error":"#NAME?"},6.6,93174,27952.2,315,"",{"$nulls":3},{"$f":"INT(VLOOKUP(M45,[2]战力等级细化!H:AA,20,FALSE))","v":95702},95702,null,44,151,5,261930]
[9051,"简单-9-5",11013,1,{"$f":"[1]!SUMSTRING(C46:D46,\"#\")","v":{"$error":"#NAME?"}},14,260,{"$f":"[1]!SUMSTRING(F46:G46,\"#\")","v":{"$error":"#NAME?"}},3,26,{"$f":"[1]!SUMSTRING(I46:J46,\"#\")","v":{"$error":"#NAME?"}},{"$error":"#NAME?"},7,{"$f":"_xlfn.IFNA(VLOOKUP(M46,$X:$AA,4,0),\"\")","v":99390},29817,320,34,{"$nulls":3},{"$f":"INT(VLOOKUP(M46,[2]战力等级细化!H:AA,20,FALSE))","v":102455},102455,null,45,152,5,270870]
[10011,"简单-10-1",11019,1,{"$f":"[1]!SUMSTRING(C47:D47,\"#\")","v":{"$error":"#NAME?"}},14,280,{"$f":"[1]!SUMSTRING(F47:G47,\"#\")","v":{"$error":"#NAME?"}},3,28,{"$f":"[1]!SUMSTRING(I47:J47,\"#\")","v":{"$error":"#NAME?"}},{"$error":"#NAME?"},7.5,{"$f":"AVERAGEA(N46,N48)","v":102680},30804,325,"",{"$nulls":3},{"$f":"INT(VLOOKUP(M47,[2]战力等级细化!H:AA,20,FALSE))","v":105731},105731,null,46,154,5,289650]
[10021,"简单-10-2",11020,1,{"$f":"[1]!SUMSTRING(C48:D48,\"#\")","v":{"$error":"#NAME?"}},14,280,{"$f":"[1]!SUMSTRING(F48:G48,\"#\")","v":{"$error":"#NAME?"}},3,28,{"$f":"[1]!SUMSTRING(I48:J48,\"#\")","v":{"$error":"#NAME?"}},{"$error":"#NAME?"},8,{"$f":"_xlfn.IFNA(VLOOKUP(M48,$X:$AA,4,0),\"\")","v":105970},31791,330,35,{"$nulls":3},{"$f":"INT(VLOOKUP(M48,[2]战力等级细化!H:AA,20,FALSE))","v":109008},109008,null,47,156,5,309630]
[10031,"简单-10-3",11021,1,{"$f":"[1]!SUMSTRING(C49:D49,\"#\")","v":{"$error":"#NAME?"}},14,280,{"$f":"[1]!SUMSTRING(F49:G49,\"#\")","v":{"$error":"#NAME?"}},3,28,{"$f":"[1]!SUMSTRING(I49:J49,\"#\")","v":{"$error":"#NAME?"}},{"$error":"#NAME?"},8.5,{"$f":"AVERAGEA(N48,N50)","v":109460},32838,335,"",{"$nulls":3},{"$f":"INT(VLOOKUP(M49,[2]战力等级细化!H:AA,20,FALSE))","v":110409},110409,null,48,158,5,330810]
[10041,"简单-10-4",11022,1,{"$f":"[1]!SUMSTRING(C50:D50,\"#\")","v":{"$error":"#NAME?"}},14,280,{"$f":"[1]!SUMSTRING(F50:G50,\"#\")","v":{"$error":"#NAME?"}},3,28,{"$f":"[1]!SUMSTRING(I50:J50,\"#\")","v":{"$error":"#NAME?"}},{"$error":"#NAME?"},9,{"$f":"_xlfn.IFNA(VLOOKUP(M50,$X:$AA,4,0),\"\")","v":112950},33885,340,36,{"$nulls":3},{"$f":"INT(VLOOKUP(M50,[2]战力等级细化!H:AA,20,FALSE))","v":111811},111811,null,49,160,5,353190]
[10051,"简单-10-5",11002,1,{"$f":"[1]!SUMSTRING(C51:D51,\"#\")","v":{"$error":"#NAME?"}},14,280,{"$f":"[1]!SUMSTRING(F51:G51,\"#\")","v":{"$error":"#NAME?"}},3,28,{"$f":"[1]!SUMSTRING(I51:J51,\"#\")","v":{"$error":"#NAME?"}},{"$error":"#NAME?"},10,{"$f":"_xlfn.IFNA(VLOOKUP(M51,$X:$AA,4,0),\"\")","v":120330},36099,345,37,{"$nulls":3},{"$f":"INT(VLOOKUP(M51,[2]战力等级细化!H:AA,20,FALSE))","v":118991},118991,null,50,162,5,376770]
[{"$nulls":23},51,164,5,401550]
[{"$nulls":23},52,166,5,427530]
[{"$nulls":23},53,168,5,454710]
[{"$nulls":23},54,170,5,483090]
[{"$nulls":23},55,172,5,512670]
[{"$nulls":23},56,174,5,543450]
[{"$nulls":23},57,176,5,575430]
[{"$nulls":23},58,178,5,608610]
[{"$nulls":23},59,180,5,698580]
[{"$nulls":23},60,184,5,715350]
[{"$nulls":23},61,184,5,715350]
[{"$nulls":23},62,184,5,715350]
[{"$nulls":23},63,185,5,734190]
[{"$nulls":23},64,185,5,734190]
[{"$nulls":23},65,185,5,734190]
[{"$nulls":23},66,186,5,753330]
[{"$nulls":23},67,186,5,753330]
[{"$nulls":23},68,186,5,753330]
[{"$nulls":23},69,187,5,772770]
[{"$nulls":23},70,187,5,772770]
[{"$nulls":23},71,187,5,772770]
[{"$nulls":23},72,188,5,792510]
[{"$nulls":23},73,188,5,792510]
[{"$nulls":23},74,188,5,792510]
[{"$nulls":23},75,189,5,812550]
[{"$nulls":23},76,189,5,812550]
[{"$nulls":23},77,189,5,812550]
[{"$nulls":23},78,190,5,832890]
[{"$nulls":23},79,190,5,832890]
[{"$nulls":23},80,190,5,832890]
[{"$nulls":23},81,191,5,853530]
[{"$nulls":23},82,191,5,853530]
[{"$nulls":23},83,191,5,853530]
[{"$nulls":23},84,192,5,874470]
[{"$nulls":23},85,192,5,874470]
[{"$nulls":23},86,192,5,874470]
[{"$nulls":23},87,193,5,895710]
[{"$nulls":23},88,193,5,895710]
[{"$nulls":23},89,193,5,895710]
[{"$nulls":23},90,198,5,1006410]
[{"$nulls":23},91,198,5,1006410]
[{"$nulls":23},92,198,5,1006410]
[{"$nulls":23},93,199,5,1029390]
[{"$nulls":23},94,199,5,1029390]
[{"$nulls":23},95,199,5,1029390]
[{"$nulls":23},96,200,5,1052970]
[{"$nulls":23},97,200,5,1052970]
[{"$nulls":23},98,200,5,1052970]
[{"$nulls":23},99,201,5,1720140]
[{"$nulls":23},100,201,5,1077150]
[{"$nulls":23},101,201,5,1077150]
[{"$nulls":23},102,202,5,1101930]
[{"$nulls":23},103,202,5,1101930]
[{"$nulls":23},104,202,5,1101930]
[{"$nulls":23},105,203,5,1127310]
[{"$nulls":23},106,203,5,1127310]
[{"$nulls":23},107,203,5,1127310]
[{"$nulls":23},108,204,5,1153290]
[{"$nulls":23},109,204,5,1153290]
[{"$nulls":23},110,204,5,1153290]
[{"$nulls":23},111,205,5,1179870]
[{"$nulls":23},112,205,5,1179870]
[{"$nulls":23},113,205,5,1179870]
[{"$nulls":23},114,206,5,1207050]
[{"$nulls":23},115,206,5,1207050]
[{"$nulls":23},116,206,5,1207050]
[{"$nulls":23},117,207,5,1234830]
[{"$nulls":23},118,207,5,1234830]
[{"$nulls":23},119,207,5,1234830]
[{"$nulls":23},120,216,5,1511850]
[{"$nulls":23},121,216,5,1511850]
[{"$nulls":23},122,217,5,1545630]
[{"$nulls":23},123,217,5,1545630]
[{"$nulls":23},124,217,5,1545630]
[{"$nulls":23},125,218,5,1580010]
[{"$nulls":23},126,218,5,1580010]
[{"$nulls":23},127,219,5,1614990]
[{"$nulls":23},128,219,5,1614990]
[{"$nulls":23},129,219,5,1614990]
[{"$nulls":23},130,220,5,1650570]
[{"$nulls":23},131,220,5,1650570]
[{"$nulls":23},132,221,5,1686750]
[{"$nulls":23},133,221,5,1686750]
[{"$nulls":23},134,221,5,1686750]
[{"$nulls":23},135,222,5,1723530]
[{"$nulls":23},136,222,5,1723530]
[{"$nulls":23},137,223,5,1760910]
[{"$nulls":23},138,223,5,1760910]
[{"$nulls":23},139,223,5,1760910]
[{"$nulls":23},140,224,5,1798890]
[{"$nulls":23},141,224,5,1798890]
[{"$nulls":23},142,225,5,1837470]
[{"$nulls":23},143,225,5,1837470]
[{"$nulls":23},144,225,5,1837470]
[{"$nulls":23},145,226,5,1876650]
[{"$nulls":23},146,226,5,1876650]
[{"$nulls":23},147,227,5,1916430]
[{"$nulls":23},148,227,5,1916430]
[{"$nulls":23},149,227,5,1916430]
[{"$nulls":23},150,230,5,2039370]
[{"$nulls":23},151,230,5,2039370]
[{"$nulls":23},152,230,5,2039370]
[{"$nulls":23},153,232,5,2124330]
[{"$nulls":23},154,232,5,2124330]
[{"$nulls":23},155,232,5,2124330]
[{"$nulls":23},156,234,5,2211690]
[{"$nulls":23},157,234,5,2211690]
[{"$nulls":23},158,234,5,2211690]
[{"$nulls":23},159,236,5,2301450]
[{"$nulls":23},160,236,5,2301450]
[{"$nulls":23},161,236,5,2301450]
[{"$nulls":23},162,238,5,2393610]
[{"$nulls":23},163,238,5,2393610]
[{"$nulls":23},164,238,5,2393610]
[{"$nulls":23},165,240,5,2488170]
[{"$nulls":23},166,240,5,2488170]
[{"$nulls":23},167,240,5,2488170]
[{"$nulls":23},168,242,5,2585130]
[{"$nulls":23},169,242,5,2585130]
[{"$nulls":23},170,242,5,2585130]
[{"$nulls":23},171,244,5,2684490]
[{"$nulls":23},172,244,5,2684490]
[{"$nulls":23},173,244,5,2684490]
[{"$nulls":23},174,246,5,2786250]
[{"$nulls":23},175,246,5,2786250]
[{"$nulls":23},176,246,5,2786250]
[{"$nulls":23},177,248,5,2890410]
[{"$nulls":23},178,248,5,2890410]
[{"$nulls":23},179,248,5,2890410]
[{"$nulls":23},180,250,5,2943390]

{"sheet":"Sheet2","index":2,"n_rows":157,"n_cols":13,"rows_kept":157,"merged":[[4,5,4,6],[4,7,4,8]]}
[null,"Id","Name","Exp","RandomReward",{"$nulls":4},"Show",null,null,"Show"]
[null,"int","string","int","mut,int#int,1",{"$nulls":4},"mut,int#int,2",null,null,"mut,int#int,2"]
[null,2,3,2,4,{"$nulls":4},3,null,null,3]
[null,"关卡ID","关卡名称","关卡经验奖励","关卡道具奖励组\n--每一次",{"$nulls":4},"显示",null,null,"显示"]
["默认值",0," ",0,0,1,null,2,null,"null",null,null,"null"]
["正确性校对"]
["校对值"]
[null,1011,"简单-1-1",8,"4001#3001",{"$f":"VLOOKUP(VALUE(LEFT(VLOOKUP(VALUE(RIGHT(LevelDifficultyConfig!L8,4)),[3]RewardGroup!$B$1:$E$670,4,FALSE),5)),[4]RewardItemConfig!$B$1:$C$1176,2,FALSE)","v":{"$error":"#VALUE!"}},{"$f":"VLOOKUP(VALUE(RIGHT(VLOOKUP(VALUE(RIGHT(LevelDifficultyConfig!L8,4)),[3]RewardGroup!$B$1:$E$670,4,FALSE),5)),[4]RewardItemConfig!$B$1:$C$1176,2,FALSE)","v":{"$error":"#VALUE!"}},{"$f":"VLOOKUP(VALUE(LEFT(VLOOKUP(VALUE(LEFT(LevelDifficultyConfig!L8,4)),[3]RewardGroup!$B$1:$E$670,4,FALSE),5)),[4]RewardItemConfig!$B$1:$C$1176,2,FALSE)","v":3},{"$f":"VLOOKUP(VALUE(RIGHT(VLOOKUP(VALUE(LEFT(LevelDifficultyConfig!L8,4)),[3]RewardGroup!$B$1:$E$670,4,FALSE),5)),[4]RewardItemConfig!$B$1:$C$1176,2,FALSE)","v":14},{"$f":"I8&\"#1|\"&G8&\"#100|\"&F8&\"#10\"","v":{"$error":"#VALUE!"}},null,null,"11024#1|14#100|3#10"]
[null,1021,"简单-1-2",8,"4002#3002",{"$f":"VLOOKUP(VALUE(LEFT(VLOOKUP(VALUE(RIGHT(LevelDifficultyConfig!L9,4)),[3]RewardGroup!$B$1:$E$670,4,FALSE),5)),[4]RewardItemConfig!$B$1:$C$1176,2,FALSE)","v":{"$error":"#VALUE!"}},{"$f":"VLOOKUP(VALUE(RIGHT(VLOOKUP(VALUE(RIGHT(LevelDifficultyConfig!L9,4)),[3]RewardGroup!$B$1:$E$670,4,FALSE),5)),[4]RewardItemConfig!$B$1:$C$1176,2,FALSE)","v":{"$error":"#VALUE!"}},{"$f":"VLOOKUP(VALUE(LEFT(VLOOKUP(VALUE(LEFT(LevelDifficultyConfig!L9,4)),[3]RewardGroup!$B$1:$E$670,4,FALSE),5)),[4]RewardItemConfig!$B$1:$C$1176,2,FALSE)","v":3},{"$f":"VLOOKUP(VALUE(RIGHT(VLOOKUP(VALUE(LEFT(LevelDifficultyConfig!L9,4)),[3]RewardGroup!$B$1:$E$670,4,FALSE),5)),[4]RewardItemConfig!$B$1:$C$1176,2,FALSE)","v":14},{"$f":"I9&\"#1|\"&G9&\"#100|\"&F9&\"#10\"","v":{"$error":"#VALUE!"}},null,null,"11025#1|14#100|3#10"]
[null,1031,"简单-1-3",8,"4003#3003",{"$f":"VLOOKUP(VALUE(LEFT(VLOOKUP(VALUE(RIGHT(LevelDifficultyConfig!L10,4)),[3]RewardGroup!$B$1:$E$670,4,FALSE),5)),[4]RewardItemConfig!$B$1:$C$1176,2,FALSE)","v":{"$error":"#VALUE!"}},{"$f":"VLOOKUP(VALUE(RIGHT(VLOOKUP(VALUE(RIGHT(LevelDifficultyConfig!L10,4)),[3]RewardGroup!$B$1:$E$670,4,FALSE),5)),[4]RewardItemConfig!$B$1:$C$1176,2,FALSE)","v":{"$error":"#VALUE!"}},{"$f":"VLOOKUP(VALUE(LEFT(VLOOKUP(VALUE(LEFT(LevelDifficultyConfig!L10,4)),[3]RewardGroup!$B$1:$E$670,4,FALSE),5)),[4]RewardItemConfig!$B$1:$C$1176,2,FALSE)","v":3},{"$f":"VLOOKUP(VALUE(RIGHT(VLOOKUP(VALUE(LEFT(LevelDifficultyConfig!L10,4)),[3]RewardGroup!$B$1:$E$670,4,FALSE),5)),[4]RewardItemConfig!$B$1:$C$1176,2,FALSE)","v":14},{"$error":"#VALUE!"},null,null,"11026#1|14#100|3#10"]
[null,1041,"简单-1-4",8,"4004#3004",{"$f":"VLOOKUP(VALUE(LEFT(VLOOKUP(VALUE(RIGHT(LevelDifficultyConfig!L11,4)),[3]RewardGroup!$B$1:$E$670,4,FALSE),5)),[4]RewardItemConfig!$B$1:$C$1176,2,FALSE)","v":{"$error":"#VALUE!"}},{"$f":"VLOOKUP(VALUE(RIGHT(VLOOKUP(VALUE(RIGHT(LevelDifficultyConfig!L11,4)),[3]RewardGroup!$B$1:$E$670,4,FALSE),5)),[4]RewardItemConfig!$B$1:$C$1176,2,FALSE)","v":{"$error":"#VALUE!"}},{"$f":"VLOOKUP(VALUE(LEFT(VLOOKUP(VALUE(LEFT(LevelDifficultyConfig!L11,4)),[3]RewardGroup!$B$1:$E$670,4,FALSE),5)),[4]RewardItemConfig!$B$1:$C$1176,2,FALSE)","v":3},{"$f":"VLOOKUP(VALUE(RIGHT(VLOOKUP(VALUE(LEFT(LevelDifficultyConfig!L11,4)),[3]RewardGroup!$B$1:$E$670,4,FALSE),5)),[4]RewardItemConfig!$B$1:$C$1176,2,FALSE)","v":14},{"$error":"#VALUE!"},null,null,"11027#1|14#100|3#10"]
[null,1051,"简单-1-5",8,"4005#3005",{"$f":"VLOOKUP(VALUE(LEFT(VLOOKUP(VALUE(RIGHT(LevelDifficultyConfig!L12,4)),[3]RewardGroup!$B$1:$E$670,4,FALSE),5)),[4]RewardItemConfig!$B$1:$C$1176,2,FALSE)","v":{"$error":"#VALUE!"}},{"$f":"VLOOKUP(VALUE(RIGHT(VLOOKUP(VALUE(RIGHT(LevelDifficultyConfig!L12,4)),[3]RewardGroup!$B$1:$E$670,4,FALSE),5)),[4]RewardItemConfig!$B$1:$C$1176,2,FALSE)","v":{"$error":"#VALUE!"}},{"$f":"VLOOKUP(VALUE(LEFT(VLOOKUP(VALUE(LEFT(LevelDifficultyConfig!L12,4)),[3]RewardGroup!$B$1:$E$670,4,FALSE),5)),[4]RewardItemConfig!$B$1:$C$1176,2,FALSE)","v":3},{"$f":"VLOOKUP(VALUE(RIGHT(VLOOKUP(VALUE(LEFT(LevelDifficultyConfig!L12,4)),[3]RewardGroup!$B$1:$E$670,4,FALSE),5)),[4]RewardItemConfig!$B$1:$C$1176,2,FALSE)","v":14},{"$error":"#VALUE!"},null,null,"11028#1|14#100|3#10"]
[null,2011,"简单-2-1",8,"4006#3006",{"$f":"VLOOKUP(VALUE(LEFT(VLOOKUP(VALUE(RIGHT(LevelDifficultyConfig!L13,4)),[3]RewardGroup!$B$1:$E$670,4,FALSE),5)),[4]RewardItemConfig!$B$1:$C$1176,2,FALSE)","v":{"$error":"#VALUE!"}},{"$f":"VLOOKUP(VALUE(RIGHT(VLOOKUP(VALUE(RIGHT(LevelDifficultyConfig!L13,4)),[3]RewardGroup!$B$1:$E$670,4,FALSE),5)),[4]RewardItemConfig!$B$1:$C$1176,2,FALSE)","v":{"$error":"#VALUE!"}},{"$f":"VLOOKUP(VALUE(LEFT(VLOOKUP(VALUE(LEFT(LevelDifficultyConfig!L13,4)),[3]RewardGroup!$B$1:$E$670,4,FALSE),5)),[4]RewardItemConfig!$B$1:$C$1176,2,FALSE)","v":3},{"$f":"VLOOKUP(VALUE(RIGHT(VLOOKUP(VALUE(LEFT(LevelDifficultyConfig!L13,4)),[3]RewardGroup!$B$1:$E$670,4,FALSE),5)),[4]RewardItemConfig!$B$1:$C$1176,2,FALSE)","v":14},{"$f":"I13&\"#1|\"&G13&\"#120|\"&F13&\"#12\"","v":{"$error":"#VALUE!"}},null,null,"11029#1|14#120|3#12"]
[null,2021,"简单-2-2",8,"4007#3007",{"$f":"VLOOKUP(VALUE(LEFT(VLOOKUP(VALUE(RIGHT(LevelDifficultyConfig!L14,4)),[3]RewardGroup!$B$1:$E$670,4,FALSE),5)),[4]RewardItemConfig!$B$1:$C$1176,2,FALSE)","v":{"$error":"#VALUE!"}},{"$f":"VLOOKUP(VALUE(RIGHT(VLOOKUP(VALUE(RIGHT(LevelDifficultyConfig!L14,4)),[3]RewardGroup!$B$1:$E$670,4,FALSE),5)),[4]RewardItemConfig!$B$1:$C$1176,2,FALSE)","v":{"$error":"#VALUE!"}},{"$f":"VLOOKUP(VALUE(LEFT(VLOOKUP(VALUE(LEFT(LevelDifficultyConfig!L14,4)),[3]RewardGroup!$B$1:$E$670,4,FALSE),5)),[4]RewardItemConfig!$B$1:$C$1176,2,FALSE)","v":3},{"$f":"VLOOKUP(VALUE(RIGHT(VLOOKUP(VALUE(LEFT(LevelDifficultyConfig!L14,4)),[3]RewardGroup!$B$1:$E$670,4,FALSE),5)),[4]RewardItemConfig!$B$1:$C$1176,2,FALSE)","v":14},{"$f":"I14&\"#1|\"&G14&\"#120|\"&F14&\"#12\"","v":{"$error":"#VALUE!"}},null,null,"11030#1|14#120|3#12"]
[null,2031,"简单-2-3",8,"4008#3008",{"$f":"VLOOKUP(VALUE(LEFT(VLOOKUP(VALUE(RIGHT(LevelDifficultyConfig!L15,4)),[3]RewardGroup!$B$1:$E$670,4,FALSE),5)),[4]RewardItemConfig!$B$1:$C$1176,2,FALSE)","v":{"$error":"#VALUE!"}},{"$f":"VLOOKUP(VALUE(RIGHT(VLOOKUP(VALUE(RIGHT(LevelDifficultyConfig!L15,4)),[3]RewardGroup!$B$1:$E$670,4,FALSE),5)),[4]RewardItemConfig!$B$1:$C$1176,2,FALSE)","v":{"$error":"#VALUE!"}},{"$f":"VLOOKUP(VALUE(LEFT(VLOOKUP(VALUE(LEFT(LevelDifficultyConfig!L15,4)),[3]RewardGroup!$B$1:$E$670,4,FALSE),5)),[4]RewardItemConfig!$B$1:$C$1176,2,FALSE)","v":3},{"$f":"VLOOKUP(VALUE(RIGHT(VLOOKUP(VALUE(LEFT(LevelDifficultyConfig!L15,4)),[3]RewardGroup!$B$1:$E$670,4,FALSE),5)),[4]RewardItemConfig!$B$1:$C$1176,2,FALSE)","v":14},{"$error":"#VALUE!"},null,null,"11031#1|14#120|3#12"]
[null,2041,"简单-2-4",8,"4009#3009",{"$f":"VLOOKUP(VALUE(LEFT(VLOOKUP(VALUE(RIGHT(LevelDifficultyConfig!L16,4)),[3]RewardGroup!$B$1:$E$670,4,FALSE),5)),[4]RewardItemConfig!$B$1:$C$1176,2,FALSE)","v":{"$error":"#VALUE!"}},{"$f":"VLOOKUP(VALUE(RIGHT(VLOOKUP(VALUE(RIGHT(LevelDifficultyConfig!L16,4)),[3]RewardGroup!$B$1:$E$670,4,FALSE),5)),[4]RewardItemConfig!$B$1:$C$1176,2,FALSE)","v":{"$error":"#VALUE!"}},{"$f":"VLOOKUP(VALUE(LEFT(VLOOKUP(VALUE(LEFT(LevelDifficultyConfig!L16,4)),[3]RewardGroup!$B$1:$E$670,4,FALSE),5)),[4]RewardItemConfig!$B$1:$C$1176,2,FALSE)","v":3},{"$f":"VLOOKUP(VALUE(RIGHT(VLOOKUP(VALUE(LEFT(LevelDifficultyConfig!L16,4)),[3]RewardGroup!$B$1:$E$670,4,FALSE),5)),[4]RewardItemConfig!$B$1:$C$1176,2,FALSE)","v":14},{"$error":"#VALUE!"},null,null,"11032#1|14#120|3#12"]
[null,2051,"简单-2-5",8,"4010#3010",{"$f":"VLOOKUP(VALUE(LEFT(VLOOKUP(VALUE(RIGHT(LevelDifficultyConfig!L17,4)),[3]RewardGroup!$B$1:$E$670,4,FALSE),5)),[4]RewardItemConfig!$B$1:$C$1176,2,FALSE)","v":{"$error":"#VALUE!"}},{"$f":"VLOOKUP(VALUE(RIGHT(VLOOKUP(VALUE(RIGHT(LevelDifficultyConfig!L17,4)),[3]RewardGroup!$B$1:$E$670,4,FALSE),5)),[4]RewardItemConfig!$B$1:$C$1176,2,FALSE)","v":{"$error":"#VALUE!"}},{"$f":"VLOOKUP(VALUE(LEFT(VLOOKUP(VALUE(LEFT(LevelDifficultyConfig!L17,4)),[3]RewardGroup!$B$1:$E$670,4,FALSE),5)),[4]RewardItemConfig!$B$1:$C$1176,2,FALSE)","v":3},{"$f":"VLOOKUP(VALUE(RIGHT(VLOOKUP(VALUE(LEFT(LevelDifficultyConfig!L17,4)),[3]RewardGroup!$B$1:$E$670,4,FALSE),5)),[4]RewardItemConfig!$B$1:$C$1176,2,FALSE)","v":14},{"$error":"#VALUE!"},null,null,"11033#1|14#120|3#12"]
[null,3011,"简单-3-1",8,"4011#3011",{"$f":"VLOOKUP(VALUE(LEFT(VLOOKUP(VALUE(RIGHT(LevelDifficultyConfig!L18,4)),[3]RewardGroup!$B$1:$E$670,4,FALSE),5)),[4]RewardItemConfig!$B$1:$C$1176,2,FALSE)","v":{"$error":"#VALUE!"}},{"$f":"VLOOKUP(VALUE(RIGHT(VLOOKUP(VALUE(RIGHT(LevelDifficultyConfig!L18,4)),[3]RewardGroup!$B$1:$E$670,4,FALSE),5)),[4]RewardItemConfig!$B$1:$C$1176,2,FALSE)","v":{"$error":"#VALUE!"}},{"$f":"VLOOKUP(VALUE(LEFT(VLOOKUP(VALUE(LEFT(LevelDifficultyConfig!L18,4)),[3]RewardGroup!$B$1:$E$670,4,FALSE),5)),[4]RewardItemConfig!$B$1:$C$1176,2,FALSE)","v":3},{"$f":"VLOOKUP(VALUE(RIGHT(VLOOKUP(VALUE(LEFT(LevelDifficultyConfig!L18,4)),[3]RewardGroup!$B$1:$E$670,4,FALSE),5)),[4]RewardItemConfig!$B$1:$C$1176,2,FALSE)","v":14},{"$f":"I18&\"#1|\"&G18&\"#140|\"&F18&\"#14\"","v":{"$error":"#VALUE!"}},null,null,"11034#1|14#140|3#14"]
[null,3021,"简单-3-2",8,"4012#3012",{"$f":"VLOOKUP(VALUE(LEFT(VLOOKUP(VALUE(RIGHT(LevelDifficultyConfig!L19,4)),[3]RewardGroup!$B$1:$E$670,4,FALSE),5)),[4]RewardItemConfig!$B$1:$C$1176,2,FALSE)","v":{"$error":"#VALUE!"}},{"$f":"VLOOKUP(VALUE(RIGHT(VLOOKUP(VALUE(RIGHT(LevelDifficultyConfig!L19,4)),[3]RewardGroup!$B$1:$E$670,4,FALSE),5)),[4]RewardItemConfig!$B$1:$C$1176,2,FALSE)","v":{"$error":"#VALUE!"}},{"$f":"VLOOKUP(VALUE(LEFT(VLOOKUP(VALUE(LEFT(LevelDifficultyConfig!L19,4)),[3]RewardGroup!$B$1:$E$670,4,FALSE),5)),[4]RewardItemConfig!$B$1:$C$1176,2,FALSE)","v":3},{"$f":"VLOOKUP(VALUE(RIGHT(VLOOKUP(VALUE(LEFT(LevelDifficultyConfig!L19,4)),[3]RewardGroup!$B$1:$E$670,4,FALSE),5)),[4]RewardItemConfig!$B$1:$C$1176,2,FALSE)","v":14},{"$f":"I19&\"#1|\"&G19&\"#140|\"&F19&\"#14\"","v":{"$error":"#VALUE!"}},null,null,"11035#1|14#140|3#14"]
[null,3031,"简单-3-3",8,"4013#3013",{"$f":"VLOOKUP(VALUE(LEFT(VLOOKUP(VALUE(RIGHT(LevelDifficultyConfig!L20,4)),[3]RewardGroup!$B$1:$E$670,4,FALSE),5)),[4]RewardItemConfig!$B$1:$C$1176,2,FALSE)","v":{"$error":"#VALUE!"}},{"$f":"VLOOKUP(VALUE(RIGHT(VLOOKUP(VALUE(RIGHT(LevelDifficultyConfig!L20,4)),[3]RewardGroup!$B$1:$E$670,4,FALSE),5)),[4]RewardItemConfig!$B$1:$C$1176,2,FALSE)","v":{"$error":"#VALUE!"}},{"$f":"VLOOKUP(VALUE(LEFT(VLOOKUP(VALUE(LEFT(LevelDifficultyConfig!L20,4)),[3]RewardGroup!$B$1:$E$670,4,FALSE),5)),[4]RewardItemConfig!$B$1:$C$1176,2,FALSE)","v":3},{"$f":"VLOOKUP(VALUE(RIGHT(VLOOKUP(VALUE(LEFT(LevelDifficultyConfig!L20,4)),[3]RewardGroup!$B$1:$E$670,4,FALSE),5)),[4]RewardItemConfig!$B$1:$C$1176,2,FALSE)","v":14},{"$error":"#VALUE!"},null,null,"11036#1|14#140|3#14"]
[null,3041,"简单-3-4",8,"4014#3014",{"$f":"VLOOKUP(VALUE(LEFT(VLOOKUP(VALUE(RIGHT(LevelDifficultyConfig!L21,4)),[3]RewardGroup!$B$1:$E$670,4,FALSE),5)),[4]RewardItemConfig!$B$1:$C$1176,2,FALSE)","v":{"$error":"#VALUE!"}},{"$f":"VLOOKUP(VALUE(RIGHT(VLOOKUP(VALUE(RIGHT(LevelDifficultyConfig!L21,4)),[3]RewardGroup!$B$1:$E$670,4,FALSE),5)),[4]RewardItemConfig!$B$1:$C$1176,2,FALSE)","v":{"$error":"#VALUE!"}},{"$f":"VLOOKUP(VALUE(LEFT(VLOOKUP(VALUE(LEFT(LevelDifficultyConfig!L21,4)),[3]RewardGroup!$B$1:$E$670,4,FALSE),5)),[4]RewardItemConfig!$B$1:$C$1176,2,FALSE)","v":3},{"$f":"VLOOKUP(VALUE(RIGHT(VLOOKUP(VALUE(LEFT(LevelDifficultyConfig!L21,4)),[3]RewardGroup!$B$1:$E$670,4,FALSE),5)),[4]RewardItemConfig!$B$1:$C$1176,2,FALSE)","v":14},{"$error":"#VALUE!"},null,null,"11037#1|14#140|3#14"]
[null,3051,"简单-3-5",8,"4015#3015",{"$f":"VLOOKUP(VALUE(LEFT(VLOOKUP(VALUE(RIGHT(LevelDifficultyConfig!L22,4)),[3]RewardGroup!$B$1:$E$670,4,FALSE),5)),[4]RewardItemConfig!$B$1:$C$1176,2,FALSE)","v":{"$error":"#VALUE!"}},{"$f":"VLOOKUP(VALUE(RIGHT(VLOOKUP(VALUE(RIGHT(LevelDifficultyConfig!L22,4)),[3]RewardGroup!$B$1:$E$670,4,FALSE),5)),[4]RewardItemConfig!$B$1:$C$1176,2,FALSE)","v":{"$error":"#VALUE!"}},{"$f":"VLOOKUP(VALUE(LEFT(VLOOKUP(VALUE(LEFT(LevelDifficultyConfig!L22,4)),[3]RewardGroup!$B$1:$E$670,4,FALSE),5)),[4]RewardItemConfig!$B$1:$C$1176,2,FALSE)","v":3},{"$f":"VLOOKUP(VALUE(RIGHT(VLOOKUP(VALUE(LEFT(LevelDifficultyConfig!L22,4)),[3]RewardGroup!$B$1:$E$670,4,FALSE),5)),[4]RewardItemConfig!$B$1:$C$1176,2,FALSE)","v":14},{"$error":"#VALUE!"},null,null,"11038#1|14#140|3#14"]
[null,4011,"简单-4-1",8,"4016#3016",{"$f":"VLOOKUP(VALUE(LEFT(VLOOKUP(VALUE(RIGHT(LevelDifficultyConfig!L23,4)),[3]RewardGroup!$B$1:$E$670,4,FALSE),5)),[4]RewardItemConfig!$B$1:$C$1176,2,FALSE)","v":{"$error":"#VALUE!"}},{"$f":"VLOOKUP(VALUE(RIGHT(VLOOKUP(VALUE(RIGHT(LevelDifficultyConfig!L23,4)),[3]RewardGroup!$B$1:$E$670,4,FALSE),5)),[4]RewardItemConfig!$B$1:$C$1176,2,FALSE)","v":{"$error":"#VALUE!"}},{"$f":"VLOOKUP(VALUE(LEFT(VLOOKUP(VALUE(LEFT(LevelDifficultyConfig!L23,4)),[3]RewardGroup!$B$1:$E$670,4,FALSE),5)),[4]RewardItemConfig!$B$1:$C$1176,2,FALSE)","v":3},{"$f":"VLOOKUP(VALUE(RIGHT(VLOOKUP(VALUE(LEFT(LevelDifficultyConfig!L23,4)),[3]RewardGroup!$B$1:$E$670,4,FALSE),5)),[4]RewardItemConfig!$B$1:$C$1176,2,FALSE)","v":14},{"$f":"I23&\"#1|\"&G23&\"#160|\"&F23&\"#16\"","v":{"$error":"#VALUE!"}},null,null,"11039#1|14#160|3#16"]
[null,4021,"简单-4-2",8,"4017#3017",{"$f":"VLOOKUP(VALUE(LEFT(VLOOKUP(VALUE(RIGHT(LevelDifficultyConfig!L24,4)),[3]RewardGroup!$B$1:$E$670,4,FALSE),5)),[4]RewardItemConfig!$B$1:$C$1176,2,FALSE)","v":{"$error":"#VALUE!"}},{"$f":"VLOOKUP(VALUE(RIGHT(VLOOKUP(VALUE(RIGHT(LevelDifficultyConfig!L24,4)),[3]RewardGroup!$B$1:$E$670,4,FALSE),5)),[4]RewardItemConfig!$B$1:$C$1176,2,FALSE)","v":{"$error":"#VALUE!"}},{"$f":"VLOOKUP(VALUE(LEFT(VLOOKUP(VALUE(LEFT(LevelDifficultyConfig!L24,4)),[3]RewardGroup!$B$1:$E$670,4,FALSE),5)),[4]RewardItemConfig!$B$1:$C$1176,2,FALSE)","v":3},{"$f":"VLOOKUP(VALUE(RIGHT(VLOOKUP(VALUE(LEFT(LevelDifficultyConfig!L24,4)),[3]RewardGroup!$B$1:$E$670,4,FALSE),5)),[4]RewardItemConfig!$B$1:$C$1176,2,FALSE)","v":14},{"$f":"I24&\"#1|\"&G24&\"#160|\"&F24&\"#16\"","v":{"$error":"#VALUE!"}},null,null,"11040#1|14#160|3#16"]
[null,4031,"简单-4-3",8,"4018#3018",{"$f":"VLOOKUP(VALUE(LEFT(VLOOKUP(VALUE(RIGHT(LevelDifficultyConfig!L25,4)),[3]RewardGroup!$B$1:$E$670,4,FALSE),5)),[4]RewardItemConfig!$B$1:$C$1176,2,FALSE)","v":{"$error":"#VALUE!"}},{"$f":"VLOOKUP(VALUE(RIGHT(VLOOKUP(VALUE(RIGHT(LevelDifficultyConfig!L25,4)),[3]RewardGroup!$B$1:$E$670,4,FALSE),5)),[4]RewardItemConfig!$B$1:$C$1176,2,FALSE)","v":{"$error":"#VALUE!"}},{"$f":"VLOOKUP(VALUE(LEFT(VLOOKUP(VALUE(LEFT(LevelDifficultyConfig!L25,4)),[3]RewardGroup!$B$1:$E$670,4,FALSE),5)),[4]RewardItemConfig!$B$1:$C$1176,2,FALSE)","v":3},{"$f":"VLOOKUP(VALUE(RIGHT(VLOOKUP(VALUE(LEFT(LevelDifficultyConfig!L25,4)),[3]RewardGroup!$B$1:$E$670,4,FALSE),5)),[4]RewardItemConfig!$B$1:$C$1176,2,FALSE)","v":14},{"$error":"#VALUE!"},null,null,"11041#1|14#160|3#16"]
[null,4041,"简单-4-4",8,"4019#3019",{"$f":"VLOOKUP(VALUE(LEFT(VLOOKUP(VALUE(RIGHT(LevelDifficultyConfig!L26,4)),[3]RewardGroup!$B$1:$E$670,4,FALSE),5)),[4]RewardItemConfig!$B$1:$C$1176,2,FALSE)","v":{"$error":"#VALUE!"}},{"$f":"VLOOKUP(VALUE(RIGHT(VLOOKUP(VALUE(RIGHT(LevelDifficultyConfig!L26,4)),[3]RewardGroup!$B$1:$E$670,4,FALSE),5)),[4]RewardItemConfig!$B$1:$C$1176,2,FALSE)","v":{"$error":"#VALUE!"}},{"$f":"VLOOKUP(VALUE(LEFT(VLOOKUP(VALUE(LEFT(LevelDifficultyConfig!L26,4)),[3]RewardGroup!$B$1:$E$670,4,FALSE),5)),[4]RewardItemConfig!$B$1:$C$1176,2,FALSE)","v":3},{"$f":"VLOOKUP(VALUE(RIGHT(VLOOKUP(VALUE(LEFT(LevelDifficultyConfig!L26,4)),[3]RewardGroup!$B$1:$E$670,4,FALSE),5)),[4]RewardItemConfig!$B$1:$C$1176,2,FALSE)","v":14},{"$error":"#VALUE!"},null,null,"11042#1|14#160|3#16"]
[null,4051,"简单-4-5",8,"4020#3020",{"$f":"VLOOKUP(VALUE(LEFT(VLOOKUP(VALUE(RIGHT(LevelDifficultyConfig!L27,4)),[3]RewardGroup!$B$1:$E$670,4,FALSE),5)),[4]RewardItemConfig!$B$1:$C$1176,2,FALSE)","v":{"$error":"#VALUE!"}},{"$f":"VLOOKUP(VALUE(RIGHT(VLOOKUP(VALUE(RIGHT(LevelDifficultyConfig!L27,4)),[3]RewardGroup!$B$1:$E$670,4,FALSE),5)),[4]RewardItemConfig!$B$1:$C$1176,2,FALSE)","v":{"$error":"#VALUE!"}},{"$f":"VLOOKUP(VALUE(LEFT(VLOOKUP(VALUE(LEFT(LevelDifficultyConfig!L27,4)),[3]RewardGroup!$B$1:$E$670,4,FALSE),5)),[4]RewardItemConfig!$B$1:$C$1176,2,FALSE)","v":3},{"$f":"VLOOKUP(VALUE(RIGHT(VLOOKUP(VALUE(LEFT(LevelDifficultyConfig!L27,4)),[3]RewardGroup!$B$1:$E$670,4,FALSE),5)),[4]RewardItemConfig!$B$1:$C$1176,2,FALSE)","v":14},{"$error":"#VALUE!"},null,null,"11043#1|14#160|3#16"]
[null,5011,"简单-5-1",8,"4021#3021",{"$f":"VLOOKUP(VALUE(LEFT(VLOOKUP(VALUE(RIGHT(LevelDifficultyConfig!L28,4)),[3]RewardGroup!$B$1:$E$670,4,FALSE),5)),[4]RewardItemConfig!$B$1:$C$1176,2,FALSE)","v":{"$error":"#N/A"}},{"$f":"VLOOKUP(VALUE(RIGHT(VLOOKUP(VALUE(RIGHT(LevelDifficultyConfig!L28,4)),[3]RewardGroup!$B$1:$E$670,4,FALSE),5)),[4]RewardItemConfig!$B$1:$C$1176,2,FALSE)","v":{"$error":"#N/A"}},{"$f":"VLOOKUP(VALUE(LEFT(VLOOKUP(VALUE(LEFT(LevelDifficultyConfig!L28,4)),[3]RewardGroup!$B$1:$E$670,4,FALSE),5)),[4]RewardItemConfig!$B$1:$C$1176,2,FALSE)","v":3},{"$f":"VLOOKUP(VALUE(RIGHT(VLOOKUP(VALUE(LEFT(LevelDifficultyConfig!L28,4)),[3]RewardGroup!$B$1:$E$670,4,FALSE),5)),[4]RewardItemConfig!$B$1:$C$1176,2,FALSE)","v":14},{"$f":"I28&\"#1|\"&G28&\"#180|\"&F28&\"#18\"","v":{"$error":"#N/A"}},null,null,"11044#1|14#180|3#18"]
[null,5021,"简单-5-2",8,"4022#3022",{"$f":"VLOOKUP(VALUE(LEFT(VLOOKUP(VALUE(RIGHT(LevelDifficultyConfig!L29,4)),[3]RewardGroup!$B$1:$E$670,4,FALSE),5)),[4]RewardItemConfig!$B$1:$C$1176,2,FALSE)","v":{"$error":"#N/A"}},{"$f":"VLOOKUP(VALUE(RIGHT(VLOOKUP(VALUE(RIGHT(LevelDifficultyConfig!L29,4)),[3]RewardGroup!$B$1:$E$670,4,FALSE),5)),[4]RewardItemConfig!$B$1:$C$1176,2,FALSE)","v":{"$error":"#N/A"}},{"$f":"VLOOKUP(VALUE(LEFT(VLOOKUP(VALUE(LEFT(LevelDifficultyConfig!L29,4)),[3]RewardGroup!$B$1:$E$670,4,FALSE),5)),[4]RewardItemConfig!$B$1:$C$1176,2,FALSE)","v":3},{"$f":"VLOOKUP(VALUE(RIGHT(VLOOKUP(VALUE(LEFT(LevelDifficultyConfig!L29,4)),[3]RewardGroup!$B$1:$E$670,4,FALSE),5)),[4]RewardItemConfig!$B$1:$C$1176,2,FALSE)","v":14},{"$f":"I29&\"#1|\"&G29&\"#180|\"&F29&\"#18\"","v":{"$error":"#N/A"}},null,null,"11045#1|14#180|3#18"]
[null,5031,"简单-5-3",8,"4023#3023",{"$f":"VLOOKUP(VALUE(LEFT(VLOOKUP(VALUE(RIGHT(LevelDifficultyConfig!L30,4)),[3]RewardGroup!$B$1:$E$670,4,FALSE),5)),[4]RewardItemConfig!$B$1:$C$1176,2,FALSE)","v":{"$error":"#N/A"}},{"$f":"VLOOKUP(VALUE(RIGHT(VLOOKUP(VALUE(RIGHT(LevelDifficultyConfig!L30,4)),[3]RewardGroup!$B$1:$E$670,4,FALSE),5)),[4]RewardItemConfig!$B$1:$C$1176,2,FALSE)","v":{"$error":"#N/A"}},{"$f":"VLOOKUP(VALUE(LEFT(VLOOKUP(VALUE(LEFT(LevelDifficultyConfig!L30,4)),[3]RewardGroup!$B$1:$E$670,4,FALSE),5)),[4]RewardItemConfig!$B$1:$C$1176,2,FALSE)","v":3},{"$f":"VLOOKUP(VALUE(RIGHT(VLOOKUP(VALUE(LEFT(LevelDifficultyConfig!L30,4)),[3]RewardGroup!$B$1:$E$670,4,FALSE),5)),[4]RewardItemConfig!$B$1:$C$1176,2,FALSE)","v":14},{"$error":"#N/A"},null,null,"11046#1|14#180|3#18"]
[null,5041,"简单-5-4",8,"4024#3024",{"$f":"VLOOKUP(VALUE(LEFT(VLOOKUP(VALUE(RIGHT(LevelDifficultyConfig!L31,4)),[3]RewardGroup!$B$1:$E$670,4,FALSE),5)),[4]RewardItemConfig!$B$1:$C$1176,2,FALSE)","v":{"$error":"#N/A"}},{"$f":"VLOOKUP(VALUE(RIGHT(VLOOKUP(VALUE(RIGHT(LevelDifficultyConfig!L31,4)),[3]RewardGroup!$B$1:$E$670,4,FALSE),5)),[4]RewardItemConfig!$B$1:$C$1176,2,FALSE)","v":{"$error":"#N/A"}},{"$f":"VLOOKUP(VALUE(LEFT(VLOOKUP(VALUE(LEFT(LevelDifficultyConfig!L31,4)),[3]RewardGroup!$B$1:$E$670,4,FALSE),5)),[4]RewardItemConfig!$B$1:$C$1176,2,FALSE)","v":3},{"$f":"VLOOKUP(VALUE(RIGHT(VLOOKUP(VALUE(LEFT(LevelDifficultyConfig!L31,4)),[3]RewardGroup!$B$1:$E$670,4,FALSE),5)),[4]RewardItemConfig!$B$1:$C$1176,2,FALSE)","v":14},{"$error":"#N/A"},null,null,"11002#1|14#180|3#18"]
[null,5051,"简单-5-5",8,"4025#3025",{"$f":"VLOOKUP(VALUE(LEFT(VLOOKUP(VALUE(RIGHT(LevelDifficultyConfig!L32,4)),[3]RewardGroup!$B$1:$E$670,4,FALSE),5)),[4]RewardItemConfig!$B$1:$C$1176,2,FALSE)","v":{"$error":"#N/A"}},{"$f":"VLOOKUP(VALUE(RIGHT(VLOOKUP(VALUE(RIGHT(LevelDifficultyConfig!L32,4)),[3]RewardGroup!$B$1:$E$670,4,FALSE),5)),[4]RewardItemConfig!$B$1:$C$1176,2,FALSE)","v":{"$error":"#N/A"}},{"$f":"VLOOKUP(VALUE(LEFT(VLOOKUP(VALUE(LEFT(LevelDifficultyConfig!L32,4)),[3]RewardGroup!$B$1:$E$670,4,FALSE),5)),[4]RewardItemConfig!$B$1:$C$1176,2,FALSE)","v":3},{"$f":"VLOOKUP(VALUE(RIGHT(VLOOKUP(VALUE(LEFT(LevelDifficultyConfig!L32,4)),[3]RewardGroup!$B$1:$E$670,4,FALSE),5)),[4]RewardItemConfig!$B$1:$C$1176,2,FALSE)","v":14},{"$error":"#N/A"},null,null,"11003#1|14#180|3#18"]
[null,6011,"简单-6-1",8,"4026#3026",{"$f":"VLOOKUP(VALUE(LEFT(VLOOKUP(VALUE(RIGHT(LevelDifficultyConfig!L33,4)),[3]RewardGroup!$B$1:$E$670,4,FALSE),5)),[4]RewardItemConfig!$B$1:$C$1176,2,FALSE)","v":{"$error":"#N/A"}},{"$f":"VLOOKUP(VALUE(RIGHT(VLOOKUP(VALUE(RIGHT(LevelDifficultyConfig!L33,4)),[3]RewardGroup!$B$1:$E$670,4,FALSE),5)),[4]RewardItemConfig!$B$1:$C$1176,2,FALSE)","v":{"$error":"#N/A"}},{"$f":"VLOOKUP(VALUE(LEFT(VLOOKUP(VALUE(LEFT(LevelDifficultyConfig!L33,4)),[3]RewardGroup!$B$1:$E$670,4,FALSE),5)),[4]RewardItemConfig!$B$1:$C$1176,2,FALSE)","v":3},{"$f":"VLOOKUP(VALUE(RIGHT(VLOOKUP(VALUE(LEFT(LevelDifficultyConfig!L33,4)),[3]RewardGroup!$B$1:$E$670,4,FALSE),5)),[4]RewardItemConfig!$B$1:$C$1176,2,FALSE)","v":14},{"$f":"I33&\"#1|\"&G33&\"#200|\"&F33&\"#20\"","v":{"$error":"#N/A"}},null,null,"11005#1|14#200|3#20"]
[null,6021,"简单-6-2",8,"4027#3027",{"$f":"VLOOKUP(VALUE(LEFT(VLOOKUP(VALUE(RIGHT(LevelDifficultyConfig!L34,4)),[3]RewardGroup!$B$1:$E$670,4,FALSE),5)),[4]RewardItemConfig!$B$1:$C$1176,2,FALSE)","v":{"$error":"#N/A"}},{"$f":"VLOOKUP(VALUE(RIGHT(VLOOKUP(VALUE(RIGHT(LevelDifficultyConfig!L34,4)),[3]RewardGroup!$B$1:$E$670,4,FALSE),5)),[4]RewardItemConfig!$B$1:$C$1176,2,FALSE)","v":{"$error":"#N/A"}},{"$f":"VLOOKUP(VALUE(LEFT(VLOOKUP(VALUE(LEFT(LevelDifficultyConfig!L34,4)),[3]RewardGroup!$B$1:$E$670,4,FALSE),5)),[4]RewardItemConfig!$B$1:$C$1176,2,FALSE)","v":3},{"$f":"VLOOKUP(VALUE(RIGHT(VLOOKUP(VALUE(LEFT(LevelDifficultyConfig!L34,4)),[3]RewardGroup!$B$1:$E$670,4,FALSE),5)),[4]RewardItemConfig!$B$1:$C$1176,2,FALSE)","v":14},{"$f":"I34&\"#1|\"&G34&\"#200|\"&F34&\"#20\"","v":{"$error":"#N/A"}},null,null,"11006#1|14#200|3#20"]
[null,6031,"简单-6-3",8,"4028#3028",{"$f":"VLOOKUP(VALUE(LEFT(VLOOKUP(VALUE(RIGHT(LevelDifficultyConfig!L35,4)),[3]RewardGroup!$B$1:$E$670,4,FALSE),5)),[4]RewardItemConfig!$B$1:$C$1176,2,FALSE)","v":{"$error":"#N/A"}},{"$f":"VLOOKUP(VALUE(RIGHT(VLOOKUP(VALUE(RIGHT(LevelDifficultyConfig!L35,4)),[3]RewardGroup!$B$1:$E$670,4,FALSE),5)),[4]RewardItemConfig!$B$1:$C$1176,2,FALSE)","v":{"$error":"#N/A"}},{"$f":"VLOOKUP(VALUE(LEFT(VLOOKUP(VALUE(LEFT(LevelDifficultyConfig!L35,4)),[3]RewardGroup!$B$1:$E$670,4,FALSE),5)),[4]RewardItemConfig!$B$1:$C$1176,2,FALSE)","v":3},{"$f":"VLOOKUP(VALUE(RIGHT(VLOOKUP(VALUE(LEFT(LevelDifficultyConfig!L35,4)),[3]RewardGroup!$B$1:$E$670,4,FALSE),5)),[4]RewardItemConfig!$B$1:$C$1176,2,FALSE)","v":14},{"$error":"#N/A"},null,null,"11007#1|14#200|3#20"]
[null,6041,"简单-6-4",8,"4029#3029",{"$f":"VLOOKUP(VALUE(LEFT(VLOOKUP(VALUE(RIGHT(LevelDifficultyConfig!L36,4)),[3]RewardGroup!$B$1:$E$670,4,FALSE),5)),[4]RewardItemConfig!$B$1:$C$1176,2,FALSE)","v":{"$error":"#N/A"}},{"$f":"VLOOKUP(VALUE(RIGHT(VLOOKUP(VALUE(RIGHT(LevelDifficultyConfig!L36,4)),[3]RewardGroup!$B$1:$E$670,4,FALSE),5)),[4]RewardItemConfig!$B$1:$C$1176,2,FALSE)","v":{"$error":"#N/A"}},{"$f":"VLOOKUP(VALUE(LEFT(VLOOKUP(VALUE(LEFT(LevelDifficultyConfig!L36,4)),[3]RewardGroup!$B$1:$E$670,4,FALSE),5)),[4]RewardItemConfig!$B$1:$C$1176,2,FALSE)","v":3},{"$f":"VLOOKUP(VALUE(RIGHT(VLOOKUP(VALUE(LEFT(LevelDifficultyConfig!L36,4)),[3]RewardGroup!$B$1:$E$670,4,FALSE),5)),[4]RewardItemConfig!$B$1:$C$1176,2,FALSE)","v":14},{"$error":"#N/A"},null,null,"11009#1|14#200|3#20"]
[null,6051,"简单-6-5",8,"4030#3030",{"$f":"VLOOKUP(VALUE(LEFT(VLOOKUP(VALUE(RIGHT(LevelDifficultyConfig!L37,4)),[3]RewardGroup!$B$1:$E$670,4,FALSE),5)),[4]RewardItemConfig!$B$1:$C$1176,2,FALSE)","v":{"$error":"#N/A"}},{"$f":"VLOOKUP(VALUE(RIGHT(VLOOKUP(VALUE(RIGHT(LevelDifficultyConfig!L37,4)),[3]RewardGroup!$B$1:$E$670,4,FALSE),5)),[4]RewardItemConfig!$B$1:$C$1176,2,FALSE)","v":{"$error":"#N/A"}},{"$f":"VLOOKUP(VALUE(LEFT(VLOOKUP(VALUE(LEFT(LevelDifficultyConfig!L37,4)),[3]RewardGroup!$B$1:$E$670,4,FALSE),5)),[4]RewardItemConfig!$B$1:$C$1176,2,FALSE)","v":3},{"$f":"VLOOKUP(VALUE(RIGHT(VLOOKUP(VALUE(LEFT(LevelDifficultyConfig!L37,4)),[3]RewardGroup!$B$1:$E$670,4,FALSE),5)),[4]RewardItemConfig!$B$1:$C$1176,2,FALSE)","v":14},{"$error":"#N/A"},null,null,"11010#1|14#200|3#20"]
[null,7011,"简单-7-1",8,"4031#3031",{"$f":"VLOOKUP(VALUE(LEFT(VLOOKUP(VALUE(RIGHT(LevelDifficultyConfig!L38,4)),[3]RewardGroup!$B$1:$E$670,4,FALSE),5)),[4]RewardItemConfig!$B$1:$C$1176,2,FALSE)","v":{"$error":"#N/A"}},{"$f":"VLOOKUP(VALUE(RIGHT(VLOOKUP(VALUE(RIGHT(LevelDifficultyConfig!L38,4)),[3]RewardGroup!$B$1:$E$670,4,FALSE),5)),[4]RewardItemConfig!$B$1:$C$1176,2,FALSE)","v":{"$error":"#N/A"}},{"$f":"VLOOKUP(VALUE(LEFT(VLOOKUP(VALUE(LEFT(LevelDifficultyConfig!L38,4)),[3]RewardGroup!$B$1:$E$670,4,FALSE),5)),[4]RewardItemConfig!$B$1:$C$1176,2,FALSE)","v":3},{"$f":"VLOOKUP(VALUE(RIGHT(VLOOKUP(VALUE(LEFT(LevelDifficultyConfig!L38,4)),[3]RewardGroup!$B$1:$E$670,4,FALSE),5)),[4]RewardItemConfig!$B$1:$C$1176,2,FALSE)","v":14},{"$f":"I38&\"#1|\"&G38&\"#220|\"&F38&\"#22\"","v":{"$error":"#N/A"}},null,null,"11011#1|14#220|3#22"]
[null,7021,"简单-7-2",8,"4032#3032",{"$f":"VLOOKUP(VALUE(LEFT(VLOOKUP(VALUE(RIGHT(LevelDifficultyConfig!L39,4)),[3]RewardGroup!$B$1:$E$670,4,FALSE),5)),[4]RewardItemConfig!$B$1:$C$1176,2,FALSE)","v":{"$error":"#N/A"}},{"$f":"VLOOKUP(VALUE(RIGHT(VLOOKUP(VALUE(RIGHT(LevelDifficultyConfig!L39,4)),[3]RewardGroup!$B$1:$E$670,4,FALSE),5)),[4]RewardItemConfig!$B$1:$C$1176,2,FALSE)","v":{"$error":"#N/A"}},{"$f":"VLOOKUP(VALUE(LEFT(VLOOKUP(VALUE(LEFT(LevelDifficultyConfig!L39,4)),[3]RewardGroup!$B$1:$E$670,4,FALSE),5)),[4]RewardItemConfig!$B$1:$C$1176,2,FALSE)","v":3},{"$f":"VLOOKUP(VALUE(RIGHT(VLOOKUP(VALUE(LEFT(LevelDifficultyConfig!L39,4)),[3]RewardGroup!$B$1:$E$670,4,FALSE),5)),[4]RewardItemConfig!$B$1:$C$1176,2,FALSE)","v":14},{"$f":"I39&\"#1|\"&G39&\"#220|\"&F39&\"#22\"","v":{"$error":"#N/A"}},null,null,"11013#1|14#220|3#22"]
[null,7031,"简单-7-3",8,"4033#3033",{"$f":"VLOOKUP(VALUE(LEFT(VLOOKUP(VALUE(RIGHT(LevelDifficultyConfig!L40,4)),[3]RewardGroup!$B$1:$E$670,4,FALSE),5)),[4]RewardItemConfig!$B$1:$C$1176,2,FALSE)","v":{"$error":"#N/A"}},{"$f":"VLOOKUP(VALUE(RIGHT(VLOOKUP(VALUE(RIGHT(LevelDifficultyConfig!L40,4)),[3]RewardGroup!$B$1:$E$670,4,FALSE),5)),[4]RewardItemConfig!$B$1:$C$1176,2,FALSE)","v":{"$error":"#N/A"}},{"$f":"VLOOKUP(VALUE(LEFT(VLOOKUP(VALUE(LEFT(LevelDifficultyConfig!L40,4)),[3]RewardGroup!$B$1:$E$670,4,FALSE),5)),[4]RewardItemConfig!$B$1:$C$1176,2,FALSE)","v":3},{"$f":"VLOOKUP(VALUE(RIGHT(VLOOKUP(VALUE(LEFT(LevelDifficultyConfig!L40,4)),[3]RewardGroup!$B$1:$E$670,4,FALSE),5)),[4]RewardItemConfig!$B$1:$C$1176,2,FALSE)","v":14},{"$error":"#N/A"},null,null,"11019#1|14#220|3#22"]
[null,7041,"简单-7-4",8,"4034#3034",{"$f":"VLOOKUP(VALUE(LEFT(VLOOKUP(VALUE(RIGHT(LevelDifficultyConfig!L41,4)),[3]RewardGroup!$B$1:$E$670,4,FALSE),5)),[4]RewardItemConfig!$B$1:$C$1176,2,FALSE)","v":{"$error":"#N/A"}},{"$f":"VLOOKUP(VALUE(RIGHT(VLOOKUP(VALUE(RIGHT(LevelDifficultyConfig!L41,4)),[3]RewardGroup!$B$1:$E$670,4,FALSE),5)),[4]RewardItemConfig!$B$1:$C$1176,2,FALSE)","v":{"$error":"#N/A"}},{"$f":"VLOOKUP(VALUE(LEFT(VLOOKUP(VALUE(LEFT(LevelDifficultyConfig!L41,4)),[3]RewardGroup!$B$1:$E$670,4,FALSE),5)),[4]RewardItemConfig!$B$1:$C$1176,2,FALSE)","v":3},{"$f":"VLOOKUP(VALUE(RIGHT(VLOOKUP(VALUE(LEFT(LevelDifficultyConfig!L41,4)),[3]RewardGroup!$B$1:$E$670,4,FALSE),5)),[4]RewardItemConfig!$B$1:$C$1176,2,FALSE)","v":14},{"$error":"#N/A"},null,null,"11020#1|14#220|3#22"]
[null,7051,"简单-7-5",8,"4035#3035",{"$f":"VLOOKUP(VALUE(LEFT(VLOOKUP(VALUE(RIGHT(LevelDifficultyConfig!L42,4)),[3]RewardGroup!$B$1:$E$670,4,FALSE),5)),[4]RewardItemConfig!$B$1:$C$1176,2,FALSE)","v":{"$error":"#N/A"}},{"$f":"VLOOKUP(VALUE(RIGHT(VLOOKUP(VALUE(RIGHT(LevelDifficultyConfig!L42,4)),[3]RewardGroup!$B$1:$E$670,4,FALSE),5)),[4]RewardItemConfig!$B$1:$C$1176,2,FALSE)","v":{"$error":"#N/A"}},{"$f":"VLOOKUP(VALUE(LEFT(VLOOKUP(VALUE(LEFT(LevelDifficultyConfig!L42,4)),[3]RewardGroup!$B$1:$E$670,4,FALSE),5)),[4]RewardItemConfig!$B$1:$C$1176,2,FALSE)","v":3},{"$f":"VLOOKUP(VALUE(RIGHT(VLOOKUP(VALUE(LEFT(LevelDifficultyConfig!L42,4)),[3]RewardGroup!$B$1:$E$670,4,FALSE),5)),[4]RewardItemConfig!$B$1:$C$1176,2,FALSE)","v":14},{"$error":"#N/A"},null,null,"11021#1|14#220|3#22"]
[null,8011,"简单-8-1",8,"4036#3036",{"$f":"VLOOKUP(VALUE(LEFT(VLOOKUP(VALUE(RIGHT(LevelDifficultyConfig!L43,4)),[3]RewardGroup!$B$1:$E$670,4,FALSE),5)),[4]RewardItemConfig!$B$1:$C$1176,2,FALSE)","v":{"$error":"#N/A"}},{"$f":"VLOOKUP(VALUE(RIGHT(VLOOKUP(VALUE(RIGHT(LevelDifficultyConfig!L43,4)),[3]RewardGroup!$B$1:$E$670,4,FALSE),5)),[4]RewardItemConfig!$B$1:$C$1176,2,FALSE)","v":{"$error":"#N/A"}},{"$f":"VLOOKUP(VALUE(LEFT(VLOOKUP(VALUE(LEFT(LevelDifficultyConfig!L43,4)),[3]RewardGroup!$B$1:$E$670,4,FALSE),5)),[4]RewardItemConfig!$B$1:$C$1176,2,FALSE)","v":3},{"$f":"VLOOKUP(VALUE(RIGHT(VLOOKUP(VALUE(LEFT(LevelDifficultyConfig!L43,4)),[3]RewardGroup!$B$1:$E$670,4,FALSE),5)),[4]RewardItemConfig!$B$1:$C$1176,2,FALSE)","v":14},{"$f":"I43&\"#1|\"&G43&\"#240|\"&F43&\"#24\"","v":{"$error":"#N/A"}},null,null,"11022#1|14#240|3#24"]
[null,8021,"简单-8-2",8,"4037#3037",{"$f":"VLOOKUP(VALUE(LEFT(VLOOKUP(VALUE(RIGHT(LevelDifficultyConfig!L44,4)),[3]RewardGroup!$B$1:$E$670,4,FALSE),5)),[4]RewardItemConfig!$B$1:$C$1176,2,FALSE)","v":{"$error":"#N/A"}},{"$f":"VLOOKUP(VALUE(RIGHT(VLOOKUP(VALUE(RIGHT(LevelDifficultyConfig!L44,4)),[3]RewardGroup!$B$1:$E$670,4,FALSE),5)),[4]RewardItemConfig!$B$1:$C$1176,2,FALSE)","v":{"$error":"#N/A"}},{"$f":"VLOOKUP(VALUE(LEFT(VLOOKUP(VALUE(LEFT(LevelDifficultyConfig!L44,4)),[3]RewardGroup!$B$1:$E$670,4,FALSE),5)),[4]RewardItemConfig!$B$1:$C$1176,2,FALSE)","v":3},{"$f":"VLOOKUP(VALUE(RIGHT(VLOOKUP(VALUE(LEFT(LevelDifficultyConfig!L44,4)),[3]RewardGroup!$B$1:$E$670,4,FALSE),5)),[4]RewardItemConfig!$B$1:$C$1176,2,FALSE)","v":14},{"$f":"I44&\"#1|\"&G44&\"#240|\"&F44&\"#24\"","v":{"$error":"#N/A"}},null,null,"11002#1|14#240|3#24"]
[null,8031,"简单-8-3",8,"4038#3038",{"$f":"VLOOKUP(VALUE(LEFT(VLOOKUP(VALUE(RIGHT(LevelDifficultyConfig!L45,4)),[3]RewardGroup!$B$1:$E$670,4,FALSE),5)),[4]RewardItemConfig!$B$1:$C$1176,2,FALSE)","v":{"$error":"#N/A"}},{"$f":"VLOOKUP(VALUE(RIGHT(VLOOKUP(VALUE(RIGHT(LevelDifficultyConfig!L45,4)),[3]RewardGroup!$B$1:$E$670,4,FALSE),5)),[4]RewardItemConfig!$B$1:$C$1176,2,FALSE)","v":{"$error":"#N/A"}},{"$f":"VLOOKUP(VALUE(LEFT(VLOOKUP(VALUE(LEFT(LevelDifficultyConfig!L45,4)),[3]RewardGroup!$B$1:$E$670,4,FALSE),5)),[4]RewardItemConfig!$B$1:$C$1176,2,FALSE)","v":3},{"$f":"VLOOKUP(VALUE(RIGHT(VLOOKUP(VALUE(LEFT(LevelDifficultyConfig!L45,4)),[3]RewardGroup!$B$1:$E$670,4,FALSE),5)),[4]RewardItemConfig!$B$1:$C$1176,2,FALSE)","v":14},{"$error":"#N/A"},null,null,"11003#1|14#240|3#24"]
[null,8041,"简单-8-4",8,"4039#3039",{"$f":"VLOOKUP(VALUE(LEFT(VLOOKUP(VALUE(RIGHT(LevelDifficultyConfig!L46,4)),[3]RewardGroup!$B$1:$E$670,4,FALSE),5)),[4]RewardItemConfig!$B$1:$C$1176,2,FALSE)","v":{"$error":"#N/A"}},{"$f":"VLOOKUP(VALUE(RIGHT(VLOOKUP(VALUE(RIGHT(LevelDifficultyConfig!L46,4)),[3]RewardGroup!$B$1:$E$670,4,FALSE),5)),[4]RewardItemConfig!$B$1:$C$1176,2,FALSE)","v":{"$error":"#N/A"}},{"$f":"VLOOKUP(VALUE(LEFT(VLOOKUP(VALUE(LEFT(LevelDifficultyConfig!L46,4)),[3]RewardGroup!$B$1:$E$670,4,FALSE),5)),[4]RewardItemConfig!$B$1:$C$1176,2,FALSE)","v":3},{"$f":"VLOOKUP(VALUE(RIGHT(VLOOKUP(VALUE(LEFT(LevelDifficultyConfig!L46,4)),[3]RewardGroup!$B$1:$E$670,4,FALSE),5)),[4]RewardItemConfig!$B$1:$C$1176,2,FALSE)","v":14},{"$error":"#N/A"},null,null,"11005#1|14#240|3#24"]
[null,8051,"简单-8-5",8,"4040#3040",{"$f":"VLOOKUP(VALUE(LEFT(VLOOKUP(VALUE(RIGHT(LevelDifficultyConfig!L47,4)),[3]RewardGroup!$B$1:$E$670,4,FALSE),5)),[4]RewardItemConfig!$B$1:$C$1176,2,FALSE)","v":{"$error":"#N/A"}},{"$f":"VLOOKUP(VALUE(RIGHT(VLOOKUP(VALUE(RIGHT(LevelDifficultyConfig!L47,4)),[3]RewardGroup!$B$1:$E$670,4,FALSE),5)),[4]RewardItemConfig!$B$1:$C$1176,2,FALSE)","v":{"$error":"#N/A"}},{"$f":"VLOOKUP(VALUE(LEFT(VLOOKUP(VALUE(LEFT(LevelDifficultyConfig!L47,4)),[3]RewardGroup!$B$1:$E$670,4,FALSE),5)),[4]RewardItemConfig!$B$1:$C$1176,2,FALSE)","v":3},{"$f":"VLOOKUP(VALUE(RIGHT(VLOOKUP(VALUE(LEFT(LevelDifficultyConfig!L47,4)),[3]RewardGroup!$B$1:$E$670,4,FALSE),5)),[4]RewardItemConfig!$B$1:$C$1176,2,FALSE)","v":14},{"$error":"#N/A"},null,null,"11006#1|14#240|3#24"]
[null,9011,"简单-9-1",8,"4041#3041",{"$f":"VLOOKUP(VALUE(LEFT(VLOOKUP(VALUE(RIGHT(LevelDifficultyConfig!L48,4)),[3]RewardGroup!$B$1:$E$670,4,FALSE),5)),[4]RewardItemConfig!$B$1:$C$1176,2,FALSE)","v":{"$error":"#N/A"}},{"$f":"VLOOKUP(VALUE(RIGHT(VLOOKUP(VALUE(RIGHT(LevelDifficultyConfig!L48,4)),[3]RewardGroup!$B$1:$E$670,4,FALSE),5)),[4]RewardItemConfig!$B$1:$C$1176,2,FALSE)","v":{"$error":"#N/A"}},{"$f":"VLOOKUP(VALUE(LEFT(VLOOKUP(VALUE(LEFT(LevelDifficultyConfig!L48,4)),[3]RewardGroup!$B$1:$E$670,4,FALSE),5)),[4]RewardItemConfig!$B$1:$C$1176,2,FALSE)","v":3},{"$f":"VLOOKUP(VALUE(RIGHT(VLOOKUP(VALUE(LEFT(LevelDifficultyConfig!L48,4)),[3]RewardGroup!$B$1:$E$670,4,FALSE),5)),[4]RewardItemConfig!$B$1:$C$1176,2,FALSE)","v":14},{"$f":"I48&\"#1|\"&G48&\"#260|\"&F48&\"#26\"","v":{"$error":"#N/A"}},null,null,"11007#1|14#260|3#26"]
[null,9021,"简单-9-2",8,"4042#3042",{"$f":"VLOOKUP(VALUE(LEFT(VLOOKUP(VALUE(RIGHT(LevelDifficultyConfig!L49,4)),[3]RewardGroup!$B$1:$E$670,4,FALSE),5)),[4]RewardItemConfig!$B$1:$C$1176,2,FALSE)","v":{"$error":"#N/A"}},{"$f":"VLOOKUP(VALUE(RIGHT(VLOOKUP(VALUE(RIGHT(LevelDifficultyConfig!L49,4)),[3]RewardGroup!$B$1:$E$670,4,FALSE),5)),[4]RewardItemConfig!$B$1:$C$1176,2,FALSE)","v":{"$error":"#N/A"}},{"$f":"VLOOKUP(VALUE(LEFT(VLOOKUP(VALUE(LEFT(LevelDifficultyConfig!L49,4)),[3]RewardGroup!$B$1:$E$670,4,FALSE),5)),[4]RewardItemConfig!$B$1:$C$1176,2,FALSE)","v":3},{"$f":"VLOOKUP(VALUE(RIGHT(VLOOKUP(VALUE(LEFT(LevelDifficultyConfig!L49,4)),[3]RewardGroup!$B$1:$E$670,4,FALSE),5)),[4]RewardItemConfig!$B$1:$C$1176,2,FALSE)","v":14},{"$f":"I49&\"#1|\"&G49&\"#260|\"&F49&\"#26\"","v":{"$error":"#N/A"}},null,null,"11009#1|14#260|3#26"]
[null,9031,"简单-9-3",8,"4043#3043",{"$f":"VLOOKUP(VALUE(LEFT(VLOOKUP(VALUE(RIGHT(LevelDifficultyConfig!L50,4)),[3]RewardGroup!$B$1:$E$670,4,FALSE),5)),[4]RewardItemConfig!$B$1:$C$1176,2,FALSE)","v":{"$error":"#N/A"}},{"$f":"VLOOKUP(VALUE(RIGHT(VLOOKUP(VALUE(RIGHT(LevelDifficultyConfig!L50,4)),[3]RewardGroup!$B$1:$E$670,4,FALSE),5)),[4]RewardItemConfig!$B$1:$C$1176,2,FALSE)","v":{"$error":"#N/A"}},{"$f":"VLOOKUP(VALUE(LEFT(VLOOKUP(VALUE(LEFT(LevelDifficultyConfig!L50,4)),[3]RewardGroup!$B$1:$E$670,4,FALSE),5)),[4]RewardItemConfig!$B$1:$C$1176,2,FALSE)","v":3},{"$f":"VLOOKUP(VALUE(RIGHT(VLOOKUP(VALUE(LEFT(LevelDifficultyConfig!L50,4)),[3]RewardGroup!$B$1:$E$670,4,FALSE),5)),[4]RewardItemConfig!$B$1:$C$1176,2,FALSE)","v":14},{"$error":"#N/A"},null,null,"11010#1|14#260|3#26"]
[null,9041,"简单-9-4",8,"4044#3044",{"$f":"VLOOKUP(VALUE(LEFT(VLOOKUP(VALUE(RIGHT(LevelDifficultyConfig!L51,4)),[3]RewardGroup!$B$1:$E$670,4,FALSE),5)),[4]RewardItemConfig!$B$1:$C$1176,2,FALSE)","v":{"$error":"#N/A"}},{"$f":"VLOOKUP(VALUE(RIGHT(VLOOKUP(VALUE(RIGHT(LevelDifficultyConfig!L51,4)),[3]RewardGroup!$B$1:$E$670,4,FALSE),5)),[4]RewardItemConfig!$B$1:$C$1176,2,FALSE)","v":{"$error":"#N/A"}},{"$f":"VLOOKUP(VALUE(LEFT(VLOOKUP(VALUE(LEFT(LevelDifficultyConfig!L51,4)),[3]RewardGroup!$B$1:$E$670,4,FALSE),5)),[4]RewardItemConfig!$B$1:$C$1176,2,FALSE)","v":3},{"$f":"VLOOKUP(VALUE(RIGHT(VLOOKUP(VALUE(LEFT(LevelDifficultyConfig!L51,4)),[3]RewardGroup!$B$1:$E$670,4,FALSE),5)),[4]RewardItemConfig!$B$1:$C$1176,2,FALSE)","v":14},{"$error":"#N/A"},null,null,"11011#1|14#260|3#26"]
[null,9051,"简单-9-5",8,"4045#3045",{"$f":"VLOOKUP(VALUE(LEFT(VLOOKUP(VALUE(RIGHT(LevelDifficultyConfig!L52,4)),[3]RewardGroup!$B$1:$E$670,4,FALSE),5)),[4]RewardItemConfig!$B$1:$C$1176,2,FALSE)","v":{"$error":"#N/A"}},{"$f":"VLOOKUP(VALUE(RIGHT(VLOOKUP(VALUE(RIGHT(LevelDifficultyConfig!L52,4)),[3]RewardGroup!$B$1:$E$670,4,FALSE),5)),[4]RewardItemConfig!$B$1:$C$1176,2,FALSE)","v":{"$error":"#N/A"}},{"$f":"VLOOKUP(VALUE(LEFT(VLOOKUP(VALUE(LEFT(LevelDifficultyConfig!L52,4)),[3]RewardGroup!$B$1:$E$670,4,FALSE),5)),[4]RewardItemConfig!$B$1:$C$1176,2,FALSE)","v":3},{"$f":"VLOOKUP(VALUE(RIGHT(VLOOKUP(VALUE(LEFT(LevelDifficultyConfig!L52,4)),[3]RewardGroup!$B$1:$E$670,4,FALSE),5)),[4]RewardItemConfig!$B$1:$C$1176,2,FALSE)","v":14},{"$error":"#N/A"},null,null,"11013#1|14#260|3#26"]
[null,10011,"简单-10-1",8,"4046#3046",{"$f":"VLOOKUP(VALUE(LEFT(VLOOKUP(VALUE(RIGHT(LevelDifficultyConfig!L53,4)),[3]RewardGroup!$B$1:$E$670,4,FALSE),5)),[4]RewardItemConfig!$B$1:$C$1176,2,FALSE)","v":{"$error":"#N/A"}},{"$f":"VLOOKUP(VALUE(RIGHT(VLOOKUP(VALUE(RIGHT(LevelDifficultyConfig!L53,4)),[3]RewardGroup!$B$1:$E$670,4,FALSE),5)),[4]RewardItemConfig!$B$1:$C$1176,2,FALSE)","v":{"$error":"#N/A"}},{"$f":"VLOOKUP(VALUE(LEFT(VLOOKUP(VALUE(LEFT(LevelDifficultyConfig!L53,4)),[3]RewardGroup!$B$1:$E$670,4,FALSE),5)),[4]RewardItemConfig!$B$1:$C$1176,2,FALSE)","v":3},{"$f":"VLOOKUP(VALUE(RIGHT(VLOOKUP(VALUE(LEFT(LevelDifficultyConfig!L53,4)),[3]RewardGroup!$B$1:$E$670,4,FALSE),5)),[4]RewardItemConfig!$B$1:$C$1176,2,FALSE)","v":14},{"$f":"I53&\"#1|\"&G53&\"#280|\"&F53&\"#28\"","v":{"$error":"#N/A"}},null,null,"11019#1|14#280|3#28"]
[null,10021,"简单-10-2",8,"4047#3047",{"$f":"VLOOKUP(VALUE(LEFT(VLOOKUP(VALUE(RIGHT(LevelDifficultyConfig!L54,4)),[3]RewardGroup!$B$1:$E$670,4,FALSE),5)),[4]RewardItemConfig!$B$1:$C$1176,2,FALSE)","v":{"$error":"#N/A"}},{"$f":"VLOOKUP(VALUE(RIGHT(VLOOKUP(VALUE(RIGHT(LevelDifficultyConfig!L54,4)),[3]RewardGroup!$B$1:$E$670,4,FALSE),5)),[4]RewardItemConfig!$B$1:$C$1176,2,FALSE)","v":{"$error":"#N/A"}},{"$f":"VLOOKUP(VALUE(LEFT(VLOOKUP(VALUE(LEFT(LevelDifficultyConfig!L54,4)),[3]RewardGroup!$B$1:$E$670,4,FALSE),5)),[4]RewardItemConfig!$B$1:$C$1176,2,FALSE)","v":3},{"$f":"VLOOKUP(VALUE(RIGHT(VLOOKUP(VALUE(LEFT(LevelDifficultyConfig!L54,4)),[3]RewardGroup!$B$1:$E$670,4,FALSE),5)),[4]RewardItemConfig!$B$1:$C$1176,2,FALSE)","v":14},{"$f":"I54&\"#1|\"&G54&\"#280|\"&F54&\"#28\"","v":{"$error":"#N/A"}},null,null,"11020#1|14#280|3#28"]
[null,10031,"简单-10-3",8,"4048#3048",{"$f":"VLOOKUP(VALUE(LEFT(VLOOKUP(VALUE(RIGHT(LevelDifficultyConfig!L55,4)),[3]RewardGroup!$B$1:$E$670,4,FALSE),5)),[4]RewardItemConfig!$B$1:$C$1176,2,FALSE)","v":{"$error":"#N/A"}},{"$f":"VLOOKUP(VALUE(RIGHT(VLOOKUP(VALUE(RIGHT(LevelDifficultyConfig!L55,4)),[3]RewardGroup!$B$1:$E$670,4,FALSE),5)),[4]RewardItemConfig!$B$1:$C$1176,2,FALSE)","v":{"$error":"#N/A"}},{"$f":"VLOOKUP(VALUE(LEFT(VLOOKUP(VALUE(LEFT(LevelDifficultyConfig!L55,4)),[3]RewardGroup!$B$1:$E$670,4,FALSE),5)),[4]RewardItemConfig!$B$1:$C$1176,2,FALSE)","v":3},{"$f":"VLOOKUP(VALUE(RIGHT(VLOOKUP(VALUE(LEFT(LevelDifficultyConfig!L55,4)),[3]RewardGroup!$B$1:$E$670,4,FALSE),5)),[4]RewardItemConfig!$B$1:$C$1176,2,FALSE)","v":14},{"$error":"#N/A"},null,null,"11021#1|14#280|3#28"]
[null,10041,"简单-10-4",8,"4049#3049",{"$f":"VLOOKUP(VALUE(LEFT(VLOOKUP(VALUE(RIGHT(LevelDifficultyConfig!L56,4)),[3]RewardGroup!$B$1:$E$670,4,FALSE),5)),[4]RewardItemConfig!$B$1:$C$1176,2,FALSE)","v":{"$error":"#N/A"}},{"$f":"VLOOKUP(VALUE(RIGHT(VLOOKUP(VALUE(RIGHT(LevelDifficultyConfig!L56,4)),[3]RewardGroup!$B$1:$E$670,4,FALSE),5)),[4]RewardItemConfig!$B$1:$C$1176,2,FALSE)","v":{"$error":"#N/A"}},{"$f":"VLOOKUP(VALUE(LEFT(VLOOKUP(VALUE(LEFT(LevelDifficultyConfig!L56,4)),[3]RewardGroup!$B$1:$E$670,4,FALSE),5)),[4]RewardItemConfig!$B$1:$C$1176,2,FALSE)","v":3},{"$f":"VLOOKUP(VALUE(RIGHT(VLOOKUP(VALUE(LEFT(LevelDifficultyConfig!L56,4)),[3]RewardGroup!$B$1:$E$670,4,FALSE),5)),[4]RewardItemConfig!$B$1:$C$1176,2,FALSE)","v":14},{"$error":"#N/A"},null,null,"11022#1|14#280|3#28"]
[null,10051,"简单-10-5",8,"4050#3050",{"$f":"VLOOKUP(VALUE(LEFT(VLOOKUP(VALUE(RIGHT(LevelDifficultyConfig!L57,4)),[3]RewardGroup!$B$1:$E$670,4,FALSE),5)),[4]RewardItemConfig!$B$1:$C$1176,2,FALSE)","v":{"$error":"#N/A"}},{"$f":"VLOOKUP(VALUE(RIGHT(VLOOKUP(VALUE(RIGHT(LevelDifficultyConfig!L57,4)),[3]RewardGroup!$B$1:$E$670,4,FALSE),5)),[4]RewardItemConfig!$B$1:$C$1176,2,FALSE)","v":{"$error":"#N/A"}},{"$f":"VLOOKUP(VALUE(LEFT(VLOOKUP(VALUE(LEFT(LevelDifficultyConfig!L57,4)),[3]RewardGroup!$B$1:$E$670,4,FALSE),5)),[4]RewardItemConfig!$B$1:$C$1176,2,FALSE)","v":3},{"$f":"VLOOKUP(VALUE(RIGHT(VLOOKUP(VALUE(LEFT(LevelDifficultyConfig!L57,4)),[3]RewardGroup!$B$1:$E$670,4,FALSE),5)),[4]RewardItemConfig!$B$1:$C$1176,2,FALSE)","v":14},{"$error":"#N/A"},null,null,"11002#1|14#280|3#28"]
[null,1012,"普通-1-1",8,"4001#3001",{"$f":"VLOOKUP(VALUE(LEFT(VLOOKUP(VALUE(RIGHT(LevelDifficultyConfig!L83,4)),[3]RewardGroup!$B$1:$E$670,4,FALSE),5)),[4]RewardItemConfig!$B$1:$C$1176,2,FALSE)","v":{"$error":"#N/A"}},{"$f":"VLOOKUP(VALUE(RIGHT(VLOOKUP(VALUE(RIGHT(LevelDifficultyConfig!L83,4)),[3]RewardGroup!$B$1:$E$670,4,FALSE),5)),[4]RewardItemConfig!$B$1:$C$1176,2,FALSE)","v":{"$error":"#N/A"}},{"$f":"VLOOKUP(VALUE(LEFT(VLOOKUP(VALUE(LEFT(LevelDifficultyConfig!L83,4)),[3]RewardGroup!$B$1:$E$670,4,FALSE),5)),[4]RewardItemConfig!$B$1:$C$1176,2,FALSE)","v":3},{"$f":"VLOOKUP(VALUE(RIGHT(VLOOKUP(VALUE(LEFT(LevelDifficultyConfig!L83,4)),[3]RewardGroup!$B$1:$E$670,4,FALSE),5)),[4]RewardItemConfig!$B$1:$C$1176,2,FALSE)","v":14},{"$error":"#N/A"},null,null,{"$f":"M56","v":"11022#1|14#280|3#28"}]
[null,1022,"普通-1-2",8,"4002#3002",{"$f":"VLOOKUP(VALUE(LEFT(VLOOKUP(VALUE(RIGHT(LevelDifficultyConfig!L84,4)),[3]RewardGroup!$B$1:$E$670,4,FALSE),5)),[4]RewardItemConfig!$B$1:$C$1176,2,FALSE)","v":{"$error":"#N/A"}},{"$f":"VLOOKUP(VALUE(RIGHT(VLOOKUP(VALUE(RIGHT(LevelDifficultyConfig!L84,4)),[3]RewardGroup!$B$1:$E$670,4,FALSE),5)),[4]RewardItemConfig!$B$1:$C$1176,2,FALSE)","v":{"$error":"#N/A"}},{"$f":"VLOOKUP(VALUE(LEFT(VLOOKUP(VALUE(LEFT(LevelDifficultyConfig!L84,4)),[3]RewardGroup!$B$1:$E$670,4,FALSE),5)),[4]RewardItemConfig!$B$1:$C$1176,2,FALSE)","v":3},{"$f":"VLOOKUP(VALUE(RIGHT(VLOOKUP(VALUE(LEFT(LevelDifficultyConfig!L84,4)),[3]RewardGroup!$B$1:$E$670,4,FALSE),5)),[4]RewardItemConfig!$B$1:$C$1176,2,FALSE)","v":14},{"$error":"#N/A"},null,null,"11002#1|14#280|3#28"]
[null,1032,"普通-1-3",8,"4003#3003",{"$f":"VLOOKUP(VALUE(LEFT(VLOOKUP(VALUE(RIGHT(LevelDifficultyConfig!L85,4)),[3]RewardGroup!$B$1:$E$670,4,FALSE),5)),[4]RewardItemConfig!$B$1:$C$1176,2,FALSE)","v":{"$error":"#N/A"}},{"$f":"VLOOKUP(VALUE(RIGHT(VLOOKUP(VALUE(RIGHT(LevelDifficultyConfig!L85,4)),[3]RewardGroup!$B$1:$E$670,4,FALSE),5)),[4]RewardItemConfig!$B$1:$C$1176,2,FALSE)","v":{"$error":"#N/A"}},{"$f":"VLOOKUP(VALUE(LEFT(VLOOKUP(VALUE(LEFT(LevelDifficultyConfig!L85,4)),[3]RewardGroup!$B$1:$E$670,4,FALSE),5)),[4]RewardItemConfig!$B$1:$C$1176,2,FALSE)","v":3},{"$f":"VLOOKUP(VALUE(RIGHT(VLOOKUP(VALUE(LEFT(LevelDifficultyConfig!L85,4)),[3]RewardGroup!$B$1:$E$670,4,FALSE),5)),[4]RewardItemConfig!$B$1:$C$1176,2,FALSE)","v":14},{"$error":"#N/A"},null,null,"11022#1|14#280|3#28"]
[null,1042,"普通-1-4",8,"4004#3004",{"$f":"VLOOKUP(VALUE(LEFT(VLOOKUP(VALUE(RIGHT(LevelDifficultyConfig!L86,4)),[3]RewardGroup!$B$1:$E$670,4,FALSE),5)),[4]RewardItemConfig!$B$1:$C$1176,2,FALSE)","v":{"$error":"#N/A"}},{"$f":"VLOOKUP(VALUE(RIGHT(VLOOKUP(VALUE(RIGHT(LevelDifficultyConfig!L86,4)),[3]RewardGroup!$B$1:$E$670,4,FALSE),5)),[4]RewardItemConfig!$B$1:$C$1176,2,FALSE)","v":{"$error":"#N/A"}},{"$f":"VLOOKUP(VALUE(LEFT(VLOOKUP(VALUE(LEFT(LevelDifficultyConfig!L86,4)),[3]RewardGroup!$B$1:$E$670,4,FALSE),5)),[4]RewardItemConfig!$B$1:$C$1176,2,FALSE)","v":3},{"$f":"VLOOKUP(VALUE(RIGHT(VLOOKUP(VALUE(LEFT(LevelDifficultyConfig!L86,4)),[3]RewardGroup!$B$1:$E$670,4,FALSE),5)),[4]RewardItemConfig!$B$1:$C$1176,2,FALSE)","v":14},{"$error":"#N/A"},null,null,"11002#1|14#280|3#28"]
[null,1052,"普通-1-5",8,"4005#3005",{"$f":"VLOOKUP(VALUE(LEFT(VLOOKUP(VALUE(RIGHT(LevelDifficultyConfig!L87,4)),[3]RewardGroup!$B$1:$E$670,4,FALSE),5)),[4]RewardItemConfig!$B$1:$C$1176,2,FALSE)","v":{"$error":"#N/A"}},{"$f":"VLOOKUP(VALUE(RIGHT(VLOOKUP(VALUE(RIGHT(LevelDifficultyConfig!L87,4)),[3]RewardGroup!$B$1:$E$670,4,FALSE),5)),[4]RewardItemConfig!$B$1:$C$1176,2,FALSE)","v":{"$error":"#N/A"}},{"$f":"VLOOKUP(VALUE(LEFT(VLOOKUP(VALUE(LEFT(LevelDifficultyConfig!L87,4)),[3]RewardGroup!$B$1:$E$670,4,FALSE),5)),[4]RewardItemConfig!$B$1:$C$1176,2,FALSE)","v":3},{"$f":"VLOOKUP(VALUE(RIGHT(VLOOKUP(VALUE(LEFT(LevelDifficultyConfig!L87,4)),[3]RewardGroup!$B$1:$E$670,4,FALSE),5)),[4]RewardItemConfig!$B$1:$C$1176,2,FALSE)","v":14},{"$error":"#N/A"},null,null,"11022#1|14#280|3#28"]
[null,2012,"普通-2-1",8,"4006#3006",{"$f":"VLOOKUP(VALUE(LEFT(VLOOKUP(VALUE(RIGHT(LevelDifficultyConfig!L88,4)),[3]RewardGroup!$B$1:$E$670,4,FALSE),5)),[4]RewardItemConfig!$B$1:$C$1176,2,FALSE)","v":{"$error":"#N/A"}},{"$f":"VLOOKUP(VALUE(RIGHT(VLOOKUP(VALUE(RIGHT(LevelDifficultyConfig!L88,4)),[3]RewardGroup!$B$1:$E$670,4,FALSE),5)),[4]RewardItemConfig!$B$1:$C$1176,2,FALSE)","v":{"$error":"#N/A"}},{"$f":"VLOOKUP(VALUE(LEFT(VLOOKUP(VALUE(LEFT(LevelDifficultyConfig!L88,4)),[3]RewardGroup!$B$1:$E$670,4,FALSE),5)),[4]RewardItemConfig!$B$1:$C$1176,2,FALSE)","v":3},{"$f":"VLOOKUP(VALUE(RIGHT(VLOOKUP(VALUE(LEFT(LevelDifficultyConfig!L88,4)),[3]RewardGroup!$B$1:$E$670,4,FALSE),5)),[4]RewardItemConfig!$B$1:$C$1176,2,FALSE)","v":14},{"$error":"#N/A"},null,null,"11002#1|14#280|3#28"]
[null,2022,"普通-2-2",8,"4007#3007",{"$f":"VLOOKUP(VALUE(LEFT(VLOOKUP(VALUE(RIGHT(LevelDifficultyConfig!L89,4)),[3]RewardGroup!$B$1:$E$670,4,FALSE),5)),[4]RewardItemConfig!$B$1:$C$1176,2,FALSE)","v":{"$error":"#N/A"}},{"$f":"VLOOKUP(VALUE(RIGHT(VLOOKUP(VALUE(RIGHT(LevelDifficultyConfig!L89,4)),[3]RewardGroup!$B$1:$E$670,4,FALSE),5)),[4]RewardItemConfig!$B$1:$C$1176,2,FALSE)","v":{"$error":"#N/A"}},{"$f":"VLOOKUP(VALUE(LEFT(VLOOKUP(VALUE(LEFT(LevelDifficultyConfig!L89,4)),[3]RewardGroup!$B$1:$E$670,4,FALSE),5)),[4]RewardItemConfig!$B$1:$C$1176,2,FALSE)","v":3},{"$f":"VLOOKUP(VALUE(RIGHT(VLOOKUP(VALUE(LEFT(LevelDifficultyConfig!L89,4)),[3]RewardGroup!$B$1:$E$670,4,FALSE),5)),[4]RewardItemConfig!$B$1:$C$1176,2,FALSE)","v":14},{"$error":"#N/A"},null,null,"11022#1|14#280|3#28"]
[null,2032,"普通-2-3",8,"4008#3008",{"$f":"VLOOKUP(VALUE(LEFT(VLOOKUP(VALUE(RIGHT(LevelDifficultyConfig!L90,4)),[3]RewardGroup!$B$1:$E$670,4,FALSE),5)),[4]RewardItemConfig!$B$1:$C$1176,2,FALSE)","v":{"$error":"#N/A"}},{"$f":"VLOOKUP(VALUE(RIGHT(VLOOKUP(VALUE(RIGHT(LevelDifficultyConfig!L90,4)),[3]RewardGroup!$B$1:$E$670,4,FALSE),5)),[4]RewardItemConfig!$B$1:$C$1176,2,FALSE)","v":{"$error":"#N/A"}},{"$f":"VLOOKUP(VALUE(LEFT(VLOOKUP(VALUE(LEFT(LevelDifficultyConfig!L90,4)),[3]RewardGroup!$B$1:$E$670,4,FALSE),5)),[4]RewardItemConfig!$B$1:$C$1176,2,FALSE)","v":3},{"$f":"VLOOKUP(VALUE(RIGHT(VLOOKUP(VALUE(LEFT(LevelDifficultyConfig!L90,4)),[3]RewardGroup!$B$1:$E$670,4,FALSE),5)),[4]RewardItemConfig!$B$1:$C$1176,2,FALSE)","v":14},{"$error":"#N/A"},null,null,"11002#1|14#280|3#28"]
[null,2042,"普通-2-4",8,"4009#3009",{"$f":"VLOOKUP(VALUE(LEFT(VLOOKUP(VALUE(RIGHT(LevelDifficultyConfig!L91,4)),[3]RewardGroup!$B$1:$E$670,4,FALSE),5)),[4]RewardItemConfig!$B$1:$C$1176,2,FALSE)","v":{"$error":"#N/A"}},{"$f":"VLOOKUP(VALUE(RIGHT(VLOOKUP(VALUE(RIGHT(LevelDifficultyConfig!L91,4)),[3]RewardGroup!$B$1:$E$670,4,FALSE),5)),[4]RewardItemConfig!$B$1:$C$1176,2,FALSE)","v":{"$error":"#N/A"}},{"$f":"VLOOKUP(VALUE(LEFT(VLOOKUP(VALUE(LEFT(LevelDifficultyConfig!L91,4)),[3]RewardGroup!$B$1:$E$670,4,FALSE),5)),[4]RewardItemConfig!$B$1:$C$1176,2,FALSE)","v":3},{"$f":"VLOOKUP(VALUE(RIGHT(VLOOKUP(VALUE(LEFT(LevelDifficultyConfig!L91,4)),[3]RewardGroup!$B$1:$E$670,4,FALSE),5)),[4]RewardItemConfig!$B$1:$C$1176,2,FALSE)","v":14},{"$error":"#N/A"},null,null,"11022#1|14#280|3#28"]
[null,2052,"普通-2-5",8,"4010#3010",{"$f":"VLOOKUP(VALUE(LEFT(VLOOKUP(VALUE(RIGHT(LevelDifficultyConfig!L92,4)),[3]RewardGroup!$B$1:$E$670,4,FALSE),5)),[4]RewardItemConfig!$B$1:$C$1176,2,FALSE)","v":{"$error":"#N/A"}},{"$f":"VLOOKUP(VALUE(RIGHT(VLOOKUP(VALUE(RIGHT(LevelDifficultyConfig!L92,4)),[3]RewardGroup!$B$1:$E$670,4,FALSE),5)),[4]RewardItemConfig!$B$1:$C$1176,2,FALSE)","v":{"$error":"#N/A"}},{"$f":"VLOOKUP(VALUE(LEFT(VLOOKUP(VALUE(LEFT(LevelDifficultyConfig!L92,4)),[3]RewardGroup!$B$1:$E$670,4,FALSE),5)),[4]RewardItemConfig!$B$1:$C$1176,2,FALSE)","v":3},{"$f":"VLOOKUP(VALUE(RIGHT(VLOOKUP(VALUE(LEFT(LevelDifficultyConfig!L92,4)),[3]RewardGroup!$B$1:$E$670,4,FALSE),5)),[4]RewardItemConfig!$B$1:$C$1176,2,FALSE)","v":14},{"$error":"#N/A"},null,null,"11002#1|14#280|3#28"]
[null,3012,"普通-3-1",8,"4011#3011",{"$f":"VLOOKUP(VALUE(LEFT(VLOOKUP(VALUE(RIGHT(LevelDifficultyConfig!L93,4)),[3]RewardGroup!$B$1:$E$670,4,FALSE),5)),[4]RewardItemConfig!$B$1:$C$1176,2,FALSE)","v":{"$error":"#N/A"}},{"$f":"VLOOKUP(VALUE(RIGHT(VLOOKUP(VALUE(RIGHT(LevelDifficultyConfig!L93,4)),[3]RewardGroup!$B$1:$E$670,4,FALSE),5)),[4]RewardItemConfig!$B$1:$C$1176,2,FALSE)","v":{"$error":"#N/A"}},{"$f":"VLOOKUP(VALUE(LEFT(VLOOKUP(VALUE(LEFT(LevelDifficultyConfig!L93,4)),[3]RewardGroup!$B$1:$E$670,4,FALSE),5)),[4]RewardItemConfig!$B$1:$C$1176,2,FALSE)","v":3},{"$f":"VLOOKUP(VALUE(RIGHT(VLOOKUP(VALUE(LEFT(LevelDifficultyConfig!L93,4)),[3]RewardGroup!$B$1:$E$670,4,FALSE),5)),[4]RewardItemConfig!$B$1:$C$1176,2,FALSE)","v":14},{"$error":"#N/A"},null,null,"11022#1|14#280|3#28"]
[null,3022,"普通-3-2",8,"4012#3012",{"$f":"VLOOKUP(VALUE(LEFT(VLOOKUP(VALUE(RIGHT(LevelDifficultyConfig!L94,4)),[3]RewardGroup!$B$1:$E$670,4,FALSE),5)),[4]RewardItemConfig!$B$1:$C$1176,2,FALSE)","v":{"$error":"#N/A"}},{"$f":"VLOOKUP(VALUE(RIGHT(VLOOKUP(VALUE(RIGHT(LevelDifficultyConfig!L94,4)),[3]RewardGroup!$B$1:$E$670,4,FALSE),5)),[4]RewardItemConfig!$B$1:$C$1176,2,FALSE)","v":{"$error":"#N/A"}},{"$f":"VLOOKUP(VALUE(LEFT(VLOOKUP(VALUE(LEFT(LevelDifficultyConfig!L94,4)),[3]RewardGroup!$B$1:$E$670,4,FALSE),5)),[4]RewardItemConfig!$B$1:$C$1176,2,FALSE)","v":3},{"$f":"VLOOKUP(VALUE(RIGHT(VLOOKUP(VALUE(LEFT(LevelDifficultyConfig!L94,4)),[3]RewardGroup!$B$1:$E$670,4,FALSE),5)),[4]RewardItemConfig!$B$1:$C$1176,2,FALSE)","v":14},{"$error":"#N/A"},null,null,"11002#1|14#280|3#28"]
[null,3032,"普通-3-3",8,"4013#3013",{"$f":"VLOOKUP(VALUE(LEFT(VLOOKUP(VALUE(RIGHT(LevelDifficultyConfig!L95,4)),[3]RewardGroup!$B$1:$E$670,4,FALSE),5)),[4]RewardItemConfig!$B$1:$C$1176,2,FALSE)","v":{"$error":"#N/A"}},{"$f":"VLOOKUP(VALUE(RIGHT(VLOOKUP(VALUE(RIGHT(LevelDifficultyConfig!L95,4)),[3]RewardGroup!$B$1:$E$670,4,FALSE),5)),[4]RewardItemConfig!$B$1:$C$1176,2,FALSE)","v":{"$error":"#N/A"}},{"$f":"VLOOKUP(VALUE(LEFT(VLOOKUP(VALUE(LEFT(LevelDifficultyConfig!L95,4)),[3]RewardGroup!$B$1:$E$670,4,FALSE),5)),[4]RewardItemConfig!$B$1:$C$1176,2,FALSE)","v":3},{"$f":"VLOOKUP(VALUE(RIGHT(VLOOKUP(VALUE(LEFT(LevelDifficultyConfig!L95,4)),[3]RewardGroup!$B$1:$E$670,4,FALSE),5)),[4]RewardItemConfig!$B$1:$C$1176,2,FALSE)","v":14},{"$error":"#N/A"},null,null,"11022#1|14#280|3#28"]
[null,3042,"普通-3-4",8,"4014#3014",{"$f":"VLOOKUP(VALUE(LEFT(VLOOKUP(VALUE(RIGHT(LevelDifficultyConfig!L96,4)),[3]RewardGroup!$B$1:$E$670,4,FALSE),5)),[4]RewardItemConfig!$B$1:$C$1176,2,FALSE)","v":{"$error":"#N/A"}},{"$f":"VLOOKUP(VALUE(RIGHT(VLOOKUP(VALUE(RIGHT(LevelDifficultyConfig!L96,4)),[3]RewardGroup!$B$1:$E$670,4,FALSE),5)),[4]RewardItemConfig!$B$1:$C$1176,2,FALSE)","v":{"$error":"#N/A"}},{"$f":"VLOOKUP(VALUE(LEFT(VLOOKUP(VALUE(LEFT(LevelDifficultyConfig!L96,4)),[3]RewardGroup!$B$1:$E$670,4,FALSE),5)),[4]RewardItemConfig!$B$1:$C$1176,2,FALSE)","v":3},{"$f":"VLOOKUP(VALUE(RIGHT(VLOOKUP(VALUE(LEFT(LevelDifficultyConfig!L96,4)),[3]RewardGroup!$B$1:$E$670,4,FALSE),5)),[4]RewardItemConfig!$B$1:$C$1176,2,FALSE)","v":14},{"$error":"#N/A"},null,null,"11002#1|14#280|3#28"]
[null,3052,"普通-3-5",8,"4015#3015",{"$f":"VLOOKUP(VALUE(LEFT(VLOOKUP(VALUE(RIGHT(LevelDifficultyConfig!L97,4)),[3]RewardGroup!$B$1:$E$670,4,FALSE),5)),[4]RewardItemConfig!$B$1:$C$1176,2,FALSE)","v":{"$error":"#N/A"}},{"$f":"VLOOKUP(VALUE(RIGHT(VLOOKUP(VALUE(RIGHT(LevelDifficultyConfig!L97,4)),[3]RewardGroup!$B$1:$E$670,4,FALSE),5)),[4]RewardItemConfig!$B$1:$C$1176,2,FALSE)","v":{"$error":"#N/A"}},{"$f":"VLOOKUP(VALUE(LEFT(VLOOKUP(VALUE(LEFT(LevelDifficultyConfig!L97,4)),[3]RewardGroup!$B$1:$E$670,4,FALSE),5)),[4]RewardItemConfig!$B$1:$C$1176,2,FALSE)","v":3},{"$f":"VLOOKUP(VALUE(RIGHT(VLOOKUP(VALUE(LEFT(LevelDifficultyConfig!L97,4)),[3]RewardGroup!$B$1:$E$670,4,FALSE),5)),[4]RewardItemConfig!$B$1:$C$1176,2,FALSE)","v":14},{"$error":"#N/A"},null,null,"11022#1|14#280|3#28"]
[null,4012,"普通-4-1",8,"4016#3016",{"$f":"VLOOKUP(VALUE(LEFT(VLOOKUP(VALUE(RIGHT(LevelDifficultyConfig!L98,4)),[3]RewardGroup!$B$1:$E$670,4,FALSE),5)),[4]RewardItemConfig!$B$1:$C$1176,2,FALSE)","v":{"$error":"#N/A"}},{"$f":"VLOOKUP(VALUE(RIGHT(VLOOKUP(VALUE(RIGHT(LevelDifficultyConfig!L98,4)),[3]RewardGroup!$B$1:$E$670,4,FALSE),5)),[4]RewardItemConfig!$B$1:$C$1176,2,FALSE)","v":{"$error":"#N/A"}},{"$f":"VLOOKUP(VALUE(LEFT(VLOOKUP(VALUE(LEFT(LevelDifficultyConfig!L98,4)),[3]RewardGroup!$B$1:$E$670,4,FALSE),5)),[4]RewardItemConfig!$B$1:$C$1176,2,FALSE)","v":3},{"$f":"VLOOKUP(VALUE(RIGHT(VLOOKUP(VALUE(LEFT(LevelDifficultyConfig!L98,4)),[3]RewardGroup!$B$1:$E$670,4,FALSE),5)),[4]RewardItemConfig!$B$1:$C$1176,2,FALSE)","v":14},{"$error":"#N/A"},null,null,"11002#1|14#280|3#28"]
[null,4022,"普通-4-2",8,"4017#3017",{"$f":"VLOOKUP(VALUE(LEFT(VLOOKUP(VALUE(RIGHT(LevelDifficultyConfig!L99,4)),[3]RewardGroup!$B$1:$E$670,4,FALSE),5)),[4]RewardItemConfig!$B$1:$C$1176,2,FALSE)","v":{"$error":"#N/A"}},{"$f":"VLOOKUP(VALUE(RIGHT(VLOOKUP(VALUE(RIGHT(LevelDifficultyConfig!L99,4)),[3]RewardGroup!$B$1:$E$670,4,FALSE),5)),[4]RewardItemConfig!$B$1:$C$1176,2,FALSE)","v":{"$error":"#N/A"}},{"$f":"VLOOKUP(VALUE(LEFT(VLOOKUP(VALUE(LEFT(LevelDifficultyConfig!L99,4)),[3]RewardGroup!$B$1:$E$670,4,FALSE),5)),[4]RewardItemConfig!$B$1:$C$1176,2,FALSE)","v":3},{"$f":"VLOOKUP(VALUE(RIGHT(VLOOKUP(VALUE(LEFT(LevelDifficultyConfig!L99,4)),[3]RewardGroup!$B$1:$E$670,4,FALSE),5)),[4]RewardItemConfig!$B$1:$C$1176,2,FALSE)","v":14},{"$error":"#N/A"},null,null,"11022#1|14#280|3#28"]
[null,4032,"普通-4-3",8,"4018#3018",{"$f":"VLOOKUP(VALUE(LEFT(VLOOKUP(VALUE(RIGHT(LevelDifficultyConfig!L100,4)),[3]RewardGroup!$B$1:$E$670,4,FALSE),5)),[4]RewardItemConfig!$B$1:$C$1176,2,FALSE)","v":{"$error":"#N/A"}},{"$f":"VLOOKUP(VALUE(RIGHT(VLOOKUP(VALUE(RIGHT(LevelDifficultyConfig!L100,4)),[3]RewardGroup!$B$1:$E$670,4,FALSE),5)),[4]RewardItemConfig!$B$1:$C$1176,2,FALSE)","v":{"$error":"#N/A"}},{"$f":"VLOOKUP(VALUE(LEFT(VLOOKUP(VALUE(LEFT(LevelDifficultyConfig!L100,4)),[3]RewardGroup!$B$1:$E$670,4,FALSE),5)),[4]RewardItemConfig!$B$1:$C$1176,2,FALSE)","v":3},{"$f":"VLOOKUP(VALUE(RIGHT(VLOOKUP(VALUE(LEFT(LevelDifficultyConfig!L100,4)),[3]RewardGroup!$B$1:$E$670,4,FALSE),5)),[4]RewardItemConfig!$B$1:$C$1176,2,FALSE)","v":14},{"$error":"#N/A"},null,null,"11002#1|14#280|3#28"]
[null,4042,"普通-4-4",8,"4019#3019",{"$f":"VLOOKUP(VALUE(LEFT(VLOOKUP(VALUE(RIGHT(LevelDifficultyConfig!L101,4)),[3]RewardGroup!$B$1:$E$670,4,FALSE),5)),[4]RewardItemConfig!$B$1:$C$1176,2,FALSE)","v":{"$error":"#N/A"}},{"$f":"VLOOKUP(VALUE(RIGHT(VLOOKUP(VALUE(RIGHT(LevelDifficultyConfig!L101,4)),[3]RewardGroup!$B$1:$E$670,4,FALSE),5)),[4]RewardItemConfig!$B$1:$C$1176,2,FALSE)","v":{"$error":"#N/A"}},{"$f":"VLOOKUP(VALUE(LEFT(VLOOKUP(VALUE(LEFT(LevelDifficultyConfig!L101,4)),[3]RewardGroup!$B$1:$E$670,4,FALSE),5)),[4]RewardItemConfig!$B$1:$C$1176,2,FALSE)","v":3},{"$f":"VLOOKUP(VALUE(RIGHT(VLOOKUP(VALUE(LEFT(LevelDifficultyConfig!L101,4)),[3]RewardGroup!$B$1:$E$670,4,FALSE),5)),[4]RewardItemConfig!$B$1:$C$1176,2,FALSE)","v":14},{"$error":"#N/A"},null,null,"11022#1|14#280|3#28"]
[null,4052,"普通-4-5",8,"4020#3020",{"$f":"VLOOKUP(VALUE(LEFT(VLOOKUP(VALUE(RIGHT(LevelDifficultyConfig!L102,4)),[3]RewardGroup!$B$1:$E$670,4,FALSE),5)),[4]RewardItemConfig!$B$1:$C$1176,2,FALSE)","v":{"$error":"#N/A"}},{"$f":"VLOOKUP(VALUE(RIGHT(VLOOKUP(VALUE(RIGHT(LevelDifficultyConfig!L102,4)),[3]RewardGroup!$B$1:$E$670,4,FALSE),5)),[4]RewardItemConfig!$B$1:$C$1176,2,FALSE)","v":{"$error":"#N/A"}},{"$f":"VLOOKUP(VALUE(LEFT(VLOOKUP(VALUE(LEFT(LevelDifficultyConfig!L102,4)),[3]RewardGroup!$B$1:$E$670,4,FALSE),5)),[4]RewardItemConfig!$B$1:$C$1176,2,FALSE)","v":3},{"$f":"VLOOKUP(VALUE(RIGHT(VLOOKUP(VALUE(LEFT(LevelDifficultyConfig!L102,4)),[3]RewardGroup!$B$1:$E$670,4,FALSE),5)),[4]RewardItemConfig!$B$1:$C$1176,2,FALSE)","v":14},{"$error":"#N/A"},null,null,"11002#1|14#280|3#28"]
[null,5012,"普通-5-1",8,"4021#3021",{"$f":"VLOOKUP(VALUE(LEFT(VLOOKUP(VALUE(RIGHT(LevelDifficultyConfig!L103,4)),[3]RewardGroup!$B$1:$E$670,4,FALSE),5)),[4]RewardItemConfig!$B$1:$C$1176,2,FALSE)","v":{"$error":"#N/A"}},{"$f":"VLOOKUP(VALUE(RIGHT(VLOOKUP(VALUE(RIGHT(LevelDifficultyConfig!L103,4)),[3]RewardGroup!$B$1:$E$670,4,FALSE),5)),[4]RewardItemConfig!$B$1:$C$1176,2,FALSE)","v":{"$error":"#N/A"}},{"$f":"VLOOKUP(VALUE(LEFT(VLOOKUP(VALUE(LEFT(LevelDifficultyConfig!L103,4)),[3]RewardGroup!$B$1:$E$670,4,FALSE),5)),[4]RewardItemConfig!$B$1:$C$1176,2,FALSE)","v":3},{"$f":"VLOOKUP(VALUE(RIGHT(VLOOKUP(VALUE(LEFT(LevelDifficultyConfig!L103,4)),[3]RewardGroup!$B$1:$E$670,4,FALSE),5)),[4]RewardItemConfig!$B$1:$C$1176,2,FALSE)","v":14},{"$error":"#N/A"},null,null,"11022#1|14#280|3#28"]
[null,5022,"普通-5-2",8,"4022#3022",{"$f":"VLOOKUP(VALUE(LEFT(VLOOKUP(VALUE(RIGHT(LevelDifficultyConfig!L104,4)),[3]RewardGroup!$B$1:$E$670,4,FALSE),5)),[4]RewardItemConfig!$B$1:$C$1176,2,FALSE)","v":{"$error":"#N/A"}},{"$f":"VLOOKUP(VALUE(RIGHT(VLOOKUP(VALUE(RIGHT(LevelDifficultyConfig!L104,4)),[3]RewardGroup!$B$1:$E$670,4,FALSE),5)),[4]RewardItemConfig!$B$1:$C$1176,2,FALSE)","v":{"$error":"#N/A"}},{"$f":"VLOOKUP(VALUE(LEFT(VLOOKUP(VALUE(LEFT(LevelDifficultyConfig!L104,4)),[3]RewardGroup!$B$1:$E$670,4,FALSE),5)),[4]RewardItemConfig!$B$1:$C$1176,2,FALSE)","v":3},{"$f":"VLOOKUP(VALUE(RIGHT(VLOOKUP(VALUE(LEFT(LevelDifficultyConfig!L104,4)),[3]RewardGroup!$B$1:$E$670,4,FALSE),5)),[4]RewardItemConfig!$B$1:$C$1176,2,FALSE)","v":14},{"$error":"#N/A"},null,null,"11002#1|14#280|3#28"]
[null,5032,"普通-5-3",8,"4023#3023",{"$f":"VLOOKUP(VALUE(LEFT(VLOOKUP(VALUE(RIGHT(LevelDifficultyConfig!L105,4)),[3]RewardGroup!$B$1:$E$670,4,FALSE),5)),[4]RewardItemConfig!$B$1:$C$1176,2,FALSE)","v":{"$error":"#N/A"}},{"$f":"VLOOKUP(VALUE(RIGHT(VLOOKUP(VALUE(RIGHT(LevelDifficultyConfig!L105,4)),[3]RewardGroup!$B$1:$E$670,4,FALSE),5)),[4]RewardItemConfig!$B$1:$C$1176,2,FALSE)","v":{"$error":"#N/A"}},{"$f":"VLOOKUP(VALUE(LEFT(VLOOKUP(VALUE(LEFT(LevelDifficultyConfig!L105,4)),[3]RewardGroup!$B$1:$E$670,4,FALSE),5)),[4]RewardItemConfig!$B$1:$C$1176,2,FALSE)","v":3},{"$f":"VLOOKUP(VALUE(RIGHT(VLOOKUP(VALUE(LEFT(LevelDifficultyConfig!L105,4)),[3]RewardGroup!$B$1:$E$670,4,FALSE),5)),[4]RewardItemConfig!$B$1:$C$1176,2,FALSE)","v":14},{"$error":"#N/A"},null,null,"11022#1|14#280|3#28"]
[null,5042,"普通-5-4",8,"4024#3024",{"$f":"VLOOKUP(VALUE(LEFT(VLOOKUP(VALUE(RIGHT(LevelDifficultyConfig!L106,4)),[3]RewardGroup!$B$1:$E$670,4,FALSE),5)),[4]RewardItemConfig!$B$1:$C$1176,2,FALSE)","v":{"$error":"#N/A"}},{"$f":"VLOOKUP(VALUE(RIGHT(VLOOKUP(VALUE(RIGHT(LevelDifficultyConfig!L106,4)),[3]RewardGroup!$B$1:$E$670,4,FALSE),5)),[4]RewardItemConfig!$B$1:$C$1176,2,FALSE)","v":{"$error":"#N/A"}},{"$f":"VLOOKUP(VALUE(LEFT(VLOOKUP(VALUE(LEFT(LevelDifficultyConfig!L106,4)),[3]RewardGroup!$B$1:$E$670,4,FALSE),5)),[4]RewardItemConfig!$B$1:$C$1176,2,FALSE)","v":{"$error":"#N/A"}},{"$f":"VLOOKUP(VALUE(RIGHT(VLOOKUP(VALUE(LEFT(LevelDifficultyConfig!L106,4)),[3]RewardGroup!$B$1:$E$670,4,FALSE),5)),[4]RewardItemConfig!$B$1:$C$1176,2,FALSE)","v":{"$error":"#N/A"}},{"$error":"#N/A"},null,null,"11002#1|14#280|3#28"]
[null,5052,"普通-5-5",8,"4025#3025",{"$f":"VLOOKUP(VALUE(LEFT(VLOOKUP(VALUE(RIGHT(LevelDifficultyConfig!L107,4)),[3]RewardGroup!$B$1:$E$670,4,FALSE),5)),[4]RewardItemConfig!$B$1:$C$1176,2,FALSE)","v":{"$error":"#N/A"}},{"$f":"VLOOKUP(VALUE(RIGHT(VLOOKUP(VALUE(RIGHT(LevelDifficultyConfig!L107,4)),[3]RewardGroup!$B$1:$E$670,4,FALSE),5)),[4]RewardItemConfig!$B$1:$C$1176,2,FALSE)","v":{"$error":"#N/A"}},{"$f":"VLOOKUP(VALUE(LEFT(VLOOKUP(VALUE(LEFT(LevelDifficultyConfig!L107,4)),[3]RewardGroup!$B$1:$E$670,4,FALSE),5)),[4]RewardItemConfig!$B$1:$C$1176,2,FALSE)","v":{"$error":"#N/A"}},{"$f":"VLOOKUP(VALUE(RIGHT(VLOOKUP(VALUE(LEFT(LevelDifficultyConfig!L107,4)),[3]RewardGroup!$B$1:$E$670,4,FALSE),5)),[4]RewardItemConfig!$B$1:$C$1176,2,FALSE)","v":{"$error":"#N/A"}},{"$error":"#N/A"},null,null,"11022#1|14#280|3#28"]
[null,6012,"普通-6-1",8,"4026#3026",{"$f":"VLOOKUP(VALUE(LEFT(VLOOKUP(VALUE(RIGHT(LevelDifficultyConfig!L108,4)),[3]RewardGroup!$B$1:$E$670,4,FALSE),5)),[4]RewardItemConfig!$B$1:$C$1176,2,FALSE)","v":{"$error":"#N/A"}},{"$f":"VLOOKUP(VALUE(RIGHT(VLOOKUP(VALUE(RIGHT(LevelDifficultyConfig!L108,4)),[3]RewardGroup!$B$1:$E$670,4,FALSE),5)),[4]RewardItemConfig!$B$1:$C$1176,2,FALSE)","v":{"$error":"#N/A"}},{"$f":"VLOOKUP(VALUE(LEFT(VLOOKUP(VALUE(LEFT(LevelDifficultyConfig!L108,4)),[3]RewardGroup!$B$1:$E$670,4,FALSE),5)),[4]RewardItemConfig!$B$1:$C$1176,2,FALSE)","v":{"$error":"#N/A"}},{"$f":"VLOOKUP(VALUE(RIGHT(VLOOKUP(VALUE(LEFT(LevelDifficultyConfig!L108,4)),[3]RewardGroup!$B$1:$E$670,4,FALSE),5)),[4]RewardItemConfig!$B$1:$C$1176,2,FALSE)","v":{"$error":"#N/A"}},{"$error":"#N/A"},null,null,"11002#1|14#280|3#28"]
[null,6022,"普通-6-2",8,"4027#3027",{"$f":"VLOOKUP(VALUE(LEFT(VLOOKUP(VALUE(RIGHT(LevelDifficultyConfig!L109,4)),[3]RewardGroup!$B$1:$E$670,4,FALSE),5)),[4]RewardItemConfig!$B$1:$C$1176,2,FALSE)","v":{"$error":"#N/A"}},{"$f":"VLOOKUP(VALUE(RIGHT(VLOOKUP(VALUE(RIGHT(LevelDifficultyConfig!L109,4)),[3]RewardGroup!$B$1:$E$670,4,FALSE),5)),[4]RewardItemConfig!$B$1:$C$1176,2,FALSE)","v":{"$error":"#N/A"}},{"$f":"VLOOKUP(VALUE(LEFT(VLOOKUP(VALUE(LEFT(LevelDifficultyConfig!L109,4)),[3]RewardGroup!$B$1:$E$670,4,FALSE),5)),[4]RewardItemConfig!$B$1:$C$1176,2,FALSE)","v":{"$error":"#N/A"}},{"$f":"VLOOKUP(VALUE(RIGHT(VLOOKUP(VALUE(LEFT(LevelDifficultyConfig!L109,4)),[3]RewardGroup!$B$1:$E$670,4,FALSE),5)),[4]RewardItemConfig!$B$1:$C$1176,2,FALSE)","v":{"$error":"#N/A"}},{"$error":"#N/A"},null,null,"11022#1|14#280|3#28"]
[null,6032,"普通-6-3",8,"4028#3028",{"$f":"VLOOKUP(VALUE(LEFT(VLOOKUP(VALUE(RIGHT(LevelDifficultyConfig!L110,4)),[3]RewardGroup!$B$1:$E$670,4,FALSE),5)),[4]RewardItemConfig!$B$1:$C$1176,2,FALSE)","v":{"$error":"#N/A"}},{"$f":"VLOOKUP(VALUE(RIGHT(VLOOKUP(VALUE(RIGHT(LevelDifficultyConfig!L110,4)),[3]RewardGroup!$B$1:$E$670,4,FALSE),5)),[4]RewardItemConfig!$B$1:$C$1176,2,FALSE)","v":{"$error":"#N/A"}},{"$f":"VLOOKUP(VALUE(LEFT(VLOOKUP(VALUE(LEFT(LevelDifficultyConfig!L110,4)),[3]RewardGroup!$B$1:$E$670,4,FALSE),5)),[4]RewardItemConfig!$B$1:$C$1176,2,FALSE)","v":{"$error":"#N/A"}},{"$f":"VLOOKUP(VALUE(RIGHT(VLOOKUP(VALUE(LEFT(LevelDifficultyConfig!L110,4)),[3]RewardGroup!$B$1:$E$670,4,FALSE),5)),[4]RewardItemConfig!$B$1:$C$1176,2,FALSE)","v":{"$error":"#N/A"}},{"$error":"#N/A"},null,null,"11002#1|14#280|3#28"]
[null,6042,"普通-6-4",8,"4029#3029",{"$f":"VLOOKUP(VALUE(LEFT(VLOOKUP(VALUE(RIGHT(LevelDifficultyConfig!L111,4)),[3]RewardGroup!$B$1:$E$670,4,FALSE),5)),[4]RewardItemConfig!$B$1:$C$1176,2,FALSE)","v":{"$error":"#N/A"}},{"$f":"VLOOKUP(VALUE(RIGHT(VLOOKUP(VALUE(RIGHT(LevelDifficultyConfig!L111,4)),[3]RewardGroup!$B$1:$E$670,4,FALSE),5)),[4]RewardItemConfig!$B$1:$C$1176,2,FALSE)","v":{"$error":"#N/A"}},{"$f":"VLOOKUP(VALUE(LEFT(VLOOKUP(VALUE(LEFT(LevelDifficultyConfig!L111,4)),[3]RewardGroup!$B$1:$E$670,4,FALSE),5)),[4]RewardItemConfig!$B$1:$C$1176,2,FALSE)","v":{"$error":"#N/A"}},{"$f":"VLOOKUP(VALUE(RIGHT(VLOOKUP(VALUE(LEFT(LevelDifficultyConfig!L111,4)),[3]RewardGroup!$B$1:$E$670,4,FALSE),5)),[4]RewardItemConfig!$B$1:$C$1176,2,FALSE)","v":{"$error":"#N/A"}},{"$error":"#N/A"},null,null,"11022#1|14#280|3#28"]
[null,6052,"普通-6-5",8,"4030#3030",{"$f":"VLOOKUP(VALUE(LEFT(VLOOKUP(VALUE(RIGHT(LevelDifficultyConfig!L112,4)),[3]RewardGroup!$B$1:$E$670,4,FALSE),5)),[4]RewardItemConfig!$B$1:$C$1176,2,FALSE)","v":{"$error":"#N/A"}},{"$f":"VLOOKUP(VALUE(RIGHT(VLOOKUP(VALUE(RIGHT(LevelDifficultyConfig!L112,4)),[3]RewardGroup!$B$1:$E$670,4,FALSE),5)),[4]RewardItemConfig!$B$1:$C$1176,2,FALSE)","v":{"$error":"#N/A"}},{"$f":"VLOOKUP(VALUE(LEFT(VLOOKUP(VALUE(LEFT(LevelDifficultyConfig!L112,4)),[3]RewardGroup!$B$1:$E$670,4,FALSE),5)),[4]RewardItemConfig!$B$1:$C$1176,2,FALSE)","v":{"$error":"#N/A"}},{"$f":"VLOOKUP(VALUE(RIGHT(VLOOKUP(VALUE(LEFT(LevelDifficultyConfig!L112,4)),[3]RewardGroup!$B$1:$E$670,4,FALSE),5)),[4]RewardItemConfig!$B$1:$C$1176,2,FALSE)","v":{"$error":"#N/A"}},{"$error":"#N/A"},null,null,"11002#1|14#280|3#28"]
[null,7012,"普通-7-1",8,"4031#3031",{"$f":"VLOOKUP(VALUE(LEFT(VLOOKUP(VALUE(RIGHT(LevelDifficultyConfig!L113,4)),[3]RewardGroup!$B$1:$E$670,4,FALSE),5)),[4]RewardItemConfig!$B$1:$C$1176,2,FALSE)","v":{"$error":"#N/A"}},{"$f":"VLOOKUP(VALUE(RIGHT(VLOOKUP(VALUE(RIGHT(LevelDifficultyConfig!L113,4)),[3]RewardGroup!$B$1:$E$670,4,FALSE),5)),[4]RewardItemConfig!$B$1:$C$1176,2,FALSE)","v":{"$error":"#N/A"}},{"$f":"VLOOKUP(VALUE(LEFT(VLOOKUP(VALUE(LEFT(LevelDifficultyConfig!L113,4)),[3]RewardGroup!$B$1:$E$670,4,FALSE),5)),[4]RewardItemConfig!$B$1:$C$1176,2,FALSE)","v":{"$error":"#N/A"}},{"$f":"VLOOKUP(VALUE(RIGHT(VLOOKUP(VALUE(LEFT(LevelDifficultyConfig!L113,4)),[3]RewardGroup!$B$1:$E$670,4,FALSE),5)),[4]RewardItemConfig!$B$1:$C$1176,2,FALSE)","v":{"$error":"#N/A"}},{"$error":"#N/A"},null,null,"11022#1|14#280|3#28"]
[null,7022,"普通-7-2",8,"4032#3032",{"$f":"VLOOKUP(VALUE(LEFT(VLOOKUP(VALUE(RIGHT(LevelDifficultyConfig!L114,4)),[3]RewardGroup!$B$1:$E$670,4,FALSE),5)),[4]RewardItemConfig!$B$1:$C$1176,2,FALSE)","v":{"$error":"#N/A"}},{"$f":"VLOOKUP(VALUE(RIGHT(VLOOKUP(VALUE(RIGHT(LevelDifficultyConfig!L114,4)),[3]RewardGroup!$B$1:$E$670,4,FALSE),5)),[4]RewardItemConfig!$B$1:$C$1176,2,FALSE)","v":{"$error":"#N/A"}},{"$f":"VLOOKUP(VALUE(LEFT(VLOOKUP(VALUE(LEFT(LevelDifficultyConfig!L114,4)),[3]RewardGroup!$B$1:$E$670,4,FALSE),5)),[4]RewardItemConfig!$B$1:$C$1176,2,FALSE)","v":{"$error":"#N/A"}},{"$f":"VLOOKUP(VALUE(RIGHT(VLOOKUP(VALUE(LEFT(LevelDifficultyConfig!L114,4)),[3]RewardGroup!$B$1:$E$670,4,FALSE),5)),[4]RewardItemConfig!$B$1:$C$1176,2,FALSE)","v":{"$error":"#N/A"}},{"$error":"#N/A"},null,null,"11002#1|14#280|3#28"]
[null,7032,"普通-7-3",8,"4033#3033",{"$f":"VLOOKUP(VALUE(LEFT(VLOOKUP(VALUE(RIGHT(LevelDifficultyConfig!L115,4)),[3]RewardGroup!$B$1:$E$670,4,FALSE),5)),[4]RewardItemConfig!$B$1:$C$1176,2,FALSE)","v":{"$error":"#N/A"}},{"$f":"VLOOKUP(VALUE(RIGHT(VLOOKUP(VALUE(RIGHT(LevelDifficultyConfig!L115,4)),[3]RewardGroup!$B$1:$E$670,4,FALSE),5)),[4]RewardItemConfig!$B$1:$C$1176,2,FALSE)","v":{"$error":"#N/A"}},{"$f":"VLOOKUP(VALUE(LEFT(VLOOKUP(VALUE(LEFT(LevelDifficultyConfig!L115,4)),[3]RewardGroup!$B$1:$E$670,4,FALSE),5)),[4]RewardItemConfig!$B$1:$C$1176,2,FALSE)","v":{"$error":"#N/A"}},{"$f":"VLOOKUP(VALUE(RIGHT(VLOOKUP(VALUE(LEFT(LevelDifficultyConfig!L115,4)),[3]RewardGroup!$B$1:$E$670,4,FALSE),5)),[4]RewardItemConfig!$B$1:$C$1176,2,FALSE)","v":{"$error":"#N/A"}},{"$error":"#N/A"},null,null,"11022#1|14#280|3#28"]
[null,7042,"普通-7-4",8,"4034#3034",{"$f":"VLOOKUP(VALUE(LEFT(VLOOKUP(VALUE(RIGHT(LevelDifficultyConfig!L116,4)),[3]RewardGroup!$B$1:$E$670,4,FALSE),5)),[4]RewardItemConfig!$B$1:$C$1176,2,FALSE)","v":{"$error":"#N/A"}},{"$f":"VLOOKUP(VALUE(RIGHT(VLOOKUP(VALUE(RIGHT(LevelDifficultyConfig!L116,4)),[3]RewardGroup!$B$1:$E$670,4,FALSE),5)),[4]RewardItemConfig!$B$1:$C$1176,2,FALSE)","v":{"$error":"#N/A"}},{"$f":"VLOOKUP(VALUE(LEFT(VLOOKUP(VALUE(LEFT(LevelDifficultyConfig!L116,4)),[3]RewardGroup!$B$1:$E$670,4,FALSE),5)),[4]RewardItemConfig!$B$1:$C$1176,2,FALSE)","v":{"$error":"#N/A"}},{"$f":"VLOOKUP(VALUE(RIGHT(VLOOKUP(VALUE(LEFT(LevelDifficultyConfig!L116,4)),[3]RewardGroup!$B$1:$E$670,4,FALSE),5)),[4]RewardItemConfig!$B$1:$C$1176,2,FALSE)","v":{"$error":"#N/A"}},{"$error":"#N/A"},null,null,"11002#1|14#280|3#28"]
[null,7052,"普通-7-5",8,"4035#3035",{"$f":"VLOOKUP(VALUE(LEFT(VLOOKUP(VALUE(RIGHT(LevelDifficultyConfig!L117,4)),[3]RewardGroup!$B$1:$E$670,4,FALSE),5)),[4]RewardItemConfig!$B$1:$C$1176,2,FALSE)","v":3},{"$f":"VLOOKUP(VALUE(RIGHT(VLOOKUP(VALUE(RIGHT(LevelDifficultyConfig!L117,4)),[3]RewardGroup!$B$1:$E$670,4,FALSE),5)),[4]RewardItemConfig!$B$1:$C$1176,2,FALSE)","v":{"$error":"#N/A"}},{"$f":"VLOOKUP(VALUE(LEFT(VLOOKUP(VALUE(LEFT(LevelDifficultyConfig!L117,4)),[3]RewardGroup!$B$1:$E$670,4,FALSE),5)),[4]RewardItemConfig!$B$1:$C$1176,2,FALSE)","v":{"$error":"#N/A"}},{"$f":"VLOOKUP(VALUE(RIGHT(VLOOKUP(VALUE(LEFT(LevelDifficultyConfig!L117,4)),[3]RewardGroup!$B$1:$E$670,4,FALSE),5)),[4]RewardItemConfig!$B$1:$C$1176,2,FALSE)","v":{"$error":"#N/A"}},{"$error":"#N/A"},null,null,"11022#1|14#280|3#28"]
[null,8012,"普通-8-1",8,"4036#3036",{"$f":"VLOOKUP(VALUE(LEFT(VLOOKUP(VALUE(RIGHT(LevelDifficultyConfig!L118,4)),[3]RewardGroup!$B$1:$E$670,4,FALSE),5)),[4]RewardItemConfig!$B$1:$C$1176,2,FALSE)","v":3},{"$f":"VLOOKUP(VALUE(RIGHT(VLOOKUP(VALUE(RIGHT(LevelDifficultyConfig!L118,4)),[3]RewardGroup!$B$1:$E$670,4,FALSE),5)),[4]RewardItemConfig!$B$1:$C$1176,2,FALSE)","v":{"$error":"#N/A"}},{"$f":"VLOOKUP(VALUE(LEFT(VLOOKUP(VALUE(LEFT(LevelDifficultyConfig!L118,4)),[3]RewardGroup!$B$1:$E$670,4,FALSE),5)),[4]RewardItemConfig!$B$1:$C$1176,2,FALSE)","v":{"$error":"#N/A"}},{"$f":"VLOOKUP(VALUE(RIGHT(VLOOKUP(VALUE(LEFT(LevelDifficultyConfig!L118,4)),[3]RewardGroup!$B$1:$E$670,4,FALSE),5)),[4]RewardItemConfig!$B$1:$C$1176,2,FALSE)","v":{"$error":"#N/A"}},{"$error":"#N/A"},null,null,"11002#1|14#280|3#28"]
[null,8022,"普通-8-2",8,"4037#3037",{"$f":"VLOOKUP(VALUE(LEFT(VLOOKUP(VALUE(RIGHT(LevelDifficultyConfig!L119,4)),[3]RewardGroup!$B$1:$E$670,4,FALSE),5)),[4]RewardItemConfig!$B$1:$C$1176,2,FALSE)","v":3},{"$f":"VLOOKUP(VALUE(RIGHT(VLOOKUP(VALUE(RIGHT(LevelDifficultyConfig!L119,4)),[3]RewardGroup!$B$1:$E$670,4,FALSE),5)),[4]RewardItemConfig!$B$1:$C$1176,2,FALSE)","v":{"$error":"#N/A"}},{"$f":"VLOOKUP(VALUE(LEFT(VLOOKUP(VALUE(LEFT(LevelDifficultyConfig!L119,4)),[3]RewardGroup!$B$1:$E$670,4,FALSE),5)),[4]RewardItemConfig!$B$1:$C$1176,2,FALSE)","v":{"$error":"#N/A"}},{"$f":"VLOOKUP(VALUE(RIGHT(VLOOKUP(VALUE(LEFT(LevelDifficultyConfig!L119,4)),[3]RewardGroup!$B$1:$E$670,4,FALSE),5)),[4]RewardItemConfig!$B$1:$C$1176,2,FALSE)","v":{"$error":"#N/A"}},{"$error":"#N/A"},null,null,"11022#1|14#280|3#28"]
[null,8032,"普通-8-3",8,"4038#3038",{"$f":"VLOOKUP(VALUE(LEFT(VLOOKUP(VALUE(RIGHT(LevelDifficultyConfig!L120,4)),[3]RewardGroup!$B$1:$E$670,4,FALSE),5)),[4]RewardItemConfig!$B$1:$C$1176,2,FALSE)","v":3},{"$f":"VLOOKUP(VALUE(RIGHT(VLOOKUP(VALUE(RIGHT(LevelDifficultyConfig!L120,4)),[3]RewardGroup!$B$1:$E$670,4,FALSE),5)),[4]RewardItemConfig!$B$1:$C$1176,2,FALSE)","v":{"$error":"#N/A"}},{"$f":"VLOOKUP(VALUE(LEFT(VLOOKUP(VALUE(LEFT(LevelDifficultyConfig!L120,4)),[3]RewardGroup!$B$1:$E$670,4,FALSE),5)),[4]RewardItemConfig!$B$1:$C$1176,2,FALSE)","v":{"$error":"#N/A"}},{"$f":"VLOOKUP(VALUE(RIGHT(VLOOKUP(VALUE(LEFT(LevelDifficultyConfig!L120,4)),[3]RewardGroup!$B$1:$E$670,4,FALSE),5)),[4]RewardItemConfig!$B$1:$C$1176,2,FALSE)","v":{"$error":"#N/A"}},{"$error":"#N/A"},null,null,"11002#1|14#280|3#28"]
[null,8042,"普通-8-4",8,"4039#3039",{"$f":"VLOOKUP(VALUE(LEFT(VLOOKUP(VALUE(RIGHT(LevelDifficultyConfig!L121,4)),[3]RewardGroup!$B$1:$E$670,4,FALSE),5)),[4]RewardItemConfig!$B$1:$C$1176,2,FALSE)","v":3},{"$f":"VLOOKUP(VALUE(RIGHT(VLOOKUP(VALUE(RIGHT(LevelDifficultyConfig!L121,4)),[3]RewardGroup!$B$1:$E$670,4,FALSE),5)),[4]RewardItemConfig!$B$1:$C$1176,2,FALSE)","v":{"$error":"#N/A"}},{"$f":"VLOOKUP(VALUE(LEFT(VLOOKUP(VALUE(LEFT(LevelDifficultyConfig!L121,4)),[3]RewardGroup!$B$1:$E$670,4,FALSE),5)),[4]RewardItemConfig!$B$1:$C$1176,2,FALSE)","v":{"$error":"#N/A"}},{"$f":"VLOOKUP(VALUE(RIGHT(VLOOKUP(VALUE(LEFT(LevelDifficultyConfig!L121,4)),[3]RewardGroup!$B$1:$E$670,4,FALSE),5)),[4]RewardItemConfig!$B$1:$C$1176,2,FALSE)","v":{"$error":"#N/A"}},{"$error":"#N/A"},null,null,"11022#1|14#280|3#28"]
[null,8052,"普通-8-5",8,"4040#3040",{"$f":"VLOOKUP(VALUE(LEFT(VLOOKUP(VALUE(RIGHT(LevelDifficultyConfig!L122,4)),[3]RewardGroup!$B$1:$E$670,4,FALSE),5)),[4]RewardItemConfig!$B$1:$C$1176,2,FALSE)","v":3},{"$f":"VLOOKUP(VALUE(RIGHT(VLOOKUP(VALUE(RIGHT(LevelDifficultyConfig!L122,4)),[3]RewardGroup!$B$1:$E$670,4,FALSE),5)),[4]RewardItemConfig!$B$1:$C$1176,2,FALSE)","v":{"$error":"#N/A"}},{"$f":"VLOOKUP(VALUE(LEFT(VLOOKUP(VALUE(LEFT(LevelDifficultyConfig!L122,4)),[3]RewardGroup!$B$1:$E$670,4,FALSE),5)),[4]RewardItemConfig!$B$1:$C$1176,2,FALSE)","v":{"$error":"#N/A"}},{"$f":"VLOOKUP(VALUE(RIGHT(VLOOKUP(VALUE(LEFT(LevelDifficultyConfig!L122,4)),[3]RewardGroup!$B$1:$E$670,4,FALSE),5)),[4]RewardItemConfig!$B$1:$C$1176,2,FALSE)","v":{"$error":"#N/A"}},{"$error":"#N/A"},null,null,"11002#1|14#280|3#28"]
[null,9012,"普通-9-1",8,"4041#3041",{"$f":"VLOOKUP(VALUE(LEFT(VLOOKUP(VALUE(RIGHT(LevelDifficultyConfig!L123,4)),[3]RewardGroup!$B$1:$E$670,4,FALSE),5)),[4]RewardItemConfig!$B$1:$C$1176,2,FALSE)","v":3},{"$f":"VLOOKUP(VALUE(RIGHT(VLOOKUP(VALUE(RIGHT(LevelDifficultyConfig!L123,4)),[3]RewardGroup!$B$1:$E$670,4,FALSE),5)),[4]RewardItemConfig!$B$1:$C$1176,2,FALSE)","v":{"$error":"#N/A"}},{"$f":"VLOOKUP(VALUE(LEFT(VLOOKUP(VALUE(LEFT(LevelDifficultyConfig!L123,4)),[3]RewardGroup!$B$1:$E$670,4,FALSE),5)),[4]RewardItemConfig!$B$1:$C$1176,2,FALSE)","v":{"$error":"#N/A"}},{"$f":"VLOOKUP(VALUE(RIGHT(VLOOKUP(VALUE(LEFT(LevelDifficultyConfig!L123,4)),[3]RewardGroup!$B$1:$E$670,4,FALSE),5)),[4]RewardItemConfig!$B$1:$C$1176,2,FALSE)","v":{"$error":"#N/A"}},{"$error":"#N/A"},null,null,"11022#1|14#280|3#28"]
[null,9022,"普通-9-2",8,"4042#3042",{"$f":"VLOOKUP(VALUE(LEFT(VLOOKUP(VALUE(RIGHT(LevelDifficultyConfig!L124,4)),[3]RewardGroup!$B$1:$E$670,4,FALSE),5)),[4]RewardItemConfig!$B$1:$C$1176,2,FALSE)","v":3},{"$f":"VLOOKUP(VALUE(RIGHT(VLOOKUP(VALUE(RIGHT(LevelDifficultyConfig!L124,4)),[3]RewardGroup!$B$1:$E$670,4,FALSE),5)),[4]RewardItemConfig!$B$1:$C$1176,2,FALSE)","v":{"$error":"#N/A"}},{"$f":"VLOOKUP(VALUE(LEFT(VLOOKUP(VALUE(LEFT(LevelDifficultyConfig!L124,4)),[3]RewardGroup!$B$1:$E$670,4,FALSE),5)),[4]RewardItemConfig!$B$1:$C$1176,2,FALSE)","v":{"$error":"#N/A"}},{"$f":"VLOOKUP(VALUE(RIGHT(VLOOKUP(VALUE(LEFT(LevelDifficultyConfig!L124,4)),[3]RewardGroup!$B$1:$E$670,4,FALSE),5)),[4]RewardItemConfig!$B$1:$C$1176,2,FALSE)","v":{"$error":"#N/A"}},{"$error":"#N/A"},null,null,"11002#1|14#280|3#28"]
[null,9032,"普通-9-3",8,"4043#3043",{"$f":"VLOOKUP(VALUE(LEFT(VLOOKUP(VALUE(RIGHT(LevelDifficultyConfig!L125,4)),[3]RewardGroup!$B$1:$E$670,4,FALSE),5)),[4]RewardItemConfig!$B$1:$C$1176,2,FALSE)","v":3},{"$f":"VLOOKUP(VALUE(RIGHT(VLOOKUP(VALUE(RIGHT(LevelDifficultyConfig!L125,4)),[3]RewardGroup!$B$1:$E$670,4,FALSE),5)),[4]RewardItemConfig!$B$1:$C$1176,2,FALSE)","v":{"$error":"#N/A"}},{"$f":"VLOOKUP(VALUE(LEFT(VLOOKUP(VALUE(LEFT(LevelDifficultyConfig!L125,4)),[3]RewardGroup!$B$1:$E$670,4,FALSE),5)),[4]RewardItemConfig!$B$1:$C$1176,2,FALSE)","v":{"$error":"#N/A"}},{"$f":"VLOOKUP(VALUE(RIGHT(VLOOKUP(VALUE(LEFT(LevelDifficultyConfig!L125,4)),[3]RewardGroup!$B$1:$E$670,4,FALSE),5)),[4]RewardItemConfig!$B$1:$C$1176,2,FALSE)","v":{"$error":"#N/A"}},{"$error":"#N/A"},null,null,"11022#1|14#280|3#28"]
[null,9042,"普通-9-4",8,"4044#3044",{"$f":"VLOOKUP(VALUE(LEFT(VLOOKUP(VALUE(RIGHT(LevelDifficultyConfig!L126,4)),[3]RewardGroup!$B$1:$E$670,4,FALSE),5)),[4]RewardItemConfig!$B$1:$C$1176,2,FALSE)","v":3},{"$f":"VLOOKUP(VALUE(RIGHT(VLOOKUP(VALUE(RIGHT(LevelDifficultyConfig!L126,4)),[3]RewardGroup!$B$1:$E$670,4,FALSE),5)),[4]RewardItemConfig!$B$1:$C$1176,2,FALSE)","v":{"$error":"#N/A"}},{"$f":"VLOOKUP(VALUE(LEFT(VLOOKUP(VALUE(LEFT(LevelDifficultyConfig!L126,4)),[3]RewardGroup!$B$1:$E$670,4,FALSE),5)),[4]RewardItemConfig!$B$1:$C$1176,2,FALSE)","v":{"$error":"#N/A"}},{"$f":"VLOOKUP(VALUE(RIGHT(VLOOKUP(VALUE(LEFT(LevelDifficultyConfig!L126,4)),[3]RewardGroup!$B$1:$E$670,4,FALSE),5)),[4]RewardItemConfig!$B$1:$C$1176,2,FALSE)","v":{"$error":"#N/A"}},{"$error":"#N/A"},null,null,"11002#1|14#280|3#28"]
[null,9052,"普通-9-5",8,"4045#3045",{"$f":"VLOOKUP(VALUE(LEFT(VLOOKUP(VALUE(RIGHT(LevelDifficultyConfig!L127,4)),[3]RewardGroup!$B$1:$E$670,4,FALSE),5)),[4]RewardItemConfig!$B$1:$C$1176,2,FALSE)","v":3},{"$f":"VLOOKUP(VALUE(RIGHT(VLOOKUP(VALUE(RIGHT(LevelDifficultyConfig!L127,4)),[3]RewardGroup!$B$1:$E$670,4,FALSE),5)),[4]RewardItemConfig!$B$1:$C$1176,2,FALSE)","v":{"$error":"#N/A"}},{"$f":"VLOOKUP(VALUE(LEFT(VLOOKUP(VALUE(LEFT(LevelDifficultyConfig!L127,4)),[3]RewardGroup!$B$1:$E$670,4,FALSE),5)),[4]RewardItemConfig!$B$1:$C$1176,2,FALSE)","v":{"$error":"#N/A"}},{"$f":"VLOOKUP(VALUE(RIGHT(VLOOKUP(VALUE(LEFT(LevelDifficultyConfig!L127,4)),[3]RewardGroup!$B$1:$E$670,4,FALSE),5)),[4]RewardItemConfig!$B$1:$C$1176,2,FALSE)","v":{"$error":"#N/A"}},{"$error":"#N/A"},null,null,"11022#1|14#280|3#28"]
[null,10012,"普通-10-1",8,"4046#3046",{"$f":"VLOOKUP(VALUE(LEFT(VLOOKUP(VALUE(RIGHT(LevelDifficultyConfig!L128,4)),[3]RewardGroup!$B$1:$E$670,4,FALSE),5)),[4]RewardItemConfig!$B$1:$C$1176,2,FALSE)","v":{"$error":"#N/A"}},{"$f":"VLOOKUP(VALUE(RIGHT(VLOOKUP(VALUE(RIGHT(LevelDifficultyConfig!L128,4)),[3]RewardGroup!$B$1:$E$670,4,FALSE),5)),[4]RewardItemConfig!$B$1:$C$1176,2,FALSE)","v":{"$error":"#N/A"}},{"$f":"VLOOKUP(VALUE(LEFT(VLOOKUP(VALUE(LEFT(LevelDifficultyConfig!L128,4)),[3]RewardGroup!$B$1:$E$670,4,FALSE),5)),[4]RewardItemConfig!$B$1:$C$1176,2,FALSE)","v":{"$error":"#N/A"}},{"$f":"VLOOKUP(VALUE(RIGHT(VLOOKUP(VALUE(LEFT(LevelDifficultyConfig!L128,4)),[3]RewardGroup!$B$1:$E$670,4,FALSE),5)),[4]RewardItemConfig!$B$1:$C$1176,2,FALSE)","v":{"$error":"#N/A"}},{"$error":"#N/A"},null,null,"11002#1|14#280|3#28"]
[null,10022,"普通-10-2",8,"4047#3047",{"$f":"VLOOKUP(VALUE(LEFT(VLOOKUP(VALUE(RIGHT(LevelDifficultyConfig!L129,4)),[3]RewardGroup!$B$1:$E$670,4,FALSE),5)),[4]RewardItemConfig!$B$1:$C$1176,2,FALSE)","v":{"$error":"#N/A"}},{"$f":"VLOOKUP(VALUE(RIGHT(VLOOKUP(VALUE(RIGHT(LevelDifficultyConfig!L129,4)),[3]RewardGroup!$B$1:$E$670,4,FALSE),5)),[4]RewardItemConfig!$B$1:$C$1176,2,FALSE)","v":{"$error":"#N/A"}},{"$f":"VLOOKUP(VALUE(LEFT(VLOOKUP(VALUE(LEFT(LevelDifficultyConfig!L129,4)),[3]RewardGroup!$B$1:$E$670,4,FALSE),5)),[4]RewardItemConfig!$B$1:$C$1176,2,FALSE)","v":{"$error":"#N/A"}},{"$f":"VLOOKUP(VALUE(RIGHT(VLOOKUP(VALUE(LEFT(LevelDifficultyConfig!L129,4)),[3]RewardGroup!$B$1:$E$670,4,FALSE),5)),[4]RewardItemConfig!$B$1:$C$1176,2,FALSE)","v":{"$error":"#N/A"}},{"$error":"#N/A"},null,null,"11022#1|14#280|3#28"]
[null,10032,"普通-10-3",8,"4048#3048",{"$f":"VLOOKUP(VALUE(LEFT(VLOOKUP(VALUE(RIGHT(LevelDifficultyConfig!L130,4)),[3]RewardGroup!$B$1:$E$670,4,FALSE),5)),[4]RewardItemConfig!$B$1:$C$1176,2,FALSE)","v":{"$error":"#N/A"}},{"$f":"VLOOKUP(VALUE(RIGHT(VLOOKUP(VALUE(RIGHT(LevelDifficultyConfig!L130,4)),[3]RewardGroup!$B$1:$E$670,4,FALSE),5)),[4]RewardItemConfig!$B$1:$C$1176,2,FALSE)","v":{"$error":"#N/A"}},{"$f":"VLOOKUP(VALUE(LEFT(VLOOKUP(VALUE(LEFT(LevelDifficultyConfig!L130,4)),[3]RewardGroup!$B$1:$E$670,4,FALSE),5)),[4]RewardItemConfig!$B$1:$C$1176,2,FALSE)","v":{"$error":"#N/A"}},{"$f":"VLOOKUP(VALUE(RIGHT(VLOOKUP(VALUE(LEFT(LevelDifficultyConfig!L130,4)),[3]RewardGroup!$B$1:$E$670,4,FALSE),5)),[4]RewardItemConfig!$B$1:$C$1176,2,FALSE)","v":{"$error":"#N/A"}},{"$error":"#N/A"},null,null,"11002#1|14#280|3#28"]
[null,10042,"普通-10-4",8,"4049#3049",{"$f":"VLOOKUP(VALUE(LEFT(VLOOKUP(VALUE(RIGHT(LevelDifficultyConfig!L131,4)),[3]RewardGroup!$B$1:$E$670,4,FALSE),5)),[4]RewardItemConfig!$B$1:$C$1176,2,FALSE)","v":{"$error":"#N/A"}},{"$f":"VLOOKUP(VALUE(RIGHT(VLOOKUP(VALUE(RIGHT(LevelDifficultyConfig!L131,4)),[3]RewardGroup!$B$1:$E$670,4,FALSE),5)),[4]RewardItemConfig!$B$1:$C$1176,2,FALSE)","v":{"$error":"#N/A"}},{"$f":"VLOOKUP(VALUE(LEFT(VLOOKUP(VALUE(LEFT(LevelDifficultyConfig!L131,4)),[3]RewardGroup!$B$1:$E$670,4,FALSE),5)),[4]RewardItemConfig!$B$1:$C$1176,2,FALSE)","v":{"$error":"#N/A"}},{"$f":"VLOOKUP(VALUE(RIGHT(VLOOKUP(VALUE(LEFT(LevelDifficultyConfig!L131,4)),[3]RewardGroup!$B$1:$E$670,4,FALSE),5)),[4]RewardItemConfig!$B$1:$C$1176,2,FALSE)","v":{"$error":"#N/A"}},{"$error":"#N/A"},null,null,"11022#1|14#280|3#28"]
[null,10052,"普通-10-5",8,"4050#3050",{"$f":"VLOOKUP(VALUE(LEFT(VLOOKUP(VALUE(RIGHT(LevelDifficultyConfig!L132,4)),[3]RewardGroup!$B$1:$E$670,4,FALSE),5)),[4]RewardItemConfig!$B$1:$C$1176,2,FALSE)","v":{"$error":"#N/A"}},{"$f":"VLOOKUP(VALUE(RIGHT(VLOOKUP(VALUE(RIGHT(LevelDifficultyConfig!L132,4)),[3]RewardGroup!$B$1:$E$670,4,FALSE),5)),[4]RewardItemConfig!$B$1:$C$1176,2,FALSE)","v":{"$error":"#N/A"}},{"$f":"VLOOKUP(VALUE(LEFT(VLOOKUP(VALUE(LEFT(LevelDifficultyConfig!L132,4)),[3]RewardGroup!$B$1:$E$670,4,FALSE),5)),[4]RewardItemConfig!$B$1:$C$1176,2,FALSE)","v":{"$error":"#N/A"}},{"$f":"VLOOKUP(VALUE(RIGHT(VLOOKUP(VALUE(LEFT(LevelDifficultyConfig!L132,4)),[3]RewardGroup!$B$1:$E$670,4,FALSE),5)),[4]RewardItemConfig!$B$1:$C$1176,2,FALSE)","v":{"$error":"#N/A"}},{"$error":"#N/A"},null,null,"11002#1|14#280|3#28"]
[null,1013,"困难-1-1",8,"4001#3001",{"$f":"VLOOKUP(VALUE(LEFT(VLOOKUP(VALUE(RIGHT(LevelDifficultyConfig!L158,4)),[3]RewardGroup!$B$1:$E$670,4,FALSE),5)),[4]RewardItemConfig!$B$1:$C$1176,2,FALSE)","v":{"$error":"#N/A"}},{"$f":"VLOOKUP(VALUE(RIGHT(VLOOKUP(VALUE(RIGHT(LevelDifficultyConfig!L158,4)),[3]RewardGroup!$B$1:$E$670,4,FALSE),5)),[4]RewardItemConfig!$B$1:$C$1176,2,FALSE)","v":{"$error":"#N/A"}},{"$f":"VLOOKUP(VALUE(LEFT(VLOOKUP(VALUE(LEFT(LevelDifficultyConfig!L158,4)),[3]RewardGroup!$B$1:$E$670,4,FALSE),5)),[4]RewardItemConfig!$B$1:$C$1176,2,FALSE)","v":{"$error":"#N/A"}},{"$f":"VLOOKUP(VALUE(RIGHT(VLOOKUP(VALUE(LEFT(LevelDifficultyConfig!L158,4)),[3]RewardGroup!$B$1:$E$670,4,FALSE),5)),[4]RewardItemConfig!$B$1:$C$1176,2,FALSE)","v":{"$error":"#N/A"}},{"$error":"#N/A"},null,null,"11022#1|14#280|3#28"]
[null,1023,"困难-1-2",8,"4002#3002",{"$f":"VLOOKUP(VALUE(LEFT(VLOOKUP(VALUE(RIGHT(LevelDifficultyConfig!L159,4)),[3]RewardGroup!$B$1:$E$670,4,FALSE),5)),[4]RewardItemConfig!$B$1:$C$1176,2,FALSE)","v":{"$error":"#N/A"}},{"$f":"VLOOKUP(VALUE(RIGHT(VLOOKUP(VALUE(RIGHT(LevelDifficultyConfig!L159,4)),[3]RewardGroup!$B$1:$E$670,4,FALSE),5)),[4]RewardItemConfig!$B$1:$C$1176,2,FALSE)","v":{"$error":"#N/A"}},{"$f":"VLOOKUP(VALUE(LEFT(VLOOKUP(VALUE(LEFT(LevelDifficultyConfig!L159,4)),[3]RewardGroup!$B$1:$E$670,4,FALSE),5)),[4]RewardItemConfig!$B$1:$C$1176,2,FALSE)","v":{"$error":"#N/A"}},{"$f":"VLOOKUP(VALUE(RIGHT(VLOOKUP(VALUE(LEFT(LevelDifficultyConfig!L159,4)),[3]RewardGroup!$B$1:$E$670,4,FALSE),5)),[4]RewardItemConfig!$B$1:$C$1176,2,FALSE)","v":{"$error":"#N/A"}},{"$error":"#N/A"},null,null,"11002#1|14#280|3#28"]
[null,1033,"困难-1-3",8,"4003#3003",{"$f":"VLOOKUP(VALUE(LEFT(VLOOKUP(VALUE(RIGHT(LevelDifficultyConfig!L160,4)),[3]RewardGroup!$B$1:$E$670,4,FALSE),5)),[4]RewardItemConfig!$B$1:$C$1176,2,FALSE)","v":{"$error":"#N/A"}},{"$f":"VLOOKUP(VALUE(RIGHT(VLOOKUP(VALUE(RIGHT(LevelDifficultyConfig!L160,4)),[3]RewardGroup!$B$1:$E$670,4,FALSE),5)),[4]RewardItemConfig!$B$1:$C$1176,2,FALSE)","v":{"$error":"#N/A"}},{"$f":"VLOOKUP(VALUE(LEFT(VLOOKUP(VALUE(LEFT(LevelDifficultyConfig!L160,4)),[3]RewardGroup!$B$1:$E$670,4,FALSE),5)),[4]RewardItemConfig!$B$1:$C$1176,2,FALSE)","v":{"$error":"#N/A"}},{"$f":"VLOOKUP(VALUE(RIGHT(VLOOKUP(VALUE(LEFT(LevelDifficultyConfig!L160,4)),[3]RewardGroup!$B$1:$E$670,4,FALSE),5)),[4]RewardItemConfig!$B$1:$C$1176,2,FALSE)","v":{"$error":"#N/A"}},{"$error":"#N/A"},null,null,"11022#1|14#280|3#28"]
[null,1043,"困难-1-4",8,"4004#3004",{"$f":"VLOOKUP(VALUE(LEFT(VLOOKUP(VALUE(RIGHT(LevelDifficultyConfig!L161,4)),[3]RewardGroup!$B$1:$E$670,4,FALSE),5)),[4]RewardItemConfig!$B$1:$C$1176,2,FALSE)","v":{"$error":"#N/A"}},{"$f":"VLOOKUP(VALUE(RIGHT(VLOOKUP(VALUE(RIGHT(LevelDifficultyConfig!L161,4)),[3]RewardGroup!$B$1:$E$670,4,FALSE),5)),[4]RewardItemConfig!$B$1:$C$1176,2,FALSE)","v":{"$error":"#N/A"}},{"$f":"VLOOKUP(VALUE(LEFT(VLOOKUP(VALUE(LEFT(LevelDifficultyConfig!L161,4)),[3]RewardGroup!$B$1:$E$670,4,FALSE),5)),[4]RewardItemConfig!$B$1:$C$1176,2,FALSE)","v":{"$error":"#N/A"}},{"$f":"VLOOKUP(VALUE(RIGHT(VLOOKUP(VALUE(LEFT(LevelDifficultyConfig!L161,4)),[3]RewardGroup!$B$1:$E$670,4,FALSE),5)),[4]RewardItemConfig!$B$1:$C$1176,2,FALSE)","v":{"$error":"#N/A"}},{"$error":"#N/A"},null,null,"11002#1|14#280|3#28"]
[null,1053,"困难-1-5",8,"4005#3005",{"$f":"VLOOKUP(VALUE(LEFT(VLOOKUP(VALUE(RIGHT(LevelDifficultyConfig!L162,4)),[3]RewardGroup!$B$1:$E$670,4,FALSE),5)),[4]RewardItemConfig!$B$1:$C$1176,2,FALSE)","v":{"$error":"#N/A"}},{"$f":"VLOOKUP(VALUE(RIGHT(VLOOKUP(VALUE(RIGHT(LevelDifficultyConfig!L162,4)),[3]RewardGroup!$B$1:$E$670,4,FALSE),5)),[4]RewardItemConfig!$B$1:$C$1176,2,FALSE)","v":{"$error":"#N/A"}},{"$f":"VLOOKUP(VALUE(LEFT(VLOOKUP(VALUE(LEFT(LevelDifficultyConfig!L162,4)),[3]RewardGroup!$B$1:$E$670,4,FALSE),5)),[4]RewardItemConfig!$B$1:$C$1176,2,FALSE)","v":{"$error":"#N/A"}},{"$f":"VLOOKUP(VALUE(RIGHT(VLOOKUP(VALUE(LEFT(LevelDifficultyConfig!L162,4)),[3]RewardGroup!$B$1:$E$670,4,FALSE),5)),[4]RewardItemConfig!$B$1:$C$1176,2,FALSE)","v":{"$error":"#N/A"}},{"$error":"#N/A"},null,null,"11022#1|14#280|3#28"]
[null,2013,"困难-2-1",8,"4006#3006",{"$f":"VLOOKUP(VALUE(LEFT(VLOOKUP(VALUE(RIGHT(LevelDifficultyConfig!L163,4)),[3]RewardGroup!$B$1:$E$670,4,FALSE),5)),[4]RewardItemConfig!$B$1:$C$1176,2,FALSE)","v":{"$error":"#N/A"}},{"$f":"VLOOKUP(VALUE(RIGHT(VLOOKUP(VALUE(RIGHT(LevelDifficultyConfig!L163,4)),[3]RewardGroup!$B$1:$E$670,4,FALSE),5)),[4]RewardItemConfig!$B$1:$C$1176,2,FALSE)","v":{"$error":"#N/A"}},{"$f":"VLOOKUP(VALUE(LEFT(VLOOKUP(VALUE(LEFT(LevelDifficultyConfig!L163,4)),[3]RewardGroup!$B$1:$E$670,4,FALSE),5)),[4]RewardItemConfig!$B$1:$C$1176,2,FALSE)","v":{"$error":"#N/A"}},{"$f":"VLOOKUP(VALUE(RIGHT(VLOOKUP(VALUE(LEFT(LevelDifficultyConfig!L163,4)),[3]RewardGroup!$B$1:$E$670,4,FALSE),5)),[4]RewardItemConfig!$B$1:$C$1176,2,FALSE)","v":{"$error":"#N/A"}},{"$error":"#N/A"},null,null,"11002#1|14#280|3#28"]
[null,2023,"困难-2-2",8,"4007#3007",{"$f":"VLOOKUP(VALUE(LEFT(VLOOKUP(VALUE(RIGHT(LevelDifficultyConfig!L164,4)),[3]RewardGroup!$B$1:$E$670,4,FALSE),5)),[4]RewardItemConfig!$B$1:$C$1176,2,FALSE)","v":{"$error":"#N/A"}},{"$f":"VLOOKUP(VALUE(RIGHT(VLOOKUP(VALUE(RIGHT(LevelDifficultyConfig!L164,4)),[3]RewardGroup!$B$1:$E$670,4,FALSE),5)),[4]RewardItemConfig!$B$1:$C$1176,2,FALSE)","v":{"$error":"#N/A"}},{"$f":"VLOOKUP(VALUE(LEFT(VLOOKUP(VALUE(LEFT(LevelDifficultyConfig!L164,4)),[3]RewardGroup!$B$1:$E$670,4,FALSE),5)),[4]RewardItemConfig!$B$1:$C$1176,2,FALSE)","v":{"$error":"#N/A"}},{"$f":"VLOOKUP(VALUE(RIGHT(VLOOKUP(VALUE(LEFT(LevelDifficultyConfig!L164,4)),[3]RewardGroup!$B$1:$E$670,4,FALSE),5)),[4]RewardItemConfig!$B$1:$C$1176,2,FALSE)","v":{"$error":"#N/A"}},{"$error":"#N/A"},null,null,"11022#1|14#280|3#28"]
[null,2033,"困难-2-3",8,"4008#3008",{"$f":"VLOOKUP(VALUE(LEFT(VLOOKUP(VALUE(RIGHT(LevelDifficultyConfig!L165,4)),[3]RewardGroup!$B$1:$E$670,4,FALSE),5)),[4]RewardItemConfig!$B$1:$C$1176,2,FALSE)","v":{"$error":"#N/A"}},{"$f":"VLOOKUP(VALUE(RIGHT(VLOOKUP(VALUE(RIGHT(LevelDifficultyConfig!L165,4)),[3]RewardGroup!$B$1:$E$670,4,FALSE),5)),[4]RewardItemConfig!$B$1:$C$1176,2,FALSE)","v":{"$error":"#N/A"}},{"$f":"VLOOKUP(VALUE(LEFT(VLOOKUP(VALUE(LEFT(LevelDifficultyConfig!L165,4)),[3]RewardGroup!$B$1:$E$670,4,FALSE),5)),[4]RewardItemConfig!$B$1:$C$1176,2,FALSE)","v":{"$error":"#N/A"}},{"$f":"VLOOKUP(VALUE(RIGHT(VLOOKUP(VALUE(LEFT(LevelDifficultyConfig!L165,4)),[3]RewardGroup!$B$1:$E$670,4,FALSE),5)),[4]RewardItemConfig!$B$1:$C$1176,2,FALSE)","v":{"$error":"#N/A"}},{"$error":"#N/A"},null,null,"11002#1|14#280|3#28"]
[null,2043,"困难-2-4",8,"4009#3009",{"$f":"VLOOKUP(VALUE(LEFT(VLOOKUP(VALUE(RIGHT(LevelDifficultyConfig!L166,4)),[3]RewardGroup!$B$1:$E$670,4,FALSE),5)),[4]RewardItemConfig!$B$1:$C$1176,2,FALSE)","v":{"$error":"#N/A"}},{"$f":"VLOOKUP(VALUE(RIGHT(VLOOKUP(VALUE(RIGHT(LevelDifficultyConfig!L166,4)),[3]RewardGroup!$B$1:$E$670,4,FALSE),5)),[4]RewardItemConfig!$B$1:$C$1176,2,FALSE)","v":{"$error":"#N/A"}},{"$f":"VLOOKUP(VALUE(LEFT(VLOOKUP(VALUE(LEFT(LevelDifficultyConfig!L166,4)),[3]RewardGroup!$B$1:$E$670,4,FALSE),5)),[4]RewardItemConfig!$B$1:$C$1176,2,FALSE)","v":{"$error":"#N/A"}},{"$f":"VLOOKUP(VALUE(RIGHT(VLOOKUP(VALUE(LEFT(LevelDifficultyConfig!L166,4)),[3]RewardGroup!$B$1:$E$670,4,FALSE),5)),[4]RewardItemConfig!$B$1:$C$1176,2,FALSE)","v":{"$error":"#N/A"}},{"$error":"#N/A"},null,null,"11022#1|14#280|3#28"]
[null,2053,"困难-2-5",8,"4010#3010",{"$f":"VLOOKUP(VALUE(LEFT(VLOOKUP(VALUE(RIGHT(LevelDifficultyConfig!L167,4)),[3]RewardGroup!$B$1:$E$670,4,FALSE),5)),[4]RewardItemConfig!$B$1:$C$1176,2,FALSE)","v":{"$error":"#N/A"}},{"$f":"VLOOKUP(VALUE(RIGHT(VLOOKUP(VALUE(RIGHT(LevelDifficultyConfig!L167,4)),[3]RewardGroup!$B$1:$E$670,4,FALSE),5)),[4]RewardItemConfig!$B$1:$C$1176,2,FALSE)","v":{"$error":"#N/A"}},{"$f":"VLOOKUP(VALUE(LEFT(VLOOKUP(VALUE(LEFT(LevelDifficultyConfig!L167,4)),[3]RewardGroup!$B$1:$E$670,4,FALSE),5)),[4]RewardItemConfig!$B$1:$C$1176,2,FALSE)","v":{"$error":"#N/A"}},{"$f":"VLOOKUP(VALUE(RIGHT(VLOOKUP(VALUE(LEFT(LevelDifficultyConfig!L167,4)),[3]RewardGroup!$B$1:$E$670,4,FALSE),5)),[4]RewardItemConfig!$B$1:$C$1176,2,FALSE)","v":{"$error":"#N/A"}},{"$error":"#N/A"},null,null,"11002#1|14#280|3#28"]
[null,3013,"困难-3-1",8,"4011#3011",{"$f":"VLOOKUP(VALUE(LEFT(VLOOKUP(VALUE(RIGHT(LevelDifficultyConfig!L168,4)),[3]RewardGroup!$B$1:$E$670,4,FALSE),5)),[4]RewardItemConfig!$B$1:$C$1176,2,FALSE)","v":{"$error":"#VALUE!"}},{"$f":"VLOOKUP(VALUE(RIGHT(VLOOKUP(VALUE(RIGHT(LevelDifficultyConfig!L168,4)),[3]RewardGroup!$B$1:$E$670,4,FALSE),5)),[4]RewardItemConfig!$B$1:$C$1176,2,FALSE)","v":{"$error":"#VALUE!"}},{"$f":"VLOOKUP(VALUE(LEFT(VLOOKUP(VALUE(LEFT(LevelDifficultyConfig!L168,4)),[3]RewardGroup!$B$1:$E$670,4,FALSE),5)),[4]RewardItemConfig!$B$1:$C$1176,2,FALSE)","v":{"$error":"#N/A"}},{"$f":"VLOOKUP(VALUE(RIGHT(VLOOKUP(VALUE(LEFT(LevelDifficultyConfig!L168,4)),[3]RewardGroup!$B$1:$E$670,4,FALSE),5)),[4]RewardItemConfig!$B$1:$C$1176,2,FALSE)","v":{"$error":"#N/A"}},{"$f":"I118&\"#1|\"&G118&\"#280|\"&F118&\"#28\"","v":{"$error":"#N/A"}},null,null,"11022#1|14#280|3#28"]
[null,3023,"困难-3-2",8,"4012#3012",{"$f":"VLOOKUP(VALUE(LEFT(VLOOKUP(VALUE(RIGHT(LevelDifficultyConfig!L169,4)),[3]RewardGroup!$B$1:$E$670,4,FALSE),5)),[4]RewardItemConfig!$B$1:$C$1176,2,FALSE)","v":{"$error":"#VALUE!"}},{"$f":"VLOOKUP(VALUE(RIGHT(VLOOKUP(VALUE(RIGHT(LevelDifficultyConfig!L169,4)),[3]RewardGroup!$B$1:$E$670,4,FALSE),5)),[4]RewardItemConfig!$B$1:$C$1176,2,FALSE)","v":{"$error":"#VALUE!"}},{"$f":"VLOOKUP(VALUE(LEFT(VLOOKUP(VALUE(LEFT(LevelDifficultyConfig!L169,4)),[3]RewardGroup!$B$1:$E$670,4,FALSE),5)),[4]RewardItemConfig!$B$1:$C$1176,2,FALSE)","v":{"$error":"#N/A"}},{"$f":"VLOOKUP(VALUE(RIGHT(VLOOKUP(VALUE(LEFT(LevelDifficultyConfig!L169,4)),[3]RewardGroup!$B$1:$E$670,4,FALSE),5)),[4]RewardItemConfig!$B$1:$C$1176,2,FALSE)","v":{"$error":"#N/A"}},{"$error":"#N/A"},null,null,"11002#1|14#280|3#28"]
[null,3033,"困难-3-3",8,"4013#3013",{"$f":"VLOOKUP(VALUE(LEFT(VLOOKUP(VALUE(RIGHT(LevelDifficultyConfig!L170,4)),[3]RewardGroup!$B$1:$E$670,4,FALSE),5)),[4]RewardItemConfig!$B$1:$C$1176,2,FALSE)","v":{"$error":"#VALUE!"}},{"$f":"VLOOKUP(VALUE(RIGHT(VLOOKUP(VALUE(RIGHT(LevelDifficultyConfig!L170,4)),[3]RewardGroup!$B$1:$E$670,4,FALSE),5)),[4]RewardItemConfig!$B$1:$C$1176,2,FALSE)","v":{"$error":"#VALUE!"}},{"$f":"VLOOKUP(VALUE(LEFT(VLOOKUP(VALUE(LEFT(LevelDifficultyConfig!L170,4)),[3]RewardGroup!$B$1:$E$670,4,FALSE),5)),[4]RewardItemConfig!$B$1:$C$1176,2,FALSE)","v":{"$error":"#N/A"}},{"$f":"VLOOKUP(VALUE(RIGHT(VLOOKUP(VALUE(LEFT(LevelDifficultyConfig!L170,4)),[3]RewardGroup!$B$1:$E$670,4,FALSE),5)),[4]RewardItemConfig!$B$1:$C$1176,2,FALSE)","v":{"$error":"#N/A"}},{"$error":"#N/A"},null,null,"11022#1|14#280|3#28"]
[null,3043,"困难-3-4",8,"4014#3014",{"$f":"VLOOKUP(VALUE(LEFT(VLOOKUP(VALUE(RIGHT(LevelDifficultyConfig!L171,4)),[3]RewardGroup!$B$1:$E$670,4,FALSE),5)),[4]RewardItemConfig!$B$1:$C$1176,2,FALSE)","v":{"$error":"#VALUE!"}},{"$f":"VLOOKUP(VALUE(RIGHT(VLOOKUP(VALUE(RIGHT(LevelDifficultyConfig!L171,4)),[3]RewardGroup!$B$1:$E$670,4,FALSE),5)),[4]RewardItemConfig!$B$1:$C$1176,2,FALSE)","v":{"$error":"#VALUE!"}},{"$f":"VLOOKUP(VALUE(LEFT(VLOOKUP(VALUE(LEFT(LevelDifficultyConfig!L171,4)),[3]RewardGroup!$B$1:$E$670,4,FALSE),5)),[4]RewardItemConfig!$B$1:$C$1176,2,FALSE)","v":{"$error":"#N/A"}},{"$f":"VLOOKUP(VALUE(RIGHT(VLOOKUP(VALUE(LEFT(LevelDifficultyConfig!L171,4)),[3]RewardGroup!$B$1:$E$670,4,FALSE),5)),[4]RewardItemConfig!$B$1:$C$1176,2,FALSE)","v":{"$error":"#N/A"}},{"$error":"#N/A"},null,null,"11002#1|14#280|3#28"]
[null,3053,"困难-3-5",8,"4015#3015",{"$f":"VLOOKUP(VALUE(LEFT(VLOOKUP(VALUE(RIGHT(LevelDifficultyConfig!L172,4)),[3]RewardGroup!$B$1:$E$670,4,FALSE),5)),[4]RewardItemConfig!$B$1:$C$1176,2,FALSE)","v":{"$error":"#VALUE!"}},{"$f":"VLOOKUP(VALUE(RIGHT(VLOOKUP(VALUE(RIGHT(LevelDifficultyConfig!L172,4)),[3]RewardGroup!$B$1:$E$670,4,FALSE),5)),[4]RewardItemConfig!$B$1:$C$1176,2,FALSE)","v":{"$error":"#VALUE!"}},{"$f":"VLOOKUP(VALUE(LEFT(VLOOKUP(VALUE(LEFT(LevelDifficultyConfig!L172,4)),[3]RewardGroup!$B$1:$E$670,4,FALSE),5)),[4]RewardItemConfig!$B$1:$C$1176,2,FALSE)","v":{"$error":"#N/A"}},{"$f":"VLOOKUP(VALUE(RIGHT(VLOOKUP(VALUE(LEFT(LevelDifficultyConfig!L172,4)),[3]RewardGroup!$B$1:$E$670,4,FALSE),5)),[4]RewardItemConfig!$B$1:$C$1176,2,FALSE)","v":{"$error":"#N/A"}},{"$error":"#N/A"},null,null,{"$f":"M120","v":"11022#1|14#280|3#28"}]
[null,4013,"困难-4-1",8,"4016#3016",{"$f":"VLOOKUP(VALUE(LEFT(VLOOKUP(VALUE(RIGHT(LevelDifficultyConfig!L173,4)),[3]RewardGroup!$B$1:$E$670,4,FALSE),5)),[4]RewardItemConfig!$B$1:$C$1176,2,FALSE)","v":{"$error":"#VALUE!"}},{"$f":"VLOOKUP(VALUE(RIGHT(VLOOKUP(VALUE(RIGHT(LevelDifficultyConfig!L173,4)),[3]RewardGroup!$B$1:$E$670,4,FALSE),5)),[4]RewardItemConfig!$B$1:$C$1176,2,FALSE)","v":{"$error":"#VALUE!"}},{"$f":"VLOOKUP(VALUE(LEFT(VLOOKUP(VALUE(LEFT(LevelDifficultyConfig!L173,4)),[3]RewardGroup!$B$1:$E$670,4,FALSE),5)),[4]RewardItemConfig!$B$1:$C$1176,2,FALSE)","v":{"$error":"#N/A"}},{"$f":"VLOOKUP(VALUE(RIGHT(VLOOKUP(VALUE(LEFT(LevelDifficultyConfig!L173,4)),[3]RewardGroup!$B$1:$E$670,4,FALSE),5)),[4]RewardItemConfig!$B$1:$C$1176,2,FALSE)","v":{"$error":"#N/A"}},{"$error":"#N/A"},null,null,"11002#1|14#280|3#28"]
[null,4023,"困难-4-2",8,"4017#3017",{"$f":"VLOOKUP(VALUE(LEFT(VLOOKUP(VALUE(RIGHT(LevelDifficultyConfig!L174,4)),[3]RewardGroup!$B$1:$E$670,4,FALSE),5)),[4]RewardItemConfig!$B$1:$C$1176,2,FALSE)","v":{"$error":"#VALUE!"}},{"$f":"VLOOKUP(VALUE(RIGHT(VLOOKUP(VALUE(RIGHT(LevelDifficultyConfig!L174,4)),[3]RewardGroup!$B$1:$E$670,4,FALSE),5)),[4]RewardItemConfig!$B$1:$C$1176,2,FALSE)","v":{"$error":"#VALUE!"}},{"$f":"VLOOKUP(VALUE(LEFT(VLOOKUP(VALUE(LEFT(LevelDifficultyConfig!L174,4)),[3]RewardGroup!$B$1:$E$670,4,FALSE),5)),[4]RewardItemConfig!$B$1:$C$1176,2,FALSE)","v":{"$error":"#N/A"}},{"$f":"VLOOKUP(VALUE(RIGHT(VLOOKUP(VALUE(LEFT(LevelDifficultyConfig!L174,4)),[3]RewardGroup!$B$1:$E$670,4,FALSE),5)),[4]RewardItemConfig!$B$1:$C$1176,2,FALSE)","v":{"$error":"#N/A"}},{"$error":"#N/A"},null,null,"11022#1|14#280|3#28"]
[null,4033,"困难-4-3",8,"4018#3018",{"$f":"VLOOKUP(VALUE(LEFT(VLOOKUP(VALUE(RIGHT(LevelDifficultyConfig!L175,4)),[3]RewardGroup!$B$1:$E$670,4,FALSE),5)),[4]RewardItemConfig!$B$1:$C$1176,2,FALSE)","v":{"$error":"#VALUE!"}},{"$f":"VLOOKUP(VALUE(RIGHT(VLOOKUP(VALUE(RIGHT(LevelDifficultyConfig!L175,4)),[3]RewardGroup!$B$1:$E$670,4,FALSE),5)),[4]RewardItemConfig!$B$1:$C$1176,2,FALSE)","v":{"$error":"#VALUE!"}},{"$f":"VLOOKUP(VALUE(LEFT(VLOOKUP(VALUE(LEFT(LevelDifficultyConfig!L175,4)),[3]RewardGroup!$B$1:$E$670,4,FALSE),5)),[4]RewardItemConfig!$B$1:$C$1176,2,FALSE)","v":{"$error":"#N/A"}},{"$f":"VLOOKUP(VALUE(RIGHT(VLOOKUP(VALUE(LEFT(LevelDifficultyConfig!L175,4)),[3]RewardGroup!$B$1:$E$670,4,FALSE),5)),[4]RewardItemConfig!$B$1:$C$1176,2,FALSE)","v":{"$error":"#N/A"}},{"$error":"#N/A"},null,null,"11002#1|14#280|3#28"]
[null,4043,"困难-4-4",8,"4019#3019",{"$f":"VLOOKUP(VALUE(LEFT(VLOOKUP(VALUE(RIGHT(LevelDifficultyConfig!L176,4)),[3]RewardGroup!$B$1:$E$670,4,FALSE),5)),[4]RewardItemConfig!$B$1:$C$1176,2,FALSE)","v":{"$error":"#VALUE!"}},{"$f":"VLOOKUP(VALUE(RIGHT(VLOOKUP(VALUE(RIGHT(LevelDifficultyConfig!L176,4)),[3]RewardGroup!$B$1:$E$670,4,FALSE),5)),[4]RewardItemConfig!$B$1:$C$1176,2,FALSE)","v":{"$error":"#VALUE!"}},{"$f":"VLOOKUP(VALUE(LEFT(VLOOKUP(VALUE(LEFT(LevelDifficultyConfig!L176,4)),[3]RewardGroup!$B$1:$E$670,4,FALSE),5)),[4]RewardItemConfig!$B$1:$C$1176,2,FALSE)","v":{"$error":"#N/A"}},{"$f":"VLOOKUP(VALUE(RIGHT(VLOOKUP(VALUE(LEFT(LevelDifficultyConfig!L176,4)),[3]RewardGroup!$B$1:$E$670,4,FALSE),5)),[4]RewardItemConfig!$B$1:$C$1176,2,FALSE)","v":{"$error":"#N/A"}},{"$error":"#N/A"},null,null,"11022#1|14#280|3#28"]
[null,4053,"困难-4-5",8,"4020#3020",{"$f":"VLOOKUP(VALUE(LEFT(VLOOKUP(VALUE(RIGHT(LevelDifficultyConfig!L177,4)),[3]RewardGroup!$B$1:$E$670,4,FALSE),5)),[4]RewardItemConfig!$B$1:$C$1176,2,FALSE)","v":{"$error":"#VALUE!"}},{"$f":"VLOOKUP(VALUE(RIGHT(VLOOKUP(VALUE(RIGHT(LevelDifficultyConfig!L177,4)),[3]RewardGroup!$B$1:$E$670,4,FALSE),5)),[4]RewardItemConfig!$B$1:$C$1176,2,FALSE)","v":{"$error":"#VALUE!"}},{"$f":"VLOOKUP(VALUE(LEFT(VLOOKUP(VALUE(LEFT(LevelDifficultyConfig!L177,4)),[3]RewardGroup!$B$1:$E$670,4,FALSE),5)),[4]RewardItemConfig!$B$1:$C$1176,2,FALSE)","v":{"$error":"#N/A"}},{"$f":"VLOOKUP(VALUE(RIGHT(VLOOKUP(VALUE(LEFT(LevelDifficultyConfig!L177,4)),[3]RewardGroup!$B$1:$E$670,4,FALSE),5)),[4]RewardItemConfig!$B$1:$C$1176,2,FALSE)","v":{"$error":"#N/A"}},{"$error":"#N/A"},null,null,"11002#1|14#280|3#28"]
[null,5013,"困难-5-1",8,"4021#3021",{"$f":"VLOOKUP(VALUE(LEFT(VLOOKUP(VALUE(RIGHT(LevelDifficultyConfig!L178,4)),[3]RewardGroup!$B$1:$E$670,4,FALSE),5)),[4]RewardItemConfig!$B$1:$C$1176,2,FALSE)","v":{"$error":"#VALUE!"}},{"$f":"VLOOKUP(VALUE(RIGHT(VLOOKUP(VALUE(RIGHT(LevelDifficultyConfig!L178,4)),[3]RewardGroup!$B$1:$E$670,4,FALSE),5)),[4]RewardItemConfig!$B$1:$C$1176,2,FALSE)","v":{"$error":"#VALUE!"}},{"$f":"VLOOKUP(VALUE(LEFT(VLOOKUP(VALUE(LEFT(LevelDifficultyConfig!L178,4)),[3]RewardGroup!$B$1:$E$670,4,FALSE),5)),[4]RewardItemConfig!$B$1:$C$1176,2,FALSE)","v":{"$error":"#N/A"}},{"$f":"VLOOKUP(VALUE(RIGHT(VLOOKUP(VALUE(LEFT(LevelDifficultyConfig!L178,4)),[3]RewardGroup!$B$1:$E$670,4,FALSE),5)),[4]RewardItemConfig!$B$1:$C$1176,2,FALSE)","v":{"$error":"#N/A"}},{"$error":"#N/A"},null,null,"11022#1|14#280|3#28"]
[null,5023,"困难-5-2",8,"4022#3022",{"$f":"VLOOKUP(VALUE(LEFT(VLOOKUP(VALUE(RIGHT(LevelDifficultyConfig!L179,4)),[3]RewardGroup!$B$1:$E$670,4,FALSE),5)),[4]RewardItemConfig!$B$1:$C$1176,2,FALSE)","v":{"$error":"#VALUE!"}},{"$f":"VLOOKUP(VALUE(RIGHT(VLOOKUP(VALUE(RIGHT(LevelDifficultyConfig!L179,4)),[3]RewardGroup!$B$1:$E$670,4,FALSE),5)),[4]RewardItemConfig!$B$1:$C$1176,2,FALSE)","v":{"$error":"#VALUE!"}},{"$f":"VLOOKUP(VALUE(LEFT(VLOOKUP(VALUE(LEFT(LevelDifficultyConfig!L179,4)),[3]RewardGroup!$B$1:$E$670,4,FALSE),5)),[4]RewardItemConfig!$B$1:$C$1176,2,FALSE)","v":{"$error":"#N/A"}},{"$f":"VLOOKUP(VALUE(RIGHT(VLOOKUP(VALUE(LEFT(LevelDifficultyConfig!L179,4)),[3]RewardGroup!$B$1:$E$670,4,FALSE),5)),[4]RewardItemConfig!$B$1:$C$1176,2,FALSE)","v":{"$error":"#N/A"}},{"$error":"#N/A"},null,null,"11002#1|14#280|3#28"]
[null,5033,"困难-5-3",8,"4023#3023",{"$f":"VLOOKUP(VALUE(LEFT(VLOOKUP(VALUE(RIGHT(LevelDifficultyConfig!L180,4)),[3]RewardGroup!$B$1:$E$670,4,FALSE),5)),[4]RewardItemConfig!$B$1:$C$1176,2,FALSE)","v":{"$error":"#VALUE!"}},{"$f":"VLOOKUP(VALUE(RIGHT(VLOOKUP(VALUE(RIGHT(LevelDifficultyConfig!L180,4)),[3]RewardGroup!$B$1:$E$670,4,FALSE),5)),[4]RewardItemConfig!$B$1:$C$1176,2,FALSE)","v":{"$error":"#VALUE!"}},{"$f":"VLOOKUP(VALUE(LEFT(VLOOKUP(VALUE(LEFT(LevelDifficultyConfig!L180,4)),[3]RewardGroup!$B$1:$E$670,4,FALSE),5)),[4]RewardItemConfig!$B$1:$C$1176,2,FALSE)","v":{"$error":"#N/A"}},{"$f":"VLOOKUP(VALUE(RIGHT(VLOOKUP(VALUE(LEFT(LevelDifficultyConfig!L180,4)),[3]RewardGroup!$B$1:$E$670,4,FALSE),5)),[4]RewardItemConfig!$B$1:$C$1176,2,FALSE)","v":{"$error":"#N/A"}},{"$error":"#N/A"},null,null,"11022#1|14#280|3#28"]
[null,5043,"困难-5-4",8,"4024#3024",{"$f":"VLOOKUP(VALUE(LEFT(VLOOKUP(VALUE(RIGHT(LevelDifficultyConfig!L181,4)),[3]RewardGroup!$B$1:$E$670,4,FALSE),5)),[4]RewardItemConfig!$B$1:$C$1176,2,FALSE)","v":{"$error":"#VALUE!"}},{"$f":"VLOOKUP(VALUE(RIGHT(VLOOKUP(VALUE(RIGHT(LevelDifficultyConfig!L181,4)),[3]RewardGroup!$B$1:$E$670,4,FALSE),5)),[4]RewardItemConfig!$B$1:$C$1176,2,FALSE)","v":{"$error":"#VALUE!"}},{"$f":"VLOOKUP(VALUE(LEFT(VLOOKUP(VALUE(LEFT(LevelDifficultyConfig!L181,4)),[3]RewardGroup!$B$1:$E$670,4,FALSE),5)),[4]RewardItemConfig!$B$1:$C$1176,2,FALSE)","v":{"$error":"#N/A"}},{"$f":"VLOOKUP(VALUE(RIGHT(VLOOKUP(VALUE(LEFT(LevelDifficultyConfig!L181,4)),[3]RewardGroup!$B$1:$E$670,4,FALSE),5)),[4]RewardItemConfig!$B$1:$C$1176,2,FALSE)","v":{"$error":"#N/A"}},{"$error":"#N/A"},null,null,"11002#1|14#280|3#28"]
[null,5053,"困难-5-5",8,"4025#3025",{"$f":"VLOOKUP(VALUE(LEFT(VLOOKUP(VALUE(RIGHT(LevelDifficultyConfig!L182,4)),[3]RewardGroup!$B$1:$E$670,4,FALSE),5)),[4]RewardItemConfig!$B$1:$C$1176,2,FALSE)","v":{"$error":"#VALUE!"}},{"$f":"VLOOKUP(VALUE(RIGHT(VLOOKUP(VALUE(RIGHT(LevelDifficultyConfig!L182,4)),[3]RewardGroup!$B$1:$E$670,4,FALSE),5)),[4]RewardItemConfig!$B$1:$C$1176,2,FALSE)","v":{"$error":"#VALUE!"}},{"$f":"VLOOKUP(VALUE(LEFT(VLOOKUP(VALUE(LEFT(LevelDifficultyConfig!L182,4)),[3]RewardGroup!$B$1:$E$670,4,FALSE),5)),[4]RewardItemConfig!$B$1:$C$1176,2,FALSE)","v":{"$error":"#N/A"}},{"$f":"VLOOKUP(VALUE(RIGHT(VLOOKUP(VALUE(LEFT(LevelDifficultyConfig!L182,4)),[3]RewardGroup!$B$1:$E$670,4,FALSE),5)),[4]RewardItemConfig!$B$1:$C$1176,2,FALSE)","v":{"$error":"#N/A"}},{"$error":"#N/A"},null,null,"11022#1|14#280|3#28"]
[null,6013,"困难-6-1",8,"4026#3026",{"$f":"VLOOKUP(VALUE(LEFT(VLOOKUP(VALUE(RIGHT(LevelDifficultyConfig!L183,4)),[3]RewardGroup!$B$1:$E$670,4,FALSE),5)),[4]RewardItemConfig!$B$1:$C$1176,2,FALSE)","v":{"$error":"#VALUE!"}},{"$f":"VLOOKUP(VALUE(RIGHT(VLOOKUP(VALUE(RIGHT(LevelDifficultyConfig!L183,4)),[3]RewardGroup!$B$1:$E$670,4,FALSE),5)),[4]RewardItemConfig!$B$1:$C$1176,2,FALSE)","v":{"$error":"#VALUE!"}},{"$f":"VLOOKUP(VALUE(LEFT(VLOOKUP(VALUE(LEFT(LevelDifficultyConfig!L183,4)),[3]RewardGroup!$B$1:$E$670,4,FALSE),5)),[4]RewardItemConfig!$B$1:$C$1176,2,FALSE)","v":{"$error":"#N/A"}},{"$f":"VLOOKUP(VALUE(RIGHT(VLOOKUP(VALUE(LEFT(LevelDifficultyConfig!L183,4)),[3]RewardGroup!$B$1:$E$670,4,FALSE),5)),[4]RewardItemConfig!$B$1:$C$1176,2,FALSE)","v":{"$error":"#N/A"}},{"$error":"#N/A"},null,null,"11002#1|14#280|3#28"]
[null,6023,"困难-6-2",8,"4027#3027",{"$f":"VLOOKUP(VALUE(LEFT(VLOOKUP(VALUE(RIGHT(LevelDifficultyConfig!L184,4)),[3]RewardGroup!$B$1:$E$670,4,FALSE),5)),[4]RewardItemConfig!$B$1:$C$1176,2,FALSE)","v":{"$error":"#VALUE!"}},{"$f":"VLOOKUP(VALUE(RIGHT(VLOOKUP(VALUE(RIGHT(LevelDifficultyConfig!L184,4)),[3]RewardGroup!$B$1:$E$670,4,FALSE),5)),[4]RewardItemConfig!$B$1:$C$1176,2,FALSE)","v":{"$error":"#VALUE!"}},{"$f":"VLOOKUP(VALUE(LEFT(VLOOKUP(VALUE(LEFT(LevelDifficultyConfig!L184,4)),[3]RewardGroup!$B$1:$E$670,4,FALSE),5)),[4]RewardItemConfig!$B$1:$C$1176,2,FALSE)","v":{"$error":"#N/A"}},{"$f":"VLOOKUP(VALUE(RIGHT(VLOOKUP(VALUE(LEFT(LevelDifficultyConfig!L184,4)),[3]RewardGroup!$B$1:$E$670,4,FALSE),5)),[4]RewardItemConfig!$B$1:$C$1176,2,FALSE)","v":{"$error":"#N/A"}},{"$error":"#N/A"},null,null,"11022#1|14#280|3#28"]
[null,6033,"困难-6-3",8,"4028#3028",{"$f":"VLOOKUP(VALUE(LEFT(VLOOKUP(VALUE(RIGHT(LevelDifficultyConfig!L185,4)),[3]RewardGroup!$B$1:$E$670,4,FALSE),5)),[4]RewardItemConfig!$B$1:$C$1176,2,FALSE)","v":{"$error":"#VALUE!"}},{"$f":"VLOOKUP(VALUE(RIGHT(VLOOKUP(VALUE(RIGHT(LevelDifficultyConfig!L185,4)),[3]RewardGroup!$B$1:$E$670,4,FALSE),5)),[4]RewardItemConfig!$B$1:$C$1176,2,FALSE)","v":{"$error":"#VALUE!"}},{"$f":"VLOOKUP(VALUE(LEFT(VLOOKUP(VALUE(LEFT(LevelDifficultyConfig!L185,4)),[3]RewardGroup!$B$1:$E$670,4,FALSE),5)),[4]RewardItemConfig!$B$1:$C$1176,2,FALSE)","v":{"$error":"#N/A"}},{"$f":"VLOOKUP(VALUE(RIGHT(VLOOKUP(VALUE(LEFT(LevelDifficultyConfig!L185,4)),[3]RewardGroup!$B$1:$E$670,4,FALSE),5)),[4]RewardItemConfig!$B$1:$C$1176,2,FALSE)","v":{"$error":"#N/A"}},{"$error":"#N/A"},null,null,"11002#1|14#280|3#28"]
[null,6043,"困难-6-4",8,"4029#3029",{"$f":"VLOOKUP(VALUE(LEFT(VLOOKUP(VALUE(RIGHT(LevelDifficultyConfig!L186,4)),[3]RewardGroup!$B$1:$E$670,4,FALSE),5)),[4]RewardItemConfig!$B$1:$C$1176,2,FALSE)","v":{"$error":"#VALUE!"}},{"$f":"VLOOKUP(VALUE(RIGHT(VLOOKUP(VALUE(RIGHT(LevelDifficultyConfig!L186,4)),[3]RewardGroup!$B$1:$E$670,4,FALSE),5)),[4]RewardItemConfig!$B$1:$C$1176,2,FALSE)","v":{"$error":"#VALUE!"}},{"$f":"VLOOKUP(VALUE(LEFT(VLOOKUP(VALUE(LEFT(LevelDifficultyConfig!L186,4)),[3]RewardGroup!$B$1:$E$670,4,FALSE),5)),[4]RewardItemConfig!$B$1:$C$1176,2,FALSE)","v":{"$error":"#N/A"}},{"$f":"VLOOKUP(VALUE(RIGHT(VLOOKUP(VALUE(LEFT(LevelDifficultyConfig!L186,4)),[3]RewardGroup!$B$1:$E$670,4,FALSE),5)),[4]RewardItemConfig!$B$1:$C$1176,2,FALSE)","v":{"$error":"#N/A"}},{"$error":"#N/A"},null,null,"11022#1|14#280|3#28"]
[null,6053,"困难-6-5",8,"4030#3030",{"$f":"VLOOKUP(VALUE(LEFT(VLOOKUP(VALUE(RIGHT(LevelDifficultyConfig!L187,4)),[3]RewardGroup!$B$1:$E$670,4,FALSE),5)),[4]RewardItemConfig!$B$1:$C$1176,2,FALSE)","v":{"$error":"#VALUE!"}},{"$f":"VLOOKUP(VALUE(RIGHT(VLOOKUP(VALUE(RIGHT(LevelDifficultyConfig!L187,4)),[3]RewardGroup!$B$1:$E$670,4,FALSE),5)),[4]RewardItemConfig!$B$1:$C$1176,2,FALSE)","v":{"$error":"#VALUE!"}},{"$f":"VLOOKUP(VALUE(LEFT(VLOOKUP(VALUE(LEFT(LevelDifficultyConfig!L187,4)),[3]RewardGroup!$B$1:$E$670,4,FALSE),5)),[4]RewardItemConfig!$B$1:$C$1176,2,FALSE)","v":{"$error":"#N/A"}},{"$f":"VLOOKUP(VALUE(RIGHT(VLOOKUP(VALUE(LEFT(LevelDifficultyConfig!L187,4)),[3]RewardGroup!$B$1:$E$670,4,FALSE),5)),[4]RewardItemConfig!$B$1:$C$1176,2,FALSE)","v":{"$error":"#N/A"}},{"$error":"#N/A"},null,null,"11002#1|14#280|3#28"]
[null,7013,"困难-7-1",8,"4031#3031",{"$f":"VLOOKUP(VALUE(LEFT(VLOOKUP(VALUE(RIGHT(LevelDifficultyConfig!L188,4)),[3]RewardGroup!$B$1:$E$670,4,FALSE),5)),[4]RewardItemConfig!$B$1:$C$1176,2,FALSE)","v":3},{"$f":"VLOOKUP(VALUE(RIGHT(VLOOKUP(VALUE(RIGHT(LevelDifficultyConfig!L188,4)),[3]RewardGroup!$B$1:$E$670,4,FALSE),5)),[4]RewardItemConfig!$B$1:$C$1176,2,FALSE)","v":{"$error":"#N/A"}},{"$f":"VLOOKUP(VALUE(LEFT(VLOOKUP(VALUE(LEFT(LevelDifficultyConfig!L188,4)),[3]RewardGroup!$B$1:$E$670,4,FALSE),5)),[4]RewardItemConfig!$B$1:$C$1176,2,FALSE)","v":{"$error":"#N/A"}},{"$f":"VLOOKUP(VALUE(RIGHT(VLOOKUP(VALUE(LEFT(LevelDifficultyConfig!L188,4)),[3]RewardGroup!$B$1:$E$670,4,FALSE),5)),[4]RewardItemConfig!$B$1:$C$1176,2,FALSE)","v":{"$error":"#N/A"}},{"$error":"#N/A"},null,null,"11022#1|14#280|3#28"]
[null,7023,"困难-7-2",8,"4032#3032",{"$f":"VLOOKUP(VALUE(LEFT(VLOOKUP(VALUE(RIGHT(LevelDifficultyConfig!L189,4)),[3]RewardGroup!$B$1:$E$670,4,FALSE),5)),[4]RewardItemConfig!$B$1:$C$1176,2,FALSE)","v":{"$error":"#N/A"}},{"$f":"VLOOKUP(VALUE(RIGHT(VLOOKUP(VALUE(RIGHT(LevelDifficultyConfig!L189,4)),[3]RewardGroup!$B$1:$E$670,4,FALSE),5)),[4]RewardItemConfig!$B$1:$C$1176,2,FALSE)","v":{"$error":"#N/A"}},{"$f":"VLOOKUP(VALUE(LEFT(VLOOKUP(VALUE(LEFT(LevelDifficultyConfig!L189,4)),[3]RewardGroup!$B$1:$E$670,4,FALSE),5)),[4]RewardItemConfig!$B$1:$C$1176,2,FALSE)","v":{"$error":"#N/A"}},{"$f":"VLOOKUP(VALUE(RIGHT(VLOOKUP(VALUE(LEFT(LevelDifficultyConfig!L189,4)),[3]RewardGroup!$B$1:$E$670,4,FALSE),5)),[4]RewardItemConfig!$B$1:$C$1176,2,FALSE)","v":{"$error":"#N/A"}},{"$error":"#N/A"},null,null,"11002#1|14#280|3#28"]
[null,7033,"困难-7-3",8,"4033#3033",{"$f":"VLOOKUP(VALUE(LEFT(VLOOKUP(VALUE(RIGHT(LevelDifficultyConfig!L190,4)),[3]RewardGroup!$B$1:$E$670,4,FALSE),5)),[4]RewardItemConfig!$B$1:$C$1176,2,FALSE)","v":{"$error":"#N/A"}},{"$f":"VLOOKUP(VALUE(RIGHT(VLOOKUP(VALUE(RIGHT(LevelDifficultyConfig!L190,4)),[3]RewardGroup!$B$1:$E$670,4,FALSE),5)),[4]RewardItemConfig!$B$1:$C$1176,2,FALSE)","v":{"$error":"#N/A"}},{"$f":"VLOOKUP(VALUE(LEFT(VLOOKUP(VALUE(LEFT(LevelDifficultyConfig!L190,4)),[3]RewardGroup!$B$1:$E$670,4,FALSE),5)),[4]RewardItemConfig!$B$1:$C$1176,2,FALSE)","v":{"$error":"#N/A"}},{"$f":"VLOOKUP(VALUE(RIGHT(VLOOKUP(VALUE(LEFT(LevelDifficultyConfig!L190,4)),[3]RewardGroup!$B$1:$E$670,4,FALSE),5)),[4]RewardItemConfig!$B$1:$C$1176,2,FALSE)","v":{"$error":"#N/A"}},{"$error":"#N/A"},null,null,"11022#1|14#280|3#28"]
[null,7043,"困难-7-4",8,"4034#3034",{"$f":"VLOOKUP(VALUE(LEFT(VLOOKUP(VALUE(RIGHT(LevelDifficultyConfig!L191,4)),[3]RewardGroup!$B$1:$E$670,4,FALSE),5)),[4]RewardItemConfig!$B$1:$C$1176,2,FALSE)","v":{"$error":"#N/A"}},{"$f":"VLOOKUP(VALUE(RIGHT(VLOOKUP(VALUE(RIGHT(LevelDifficultyConfig!L191,4)),[3]RewardGroup!$B$1:$E$670,4,FALSE),5)),[4]RewardItemConfig!$B$1:$C$1176,2,FALSE)","v":{"$error":"#N/A"}},{"$f":"VLOOKUP(VALUE(LEFT(VLOOKUP(VALUE(LEFT(LevelDifficultyConfig!L191,4)),[3]RewardGroup!$B$1:$E$670,4,FALSE),5)),[4]RewardItemConfig!$B$1:$C$1176,2,FALSE)","v":{"$error":"#N/A"}},{"$f":"VLOOKUP(VALUE(RIGHT(VLOOKUP(VALUE(LEFT(LevelDifficultyConfig!L191,4)),[3]RewardGroup!$B$1:$E$670,4,FALSE),5)),[4]RewardItemConfig!$B$1:$C$1176,2,FALSE)","v":{"$error":"#N/A"}},{"$error":"#N/A"},null,null,"11002#1|14#280|3#28"]
[null,7053,"困难-7-5",8,"4035#3035",{"$f":"VLOOKUP(VALUE(LEFT(VLOOKUP(VALUE(RIGHT(LevelDifficultyConfig!L192,4)),[3]RewardGroup!$B$1:$E$670,4,FALSE),5)),[4]RewardItemConfig!$B$1:$C$1176,2,FALSE)","v":{"$error":"#N/A"}},{"$f":"VLOOKUP(VALUE(RIGHT(VLOOKUP(VALUE(RIGHT(LevelDifficultyConfig!L192,4)),[3]RewardGroup!$B$1:$E$670,4,FALSE),5)),[4]RewardItemConfig!$B$1:$C$1176,2,FALSE)","v":{"$error":"#N/A"}},{"$f":"VLOOKUP(VALUE(LEFT(VLOOKUP(VALUE(LEFT(LevelDifficultyConfig!L192,4)),[3]RewardGroup!$B$1:$E$670,4,FALSE),5)),[4]RewardItemConfig!$B$1:$C$1176,2,FALSE)","v":{"$error":"#N/A"}},{"$f":"VLOOKUP(VALUE(RIGHT(VLOOKUP(VALUE(LEFT(LevelDifficultyConfig!L192,4)),[3]RewardGroup!$B$1:$E$670,4,FALSE),5)),[4]RewardItemConfig!$B$1:$C$1176,2,FALSE)","v":{"$error":"#N/A"}},{"$error":"#N/A"},null,null,"11022#1|14#280|3#28"]
[null,8013,"困难-8-1",8,"4036#3036",{"$f":"VLOOKUP(VALUE(LEFT(VLOOKUP(VALUE(RIGHT(LevelDifficultyConfig!L193,4)),[3]RewardGroup!$B$1:$E$670,4,FALSE),5)),[4]RewardItemConfig!$B$1:$C$1176,2,FALSE)","v":{"$error":"#N/A"}},{"$f":"VLOOKUP(VALUE(RIGHT(VLOOKUP(VALUE(RIGHT(LevelDifficultyConfig!L193,4)),[3]RewardGroup!$B$1:$E$670,4,FALSE),5)),[4]RewardItemConfig!$B$1:$C$1176,2,FALSE)","v":{"$error":"#N/A"}},{"$f":"VLOOKUP(VALUE(LEFT(VLOOKUP(VALUE(LEFT(LevelDifficultyConfig!L193,4)),[3]RewardGroup!$B$1:$E$670,4,FALSE),5)),[4]RewardItemConfig!$B$1:$C$1176,2,FALSE)","v":{"$error":"#N/A"}},{"$f":"VLOOKUP(VALUE(RIGHT(VLOOKUP(VALUE(LEFT(LevelDifficultyConfig!L193,4)),[3]RewardGroup!$B$1:$E$670,4,FALSE),5)),[4]RewardItemConfig!$B$1:$C$1176,2,FALSE)","v":{"$error":"#N/A"}},{"$error":"#N/A"},null,null,"11002#1|14#280|3#28"]
[null,8023,"困难-8-2",8,"4037#3037",{"$f":"VLOOKUP(VALUE(LEFT(VLOOKUP(VALUE(RIGHT(LevelDifficultyConfig!L194,4)),[3]RewardGroup!$B$1:$E$670,4,FALSE),5)),[4]RewardItemConfig!$B$1:$C$1176,2,FALSE)","v":{"$error":"#N/A"}},{"$f":"VLOOKUP(VALUE(RIGHT(VLOOKUP(VALUE(RIGHT(LevelDifficultyConfig!L194,4)),[3]RewardGroup!$B$1:$E$670,4,FALSE),5)),[4]RewardItemConfig!$B$1:$C$1176,2,FALSE)","v":{"$error":"#N/A"}},{"$f":"VLOOKUP(VALUE(LEFT(VLOOKUP(VALUE(LEFT(LevelDifficultyConfig!L194,4)),[3]RewardGroup!$B$1:$E$670,4,FALSE),5)),[4]RewardItemConfig!$B$1:$C$1176,2,FALSE)","v":{"$error":"#N/A"}},{"$f":"VLOOKUP(VALUE(RIGHT(VLOOKUP(VALUE(LEFT(LevelDifficultyConfig!L194,4)),[3]RewardGroup!$B$1:$E$670,4,FALSE),5)),[4]RewardItemConfig!$B$1:$C$1176,2,FALSE)","v":{"$error":"#N/A"}},{"$error":"#N/A"},null,null,"11022#1|14#280|3#28"]
[null,8033,"困难-8-3",8,"4038#3038",{"$f":"VLOOKUP(VALUE(LEFT(VLOOKUP(VALUE(RIGHT(LevelDifficultyConfig!L195,4)),[3]RewardGroup!$B$1:$E$670,4,FALSE),5)),[4]RewardItemConfig!$B$1:$C$1176,2,FALSE)","v":{"$error":"#N/A"}},{"$f":"VLOOKUP(VALUE(RIGHT(VLOOKUP(VALUE(RIGHT(LevelDifficultyConfig!L195,4)),[3]RewardGroup!$B$1:$E$670,4,FALSE),5)),[4]RewardItemConfig!$B$1:$C$1176,2,FALSE)","v":{"$error":"#N/A"}},{"$f":"VLOOKUP(VALUE(LEFT(VLOOKUP(VALUE(LEFT(LevelDifficultyConfig!L195,4)),[3]RewardGroup!$B$1:$E$670,4,FALSE),5)),[4]RewardItemConfig!$B$1:$C$1176,2,FALSE)","v":{"$error":"#N/A"}},{"$f":"VLOOKUP(VALUE(RIGHT(VLOOKUP(VALUE(LEFT(LevelDifficultyConfig!L195,4)),[3]RewardGroup!$B$1:$E$670,4,FALSE),5)),[4]RewardItemConfig!$B$1:$C$1176,2,FALSE)","v":{"$error":"#N/A"}},{"$error":"#N/A"},null,null,"11002#1|14#280|3#28"]
[null,8043,"困难-8-4",8,"4039#3039",{"$f":"VLOOKUP(VALUE(LEFT(VLOOKUP(VALUE(RIGHT(LevelDifficultyConfig!L196,4)),[3]RewardGroup!$B$1:$E$670,4,FALSE),5)),[4]RewardItemConfig!$B$1:$C$1176,2,FALSE)","v":{"$error":"#N/A"}},{"$f":"VLOOKUP(VALUE(RIGHT(VLOOKUP(VALUE(RIGHT(LevelDifficultyConfig!L196,4)),[3]RewardGroup!$B$1:$E$670,4,FALSE),5)),[4]RewardItemConfig!$B$1:$C$1176,2,FALSE)","v":{"$error":"#N/A"}},{"$f":"VLOOKUP(VALUE(LEFT(VLOOKUP(VALUE(LEFT(LevelDifficultyConfig!L196,4)),[3]RewardGroup!$B$1:$E$670,4,FALSE),5)),[4]RewardItemConfig!$B$1:$C$1176,2,FALSE)","v":{"$error":"#N/A"}},{"$f":"VLOOKUP(VALUE(RIGHT(VLOOKUP(VALUE(LEFT(LevelDifficultyConfig!L196,4)),[3]RewardGroup!$B$1:$E$670,4,FALSE),5)),[4]RewardItemConfig!$B$1:$C$1176,2,FALSE)","v":{"$error":"#N/A"}},{"$error":"#N/A"},null,null,"11022#1|14#280|3#28"]
[null,8053,"困难-8-5",8,"4040#3040",{"$f":"VLOOKUP(VALUE(LEFT(VLOOKUP(VALUE(RIGHT(LevelDifficultyConfig!L197,4)),[3]RewardGroup!$B$1:$E$670,4,FALSE),5)),[4]RewardItemConfig!$B$1:$C$1176,2,FALSE)","v":{"$error":"#N/A"}},{"$f":"VLOOKUP(VALUE(RIGHT(VLOOKUP(VALUE(RIGHT(LevelDifficultyConfig!L197,4)),[3]RewardGroup!$B$1:$E$670,4,FALSE),5)),[4]RewardItemConfig!$B$1:$C$1176,2,FALSE)","v":{"$error":"#N/A"}},{"$f":"VLOOKUP(VALUE(LEFT(VLOOKUP(VALUE(LEFT(LevelDifficultyConfig!L197,4)),[3]RewardGroup!$B$1:$E$670,4,FALSE),5)),[4]RewardItemConfig!$B$1:$C$1176,2,FALSE)","v":{"$error":"#N/A"}},{"$f":"VLOOKUP(VALUE(RIGHT(VLOOKUP(VALUE(LEFT(LevelDifficultyConfig!L197,4)),[3]RewardGroup!$B$1:$E$670,4,FALSE),5)),[4]RewardItemConfig!$B$1:$C$1176,2,FALSE)","v":{"$error":"#N/A"}},{"$error":"#N/A"},null,null,"11002#1|14#280|3#28"]
[null,9013,"困难-9-1",8,"4041#3041",{"$f":"VLOOKUP(VALUE(LEFT(VLOOKUP(VALUE(RIGHT(LevelDifficultyConfig!L198,4)),[3]RewardGroup!$B$1:$E$670,4,FALSE),5)),[4]RewardItemConfig!$B$1:$C$1176,2,FALSE)","v":{"$error":"#N/A"}},{"$f":"VLOOKUP(VALUE(RIGHT(VLOOKUP(VALUE(RIGHT(LevelDifficultyConfig!L198,4)),[3]RewardGroup!$B$1:$E$670,4,FALSE),5)),[4]RewardItemConfig!$B$1:$C$1176,2,FALSE)","v":{"$error":"#N/A"}},{"$f":"VLOOKUP(VALUE(LEFT(VLOOKUP(VALUE(LEFT(LevelDifficultyConfig!L198,4)),[3]RewardGroup!$B$1:$E$670,4,FALSE),5)),[4]RewardItemConfig!$B$1:$C$1176,2,FALSE)","v":{"$error":"#N/A"}},{"$f":"VLOOKUP(VALUE(RIGHT(VLOOKUP(VALUE(LEFT(LevelDifficultyConfig!L198,4)),[3]RewardGroup!$B$1:$E$670,4,FALSE),5)),[4]RewardItemConfig!$B$1:$C$1176,2,FALSE)","v":{"$error":"#N/A"}},{"$error":"#N/A"},null,null,"11022#1|14#280|3#28"]
[null,9023,"困难-9-2",8,"4042#3042",{"$f":"VLOOKUP(VALUE(LEFT(VLOOKUP(VALUE(RIGHT(LevelDifficultyConfig!L199,4)),[3]RewardGroup!$B$1:$E$670,4,FALSE),5)),[4]RewardItemConfig!$B$1:$C$1176,2,FALSE)","v":{"$error":"#N/A"}},{"$f":"VLOOKUP(VALUE(RIGHT(VLOOKUP(VALUE(RIGHT(LevelDifficultyConfig!L199,4)),[3]RewardGroup!$B$1:$E$670,4,FALSE),5)),[4]RewardItemConfig!$B$1:$C$1176,2,FALSE)","v":{"$error":"#N/A"}},{"$f":"VLOOKUP(VALUE(LEFT(VLOOKUP(VALUE(LEFT(LevelDifficultyConfig!L199,4)),[3]RewardGroup!$B$1:$E$670,4,FALSE),5)),[4]RewardItemConfig!$B$1:$C$1176,2,FALSE)","v":{"$error":"#N/A"}},{"$f":"VLOOKUP(VALUE(RIGHT(VLOOKUP(VALUE(LEFT(LevelDifficultyConfig!L199,4)),[3]RewardGroup!$B$1:$E$670,4,FALSE),5)),[4]RewardItemConfig!$B$1:$C$1176,2,FALSE)","v":{"$error":"#N/A"}},{"$error":"#N/A"},null,null,"11002#1|14#280|3#28"]
[null,9033,"困难-9-3",8,"4043#3043",{"$f":"VLOOKUP(VALUE(LEFT(VLOOKUP(VALUE(RIGHT(LevelDifficultyConfig!L200,4)),[3]RewardGroup!$B$1:$E$670,4,FALSE),5)),[4]RewardItemConfig!$B$1:$C$1176,2,FALSE)","v":{"$error":"#N/A"}},{"$f":"VLOOKUP(VALUE(RIGHT(VLOOKUP(VALUE(RIGHT(LevelDifficultyConfig!L200,4)),[3]RewardGroup!$B$1:$E$670,4,FALSE),5)),[4]RewardItemConfig!$B$1:$C$1176,2,FALSE)","v":{"$error":"#N/A"}},{"$f":"VLOOKUP(VALUE(LEFT(VLOOKUP(VALUE(LEFT(LevelDifficultyConfig!L200,4)),[3]RewardGroup!$B$1:$E$670,4,FALSE),5)),[4]RewardItemConfig!$B$1:$C$1176,2,FALSE)","v":{"$error":"#N/A"}},{"$f":"VLOOKUP(VALUE(RIGHT(VLOOKUP(VALUE(LEFT(LevelDifficultyConfig!L200,4)),[3]RewardGroup!$B$1:$E$670,4,FALSE),5)),[4]RewardItemConfig!$B$1:$C$1176,2,FALSE)","v":{"$error":"#N/A"}},{"$error":"#N/A"},null,null,"11022#1|14#280|3#28"]
[null,9043,"困难-9-4",8,"4044#3044",{"$f":"VLOOKUP(VALUE(LEFT(VLOOKUP(VALUE(RIGHT(LevelDifficultyConfig!L201,4)),[3]RewardGroup!$B$1:$E$670,4,FALSE),5)),[4]RewardItemConfig!$B$1:$C$1176,2,FALSE)","v":{"$error":"#N/A"}},{"$f":"VLOOKUP(VALUE(RIGHT(VLOOKUP(VALUE(RIGHT(LevelDifficultyConfig!L201,4)),[3]RewardGroup!$B$1:$E$670,4,FALSE),5)),[4]RewardItemConfig!$B$1:$C$1176,2,FALSE)","v":{"$error":"#N/A"}},{"$f":"VLOOKUP(VALUE(LEFT(VLOOKUP(VALUE(LEFT(LevelDifficultyConfig!L201,4)),[3]RewardGroup!$B$1:$E$670,4,FALSE),5)),[4]RewardItemConfig!$B$1:$C$1176,2,FALSE)","v":{"$error":"#N/A"}},{"$f":"VLOOKUP(VALUE(RIGHT(VLOOKUP(VALUE(LEFT(LevelDifficultyConfig!L201,4)),[3]RewardGroup!$B$1:$E$670,4,FALSE),5)),[4]RewardItemConfig!$B$1:$C$1176,2,FALSE)","v":{"$error":"#N/A"}},{"$error":"#N/A"},null,null,"11002#1|14#280|3#28"]
[null,9053,"困难-9-5",8,"4045#3045",{"$f":"VLOOKUP(VALUE(LEFT(VLOOKUP(VALUE(RIGHT(LevelDifficultyConfig!L202,4)),[3]RewardGroup!$B$1:$E$670,4,FALSE),5)),[4]RewardItemConfig!$B$1:$C$1176,2,FALSE)","v":{"$error":"#N/A"}},{"$f":"VLOOKUP(VALUE(RIGHT(VLOOKUP(VALUE(RIGHT(LevelDifficultyConfig!L202,4)),[3]RewardGroup!$B$1:$E$670,4,FALSE),5)),[4]RewardItemConfig!$B$1:$C$1176,2,FALSE)","v":{"$error":"#N/A"}},{"$f":"VLOOKUP(VALUE(LEFT(VLOOKUP(VALUE(LEFT(LevelDifficultyConfig!L202,4)),[3]RewardGroup!$B$1:$E$670,4,FALSE),5)),[4]RewardItemConfig!$B$1:$C$1176,2,FALSE)","v":{"$error":"#N/A"}},{"$f":"VLOOKUP(VALUE(RIGHT(VLOOKUP(VALUE(LEFT(LevelDifficultyConfig!L202,4)),[3]RewardGroup!$B$1:$E$670,4,FALSE),5)),[4]RewardItemConfig!$B$1:$C$1176,2,FALSE)","v":{"$error":"#N/A"}},{"$error":"#N/A"},null,null,"11022#1|14#280|3#28"]
[null,10013,"困难-10-1",8,"4046#3046",{"$f":"VLOOKUP(VALUE(LEFT(VLOOKUP(VALUE(RIGHT(LevelDifficultyConfig!L203,4)),[3]RewardGroup!$B$1:$E$670,4,FALSE),5)),[4]RewardItemConfig!$B$1:$C$1176,2,FALSE)","v":{"$error":"#N/A"}},{"$f":"VLOOKUP(VALUE(RIGHT(VLOOKUP(VALUE(RIGHT(LevelDifficultyConfig!L203,4)),[3]RewardGroup!$B$1:$E$670,4,FALSE),5)),[4]RewardItemConfig!$B$1:$C$1176,2,FALSE)","v":{"$error":"#N/A"}},{"$f":"VLOOKUP(VALUE(LEFT(VLOOKUP(VALUE(LEFT(LevelDifficultyConfig!L203,4)),[3]RewardGroup!$B$1:$E$670,4,FALSE),5)),[4]RewardItemConfig!$B$1:$C$1176,2,FALSE)","v":{"$error":"#N/A"}},{"$f":"VLOOKUP(VALUE(RIGHT(VLOOKUP(VALUE(LEFT(LevelDifficultyConfig!L203,4)),[3]RewardGroup!$B$1:$E$670,4,FALSE),5)),[4]RewardItemConfig!$B$1:$C$1176,2,FALSE)","v":{"$error":"#N/A"}},{"$error":"#N/A"},null,null,"11002#1|14#280|3#28"]
[null,10023,"困难-10-2",8,"4047#3047",{"$f":"VLOOKUP(VALUE(LEFT(VLOOKUP(VALUE(RIGHT(LevelDifficultyConfig!L204,4)),[3]RewardGroup!$B$1:$E$670,4,FALSE),5)),[4]RewardItemConfig!$B$1:$C$1176,2,FALSE)","v":{"$error":"#N/A"}},{"$f":"VLOOKUP(VALUE(RIGHT(VLOOKUP(VALUE(RIGHT(LevelDifficultyConfig!L204,4)),[3]RewardGroup!$B$1:$E$670,4,FALSE),5)),[4]RewardItemConfig!$B$1:$C$1176,2,FALSE)","v":{"$error":"#N/A"}},{"$f":"VLOOKUP(VALUE(LEFT(VLOOKUP(VALUE(LEFT(LevelDifficultyConfig!L204,4)),[3]RewardGroup!$B$1:$E$670,4,FALSE),5)),[4]RewardItemConfig!$B$1:$C$1176,2,FALSE)","v":{"$error":"#N/A"}},{"$f":"VLOOKUP(VALUE(RIGHT(VLOOKUP(VALUE(LEFT(LevelDifficultyConfig!L204,4)),[3]RewardGroup!$B$1:$E$670,4,FALSE),5)),[4]RewardItemConfig!$B$1:$C$1176,2,FALSE)","v":{"$error":"#N/A"}},{"$error":"#N/A"},null,null,"11022#1|14#280|3#28"]
[null,10033,"困难-10-3",8,"4048#3048",{"$f":"VLOOKUP(VALUE(LEFT(VLOOKUP(VALUE(RIGHT(LevelDifficultyConfig!L205,4)),[3]RewardGroup!$B$1:$E$670,4,FALSE),5)),[4]RewardItemConfig!$B$1:$C$1176,2,FALSE)","v":{"$error":"#N/A"}},{"$f":"VLOOKUP(VALUE(RIGHT(VLOOKUP(VALUE(RIGHT(LevelDifficultyConfig!L205,4)),[3]RewardGroup!$B$1:$E$670,4,FALSE),5)),[4]RewardItemConfig!$B$1:$C$1176,2,FALSE)","v":{"$error":"#N/A"}},{"$f":"VLOOKUP(VALUE(LEFT(VLOOKUP(VALUE(LEFT(LevelDifficultyConfig!L205,4)),[3]RewardGroup!$B$1:$E$670,4,FALSE),5)),[4]RewardItemConfig!$B$1:$C$1176,2,FALSE)","v":{"$error":"#N/A"}},{"$f":"VLOOKUP(VALUE(RIGHT(VLOOKUP(VALUE(LEFT(LevelDifficultyConfig!L205,4)),[3]RewardGroup!$B$1:$E$670,4,FALSE),5)),[4]RewardItemConfig!$B$1:$C$1176,2,FALSE)","v":{"$error":"#N/A"}},{"$error":"#N/A"},null,null,"11002#1|14#280|3#28"]
[null,10043,"困难-10-4",8,"4049#3049",{"$f":"VLOOKUP(VALUE(LEFT(VLOOKUP(VALUE(RIGHT(LevelDifficultyConfig!L206,4)),[3]RewardGroup!$B$1:$E$670,4,FALSE),5)),[4]RewardItemConfig!$B$1:$C$1176,2,FALSE)","v":{"$error":"#N/A"}},{"$f":"VLOOKUP(VALUE(RIGHT(VLOOKUP(VALUE(RIGHT(LevelDifficultyConfig!L206,4)),[3]RewardGroup!$B$1:$E$670,4,FALSE),5)),[4]RewardItemConfig!$B$1:$C$1176,2,FALSE)","v":{"$error":"#N/A"}},{"$f":"VLOOKUP(VALUE(LEFT(VLOOKUP(VALUE(LEFT(LevelDifficultyConfig!L206,4)),[3]RewardGroup!$B$1:$E$670,4,FALSE),5)),[4]RewardItemConfig!$B$1:$C$1176,2,FALSE)","v":{"$error":"#N/A"}},{"$f":"VLOOKUP(VALUE(RIGHT(VLOOKUP(VALUE(LEFT(LevelDifficultyConfig!L206,4)),[3]RewardGroup!$B$1:$E$670,4,FALSE),5)),[4]RewardItemConfig!$B$1:$C$1176,2,FALSE)","v":{"$error":"#N/A"}},{"$error":"#N/A"},null,null,"11022#1|14#280|3#28"]
[null,10053,"困难-10-5",8,"4050#3050",{"$f":"VLOOKUP(VALUE(LEFT(VLOOKUP(VALUE(RIGHT(LevelDifficultyConfig!L207,4)),[3]RewardGroup!$B$1:$E$670,4,FALSE),5)),[4]RewardItemConfig!$B$1:$C$1176,2,FALSE)","v":{"$error":"#N/A"}},{"$f":"VLOOKUP(VALUE(RIGHT(VLOOKUP(VALUE(RIGHT(LevelDifficultyConfig!L207,4)),[3]RewardGroup!$B$1:$E$670,4,FALSE),5)),[4]RewardItemConfig!$B$1:$C$1176,2,FALSE)","v":{"$error":"#N/A"}},{"$f":"VLOOKUP(VALUE(LEFT(VLOOKUP(VALUE(LEFT(LevelDifficultyConfig!L207,4)),[3]RewardGroup!$B$1:$E$670,4,FALSE),5)),[4]RewardItemConfig!$B$1:$C$1176,2,FALSE)","v":{"$error":"#N/A"}},{"$f":"VLOOKUP(VALUE(RIGHT(VLOOKUP(VALUE(LEFT(LevelDifficultyConfig!L207,4)),[3]RewardGroup!$B$1:$E$670,4,FALSE),5)),[4]RewardItemConfig!$B$1:$C$1176,2,FALSE)","v":{"$error":"#N/A"}},{"$error":"#N/A"},null,null,"11002#1|14#280|3#28"]

{"sheet":"Sheet3","index":3,"n_rows":71,"n_cols":16,"rows_kept":71}
[]
[]
[]
[]
[]
[]
[{"$nulls":6},5011]
[{"$nulls":6},5012]
[{"$nulls":6},5013]
[{"$nulls":6},5014]
[{"$nulls":6},5015]
[{"$nulls":6},5016]
[{"$nulls":6},5017]
[{"$nulls":6},5018]
[{"$nulls":6},5019]
[{"$nulls":6},5020]
[{"$nulls":6},5021]
[{"$nulls":6},5022]
[{"$nulls":6},5023]
[{"$nulls":6},5024]
[{"$nulls":6},5025]
[{"$nulls":6},5026]
[{"$nulls":6},5027]
[{"$nulls":6},5028]
[{"$nulls":6},5029]
[{"$nulls":6},5030]
[{"$nulls":6},5031]
[{"$nulls":6},5032]
[{"$nulls":6},5033]
[{"$nulls":6},5034]
[{"$nulls":6},5035]
[{"$nulls":6},5036]
[{"$nulls":6},5037,{"$nulls":5},"简单-1-1",3001,401006,{"$f":"[5]!SUMSTRING(N33:O33,\"#\")","v":"3001#401006"}]
[{"$nulls":6},5038,{"$nulls":5},"简单-1-2",3002,401007,{"$f":"[5]!SUMSTRING(N34:O34,\"#\")","v":"3002#401007"}]
[{"$nulls":6},5039,{"$nulls":5},"简单-1-3",3003,401008,{"$f":"[5]!SUMSTRING(N35:O35,\"#\")","v":"3003#401008"}]
[{"$nulls":6},5040,{"$nulls":5},"简单-1-4",3004,401009,{"$f":"[5]!SUMSTRING(N36:O36,\"#\")","v":"3004#401009"}]
[{"$nulls":6},5041,{"$nulls":5},"简单-1-5",3005,401010,{"$f":"[5]!SUMSTRING(N37:O37,\"#\")","v":"3005#401010"}]
[{"$nulls":6},5042,{"$nulls":5},"简单-2-1",3006,401011,{"$f":"[5]!SUMSTRING(N38:O38,\"#\")","v":"3006#401011"}]
[{"$nulls":6},5043,{"$nulls":5},"简单-2-2",3007,401012,{"$f":"[5]!SUMSTRING(N39:O39,\"#\")","v":"3007#401012"}]
[{"$nulls":6},5044,{"$nulls":5},"简单-2-3",3008,401013,{"$f":"[5]!SUMSTRING(N40:O40,\"#\")","v":"3008#401013"}]
[{"$nulls":6},5045,{"$nulls":5},"简单-2-4",3009,401014,{"$f":"[5]!SUMSTRING(N41:O41,\"#\")","v":"3009#401014"}]
[{"$nulls":6},5046,{"$nulls":5},"简单-2-5",3010,401015,{"$f":"[5]!SUMSTRING(N42:O42,\"#\")","v":"3010#401015"}]
[{"$nulls":6},5047,{"$nulls":5},"简单-3-1",3011,401016,{"$f":"[5]!SUMSTRING(N43:O43,\"#\")","v":"3011#401016"}]
[{"$nulls":6},5048,{"$nulls":5},"简单-3-2",3012,401017,{"$f":"[5]!SUMSTRING(N44:O44,\"#\")","v":"3012#401017"}]
[{"$nulls":6},5049,{"$nulls":5},"简单-3-3",3013,401018,{"$f":"[5]!SUMSTRING(N45:O45,\"#\")","v":"3013#401018"}]
[{"$nulls":6},5050,{"$nulls":5},"简单-3-4",3014,401019,{"$f":"[5]!SUMSTRING(N46:O46,\"#\")","v":"3014#401019"}]
[{"$nulls":6},5051,{"$nulls":5},"简单-3-5",3015,401020,{"$f":"[5]!SUMSTRING(N47:O47,\"#\")","v":"3015#401020"}]
[{"$nulls":6},5052,{"$nulls":5},"简单-4-1",3016,401021,{"$f":"[5]!SUMSTRING(N48:O48,\"#\")","v":"3016#401021"}]
[{"$nulls":6},5053,{"$nulls":5},"简单-4-2",3017,401022,{"$f":"[5]!SUMSTRING(N49:O49,\"#\")","v":"3017#401022"}]
[{"$nulls":6},5054,{"$nulls":5},"简单-4-3",3018,401023,{"$f":"[5]!SUMSTRING(N50:O50,\"#\")","v":"3018#401023"}]
[{"$nulls":6},5055,{"$nulls":5},"简单-4-4",3019,401024,{"$f":"[5]!SUMSTRING(N51:O51,\"#\")","v":"3019#401024"}]
[{"$nulls":6},5056,{"$nulls":5},"简单-4-5",3020,401025,{"$f":"[5]!SUMSTRING(N52:O52,\"#\")","v":"3020#401025"}]
[{"$nulls":6},5057,{"$nulls":5},"简单-5-1",3021,401021,{"$f":"[5]!SUMSTRING(N53:O53,\"#\")","v":"3021#401021"}]
[{"$nulls":6},5058,{"$nulls":5},"简单-5-2",3022,401022,{"$f":"[5]!SUMSTRING(N54:O54,\"#\")","v":"3022#401022"}]
[{"$nulls":6},5059,{"$nulls":5},"简单-5-3",3023,401023,{"$f":"[5]!SUMSTRING(N55:O55,\"#\")","v":"3023#401023"}]
[{"$nulls":6},5060,{"$nulls":5},"简单-5-4",3024,401024,{"$f":"[5]!SUMSTRING(N56:O56,\"#\")","v":"3024#401024"}]
[{"$nulls":6},5061,{"$nulls":5},"简单-5-5",3025,401025,{"$f":"[5]!SUMSTRING(N57:O57,\"#\")","v":"3025#401025"}]
[{"$nulls":6},5062]
[{"$nulls":6},5063]
[{"$nulls":6},5064]
[{"$nulls":6},5065]
[{"$nulls":6},5066]
[{"$nulls":6},5067]
[{"$nulls":6},5068]
[{"$nulls":6},5069]
[{"$nulls":6},5070]
[{"$nulls":6},5071]
[{"$nulls":6},5072]
[{"$nulls":6},5073]
[{"$nulls":6},5074]
[{"$nulls":6},5075]

{"sheet":"Sheet4","index":4,"n_rows":302,"n_cols":21,"rows_kept":302}
[]
[{"$nulls":18},"#1","#1"]
[{"$nulls":4},"简单-1-1","70101#1","14#100","3#10",{"$nulls":5},610101,null,null,{"$f":"VLOOKUP(N3,[4]RewardItemConfig!$B:$C,2,FALSE)","v":70101},{"$f":"IF(VLOOKUP(O3,[4]RewardItemConfig!$B:$C,2,FALSE)=0,\"\",VLOOKUP(O3,[4]RewardItemConfig!$B:$C,2,FALSE))","v":""},{"$f":"IF(Q3=\"\",\"\",Q3&$S$2)","v":"70101#1"},{"$f":"IF(R3=\"\",\"\",R3&$S$2)","v":""},{"$f":"_xlfn.TEXTJOIN(\"|\",TRUE,S3:T3,G3,H3)","v":"70101#1|14#100|3#10"}]
[8801,401226,{"$f":"A4&\"#\"&B4","v":"8801#401226"},null,"简单-1-2","70201#1","14#100","3#10",{"$nulls":5},610201,null,null,{"$f":"VLOOKUP(N4,[4]RewardItemConfig!$B:$C,2,FALSE)","v":70201},{"$f":"IF(VLOOKUP(O4,[4]RewardItemConfig!$B:$C,2,FALSE)=0,\"\",VLOOKUP(O4,[4]RewardItemConfig!$B:$C,2,FALSE))","v":""},{"$f":"IF(Q4=\"\",\"\",Q4&$S$2)","v":"70201#1"},{"$f":"IF(R4=\"\",\"\",R4&$S$2)","v":""},{"$f":"_xlfn.TEXTJOIN(\"|\",TRUE,S4:T4,G4,H4)","v":"70201#1|14#100|3#10"}]
[8802,401227,{"$f":"A5&\"#\"&B5","v":"8802#401227"},null,"简单-1-3","70301#1","14#100","3#10",{"$nulls":5},610301,null,null,{"$f":"VLOOKUP(N5,[4]RewardItemConfig!$B:$C,2,FALSE)","v":70301},{"$f":"IF(VLOOKUP(O5,[4]RewardItemConfig!$B:$C,2,FALSE)=0,\"\",VLOOKUP(O5,[4]RewardItemConfig!$B:$C,2,FALSE))","v":""},"70301#1","","70301#1|14#100|3#10"]
[8803,401228,"8803#401228",null,"简单-1-4","70401#1","14#100","3#10",{"$nulls":5},610401,null,null,{"$f":"VLOOKUP(N6,[4]RewardItemConfig!$B:$C,2,FALSE)","v":70401},{"$f":"IF(VLOOKUP(O6,[4]RewardItemConfig!$B:$C,2,FALSE)=0,\"\",VLOOKUP(O6,[4]RewardItemConfig!$B:$C,2,FALSE))","v":""},"70401#1","","70401#1|14#100|3#10"]
[8804,401229,"8804#401229",null,"简单-1-5","70501#1","14#100","3#10",{"$nulls":5},610501,null,null,{"$f":"VLOOKUP(N7,[4]RewardItemConfig!$B:$C,2,FALSE)","v":70501},{"$f":"IF(VLOOKUP(O7,[4]RewardItemConfig!$B:$C,2,FALSE)=0,\"\",VLOOKUP(O7,[4]RewardItemConfig!$B:$C,2,FALSE))","v":""},"70501#1","","70501#1|14#100|3#10"]
[8805,401230,"8805#401230",null,"简单-2-1","70102#1","14#120","3#12",{"$nulls":5},610102,null,null,{"$f":"VLOOKUP(N8,[4]RewardItemConfig!$B:$C,2,FALSE)","v":70102},{"$f":"IF(VLOOKUP(O8,[4]RewardItemConfig!$B:$C,2,FALSE)=0,\"\",VLOOKUP(O8,[4]RewardItemConfig!$B:$C,2,FALSE))","v":""},"70102#1","","70102#1|14#120|3#12"]
[8806,401231,"8806#401231",null,"简单-2-2","70202#1","14#120","3#12",{"$nulls":5},610202,null,null,{"$f":"VLOOKUP(N9,[4]RewardItemConfig!$B:$C,2,FALSE)","v":70202},{"$f":"IF(VLOOKUP(O9,[4]RewardItemConfig!$B:$C,2,FALSE)=0,\"\",VLOOKUP(O9,[4]RewardItemConfig!$B:$C,2,FALSE))","v":""},"70202#1","","70202#1|14#120|3#12"]
[8807,401232,"8807#401232",null,"简单-2-3","70302#1","14#120","3#12",{"$nulls":5},610302,null,null,{"$f":"VLOOKUP(N10,[4]RewardItemConfig!$B:$C,2,FALSE)","v":70302},{"$f":"IF(VLOOKUP(O10,[4]RewardItemConfig!$B:$C,2,FALSE)=0,\"\",VLOOKUP(O10,[4]RewardItemConfig!$B:$C,2,FALSE))","v":""},"70302#1","","70302#1|14#120|3#12"]
[8808,401233,"8808#401233",null,"简单-2-4","70402#1","14#120","3#12",{"$nulls":5},610402,null,null,{"$f":"VLOOKUP(N11,[4]RewardItemConfig!$B:$C,2,FALSE)","v":70402},{"$f":"IF(VLOOKUP(O11,[4]RewardItemConfig!$B:$C,2,FALSE)=0,\"\",VLOOKUP(O11,[4]RewardItemConfig!$B:$C,2,FALSE))","v":""},"70402#1","","70402#1|14#120|3#12"]
[8809,401234,"8809#401234",null,"简单-2-5","70502#1","14#120","3#12",{"$nulls":5},610502,null,null,{"$f":"VLOOKUP(N12,[4]RewardItemConfig!$B:$C,2,FALSE)","v":70502},{"$f":"IF(VLOOKUP(O12,[4]RewardItemConfig!$B:$C,2,FALSE)=0,\"\",VLOOKUP(O12,[4]RewardItemConfig!$B:$C,2,FALSE))","v":""},"70502#1","","70502#1|14#120|3#12"]
[8810,401235,"8810#401235",null,"简单-3-1","70103#1","14#140","3#14",{"$nulls":5},610103,null,null,{"$f":"VLOOKUP(N13,[4]RewardItemConfig!$B:$C,2,FALSE)","v":70103},{"$f":"IF(VLOOKUP(O13,[4]RewardItemConfig!$B:$C,2,FALSE)=0,\"\",VLOOKUP(O13,[4]RewardItemConfig!$B:$C,2,FALSE))","v":""},"70103#1","","70103#1|14#140|3#14"]
[8811,401236,"8811#401236",null,"简单-3-2","70203#1","14#140","3#14",{"$nulls":5},610203,null,null,{"$f":"VLOOKUP(N14,[4]RewardItemConfig!$B:$C,2,FALSE)","v":70203},{"$f":"IF(VLOOKUP(O14,[4]RewardItemConfig!$B:$C,2,FALSE)=0,\"\",VLOOKUP(O14,[4]RewardItemConfig!$B:$C,2,FALSE))","v":""},"70203#1","","70203#1|14#140|3#14"]
[8812,401237,"8812#401237",null,"简单-3-3","70303#1","14#140","3#14",{"$nulls":5},610303,null,null,{"$f":"VLOOKUP(N15,[4]RewardItemConfig!$B:$C,2,FALSE)","v":70303},{"$f":"IF(VLOOKUP(O15,[4]RewardItemConfig!$B:$C,2,FALSE)=0,\"\",VLOOKUP(O15,[4]RewardItemConfig!$B:$C,2,FALSE))","v":""},"70303#1","","70303#1|14#140|3#14"]
[8813,401238,"8813#401238",null,"简单-3-4","70403#1","14#140","3#14",{"$nulls":5},610403,null,null,{"$f":"VLOOKUP(N16,[4]RewardItemConfig!$B:$C,2,FALSE)","v":70403},{"$f":"IF(VLOOKUP(O16,[4]RewardItemConfig!$B:$C,2,FALSE)=0,\"\",VLOOKUP(O16,[4]RewardItemConfig!$B:$C,2,FALSE))","v":""},"70403#1","","70403#1|14#140|3#14"]
[8814,401239,"8814#401239",null,"简单-3-5","70503#1","14#140","3#14",{"$nulls":5},610503,null,null,{"$f":"VLOOKUP(N17,[4]RewardItemConfig!$B:$C,2,FALSE)","v":70503},{"$f":"IF(VLOOKUP(O17,[4]RewardItemConfig!$B:$C,2,FALSE)=0,\"\",VLOOKUP(O17,[4]RewardItemConfig!$B:$C,2,FALSE))","v":""},"70503#1","","70503#1|14#140|3#14"]
[8815,401240,"8815#401240",null,"简单-4-1","70104#1","14#160","3#16",{"$nulls":5},610104,null,null,{"$f":"VLOOKUP(N18,[4]RewardItemConfig!$B:$C,2,FALSE)","v":70104},{"$f":"IF(VLOOKUP(O18,[4]RewardItemConfig!$B:$C,2,FALSE)=0,\"\",VLOOKUP(O18,[4]RewardItemConfig!$B:$C,2,FALSE))","v":""},"70104#1","","70104#1|14#160|3#16"]
[8816,401241,"8816#401241",null,"简单-4-2","70204#1","14#160","3#16",{"$nulls":5},610204,null,null,{"$f":"VLOOKUP(N19,[4]RewardItemConfig!$B:$C,2,FALSE)","v":70204},{"$f":"IF(VLOOKUP(O19,[4]RewardItemConfig!$B:$C,2,FALSE)=0,\"\",VLOOKUP(O19,[4]RewardItemConfig!$B:$C,2,FALSE))","v":""},"70204#1","","70204#1|14#160|3#16"]
[8817,401242,"8817#401242",null,"简单-4-3","70304#1","14#160","3#16",{"$nulls":5},610304,null,null,{"$f":"VLOOKUP(N20,[4]RewardItemConfig!$B:$C,2,FALSE)","v":70304},{"$f":"IF(VLOOKUP(O20,[4]RewardItemConfig!$B:$C,2,FALSE)=0,\"\",VLOOKUP(O20,[4]RewardItemConfig!$B:$C,2,FALSE))","v":""},"70304#1","","70304#1|14#160|3#16"]
[8818,401243,"8818#401243",null,"简单-4-4","70404#1","14#160","3#16",{"$nulls":5},610404,null,null,{"$f":"VLOOKUP(N21,[4]RewardItemConfig!$B:$C,2,FALSE)","v":70404},{"$f":"IF(VLOOKUP(O21,[4]RewardItemConfig!$B:$C,2,FALSE)=0,\"\",VLOOKUP(O21,[4]RewardItemConfig!$B:$C,2,FALSE))","v":""},"70404#1","","70404#1|14#160|3#16"]
[8819,401244,"8819#401244",null,"简单-4-5","70504#1","14#160","3#16",{"$nulls":5},610504,null,null,{"$f":"VLOOKUP(N22,[4]RewardItemConfig!$B:$C,2,FALSE)","v":70504},{"$f":"IF(VLOOKUP(O22,[4]RewardItemConfig!$B:$C,2,FALSE)=0,\"\",VLOOKUP(O22,[4]RewardItemConfig!$B:$C,2,FALSE))","v":""},"70504#1","","70504#1|14#160|3#16"]
[8820,401245,"8820#401245",null,"简单-5-1","70105#1","14#180","3#18",{"$nulls":5},610105,null,null,{"$f":"VLOOKUP(N23,[4]RewardItemConfig!$B:$C,2,FALSE)","v":70105},{"$f":"IF(VLOOKUP(O23,[4]RewardItemConfig!$B:$C,2,FALSE)=0,\"\",VLOOKUP(O23,[4]RewardItemConfig!$B:$C,2,FALSE))","v":""},"70105#1","","70105#1|14#180|3#18"]
[8821,401246,"8821#401246",null,"简单-5-2","70205#1","14#180","3#18",{"$nulls":5},610205,null,null,{"$f":"VLOOKUP(N24,[4]RewardItemConfig!$B:$C,2,FALSE)","v":70205},{"$f":"IF(VLOOKUP(O24,[4]RewardItemConfig!$B:$C,2,FALSE)=0,\"\",VLOOKUP(O24,[4]RewardItemConfig!$B:$C,2,FALSE))","v":""},"70205#1","","70205#1|14#180|3#18"]
[8822,401247,"8822#401247",null,"简单-5-3","70305#1","14#180","3#18",{"$nulls":5},610305,null,null,{"$f":"VLOOKUP(N25,[4]RewardItemConfig!$B:$C,2,FALSE)","v":70305},{"$f":"IF(VLOOKUP(O25,[4]RewardItemConfig!$B:$C,2,FALSE)=0,\"\",VLOOKUP(O25,[4]RewardItemConfig!$B:$C,2,FALSE))","v":""},"70305#1","","70305#1|14#180|3#18"]
[8823,401248,"8823#401248",null,"简单-5-4","70405#1","14#180","3#18",{"$nulls":5},610405,null,null,{"$f":"VLOOKUP(N26,[4]RewardItemConfig!$B:$C,2,FALSE)","v":70405},{"$f":"IF(VLOOKUP(O26,[4]RewardItemConfig!$B:$C,2,FALSE)=0,\"\",VLOOKUP(O26,[4]RewardItemConfig!$B:$C,2,FALSE))","v":""},"70405#1","","70405#1|14#180|3#18"]
[8824,401249,"8824#401249",null,"简单-5-5","70505#1","14#180","3#18",{"$nulls":5},610505,null,null,{"$f":"VLOOKUP(N27,[4]RewardItemConfig!$B:$C,2,FALSE)","v":70505},{"$f":"IF(VLOOKUP(O27,[4]RewardItemConfig!$B:$C,2,FALSE)=0,\"\",VLOOKUP(O27,[4]RewardItemConfig!$B:$C,2,FALSE))","v":""},"70505#1","","70505#1|14#180|3#18"]
[8825,401250,"8825#401250",null,"简单-6-1","70106#1","14#200","3#20",{"$nulls":5},610106,null,null,{"$f":"VLOOKUP(N28,[4]RewardItemConfig!$B:$C,2,FALSE)","v":70106},{"$f":"IF(VLOOKUP(O28,[4]RewardItemConfig!$B:$C,2,FALSE)=0,\"\",VLOOKUP(O28,[4]RewardItemConfig!$B:$C,2,FALSE))","v":""},"70106#1","","70106#1|14#200|3#20"]
[8826,401251,"8826#401251",null,"简单-6-2","70206#1","14#200","3#20",{"$nulls":5},610206,null,null,{"$f":"VLOOKUP(N29,[4]RewardItemConfig!$B:$C,2,FALSE)","v":70206},{"$f":"IF(VLOOKUP(O29,[4]RewardItemConfig!$B:$C,2,FALSE)=0,\"\",VLOOKUP(O29,[4]RewardItemConfig!$B:$C,2,FALSE))","v":""},"70206#1","","70206#1|14#200|3#20"]
[8827,401252,"8827#401252",null,"简单-6-3","70306#1","14#200","3#20",{"$nulls":5},610306,null,null,{"$f":"VLOOKUP(N30,[4]RewardItemConfig!$B:$C,2,FALSE)","v":70306},{"$f":"IF(VLOOKUP(O30,[4]RewardItemConfig!$B:$C,2,FALSE)=0,\"\",VLOOKUP(O30,[4]RewardItemConfig!$B:$C,2,FALSE))","v":""},"70306#1","","70306#1|14#200|3#20"]
[8828,401253,"8828#401253",null,"简单-6-4","70406#1","14#200","3#20",{"$nulls":5},610406,null,null,{"$f":"VLOOKUP(N31,[4]RewardItemConfig!$B:$C,2,FALSE)","v":70406},{"$f":"IF(VLOOKUP(O31,[4]RewardItemConfig!$B:$C,2,FALSE)=0,\"\",VLOOKUP(O31,[4]RewardItemConfig!$B:$C,2,FALSE))","v":""},"70406#1","","70406#1|14#200|3#20"]
[8829,401254,"8829#401254",null,"简单-6-5","70506#1","14#200","3#20",{"$nulls":5},610506,null,null,{"$f":"VLOOKUP(N32,[4]RewardItemConfig!$B:$C,2,FALSE)","v":70506},{"$f":"IF(VLOOKUP(O32,[4]RewardItemConfig!$B:$C,2,FALSE)=0,\"\",VLOOKUP(O32,[4]RewardItemConfig!$B:$C,2,FALSE))","v":""},"70506#1","",{"$f":"_xlfn.TEXTJOIN(\"|\",TRUE,S32:T32,G32,H32)","v":"70506#1|14#200|3#20"}]
[8830,401255,"8830#401255",null,"简单-7-1","70106#1","14#220","3#22",{"$nulls":5},610106,610101,null,{"$f":"VLOOKUP(N33,[4]RewardItemConfig!$B:$C,2,FALSE)","v":70106},{"$f":"IF(VLOOKUP(O33,[4]RewardItemConfig!$B:$C,2,FALSE)=0,\"\",VLOOKUP(O33,[4]RewardItemConfig!$B:$C,2,FALSE))","v":70101},"70106#1","70101#1","70106#1|70101#1|14#220|3#22"]
[8831,401256,"8831#401256",null,"简单-7-2","70206#1","14#220","3#22",{"$nulls":5},610206,610201,null,{"$f":"VLOOKUP(N34,[4]RewardItemConfig!$B:$C,2,FALSE)","v":70206},{"$f":"IF(VLOOKUP(O34,[4]RewardItemConfig!$B:$C,2,FALSE)=0,\"\",VLOOKUP(O34,[4]RewardItemConfig!$B:$C,2,FALSE))","v":70201},"70206#1","70201#1","70206#1|70201#1|14#220|3#22"]
[8832,401257,"8832#401257",null,"简单-7-3","70306#1","14#220","3#22",{"$nulls":5},610306,610301,null,{"$f":"VLOOKUP(N35,[4]RewardItemConfig!$B:$C,2,FALSE)","v":70306},{"$f":"IF(VLOOKUP(O35,[4]RewardItemConfig!$B:$C,2,FALSE)=0,\"\",VLOOKUP(O35,[4]RewardItemConfig!$B:$C,2,FALSE))","v":70301},"70306#1","70301#1","70306#1|70301#1|14#220|3#22"]
[8833,401258,"8833#401258",null,"简单-7-4","70406#1","14#220","3#22",{"$nulls":5},610406,610401,null,{"$f":"VLOOKUP(N36,[4]RewardItemConfig!$B:$C,2,FALSE)","v":70406},{"$f":"IF(VLOOKUP(O36,[4]RewardItemConfig!$B:$C,2,FALSE)=0,\"\",VLOOKUP(O36,[4]RewardItemConfig!$B:$C,2,FALSE))","v":70401},"70406#1","70401#1","70406#1|70401#1|14#220|3#22"]
[8834,401259,{"$f":"A37&\"#\"&B37","v":"8834#401259"},null,"简单-7-5","70506#1","14#220","3#22",{"$nulls":5},610506,610501,null,{"$f":"VLOOKUP(N37,[4]RewardItemConfig!$B:$C,2,FALSE)","v":70506},{"$f":"IF(VLOOKUP(O37,[4]RewardItemConfig!$B:$C,2,FALSE)=0,\"\",VLOOKUP(O37,[4]RewardItemConfig!$B:$C,2,FALSE))","v":70501},"70506#1","70501#1","70506#1|70501#1|14#220|3#22"]
[8835,401260,"8835#401260",null,"简单-8-1","70107#1","70101#1","14#240","3#24",{"$nulls":4},610107,610102,null,{"$f":"VLOOKUP(N38,[4]RewardItemConfig!$B:$C,2,FALSE)","v":70107},{"$f":"IF(VLOOKUP(O38,[4]RewardItemConfig!$B:$C,2,FALSE)=0,\"\",VLOOKUP(O38,[4]RewardItemConfig!$B:$C,2,FALSE))","v":70102},"70107#1","70102#1",{"$f":"_xlfn.TEXTJOIN(\"|\",TRUE,S38:T38,H38,I38)","v":"70107#1|70102#1|14#240|3#24"}]
[8836,401261,"8836#401261",null,"简单-8-2","70207#1","70201#1","14#240","3#24",{"$nulls":4},610207,610202,null,{"$f":"VLOOKUP(N39,[4]RewardItemConfig!$B:$C,2,FALSE)","v":70207},{"$f":"IF(VLOOKUP(O39,[4]RewardItemConfig!$B:$C,2,FALSE)=0,\"\",VLOOKUP(O39,[4]RewardItemConfig!$B:$C,2,FALSE))","v":70202},"70207#1","70202#1",{"$f":"_xlfn.TEXTJOIN(\"|\",TRUE,S39:T39,H39,I39)","v":"70207#1|70202#1|14#240|3#24"}]
[8837,401262,"8837#401262",null,"简单-8-3","70307#1","70301#1","14#240","3#24",{"$nulls":4},610307,610302,null,{"$f":"VLOOKUP(N40,[4]RewardItemConfig!$B:$C,2,FALSE)","v":70307},{"$f":"IF(VLOOKUP(O40,[4]RewardItemConfig!$B:$C,2,FALSE)=0,\"\",VLOOKUP(O40,[4]RewardItemConfig!$B:$C,2,FALSE))","v":70302},"70307#1","70302#1","70307#1|70302#1|14#240|3#24"]
[8838,401263,"8838#401263",null,"简单-8-4","70407#1","70401#1","14#240","3#24",{"$nulls":4},610407,610402,null,{"$f":"VLOOKUP(N41,[4]RewardItemConfig!$B:$C,2,FALSE)","v":70407},{"$f":"IF(VLOOKUP(O41,[4]RewardItemConfig!$B:$C,2,FALSE)=0,\"\",VLOOKUP(O41,[4]RewardItemConfig!$B:$C,2,FALSE))","v":70402},"70407#1","70402#1","70407#1|70402#1|14#240|3#24"]
[8839,401264,"8839#401264",null,"简单-8-5","70507#1","70501#1","14#240","3#24",{"$nulls":4},610507,610502,null,{"$f":"VLOOKUP(N42,[4]RewardItemConfig!$B:$C,2,FALSE)","v":70507},{"$f":"IF(VLOOKUP(O42,[4]RewardItemConfig!$B:$C,2,FALSE)=0,\"\",VLOOKUP(O42,[4]RewardItemConfig!$B:$C,2,FALSE))","v":70502},"70507#1","70502#1","70507#1|70502#1|14#240|3#24"]
[8840,401265,"8840#401265",null,"简单-9-1","70107#1","70102#1","14#260","3#26",{"$nulls":4},610108,null,null,{"$f":"VLOOKUP(N43,[4]RewardItemConfig!$B:$C,2,FALSE)","v":70108},{"$f":"IF(VLOOKUP(O43,[4]RewardItemConfig!$B:$C,2,FALSE)=0,\"\",VLOOKUP(O43,[4]RewardItemConfig!$B:$C,2,FALSE))","v":""},"70108#1","","70108#1|14#260|3#26"]
[8841,401266,"8841#401266",null,"简单-9-2","70207#1","70202#1","14#260","3#26",{"$nulls":4},610208,null,null,{"$f":"VLOOKUP(N44,[4]RewardItemConfig!$B:$C,2,FALSE)","v":70208},{"$f":"IF(VLOOKUP(O44,[4]RewardItemConfig!$B:$C,2,FALSE)=0,\"\",VLOOKUP(O44,[4]RewardItemConfig!$B:$C,2,FALSE))","v":""},"70208#1","","70208#1|14#260|3#26"]
[8842,401267,"8842#401267",null,"简单-9-3","70307#1","70302#1","14#260","3#26",{"$nulls":4},610308,null,null,{"$f":"VLOOKUP(N45,[4]RewardItemConfig!$B:$C,2,FALSE)","v":70308},{"$f":"IF(VLOOKUP(O45,[4]RewardItemConfig!$B:$C,2,FALSE)=0,\"\",VLOOKUP(O45,[4]RewardItemConfig!$B:$C,2,FALSE))","v":""},"70308#1","","70308#1|14#260|3#26"]
[8843,401268,"8843#401268",null,"简单-9-4","70407#1","70402#1","14#260","3#26",{"$nulls":4},610408,null,null,{"$f":"VLOOKUP(N46,[4]RewardItemConfig!$B:$C,2,FALSE)","v":70408},{"$f":"IF(VLOOKUP(O46,[4]RewardItemConfig!$B:$C,2,FALSE)=0,\"\",VLOOKUP(O46,[4]RewardItemConfig!$B:$C,2,FALSE))","v":""},"70408#1","","70408#1|14#260|3#26"]
[8844,401269,"8844#401269",null,"简单-9-5","70507#1","70502#1","14#260","3#26",{"$nulls":4},610508,null,null,{"$f":"VLOOKUP(N47,[4]RewardItemConfig!$B:$C,2,FALSE)","v":70508},{"$f":"IF(VLOOKUP(O47,[4]RewardItemConfig!$B:$C,2,FALSE)=0,\"\",VLOOKUP(O47,[4]RewardItemConfig!$B:$C,2,FALSE))","v":""},"70508#1","","70508#1|14#260|3#26"]
[8845,401270,"8845#401270",null,"简单-10-1","70108#1","70103#1","14#280","3#28",{"$nulls":4},610108,610101,null,{"$f":"VLOOKUP(N48,[4]RewardItemConfig!$B:$C,2,FALSE)","v":70108},{"$f":"IF(VLOOKUP(O48,[4]RewardItemConfig!$B:$C,2,FALSE)=0,\"\",VLOOKUP(O48,[4]RewardItemConfig!$B:$C,2,FALSE))","v":70101},"70108#1","70101#1","70108#1|70101#1|14#280|3#28"]
[8846,401271,"8846#401271",null,"简单-10-2","70208#1","70203#1","14#280","3#28",{"$nulls":4},610208,610201,null,{"$f":"VLOOKUP(N49,[4]RewardItemConfig!$B:$C,2,FALSE)","v":70208},{"$f":"IF(VLOOKUP(O49,[4]RewardItemConfig!$B:$C,2,FALSE)=0,\"\",VLOOKUP(O49,[4]RewardItemConfig!$B:$C,2,FALSE))","v":70201},"70208#1","70201#1","70208#1|70201#1|14#280|3#28"]
[8847,401272,"8847#401272",null,"简单-10-3","70308#1","70303#1","14#280","3#28",{"$nulls":4},610308,610301,null,{"$f":"VLOOKUP(N50,[4]RewardItemConfig!$B:$C,2,FALSE)","v":70308},{"$f":"IF(VLOOKUP(O50,[4]RewardItemConfig!$B:$C,2,FALSE)=0,\"\",VLOOKUP(O50,[4]RewardItemConfig!$B:$C,2,FALSE))","v":70301},"70308#1","70301#1","70308#1|70301#1|14#280|3#28"]
[8848,401273,"8848#401273",null,"简单-10-4","70408#1","70403#1","14#280","3#28",{"$nulls":4},610408,610401,null,{"$f":"VLOOKUP(N51,[4]RewardItemConfig!$B:$C,2,FALSE)","v":70408},{"$f":"IF(VLOOKUP(O51,[4]RewardItemConfig!$B:$C,2,FALSE)=0,\"\",VLOOKUP(O51,[4]RewardItemConfig!$B:$C,2,FALSE))","v":70401},"70408#1","70401#1","70408#1|70401#1|14#280|3#28"]
[8849,401274,"8849#401274",null,"简单-10-5","70508#1","70503#1","14#280","3#28",{"$nulls":4},610508,610501,null,{"$f":"VLOOKUP(N52,[4]RewardItemConfig!$B:$C,2,FALSE)","v":70508},{"$f":"IF(VLOOKUP(O52,[4]RewardItemConfig!$B:$C,2,FALSE)=0,\"\",VLOOKUP(O52,[4]RewardItemConfig!$B:$C,2,FALSE))","v":70501},"70508#1","70501#1","70508#1|70501#1|14#280|3#28"]
[8850,401275,"8850#401275",null,"简单-11-1","70108#1","70104#1","14#300","3#30",{"$nulls":4},610108,null,null,{"$f":"VLOOKUP(N53,[4]RewardItemConfig!$B:$C,2,FALSE)","v":70108},{"$f":"IF(VLOOKUP(O53,[4]RewardItemConfig!$B:$C,2,FALSE)=0,\"\",VLOOKUP(O53,[4]RewardItemConfig!$B:$C,2,FALSE))","v":""},"70108#1","","70108#1|14#300|3#30"]
[8851,401276,"8851#401276",null,"简单-11-2","70208#1","70204#1","14#300","3#30",{"$nulls":4},610208,null,null,{"$f":"VLOOKUP(N54,[4]RewardItemConfig!$B:$C,2,FALSE)","v":70208},{"$f":"IF(VLOOKUP(O54,[4]RewardItemConfig!$B:$C,2,FALSE)=0,\"\",VLOOKUP(O54,[4]RewardItemConfig!$B:$C,2,FALSE))","v":""},"70208#1","","70208#1|14#300|3#30"]
[8852,401277,"8852#401277",null,"简单-11-3","70308#1","70304#1","14#300","3#30",{"$nulls":4},610308,null,null,{"$f":"VLOOKUP(N55,[4]RewardItemConfig!$B:$C,2,FALSE)","v":70308},{"$f":"IF(VLOOKUP(O55,[4]RewardItemConfig!$B:$C,2,FALSE)=0,\"\",VLOOKUP(O55,[4]RewardItemConfig!$B:$C,2,FALSE))","v":""},"70308#1","","70308#1|14#300|3#30"]
[8853,401278,"8853#401278",null,"简单-11-4","70408#1","70404#1","14#300","3#30",{"$nulls":4},610408,null,null,{"$f":"VLOOKUP(N56,[4]RewardItemConfig!$B:$C,2,FALSE)","v":70408},{"$f":"IF(VLOOKUP(O56,[4]RewardItemConfig!$B:$C,2,FALSE)=0,\"\",VLOOKUP(O56,[4]RewardItemConfig!$B:$C,2,FALSE))","v":""},"70408#1","","70408#1|14#300|3#30"]
[8854,401279,"8854#401279",null,"简单-11-5","70508#1","70504#1","14#300","3#30",{"$nulls":4},610508,null,null,{"$f":"VLOOKUP(N57,[4]RewardItemConfig!$B:$C,2,FALSE)","v":70508},{"$f":"IF(VLOOKUP(O57,[4]RewardItemConfig!$B:$C,2,FALSE)=0,\"\",VLOOKUP(O57,[4]RewardItemConfig!$B:$C,2,FALSE))","v":""},"70508#1","","70508#1|14#300|3#30"]
[8855,401280,"8855#401280",null,"简单-12-1","70109#1","70105#1","14#320","3#32",{"$nulls":4},610109,610102,null,{"$f":"VLOOKUP(N58,[4]RewardItemConfig!$B:$C,2,FALSE)","v":70109},{"$f":"IF(VLOOKUP(O58,[4]RewardItemConfig!$B:$C,2,FALSE)=0,\"\",VLOOKUP(O58,[4]RewardItemConfig!$B:$C,2,FALSE))","v":70102},"70109#1","70102#1","70109#1|70102#1|14#320|3#32"]
[8856,401281,"8856#401281",null,"简单-12-2","70209#1","70205#1","14#320","3#32",{"$nulls":4},610209,610202,null,{"$f":"VLOOKUP(N59,[4]RewardItemConfig!$B:$C,2,FALSE)","v":70209},{"$f":"IF(VLOOKUP(O59,[4]RewardItemConfig!$B:$C,2,FALSE)=0,\"\",VLOOKUP(O59,[4]RewardItemConfig!$B:$C,2,FALSE))","v":70202},"70209#1","70202#1","70209#1|70202#1|14#320|3#32"]
[8857,401282,"8857#401282",null,"简单-12-3","70309#1","70305#1","14#320","3#32",{"$nulls":4},610309,610302,null,{"$f":"VLOOKUP(N60,[4]RewardItemConfig!$B:$C,2,FALSE)","v":70309},{"$f":"IF(VLOOKUP(O60,[4]RewardItemConfig!$B:$C,2,FALSE)=0,\"\",VLOOKUP(O60,[4]RewardItemConfig!$B:$C,2,FALSE))","v":70302},"70309#1","70302#1","70309#1|70302#1|14#320|3#32"]
[8858,401283,"8858#401283",null,"简单-12-4","70409#1","70405#1","14#320","3#32",{"$nulls":4},610409,610402,null,{"$f":"VLOOKUP(N61,[4]RewardItemConfig!$B:$C,2,FALSE)","v":70409},{"$f":"IF(VLOOKUP(O61,[4]RewardItemConfig!$B:$C,2,FALSE)=0,\"\",VLOOKUP(O61,[4]RewardItemConfig!$B:$C,2,FALSE))","v":70402},"70409#1","70402#1","70409#1|70402#1|14#320|3#32"]
[8859,401284,"8859#401284",null,"简单-12-5","70509#1","70505#1","14#320","3#32",{"$nulls":4},610509,610502,null,{"$f":"VLOOKUP(N62,[4]RewardItemConfig!$B:$C,2,FALSE)","v":70509},{"$f":"IF(VLOOKUP(O62,[4]RewardItemConfig!$B:$C,2,FALSE)=0,\"\",VLOOKUP(O62,[4]RewardItemConfig!$B:$C,2,FALSE))","v":70502},"70509#1","70502#1","70509#1|70502#1|14#320|3#32"]
[8860,401285,"8860#401285",null,"简单-13-1","70109#1","70106#1","14#340","3#34",{"$nulls":4},610109,null,null,{"$f":"VLOOKUP(N63,[4]RewardItemConfig!$B:$C,2,FALSE)","v":70109},{"$f":"IF(VLOOKUP(O63,[4]RewardItemConfig!$B:$C,2,FALSE)=0,\"\",VLOOKUP(O63,[4]RewardItemConfig!$B:$C,2,FALSE))","v":""},"70109#1","","70109#1|14#340|3#34"]
[8861,401286,"8861#401286",null,"简单-13-2","70209#1","70206#1","14#340","3#34",{"$nulls":4},610209,null,null,{"$f":"VLOOKUP(N64,[4]RewardItemConfig!$B:$C,2,FALSE)","v":70209},{"$f":"IF(VLOOKUP(O64,[4]RewardItemConfig!$B:$C,2,FALSE)=0,\"\",VLOOKUP(O64,[4]RewardItemConfig!$B:$C,2,FALSE))","v":""},"70209#1","","70209#1|14#340|3#34"]
[8862,401287,"8862#401287",null,"简单-13-3","70309#1","70306#1","14#340","3#34",{"$nulls":4},610309,null,null,{"$f":"VLOOKUP(N65,[4]RewardItemConfig!$B:$C,2,FALSE)","v":70309},{"$f":"IF(VLOOKUP(O65,[4]RewardItemConfig!$B:$C,2,FALSE)=0,\"\",VLOOKUP(O65,[4]RewardItemConfig!$B:$C,2,FALSE))","v":""},"70309#1","","70309#1|14#340|3#34"]
[8863,401288,"8863#401288",null,"简单-13-4","70409#1","70406#1","14#340","3#34",{"$nulls":4},610409,null,null,{"$f":"VLOOKUP(N66,[4]RewardItemConfig!$B:$C,2,FALSE)","v":70409},{"$f":"IF(VLOOKUP(O66,[4]RewardItemConfig!$B:$C,2,FALSE)=0,\"\",VLOOKUP(O66,[4]RewardItemConfig!$B:$C,2,FALSE))","v":""},"70409#1","","70409#1|14#340|3#34"]
[8864,401289,"8864#401289",null,"简单-13-5","70509#1","70506#1","14#340","3#34",{"$nulls":4},610509,null,null,{"$f":"VLOOKUP(N67,[4]RewardItemConfig!$B:$C,2,FALSE)","v":70509},{"$f":"IF(VLOOKUP(O67,[4]RewardItemConfig!$B:$C,2,FALSE)=0,\"\",VLOOKUP(O67,[4]RewardItemConfig!$B:$C,2,FALSE))","v":""},"70509#1","","70509#1|14#340|3#34"]
[8865,401290,"8865#401290",null,"简单-14-1","70110#1","70103#1","14#360","3#36",{"$nulls":4},610110,610101,null,{"$f":"VLOOKUP(N68,[4]RewardItemConfig!$B:$C,2,FALSE)","v":70110},{"$f":"IF(VLOOKUP(O68,[4]RewardItemConfig!$B:$C,2,FALSE)=0,\"\",VLOOKUP(O68,[4]RewardItemConfig!$B:$C,2,FALSE))","v":70101},{"$f":"IF(Q68=\"\",\"\",Q68&$S$2)","v":"70110#1"},{"$f":"IF(R68=\"\",\"\",R68&$S$2)","v":"70101#1"},"70110#1|70101#1|14#360|3#36"]
[8866,401291,"8866#401291",null,"简单-14-2","70210#1","70203#1","14#360","3#36",{"$nulls":4},610210,610201,null,{"$f":"VLOOKUP(N69,[4]RewardItemConfig!$B:$C,2,FALSE)","v":70210},{"$f":"IF(VLOOKUP(O69,[4]RewardItemConfig!$B:$C,2,FALSE)=0,\"\",VLOOKUP(O69,[4]RewardItemConfig!$B:$C,2,FALSE))","v":70201},"70210#1","70201#1","70210#1|70201#1|14#360|3#36"]
[8867,401292,"8867#401292",null,"简单-14-3","70310#1","70303#1","14#360","3#36",{"$nulls":4},610310,610301,null,{"$f":"VLOOKUP(N70,[4]RewardItemConfig!$B:$C,2,FALSE)","v":70310},{"$f":"IF(VLOOKUP(O70,[4]RewardItemConfig!$B:$C,2,FALSE)=0,\"\",VLOOKUP(O70,[4]RewardItemConfig!$B:$C,2,FALSE))","v":70301},"70310#1","70301#1","70310#1|70301#1|14#360|3#36"]
[8868,401293,"8868#401293",null,"简单-14-4","70410#1","70403#1","14#360","3#36",{"$nulls":4},610410,610401,null,{"$f":"VLOOKUP(N71,[4]RewardItemConfig!$B:$C,2,FALSE)","v":70410},{"$f":"IF(VLOOKUP(O71,[4]RewardItemConfig!$B:$C,2,FALSE)=0,\"\",VLOOKUP(O71,[4]RewardItemConfig!$B:$C,2,FALSE))","v":70401},"70410#1","70401#1",{"$f":"_xlfn.TEXTJOIN(\"|\",TRUE,S71:T71,H71,I71)","v":"70410#1|70401#1|14#360|3#36"}]
[8869,401294,"8869#401294",null,"简单-14-5","70510#1","70503#1","14#360","3#36",{"$nulls":4},610510,610501,null,{"$f":"VLOOKUP(N72,[4]RewardItemConfig!$B:$C,2,FALSE)","v":70510},{"$f":"IF(VLOOKUP(O72,[4]RewardItemConfig!$B:$C,2,FALSE)=0,\"\",VLOOKUP(O72,[4]RewardItemConfig!$B:$C,2,FALSE))","v":70501},"70510#1","70501#1","70510#1|70501#1|14#360|3#36"]
[8870,401295,"8870#401295",null,"简单-15-1","70110#1","70104#1","14#380","3#38",{"$nulls":4},610110,610102,null,{"$f":"VLOOKUP(N73,[4]RewardItemConfig!$B:$C,2,FALSE)","v":70110},{"$f":"IF(VLOOKUP(O73,[4]RewardItemConfig!$B:$C,2,FALSE)=0,\"\",VLOOKUP(O73,[4]RewardItemConfig!$B:$C,2,FALSE))","v":70102},"70110#1","70102#1","70110#1|70102#1|14#380|3#38"]
[8871,401296,"8871#401296",null,"简单-15-2","70210#1","70204#1","14#380","3#38",{"$nulls":4},610210,610202,null,{"$f":"VLOOKUP(N74,[4]RewardItemConfig!$B:$C,2,FALSE)","v":70210},{"$f":"IF(VLOOKUP(O74,[4]RewardItemConfig!$B:$C,2,FALSE)=0,\"\",VLOOKUP(O74,[4]RewardItemConfig!$B:$C,2,FALSE))","v":70202},"70210#1","70202#1","70210#1|70202#1|14#380|3#38"]
[8872,401297,"8872#401297",null,"简单-15-3","70310#1","70304#1","14#380","3#38",{"$nulls":4},610310,610302,null,{"$f":"VLOOKUP(N75,[4]RewardItemConfig!$B:$C,2,FALSE)","v":70310},{"$f":"IF(VLOOKUP(O75,[4]RewardItemConfig!$B:$C,2,FALSE)=0,\"\",VLOOKUP(O75,[4]RewardItemConfig!$B:$C,2,FALSE))","v":70302},"70310#1","70302#1","70310#1|70302#1|14#380|3#38"]
[8873,401298,"8873#401298",null,"简单-15-4","70410#1","70404#1","14#380","3#38",{"$nulls":4},610410,610402,null,{"$f":"VLOOKUP(N76,[4]RewardItemConfig!$B:$C,2,FALSE)","v":70410},{"$f":"IF(VLOOKUP(O76,[4]RewardItemConfig!$B:$C,2,FALSE)=0,\"\",VLOOKUP(O76,[4]RewardItemConfig!$B:$C,2,FALSE))","v":70402},"70410#1","70402#1","70410#1|70402#1|14#380|3#38"]
[8874,401299,"8874#401299",null,"简单-15-5","70510#1","70504#1","14#380","3#38",{"$nulls":4},610510,610502,null,{"$f":"VLOOKUP(N77,[4]RewardItemConfig!$B:$C,2,FALSE)","v":70510},{"$f":"IF(VLOOKUP(O77,[4]RewardItemConfig!$B:$C,2,FALSE)=0,\"\",VLOOKUP(O77,[4]RewardItemConfig!$B:$C,2,FALSE))","v":70502},"70510#1","70502#1","70510#1|70502#1|14#380|3#38"]
[8875,401300,"8875#401300",null,"普通-1-1","70111#1","70107#1","14#180","3#18",{"$nulls":4},610111,610103,null,{"$f":"VLOOKUP(N78,[4]RewardItemConfig!$B:$C,2,FALSE)","v":70111},{"$f":"IF(VLOOKUP(O78,[4]RewardItemConfig!$B:$C,2,FALSE)=0,\"\",VLOOKUP(O78,[4]RewardItemConfig!$B:$C,2,FALSE))","v":70103},"70111#1","70103#1","70111#1|70103#1|14#180|3#18"]
[{"$nulls":4},"普通-1-2","70211#1","70207#1","14#180","3#18",{"$nulls":4},610211,610203,null,{"$f":"VLOOKUP(N79,[4]RewardItemConfig!$B:$C,2,FALSE)","v":70211},{"$f":"IF(VLOOKUP(O79,[4]RewardItemConfig!$B:$C,2,FALSE)=0,\"\",VLOOKUP(O79,[4]RewardItemConfig!$B:$C,2,FALSE))","v":70203},"70211#1","70203#1","70211#1|70203#1|14#180|3#18"]
[{"$nulls":4},"普通-1-3","70311#1","70307#1","14#180","3#18",{"$nulls":4},610311,610303,null,{"$f":"VLOOKUP(N80,[4]RewardItemConfig!$B:$C,2,FALSE)","v":70311},{"$f":"IF(VLOOKUP(O80,[4]RewardItemConfig!$B:$C,2,FALSE)=0,\"\",VLOOKUP(O80,[4]RewardItemConfig!$B:$C,2,FALSE))","v":70303},"70311#1","70303#1","70311#1|70303#1|14#180|3#18"]
[{"$nulls":4},"普通-1-4","70411#1","70407#1","14#180","3#18",{"$nulls":4},610411,610403,null,{"$f":"VLOOKUP(N81,[4]RewardItemConfig!$B:$C,2,FALSE)","v":70411},{"$f":"IF(VLOOKUP(O81,[4]RewardItemConfig!$B:$C,2,FALSE)=0,\"\",VLOOKUP(O81,[4]RewardItemConfig!$B:$C,2,FALSE))","v":70403},"70411#1","70403#1","70411#1|70403#1|14#180|3#18"]
[{"$nulls":4},"普通-1-5","70511#1","70507#1","14#180","3#18",{"$nulls":4},610511,610503,null,{"$f":"VLOOKUP(N82,[4]RewardItemConfig!$B:$C,2,FALSE)","v":70511},{"$f":"IF(VLOOKUP(O82,[4]RewardItemConfig!$B:$C,2,FALSE)=0,\"\",VLOOKUP(O82,[4]RewardItemConfig!$B:$C,2,FALSE))","v":70503},"70511#1","70503#1","70511#1|70503#1|14#180|3#18"]
[{"$nulls":4},"普通-2-1","70111#1","70108#1","14#200","3#20",{"$nulls":4},610111,null,null,{"$f":"VLOOKUP(N83,[4]RewardItemConfig!$B:$C,2,FALSE)","v":70111},{"$f":"IF(VLOOKUP(O83,[4]RewardItemConfig!$B:$C,2,FALSE)=0,\"\",VLOOKUP(O83,[4]RewardItemConfig!$B:$C,2,FALSE))","v":""},"70111#1","","70111#1|14#200|3#20"]
[{"$nulls":4},"普通-2-2","70211#1","70208#1","14#200","3#20",{"$nulls":4},610211,null,null,{"$f":"VLOOKUP(N84,[4]RewardItemConfig!$B:$C,2,FALSE)","v":70211},{"$f":"IF(VLOOKUP(O84,[4]RewardItemConfig!$B:$C,2,FALSE)=0,\"\",VLOOKUP(O84,[4]RewardItemConfig!$B:$C,2,FALSE))","v":""},"70211#1","","70211#1|14#200|3#20"]
[{"$nulls":4},"普通-2-3","70311#1","70308#1","14#200","3#20",{"$nulls":4},610311,null,null,{"$f":"VLOOKUP(N85,[4]RewardItemConfig!$B:$C,2,FALSE)","v":70311},{"$f":"IF(VLOOKUP(O85,[4]RewardItemConfig!$B:$C,2,FALSE)=0,\"\",VLOOKUP(O85,[4]RewardItemConfig!$B:$C,2,FALSE))","v":""},"70311#1","","70311#1|14#200|3#20"]
[{"$nulls":4},"普通-2-4","70411#1","70408#1","14#200","3#20",{"$nulls":4},610411,null,null,{"$f":"VLOOKUP(N86,[4]RewardItemConfig!$B:$C,2,FALSE)","v":70411},{"$f":"IF(VLOOKUP(O86,[4]RewardItemConfig!$B:$C,2,FALSE)=0,\"\",VLOOKUP(O86,[4]RewardItemConfig!$B:$C,2,FALSE))","v":""},"70411#1","","70411#1|14#200|3#20"]
[{"$nulls":4},"普通-2-5","70511#1","70508#1","14#200","3#20",{"$nulls":4},610511,null,null,{"$f":"VLOOKUP(N87,[4]RewardItemConfig!$B:$C,2,FALSE)","v":70511},{"$f":"IF(VLOOKUP(O87,[4]RewardItemConfig!$B:$C,2,FALSE)=0,\"\",VLOOKUP(O87,[4]RewardItemConfig!$B:$C,2,FALSE))","v":""},"70511#1","","70511#1|14#200|3#20"]
[{"$nulls":4},"普通-3-1","70111#1","70109#1","14#220","3#22",{"$nulls":4},610111,null,null,{"$f":"VLOOKUP(N88,[4]RewardItemConfig!$B:$C,2,FALSE)","v":70111},{"$f":"IF(VLOOKUP(O88,[4]RewardItemConfig!$B:$C,2,FALSE)=0,\"\",VLOOKUP(O88,[4]RewardItemConfig!$B:$C,2,FALSE))","v":""},"70111#1","","70111#1|14#220|3#22"]
[{"$nulls":4},"普通-3-2","70211#1","70209#1","14#220","3#22",{"$nulls":4},610211,null,null,{"$f":"VLOOKUP(N89,[4]RewardItemConfig!$B:$C,2,FALSE)","v":70211},{"$f":"IF(VLOOKUP(O89,[4]RewardItemConfig!$B:$C,2,FALSE)=0,\"\",VLOOKUP(O89,[4]RewardItemConfig!$B:$C,2,FALSE))","v":""},"70211#1","","70211#1|14#220|3#22"]
[{"$nulls":4},"普通-3-3","70311#1","70309#1","14#220","3#22",{"$nulls":4},610311,null,null,{"$f":"VLOOKUP(N90,[4]RewardItemConfig!$B:$C,2,FALSE)","v":70311},{"$f":"IF(VLOOKUP(O90,[4]RewardItemConfig!$B:$C,2,FALSE)=0,\"\",VLOOKUP(O90,[4]RewardItemConfig!$B:$C,2,FALSE))","v":""},"70311#1","","70311#1|14#220|3#22"]
[{"$nulls":4},"普通-3-4","70411#1","70409#1","14#220","3#22",{"$nulls":4},610411,null,null,{"$f":"VLOOKUP(N91,[4]RewardItemConfig!$B:$C,2,FALSE)","v":70411},{"$f":"IF(VLOOKUP(O91,[4]RewardItemConfig!$B:$C,2,FALSE)=0,\"\",VLOOKUP(O91,[4]RewardItemConfig!$B:$C,2,FALSE))","v":""},"70411#1","","70411#1|14#220|3#22"]
[{"$nulls":4},"普通-3-5","70511#1","70509#1","14#220","3#22",{"$nulls":4},610511,null,null,{"$f":"VLOOKUP(N92,[4]RewardItemConfig!$B:$C,2,FALSE)","v":70511},{"$f":"IF(VLOOKUP(O92,[4]RewardItemConfig!$B:$C,2,FALSE)=0,\"\",VLOOKUP(O92,[4]RewardItemConfig!$B:$C,2,FALSE))","v":""},"70511#1","","70511#1|14#220|3#22"]
[{"$nulls":4},"普通-4-1","70112#1","70110#1","14#240","3#24",{"$nulls":4},610112,null,null,{"$f":"VLOOKUP(N93,[4]RewardItemConfig!$B:$C,2,FALSE)","v":70112},{"$f":"IF(VLOOKUP(O93,[4]RewardItemConfig!$B:$C,2,FALSE)=0,\"\",VLOOKUP(O93,[4]RewardItemConfig!$B:$C,2,FALSE))","v":""},"70112#1","","70112#1|14#240|3#24"]
[{"$nulls":4},"普通-4-2","70212#1","70210#1","14#240","3#24",{"$nulls":4},610212,null,null,{"$f":"VLOOKUP(N94,[4]RewardItemConfig!$B:$C,2,FALSE)","v":70212},{"$f":"IF(VLOOKUP(O94,[4]RewardItemConfig!$B:$C,2,FALSE)=0,\"\",VLOOKUP(O94,[4]RewardItemConfig!$B:$C,2,FALSE))","v":""},"70212#1","","70212#1|14#240|3#24"]
[{"$nulls":4},"普通-4-3","70312#1","70310#1","14#240","3#24",{"$nulls":4},610312,null,null,{"$f":"VLOOKUP(N95,[4]RewardItemConfig!$B:$C,2,FALSE)","v":70312},{"$f":"IF(VLOOKUP(O95,[4]RewardItemConfig!$B:$C,2,FALSE)=0,\"\",VLOOKUP(O95,[4]RewardItemConfig!$B:$C,2,FALSE))","v":""},"70312#1","","70312#1|14#240|3#24"]
[{"$nulls":4},"普通-4-4","70412#1","70410#1","14#240","3#24",{"$nulls":4},610412,null,null,{"$f":"VLOOKUP(N96,[4]RewardItemConfig!$B:$C,2,FALSE)","v":70412},{"$f":"IF(VLOOKUP(O96,[4]RewardItemConfig!$B:$C,2,FALSE)=0,\"\",VLOOKUP(O96,[4]RewardItemConfig!$B:$C,2,FALSE))","v":""},"70412#1","","70412#1|14#240|3#24"]
[{"$nulls":4},"普通-4-5","70512#1","70510#1","14#240","3#24",{"$nulls":4},610512,null,null,{"$f":"VLOOKUP(N97,[4]RewardItemConfig!$B:$C,2,FALSE)","v":70512},{"$f":"IF(VLOOKUP(O97,[4]RewardItemConfig!$B:$C,2,FALSE)=0,\"\",VLOOKUP(O97,[4]RewardItemConfig!$B:$C,2,FALSE))","v":""},"70512#1","","70512#1|14#240|3#24"]
[{"$nulls":4},"普通-5-1","70112#1","70111#1","14#260","3#26",{"$nulls":4},610112,null,null,{"$f":"VLOOKUP(N98,[4]RewardItemConfig!$B:$C,2,FALSE)","v":70112},{"$f":"IF(VLOOKUP(O98,[4]RewardItemConfig!$B:$C,2,FALSE)=0,\"\",VLOOKUP(O98,[4]RewardItemConfig!$B:$C,2,FALSE))","v":""},"70112#1","","70112#1|14#260|3#26"]
[{"$nulls":4},"普通-5-2","70212#1","70211#1","14#260","3#26",{"$nulls":4},610212,null,null,{"$f":"VLOOKUP(N99,[4]RewardItemConfig!$B:$C,2,FALSE)","v":70212},{"$f":"IF(VLOOKUP(O99,[4]RewardItemConfig!$B:$C,2,FALSE)=0,\"\",VLOOKUP(O99,[4]RewardItemConfig!$B:$C,2,FALSE))","v":""},"70212#1","","70212#1|14#260|3#26"]
[{"$nulls":4},"普通-5-3","70312#1","70311#1","14#260","3#26",{"$nulls":4},610312,null,null,{"$f":"VLOOKUP(N100,[4]RewardItemConfig!$B:$C,2,FALSE)","v":70312},{"$f":"IF(VLOOKUP(O100,[4]RewardItemConfig!$B:$C,2,FALSE)=0,\"\",VLOOKUP(O100,[4]RewardItemConfig!$B:$C,2,FALSE))","v":""},"70312#1","","70312#1|14#260|3#26"]
[{"$nulls":4},"普通-5-4","70412#1","70411#1","14#260","3#26",{"$nulls":4},610412,null,null,{"$f":"VLOOKUP(N101,[4]RewardItemConfig!$B:$C,2,FALSE)","v":70412},{"$f":"IF(VLOOKUP(O101,[4]RewardItemConfig!$B:$C,2,FALSE)=0,\"\",VLOOKUP(O101,[4]RewardItemConfig!$B:$C,2,FALSE))","v":""},"70412#1","","70412#1|14#260|3#26"]
[{"$nulls":4},"普通-5-5","70512#1","70511#1","14#260","3#26",{"$nulls":4},610512,null,null,{"$f":"VLOOKUP(N102,[4]RewardItemConfig!$B:$C,2,FALSE)","v":70512},{"$f":"IF(VLOOKUP(O102,[4]RewardItemConfig!$B:$C,2,FALSE)=0,\"\",VLOOKUP(O102,[4]RewardItemConfig!$B:$C,2,FALSE))","v":""},"70512#1","","70512#1|14#260|3#26"]
[{"$nulls":4},"普通-6-1","70112#1","70111#1","14#280","3#28",{"$nulls":4},610112,610101,null,{"$f":"VLOOKUP(N103,[4]RewardItemConfig!$B:$C,2,FALSE)","v":70112},{"$f":"IF(VLOOKUP(O103,[4]RewardItemConfig!$B:$C,2,FALSE)=0,\"\",VLOOKUP(O103,[4]RewardItemConfig!$B:$C,2,FALSE))","v":70101},"70112#1","70101#1",{"$f":"_xlfn.TEXTJOIN(\"|\",TRUE,S103:T103,H103,I103)","v":"70112#1|70101#1|14#280|3#28"}]
[{"$nulls":4},"普通-6-2","70212#1","70211#1","14#280","3#28",{"$nulls":4},610212,610201,null,{"$f":"VLOOKUP(N104,[4]RewardItemConfig!$B:$C,2,FALSE)","v":70212},{"$f":"IF(VLOOKUP(O104,[4]RewardItemConfig!$B:$C,2,FALSE)=0,\"\",VLOOKUP(O104,[4]RewardItemConfig!$B:$C,2,FALSE))","v":70201},"70212#1","70201#1","70212#1|70201#1|14#280|3#28"]
[{"$nulls":4},"普通-6-3","70312#1","70311#1","14#280","3#28",{"$nulls":4},610312,610301,null,{"$f":"VLOOKUP(N105,[4]RewardItemConfig!$B:$C,2,FALSE)","v":70312},{"$f":"IF(VLOOKUP(O105,[4]RewardItemConfig!$B:$C,2,FALSE)=0,\"\",VLOOKUP(O105,[4]RewardItemConfig!$B:$C,2,FALSE))","v":70301},"70312#1","70301#1","70312#1|70301#1|14#280|3#28"]
[{"$nulls":4},"普通-6-4","70412#1","70411#1","14#280","3#28",{"$nulls":4},610412,610401,null,{"$f":"VLOOKUP(N106,[4]RewardItemConfig!$B:$C,2,FALSE)","v":70412},{"$f":"IF(VLOOKUP(O106,[4]RewardItemConfig!$B:$C,2,FALSE)=0,\"\",VLOOKUP(O106,[4]RewardItemConfig!$B:$C,2,FALSE))","v":70401},"70412#1","70401#1","70412#1|70401#1|14#280|3#28"]
[{"$nulls":4},"普通-6-5","70512#1","70511#1","14#280","3#28",{"$nulls":4},610512,610501,null,{"$f":"VLOOKUP(N107,[4]RewardItemConfig!$B:$C,2,FALSE)","v":70512},{"$f":"IF(VLOOKUP(O107,[4]RewardItemConfig!$B:$C,2,FALSE)=0,\"\",VLOOKUP(O107,[4]RewardItemConfig!$B:$C,2,FALSE))","v":70501},"70512#1","70501#1","70512#1|70501#1|14#280|3#28"]
[{"$nulls":4},"普通-7-1","70113#1","70106#1","14#300","3#30",{"$nulls":4},610113,610102,null,{"$f":"VLOOKUP(N108,[4]RewardItemConfig!$B:$C,2,FALSE)","v":70113},{"$f":"IF(VLOOKUP(O108,[4]RewardItemConfig!$B:$C,2,FALSE)=0,\"\",VLOOKUP(O108,[4]RewardItemConfig!$B:$C,2,FALSE))","v":70102},"70113#1","70102#1","70113#1|70102#1|14#300|3#30"]
[{"$nulls":4},"普通-7-2","70213#1","70206#1","14#300","3#30",{"$nulls":4},610213,610202,null,{"$f":"VLOOKUP(N109,[4]RewardItemConfig!$B:$C,2,FALSE)","v":70213},{"$f":"IF(VLOOKUP(O109,[4]RewardItemConfig!$B:$C,2,FALSE)=0,\"\",VLOOKUP(O109,[4]RewardItemConfig!$B:$C,2,FALSE))","v":70202},"70213#1","70202#1","70213#1|70202#1|14#300|3#30"]
[{"$nulls":4},"普通-7-3","70313#1","70306#1","14#300","3#30",{"$nulls":4},610313,610302,null,{"$f":"VLOOKUP(N110,[4]RewardItemConfig!$B:$C,2,FALSE)","v":70313},{"$f":"IF(VLOOKUP(O110,[4]RewardItemConfig!$B:$C,2,FALSE)=0,\"\",VLOOKUP(O110,[4]RewardItemConfig!$B:$C,2,FALSE))","v":70302},"70313#1","70302#1","70313#1|70302#1|14#300|3#30"]
[{"$nulls":4},"普通-7-4","70413#1","70406#1","14#300","3#30",{"$nulls":4},610413,610402,null,{"$f":"VLOOKUP(N111,[4]RewardItemConfig!$B:$C,2,FALSE)","v":70413},{"$f":"IF(VLOOKUP(O111,[4]RewardItemConfig!$B:$C,2,FALSE)=0,\"\",VLOOKUP(O111,[4]RewardItemConfig!$B:$C,2,FALSE))","v":70402},"70413#1","70402#1","70413#1|70402#1|14#300|3#30"]
[{"$nulls":4},"普通-7-5","70513#1","70506#1","14#300","3#30",{"$nulls":4},610513,610502,null,{"$f":"VLOOKUP(N112,[4]RewardItemConfig!$B:$C,2,FALSE)","v":70513},{"$f":"IF(VLOOKUP(O112,[4]RewardItemConfig!$B:$C,2,FALSE)=0,\"\",VLOOKUP(O112,[4]RewardItemConfig!$B:$C,2,FALSE))","v":70502},"70513#1","70502#1","70513#1|70502#1|14#300|3#30"]
[{"$nulls":4},"普通-8-1","70113#1","70107#1","14#320","3#32",{"$nulls":4},610113,610103,null,{"$f":"VLOOKUP(N113,[4]RewardItemConfig!$B:$C,2,FALSE)","v":70113},{"$f":"IF(VLOOKUP(O113,[4]RewardItemConfig!$B:$C,2,FALSE)=0,\"\",VLOOKUP(O113,[4]RewardItemConfig!$B:$C,2,FALSE))","v":70103},"70113#1","70103#1","70113#1|70103#1|14#320|3#32"]
[{"$nulls":4},"普通-8-2","70213#1","70207#1","14#320","3#32",{"$nulls":4},610213,610203,null,{"$f":"VLOOKUP(N114,[4]RewardItemConfig!$B:$C,2,FALSE)","v":70213},{"$f":"IF(VLOOKUP(O114,[4]RewardItemConfig!$B:$C,2,FALSE)=0,\"\",VLOOKUP(O114,[4]RewardItemConfig!$B:$C,2,FALSE))","v":70203},"70213#1","70203#1","70213#1|70203#1|14#320|3#32"]
[{"$nulls":4},"普通-8-3","70313#1","70307#1","14#320","3#32",{"$nulls":4},610313,610303,null,{"$f":"VLOOKUP(N115,[4]RewardItemConfig!$B:$C,2,FALSE)","v":70313},{"$f":"IF(VLOOKUP(O115,[4]RewardItemConfig!$B:$C,2,FALSE)=0,\"\",VLOOKUP(O115,[4]RewardItemConfig!$B:$C,2,FALSE))","v":70303},"70313#1","70303#1","70313#1|70303#1|14#320|3#32"]
[{"$nulls":4},"普通-8-4","70413#1","70407#1","14#320","3#32",{"$nulls":4},610413,610403,null,{"$f":"VLOOKUP(N116,[4]RewardItemConfig!$B:$C,2,FALSE)","v":70413},{"$f":"IF(VLOOKUP(O116,[4]RewardItemConfig!$B:$C,2,FALSE)=0,\"\",VLOOKUP(O116,[4]RewardItemConfig!$B:$C,2,FALSE))","v":70403},"70413#1","70403#1","70413#1|70403#1|14#320|3#32"]
[{"$nulls":4},"普通-8-5","70513#1","70507#1","14#320","3#32",{"$nulls":4},610513,610503,null,{"$f":"VLOOKUP(N117,[4]RewardItemConfig!$B:$C,2,FALSE)","v":70513},{"$f":"IF(VLOOKUP(O117,[4]RewardItemConfig!$B:$C,2,FALSE)=0,\"\",VLOOKUP(O117,[4]RewardItemConfig!$B:$C,2,FALSE))","v":70503},"70513#1","70503#1","70513#1|70503#1|14#320|3#32"]
[{"$nulls":4},"普通-9-1","70113#1","70101#1","14#340","3#34",{"$nulls":4},610113,null,null,{"$f":"VLOOKUP(N118,[4]RewardItemConfig!$B:$C,2,FALSE)","v":70113},{"$f":"IF(VLOOKUP(O118,[4]RewardItemConfig!$B:$C,2,FALSE)=0,\"\",VLOOKUP(O118,[4]RewardItemConfig!$B:$C,2,FALSE))","v":""},"70113#1","","70113#1|14#340|3#34"]
[{"$nulls":4},"普通-9-2","70213#1","70201#1","14#340","3#34",{"$nulls":4},610213,null,null,{"$f":"VLOOKUP(N119,[4]RewardItemConfig!$B:$C,2,FALSE)","v":70213},{"$f":"IF(VLOOKUP(O119,[4]RewardItemConfig!$B:$C,2,FALSE)=0,\"\",VLOOKUP(O119,[4]RewardItemConfig!$B:$C,2,FALSE))","v":""},"70213#1","","70213#1|14#340|3#34"]
[{"$nulls":4},"普通-9-3","70313#1","70301#1","14#340","3#34",{"$nulls":4},610313,null,null,{"$f":"VLOOKUP(N120,[4]RewardItemConfig!$B:$C,2,FALSE)","v":70313},{"$f":"IF(VLOOKUP(O120,[4]RewardItemConfig!$B:$C,2,FALSE)=0,\"\",VLOOKUP(O120,[4]RewardItemConfig!$B:$C,2,FALSE))","v":""},"70313#1","","70313#1|14#340|3#34"]
[{"$nulls":4},"普通-9-4","70413#1","70401#1","14#340","3#34",{"$nulls":4},610413,null,null,{"$f":"VLOOKUP(N121,[4]RewardItemConfig!$B:$C,2,FALSE)","v":70413},{"$f":"IF(VLOOKUP(O121,[4]RewardItemConfig!$B:$C,2,FALSE)=0,\"\",VLOOKUP(O121,[4]RewardItemConfig!$B:$C,2,FALSE))","v":""},"70413#1","","70413#1|14#340|3#34"]
[{"$nulls":4},"普通-9-5","70513#1","70501#1","14#340","3#34",{"$nulls":4},610513,null,null,{"$f":"VLOOKUP(N122,[4]RewardItemConfig!$B:$C,2,FALSE)","v":70513},{"$f":"IF(VLOOKUP(O122,[4]RewardItemConfig!$B:$C,2,FALSE)=0,\"\",VLOOKUP(O122,[4]RewardItemConfig!$B:$C,2,FALSE))","v":""},"70513#1","","70513#1|14#340|3#34"]
[{"$nulls":4},"普通-10-1","70114#1","70102#1","14#360","3#36",{"$nulls":4},610114,null,null,{"$f":"VLOOKUP(N123,[4]RewardItemConfig!$B:$C,2,FALSE)","v":70114},{"$f":"IF(VLOOKUP(O123,[4]RewardItemConfig!$B:$C,2,FALSE)=0,\"\",VLOOKUP(O123,[4]RewardItemConfig!$B:$C,2,FALSE))","v":""},"70114#1","","70114#1|14#360|3#36"]
[{"$nulls":4},"普通-10-2","70214#1","70202#1","14#360","3#36",{"$nulls":4},610214,null,null,{"$f":"VLOOKUP(N124,[4]RewardItemConfig!$B:$C,2,FALSE)","v":70214},{"$f":"IF(VLOOKUP(O124,[4]RewardItemConfig!$B:$C,2,FALSE)=0,\"\",VLOOKUP(O124,[4]RewardItemConfig!$B:$C,2,FALSE))","v":""},"70214#1","","70214#1|14#360|3#36"]
[{"$nulls":4},"普通-10-3","70314#1","70302#1","14#360","3#36",{"$nulls":4},610314,null,null,{"$f":"VLOOKUP(N125,[4]RewardItemConfig!$B:$C,2,FALSE)","v":70314},{"$f":"IF(VLOOKUP(O125,[4]RewardItemConfig!$B:$C,2,FALSE)=0,\"\",VLOOKUP(O125,[4]RewardItemConfig!$B:$C,2,FALSE))","v":""},"70314#1","","70314#1|14#360|3#36"]
[{"$nulls":4},"普通-10-4","70414#1","70402#1","14#360","3#36",{"$nulls":4},610414,null,null,{"$f":"VLOOKUP(N126,[4]RewardItemConfig!$B:$C,2,FALSE)","v":70414},{"$f":"IF(VLOOKUP(O126,[4]RewardItemConfig!$B:$C,2,FALSE)=0,\"\",VLOOKUP(O126,[4]RewardItemConfig!$B:$C,2,FALSE))","v":""},"70414#1","","70414#1|14#360|3#36"]
[{"$nulls":4},"普通-10-5","70514#1","70502#1","14#360","3#36",{"$nulls":4},610514,null,null,{"$f":"VLOOKUP(N127,[4]RewardItemConfig!$B:$C,2,FALSE)","v":70514},{"$f":"IF(VLOOKUP(O127,[4]RewardItemConfig!$B:$C,2,FALSE)=0,\"\",VLOOKUP(O127,[4]RewardItemConfig!$B:$C,2,FALSE))","v":""},"70514#1","","70514#1|14#360|3#36"]
[{"$nulls":4},"普通-11-1","70114#1","70103#1","14#380","3#38",{"$nulls":4},610114,null,null,{"$f":"VLOOKUP(N128,[4]RewardItemConfig!$B:$C,2,FALSE)","v":70114},{"$f":"IF(VLOOKUP(O128,[4]RewardItemConfig!$B:$C,2,FALSE)=0,\"\",VLOOKUP(O128,[4]RewardItemConfig!$B:$C,2,FALSE))","v":""},"70114#1","","70114#1|14#380|3#38"]
[{"$nulls":4},"普通-11-2","70214#1","70203#1","14#380","3#38",{"$nulls":4},610214,null,null,{"$f":"VLOOKUP(N129,[4]RewardItemConfig!$B:$C,2,FALSE)","v":70214},{"$f":"IF(VLOOKUP(O129,[4]RewardItemConfig!$B:$C,2,FALSE)=0,\"\",VLOOKUP(O129,[4]RewardItemConfig!$B:$C,2,FALSE))","v":""},"70214#1","","70214#1|14#380|3#38"]
[{"$nulls":4},"普通-11-3","70314#1","70303#1","14#380","3#38",{"$nulls":4},610314,null,null,{"$f":"VLOOKUP(N130,[4]RewardItemConfig!$B:$C,2,FALSE)","v":70314},{"$f":"IF(VLOOKUP(O130,[4]RewardItemConfig!$B:$C,2,FALSE)=0,\"\",VLOOKUP(O130,[4]RewardItemConfig!$B:$C,2,FALSE))","v":""},"70314#1","","70314#1|14#380|3#38"]
[{"$nulls":4},"普通-11-4","70414#1","70403#1","14#380","3#38",{"$nulls":4},610414,null,null,{"$f":"VLOOKUP(N131,[4]RewardItemConfig!$B:$C,2,FALSE)","v":70414},{"$f":"IF(VLOOKUP(O131,[4]RewardItemConfig!$B:$C,2,FALSE)=0,\"\",VLOOKUP(O131,[4]RewardItemConfig!$B:$C,2,FALSE))","v":""},"70414#1","","70414#1|14#380|3#38"]
[{"$nulls":4},"普通-11-5","70514#1","70503#1","14#380","3#38",{"$nulls":4},610514,null,null,{"$f":"VLOOKUP(N132,[4]RewardItemConfig!$B:$C,2,FALSE)","v":70514},{"$f":"IF(VLOOKUP(O132,[4]RewardItemConfig!$B:$C,2,FALSE)=0,\"\",VLOOKUP(O132,[4]RewardItemConfig!$B:$C,2,FALSE))","v":""},{"$f":"IF(Q132=\"\",\"\",Q132&$S$2)","v":"70514#1"},{"$f":"IF(R132=\"\",\"\",R132&$S$2)","v":""},"70514#1|14#380|3#38"]
[{"$nulls":4},"普通-12-1","70114#1","70104#1","14#400","3#40",{"$nulls":4},610114,null,null,{"$f":"VLOOKUP(N133,[4]RewardItemConfig!$B:$C,2,FALSE)","v":70114},{"$f":"IF(VLOOKUP(O133,[4]RewardItemConfig!$B:$C,2,FALSE)=0,\"\",VLOOKUP(O133,[4]RewardItemConfig!$B:$C,2,FALSE))","v":""},"70114#1","","70114#1|14#400|3#40"]
[{"$nulls":4},"普通-12-2","70214#1","70204#1","14#400","3#40",{"$nulls":4},610214,null,null,{"$f":"VLOOKUP(N134,[4]RewardItemConfig!$B:$C,2,FALSE)","v":70214},{"$f":"IF(VLOOKUP(O134,[4]RewardItemConfig!$B:$C,2,FALSE)=0,\"\",VLOOKUP(O134,[4]RewardItemConfig!$B:$C,2,FALSE))","v":""},"70214#1","","70214#1|14#400|3#40"]
[{"$nulls":4},"普通-12-3","70314#1","70304#1","14#400","3#40",{"$nulls":4},610314,null,null,{"$f":"VLOOKUP(N135,[4]RewardItemConfig!$B:$C,2,FALSE)","v":70314},{"$f":"IF(VLOOKUP(O135,[4]RewardItemConfig!$B:$C,2,FALSE)=0,\"\",VLOOKUP(O135,[4]RewardItemConfig!$B:$C,2,FALSE))","v":""},"70314#1","",{"$f":"_xlfn.TEXTJOIN(\"|\",TRUE,S135:T135,H135,I135)","v":"70314#1|14#400|3#40"}]
[{"$nulls":4},"普通-12-4","70414#1","70404#1","14#400","3#40",{"$nulls":4},610414,null,null,{"$f":"VLOOKUP(N136,[4]RewardItemConfig!$B:$C,2,FALSE)","v":70414},{"$f":"IF(VLOOKUP(O136,[4]RewardItemConfig!$B:$C,2,FALSE)=0,\"\",VLOOKUP(O136,[4]RewardItemConfig!$B:$C,2,FALSE))","v":""},"70414#1","","70414#1|14#400|3#40"]
[{"$nulls":4},"普通-12-5","70514#1","70504#1","14#400","3#40",{"$nulls":4},610514,null,null,{"$f":"VLOOKUP(N137,[4]RewardItemConfig!$B:$C,2,FALSE)","v":70514},{"$f":"IF(VLOOKUP(O137,[4]RewardItemConfig!$B:$C,2,FALSE)=0,\"\",VLOOKUP(O137,[4]RewardItemConfig!$B:$C,2,FALSE))","v":""},"70514#1","","70514#1|14#400|3#40"]
[{"$nulls":4},"普通-13-1","70115#1","70105#1","14#420","3#42",{"$nulls":4},610115,null,null,{"$f":"VLOOKUP(N138,[4]RewardItemConfig!$B:$C,2,FALSE)","v":70115},{"$f":"IF(VLOOKUP(O138,[4]RewardItemConfig!$B:$C,2,FALSE)=0,\"\",VLOOKUP(O138,[4]RewardItemConfig!$B:$C,2,FALSE))","v":""},"70115#1","","70115#1|14#420|3#42"]
[{"$nulls":4},"普通-13-2","70215#1","70205#1","14#420","3#42",{"$nulls":4},610215,null,null,{"$f":"VLOOKUP(N139,[4]RewardItemConfig!$B:$C,2,FALSE)","v":70215},{"$f":"IF(VLOOKUP(O139,[4]RewardItemConfig!$B:$C,2,FALSE)=0,\"\",VLOOKUP(O139,[4]RewardItemConfig!$B:$C,2,FALSE))","v":""},"70215#1","","70215#1|14#420|3#42"]
[{"$nulls":4},"普通-13-3","70315#1","70305#1","14#420","3#42",{"$nulls":4},610315,null,null,{"$f":"VLOOKUP(N140,[4]RewardItemConfig!$B:$C,2,FALSE)","v":70315},{"$f":"IF(VLOOKUP(O140,[4]RewardItemConfig!$B:$C,2,FALSE)=0,\"\",VLOOKUP(O140,[4]RewardItemConfig!$B:$C,2,FALSE))","v":""},"70315#1","","70315#1|14#420|3#42"]
[{"$nulls":4},"普通-13-4","70415#1","70405#1","14#420","3#42",{"$nulls":4},610415,null,null,{"$f":"VLOOKUP(N141,[4]RewardItemConfig!$B:$C,2,FALSE)","v":70415},{"$f":"IF(VLOOKUP(O141,[4]RewardItemConfig!$B:$C,2,FALSE)=0,\"\",VLOOKUP(O141,[4]RewardItemConfig!$B:$C,2,FALSE))","v":""},"70415#1","","70415#1|14#420|3#42"]
[{"$nulls":4},"普通-13-5","70515#1","70505#1","14#420","3#42",{"$nulls":4},610515,null,null,{"$f":"VLOOKUP(N142,[4]RewardItemConfig!$B:$C,2,FALSE)","v":70515},{"$f":"IF(VLOOKUP(O142,[4]RewardItemConfig!$B:$C,2,FALSE)=0,\"\",VLOOKUP(O142,[4]RewardItemConfig!$B:$C,2,FALSE))","v":""},"70515#1","","70515#1|14#420|3#42"]
[{"$nulls":4},"普通-14-1","70115#1","70106#1","14#440","3#44",{"$nulls":4},610115,null,null,{"$f":"VLOOKUP(N143,[4]RewardItemConfig!$B:$C,2,FALSE)","v":70115},{"$f":"IF(VLOOKUP(O143,[4]RewardItemConfig!$B:$C,2,FALSE)=0,\"\",VLOOKUP(O143,[4]RewardItemConfig!$B:$C,2,FALSE))","v":""},"70115#1","","70115#1|14#440|3#44"]
[{"$nulls":4},"普通-14-2","70215#1","70206#1","14#440","3#44",{"$nulls":4},610215,null,null,{"$f":"VLOOKUP(N144,[4]RewardItemConfig!$B:$C,2,FALSE)","v":70215},{"$f":"IF(VLOOKUP(O144,[4]RewardItemConfig!$B:$C,2,FALSE)=0,\"\",VLOOKUP(O144,[4]RewardItemConfig!$B:$C,2,FALSE))","v":""},"70215#1","","70215#1|14#440|3#44"]
[{"$nulls":4},"普通-14-3","70315#1","70306#1","14#440","3#44",{"$nulls":4},610315,null,null,{"$f":"VLOOKUP(N145,[4]RewardItemConfig!$B:$C,2,FALSE)","v":70315},{"$f":"IF(VLOOKUP(O145,[4]RewardItemConfig!$B:$C,2,FALSE)=0,\"\",VLOOKUP(O145,[4]RewardItemConfig!$B:$C,2,FALSE))","v":""},"70315#1","","70315#1|14#440|3#44"]
[{"$nulls":4},"普通-14-4","70415#1","70406#1","14#440","3#44",{"$nulls":4},610415,null,null,{"$f":"VLOOKUP(N146,[4]RewardItemConfig!$B:$C,2,FALSE)","v":70415},{"$f":"IF(VLOOKUP(O146,[4]RewardItemConfig!$B:$C,2,FALSE)=0,\"\",VLOOKUP(O146,[4]RewardItemConfig!$B:$C,2,FALSE))","v":""},"70415#1","","70415#1|14#440|3#44"]
[{"$nulls":4},"普通-14-5","70515#1","70506#1","14#440","3#44",{"$nulls":4},610515,null,null,{"$f":"VLOOKUP(N147,[4]RewardItemConfig!$B:$C,2,FALSE)","v":70515},{"$f":"IF(VLOOKUP(O147,[4]RewardItemConfig!$B:$C,2,FALSE)=0,\"\",VLOOKUP(O147,[4]RewardItemConfig!$B:$C,2,FALSE))","v":""},"70515#1","","70515#1|14#440|3#44"]
[{"$nulls":4},"普通-15-1","70115#1","70107#1","14#460","3#46",{"$nulls":4},610115,null,null,{"$f":"VLOOKUP(N148,[4]RewardItemConfig!$B:$C,2,FALSE)","v":70115},{"$f":"IF(VLOOKUP(O148,[4]RewardItemConfig!$B:$C,2,FALSE)=0,\"\",VLOOKUP(O148,[4]RewardItemConfig!$B:$C,2,FALSE))","v":""},"70115#1","","70115#1|14#460|3#46"]
[{"$nulls":4},"普通-15-2","70215#1","70207#1","14#460","3#46",{"$nulls":4},610215,null,null,{"$f":"VLOOKUP(N149,[4]RewardItemConfig!$B:$C,2,FALSE)","v":70215},{"$f":"IF(VLOOKUP(O149,[4]RewardItemConfig!$B:$C,2,FALSE)=0,\"\",VLOOKUP(O149,[4]RewardItemConfig!$B:$C,2,FALSE))","v":""},"70215#1","","70215#1|14#460|3#46"]
[{"$nulls":4},"普通-15-3","70315#1","70307#1","14#460","3#46",{"$nulls":4},610315,null,null,{"$f":"VLOOKUP(N150,[4]RewardItemConfig!$B:$C,2,FALSE)","v":70315},{"$f":"IF(VLOOKUP(O150,[4]RewardItemConfig!$B:$C,2,FALSE)=0,\"\",VLOOKUP(O150,[4]RewardItemConfig!$B:$C,2,FALSE))","v":""},"70315#1","","70315#1|14#460|3#46"]
[{"$nulls":4},"普通-15-4","70415#1","70407#1","14#460","3#46",{"$nulls":4},610415,null,null,{"$f":"VLOOKUP(N151,[4]RewardItemConfig!$B:$C,2,FALSE)","v":70415},{"$f":"IF(VLOOKUP(O151,[4]RewardItemConfig!$B:$C,2,FALSE)=0,\"\",VLOOKUP(O151,[4]RewardItemConfig!$B:$C,2,FALSE))","v":""},"70415#1","","70415#1|14#460|3#46"]
[{"$nulls":4},"普通-15-5","70515#1","70507#1","14#460","3#46",{"$nulls":4},610515,null,null,{"$f":"VLOOKUP(N152,[4]RewardItemConfig!$B:$C,2,FALSE)","v":70515},{"$f":"IF(VLOOKUP(O152,[4]RewardItemConfig!$B:$C,2,FALSE)=0,\"\",VLOOKUP(O152,[4]RewardItemConfig!$B:$C,2,FALSE))","v":""},"70515#1","","70515#1|14#460|3#46"]
[{"$nulls":4},"困难-1-1","70115#1","70108#1","14#220","3#22",{"$nulls":4},610116,null,null,{"$f":"VLOOKUP(N153,[4]RewardItemConfig!$B:$C,2,FALSE)","v":70116},{"$f":"IF(VLOOKUP(O153,[4]RewardItemConfig!$B:$C,2,FALSE)=0,\"\",VLOOKUP(O153,[4]RewardItemConfig!$B:$C,2,FALSE))","v":""},"70116#1","","70116#1|14#220|3#22"]
[{"$nulls":4},"困难-1-2","70215#1","70208#1","14#220","3#22",{"$nulls":4},610216,null,null,{"$f":"VLOOKUP(N154,[4]RewardItemConfig!$B:$C,2,FALSE)","v":70216},{"$f":"IF(VLOOKUP(O154,[4]RewardItemConfig!$B:$C,2,FALSE)=0,\"\",VLOOKUP(O154,[4]RewardItemConfig!$B:$C,2,FALSE))","v":""},"70216#1","","70216#1|14#220|3#22"]
[{"$nulls":4},"困难-1-3","70315#1","70308#1","14#220","3#22",{"$nulls":4},610316,null,null,{"$f":"VLOOKUP(N155,[4]RewardItemConfig!$B:$C,2,FALSE)","v":70316},{"$f":"IF(VLOOKUP(O155,[4]RewardItemConfig!$B:$C,2,FALSE)=0,\"\",VLOOKUP(O155,[4]RewardItemConfig!$B:$C,2,FALSE))","v":""},"70316#1","","70316#1|14#220|3#22"]
[{"$nulls":4},"困难-1-4","70415#1","70408#1","14#220","3#22",{"$nulls":4},610416,null,null,{"$f":"VLOOKUP(N156,[4]RewardItemConfig!$B:$C,2,FALSE)","v":70416},{"$f":"IF(VLOOKUP(O156,[4]RewardItemConfig!$B:$C,2,FALSE)=0,\"\",VLOOKUP(O156,[4]RewardItemConfig!$B:$C,2,FALSE))","v":""},"70416#1","","70416#1|14#220|3#22"]
[{"$nulls":4},"困难-1-5","70515#1","70508#1","14#220","3#22",{"$nulls":4},610516,null,null,{"$f":"VLOOKUP(N157,[4]RewardItemConfig!$B:$C,2,FALSE)","v":70516},{"$f":"IF(VLOOKUP(O157,[4]RewardItemConfig!$B:$C,2,FALSE)=0,\"\",VLOOKUP(O157,[4]RewardItemConfig!$B:$C,2,FALSE))","v":""},"70516#1","","70516#1|14#220|3#22"]
[{"$nulls":4},"困难-2-1","70116#1","70109#1","14#240","3#24",{"$nulls":4},610116,null,null,{"$f":"VLOOKUP(N158,[4]RewardItemConfig!$B:$C,2,FALSE)","v":70116},{"$f":"IF(VLOOKUP(O158,[4]RewardItemConfig!$B:$C,2,FALSE)=0,\"\",VLOOKUP(O158,[4]RewardItemConfig!$B:$C,2,FALSE))","v":""},"70116#1","","70116#1|14#240|3#24"]
[{"$nulls":4},"困难-2-2","70216#1","70209#1","14#240","3#24",{"$nulls":4},610216,null,null,{"$f":"VLOOKUP(N159,[4]RewardItemConfig!$B:$C,2,FALSE)","v":70216},{"$f":"IF(VLOOKUP(O159,[4]RewardItemConfig!$B:$C,2,FALSE)=0,\"\",VLOOKUP(O159,[4]RewardItemConfig!$B:$C,2,FALSE))","v":""},"70216#1","","70216#1|14#240|3#24"]
[{"$nulls":4},"困难-2-3","70316#1","70309#1","14#240","3#24",{"$nulls":4},610316,null,null,{"$f":"VLOOKUP(N160,[4]RewardItemConfig!$B:$C,2,FALSE)","v":70316},{"$f":"IF(VLOOKUP(O160,[4]RewardItemConfig!$B:$C,2,FALSE)=0,\"\",VLOOKUP(O160,[4]RewardItemConfig!$B:$C,2,FALSE))","v":""},"70316#1","","70316#1|14#240|3#24"]
[{"$nulls":4},"困难-2-4","70416#1","70409#1","14#240","3#24",{"$nulls":4},610416,null,null,{"$f":"VLOOKUP(N161,[4]RewardItemConfig!$B:$C,2,FALSE)","v":70416},{"$f":"IF(VLOOKUP(O161,[4]RewardItemConfig!$B:$C,2,FALSE)=0,\"\",VLOOKUP(O161,[4]RewardItemConfig!$B:$C,2,FALSE))","v":""},"70416#1","","70416#1|14#240|3#24"]
[{"$nulls":4},"困难-2-5","70516#1","70509#1","14#240","3#24",{"$nulls":4},610516,null,null,{"$f":"VLOOKUP(N162,[4]RewardItemConfig!$B:$C,2,FALSE)","v":70516},{"$f":"IF(VLOOKUP(O162,[4]RewardItemConfig!$B:$C,2,FALSE)=0,\"\",VLOOKUP(O162,[4]RewardItemConfig!$B:$C,2,FALSE))","v":""},"70516#1","","70516#1|14#240|3#24"]
[{"$nulls":4},"困难-3-1","70116#1","70110#1","14#260","3#26",{"$nulls":4},610116,null,null,{"$f":"VLOOKUP(N163,[4]RewardItemConfig!$B:$C,2,FALSE)","v":70116},{"$f":"IF(VLOOKUP(O163,[4]RewardItemConfig!$B:$C,2,FALSE)=0,\"\",VLOOKUP(O163,[4]RewardItemConfig!$B:$C,2,FALSE))","v":""},"70116#1","","70116#1|14#260|3#26"]
[{"$nulls":4},"困难-3-2","70216#1","70210#1","14#260","3#26",{"$nulls":4},610216,null,null,{"$f":"VLOOKUP(N164,[4]RewardItemConfig!$B:$C,2,FALSE)","v":70216},{"$f":"IF(VLOOKUP(O164,[4]RewardItemConfig!$B:$C,2,FALSE)=0,\"\",VLOOKUP(O164,[4]RewardItemConfig!$B:$C,2,FALSE))","v":""},"70216#1","","70216#1|14#260|3#26"]
[{"$nulls":4},"困难-3-3","70316#1","70310#1","14#260","3#26",{"$nulls":4},610316,null,null,{"$f":"VLOOKUP(N165,[4]RewardItemConfig!$B:$C,2,FALSE)","v":70316},{"$f":"IF(VLOOKUP(O165,[4]RewardItemConfig!$B:$C,2,FALSE)=0,\"\",VLOOKUP(O165,[4]RewardItemConfig!$B:$C,2,FALSE))","v":""},"70316#1","","70316#1|14#260|3#26"]
[{"$nulls":4},"困难-3-4","70416#1","70410#1","14#260","3#26",{"$nulls":4},610416,null,null,{"$f":"VLOOKUP(N166,[4]RewardItemConfig!$B:$C,2,FALSE)","v":70416},{"$f":"IF(VLOOKUP(O166,[4]RewardItemConfig!$B:$C,2,FALSE)=0,\"\",VLOOKUP(O166,[4]RewardItemConfig!$B:$C,2,FALSE))","v":""},"70416#1","","70416#1|14#260|3#26"]
[{"$nulls":4},"困难-3-5","70516#1","70510#1","14#260","3#26",{"$nulls":4},610516,null,null,{"$f":"VLOOKUP(N167,[4]RewardItemConfig!$B:$C,2,FALSE)","v":70516},{"$f":"IF(VLOOKUP(O167,[4]RewardItemConfig!$B:$C,2,FALSE)=0,\"\",VLOOKUP(O167,[4]RewardItemConfig!$B:$C,2,FALSE))","v":""},"70516#1","",{"$f":"_xlfn.TEXTJOIN(\"|\",TRUE,S167:T167,H167,I167)","v":"70516#1|14#260|3#26"}]
[{"$nulls":4},"困难-4-1","70116#1","70111#1","14#280","3#28",{"$nulls":4},610117,null,null,{"$f":"VLOOKUP(N168,[4]RewardItemConfig!$B:$C,2,FALSE)","v":70117},{"$f":"IF(VLOOKUP(O168,[4]RewardItemConfig!$B:$C,2,FALSE)=0,\"\",VLOOKUP(O168,[4]RewardItemConfig!$B:$C,2,FALSE))","v":""},"70117#1","","70117#1|14#280|3#28"]
[{"$nulls":4},"困难-4-2","70216#1","70211#1","14#280","3#28",{"$nulls":4},610217,null,null,{"$f":"VLOOKUP(N169,[4]RewardItemConfig!$B:$C,2,FALSE)","v":70217},{"$f":"IF(VLOOKUP(O169,[4]RewardItemConfig!$B:$C,2,FALSE)=0,\"\",VLOOKUP(O169,[4]RewardItemConfig!$B:$C,2,FALSE))","v":""},"70217#1","","70217#1|14#280|3#28"]
[{"$nulls":4},"困难-4-3","70316#1","70311#1","14#280","3#28",{"$nulls":4},610317,null,null,{"$f":"VLOOKUP(N170,[4]RewardItemConfig!$B:$C,2,FALSE)","v":70317},{"$f":"IF(VLOOKUP(O170,[4]RewardItemConfig!$B:$C,2,FALSE)=0,\"\",VLOOKUP(O170,[4]RewardItemConfig!$B:$C,2,FALSE))","v":""},"70317#1","","70317#1|14#280|3#28"]
[{"$nulls":4},"困难-4-4","70416#1","70411#1","14#280","3#28",{"$nulls":4},610417,null,null,{"$f":"VLOOKUP(N171,[4]RewardItemConfig!$B:$C,2,FALSE)","v":70417},{"$f":"IF(VLOOKUP(O171,[4]RewardItemConfig!$B:$C,2,FALSE)=0,\"\",VLOOKUP(O171,[4]RewardItemConfig!$B:$C,2,FALSE))","v":""},"70417#1","","70417#1|14#280|3#28"]
[{"$nulls":4},"困难-4-5","70516#1","70511#1","14#280","3#28",{"$nulls":4},610517,null,null,{"$f":"VLOOKUP(N172,[4]RewardItemConfig!$B:$C,2,FALSE)","v":70517},{"$f":"IF(VLOOKUP(O172,[4]RewardItemConfig!$B:$C,2,FALSE)=0,\"\",VLOOKUP(O172,[4]RewardItemConfig!$B:$C,2,FALSE))","v":""},"70517#1","","70517#1|14#280|3#28"]
[{"$nulls":4},"困难-5-1","70116#1","70112#1","14#300","3#30",{"$nulls":4},610117,null,null,{"$f":"VLOOKUP(N173,[4]RewardItemConfig!$B:$C,2,FALSE)","v":70117},{"$f":"IF(VLOOKUP(O173,[4]RewardItemConfig!$B:$C,2,FALSE)=0,\"\",VLOOKUP(O173,[4]RewardItemConfig!$B:$C,2,FALSE))","v":""},"70117#1","","70117#1|14#300|3#30"]
[{"$nulls":4},"困难-5-2","70216#1","70212#1","14#300","3#30",{"$nulls":4},610217,null,null,{"$f":"VLOOKUP(N174,[4]RewardItemConfig!$B:$C,2,FALSE)","v":70217},{"$f":"IF(VLOOKUP(O174,[4]RewardItemConfig!$B:$C,2,FALSE)=0,\"\",VLOOKUP(O174,[4]RewardItemConfig!$B:$C,2,FALSE))","v":""},"70217#1","","70217#1|14#300|3#30"]
[{"$nulls":4},"困难-5-3","70316#1","70312#1","14#300","3#30",{"$nulls":4},610317,null,null,{"$f":"VLOOKUP(N175,[4]RewardItemConfig!$B:$C,2,FALSE)","v":70317},{"$f":"IF(VLOOKUP(O175,[4]RewardItemConfig!$B:$C,2,FALSE)=0,\"\",VLOOKUP(O175,[4]RewardItemConfig!$B:$C,2,FALSE))","v":""},"70317#1","","70317#1|14#300|3#30"]
[{"$nulls":4},"困难-5-4","70416#1","70412#1","14#300","3#30",{"$nulls":4},610417,null,null,{"$f":"VLOOKUP(N176,[4]RewardItemConfig!$B:$C,2,FALSE)","v":70417},{"$f":"IF(VLOOKUP(O176,[4]RewardItemConfig!$B:$C,2,FALSE)=0,\"\",VLOOKUP(O176,[4]RewardItemConfig!$B:$C,2,FALSE))","v":""},"70417#1","","70417#1|14#300|3#30"]
[{"$nulls":4},"困难-5-5","70516#1","70512#1","14#300","3#30",{"$nulls":4},610517,null,null,{"$f":"VLOOKUP(N177,[4]RewardItemConfig!$B:$C,2,FALSE)","v":70517},{"$f":"IF(VLOOKUP(O177,[4]RewardItemConfig!$B:$C,2,FALSE)=0,\"\",VLOOKUP(O177,[4]RewardItemConfig!$B:$C,2,FALSE))","v":""},"70517#1","","70517#1|14#300|3#30"]
[{"$nulls":4},"困难-6-1","70117#1","70113#1","14#320","3#32",{"$nulls":4},610117,null,null,{"$f":"VLOOKUP(N178,[4]RewardItemConfig!$B:$C,2,FALSE)","v":70117},{"$f":"IF(VLOOKUP(O178,[4]RewardItemConfig!$B:$C,2,FALSE)=0,\"\",VLOOKUP(O178,[4]RewardItemConfig!$B:$C,2,FALSE))","v":""},"70117#1","","70117#1|14#320|3#32"]
[{"$nulls":4},"困难-6-2","70217#1","70213#1","14#320","3#32",{"$nulls":4},610217,null,null,{"$f":"VLOOKUP(N179,[4]RewardItemConfig!$B:$C,2,FALSE)","v":70217},{"$f":"IF(VLOOKUP(O179,[4]RewardItemConfig!$B:$C,2,FALSE)=0,\"\",VLOOKUP(O179,[4]RewardItemConfig!$B:$C,2,FALSE))","v":""},"70217#1","","70217#1|14#320|3#32"]
[{"$nulls":4},"困难-6-3","70317#1","70313#1","14#320","3#32",{"$nulls":4},610317,null,null,{"$f":"VLOOKUP(N180,[4]RewardItemConfig!$B:$C,2,FALSE)","v":70317},{"$f":"IF(VLOOKUP(O180,[4]RewardItemConfig!$B:$C,2,FALSE)=0,\"\",VLOOKUP(O180,[4]RewardItemConfig!$B:$C,2,FALSE))","v":""},"70317#1","","70317#1|14#320|3#32"]
[{"$nulls":4},"困难-6-4","70417#1","70413#1","14#320","3#32",{"$nulls":4},610417,null,null,{"$f":"VLOOKUP(N181,[4]RewardItemConfig!$B:$C,2,FALSE)","v":70417},{"$f":"IF(VLOOKUP(O181,[4]RewardItemConfig!$B:$C,2,FALSE)=0,\"\",VLOOKUP(O181,[4]RewardItemConfig!$B:$C,2,FALSE))","v":""},"70417#1","","70417#1|14#320|3#32"]
[{"$nulls":4},"困难-6-5","70517#1","70513#1","14#320","3#32",{"$nulls":4},610517,null,null,{"$f":"VLOOKUP(N182,[4]RewardItemConfig!$B:$C,2,FALSE)","v":70517},{"$f":"IF(VLOOKUP(O182,[4]RewardItemConfig!$B:$C,2,FALSE)=0,\"\",VLOOKUP(O182,[4]RewardItemConfig!$B:$C,2,FALSE))","v":""},"70517#1","","70517#1|14#320|3#32"]
[{"$nulls":4},"困难-7-1","70117#1","70114#1","14#340","3#34",{"$nulls":4},610118,null,null,{"$f":"VLOOKUP(N183,[4]RewardItemConfig!$B:$C,2,FALSE)","v":70118},{"$f":"IF(VLOOKUP(O183,[4]RewardItemConfig!$B:$C,2,FALSE)=0,\"\",VLOOKUP(O183,[4]RewardItemConfig!$B:$C,2,FALSE))","v":""},"70118#1","","70118#1|14#340|3#34"]
[{"$nulls":4},"困难-7-2","70217#1","70214#1","14#340","3#34",{"$nulls":4},610218,null,null,{"$f":"VLOOKUP(N184,[4]RewardItemConfig!$B:$C,2,FALSE)","v":70218},{"$f":"IF(VLOOKUP(O184,[4]RewardItemConfig!$B:$C,2,FALSE)=0,\"\",VLOOKUP(O184,[4]RewardItemConfig!$B:$C,2,FALSE))","v":""},"70218#1","","70218#1|14#340|3#34"]
[{"$nulls":4},"困难-7-3","70317#1","70314#1","14#340","3#34",{"$nulls":4},610318,null,null,{"$f":"VLOOKUP(N185,[4]RewardItemConfig!$B:$C,2,FALSE)","v":70318},{"$f":"IF(VLOOKUP(O185,[4]RewardItemConfig!$B:$C,2,FALSE)=0,\"\",VLOOKUP(O185,[4]RewardItemConfig!$B:$C,2,FALSE))","v":""},"70318#1","","70318#1|14#340|3#34"]
[{"$nulls":4},"困难-7-4","70417#1","70414#1","14#340","3#34",{"$nulls":4},610418,null,null,{"$f":"VLOOKUP(N186,[4]RewardItemConfig!$B:$C,2,FALSE)","v":70418},{"$f":"IF(VLOOKUP(O186,[4]RewardItemConfig!$B:$C,2,FALSE)=0,\"\",VLOOKUP(O186,[4]RewardItemConfig!$B:$C,2,FALSE))","v":""},"70418#1","","70418#1|14#340|3#34"]
[{"$nulls":4},"困难-7-5","70517#1","70514#1","14#340","3#34",{"$nulls":4},610518,null,null,{"$f":"VLOOKUP(N187,[4]RewardItemConfig!$B:$C,2,FALSE)","v":70518},{"$f":"IF(VLOOKUP(O187,[4]RewardItemConfig!$B:$C,2,FALSE)=0,\"\",VLOOKUP(O187,[4]RewardItemConfig!$B:$C,2,FALSE))","v":""},"70518#1","","70518#1|14#340|3#34"]
[{"$nulls":4},"困难-8-1","70117#1","70115#1","14#360","3#36",{"$nulls":4},610118,null,null,{"$f":"VLOOKUP(N188,[4]RewardItemConfig!$B:$C,2,FALSE)","v":70118},{"$f":"IF(VLOOKUP(O188,[4]RewardItemConfig!$B:$C,2,FALSE)=0,\"\",VLOOKUP(O188,[4]RewardItemConfig!$B:$C,2,FALSE))","v":""},"70118#1","","70118#1|14#360|3#36"]
[{"$nulls":4},"困难-8-2","70217#1","70215#1","14#360","3#36",{"$nulls":4},610218,null,null,{"$f":"VLOOKUP(N189,[4]RewardItemConfig!$B:$C,2,FALSE)","v":70218},{"$f":"IF(VLOOKUP(O189,[4]RewardItemConfig!$B:$C,2,FALSE)=0,\"\",VLOOKUP(O189,[4]RewardItemConfig!$B:$C,2,FALSE))","v":""},"70218#1","","70218#1|14#360|3#36"]
[{"$nulls":4},"困难-8-3","70317#1","70315#1","14#360","3#36",{"$nulls":4},610318,null,null,{"$f":"VLOOKUP(N190,[4]RewardItemConfig!$B:$C,2,FALSE)","v":70318},{"$f":"IF(VLOOKUP(O190,[4]RewardItemConfig!$B:$C,2,FALSE)=0,\"\",VLOOKUP(O190,[4]RewardItemConfig!$B:$C,2,FALSE))","v":""},"70318#1","","70318#1|14#360|3#36"]
[{"$nulls":4},"困难-8-4","70417#1","70415#1","14#360","3#36",{"$nulls":4},610418,null,null,{"$f":"VLOOKUP(N191,[4]RewardItemConfig!$B:$C,2,FALSE)","v":70418},{"$f":"IF(VLOOKUP(O191,[4]RewardItemConfig!$B:$C,2,FALSE)=0,\"\",VLOOKUP(O191,[4]RewardItemConfig!$B:$C,2,FALSE))","v":""},"70418#1","","70418#1|14#360|3#36"]
[{"$nulls":4},"困难-8-5","70517#1","70515#1","14#360","3#36",{"$nulls":4},610518,null,null,{"$f":"VLOOKUP(N192,[4]RewardItemConfig!$B:$C,2,FALSE)","v":70518},{"$f":"IF(VLOOKUP(O192,[4]RewardItemConfig!$B:$C,2,FALSE)=0,\"\",VLOOKUP(O192,[4]RewardItemConfig!$B:$C,2,FALSE))","v":""},"70518#1","","70518#1|14#360|3#36"]
[{"$nulls":4},"困难-9-1","70117#1","70116#1","14#380","3#38",{"$nulls":4},{"$f":"N188+1","v":610119},null,null,{"$f":"VLOOKUP(N193,[4]RewardItemConfig!$B:$C,2,FALSE)","v":70119},{"$f":"IF(VLOOKUP(O193,[4]RewardItemConfig!$B:$C,2,FALSE)=0,\"\",VLOOKUP(O193,[4]RewardItemConfig!$B:$C,2,FALSE))","v":""},"70119#1","","70119#1|14#380|3#38"]
[{"$nulls":4},"困难-9-2","70217#1","70216#1","14#380","3#38",{"$nulls":4},{"$f":"N189+1","v":610219},null,null,{"$f":"VLOOKUP(N194,[4]RewardItemConfig!$B:$C,2,FALSE)","v":70219},{"$f":"IF(VLOOKUP(O194,[4]RewardItemConfig!$B:$C,2,FALSE)=0,\"\",VLOOKUP(O194,[4]RewardItemConfig!$B:$C,2,FALSE))","v":""},"70219#1","","70219#1|14#380|3#38"]
[{"$nulls":4},"困难-9-3","70317#1","70316#1","14#380","3#38",{"$nulls":4},{"$f":"N190+1","v":610319},null,null,{"$f":"VLOOKUP(N195,[4]RewardItemConfig!$B:$C,2,FALSE)","v":70319},{"$f":"IF(VLOOKUP(O195,[4]RewardItemConfig!$B:$C,2,FALSE)=0,\"\",VLOOKUP(O195,[4]RewardItemConfig!$B:$C,2,FALSE))","v":""},"70319#1","","70319#1|14#380|3#38"]
[{"$nulls":4},"困难-9-4","70417#1","70416#1","14#380","3#38",{"$nulls":4},{"$f":"N191+1","v":610419},null,null,{"$f":"VLOOKUP(N196,[4]RewardItemConfig!$B:$C,2,FALSE)","v":70419},{"$f":"IF(VLOOKUP(O196,[4]RewardItemConfig!$B:$C,2,FALSE)=0,\"\",VLOOKUP(O196,[4]RewardItemConfig!$B:$C,2,FALSE))","v":""},{"$f":"IF(Q196=\"\",\"\",Q196&$S$2)","v":"70419#1"},{"$f":"IF(R196=\"\",\"\",R196&$S$2)","v":""},"70419#1|14#380|3#38"]
[{"$nulls":4},"困难-9-5","70517#1","70516#1","14#380","3#38",{"$nulls":4},{"$f":"N192+1","v":610519},null,null,{"$f":"VLOOKUP(N197,[4]RewardItemConfig!$B:$C,2,FALSE)","v":70519},{"$f":"IF(VLOOKUP(O197,[4]RewardItemConfig!$B:$C,2,FALSE)=0,\"\",VLOOKUP(O197,[4]RewardItemConfig!$B:$C,2,FALSE))","v":""},"70519#1","","70519#1|14#380|3#38"]
[{"$nulls":4},"困难-10-1","70118#1","70117#1","14#400","3#40",{"$nulls":4},610119,null,null,{"$f":"VLOOKUP(N198,[4]RewardItemConfig!$B:$C,2,FALSE)","v":70119},{"$f":"IF(VLOOKUP(O198,[4]RewardItemConfig!$B:$C,2,FALSE)=0,\"\",VLOOKUP(O198,[4]RewardItemConfig!$B:$C,2,FALSE))","v":""},"70119#1","","70119#1|14#400|3#40"]
[{"$nulls":4},"困难-10-2","70218#1","70217#1","14#400","3#40",{"$nulls":4},610219,null,null,{"$f":"VLOOKUP(N199,[4]RewardItemConfig!$B:$C,2,FALSE)","v":70219},{"$f":"IF(VLOOKUP(O199,[4]RewardItemConfig!$B:$C,2,FALSE)=0,\"\",VLOOKUP(O199,[4]RewardItemConfig!$B:$C,2,FALSE))","v":""},"70219#1","","70219#1|14#400|3#40"]
[{"$nulls":4},"困难-10-3","70318#1","70317#1","14#400","3#40",{"$nulls":4},610319,null,null,{"$f":"VLOOKUP(N200,[4]RewardItemConfig!$B:$C,2,FALSE)","v":70319},{"$f":"IF(VLOOKUP(O200,[4]RewardItemConfig!$B:$C,2,FALSE)=0,\"\",VLOOKUP(O200,[4]RewardItemConfig!$B:$C,2,FALSE))","v":""},"70319#1","","70319#1|14#400|3#40"]
[{"$nulls":4},"困难-10-4","70418#1","70417#1","14#400","3#40",{"$nulls":4},610419,null,null,{"$f":"VLOOKUP(N201,[4]RewardItemConfig!$B:$C,2,FALSE)","v":70419},{"$f":"IF(VLOOKUP(O201,[4]RewardItemConfig!$B:$C,2,FALSE)=0,\"\",VLOOKUP(O201,[4]RewardItemConfig!$B:$C,2,FALSE))","v":""},"70419#1","","70419#1|14#400|3#40"]
[{"$nulls":4},"困难-10-5","70518#1","70517#1","14#400","3#40",{"$nulls":4},610519,null,null,{"$f":"VLOOKUP(N202,[4]RewardItemConfig!$B:$C,2,FALSE)","v":70519},{"$f":"IF(VLOOKUP(O202,[4]RewardItemConfig!$B:$C,2,FALSE)=0,\"\",VLOOKUP(O202,[4]RewardItemConfig!$B:$C,2,FALSE))","v":""},"70519#1","","70519#1|14#400|3#40"]
[{"$nulls":4},"困难-11-1","70118#1","14#420","3#42",{"$nulls":5},{"$f":"N193+1","v":610120},null,null,{"$f":"VLOOKUP(N203,[4]RewardItemConfig!$B:$C,2,FALSE)","v":70120},{"$f":"IF(VLOOKUP(O203,[4]RewardItemConfig!$B:$C,2,FALSE)=0,\"\",VLOOKUP(O203,[4]RewardItemConfig!$B:$C,2,FALSE))","v":""},"70120#1","",{"$f":"_xlfn.TEXTJOIN(\"|\",TRUE,S203:T203,G203,H203)","v":"70120#1|14#420|3#42"}]
[{"$nulls":4},"困难-11-2","70218#1","14#420","3#42",{"$nulls":5},610220,null,null,{"$f":"VLOOKUP(N204,[4]RewardItemConfig!$B:$C,2,FALSE)","v":70220},{"$f":"IF(VLOOKUP(O204,[4]RewardItemConfig!$B:$C,2,FALSE)=0,\"\",VLOOKUP(O204,[4]RewardItemConfig!$B:$C,2,FALSE))","v":""},"70220#1","","70220#1|14#420|3#42"]
[{"$nulls":4},"困难-11-3","70318#1","14#420","3#42",{"$nulls":5},610320,null,null,{"$f":"VLOOKUP(N205,[4]RewardItemConfig!$B:$C,2,FALSE)","v":70320},{"$f":"IF(VLOOKUP(O205,[4]RewardItemConfig!$B:$C,2,FALSE)=0,\"\",VLOOKUP(O205,[4]RewardItemConfig!$B:$C,2,FALSE))","v":""},"70320#1","","70320#1|14#420|3#42"]
[{"$nulls":4},"困难-11-4","70418#1","14#420","3#42",{"$nulls":5},610420,null,null,{"$f":"VLOOKUP(N206,[4]RewardItemConfig!$B:$C,2,FALSE)","v":70420},{"$f":"IF(VLOOKUP(O206,[4]RewardItemConfig!$B:$C,2,FALSE)=0,\"\",VLOOKUP(O206,[4]RewardItemConfig!$B:$C,2,FALSE))","v":""},"70420#1","","70420#1|14#420|3#42"]
[{"$nulls":4},"困难-11-5","70518#1","14#420","3#42",{"$nulls":5},610520,null,null,{"$f":"VLOOKUP(N207,[4]RewardItemConfig!$B:$C,2,FALSE)","v":70520},{"$f":"IF(VLOOKUP(O207,[4]RewardItemConfig!$B:$C,2,FALSE)=0,\"\",VLOOKUP(O207,[4]RewardItemConfig!$B:$C,2,FALSE))","v":""},"70520#1","","70520#1|14#420|3#42"]
[{"$nulls":4},"困难-12-1","70119#1","14#440","3#44",{"$nulls":5},610120,null,null,{"$f":"VLOOKUP(N208,[4]RewardItemConfig!$B:$C,2,FALSE)","v":70120},{"$f":"IF(VLOOKUP(O208,[4]RewardItemConfig!$B:$C,2,FALSE)=0,\"\",VLOOKUP(O208,[4]RewardItemConfig!$B:$C,2,FALSE))","v":""},"70120#1","","70120#1|14#440|3#44"]
[{"$nulls":4},"困难-12-2","70219#1","14#440","3#44",{"$nulls":5},610220,null,null,{"$f":"VLOOKUP(N209,[4]RewardItemConfig!$B:$C,2,FALSE)","v":70220},{"$f":"IF(VLOOKUP(O209,[4]RewardItemConfig!$B:$C,2,FALSE)=0,\"\",VLOOKUP(O209,[4]RewardItemConfig!$B:$C,2,FALSE))","v":""},"70220#1","","70220#1|14#440|3#44"]
[{"$nulls":4},"困难-12-3","70319#1","14#440","3#44",{"$nulls":5},610320,null,null,{"$f":"VLOOKUP(N210,[4]RewardItemConfig!$B:$C,2,FALSE)","v":70320},{"$f":"IF(VLOOKUP(O210,[4]RewardItemConfig!$B:$C,2,FALSE)=0,\"\",VLOOKUP(O210,[4]RewardItemConfig!$B:$C,2,FALSE))","v":""},"70320#1","","70320#1|14#440|3#44"]
[{"$nulls":4},"困难-12-4","70419#1","14#440","3#44",{"$nulls":5},610420,null,null,{"$f":"VLOOKUP(N211,[4]RewardItemConfig!$B:$C,2,FALSE)","v":70420},{"$f":"IF(VLOOKUP(O211,[4]RewardItemConfig!$B:$C,2,FALSE)=0,\"\",VLOOKUP(O211,[4]RewardItemConfig!$B:$C,2,FALSE))","v":""},"70420#1","","70420#1|14#440|3#44"]
[{"$nulls":4},"困难-12-5","70519#1","14#440","3#44",{"$nulls":5},610520,null,null,{"$f":"VLOOKUP(N212,[4]RewardItemConfig!$B:$C,2,FALSE)","v":70520},{"$f":"IF(VLOOKUP(O212,[4]RewardItemConfig!$B:$C,2,FALSE)=0,\"\",VLOOKUP(O212,[4]RewardItemConfig!$B:$C,2,FALSE))","v":""},"70520#1","","70520#1|14#440|3#44"]
[{"$nulls":4},"困难-13-1","70119#1","14#460","3#46",{"$nulls":5},610121,null,null,{"$f":"VLOOKUP(N213,[4]RewardItemConfig!$B:$C,2,FALSE)","v":70121},{"$f":"IF(VLOOKUP(O213,[4]RewardItemConfig!$B:$C,2,FALSE)=0,\"\",VLOOKUP(O213,[4]RewardItemConfig!$B:$C,2,FALSE))","v":""},"70121#1","","70121#1|14#460|3#46"]
[{"$nulls":4},"困难-13-2","70219#1","14#460","3#46",{"$nulls":5},610221,null,null,{"$f":"VLOOKUP(N214,[4]RewardItemConfig!$B:$C,2,FALSE)","v":70221},{"$f":"IF(VLOOKUP(O214,[4]RewardItemConfig!$B:$C,2,FALSE)=0,\"\",VLOOKUP(O214,[4]RewardItemConfig!$B:$C,2,FALSE))","v":""},"70221#1","","70221#1|14#460|3#46"]
[{"$nulls":4},"困难-13-3","70319#1","14#460","3#46",{"$nulls":5},610321,null,null,{"$f":"VLOOKUP(N215,[4]RewardItemConfig!$B:$C,2,FALSE)","v":70321},{"$f":"IF(VLOOKUP(O215,[4]RewardItemConfig!$B:$C,2,FALSE)=0,\"\",VLOOKUP(O215,[4]RewardItemConfig!$B:$C,2,FALSE))","v":""},"70321#1","","70321#1|14#460|3#46"]
[{"$nulls":4},"困难-13-4","70419#1","14#460","3#46",{"$nulls":5},610421,null,null,{"$f":"VLOOKUP(N216,[4]RewardItemConfig!$B:$C,2,FALSE)","v":70421},{"$f":"IF(VLOOKUP(O216,[4]RewardItemConfig!$B:$C,2,FALSE)=0,\"\",VLOOKUP(O216,[4]RewardItemConfig!$B:$C,2,FALSE))","v":""},"70421#1","","70421#1|14#460|3#46"]
[{"$nulls":4},"困难-13-5","70519#1","14#460","3#46",{"$nulls":5},610521,null,null,{"$f":"VLOOKUP(N217,[4]RewardItemConfig!$B:$C,2,FALSE)","v":70521},{"$f":"IF(VLOOKUP(O217,[4]RewardItemConfig!$B:$C,2,FALSE)=0,\"\",VLOOKUP(O217,[4]RewardItemConfig!$B:$C,2,FALSE))","v":""},"70521#1","","70521#1|14#460|3#46"]
[{"$nulls":4},"困难-14-1","70120#1","14#480","3#48",{"$nulls":5},610121,null,null,{"$f":"VLOOKUP(N218,[4]RewardItemConfig!$B:$C,2,FALSE)","v":70121},{"$f":"IF(VLOOKUP(O218,[4]RewardItemConfig!$B:$C,2,FALSE)=0,\"\",VLOOKUP(O218,[4]RewardItemConfig!$B:$C,2,FALSE))","v":""},"70121#1","","70121#1|14#480|3#48"]
[{"$nulls":4},"困难-14-2","70220#1","14#480","3#48",{"$nulls":5},610221,null,null,{"$f":"VLOOKUP(N219,[4]RewardItemConfig!$B:$C,2,FALSE)","v":70221},{"$f":"IF(VLOOKUP(O219,[4]RewardItemConfig!$B:$C,2,FALSE)=0,\"\",VLOOKUP(O219,[4]RewardItemConfig!$B:$C,2,FALSE))","v":""},"70221#1","","70221#1|14#480|3#48"]
[{"$nulls":4},"困难-14-3","70320#1","14#480","3#48",{"$nulls":5},610321,null,null,{"$f":"VLOOKUP(N220,[4]RewardItemConfig!$B:$C,2,FALSE)","v":70321},{"$f":"IF(VLOOKUP(O220,[4]RewardItemConfig!$B:$C,2,FALSE)=0,\"\",VLOOKUP(O220,[4]RewardItemConfig!$B:$C,2,FALSE))","v":""},"70321#1","","70321#1|14#480|3#48"]
[{"$nulls":4},"困难-14-4","70420#1","14#480","3#48",{"$nulls":5},610421,null,null,{"$f":"VLOOKUP(N221,[4]RewardItemConfig!$B:$C,2,FALSE)","v":70421},{"$f":"IF(VLOOKUP(O221,[4]RewardItemConfig!$B:$C,2,FALSE)=0,\"\",VLOOKUP(O221,[4]RewardItemConfig!$B:$C,2,FALSE))","v":""},"70421#1","","70421#1|14#480|3#48"]
[{"$nulls":4},"困难-14-5","70520#1","14#480","3#48",{"$nulls":5},610521,null,null,{"$f":"VLOOKUP(N222,[4]RewardItemConfig!$B:$C,2,FALSE)","v":70521},{"$f":"IF(VLOOKUP(O222,[4]RewardItemConfig!$B:$C,2,FALSE)=0,\"\",VLOOKUP(O222,[4]RewardItemConfig!$B:$C,2,FALSE))","v":""},"70521#1","","70521#1|14#480|3#48"]
[{"$nulls":4},"困难-15-1","70120#1","14#500","3#50",{"$nulls":5},610121,null,null,{"$f":"VLOOKUP(N223,[4]RewardItemConfig!$B:$C,2,FALSE)","v":70121},{"$f":"IF(VLOOKUP(O223,[4]RewardItemConfig!$B:$C,2,FALSE)=0,\"\",VLOOKUP(O223,[4]RewardItemConfig!$B:$C,2,FALSE))","v":""},"70121#1","","70121#1|14#500|3#50"]
[{"$nulls":4},"困难-15-2","70220#1","14#500","3#50",{"$nulls":5},610221,null,null,{"$f":"VLOOKUP(N224,[4]RewardItemConfig!$B:$C,2,FALSE)","v":70221},{"$f":"IF(VLOOKUP(O224,[4]RewardItemConfig!$B:$C,2,FALSE)=0,\"\",VLOOKUP(O224,[4]RewardItemConfig!$B:$C,2,FALSE))","v":""},"70221#1","","70221#1|14#500|3#50"]
[{"$nulls":4},"困难-15-3","70320#1","14#500","3#50",{"$nulls":5},610321,null,null,{"$f":"VLOOKUP(N225,[4]RewardItemConfig!$B:$C,2,FALSE)","v":70321},{"$f":"IF(VLOOKUP(O225,[4]RewardItemConfig!$B:$C,2,FALSE)=0,\"\",VLOOKUP(O225,[4]RewardItemConfig!$B:$C,2,FALSE))","v":""},"70321#1","","70321#1|14#500|3#50"]
[{"$nulls":4},"困难-15-4","70420#1","14#500","3#50",{"$nulls":5},610421,null,null,{"$f":"VLOOKUP(N226,[4]RewardItemConfig!$B:$C,2,FALSE)","v":70421},{"$f":"IF(VLOOKUP(O226,[4]RewardItemConfig!$B:$C,2,FALSE)=0,\"\",VLOOKUP(O226,[4]RewardItemConfig!$B:$C,2,FALSE))","v":""},"70421#1","","70421#1|14#500|3#50"]
[{"$nulls":4},"困难-15-5","70520#1","14#500","3#50",{"$nulls":5},610521,null,null,{"$f":"VLOOKUP(N227,[4]RewardItemConfig!$B:$C,2,FALSE)","v":70521},{"$f":"IF(VLOOKUP(O227,[4]RewardItemConfig!$B:$C,2,FALSE)=0,\"\",VLOOKUP(O227,[4]RewardItemConfig!$B:$C,2,FALSE))","v":""},"70521#1","","70521#1|14#500|3#50"]
[{"$nulls":4},"地狱-1-1","14#260","3#30",{"$nulls":6},{"$f":"N213+1","v":610122},null,null,{"$f":"VLOOKUP(N228,[4]RewardItemConfig!$B:$C,2,FALSE)","v":70122},{"$f":"IF(VLOOKUP(O228,[4]RewardItemConfig!$B:$C,2,FALSE)=0,\"\",VLOOKUP(O228,[4]RewardItemConfig!$B:$C,2,FALSE))","v":""},"70122#1","",{"$f":"_xlfn.TEXTJOIN(\"|\",TRUE,S228:T228,F228,G228)","v":"70122#1|14#260|3#30"}]
[{"$nulls":4},"地狱-1-2","14#260","3#30",{"$nulls":6},610222,null,null,{"$f":"VLOOKUP(N229,[4]RewardItemConfig!$B:$C,2,FALSE)","v":70222},{"$f":"IF(VLOOKUP(O229,[4]RewardItemConfig!$B:$C,2,FALSE)=0,\"\",VLOOKUP(O229,[4]RewardItemConfig!$B:$C,2,FALSE))","v":""},"70222#1","",{"$f":"_xlfn.TEXTJOIN(\"|\",TRUE,S229:T229,F229,G229)","v":"70222#1|14#260|3#30"}]
[{"$nulls":4},"地狱-1-3","14#260","3#30",{"$nulls":6},610322,null,null,{"$f":"VLOOKUP(N230,[4]RewardItemConfig!$B:$C,2,FALSE)","v":70322},{"$f":"IF(VLOOKUP(O230,[4]RewardItemConfig!$B:$C,2,FALSE)=0,\"\",VLOOKUP(O230,[4]RewardItemConfig!$B:$C,2,FALSE))","v":""},"70322#1","","70322#1|14#260|3#30"]
[{"$nulls":4},"地狱-1-4","14#260","3#30",{"$nulls":6},610422,null,null,{"$f":"VLOOKUP(N231,[4]RewardItemConfig!$B:$C,2,FALSE)","v":70422},{"$f":"IF(VLOOKUP(O231,[4]RewardItemConfig!$B:$C,2,FALSE)=0,\"\",VLOOKUP(O231,[4]RewardItemConfig!$B:$C,2,FALSE))","v":""},"70422#1","","70422#1|14#260|3#30"]
[{"$nulls":4},"地狱-1-5","14#260","3#30",{"$nulls":6},610522,null,null,{"$f":"VLOOKUP(N232,[4]RewardItemConfig!$B:$C,2,FALSE)","v":70522},{"$f":"IF(VLOOKUP(O232,[4]RewardItemConfig!$B:$C,2,FALSE)=0,\"\",VLOOKUP(O232,[4]RewardItemConfig!$B:$C,2,FALSE))","v":""},"70522#1","","70522#1|14#260|3#30"]
[{"$nulls":4},"地狱-2-1","14#280","3#32",{"$nulls":6},610122,null,null,{"$f":"VLOOKUP(N233,[4]RewardItemConfig!$B:$C,2,FALSE)","v":70122},{"$f":"IF(VLOOKUP(O233,[4]RewardItemConfig!$B:$C,2,FALSE)=0,\"\",VLOOKUP(O233,[4]RewardItemConfig!$B:$C,2,FALSE))","v":""},"70122#1","","70122#1|14#280|3#32"]
[{"$nulls":4},"地狱-2-2","14#280","3#32",{"$nulls":6},610222,null,null,{"$f":"VLOOKUP(N234,[4]RewardItemConfig!$B:$C,2,FALSE)","v":70222},{"$f":"IF(VLOOKUP(O234,[4]RewardItemConfig!$B:$C,2,FALSE)=0,\"\",VLOOKUP(O234,[4]RewardItemConfig!$B:$C,2,FALSE))","v":""},"70222#1","","70222#1|14#280|3#32"]
[{"$nulls":4},"地狱-2-3","14#280","3#32",{"$nulls":6},610322,null,null,{"$f":"VLOOKUP(N235,[4]RewardItemConfig!$B:$C,2,FALSE)","v":70322},{"$f":"IF(VLOOKUP(O235,[4]RewardItemConfig!$B:$C,2,FALSE)=0,\"\",VLOOKUP(O235,[4]RewardItemConfig!$B:$C,2,FALSE))","v":""},"70322#1","","70322#1|14#280|3#32"]
[{"$nulls":4},"地狱-2-4","14#280","3#32",{"$nulls":6},610422,null,null,{"$f":"VLOOKUP(N236,[4]RewardItemConfig!$B:$C,2,FALSE)","v":70422},{"$f":"IF(VLOOKUP(O236,[4]RewardItemConfig!$B:$C,2,FALSE)=0,\"\",VLOOKUP(O236,[4]RewardItemConfig!$B:$C,2,FALSE))","v":""},"70422#1","","70422#1|14#280|3#32"]
[{"$nulls":4},"地狱-2-5","14#280","3#32",{"$nulls":6},610522,null,null,{"$f":"VLOOKUP(N237,[4]RewardItemConfig!$B:$C,2,FALSE)","v":70522},{"$f":"IF(VLOOKUP(O237,[4]RewardItemConfig!$B:$C,2,FALSE)=0,\"\",VLOOKUP(O237,[4]RewardItemConfig!$B:$C,2,FALSE))","v":""},"70522#1","","70522#1|14#280|3#32"]
[{"$nulls":4},"地狱-3-1","14#300","3#34",{"$nulls":6},610122,null,null,{"$f":"VLOOKUP(N238,[4]RewardItemConfig!$B:$C,2,FALSE)","v":70122},{"$f":"IF(VLOOKUP(O238,[4]RewardItemConfig!$B:$C,2,FALSE)=0,\"\",VLOOKUP(O238,[4]RewardItemConfig!$B:$C,2,FALSE))","v":""},"70122#1","","70122#1|14#300|3#34"]
[{"$nulls":4},"地狱-3-2","14#300","3#34",{"$nulls":6},610222,null,null,{"$f":"VLOOKUP(N239,[4]RewardItemConfig!$B:$C,2,FALSE)","v":70222},{"$f":"IF(VLOOKUP(O239,[4]RewardItemConfig!$B:$C,2,FALSE)=0,\"\",VLOOKUP(O239,[4]RewardItemConfig!$B:$C,2,FALSE))","v":""},"70222#1","","70222#1|14#300|3#34"]
[{"$nulls":4},"地狱-3-3","14#300","3#34",{"$nulls":6},610322,null,null,{"$f":"VLOOKUP(N240,[4]RewardItemConfig!$B:$C,2,FALSE)","v":70322},{"$f":"IF(VLOOKUP(O240,[4]RewardItemConfig!$B:$C,2,FALSE)=0,\"\",VLOOKUP(O240,[4]RewardItemConfig!$B:$C,2,FALSE))","v":""},"70322#1","","70322#1|14#300|3#34"]
[{"$nulls":4},"地狱-3-4","14#300","3#34",{"$nulls":6},610422,null,null,{"$f":"VLOOKUP(N241,[4]RewardItemConfig!$B:$C,2,FALSE)","v":70422},{"$f":"IF(VLOOKUP(O241,[4]RewardItemConfig!$B:$C,2,FALSE)=0,\"\",VLOOKUP(O241,[4]RewardItemConfig!$B:$C,2,FALSE))","v":""},"70422#1","","70422#1|14#300|3#34"]
[{"$nulls":4},"地狱-3-5","14#300","3#34",{"$nulls":6},610522,null,null,{"$f":"VLOOKUP(N242,[4]RewardItemConfig!$B:$C,2,FALSE)","v":70522},{"$f":"IF(VLOOKUP(O242,[4]RewardItemConfig!$B:$C,2,FALSE)=0,\"\",VLOOKUP(O242,[4]RewardItemConfig!$B:$C,2,FALSE))","v":""},"70522#1","","70522#1|14#300|3#34"]
[{"$nulls":4},"地狱-4-1","14#320","3#36",{"$nulls":6},610123,null,null,{"$f":"VLOOKUP(N243,[4]RewardItemConfig!$B:$C,2,FALSE)","v":70123},{"$f":"IF(VLOOKUP(O243,[4]RewardItemConfig!$B:$C,2,FALSE)=0,\"\",VLOOKUP(O243,[4]RewardItemConfig!$B:$C,2,FALSE))","v":""},"70123#1","","70123#1|14#320|3#36"]
[{"$nulls":4},"地狱-4-2","14#320","3#36",{"$nulls":6},610223,null,null,{"$f":"VLOOKUP(N244,[4]RewardItemConfig!$B:$C,2,FALSE)","v":70223},{"$f":"IF(VLOOKUP(O244,[4]RewardItemConfig!$B:$C,2,FALSE)=0,\"\",VLOOKUP(O244,[4]RewardItemConfig!$B:$C,2,FALSE))","v":""},"70223#1","","70223#1|14#320|3#36"]
[{"$nulls":4},"地狱-4-3","14#320","3#36",{"$nulls":6},610323,null,null,{"$f":"VLOOKUP(N245,[4]RewardItemConfig!$B:$C,2,FALSE)","v":70323},{"$f":"IF(VLOOKUP(O245,[4]RewardItemConfig!$B:$C,2,FALSE)=0,\"\",VLOOKUP(O245,[4]RewardItemConfig!$B:$C,2,FALSE))","v":""},"70323#1","","70323#1|14#320|3#36"]
[{"$nulls":4},"地狱-4-4","14#320","3#36",{"$nulls":6},610423,null,null,{"$f":"VLOOKUP(N246,[4]RewardItemConfig!$B:$C,2,FALSE)","v":70423},{"$f":"IF(VLOOKUP(O246,[4]RewardItemConfig!$B:$C,2,FALSE)=0,\"\",VLOOKUP(O246,[4]RewardItemConfig!$B:$C,2,FALSE))","v":""},"70423#1","","70423#1|14#320|3#36"]
[{"$nulls":4},"地狱-4-5","14#320","3#36",{"$nulls":6},610523,null,null,{"$f":"VLOOKUP(N247,[4]RewardItemConfig!$B:$C,2,FALSE)","v":70523},{"$f":"IF(VLOOKUP(O247,[4]RewardItemConfig!$B:$C,2,FALSE)=0,\"\",VLOOKUP(O247,[4]RewardItemConfig!$B:$C,2,FALSE))","v":""},"70523#1","","70523#1|14#320|3#36"]
[{"$nulls":4},"地狱-5-1","14#340","3#38",{"$nulls":6},610123,null,null,{"$f":"VLOOKUP(N248,[4]RewardItemConfig!$B:$C,2,FALSE)","v":70123},{"$f":"IF(VLOOKUP(O248,[4]RewardItemConfig!$B:$C,2,FALSE)=0,\"\",VLOOKUP(O248,[4]RewardItemConfig!$B:$C,2,FALSE))","v":""},"70123#1","","70123#1|14#340|3#38"]
[{"$nulls":4},"地狱-5-2","14#340","3#38",{"$nulls":6},610223,null,null,{"$f":"VLOOKUP(N249,[4]RewardItemConfig!$B:$C,2,FALSE)","v":70223},{"$f":"IF(VLOOKUP(O249,[4]RewardItemConfig!$B:$C,2,FALSE)=0,\"\",VLOOKUP(O249,[4]RewardItemConfig!$B:$C,2,FALSE))","v":""},"70223#1","","70223#1|14#340|3#38"]
[{"$nulls":4},"地狱-5-3","14#340","3#38",{"$nulls":6},610323,null,null,{"$f":"VLOOKUP(N250,[4]RewardItemConfig!$B:$C,2,FALSE)","v":70323},{"$f":"IF(VLOOKUP(O250,[4]RewardItemConfig!$B:$C,2,FALSE)=0,\"\",VLOOKUP(O250,[4]RewardItemConfig!$B:$C,2,FALSE))","v":""},"70323#1","","70323#1|14#340|3#38"]
[{"$nulls":4},"地狱-5-4","14#340","3#38",{"$nulls":6},610423,null,null,{"$f":"VLOOKUP(N251,[4]RewardItemConfig!$B:$C,2,FALSE)","v":70423},{"$f":"IF(VLOOKUP(O251,[4]RewardItemConfig!$B:$C,2,FALSE)=0,\"\",VLOOKUP(O251,[4]RewardItemConfig!$B:$C,2,FALSE))","v":""},"70423#1","","70423#1|14#340|3#38"]
[{"$nulls":4},"地狱-5-5","14#340","3#38",{"$nulls":6},610523,null,null,{"$f":"VLOOKUP(N252,[4]RewardItemConfig!$B:$C,2,FALSE)","v":70523},{"$f":"IF(VLOOKUP(O252,[4]RewardItemConfig!$B:$C,2,FALSE)=0,\"\",VLOOKUP(O252,[4]RewardItemConfig!$B:$C,2,FALSE))","v":""},"70523#1","","70523#1|14#340|3#38"]
[{"$nulls":4},"地狱-6-1","14#360","3#40",{"$nulls":6},610123,null,null,{"$f":"VLOOKUP(N253,[4]RewardItemConfig!$B:$C,2,FALSE)","v":70123},{"$f":"IF(VLOOKUP(O253,[4]RewardItemConfig!$B:$C,2,FALSE)=0,\"\",VLOOKUP(O253,[4]RewardItemConfig!$B:$C,2,FALSE))","v":""},"70123#1","","70123#1|14#360|3#40"]
[{"$nulls":4},"地狱-6-2","14#360","3#40",{"$nulls":6},610223,null,null,{"$f":"VLOOKUP(N254,[4]RewardItemConfig!$B:$C,2,FALSE)","v":70223},{"$f":"IF(VLOOKUP(O254,[4]RewardItemConfig!$B:$C,2,FALSE)=0,\"\",VLOOKUP(O254,[4]RewardItemConfig!$B:$C,2,FALSE))","v":""},"70223#1","","70223#1|14#360|3#40"]
[{"$nulls":4},"地狱-6-3","14#360","3#40",{"$nulls":6},610323,null,null,{"$f":"VLOOKUP(N255,[4]RewardItemConfig!$B:$C,2,FALSE)","v":70323},{"$f":"IF(VLOOKUP(O255,[4]RewardItemConfig!$B:$C,2,FALSE)=0,\"\",VLOOKUP(O255,[4]RewardItemConfig!$B:$C,2,FALSE))","v":""},"70323#1","","70323#1|14#360|3#40"]
[{"$nulls":4},"地狱-6-4","14#360","3#40",{"$nulls":6},610423,null,null,{"$f":"VLOOKUP(N256,[4]RewardItemConfig!$B:$C,2,FALSE)","v":70423},{"$f":"IF(VLOOKUP(O256,[4]RewardItemConfig!$B:$C,2,FALSE)=0,\"\",VLOOKUP(O256,[4]RewardItemConfig!$B:$C,2,FALSE))","v":""},"70423#1","","70423#1|14#360|3#40"]
[{"$nulls":4},"地狱-6-5","14#360","3#40",{"$nulls":6},610523,null,null,{"$f":"VLOOKUP(N257,[4]RewardItemConfig!$B:$C,2,FALSE)","v":70523},{"$f":"IF(VLOOKUP(O257,[4]RewardItemConfig!$B:$C,2,FALSE)=0,\"\",VLOOKUP(O257,[4]RewardItemConfig!$B:$C,2,FALSE))","v":""},"70523#1","","70523#1|14#360|3#40"]
[{"$nulls":4},"地狱-7-1","14#380","3#42",{"$nulls":6},610124,null,null,{"$f":"VLOOKUP(N258,[4]RewardItemConfig!$B:$C,2,FALSE)","v":70124},{"$f":"IF(VLOOKUP(O258,[4]RewardItemConfig!$B:$C,2,FALSE)=0,\"\",VLOOKUP(O258,[4]RewardItemConfig!$B:$C,2,FALSE))","v":""},"70124#1","","70124#1|14#380|3#42"]
[{"$nulls":4},"地狱-7-2","14#380","3#42",{"$nulls":6},610224,null,null,{"$f":"VLOOKUP(N259,[4]RewardItemConfig!$B:$C,2,FALSE)","v":70224},{"$f":"IF(VLOOKUP(O259,[4]RewardItemConfig!$B:$C,2,FALSE)=0,\"\",VLOOKUP(O259,[4]RewardItemConfig!$B:$C,2,FALSE))","v":""},"70224#1","","70224#1|14#380|3#42"]
[{"$nulls":4},"地狱-7-3","14#380","3#42",{"$nulls":6},610324,null,null,{"$f":"VLOOKUP(N260,[4]RewardItemConfig!$B:$C,2,FALSE)","v":70324},{"$f":"IF(VLOOKUP(O260,[4]RewardItemConfig!$B:$C,2,FALSE)=0,\"\",VLOOKUP(O260,[4]RewardItemConfig!$B:$C,2,FALSE))","v":""},{"$f":"IF(Q260=\"\",\"\",Q260&$S$2)","v":"70324#1"},{"$f":"IF(R260=\"\",\"\",R260&$S$2)","v":""},"70324#1|14#380|3#42"]
[{"$nulls":4},"地狱-7-4","14#380","3#42",{"$nulls":6},610424,null,null,{"$f":"VLOOKUP(N261,[4]RewardItemConfig!$B:$C,2,FALSE)","v":70424},{"$f":"IF(VLOOKUP(O261,[4]RewardItemConfig!$B:$C,2,FALSE)=0,\"\",VLOOKUP(O261,[4]RewardItemConfig!$B:$C,2,FALSE))","v":""},"70424#1","",{"$f":"_xlfn.TEXTJOIN(\"|\",TRUE,S261:T261,F261,G261)","v":"70424#1|14#380|3#42"}]
[{"$nulls":4},"地狱-7-5","14#380","3#42",{"$nulls":6},610524,null,null,{"$f":"VLOOKUP(N262,[4]RewardItemConfig!$B:$C,2,FALSE)","v":70524},{"$f":"IF(VLOOKUP(O262,[4]RewardItemConfig!$B:$C,2,FALSE)=0,\"\",VLOOKUP(O262,[4]RewardItemConfig!$B:$C,2,FALSE))","v":""},"70524#1","","70524#1|14#380|3#42"]
[{"$nulls":4},"地狱-8-1","14#400","3#44",{"$nulls":6},610124,null,null,{"$f":"VLOOKUP(N263,[4]RewardItemConfig!$B:$C,2,FALSE)","v":70124},{"$f":"IF(VLOOKUP(O263,[4]RewardItemConfig!$B:$C,2,FALSE)=0,\"\",VLOOKUP(O263,[4]RewardItemConfig!$B:$C,2,FALSE))","v":""},"70124#1","","70124#1|14#400|3#44"]
[{"$nulls":4},"地狱-8-2","14#400","3#44",{"$nulls":6},610224,null,null,{"$f":"VLOOKUP(N264,[4]RewardItemConfig!$B:$C,2,FALSE)","v":70224},{"$f":"IF(VLOOKUP(O264,[4]RewardItemConfig!$B:$C,2,FALSE)=0,\"\",VLOOKUP(O264,[4]RewardItemConfig!$B:$C,2,FALSE))","v":""},"70224#1","","70224#1|14#400|3#44"]
[{"$nulls":4},"地狱-8-3","14#400","3#44",{"$nulls":6},610324,null,null,{"$f":"VLOOKUP(N265,[4]RewardItemConfig!$B:$C,2,FALSE)","v":70324},{"$f":"IF(VLOOKUP(O265,[4]RewardItemConfig!$B:$C,2,FALSE)=0,\"\",VLOOKUP(O265,[4]RewardItemConfig!$B:$C,2,FALSE))","v":""},"70324#1","","70324#1|14#400|3#44"]
[{"$nulls":4},"地狱-8-4","14#400","3#44",{"$nulls":6},610424,null,null,{"$f":"VLOOKUP(N266,[4]RewardItemConfig!$B:$C,2,FALSE)","v":70424},{"$f":"IF(VLOOKUP(O266,[4]RewardItemConfig!$B:$C,2,FALSE)=0,\"\",VLOOKUP(O266,[4]RewardItemConfig!$B:$C,2,FALSE))","v":""},"70424#1","","70424#1|14#400|3#44"]
[{"$nulls":4},"地狱-8-5","14#400","3#44",{"$nulls":6},610524,null,null,{"$f":"VLOOKUP(N267,[4]RewardItemConfig!$B:$C,2,FALSE)","v":70524},{"$f":"IF(VLOOKUP(O267,[4]RewardItemConfig!$B:$C,2,FALSE)=0,\"\",VLOOKUP(O267,[4]RewardItemConfig!$B:$C,2,FALSE))","v":""},"70524#1","","70524#1|14#400|3#44"]
[{"$nulls":4},"地狱-9-1","14#420","3#46",{"$nulls":6},610124,null,null,{"$f":"VLOOKUP(N268,[4]RewardItemConfig!$B:$C,2,FALSE)","v":70124},{"$f":"IF(VLOOKUP(O268,[4]RewardItemConfig!$B:$C,2,FALSE)=0,\"\",VLOOKUP(O268,[4]RewardItemConfig!$B:$C,2,FALSE))","v":""},"70124#1","","70124#1|14#420|3#46"]
[{"$nulls":4},"地狱-9-2","14#420","3#46",{"$nulls":6},610224,null,null,{"$f":"VLOOKUP(N269,[4]RewardItemConfig!$B:$C,2,FALSE)","v":70224},{"$f":"IF(VLOOKUP(O269,[4]RewardItemConfig!$B:$C,2,FALSE)=0,\"\",VLOOKUP(O269,[4]RewardItemConfig!$B:$C,2,FALSE))","v":""},"70224#1","","70224#1|14#420|3#46"]
[{"$nulls":4},"地狱-9-3","14#420","3#46",{"$nulls":6},610324,null,null,{"$f":"VLOOKUP(N270,[4]RewardItemConfig!$B:$C,2,FALSE)","v":70324},{"$f":"IF(VLOOKUP(O270,[4]RewardItemConfig!$B:$C,2,FALSE)=0,\"\",VLOOKUP(O270,[4]RewardItemConfig!$B:$C,2,FALSE))","v":""},"70324#1","","70324#1|14#420|3#46"]
[{"$nulls":4},"地狱-9-4","14#420","3#46",{"$nulls":6},610424,null,null,{"$f":"VLOOKUP(N271,[4]RewardItemConfig!$B:$C,2,FALSE)","v":70424},{"$f":"IF(VLOOKUP(O271,[4]RewardItemConfig!$B:$C,2,FALSE)=0,\"\",VLOOKUP(O271,[4]RewardItemConfig!$B:$C,2,FALSE))","v":""},"70424#1","","70424#1|14#420|3#46"]
[{"$nulls":4},"地狱-9-5","14#420","3#46",{"$nulls":6},610524,null,null,{"$f":"VLOOKUP(N272,[4]RewardItemConfig!$B:$C,2,FALSE)","v":70524},{"$f":"IF(VLOOKUP(O272,[4]RewardItemConfig!$B:$C,2,FALSE)=0,\"\",VLOOKUP(O272,[4]RewardItemConfig!$B:$C,2,FALSE))","v":""},"70524#1","","70524#1|14#420|3#46"]
[{"$nulls":4},"地狱-10-1","14#440","3#48",{"$nulls":6},610125,null,null,{"$f":"VLOOKUP(N273,[4]RewardItemConfig!$B:$C,2,FALSE)","v":70125},{"$f":"IF(VLOOKUP(O273,[4]RewardItemConfig!$B:$C,2,FALSE)=0,\"\",VLOOKUP(O273,[4]RewardItemConfig!$B:$C,2,FALSE))","v":""},"70125#1","","70125#1|14#440|3#48"]
[{"$nulls":4},"地狱-10-2","14#440","3#48",{"$nulls":6},610225,null,null,{"$f":"VLOOKUP(N274,[4]RewardItemConfig!$B:$C,2,FALSE)","v":70225},{"$f":"IF(VLOOKUP(O274,[4]RewardItemConfig!$B:$C,2,FALSE)=0,\"\",VLOOKUP(O274,[4]RewardItemConfig!$B:$C,2,FALSE))","v":""},"70225#1","","70225#1|14#440|3#48"]
[{"$nulls":4},"地狱-10-3","14#440","3#48",{"$nulls":6},610325,null,null,{"$f":"VLOOKUP(N275,[4]RewardItemConfig!$B:$C,2,FALSE)","v":70325},{"$f":"IF(VLOOKUP(O275,[4]RewardItemConfig!$B:$C,2,FALSE)=0,\"\",VLOOKUP(O275,[4]RewardItemConfig!$B:$C,2,FALSE))","v":""},"70325#1","","70325#1|14#440|3#48"]
[{"$nulls":4},"地狱-10-4","14#440","3#48",{"$nulls":6},610425,null,null,{"$f":"VLOOKUP(N276,[4]RewardItemConfig!$B:$C,2,FALSE)","v":70425},{"$f":"IF(VLOOKUP(O276,[4]RewardItemConfig!$B:$C,2,FALSE)=0,\"\",VLOOKUP(O276,[4]RewardItemConfig!$B:$C,2,FALSE))","v":""},"70425#1","","70425#1|14#440|3#48"]
[{"$nulls":4},"地狱-10-5","14#440","3#48",{"$nulls":6},610525,null,null,{"$f":"VLOOKUP(N277,[4]RewardItemConfig!$B:$C,2,FALSE)","v":70525},{"$f":"IF(VLOOKUP(O277,[4]RewardItemConfig!$B:$C,2,FALSE)=0,\"\",VLOOKUP(O277,[4]RewardItemConfig!$B:$C,2,FALSE))","v":""},"70525#1","","70525#1|14#440|3#48"]
[{"$nulls":4},"地狱-11-1","14#460","3#50",{"$nulls":6},610125,null,null,{"$f":"VLOOKUP(N278,[4]RewardItemConfig!$B:$C,2,FALSE)","v":70125},{"$f":"IF(VLOOKUP(O278,[4]RewardItemConfig!$B:$C,2,FALSE)=0,\"\",VLOOKUP(O278,[4]RewardItemConfig!$B:$C,2,FALSE))","v":""},"70125#1","","70125#1|14#460|3#50"]
[{"$nulls":4},"地狱-11-2","14#460","3#50",{"$nulls":6},610225,null,null,{"$f":"VLOOKUP(N279,[4]RewardItemConfig!$B:$C,2,FALSE)","v":70225},{"$f":"IF(VLOOKUP(O279,[4]RewardItemConfig!$B:$C,2,FALSE)=0,\"\",VLOOKUP(O279,[4]RewardItemConfig!$B:$C,2,FALSE))","v":""},"70225#1","","70225#1|14#460|3#50"]
[{"$nulls":4},"地狱-11-3","14#460","3#50",{"$nulls":6},610325,null,null,{"$f":"VLOOKUP(N280,[4]RewardItemConfig!$B:$C,2,FALSE)","v":70325},{"$f":"IF(VLOOKUP(O280,[4]RewardItemConfig!$B:$C,2,FALSE)=0,\"\",VLOOKUP(O280,[4]RewardItemConfig!$B:$C,2,FALSE))","v":""},"70325#1","","70325#1|14#460|3#50"]
[{"$nulls":4},"地狱-11-4","14#460","3#50",{"$nulls":6},610425,null,null,{"$f":"VLOOKUP(N281,[4]RewardItemConfig!$B:$C,2,FALSE)","v":70425},{"$f":"IF(VLOOKUP(O281,[4]RewardItemConfig!$B:$C,2,FALSE)=0,\"\",VLOOKUP(O281,[4]RewardItemConfig!$B:$C,2,FALSE))","v":""},"70425#1","","70425#1|14#460|3#50"]
[{"$nulls":4},"地狱-11-5","14#460","3#50",{"$nulls":6},610525,null,null,{"$f":"VLOOKUP(N282,[4]RewardItemConfig!$B:$C,2,FALSE)","v":70525},{"$f":"IF(VLOOKUP(O282,[4]RewardItemConfig!$B:$C,2,FALSE)=0,\"\",VLOOKUP(O282,[4]RewardItemConfig!$B:$C,2,FALSE))","v":""},"70525#1","","70525#1|14#460|3#50"]
[{"$nulls":4},"地狱-12-1","14#480","3#52",{"$nulls":6},610125,null,null,{"$f":"VLOOKUP(N283,[4]RewardItemConfig!$B:$C,2,FALSE)","v":70125},{"$f":"IF(VLOOKUP(O283,[4]RewardItemConfig!$B:$C,2,FALSE)=0,\"\",VLOOKUP(O283,[4]RewardItemConfig!$B:$C,2,FALSE))","v":""},"70125#1","","70125#1|14#480|3#52"]
[{"$nulls":4},"地狱-12-2","14#480","3#52",{"$nulls":6},610225,null,null,{"$f":"VLOOKUP(N284,[4]RewardItemConfig!$B:$C,2,FALSE)","v":70225},{"$f":"IF(VLOOKUP(O284,[4]RewardItemConfig!$B:$C,2,FALSE)=0,\"\",VLOOKUP(O284,[4]RewardItemConfig!$B:$C,2,FALSE))","v":""},"70225#1","","70225#1|14#480|3#52"]
[{"$nulls":4},"地狱-12-3","14#480","3#52",{"$nulls":6},610325,null,null,{"$f":"VLOOKUP(N285,[4]RewardItemConfig!$B:$C,2,FALSE)","v":70325},{"$f":"IF(VLOOKUP(O285,[4]RewardItemConfig!$B:$C,2,FALSE)=0,\"\",VLOOKUP(O285,[4]RewardItemConfig!$B:$C,2,FALSE))","v":""},"70325#1","","70325#1|14#480|3#52"]
[{"$nulls":4},"地狱-12-4","14#480","3#52",{"$nulls":6},610425,null,null,{"$f":"VLOOKUP(N286,[4]RewardItemConfig!$B:$C,2,FALSE)","v":70425},{"$f":"IF(VLOOKUP(O286,[4]RewardItemConfig!$B:$C,2,FALSE)=0,\"\",VLOOKUP(O286,[4]RewardItemConfig!$B:$C,2,FALSE))","v":""},"70425#1","","70425#1|14#480|3#52"]
[{"$nulls":4},"地狱-12-5","14#480","3#52",{"$nulls":6},610525,null,null,{"$f":"VLOOKUP(N287,[4]RewardItemConfig!$B:$C,2,FALSE)","v":70525},{"$f":"IF(VLOOKUP(O287,[4]RewardItemConfig!$B:$C,2,FALSE)=0,\"\",VLOOKUP(O287,[4]RewardItemConfig!$B:$C,2,FALSE))","v":""},"70525#1","","70525#1|14#480|3#52"]
[{"$nulls":4},"地狱-13-1","14#500","3#54",{"$nulls":6},610126,null,null,{"$f":"VLOOKUP(N288,[4]RewardItemConfig!$B:$C,2,FALSE)","v":70126},{"$f":"IF(VLOOKUP(O288,[4]RewardItemConfig!$B:$C,2,FALSE)=0,\"\",VLOOKUP(O288,[4]RewardItemConfig!$B:$C,2,FALSE))","v":""},"70126#1","","70126#1|14#500|3#54"]
[{"$nulls":4},"地狱-13-2","14#500","3#54",{"$nulls":6},610226,null,null,{"$f":"VLOOKUP(N289,[4]RewardItemConfig!$B:$C,2,FALSE)","v":70226},{"$f":"IF(VLOOKUP(O289,[4]RewardItemConfig!$B:$C,2,FALSE)=0,\"\",VLOOKUP(O289,[4]RewardItemConfig!$B:$C,2,FALSE))","v":""},"70226#1","","70226#1|14#500|3#54"]
[{"$nulls":4},"地狱-13-3","14#500","3#54",{"$nulls":6},610326,null,null,{"$f":"VLOOKUP(N290,[4]RewardItemConfig!$B:$C,2,FALSE)","v":70326},{"$f":"IF(VLOOKUP(O290,[4]RewardItemConfig!$B:$C,2,FALSE)=0,\"\",VLOOKUP(O290,[4]RewardItemConfig!$B:$C,2,FALSE))","v":""},"70326#1","","70326#1|14#500|3#54"]
[{"$nulls":4},"地狱-13-4","14#500","3#54",{"$nulls":6},610426,null,null,{"$f":"VLOOKUP(N291,[4]RewardItemConfig!$B:$C,2,FALSE)","v":70426},{"$f":"IF(VLOOKUP(O291,[4]RewardItemConfig!$B:$C,2,FALSE)=0,\"\",VLOOKUP(O291,[4]RewardItemConfig!$B:$C,2,FALSE))","v":""},"70426#1","","70426#1|14#500|3#54"]
[{"$nulls":4},"地狱-13-5","14#500","3#54",{"$nulls":6},{"$f":"N277+1","v":610526},null,null,{"$f":"VLOOKUP(N292,[4]RewardItemConfig!$B:$C,2,FALSE)","v":70526},{"$f":"IF(VLOOKUP(O292,[4]RewardItemConfig!$B:$C,2,FALSE)=0,\"\",VLOOKUP(O292,[4]RewardItemConfig!$B:$C,2,FALSE))","v":""},"70526#1","","70526#1|14#500|3#54"]
[{"$nulls":4},"地狱-14-1","14#520","3#56",{"$nulls":6},610126,null,null,{"$f":"VLOOKUP(N293,[4]RewardItemConfig!$B:$C,2,FALSE)","v":70126},{"$f":"IF(VLOOKUP(O293,[4]RewardItemConfig!$B:$C,2,FALSE)=0,\"\",VLOOKUP(O293,[4]RewardItemConfig!$B:$C,2,FALSE))","v":""},"70126#1","","70126#1|14#520|3#56"]
[{"$nulls":4},"地狱-14-2","14#520","3#56",{"$nulls":6},610226,null,null,{"$f":"VLOOKUP(N294,[4]RewardItemConfig!$B:$C,2,FALSE)","v":70226},{"$f":"IF(VLOOKUP(O294,[4]RewardItemConfig!$B:$C,2,FALSE)=0,\"\",VLOOKUP(O294,[4]RewardItemConfig!$B:$C,2,FALSE))","v":""},"70226#1","","70226#1|14#520|3#56"]
[{"$nulls":4},"地狱-14-3","14#520","3#56",{"$nulls":6},610326,null,null,{"$f":"VLOOKUP(N295,[4]RewardItemConfig!$B:$C,2,FALSE)","v":70326},{"$f":"IF(VLOOKUP(O295,[4]RewardItemConfig!$B:$C,2,FALSE)=0,\"\",VLOOKUP(O295,[4]RewardItemConfig!$B:$C,2,FALSE))","v":""},"70326#1","","70326#1|14#520|3#56"]
[{"$nulls":4},"地狱-14-4","14#520","3#56",{"$nulls":6},610426,null,null,{"$f":"VLOOKUP(N296,[4]RewardItemConfig!$B:$C,2,FALSE)","v":70426},{"$f":"IF(VLOOKUP(O296,[4]RewardItemConfig!$B:$C,2,FALSE)=0,\"\",VLOOKUP(O296,[4]RewardItemConfig!$B:$C,2,FALSE))","v":""},"70426#1","","70426#1|14#520|3#56"]
[{"$nulls":4},"地狱-14-5","14#520","3#56",{"$nulls":6},610526,null,null,{"$f":"VLOOKUP(N297,[4]RewardItemConfig!$B:$C,2,FALSE)","v":70526},{"$f":"IF(VLOOKUP(O297,[4]RewardItemConfig!$B:$C,2,FALSE)=0,\"\",VLOOKUP(O297,[4]RewardItemConfig!$B:$C,2,FALSE))","v":""},"70526#1","","70526#1|14#520|3#56"]
[{"$nulls":4},"地狱-15-1","14#540","3#58",{"$nulls":6},610126,null,null,{"$f":"VLOOKUP(N298,[4]RewardItemConfig!$B:$C,2,FALSE)","v":70126},{"$f":"IF(VLOOKUP(O298,[4]RewardItemConfig!$B:$C,2,FALSE)=0,\"\",VLOOKUP(O298,[4]RewardItemConfig!$B:$C,2,FALSE))","v":""},"70126#1","","70126#1|14#540|3#58"]
[{"$nulls":4},"地狱-15-2","14#540","3#58",{"$nulls":6},610226,null,null,{"$f":"VLOOKUP(N299,[4]RewardItemConfig!$B:$C,2,FALSE)","v":70226},{"$f":"IF(VLOOKUP(O299,[4]RewardItemConfig!$B:$C,2,FALSE)=0,\"\",VLOOKUP(O299,[4]RewardItemConfig!$B:$C,2,FALSE))","v":""},"70226#1","","70226#1|14#540|3#58"]
[{"$nulls":4},"地狱-15-3","14#540","3#58",{"$nulls":6},610326,null,null,{"$f":"VLOOKUP(N300,[4]RewardItemConfig!$B:$C,2,FALSE)","v":70326},{"$f":"IF(VLOOKUP(O300,[4]RewardItemConfig!$B:$C,2,FALSE)=0,\"\",VLOOKUP(O300,[4]RewardItemConfig!$B:$C,2,FALSE))","v":""},"70326#1","","70326#1|14#540|3#58"]
[{"$nulls":4},"地狱-15-4","14#540","3#58",{"$nulls":6},610426,null,null,{"$f":"VLOOKUP(N301,[4]RewardItemConfig!$B:$C,2,FALSE)","v":70426},{"$f":"IF(VLOOKUP(O301,[4]RewardItemConfig!$B:$C,2,FALSE)=0,\"\",VLOOKUP(O301,[4]RewardItemConfig!$B:$C,2,FALSE))","v":""},"70426#1","","70426#1|14#540|3#58"]
[{"$nulls":4},"地狱-15-5","14#540","3#58",{"$nulls":6},610526,null,null,{"$f":"VLOOKUP(N302,[4]RewardItemConfig!$B:$C,2,FALSE)","v":70526},{"$f":"IF(VLOOKUP(O302,[4]RewardItemConfig!$B:$C,2,FALSE)=0,\"\",VLOOKUP(O302,[4]RewardItemConfig!$B:$C,2,FALSE))","v":""},"70526#1","","70526#1|14#540|3#58"]