Workbook
Name 开发角色Data: '[1]角色类型&星级Ver0.1'!$B$6:$B$33

Sheet StoreConfig
B1: Id | C1: GoodsName | D1: StoreId | E1: Sort | F1: Weight | G1: OpenLv | H1: Goods | I1: PremiumType | J1: Cost | K1: RelatedtoVIP | L1: Limit | M1: IsDiscount | N1: DiscountDegree | O1: NoUse1 | P1: ExtraAdd | Q1: OpenPrivilege | R1: Rebate | S1: ShowRule | T1: BuyRule
B2: int | C2: string | D2: int | E2: int | F2: int | G2: mut,int#int,1 | H2: mut,int#int,2 | I2: int | J2: mut,int#int,2 | K2: int | L2: int | M2: int | N2: int | O2: string | P2: mut,int#int,2 | Q2: mut,int#int,1 | R2: int | S2: mut,int#int,1 | T2: mut,int#int,1
B3: 2 | C3: 2 | D3: 2 | E3: 2 | F3: 4 | G3: 4 | H3: 2 | I3: 2 | J3: 2 | K3: 2 | L3: 2 | M3: 2 | N3: 2 | O3: 0 | P3: 2 | Q3: 2 | R3: 3 | S3: 3 | T3: 2
B4: id | C4: 商品名称 | D4: 商店id | E4: 排序 （栏位显示顺序） | F4: 权重 | G4: 等级开启区间 | H4: 物品id#数量 | I4: 购买溢价类型 1走公式 2走配置数量（第X次购买价格#第X+1次购买价格） | J4: 购买道具|价格公式（ax^3+bx^2+cx+d) （abcd为配置参数，x为购买次数） | K4: 限购次是否和vip关联 0不关联 1关联 | L4: 限购次数 0则为不限购 当限购次数，该列填特权id | M4: 是否折扣 0没有折扣 1折扣 | N4: 折扣力度 5折就写5 | O4: 备注 | P4: 额外加成 1等级控制 2#特权id | Q4: 解锁特权id | R4: 礼包价值 | S4: 商品显示条件 1累充额度达到xx元 | T4: 商品可购买条件 1累充额度达到xx元
A5: 默认值 | B5: 0 | D5: 0 | E5: 0 | F5: 0 | G5: null | H5: null | J5: null | K5: 0 | L5: 0 | M5: 0 | N5: 0
A6: 正确性校对
A7: 校对值
B8: 1 | C8: 雷震子碎片 | D8: 1 | E8: 1 | F8: 100 | G8: 1#200 | H8: 11011#50 | I8: 1 | J8: 26|0#0#0#5000 | L8: 1 | M8: 0 | N8: 0 | O8: 契魂商店
B9: 2 | C9: 孙悟空碎片 | D9: 1 | E9: 2 | F9: 100 | G9: 1#201 | H9: 11023#50 | I9: 1 | J9: 26|0#0#0#5000 | L9: 1 | M9: 0 | N9: 0 | O9: 契魂商店
B10: 3 | C10: 伏羲碎片 | D10: 1 | E10: 3 | F10: 100 | G10: 1#202 | H10: 11001#50 | I10: 1 | J10: 26|0#0#0#5000 | L10: 1 | M10: 0 | N10: 0 | O10: 契魂商店
B11: 4 | C11: 东华帝君碎片 | D11: 1 | E11: 4 | F11: 100 | G11: 1#203 | H11: 11026#50 | I11: 1 | J11: 26|0#0#0#5000 | L11: 1 | M11: 0 | N11: 0 | O11: 契魂商店
B12: 5 | C12: 洛神碎片 | D12: 1 | E12: 5 | F12: 100 | G12: 1#204 | H12: 11002#50 | I12: 1 | J12: 26|0#0#0#4000 | L12: 1 | M12: 0 | N12: 0 | O12: 契魂商店
B13: 6 | C13: 伏虎罗汉碎片 | D13: 1 | E13: 6 | F13: 100 | G13: 1#205 | H13: 11015#50 | I13: 1 | J13: 26|0#0#0#4000 | L13: 1 | M13: 0 | N13: 0 | O13: 契魂商店
B14: 7 | C14: 嫦娥碎片 | D14: 1 | E14: 7 | F14: 100 | G14: 1#206 | H14: 11017#50 | I14: 1 | J14: 26|0#0#0#4000 | L14: 1 | M14: 0 | N14: 0 | O14: 契魂商店
B15: 8 | C15: 九天玄女碎片 | D15: 1 | E15: 8 | F15: 100 | G15: 1#207 | H15: 11042#50 | I15: 1 | J15: 26|0#0#0#4000 | L15: 1 | M15: 0 | N15: 0 | O15: 契魂商店
B16: 9 | C16: 百花仙子碎片 | D16: 1 | E16: 9 | F16: 100 | G16: 1#208 | H16: 11045#50 | I16: 1 | J16: 26|0#0#0#2500 | L16: 1 | M16: 0 | N16: 0 | O16: 契魂商店
B17: 10 | C17: 焚天碎片 | D17: 1 | E17: 10 | F17: 100 | G17: 1#209 | H17: 11030#50 | I17: 1 | J17: 26|0#0#0#2500 | L17: 1 | M17: 0 | N17: 0 | O17: 契魂商店
B18: 11 | C18: 赵公明碎片 | D18: 1 | E18: 11 | F18: 100 | G18: 1#210 | H18: 11036#50 | I18: 1 | J18: 26|0#0#0#2500 | L18: 1 | M18: 0 | N18: 0 | O18: 契魂商店
B19: 12 | C19: 夜叉碎片 | D19: 1 | E19: 12 | F19: 100 | G19: 1#211 | H19: 11038#50 | I19: 1 | J19: 26|0#0#0#2500 | L19: 1 | M19: 0 | N19: 0 | O19: 契魂商店
... B120: 10002 | C120: 群英招募十连抽 | D120: 7 | E120: 2 | F120: 100 | G120: 1#384 | H120: 19#10 | I120: 1 | J120: 16|0#0#0#2500 | L120: 0 | M120: 1 | N120: 9 | O120: 功能商店
B121: 10003 | C121: 幸运探宝券2 | D121: 7 | E121: 3 | F121: 100 | G121: 1#385 | H121: 60#2 | I121: 1 | J121: 16|0#0#0#100 | K121: 1 | L121: 6 | M121: 0 | N121: 0 | O121: 功能商店
B122: 10004 | C122: 幸运探宝券5 | D122: 7 | E122: 4 | F122: 100 | G122: 1#386 | H122: 60#5 | I122: 1 | J122: 16|0#0#0#250 | K122: 1 | L122: 6 | M122: 0 | N122: 0 | O122: 功能商店
B123: 10005 | C123: 购买金币 | D123: 57 | E123: 1 | F123: 100 | G123: 1#387 | H123: 14#25000 | I123: 2 | J123: 16|0#0#0#0 | K123: 1 | L123: 12 | M123: 0 | N123: 0 | O123: 点金功能商店 | P123: 1#0|2#21
B124: 10006 | C124: 购买体力 | D124: 7 | E124: 5 | F124: 100 | G124: 1#388 | H124: 2#100 | I124: 2 | J124: 16|50#50#100#100#150#200#300#400#500 | K124: 1 | L124: 5 | M124: 0 | N124: 0 | O124: 功能商店
B125: 10007 | C125: 购买竞技场挑战券 | D125: 7 | E125: 6 | F125: 100 | G125: 1#389 | H125: 23#1 | I125: 1 | J125: 16|0#0#0#20 | K125: 0 | L125: 0 | M125: 0 | N125: 0 | O125: 功能商店
B126: 10008 | C126: 时光沙漏花费 | D126: 7 | E126: 7 | F126: 100 | G126: 1#390 | H126: 0#0 | I126: 1 | J126: 47|0#0#0#1 | K126: 1 | L126: 0 | M126: 0 | N126: 0 | O126: 功能商店
B127: 10009 | C127: 普通副本次数购买 | D127: 7 | E127: 8 | F127: 100 | G127: 1#391 | H127: 27#1 | I127: 1 | J127: 16|0#0#20#20 | K127: 1 | L127: 7 | M127: 0 | N127: 0 | O127: 功能商店
B128: 10010 | C128: 英雄副本次数购买 | D128: 7 | E128: 9 | F128: 100 | G128: 1#392 | H128: 28#1 | I128: 1 | J128: 16|0#0#150#100 | K128: 1 | L128: 8 | M128: 0 | N128: 0 | O128: 功能商店
B129: 10011 | C129: 天赋树重置花费 | D129: 7 | E129: 10 | F129: 100 | G129: 1#393 | H129: 0#0 | I129: 2 | J129: 16|0#200#400#400#600#600#1000 | K129: 0 | L129: 0 | M129: 0 | N129: 0 | O129: 功能商店
B130: 10012 | C130: 外敌挑战券购买 | D130: 7 | E130: 11 | F130: 100 | G130: 1#393 | H130: 44#1 | I130: 2 | J130: 16|20#20#40#40#60#80#100#120#160#200 | K130: 0 | L130: 0 | M130: 0 | N130: 0 | O130: 功能商店
B131: 10013 | C131: 魂晶妖晶兑换 | D131: 7 | E131: 12 | F131: 100 | G131: 1#393 | H131: 16#10 | I131: 1 | J131: 16|0#0#0#1 | K131: 0 | L131: 0 | M131: 0 | N131: 0 | O131: 功能商店
B132: 10014 | C132: 云梦华羽购买 | D132: 7 | E132: 13 | F132: 100 | G132: 1#393 | H132: 46#1 | I132: 1 | J132: 16|0#0#0#30 | K132: 0 | L132: 0 | M132: 0 | N132: 0 | O132: 功能商店
B133: 10015 | C133: 冒险极速探索妖晶花费 | D133: 7 | E133: 14 | F133: 100 | G133: 1#390 | H133: 0#0 | I133: 2 | J133: 16|50#100#200#200#200#200#200#200#200#200#200 | K133: 1 | L133: 33 | M133: 0 | N133: 0 | O133: 功能商店
B134: 10016 | C134: 行动力 | D134: 7 | E134: 15 | F134: 100 | G134: 1#390 | H134: 1#100 | I134: 1 | J134: 16|0#0#100#150 | K134: 0 | L134: 2 | M134: 0 | N134: 0 | O134: 功能商店
B135: 10017 | C135: 兽潮来袭兽首道具 | D135: 7 | E135: 16 | F135: 100 | G135: 1#388 | H135: 53#1 | I135: 1 | J135: 16|0#0#0#20 | K135: 0 | L135: 0 | M135: 0 | N135: 0 | O135: 功能商店
... B138: 10020 | C138: 备用 | D138: 7 | E138: 19 | F138: 100 | G138: 1#388 | H138: 0#0 | I138: 1 | J138: 16|0#0#10#10 | K138: 0 | L138: 0 | M138: 0 | N138: 0 | O138: 功能商店
B139: 10021 | C139: 每日金币副本购买次数 | D139: 7 | E139: 20 | F139: 100 | G139: 1#400 | H139: 90#0 | I139: 1 | J139: 16|0#0#0#50 | K139: 1 | L139: 101 | M139: 0 | N139: 0 | O139: 功能商店 | Q139: 111
B140: 10022 | C140: 每日经验副本购买次数 | D140: 7 | E140: 21 | F140: 100 | G140: 1#400 | H140: 90#0 | I140: 1 | J140: 16|0#0#0#50 | K140: 1 | L140: 102 | M140: 0 | N140: 0 | O140: 功能商店 | Q140: 112
B141: 10023 | C141: 每日角色碎片副本购买次数 | D141: 7 | E141: 22 | F141: 100 | G141: 1#400 | H141: 90#0 | I141: 1 | J141: 16|0#0#0#50 | K141: 1 | L141: 103 | M141: 0 | N141: 0 | O141: 功能商店 | Q141: 113
B142: 10024 | C142: 每日法宝副本购买次数 | D142: 7 | E142: 23 | F142: 100 | G142: 1#400 | H142: 90#0 | I142: 1 | J142: 16|0#0#0#50 | K142: 1 | L142: 104 | M142: 0 | N142: 0 | O142: 功能商店 | Q142: 114
B143: 10025 | C143: 每日魂印副本购买次数 | D143: 7 | E143: 24 | F143: 100 | G143: 1#400 | H143: 90#0 | I143: 1 | J143: 16|0#0#0#50 | K143: 1 | L143: 105 | M143: 0 | N143: 0 | O143: 功能商店 | Q143: 115
B144: 10026 | C144: 中等购买金币 | D144: 57 | E144: 2 | F144: 100 | G144: 1#400 | H144: 14#50000 | I144: 1 | J144: 16|0#0#0#20 | K144: 1 | L144: 51 | M144: 0 | N144: 0 | O144: 点金功能商店 | P144: 1#0|2#21
B145: 10027 | C145: 高等购买金币 | D145: 57 | E145: 3 | F145: 100 | G145: 1#400 | H145: 14#125000 | I145: 1 | J145: 16|0#0#0#50 | K145: 1 | L145: 52 | M145: 0 | N145: 0 | O145: 点金功能商店 | P145: 1#0|2#21
B146: 10028 | C146: 公会技能重置 | D146: 7 | E146: 25 | F146: 100 | G146: 1#400 | H146: 0#0 | I146: 2 | J146: 16|300#500#800#1000 | K146: 0 | L146: 0 | M146: 0 | N146: 0 | O146: 功能商店
B147: 10029 | C147: 回春散购买 | D147: 7 | E147: 26 | F147: 100 | G147: 1#400 | H147: 31#1 | I147: 2 | J147: 16|0#0#0#100 | K147: 0 | L147: 0 | M147: 0 | N147: 0 | O147: 功能商店
B148: 10030 | C148: 每日轩辕秘境购买次数 | D148: 7 | E148: 27 | F148: 100 | G148: 1#400 | H148: 71#0 | I148: 1 | J148: 16|0#0#0#50 | K148: 1 | L148: 116 | M148: 0 | N148: 0 | O148: 功能商店 | Q148: 118
B149: 501 | C149: 武将经验*100000 | D149: 8 | E149: 1 | F149: 1 | G149: 1#400 | H149: 3#100000 | I149: 1 | J149: 16|0#0#0#100 | K149: 0 | L149: 1 | M149: 1 | N149: 5 | O149: 试炼商店1
B150: 502 | C150: 武将经验*200000 | D150: 8 | E150: 1 | F150: 1 | G150: 1#400 | H150: 3#200000 | I150: 1 | J150: 16|0#0#0#200 | K150: 0 | L150: 1 | M150: 1 | N150: 5 | O150: 试炼商店1
B151: 503 | C151: 武将经验*400000 | D151: 8 | E151: 1 | F151: 1 | G151: 1#400 | H151: 3#400000 | I151: 1 | J151: 16|0#0#0#400 | K151: 0 | L151: 1 | M151: 1 | N151: 5 | O151: 试炼商店1
B152: 510 | C152: 阵营抽*1 | D152: 8 | E152: 1 | F152: 1 | G152: 1#400 | H152: 20#1 | I152: 1 | J152: 16|0#0#0#2500 | K152: 0 | L152: 1 | M152: 1 | N152: 4 | O152: 试炼商店1
B153: 511 | C153: 阵营抽*1 | D153: 8 | E153: 1 | F153: 1 | G153: 1#400 | H153: 20#1 | I153: 1 | J153: 16|0#0#0#2500 | K153: 0 | L153: 1 | M153: 1 | N153: 2 | O153: 试炼商店1
B154: 512 | C154: 高抽*1 | D154: 8 | E154: 1 | F154: 1 | G154: 1#400 | H154: 19#1 | I154: 1 | J154: 16|0#0#0#250 | K154: 0 | L154: 1 | M154: 1 | N154: 6 | O154: 试炼商店1
B155: 513 | C155: 高抽*3 | D155: 8 | E155: 1 | F155: 1 | G155: 1#400 | H155: 19#3 | I155: 1 | J155: 16|0#0#0#750 | K155: 0 | L155: 1 | M155: 1 | N155: 6 | O155: 试炼商店1
B156: 518 | C156: 高抽*5 | D156: 8 | E156: 1 | F156: 1 | G156: 1#400 | H156: 19#5 | I156: 1 | J156: 16|0#0#0#1250 | K156: 0 | L156: 1 | M156: 1 | N156: 6 | O156: 试炼商店1
B157: 519 | C157: 寻宝图*3 | D157: 8 | E157: 1 | F157: 1 | G157: 1#400 | H157: 60#3 | I157: 1 | J157: 16|0#0#0#150 | K157: 0 | L157: 1 | M157: 1 | N157: 6 | O157: 试炼商店1
B158: 520 | C158: 寻宝图*5 | D158: 8 | E158: 1 | F158: 1 | G158: 1#400 | H158: 60#5 | I158: 1 | J158: 16|0#0#0#250 | K158: 0 | L158: 1 | M158: 1 | N158: 6 | O158: 试炼商店1
B159: 521 | C159: 寻宝图*10 | D159: 8 | E159: 1 | F159: 1 | G159: 1#400 | H159: 60#10 | I159: 1 | J159: 16|0#0#0#500 | K159: 0 | L159: 1 | M159: 1 | N159: 6 | O159: 试炼商店1
B160: 522 | C160: 进阶丹*500 | D160: 8 | E160: 1 | F160: 1 | G160: 1#400 | H160: 4#500 | I160: 1 | J160: 16|0#0#0#500 | K160: 0 | L160: 1 | M160: 1 | N160: 5 | O160: 试炼商店1
... B246: 211 | C246: 判官笔 | D246: 4 | E246: 11 | F246: 100 | G246: 1#497 | H246: 48#1 | I246: 1 | J246: 24|0#0#0#1000 | K246: 0 | L246: 1 | M246: 0 | N246: 0 | O246: 竞技场商店
B247: 222 | C247: 水系4星碎片 | D247: 21 | E247: 1 | F247: 100 | G247: 1#497 | H247: 12002#40 | I247: 1 | J247: 86|0#0#0#100 | K247: 0 | L247: 1 | M247: 0 | O247: 巅峰赛商店
B248: 223 | C248: 火系4星碎片 | D248: 21 | E248: 1 | F248: 100 | G248: 1#497 | H248: 12003#40 | I248: 1 | J248: 86|0#0#0#100 | K248: 0 | L248: 1 | M248: 0 | O248: 巅峰赛商店
B249: 224 | C249: 地系4星碎片 | D249: 21 | E249: 1 | F249: 100 | G249: 1#497 | H249: 12004#40 | I249: 1 | J249: 86|0#0#0#100 | K249: 0 | L249: 1 | M249: 0 | O249: 巅峰赛商店
B250: 225 | C250: 风系4星碎片 | D250: 21 | E250: 1 | F250: 100 | G250: 1#497 | H250: 12005#40 | I250: 1 | J250: 86|0#0#0#100 | K250: 0 | L250: 1 | M250: 0 | O250: 巅峰赛商店
B251: 226 | C251: 5星万能碎片 | D251: 21 | E251: 2 | F251: 100 | G251: 1#497 | H251: 12013#50 | I251: 1 | J251: 86|0#0#0#800 | K251: 0 | L251: 1 | M251: 0 | O251: 巅峰赛商店
B252: 227 | C252: 水系5星碎片 | D252: 21 | E252: 3 | F252: 100 | G252: 1#497 | H252: 12008#50 | I252: 1 | J252: 86|0#0#0#800 | K252: 0 | L252: 1 | M252: 0 | O252: 巅峰赛商店
B253: 228 | C253: 火系5星碎片 | D253: 21 | E253: 4 | F253: 100 | G253: 1#497 | H253: 12009#50 | I253: 1 | J253: 86|0#0#0#800 | K253: 0 | L253: 1 | M253: 0 | O253: 巅峰赛商店
B254: 229 | C254: 地系5星碎片 | D254: 21 | E254: 5 | F254: 100 | G254: 1#497 | H254: 12010#50 | I254: 1 | J254: 86|0#0#0#800 | K254: 0 | L254: 1 | M254: 0 | O254: 巅峰赛商店
B255: 230 | C255: 风系5星碎片 | D255: 21 | E255: 6 | F255: 100 | G255: 1#497 | H255: 12011#50 | I255: 1 | J255: 86|0#0#0#800 | K255: 0 | L255: 1 | M255: 0 | O255: 巅峰赛商店
B256: 231 | C256: 小乔碎片 | D256: 21 | E256: 7 | F256: 100 | G256: 1#497 | H256: 11022#50 | I256: 1 | J256: 86|0#0#0#1000 | K256: 0 | L256: 1 | M256: 0 | O256: 巅峰赛商店
B257: 232 | C257: 燃灯碎片 | D257: 21 | E257: 8 | F257: 100 | G257: 1#497 | H257: 11004#50 | I257: 1 | J257: 86|0#0#0#2000 | K257: 0 | L257: 1 | M257: 0 | O257: 巅峰赛商店
B258: 233 | C258: 东华帝君碎片 | D258: 21 | E258: 9 | F258: 100 | G258: 1#497 | H258: 11015#50 | I258: 1 | J258: 86|0#0#0#3000 | K258: 0 | L258: 1 | M258: 0 | O258: 巅峰赛商店
B259: 701 | C259: 破煞金刚杵 | D259: 9 | E259: 1 | F259: 100 | G259: 1#235 | H259: 90201#1 | I259: 1 | J259: 25|0#0#0#1500 | L259: 1 | M259: 0 | N259: 0 | O259: 云游商店
B260: 702 | C260: 紫金铃 | D260: 9 | E260: 1 | F260: 100 | G260: 1#237 | H260: 90202#1 | I260: 1 | J260: 25|0#0#0#1500 | L260: 1 | M260: 0 | N260: 0 | O260: 云游商店
B261: 703 | C261: 蟠龙令 | D261: 9 | E261: 2 | F261: 100 | G261: 1#239 | H261: 90203#1 | I261: 1 | J261: 25|0#0#0#1500 | L261: 1 | M261: 0 | N261: 0 | O261: 云游商店
B262: 704 | C262: 摩尼符 | D262: 9 | E262: 2 | F262: 100 | G262: 1#240 | H262: 90204#1 | I262: 1 | J262: 25|0#0#0#1500 | L262: 1 | M262: 0 | N262: 0 | O262: 云游商店
B263: 705 | C263: 无魔金轮 | D263: 9 | E263: 3 | F263: 100 | G263: 1#241 | H263: 90205#1 | I263: 1 | J263: 25|0#0#0#1500 | L263: 1 | M263: 0 | N263: 0 | O263: 云游商店
B264: 706 | C264: 破煞金刚杵 | D264: 9 | E264: 4 | F264: 100 | G264: 1#242 | H264: 90201#1 | I264: 1 | J264: 25|0#0#0#1500 | L264: 1 | M264: 0 | N264: 0 | O264: 云游商店
B265: 707 | C265: 紫金铃 | D265: 9 | E265: 4 | F265: 100 | G265: 1#243 | H265: 90202#1 | I265: 1 | J265: 25|0#0#0#1500 | L265: 1 | M265: 0 | N265: 0 | O265: 云游商店
B266: 708 | C266: 蟠龙令 | D266: 9 | E266: 4 | F266: 100 | G266: 1#244 | H266: 90203#1 | I266: 1 | J266: 25|0#0#0#1500 | L266: 1 | M266: 0 | N266: 0 | O266: 云游商店
B267: 709 | C267: 摩尼符 | D267: 9 | E267: 4 | F267: 100 | G267: 1#245 | H267: 90204#1 | I267: 1 | J267: 25|0#0#0#1500 | L267: 1 | M267: 0 | N267: 0 | O267: 云游商店
B268: 710 | C268: 无魔金轮 | D268: 9 | E268: 4 | F268: 100 | G268: 1#246 | H268: 90205#1 | I268: 1 | J268: 25|0#0#0#1500 | L268: 1 | M268: 0 | N268: 0 | O268: 云游商店
B269: 711 | C269: 破煞金刚杵 | D269: 9 | E269: 5 | F269: 100 | G269: 1#247 | H269: 90201#1 | I269: 1 | J269: 25|0#0#0#1500 | L269: 1 | M269: 0 | N269: 0 | O269: 云游商店
B270: 712 | C270: 紫金铃 | D270: 9 | E270: 5 | F270: 100 | G270: 1#248 | H270: 90202#1 | I270: 1 | J270: 25|0#0#0#1500 | L270: 1 | M270: 0 | N270: 0 | O270: 云游商店
... B341: 783 | C341: 紫微战靴-蓝图 | D341: 9 | E341: 1 | F341: 0 | G341: 1#301 | H341: 3040#1 | I341: 1 | J341: 25|0#0#0#8000 | L341: 1 | M341: 0 | N341: 0 | O341: 云游商店
B342: 20001 | C342: 金币礼包 | D342: 27 | E342: 1 | F342: 100 | G342: 1#301 | H342: 14#25000 | I342: 2 | J342: 16|50#50#50#50 | K342: 0 | L342: 3 | M342: 0 | N342: 0 | O342: 活动礼包
B343: 20002 | C343: 金币礼包 | D343: 27 | E343: 1 | F343: 100 | G343: 1#301 | H343: 14#50000 | I343: 2 | J343: 16|100#100#100#100 | K343: 0 | L343: 3 | M343: 0 | N343: 0 | O343: 活动礼包
B344: 20003 | C344: 金币礼包 | D344: 27 | E344: 1 | F344: 100 | G344: 1#301 | H344: 14#100000 | I344: 2 | J344: 16|200#200#200#200 | K344: 0 | L344: 3 | M344: 0 | N344: 0 | O344: 活动礼包
B345: 20004 | C345: 装备礼包 | D345: 27 | E345: 2 | F345: 100 | G345: 1#301 | H345: 60128#1 | I345: 2 | J345: 16|50#50#50#50 | K345: 0 | L345: 3 | M345: 0 | N345: 0 | O345: 活动礼包
B346: 20005 | C346: 装备礼包 | D346: 27 | E346: 2 | F346: 100 | G346: 1#301 | H346: 60148#1 | I346: 2 | J346: 16|100#100#100#100 | K346: 0 | L346: 3 | M346: 0 | N346: 0 | O346: 活动礼包
B347: 20006 | C347: 装备礼包 | D347: 27 | E347: 2 | F347: 100 | G347: 1#301 | H347: 60153#1 | I347: 2 | J347: 16|200#200#200#200 | K347: 0 | L347: 3 | M347: 0 | N347: 0 | O347: 活动礼包
B348: 20007 | C348: 异妖礼包 | D348: 27 | E348: 3 | F348: 100 | G348: 1#301 | H348: 6001#1 | I348: 2 | J348: 16|50#50#50#50 | K348: 0 | L348: 3 | M348: 0 | N348: 0 | O348: 活动礼包
B349: 20008 | C349: 异妖礼包 | D349: 27 | E349: 3 | F349: 100 | G349: 1#301 | H349: 6002#1 | I349: 2 | J349: 16|100#100#100#100 | K349: 0 | L349: 3 | M349: 0 | N349: 0 | O349: 活动礼包
B350: 20009 | C350: 异妖礼包 | D350: 27 | E350: 3 | F350: 100 | G350: 1#301 | H350: 6003#1 | I350: 2 | J350: 16|200#200#200#200 | K350: 0 | L350: 3 | M350: 0 | N350: 0 | O350: 活动礼包
B351: 20010 | C351: 元素神符礼包 | D351: 27 | E351: 4 | F351: 100 | G351: 1#301 | H351: 20#5|16#100 | I351: 2 | J351: 16|50#50#50#50 | K351: 0 | L351: 3 | M351: 0 | N351: 0 | O351: 活动礼包
B352: 20011 | C352: 元素神符礼包 | D352: 27 | E352: 4 | F352: 100 | G352: 1#301 | H352: 20#10|16#200 | I352: 2 | J352: 16|100#100#100#100 | K352: 0 | L352: 3 | M352: 0 | N352: 0 | O352: 活动礼包
B353: 20012 | C353: 元素神符礼包 | D353: 27 | E353: 4 | F353: 100 | G353: 1#301 | H353: 20#20|16#400 | I353: 2 | J353: 16|200#200#200#200 | K353: 0 | L353: 3 | M353: 0 | N353: 0 | O353: 活动礼包
... B394: 20062 | C394: 每日福利 | D394: 33 | E394: 1 | F394: 100 | G394: 1#301 | H394: 60#1 | I394: 2 | J394: 16|0#0#0#0 | K394: 0 | L394: 1 | M394: 0 | N394: 0 | O394: 每日超值
B395: 20091 | C395: 高级寻宝特权 | D395: 34 | E395: 1 | F395: 100 | G395: 1#301 | H395: 81#1|19#5|4#200 | I395: 1 | J395: 16|0#0#0#980 | K395: 0 | L395: 1 | M395: 0 | N395: 0 | O395: 特权商城 | Q395: 30 | R395: 3888
B396: 20092 | C396: 豪华寻宝特权 | D396: 34 | E396: 2 | F396: 100 | G396: 1#301 | H396: 82#1|20#1|19#10 | I396: 1 | J396: 16|0#0#0#1980 | K396: 0 | L396: 1 | M396: 0 | N396: 0 | O396: 特权商城 | Q396: 31 | R396: 6888
B397: 20101 | C397: 全民福利礼包 | D397: 10 | E397: 1 | F397: 100 | G397: 1#301 | H397: 4#20 | I397: 1 | J397: 16|0#0#0#20 | K397: 0 | L397: 1 | M397: 1 | N397: 0 | O397: 七日狂欢商店
...

Sheet Sheet1
V1: ReadingName | W1: Id
V2: string | W2: int
G3: id | H3: 姓名 | I3: 系数 | L3: 碎片id | V3: 3 | W3: 2
F4: 11034 | G4: 10034 | H4: 伏冥 | I4: 6 | K4: 10034 | L4: =K4+1000 -> 11034 | M4: 40 | O4: =[2]!SUMSTRING(L4:M4,"#") -> #NAME? | Q4: =H4&"碎片" -> 伏冥碎片 | V4: 角色名（辨识用） | W4: 角色ID
F5: 11035 | G5: 10035 | H5: 司空染 | I5: 6 | K5: 10035 | L5: =K5+1000 -> 11035 | M5: 40 | O5: =[2]!SUMSTRING(L5:M5,"#") -> #NAME? | Q5: =H5&"碎片" -> 司空染碎片 | W5: 0
F6: 11044 | G6: 10044 | H6: 姜燧 | I6: 6 | K6: 10044 | L6: =K6+1000 -> 11044 | M6: 40 | O6: =[2]!SUMSTRING(L6:M6,"#") -> #NAME? | Q6: =H6&"碎片" -> 姜燧碎片
F7: 11026 | G7: 10026 | H7: 孙晴 | I7: 5 | K7: 10026 | L7: =K7+1000 -> 11026 | M7: 40 | O7: =[2]!SUMSTRING(L7:M7,"#") -> #NAME? | Q7: =H7&"碎片" -> 孙晴碎片
F8: 11027 | G8: 10027 | H8: 宁月 | I8: 5 | K8: 10027 | L8: =K8+1000 -> 11027 | M8: 40 | O8: =[2]!SUMSTRING(L8:M8,"#") -> #NAME? | Q8: =H8&"碎片" -> 宁月碎片 | V8: 石御霏 | W8: 10001
F9: 11028 | G9: 10028 | H9: 紫川 | I9: 5 | K9: 10028 | L9: =K9+1000 -> 11028 | M9: 40 | O9: =[2]!SUMSTRING(L9:M9,"#") -> #NAME? | Q9: =H9&"碎片" -> 紫川碎片 | V9: 楚恒 | W9: 10002
F10: 11046 | G10: 10046 | H10: 林越 | I10: 5 | K10: 10046 | L10: =K10+1000 -> 11046 | M10: 40 | O10: =[2]!SUMSTRING(L10:M10,"#") -> #NAME? | Q10: =H10&"碎片" -> 林越碎片 | V10: 夏侯鸿天 | W10: 10003
F11: 11029 | G11: 10029 | H11: 晏息 | I11: 4 | K11: 10029 | L11: =K11+1000 -> 11029 | M11: 40 | O11: =[2]!SUMSTRING(L11:M11,"#") -> #NAME? | Q11: =H11&"碎片" -> 晏息碎片 | V11: 应茹 | W11: 10004
F12: 11031 | G12: 10031 | H12: 贾裴武 | I12: 4 | K12: 10031 | L12: =K12+1000 -> 11031 | M12: 40 | O12: =[2]!SUMSTRING(L12:M12,"#") -> #NAME? | Q12: =H12&"碎片" -> 贾裴武碎片 | V12: 端木葵 | W12: 10005
F13: 11032 | G13: 10032 | H13: 雷燕 | I13: 4 | K13: 10032 | L13: =K13+1000 -> 11032 | M13: 40 | O13: =[2]!SUMSTRING(L13:M13,"#") -> #NAME? | Q13: =H13&"碎片" -> 雷燕碎片 | V13: 兰卿 | W13: 10006
F14: 11033 | G14: 10033 | H14: 辛夷 | I14: 4 | K14: 10033 | L14: =K14+1000 -> 11033 | M14: 40 | O14: =[2]!SUMSTRING(L14:M14,"#") -> #NAME? | Q14: =H14&"碎片" -> 辛夷碎片 | V14: 靖之 | W14: 10007
F15: 11036 | G15: 10036 | H15: 解幽 | I15: 3 | K15: 10036 | L15: =K15+1000 -> 11036 | M15: 40 | O15: =[2]!SUMSTRING(L15:M15,"#") -> #NAME? | Q15: =H15&"碎片" -> 解幽碎片 | V15: 白梦凡 | W15: 10008
F16: 11037 | G16: 10037 | H16: 薛苓 | I16: 3 | K16: 10037 | L16: =K16+1000 -> 11037 | M16: 40 | O16: =[2]!SUMSTRING(L16:M16,"#") -> #NAME? | Q16: =H16&"碎片" -> 薛苓碎片 | V16: 祁菲 | W16: 10009
F17: 11039 | G17: 10039 | H17: 呼延腾 | I17: 3 | K17: 10039 | L17: =K17+1000 -> 11039 | M17: 40 | O17: =[2]!SUMSTRING(L17:M17,"#") -> #NAME? | Q17: =H17&"碎片" -> 呼延腾碎片 | V17: 颜祈佳 | W17: 10010
F18: 11043 | G18: 10043 | H18: 乌廉 | I18: 3 | K18: 10043 | L18: =K18+1000 -> 11043 | M18: 40 | O18: =[2]!SUMSTRING(L18:M18,"#") -> #NAME? | Q18: =H18&"碎片" -> 乌廉碎片 | V18: 岳寅 | W18: 10011
F19: 11024 | G19: 10024 | H19: 许槿然 | I19: 2 | K19: 10024 | L19: =K19+1000 -> 11024 | M19: 40 | O19: =[2]!SUMSTRING(L19:M19,"#") -> #NAME? | Q19: =H19&"碎片" -> 许槿然碎片 | V19: 慕容子期 | W19: 10012
... F26: 11041 | G26: 10041 | H26: 孟灿 | I26: 1 | K26: 10041 | L26: =K26+1000 -> 11041 | M26: 40 | O26: =[2]!SUMSTRING(L26:M26,"#") -> #NAME? | Q26: =H26&"碎片" -> 孟灿碎片 | V26: 孔谦 | W26: 10019
V27: 颜无雍 | W27: 10020
G28: =VLOOKUP(H28,$V:$W,2,0) -> 10005 | H28: 端木葵 | I28: 7 | K28: =G28+1000 -> 11005 | L28: 50 | O28: =[2]!SUMSTRING(K28:L28,"#") -> #NAME? | Q28: =H28&"碎片" -> 端木葵碎片 | V28: 岑以璇 | W28: 10021
G29: =VLOOKUP(H29,$V:$W,2,0) -> 10006 | H29: 兰卿 | I29: 7 | K29: =G29+1000 -> 11006 | L29: 50 | O29: =[2]!SUMSTRING(K29:L29,"#") -> #NAME? | Q29: =H29&"碎片" -> 兰卿碎片 | V29: 颜无诡 | W29: 10022
G30: =VLOOKUP(H30,$V:$W,2,0) -> 10007 | H30: 靖之 | I30: 7 | K30: =G30+1000 -> 11007 | L30: 50 | O30: =[2]!SUMSTRING(K30:L30,"#") -> #NAME? | Q30: =H30&"碎片" -> 靖之碎片 | V30: 荧荧 | W30: 10023
G31: =VLOOKUP(H31,$V:$W,2,0) -> 10010 | H31: 颜祈佳 | I31: 7 | K31: =G31+1000 -> 11010 | L31: 50 | O31: =[2]!SUMSTRING(K31:L31,"#") -> #NAME? | Q31: =H31&"碎片" -> 颜祈佳碎片 | V31: 许槿然 | W31: 10024
G32: =VLOOKUP(H32,$V:$W,2,0) -> 10011 | H32: 岳寅 | I32: =I28+1 -> 8 | K32: =G32+1000 -> 11011 | L32: 50 | O32: =[2]!SUMSTRING(K32:L32,"#") -> #NAME? | Q32: =H32&"碎片" -> 岳寅碎片 | V32: 唐萱 | W32: 10025
G33: =VLOOKUP(H33,$V:$W,2,0) -> 10013 | H33: 云灵 | I33: =I29+1 -> 8 | K33: =G33+1000 -> 11013 | L33: 50 | O33: =[2]!SUMSTRING(K33:L33,"#") -> #NAME? | Q33: =H33&"碎片" -> 云灵碎片 | V33: 孙晴 | W33: 10026
G34: =VLOOKUP(H34,$V:$W,2,0) -> 10016 | H34: 岑以航 | I34: =I30+1 -> 8 | K34: =G34+1000 -> 11016 | L34: 50 | O34: =[2]!SUMSTRING(K34:L34,"#") -> #NAME? | Q34: =H34&"碎片" -> 岑以航碎片 | V34: 宁月 | W34: 10027
G35: =VLOOKUP(H35,$V:$W,2,0) -> 10020 | H35: 颜无雍 | I35: =I31+1 -> 8 | K35: =G35+1000 -> 11020 | L35: 50 | O35: =[2]!SUMSTRING(K35:L35,"#") -> #NAME? | Q35: =H35&"碎片" -> 颜无雍碎片 | V35: 紫川 | W35: 10028
G36: =VLOOKUP(H36,$V:$W,2,0) -> 10021 | H36: 岑以璇 | I36: =I32+1 -> 9 | K36: =G36+1000 -> 11021 | L36: 50 | O36: =[2]!SUMSTRING(K36:L36,"#") -> #NAME? | Q36: =H36&"碎片" -> 岑以璇碎片 | V36: 晏息 | W36: 10029
G37: =VLOOKUP(H37,$V:$W,2,0) -> 10022 | H37: 颜无诡 | I37: =I33+1 -> 9 | K37: =G37+1000 -> 11022 | L37: 50 | O37: =[2]!SUMSTRING(K37:L37,"#") -> #NAME? | Q37: =H37&"碎片" -> 颜无诡碎片 | V37: 瑶瑶 | W37: 10030
G38: =VLOOKUP(H38,$V:$W,2,0) -> 10002 | H38: 楚恒 | I38: =I34+1 -> 9 | K38: =G38+1000 -> 11002 | L38: 50 | O38: =[2]!SUMSTRING(K38:L38,"#") -> #NAME? | Q38: =H38&"碎片" -> 楚恒碎片 | V38: 贾裴武 | W38: 10031
G39: =VLOOKUP(H39,$V:$W,2,0) -> 10003 | H39: 夏侯鸿天 | I39: =I35+1 -> 9 | K39: =G39+1000 -> 11003 | L39: 50 | O39: =[2]!SUMSTRING(K39:L39,"#") -> #NAME? | Q39: =H39&"碎片" -> 夏侯鸿天碎片 | V39: 雷燕 | W39: 10032
V40: 辛夷 | W40: 10033
V41: 伏冥 | W41: 10034
V42: 司空染 | W42: 10035
V43: 解幽 | W43: 10036
V44: 薛苓 | W44: 10037
V45: 常申 | W45: 10038
C46: 11047 | D46: 30 | E46: =VLOOKUP(C46,[3]ItemConfig!$B:$C,2,0) -> 大火妖碎片 | V46: 呼延腾 | W46: 10039
C47: 11048 | D47: 30 | E47: =VLOOKUP(C47,[3]ItemConfig!$B:$C,2,0) -> 雪女碎片 | V47: 冉宜 | W47: 10040
C48: 11049 | D48: 30 | E48: =VLOOKUP(C48,[3]ItemConfig!$B:$C,2,0) -> 娜迦王碎片 | V48: 孟灿 | W48: 10041
C49: 11050 | D49: 30 | E49: =VLOOKUP(C49,[3]ItemConfig!$B:$C,2,0) -> 摩呼碎片 | V49: 叶辽 | W49: 10042
C50: 11051 | D50: 30 | E50: =VLOOKUP(C50,[3]ItemConfig!$B:$C,2,0) -> 半仙碎片 | V50: 乌廉 | W50: 10043
C51: 11052 | D51: 30 | E51: =VLOOKUP(C51,[3]ItemConfig!$B:$C,2,0) -> 荷莲碎片 | V51: 姜燧 | W51: 10044
C52: 11047 | D52: 30 | E52: =VLOOKUP(C52,[3]ItemConfig!$B:$C,2,0) -> 大火妖碎片 | V52: 苏可 | W52: 10045
C53: 11048 | D53: 30 | E53: =VLOOKUP(C53,[3]ItemConfig!$B:$C,2,0) -> 雪女碎片 | V53: 林越 | W53: 10046
C54: 11049 | D54: 30 | E54: =VLOOKUP(C54,[3]ItemConfig!$B:$C,2,0) -> 娜迦王碎片 | V54: 赤肥肥 | W54: 10047
C55: 11050 | D55: 30 | E55: =VLOOKUP(C55,[3]ItemConfig!$B:$C,2,0) -> 摩呼碎片 | V55: 银肥肥 | W55: 10048
C56: 11051 | D56: 30 | E56: =VLOOKUP(C56,[3]ItemConfig!$B:$C,2,0) -> 半仙碎片 | V56: 苍肥肥 | W56: 10049
C57: 11052 | D57: 30 | E57: =VLOOKUP(C57,[3]ItemConfig!$B:$C,2,0) -> 荷莲碎片 | V57: 金肥肥 | W57: 10050
... C59: 11025 | D59: 40 | E59: =VLOOKUP(C59,[3]ItemConfig!$B:$C,2,0) -> 道德天尊碎片 | V59: 阴魔 | W59: 10052
C60: 11026 | D60: 40 | E60: =VLOOKUP(C60,[3]ItemConfig!$B:$C,2,0) -> 东华帝君碎片
C61: 11027 | D61: 40 | E61: =VLOOKUP(C61,[3]ItemConfig!$B:$C,2,0) -> 孟婆碎片
C62: 11028 | D62: 40 | E62: =VLOOKUP(C62,[3]ItemConfig!$B:$C,2,0) -> 石矶娘娘碎片
C63: 11029 | D63: 40 | E63: =VLOOKUP(C63,[3]ItemConfig!$B:$C,2,0) -> 月光菩萨碎片
C64: 11030 | D64: 40 | E64: =VLOOKUP(C64,[3]ItemConfig!$B:$C,2,0) -> 梵天碎片
C65: 11031 | D65: 40 | E65: =VLOOKUP(C65,[3]ItemConfig!$B:$C,2,0) -> 红孩儿碎片
C66: 11032 | D66: 40 | E66: =VLOOKUP(C66,[3]ItemConfig!$B:$C,2,0) -> 吴刚碎片
C67: 11033 | D67: 40 | E67: =VLOOKUP(C67,[3]ItemConfig!$B:$C,2,0) -> 净光天女碎片
C68: 11034 | D68: 40 | E68: =VLOOKUP(C68,[3]ItemConfig!$B:$C,2,0) -> 帝释天碎片
C69: 11035 | D69: 40 | E69: =VLOOKUP(C69,[3]ItemConfig!$B:$C,2,0) -> 妈祖碎片
C70: 11036 | D70: 40 | E70: =VLOOKUP(C70,[3]ItemConfig!$B:$C,2,0) -> 赵公明碎片
C71: 11037 | D71: 40 | E71: =VLOOKUP(C71,[3]ItemConfig!$B:$C,2,0) -> 罗刹碎片
... C145: 19 | D145: 10 | E145: =VLOOKUP(C145,[3]ItemConfig!$B:$C,2,0) -> 点将神符

Sheet Sheet2
D2: 8019 | E2: 1 | H2: =[2]!SUMSTRING(D2:E2,"#") -> #NAME? | J2: 3023 | K2: =J2&"#"&E2 -> 3023#1 | L2: =VLOOKUP(J2,[3]ItemConfig!$B:$C,2,FALSE) -> #N/A
D3: 8020 | E3: 1 | H3: =[2]!SUMSTRING(D3:E3,"#") -> #NAME? | J3: 3024 | K3: =J3&"#"&E3 -> 3024#1 | L3: =VLOOKUP(J3,[3]ItemConfig!$B:$C,2,FALSE) -> #N/A
D4: 8021 | E4: 1 | H4: =[2]!SUMSTRING(D4:E4,"#") -> #NAME? | J4: 3025 | K4: =J4&"#"&E4 -> 3025#1 | L4: =VLOOKUP(J4,[3]ItemConfig!$B:$C,2,FALSE) -> #N/A
D5: 8022 | E5: 1 | H5: =[2]!SUMSTRING(D5:E5,"#") -> #NAME? | J5: 3026 | K5: =J5&"#"&E5 -> 3026#1 | L5: =VLOOKUP(J5,[3]ItemConfig!$B:$C,2,FALSE) -> #N/A
D6: 8023 | E6: 1 | H6: =[2]!SUMSTRING(D6:E6,"#") -> #NAME? | J6: 3027 | K6: =J6&"#"&E6 -> 3027#1 | L6: =VLOOKUP(J6,[3]ItemConfig!$B:$C,2,FALSE) -> #N/A
D7: 8024 | E7: 1 | H7: =[2]!SUMSTRING(D7:E7,"#") -> #NAME? | J7: 3028 | K7: =J7&"#"&E7 -> 3028#1 | L7: =VLOOKUP(J7,[3]ItemConfig!$B:$C,2,FALSE) -> #N/A
D8: 8031 | E8: 1 | H8: =[2]!SUMSTRING(D8:E8,"#") -> #NAME? | J8: 3029 | K8: =J8&"#"&E8 -> 3029#1 | L8: =VLOOKUP(J8,[3]ItemConfig!$B:$C,2,FALSE) -> #N/A
D9: 8032 | E9: 1 | H9: =[2]!SUMSTRING(D9:E9,"#") -> #NAME? | J9: 3030 | K9: =J9&"#"&E9 -> 3030#1 | L9: =VLOOKUP(J9,[3]ItemConfig!$B:$C,2,FALSE) -> #N/A
D10: 8033 | E10: 1 | H10: =[2]!SUMSTRING(D10:E10,"#") -> #NAME? | J10: 3031 | K10: =J10&"#"&E10 -> 3031#1 | L10: =VLOOKUP(J10,[3]ItemConfig!$B:$C,2,FALSE) -> #N/A
D11: 8034 | E11: 1 | H11: =[2]!SUMSTRING(D11:E11,"#") -> #NAME? | J11: 3032 | K11: =J11&"#"&E11 -> 3032#1 | L11: =VLOOKUP(J11,[3]ItemConfig!$B:$C,2,FALSE) -> #N/A
D12: 8035 | E12: 1 | H12: =[2]!SUMSTRING(D12:E12,"#") -> #NAME? | J12: 3033 | K12: =J12&"#"&E12 -> 3033#1 | L12: =VLOOKUP(J12,[3]ItemConfig!$B:$C,2,FALSE) -> #N/A
D13: 8036 | E13: 1 | H13: =[2]!SUMSTRING(D13:E13,"#") -> #NAME? | J13: 3034 | K13: =J13&"#"&E13 -> 3034#1 | L13: =VLOOKUP(J13,[3]ItemConfig!$B:$C,2,FALSE) -> #N/A
... D21: 8044 | E21: 1 | H21: =[2]!SUMSTRING(D21:E21,"#") -> #NAME? | J21: 55252 | K21: =J21&"#"&E21 -> 55252#1 | L21: =VLOOKUP(J21,[3]ItemConfig!$B:$C,2,FALSE) -> #N/A
D22: 8045 | E22: 1 | H22: =[2]!SUMSTRING(D22:E22,"#") -> #NAME? | J22: 55181 | K22: =J22&"#"&E22 -> 55181#1 | L22: =VLOOKUP(J22,[3]ItemConfig!$B:$C,2,FALSE) -> #N/A | N22: =SUM(N23:N25) -> 200
D23: 8046 | E23: 1 | H23: =[2]!SUMSTRING(D23:E23,"#") -> #NAME? | J23: 55182 | K23: =J23&"#"&E23 -> 55182#1 | L23: =VLOOKUP(J23,[3]ItemConfig!$B:$C,2,FALSE) -> #N/A | N23: 95 | O23: =N23/$N$22 -> 0.475
D24: 8047 | E24: 1 | H24: =[2]!SUMSTRING(D24:E24,"#") -> #NAME? | J24: 55199 | K24: =J24&"#"&E24 -> 55199#1 | L24: =VLOOKUP(J24,[3]ItemConfig!$B:$C,2,FALSE) -> #N/A | N24: 95 | O24: =N24/$N$22 -> 0.475 | Q24: 4 | R24: =Q24*5 -> 20
D25: 8048 | E25: 1 | H25: =[2]!SUMSTRING(D25:E25,"#") -> #NAME? | J25: 55200 | K25: =J25&"#"&E25 -> 55200#1 | L25: =VLOOKUP(J25,[3]ItemConfig!$B:$C,2,FALSE) -> #N/A | N25: 10 | O25: =N25/$N$22 -> 0.05 | P25: =6*O25 -> 0.3 | Q25: =P25*Q24 -> 1.2
E26: 1 | J26: 55217 | K26: =J26&"#"&E26 -> 55217#1 | L26: =VLOOKUP(J26,[3]ItemConfig!$B:$C,2,FALSE) -> #N/A | P26: =O25*Q26 -> 1 | Q26: 20
E27: 1 | J27: 55218 | K27: =J27&"#"&E27 -> 55218#1 | L27: =VLOOKUP(J27,[3]ItemConfig!$B:$C,2,FALSE) -> #N/A
E28: 1 | J28: 55235 | K28: =J28&"#"&E28 -> 55235#1 | L28: =VLOOKUP(J28,[3]ItemConfig!$B:$C,2,FALSE) -> #N/A | O28: =0.33*6 -> 1.98 | P28: =O28*2.5 -> 4.95
E29: 1 | J29: 55236 | K29: =J29&"#"&E29 -> 55236#1 | L29: =VLOOKUP(J29,[3]ItemConfig!$B:$C,2,FALSE) -> #N/A
E30: 1 | J30: 55253 | K30: =J30&"#"&E30 -> 55253#1 | L30: =VLOOKUP(J30,[3]ItemConfig!$B:$C,2,FALSE) -> #N/A | O30: =O25*24 -> 1.2
E31: 1 | J31: 55254 | K31: =J31&"#"&E31 -> 55254#1 | L31: =VLOOKUP(J31,[3]ItemConfig!$B:$C,2,FALSE) -> #N/A
E32: 1 | J32: 55183 | K32: =J32&"#"&E32 -> 55183#1 | L32: =VLOOKUP(J32,[3]ItemConfig!$B:$C,2,FALSE) -> #N/A
E33: 1 | J33: 55201 | K33: =J33&"#"&E33 -> 55201#1 | L33: =VLOOKUP(J33,[3]ItemConfig!$B:$C,2,FALSE) -> #N/A
E34: 1 | J34: 55219 | K34: =J34&"#"&E34 -> 55219#1 | L34: =VLOOKUP(J34,[3]ItemConfig!$B:$C,2,FALSE) -> #N/A
E35: 1 | J35: 55237 | K35: =J35&"#"&E35 -> 55237#1 | L35: =VLOOKUP(J35,[3]ItemConfig!$B:$C,2,FALSE) -> #N/A
E36: 1 | J36: 55255 | K36: =J36&"#"&E36 -> 55255#1 | L36: =VLOOKUP(J36,[3]ItemConfig!$B:$C,2,FALSE) -> #N/A
E37: 1 | J37: 55184 | K37: =J37&"#"&E37 -> 55184#1 | L37: =VLOOKUP(J37,[3]ItemConfig!$B:$C,2,FALSE) -> #N/A
E38: 1 | J38: 55185 | K38: =J38&"#"&E38 -> 55185#1 | L38: =VLOOKUP(J38,[3]ItemConfig!$B:$C,2,FALSE) -> #N/A
E39: 1 | J39: 55202 | K39: =J39&"#"&E39 -> 55202#1 | L39: =VLOOKUP(J39,[3]ItemConfig!$B:$C,2,FALSE) -> #N/A
E40: 1 | J40: 55203 | K40: =J40&"#"&E40 -> 55203#1 | L40: =VLOOKUP(J40,[3]ItemConfig!$B:$C,2,FALSE) -> #N/A
E41: 1 | J41: 55220 | K41: =J41&"#"&E41 -> 55220#1 | L41: =VLOOKUP(J41,[3]ItemConfig!$B:$C,2,FALSE) -> #N/A
E42: 1 | J42: 55221 | K42: =J42&"#"&E42 -> 55221#1 | L42: =VLOOKUP(J42,[3]ItemConfig!$B:$C,2,FALSE) -> #N/A
... E66: 1 | J66: 55264 | K66: =J66&"#"&E66 -> 55264#1 | L66: =VLOOKUP(J66,[3]ItemConfig!$B:$C,2,FALSE) -> #N/A

Sheet 竞技场商店
C2: id | D2: 数量 | E2: 消耗
B3: 高级招募券 | C3: 19 | D3: 10
B4: 妖魂魔戒 | C4: 21 | D4: 10
B5: 五星万能碎片（4系） | D5: 50 | E5: 1000
B6: 橙色符文1 | C6: 8019 | D6: 1 | F6: =_xlfn.TEXTJOIN("#",TRUE,C6:D6) -> 8019#1
B7: 橙色符文2 | C7: 8020 | D7: =D6 -> 1 | F7: =_xlfn.TEXTJOIN("#",TRUE,C7:D7) -> 8020#1
B8: 橙色符文3 | C8: 8021 | D8: =D7 -> 1 | F8: =_xlfn.TEXTJOIN("#",TRUE,C8:D8) -> 8021#1
C9: 8022 | D9: =D8 -> 1 | F9: =_xlfn.TEXTJOIN("#",TRUE,C9:D9) -> 8022#1
C10: 8023 | D10: =D9 -> 1 | F10: =_xlfn.TEXTJOIN("#",TRUE,C10:D10) -> 8023#1
C11: 8024 | D11: =D10 -> 1 | F11: =_xlfn.TEXTJOIN("#",TRUE,C11:D11) -> 8024#1

Sheet 商店
Q1: Id | R1: Name | S1: Id
Q2: int | R2: string | S2: int
Q3: 2 | R3: 2 | S3: 2
E4: 试炼商店 | Q4: 道具id | R4: 道具名 | S4: 道具id
E5: 5星随机碎片 | F5: 50 | G5: 3000 | I5: =VLOOKUP(E5,$R:$S,2,FALSE) -> 12013 | J5: =I5&"#"&F5 -> 12013#50 | K5: 16|0#0#0# | L5: =K5&G5 -> 16|0#0#0#3000 | Q5: 0 | R5: ="" | S5: 0
E6: 梦魇妖壶 | F6: 1000 | G6: 1000 | I6: =VLOOKUP(E6,$R:$S,2,FALSE) -> 4 | J6: =I6&"#"&F6 -> 4#1000 | K6: 16|0#0#0# | L6: =K6&G6 -> 16|0#0#0#1000
E7: 成长护符 | F7: 300000 | G7: 750 | I7: =VLOOKUP(E7,$R:$S,2,FALSE) -> 3 | J7: =I7&"#"&F7 -> 3#300000 | K7: 16|0#0#0# | L7: =K7&G7 -> 16|0#0#0#750
E8: 挑战券 | F8: 10 | G8: 100 | I8: =VLOOKUP(E8,$R:$S,2,FALSE) -> 23 | J8: =I8&"#"&F8 -> 23#10 | K8: 16|0#0#0# | L8: =K8&G8 -> 16|0#0#0#100 | Q8: 1 | R8: 行动力 | S8: 1
E9: 聚灵神戒 | F9: 10 | G9: 2100 | I9: =VLOOKUP(E9,$R:$S,2,FALSE) -> 19 | J9: =I9&"#"&F9 -> 19#10 | K9: 16|0#0#0# | L9: =K9&G9 -> 16|0#0#0#2100 | Q9: 2 | R9: 体力 | S9: 2
E10: 妖魂魔戒 | F10: 5 | G10: 900 | I10: =VLOOKUP(E10,$R:$S,2,FALSE) -> 21 | J10: =I10&"#"&F10 -> 21#5 | K10: 16|0#0#0# | L10: =K10&G10 -> 16|0#0#0#900 | Q10: 3 | R10: 成长护符 | S10: 3
E11: 元素神戒 | F11: 1 | G11: 500 | I11: =VLOOKUP(E11,$R:$S,2,FALSE) -> 20 | J11: =I11&"#"&F11 -> 20#1 | K11: 16|0#0#0# | L11: =K11&G11 -> 16|0#0#0#500 | Q11: 4 | R11: 梦魇妖壶 | S11: 4
D12: 6001 | E12: 魔铃 | F12: 1 | G12: 600 | I12: =D12 -> 6001 | J12: =I12&"#"&F12 -> 6001#1 | K12: 16|0#0#0# | L12: =K12&G12 -> 16|0#0#0#600 | Q12: 5 | R12: 灵丹 | S12: 5
D13: 6002 | E13: 牛魔 | F13: 1 | G13: 600 | I13: =D13 -> 6002 | J13: =I13&"#"&F13 -> 6002#1 | K13: 16|0#0#0# | L13: =K13&G13 -> 16|0#0#0#600 | Q13: 6 | R13: 归元髓液 | S13: 6
D14: 6003 | E14: 破狼刃 | F14: 1 | G14: 600 | I14: =D14 -> 6003 | J14: =I14&"#"&F14 -> 6003#1 | K14: 16|0#0#0# | L14: =K14&G14 -> 16|0#0#0#600 | Q14: 14 | R14: 金币 | S14: 14
D15: 6004 | E15: 叶青 | F15: 1 | G15: 600 | I15: =D15 -> 6004 | J15: =I15&"#"&F15 -> 6004#1 | K15: 16|0#0#0# | L15: =K15&G15 -> 16|0#0#0#600 | Q15: 15 | R15: 魂晶 | S15: 15
D16: 6005 | E16: 饕餮 | F16: 1 | G16: 600 | I16: =D16 -> 6005 | J16: =I16&"#"&F16 -> 6005#1 | K16: 16|0#0#0# | L16: =K16&G16 -> 16|0#0#0#600 | Q16: 16 | R16: 妖晶 | S16: 16
D17: 6006 | E17: 嗜魂虎 | F17: 1 | G17: 600 | I17: =D17 -> 6006 | J17: =I17&"#"&F17 -> 6006#1 | K17: 16|0#0#0# | L17: =K17&G17 -> 16|0#0#0#600 | Q17: 17 | R17: 经验(玩家) | S17: 17
D18: 6007 | E18: 散财 | F18: 1 | G18: 600 | I18: =D18 -> 6007 | J18: =I18&"#"&F18 -> 6007#1 | K18: 16|0#0#0# | L18: =K18&G18 -> 16|0#0#0#600 | Q18: 18 | R18: vip经验 | S18: 18
D19: 6008 | E19: 狐云 | F19: 1 | G19: 600 | I19: =D19 -> 6008 | J19: =I19&"#"&F19 -> 6008#1 | K19: 16|0#0#0# | L19: =K19&G19 -> 16|0#0#0#600 | Q19: 19 | R19: 聚灵神戒 | S19: 19
D20: 6009 | E20: 鳞波甲 | F20: 1 | G20: 600 | I20: =D20 -> 6009 | J20: =I20&"#"&F20 -> 6009#1 | K20: 16|0#0#0# | L20: =K20&G20 -> 16|0#0#0#600 | Q20: 20 | R20: 元素神戒 | S20: 20
D21: 6013 | E21: 不尽木 | F21: 1 | G21: 2000 | I21: =D21 -> 6013 | J21: =I21&"#"&F21 -> 6013#1 | K21: 16|0#0#0# | L21: =K21&G21 -> 16|0#0#0#2000 | Q21: 21 | R21: 妖魂魔戒 | S21: 21
D22: 6014 | E22: 灼炎 | F22: 1 | G22: 2000 | I22: =D22 -> 6014 | J22: =I22&"#"&F22 -> 6014#1 | K22: 16|0#0#0# | L22: =K22&G22 -> 16|0#0#0#2000 | Q22: 22 | R22: 妖灵玉 | S22: 22
D23: 6015 | E23: 火浣纹 | F23: 1 | G23: 2000 | I23: =D23 -> 6015 | J23: =I23&"#"&F23 -> 6015#1 | K23: 16|0#0#0# | L23: =K23&G23 -> 16|0#0#0#2000 | Q23: 23 | R23: 挑战券 | S23: 23
... D40: 6032 | E40: 伤药葫芦 | F40: 1 | G40: 2000 | I40: =D40 -> 6032 | J40: =I40&"#"&F40 -> 6032#1 | K40: 16|0#0#0# | L40: =K40&G40 -> 16|0#0#0#2000 | Q40: 40 | R40: 风狸妖魂箱 | S40: 40
Q41: 41 | R41: 天麟妖魂箱 | S41: 41
Q42: 42 | R42: 神秘妖魂宝箱 | S42: 42
Q43: 43 | R43: 次元炸弹 | S43: 43
Q44: 44 | R44: 外敌挑战券 | S44: 44
Q45: 45 | R45: 试炼币 | S45: 45
D46: 杂货店 | Q46: 46 | R46: 光辉灵戒 | S46: 46
E47: 归元髓液 | Q47: 47 | R47: 时光沙漏 | S47: 47
E48: 聚灵神戒 | Q48: 48 | R48: 蒸笼仔妖魂箱 | S48: 48
E49: 元素神戒 | Q49: 49 | R49: 拘魂姬妖魂箱 | S49: 49
E50: 成长护符 | Q50: 50 | R50: 天麟妖魂箱 | S50: 50
E51: 梦魇妖壶 | Q51: 51 | R51: 火鼠妖魂箱 | S51: 51
E52: 成长护符 | Q52: 52 | R52: 风狸妖魂箱 | S52: 52
E53: 梦魇妖壶 | Q53: 1001 | R53: 铁矿石 | S53: 1001
E54: 3星角色碎片 | Q54: 1002 | R54: 金矿石（未使用） | S54: 1002
E55: 3星角色碎片 | Q55: 1003 | R55: 灵石（未使用） | S55: 1003
E56: 4星角色碎片 | Q56: 1004 | R56: 赤血石（未使用） | S56: 1004
E57: 4星角色碎片 | Q57: 1005 | R57: 皮革（未使用） | S57: 1005
Q58: 1006 | R58: 月影水晶（未使用） | S58: 1006
Q59: 1007 | R59: 铁锭 | S59: 1007
Q60: 1008 | R60: 秘钢锭 | S60: 1008
Q61: 1009 | R61: 玄金锭 | S61: 1009
Q62: 1010 | R62: 小型铁矿堆（未使用） | S62: 1010
Q63: 1011 | R63: 中型铁矿堆（未使用） | S63: 1011
Q64: 1012 | R64: 大型铁矿堆（未使用） | S64: 1012
Q65: 1013 | R65: 超大型铁矿堆（未使用） | S65: 1013
Q66: 1014 | R66: 小型灵石堆（未使用） | S66: 1014
Q67: 1015 | R67: 中型灵石堆（未使用） | S67: 1015
Q68: 1016 | R68: 大型灵石堆（未使用） | S68: 1016
Q69: 1017 | R69: 超大型灵石堆（未使用） | S69: 1017
... Q494: 13046 | R494: 林越 | S494: 13046
Q495: =Q472+1000 -> 14024 | R495: =R472&"5星碎片" -> 许槿然5星碎片 | S495: =S472+1000 -> 14024
Q496: =Q473+1000 -> 14025 | R496: =R473&"5星碎片" -> 炎琪儿5星碎片 | S496: =S473+1000 -> 14025
Q497: =Q474+1000 -> 14026 | R497: =R474&"5星碎片" -> 楚恒5星碎片 | S497: =S474+1000 -> 14026
Q498: =Q475+1000 -> 14027 | R498: =R475&"5星碎片" -> 柳月5星碎片 | S498: =S475+1000 -> 14027
Q499: =Q476+1000 -> 14028 | R499: =R476&"5星碎片" -> 岑以航5星碎片 | S499: =S476+1000 -> 14028
Q500: =Q477+1000 -> 14029 | R500: =R477&"5星碎片" -> 姜燧5星碎片 | S500: =S477+1000 -> 14029
Q501: =Q478+1000 -> 14030 | R501: =R478&"5星碎片" -> 晏息5星碎片 | S501: =S478+1000 -> 14030
Q502: =Q479+1000 -> 14031 | R502: =R479&"5星碎片" -> 冉宜5星碎片 | S502: =S479+1000 -> 14031
Q503: =Q480+1000 -> 14032 | R503: =R480&"5星碎片" -> 孙晴5星碎片 | S503: =S480+1000 -> 14032
Q504: =Q481+1000 -> 14033 | R504: =R481&"5星碎片" -> 艾欣5星碎片 | S504: =S481+1000 -> 14033
Q505: =Q482+1000 -> 14034 | R505: =R482&"5星碎片" -> 影蓟5星碎片 | S505: =S482+1000 -> 14034
Q506: =Q483+1000 -> 14035 | R506: =R483&"5星碎片" -> 辛夷5星碎片 | S506: =S483+1000 -> 14035
... Q517: =Q494+1000 -> 14046 | R517: =R494&"5星碎片" -> 林越5星碎片 | S517: =S494+1000 -> 14046
Q518: 400001 | R518: 测试随机角色宝箱 | S518: 400001
Q519: 64011 | R519: 戮魔短杖 | S519: 64011
Q520: 64013 | R520: 天武短杖 | S520: 64013
Q521: 64027 | R521: 戮魔之刺 | S521: 64027
Q522: 64028 | R522: 天武之刺 | S522: 64028
Q523: 64041 | R523: 戮魔战斧 | S523: 64041
Q524: 64042 | R524: 天武战斧 | S524: 64042
Q525: 64055 | R525: 戮魔之刃 | S525: 64055
Q526: 64056 | R526: 天武之刃 | S526: 64056
Q527: 64069 | R527: 戮魔法铃 | S527: 64069
Q528: 64070 | R528: 天武法铃 | S528: 64070
Q529: 64073 | R529: 修罗战甲 | S529: 64073
... Q1736: 81002 | R1736: 传说装备宝箱 | S1736: 81002

Sheet Sheet3
F4: 1 | G4: 10006 | H4: 10506 | I4: 风伯 | K4: =G4+1000 -> 11006 | M4: =K4&"#40" -> 11006#40 | N4: 碎片 | O4: =I4&N4 -> 风伯碎片
F5: 2 | G5: 10016 | H5: 10516 | I5: 李靖 | K5: =G5+1000 -> 11016 | M5: =K5&"#40" -> 11016#40 | N5: 碎片 | O5: =I5&N5 -> 李靖碎片
F6: 2 | G6: 10020 | H6: 10520 | I6: 女魃 | K6: =G6+1000 -> 11020 | M6: =K6&"#40" -> 11020#40 | N6: 碎片 | O6: =I6&N6 -> 女魃碎片
F7: 3 | G7: 10002 | H7: 10502 | I7: 雨师 | K7: =G7+1000 -> 11002 | M7: =K7&"#40" -> 11002#40 | N7: 碎片 | O7: =I7&N7 -> 雨师碎片
F8: 3 | G8: 10008 | H8: 10508 | I8: 摩昂太子 | K8: =G8+1000 -> 11008 | M8: =K8&"#40" -> 11008#40 | N8: 碎片 | O8: =I8&N8 -> 摩昂太子碎片
F9: 4 | G9: 10019 | H9: 10519 | I9: 织女 | K9: =G9+1000 -> 11019 | M9: =K9&"#40" -> 11019#40 | N9: 碎片 | O9: =I9&N9 -> 织女碎片
F10: 4 | G10: 10022 | H10: 10522 | I10: 邓婵玉 | K10: =G10+1000 -> 11022 | M10: =K10&"#40" -> 11022#40 | N10: 碎片 | O10: =I10&N10 -> 邓婵玉碎片
F11: 5 | G11: 10001 | H11: 10501 | I11: 吴刚 | K11: =G11+1000 -> 11001 | M11: =K11&"#40" -> 11001#40 | N11: 碎片 | O11: =I11&N11 -> 吴刚碎片
F12: 5 | G12: 10007 | H12: 10507 | I12: 姜子牙 | K12: =G12+1000 -> 11007 | M12: =K12&"#40" -> 11007#40 | N12: 碎片 | O12: =I12&N12 -> 姜子牙碎片
F13: 5 | G13: 10009 | H13: 10509 | I13: 夜叉 | K13: =G13+1000 -> 11009 | M13: =K13&"#40" -> 11009#40 | N13: 碎片 | O13: =I13&N13 -> 夜叉碎片
F14: 6 | G14: 10017 | H14: 10517 | I14: 黑无常 | K14: =G14+1000 -> 11017 | M14: =K14&"#40" -> 11017#40 | N14: 碎片 | O14: =I14&N14 -> 黑无常碎片
F15: 6 | G15: 10023 | H15: 10523 | I15: 敖丙 | K15: =G15+1000 -> 11023 | M15: =K15&"#40" -> 11023#40 | N15: 碎片 | O15: =I15&N15 -> 敖丙碎片
... F20: 8 | G20: 10021 | H20: 10521 | I20: 精卫 | K20: =G20+1000 -> 11021 | M20: =K20&"#40" -> 11021#40 | N20: 碎片 | O20: =I20&N20 -> 精卫碎片
F21: 9 | G21: 10010 | H21: 10510 | I21: 龙吉公主 | K21: =G21+1000 -> 11010 | M21: =K21&"#50" -> 11010#50 | N21: 碎片 | O21: =I21&N21 -> 龙吉公主碎片

Sheet 商店表查询
A2: 道具名称 | B2: 雷震子碎片 | C2: ="商品数量"&COUNTIF(StoreConfig!C:C,B2) -> 商品数量4 | D2: 商店名称 | E2: 栏位显示顺序 | F2: 价格 （ax^3+bx^2+cx+d) （abcd为配置参数，x为购买次数） | G2: 购买所需道具 | H2: 物品发放开启等级 | I2: 关闭等级 | J2: 限购次数 | L2: 商店 | N2: 消耗的货币
D3: =IF($B$2=StoreConfig!C8,StoreConfig!O8,"") -> 契魂商店 | E3: =IF($B$2=StoreConfig!C8,StoreConfig!E8,"") -> 1 | F3: =IF($B$2=StoreConfig!C8,RIGHT(StoreConfig!J8,LEN(StoreConfig!J8)-FIND("|",StoreConfig!J8)),"") -> 0#0#0#5000 | G3: =IFERROR(VLOOKUP(--IF($B$2=StoreConfig!C8,LEFT(StoreConfig!J8,FIND("|",StoreConfig!J8)-1),""),$Q$4:$R$20,2,FALSE),"") -> 仙缘余尘 | H3: =IF($B$2=StoreConfig!C8,LEFT(StoreConfig!G8,FIND("#",StoreConfig!G8)-1),"") -> 1 | I3: =IF($B$2=StoreConfig!C8,RIGHT(StoreConfig!G8,LEN(StoreConfig!G8)-FIND("#",StoreConfig!G8)),"") -> 200 | J3: =IF($B$2=StoreConfig!C8,IF(StoreConfig!L8=0,"不限购",StoreConfig!L8&"次"),"") -> 1次 | L3: 契魂商店 | M3: 26 | N3: =VLOOKUP(M3,Q:R,2,FALSE) -> 仙缘余尘
D4: =IF($B$2=StoreConfig!C9,StoreConfig!O9,"") | E4: =IF($B$2=StoreConfig!C9,StoreConfig!E9,"") | F4: =IF($B$2=StoreConfig!C9,RIGHT(StoreConfig!J9,LEN(StoreConfig!J9)-FIND("|",StoreConfig!J9)),"") | G4: =IFERROR(VLOOKUP(--IF($B$2=StoreConfig!C9,LEFT(StoreConfig!J9,FIND("|",StoreConfig!J9)-1),""),$Q$4:$R$20,2,FALSE),"") | H4: =IF($B$2=StoreConfig!C9,LEFT(StoreConfig!G9,FIND("#",StoreConfig!G9)-1),"") | I4: =IF($B$2=StoreConfig!C9,RIGHT(StoreConfig!G9,LEN(StoreConfig!G9)-FIND("#",StoreConfig!G9)),"") | J4: =IF($B$2=StoreConfig!C9,IF(StoreConfig!L9=0,"不限购",StoreConfig!L9&"次"),"") | L4: 云游商店 | M4: 25 | N4: =VLOOKUP(M4,Q:R,2,FALSE) -> 无此道具 | Q4: 道具id | R4: 物品名称
D5: =IF($B$2=StoreConfig!C10,StoreConfig!O10,"") | E5: =IF($B$2=StoreConfig!C10,StoreConfig!E10,"") | F5: =IF($B$2=StoreConfig!C10,RIGHT(StoreConfig!J10,LEN(StoreConfig!J10)-FIND("|",StoreConfig!J10)),"") | G5: =IFERROR(VLOOKUP(--IF($B$2=StoreConfig!C10,LEFT(StoreConfig!J10,FIND("|",StoreConfig!J10)-1),""),$Q$4:$R$20,2,FALSE),"") | H5: =IF($B$2=StoreConfig!C10,LEFT(StoreConfig!G10,FIND("#",StoreConfig!G10)-1),"") | I5: =IF($B$2=StoreConfig!C10,RIGHT(StoreConfig!G10,LEN(StoreConfig!G10)-FIND("#",StoreConfig!G10)),"") | J5: =IF($B$2=StoreConfig!C10,IF(StoreConfig!L10=0,"不限购",StoreConfig!L10&"次"),"") | L5: 魂晶商店 | M5: 24 | N5: =VLOOKUP(M5,Q:R,2,FALSE) -> 逐胜徽章 | Q5: 26 | R5: 仙缘余尘
D6: =IF($B$2=StoreConfig!C11,StoreConfig!O11,"") | E6: =IF($B$2=StoreConfig!C11,StoreConfig!E11,"") | F6: =IF($B$2=StoreConfig!C11,RIGHT(StoreConfig!J11,LEN(StoreConfig!J11)-FIND("|",StoreConfig!J11)),"") | G6: =IFERROR(VLOOKUP(--IF($B$2=StoreConfig!C11,LEFT(StoreConfig!J11,FIND("|",StoreConfig!J11)-1),""),$Q$4:$R$20,2,FALSE),"") | H6: =IF($B$2=StoreConfig!C11,LEFT(StoreConfig!G11,FIND("#",StoreConfig!G11)-1),"") | I6: =IF($B$2=StoreConfig!C11,RIGHT(StoreConfig!G11,LEN(StoreConfig!G11)-FIND("#",StoreConfig!G11)),"") | J6: =IF($B$2=StoreConfig!C11,IF(StoreConfig!L11=0,"不限购",StoreConfig!L11&"次"),"") | L6: 秘盒商店 | M6: 22 | N6: =VLOOKUP(M6,Q:R,2,FALSE) -> 妖灵玉 | Q6: 25 | R6: 无此道具
D7: =IF($B$2=StoreConfig!C12,StoreConfig!O12,"") | E7: =IF($B$2=StoreConfig!C12,StoreConfig!E12,"") | F7: =IF($B$2=StoreConfig!C12,RIGHT(StoreConfig!J12,LEN(StoreConfig!J12)-FIND("|",StoreConfig!J12)),"") | G7: =IFERROR(VLOOKUP(--IF($B$2=StoreConfig!C12,LEFT(StoreConfig!J12,FIND("|",StoreConfig!J12)-1),""),$Q$4:$R$20,2,FALSE),"") | H7: =IF($B$2=StoreConfig!C12,LEFT(StoreConfig!G12,FIND("#",StoreConfig!G12)-1),"") | I7: =IF($B$2=StoreConfig!C12,RIGHT(StoreConfig!G12,LEN(StoreConfig!G12)-FIND("#",StoreConfig!G12)),"") | J7: =IF($B$2=StoreConfig!C12,IF(StoreConfig!L12=0,"不限购",StoreConfig!L12&"次"),"") | L7: 功能商店 | M7: 16 | N7: =VLOOKUP(M7,Q:R,2,FALSE) -> 妖晶 | Q7: 24 | R7: 逐胜徽章
D8: =IF($B$2=StoreConfig!C13,StoreConfig!O13,"") | E8: =IF($B$2=StoreConfig!C13,StoreConfig!E13,"") | F8: =IF($B$2=StoreConfig!C13,RIGHT(StoreConfig!J13,LEN(StoreConfig!J13)-FIND("|",StoreConfig!J13)),"") | G8: =IFERROR(VLOOKUP(--IF($B$2=StoreConfig!C13,LEFT(StoreConfig!J13,FIND("|",StoreConfig!J13)-1),""),$Q$4:$R$20,2,FALSE),"") | H8: =IF($B$2=StoreConfig!C13,LEFT(StoreConfig!G13,FIND("#",StoreConfig!G13)-1),"") | I8: =IF($B$2=StoreConfig!C13,RIGHT(StoreConfig!G13,LEN(StoreConfig!G13)-FIND("#",StoreConfig!G13)),"") | J8: =IF($B$2=StoreConfig!C13,IF(StoreConfig!L13=0,"不限购",StoreConfig!L13&"次"),"") | L8: 点金功能商店 | M8: 16 | N8: =VLOOKUP(M8,Q:R,2,FALSE) -> 妖晶 | Q8: 22 | R8: 妖灵玉
D9: =IF($B$2=StoreConfig!C14,StoreConfig!O14,"") | E9: =IF($B$2=StoreConfig!C14,StoreConfig!E14,"") | F9: =IF($B$2=StoreConfig!C14,RIGHT(StoreConfig!J14,LEN(StoreConfig!J14)-FIND("|",StoreConfig!J14)),"") | G9: =IFERROR(VLOOKUP(--IF($B$2=StoreConfig!C14,LEFT(StoreConfig!J14,FIND("|",StoreConfig!J14)-1),""),$Q$4:$R$20,2,FALSE),"") | H9: =IF($B$2=StoreConfig!C14,LEFT(StoreConfig!G14,FIND("#",StoreConfig!G14)-1),"") | I9: =IF($B$2=StoreConfig!C14,RIGHT(StoreConfig!G14,LEN(StoreConfig!G14)-FIND("#",StoreConfig!G14)),"") | J9: =IF($B$2=StoreConfig!C14,IF(StoreConfig!L14=0,"不限购",StoreConfig!L14&"次"),"") | L9: 功能商店 | M9: 47 | N9: =VLOOKUP(M9,Q:R,2,FALSE) -> 时光沙漏 | Q9: 16 | R9: 妖晶
D10: =IF($B$2=StoreConfig!C15,StoreConfig!O15,"") | E10: =IF($B$2=StoreConfig!C15,StoreConfig!E15,"") | F10: =IF($B$2=StoreConfig!C15,RIGHT(StoreConfig!J15,LEN(StoreConfig!J15)-FIND("|",StoreConfig!J15)),"") | G10: =IFERROR(VLOOKUP(--IF($B$2=StoreConfig!C15,LEFT(StoreConfig!J15,FIND("|",StoreConfig!J15)-1),""),$Q$4:$R$20,2,FALSE),"") | H10: =IF($B$2=StoreConfig!C15,LEFT(StoreConfig!G15,FIND("#",StoreConfig!G15)-1),"") | I10: =IF($B$2=StoreConfig!C15,RIGHT(StoreConfig!G15,LEN(StoreConfig!G15)-FIND("#",StoreConfig!G15)),"") | J10: =IF($B$2=StoreConfig!C15,IF(StoreConfig!L15=0,"不限购",StoreConfig!L15&"次"),"") | L10: 功能商店 | M10: 15 | N10: =VLOOKUP(M10,Q:R,2,FALSE) -> 魂晶 | Q10: 47 | R10: 时光沙漏
D11: =IF($B$2=StoreConfig!C16,StoreConfig!O16,"") | E11: =IF($B$2=StoreConfig!C16,StoreConfig!E16,"") | F11: =IF($B$2=StoreConfig!C16,RIGHT(StoreConfig!J16,LEN(StoreConfig!J16)-FIND("|",StoreConfig!J16)),"") | G11: =IFERROR(VLOOKUP(--IF($B$2=StoreConfig!C16,LEFT(StoreConfig!J16,FIND("|",StoreConfig!J16)-1),""),$Q$4:$R$20,2,FALSE),"") | H11: =IF($B$2=StoreConfig!C16,LEFT(StoreConfig!G16,FIND("#",StoreConfig!G16)-1),"") | I11: =IF($B$2=StoreConfig!C16,RIGHT(StoreConfig!G16,LEN(StoreConfig!G16)-FIND("#",StoreConfig!G16)),"") | J11: =IF($B$2=StoreConfig!C16,IF(StoreConfig!L16=0,"不限购",StoreConfig!L16&"次"),"") | L11: 试炼商店1 | M11: 16 | N11: =VLOOKUP(M11,Q:R,2,FALSE) -> 妖晶 | Q11: 15 | R11: 魂晶
D12: =IF($B$2=StoreConfig!C17,StoreConfig!O17,"") | E12: =IF($B$2=StoreConfig!C17,StoreConfig!E17,"") | F12: =IF($B$2=StoreConfig!C17,RIGHT(StoreConfig!J17,LEN(StoreConfig!J17)-FIND("|",StoreConfig!J17)),"") | G12: =IFERROR(VLOOKUP(--IF($B$2=StoreConfig!C17,LEFT(StoreConfig!J17,FIND("|",StoreConfig!J17)-1),""),$Q$4:$R$20,2,FALSE),"") | H12: =IF($B$2=StoreConfig!C17,LEFT(StoreConfig!G17,FIND("#",StoreConfig!G17)-1),"") | I12: =IF($B$2=StoreConfig!C17,RIGHT(StoreConfig!G17,LEN(StoreConfig!G17)-FIND("#",StoreConfig!G17)),"") | J12: =IF($B$2=StoreConfig!C17,IF(StoreConfig!L17=0,"不限购",StoreConfig!L17&"次"),"") | L12: 试炼商店2 | M12: 14 | N12: =VLOOKUP(M12,Q:R,2,FALSE) -> 金币 | Q12: 14 | R12: 金币
D13: =IF($B$2=StoreConfig!C18,StoreConfig!O18,"") | E13: =IF($B$2=StoreConfig!C18,StoreConfig!E18,"") | F13: =IF($B$2=StoreConfig!C18,RIGHT(StoreConfig!J18,LEN(StoreConfig!J18)-FIND("|",StoreConfig!J18)),"") | G13: =IFERROR(VLOOKUP(--IF($B$2=StoreConfig!C18,LEFT(StoreConfig!J18,FIND("|",StoreConfig!J18)-1),""),$Q$4:$R$20,2,FALSE),"") | H13: =IF($B$2=StoreConfig!C18,LEFT(StoreConfig!G18,FIND("#",StoreConfig!G18)-1),"") | I13: =IF($B$2=StoreConfig!C18,RIGHT(StoreConfig!G18,LEN(StoreConfig!G18)-FIND("#",StoreConfig!G18)),"") | J13: =IF($B$2=StoreConfig!C18,IF(StoreConfig!L18=0,"不限购",StoreConfig!L18&"次"),"") | L13: 竞技场商店 | M13: 24 | N13: =VLOOKUP(M13,Q:R,2,FALSE) -> 逐胜徽章 | Q13: 86 | R13: 巅峰之证
D14: =IF($B$2=StoreConfig!C19,StoreConfig!O19,"") | E14: =IF($B$2=StoreConfig!C19,StoreConfig!E19,"") | F14: =IF($B$2=StoreConfig!C19,RIGHT(StoreConfig!J19,LEN(StoreConfig!J19)-FIND("|",StoreConfig!J19)),"") | G14: =IFERROR(VLOOKUP(--IF($B$2=StoreConfig!C19,LEFT(StoreConfig!J19,FIND("|",StoreConfig!J19)-1),""),$Q$4:$R$20,2,FALSE),"") | H14: =IF($B$2=StoreConfig!C19,LEFT(StoreConfig!G19,FIND("#",StoreConfig!G19)-1),"") | I14: =IF($B$2=StoreConfig!C19,RIGHT(StoreConfig!G19,LEN(StoreConfig!G19)-FIND("#",StoreConfig!G19)),"") | J14: =IF($B$2=StoreConfig!C19,IF(StoreConfig!L19=0,"不限购",StoreConfig!L19&"次"),"") | L14: 巅峰赛商店 | M14: 86 | N14: =VLOOKUP(M14,Q:R,2,FALSE) -> 巅峰之证 | Q14: 67 | R14: 神州令
D15: =IF($B$2=StoreConfig!C20,StoreConfig!O20,"") | E15: =IF($B$2=StoreConfig!C20,StoreConfig!E20,"") | F15: =IF($B$2=StoreConfig!C20,RIGHT(StoreConfig!J20,LEN(StoreConfig!J20)-FIND("|",StoreConfig!J20)),"") | G15: =IFERROR(VLOOKUP(--IF($B$2=StoreConfig!C20,LEFT(StoreConfig!J20,FIND("|",StoreConfig!J20)-1),""),$Q$4:$R$20,2,FALSE),"") | H15: =IF($B$2=StoreConfig!C20,LEFT(StoreConfig!G20,FIND("#",StoreConfig!G20)-1),"") | I15: =IF($B$2=StoreConfig!C20,RIGHT(StoreConfig!G20,LEN(StoreConfig!G20)-FIND("#",StoreConfig!G20)),"") | J15: =IF($B$2=StoreConfig!C20,IF(StoreConfig!L20=0,"不限购",StoreConfig!L20&"次"),"") | L15: 活动礼包 | M15: 15 | N15: =VLOOKUP(M15,Q:R,2,FALSE) -> 魂晶 | Q15: 65 | R15: 公会御令
D16: =IF($B$2=StoreConfig!C21,StoreConfig!O21,"") | E16: =IF($B$2=StoreConfig!C21,StoreConfig!E21,"") | F16: =IF($B$2=StoreConfig!C21,RIGHT(StoreConfig!J21,LEN(StoreConfig!J21)-FIND("|",StoreConfig!J21)),"") | G16: =IFERROR(VLOOKUP(--IF($B$2=StoreConfig!C21,LEFT(StoreConfig!J21,FIND("|",StoreConfig!J21)-1),""),$Q$4:$R$20,2,FALSE),"") | H16: =IF($B$2=StoreConfig!C21,LEFT(StoreConfig!G21,FIND("#",StoreConfig!G21)-1),"") | I16: =IF($B$2=StoreConfig!C21,RIGHT(StoreConfig!G21,LEN(StoreConfig!G21)-FIND("#",StoreConfig!G21)),"") | J16: =IF($B$2=StoreConfig!C21,IF(StoreConfig!L21=0,"不限购",StoreConfig!L21&"次"),"") | L16: 活动礼包 | M16: 16 | N16: =VLOOKUP(M16,Q:R,2,FALSE) -> 妖晶 | Q16: 1201 | R16: 上古钱币
... D20: =IF($B$2=StoreConfig!C25,StoreConfig!O25,"") | E20: =IF($B$2=StoreConfig!C25,StoreConfig!E25,"") | F20: =IF($B$2=StoreConfig!C25,RIGHT(StoreConfig!J25,LEN(StoreConfig!J25)-FIND("|",StoreConfig!J25)),"") | G20: =IFERROR(VLOOKUP(--IF($B$2=StoreConfig!C25,LEFT(StoreConfig!J25,FIND("|",StoreConfig!J25)-1),""),$Q$4:$R$20,2,FALSE),"") | H20: =IF($B$2=StoreConfig!C25,LEFT(StoreConfig!G25,FIND("#",StoreConfig!G25)-1),"") | I20: =IF($B$2=StoreConfig!C25,RIGHT(StoreConfig!G25,LEN(StoreConfig!G25)-FIND("#",StoreConfig!G25)),"") | J20: =IF($B$2=StoreConfig!C25,IF(StoreConfig!L25=0,"不限购",StoreConfig!L25&"次"),"") | L20: 活动商店2 | M20: 67 | N20: =VLOOKUP(M20,Q:R,2,FALSE) -> 神州令 | Q20: 1003 | R20: 乾坤令
D21: =IF($B$2=StoreConfig!C26,StoreConfig!O26,"") | E21: =IF($B$2=StoreConfig!C26,StoreConfig!E26,"") | F21: =IF($B$2=StoreConfig!C26,RIGHT(StoreConfig!J26,LEN(StoreConfig!J26)-FIND("|",StoreConfig!J26)),"") | G21: =IFERROR(VLOOKUP(--IF($B$2=StoreConfig!C26,LEFT(StoreConfig!J26,FIND("|",StoreConfig!J26)-1),""),$Q$4:$R$20,2,FALSE),"") | H21: =IF($B$2=StoreConfig!C26,LEFT(StoreConfig!G26,FIND("#",StoreConfig!G26)-1),"") | I21: =IF($B$2=StoreConfig!C26,RIGHT(StoreConfig!G26,LEN(StoreConfig!G26)-FIND("#",StoreConfig!G26)),"") | J21: =IF($B$2=StoreConfig!C26,IF(StoreConfig!L26=0,"不限购",StoreConfig!L26&"次"),"") | L21: 活动商店3 | M21: 67 | N21: =VLOOKUP(M21,Q:R,2,FALSE) -> 神州令
D22: =IF($B$2=StoreConfig!C27,StoreConfig!O27,"") | E22: =IF($B$2=StoreConfig!C27,StoreConfig!E27,"") | F22: =IF($B$2=StoreConfig!C27,RIGHT(StoreConfig!J27,LEN(StoreConfig!J27)-FIND("|",StoreConfig!J27)),"") | G22: =IFERROR(VLOOKUP(--IF($B$2=StoreConfig!C27,LEFT(StoreConfig!J27,FIND("|",StoreConfig!J27)-1),""),$Q$4:$R$20,2,FALSE),"") | H22: =IF($B$2=StoreConfig!C27,LEFT(StoreConfig!G27,FIND("#",StoreConfig!G27)-1),"") | I22: =IF($B$2=StoreConfig!C27,RIGHT(StoreConfig!G27,LEN(StoreConfig!G27)-FIND("#",StoreConfig!G27)),"") | J22: =IF($B$2=StoreConfig!C27,IF(StoreConfig!L27=0,"不限购",StoreConfig!L27&"次"),"") | L22: 活动商店4 | M22: 67 | N22: =VLOOKUP(M22,Q:R,2,FALSE) -> 神州令
D23: =IF($B$2=StoreConfig!C28,StoreConfig!O28,"") | E23: =IF($B$2=StoreConfig!C28,StoreConfig!E28,"") | F23: =IF($B$2=StoreConfig!C28,RIGHT(StoreConfig!J28,LEN(StoreConfig!J28)-FIND("|",StoreConfig!J28)),"") | G23: =IFERROR(VLOOKUP(--IF($B$2=StoreConfig!C28,LEFT(StoreConfig!J28,FIND("|",StoreConfig!J28)-1),""),$Q$4:$R$20,2,FALSE),"") | H23: =IF($B$2=StoreConfig!C28,LEFT(StoreConfig!G28,FIND("#",StoreConfig!G28)-1),"") | I23: =IF($B$2=StoreConfig!C28,RIGHT(StoreConfig!G28,LEN(StoreConfig!G28)-FIND("#",StoreConfig!G28)),"") | J23: =IF($B$2=StoreConfig!C28,IF(StoreConfig!L28=0,"不限购",StoreConfig!L28&"次"),"") | L23: 公会商店 | M23: 65 | N23: =VLOOKUP(M23,Q:R,2,FALSE) -> 公会御令
D24: =IF($B$2=StoreConfig!C29,StoreConfig!O29,"") | E24: =IF($B$2=StoreConfig!C29,StoreConfig!E29,"") | F24: =IF($B$2=StoreConfig!C29,RIGHT(StoreConfig!J29,LEN(StoreConfig!J29)-FIND("|",StoreConfig!J29)),"") | G24: =IFERROR(VLOOKUP(--IF($B$2=StoreConfig!C29,LEFT(StoreConfig!J29,FIND("|",StoreConfig!J29)-1),""),$Q$4:$R$20,2,FALSE),"") | H24: =IF($B$2=StoreConfig!C29,LEFT(StoreConfig!G29,FIND("#",StoreConfig!G29)-1),"") | I24: =IF($B$2=StoreConfig!C29,RIGHT(StoreConfig!G29,LEN(StoreConfig!G29)-FIND("#",StoreConfig!G29)),"") | J24: =IF($B$2=StoreConfig!C29,IF(StoreConfig!L29=0,"不限购",StoreConfig!L29&"次"),"") | L24: 无尽商店 | M24: 1201 | N24: =VLOOKUP(M24,Q:R,2,FALSE) -> 上古钱币
D25: =IF($B$2=StoreConfig!C30,StoreConfig!O30,"") | E25: =IF($B$2=StoreConfig!C30,StoreConfig!E30,"") | F25: =IF($B$2=StoreConfig!C30,RIGHT(StoreConfig!J30,LEN(StoreConfig!J30)-FIND("|",StoreConfig!J30)),"") | G25: =IFERROR(VLOOKUP(--IF($B$2=StoreConfig!C30,LEFT(StoreConfig!J30,FIND("|",StoreConfig!J30)-1),""),$Q$4:$R$20,2,FALSE),"") | H25: =IF($B$2=StoreConfig!C30,LEFT(StoreConfig!G30,FIND("#",StoreConfig!G30)-1),"") | I25: =IF($B$2=StoreConfig!C30,RIGHT(StoreConfig!G30,LEN(StoreConfig!G30)-FIND("#",StoreConfig!G30)),"") | J25: =IF($B$2=StoreConfig!C30,IF(StoreConfig!L30=0,"不限购",StoreConfig!L30&"次"),"") | L25: 无尽商店2 | M25: 1201 | N25: =VLOOKUP(M25,Q:R,2,FALSE) -> 上古钱币
D26: =IF($B$2=StoreConfig!C31,StoreConfig!O31,"") | E26: =IF($B$2=StoreConfig!C31,StoreConfig!E31,"") | F26: =IF($B$2=StoreConfig!C31,RIGHT(StoreConfig!J31,LEN(StoreConfig!J31)-FIND("|",StoreConfig!J31)),"") | G26: =IFERROR(VLOOKUP(--IF($B$2=StoreConfig!C31,LEFT(StoreConfig!J31,FIND("|",StoreConfig!J31)-1),""),$Q$4:$R$20,2,FALSE),"") | H26: =IF($B$2=StoreConfig!C31,LEFT(StoreConfig!G31,FIND("#",StoreConfig!G31)-1),"") | I26: =IF($B$2=StoreConfig!C31,RIGHT(StoreConfig!G31,LEN(StoreConfig!G31)-FIND("#",StoreConfig!G31)),"") | J26: =IF($B$2=StoreConfig!C31,IF(StoreConfig!L31=0,"不限购",StoreConfig!L31&"次"),"") | L26: 天宫商店 | M26: 93 | N26: =VLOOKUP(M26,Q:R,2,FALSE) -> 战功
D27: =IF($B$2=StoreConfig!C32,StoreConfig!O32,"") | E27: =IF($B$2=StoreConfig!C32,StoreConfig!E32,"") | F27: =IF($B$2=StoreConfig!C32,RIGHT(StoreConfig!J32,LEN(StoreConfig!J32)-FIND("|",StoreConfig!J32)),"") | G27: =IFERROR(VLOOKUP(--IF($B$2=StoreConfig!C32,LEFT(StoreConfig!J32,FIND("|",StoreConfig!J32)-1),""),$Q$4:$R$20,2,FALSE),"") | H27: =IF($B$2=StoreConfig!C32,LEFT(StoreConfig!G32,FIND("#",StoreConfig!G32)-1),"") | I27: =IF($B$2=StoreConfig!C32,RIGHT(StoreConfig!G32,LEN(StoreConfig!G32)-FIND("#",StoreConfig!G32)),"") | J27: =IF($B$2=StoreConfig!C32,IF(StoreConfig!L32=0,"不限购",StoreConfig!L32&"次"),"") | L27: 新手礼包 | M27: 15 | N27: =VLOOKUP(M27,Q:R,2,FALSE) -> 魂晶
D28: =IF($B$2=StoreConfig!C33,StoreConfig!O33,"") | E28: =IF($B$2=StoreConfig!C33,StoreConfig!E33,"") | F28: =IF($B$2=StoreConfig!C33,RIGHT(StoreConfig!J33,LEN(StoreConfig!J33)-FIND("|",StoreConfig!J33)),"") | G28: =IFERROR(VLOOKUP(--IF($B$2=StoreConfig!C33,LEFT(StoreConfig!J33,FIND("|",StoreConfig!J33)-1),""),$Q$4:$R$20,2,FALSE),"") | H28: =IF($B$2=StoreConfig!C33,LEFT(StoreConfig!G33,FIND("#",StoreConfig!G33)-1),"") | I28: =IF($B$2=StoreConfig!C33,RIGHT(StoreConfig!G33,LEN(StoreConfig!G33)-FIND("#",StoreConfig!G33)),"") | J28: =IF($B$2=StoreConfig!C33,IF(StoreConfig!L33=0,"不限购",StoreConfig!L33&"次"),"") | L28: 成长礼包 | M28: 16 | N28: =VLOOKUP(M28,Q:R,2,FALSE) -> 妖晶
D29: =IF($B$2=StoreConfig!C34,StoreConfig!O34,"") | E29: =IF($B$2=StoreConfig!C34,StoreConfig!E34,"") | F29: =IF($B$2=StoreConfig!C34,RIGHT(StoreConfig!J34,LEN(StoreConfig!J34)-FIND("|",StoreConfig!J34)),"") | G29: =IFERROR(VLOOKUP(--IF($B$2=StoreConfig!C34,LEFT(StoreConfig!J34,FIND("|",StoreConfig!J34)-1),""),$Q$4:$R$20,2,FALSE),"") | H29: =IF($B$2=StoreConfig!C34,LEFT(StoreConfig!G34,FIND("#",StoreConfig!G34)-1),"") | I29: =IF($B$2=StoreConfig!C34,RIGHT(StoreConfig!G34,LEN(StoreConfig!G34)-FIND("#",StoreConfig!G34)),"") | J29: =IF($B$2=StoreConfig!C34,IF(StoreConfig!L34=0,"不限购",StoreConfig!L34&"次"),"") | L29: 杂货商店 | M29: 16 | N29: =VLOOKUP(M29,Q:R,2,FALSE) -> 妖晶
D30: =IF($B$2=StoreConfig!C35,StoreConfig!O35,"") | E30: =IF($B$2=StoreConfig!C35,StoreConfig!E35,"") | F30: =IF($B$2=StoreConfig!C35,RIGHT(StoreConfig!J35,LEN(StoreConfig!J35)-FIND("|",StoreConfig!J35)),"") | G30: =IFERROR(VLOOKUP(--IF($B$2=StoreConfig!C35,LEFT(StoreConfig!J35,FIND("|",StoreConfig!J35)-1),""),$Q$4:$R$20,2,FALSE),"") | H30: =IF($B$2=StoreConfig!C35,LEFT(StoreConfig!G35,FIND("#",StoreConfig!G35)-1),"") | I30: =IF($B$2=StoreConfig!C35,RIGHT(StoreConfig!G35,LEN(StoreConfig!G35)-FIND("#",StoreConfig!G35)),"") | J30: =IF($B$2=StoreConfig!C35,IF(StoreConfig!L35=0,"不限购",StoreConfig!L35&"次"),"") | L30: 杂货商店 | M30: 14 | N30: =VLOOKUP(M30,Q:R,2,FALSE) -> 金币
D31: =IF($B$2=StoreConfig!C36,StoreConfig!O36,"") | E31: =IF($B$2=StoreConfig!C36,StoreConfig!E36,"") | F31: =IF($B$2=StoreConfig!C36,RIGHT(StoreConfig!J36,LEN(StoreConfig!J36)-FIND("|",StoreConfig!J36)),"") | G31: =IFERROR(VLOOKUP(--IF($B$2=StoreConfig!C36,LEFT(StoreConfig!J36,FIND("|",StoreConfig!J36)-1),""),$Q$4:$R$20,2,FALSE),"") | H31: =IF($B$2=StoreConfig!C36,LEFT(StoreConfig!G36,FIND("#",StoreConfig!G36)-1),"") | I31: =IF($B$2=StoreConfig!C36,RIGHT(StoreConfig!G36,LEN(StoreConfig!G36)-FIND("#",StoreConfig!G36)),"") | J31: =IF($B$2=StoreConfig!C36,IF(StoreConfig!L36=0,"不限购",StoreConfig!L36&"次"),"") | L31: 魂印商店 | M31: 66 | N31: =VLOOKUP(M31,Q:R,2,FALSE) -> 星魂
D32: =IF($B$2=StoreConfig!C37,StoreConfig!O37,"") | E32: =IF($B$2=StoreConfig!C37,StoreConfig!E37,"") | F32: =IF($B$2=StoreConfig!C37,RIGHT(StoreConfig!J37,LEN(StoreConfig!J37)-FIND("|",StoreConfig!J37)),"") | G32: =IFERROR(VLOOKUP(--IF($B$2=StoreConfig!C37,LEFT(StoreConfig!J37,FIND("|",StoreConfig!J37)-1),""),$Q$4:$R$20,2,FALSE),"") | H32: =IF($B$2=StoreConfig!C37,LEFT(StoreConfig!G37,FIND("#",StoreConfig!G37)-1),"") | I32: =IF($B$2=StoreConfig!C37,RIGHT(StoreConfig!G37,LEN(StoreConfig!G37)-FIND("#",StoreConfig!G37)),"") | J32: =IF($B$2=StoreConfig!C37,IF(StoreConfig!L37=0,"不限购",StoreConfig!L37&"次"),"") | L32: 魂印商店 | M32: 16 | N32: =VLOOKUP(M32,Q:R,2,FALSE) -> 妖晶
... D35: =IF($B$2=StoreConfig!C40,StoreConfig!O40,"") | E35: =IF($B$2=StoreConfig!C40,StoreConfig!E40,"") | F35: =IF($B$2=StoreConfig!C40,RIGHT(StoreConfig!J40,LEN(StoreConfig!J40)-FIND("|",StoreConfig!J40)),"") | G35: =IFERROR(VLOOKUP(--IF($B$2=StoreConfig!C40,LEFT(StoreConfig!J40,FIND("|",StoreConfig!J40)-1),""),$Q$4:$R$20,2,FALSE),"") | H35: =IF($B$2=StoreConfig!C40,LEFT(StoreConfig!G40,FIND("#",StoreConfig!G40)-1),"") | I35: =IF($B$2=StoreConfig!C40,RIGHT(StoreConfig!G40,LEN(StoreConfig!G40)-FIND("#",StoreConfig!G40)),"") | J35: =IF($B$2=StoreConfig!C40,IF(StoreConfig!L40=0,"不限购",StoreConfig!L40&"次"),"") | L35: 乾坤商店 | M35: 1003 | N35: =VLOOKUP(M35,Q:R,2,FALSE) -> 乾坤令
D36: =IF($B$2=StoreConfig!C41,StoreConfig!O41,"") | E36: =IF($B$2=StoreConfig!C41,StoreConfig!E41,"") | F36: =IF($B$2=StoreConfig!C41,RIGHT(StoreConfig!J41,LEN(StoreConfig!J41)-FIND("|",StoreConfig!J41)),"") | G36: =IFERROR(VLOOKUP(--IF($B$2=StoreConfig!C41,LEFT(StoreConfig!J41,FIND("|",StoreConfig!J41)-1),""),$Q$4:$R$20,2,FALSE),"") | H36: =IF($B$2=StoreConfig!C41,LEFT(StoreConfig!G41,FIND("#",StoreConfig!G41)-1),"") | I36: =IF($B$2=StoreConfig!C41,RIGHT(StoreConfig!G41,LEN(StoreConfig!G41)-FIND("#",StoreConfig!G41)),"") | J36: =IF($B$2=StoreConfig!C41,IF(StoreConfig!L41=0,"不限购",StoreConfig!L41&"次"),"")
D37: =IF($B$2=StoreConfig!C42,StoreConfig!O42,"") | E37: =IF($B$2=StoreConfig!C42,StoreConfig!E42,"") | F37: =IF($B$2=StoreConfig!C42,RIGHT(StoreConfig!J42,LEN(StoreConfig!J42)-FIND("|",StoreConfig!J42)),"") | G37: =IFERROR(VLOOKUP(--IF($B$2=StoreConfig!C42,LEFT(StoreConfig!J42,FIND("|",StoreConfig!J42)-1),""),$Q$4:$R$20,2,FALSE),"") | H37: =IF($B$2=StoreConfig!C42,LEFT(StoreConfig!G42,FIND("#",StoreConfig!G42)-1),"") | I37: =IF($B$2=StoreConfig!C42,RIGHT(StoreConfig!G42,LEN(StoreConfig!G42)-FIND("#",StoreConfig!G42)),"") | J37: =IF($B$2=StoreConfig!C42,IF(StoreConfig!L42=0,"不限购",StoreConfig!L42&"次"),"")
D38: =IF($B$2=StoreConfig!C43,StoreConfig!O43,"") | E38: =IF($B$2=StoreConfig!C43,StoreConfig!E43,"") | F38: =IF($B$2=StoreConfig!C43,RIGHT(StoreConfig!J43,LEN(StoreConfig!J43)-FIND("|",StoreConfig!J43)),"") | G38: =IFERROR(VLOOKUP(--IF($B$2=StoreConfig!C43,LEFT(StoreConfig!J43,FIND("|",StoreConfig!J43)-1),""),$Q$4:$R$20,2,FALSE),"") | H38: =IF($B$2=StoreConfig!C43,LEFT(StoreConfig!G43,FIND("#",StoreConfig!G43)-1),"") | I38: =IF($B$2=StoreConfig!C43,RIGHT(StoreConfig!G43,LEN(StoreConfig!G43)-FIND("#",StoreConfig!G43)),"") | J38: =IF($B$2=StoreConfig!C43,IF(StoreConfig!L43=0,"不限购",StoreConfig!L43&"次"),"")
D39: =IF($B$2=StoreConfig!C44,StoreConfig!O44,"") | E39: =IF($B$2=StoreConfig!C44,StoreConfig!E44,"") | F39: =IF($B$2=StoreConfig!C44,RIGHT(StoreConfig!J44,LEN(StoreConfig!J44)-FIND("|",StoreConfig!J44)),"") | G39: =IFERROR(VLOOKUP(--IF($B$2=StoreConfig!C44,LEFT(StoreConfig!J44,FIND("|",StoreConfig!J44)-1),""),$Q$4:$R$20,2,FALSE),"") | H39: =IF($B$2=StoreConfig!C44,LEFT(StoreConfig!G44,FIND("#",StoreConfig!G44)-1),"") | I39: =IF($B$2=StoreConfig!C44,RIGHT(StoreConfig!G44,LEN(StoreConfig!G44)-FIND("#",StoreConfig!G44)),"") | J39: =IF($B$2=StoreConfig!C44,IF(StoreConfig!L44=0,"不限购",StoreConfig!L44&"次"),"")
D40: =IF($B$2=StoreConfig!C45,StoreConfig!O45,"") | E40: =IF($B$2=StoreConfig!C45,StoreConfig!E45,"") | F40: =IF($B$2=StoreConfig!C45,RIGHT(StoreConfig!J45,LEN(StoreConfig!J45)-FIND("|",StoreConfig!J45)),"") | G40: =IFERROR(VLOOKUP(--IF($B$2=StoreConfig!C45,LEFT(StoreConfig!J45,FIND("|",StoreConfig!J45)-1),""),$Q$4:$R$20,2,FALSE),"") | H40: =IF($B$2=StoreConfig!C45,LEFT(StoreConfig!G45,FIND("#",StoreConfig!G45)-1),"") | I40: =IF($B$2=StoreConfig!C45,RIGHT(StoreConfig!G45,LEN(StoreConfig!G45)-FIND("#",StoreConfig!G45)),"") | J40: =IF($B$2=StoreConfig!C45,IF(StoreConfig!L45=0,"不限购",StoreConfig!L45&"次"),"")
D41: =IF($B$2=StoreConfig!C46,StoreConfig!O46,"") | E41: =IF($B$2=StoreConfig!C46,StoreConfig!E46,"") | F41: =IF($B$2=StoreConfig!C46,RIGHT(StoreConfig!J46,LEN(StoreConfig!J46)-FIND("|",StoreConfig!J46)),"") | G41: =IFERROR(VLOOKUP(--IF($B$2=StoreConfig!C46,LEFT(StoreConfig!J46,FIND("|",StoreConfig!J46)-1),""),$Q$4:$R$20,2,FALSE),"") | H41: =IF($B$2=StoreConfig!C46,LEFT(StoreConfig!G46,FIND("#",StoreConfig!G46)-1),"") | I41: =IF($B$2=StoreConfig!C46,RIGHT(StoreConfig!G46,LEN(StoreConfig!G46)-FIND("#",StoreConfig!G46)),"") | J41: =IF($B$2=StoreConfig!C46,IF(StoreConfig!L46=0,"不限购",StoreConfig!L46&"次"),"")
D42: =IF($B$2=StoreConfig!C47,StoreConfig!O47,"") | E42: =IF($B$2=StoreConfig!C47,StoreConfig!E47,"") | F42: =IF($B$2=StoreConfig!C47,RIGHT(StoreConfig!J47,LEN(StoreConfig!J47)-FIND("|",StoreConfig!J47)),"") | G42: =IFERROR(VLOOKUP(--IF($B$2=StoreConfig!C47,LEFT(StoreConfig!J47,FIND("|",StoreConfig!J47)-1),""),$Q$4:$R$20,2,FALSE),"") | H42: =IF($B$2=StoreConfig!C47,LEFT(StoreConfig!G47,FIND("#",StoreConfig!G47)-1),"") | I42: =IF($B$2=StoreConfig!C47,RIGHT(StoreConfig!G47,LEN(StoreConfig!G47)-FIND("#",StoreConfig!G47)),"") | J42: =IF($B$2=StoreConfig!C47,IF(StoreConfig!L47=0,"不限购",StoreConfig!L47&"次"),"")
D43: =IF($B$2=StoreConfig!C48,StoreConfig!O48,"") | E43: =IF($B$2=StoreConfig!C48,StoreConfig!E48,"") | F43: =IF($B$2=StoreConfig!C48,RIGHT(StoreConfig!J48,LEN(StoreConfig!J48)-FIND("|",StoreConfig!J48)),"") | G43: =IFERROR(VLOOKUP(--IF($B$2=StoreConfig!C48,LEFT(StoreConfig!J48,FIND("|",StoreConfig!J48)-1),""),$Q$4:$R$20,2,FALSE),"") | H43: =IF($B$2=StoreConfig!C48,LEFT(StoreConfig!G48,FIND("#",StoreConfig!G48)-1),"") | I43: =IF($B$2=StoreConfig!C48,RIGHT(StoreConfig!G48,LEN(StoreConfig!G48)-FIND("#",StoreConfig!G48)),"") | J43: =IF($B$2=StoreConfig!C48,IF(StoreConfig!L48=0,"不限购",StoreConfig!L48&"次"),"")
D44: =IF($B$2=StoreConfig!C49,StoreConfig!O49,"") | E44: =IF($B$2=StoreConfig!C49,StoreConfig!E49,"") | F44: =IF($B$2=StoreConfig!C49,RIGHT(StoreConfig!J49,LEN(StoreConfig!J49)-FIND("|",StoreConfig!J49)),"") | G44: =IFERROR(VLOOKUP(--IF($B$2=StoreConfig!C49,LEFT(StoreConfig!J49,FIND("|",StoreConfig!J49)-1),""),$Q$4:$R$20,2,FALSE),"") | H44: =IF($B$2=StoreConfig!C49,LEFT(StoreConfig!G49,FIND("#",StoreConfig!G49)-1),"") | I44: =IF($B$2=StoreConfig!C49,RIGHT(StoreConfig!G49,LEN(StoreConfig!G49)-FIND("#",StoreConfig!G49)),"") | J44: =IF($B$2=StoreConfig!C49,IF(StoreConfig!L49=0,"不限购",StoreConfig!L49&"次"),"")
D45: =IF($B$2=StoreConfig!C50,StoreConfig!O50,"") | E45: =IF($B$2=StoreConfig!C50,StoreConfig!E50,"") | F45: =IF($B$2=StoreConfig!C50,RIGHT(StoreConfig!J50,LEN(StoreConfig!J50)-FIND("|",StoreConfig!J50)),"") | G45: =IFERROR(VLOOKUP(--IF($B$2=StoreConfig!C50,LEFT(StoreConfig!J50,FIND("|",StoreConfig!J50)-1),""),$Q$4:$R$20,2,FALSE),"") | H45: =IF($B$2=StoreConfig!C50,LEFT(StoreConfig!G50,FIND("#",StoreConfig!G50)-1),"") | I45: =IF($B$2=StoreConfig!C50,RIGHT(StoreConfig!G50,LEN(StoreConfig!G50)-FIND("#",StoreConfig!G50)),"") | J45: =IF($B$2=StoreConfig!C50,IF(StoreConfig!L50=0,"不限购",StoreConfig!L50&"次"),"")
D46: =IF($B$2=StoreConfig!C51,StoreConfig!O51,"") | E46: =IF($B$2=StoreConfig!C51,StoreConfig!E51,"") | F46: =IF($B$2=StoreConfig!C51,RIGHT(StoreConfig!J51,LEN(StoreConfig!J51)-FIND("|",StoreConfig!J51)),"") | G46: =IFERROR(VLOOKUP(--IF($B$2=StoreConfig!C51,LEFT(StoreConfig!J51,FIND("|",StoreConfig!J51)-1),""),$Q$4:$R$20,2,FALSE),"") | H46: =IF($B$2=StoreConfig!C51,LEFT(StoreConfig!G51,FIND("#",StoreConfig!G51)-1),"") | I46: =IF($B$2=StoreConfig!C51,RIGHT(StoreConfig!G51,LEN(StoreConfig!G51)-FIND("#",StoreConfig!G51)),"") | J46: =IF($B$2=StoreConfig!C51,IF(StoreConfig!L51=0,"不限购",StoreConfig!L51&"次"),"")
D47: =IF($B$2=StoreConfig!C52,StoreConfig!O52,"") | E47: =IF($B$2=StoreConfig!C52,StoreConfig!E52,"") | F47: =IF($B$2=StoreConfig!C52,RIGHT(StoreConfig!J52,LEN(StoreConfig!J52)-FIND("|",StoreConfig!J52)),"") | G47: =IFERROR(VLOOKUP(--IF($B$2=StoreConfig!C52,LEFT(StoreConfig!J52,FIND("|",StoreConfig!J52)-1),""),$Q$4:$R$20,2,FALSE),"") | H47: =IF($B$2=StoreConfig!C52,LEFT(StoreConfig!G52,FIND("#",StoreConfig!G52)-1),"") | I47: =IF($B$2=StoreConfig!C52,RIGHT(StoreConfig!G52,LEN(StoreConfig!G52)-FIND("#",StoreConfig!G52)),"") | J47: =IF($B$2=StoreConfig!C52,IF(StoreConfig!L52=0,"不限购",StoreConfig!L52&"次"),"")
... D375: =IF($B$2=StoreConfig!C380,StoreConfig!O380,"") | E375: =IF($B$2=StoreConfig!C380,StoreConfig!E380,"") | F375: =IF($B$2=StoreConfig!C380,RIGHT(StoreConfig!J380,LEN(StoreConfig!J380)-FIND("|",StoreConfig!J380)),"") | G375: =IFERROR(VLOOKUP(--IF($B$2=StoreConfig!C380,LEFT(StoreConfig!J380,FIND("|",StoreConfig!J380)-1),""),$Q$4:$R$20,2,FALSE),"") | H375: =IF($B$2=StoreConfig!C380,LEFT(StoreConfig!G380,FIND("#",StoreConfig!G380)-1),"") | I375: =IF($B$2=StoreConfig!C380,RIGHT(StoreConfig!G380,LEN(StoreConfig!G380)-FIND("#",StoreConfig!G380)),"") | J375: =IF($B$2=StoreConfig!C380,IF(StoreConfig!L380=0,"不限购",StoreConfig!L380&"次"),"")
D376: =IF($B$2=StoreConfig!C381,StoreConfig!O381,"") | E376: =IF($B$2=StoreConfig!C381,StoreConfig!E381,"") | F376: =IF($B$2=StoreConfig!C381,RIGHT(StoreConfig!#REF!,LEN(StoreConfig!#REF!)-FIND("|",StoreConfig!#REF!)),"") | G376: =IFERROR(VLOOKUP(--IF($B$2=StoreConfig!C381,LEFT(StoreConfig!#REF!,FIND("|",StoreConfig!#REF!)-1),""),$Q$4:$R$20,2,FALSE),"") | H376: =IF($B$2=StoreConfig!C381,LEFT(StoreConfig!G381,FIND("#",StoreConfig!G381)-1),"") | I376: =IF($B$2=StoreConfig!C381,RIGHT(StoreConfig!G381,LEN(StoreConfig!G381)-FIND("#",StoreConfig!G381)),"") | J376: =IF($B$2=StoreConfig!C381,IF(StoreConfig!L381=0,"不限购",StoreConfig!L381&"次"),"")
D377: =IF($B$2=StoreConfig!C382,StoreConfig!O382,"") | E377: =IF($B$2=StoreConfig!C382,StoreConfig!E382,"") | F377: =IF($B$2=StoreConfig!C382,RIGHT(StoreConfig!J382,LEN(StoreConfig!J382)-FIND("|",StoreConfig!J382)),"") | G377: =IFERROR(VLOOKUP(--IF($B$2=StoreConfig!C382,LEFT(StoreConfig!J382,FIND("|",StoreConfig!J382)-1),""),$Q$4:$R$20,2,FALSE),"") | H377: =IF($B$2=StoreConfig!C382,LEFT(StoreConfig!G382,FIND("#",StoreConfig!G382)-1),"") | I377: =IF($B$2=StoreConfig!C382,RIGHT(StoreConfig!G382,LEN(StoreConfig!G382)-FIND("#",StoreConfig!G382)),"") | J377: =IF($B$2=StoreConfig!C382,IF(StoreConfig!L382=0,"不限购",StoreConfig!L382&"次"),"")
D378: =IF($B$2=StoreConfig!C383,StoreConfig!O383,"") | E378: =IF($B$2=StoreConfig!C383,StoreConfig!E383,"") | F378: =IF($B$2=StoreConfig!C383,RIGHT(StoreConfig!J383,LEN(StoreConfig!J383)-FIND("|",StoreConfig!J383)),"") | G378: =IFERROR(VLOOKUP(--IF($B$2=StoreConfig!C383,LEFT(StoreConfig!J383,FIND("|",StoreConfig!J383)-1),""),$Q$4:$R$20,2,FALSE),"") | H378: =IF($B$2=StoreConfig!C383,LEFT(StoreConfig!G383,FIND("#",StoreConfig!G383)-1),"") | I378: =IF($B$2=StoreConfig!C383,RIGHT(StoreConfig!G383,LEN(StoreConfig!G383)-FIND("#",StoreConfig!G383)),"") | J378: =IF($B$2=StoreConfig!C383,IF(StoreConfig!L383=0,"不限购",StoreConfig!L383&"次"),"")
D379: =IF($B$2=StoreConfig!C384,StoreConfig!O384,"") | E379: =IF($B$2=StoreConfig!C384,StoreConfig!E384,"") | F379: =IF($B$2=StoreConfig!C384,RIGHT(StoreConfig!J384,LEN(StoreConfig!J384)-FIND("|",StoreConfig!J384)),"") | G379: =IFERROR(VLOOKUP(--IF($B$2=StoreConfig!C384,LEFT(StoreConfig!J384,FIND("|",StoreConfig!J384)-1),""),$Q$4:$R$20,2,FALSE),"") | H379: =IF($B$2=StoreConfig!C384,LEFT(StoreConfig!G384,FIND("#",StoreConfig!G384)-1),"") | I379: =IF($B$2=StoreConfig!C384,RIGHT(StoreConfig!G384,LEN(StoreConfig!G384)-FIND("#",StoreConfig!G384)),"") | J379: =IF($B$2=StoreConfig!C384,IF(StoreConfig!L384=0,"不限购",StoreConfig!L384&"次"),"")
D380: =IF($B$2=StoreConfig!C385,StoreConfig!O385,"") | E380: =IF($B$2=StoreConfig!C385,StoreConfig!E385,"") | F380: =IF($B$2=StoreConfig!C385,RIGHT(StoreConfig!J385,LEN(StoreConfig!J385)-FIND("|",StoreConfig!J385)),"") | G380: =IFERROR(VLOOKUP(--IF($B$2=StoreConfig!C385,LEFT(StoreConfig!J385,FIND("|",StoreConfig!J385)-1),""),$Q$4:$R$20,2,FALSE),"") | H380: =IF($B$2=StoreConfig!C385,LEFT(StoreConfig!G385,FIND("#",StoreConfig!G385)-1),"") | I380: =IF($B$2=StoreConfig!C385,RIGHT(StoreConfig!G385,LEN(StoreConfig!G385)-FIND("#",StoreConfig!G385)),"") | J380: =IF($B$2=StoreConfig!C385,IF(StoreConfig!L385=0,"不限购",StoreConfig!L385&"次"),"")
D381: =IF($B$2=StoreConfig!C386,StoreConfig!O386,"") | E381: =IF($B$2=StoreConfig!C386,StoreConfig!E386,"") | F381: =IF($B$2=StoreConfig!C386,RIGHT(StoreConfig!J386,LEN(StoreConfig!J386)-FIND("|",StoreConfig!J386)),"") | G381: =IFERROR(VLOOKUP(--IF($B$2=StoreConfig!C386,LEFT(StoreConfig!J386,FIND("|",StoreConfig!J386)-1),""),$Q$4:$R$20,2,FALSE),"") | H381: =IF($B$2=StoreConfig!C386,LEFT(StoreConfig!G386,FIND("#",StoreConfig!G386)-1),"") | I381: =IF($B$2=StoreConfig!C386,RIGHT(StoreConfig!G386,LEN(StoreConfig!G386)-FIND("#",StoreConfig!G386)),"") | J381: =IF($B$2=StoreConfig!C386,IF(StoreConfig!L386=0,"不限购",StoreConfig!L386&"次"),"")
D382: =IF($B$2=StoreConfig!C387,StoreConfig!O387,"") | E382: =IF($B$2=StoreConfig!C387,StoreConfig!E387,"") | F382: =IF($B$2=StoreConfig!C387,RIGHT(StoreConfig!J387,LEN(StoreConfig!J387)-FIND("|",StoreConfig!J387)),"") | G382: =IFERROR(VLOOKUP(--IF($B$2=StoreConfig!C387,LEFT(StoreConfig!J387,FIND("|",StoreConfig!J387)-1),""),$Q$4:$R$20,2,FALSE),"") | H382: =IF($B$2=StoreConfig!C387,LEFT(StoreConfig!G387,FIND("#",StoreConfig!G387)-1),"") | I382: =IF($B$2=StoreConfig!C387,RIGHT(StoreConfig!G387,LEN(StoreConfig!G387)-FIND("#",StoreConfig!G387)),"") | J382: =IF($B$2=StoreConfig!C387,IF(StoreConfig!L387=0,"不限购",StoreConfig!L387&"次"),"")
D383: =IF($B$2=StoreConfig!C388,StoreConfig!O388,"") | E383: =IF($B$2=StoreConfig!C388,StoreConfig!E388,"") | F383: =IF($B$2=StoreConfig!C388,RIGHT(StoreConfig!J388,LEN(StoreConfig!J388)-FIND("|",StoreConfig!J388)),"") | G383: =IFERROR(VLOOKUP(--IF($B$2=StoreConfig!C388,LEFT(StoreConfig!J388,FIND("|",StoreConfig!J388)-1),""),$Q$4:$R$20,2,FALSE),"") | H383: =IF($B$2=StoreConfig!C388,LEFT(StoreConfig!G388,FIND("#",StoreConfig!G388)-1),"") | I383: =IF($B$2=StoreConfig!C388,RIGHT(StoreConfig!G388,LEN(StoreConfig!G388)-FIND("#",StoreConfig!G388)),"") | J383: =IF($B$2=StoreConfig!C388,IF(StoreConfig!L388=0,"不限购",StoreConfig!L388&"次"),"")
D384: =IF($B$2=StoreConfig!C389,StoreConfig!O389,"") | E384: =IF($B$2=StoreConfig!C389,StoreConfig!E389,"") | F384: =IF($B$2=StoreConfig!C389,RIGHT(StoreConfig!J389,LEN(StoreConfig!J389)-FIND("|",StoreConfig!J389)),"") | G384: =IFERROR(VLOOKUP(--IF($B$2=StoreConfig!C389,LEFT(StoreConfig!J389,FIND("|",StoreConfig!J389)-1),""),$Q$4:$R$20,2,FALSE),"") | H384: =IF($B$2=StoreConfig!C389,LEFT(StoreConfig!G389,FIND("#",StoreConfig!G389)-1),"") | I384: =IF($B$2=StoreConfig!C389,RIGHT(StoreConfig!G389,LEN(StoreConfig!G389)-FIND("#",StoreConfig!G389)),"") | J384: =IF($B$2=StoreConfig!C389,IF(StoreConfig!L389=0,"不限购",StoreConfig!L389&"次"),"")
D385: =IF($B$2=StoreConfig!C390,StoreConfig!O390,"") | E385: =IF($B$2=StoreConfig!C390,StoreConfig!E390,"") | F385: =IF($B$2=StoreConfig!C390,RIGHT(StoreConfig!J390,LEN(StoreConfig!J390)-FIND("|",StoreConfig!J390)),"") | G385: =IFERROR(VLOOKUP(--IF($B$2=StoreConfig!C390,LEFT(StoreConfig!J390,FIND("|",StoreConfig!J390)-1),""),$Q$4:$R$20,2,FALSE),"") | H385: =IF($B$2=StoreConfig!C390,LEFT(StoreConfig!G390,FIND("#",StoreConfig!G390)-1),"") | I385: =IF($B$2=StoreConfig!C390,RIGHT(StoreConfig!G390,LEN(StoreConfig!G390)-FIND("#",StoreConfig!G390)),"") | J385: =IF($B$2=StoreConfig!C390,IF(StoreConfig!L390=0,"不限购",StoreConfig!L390&"次"),"")
D386: =IF($B$2=StoreConfig!C391,StoreConfig!O391,"") | E386: =IF($B$2=StoreConfig!C391,StoreConfig!E391,"") | F386: =IF($B$2=StoreConfig!C391,RIGHT(StoreConfig!J391,LEN(StoreConfig!J391)-FIND("|",StoreConfig!J391)),"") | G386: =IFERROR(VLOOKUP(--IF($B$2=StoreConfig!C391,LEFT(StoreConfig!J391,FIND("|",StoreConfig!J391)-1),""),$Q$4:$R$20,2,FALSE),"") | H386: =IF($B$2=StoreConfig!C391,LEFT(StoreConfig!G391,FIND("#",StoreConfig!G391)-1),"") | I386: =IF($B$2=StoreConfig!C391,RIGHT(StoreConfig!G391,LEN(StoreConfig!G391)-FIND("#",StoreConfig!G391)),"") | J386: =IF($B$2=StoreConfig!C391,IF(StoreConfig!L391=0,"不限购",StoreConfig!L391&"次"),"")
D387: =IF($B$2=StoreConfig!C392,StoreConfig!O392,"") | E387: =IF($B$2=StoreConfig!C392,StoreConfig!E392,"") | F387: =IF($B$2=StoreConfig!C392,RIGHT(StoreConfig!J392,LEN(StoreConfig!J392)-FIND("|",StoreConfig!J392)),"") | G387: =IFERROR(VLOOKUP(--IF($B$2=StoreConfig!C392,LEFT(StoreConfig!J392,FIND("|",StoreConfig!J392)-1),""),$Q$4:$R$20,2,FALSE),"") | H387: =IF($B$2=StoreConfig!C392,LEFT(StoreConfig!G392,FIND("#",StoreConfig!G392)-1),"") | I387: =IF($B$2=StoreConfig!C392,RIGHT(StoreConfig!G392,LEN(StoreConfig!G392)-FIND("#",StoreConfig!G392)),"") | J387: =IF($B$2=StoreConfig!C392,IF(StoreConfig!L392=0,"不限购",StoreConfig!L392&"次"),"")
D388: =IF($B$2=StoreConfig!C393,StoreConfig!O393,"") | E388: =IF($B$2=StoreConfig!C393,StoreConfig!E393,"") | F388: =IF($B$2=StoreConfig!C393,RIGHT(StoreConfig!J393,LEN(StoreConfig!J393)-FIND("|",StoreConfig!J393)),"") | G388: =IFERROR(VLOOKUP(--IF($B$2=StoreConfig!C393,LEFT(StoreConfig!J393,FIND("|",StoreConfig!J393)-1),""),$Q$4:$R$20,2,FALSE),"") | H388: =IF($B$2=StoreConfig!C393,LEFT(StoreConfig!G393,FIND("#",StoreConfig!G393)-1),"") | I388: =IF($B$2=StoreConfig!C393,RIGHT(StoreConfig!G393,LEN(StoreConfig!G393)-FIND("#",StoreConfig!G393)),"") | J388: =IF($B$2=StoreConfig!C393,IF(StoreConfig!L393=0,"不限购",StoreConfig!L393&"次"),"")
... D413: =IF($B$2=StoreConfig!C418,StoreConfig!O418,"") | E413: =IF($B$2=StoreConfig!C418,StoreConfig!E418,"") | F413: =IF($B$2=StoreConfig!C418,RIGHT(StoreConfig!J418,LEN(StoreConfig!J418)-FIND("|",StoreConfig!J418)),"") | G413: =IFERROR(VLOOKUP(--IF($B$2=StoreConfig!C418,LEFT(StoreConfig!J418,FIND("|",StoreConfig!J418)-1),""),$Q$4:$R$20,2,FALSE),"") | H413: =IF($B$2=StoreConfig!C418,LEFT(StoreConfig!G418,FIND("#",StoreConfig!G418)-1),"") | I413: =IF($B$2=StoreConfig!C418,RIGHT(StoreConfig!G418,LEN(StoreConfig!G418)-FIND("#",StoreConfig!G418)),"") | J413: =IF($B$2=StoreConfig!C418,IF(StoreConfig!L418=0,"不限购",StoreConfig!L418&"次"),"")
D414: =IF($B$2=StoreConfig!C419,StoreConfig!O419,"") | E414: =IF($B$2=StoreConfig!C419,StoreConfig!E419,"") | F414: =IF($B$2=StoreConfig!C419,RIGHT(StoreConfig!#REF!,LEN(StoreConfig!#REF!)-FIND("|",StoreConfig!#REF!)),"") | G414: =IFERROR(VLOOKUP(--IF($B$2=StoreConfig!C419,LEFT(StoreConfig!#REF!,FIND("|",StoreConfig!#REF!)-1),""),$Q$4:$R$20,2,FALSE),"") | H414: =IF($B$2=StoreConfig!C419,LEFT(StoreConfig!G419,FIND("#",StoreConfig!G419)-1),"") | I414: =IF($B$2=StoreConfig!C419,RIGHT(StoreConfig!G419,LEN(StoreConfig!G419)-FIND("#",StoreConfig!G419)),"") | J414: =IF($B$2=StoreConfig!C419,IF(StoreConfig!L419=0,"不限购",StoreConfig!L419&"次"),"")
D415: =IF($B$2=StoreConfig!C420,StoreConfig!O420,"") | E415: =IF($B$2=StoreConfig!C420,StoreConfig!E420,"") | F415: =IF($B$2=StoreConfig!C420,RIGHT(StoreConfig!#REF!,LEN(StoreConfig!#REF!)-FIND("|",StoreConfig!#REF!)),"") | G415: =IFERROR(VLOOKUP(--IF($B$2=StoreConfig!C420,LEFT(StoreConfig!#REF!,FIND("|",StoreConfig!#REF!)-1),""),$Q$4:$R$20,2,FALSE),"") | H415: =IF($B$2=StoreConfig!C420,LEFT(StoreConfig!G420,FIND("#",StoreConfig!G420)-1),"") | I415: =IF($B$2=StoreConfig!C420,RIGHT(StoreConfig!G420,LEN(StoreConfig!G420)-FIND("#",StoreConfig!G420)),"") | J415: =IF($B$2=StoreConfig!C420,IF(StoreConfig!L420=0,"不限购",StoreConfig!L420&"次"),"")
D416: =IF($B$2=StoreConfig!C421,StoreConfig!O421,"") | E416: =IF($B$2=StoreConfig!C421,StoreConfig!E421,"") | F416: =IF($B$2=StoreConfig!C421,RIGHT(StoreConfig!#REF!,LEN(StoreConfig!#REF!)-FIND("|",StoreConfig!#REF!)),"") | G416: =IFERROR(VLOOKUP(--IF($B$2=StoreConfig!C421,LEFT(StoreConfig!#REF!,FIND("|",StoreConfig!#REF!)-1),""),$Q$4:$R$20,2,FALSE),"") | H416: =IF($B$2=StoreConfig!C421,LEFT(StoreConfig!G421,FIND("#",StoreConfig!G421)-1),"") | I416: =IF($B$2=StoreConfig!C421,RIGHT(StoreConfig!G421,LEN(StoreConfig!G421)-FIND("#",StoreConfig!G421)),"") | J416: =IF($B$2=StoreConfig!C421,IF(StoreConfig!L421=0,"不限购",StoreConfig!L421&"次"),"")
D417: =IF($B$2=StoreConfig!C422,StoreConfig!O422,"") | E417: =IF($B$2=StoreConfig!C422,StoreConfig!E422,"") | F417: =IF($B$2=StoreConfig!C422,RIGHT(StoreConfig!#REF!,LEN(StoreConfig!#REF!)-FIND("|",StoreConfig!#REF!)),"") | G417: =IFERROR(VLOOKUP(--IF($B$2=StoreConfig!C422,LEFT(StoreConfig!#REF!,FIND("|",StoreConfig!#REF!)-1),""),$Q$4:$R$20,2,FALSE),"") | H417: =IF($B$2=StoreConfig!C422,LEFT(StoreConfig!G422,FIND("#",StoreConfig!G422)-1),"") | I417: =IF($B$2=StoreConfig!C422,RIGHT(StoreConfig!G422,LEN(StoreConfig!G422)-FIND("#",StoreConfig!G422)),"") | J417: =IF($B$2=StoreConfig!C422,IF(StoreConfig!L422=0,"不限购",StoreConfig!L422&"次"),"")
D418: =IF($B$2=StoreConfig!C423,StoreConfig!O423,"") | E418: =IF($B$2=StoreConfig!C423,StoreConfig!E423,"") | F418: =IF($B$2=StoreConfig!C423,RIGHT(StoreConfig!J423,LEN(StoreConfig!J423)-FIND("|",StoreConfig!J423)),"") | G418: =IFERROR(VLOOKUP(--IF($B$2=StoreConfig!C423,LEFT(StoreConfig!J423,FIND("|",StoreConfig!J423)-1),""),$Q$4:$R$20,2,FALSE),"") | H418: =IF($B$2=StoreConfig!C423,LEFT(StoreConfig!G423,FIND("#",StoreConfig!G423)-1),"") | I418: =IF($B$2=StoreConfig!C423,RIGHT(StoreConfig!G423,LEN(StoreConfig!G423)-FIND("#",StoreConfig!G423)),"") | J418: =IF($B$2=StoreConfig!C423,IF(StoreConfig!L423=0,"不限购",StoreConfig!L423&"次"),"")
D419: =IF($B$2=StoreConfig!C424,StoreConfig!O424,"") | E419: =IF($B$2=StoreConfig!C424,StoreConfig!E424,"") | F419: =IF($B$2=StoreConfig!C424,RIGHT(StoreConfig!J424,LEN(StoreConfig!J424)-FIND("|",StoreConfig!J424)),"") | G419: =IFERROR(VLOOKUP(--IF($B$2=StoreConfig!C424,LEFT(StoreConfig!J424,FIND("|",StoreConfig!J424)-1),""),$Q$4:$R$20,2,FALSE),"") | H419: =IF($B$2=StoreConfig!C424,LEFT(StoreConfig!G424,FIND("#",StoreConfig!G424)-1),"") | I419: =IF($B$2=StoreConfig!C424,RIGHT(StoreConfig!G424,LEN(StoreConfig!G424)-FIND("#",StoreConfig!G424)),"") | J419: =IF($B$2=StoreConfig!C424,IF(StoreConfig!L424=0,"不限购",StoreConfig!L424&"次"),"")
D420: =IF($B$2=StoreConfig!C425,StoreConfig!O425,"") | E420: =IF($B$2=StoreConfig!C425,StoreConfig!E425,"") | F420: =IF($B$2=StoreConfig!C425,RIGHT(StoreConfig!J425,LEN(StoreConfig!J425)-FIND("|",StoreConfig!J425)),"") | G420: =IFERROR(VLOOKUP(--IF($B$2=StoreConfig!C425,LEFT(StoreConfig!J425,FIND("|",StoreConfig!J425)-1),""),$Q$4:$R$20,2,FALSE),"") | H420: =IF($B$2=StoreConfig!C425,LEFT(StoreConfig!G425,FIND("#",StoreConfig!G425)-1),"") | I420: =IF($B$2=StoreConfig!C425,RIGHT(StoreConfig!G425,LEN(StoreConfig!G425)-FIND("#",StoreConfig!G425)),"") | J420: =IF($B$2=StoreConfig!C425,IF(StoreConfig!L425=0,"不限购",StoreConfig!L425&"次"),"")
D421: =IF($B$2=StoreConfig!C426,StoreConfig!O426,"") | E421: =IF($B$2=StoreConfig!C426,StoreConfig!E426,"") | F421: =IF($B$2=StoreConfig!C426,RIGHT(StoreConfig!J426,LEN(StoreConfig!J426)-FIND("|",StoreConfig!J426)),"") | G421: =IFERROR(VLOOKUP(--IF($B$2=StoreConfig!C426,LEFT(StoreConfig!J426,FIND("|",StoreConfig!J426)-1),""),$Q$4:$R$20,2,FALSE),"") | H421: =IF($B$2=StoreConfig!C426,LEFT(StoreConfig!G426,FIND("#",StoreConfig!G426)-1),"") | I421: =IF($B$2=StoreConfig!C426,RIGHT(StoreConfig!G426,LEN(StoreConfig!G426)-FIND("#",StoreConfig!G426)),"") | J421: =IF($B$2=StoreConfig!C426,IF(StoreConfig!L426=0,"不限购",StoreConfig!L426&"次"),"")
D422: =IF($B$2=StoreConfig!C427,StoreConfig!O427,"") | E422: =IF($B$2=StoreConfig!C427,StoreConfig!E427,"") | F422: =IF($B$2=StoreConfig!C427,RIGHT(StoreConfig!J427,LEN(StoreConfig!J427)-FIND("|",StoreConfig!J427)),"") | G422: =IFERROR(VLOOKUP(--IF($B$2=StoreConfig!C427,LEFT(StoreConfig!J427,FIND("|",StoreConfig!J427)-1),""),$Q$4:$R$20,2,FALSE),"") | H422: =IF($B$2=StoreConfig!C427,LEFT(StoreConfig!G427,FIND("#",StoreConfig!G427)-1),"") | I422: =IF($B$2=StoreConfig!C427,RIGHT(StoreConfig!G427,LEN(StoreConfig!G427)-FIND("#",StoreConfig!G427)),"") | J422: =IF($B$2=StoreConfig!C427,IF(StoreConfig!L427=0,"不限购",StoreConfig!L427&"次"),"")
D423: =IF($B$2=StoreConfig!C428,StoreConfig!O428,"") | E423: =IF($B$2=StoreConfig!C428,StoreConfig!E428,"") | F423: =IF($B$2=StoreConfig!C428,RIGHT(StoreConfig!J428,LEN(StoreConfig!J428)-FIND("|",StoreConfig!J428)),"") | G423: =IFERROR(VLOOKUP(--IF($B$2=StoreConfig!C428,LEFT(StoreConfig!J428,FIND("|",StoreConfig!J428)-1),""),$Q$4:$R$20,2,FALSE),"") | H423: =IF($B$2=StoreConfig!C428,LEFT(StoreConfig!G428,FIND("#",StoreConfig!G428)-1),"") | I423: =IF($B$2=StoreConfig!C428,RIGHT(StoreConfig!G428,LEN(StoreConfig!G428)-FIND("#",StoreConfig!G428)),"") | J423: =IF($B$2=StoreConfig!C428,IF(StoreConfig!L428=0,"不限购",StoreConfig!L428&"次"),"")
D424: =IF($B$2=StoreConfig!C429,StoreConfig!O429,"") | E424: =IF($B$2=StoreConfig!C429,StoreConfig!E429,"") | F424: =IF($B$2=StoreConfig!C429,RIGHT(StoreConfig!#REF!,LEN(StoreConfig!#REF!)-FIND("|",StoreConfig!#REF!)),"") | G424: =IFERROR(VLOOKUP(--IF($B$2=StoreConfig!C429,LEFT(StoreConfig!#REF!,FIND("|",StoreConfig!#REF!)-1),""),$Q$4:$R$20,2,FALSE),"") | H424: =IF($B$2=StoreConfig!C429,LEFT(StoreConfig!G429,FIND("#",StoreConfig!G429)-1),"") | I424: =IF($B$2=StoreConfig!C429,RIGHT(StoreConfig!G429,LEN(StoreConfig!G429)-FIND("#",StoreConfig!G429)),"") | J424: =IF($B$2=StoreConfig!C429,IF(StoreConfig!L429=0,"不限购",StoreConfig!L429&"次"),"")
D425: =IF($B$2=StoreConfig!C430,StoreConfig!O430,"") | E425: =IF($B$2=StoreConfig!C430,StoreConfig!E430,"") | F425: =IF($B$2=StoreConfig!C430,RIGHT(StoreConfig!#REF!,LEN(StoreConfig!#REF!)-FIND("|",StoreConfig!#REF!)),"") | G425: =IFERROR(VLOOKUP(--IF($B$2=StoreConfig!C430,LEFT(StoreConfig!#REF!,FIND("|",StoreConfig!#REF!)-1),""),$Q$4:$R$20,2,FALSE),"") | H425: =IF($B$2=StoreConfig!C430,LEFT(StoreConfig!G430,FIND("#",StoreConfig!G430)-1),"") | I425: =IF($B$2=StoreConfig!C430,RIGHT(StoreConfig!G430,LEN(StoreConfig!G430)-FIND("#",StoreConfig!G430)),"") | J425: =IF($B$2=StoreConfig!C430,IF(StoreConfig!L430=0,"不限购",StoreConfig!L430&"次"),"")
D426: =IF($B$2=StoreConfig!C431,StoreConfig!O431,"") | E426: =IF($B$2=StoreConfig!C431,StoreConfig!E431,"") | F426: =IF($B$2=StoreConfig!C431,RIGHT(StoreConfig!#REF!,LEN(StoreConfig!#REF!)-FIND("|",StoreConfig!#REF!)),"") | G426: =IFERROR(VLOOKUP(--IF($B$2=StoreConfig!C431,LEFT(StoreConfig!#REF!,FIND("|",StoreConfig!#REF!)-1),""),$Q$4:$R$20,2,FALSE),"") | H426: =IF($B$2=StoreConfig!C431,LEFT(StoreConfig!G431,FIND("#",StoreConfig!G431)-1),"") | I426: =IF($B$2=StoreConfig!C431,RIGHT(StoreConfig!G431,LEN(StoreConfig!G431)-FIND("#",StoreConfig!G431)),"") | J426: =IF($B$2=StoreConfig!C431,IF(StoreConfig!L431=0,"不限购",StoreConfig!L431&"次"),"")
D427: =IF($B$2=StoreConfig!C432,StoreConfig!O432,"") | E427: =IF($B$2=StoreConfig!C432,StoreConfig!E432,"") | F427: =IF($B$2=StoreConfig!C432,RIGHT(StoreConfig!#REF!,LEN(StoreConfig!#REF!)-FIND("|",StoreConfig!#REF!)),"") | G427: =IFERROR(VLOOKUP(--IF($B$2=StoreConfig!C432,LEFT(StoreConfig!#REF!,FIND("|",StoreConfig!#REF!)-1),""),$Q$4:$R$20,2,FALSE),"") | H427: =IF($B$2=StoreConfig!C432,LEFT(StoreConfig!G432,FIND("#",StoreConfig!G432)-1),"") | I427: =IF($B$2=StoreConfig!C432,RIGHT(StoreConfig!G432,LEN(StoreConfig!G432)-FIND("#",StoreConfig!G432)),"") | J427: =IF($B$2=StoreConfig!C432,IF(StoreConfig!L432=0,"不限购",StoreConfig!L432&"次"),"")
D428: =IF($B$2=StoreConfig!C433,StoreConfig!O433,"") | E428: =IF($B$2=StoreConfig!C433,StoreConfig!E433,"") | F428: =IF($B$2=StoreConfig!C433,RIGHT(StoreConfig!#REF!,LEN(StoreConfig!#REF!)-FIND("|",StoreConfig!#REF!)),"") | G428: =IFERROR(VLOOKUP(--IF($B$2=StoreConfig!C433,LEFT(StoreConfig!#REF!,FIND("|",StoreConfig!#REF!)-1),""),$Q$4:$R$20,2,FALSE),"") | H428: =IF($B$2=StoreConfig!C433,LEFT(StoreConfig!G433,FIND("#",StoreConfig!G433)-1),"") | I428: =IF($B$2=StoreConfig!C433,RIGHT(StoreConfig!G433,LEN(StoreConfig!G433)-FIND("#",StoreConfig!G433)),"") | J428: =IF($B$2=StoreConfig!C433,IF(StoreConfig!L433=0,"不限购",StoreConfig!L433&"次"),"")
D429: =IF($B$2=StoreConfig!C434,StoreConfig!O434,"") | E429: =IF($B$2=StoreConfig!C434,StoreConfig!E434,"") | F429: =IF($B$2=StoreConfig!C434,RIGHT(StoreConfig!J434,LEN(StoreConfig!J434)-FIND("|",StoreConfig!J434)),"") | G429: =IFERROR(VLOOKUP(--IF($B$2=StoreConfig!C434,LEFT(StoreConfig!J434,FIND("|",StoreConfig!J434)-1),""),$Q$4:$R$20,2,FALSE),"") | H429: =IF($B$2=StoreConfig!C434,LEFT(StoreConfig!G434,FIND("#",StoreConfig!G434)-1),"") | I429: =IF($B$2=StoreConfig!C434,RIGHT(StoreConfig!G434,LEN(StoreConfig!G434)-FIND("#",StoreConfig!G434)),"") | J429: =IF($B$2=StoreConfig!C434,IF(StoreConfig!L434=0,"不限购",StoreConfig!L434&"次"),"")
D430: =IF($B$2=StoreConfig!C435,StoreConfig!O435,"") | E430: =IF($B$2=StoreConfig!C435,StoreConfig!E435,"") | F430: =IF($B$2=StoreConfig!C435,RIGHT(StoreConfig!#REF!,LEN(StoreConfig!#REF!)-FIND("|",StoreConfig!#REF!)),"") | G430: =IFERROR(VLOOKUP(--IF($B$2=StoreConfig!C435,LEFT(StoreConfig!#REF!,FIND("|",StoreConfig!#REF!)-1),""),$Q$4:$R$20,2,FALSE),"") | H430: =IF($B$2=StoreConfig!C435,LEFT(StoreConfig!G435,FIND("#",StoreConfig!G435)-1),"") | I430: =IF($B$2=StoreConfig!C435,RIGHT(StoreConfig!G435,LEN(StoreConfig!G435)-FIND("#",StoreConfig!G435)),"") | J430: =IF($B$2=StoreConfig!C435,IF(StoreConfig!L435=0,"不限购",StoreConfig!L435&"次"),"")
D431: =IF($B$2=StoreConfig!C436,StoreConfig!O436,"") | E431: =IF($B$2=StoreConfig!C436,StoreConfig!E436,"") | F431: =IF($B$2=StoreConfig!C436,RIGHT(StoreConfig!J436,LEN(StoreConfig!J436)-FIND("|",StoreConfig!J436)),"") | G431: =IFERROR(VLOOKUP(--IF($B$2=StoreConfig!C436,LEFT(StoreConfig!J436,FIND("|",StoreConfig!J436)-1),""),$Q$4:$R$20,2,FALSE),"") | H431: =IF($B$2=StoreConfig!C436,LEFT(StoreConfig!G436,FIND("#",StoreConfig!G436)-1),"") | I431: =IF($B$2=StoreConfig!C436,RIGHT(StoreConfig!G436,LEN(StoreConfig!G436)-FIND("#",StoreConfig!G436)),"") | J431: =IF($B$2=StoreConfig!C436,IF(StoreConfig!L436=0,"不限购",StoreConfig!L436&"次"),"")
D432: =IF($B$2=StoreConfig!C437,StoreConfig!O437,"") | E432: =IF($B$2=StoreConfig!C437,StoreConfig!E437,"") | F432: =IF($B$2=StoreConfig!C437,RIGHT(StoreConfig!J437,LEN(StoreConfig!J437)-FIND("|",StoreConfig!J437)),"") | G432: =IFERROR(VLOOKUP(--IF($B$2=StoreConfig!C437,LEFT(StoreConfig!J437,FIND("|",StoreConfig!J437)-1),""),$Q$4:$R$20,2,FALSE),"") | H432: =IF($B$2=StoreConfig!C437,LEFT(StoreConfig!G437,FIND("#",StoreConfig!G437)-1),"") | I432: =IF($B$2=StoreConfig!C437,RIGHT(StoreConfig!G437,LEN(StoreConfig!G437)-FIND("#",StoreConfig!G437)),"") | J432: =IF($B$2=StoreConfig!C437,IF(StoreConfig!L437=0,"不限购",StoreConfig!L437&"次"),"")
D433: =IF($B$2=StoreConfig!C438,StoreConfig!O438,"") | E433: =IF($B$2=StoreConfig!C438,StoreConfig!E438,"") | F433: =IF($B$2=StoreConfig!C438,RIGHT(StoreConfig!J438,LEN(StoreConfig!J438)-FIND("|",StoreConfig!J438)),"") | G433: =IFERROR(VLOOKUP(--IF($B$2=StoreConfig!C438,LEFT(StoreConfig!J438,FIND("|",StoreConfig!J438)-1),""),$Q$4:$R$20,2,FALSE),"") | H433: =IF($B$2=StoreConfig!C438,LEFT(StoreConfig!G438,FIND("#",StoreConfig!G438)-1),"") | I433: =IF($B$2=StoreConfig!C438,RIGHT(StoreConfig!G438,LEN(StoreConfig!G438)-FIND("#",StoreConfig!G438)),"") | J433: =IF($B$2=StoreConfig!C438,IF(StoreConfig!L438=0,"不限购",StoreConfig!L438&"次"),"")
D434: =IF($B$2=StoreConfig!C439,StoreConfig!O439,"") | E434: =IF($B$2=StoreConfig!C439,StoreConfig!E439,"") | F434: =IF($B$2=StoreConfig!C439,RIGHT(StoreConfig!J439,LEN(StoreConfig!J439)-FIND("|",StoreConfig!J439)),"") | G434: =IFERROR(VLOOKUP(--IF($B$2=StoreConfig!C439,LEFT(StoreConfig!J439,FIND("|",StoreConfig!J439)-1),""),$Q$4:$R$20,2,FALSE),"") | H434: =IF($B$2=StoreConfig!C439,LEFT(StoreConfig!G439,FIND("#",StoreConfig!G439)-1),"") | I434: =IF($B$2=StoreConfig!C439,RIGHT(StoreConfig!G439,LEN(StoreConfig!G439)-FIND("#",StoreConfig!G439)),"") | J434: =IF($B$2=StoreConfig!C439,IF(StoreConfig!L439=0,"不限购",StoreConfig!L439&"次"),"")
D435: =IF($B$2=StoreConfig!C440,StoreConfig!O440,"") | E435: =IF($B$2=StoreConfig!C440,StoreConfig!E440,"") | F435: =IF($B$2=StoreConfig!C440,RIGHT(StoreConfig!#REF!,LEN(StoreConfig!#REF!)-FIND("|",StoreConfig!#REF!)),"") | G435: =IFERROR(VLOOKUP(--IF($B$2=StoreConfig!C440,LEFT(StoreConfig!#REF!,FIND("|",StoreConfig!#REF!)-1),""),$Q$4:$R$20,2,FALSE),"") | H435: =IF($B$2=StoreConfig!C440,LEFT(StoreConfig!G440,FIND("#",StoreConfig!G440)-1),"") | I435: =IF($B$2=StoreConfig!C440,RIGHT(StoreConfig!G440,LEN(StoreConfig!G440)-FIND("#",StoreConfig!G440)),"") | J435: =IF($B$2=StoreConfig!C440,IF(StoreConfig!L440=0,"不限购",StoreConfig!L440&"次"),"")
D436: =IF($B$2=StoreConfig!C441,StoreConfig!O441,"") | E436: =IF($B$2=StoreConfig!C441,StoreConfig!E441,"") | F436: =IF($B$2=StoreConfig!C441,RIGHT(StoreConfig!#REF!,LEN(StoreConfig!#REF!)-FIND("|",StoreConfig!#REF!)),"") | G436: =IFERROR(VLOOKUP(--IF($B$2=StoreConfig!C441,LEFT(StoreConfig!#REF!,FIND("|",StoreConfig!#REF!)-1),""),$Q$4:$R$20,2,FALSE),"") | H436: =IF($B$2=StoreConfig!C441,LEFT(StoreConfig!G441,FIND("#",StoreConfig!G441)-1),"") | I436: =IF($B$2=StoreConfig!C441,RIGHT(StoreConfig!G441,LEN(StoreConfig!G441)-FIND("#",StoreConfig!G441)),"") | J436: =IF($B$2=StoreConfig!C441,IF(StoreConfig!L441=0,"不限购",StoreConfig!L441&"次"),"")
D437: =IF($B$2=StoreConfig!C442,StoreConfig!O442,"") | E437: =IF($B$2=StoreConfig!C442,StoreConfig!E442,"") | F437: =IF($B$2=StoreConfig!C442,RIGHT(StoreConfig!#REF!,LEN(StoreConfig!#REF!)-FIND("|",StoreConfig!#REF!)),"") | G437: =IFERROR(VLOOKUP(--IF($B$2=StoreConfig!C442,LEFT(StoreConfig!#REF!,FIND("|",StoreConfig!#REF!)-1),""),$Q$4:$R$20,2,FALSE),"") | H437: =IF($B$2=StoreConfig!C442,LEFT(StoreConfig!G442,FIND("#",StoreConfig!G442)-1),"") | I437: =IF($B$2=StoreConfig!C442,RIGHT(StoreConfig!G442,LEN(StoreConfig!G442)-FIND("#",StoreConfig!G442)),"") | J437: =IF($B$2=StoreConfig!C442,IF(StoreConfig!L442=0,"不限购",StoreConfig!L442&"次"),"")
D438: =IF($B$2=StoreConfig!C443,StoreConfig!O443,"") | E438: =IF($B$2=StoreConfig!C443,StoreConfig!E443,"") | F438: =IF($B$2=StoreConfig!C443,RIGHT(StoreConfig!#REF!,LEN(StoreConfig!#REF!)-FIND("|",StoreConfig!#REF!)),"") | G438: =IFERROR(VLOOKUP(--IF($B$2=StoreConfig!C443,LEFT(StoreConfig!#REF!,FIND("|",StoreConfig!#REF!)-1),""),$Q$4:$R$20,2,FALSE),"") | H438: =IF($B$2=StoreConfig!C443,LEFT(StoreConfig!G443,FIND("#",StoreConfig!G443)-1),"") | I438: =IF($B$2=StoreConfig!C443,RIGHT(StoreConfig!G443,LEN(StoreConfig!G443)-FIND("#",StoreConfig!G443)),"") | J438: =IF($B$2=StoreConfig!C443,IF(StoreConfig!L443=0,"不限购",StoreConfig!L443&"次"),"")
D439: =IF($B$2=StoreConfig!C444,StoreConfig!O444,"") | E439: =IF($B$2=StoreConfig!C444,StoreConfig!E444,"") | F439: =IF($B$2=StoreConfig!C444,RIGHT(StoreConfig!#REF!,LEN(StoreConfig!#REF!)-FIND("|",StoreConfig!#REF!)),"") | G439: =IFERROR(VLOOKUP(--IF($B$2=StoreConfig!C444,LEFT(StoreConfig!#REF!,FIND("|",StoreConfig!#REF!)-1),""),$Q$4:$R$20,2,FALSE),"") | H439: =IF($B$2=StoreConfig!C444,LEFT(StoreConfig!G444,FIND("#",StoreConfig!G444)-1),"") | I439: =IF($B$2=StoreConfig!C444,RIGHT(StoreConfig!G444,LEN(StoreConfig!G444)-FIND("#",StoreConfig!G444)),"") | J439: =IF($B$2=StoreConfig!C444,IF(StoreConfig!L444=0,"不限购",StoreConfig!L444&"次"),"")
D440: =IF($B$2=StoreConfig!C445,StoreConfig!O445,"") | E440: =IF($B$2=StoreConfig!C445,StoreConfig!E445,"") | F440: =IF($B$2=StoreConfig!C445,RIGHT(StoreConfig!J445,LEN(StoreConfig!J445)-FIND("|",StoreConfig!J445)),"") | G440: =IFERROR(VLOOKUP(--IF($B$2=StoreConfig!C445,LEFT(StoreConfig!J445,FIND("|",StoreConfig!J445)-1),""),$Q$4:$R$20,2,FALSE),"") | H440: =IF($B$2=StoreConfig!C445,LEFT(StoreConfig!G445,FIND("#",StoreConfig!G445)-1),"") | I440: =IF($B$2=StoreConfig!C445,RIGHT(StoreConfig!G445,LEN(StoreConfig!G445)-FIND("#",StoreConfig!G445)),"") | J440: =IF($B$2=StoreConfig!C445,IF(StoreConfig!L445=0,"不限购",StoreConfig!L445&"次"),"")
D441: =IF($B$2=StoreConfig!C446,StoreConfig!O446,"") | E441: =IF($B$2=StoreConfig!C446,StoreConfig!E446,"") | F441: =IF($B$2=StoreConfig!C446,RIGHT(StoreConfig!J446,LEN(StoreConfig!J446)-FIND("|",StoreConfig!J446)),"") | G441: =IFERROR(VLOOKUP(--IF($B$2=StoreConfig!C446,LEFT(StoreConfig!J446,FIND("|",StoreConfig!J446)-1),""),$Q$4:$R$20,2,FALSE),"") | H441: =IF($B$2=StoreConfig!C446,LEFT(StoreConfig!G446,FIND("#",StoreConfig!G446)-1),"") | I441: =IF($B$2=StoreConfig!C446,RIGHT(StoreConfig!G446,LEN(StoreConfig!G446)-FIND("#",StoreConfig!G446)),"") | J441: =IF($B$2=StoreConfig!C446,IF(StoreConfig!L446=0,"不限购",StoreConfig!L446&"次"),"")
D442: =IF($B$2=StoreConfig!C447,StoreConfig!O447,"") | E442: =IF($B$2=StoreConfig!C447,StoreConfig!E447,"") | F442: =IF($B$2=StoreConfig!C447,RIGHT(StoreConfig!#REF!,LEN(StoreConfig!#REF!)-FIND("|",StoreConfig!#REF!)),"") | G442: =IFERROR(VLOOKUP(--IF($B$2=StoreConfig!C447,LEFT(StoreConfig!#REF!,FIND("|",StoreConfig!#REF!)-1),""),$Q$4:$R$20,2,FALSE),"") | H442: =IF($B$2=StoreConfig!C447,LEFT(StoreConfig!G447,FIND("#",StoreConfig!G447)-1),"") | I442: =IF($B$2=StoreConfig!C447,RIGHT(StoreConfig!G447,LEN(StoreConfig!G447)-FIND("#",StoreConfig!G447)),"") | J442: =IF($B$2=StoreConfig!C447,IF(StoreConfig!L447=0,"不限购",StoreConfig!L447&"次"),"")
D443: =IF($B$2=StoreConfig!C448,StoreConfig!O448,"") | E443: =IF($B$2=StoreConfig!C448,StoreConfig!E448,"") | F443: =IF($B$2=StoreConfig!C448,RIGHT(StoreConfig!J448,LEN(StoreConfig!J448)-FIND("|",StoreConfig!J448)),"") | G443: =IFERROR(VLOOKUP(--IF($B$2=StoreConfig!C448,LEFT(StoreConfig!J448,FIND("|",StoreConfig!J448)-1),""),$Q$4:$R$20,2,FALSE),"") | H443: =IF($B$2=StoreConfig!C448,LEFT(StoreConfig!G448,FIND("#",StoreConfig!G448)-1),"") | I443: =IF($B$2=StoreConfig!C448,RIGHT(StoreConfig!G448,LEN(StoreConfig!G448)-FIND("#",StoreConfig!G448)),"") | J443: =IF($B$2=StoreConfig!C448,IF(StoreConfig!L448=0,"不限购",StoreConfig!L448&"次"),"")
D444: =IF($B$2=StoreConfig!C449,StoreConfig!O449,"") | E444: =IF($B$2=StoreConfig!C449,StoreConfig!E449,"") | F444: =IF($B$2=StoreConfig!C449,RIGHT(StoreConfig!#REF!,LEN(StoreConfig!#REF!)-FIND("|",StoreConfig!#REF!)),"") | G444: =IFERROR(VLOOKUP(--IF($B$2=StoreConfig!C449,LEFT(StoreConfig!#REF!,FIND("|",StoreConfig!#REF!)-1),""),$Q$4:$R$20,2,FALSE),"") | H444: =IF($B$2=StoreConfig!C449,LEFT(StoreConfig!G449,FIND("#",StoreConfig!G449)-1),"") | I444: =IF($B$2=StoreConfig!C449,RIGHT(StoreConfig!G449,LEN(StoreConfig!G449)-FIND("#",StoreConfig!G449)),"") | J444: =IF($B$2=StoreConfig!C449,IF(StoreConfig!L449=0,"不限购",StoreConfig!L449&"次"),"")
D445: =IF($B$2=StoreConfig!C450,StoreConfig!O450,"") | E445: =IF($B$2=StoreConfig!C450,StoreConfig!E450,"") | F445: =IF($B$2=StoreConfig!C450,RIGHT(StoreConfig!J450,LEN(StoreConfig!J450)-FIND("|",StoreConfig!J450)),"") | G445: =IFERROR(VLOOKUP(--IF($B$2=StoreConfig!C450,LEFT(StoreConfig!J450,FIND("|",StoreConfig!J450)-1),""),$Q$4:$R$20,2,FALSE),"") | H445: =IF($B$2=StoreConfig!C450,LEFT(StoreConfig!G450,FIND("#",StoreConfig!G450)-1),"") | I445: =IF($B$2=StoreConfig!C450,RIGHT(StoreConfig!G450,LEN(StoreConfig!G450)-FIND("#",StoreConfig!G450)),"") | J445: =IF($B$2=StoreConfig!C450,IF(StoreConfig!L450=0,"不限购",StoreConfig!L450&"次"),"")
D446: =IF($B$2=StoreConfig!C451,StoreConfig!O451,"") | E446: =IF($B$2=StoreConfig!C451,StoreConfig!E451,"") | F446: =IF($B$2=StoreConfig!C451,RIGHT(StoreConfig!#REF!,LEN(StoreConfig!#REF!)-FIND("|",StoreConfig!#REF!)),"") | G446: =IFERROR(VLOOKUP(--IF($B$2=StoreConfig!C451,LEFT(StoreConfig!#REF!,FIND("|",StoreConfig!#REF!)-1),""),$Q$4:$R$20,2,FALSE),"") | H446: =IF($B$2=StoreConfig!C451,LEFT(StoreConfig!G451,FIND("#",StoreConfig!G451)-1),"") | I446: =IF($B$2=StoreConfig!C451,RIGHT(StoreConfig!G451,LEN(StoreConfig!G451)-FIND("#",StoreConfig!G451)),"") | J446: =IF($B$2=StoreConfig!C451,IF(StoreConfig!L451=0,"不限购",StoreConfig!L451&"次"),"")
D447: =IF($B$2=StoreConfig!C452,StoreConfig!O452,"") | E447: =IF($B$2=StoreConfig!C452,StoreConfig!E452,"") | F447: =IF($B$2=StoreConfig!C452,RIGHT(StoreConfig!#REF!,LEN(StoreConfig!#REF!)-FIND("|",StoreConfig!#REF!)),"") | G447: =IFERROR(VLOOKUP(--IF($B$2=StoreConfig!C452,LEFT(StoreConfig!#REF!,FIND("|",StoreConfig!#REF!)-1),""),$Q$4:$R$20,2,FALSE),"") | H447: =IF($B$2=StoreConfig!C452,LEFT(StoreConfig!G452,FIND("#",StoreConfig!G452)-1),"") | I447: =IF($B$2=StoreConfig!C452,RIGHT(StoreConfig!G452,LEN(StoreConfig!G452)-FIND("#",StoreConfig!G452)),"") | J447: =IF($B$2=StoreConfig!C452,IF(StoreConfig!L452=0,"不限购",StoreConfig!L452&"次"),"")
D448: =IF($B$2=StoreConfig!C453,StoreConfig!O453,"") | E448: =IF($B$2=StoreConfig!C453,StoreConfig!E453,"") | F448: =IF($B$2=StoreConfig!C453,RIGHT(StoreConfig!#REF!,LEN(StoreConfig!#REF!)-FIND("|",StoreConfig!#REF!)),"") | G448: =IFERROR(VLOOKUP(--IF($B$2=StoreConfig!C453,LEFT(StoreConfig!#REF!,FIND("|",StoreConfig!#REF!)-1),""),$Q$4:$R$20,2,FALSE),"") | H448: =IF($B$2=StoreConfig!C453,LEFT(StoreConfig!G453,FIND("#",StoreConfig!G453)-1),"") | I448: =IF($B$2=StoreConfig!C453,RIGHT(StoreConfig!G453,LEN(StoreConfig!G453)-FIND("#",StoreConfig!G453)),"") | J448: =IF($B$2=StoreConfig!C453,IF(StoreConfig!L453=0,"不限购",StoreConfig!L453&"次"),"")
D449: =IF($B$2=StoreConfig!C454,StoreConfig!O454,"") | E449: =IF($B$2=StoreConfig!C454,StoreConfig!E454,"") | F449: =IF($B$2=StoreConfig!C454,RIGHT(StoreConfig!#REF!,LEN(StoreConfig!#REF!)-FIND("|",StoreConfig!#REF!)),"") | G449: =IFERROR(VLOOKUP(--IF($B$2=StoreConfig!C454,LEFT(StoreConfig!#REF!,FIND("|",StoreConfig!#REF!)-1),""),$Q$4:$R$20,2,FALSE),"") | H449: =IF($B$2=StoreConfig!C454,LEFT(StoreConfig!G454,FIND("#",StoreConfig!G454)-1),"") | I449: =IF($B$2=StoreConfig!C454,RIGHT(StoreConfig!G454,LEN(StoreConfig!G454)-FIND("#",StoreConfig!G454)),"") | J449: =IF($B$2=StoreConfig!C454,IF(StoreConfig!L454=0,"不限购",StoreConfig!L454&"次"),"")
D450: =IF($B$2=StoreConfig!C455,StoreConfig!O455,"") | E450: =IF($B$2=StoreConfig!C455,StoreConfig!E455,"") | F450: =IF($B$2=StoreConfig!C455,RIGHT(StoreConfig!#REF!,LEN(StoreConfig!#REF!)-FIND("|",StoreConfig!#REF!)),"") | G450: =IFERROR(VLOOKUP(--IF($B$2=StoreConfig!C455,LEFT(StoreConfig!#REF!,FIND("|",StoreConfig!#REF!)-1),""),$Q$4:$R$20,2,FALSE),"") | H450: =IF($B$2=StoreConfig!C455,LEFT(StoreConfig!G455,FIND("#",StoreConfig!G455)-1),"") | I450: =IF($B$2=StoreConfig!C455,RIGHT(StoreConfig!G455,LEN(StoreConfig!G455)-FIND("#",StoreConfig!G455)),"") | J450: =IF($B$2=StoreConfig!C455,IF(StoreConfig!L455=0,"不限购",StoreConfig!L455&"次"),"")
D451: =IF($B$2=StoreConfig!C456,StoreConfig!O456,"") | E451: =IF($B$2=StoreConfig!C456,StoreConfig!E456,"") | F451: =IF($B$2=StoreConfig!C456,RIGHT(StoreConfig!J456,LEN(StoreConfig!J456)-FIND("|",StoreConfig!J456)),"") | G451: =IFERROR(VLOOKUP(--IF($B$2=StoreConfig!C456,LEFT(StoreConfig!J456,FIND("|",StoreConfig!J456)-1),""),$Q$4:$R$20,2,FALSE),"") | H451: =IF($B$2=StoreConfig!C456,LEFT(StoreConfig!G456,FIND("#",StoreConfig!G456)-1),"") | I451: =IF($B$2=StoreConfig!C456,RIGHT(StoreConfig!G456,LEN(StoreConfig!G456)-FIND("#",StoreConfig!G456)),"") | J451: =IF($B$2=StoreConfig!C456,IF(StoreConfig!L456=0,"不限购",StoreConfig!L456&"次"),"")
D452: =IF($B$2=StoreConfig!C457,StoreConfig!O457,"") | E452: =IF($B$2=StoreConfig!C457,StoreConfig!E457,"") | F452: =IF($B$2=StoreConfig!C457,RIGHT(StoreConfig!J457,LEN(StoreConfig!J457)-FIND("|",StoreConfig!J457)),"") | G452: =IFERROR(VLOOKUP(--IF($B$2=StoreConfig!C457,LEFT(StoreConfig!J457,FIND("|",StoreConfig!J457)-1),""),$Q$4:$R$20,2,FALSE),"") | H452: =IF($B$2=StoreConfig!C457,LEFT(StoreConfig!G457,FIND("#",StoreConfig!G457)-1),"") | I452: =IF($B$2=StoreConfig!C457,RIGHT(StoreConfig!G457,LEN(StoreConfig!G457)-FIND("#",StoreConfig!G457)),"") | J452: =IF($B$2=StoreConfig!C457,IF(StoreConfig!L457=0,"不限购",StoreConfig!L457&"次"),"")
D453: =IF($B$2=StoreConfig!C458,StoreConfig!O458,"") | E453: =IF($B$2=StoreConfig!C458,StoreConfig!E458,"") | F453: =IF($B$2=StoreConfig!C458,RIGHT(StoreConfig!#REF!,LEN(StoreConfig!#REF!)-FIND("|",StoreConfig!#REF!)),"") | G453: =IFERROR(VLOOKUP(--IF($B$2=StoreConfig!C458,LEFT(StoreConfig!#REF!,FIND("|",StoreConfig!#REF!)-1),""),$Q$4:$R$20,2,FALSE),"") | H453: =IF($B$2=StoreConfig!C458,LEFT(StoreConfig!G458,FIND("#",StoreConfig!G458)-1),"") | I453: =IF($B$2=StoreConfig!C458,RIGHT(StoreConfig!G458,LEN(StoreConfig!G458)-FIND("#",StoreConfig!G458)),"") | J453: =IF($B$2=StoreConfig!C458,IF(StoreConfig!L458=0,"不限购",StoreConfig!L458&"次"),"")
D454: =IF($B$2=StoreConfig!C459,StoreConfig!O459,"") | E454: =IF($B$2=StoreConfig!C459,StoreConfig!E459,"") | F454: =IF($B$2=StoreConfig!C459,RIGHT(StoreConfig!J459,LEN(StoreConfig!J459)-FIND("|",StoreConfig!J459)),"") | G454: =IFERROR(VLOOKUP(--IF($B$2=StoreConfig!C459,LEFT(StoreConfig!J459,FIND("|",StoreConfig!J459)-1),""),$Q$4:$R$20,2,FALSE),"") | H454: =IF($B$2=StoreConfig!C459,LEFT(StoreConfig!G459,FIND("#",StoreConfig!G459)-1),"") | I454: =IF($B$2=StoreConfig!C459,RIGHT(StoreConfig!G459,LEN(StoreConfig!G459)-FIND("#",StoreConfig!G459)),"") | J454: =IF($B$2=StoreConfig!C459,IF(StoreConfig!L459=0,"不限购",StoreConfig!L459&"次"),"")
D455: =IF($B$2=StoreConfig!C460,StoreConfig!O460,"") | E455: =IF($B$2=StoreConfig!C460,StoreConfig!E460,"") | F455: =IF($B$2=StoreConfig!C460,RIGHT(StoreConfig!#REF!,LEN(StoreConfig!#REF!)-FIND("|",StoreConfig!#REF!)),"") | G455: =IFERROR(VLOOKUP(--IF($B$2=StoreConfig!C460,LEFT(StoreConfig!#REF!,FIND("|",StoreConfig!#REF!)-1),""),$Q$4:$R$20,2,FALSE),"") | H455: =IF($B$2=StoreConfig!C460,LEFT(StoreConfig!G460,FIND("#",StoreConfig!G460)-1),"") | I455: =IF($B$2=StoreConfig!C460,RIGHT(StoreConfig!G460,LEN(StoreConfig!G460)-FIND("#",StoreConfig!G460)),"") | J455: =IF($B$2=StoreConfig!C460,IF(StoreConfig!L460=0,"不限购",StoreConfig!L460&"次"),"")
D456: =IF($B$2=StoreConfig!C461,StoreConfig!O461,"") | E456: =IF($B$2=StoreConfig!C461,StoreConfig!E461,"") | F456: =IF($B$2=StoreConfig!C461,RIGHT(StoreConfig!J461,LEN(StoreConfig!J461)-FIND("|",StoreConfig!J461)),"") | G456: =IFERROR(VLOOKUP(--IF($B$2=StoreConfig!C461,LEFT(StoreConfig!J461,FIND("|",StoreConfig!J461)-1),""),$Q$4:$R$20,2,FALSE),"") | H456: =IF($B$2=StoreConfig!C461,LEFT(StoreConfig!G461,FIND("#",StoreConfig!G461)-1),"") | I456: =IF($B$2=StoreConfig!C461,RIGHT(StoreConfig!G461,LEN(StoreConfig!G461)-FIND("#",StoreConfig!G461)),"") | J456: =IF($B$2=StoreConfig!C461,IF(StoreConfig!L461=0,"不限购",StoreConfig!L461&"次"),"")
D457: =IF($B$2=StoreConfig!C462,StoreConfig!O462,"") | E457: =IF($B$2=StoreConfig!C462,StoreConfig!E462,"") | F457: =IF($B$2=StoreConfig!C462,RIGHT(StoreConfig!#REF!,LEN(StoreConfig!#REF!)-FIND("|",StoreConfig!#REF!)),"") | G457: =IFERROR(VLOOKUP(--IF($B$2=StoreConfig!C462,LEFT(StoreConfig!#REF!,FIND("|",StoreConfig!#REF!)-1),""),$Q$4:$R$20,2,FALSE),"") | H457: =IF($B$2=StoreConfig!C462,LEFT(StoreConfig!G462,FIND("#",StoreConfig!G462)-1),"") | I457: =IF($B$2=StoreConfig!C462,RIGHT(StoreConfig!G462,LEN(StoreConfig!G462)-FIND("#",StoreConfig!G462)),"") | J457: =IF($B$2=StoreConfig!C462,IF(StoreConfig!L462=0,"不限购",StoreConfig!L462&"次"),"")
...

Sheet Sheet4
I1: Cost | Q1: Goods
I2: mut,int#int,2 | Q2: mut,int | R2: int,2
I3: 2 | Q3: 2
I4: 购买道具 | J4: 价格公式（ax^3+bx^2+cx+d) | Q4: 物品id | R4: 数量
I5: null | Q5: null
K6: |0#0#0# | L6: # | M6: |
D8: 26 | E8: 15385 | F8: 3250 | H8: 4 | I8: 26 | J8: 5000 | K8: =D8&$K$6&E8 -> 26|0#0#0#15385 | Q8: 11011 | R8: 50
D9: 26 | E9: 15385 | F9: 3250 | H9: 4 | I9: 26 | J9: 5000 | K9: =D9&$K$6&E9 -> 26|0#0#0#15385 | Q9: 11023 | R9: 50
D10: 26 | E10: 15385 | F10: 3250 | H10: 4 | I10: 26 | J10: 5000 | K10: =D10&$K$6&E10 -> 26|0#0#0#15385 | Q10: 11001 | R10: 50
D11: 26 | E11: 15385 | F11: 3250 | H11: 4 | I11: 26 | J11: 5000 | K11: =D11&$K$6&E11 -> 26|0#0#0#15385 | Q11: 11026 | R11: 50
D12: 26 | E12: 12308 | F12: 2600 | H12: 4 | I12: 26 | J12: 4000 | K12: =D12&$K$6&E12 -> 26|0#0#0#12308 | Q12: 11002 | R12: 50
D13: 26 | E13: 12308 | F13: 2600 | H13: 4 | I13: 26 | J13: 4000 | K13: =D13&$K$6&E13 -> 26|0#0#0#12308 | Q13: 11015 | R13: 50
D14: 26 | E14: 12308 | F14: 2600 | H14: 4 | I14: 26 | J14: 4000 | K14: =D14&$K$6&E14 -> 26|0#0#0#12308 | Q14: 11017 | R14: 50
D15: 26 | E15: 12308 | F15: 2600 | H15: 4 | I15: 26 | J15: 4000 | K15: =D15&$K$6&E15 -> 26|0#0#0#12308 | Q15: 11042 | R15: 50
D16: 26 | E16: 7692 | F16: 1625 | H16: 4 | I16: 26 | J16: 2500 | K16: =D16&$K$6&E16 -> 26|0#0#0#7692 | Q16: 11045 | R16: 50
D17: 26 | E17: 7692 | F17: 1625 | H17: 4 | I17: 26 | J17: 2500 | K17: =D17&$K$6&E17 -> 26|0#0#0#7692 | Q17: 11030 | R17: 50
D18: 26 | E18: 7692 | F18: 1625 | H18: 4 | I18: 26 | J18: 2500 | K18: =D18&$K$6&E18 -> 26|0#0#0#7692 | Q18: 11036 | R18: 50
D19: 26 | E19: 7692 | F19: 1625 | H19: 4 | I19: 26 | J19: 2500 | K19: =D19&$K$6&E19 -> 26|0#0#0#7692 | Q19: 11038 | R19: 50
C20: 不要了 | D20: 25 | E20: #VALUE! | F20: 40000 | H20: 不动 | I20: 25 | J20: 200 | K20: =StoreConfig!J20 -> 25|0#0#0#200 | Q20: 90001 | R20: 1
C21: 不要了 | D21: 25 | E21: #VALUE! | F21: 40000 | H21: 不动 | I21: 25 | J21: 200 | K21: =StoreConfig!J21 -> 25|0#0#0#200 | Q21: 90002 | R21: 1
C22: 不要了 | D22: 25 | E22: #VALUE! | F22: 40000 | H22: 不动 | I22: 25 | J22: 200 | K22: =StoreConfig!J22 -> 25|0#0#0#200 | Q22: 90003 | R22: 1
C23: 不要了 | D23: 25 | E23: #VALUE! | F23: 40000 | H23: 不动 | I23: 25 | J23: 200 | K23: =StoreConfig!J23 -> 25|0#0#0#200 | Q23: 90004 | R23: 1
C24: 不要了 | D24: 25 | E24: #VALUE! | F24: 40000 | H24: 不动 | I24: 25 | J24: 200 | K24: =StoreConfig!J24 -> 25|0#0#0#200 | Q24: 90005 | R24: 1
C25: 不要了 | D25: 25 | E25: #VALUE! | F25: 40000 | H25: 不动 | I25: 25 | J25: 200 | K25: =StoreConfig!J25 -> 25|0#0#0#200 | Q25: 90001 | R25: 1
C26: 不要了 | D26: 25 | E26: #VALUE! | F26: 40000 | H26: 不动 | I26: 25 | J26: 200 | K26: =StoreConfig!J26 -> 25|0#0#0#200 | Q26: 90002 | R26: 1
C27: 不要了 | D27: 25 | E27: #VALUE! | F27: 40000 | H27: 不动 | I27: 25 | J27: 200 | K27: =StoreConfig!J27 -> 25|0#0#0#200 | Q27: 90003 | R27: 1
C28: 不要了 | D28: 25 | E28: #VALUE! | F28: 40000 | H28: 不动 | I28: 25 | J28: 200 | K28: =StoreConfig!J28 -> 25|0#0#0#200 | Q28: 90004 | R28: 1
C29: 不要了 | D29: 25 | E29: #VALUE! | F29: 40000 | H29: 不动 | I29: 25 | J29: 200 | K29: =StoreConfig!J29 -> 25|0#0#0#200 | Q29: 90005 | R29: 1
C30: 不要了 | D30: 25 | E30: #N/A | F30: 300000 | H30: 不动 | I30: 25 | J30: 1500 | K30: =StoreConfig!J30 -> 25|0#0#0#1500 | Q30: 90201 | R30: 1
C31: 不要了 | D31: 25 | E31: #N/A | F31: 300000 | H31: 不动 | I31: 25 | J31: 1500 | K31: =StoreConfig!J31 -> 25|0#0#0#1500 | Q31: 90202 | R31: 1
... C41: 不要了 | D41: 25 | E41: #N/A | F41: 120000 | H41: 不动 | I41: 25 | J41: 600 | K41: =StoreConfig!J41 -> 25|0#0#0#600 | Q41: 60098 | R41: 1
C42: 不要了 | D42: 25 | E42: 4 | F42: 480000 | H42: 不动 | I42: 25 | J42: 2400 | K42: =StoreConfig!J42 -> 25|0#0#0#2400 | Q42: 60101 | R42: 1
C43: 不要了 | D43: 25 | E43: #N/A | F43: 480000 | H43: 不动 | I43: 25 | J43: 2400 | K43: =StoreConfig!J43 -> 25|0#0#0#2400 | Q43: 60106 | R43: 1
C44: 不要了 | D44: 25 | E44: #N/A | F44: 480000 | H44: 不动 | I44: 25 | J44: 2400 | K44: =StoreConfig!J44 -> 25|0#0#0#2400 | Q44: 60111 | R44: 1
C45: 不要了 | D45: 25 | E45: #N/A | F45: 480000 | H45: 不动 | I45: 25 | J45: 2400 | K45: =StoreConfig!J45 -> 25|0#0#0#2400 | Q45: 60116 | R45: 1
C46: 不要了 | D46: 25 | E46: #N/A | F46: 480000 | H46: 不动 | I46: 25 | J46: 2400 | K46: =StoreConfig!J46 -> 25|0#0#0#2400 | Q46: 60121 | R46: 1
C47: 不要了 | D47: 25 | E47: 4 | F47: 480000 | H47: 不动 | I47: 25 | J47: 2400 | K47: =StoreConfig!J47 -> 25|0#0#0#2400 | Q47: 60126 | R47: 1
C48: 不要了 | D48: 25 | E48: #N/A | F48: 480000 | H48: 不动 | I48: 25 | J48: 2400 | K48: =StoreConfig!J48 -> 25|0#0#0#2400 | Q48: 60131 | R48: 1
C49: 不要了 | D49: 25 | E49: 4 | F49: 480000 | H49: 不动 | I49: 25 | J49: 2400 | K49: =StoreConfig!J49 -> 25|0#0#0#2400 | Q49: 60136 | R49: 1
C50: 不要了 | D50: 25 | E50: 4 | F50: 480000 | H50: 不动 | I50: 25 | J50: 2400 | K50: =StoreConfig!J50 -> 25|0#0#0#2400 | Q50: 60141 | R50: 1
C51: 不要了 | D51: 25 | E51: #N/A | F51: 480000 | H51: 不动 | I51: 25 | J51: 2400 | K51: =StoreConfig!J51 -> 25|0#0#0#2400 | Q51: 60146 | R51: 1
C52: 不要了 | D52: 25 | E52: #N/A | F52: 480000 | H52: 不动 | I52: 25 | J52: 2400 | K52: =StoreConfig!J52 -> 25|0#0#0#2400 | Q52: 60151 | R52: 1
C53: 不要了 | D53: 25 | E53: #N/A | F53: 480000 | H53: 不动 | I53: 25 | J53: 2400 | K53: =StoreConfig!J53 -> 25|0#0#0#2400 | Q53: 3007 | R53: 1
C54: 不要了 | D54: 25 | E54: #N/A | F54: 480000 | H54: 不动 | I54: 25 | J54: 2400 | K54: =StoreConfig!J54 -> 25|0#0#0#2400 | Q54: 3008 | R54: 1
C55: 不要了 | D55: 25 | E55: #N/A | F55: 480000 | H55: 不动 | I55: 25 | J55: 2400 | K55: =StoreConfig!J55 -> 25|0#0#0#2400 | Q55: 3009 | R55: 1
C56: 不要了 | D56: 25 | E56: #N/A | F56: 480000 | H56: 不动 | I56: 25 | J56: 2400 | K56: =StoreConfig!J56 -> 25|0#0#0#2400 | Q56: 3010 | R56: 1
C57: 不要了 | D57: 25 | E57: #N/A | F57: 480000 | H57: 不动 | I57: 25 | J57: 2400 | K57: =StoreConfig!J57 -> 25|0#0#0#2400 | Q57: 3011 | R57: 1
C58: 不要了 | D58: 25 | E58: #N/A | F58: 480000 | H58: 不动 | I58: 25 | J58: 2400 | K58: =StoreConfig!J58 -> 25|0#0#0#2400 | Q58: 3012 | R58: 1
C59: 不要了 | D59: 25 | E59: #N/A | F59: 480000 | H59: 不动 | I59: 25 | J59: 2400 | K59: =StoreConfig!J59 -> 25|0#0#0#2400 | Q59: 3013 | R59: 1
C60: 不要了 | D60: 25 | E60: #N/A | F60: 480000 | H60: 不动 | I60: 25 | J60: 2400 | K60: =StoreConfig!J60 -> 25|0#0#0#2400 | Q60: 3014 | R60: 1
C61: 不要了 | D61: 25 | E61: #N/A | F61: 480000 | H61: 不动 | I61: 25 | J61: 2400 | K61: =StoreConfig!J61 -> 25|0#0#0#2400 | Q61: 3015 | R61: 1
C62: 不要了 | D62: 25 | E62: #N/A | F62: 480000 | H62: 不动 | I62: 25 | J62: 2400 | K62: =StoreConfig!J62 -> 25|0#0#0#2400 | Q62: 3016 | R62: 1
... C85: 不要了 | D85: 24 | E85: #VALUE! | F85: 18.75 | H85: 不动 | I85: 24 | J85: 15 | K85: =StoreConfig!J85 -> 24|0#0#0#15 | Q85: 5 | R85: 150
C86: 不要了 | D86: 22 | E86: #N/A | F86: 缺少价值对比 | H86: 不动 | I86: 22 | J86: 55 | K86: =StoreConfig!J86 -> 22|0#0#0#55 | Q86: 6001 | R86: 1
C87: 不要了 | D87: 22 | E87: #N/A | F87: 缺少价值对比 | H87: 不动 | I87: 22 | J87: 55 | K87: =StoreConfig!J87 -> 22|0#0#0#55 | Q87: 6002 | R87: 1
C88: 不要了 | D88: 22 | E88: #N/A | F88: 缺少价值对比 | H88: 不动 | I88: 22 | J88: 55 | K88: =StoreConfig!J88 -> 22|0#0#0#55 | Q88: 6003 | R88: 1
C89: 不要了 | D89: 22 | E89: #N/A | F89: 缺少价值对比 | H89: 不动 | I89: 22 | J89: 55 | K89: =StoreConfig!J89 -> 22|0#0#0#55 | Q89: 6004 | R89: 1
C90: 不要了 | D90: 22 | E90: #N/A | F90: 缺少价值对比 | H90: 不动 | I90: 22 | J90: 55 | K90: =StoreConfig!J90 -> 22|0#0#0#55 | Q90: 6005 | R90: 1
C91: 不要了 | D91: 22 | E91: #N/A | F91: 缺少价值对比 | H91: 不动 | I91: 22 | J91: 55 | K91: =StoreConfig!J91 -> 22|0#0#0#55 | Q91: 6006 | R91: 1
C92: 不要了 | D92: 22 | E92: #N/A | F92: 缺少价值对比 | H92: 不动 | I92: 22 | J92: 55 | K92: =StoreConfig!J92 -> 22|0#0#0#55 | Q92: 6007 | R92: 1
C93: 不要了 | D93: 22 | E93: #N/A | F93: 缺少价值对比 | H93: 不动 | I93: 22 | J93: 55 | K93: =StoreConfig!J93 -> 22|0#0#0#55 | Q93: 6008 | R93: 1
C94: 不要了 | D94: 22 | E94: #N/A | F94: 缺少价值对比 | H94: 不动 | I94: 22 | J94: 55 | K94: =StoreConfig!J94 -> 22|0#0#0#55 | Q94: 6009 | R94: 1
C95: 不要了 | D95: 22 | E95: #N/A | F95: 缺少价值对比 | H95: 不动 | I95: 22 | J95: 55 | K95: =StoreConfig!J95 -> 22|0#0#0#55 | Q95: 6010 | R95: 1
C96: 不要了 | D96: 22 | E96: #N/A | F96: 缺少价值对比 | H96: 不动 | I96: 22 | J96: 55 | K96: =StoreConfig!J96 -> 22|0#0#0#55 | Q96: 6011 | R96: 1
C97: 不要了 | D97: 22 | E97: #N/A | F97: 缺少价值对比 | H97: 不动 | I97: 22 | J97: 55 | K97: =StoreConfig!J97 -> 22|0#0#0#55 | Q97: 6012 | R97: 1
... C118: 不要了 | D118: 22 | E118: #VALUE! | F118: 缺少价值对比 | H118: 不动 | I118: 22 | J118: 10 | K118: =StoreConfig!J118 -> 22|0#0#0#10 | Q118: 5 | R118: 100
C119: 不处理 | D119: 16 | E119: 250 | F119: 250 | H119: 不动 | I119: 16 | J119: 250 | K119: =StoreConfig!J119 -> 16|0#0#0#250 | Q119: 19 | R119: 1
C120: 不处理 | D120: 16 | E120: 2500 | F120: 2250 | H120: 9 | I120: 16 | J120: 2250 | K120: =StoreConfig!J120 -> 16|0#0#0#2500 | Q120: 19 | R120: 10
C121: 不处理 | D121: 16 | E121: #VALUE! | F121: 100 | H121: 不动 | I121: 16 | J121: 100 | K121: =StoreConfig!J121 -> 16|0#0#0#100 | P121: =R121*50 -> 100 | Q121: 60 | R121: 2
C122: 不处理 | D122: 16 | E122: #VALUE! | F122: 880 | H122: 不动 | I122: 16 | J122: 880 | K122: =StoreConfig!J122 -> 16|0#0#0#250 | P122: =R122*50 -> 250 | Q122: 60 | R122: 5
C123: 不处理 | D123: 16 | E123: 5 | F123: 0 | H123: 0 | I123: 16 | J123: 0 | K123: =StoreConfig!J123 -> 16|0#0#0#0 | Q123: 14 | R123: 25000
C124: 不处理 | D124: 16 | E124: #N/A | F124: 缺少价值对比 | H124: 不动 | I124: 16 | J124: 50#50#100#100#150#200#300#400#500 | K124: =StoreConfig!J124 -> 16|50#50#100#100#150#200#300#400#500 | Q124: 2 | R124: 100
C125: 不处理 | D125: 16 | E125: 20 | F125: 20 | H125: 不动 | I125: 16 | J125: 20 | K125: =StoreConfig!J125 -> 16|0#0#0#20 | Q125: 23 | R125: 1
C126: 不处理 | D126: 47 | E126: #N/A | F126: 缺少价值对比 | H126: 不动 | I126: 47 | J126: 1 | K126: =StoreConfig!J126 -> 47|0#0#0#1 | Q126: 0 | R126: 0
C127: 不处理 | D127: 16 | E127: #N/A | F127: 缺少价值对比 | H127: 不动 | I127: 16 | J127: 0#0#20#20 | K127: =StoreConfig!J127 -> 16|0#0#20#20 | Q127: 27 | R127: 1
C128: 不处理 | D128: 16 | E128: #N/A | F128: 缺少价值对比 | H128: 不动 | I128: 16 | J128: 0#0#150#100 | K128: =StoreConfig!J128 -> 16|0#0#150#100 | Q128: 28 | R128: 1
C129: 不处理 | D129: 16 | E129: #N/A | F129: 缺少价值对比 | H129: 不动 | I129: 16 | J129: 0#200#400#400#600#600#1000 | K129: =StoreConfig!J129 -> 16|0#200#400#400#600#600#1000 | Q129: 0 | R129: 0
C130: 不处理 | D130: 16 | E130: #N/A | F130: 缺少价值对比 | H130: 不动 | I130: 16 | J130: 20#20#40#40#60#80#100#120#160#200 | K130: =StoreConfig!J130 -> 16|20#20#40#40#60#80#100#120#160#200 | Q130: 44 | R130: 1
C131: 不处理 | D131: 15 | E131: #N/A | F131: 缺少价值对比 | H131: 不动 | I131: 16 | J131: 1 | K131: =StoreConfig!J131 -> 16|0#0#0#1 | Q131: 16 | R131: 10
C132: 不处理 | D132: 15 | E132: #N/A | F132: 缺少价值对比 | H132: 不动 | I132: 16 | J132: 30 | K132: =StoreConfig!J132 -> 16|0#0#0#30 | Q132: 46 | R132: 1
C133: 不处理 | D133: 16 | E133: #N/A | F133: 缺少价值对比 | H133: 不动 | I133: 16 | J133: 50#100#200#200#200#200#200#200#200#200#200 | K133: =StoreConfig!J133 -> 16|50#100#200#200#200#200#200#200#200#200#200 | Q133: 0 | R133: 0
C134: 不处理 | D134: 16 | E134: #N/A | F134: 缺少价值对比 | H134: 不动 | I134: 16 | J134: 0#0#100#150 | K134: =StoreConfig!J134 -> 16|0#0#100#150 | Q134: 1 | R134: 100
C135: 不处理 | D135: 16 | E135: #N/A | F135: 20 | H135: 不动 | I135: 16 | J135: 20 | K135: =StoreConfig!J135 -> 16|0#0#0#20 | Q135: 53 | R135: 1
C136: 不处理 | D136: 16 | E136: #N/A | F136: 500 | H136: 不动 | I136: 16 | J136: 500 | K136: =StoreConfig!J136 -> 16|0#0#0#500 | Q136: 64 | R136: 1
C137: 不处理 | D137: 16 | E137: #N/A | F137: 100 | H137: 不动 | I137: 16 | J137: 100 | K137: =StoreConfig!J137 -> 16|0#0#0#100 | Q137: 0 | R137: 0
C138: 不处理 | D138: 16 | E138: #N/A | F138: 缺少价值对比 | H138: 不动 | I138: 16 | J138: 0#0#10#10 | K138: =StoreConfig!J138 -> 16|0#0#10#10 | Q138: 0 | R138: 0
C139: 不处理 | D139: 16 | E139: #N/A | F139: 50 | H139: 不动 | I139: 16 | J139: 50 | K139: =StoreConfig!J139 -> 16|0#0#0#50 | Q139: 90 | R139: 0
C140: 不处理 | D140: 16 | E140: #N/A | F140: 50 | H140: 不动 | I140: 16 | J140: 50 | K140: =StoreConfig!J140 -> 16|0#0#0#50 | Q140: 90 | R140: 0
C141: 不处理 | D141: 16 | E141: #N/A | F141: 50 | H141: 不动 | I141: 16 | J141: 50 | K141: =StoreConfig!J141 -> 16|0#0#0#50 | Q141: 90 | R141: 0
C142: 不处理 | D142: 16 | E142: #N/A | F142: 50 | H142: 不动 | I142: 16 | J142: 50 | K142: =StoreConfig!J142 -> 16|0#0#0#50 | Q142: 90 | R142: 0
C143: 不处理 | D143: 16 | E143: #N/A | F143: 50 | H143: 不动 | I143: 16 | J143: 50 | K143: =StoreConfig!J143 -> 16|0#0#0#50 | Q143: 90 | R143: 0
C144: 不要了 | D144: 16 | E144: 10 | F144: 20 | H144: 不动 | I144: 16 | J144: 20 | K144: =StoreConfig!J144 -> 16|0#0#0#20 | Q144: 14 | R144: 50000
C145: 不要了 | D145: 16 | E145: 25 | F145: 50 | H145: 不动 | I145: 16 | J145: 50 | K145: =StoreConfig!J145 -> 16|0#0#0#50 | Q145: 14 | R145: 125000
C146: 不处理 | D146: 16 | E146: #N/A | F146: 缺少价值对比 | H146: 不动 | I146: 16 | J146: 300#500#800#1000 | K146: =StoreConfig!J146 -> 16|300#500#800#1000 | Q146: 0 | R146: 0
C147: 不处理 | D147: 16 | E147: #N/A | F147: 100 | H147: 不动 | I147: 16 | J147: 100 | K147: =StoreConfig!J147 -> 16|0#0#0#100 | Q147: 31 | R147: 1
C148: 不处理 | D148: 16 | E148: #N/A | F148: 50 | H148: 不动 | I148: 16 | J148: 50 | K148: =StoreConfig!J148 -> 16|0#0#0#50 | Q148: 71 | R148: 0
C149: 不要了 | D149: 16 | E149: 100 | F149: 100 | H149: 不动 | I149: 16 | J149: 100 | K149: =StoreConfig!J149 -> 16|0#0#0#100 | Q149: 3 | R149: 100000
C150: 不要了 | D150: 16 | E150: 200 | F150: 200 | H150: 不动 | I150: 16 | J150: 200 | K150: =StoreConfig!J150 -> 16|0#0#0#200 | Q150: 3 | R150: 200000
C151: 不要了 | D151: 16 | E151: 400 | F151: 400 | H151: 不动 | I151: 16 | J151: 400 | K151: =StoreConfig!J151 -> 16|0#0#0#400 | Q151: 3 | R151: 400000
C152: 不要了 | D152: 16 | E152: 2500 | F152: 2500 | H152: 不动 | I152: 16 | J152: 2500 | K152: =StoreConfig!J152 -> 16|0#0#0#2500 | Q152: 20 | R152: 1
...
