{"text_format":"3","workbook":"xlsx","n_sheets":4,"sheets":["MapPointConfig","Sheet1","Sheet2","事件点刷新规则"],"not_rendered":{"images":23,"comments":1},"read":"whole","date_system":"1900"}

{"sheet":"MapPointConfig","index":0,"n_rows":2632,"n_cols":12,"rows_kept":2632}
[null,"Id","Style","Desc","Icon","Refresh","TriggerRules","InitialEventId","isHidden","EventPointBg","RandomProbability","IsShowFightAbility"]
[null,"int","int","string","int","int","int","int","int","string","mut,int#int,2","mut,int#int,1"]
[null,2,2,3,3,4,2,4,3,3,4,4]
[null,"唯一id，id规则：\n首位代表玩法内容：1探索 2副本 3爬塔\n2,3位代表地图编号\n最后两位代表事件点","事件点类型\n(1怪 2矿 3出生点 4传送门 5连续事件 6行脚商人 7宝箱 8阻挡点 9试炼buff 10门（桥)）11银英怪\n12血战专用矿\n ","事件点描述","事件点图标","事件点的刷新规则\n1每日刷新\n2探索刷新\n3一次性\n4时间刷新","事件点触发规则\n1边缘触发 \n2覆盖触发\n3点击触发","初始关联事件id","初始关联图标状态\n1、始终显示\n2、触发显示\n3、永不显示","事件点背景图","事件点出现概率","需要显示的战力"]
["默认值",0,0,{"$f":"\"\"","v":""},{"$f":"\"\"","v":""},0,0,0,1,{"$f":"\"\"","v":""},"null","null"]
["正确性校对"]
["校对值"]
[null,1,5,"关卡显示用",1]
[null,2,5,"关卡显示用",2]
[null,3,5,"关卡显示用",6]
[null,4,5,"关卡显示用",7]
[null,5,5,"关卡显示用",8]
[null,6,5,"关卡显示用",10]
[null,7,5,"关卡显示用",11]
[null,8,5,"关卡显示用",13]
[null,9,5,"关卡显示用",17]
[null,10,5,"关卡显示用",14]
[null,11,5,"关卡显示用",15]
[null,12,5,"关卡显示用",3]
[]
[null,12001,12,"大矿"]
[null,12002,12,"小矿"]
[]
[null,100001,4,"战乱荒林",5,2,2,100001]
[null,100002,5,"初遇",7,2,2,100002]
[null,100003,5,"序章初入",7,3,2,100019]
[null,100004,1,"序章怪物",1,2,1,100010]
[null,100005,5,"测试用点1",7,3,2,100014]
[null,100006,5,"测试用点2",7,3,2,100015]
[null,100007,5,"剧情点",7,3,2,100040]
[null,100008,5,"妖兽",1,2,2,100050]
[]
[null,101001,5,"受伤的冒险者",7,2,2,101001,null,"bg_jq_nonwusenlin"]
[null,101002,5,"妖兽领地",7,2,2,101012,null,"bg_jq_nonwusenlin",null,10101]
[null,101003,5,"受伤的冉宜",7,2,2,101023,null,"bg_jq_nonwusenlin"]
[null,101004,5,"逃跑的妖兽",7,2,2,101032,null,"bg_jq_nonwusenlin",null,10102]
[null,101005,5,"受伤的冉宜和薛苓",7,2,2,101039,null,"bg_jq_nonwusenlin"]
[null,101006,5,"草药点",7,2,2,101047,null,"bg_jq_nonwusenlin",null,10103]
[null,101007,8,"阻挡点",null,2]
[null,101008,7,"宝箱1",8,2,2,101049,null,"bg_jq_nonwusenlin"]
[null,101009,7,"宝箱2",8,2,2,101050,null,"bg_jq_nonwusenlin"]
[null,101010,7,"宝箱3",8,2,2,101051,null,"bg_jq_nonwusenlin"]
[null,101011,7,"宝箱4",8,2,2,101052,null,"bg_jq_nonwusenlin"]
[null,101012,7,"宝箱5",8,2,2,101053,null,"bg_jq_nonwusenlin"]
[null,101013,6,"云游商人",12,2,2,101054,null,null,"1#100|0#700"]
[null,101014,5,"冒险者尸体",7,2,2,101056]
[null,101015,7,"大宝箱1",8,2,2,101060]
[null,101016,1,"杂兵",1,2,1,101061,{"$nulls":3},10104]
[null,101017,1,"精英杂兵",2,2,1,101062,{"$nulls":3},10105]
[null,101018,7,"大宝箱2",8,2,2,101063]
[null,101019,11,"银英怪",17,2,2,101064,null,null,"1#900|0#100"]
[null,101020,5,"测试试炼boss"]
[null,101021,5,"测试试炼福利怪"]
[null,101022,5,"测试试炼"]
[null,101023,6,"云游商人",12,2,2,101054]
[]
[null,102001,5,"平民群1",7,2,2,102001,null,"bg_jq_senlin",null,10201]
[null,102002,5,"南方塔楼",7,2,2,102016,null,"bg_jq_talou",null,"10202#10203#10204"]
[null,102003,5,"平民群2",7,2,2,102054,null,"bg_jq_juluo"]
[null,102004,1,"杂兵妖兽",1,2,1,102081,{"$nulls":3},10206]
[null,102005,2,"阵石",11,2,2,102077,null,"bg_jq_senlin"]
[null,102006,1,"精英妖兽",2,2,1,102128,null,"bg_jq_senlin",null,10210]
[null,102007,5,"史诗妖兽",10,2,2,102133,null,"bg_jq_senlin",null,10209]
[null,102008,2,"任务矿点",11,2,2,102080,null,"bg_jq_senlin"]
[null,102009,8,"阻挡点",null,2]
[null,102010,5,"平民群3",7,2,2,102105,null,"bg_jq_juluo"]
[null,102011,5,"地图探索点",7,2,2,102116,null,"bg_jq_senlin",null,10208]
[null,102012,7,"宝箱1",8,2,2,102122,null,"bg_jq_senlin"]
[null,102013,7,"宝箱2",8,2,2,102123,null,"bg_jq_senlin"]
[null,102014,7,"宝箱3",8,2,2,102124,null,"bg_jq_senlin"]
[null,102015,7,"宝箱4",8,2,2,102125,null,"bg_jq_senlin"]
[null,102016,7,"宝箱5",8,2,2,102126,null,"bg_jq_senlin"]
[null,102017,7,"宝箱6",8,2,2,102127,null,"bg_jq_senlin"]
[]
[null,103001,5,"遇难者",7,2,2,103001,null,"bg_jq_posundemache",null,10301]
[null,103002,5,"匪徒营寨",7,2,2,103016,null,"bg_jq_yingzhai",null,"10302#10303"]
[null,103003,5,"马贼头领",7,2,2,103024,null,"bg_jq_yuanye",null,10304]
[null,103004,5,"匪徒营寨2",7,2,2,103034,null,"bg_jq_yingzhai",null,10305]
[null,103005,5,"遇难者2",7,2,2,103047,null,"bg_jq_posundemache"]
[null,103006,8,"阻挡点",null,2]
[null,103007,1,"杂兵",1,2,1,103069,{"$nulls":3},10306]
[null,103008,7,"藏宝箱",8,2,2,103066,null,"bg_jq_yuanye"]
[null,103009,7,"藏宝箱",8,2,2,103067,null,"bg_jq_yuanye"]
[null,103010,7,"藏宝箱",8,2,2,103068,null,"bg_jq_yuanye"]
[null,103011,5,"传送点1",9,2,2,103094,null,"bg_jq_yingzhai"]
[null,103012,5,"传送点2",9,2,2,103096,null,"bg_jq_yingzhai"]
[null,103013,5,"马贼头领2",7,2,2,103072,null,"bg_jq_yuanye",null,10307]
[null,103014,1,"精英怪",2,2,1,103098,{"$nulls":3},10309]
[null,103015,5,"buff-回血",3,2,2,103099]
[null,103016,5,"buff-加攻击",14,2,2,103101]
[null,103017,5,"buff-加双抗",15,2,2,103103]
[]
[null,104001,5,"河边停船",7,2,2,104001,null,"bg_jq_hebian",null,10401]
[null,104002,5,"北方墓碑",7,2,2,104011,null,"bg_jq_mubei",null,10402]
[null,104003,5,"南方营寨",7,2,2,104022,null,"bg_jq_yingzhai",null,10403]
[null,104004,8,"阻挡点",null,2]
[null,104005,5,"渔民",7,2,2,104038,null,"bg_jq_yuanye"]
[null,104006,1,"杂兵",1,2,1,104043,{"$nulls":3},10404]
[null,104007,7,"藏宝箱",8,2,2,104040,null,"bg_jq_yuanye"]
[null,104008,7,"藏宝箱",8,2,2,104041,null,"bg_jq_yuanye"]
[null,104009,7,"藏宝箱",8,2,2,104042,null,"bg_jq_yuanye"]
[null,104010,10,"断桥",7,2,1,104044]
[null,104011,5,"伐木点",7,2,2,104045,{"$nulls":3},10405]
[null,104012,5,"宝藏2",7,2,2,104035,{"$nulls":3},10406]
[null,104013,1,"精英怪",2,2,1,104056,{"$nulls":3},10407]
[]
[null,105001,5,"商人",7,2,2,105001,null,"bg_jq_yuanye"]
[null,105002,10,"感到异常",null,2,1,105005,3,"bg_jq_yuanye"]
[null,105003,10,"山洞附近",7,2,1,105008,3,"bg_jq_yuanye"]
[null,105004,5,"淡水",7,2,2,105060,null,"bg_jq_yuanye",null,10505]
[null,105005,8,"阻挡点",null,2]
[null,105006,10,"出山洞",null,2,1,105055,3,"bg_jq_yuanye"]
[null,105007,1,"杂兵",1,2,1,105136,{"$nulls":3},10501]
[null,105008,7,"藏宝箱",8,2,2,105132,null,"bg_jq_yuanye"]
[null,105009,7,"藏宝箱",8,2,2,105133,null,"bg_jq_yuanye"]
[null,105010,7,"藏宝箱",8,2,2,105134,null,"bg_jq_yuanye"]
[null,105011,5,"兽肉",7,2,2,105063,{"$nulls":3},10502]
[null,105012,5,"山洞",7,2,2,105023]
[null,105013,5,"兽肉2",7,2,2,105102,{"$nulls":3},10502]
[null,105014,5,"兽肉必给点",7,2,2,105109,{"$nulls":3},10502]
[null,105015,5,"石像",7,2,2,105080,{"$nulls":3},"10506#10507#10508"]
[null,105016,5,"机关1",17,2,2,105086]
[null,105017,5,"机关2",17,2,2,105117]
[null,105018,5,"机关3",17,2,2,105117]
[null,105019,5,"机关4",17,2,2,105117]
[null,105020,5,"石像2",7,2,2,105093]
[null,105021,1,"精英怪",2,2,1,105135,{"$nulls":3},10504]
[]
[null,106001,5,"守备军士兵",7,2,2,106001]
[null,106002,5,"平民",7,2,2,106005,{"$nulls":3},10601]
[null,106003,5,"西边调查点",7,2,2,106023,{"$nulls":3},10602]
[null,106004,5,"西边调查点2",7,2,2,106039,{"$nulls":3},10602]
[null,106005,5,"守备军士兵2",7,2,2,106018]
[null,106006,5,"守备军士兵3",7,2,2,106033]
[null,106007,5,"守备军士兵4",7,2,2,106049]
[null,106008,8,"阻挡点"]
[null,106009,7,"藏宝箱",8,2,2,106052]
[null,106010,7,"藏宝箱",8,2,2,106053]
[null,106011,7,"藏宝箱",8,2,2,106054]
[null,106012,7,"藏宝箱",8,2,2,106055]
[null,106013,7,"藏宝箱",8,2,2,106056]
[null,106014,1,"精英杂兵",2,2,1,106072,{"$nulls":3},10604]
[null,106015,1,"普通杂兵",1,2,1,106073,{"$nulls":3},10603]
[null,106016,5,"隐身杂兵",1,2,1,106060,3]
[null,106017,5,"隐身遭遇战1",1,2,1,106057,3]
[null,106018,5,"隐身遭遇战2",1,2,1,106067,3]
[null,106019,5,"城南",7,2,2,106065]
[null,106020,5,"大路",7,2,2,106069]
[]
[null,107001,5,"御水之都",7,2,1,107001,3]
[null,107002,5,"地痞",7,2,2,107007,{"$nulls":3},10701]
[null,107003,5,"赌坊",7,2,2,107026,{"$nulls":3},"10702#10708"]
[null,107004,5,"平民",7,2,2,107051]
[null,107005,1,"杂兵小头领",2,2,1,107059,{"$nulls":3},10704]
[null,107006,8,"阻挡点",null,2]
[null,107007,7,"藏宝箱",8,2,2,107060]
[null,107008,7,"藏宝箱",8,2,2,107061]
[null,107009,7,"藏宝箱",8,2,2,107062]
[null,107010,5,"幻魂草1",7,2,2,107070,{"$nulls":3},10705]
[null,107011,5,"幻魂草2",7,2,2,107073,{"$nulls":3},10706]
[null,107012,5,"幻魂草3",7,2,2,107076,{"$nulls":3},10707]
[null,107013,1,"普通杂兵",1,2,1,107090,{"$nulls":3},10709]
[null,107014,5,"幻魂草回收点",7,2,2,107092]
[null,107015,5,"押送点1",7,2,2,107104,{"$nulls":3},10710]
[null,107016,5,"押送点2",7,2,2,107106,{"$nulls":3},10710]
[null,107017,5,"押送点3",7,2,2,107108,{"$nulls":3},10710]
[null,107018,5,"押送点4",7,2,2,107110,{"$nulls":3},10710]
[null,107019,5,"楚恒",7,2,2,107112]
[null,107020,5,"大长老位置",7,2,2,107116,{"$nulls":3},"10712#10711"]
[null,107021,5,"平民2",7,2,2,107131]
[]
[null,108001,5,"出门",7,2,2,108001]
[null,108002,5,"受伤的士兵",7,2,2,108009]
[null,108003,5,"信徒",7,2,2,108018,{"$nulls":3},"10801#10802"]
[null,108004,8,"阻挡点",null,2]
[null,108005,7,"藏宝箱",8,2,2,108038]
[null,108006,7,"藏宝箱",8,2,2,108039]
[null,108007,7,"藏宝箱",8,2,2,108040]
[null,108008,5,"结界节点",7,2,2,108041,{"$nulls":3},10803]
[null,108009,5,"好人1",7,2,2,108056]
[null,108010,5,"好人2",7,2,2,108061]
[null,108011,5,"好人3",7,2,2,108066]
[null,108012,5,"坏人1",7,2,2,108071]
[null,108013,5,"坏人2",7,2,2,108075]
[null,108014,5,"坏人3",7,2,2,108079]
[null,108015,1,"普通杂兵",1,2,1,108093,{"$nulls":3},10806]
[null,108016,1,"精英杂兵",2,2,1,108094,{"$nulls":3},10807]
[null,108017,5,"结界节点",7,2,2,108041,{"$nulls":3},10803]
[null,108018,5,"结界节点",7,2,2,108041,{"$nulls":3},10803]
[]
[null,109001,5,"护卫长",7,2,2,109001]
[null,109002,5,"妖兽",7,2,2,109003,{"$nulls":3},10901]
[null,109003,5,"灵智妖兽",10,2,2,109009,{"$nulls":3},10902]
[null,109004,5,"护卫长2",7,2,2,109031]
[null,109005,5,"兜帽人",2,2,2,109033,{"$nulls":3},10903]
[null,109006,1,"妖兽杂兵",1,2,1,109034,{"$nulls":3},10907]
[null,109007,8,"阻挡点",null,2]
[null,109008,5,"兜帽人",2,2,2,109035,{"$nulls":3},10903]
[null,109009,5,"兜帽人",2,2,2,109036,{"$nulls":3},10903]
[null,109010,7,"藏宝箱",8,2,2,109037]
[null,109011,7,"藏宝箱",8,2,2,109038]
[null,109012,7,"藏宝箱",8,2,2,109039]
[null,109013,1,"守护怪-弱",1,2,1,109041,{"$nulls":3},10904]
[null,109014,1,"守护怪-中",2,2,1,109042,{"$nulls":3},10905]
[null,109015,1,"守护怪-强",10,2,1,109043,{"$nulls":3},10906]
[null,109016,5,"灵石",11,2,2,109040]
[null,109017,5,"埋伏妖兽",null,2,2,109047,3]
[null,109018,5,"埋伏妖兽",null,2,2,109049,3]
[null,109019,5,"目标点",7,2,2,109051]
[null,109020,5,"灵石",11,2,2,109056]
[null,109021,5,"灵石",11,2,2,109057]
[null,109022,5,"灵石",11,2,2,109058]
[null,109023,5,"灵石",11,2,2,109059]
[null,109024,5,"灵石",11,2,2,109060]
[null,109025,5,"灵石",11,2,2,109061]
[null,109026,5,"灵石",11,2,2,109062]
[null,109027,5,"灵石",11,2,2,109063]
[null,109028,5,"灵石",11,2,2,109064]
[null,109029,5,"灵石",11,2,2,109065]
[null,109030,5,"灵石",11,2,2,109066]
[null,109031,5,"灵石",11,2,2,109067]
[null,109032,5,"灵石",11,2,2,109068]
[null,109033,5,"灵石",11,2,2,109069]
[null,109034,5,"灵石",11,2,2,109070]
[null,109035,5,"灵石",11,2,2,109071]
[null,109036,5,"灵石",11,2,2,109072]
[null,109037,5,"灵石",11,2,2,109073]
[]
[null,110001,5,"楚恒",7,2,2,110001]
[null,110002,5,"地堡附近",7,2,2,110014,{"$nulls":3},11001]
[null,110005,8,"阻挡点",7,2,2]
[null,110006,1,"杂兵",1,2,1,110089,{"$nulls":3},11008]
[null,110007,7,"藏宝箱",8,2,2,110086]
[null,110008,7,"藏宝箱",8,2,2,110087]
[null,110009,7,"藏宝箱",8,2,2,110088]
[null,110010,5,"采药点",7,2,2,110027,{"$nulls":3},11002]
[null,110011,5,"石碾",7,2,2,110030]
[null,110012,5,"地堡",7,2,2,110044,{"$nulls":3},"11003#11004"]
[null,110013,5,"法阵",7,2,2,110068,{"$nulls":3},11005]
[null,110014,5,"支线地堡1",7,2,2,110077,{"$nulls":3},"11006#11007"]
[null,110015,5,"支线地堡2",7,2,2,110092,{"$nulls":3},"11010#11011#11012#11013#11014"]
[null,110016,1,"精英杂兵",2,2,1,110090,{"$nulls":3},11009]
[null,110017,8,"堵路阻挡点",7,2,2]
[null,110018,5,"采药点",7,2,2,110107,{"$nulls":3},11002]
[null,110019,5,"采药点",7,2,2,110111,{"$nulls":3},11002]
[null,110020,5,"采药点",7,2,2,110115,{"$nulls":3},11002]
[]
[null,111001,5,"阵法",7,2,2,111001]
[null,111002,5,"笔店",7,2,2,111010,{"$nulls":3},11101]
[null,111003,5,"城南兵器库",7,2,2,111037,{"$nulls":3},11101]
[null,111004,5,"城西兵器库",7,2,2,111042,{"$nulls":3},"11102#11105"]
[null,111005,5,"阵法2",7,2,2,111058]
[null,111006,8,"阻挡点"]
[null,111007,7,"藏宝箱",8,2,2,111092]
[null,111008,7,"藏宝箱",8,2,2,111093]
[null,111009,7,"藏宝箱",8,2,2,111094]
[null,111010,5,"固灵之阵",15,2,2,111066]
[null,111011,5,"灭灵之阵",14,2,2,111078]
[null,111012,1,"普通怪",1,2,1,111095,{"$nulls":3},11103]
[null,111013,1,"精英怪",2,2,1,111096,{"$nulls":3},11104]
[null,111014,5,"笔店外楚恒",7,2,2,111024]
[]
[null,112001,5,"进图",7,2,2,112001]
[null,112002,5,"楚恒",7,2,2,112004,{"$nulls":3},11201]
[null,112003,5,"卫兵",7,2,2,112022,{"$nulls":3},11202]
[null,112004,5,"巨龟",7,2,2,112026,{"$nulls":3},11203]
[null,112005,5,"信徒",7,2,2,112030,{"$nulls":3},11204]
[null,112006,5,"幻灵",10,2,2,112034,{"$nulls":3},11205]
[null,112007,8,"阻挡点"]
[null,112008,7,"藏宝箱",8,2,2,112039]
[null,112009,7,"藏宝箱",8,2,2,112040]
[null,112010,7,"藏宝箱",8,2,2,112041]
[null,112011,7,"藏宝箱",8,2,2,112042]
[null,112012,5,"卫兵塔楼",7,2,2,112046,{"$nulls":3},11206]
[null,112013,5,"马贼营地",7,2,2,112055,{"$nulls":3},11207]
[null,112014,5,"赌坊",7,2,2,112061,{"$nulls":3},11208]
[null,112015,5,"城主府",7,2,2,112066,{"$nulls":3},"11209#11210#11211"]
[null,112016,1,"杂兵",1,2,1,112094,{"$nulls":3},11213]
[null,112017,1,"精英怪",2,2,1,112095,{"$nulls":3},11214]
[]
[null,113001,5,"灵智妖兽",10,2,2,113001,{"$nulls":3},11301]
[null,113002,5,"阵法",7,2,2,113012,{"$nulls":3},"11302#11303"]
[null,113003,8,"阻挡点"]
[null,113004,7,"藏宝箱",8,2,2,113041]
[null,113005,7,"藏宝箱",8,2,2,113042]
[null,113006,7,"藏宝箱",8,2,2,113043]
[null,113007,5,"灵智妖兽1",2,2,2,113047,{"$nulls":3},11301]
[null,113008,5,"灵智妖兽2",2,2,2,113050,{"$nulls":3},11301]
[null,113009,5,"灵智妖兽3",2,2,2,113053,{"$nulls":3},11301]
[null,113010,5,"无畏BUFF",17,2,2,113056,{"$nulls":3},11304]
[null,113011,5,"狂战BUFF",17,2,2,113059,{"$nulls":3},11305]
[null,113012,5,"金刚BUFF",17,2,2,113062,{"$nulls":3},11306]
[null,113013,1,"杂兵",1,2,1,113070,{"$nulls":3},11307]
[null,113014,1,"精英怪",2,2,1,113071,{"$nulls":3},11308]
[]
[null,114001,5,"影子",7,2,2,114001,{"$nulls":3},11401]
[null,114002,1,"记忆之灵",1,2,1,114043,{"$nulls":3},11402]
[null,114003,8,"阻挡点"]
[null,114004,7,"藏宝箱",8,2,2,114044]
[null,114005,7,"藏宝箱",8,2,2,114045]
[null,114006,7,"藏宝箱",8,2,2,114046]
[null,114007,5,"耳目之石",7,2,2,114060,{"$nulls":3},11403]
[null,114008,5,"口鼻之津",7,2,2,114065,{"$nulls":3},11404]
[null,114009,5,"生死之悟",7,2,2,114075,{"$nulls":3},"11405#11406#11407#11408"]
[null,114010,1,"精英记忆之灵",2,2,1,114087,{"$nulls":3},11409]
[]
[null,115001,5,"石御霏",7,2,2,115001]
[null,115002,5,"毁坏的马车",7,2,2,115009]
[null,115003,5,"西边地痞",7,2,2,115015,{"$nulls":3},11501]
[null,115004,5,"东边窝点",7,2,2,115032,{"$nulls":3},"11502#11503"]
[null,115005,8,"阻挡点"]
[null,115006,7,"藏宝箱",8,2,2,115054]
[null,115007,7,"藏宝箱",8,2,2,115055]
[null,115008,7,"藏宝箱",8,2,2,115056]
[null,115009,7,"藏宝箱",8,2,2,115057]
[null,115010,5,"宁月",7,2,2,115064]
[null,115011,5,"草",11,2,2,115078]
[null,115012,5,"虎",10,2,2,115080,{"$nulls":3},11504]
[null,115013,5,"莲",7,2,2,115082,{"$nulls":3},11505]
[null,115014,1,"杂兵",1,2,1,115122,{"$nulls":3},11506]
[null,115015,1,"精英杂兵",2,2,1,115123,{"$nulls":3},11507]
[]
[null,116001,5,"石御霏",7,2,2,116001]
[null,116002,5,"公告板",7,2,2,116003]
[null,116003,5,"老李",7,2,2,116005]
[null,116004,10,"狼群",null,2,1,116015,3]
[null,116005,5,"森林边",7,2,2,116021]
[null,116006,5,"山洞",7,2,2,116029,{"$nulls":3},"11602#11603"]
[null,116007,5,"河边",7,2,2,116044]
[null,116008,5,"任务小怪点",2,2,2,116047,{"$nulls":3},11604]
[null,116009,5,"陷阱",7,2,2,116052]
[null,116010,5,"藏身处",7,2,2,116057]
[null,116011,5,"人狼",10,2,2,116061,{"$nulls":3},11605]
[null,116012,5,"老李2",7,2,2,116074]
[null,116013,8,"阻挡点"]
[null,116014,1,"小怪",1,2,1,116080,{"$nulls":3},11606]
[null,116015,1,"精英怪",2,2,1,116081,{"$nulls":3},11607]
[null,116016,7,"藏宝箱",8,2,2,116082]
[null,116017,7,"藏宝箱",8,2,2,116083]
[null,116018,7,"藏宝箱",8,2,2,116084]
[]
[null,117001,5,"军官",7,2,2,117001]
[null,117002,10,"士兵",null,2,1,117006,3,null,null,11701]
[null,117003,5,"义庄",7,2,2,117015]
[null,117004,10,"义庄外",null,2,1,117023,3]
[null,117005,5,"城东",7,2,2,117024]
[null,117006,5,"小贩",7,2,2,117025]
[null,117007,5,"混混",7,2,2,117037,{"$nulls":3},11702]
[null,117008,5,"妇女",7,2,2,117045]
[null,117009,5,"酒家",7,2,2,117053,{"$nulls":3},11703]
[null,117010,5,"酒鬼",10,2,2,117071,{"$nulls":3},11704]
[null,117011,5,"军官2",7,2,2,117075]
[null,117012,1,"杂兵",1,2,1,117083,{"$nulls":3},11705]
[null,117013,1,"精英怪",2,2,1,117084,{"$nulls":3},11706]
[null,117014,7,"藏宝箱",8,2,2,117085]
[null,117015,7,"藏宝箱",8,2,2,117086]
[null,117016,7,"藏宝箱",8,2,2,117087]
[null,117017,8,"阻挡点"]
[]
[null,118001,5,"韩灵儿",7,2,2,118001]
[null,118002,5,"混混1",7,2,2,118005,{"$nulls":3},11801]
[null,118003,5,"混混2",7,2,2,118009,{"$nulls":3},11801]
[null,118004,5,"混混3",7,2,2,118013,{"$nulls":3},11801]
[null,118005,5,"白木",7,2,2,118033,{"$nulls":3},11802]
[null,118006,5,"赌坊",7,2,2,118044,{"$nulls":3},"11801#11801#11803"]
[null,118007,5,"业火堂堂主",10,2,2,118055,{"$nulls":3},"11804#11805"]
[null,118008,1,"杂兵",1,2,1,118089,{"$nulls":3},11806]
[null,118009,1,"精英怪",2,2,1,118090,{"$nulls":3},11807]
[null,118010,7,"藏宝箱",8,2,2,118086]
[null,118011,7,"藏宝箱",8,2,2,118087]
[null,118012,7,"藏宝箱",8,2,2,118088]
[null,118013,8,"阻挡点"]
[]
[null,119001,5,"韩星",7,2,2,119001]
[null,119002,5,"韩灵儿",7,2,2,119007]
[null,119003,5,"野兽1",2,2,2,119012,{"$nulls":3},11901]
[null,119004,5,"野兽2",2,2,2,119015,{"$nulls":3},11901]
[null,119005,5,"野兽3",2,2,2,119018,{"$nulls":3},11901]
[null,119006,5,"韩灵儿2",7,2,2,119021]
[null,119007,5,"宁月",7,2,2,119029,{"$nulls":3},11902]
[null,119008,5,"汇合点",7,2,2,119041,{"$nulls":3},11903]
[null,119009,5,"韩灵儿3",7,2,2,119052,{"$nulls":3},"11904#11904#11905"]
[null,119010,10,"遭遇战",null,2,1,119081,3]
[null,119011,5,"韩星2",7,2,2,119071]
[null,119012,1,"杂兵",1,2,1,119079,{"$nulls":3},11906]
[null,119013,1,"精英怪",2,2,1,119080,{"$nulls":3},11907]
[null,119014,7,"藏宝箱",8,2,2,119076]
[null,119015,7,"藏宝箱",8,2,2,119077]
[null,119016,7,"藏宝箱",8,2,2,119078]
[null,119017,8,"阻挡点"]
[]
[null,120001,5,"楚恒",7,2,2,120001]
[null,120002,5,"拍卖行",7,2,2,120009,{"$nulls":3},12001]
[null,120003,10,"搞请帖",null,2,1,120020,3]
[null,120004,5,"乔装",7,2,2,120024]
[null,120005,5,"搜集请帖",7,2,2,120027,{"$nulls":3},12002]
[null,120006,5,"搜集请帖2",7,2,2,120032,{"$nulls":3},12002]
[null,120007,5,"拍卖行2",7,2,2,120038]
[null,120008,5,"北边酒楼",7,2,2,120044,{"$nulls":3},"12003#12004#12005"]
[null,120009,5,"宁月",7,2,2,120060]
[null,120010,5,"石御霏",7,2,2,120063]
[null,120011,5,"帮忙1",7,2,2,120071,{"$nulls":3},12008]
[null,120012,5,"帮忙2",7,2,2,120076,{"$nulls":3},12008]
[null,120013,5,"帮忙3",7,2,2,120080]
[null,120014,7,"藏宝箱",8,2,2,120102]
[null,120015,7,"藏宝箱",8,2,2,120103]
[null,120016,7,"藏宝箱",8,2,2,120104]
[null,120017,1,"杂兵",1,2,1,120105,{"$nulls":3},12006]
[null,120018,1,"精英怪",2,2,1,120106,{"$nulls":3},12007]
[null,120019,8,"阻挡点"]
[]
[null,201001,5,"地图boss1",7,2,2,201001]
[null,201002,5,"地图boss2",7,2,2,201004]
[null,201003,8,"阻挡点"]
[]
[null,202001,5,"地图boss1",7,2,2,202001]
[null,202002,5,"地图boss2",7,2,2,202005]
[null,202003,8,"阻挡点"]
[]
[null,203001,5,"地图boss1",7,2,2,203001]
[null,203002,5,"地图boss2",7,2,2,203004]
[null,203003,5,"地图boss3",7,2,2,203007]
[null,203004,8,"阻挡点"]
[]
[null,204001,5,"地图boss1",7,2,2,204001]
[null,204002,5,"地图boss2",7,2,2,204004]
[null,204003,5,"地图boss3",7,2,2,204007]
[null,204004,8,"阻挡点"]
[]
[null,205001,5,"地图boss1",7,2,2,205001]
[null,205002,5,"地图boss2",7,2,2,205004]
[null,205003,5,"地图boss3",7,2,2,205007]
[null,205004,5,"地图boss4",7,2,2,205010]
[null,205005,8,"阻挡点"]
[]
[null,206001,5,"地图boss1",7,2,2,206001]
[null,206002,5,"地图boss2",7,2,2,206004]
[null,206003,5,"地图boss3",7,2,2,206007]
[null,206004,8,"阻挡点"]
[]
[null,207001,5,"地图boss1",7,2,2,207001]
[null,207002,5,"地图boss2",7,2,2,207004]
[null,207003,5,"地图boss3",7,2,2,207007]
[null,207004,5,"地图boss4",7,2,2,207010]
[null,207005,8,"阻挡点"]
[]
[null,208001,5,"地图boss1",7,2,2,208001]
[null,208002,5,"地图boss2",7,2,2,208004]
[null,208003,8,"阻挡点"]
[]
[null,209001,5,"地图boss1",7,2,2,209001]
[null,209002,5,"地图boss2",7,2,2,209004]
[null,209003,5,"地图boss3",7,2,2,209007]
[null,209004,8,"阻挡点"]
[]
[null,210001,5,"地图boss1",7,2,2,210001]
[null,210002,5,"地图boss2",7,2,2,210004]
[null,210003,5,"地图boss3",7,2,2,210007]
[null,210004,5,"地图boss4",7,2,2,210010]
[null,210005,8,"阻挡点"]
[]
[null,211001,5,"地图boss1",7,2,2,211001]
[null,211002,5,"地图boss2",7,2,2,211004]
[null,211003,5,"地图boss3",7,2,2,211007]
[null,211004,8,"阻挡点"]
[]
[null,212001,5,"地图boss1",7,2,2,212001]
[null,212002,5,"地图boss2",7,2,2,212004]
[null,212003,5,"地图boss3",7,2,2,212007]
[null,212004,8,"阻挡点"]
[]
[null,213001,5,"地图boss1",7,2,2,213001]
[null,213002,5,"地图boss2",7,2,2,213004]
[null,213003,8,"阻挡点"]
[]
[null,214001,5,"地图boss1",7,2,2,214001]
[null,214002,5,"地图boss2",7,2,2,214004]
[null,214003,5,"地图boss3",7,2,2,214007]
[null,214004,5,"地图boss4",7,2,2,214010]
[null,214005,8,"阻挡点"]
[]
[null,215001,5,"地图boss1",7,2,2,215001]
[null,215002,5,"地图boss2",7,2,2,215004]
[null,215003,5,"地图boss3",7,2,2,215007]
[null,215004,8,"阻挡点"]
[]
[null,3001001,5,"进入地图",null,2,1,3001001,3]
[null,3001002,10,"结界",7,2,1,3001005]
[null,3001003,8,"挡路点"]
[null,3001004,5,"左boss",10,2,2,3001013,{"$nulls":3},300103]
[null,3001005,5,"右boss",10,2,2,3001016,{"$nulls":3},300104]
[null,3001006,5,"帮哥帮弟",7,2,2,3001019,{"$nulls":3},300107]
[null,3001007,1,"杂兵1",2,2,1,3001039,{"$nulls":3},300101]
[null,3001008,1,"杂兵2",2,2,1,3001040,{"$nulls":3},300102]
[null,3001009,8,"阻挡点"]
[null,3001010,11,"通缉怪",17,2,2,3001041,null,null,"1#100|0#1300",30101]
[]
[null,3002001,5,"进入地图",null,2,1,3002001,3]
[null,3002002,10,"结界",7,2,1,3002005]
[null,3002003,8,"挡路点"]
[null,3002004,5,"左boss",10,2,2,3002013,{"$nulls":3},300203]
[null,3002005,5,"右boss",10,2,2,3002016,{"$nulls":3},300204]
[null,3002006,5,"帮哥帮弟",7,2,2,3002019,{"$nulls":3},300207]
[null,3002007,1,"杂兵1",2,2,1,3002039,{"$nulls":3},300201]
[null,3002008,1,"杂兵2",2,2,1,3002040,{"$nulls":3},300202]
[null,3002009,8,"阻挡点"]
[null,3002010,11,"通缉怪",17,2,2,3002041,null,null,"1#100|0#1300",30102]
[]
[null,3003001,5,"进入地图",null,2,1,3003001,3]
[null,3003002,10,"结界",7,2,1,3003005]
[null,3003003,8,"挡路点"]
[null,3003004,5,"左boss",10,2,2,3003013,{"$nulls":3},300303]
[null,3003005,5,"右boss",10,2,2,3003016,{"$nulls":3},300304]
[null,3003006,5,"帮哥帮弟",7,2,2,3003019,{"$nulls":3},300307]
[null,3003007,1,"杂兵1",2,2,1,3003039,{"$nulls":3},300301]
[null,3003008,1,"杂兵2",2,2,1,3003040,{"$nulls":3},300302]
[null,3003009,8,"阻挡点"]
[null,3003010,11,"通缉怪",17,2,2,3003041,null,null,"1#100|0#1300",30103]
[]
[null,3004001,5,"进入地图",null,2,1,3004001,3]
[null,3004002,10,"结界",7,2,1,3004005]
[null,3004003,8,"挡路点"]
[null,3004004,5,"左boss",10,2,2,3004013,{"$nulls":3},300403]
[null,3004005,5,"右boss",10,2,2,3004016,{"$nulls":3},300404]
[null,3004006,5,"帮哥帮弟",7,2,2,3004019,{"$nulls":3},300407]
[null,3004007,1,"杂兵1",2,2,1,3004039,{"$nulls":3},300401]
[null,3004008,1,"杂兵2",2,2,1,3004040,{"$nulls":3},300402]
[null,3004009,8,"阻挡点"]
[null,3004010,11,"通缉怪",17,2,2,3004041,null,null,"1#100|0#1300",30104]
[]
[null,3011001,10,"守墓人",10,2,1,3011001,{"$nulls":3},301102]
[null,3011002,5,"墓室",7,2,2,3011004,{"$nulls":3},301105]
[null,3011003,5,"左墓室",7,2,2,3011010,{"$nulls":3},301103]
[null,3011004,5,"右墓室",7,2,2,3011014,{"$nulls":3},301104]
[null,3011005,8,"阻挡点"]
[null,3011006,1,"杂兵",1,2,1,3011018,{"$nulls":3},301101]
[null,3011007,5,"盗墓者",7,2,2,3011019]
[null,3011008,5,"宝藏1",8,2,2,3011030,{"$nulls":3},301106]
[null,3011009,5,"宝藏2",8,2,2,3011038,{"$nulls":3},301107]
[null,3011010,5,"宝藏3",8,2,2,3011044,{"$nulls":3},301108]
[null,3011011,5,"宝藏4",8,2,2,3011050,{"$nulls":3},"301109#301110"]
[null,3011012,11,"通缉怪",17,2,2,3011063,null,null,"1#100|0#1300",30201]
[]
[null,3012001,10,"守墓人",10,2,1,3012001,{"$nulls":3},301202]
[null,3012002,5,"墓室",7,2,2,3012004,{"$nulls":3},301205]
[null,3012003,5,"左墓室",7,2,2,3012010,{"$nulls":3},301203]
[null,3012004,5,"右墓室",7,2,2,3012014,{"$nulls":3},301204]
[null,3012005,8,"阻挡点"]
[null,3012006,1,"杂兵",1,2,1,3012018,{"$nulls":3},301201]
[null,3012007,5,"盗墓者",7,2,2,3012019]
[null,3012008,5,"宝藏1",8,2,2,3012030,{"$nulls":3},301206]
[null,3012009,5,"宝藏2",8,2,2,3012038,{"$nulls":3},301207]
[null,3012010,5,"宝藏3",8,2,2,3012044,{"$nulls":3},301208]
[null,3012011,5,"宝藏4",8,2,2,3012050,{"$nulls":3},"301209#301210"]
[null,3012012,11,"通缉怪",17,2,2,3012063,null,null,"1#100|0#1300",30202]
[]
[null,3013001,10,"守墓人",10,2,1,3013001,{"$nulls":3},301302]
[null,3013002,5,"墓室",7,2,2,3013004,{"$nulls":3},301305]
[null,3013003,5,"左墓室",7,2,2,3013010,{"$nulls":3},301303]
[null,3013004,5,"右墓室",7,2,2,3013014,{"$nulls":3},301304]
[null,3013005,8,"阻挡点"]
[null,3013006,1,"杂兵",1,2,1,3013018,{"$nulls":3},301301]
[null,3013007,5,"盗墓者",7,2,2,3013019]
[null,3013008,5,"宝藏1",8,2,2,3013030,{"$nulls":3},301306]
[null,3013009,5,"宝藏2",8,2,2,3013038,{"$nulls":3},301307]
[null,3013010,5,"宝藏3",8,2,2,3013044,{"$nulls":3},301308]
[null,3013011,5,"宝藏4",8,2,2,3013050,{"$nulls":3},"301309#301310"]
[null,3013012,11,"通缉怪",17,2,2,3013063,null,null,"1#100|0#1300",30203]
[]
[null,3014001,10,"守墓人",10,2,1,3014001,{"$nulls":3},301402]
[null,3014002,5,"墓室",7,2,2,3014004,{"$nulls":3},301405]
[null,3014003,5,"左墓室",7,2,2,3014010,{"$nulls":3},301403]
[null,3014004,5,"右墓室",7,2,2,3014014,{"$nulls":3},301404]
[null,3014005,8,"阻挡点"]
[null,3014006,1,"杂兵",1,2,1,3014018,{"$nulls":3},301401]
[null,3014007,5,"盗墓者",7,2,2,3014019]
[null,3014008,5,"宝藏1",8,2,2,3014030,{"$nulls":3},301406]
[null,3014009,5,"宝藏2",8,2,2,3014038,{"$nulls":3},301407]
[null,3014010,5,"宝藏3",8,2,2,3014044,{"$nulls":3},301408]
[null,3014011,5,"宝藏4",8,2,2,3014050,{"$nulls":3},"301409#301410"]
[null,3014012,11,"通缉怪",17,2,2,3014063,null,null,"1#100|0#1300",30204]
[]
[null,3021001,5,"唤灵师",7,2,2,3021001]
[null,3021002,5,"卫兵之魂",7,2,2,3021010]
[null,3021003,5,"卫兵之魂",7,2,2,3021017]
[null,3021004,5,"母亲之魂",7,2,2,3021021]
[null,3021005,5,"孩子之魂",7,2,2,3021026]
[null,3021006,5,"冒险者之魂",7,2,2,3021040]
[null,3021007,5,"卫兵之魂",7,2,2,3021054]
[null,3021008,5,"恶灵",7,2,2,3021060]
[null,3021009,5,"恶灵",7,2,2,3021064]
[null,3021010,5,"恶灵",7,2,2,3021068]
[null,3021011,5,"恶灵",7,2,2,3021073]
[null,3021012,5,"恶灵",7,2,2,3021077]
[null,3021013,5,"恶灵",7,2,2,3021080]
[null,3021014,5,"将军之魂",10,2,2,3021088,{"$nulls":3},302104]
[null,3021015,5,"妖兽之魂",10,2,2,3021101,{"$nulls":3},302105]
[null,3021016,6,"云游商人-精英345",12,2,2,3021128,null,null,"1#100|0#700"]
[null,3021017,8,"阻挡点"]
[null,3021018,8,"拦路阻挡点"]
[null,3021019,5,"卫兵之魂",7,2,2,3021129]
[null,3021020,11,"通缉怪",17,2,2,3021134,null,null,"1#100|0#1300",30301]
[]
[null,3022001,5,"唤灵师",7,2,2,3022001]
[null,3022002,5,"卫兵之魂",7,2,2,3022010]
[null,3022003,5,"卫兵之魂",7,2,2,3022017]
[null,3022004,5,"母亲之魂",7,2,2,3022021]
[null,3022005,5,"孩子之魂",7,2,2,3022026]
[null,3022006,5,"冒险者之魂",7,2,2,3022040]
[null,3022007,5,"卫兵之魂",7,2,2,3022054]
[null,3022008,5,"恶灵",7,2,2,3022060]
[null,3022009,5,"恶灵",7,2,2,3022064]
[null,3022010,5,"恶灵",7,2,2,3022068]
[null,3022011,5,"恶灵",7,2,2,3022073]
[null,3022012,5,"恶灵",7,2,2,3022077]
[null,3022013,5,"恶灵",7,2,2,3022080]
[null,3022014,5,"将军之魂",10,2,2,3022088,{"$nulls":3},302204]
[null,3022015,5,"妖兽之魂",10,2,2,3022101,{"$nulls":3},302205]
[null,3022016,6,"云游商人-精英345",12,2,2,3022128,null,null,"1#100|0#700"]
[null,3022017,8,"阻挡点"]
[null,3022018,8,"拦路阻挡点"]
[null,3022019,5,"卫兵之魂",7,2,2,3022129]
[null,3022020,11,"通缉怪",17,2,2,3022134,null,null,"1#100|0#1300",30302]
[]
[null,3023001,5,"唤灵师",7,2,2,3023001]
[null,3023002,5,"卫兵之魂",7,2,2,3023010]
[null,3023003,5,"卫兵之魂",7,2,2,3023017]
[null,3023004,5,"母亲之魂",7,2,2,3023021]
[null,3023005,5,"孩子之魂",7,2,2,3023026]
[null,3023006,5,"冒险者之魂",7,2,2,3023040]
[null,3023007,5,"卫兵之魂",7,2,2,3023054]
[null,3023008,5,"恶灵",7,2,2,3023060]
[null,3023009,5,"恶灵",7,2,2,3023064]
[null,3023010,5,"恶灵",7,2,2,3023068]
[null,3023011,5,"恶灵",7,2,2,3023073]
[null,3023012,5,"恶灵",7,2,2,3023077]
[null,3023013,5,"恶灵",7,2,2,3023080]
[null,3023014,5,"将军之魂",10,2,2,3023088,{"$nulls":3},302304]
[null,3023015,5,"妖兽之魂",10,2,2,3023101,{"$nulls":3},302305]
[null,3023016,6,"云游商人-精英345",12,2,2,3023128,null,null,"1#100|0#700"]
[null,3023017,8,"阻挡点"]
[null,3023018,8,"拦路阻挡点"]
[null,3023019,5,"卫兵之魂",7,2,2,3023129]
[null,3023020,11,"通缉怪",17,2,2,3023134,null,null,"1#100|0#1300",30303]
[]
[null,3024001,5,"唤灵师",7,2,2,3024001]
[null,3024002,5,"卫兵之魂",7,2,2,3024010]
[null,3024003,5,"卫兵之魂",7,2,2,3024017]
[null,3024004,5,"母亲之魂",7,2,2,3024021]
[null,3024005,5,"孩子之魂",7,2,2,3024026]
[null,3024006,5,"冒险者之魂",7,2,2,3024040]
[null,3024007,5,"卫兵之魂",7,2,2,3024054]
[null,3024008,5,"恶灵",7,2,2,3024060]
[null,3024009,5,"恶灵",7,2,2,3024064]
[null,3024010,5,"恶灵",7,2,2,3024068]
[null,3024011,5,"恶灵",7,2,2,3024073]
[null,3024012,5,"恶灵",7,2,2,3024077]
[null,3024013,5,"恶灵",7,2,2,3024080]
[null,3024014,5,"将军之魂",10,2,2,3024088,{"$nulls":3},302404]
[null,3024015,5,"妖兽之魂",10,2,2,3024101,{"$nulls":3},302405]
[null,3024016,6,"云游商人-精英345",12,2,2,3024128,null,null,"1#100|0#700"]
[null,3024017,8,"阻挡点"]
[null,3024018,8,"拦路阻挡点"]
[null,3024019,5,"卫兵之魂",7,2,2,3024129]
[null,3024020,11,"通缉怪",17,2,2,3024134,null,null,"1#100|0#1300",30304]
[]
[null,3031001,5,"进场剧情",null,2,1,3031001,3]
[null,3031002,5,"金灵妖兽",10,2,2,3031007,{"$nulls":3},303101]
[null,3031003,5,"木灵妖兽",10,2,2,3031010,{"$nulls":3},303102]
[null,3031004,5,"水灵妖兽",10,2,2,3031013,{"$nulls":3},303103]
[null,3031005,5,"火灵妖兽",10,2,2,3031016,{"$nulls":3},303104]
[null,3031006,5,"土灵妖兽",10,2,2,3031019,{"$nulls":3},303105]
[null,3031007,5,"阴阳信徒",7,2,2,3031022,{"$nulls":3},"303106#303107"]
[null,3031009,5,"驯兽妖兽",7,2,2,3031039,{"$nulls":3},"303108#303109#303110#303111#303112"]
[null,3031010,8,"阻挡点"]
[null,3031011,10,"拦路屏障",null,2,1,3031063,3]
[null,3031012,5,"通缉怪",17,2,2,3031065,null,null,"1#100|0#1300",30401]
[]
[null,3032001,5,"进场剧情",null,2,1,3032001,3]
[null,3032002,5,"金灵妖兽",10,2,2,3032007,{"$nulls":3},303201]
[null,3032003,5,"木灵妖兽",10,2,2,3032010,{"$nulls":3},303202]
[null,3032004,5,"水灵妖兽",10,2,2,3032013,{"$nulls":3},303203]
[null,3032005,5,"火灵妖兽",10,2,2,3032016,{"$nulls":3},303204]
[null,3032006,5,"土灵妖兽",10,2,2,3032019,{"$nulls":3},303205]
[null,3032007,5,"阴阳信徒",7,2,2,3032022,{"$nulls":3},"303206#303207"]
[null,3032009,5,"驯兽妖兽",7,2,2,3032039,{"$nulls":3},"303208#303209#303210#303211#303212"]
[null,3032010,8,"阻挡点"]
[null,3032011,10,"拦路屏障",null,2,1,3032063,3]
[null,3032012,5,"通缉怪",17,2,2,3032065,null,null,"1#100|0#1300",30402]
[]
[null,3033001,5,"进场剧情",null,2,1,3033001,3]
[null,3033002,5,"金灵妖兽",10,2,2,3033007,{"$nulls":3},303301]
[null,3033003,5,"木灵妖兽",10,2,2,3033010,{"$nulls":3},303302]
[null,3033004,5,"水灵妖兽",10,2,2,3033013,{"$nulls":3},303303]
[null,3033005,5,"火灵妖兽",10,2,2,3033016,{"$nulls":3},303304]
[null,3033006,5,"土灵妖兽",10,2,2,3033019,{"$nulls":3},303305]
[null,3033007,5,"阴阳信徒",7,2,2,3033022,{"$nulls":3},"303306#303307"]
[null,3033009,5,"驯兽妖兽",7,2,2,3033039,{"$nulls":3},"303308#303309#303310#303311#303312"]
[null,3033010,8,"阻挡点"]
[null,3033011,10,"拦路屏障",null,2,1,3033063,3]
[null,3033012,5,"通缉怪",17,2,2,3033065,null,null,"1#100|0#1300",30403]
[]
[null,3034001,5,"进场剧情",null,2,1,3034001,3]
[null,3034002,5,"金灵妖兽",10,2,2,3034007,{"$nulls":3},303401]
[null,3034003,5,"木灵妖兽",10,2,2,3034010,{"$nulls":3},303402]
[null,3034004,5,"水灵妖兽",10,2,2,3034013,{"$nulls":3},303403]
[null,3034005,5,"火灵妖兽",10,2,2,3034016,{"$nulls":3},303404]
[null,3034006,5,"土灵妖兽",10,2,2,3034019,{"$nulls":3},303405]
[null,3034007,5,"阴阳信徒",7,2,2,3034022,{"$nulls":3},"303406#303407"]
[null,3034009,5,"驯兽妖兽",7,2,2,3034039,{"$nulls":3},"303408#303409#303410#303411#303412"]
[null,3034010,8,"阻挡点"]
[null,3034011,10,"拦路屏障",null,2,1,3034063,3]
[null,3034012,5,"通缉怪",17,2,2,3034065,null,null,"1#100|0#1300",30404]
[]
[null,4001001,5,"boss1",10,3,2,4001001,{"$nulls":3},40111]
[null,4001002,5,"boss2",10,3,2,4001005,{"$nulls":3},40110]
[null,4001003,5,"boss3",10,3,2,4001140,{"$nulls":3},40133]
[null,4001004,10,"拦路怪1",13,3,1,4001009,{"$nulls":3},40112]
[null,4001005,5,"福利怪",4,3,2,4001011,{"$nulls":3},40113]
[null,4001006,5,"传送门1",9,3,2,4001013]
[null,4001007,5,"传送门2",9,3,2,4001015]
[null,4001008,7,"大宝箱",8,3,2,4001112]
[null,4001009,7,"小宝箱",11,3,2,4001116]
[null,4001010,5,"buff点1",6,3,2,4001021]
[null,4001011,5,"buff点2",6,3,2,4001102]
[null,4001012,10,"大门1",7,3,1,4001023]
[null,4001013,10,"大门2",7,3,1,4001104]
[null,4001014,10,"大门3",7,3,1,4001106]
[null,4001015,10,"大门4",7,3,1,4001108]
[null,4001016,5,"材料商",12,3,2,4001025]
[null,4001017,5,"寻宝者",7,3,2,4001039]
[null,4001018,5,"猎妖师",7,3,2,4001047,{"$nulls":3},40115]
[null,4001019,5,"尸体",7,3,2,4001053,{"$nulls":3},40134]
[null,4001020,5,"巢穴",7,3,2,4001057,{"$nulls":3},"40102#40116#40117#40118"]
[null,4001021,5,"城楼",7,3,2,4001066]
[null,4001022,5,"争斗",7,3,2,4001082,{"$nulls":3},"40122#40123"]
[null,4001023,1,"杂兵1",1,3,1,4001110,{"$nulls":3},40101]
[null,4001024,1,"精英怪1",2,3,1,4001111,{"$nulls":3},40124]
[null,4001025,7,"一次大宝箱",8,3,2,4001017]
[null,4001026,7,"一次小宝箱",11,3,2,4001019]
[null,4001027,8,"阻挡点"]
[null,4001028,5,"货物",7,3,2,4001031]
[null,4001029,5,"洞穴",7,3,2,4001044,{"$nulls":3},40114]
[null,4001030,10,"拦路怪2",13,3,1,4001122,{"$nulls":3},40129]
[null,4001031,10,"拦路怪3",13,3,1,4001124,{"$nulls":3},40130]
[null,4001032,10,"拦路怪4",13,3,1,4001126,{"$nulls":3},40131]
[null,4001033,10,"拦路怪5",13,3,1,4001128,{"$nulls":3},40132]
[null,4001034,1,"杂兵2",1,3,1,4001132,{"$nulls":3},40102]
[null,4001035,1,"杂兵3",1,3,1,4001133,{"$nulls":3},40103]
[null,4001036,1,"杂兵5",1,3,1,4001134,{"$nulls":3},40104]
[null,4001037,1,"杂兵6",1,3,1,4001135,{"$nulls":3},40105]
[null,4001038,1,"精英怪2",2,3,1,4001136,{"$nulls":3},40125]
[null,4001039,1,"精英怪3",2,3,1,4001137,{"$nulls":3},40126]
[null,4001040,1,"精英怪4",2,3,1,4001138,{"$nulls":3},40127]
[null,4001041,1,"杂兵4",1,3,1,4001139,{"$nulls":3},40128]
[]
[null,4002001,5,"boss大1",10,3,2,4002001,{"$nulls":3},50111]
[null,4002002,5,"boss小2",10,3,2,4002006,{"$nulls":3},50110]
[null,4002003,5,"boss小3",10,3,2,4002160,{"$nulls":3},50123]
[null,4002004,5,"福利怪",4,3,2,4002011,{"$nulls":3},50113]
[null,4002005,5,"传送门1",9,3,2,4002013]
[null,4002006,5,"传送门2",9,3,2,4002015]
[null,4002007,7,"一次大宝箱",8,3,2,4002017]
[null,4002008,7,"一次小宝箱",11,3,2,4002019]
[null,4002009,5,"buff点1",6,3,2,4002021]
[null,4002010,5,"buff点2",6,3,2,4002023]
[null,4002011,10,"拦路怪1",13,3,1,4002025,{"$nulls":3},50112]
[null,4002012,10,"拦路怪2",13,3,1,4002027,{"$nulls":3},50125]
[null,4002013,10,"拦路怪3",13,3,1,4002029,{"$nulls":3},50126]
[null,4002014,10,"拦路怪4",13,3,1,4002031,{"$nulls":3},50127]
[null,4002015,10,"拦路怪5",13,3,1,4002033,{"$nulls":3},50128]
[null,4002016,7,"大宝箱",8,3,2,4002035]
[null,4002017,7,"小宝箱",11,3,2,4002039]
[null,4002018,5,"开桥机关",7,3,2,4002043]
[null,4002019,5,"巢穴1",7,3,2,4002046,{"$nulls":3},"50102#50116#50117#50118"]
[null,4002020,5,"巢穴2",7,3,2,4002053,{"$nulls":3},"50102#50116#50117#50118"]
[null,4002021,10,"桥1",7,3,1,4002060]
[null,4002022,10,"桥2",7,3,1,4002062]
[null,4002023,10,"桥3",7,3,1,4002064]
[null,4002024,10,"桥4",7,3,1,4002066]
[null,4002025,10,"桥5",7,3,1,4002068]
[null,4002026,5,"石奇",7,3,2,4002070]
[null,4002027,5,"小哈",7,3,2,4002077,{"$nulls":3},50114]
[null,4002028,5,"花妖",7,3,2,4002088,{"$nulls":3},50115]
[null,4002029,5,"阿良",7,3,2,4002106]
[null,4002030,5,"清神花",7,3,2,4002114]
[null,4002031,5,"神秘人",7,3,2,4002122]
[null,4002032,5,"巨石",7,3,2,4002133,{"$nulls":3},"50119#50120"]
[null,4002033,1,"杂兵",1,3,1,4002144,{"$nulls":3},50101]
[null,4002034,1,"精英怪",2,3,1,4002145,{"$nulls":3},50104]
[null,4002035,8,"阻挡点"]
[null,4002036,5,"材料商",12,3,2,4002146]
[null,4002037,5,"开桥机关",7,3,2,4002149]
[null,4002038,5,"开桥机关",7,3,2,4002152]
[null,4002039,1,"杂兵2",1,3,1,4002155,{"$nulls":3},50102]
[null,4002040,1,"杂兵3",1,3,1,4002156,{"$nulls":3},50103]
[null,4002041,1,"精英怪2",2,3,1,4002157,{"$nulls":3},50105]
[null,4002042,1,"精英怪3",2,3,1,4002158,{"$nulls":3},50121]
[null,4002043,1,"精英怪4",2,3,1,4002159,{"$nulls":3},50122]
[null,4002044,5,"boss小4",10,3,2,4002165,{"$nulls":3},50124]
[]
[null,6001001,8,"阻挡点"]
[]
[null,2000000,7,"试炼副本宝箱",8,3,2]
[null,2000001,5,"试炼副本传送门",23,3,2,2000001]
[null,2000002,5,"试炼副本彩虹传送门",24,3,2,2000002]
[null,2000003,5,"试炼副本事件点",2,3,2,2000003]
[null,2000004,5,"试炼副本答题",7,3,2,2000004]
[null,2000005,9,"试炼副本buff点",21,3,2,2000005]
[null,2000006,9,"试炼副本buff点",21,3,2,2000006]
[null,2000007,5,"试炼副本商店",12,3,2,2000007]
[null,2000008,13,"试炼副本答题游戏1",13,3,2]
[null,2000009,14,"试炼副本答题游戏2",9,3,2]
[null,2000010,15,"试炼副本答题游戏3",17,3,2]
[null,2000011,16,"试炼副本roll游戏1",7,3,2]
[null,2000012,17,"试炼副本roll游戏2",18,3,2]
[null,2000013,18,"试炼副本roll游戏3",19,3,2]
[null,2000014,9,"试炼副本buff点",21,3,2]
[null,2000015,9,"试炼副本buff点",21,3,2]
[null,2000016,9,"试炼副本buff点",21,3,2]
[null,2000017,9,"试炼副本buff点",21,3,2]
[null,2000018,9,"试炼副本buff点",21,3,2]
[null,2000019,9,"试炼副本buff点",21,3,2]
[null,2000020,9,"试炼副本buff点",21,3,2]
[null,2000021,9,"试炼副本buff点",21,3,2]
[null,2000022,9,"试炼副本buff点",21,3,2]
[null,2000023,9,"试炼副本buff点",21,3,2]
[null,2000024,9,"试炼副本buff点",21,3,2]
[null,2000025,9,"试炼副本buff点",21,3,2]
[null,2000026,9,"试炼副本buff点",21,3,2]
[null,2000027,9,"试炼副本buff点",21,3,2]
[null,2000028,9,"试炼副本buff点",21,3,2]
[null,2001000,2,{"$f":"\"试炼\"&INT(MID(B833,2,3))&\"层\"&IF(INT(RIGHT(B833,1))=0,\"boss\",\"普通怪\"&RIGHT(B833,1))","v":"试炼1层boss"},10,2,1,2001000]
[null,2001001,1,{"$f":"\"试炼\"&INT(MID(B834,2,3))&\"层\"&IF(INT(RIGHT(B834,1))=0,\"boss\",\"普通怪\"&RIGHT(B834,1))","v":"试炼1层普通怪1"},1,2,1,2001001]
[null,2001002,1,"试炼1层普通怪2",1,2,1,2001002]
[null,2001003,1,"试炼1层普通怪3",1,2,1,2001003]
[null,2001004,1,"试炼1层普通怪4",1,2,1,2001004]
[null,2001005,1,"试炼1层普通怪5",1,2,1,2001005]
[null,2001006,1,"试炼1层普通怪6",1,2,1,2001006]
[null,2001007,1,"试炼1层普通怪7",1,2,1,2001007]
[null,2001008,1,"试炼1层普通怪8",1,2,1,2001008]
[null,{"$f":"B833+1000","v":2002000},{"$f":"C833","v":2},"试炼2层boss",{"$f":"E833","v":10},{"$f":"F833","v":2},1,{"$f":"H833+1000","v":2002000}]
[null,{"$f":"B834+1000","v":2002001},{"$f":"C834","v":1},"试炼2层普通怪1",{"$f":"E834","v":1},2,1,{"$f":"H834+1000","v":2002001}]
[null,2002002,1,"试炼2层普通怪2",{"$f":"E835","v":1},2,1,2002002]
[null,2002003,1,"试炼2层普通怪3",{"$f":"E836","v":1},2,1,2002003]
[null,2002004,1,"试炼2层普通怪4",{"$f":"E837","v":1},2,1,2002004]
[null,2002005,1,"试炼2层普通怪5",{"$f":"E838","v":1},2,1,2002005]
[null,2002006,1,"试炼2层普通怪6",{"$f":"E839","v":1},2,1,2002006]
[null,2002007,1,"试炼2层普通怪7",{"$f":"E840","v":1},2,1,2002007]
[null,2002008,1,"试炼2层普通怪8",{"$f":"E841","v":1},2,1,2002008]
[null,2003000,2,"试炼3层boss",{"$f":"E842","v":10},2,1,2003000]
[null,2003001,1,"试炼3层普通怪1",{"$f":"E843","v":1},2,1,2003001]
[null,2003002,1,"试炼3层普通怪2",{"$f":"E844","v":1},2,1,2003002]
[null,2003003,1,"试炼3层普通怪3",{"$f":"E845","v":1},2,1,2003003]
[null,2003004,1,"试炼3层普通怪4",{"$f":"E846","v":1},2,1,2003004]
[null,2003005,1,"试炼3层普通怪5",{"$f":"E847","v":1},2,1,2003005]
[null,2003006,1,"试炼3层普通怪6",{"$f":"E848","v":1},2,1,2003006]
[null,2003007,1,"试炼3层普通怪7",{"$f":"E849","v":1},2,1,2003007]
[null,2003008,1,"试炼3层普通怪8",{"$f":"E850","v":1},2,1,2003008]
[null,2004000,2,"试炼4层boss",{"$f":"E851","v":10},2,1,2004000]
[null,2004001,1,"试炼4层普通怪1",{"$f":"E852","v":1},2,1,2004001]
[null,2004002,1,"试炼4层普通怪2",{"$f":"E853","v":1},2,1,2004002]
[null,2004003,1,"试炼4层普通怪3",{"$f":"E854","v":1},2,1,2004003]
[null,2004004,1,"试炼4层普通怪4",{"$f":"E855","v":1},2,1,2004004]
[null,2004005,1,"试炼4层普通怪5",{"$f":"E856","v":1},2,1,2004005]
[null,2004006,1,"试炼4层普通怪6",{"$f":"E857","v":1},2,1,2004006]
[null,2004007,1,"试炼4层普通怪7",{"$f":"E858","v":1},2,1,2004007]
[null,2004008,1,"试炼4层普通怪8",{"$f":"E859","v":1},2,1,2004008]
[null,2005000,2,"试炼5层boss",{"$f":"E860","v":10},2,1,2005000]
[null,2005001,1,"试炼5层普通怪1",{"$f":"E861","v":1},2,1,2005001]
[null,2005002,1,"试炼5层普通怪2",{"$f":"E862","v":1},2,1,2005002]
[null,2005003,1,"试炼5层普通怪3",{"$f":"E863","v":1},2,1,2005003]
[null,2005004,1,"试炼5层普通怪4",{"$f":"E864","v":1},2,1,2005004]
[null,2005005,1,"试炼5层普通怪5",{"$f":"E865","v":1},2,1,2005005]
[null,2005006,1,"试炼5层普通怪6",{"$f":"E866","v":1},2,1,2005006]
[null,2005007,1,"试炼5层普通怪7",{"$f":"E867","v":1},2,1,2005007]
[null,2005008,1,"试炼5层普通怪8",{"$f":"E868","v":1},2,1,2005008]
[null,2006000,2,"试炼6层boss",{"$f":"E869","v":10},2,1,2006000]
[null,2006001,1,"试炼6层普通怪1",{"$f":"E870","v":1},2,1,2006001]
[null,2006002,1,"试炼6层普通怪2",{"$f":"E871","v":1},2,1,2006002]
[null,2006003,1,"试炼6层普通怪3",{"$f":"E872","v":1},2,1,2006003]
[null,2006004,1,"试炼6层普通怪4",{"$f":"E873","v":1},2,1,2006004]
[null,2006005,1,"试炼6层普通怪5",{"$f":"E874","v":1},2,1,2006005]
[null,2006006,1,"试炼6层普通怪6",{"$f":"E875","v":1},2,1,2006006]
[null,2006007,1,"试炼6层普通怪7",{"$f":"E876","v":1},2,1,2006007]
[null,2006008,1,"试炼6层普通怪8",{"$f":"E877","v":1},2,1,2006008]
[null,2007000,2,"试炼7层boss",{"$f":"E878","v":10},2,1,2007000]
[null,2007001,1,"试炼7层普通怪1",{"$f":"E879","v":1},2,1,2007001]
[null,2007002,1,"试炼7层普通怪2",{"$f":"E880","v":1},2,1,2007002]
[null,2007003,1,"试炼7层普通怪3",{"$f":"E881","v":1},2,1,2007003]
[null,2007004,1,"试炼7层普通怪4",{"$f":"E882","v":1},2,1,2007004]
[null,2007005,1,"试炼7层普通怪5",{"$f":"E883","v":1},2,1,2007005]
[null,2007006,1,"试炼7层普通怪6",{"$f":"E884","v":1},2,1,2007006]
[null,2007007,1,"试炼7层普通怪7",{"$f":"E885","v":1},2,1,2007007]
[null,2007008,1,"试炼7层普通怪8",{"$f":"E886","v":1},2,1,2007008]
[null,2008000,2,"试炼8层boss",{"$f":"E887","v":10},2,1,2008000]
[null,2008001,1,"试炼8层普通怪1",{"$f":"E888","v":1},2,1,2008001]
[null,2008002,1,{"$f":"\"试炼\"&INT(MID(B898,2,3))&\"层\"&IF(INT(RIGHT(B898,1))=0,\"boss\",\"普通怪\"&RIGHT(B898,1))","v":"试炼8层普通怪2"},{"$f":"E889","v":1},2,1,2008002]
[null,2008003,1,"试炼8层普通怪3",{"$f":"E890","v":1},2,1,2008003]
[null,2008004,1,"试炼8层普通怪4",{"$f":"E891","v":1},2,1,2008004]
[null,2008005,1,"试炼8层普通怪5",{"$f":"E892","v":1},2,1,2008005]
[null,2008006,1,"试炼8层普通怪6",{"$f":"E893","v":1},2,1,2008006]
[null,2008007,1,"试炼8层普通怪7",{"$f":"E894","v":1},2,1,2008007]
[null,2008008,1,"试炼8层普通怪8",{"$f":"E895","v":1},2,1,2008008]
[null,2009000,2,"试炼9层boss",{"$f":"E896","v":10},2,1,2009000]
[null,2009001,1,"试炼9层普通怪1",{"$f":"E897","v":1},2,1,2009001]
[null,{"$f":"B898+1000","v":2009002},{"$f":"C898","v":1},"试炼9层普通怪2",{"$f":"E898","v":1},2,1,{"$f":"H898+1000","v":2009002}]
[null,2009003,1,"试炼9层普通怪3",{"$f":"E899","v":1},2,1,2009003]
[null,2009004,1,"试炼9层普通怪4",{"$f":"E900","v":1},2,1,2009004]
[null,2009005,1,"试炼9层普通怪5",{"$f":"E901","v":1},2,1,2009005]
[null,2009006,1,"试炼9层普通怪6",{"$f":"E902","v":1},2,1,2009006]
[null,2009007,1,"试炼9层普通怪7",{"$f":"E903","v":1},2,1,2009007]
[null,2009008,1,"试炼9层普通怪8",{"$f":"E904","v":1},2,1,2009008]
[null,2010000,2,"试炼10层boss",{"$f":"E905","v":10},2,1,2010000]
[null,2010001,1,"试炼10层普通怪1",{"$f":"E906","v":1},2,1,2010001]
[null,2010002,1,"试炼10层普通怪2",{"$f":"E907","v":1},2,1,2010002]
[null,2010003,1,"试炼10层普通怪3",{"$f":"E908","v":1},2,1,2010003]
[null,2010004,1,"试炼10层普通怪4",{"$f":"E909","v":1},2,1,2010004]
[null,2010005,1,"试炼10层普通怪5",{"$f":"E910","v":1},2,1,2010005]
[null,2010006,1,"试炼10层普通怪6",{"$f":"E911","v":1},2,1,2010006]
[null,2010007,1,"试炼10层普通怪7",{"$f":"E912","v":1},2,1,2010007]
[null,2010008,1,"试炼10层普通怪8",{"$f":"E913","v":1},2,1,2010008]
[null,2011000,2,"试炼11层boss",{"$f":"E914","v":10},2,1,2011000]
[null,2011001,1,"试炼11层普通怪1",{"$f":"E915","v":1},2,1,2011001]
[null,2011002,1,"试炼11层普通怪2",{"$f":"E916","v":1},2,1,2011002]
[null,2011003,1,"试炼11层普通怪3",{"$f":"E917","v":1},2,1,2011003]
[null,2011004,1,"试炼11层普通怪4",{"$f":"E918","v":1},2,1,2011004]
[null,2011005,1,"试炼11层普通怪5",{"$f":"E919","v":1},2,1,2011005]
[null,2011006,1,"试炼11层普通怪6",{"$f":"E920","v":1},2,1,2011006]
[null,2011007,1,"试炼11层普通怪7",{"$f":"E921","v":1},2,1,2011007]
[null,2011008,1,"试炼11层普通怪8",{"$f":"E922","v":1},2,1,2011008]
[null,2012000,2,"试炼12层boss",{"$f":"E923","v":10},2,1,2012000]
[null,2012001,1,"试炼12层普通怪1",{"$f":"E924","v":1},2,1,2012001]
[null,2012002,1,"试炼12层普通怪2",{"$f":"E925","v":1},2,1,2012002]
[null,2012003,1,"试炼12层普通怪3",{"$f":"E926","v":1},2,1,2012003]
[null,2012004,1,"试炼12层普通怪4",{"$f":"E927","v":1},2,1,2012004]
[null,2012005,1,"试炼12层普通怪5",{"$f":"E928","v":1},2,1,2012005]
[null,2012006,1,"试炼12层普通怪6",{"$f":"E929","v":1},2,1,2012006]
[null,2012007,1,"试炼12层普通怪7",{"$f":"E930","v":1},2,1,2012007]
[null,2012008,1,"试炼12层普通怪8",{"$f":"E931","v":1},2,1,2012008]
[null,2013000,2,"试炼13层boss",{"$f":"E932","v":10},2,1,2013000]
[null,2013001,1,"试炼13层普通怪1",{"$f":"E933","v":1},2,1,2013001]
[null,2013002,1,"试炼13层普通怪2",{"$f":"E934","v":1},2,1,2013002]
[null,2013003,1,"试炼13层普通怪3",{"$f":"E935","v":1},2,1,2013003]
[null,2013004,1,"试炼13层普通怪4",{"$f":"E936","v":1},2,1,2013004]
[null,2013005,1,"试炼13层普通怪5",{"$f":"E937","v":1},2,1,2013005]
[null,2013006,1,"试炼13层普通怪6",{"$f":"E938","v":1},2,1,2013006]
[null,2013007,1,"试炼13层普通怪7",{"$f":"E939","v":1},2,1,2013007]
[null,2013008,1,"试炼13层普通怪8",{"$f":"E940","v":1},2,1,2013008]
[null,2014000,2,"试炼14层boss",{"$f":"E941","v":10},2,1,2014000]
[null,2014001,1,"试炼14层普通怪1",{"$f":"E942","v":1},2,1,2014001]
[null,2014002,1,"试炼14层普通怪2",{"$f":"E943","v":1},2,1,2014002]
[null,2014003,1,"试炼14层普通怪3",{"$f":"E944","v":1},2,1,2014003]
[null,2014004,1,"试炼14层普通怪4",{"$f":"E945","v":1},2,1,2014004]
[null,2014005,1,"试炼14层普通怪5",{"$f":"E946","v":1},2,1,2014005]
[null,2014006,1,"试炼14层普通怪6",{"$f":"E947","v":1},2,1,2014006]
[null,2014007,1,"试炼14层普通怪7",{"$f":"E948","v":1},2,1,2014007]
[null,2014008,1,"试炼14层普通怪8",{"$f":"E949","v":1},2,1,2014008]
[null,2015000,2,"试炼15层boss",{"$f":"E950","v":10},2,1,2015000]
[null,2015001,1,"试炼15层普通怪1",{"$f":"E951","v":1},2,1,2015001]
[null,2015002,1,"试炼15层普通怪2",{"$f":"E952","v":1},2,1,2015002]
[null,2015003,1,{"$f":"\"试炼\"&INT(MID(B962,2,3))&\"层\"&IF(INT(RIGHT(B962,1))=0,\"boss\",\"普通怪\"&RIGHT(B962,1))","v":"试炼15层普通怪3"},{"$f":"E953","v":1},2,1,2015003]
[null,2015004,1,"试炼15层普通怪4",{"$f":"E954","v":1},2,1,2015004]
[null,2015005,1,"试炼15层普通怪5",{"$f":"E955","v":1},2,1,2015005]
[null,2015006,1,"试炼15层普通怪6",{"$f":"E956","v":1},2,1,2015006]
[null,2015007,1,"试炼15层普通怪7",{"$f":"E957","v":1},2,1,2015007]
[null,2015008,1,"试炼15层普通怪8",{"$f":"E958","v":1},2,1,2015008]
[null,2016000,2,"试炼16层boss",{"$f":"E959","v":10},2,1,2016000]
[null,2016001,1,"试炼16层普通怪1",{"$f":"E960","v":1},2,1,2016001]
[null,2016002,1,"试炼16层普通怪2",{"$f":"E961","v":1},2,1,2016002]
[null,{"$f":"B962+1000","v":2016003},{"$f":"C962","v":1},"试炼16层普通怪3",{"$f":"E962","v":1},2,1,{"$f":"H962+1000","v":2016003}]
[null,2016004,1,"试炼16层普通怪4",{"$f":"E963","v":1},2,1,2016004]
[null,2016005,1,"试炼16层普通怪5",{"$f":"E964","v":1},2,1,2016005]
[null,2016006,1,"试炼16层普通怪6",{"$f":"E965","v":1},2,1,2016006]
[null,2016007,1,"试炼16层普通怪7",{"$f":"E966","v":1},2,1,2016007]
[null,2016008,1,"试炼16层普通怪8",{"$f":"E967","v":1},2,1,2016008]
[null,2017000,2,"试炼17层boss",{"$f":"E968","v":10},2,1,2017000]
[null,2017001,1,"试炼17层普通怪1",{"$f":"E969","v":1},2,1,2017001]
[null,2017002,1,"试炼17层普通怪2",{"$f":"E970","v":1},2,1,2017002]
[null,2017003,1,"试炼17层普通怪3",{"$f":"E971","v":1},2,1,2017003]
[null,2017004,1,"试炼17层普通怪4",{"$f":"E972","v":1},2,1,2017004]
[null,2017005,1,"试炼17层普通怪5",{"$f":"E973","v":1},2,1,2017005]
[null,2017006,1,"试炼17层普通怪6",{"$f":"E974","v":1},2,1,2017006]
[null,2017007,1,"试炼17层普通怪7",{"$f":"E975","v":1},2,1,2017007]
[null,2017008,1,"试炼17层普通怪8",{"$f":"E976","v":1},2,1,2017008]
[null,2018000,2,"试炼18层boss",{"$f":"E977","v":10},2,1,2018000]
[null,2018001,1,"试炼18层普通怪1",{"$f":"E978","v":1},2,1,2018001]
[null,2018002,1,"试炼18层普通怪2",{"$f":"E979","v":1},2,1,2018002]
[null,2018003,1,"试炼18层普通怪3",{"$f":"E980","v":1},2,1,2018003]
[null,2018004,1,"试炼18层普通怪4",{"$f":"E981","v":1},2,1,2018004]
[null,2018005,1,"试炼18层普通怪5",{"$f":"E982","v":1},2,1,2018005]
[null,2018006,1,"试炼18层普通怪6",{"$f":"E983","v":1},2,1,2018006]
[null,2018007,1,"试炼18层普通怪7",{"$f":"E984","v":1},2,1,2018007]
[null,2018008,1,"试炼18层普通怪8",{"$f":"E985","v":1},2,1,2018008]
[null,2019000,2,"试炼19层boss",{"$f":"E986","v":10},2,1,2019000]
[null,2019001,1,"试炼19层普通怪1",{"$f":"E987","v":1},2,1,2019001]
[null,2019002,1,"试炼19层普通怪2",{"$f":"E988","v":1},2,1,2019002]
[null,2019003,1,"试炼19层普通怪3",{"$f":"E989","v":1},2,1,2019003]
[null,2019004,1,"试炼19层普通怪4",{"$f":"E990","v":1},2,1,2019004]
[null,2019005,1,"试炼19层普通怪5",{"$f":"E991","v":1},2,1,2019005]
[null,2019006,1,"试炼19层普通怪6",{"$f":"E992","v":1},2,1,2019006]
[null,2019007,1,"试炼19层普通怪7",{"$f":"E993","v":1},2,1,2019007]
[null,2019008,1,"试炼19层普通怪8",{"$f":"E994","v":1},2,1,2019008]
[null,2020000,2,"试炼20层boss",{"$f":"E995","v":10},2,1,2020000]
[null,2020001,1,"试炼20层普通怪1",{"$f":"E996","v":1},2,1,2020001]
[null,2020002,1,"试炼20层普通怪2",{"$f":"E997","v":1},2,1,2020002]
[null,2020003,1,"试炼20层普通怪3",{"$f":"E998","v":1},2,1,2020003]
[null,2020004,1,"试炼20层普通怪4",{"$f":"E999","v":1},2,1,2020004]
[null,2020005,1,"试炼20层普通怪5",{"$f":"E1000","v":1},2,1,2020005]
[null,2020006,1,"试炼20层普通怪6",{"$f":"E1001","v":1},2,1,2020006]
[null,2020007,1,"试炼20层普通怪7",{"$f":"E1002","v":1},2,1,2020007]
[null,2020008,1,"试炼20层普通怪8",{"$f":"E1003","v":1},2,1,2020008]
[null,2021000,2,"试炼21层boss",{"$f":"E1004","v":10},2,1,2021000]
[null,2021001,1,"试炼21层普通怪1",{"$f":"E1005","v":1},2,1,2021001]
[null,2021002,1,"试炼21层普通怪2",{"$f":"E1006","v":1},2,1,2021002]
[null,2021003,1,"试炼21层普通怪3",{"$f":"E1007","v":1},2,1,2021003]
[null,2021004,1,"试炼21层普通怪4",{"$f":"E1008","v":1},2,1,2021004]
[null,2021005,1,"试炼21层普通怪5",{"$f":"E1009","v":1},2,1,2021005]
[null,2021006,1,"试炼21层普通怪6",{"$f":"E1010","v":1},2,1,2021006]
[null,2021007,1,"试炼21层普通怪7",{"$f":"E1011","v":1},2,1,2021007]
[null,2021008,1,"试炼21层普通怪8",{"$f":"E1012","v":1},2,1,2021008]
[null,2022000,2,"试炼22层boss",{"$f":"E1013","v":10},2,1,2022000]
[null,2022001,1,"试炼22层普通怪1",{"$f":"E1014","v":1},2,1,2022001]
[null,2022002,1,"试炼22层普通怪2",{"$f":"E1015","v":1},2,1,2022002]
[null,2022003,1,"试炼22层普通怪3",{"$f":"E1016","v":1},2,1,2022003]
[null,2022004,1,{"$f":"\"试炼\"&INT(MID(B1026,2,3))&\"层\"&IF(INT(RIGHT(B1026,1))=0,\"boss\",\"普通怪\"&RIGHT(B1026,1))","v":"试炼22层普通怪4"},{"$f":"E1017","v":1},2,1,2022004]
[null,2022005,1,"试炼22层普通怪5",{"$f":"E1018","v":1},2,1,2022005]
[null,2022006,1,"试炼22层普通怪6",{"$f":"E1019","v":1},2,1,2022006]
[null,2022007,1,"试炼22层普通怪7",{"$f":"E1020","v":1},2,1,2022007]
[null,2022008,1,"试炼22层普通怪8",{"$f":"E1021","v":1},2,1,2022008]
[null,2023000,2,"试炼23层boss",{"$f":"E1022","v":10},2,1,2023000]
[null,2023001,1,"试炼23层普通怪1",{"$f":"E1023","v":1},2,1,2023001]
[null,2023002,1,"试炼23层普通怪2",{"$f":"E1024","v":1},2,1,2023002]
[null,2023003,1,"试炼23层普通怪3",{"$f":"E1025","v":1},2,1,2023003]
[null,{"$f":"B1026+1000","v":2023004},{"$f":"C1026","v":1},"试炼23层普通怪4",{"$f":"E1026","v":1},2,1,{"$f":"H1026+1000","v":2023004}]
[null,2023005,1,"试炼23层普通怪5",{"$f":"E1027","v":1},2,1,2023005]
[null,2023006,1,"试炼23层普通怪6",{"$f":"E1028","v":1},2,1,2023006]
[null,2023007,1,"试炼23层普通怪7",{"$f":"E1029","v":1},2,1,2023007]
[null,2023008,1,"试炼23层普通怪8",{"$f":"E1030","v":1},2,1,2023008]
[null,2024000,2,"试炼24层boss",{"$f":"E1031","v":10},2,1,2024000]
[null,2024001,1,"试炼24层普通怪1",{"$f":"E1032","v":1},2,1,2024001]
[null,2024002,1,"试炼24层普通怪2",{"$f":"E1033","v":1},2,1,2024002]
[null,2024003,1,"试炼24层普通怪3",{"$f":"E1034","v":1},2,1,2024003]
[null,2024004,1,"试炼24层普通怪4",{"$f":"E1035","v":1},2,1,2024004]
[null,2024005,1,"试炼24层普通怪5",{"$f":"E1036","v":1},2,1,2024005]
[null,2024006,1,"试炼24层普通怪6",{"$f":"E1037","v":1},2,1,2024006]
[null,2024007,1,"试炼24层普通怪7",{"$f":"E1038","v":1},2,1,2024007]
[null,2024008,1,"试炼24层普通怪8",{"$f":"E1039","v":1},2,1,2024008]
[null,2025000,2,"试炼25层boss",{"$f":"E1040","v":10},2,1,2025000]
[null,2025001,1,"试炼25层普通怪1",{"$f":"E1041","v":1},2,1,2025001]
[null,2025002,1,"试炼25层普通怪2",{"$f":"E1042","v":1},2,1,2025002]
[null,2025003,1,"试炼25层普通怪3",{"$f":"E1043","v":1},2,1,2025003]
[null,2025004,1,"试炼25层普通怪4",{"$f":"E1044","v":1},2,1,2025004]
[null,2025005,1,"试炼25层普通怪5",{"$f":"E1045","v":1},2,1,2025005]
[null,2025006,1,"试炼25层普通怪6",{"$f":"E1046","v":1},2,1,2025006]
[null,2025007,1,"试炼25层普通怪7",{"$f":"E1047","v":1},2,1,2025007]
[null,2025008,1,"试炼25层普通怪8",{"$f":"E1048","v":1},2,1,2025008]
[null,2026000,2,"试炼26层boss",{"$f":"E1049","v":10},2,1,2026000]
[null,2026001,1,"试炼26层普通怪1",{"$f":"E1050","v":1},2,1,2026001]
[null,2026002,1,"试炼26层普通怪2",{"$f":"E1051","v":1},2,1,2026002]
[null,2026003,1,"试炼26层普通怪3",{"$f":"E1052","v":1},2,1,2026003]
[null,2026004,1,"试炼26层普通怪4",{"$f":"E1053","v":1},2,1,2026004]
[null,2026005,1,"试炼26层普通怪5",{"$f":"E1054","v":1},2,1,2026005]
[null,2026006,1,"试炼26层普通怪6",{"$f":"E1055","v":1},2,1,2026006]
[null,2026007,1,"试炼26层普通怪7",{"$f":"E1056","v":1},2,1,2026007]
[null,2026008,1,"试炼26层普通怪8",{"$f":"E1057","v":1},2,1,2026008]
[null,2027000,2,"试炼27层boss",{"$f":"E1058","v":10},2,1,2027000]
[null,2027001,1,"试炼27层普通怪1",{"$f":"E1059","v":1},2,1,2027001]
[null,2027002,1,"试炼27层普通怪2",{"$f":"E1060","v":1},2,1,2027002]
[null,2027003,1,"试炼27层普通怪3",{"$f":"E1061","v":1},2,1,2027003]
[null,2027004,1,"试炼27层普通怪4",{"$f":"E1062","v":1},2,1,2027004]
[null,2027005,1,"试炼27层普通怪5",{"$f":"E1063","v":1},2,1,2027005]
[null,2027006,1,"试炼27层普通怪6",{"$f":"E1064","v":1},2,1,2027006]
[null,2027007,1,"试炼27层普通怪7",{"$f":"E1065","v":1},2,1,2027007]
[null,2027008,1,"试炼27层普通怪8",{"$f":"E1066","v":1},2,1,2027008]
[null,2028000,2,"试炼28层boss",{"$f":"E1067","v":10},2,1,2028000]
[null,2028001,1,"试炼28层普通怪1",{"$f":"E1068","v":1},2,1,2028001]
[null,2028002,1,"试炼28层普通怪2",{"$f":"E1069","v":1},2,1,2028002]
[null,2028003,1,"试炼28层普通怪3",{"$f":"E1070","v":1},2,1,2028003]
[null,2028004,1,"试炼28层普通怪4",{"$f":"E1071","v":1},2,1,2028004]
[null,2028005,1,"试炼28层普通怪5",{"$f":"E1072","v":1},2,1,2028005]
[null,2028006,1,"试炼28层普通怪6",{"$f":"E1073","v":1},2,1,2028006]
[null,2028007,1,"试炼28层普通怪7",{"$f":"E1074","v":1},2,1,2028007]
[null,2028008,1,"试炼28层普通怪8",{"$f":"E1075","v":1},2,1,2028008]
[null,2029000,2,"试炼29层boss",{"$f":"E1076","v":10},2,1,2029000]
[null,2029001,1,"试炼29层普通怪1",{"$f":"E1077","v":1},2,1,2029001]
[null,2029002,1,"试炼29层普通怪2",{"$f":"E1078","v":1},2,1,2029002]
[null,2029003,1,"试炼29层普通怪3",{"$f":"E1079","v":1},2,1,2029003]
[null,2029004,1,"试炼29层普通怪4",{"$f":"E1080","v":1},2,1,2029004]
[null,2029005,1,{"$f":"\"试炼\"&INT(MID(B1090,2,3))&\"层\"&IF(INT(RIGHT(B1090,1))=0,\"boss\",\"普通怪\"&RIGHT(B1090,1))","v":"试炼29层普通怪5"},{"$f":"E1081","v":1},2,1,2029005]
[null,2029006,1,"试炼29层普通怪6",{"$f":"E1082","v":1},2,1,2029006]
[null,2029007,1,"试炼29层普通怪7",{"$f":"E1083","v":1},2,1,2029007]
[null,2029008,1,"试炼29层普通怪8",{"$f":"E1084","v":1},2,1,2029008]
[null,2030000,2,"试炼30层boss",{"$f":"E1085","v":10},2,1,2030000]
[null,2030001,1,"试炼30层普通怪1",{"$f":"E1086","v":1},2,1,2030001]
[null,2030002,1,"试炼30层普通怪2",{"$f":"E1087","v":1},2,1,2030002]
[null,2030003,1,"试炼30层普通怪3",{"$f":"E1088","v":1},2,1,2030003]
[null,2030004,1,"试炼30层普通怪4",{"$f":"E1089","v":1},2,1,2030004]
[null,{"$f":"B1090+1000","v":2030005},{"$f":"C1090","v":1},"试炼30层普通怪5",{"$f":"E1090","v":1},2,1,{"$f":"H1090+1000","v":2030005}]
[null,2030006,1,"试炼30层普通怪6",{"$f":"E1091","v":1},2,1,2030006]
[null,2030007,1,"试炼30层普通怪7",{"$f":"E1092","v":1},2,1,2030007]
[null,2030008,1,"试炼30层普通怪8",{"$f":"E1093","v":1},2,1,2030008]
[null,2031000,2,"试炼31层boss",{"$f":"E1094","v":10},2,1,2031000]
[null,2031001,1,"试炼31层普通怪1",{"$f":"E1095","v":1},2,1,2031001]
[null,2031002,1,"试炼31层普通怪2",{"$f":"E1096","v":1},2,1,2031002]
[null,2031003,1,"试炼31层普通怪3",{"$f":"E1097","v":1},2,1,2031003]
[null,2031004,1,"试炼31层普通怪4",{"$f":"E1098","v":1},2,1,2031004]
[null,2031005,1,"试炼31层普通怪5",{"$f":"E1099","v":1},2,1,2031005]
[null,2031006,1,"试炼31层普通怪6",{"$f":"E1100","v":1},2,1,2031006]
[null,2031007,1,"试炼31层普通怪7",{"$f":"E1101","v":1},2,1,2031007]
[null,2031008,1,"试炼31层普通怪8",{"$f":"E1102","v":1},2,1,2031008]
[null,2032000,2,"试炼32层boss",{"$f":"E1103","v":10},2,1,2032000]
[null,2032001,1,"试炼32层普通怪1",{"$f":"E1104","v":1},2,1,2032001]
[null,2032002,1,"试炼32层普通怪2",{"$f":"E1105","v":1},2,1,2032002]
[null,2032003,1,"试炼32层普通怪3",{"$f":"E1106","v":1},2,1,2032003]
[null,2032004,1,"试炼32层普通怪4",{"$f":"E1107","v":1},2,1,2032004]
[null,2032005,1,"试炼32层普通怪5",{"$f":"E1108","v":1},2,1,2032005]
[null,2032006,1,"试炼32层普通怪6",{"$f":"E1109","v":1},2,1,2032006]
[null,2032007,1,"试炼32层普通怪7",{"$f":"E1110","v":1},2,1,2032007]
[null,2032008,1,"试炼32层普通怪8",{"$f":"E1111","v":1},2,1,2032008]
[null,2033000,2,"试炼33层boss",{"$f":"E1112","v":10},2,1,2033000]
[null,2033001,1,"试炼33层普通怪1",{"$f":"E1113","v":1},2,1,2033001]
[null,2033002,1,"试炼33层普通怪2",{"$f":"E1114","v":1},2,1,2033002]
[null,2033003,1,"试炼33层普通怪3",{"$f":"E1115","v":1},2,1,2033003]
[null,2033004,1,"试炼33层普通怪4",{"$f":"E1116","v":1},2,1,2033004]
[null,2033005,1,"试炼33层普通怪5",{"$f":"E1117","v":1},2,1,2033005]
[null,2033006,1,"试炼33层普通怪6",{"$f":"E1118","v":1},2,1,2033006]
[null,2033007,1,"试炼33层普通怪7",{"$f":"E1119","v":1},2,1,2033007]
[null,2033008,1,"试炼33层普通怪8",{"$f":"E1120","v":1},2,1,2033008]
[null,2034000,2,"试炼34层boss",{"$f":"E1121","v":10},2,1,2034000]
[null,2034001,1,"试炼34层普通怪1",{"$f":"E1122","v":1},2,1,2034001]
[null,2034002,1,"试炼34层普通怪2",{"$f":"E1123","v":1},2,1,2034002]
[null,2034003,1,"试炼34层普通怪3",{"$f":"E1124","v":1},2,1,2034003]
[null,2034004,1,"试炼34层普通怪4",{"$f":"E1125","v":1},2,1,2034004]
[null,2034005,1,"试炼34层普通怪5",{"$f":"E1126","v":1},2,1,2034005]
[null,2034006,1,"试炼34层普通怪6",{"$f":"E1127","v":1},2,1,2034006]
[null,2034007,1,"试炼34层普通怪7",{"$f":"E1128","v":1},2,1,2034007]
[null,2034008,1,"试炼34层普通怪8",{"$f":"E1129","v":1},2,1,2034008]
[null,2035000,2,"试炼35层boss",{"$f":"E1130","v":10},2,1,2035000]
[null,2035001,1,"试炼35层普通怪1",{"$f":"E1131","v":1},2,1,2035001]
[null,2035002,1,"试炼35层普通怪2",{"$f":"E1132","v":1},2,1,2035002]
[null,2035003,1,"试炼35层普通怪3",{"$f":"E1133","v":1},2,1,2035003]
[null,2035004,1,"试炼35层普通怪4",{"$f":"E1134","v":1},2,1,2035004]
[null,2035005,1,"试炼35层普通怪5",{"$f":"E1135","v":1},2,1,2035005]
[null,2035006,1,"试炼35层普通怪6",{"$f":"E1136","v":1},2,1,2035006]
[null,2035007,1,"试炼35层普通怪7",{"$f":"E1137","v":1},2,1,2035007]
[null,2035008,1,"试炼35层普通怪8",{"$f":"E1138","v":1},2,1,2035008]
[null,2036000,2,"试炼36层boss",{"$f":"E1139","v":10},2,1,2036000]
[null,2036001,1,"试炼36层普通怪1",{"$f":"E1140","v":1},2,1,2036001]
[null,2036002,1,"试炼36层普通怪2",{"$f":"E1141","v":1},2,1,2036002]
[null,2036003,1,"试炼36层普通怪3",{"$f":"E1142","v":1},2,1,2036003]
[null,2036004,1,"试炼36层普通怪4",{"$f":"E1143","v":1},2,1,2036004]
[null,2036005,1,"试炼36层普通怪5",{"$f":"E1144","v":1},2,1,2036005]
[null,2036006,1,{"$f":"\"试炼\"&INT(MID(B1154,2,3))&\"层\"&IF(INT(RIGHT(B1154,1))=0,\"boss\",\"普通怪\"&RIGHT(B1154,1))","v":"试炼36层普通怪6"},{"$f":"E1145","v":1},2,1,2036006]
[null,2036007,1,"试炼36层普通怪7",{"$f":"E1146","v":1},2,1,2036007]
[null,2036008,1,"试炼36层普通怪8",{"$f":"E1147","v":1},2,1,2036008]
[null,2037000,2,"试炼37层boss",{"$f":"E1148","v":10},2,1,2037000]
[null,2037001,1,"试炼37层普通怪1",{"$f":"E1149","v":1},2,1,2037001]
[null,2037002,1,"试炼37层普通怪2",{"$f":"E1150","v":1},2,1,2037002]
[null,2037003,1,"试炼37层普通怪3",{"$f":"E1151","v":1},2,1,2037003]
[null,2037004,1,"试炼37层普通怪4",{"$f":"E1152","v":1},2,1,2037004]
[null,2037005,1,"试炼37层普通怪5",{"$f":"E1153","v":1},2,1,2037005]
[null,{"$f":"B1154+1000","v":2037006},{"$f":"C1154","v":1},"试炼37层普通怪6",{"$f":"E1154","v":1},2,1,{"$f":"H1154+1000","v":2037006}]
[null,2037007,1,"试炼37层普通怪7",{"$f":"E1155","v":1},2,1,2037007]
[null,2037008,1,"试炼37层普通怪8",{"$f":"E1156","v":1},2,1,2037008]
[null,2038000,2,"试炼38层boss",{"$f":"E1157","v":10},2,1,2038000]
[null,2038001,1,"试炼38层普通怪1",{"$f":"E1158","v":1},2,1,2038001]
[null,2038002,1,"试炼38层普通怪2",{"$f":"E1159","v":1},2,1,2038002]
[null,2038003,1,"试炼38层普通怪3",{"$f":"E1160","v":1},2,1,2038003]
[null,2038004,1,"试炼38层普通怪4",{"$f":"E1161","v":1},2,1,2038004]
[null,2038005,1,"试炼38层普通怪5",{"$f":"E1162","v":1},2,1,2038005]
[null,2038006,1,"试炼38层普通怪6",{"$f":"E1163","v":1},2,1,2038006]
[null,2038007,1,"试炼38层普通怪7",{"$f":"E1164","v":1},2,1,2038007]
[null,2038008,1,"试炼38层普通怪8",{"$f":"E1165","v":1},2,1,2038008]
[null,2039000,2,"试炼39层boss",{"$f":"E1166","v":10},2,1,2039000]
[null,2039001,1,"试炼39层普通怪1",{"$f":"E1167","v":1},2,1,2039001]
[null,2039002,1,"试炼39层普通怪2",{"$f":"E1168","v":1},2,1,2039002]
[null,2039003,1,"试炼39层普通怪3",{"$f":"E1169","v":1},2,1,2039003]
[null,2039004,1,"试炼39层普通怪4",{"$f":"E1170","v":1},2,1,2039004]
[null,2039005,1,"试炼39层普通怪5",{"$f":"E1171","v":1},2,1,2039005]
[null,2039006,1,"试炼39层普通怪6",{"$f":"E1172","v":1},2,1,2039006]
[null,2039007,1,"试炼39层普通怪7",{"$f":"E1173","v":1},2,1,2039007]
[null,2039008,1,"试炼39层普通怪8",{"$f":"E1174","v":1},2,1,2039008]
[null,2040000,2,"试炼40层boss",{"$f":"E1175","v":10},2,1,2040000]
[null,2040001,1,"试炼40层普通怪1",{"$f":"E1176","v":1},2,1,2040001]
[null,2040002,1,"试炼40层普通怪2",{"$f":"E1177","v":1},2,1,2040002]
[null,2040003,1,"试炼40层普通怪3",{"$f":"E1178","v":1},2,1,2040003]
[null,2040004,1,"试炼40层普通怪4",{"$f":"E1179","v":1},2,1,2040004]
[null,2040005,1,"试炼40层普通怪5",{"$f":"E1180","v":1},2,1,2040005]
[null,2040006,1,"试炼40层普通怪6",{"$f":"E1181","v":1},2,1,2040006]
[null,2040007,1,"试炼40层普通怪7",{"$f":"E1182","v":1},2,1,2040007]
[null,2040008,1,"试炼40层普通怪8",{"$f":"E1183","v":1},2,1,2040008]
[null,2041000,2,"试炼41层boss",{"$f":"E1184","v":10},2,1,2041000]
[null,2041001,1,"试炼41层普通怪1",{"$f":"E1185","v":1},2,1,2041001]
[null,2041002,1,"试炼41层普通怪2",{"$f":"E1186","v":1},2,1,2041002]
[null,2041003,1,"试炼41层普通怪3",{"$f":"E1187","v":1},2,1,2041003]
[null,2041004,1,"试炼41层普通怪4",{"$f":"E1188","v":1},2,1,2041004]
[null,2041005,1,"试炼41层普通怪5",{"$f":"E1189","v":1},2,1,2041005]
[null,2041006,1,"试炼41层普通怪6",{"$f":"E1190","v":1},2,1,2041006]
[null,2041007,1,"试炼41层普通怪7",{"$f":"E1191","v":1},2,1,2041007]
[null,2041008,1,"试炼41层普通怪8",{"$f":"E1192","v":1},2,1,2041008]
[null,2042000,2,"试炼42层boss",{"$f":"E1193","v":10},2,1,2042000]
[null,2042001,1,"试炼42层普通怪1",{"$f":"E1194","v":1},2,1,2042001]
[null,2042002,1,"试炼42层普通怪2",{"$f":"E1195","v":1},2,1,2042002]
[null,2042003,1,"试炼42层普通怪3",{"$f":"E1196","v":1},2,1,2042003]
[null,2042004,1,"试炼42层普通怪4",{"$f":"E1197","v":1},2,1,2042004]
[null,2042005,1,"试炼42层普通怪5",{"$f":"E1198","v":1},2,1,2042005]
[null,2042006,1,"试炼42层普通怪6",{"$f":"E1199","v":1},2,1,2042006]
[null,2042007,1,"试炼42层普通怪7",{"$f":"E1200","v":1},2,1,2042007]
[null,2042008,1,"试炼42层普通怪8",{"$f":"E1201","v":1},2,1,2042008]
[null,2043000,2,"试炼43层boss",{"$f":"E1202","v":10},2,1,2043000]
[null,2043001,1,"试炼43层普通怪1",{"$f":"E1203","v":1},2,1,2043001]
[null,2043002,1,"试炼43层普通怪2",{"$f":"E1204","v":1},2,1,2043002]
[null,2043003,1,"试炼43层普通怪3",{"$f":"E1205","v":1},2,1,2043003]
[null,2043004,1,"试炼43层普通怪4",{"$f":"E1206","v":1},2,1,2043004]
[null,2043005,1,"试炼43层普通怪5",{"$f":"E1207","v":1},2,1,2043005]
[null,2043006,1,"试炼43层普通怪6",{"$f":"E1208","v":1},2,1,2043006]
[null,2043007,1,{"$f":"\"试炼\"&INT(MID(B1218,2,3))&\"层\"&IF(INT(RIGHT(B1218,1))=0,\"boss\",\"普通怪\"&RIGHT(B1218,1))","v":"试炼43层普通怪7"},{"$f":"E1209","v":1},2,1,2043007]
[null,2043008,1,"试炼43层普通怪8",{"$f":"E1210","v":1},2,1,2043008]
[null,2044000,2,"试炼44层boss",{"$f":"E1211","v":10},2,1,2044000]
[null,2044001,1,"试炼44层普通怪1",{"$f":"E1212","v":1},2,1,2044001]
[null,2044002,1,"试炼44层普通怪2",{"$f":"E1213","v":1},2,1,2044002]
[null,2044003,1,"试炼44层普通怪3",{"$f":"E1214","v":1},2,1,2044003]
[null,2044004,1,"试炼44层普通怪4",{"$f":"E1215","v":1},2,1,2044004]
[null,2044005,1,"试炼44层普通怪5",{"$f":"E1216","v":1},2,1,2044005]
[null,2044006,1,"试炼44层普通怪6",{"$f":"E1217","v":1},2,1,2044006]
[null,{"$f":"B1218+1000","v":2044007},{"$f":"C1218","v":1},"试炼44层普通怪7",{"$f":"E1218","v":1},2,1,{"$f":"H1218+1000","v":2044007}]
[null,2044008,1,"试炼44层普通怪8",{"$f":"E1219","v":1},2,1,2044008]
[null,2045000,2,"试炼45层boss",{"$f":"E1220","v":10},2,1,2045000]
[null,2045001,1,"试炼45层普通怪1",{"$f":"E1221","v":1},2,1,2045001]
[null,2045002,1,"试炼45层普通怪2",{"$f":"E1222","v":1},2,1,2045002]
[null,2045003,1,"试炼45层普通怪3",{"$f":"E1223","v":1},2,1,2045003]
[null,2045004,1,"试炼45层普通怪4",{"$f":"E1224","v":1},2,1,2045004]
[null,2045005,1,"试炼45层普通怪5",{"$f":"E1225","v":1},2,1,2045005]
[null,2045006,1,"试炼45层普通怪6",{"$f":"E1226","v":1},2,1,2045006]
[null,2045007,1,"试炼45层普通怪7",{"$f":"E1227","v":1},2,1,2045007]
[null,2045008,1,"试炼45层普通怪8",{"$f":"E1228","v":1},2,1,2045008]
[null,2046000,2,"试炼46层boss",{"$f":"E1229","v":10},2,1,2046000]
[null,2046001,1,"试炼46层普通怪1",{"$f":"E1230","v":1},2,1,2046001]
[null,2046002,1,"试炼46层普通怪2",{"$f":"E1231","v":1},2,1,2046002]
[null,2046003,1,"试炼46层普通怪3",{"$f":"E1232","v":1},2,1,2046003]
[null,2046004,1,"试炼46层普通怪4",{"$f":"E1233","v":1},2,1,2046004]
[null,2046005,1,"试炼46层普通怪5",{"$f":"E1234","v":1},2,1,2046005]
[null,2046006,1,"试炼46层普通怪6",{"$f":"E1235","v":1},2,1,2046006]
[null,2046007,1,"试炼46层普通怪7",{"$f":"E1236","v":1},2,1,2046007]
[null,2046008,1,"试炼46层普通怪8",{"$f":"E1237","v":1},2,1,2046008]
[null,2047000,2,"试炼47层boss",{"$f":"E1238","v":10},2,1,2047000]
[null,2047001,1,"试炼47层普通怪1",{"$f":"E1239","v":1},2,1,2047001]
[null,2047002,1,"试炼47层普通怪2",{"$f":"E1240","v":1},2,1,2047002]
[null,2047003,1,"试炼47层普通怪3",{"$f":"E1241","v":1},2,1,2047003]
[null,2047004,1,"试炼47层普通怪4",{"$f":"E1242","v":1},2,1,2047004]
[null,2047005,1,"试炼47层普通怪5",{"$f":"E1243","v":1},2,1,2047005]
[null,2047006,1,"试炼47层普通怪6",{"$f":"E1244","v":1},2,1,2047006]
[null,2047007,1,"试炼47层普通怪7",{"$f":"E1245","v":1},2,1,2047007]
[null,2047008,1,"试炼47层普通怪8",{"$f":"E1246","v":1},2,1,2047008]
[null,2048000,2,"试炼48层boss",{"$f":"E1247","v":10},2,1,2048000]
[null,2048001,1,"试炼48层普通怪1",{"$f":"E1248","v":1},2,1,2048001]
[null,2048002,1,"试炼48层普通怪2",{"$f":"E1249","v":1},2,1,2048002]
[null,2048003,1,"试炼48层普通怪3",{"$f":"E1250","v":1},2,1,2048003]
[null,2048004,1,"试炼48层普通怪4",{"$f":"E1251","v":1},2,1,2048004]
[null,2048005,1,"试炼48层普通怪5",{"$f":"E1252","v":1},2,1,2048005]
[null,2048006,1,"试炼48层普通怪6",{"$f":"E1253","v":1},2,1,2048006]
[null,2048007,1,"试炼48层普通怪7",{"$f":"E1254","v":1},2,1,2048007]
[null,2048008,1,"试炼48层普通怪8",{"$f":"E1255","v":1},2,1,2048008]
[null,2049000,2,"试炼49层boss",{"$f":"E1256","v":10},2,1,2049000]
[null,2049001,1,"试炼49层普通怪1",{"$f":"E1257","v":1},2,1,2049001]
[null,2049002,1,"试炼49层普通怪2",{"$f":"E1258","v":1},2,1,2049002]
[null,2049003,1,"试炼49层普通怪3",{"$f":"E1259","v":1},2,1,2049003]
[null,2049004,1,"试炼49层普通怪4",{"$f":"E1260","v":1},2,1,2049004]
[null,2049005,1,"试炼49层普通怪5",{"$f":"E1261","v":1},2,1,2049005]
[null,2049006,1,"试炼49层普通怪6",{"$f":"E1262","v":1},2,1,2049006]
[null,2049007,1,"试炼49层普通怪7",{"$f":"E1263","v":1},2,1,2049007]
[null,2049008,1,"试炼49层普通怪8",{"$f":"E1264","v":1},2,1,2049008]
[null,2050000,2,"试炼50层boss",{"$f":"E1265","v":10},2,1,2050000]
[null,2050001,1,"试炼50层普通怪1",{"$f":"E1266","v":1},2,1,2050001]
[null,2050002,1,"试炼50层普通怪2",{"$f":"E1267","v":1},2,1,2050002]
[null,2050003,1,"试炼50层普通怪3",{"$f":"E1268","v":1},2,1,2050003]
[null,2050004,1,"试炼50层普通怪4",{"$f":"E1269","v":1},2,1,2050004]
[null,2050005,1,"试炼50层普通怪5",{"$f":"E1270","v":1},2,1,2050005]
[null,2050006,1,"试炼50层普通怪6",{"$f":"E1271","v":1},2,1,2050006]
[null,2050007,1,"试炼50层普通怪7",{"$f":"E1272","v":1},2,1,2050007]
[null,2050008,1,{"$f":"\"试炼\"&INT(MID(B1282,2,3))&\"层\"&IF(INT(RIGHT(B1282,1))=0,\"boss\",\"普通怪\"&RIGHT(B1282,1))","v":"试炼50层普通怪8"},{"$f":"E1273","v":1},2,1,2050008]
[null,2051000,2,"试炼51层boss",{"$f":"E1274","v":10},2,1,2051000]
[null,2051001,1,"试炼51层普通怪1",{"$f":"E1275","v":1},2,1,2051001]
[null,2051002,1,"试炼51层普通怪2",{"$f":"E1276","v":1},2,1,2051002]
[null,2051003,1,"试炼51层普通怪3",{"$f":"E1277","v":1},2,1,2051003]
[null,2051004,1,"试炼51层普通怪4",{"$f":"E1278","v":1},2,1,2051004]
[null,2051005,1,"试炼51层普通怪5",{"$f":"E1279","v":1},2,1,2051005]
[null,2051006,1,"试炼51层普通怪6",{"$f":"E1280","v":1},2,1,2051006]
[null,2051007,1,"试炼51层普通怪7",{"$f":"E1281","v":1},2,1,2051007]
[null,{"$f":"B1282+1000","v":2051008},{"$f":"C1282","v":1},"试炼51层普通怪8",{"$f":"E1282","v":1},2,1,{"$f":"H1282+1000","v":2051008}]
[null,2052000,2,"试炼52层boss",{"$f":"E1283","v":10},2,1,2052000]
[null,2052001,1,"试炼52层普通怪1",{"$f":"E1284","v":1},2,1,2052001]
[null,2052002,1,"试炼52层普通怪2",{"$f":"E1285","v":1},2,1,2052002]
[null,2052003,1,"试炼52层普通怪3",{"$f":"E1286","v":1},2,1,2052003]
[null,2052004,1,"试炼52层普通怪4",{"$f":"E1287","v":1},2,1,2052004]
[null,2052005,1,"试炼52层普通怪5",{"$f":"E1288","v":1},2,1,2052005]
[null,2052006,1,"试炼52层普通怪6",{"$f":"E1289","v":1},2,1,2052006]
[null,2052007,1,"试炼52层普通怪7",{"$f":"E1290","v":1},2,1,2052007]
[null,2052008,1,"试炼52层普通怪8",{"$f":"E1291","v":1},2,1,2052008]
[null,2053000,2,"试炼53层boss",{"$f":"E1292","v":10},2,1,2053000]
[null,2053001,1,"试炼53层普通怪1",{"$f":"E1293","v":1},2,1,2053001]
[null,2053002,1,"试炼53层普通怪2",{"$f":"E1294","v":1},2,1,2053002]
[null,2053003,1,"试炼53层普通怪3",{"$f":"E1295","v":1},2,1,2053003]
[null,2053004,1,"试炼53层普通怪4",{"$f":"E1296","v":1},2,1,2053004]
[null,2053005,1,"试炼53层普通怪5",{"$f":"E1297","v":1},2,1,2053005]
[null,2053006,1,"试炼53层普通怪6",{"$f":"E1298","v":1},2,1,2053006]
[null,2053007,1,"试炼53层普通怪7",{"$f":"E1299","v":1},2,1,2053007]
[null,2053008,1,"试炼53层普通怪8",{"$f":"E1300","v":1},2,1,2053008]
[null,2054000,2,"试炼54层boss",{"$f":"E1301","v":10},2,1,2054000]
[null,2054001,1,"试炼54层普通怪1",{"$f":"E1302","v":1},2,1,2054001]
[null,2054002,1,"试炼54层普通怪2",{"$f":"E1303","v":1},2,1,2054002]
[null,2054003,1,"试炼54层普通怪3",{"$f":"E1304","v":1},2,1,2054003]
[null,2054004,1,"试炼54层普通怪4",{"$f":"E1305","v":1},2,1,2054004]
[null,2054005,1,"试炼54层普通怪5",{"$f":"E1306","v":1},2,1,2054005]
[null,2054006,1,"试炼54层普通怪6",{"$f":"E1307","v":1},2,1,2054006]
[null,2054007,1,"试炼54层普通怪7",{"$f":"E1308","v":1},2,1,2054007]
[null,2054008,1,"试炼54层普通怪8",{"$f":"E1309","v":1},2,1,2054008]
[null,2055000,2,"试炼55层boss",{"$f":"E1310","v":10},2,1,2055000]
[null,2055001,1,"试炼55层普通怪1",{"$f":"E1311","v":1},2,1,2055001]
[null,2055002,1,"试炼55层普通怪2",{"$f":"E1312","v":1},2,1,2055002]
[null,2055003,1,"试炼55层普通怪3",{"$f":"E1313","v":1},2,1,2055003]
[null,2055004,1,"试炼55层普通怪4",{"$f":"E1314","v":1},2,1,2055004]
[null,2055005,1,"试炼55层普通怪5",{"$f":"E1315","v":1},2,1,2055005]
[null,2055006,1,"试炼55层普通怪6",{"$f":"E1316","v":1},2,1,2055006]
[null,2055007,1,"试炼55层普通怪7",{"$f":"E1317","v":1},2,1,2055007]
[null,2055008,1,"试炼55层普通怪8",{"$f":"E1318","v":1},2,1,2055008]
[null,2056000,2,"试炼56层boss",{"$f":"E1319","v":10},2,1,2056000]
[null,2056001,1,"试炼56层普通怪1",{"$f":"E1320","v":1},2,1,2056001]
[null,2056002,1,"试炼56层普通怪2",{"$f":"E1321","v":1},2,1,2056002]
[null,2056003,1,"试炼56层普通怪3",{"$f":"E1322","v":1},2,1,2056003]
[null,2056004,1,"试炼56层普通怪4",{"$f":"E1323","v":1},2,1,2056004]
[null,2056005,1,"试炼56层普通怪5",{"$f":"E1324","v":1},2,1,2056005]
[null,2056006,1,"试炼56层普通怪6",{"$f":"E1325","v":1},2,1,2056006]
[null,2056007,1,"试炼56层普通怪7",{"$f":"E1326","v":1},2,1,2056007]
[null,2056008,1,"试炼56层普通怪8",{"$f":"E1327","v":1},2,1,2056008]
[null,2057000,2,"试炼57层boss",{"$f":"E1328","v":10},2,1,2057000]
[null,2057001,1,"试炼57层普通怪1",{"$f":"E1329","v":1},2,1,2057001]
[null,2057002,1,"试炼57层普通怪2",{"$f":"E1330","v":1},2,1,2057002]
[null,2057003,1,"试炼57层普通怪3",{"$f":"E1331","v":1},2,1,2057003]
[null,2057004,1,"试炼57层普通怪4",{"$f":"E1332","v":1},2,1,2057004]
[null,2057005,1,"试炼57层普通怪5",{"$f":"E1333","v":1},2,1,2057005]
[null,2057006,1,"试炼57层普通怪6",{"$f":"E1334","v":1},2,1,2057006]
[null,2057007,1,"试炼57层普通怪7",{"$f":"E1335","v":1},2,1,2057007]
[null,2057008,1,"试炼57层普通怪8",{"$f":"E1336","v":1},2,1,2057008]
[null,2058000,2,{"$f":"\"试炼\"&INT(MID(B1346,2,3))&\"层\"&IF(INT(RIGHT(B1346,1))=0,\"boss\",\"普通怪\"&RIGHT(B1346,1))","v":"试炼58层boss"},{"$f":"E1337","v":10},2,1,2058000]
[null,2058001,1,"试炼58层普通怪1",{"$f":"E1338","v":1},2,1,2058001]
[null,2058002,1,"试炼58层普通怪2",{"$f":"E1339","v":1},2,1,2058002]
[null,2058003,1,"试炼58层普通怪3",{"$f":"E1340","v":1},2,1,2058003]
[null,2058004,1,"试炼58层普通怪4",{"$f":"E1341","v":1},2,1,2058004]
[null,2058005,1,"试炼58层普通怪5",{"$f":"E1342","v":1},2,1,2058005]
[null,2058006,1,"试炼58层普通怪6",{"$f":"E1343","v":1},2,1,2058006]
[null,2058007,1,"试炼58层普通怪7",{"$f":"E1344","v":1},2,1,2058007]
[null,2058008,1,"试炼58层普通怪8",{"$f":"E1345","v":1},2,1,2058008]
[null,{"$f":"B1346+1000","v":2059000},{"$f":"C1346","v":2},"试炼59层boss",{"$f":"E1346","v":10},2,1,{"$f":"H1346+1000","v":2059000}]
[null,2059001,1,"试炼59层普通怪1",{"$f":"E1347","v":1},2,1,2059001]
[null,2059002,1,"试炼59层普通怪2",{"$f":"E1348","v":1},2,1,2059002]
[null,2059003,1,"试炼59层普通怪3",{"$f":"E1349","v":1},2,1,2059003]
[null,2059004,1,"试炼59层普通怪4",{"$f":"E1350","v":1},2,1,2059004]
[null,2059005,1,"试炼59层普通怪5",{"$f":"E1351","v":1},2,1,2059005]
[null,2059006,1,"试炼59层普通怪6",{"$f":"E1352","v":1},2,1,2059006]
[null,2059007,1,"试炼59层普通怪7",{"$f":"E1353","v":1},2,1,2059007]
[null,2059008,1,"试炼59层普通怪8",{"$f":"E1354","v":1},2,1,2059008]
[null,2060000,2,"试炼60层boss",{"$f":"E1355","v":10},2,1,2060000]
[null,2060001,1,"试炼60层普通怪1",{"$f":"E1356","v":1},2,1,2060001]
[null,2060002,1,"试炼60层普通怪2",{"$f":"E1357","v":1},2,1,2060002]
[null,2060003,1,"试炼60层普通怪3",{"$f":"E1358","v":1},2,1,2060003]
[null,2060004,1,"试炼60层普通怪4",{"$f":"E1359","v":1},2,1,2060004]
[null,2060005,1,"试炼60层普通怪5",{"$f":"E1360","v":1},2,1,2060005]
[null,2060006,1,"试炼60层普通怪6",{"$f":"E1361","v":1},2,1,2060006]
[null,2060007,1,"试炼60层普通怪7",{"$f":"E1362","v":1},2,1,2060007]
[null,2060008,1,"试炼60层普通怪8",{"$f":"E1363","v":1},2,1,2060008]
[null,2061000,2,"试炼61层boss",{"$f":"E1364","v":10},2,1,2061000]
[null,2061001,1,"试炼61层普通怪1",{"$f":"E1365","v":1},2,1,2061001]
[null,2061002,1,"试炼61层普通怪2",{"$f":"E1366","v":1},2,1,2061002]
[null,2061003,1,"试炼61层普通怪3",{"$f":"E1367","v":1},2,1,2061003]
[null,2061004,1,"试炼61层普通怪4",{"$f":"E1368","v":1},2,1,2061004]
[null,2061005,1,"试炼61层普通怪5",{"$f":"E1369","v":1},2,1,2061005]
[null,2061006,1,"试炼61层普通怪6",{"$f":"E1370","v":1},2,1,2061006]
[null,2061007,1,"试炼61层普通怪7",{"$f":"E1371","v":1},2,1,2061007]
[null,2061008,1,"试炼61层普通怪8",{"$f":"E1372","v":1},2,1,2061008]
[null,2062000,2,"试炼62层boss",{"$f":"E1373","v":10},2,1,2062000]
[null,2062001,1,"试炼62层普通怪1",{"$f":"E1374","v":1},2,1,2062001]
[null,2062002,1,"试炼62层普通怪2",{"$f":"E1375","v":1},2,1,2062002]
[null,2062003,1,"试炼62层普通怪3",{"$f":"E1376","v":1},2,1,2062003]
[null,2062004,1,"试炼62层普通怪4",{"$f":"E1377","v":1},2,1,2062004]
[null,2062005,1,"试炼62层普通怪5",{"$f":"E1378","v":1},2,1,2062005]
[null,2062006,1,"试炼62层普通怪6",{"$f":"E1379","v":1},2,1,2062006]
[null,2062007,1,"试炼62层普通怪7",{"$f":"E1380","v":1},2,1,2062007]
[null,2062008,1,"试炼62层普通怪8",{"$f":"E1381","v":1},2,1,2062008]
[null,2063000,2,"试炼63层boss",{"$f":"E1382","v":10},2,1,2063000]
[null,2063001,1,"试炼63层普通怪1",{"$f":"E1383","v":1},2,1,2063001]
[null,2063002,1,"试炼63层普通怪2",{"$f":"E1384","v":1},2,1,2063002]
[null,2063003,1,"试炼63层普通怪3",{"$f":"E1385","v":1},2,1,2063003]
[null,2063004,1,"试炼63层普通怪4",{"$f":"E1386","v":1},2,1,2063004]
[null,2063005,1,"试炼63层普通怪5",{"$f":"E1387","v":1},2,1,2063005]
[null,2063006,1,"试炼63层普通怪6",{"$f":"E1388","v":1},2,1,2063006]
[null,2063007,1,"试炼63层普通怪7",{"$f":"E1389","v":1},2,1,2063007]
[null,2063008,1,"试炼63层普通怪8",{"$f":"E1390","v":1},2,1,2063008]
[null,2064000,2,"试炼64层boss",{"$f":"E1391","v":10},2,1,2064000]
[null,2064001,1,"试炼64层普通怪1",{"$f":"E1392","v":1},2,1,2064001]
[null,2064002,1,"试炼64层普通怪2",{"$f":"E1393","v":1},2,1,2064002]
[null,2064003,1,"试炼64层普通怪3",{"$f":"E1394","v":1},2,1,2064003]
[null,2064004,1,"试炼64层普通怪4",{"$f":"E1395","v":1},2,1,2064004]
[null,2064005,1,"试炼64层普通怪5",{"$f":"E1396","v":1},2,1,2064005]
[null,2064006,1,"试炼64层普通怪6",{"$f":"E1397","v":1},2,1,2064006]
[null,2064007,1,"试炼64层普通怪7",{"$f":"E1398","v":1},2,1,2064007]
[null,2064008,1,"试炼64层普通怪8",{"$f":"E1399","v":1},2,1,2064008]
[null,2065000,2,"试炼65层boss",{"$f":"E1400","v":10},2,1,2065000]
[null,2065001,1,{"$f":"\"试炼\"&INT(MID(B1410,2,3))&\"层\"&IF(INT(RIGHT(B1410,1))=0,\"boss\",\"普通怪\"&RIGHT(B1410,1))","v":"试炼65层普通怪1"},{"$f":"E1401","v":1},2,1,2065001]
[null,2065002,1,"试炼65层普通怪2",{"$f":"E1402","v":1},2,1,2065002]
[null,2065003,1,"试炼65层普通怪3",{"$f":"E1403","v":1},2,1,2065003]
[null,2065004,1,"试炼65层普通怪4",{"$f":"E1404","v":1},2,1,2065004]
[null,2065005,1,"试炼65层普通怪5",{"$f":"E1405","v":1},2,1,2065005]
[null,2065006,1,"试炼65层普通怪6",{"$f":"E1406","v":1},2,1,2065006]
[null,2065007,1,"试炼65层普通怪7",{"$f":"E1407","v":1},2,1,2065007]
[null,2065008,1,"试炼65层普通怪8",{"$f":"E1408","v":1},2,1,2065008]
[null,2066000,2,"试炼66层boss",{"$f":"E1409","v":10},2,1,2066000]
[null,{"$f":"B1410+1000","v":2066001},{"$f":"C1410","v":1},"试炼66层普通怪1",{"$f":"E1410","v":1},2,1,{"$f":"H1410+1000","v":2066001}]
[null,2066002,1,"试炼66层普通怪2",{"$f":"E1411","v":1},2,1,2066002]
[null,2066003,1,"试炼66层普通怪3",{"$f":"E1412","v":1},2,1,2066003]
[null,2066004,1,"试炼66层普通怪4",{"$f":"E1413","v":1},2,1,2066004]
[null,2066005,1,"试炼66层普通怪5",{"$f":"E1414","v":1},2,1,2066005]
[null,2066006,1,"试炼66层普通怪6",{"$f":"E1415","v":1},2,1,2066006]
[null,2066007,1,"试炼66层普通怪7",{"$f":"E1416","v":1},2,1,2066007]
[null,2066008,1,"试炼66层普通怪8",{"$f":"E1417","v":1},2,1,2066008]
[null,2067000,2,"试炼67层boss",{"$f":"E1418","v":10},2,1,2067000]
[null,2067001,1,"试炼67层普通怪1",{"$f":"E1419","v":1},2,1,2067001]
[null,2067002,1,"试炼67层普通怪2",{"$f":"E1420","v":1},2,1,2067002]
[null,2067003,1,"试炼67层普通怪3",{"$f":"E1421","v":1},2,1,2067003]
[null,2067004,1,"试炼67层普通怪4",{"$f":"E1422","v":1},2,1,2067004]
[null,2067005,1,"试炼67层普通怪5",{"$f":"E1423","v":1},2,1,2067005]
[null,2067006,1,"试炼67层普通怪6",{"$f":"E1424","v":1},2,1,2067006]
[null,2067007,1,"试炼67层普通怪7",{"$f":"E1425","v":1},2,1,2067007]
[null,2067008,1,"试炼67层普通怪8",{"$f":"E1426","v":1},2,1,2067008]
[null,2068000,2,"试炼68层boss",{"$f":"E1427","v":10},2,1,2068000]
[null,2068001,1,"试炼68层普通怪1",{"$f":"E1428","v":1},2,1,2068001]
[null,2068002,1,"试炼68层普通怪2",{"$f":"E1429","v":1},2,1,2068002]
[null,2068003,1,"试炼68层普通怪3",{"$f":"E1430","v":1},2,1,2068003]
[null,2068004,1,"试炼68层普通怪4",{"$f":"E1431","v":1},2,1,2068004]
[null,2068005,1,"试炼68层普通怪5",{"$f":"E1432","v":1},2,1,2068005]
[null,2068006,1,"试炼68层普通怪6",{"$f":"E1433","v":1},2,1,2068006]
[null,2068007,1,"试炼68层普通怪7",{"$f":"E1434","v":1},2,1,2068007]
[null,2068008,1,"试炼68层普通怪8",{"$f":"E1435","v":1},2,1,2068008]
[null,2069000,2,"试炼69层boss",{"$f":"E1436","v":10},2,1,2069000]
[null,2069001,1,"试炼69层普通怪1",{"$f":"E1437","v":1},2,1,2069001]
[null,2069002,1,"试炼69层普通怪2",{"$f":"E1438","v":1},2,1,2069002]
[null,2069003,1,"试炼69层普通怪3",{"$f":"E1439","v":1},2,1,2069003]
[null,2069004,1,"试炼69层普通怪4",{"$f":"E1440","v":1},2,1,2069004]
[null,2069005,1,"试炼69层普通怪5",{"$f":"E1441","v":1},2,1,2069005]
[null,2069006,1,"试炼69层普通怪6",{"$f":"E1442","v":1},2,1,2069006]
[null,2069007,1,"试炼69层普通怪7",{"$f":"E1443","v":1},2,1,2069007]
[null,2069008,1,"试炼69层普通怪8",{"$f":"E1444","v":1},2,1,2069008]
[null,2070000,2,"试炼70层boss",{"$f":"E1445","v":10},2,1,2070000]
[null,2070001,1,"试炼70层普通怪1",{"$f":"E1446","v":1},2,1,2070001]
[null,2070002,1,"试炼70层普通怪2",{"$f":"E1447","v":1},2,1,2070002]
[null,2070003,1,"试炼70层普通怪3",{"$f":"E1448","v":1},2,1,2070003]
[null,2070004,1,"试炼70层普通怪4",{"$f":"E1449","v":1},2,1,2070004]
[null,2070005,1,"试炼70层普通怪5",{"$f":"E1450","v":1},2,1,2070005]
[null,2070006,1,"试炼70层普通怪6",{"$f":"E1451","v":1},2,1,2070006]
[null,2070007,1,"试炼70层普通怪7",{"$f":"E1452","v":1},2,1,2070007]
[null,2070008,1,"试炼70层普通怪8",{"$f":"E1453","v":1},2,1,2070008]
[null,2071000,2,"试炼71层boss",{"$f":"E1454","v":10},2,1,2071000]
[null,2071001,1,"试炼71层普通怪1",{"$f":"E1455","v":1},2,1,2071001]
[null,2071002,1,"试炼71层普通怪2",{"$f":"E1456","v":1},2,1,2071002]
[null,2071003,1,"试炼71层普通怪3",{"$f":"E1457","v":1},2,1,2071003]
[null,2071004,1,"试炼71层普通怪4",{"$f":"E1458","v":1},2,1,2071004]
[null,2071005,1,"试炼71层普通怪5",{"$f":"E1459","v":1},2,1,2071005]
[null,2071006,1,"试炼71层普通怪6",{"$f":"E1460","v":1},2,1,2071006]
[null,2071007,1,"试炼71层普通怪7",{"$f":"E1461","v":1},2,1,2071007]
[null,2071008,1,"试炼71层普通怪8",{"$f":"E1462","v":1},2,1,2071008]
[null,2072000,2,"试炼72层boss",{"$f":"E1463","v":10},2,1,2072000]
[null,2072001,1,"试炼72层普通怪1",{"$f":"E1464","v":1},2,1,2072001]
[null,2072002,1,{"$f":"\"试炼\"&INT(MID(B1474,2,3))&\"层\"&IF(INT(RIGHT(B1474,1))=0,\"boss\",\"普通怪\"&RIGHT(B1474,1))","v":"试炼72层普通怪2"},{"$f":"E1465","v":1},2,1,2072002]
[null,2072003,1,"试炼72层普通怪3",{"$f":"E1466","v":1},2,1,2072003]
[null,2072004,1,"试炼72层普通怪4",{"$f":"E1467","v":1},2,1,2072004]
[null,2072005,1,"试炼72层普通怪5",{"$f":"E1468","v":1},2,1,2072005]
[null,2072006,1,"试炼72层普通怪6",{"$f":"E1469","v":1},2,1,2072006]
[null,2072007,1,"试炼72层普通怪7",{"$f":"E1470","v":1},2,1,2072007]
[null,2072008,1,"试炼72层普通怪8",{"$f":"E1471","v":1},2,1,2072008]
[null,2073000,2,"试炼73层boss",{"$f":"E1472","v":10},2,1,2073000]
[null,2073001,1,"试炼73层普通怪1",{"$f":"E1473","v":1},2,1,2073001]
[null,{"$f":"B1474+1000","v":2073002},{"$f":"C1474","v":1},"试炼73层普通怪2",{"$f":"E1474","v":1},2,1,{"$f":"H1474+1000","v":2073002}]
[null,2073003,1,"试炼73层普通怪3",{"$f":"E1475","v":1},2,1,2073003]
[null,2073004,1,"试炼73层普通怪4",{"$f":"E1476","v":1},2,1,2073004]
[null,2073005,1,"试炼73层普通怪5",{"$f":"E1477","v":1},2,1,2073005]
[null,2073006,1,"试炼73层普通怪6",{"$f":"E1478","v":1},2,1,2073006]
[null,2073007,1,"试炼73层普通怪7",{"$f":"E1479","v":1},2,1,2073007]
[null,2073008,1,"试炼73层普通怪8",{"$f":"E1480","v":1},2,1,2073008]
[null,2074000,2,"试炼74层boss",{"$f":"E1481","v":10},2,1,2074000]
[null,2074001,1,"试炼74层普通怪1",{"$f":"E1482","v":1},2,1,2074001]
[null,2074002,1,"试炼74层普通怪2",{"$f":"E1483","v":1},2,1,2074002]
[null,2074003,1,"试炼74层普通怪3",{"$f":"E1484","v":1},2,1,2074003]
[null,2074004,1,"试炼74层普通怪4",{"$f":"E1485","v":1},2,1,2074004]
[null,2074005,1,"试炼74层普通怪5",{"$f":"E1486","v":1},2,1,2074005]
[null,2074006,1,"试炼74层普通怪6",{"$f":"E1487","v":1},2,1,2074006]
[null,2074007,1,"试炼74层普通怪7",{"$f":"E1488","v":1},2,1,2074007]
[null,2074008,1,"试炼74层普通怪8",{"$f":"E1489","v":1},2,1,2074008]
[null,2075000,2,"试炼75层boss",{"$f":"E1490","v":10},2,1,2075000]
[null,2075001,1,"试炼75层普通怪1",{"$f":"E1491","v":1},2,1,2075001]
[null,2075002,1,"试炼75层普通怪2",{"$f":"E1492","v":1},2,1,2075002]
[null,2075003,1,"试炼75层普通怪3",{"$f":"E1493","v":1},2,1,2075003]
[null,2075004,1,"试炼75层普通怪4",{"$f":"E1494","v":1},2,1,2075004]
[null,2075005,1,"试炼75层普通怪5",{"$f":"E1495","v":1},2,1,2075005]
[null,2075006,1,"试炼75层普通怪6",{"$f":"E1496","v":1},2,1,2075006]
[null,2075007,1,"试炼75层普通怪7",{"$f":"E1497","v":1},2,1,2075007]
[null,2075008,1,"试炼75层普通怪8",{"$f":"E1498","v":1},2,1,2075008]
[null,2076000,2,"试炼76层boss",{"$f":"E1499","v":10},2,1,2076000]
[null,2076001,1,"试炼76层普通怪1",{"$f":"E1500","v":1},2,1,2076001]
[null,2076002,1,"试炼76层普通怪2",{"$f":"E1501","v":1},2,1,2076002]
[null,2076003,1,"试炼76层普通怪3",{"$f":"E1502","v":1},2,1,2076003]
[null,2076004,1,"试炼76层普通怪4",{"$f":"E1503","v":1},2,1,2076004]
[null,2076005,1,"试炼76层普通怪5",{"$f":"E1504","v":1},2,1,2076005]
[null,2076006,1,"试炼76层普通怪6",{"$f":"E1505","v":1},2,1,2076006]
[null,2076007,1,"试炼76层普通怪7",{"$f":"E1506","v":1},2,1,2076007]
[null,2076008,1,"试炼76层普通怪8",{"$f":"E1507","v":1},2,1,2076008]
[null,2077000,2,"试炼77层boss",{"$f":"E1508","v":10},2,1,2077000]
[null,2077001,1,"试炼77层普通怪1",{"$f":"E1509","v":1},2,1,2077001]
[null,2077002,1,"试炼77层普通怪2",{"$f":"E1510","v":1},2,1,2077002]
[null,2077003,1,"试炼77层普通怪3",{"$f":"E1511","v":1},2,1,2077003]
[null,2077004,1,"试炼77层普通怪4",{"$f":"E1512","v":1},2,1,2077004]
[null,2077005,1,"试炼77层普通怪5",{"$f":"E1513","v":1},2,1,2077005]
[null,2077006,1,"试炼77层普通怪6",{"$f":"E1514","v":1},2,1,2077006]
[null,2077007,1,"试炼77层普通怪7",{"$f":"E1515","v":1},2,1,2077007]
[null,2077008,1,"试炼77层普通怪8",{"$f":"E1516","v":1},2,1,2077008]
[null,2078000,2,"试炼78层boss",{"$f":"E1517","v":10},2,1,2078000]
[null,2078001,1,"试炼78层普通怪1",{"$f":"E1518","v":1},2,1,2078001]
[null,2078002,1,"试炼78层普通怪2",{"$f":"E1519","v":1},2,1,2078002]
[null,2078003,1,"试炼78层普通怪3",{"$f":"E1520","v":1},2,1,2078003]
[null,2078004,1,"试炼78层普通怪4",{"$f":"E1521","v":1},2,1,2078004]
[null,2078005,1,"试炼78层普通怪5",{"$f":"E1522","v":1},2,1,2078005]
[null,2078006,1,"试炼78层普通怪6",{"$f":"E1523","v":1},2,1,2078006]
[null,2078007,1,"试炼78层普通怪7",{"$f":"E1524","v":1},2,1,2078007]
[null,2078008,1,"试炼78层普通怪8",{"$f":"E1525","v":1},2,1,2078008]
[null,2079000,2,"试炼79层boss",{"$f":"E1526","v":10},2,1,2079000]
[null,2079001,1,"试炼79层普通怪1",{"$f":"E1527","v":1},2,1,2079001]
[null,2079002,1,"试炼79层普通怪2",{"$f":"E1528","v":1},2,1,2079002]
[null,2079003,1,{"$f":"\"试炼\"&INT(MID(B1538,2,3))&\"层\"&IF(INT(RIGHT(B1538,1))=0,\"boss\",\"普通怪\"&RIGHT(B1538,1))","v":"试炼79层普通怪3"},{"$f":"E1529","v":1},2,1,2079003]
[null,2079004,1,"试炼79层普通怪4",{"$f":"E1530","v":1},2,1,2079004]
[null,2079005,1,"试炼79层普通怪5",{"$f":"E1531","v":1},2,1,2079005]
[null,2079006,1,"试炼79层普通怪6",{"$f":"E1532","v":1},2,1,2079006]
[null,2079007,1,"试炼79层普通怪7",{"$f":"E1533","v":1},2,1,2079007]
[null,2079008,1,"试炼79层普通怪8",{"$f":"E1534","v":1},2,1,2079008]
[null,2080000,2,"试炼80层boss",{"$f":"E1535","v":10},2,1,2080000]
[null,2080001,1,"试炼80层普通怪1",{"$f":"E1536","v":1},2,1,2080001]
[null,2080002,1,"试炼80层普通怪2",{"$f":"E1537","v":1},2,1,2080002]
[null,{"$f":"B1538+1000","v":2080003},{"$f":"C1538","v":1},"试炼80层普通怪3",{"$f":"E1538","v":1},2,1,{"$f":"H1538+1000","v":2080003}]
[null,2080004,1,"试炼80层普通怪4",{"$f":"E1539","v":1},2,1,2080004]
[null,2080005,1,"试炼80层普通怪5",{"$f":"E1540","v":1},2,1,2080005]
[null,2080006,1,"试炼80层普通怪6",{"$f":"E1541","v":1},2,1,2080006]
[null,2080007,1,"试炼80层普通怪7",{"$f":"E1542","v":1},2,1,2080007]
[null,2080008,1,"试炼80层普通怪8",{"$f":"E1543","v":1},2,1,2080008]
[null,2081000,2,"试炼81层boss",{"$f":"E1544","v":10},2,1,2081000]
[null,2081001,1,"试炼81层普通怪1",{"$f":"E1545","v":1},2,1,2081001]
[null,2081002,1,"试炼81层普通怪2",{"$f":"E1546","v":1},2,1,2081002]
[null,2081003,1,"试炼81层普通怪3",{"$f":"E1547","v":1},2,1,2081003]
[null,2081004,1,"试炼81层普通怪4",{"$f":"E1548","v":1},2,1,2081004]
[null,2081005,1,"试炼81层普通怪5",{"$f":"E1549","v":1},2,1,2081005]
[null,2081006,1,"试炼81层普通怪6",{"$f":"E1550","v":1},2,1,2081006]
[null,2081007,1,"试炼81层普通怪7",{"$f":"E1551","v":1},2,1,2081007]
[null,2081008,1,"试炼81层普通怪8",{"$f":"E1552","v":1},2,1,2081008]
[null,2082000,2,"试炼82层boss",{"$f":"E1553","v":10},2,1,2082000]
[null,2082001,1,"试炼82层普通怪1",{"$f":"E1554","v":1},2,1,2082001]
[null,2082002,1,"试炼82层普通怪2",{"$f":"E1555","v":1},2,1,2082002]
[null,2082003,1,"试炼82层普通怪3",{"$f":"E1556","v":1},2,1,2082003]
[null,2082004,1,"试炼82层普通怪4",{"$f":"E1557","v":1},2,1,2082004]
[null,2082005,1,"试炼82层普通怪5",{"$f":"E1558","v":1},2,1,2082005]
[null,2082006,1,"试炼82层普通怪6",{"$f":"E1559","v":1},2,1,2082006]
[null,2082007,1,"试炼82层普通怪7",{"$f":"E1560","v":1},2,1,2082007]
[null,2082008,1,"试炼82层普通怪8",{"$f":"E1561","v":1},2,1,2082008]
[null,2083000,2,"试炼83层boss",{"$f":"E1562","v":10},2,1,2083000]
[null,2083001,1,"试炼83层普通怪1",{"$f":"E1563","v":1},2,1,2083001]
[null,2083002,1,"试炼83层普通怪2",{"$f":"E1564","v":1},2,1,2083002]
[null,2083003,1,"试炼83层普通怪3",{"$f":"E1565","v":1},2,1,2083003]
[null,2083004,1,"试炼83层普通怪4",{"$f":"E1566","v":1},2,1,2083004]
[null,2083005,1,"试炼83层普通怪5",{"$f":"E1567","v":1},2,1,2083005]
[null,2083006,1,"试炼83层普通怪6",{"$f":"E1568","v":1},2,1,2083006]
[null,2083007,1,"试炼83层普通怪7",{"$f":"E1569","v":1},2,1,2083007]
[null,2083008,1,"试炼83层普通怪8",{"$f":"E1570","v":1},2,1,2083008]
[null,2084000,2,"试炼84层boss",{"$f":"E1571","v":10},2,1,2084000]
[null,2084001,1,"试炼84层普通怪1",{"$f":"E1572","v":1},2,1,2084001]
[null,2084002,1,"试炼84层普通怪2",{"$f":"E1573","v":1},2,1,2084002]
[null,2084003,1,"试炼84层普通怪3",{"$f":"E1574","v":1},2,1,2084003]
[null,2084004,1,"试炼84层普通怪4",{"$f":"E1575","v":1},2,1,2084004]
[null,2084005,1,"试炼84层普通怪5",{"$f":"E1576","v":1},2,1,2084005]
[null,2084006,1,"试炼84层普通怪6",{"$f":"E1577","v":1},2,1,2084006]
[null,2084007,1,"试炼84层普通怪7",{"$f":"E1578","v":1},2,1,2084007]
[null,2084008,1,"试炼84层普通怪8",{"$f":"E1579","v":1},2,1,2084008]
[null,2085000,2,"试炼85层boss",{"$f":"E1580","v":10},2,1,2085000]
[null,2085001,1,"试炼85层普通怪1",{"$f":"E1581","v":1},2,1,2085001]
[null,2085002,1,"试炼85层普通怪2",{"$f":"E1582","v":1},2,1,2085002]
[null,2085003,1,"试炼85层普通怪3",{"$f":"E1583","v":1},2,1,2085003]
[null,2085004,1,"试炼85层普通怪4",{"$f":"E1584","v":1},2,1,2085004]
[null,2085005,1,"试炼85层普通怪5",{"$f":"E1585","v":1},2,1,2085005]
[null,2085006,1,"试炼85层普通怪6",{"$f":"E1586","v":1},2,1,2085006]
[null,2085007,1,"试炼85层普通怪7",{"$f":"E1587","v":1},2,1,2085007]
[null,2085008,1,"试炼85层普通怪8",{"$f":"E1588","v":1},2,1,2085008]
[null,2086000,2,"试炼86层boss",{"$f":"E1589","v":10},2,1,2086000]
[null,2086001,1,"试炼86层普通怪1",{"$f":"E1590","v":1},2,1,2086001]
[null,2086002,1,"试炼86层普通怪2",{"$f":"E1591","v":1},2,1,2086002]
[null,2086003,1,"试炼86层普通怪3",{"$f":"E1592","v":1},2,1,2086003]
[null,2086004,1,{"$f":"\"试炼\"&INT(MID(B1602,2,3))&\"层\"&IF(INT(RIGHT(B1602,1))=0,\"boss\",\"普通怪\"&RIGHT(B1602,1))","v":"试炼86层普通怪4"},{"$f":"E1593","v":1},2,1,2086004]
[null,2086005,1,"试炼86层普通怪5",{"$f":"E1594","v":1},2,1,2086005]
[null,2086006,1,"试炼86层普通怪6",{"$f":"E1595","v":1},2,1,2086006]
[null,2086007,1,"试炼86层普通怪7",{"$f":"E1596","v":1},2,1,2086007]
[null,2086008,1,"试炼86层普通怪8",{"$f":"E1597","v":1},2,1,2086008]
[null,2087000,2,"试炼87层boss",{"$f":"E1598","v":10},2,1,2087000]
[null,2087001,1,"试炼87层普通怪1",{"$f":"E1599","v":1},2,1,2087001]
[null,2087002,1,"试炼87层普通怪2",{"$f":"E1600","v":1},2,1,2087002]
[null,2087003,1,"试炼87层普通怪3",{"$f":"E1601","v":1},2,1,2087003]
[null,{"$f":"B1602+1000","v":2087004},{"$f":"C1602","v":1},"试炼87层普通怪4",{"$f":"E1602","v":1},2,1,{"$f":"H1602+1000","v":2087004}]
[null,2087005,1,"试炼87层普通怪5",{"$f":"E1603","v":1},2,1,2087005]
[null,2087006,1,"试炼87层普通怪6",{"$f":"E1604","v":1},2,1,2087006]
[null,2087007,1,"试炼87层普通怪7",{"$f":"E1605","v":1},2,1,2087007]
[null,2087008,1,"试炼87层普通怪8",{"$f":"E1606","v":1},2,1,2087008]
[null,2088000,2,"试炼88层boss",{"$f":"E1607","v":10},2,1,2088000]
[null,2088001,1,"试炼88层普通怪1",{"$f":"E1608","v":1},2,1,2088001]
[null,2088002,1,"试炼88层普通怪2",{"$f":"E1609","v":1},2,1,2088002]
[null,2088003,1,"试炼88层普通怪3",{"$f":"E1610","v":1},2,1,2088003]
[null,2088004,1,"试炼88层普通怪4",{"$f":"E1611","v":1},2,1,2088004]
[null,2088005,1,"试炼88层普通怪5",{"$f":"E1612","v":1},2,1,2088005]
[null,2088006,1,"试炼88层普通怪6",{"$f":"E1613","v":1},2,1,2088006]
[null,2088007,1,"试炼88层普通怪7",{"$f":"E1614","v":1},2,1,2088007]
[null,2088008,1,"试炼88层普通怪8",{"$f":"E1615","v":1},2,1,2088008]
[null,2089000,2,"试炼89层boss",{"$f":"E1616","v":10},2,1,2089000]
[null,2089001,1,"试炼89层普通怪1",{"$f":"E1617","v":1},2,1,2089001]
[null,2089002,1,"试炼89层普通怪2",{"$f":"E1618","v":1},2,1,2089002]
[null,2089003,1,"试炼89层普通怪3",{"$f":"E1619","v":1},2,1,2089003]
[null,2089004,1,"试炼89层普通怪4",{"$f":"E1620","v":1},2,1,2089004]
[null,2089005,1,"试炼89层普通怪5",{"$f":"E1621","v":1},2,1,2089005]
[null,2089006,1,"试炼89层普通怪6",{"$f":"E1622","v":1},2,1,2089006]
[null,2089007,1,"试炼89层普通怪7",{"$f":"E1623","v":1},2,1,2089007]
[null,2089008,1,"试炼89层普通怪8",{"$f":"E1624","v":1},2,1,2089008]
[null,2090000,2,"试炼90层boss",{"$f":"E1625","v":10},2,1,2090000]
[null,2090001,1,"试炼90层普通怪1",{"$f":"E1626","v":1},2,1,2090001]
[null,2090002,1,"试炼90层普通怪2",{"$f":"E1627","v":1},2,1,2090002]
[null,2090003,1,"试炼90层普通怪3",{"$f":"E1628","v":1},2,1,2090003]
[null,2090004,1,{"$f":"\"试炼\"&INT(MID(B1638,2,3))&\"层\"&IF(INT(RIGHT(B1638,1))=0,\"boss\",\"普通怪\"&RIGHT(B1638,1))","v":"试炼90层普通怪4"},{"$f":"E1629","v":1},2,1,2090004]
[null,2090005,1,"试炼90层普通怪5",{"$f":"E1630","v":1},2,1,2090005]
[null,2090006,1,"试炼90层普通怪6",{"$f":"E1631","v":1},2,1,2090006]
[null,2090007,1,"试炼90层普通怪7",{"$f":"E1632","v":1},2,1,2090007]
[null,2090008,1,"试炼90层普通怪8",{"$f":"E1633","v":1},2,1,2090008]
[null,2091000,2,"试炼91层boss",{"$f":"E1634","v":10},2,1,2091000]
[null,2091001,1,"试炼91层普通怪1",{"$f":"E1635","v":1},2,1,2091001]
[null,2091002,1,"试炼91层普通怪2",{"$f":"E1636","v":1},2,1,2091002]
[null,2091003,1,"试炼91层普通怪3",{"$f":"E1637","v":1},2,1,2091003]
[null,2091004,1,"试炼91层普通怪4",{"$f":"E1638","v":1},2,1,2091004]
[null,2091005,1,"试炼91层普通怪5",{"$f":"E1639","v":1},2,1,2091005]
[null,2091006,1,"试炼91层普通怪6",{"$f":"E1640","v":1},2,1,2091006]
[null,2091007,1,"试炼91层普通怪7",{"$f":"E1641","v":1},2,1,2091007]
[null,2091008,1,"试炼91层普通怪8",{"$f":"E1642","v":1},2,1,2091008]
[null,2092000,2,"试炼92层boss",{"$f":"E1643","v":10},2,1,2092000]
[null,2092001,1,"试炼92层普通怪1",{"$f":"E1644","v":1},2,1,2092001]
[null,2092002,1,"试炼92层普通怪2",{"$f":"E1645","v":1},2,1,2092002]
[null,2092003,1,"试炼92层普通怪3",{"$f":"E1646","v":1},2,1,2092003]
[null,2092004,1,"试炼92层普通怪4",{"$f":"E1647","v":1},2,1,2092004]
[null,2092005,1,"试炼92层普通怪5",{"$f":"E1648","v":1},2,1,2092005]
[null,2092006,1,"试炼92层普通怪6",{"$f":"E1649","v":1},2,1,2092006]
[null,2092007,1,"试炼92层普通怪7",{"$f":"E1650","v":1},2,1,2092007]
[null,2092008,1,"试炼92层普通怪8",{"$f":"E1651","v":1},2,1,2092008]
[null,2093000,2,"试炼93层boss",{"$f":"E1652","v":10},2,1,2093000]
[null,2093001,1,"试炼93层普通怪1",{"$f":"E1653","v":1},2,1,2093001]
[null,2093002,1,"试炼93层普通怪2",{"$f":"E1654","v":1},2,1,2093002]
[null,2093003,1,"试炼93层普通怪3",{"$f":"E1655","v":1},2,1,2093003]
[null,2093004,1,"试炼93层普通怪4",{"$f":"E1656","v":1},2,1,2093004]
[null,2093005,1,"试炼93层普通怪5",{"$f":"E1657","v":1},2,1,2093005]
[null,2093006,1,"试炼93层普通怪6",{"$f":"E1658","v":1},2,1,2093006]
[null,2093007,1,"试炼93层普通怪7",{"$f":"E1659","v":1},2,1,2093007]
[null,2093008,1,"试炼93层普通怪8",{"$f":"E1660","v":1},2,1,2093008]
[null,2094000,2,"试炼94层boss",{"$f":"E1661","v":10},2,1,2094000]
[null,2094001,1,"试炼94层普通怪1",{"$f":"E1662","v":1},2,1,2094001]
[null,2094002,1,"试炼94层普通怪2",{"$f":"E1663","v":1},2,1,2094002]
[null,2094003,1,"试炼94层普通怪3",{"$f":"E1664","v":1},2,1,2094003]
[null,2094004,1,"试炼94层普通怪4",{"$f":"E1665","v":1},2,1,2094004]
[null,{"$f":"B1666+1000","v":2094005},{"$f":"C1666","v":1},"试炼94层普通怪5",{"$f":"E1666","v":1},2,1,{"$f":"H1666+1000","v":2094005}]
[null,2094006,1,"试炼94层普通怪6",{"$f":"E1667","v":1},2,1,2094006]
[null,2094007,1,"试炼94层普通怪7",{"$f":"E1668","v":1},2,1,2094007]
[null,2094008,1,"试炼94层普通怪8",{"$f":"E1669","v":1},2,1,2094008]
[null,2095000,2,"试炼95层boss",{"$f":"E1670","v":10},2,1,2095000]
[null,2095001,1,"试炼95层普通怪1",{"$f":"E1671","v":1},2,1,2095001]
[null,2095002,1,"试炼95层普通怪2",{"$f":"E1672","v":1},2,1,2095002]
[null,2095003,1,"试炼95层普通怪3",{"$f":"E1673","v":1},2,1,2095003]
[null,2095004,1,"试炼95层普通怪4",{"$f":"E1674","v":1},2,1,2095004]
[null,2095005,1,"试炼95层普通怪5",{"$f":"E1675","v":1},2,1,2095005]
[null,2095006,1,"试炼95层普通怪6",{"$f":"E1676","v":1},2,1,2095006]
[null,2095007,1,"试炼95层普通怪7",{"$f":"E1677","v":1},2,1,2095007]
[null,2095008,1,"试炼95层普通怪8",{"$f":"E1678","v":1},2,1,2095008]
[null,2096000,2,"试炼96层boss",{"$f":"E1679","v":10},2,1,2096000]
[null,2096001,1,"试炼96层普通怪1",{"$f":"E1680","v":1},2,1,2096001]
[null,2096002,1,"试炼96层普通怪2",{"$f":"E1681","v":1},2,1,2096002]
[null,2096003,1,"试炼96层普通怪3",{"$f":"E1682","v":1},2,1,2096003]
[null,2096004,1,"试炼96层普通怪4",{"$f":"E1683","v":1},2,1,2096004]
[null,2096005,1,"试炼96层普通怪5",{"$f":"E1684","v":1},2,1,2096005]
[null,2096006,1,"试炼96层普通怪6",{"$f":"E1685","v":1},2,1,2096006]
[null,2096007,1,"试炼96层普通怪7",{"$f":"E1686","v":1},2,1,2096007]
[null,2096008,1,"试炼96层普通怪8",{"$f":"E1687","v":1},2,1,2096008]
[null,2097000,2,"试炼97层boss",{"$f":"E1688","v":10},2,1,2097000]
[null,2097001,1,"试炼97层普通怪1",{"$f":"E1689","v":1},2,1,2097001]
[null,2097002,1,"试炼97层普通怪2",{"$f":"E1690","v":1},2,1,2097002]
[null,2097003,1,"试炼97层普通怪3",{"$f":"E1691","v":1},2,1,2097003]
[null,2097004,1,"试炼97层普通怪4",{"$f":"E1692","v":1},2,1,2097004]
[null,2097005,1,{"$f":"\"试炼\"&INT(MID(B1702,2,3))&\"层\"&IF(INT(RIGHT(B1702,1))=0,\"boss\",\"普通怪\"&RIGHT(B1702,1))","v":"试炼97层普通怪5"},{"$f":"E1693","v":1},2,1,2097005]
[null,2097006,1,"试炼97层普通怪6",{"$f":"E1694","v":1},2,1,2097006]
[null,2097007,1,"试炼97层普通怪7",{"$f":"E1695","v":1},2,1,2097007]
[null,2097008,1,"试炼97层普通怪8",{"$f":"E1696","v":1},2,1,2097008]
[null,2098000,2,"试炼98层boss",{"$f":"E1697","v":10},2,1,2098000]
[null,2098001,1,"试炼98层普通怪1",{"$f":"E1698","v":1},2,1,2098001]
[null,2098002,1,"试炼98层普通怪2",{"$f":"E1699","v":1},2,1,2098002]
[null,2098003,1,"试炼98层普通怪3",{"$f":"E1700","v":1},2,1,2098003]
[null,2098004,1,"试炼98层普通怪4",{"$f":"E1701","v":1},2,1,2098004]
[null,2098005,1,"试炼98层普通怪5",{"$f":"E1702","v":1},2,1,2098005]
[null,2098006,1,"试炼98层普通怪6",{"$f":"E1703","v":1},2,1,2098006]
[null,2098007,1,"试炼98层普通怪7",{"$f":"E1704","v":1},2,1,2098007]
[null,2098008,1,"试炼98层普通怪8",{"$f":"E1705","v":1},2,1,2098008]
[null,2099000,2,"试炼99层boss",{"$f":"E1706","v":10},2,1,2099000]
[null,2099001,1,"试炼99层普通怪1",{"$f":"E1707","v":1},2,1,2099001]
[null,2099002,1,"试炼99层普通怪2",{"$f":"E1708","v":1},2,1,2099002]
[null,2099003,1,"试炼99层普通怪3",{"$f":"E1709","v":1},2,1,2099003]
[null,2099004,1,"试炼99层普通怪4",{"$f":"E1710","v":1},2,1,2099004]
[null,2099005,1,"试炼99层普通怪5",{"$f":"E1711","v":1},2,1,2099005]
[null,2099006,1,"试炼99层普通怪6",{"$f":"E1712","v":1},2,1,2099006]
[null,2099007,1,"试炼99层普通怪7",{"$f":"E1713","v":1},2,1,2099007]
[null,2099008,1,"试炼99层普通怪8",{"$f":"E1714","v":1},2,1,2099008]
[null,2100000,2,"试炼100层boss",{"$f":"E1715","v":10},2,1,2100000]
[null,2100001,1,"试炼100层普通怪1",{"$f":"E1716","v":1},2,1,2100001]
[null,2100002,1,"试炼100层普通怪2",{"$f":"E1717","v":1},2,1,2100002]
[null,2100003,1,"试炼100层普通怪3",{"$f":"E1718","v":1},2,1,2100003]
[null,2100004,1,"试炼100层普通怪4",{"$f":"E1719","v":1},2,1,2100004]
[null,2100005,1,"试炼100层普通怪5",{"$f":"E1720","v":1},2,1,2100005]
[null,2100006,1,"试炼100层普通怪6",{"$f":"E1721","v":1},2,1,2100006]
[null,2100007,1,"试炼100层普通怪7",{"$f":"E1722","v":1},2,1,2100007]
[null,2100008,1,"试炼100层普通怪8",{"$f":"E1723","v":1},2,1,2100008]
[null,2101000,2,{"$f":"\"试炼\"&INT(MID(B1733,2,3))&\"层\"&IF(INT(RIGHT(B1733,1))=0,\"boss\",\"普通怪\"&RIGHT(B1733,1))","v":"试炼101层boss"},{"$f":"E1724","v":10},2,1,2101000]
[null,2101001,1,"试炼101层普通怪1",{"$f":"E1725","v":1},2,1,2101001]
[null,2101002,1,"试炼101层普通怪2",{"$f":"E1726","v":1},2,1,2101002]
[null,2101003,1,"试炼101层普通怪3",{"$f":"E1727","v":1},2,1,2101003]
[null,2101004,1,"试炼101层普通怪4",{"$f":"E1728","v":1},2,1,2101004]
[null,2101005,1,"试炼101层普通怪5",{"$f":"E1729","v":1},2,1,2101005]
[null,{"$f":"B1730+1000","v":2101006},{"$f":"C1730","v":1},"试炼101层普通怪6",{"$f":"E1730","v":1},2,1,{"$f":"H1730+1000","v":2101006}]
[null,2101007,1,"试炼101层普通怪7",{"$f":"E1731","v":1},2,1,2101007]
[null,2101008,1,"试炼101层普通怪8",{"$f":"E1732","v":1},2,1,2101008]
[null,2102000,2,"试炼102层boss",{"$f":"E1733","v":10},2,1,2102000]
[null,2102001,1,"试炼102层普通怪1",{"$f":"E1734","v":1},2,1,2102001]
[null,2102002,1,"试炼102层普通怪2",{"$f":"E1735","v":1},2,1,2102002]
[null,2102003,1,"试炼102层普通怪3",{"$f":"E1736","v":1},2,1,2102003]
[null,2102004,1,"试炼102层普通怪4",{"$f":"E1737","v":1},2,1,2102004]
[null,2102005,1,"试炼102层普通怪5",{"$f":"E1738","v":1},2,1,2102005]
[null,2102006,1,"试炼102层普通怪6",{"$f":"E1739","v":1},2,1,2102006]
[null,2102007,1,"试炼102层普通怪7",{"$f":"E1740","v":1},2,1,2102007]
[null,2102008,1,{"$f":"\"试炼\"&INT(MID(B1750,2,3))&\"层\"&IF(INT(RIGHT(B1750,1))=0,\"boss\",\"普通怪\"&RIGHT(B1750,1))","v":"试炼102层普通怪8"},{"$f":"E1741","v":1},2,1,2102008]
[null,2103000,2,"试炼103层boss",{"$f":"E1742","v":10},2,1,2103000]
[null,2103001,1,"试炼103层普通怪1",{"$f":"E1743","v":1},2,1,2103001]
[null,2103002,1,"试炼103层普通怪2",{"$f":"E1744","v":1},2,1,2103002]
[null,2103003,1,"试炼103层普通怪3",{"$f":"E1745","v":1},2,1,2103003]
[null,2103004,1,"试炼103层普通怪4",{"$f":"E1746","v":1},2,1,2103004]
[null,2103005,1,"试炼103层普通怪5",{"$f":"E1747","v":1},2,1,2103005]
[null,2103006,1,"试炼103层普通怪6",{"$f":"E1748","v":1},2,1,2103006]
[null,2103007,1,"试炼103层普通怪7",{"$f":"E1749","v":1},2,1,2103007]
[null,2103008,1,"试炼103层普通怪8",{"$f":"E1750","v":1},2,1,2103008]
[null,2104000,2,"试炼104层boss",{"$f":"E1751","v":10},2,1,2104000]
[null,2104001,1,"试炼104层普通怪1",{"$f":"E1752","v":1},2,1,2104001]
[null,2104002,1,"试炼104层普通怪2",{"$f":"E1753","v":1},2,1,2104002]
[null,2104003,1,"试炼104层普通怪3",{"$f":"E1754","v":1},2,1,2104003]
[null,2104004,1,"试炼104层普通怪4",{"$f":"E1755","v":1},2,1,2104004]
[null,2104005,1,"试炼104层普通怪5",{"$f":"E1756","v":1},2,1,2104005]
[null,2104006,1,"试炼104层普通怪6",{"$f":"E1757","v":1},2,1,2104006]
[null,2104007,1,"试炼104层普通怪7",{"$f":"E1758","v":1},2,1,2104007]
[null,2104008,1,"试炼104层普通怪8",{"$f":"E1759","v":1},2,1,2104008]
[null,2105000,2,"试炼105层boss",{"$f":"E1760","v":10},2,1,2105000]
[null,2105001,1,"试炼105层普通怪1",{"$f":"E1761","v":1},2,1,2105001]
[null,2105002,1,"试炼105层普通怪2",{"$f":"E1762","v":1},2,1,2105002]
[null,2105003,1,"试炼105层普通怪3",{"$f":"E1763","v":1},2,1,2105003]
[null,2105004,1,"试炼105层普通怪4",{"$f":"E1764","v":1},2,1,2105004]
[null,2105005,1,"试炼105层普通怪5",{"$f":"E1765","v":1},2,1,2105005]
[null,2105006,1,"试炼105层普通怪6",{"$f":"E1766","v":1},2,1,2105006]
[null,2105007,1,"试炼105层普通怪7",{"$f":"E1767","v":1},2,1,2105007]
[null,2105008,1,"试炼105层普通怪8",{"$f":"E1768","v":1},2,1,2105008]
[null,2106000,2,"试炼106层boss",{"$f":"E1769","v":10},2,1,2106000]
[null,2106001,1,"试炼106层普通怪1",{"$f":"E1770","v":1},2,1,2106001]
[null,2106002,1,"试炼106层普通怪2",{"$f":"E1771","v":1},2,1,2106002]
[null,2106003,1,"试炼106层普通怪3",{"$f":"E1772","v":1},2,1,2106003]
[null,2106004,1,"试炼106层普通怪4",{"$f":"E1773","v":1},2,1,2106004]
[null,2106005,1,"试炼106层普通怪5",{"$f":"E1774","v":1},2,1,2106005]
[null,2106006,1,"试炼106层普通怪6",{"$f":"E1775","v":1},2,1,2106006]
[null,2106007,1,"试炼106层普通怪7",{"$f":"E1776","v":1},2,1,2106007]
[null,2106008,1,"试炼106层普通怪8",{"$f":"E1777","v":1},2,1,2106008]
[null,2107000,2,"试炼107层boss",{"$f":"E1778","v":10},2,1,2107000]
[null,2107001,1,"试炼107层普通怪1",{"$f":"E1779","v":1},2,1,2107001]
[null,2107002,1,"试炼107层普通怪2",{"$f":"E1780","v":1},2,1,2107002]
[null,2107003,1,"试炼107层普通怪3",{"$f":"E1781","v":1},2,1,2107003]
[null,2107004,1,"试炼107层普通怪4",{"$f":"E1782","v":1},2,1,2107004]
[null,2107005,1,"试炼107层普通怪5",{"$f":"E1783","v":1},2,1,2107005]
[null,2107006,1,"试炼107层普通怪6",{"$f":"E1784","v":1},2,1,2107006]
[null,2107007,1,"试炼107层普通怪7",{"$f":"E1785","v":1},2,1,2107007]
[null,2107008,1,"试炼107层普通怪8",{"$f":"E1786","v":1},2,1,2107008]
[null,2108000,2,"试炼108层boss",{"$f":"E1787","v":10},2,1,2108000]
[null,2108001,1,"试炼108层普通怪1",{"$f":"E1788","v":1},2,1,2108001]
[null,2108002,1,"试炼108层普通怪2",{"$f":"E1789","v":1},2,1,2108002]
[null,2108003,1,"试炼108层普通怪3",{"$f":"E1790","v":1},2,1,2108003]
[null,2108004,1,"试炼108层普通怪4",{"$f":"E1791","v":1},2,1,2108004]
[null,2108005,1,"试炼108层普通怪5",{"$f":"E1792","v":1},2,1,2108005]
[null,2108006,1,"试炼108层普通怪6",{"$f":"E1793","v":1},2,1,2108006]
[null,{"$f":"B1794+1000","v":2108007},{"$f":"C1794","v":1},"试炼108层普通怪7",{"$f":"E1794","v":1},2,1,{"$f":"H1794+1000","v":2108007}]
[null,2108008,1,"试炼108层普通怪8",{"$f":"E1795","v":1},2,1,2108008]
[null,2109000,2,"试炼109层boss",{"$f":"E1796","v":10},2,1,2109000]
[null,2109001,1,"试炼109层普通怪1",{"$f":"E1797","v":1},2,1,2109001]
[null,2109002,1,"试炼109层普通怪2",{"$f":"E1798","v":1},2,1,2109002]
[null,2109003,1,"试炼109层普通怪3",{"$f":"E1799","v":1},2,1,2109003]
[null,2109004,1,"试炼109层普通怪4",{"$f":"E1800","v":1},2,1,2109004]
[null,2109005,1,"试炼109层普通怪5",{"$f":"E1801","v":1},2,1,2109005]
[null,2109006,1,"试炼109层普通怪6",{"$f":"E1802","v":1},2,1,2109006]
[null,2109007,1,"试炼109层普通怪7",{"$f":"E1803","v":1},2,1,2109007]
[null,2109008,1,"试炼109层普通怪8",{"$f":"E1804","v":1},2,1,2109008]
[null,2110000,2,{"$f":"\"试炼\"&INT(MID(B1814,2,3))&\"层\"&IF(INT(RIGHT(B1814,1))=0,\"boss\",\"普通怪\"&RIGHT(B1814,1))","v":"试炼110层boss"},{"$f":"E1805","v":10},2,1,2110000]
[null,2110001,1,"试炼110层普通怪1",{"$f":"E1806","v":1},2,1,2110001]
[null,2110002,1,"试炼110层普通怪2",{"$f":"E1807","v":1},2,1,2110002]
[null,2110003,1,"试炼110层普通怪3",{"$f":"E1808","v":1},2,1,2110003]
[null,2110004,1,"试炼110层普通怪4",{"$f":"E1809","v":1},2,1,2110004]
[null,2110005,1,"试炼110层普通怪5",{"$f":"E1810","v":1},2,1,2110005]
[null,2110006,1,"试炼110层普通怪6",{"$f":"E1811","v":1},2,1,2110006]
[null,2110007,1,"试炼110层普通怪7",{"$f":"E1812","v":1},2,1,2110007]
[null,2110008,1,"试炼110层普通怪8",{"$f":"E1813","v":1},2,1,2110008]
[null,2111000,2,"试炼111层boss",{"$f":"E1814","v":10},2,1,2111000]
[null,2111001,1,"试炼111层普通怪1",{"$f":"E1815","v":1},2,1,2111001]
[null,2111002,1,"试炼111层普通怪2",{"$f":"E1816","v":1},2,1,2111002]
[null,2111003,1,"试炼111层普通怪3",{"$f":"E1817","v":1},2,1,2111003]
[null,2111004,1,"试炼111层普通怪4",{"$f":"E1818","v":1},2,1,2111004]
[null,2111005,1,"试炼111层普通怪5",{"$f":"E1819","v":1},2,1,2111005]
[null,2111006,1,"试炼111层普通怪6",{"$f":"E1820","v":1},2,1,2111006]
[null,2111007,1,"试炼111层普通怪7",{"$f":"E1821","v":1},2,1,2111007]
[null,2111008,1,"试炼111层普通怪8",{"$f":"E1822","v":1},2,1,2111008]
[null,2112000,2,"试炼112层boss",{"$f":"E1823","v":10},2,1,2112000]
[null,2112001,1,"试炼112层普通怪1",{"$f":"E1824","v":1},2,1,2112001]
[null,2112002,1,"试炼112层普通怪2",{"$f":"E1825","v":1},2,1,2112002]
[null,2112003,1,"试炼112层普通怪3",{"$f":"E1826","v":1},2,1,2112003]
[null,2112004,1,"试炼112层普通怪4",{"$f":"E1827","v":1},2,1,2112004]
[null,2112005,1,"试炼112层普通怪5",{"$f":"E1828","v":1},2,1,2112005]
[null,2112006,1,"试炼112层普通怪6",{"$f":"E1829","v":1},2,1,2112006]
[null,2112007,1,"试炼112层普通怪7",{"$f":"E1830","v":1},2,1,2112007]
[null,2112008,1,"试炼112层普通怪8",{"$f":"E1831","v":1},2,1,2112008]
[null,2113000,2,"试炼113层boss",{"$f":"E1832","v":10},2,1,2113000]
[null,2113001,1,"试炼113层普通怪1",{"$f":"E1833","v":1},2,1,2113001]
[null,2113002,1,"试炼113层普通怪2",{"$f":"E1834","v":1},2,1,2113002]
[null,2113003,1,"试炼113层普通怪3",{"$f":"E1835","v":1},2,1,2113003]
[null,2113004,1,"试炼113层普通怪4",{"$f":"E1836","v":1},2,1,2113004]
[null,2113005,1,"试炼113层普通怪5",{"$f":"E1837","v":1},2,1,2113005]
[null,2113006,1,"试炼113层普通怪6",{"$f":"E1838","v":1},2,1,2113006]
[null,2113007,1,"试炼113层普通怪7",{"$f":"E1839","v":1},2,1,2113007]
[null,2113008,1,"试炼113层普通怪8",{"$f":"E1840","v":1},2,1,2113008]
[null,2114000,2,"试炼114层boss",{"$f":"E1841","v":10},2,1,2114000]
[null,2114001,1,"试炼114层普通怪1",{"$f":"E1842","v":1},2,1,2114001]
[null,2114002,1,"试炼114层普通怪2",{"$f":"E1843","v":1},2,1,2114002]
[null,2114003,1,"试炼114层普通怪3",{"$f":"E1844","v":1},2,1,2114003]
[null,2114004,1,"试炼114层普通怪4",{"$f":"E1845","v":1},2,1,2114004]
[null,2114005,1,"试炼114层普通怪5",{"$f":"E1846","v":1},2,1,2114005]
[null,2114006,1,"试炼114层普通怪6",{"$f":"E1847","v":1},2,1,2114006]
[null,2114007,1,"试炼114层普通怪7",{"$f":"E1848","v":1},2,1,2114007]
[null,2114008,1,"试炼114层普通怪8",{"$f":"E1849","v":1},2,1,2114008]
[null,2115000,2,"试炼115层boss",{"$f":"E1850","v":10},2,1,2115000]
[null,2115001,1,"试炼115层普通怪1",{"$f":"E1851","v":1},2,1,2115001]
[null,2115002,1,"试炼115层普通怪2",{"$f":"E1852","v":1},2,1,2115002]
[null,2115003,1,"试炼115层普通怪3",{"$f":"E1853","v":1},2,1,2115003]
[null,2115004,1,"试炼115层普通怪4",{"$f":"E1854","v":1},2,1,2115004]
[null,2115005,1,"试炼115层普通怪5",{"$f":"E1855","v":1},2,1,2115005]
[null,2115006,1,"试炼115层普通怪6",{"$f":"E1856","v":1},2,1,2115006]
[null,2115007,1,"试炼115层普通怪7",{"$f":"E1857","v":1},2,1,2115007]
[null,{"$f":"B1858+1000","v":2115008},{"$f":"C1858","v":1},"试炼115层普通怪8",{"$f":"E1858","v":1},2,1,{"$f":"H1858+1000","v":2115008}]
[null,2116000,2,"试炼116层boss",{"$f":"E1859","v":10},2,1,2116000]
[null,2116001,1,"试炼116层普通怪1",{"$f":"E1860","v":1},2,1,2116001]
[null,2116002,1,"试炼116层普通怪2",{"$f":"E1861","v":1},2,1,2116002]
[null,2116003,1,"试炼116层普通怪3",{"$f":"E1862","v":1},2,1,2116003]
[null,2116004,1,"试炼116层普通怪4",{"$f":"E1863","v":1},2,1,2116004]
[null,2116005,1,"试炼116层普通怪5",{"$f":"E1864","v":1},2,1,2116005]
[null,2116006,1,"试炼116层普通怪6",{"$f":"E1865","v":1},2,1,2116006]
[null,2116007,1,"试炼116层普通怪7",{"$f":"E1866","v":1},2,1,2116007]
[null,2116008,1,"试炼116层普通怪8",{"$f":"E1867","v":1},2,1,2116008]
[null,2117000,2,"试炼117层boss",{"$f":"E1868","v":10},2,1,2117000]
[null,2117001,1,{"$f":"\"试炼\"&INT(MID(B1878,2,3))&\"层\"&IF(INT(RIGHT(B1878,1))=0,\"boss\",\"普通怪\"&RIGHT(B1878,1))","v":"试炼117层普通怪1"},{"$f":"E1869","v":1},2,1,2117001]
[null,2117002,1,"试炼117层普通怪2",{"$f":"E1870","v":1},2,1,2117002]
[null,2117003,1,"试炼117层普通怪3",{"$f":"E1871","v":1},2,1,2117003]
[null,2117004,1,"试炼117层普通怪4",{"$f":"E1872","v":1},2,1,2117004]
[null,2117005,1,"试炼117层普通怪5",{"$f":"E1873","v":1},2,1,2117005]
[null,2117006,1,"试炼117层普通怪6",{"$f":"E1874","v":1},2,1,2117006]
[null,2117007,1,"试炼117层普通怪7",{"$f":"E1875","v":1},2,1,2117007]
[null,2117008,1,"试炼117层普通怪8",{"$f":"E1876","v":1},2,1,2117008]
[null,2118000,2,"试炼118层boss",{"$f":"E1877","v":10},2,1,2118000]
[null,2118001,1,"试炼118层普通怪1",{"$f":"E1878","v":1},2,1,2118001]
[null,2118002,1,"试炼118层普通怪2",{"$f":"E1879","v":1},2,1,2118002]
[null,2118003,1,"试炼118层普通怪3",{"$f":"E1880","v":1},2,1,2118003]
[null,2118004,1,"试炼118层普通怪4",{"$f":"E1881","v":1},2,1,2118004]
[null,2118005,1,"试炼118层普通怪5",{"$f":"E1882","v":1},2,1,2118005]
[null,2118006,1,"试炼118层普通怪6",{"$f":"E1883","v":1},2,1,2118006]
[null,2118007,1,"试炼118层普通怪7",{"$f":"E1884","v":1},2,1,2118007]
[null,2118008,1,"试炼118层普通怪8",{"$f":"E1885","v":1},2,1,2118008]
[null,2119000,2,"试炼119层boss",{"$f":"E1886","v":10},2,1,2119000]
[null,2119001,1,"试炼119层普通怪1",{"$f":"E1887","v":1},2,1,2119001]
[null,2119002,1,"试炼119层普通怪2",{"$f":"E1888","v":1},2,1,2119002]
[null,2119003,1,"试炼119层普通怪3",{"$f":"E1889","v":1},2,1,2119003]
[null,2119004,1,"试炼119层普通怪4",{"$f":"E1890","v":1},2,1,2119004]
[null,2119005,1,"试炼119层普通怪5",{"$f":"E1891","v":1},2,1,2119005]
[null,2119006,1,"试炼119层普通怪6",{"$f":"E1892","v":1},2,1,2119006]
[null,2119007,1,"试炼119层普通怪7",{"$f":"E1893","v":1},2,1,2119007]
[null,2119008,1,"试炼119层普通怪8",{"$f":"E1894","v":1},2,1,2119008]
[null,2120000,2,"试炼120层boss",{"$f":"E1895","v":10},2,1,2120000]
[null,2120001,1,"试炼120层普通怪1",{"$f":"E1896","v":1},2,1,2120001]
[null,2120002,1,"试炼120层普通怪2",{"$f":"E1897","v":1},2,1,2120002]
[null,2120003,1,"试炼120层普通怪3",{"$f":"E1898","v":1},2,1,2120003]
[null,2120004,1,"试炼120层普通怪4",{"$f":"E1899","v":1},2,1,2120004]
[null,2120005,1,"试炼120层普通怪5",{"$f":"E1900","v":1},2,1,2120005]
[null,2120006,1,"试炼120层普通怪6",{"$f":"E1901","v":1},2,1,2120006]
[null,2120007,1,"试炼120层普通怪7",{"$f":"E1902","v":1},2,1,2120007]
[null,2120008,1,"试炼120层普通怪8",{"$f":"E1903","v":1},2,1,2120008]
[null,2121000,2,"试炼121层boss",{"$f":"E1904","v":10},2,1,2121000]
[null,2121001,1,"试炼121层普通怪1",{"$f":"E1905","v":1},2,1,2121001]
[null,2121002,1,"试炼121层普通怪2",{"$f":"E1906","v":1},2,1,2121002]
[null,2121003,1,"试炼121层普通怪3",{"$f":"E1907","v":1},2,1,2121003]
[null,2121004,1,"试炼121层普通怪4",{"$f":"E1908","v":1},2,1,2121004]
[null,2121005,1,"试炼121层普通怪5",{"$f":"E1909","v":1},2,1,2121005]
[null,2121006,1,"试炼121层普通怪6",{"$f":"E1910","v":1},2,1,2121006]
[null,2121007,1,"试炼121层普通怪7",{"$f":"E1911","v":1},2,1,2121007]
[null,2121008,1,"试炼121层普通怪8",{"$f":"E1912","v":1},2,1,2121008]
[null,2122000,2,"试炼122层boss",{"$f":"E1913","v":10},2,1,2122000]
[null,2122001,1,"试炼122层普通怪1",{"$f":"E1914","v":1},2,1,2122001]
[null,2122002,1,"试炼122层普通怪2",{"$f":"E1915","v":1},2,1,2122002]
[null,2122003,1,"试炼122层普通怪3",{"$f":"E1916","v":1},2,1,2122003]
[null,2122004,1,"试炼122层普通怪4",{"$f":"E1917","v":1},2,1,2122004]
[null,2122005,1,"试炼122层普通怪5",{"$f":"E1918","v":1},2,1,2122005]
[null,2122006,1,"试炼122层普通怪6",{"$f":"E1919","v":1},2,1,2122006]
[null,2122007,1,"试炼122层普通怪7",{"$f":"E1920","v":1},2,1,2122007]
[null,2122008,1,"试炼122层普通怪8",{"$f":"E1921","v":1},2,1,2122008]
[null,{"$f":"B1922+1000","v":2123000},{"$f":"C1922","v":2},"试炼123层boss",{"$f":"E1922","v":10},2,1,{"$f":"H1922+1000","v":2123000}]
[null,2123001,1,"试炼123层普通怪1",{"$f":"E1923","v":1},2,1,2123001]
[null,2123002,1,"试炼123层普通怪2",{"$f":"E1924","v":1},2,1,2123002]
[null,2123003,1,"试炼123层普通怪3",{"$f":"E1925","v":1},2,1,2123003]
[null,2123004,1,"试炼123层普通怪4",{"$f":"E1926","v":1},2,1,2123004]
[null,2123005,1,"试炼123层普通怪5",{"$f":"E1927","v":1},2,1,2123005]
[null,2123006,1,"试炼123层普通怪6",{"$f":"E1928","v":1},2,1,2123006]
[null,2123007,1,"试炼123层普通怪7",{"$f":"E1929","v":1},2,1,2123007]
[null,2123008,1,"试炼123层普通怪8",{"$f":"E1930","v":1},2,1,2123008]
[null,2124000,2,"试炼124层boss",{"$f":"E1931","v":10},2,1,2124000]
[null,2124001,1,"试炼124层普通怪1",{"$f":"E1932","v":1},2,1,2124001]
[null,2124002,1,{"$f":"\"试炼\"&INT(MID(B1942,2,3))&\"层\"&IF(INT(RIGHT(B1942,1))=0,\"boss\",\"普通怪\"&RIGHT(B1942,1))","v":"试炼124层普通怪2"},{"$f":"E1933","v":1},2,1,2124002]
[null,2124003,1,"试炼124层普通怪3",{"$f":"E1934","v":1},2,1,2124003]
[null,2124004,1,"试炼124层普通怪4",{"$f":"E1935","v":1},2,1,2124004]
[null,2124005,1,"试炼124层普通怪5",{"$f":"E1936","v":1},2,1,2124005]
[null,2124006,1,"试炼124层普通怪6",{"$f":"E1937","v":1},2,1,2124006]
[null,2124007,1,"试炼124层普通怪7",{"$f":"E1938","v":1},2,1,2124007]
[null,2124008,1,"试炼124层普通怪8",{"$f":"E1939","v":1},2,1,2124008]
[null,2125000,2,"试炼125层boss",{"$f":"E1940","v":10},2,1,2125000]
[null,2125001,1,"试炼125层普通怪1",{"$f":"E1941","v":1},2,1,2125001]
[null,2125002,1,"试炼125层普通怪2",{"$f":"E1942","v":1},2,1,2125002]
[null,2125003,1,"试炼125层普通怪3",{"$f":"E1943","v":1},2,1,2125003]
[null,2125004,1,"试炼125层普通怪4",{"$f":"E1944","v":1},2,1,2125004]
[null,2125005,1,"试炼125层普通怪5",{"$f":"E1945","v":1},2,1,2125005]
[null,2125006,1,"试炼125层普通怪6",{"$f":"E1946","v":1},2,1,2125006]
[null,2125007,1,"试炼125层普通怪7",{"$f":"E1947","v":1},2,1,2125007]
[null,2125008,1,"试炼125层普通怪8",{"$f":"E1948","v":1},2,1,2125008]
[null,2126000,2,"试炼126层boss",{"$f":"E1949","v":10},2,1,2126000]
[null,2126001,1,"试炼126层普通怪1",{"$f":"E1950","v":1},2,1,2126001]
[null,2126002,1,"试炼126层普通怪2",{"$f":"E1951","v":1},2,1,2126002]
[null,2126003,1,"试炼126层普通怪3",{"$f":"E1952","v":1},2,1,2126003]
[null,2126004,1,"试炼126层普通怪4",{"$f":"E1953","v":1},2,1,2126004]
[null,2126005,1,"试炼126层普通怪5",{"$f":"E1954","v":1},2,1,2126005]
[null,2126006,1,"试炼126层普通怪6",{"$f":"E1955","v":1},2,1,2126006]
[null,2126007,1,"试炼126层普通怪7",{"$f":"E1956","v":1},2,1,2126007]
[null,2126008,1,"试炼126层普通怪8",{"$f":"E1957","v":1},2,1,2126008]
[null,2127000,2,"试炼127层boss",{"$f":"E1958","v":10},2,1,2127000]
[null,2127001,1,"试炼127层普通怪1",{"$f":"E1959","v":1},2,1,2127001]
[null,2127002,1,"试炼127层普通怪2",{"$f":"E1960","v":1},2,1,2127002]
[null,2127003,1,"试炼127层普通怪3",{"$f":"E1961","v":1},2,1,2127003]
[null,2127004,1,"试炼127层普通怪4",{"$f":"E1962","v":1},2,1,2127004]
[null,2127005,1,"试炼127层普通怪5",{"$f":"E1963","v":1},2,1,2127005]
[null,2127006,1,"试炼127层普通怪6",{"$f":"E1964","v":1},2,1,2127006]
[null,2127007,1,"试炼127层普通怪7",{"$f":"E1965","v":1},2,1,2127007]
[null,2127008,1,"试炼127层普通怪8",{"$f":"E1966","v":1},2,1,2127008]
[null,2128000,2,"试炼128层boss",{"$f":"E1967","v":10},2,1,2128000]
[null,2128001,1,"试炼128层普通怪1",{"$f":"E1968","v":1},2,1,2128001]
[null,2128002,1,"试炼128层普通怪2",{"$f":"E1969","v":1},2,1,2128002]
[null,2128003,1,"试炼128层普通怪3",{"$f":"E1970","v":1},2,1,2128003]
[null,2128004,1,"试炼128层普通怪4",{"$f":"E1971","v":1},2,1,2128004]
[null,2128005,1,"试炼128层普通怪5",{"$f":"E1972","v":1},2,1,2128005]
[null,2128006,1,"试炼128层普通怪6",{"$f":"E1973","v":1},2,1,2128006]
[null,2128007,1,"试炼128层普通怪7",{"$f":"E1974","v":1},2,1,2128007]
[null,2128008,1,"试炼128层普通怪8",{"$f":"E1975","v":1},2,1,2128008]
[null,2129000,2,"试炼129层boss",{"$f":"E1976","v":10},2,1,2129000]
[null,2129001,1,"试炼129层普通怪1",{"$f":"E1977","v":1},2,1,2129001]
[null,2129002,1,"试炼129层普通怪2",{"$f":"E1978","v":1},2,1,2129002]
[null,2129003,1,"试炼129层普通怪3",{"$f":"E1979","v":1},2,1,2129003]
[null,2129004,1,"试炼129层普通怪4",{"$f":"E1980","v":1},2,1,2129004]
[null,2129005,1,"试炼129层普通怪5",{"$f":"E1981","v":1},2,1,2129005]
[null,2129006,1,"试炼129层普通怪6",{"$f":"E1982","v":1},2,1,2129006]
[null,2129007,1,"试炼129层普通怪7",{"$f":"E1983","v":1},2,1,2129007]
[null,2129008,1,"试炼129层普通怪8",{"$f":"E1984","v":1},2,1,2129008]
[null,2130000,2,"试炼130层boss",{"$f":"E1985","v":10},2,1,2130000]
[null,{"$f":"B1986+1000","v":2130001},{"$f":"C1986","v":1},"试炼130层普通怪1",{"$f":"E1986","v":1},2,1,{"$f":"H1986+1000","v":2130001}]
[null,2130002,1,"试炼130层普通怪2",{"$f":"E1987","v":1},2,1,2130002]
[null,2130003,1,"试炼130层普通怪3",{"$f":"E1988","v":1},2,1,2130003]
[null,2130004,1,"试炼130层普通怪4",{"$f":"E1989","v":1},2,1,2130004]
[null,2130005,1,"试炼130层普通怪5",{"$f":"E1990","v":1},2,1,2130005]
[null,2130006,1,"试炼130层普通怪6",{"$f":"E1991","v":1},2,1,2130006]
[null,2130007,1,"试炼130层普通怪7",{"$f":"E1992","v":1},2,1,2130007]
[null,2130008,1,"试炼130层普通怪8",{"$f":"E1993","v":1},2,1,2130008]
[null,2131000,2,"试炼131层boss",{"$f":"E1994","v":10},2,1,2131000]
[null,2131001,1,"试炼131层普通怪1",{"$f":"E1995","v":1},2,1,2131001]
[null,2131002,1,"试炼131层普通怪2",{"$f":"E1996","v":1},2,1,2131002]
[null,2131003,1,{"$f":"\"试炼\"&INT(MID(B2006,2,3))&\"层\"&IF(INT(RIGHT(B2006,1))=0,\"boss\",\"普通怪\"&RIGHT(B2006,1))","v":"试炼131层普通怪3"},{"$f":"E1997","v":1},2,1,2131003]
[null,2131004,1,"试炼131层普通怪4",{"$f":"E1998","v":1},2,1,2131004]
[null,2131005,1,"试炼131层普通怪5",{"$f":"E1999","v":1},2,1,2131005]
[null,2131006,1,"试炼131层普通怪6",{"$f":"E2000","v":1},2,1,2131006]
[null,2131007,1,"试炼131层普通怪7",{"$f":"E2001","v":1},2,1,2131007]
[null,2131008,1,"试炼131层普通怪8",{"$f":"E2002","v":1},2,1,2131008]
[null,2132000,2,"试炼132层boss",{"$f":"E2003","v":10},2,1,2132000]
[null,2132001,1,"试炼132层普通怪1",{"$f":"E2004","v":1},2,1,2132001]
[null,2132002,1,"试炼132层普通怪2",{"$f":"E2005","v":1},2,1,2132002]
[null,2132003,1,"试炼132层普通怪3",{"$f":"E2006","v":1},2,1,2132003]
[null,2132004,1,"试炼132层普通怪4",{"$f":"E2007","v":1},2,1,2132004]
[null,2132005,1,"试炼132层普通怪5",{"$f":"E2008","v":1},2,1,2132005]
[null,2132006,1,"试炼132层普通怪6",{"$f":"E2009","v":1},2,1,2132006]
[null,2132007,1,"试炼132层普通怪7",{"$f":"E2010","v":1},2,1,2132007]
[null,2132008,1,"试炼132层普通怪8",{"$f":"E2011","v":1},2,1,2132008]
[null,2133000,2,"试炼133层boss",{"$f":"E2012","v":10},2,1,2133000]
[null,2133001,1,"试炼133层普通怪1",{"$f":"E2013","v":1},2,1,2133001]
[null,2133002,1,"试炼133层普通怪2",{"$f":"E2014","v":1},2,1,2133002]
[null,2133003,1,"试炼133层普通怪3",{"$f":"E2015","v":1},2,1,2133003]
[null,2133004,1,"试炼133层普通怪4",{"$f":"E2016","v":1},2,1,2133004]
[null,2133005,1,"试炼133层普通怪5",{"$f":"E2017","v":1},2,1,2133005]
[null,2133006,1,"试炼133层普通怪6",{"$f":"E2018","v":1},2,1,2133006]
[null,2133007,1,"试炼133层普通怪7",{"$f":"E2019","v":1},2,1,2133007]
[null,2133008,1,"试炼133层普通怪8",{"$f":"E2020","v":1},2,1,2133008]
[null,2134000,2,"试炼134层boss",{"$f":"E2021","v":10},2,1,2134000]
[null,2134001,1,"试炼134层普通怪1",{"$f":"E2022","v":1},2,1,2134001]
[null,2134002,1,"试炼134层普通怪2",{"$f":"E2023","v":1},2,1,2134002]
[null,2134003,1,"试炼134层普通怪3",{"$f":"E2024","v":1},2,1,2134003]
[null,2134004,1,"试炼134层普通怪4",{"$f":"E2025","v":1},2,1,2134004]
[null,2134005,1,"试炼134层普通怪5",{"$f":"E2026","v":1},2,1,2134005]
[null,2134006,1,"试炼134层普通怪6",{"$f":"E2027","v":1},2,1,2134006]
[null,2134007,1,"试炼134层普通怪7",{"$f":"E2028","v":1},2,1,2134007]
[null,2134008,1,"试炼134层普通怪8",{"$f":"E2029","v":1},2,1,2134008]
[null,2135000,2,"试炼135层boss",{"$f":"E2030","v":10},2,1,2135000]
[null,2135001,1,"试炼135层普通怪1",{"$f":"E2031","v":1},2,1,2135001]
[null,2135002,1,"试炼135层普通怪2",{"$f":"E2032","v":1},2,1,2135002]
[null,2135003,1,"试炼135层普通怪3",{"$f":"E2033","v":1},2,1,2135003]
[null,2135004,1,"试炼135层普通怪4",{"$f":"E2034","v":1},2,1,2135004]
[null,2135005,1,"试炼135层普通怪5",{"$f":"E2035","v":1},2,1,2135005]
[null,2135006,1,"试炼135层普通怪6",{"$f":"E2036","v":1},2,1,2135006]
[null,2135007,1,"试炼135层普通怪7",{"$f":"E2037","v":1},2,1,2135007]
[null,2135008,1,"试炼135层普通怪8",{"$f":"E2038","v":1},2,1,2135008]
[null,2136000,2,"试炼136层boss",{"$f":"E2039","v":10},2,1,2136000]
[null,2136001,1,"试炼136层普通怪1",{"$f":"E2040","v":1},2,1,2136001]
[null,2136002,1,"试炼136层普通怪2",{"$f":"E2041","v":1},2,1,2136002]
[null,2136003,1,"试炼136层普通怪3",{"$f":"E2042","v":1},2,1,2136003]
[null,2136004,1,"试炼136层普通怪4",{"$f":"E2043","v":1},2,1,2136004]
[null,2136005,1,"试炼136层普通怪5",{"$f":"E2044","v":1},2,1,2136005]
[null,2136006,1,"试炼136层普通怪6",{"$f":"E2045","v":1},2,1,2136006]
[null,2136007,1,"试炼136层普通怪7",{"$f":"E2046","v":1},2,1,2136007]
[null,2136008,1,"试炼136层普通怪8",{"$f":"E2047","v":1},2,1,2136008]
[null,2137000,2,"试炼137层boss",{"$f":"E2048","v":10},2,1,2137000]
[null,2137001,1,"试炼137层普通怪1",{"$f":"E2049","v":1},2,1,2137001]
[null,{"$f":"B2050+1000","v":2137002},{"$f":"C2050","v":1},"试炼137层普通怪2",{"$f":"E2050","v":1},2,1,{"$f":"H2050+1000","v":2137002}]
[null,2137003,1,"试炼137层普通怪3",{"$f":"E2051","v":1},2,1,2137003]
[null,2137004,1,"试炼137层普通怪4",{"$f":"E2052","v":1},2,1,2137004]
[null,2137005,1,"试炼137层普通怪5",{"$f":"E2053","v":1},2,1,2137005]
[null,2137006,1,"试炼137层普通怪6",{"$f":"E2054","v":1},2,1,2137006]
[null,2137007,1,"试炼137层普通怪7",{"$f":"E2055","v":1},2,1,2137007]
[null,2137008,1,"试炼137层普通怪8",{"$f":"E2056","v":1},2,1,2137008]
[null,2138000,2,"试炼138层boss",{"$f":"E2057","v":10},2,1,2138000]
[null,2138001,1,"试炼138层普通怪1",{"$f":"E2058","v":1},2,1,2138001]
[null,2138002,1,"试炼138层普通怪2",{"$f":"E2059","v":1},2,1,2138002]
[null,2138003,1,"试炼138层普通怪3",{"$f":"E2060","v":1},2,1,2138003]
[null,2138004,1,{"$f":"\"试炼\"&INT(MID(B2070,2,3))&\"层\"&IF(INT(RIGHT(B2070,1))=0,\"boss\",\"普通怪\"&RIGHT(B2070,1))","v":"试炼138层普通怪4"},{"$f":"E2061","v":1},2,1,2138004]
[null,2138005,1,"试炼138层普通怪5",{"$f":"E2062","v":1},2,1,2138005]
[null,2138006,1,"试炼138层普通怪6",{"$f":"E2063","v":1},2,1,2138006]
[null,2138007,1,"试炼138层普通怪7",{"$f":"E2064","v":1},2,1,2138007]
[null,2138008,1,"试炼138层普通怪8",{"$f":"E2065","v":1},2,1,2138008]
[null,2139000,2,"试炼139层boss",{"$f":"E2066","v":10},2,1,2139000]
[null,2139001,1,"试炼139层普通怪1",{"$f":"E2067","v":1},2,1,2139001]
[null,2139002,1,"试炼139层普通怪2",{"$f":"E2068","v":1},2,1,2139002]
[null,2139003,1,"试炼139层普通怪3",{"$f":"E2069","v":1},2,1,2139003]
[null,2139004,1,"试炼139层普通怪4",{"$f":"E2070","v":1},2,1,2139004]
[null,2139005,1,"试炼139层普通怪5",{"$f":"E2071","v":1},2,1,2139005]
[null,2139006,1,"试炼139层普通怪6",{"$f":"E2072","v":1},2,1,2139006]
[null,2139007,1,"试炼139层普通怪7",{"$f":"E2073","v":1},2,1,2139007]
[null,2139008,1,"试炼139层普通怪8",{"$f":"E2074","v":1},2,1,2139008]
[null,2140000,2,"试炼140层boss",{"$f":"E2075","v":10},2,1,2140000]
[null,2140001,1,"试炼140层普通怪1",{"$f":"E2076","v":1},2,1,2140001]
[null,2140002,1,"试炼140层普通怪2",{"$f":"E2077","v":1},2,1,2140002]
[null,2140003,1,"试炼140层普通怪3",{"$f":"E2078","v":1},2,1,2140003]
[null,2140004,1,"试炼140层普通怪4",{"$f":"E2079","v":1},2,1,2140004]
[null,2140005,1,"试炼140层普通怪5",{"$f":"E2080","v":1},2,1,2140005]
[null,2140006,1,"试炼140层普通怪6",{"$f":"E2081","v":1},2,1,2140006]
[null,2140007,1,"试炼140层普通怪7",{"$f":"E2082","v":1},2,1,2140007]
[null,2140008,1,"试炼140层普通怪8",{"$f":"E2083","v":1},2,1,2140008]
[null,2141000,2,"试炼141层boss",{"$f":"E2084","v":10},2,1,2141000]
[null,2141001,1,"试炼141层普通怪1",{"$f":"E2085","v":1},2,1,2141001]
[null,2141002,1,"试炼141层普通怪2",{"$f":"E2086","v":1},2,1,2141002]
[null,2141003,1,"试炼141层普通怪3",{"$f":"E2087","v":1},2,1,2141003]
[null,2141004,1,"试炼141层普通怪4",{"$f":"E2088","v":1},2,1,2141004]
[null,2141005,1,"试炼141层普通怪5",{"$f":"E2089","v":1},2,1,2141005]
[null,2141006,1,"试炼141层普通怪6",{"$f":"E2090","v":1},2,1,2141006]
[null,2141007,1,"试炼141层普通怪7",{"$f":"E2091","v":1},2,1,2141007]
[null,2141008,1,"试炼141层普通怪8",{"$f":"E2092","v":1},2,1,2141008]
[null,2142000,2,"试炼142层boss",{"$f":"E2093","v":10},2,1,2142000]
[null,2142001,1,"试炼142层普通怪1",{"$f":"E2094","v":1},2,1,2142001]
[null,2142002,1,"试炼142层普通怪2",{"$f":"E2095","v":1},2,1,2142002]
[null,2142003,1,"试炼142层普通怪3",{"$f":"E2096","v":1},2,1,2142003]
[null,2142004,1,"试炼142层普通怪4",{"$f":"E2097","v":1},2,1,2142004]
[null,2142005,1,"试炼142层普通怪5",{"$f":"E2098","v":1},2,1,2142005]
[null,2142006,1,"试炼142层普通怪6",{"$f":"E2099","v":1},2,1,2142006]
[null,2142007,1,"试炼142层普通怪7",{"$f":"E2100","v":1},2,1,2142007]
[null,2142008,1,"试炼142层普通怪8",{"$f":"E2101","v":1},2,1,2142008]
[null,2143000,2,"试炼143层boss",{"$f":"E2102","v":10},2,1,2143000]
[null,2143001,1,"试炼143层普通怪1",{"$f":"E2103","v":1},2,1,2143001]
[null,2143002,1,"试炼143层普通怪2",{"$f":"E2104","v":1},2,1,2143002]
[null,2143003,1,"试炼143层普通怪3",{"$f":"E2105","v":1},2,1,2143003]
[null,2143004,1,"试炼143层普通怪4",{"$f":"E2106","v":1},2,1,2143004]
[null,2143005,1,"试炼143层普通怪5",{"$f":"E2107","v":1},2,1,2143005]
[null,2143006,1,"试炼143层普通怪6",{"$f":"E2108","v":1},2,1,2143006]
[null,2143007,1,"试炼143层普通怪7",{"$f":"E2109","v":1},2,1,2143007]
[null,2143008,1,"试炼143层普通怪8",{"$f":"E2110","v":1},2,1,2143008]
[null,2144000,2,"试炼144层boss",{"$f":"E2111","v":10},2,1,2144000]
[null,2144001,1,"试炼144层普通怪1",{"$f":"E2112","v":1},2,1,2144001]
[null,2144002,1,"试炼144层普通怪2",{"$f":"E2113","v":1},2,1,2144002]
[null,{"$f":"B2114+1000","v":2144003},{"$f":"C2114","v":1},"试炼144层普通怪3",{"$f":"E2114","v":1},2,1,{"$f":"H2114+1000","v":2144003}]
[null,2144004,1,"试炼144层普通怪4",{"$f":"E2115","v":1},2,1,2144004]
[null,2144005,1,"试炼144层普通怪5",{"$f":"E2116","v":1},2,1,2144005]
[null,2144006,1,"试炼144层普通怪6",{"$f":"E2117","v":1},2,1,2144006]
[null,2144007,1,"试炼144层普通怪7",{"$f":"E2118","v":1},2,1,2144007]
[null,2144008,1,"试炼144层普通怪8",{"$f":"E2119","v":1},2,1,2144008]
[null,2145000,2,"试炼145层boss",{"$f":"E2120","v":10},2,1,2145000]
[null,2145001,1,"试炼145层普通怪1",{"$f":"E2121","v":1},2,1,2145001]
[null,2145002,1,"试炼145层普通怪2",{"$f":"E2122","v":1},2,1,2145002]
[null,2145003,1,"试炼145层普通怪3",{"$f":"E2123","v":1},2,1,2145003]
[null,2145004,1,"试炼145层普通怪4",{"$f":"E2124","v":1},2,1,2145004]
[null,2145005,1,{"$f":"\"试炼\"&INT(MID(B2134,2,3))&\"层\"&IF(INT(RIGHT(B2134,1))=0,\"boss\",\"普通怪\"&RIGHT(B2134,1))","v":"试炼145层普通怪5"},{"$f":"E2125","v":1},2,1,2145005]
[null,2145006,1,"试炼145层普通怪6",{"$f":"E2126","v":1},2,1,2145006]
[null,2145007,1,"试炼145层普通怪7",{"$f":"E2127","v":1},2,1,2145007]
[null,2145008,1,"试炼145层普通怪8",{"$f":"E2128","v":1},2,1,2145008]
[null,2146000,2,"试炼146层boss",{"$f":"E2129","v":10},2,1,2146000]
[null,2146001,1,"试炼146层普通怪1",{"$f":"E2130","v":1},2,1,2146001]
[null,2146002,1,"试炼146层普通怪2",{"$f":"E2131","v":1},2,1,2146002]
[null,2146003,1,"试炼146层普通怪3",{"$f":"E2132","v":1},2,1,2146003]
[null,2146004,1,"试炼146层普通怪4",{"$f":"E2133","v":1},2,1,2146004]
[null,2146005,1,"试炼146层普通怪5",{"$f":"E2134","v":1},2,1,2146005]
[null,2146006,1,"试炼146层普通怪6",{"$f":"E2135","v":1},2,1,2146006]
[null,2146007,1,"试炼146层普通怪7",{"$f":"E2136","v":1},2,1,2146007]
[null,2146008,1,"试炼146层普通怪8",{"$f":"E2137","v":1},2,1,2146008]
[null,2147000,2,"试炼147层boss",{"$f":"E2138","v":10},2,1,2147000]
[null,2147001,1,"试炼147层普通怪1",{"$f":"E2139","v":1},2,1,2147001]
[null,2147002,1,"试炼147层普通怪2",{"$f":"E2140","v":1},2,1,2147002]
[null,2147003,1,"试炼147层普通怪3",{"$f":"E2141","v":1},2,1,2147003]
[null,2147004,1,"试炼147层普通怪4",{"$f":"E2142","v":1},2,1,2147004]
[null,2147005,1,"试炼147层普通怪5",{"$f":"E2143","v":1},2,1,2147005]
[null,2147006,1,"试炼147层普通怪6",{"$f":"E2144","v":1},2,1,2147006]
[null,2147007,1,"试炼147层普通怪7",{"$f":"E2145","v":1},2,1,2147007]
[null,2147008,1,"试炼147层普通怪8",{"$f":"E2146","v":1},2,1,2147008]
[null,2148000,2,"试炼148层boss",{"$f":"E2147","v":10},2,1,2148000]
[null,2148001,1,"试炼148层普通怪1",{"$f":"E2148","v":1},2,1,2148001]
[null,2148002,1,"试炼148层普通怪2",{"$f":"E2149","v":1},2,1,2148002]
[null,2148003,1,"试炼148层普通怪3",{"$f":"E2150","v":1},2,1,2148003]
[null,2148004,1,"试炼148层普通怪4",{"$f":"E2151","v":1},2,1,2148004]
[null,2148005,1,"试炼148层普通怪5",{"$f":"E2152","v":1},2,1,2148005]
[null,2148006,1,"试炼148层普通怪6",{"$f":"E2153","v":1},2,1,2148006]
[null,2148007,1,"试炼148层普通怪7",{"$f":"E2154","v":1},2,1,2148007]
[null,2148008,1,"试炼148层普通怪8",{"$f":"E2155","v":1},2,1,2148008]
[null,2149000,2,"试炼149层boss",{"$f":"E2156","v":10},2,1,2149000]
[null,2149001,1,"试炼149层普通怪1",{"$f":"E2157","v":1},2,1,2149001]
[null,2149002,1,"试炼149层普通怪2",{"$f":"E2158","v":1},2,1,2149002]
[null,2149003,1,"试炼149层普通怪3",{"$f":"E2159","v":1},2,1,2149003]
[null,2149004,1,"试炼149层普通怪4",{"$f":"E2160","v":1},2,1,2149004]
[null,2149005,1,"试炼149层普通怪5",{"$f":"E2161","v":1},2,1,2149005]
[null,2149006,1,"试炼149层普通怪6",{"$f":"E2162","v":1},2,1,2149006]
[null,2149007,1,"试炼149层普通怪7",{"$f":"E2163","v":1},2,1,2149007]
[null,2149008,1,"试炼149层普通怪8",{"$f":"E2164","v":1},2,1,2149008]
[null,2150000,2,"试炼150层boss",{"$f":"E2165","v":10},2,1,2150000]
[null,2150001,1,"试炼150层普通怪1",{"$f":"E2166","v":1},2,1,2150001]
[null,2150002,1,"试炼150层普通怪2",{"$f":"E2167","v":1},2,1,2150002]
[null,2150003,1,"试炼150层普通怪3",{"$f":"E2168","v":1},2,1,2150003]
[null,2150004,1,"试炼150层普通怪4",{"$f":"E2169","v":1},2,1,2150004]
[null,2150005,1,"试炼150层普通怪5",{"$f":"E2170","v":1},2,1,2150005]
[null,2150006,1,"试炼150层普通怪6",{"$f":"E2171","v":1},2,1,2150006]
[null,2150007,1,"试炼150层普通怪7",{"$f":"E2172","v":1},2,1,2150007]
[null,2150008,1,"试炼150层普通怪8",{"$f":"E2173","v":1},2,1,2150008]
[null,2151000,2,"试炼151层boss",{"$f":"E2174","v":10},2,1,2151000]
[null,2151001,1,"试炼151层普通怪1",{"$f":"E2175","v":1},2,1,2151001]
[null,2151002,1,"试炼151层普通怪2",{"$f":"E2176","v":1},2,1,2151002]
[null,2151003,1,"试炼151层普通怪3",{"$f":"E2177","v":1},2,1,2151003]
[null,{"$f":"B2178+1000","v":2151004},{"$f":"C2178","v":1},"试炼151层普通怪4",{"$f":"E2178","v":1},2,1,{"$f":"H2178+1000","v":2151004}]
[null,2151005,1,"试炼151层普通怪5",{"$f":"E2179","v":1},2,1,2151005]
[null,2151006,1,"试炼151层普通怪6",{"$f":"E2180","v":1},2,1,2151006]
[null,2151007,1,"试炼151层普通怪7",{"$f":"E2181","v":1},2,1,2151007]
[null,2151008,1,"试炼151层普通怪8",{"$f":"E2182","v":1},2,1,2151008]
[null,2152000,2,"试炼152层boss",{"$f":"E2183","v":10},2,1,2152000]
[null,2152001,1,"试炼152层普通怪1",{"$f":"E2184","v":1},2,1,2152001]
[null,2152002,1,"试炼152层普通怪2",{"$f":"E2185","v":1},2,1,2152002]
[null,2152003,1,"试炼152层普通怪3",{"$f":"E2186","v":1},2,1,2152003]
[null,2152004,1,"试炼152层普通怪4",{"$f":"E2187","v":1},2,1,2152004]
[null,2152005,1,"试炼152层普通怪5",{"$f":"E2188","v":1},2,1,2152005]
[null,2152006,1,{"$f":"\"试炼\"&INT(MID(B2198,2,3))&\"层\"&IF(INT(RIGHT(B2198,1))=0,\"boss\",\"普通怪\"&RIGHT(B2198,1))","v":"试炼152层普通怪6"},{"$f":"E2189","v":1},2,1,2152006]
[null,2152007,1,"试炼152层普通怪7",{"$f":"E2190","v":1},2,1,2152007]
[null,2152008,1,"试炼152层普通怪8",{"$f":"E2191","v":1},2,1,2152008]
[null,2153000,2,"试炼153层boss",{"$f":"E2192","v":10},2,1,2153000]
[null,2153001,1,"试炼153层普通怪1",{"$f":"E2193","v":1},2,1,2153001]
[null,2153002,1,"试炼153层普通怪2",{"$f":"E2194","v":1},2,1,2153002]
[null,2153003,1,"试炼153层普通怪3",{"$f":"E2195","v":1},2,1,2153003]
[null,2153004,1,"试炼153层普通怪4",{"$f":"E2196","v":1},2,1,2153004]
[null,2153005,1,"试炼153层普通怪5",{"$f":"E2197","v":1},2,1,2153005]
[null,2153006,1,"试炼153层普通怪6",{"$f":"E2198","v":1},2,1,2153006]
[null,2153007,1,"试炼153层普通怪7",{"$f":"E2199","v":1},2,1,2153007]
[null,2153008,1,"试炼153层普通怪8",{"$f":"E2200","v":1},2,1,2153008]
[null,2154000,2,"试炼154层boss",{"$f":"E2201","v":10},2,1,2154000]
[null,2154001,1,"试炼154层普通怪1",{"$f":"E2202","v":1},2,1,2154001]
[null,2154002,1,"试炼154层普通怪2",{"$f":"E2203","v":1},2,1,2154002]
[null,2154003,1,"试炼154层普通怪3",{"$f":"E2204","v":1},2,1,2154003]
[null,2154004,1,"试炼154层普通怪4",{"$f":"E2205","v":1},2,1,2154004]
[null,2154005,1,"试炼154层普通怪5",{"$f":"E2206","v":1},2,1,2154005]
[null,2154006,1,"试炼154层普通怪6",{"$f":"E2207","v":1},2,1,2154006]
[null,2154007,1,"试炼154层普通怪7",{"$f":"E2208","v":1},2,1,2154007]
[null,2154008,1,"试炼154层普通怪8",{"$f":"E2209","v":1},2,1,2154008]
[null,2155000,2,"试炼155层boss",{"$f":"E2210","v":10},2,1,2155000]
[null,2155001,1,"试炼155层普通怪1",{"$f":"E2211","v":1},2,1,2155001]
[null,2155002,1,"试炼155层普通怪2",{"$f":"E2212","v":1},2,1,2155002]
[null,2155003,1,"试炼155层普通怪3",{"$f":"E2213","v":1},2,1,2155003]
[null,2155004,1,"试炼155层普通怪4",{"$f":"E2214","v":1},2,1,2155004]
[null,2155005,1,"试炼155层普通怪5",{"$f":"E2215","v":1},2,1,2155005]
[null,2155006,1,"试炼155层普通怪6",{"$f":"E2216","v":1},2,1,2155006]
[null,2155007,1,"试炼155层普通怪7",{"$f":"E2217","v":1},2,1,2155007]
[null,2155008,1,"试炼155层普通怪8",{"$f":"E2218","v":1},2,1,2155008]
[null,2156000,2,"试炼156层boss",{"$f":"E2219","v":10},2,1,2156000]
[null,2156001,1,"试炼156层普通怪1",{"$f":"E2220","v":1},2,1,2156001]
[null,2156002,1,"试炼156层普通怪2",{"$f":"E2221","v":1},2,1,2156002]
[null,2156003,1,"试炼156层普通怪3",{"$f":"E2222","v":1},2,1,2156003]
[null,2156004,1,"试炼156层普通怪4",{"$f":"E2223","v":1},2,1,2156004]
[null,2156005,1,"试炼156层普通怪5",{"$f":"E2224","v":1},2,1,2156005]
[null,2156006,1,"试炼156层普通怪6",{"$f":"E2225","v":1},2,1,2156006]
[null,2156007,1,"试炼156层普通怪7",{"$f":"E2226","v":1},2,1,2156007]
[null,2156008,1,"试炼156层普通怪8",{"$f":"E2227","v":1},2,1,2156008]
[null,2157000,2,"试炼157层boss",{"$f":"E2228","v":10},2,1,2157000]
[null,2157001,1,"试炼157层普通怪1",{"$f":"E2229","v":1},2,1,2157001]
[null,2157002,1,"试炼157层普通怪2",{"$f":"E2230","v":1},2,1,2157002]
[null,2157003,1,"试炼157层普通怪3",{"$f":"E2231","v":1},2,1,2157003]
[null,2157004,1,"试炼157层普通怪4",{"$f":"E2232","v":1},2,1,2157004]
[null,2157005,1,"试炼157层普通怪5",{"$f":"E2233","v":1},2,1,2157005]
[null,2157006,1,"试炼157层普通怪6",{"$f":"E2234","v":1},2,1,2157006]
[null,2157007,1,"试炼157层普通怪7",{"$f":"E2235","v":1},2,1,2157007]
[null,2157008,1,"试炼157层普通怪8",{"$f":"E2236","v":1},2,1,2157008]
[null,2158000,2,"试炼158层boss",{"$f":"E2237","v":10},2,1,2158000]
[null,2158001,1,"试炼158层普通怪1",{"$f":"E2238","v":1},2,1,2158001]
[null,2158002,1,"试炼158层普通怪2",{"$f":"E2239","v":1},2,1,2158002]
[null,2158003,1,"试炼158层普通怪3",{"$f":"E2240","v":1},2,1,2158003]
[null,2158004,1,"试炼158层普通怪4",{"$f":"E2241","v":1},2,1,2158004]
[null,{"$f":"B2242+1000","v":2158005},{"$f":"C2242","v":1},"试炼158层普通怪5",{"$f":"E2242","v":1},2,1,{"$f":"H2242+1000","v":2158005}]
[null,2158006,1,"试炼158层普通怪6",{"$f":"E2243","v":1},2,1,2158006]
[null,2158007,1,"试炼158层普通怪7",{"$f":"E2244","v":1},2,1,2158007]
[null,2158008,1,"试炼158层普通怪8",{"$f":"E2245","v":1},2,1,2158008]
[null,2159000,2,"试炼159层boss",{"$f":"E2246","v":10},2,1,2159000]
[null,2159001,1,"试炼159层普通怪1",{"$f":"E2247","v":1},2,1,2159001]
[null,2159002,1,"试炼159层普通怪2",{"$f":"E2248","v":1},2,1,2159002]
[null,2159003,1,"试炼159层普通怪3",{"$f":"E2249","v":1},2,1,2159003]
[null,2159004,1,"试炼159层普通怪4",{"$f":"E2250","v":1},2,1,2159004]
[null,2159005,1,"试炼159层普通怪5",{"$f":"E2251","v":1},2,1,2159005]
[null,2159006,1,"试炼159层普通怪6",{"$f":"E2252","v":1},2,1,2159006]
[null,2159007,1,{"$f":"\"试炼\"&INT(MID(B2262,2,3))&\"层\"&IF(INT(RIGHT(B2262,1))=0,\"boss\",\"普通怪\"&RIGHT(B2262,1))","v":"试炼159层普通怪7"},{"$f":"E2253","v":1},2,1,2159007]
[null,2159008,1,"试炼159层普通怪8",{"$f":"E2254","v":1},2,1,2159008]
[null,2160000,2,"试炼160层boss",{"$f":"E2255","v":10},2,1,2160000]
[null,2160001,1,"试炼160层普通怪1",{"$f":"E2256","v":1},2,1,2160001]
[null,2160002,1,"试炼160层普通怪2",{"$f":"E2257","v":1},2,1,2160002]
[null,2160003,1,"试炼160层普通怪3",{"$f":"E2258","v":1},2,1,2160003]
[null,2160004,1,"试炼160层普通怪4",{"$f":"E2259","v":1},2,1,2160004]
[null,2160005,1,"试炼160层普通怪5",{"$f":"E2260","v":1},2,1,2160005]
[null,2160006,1,"试炼160层普通怪6",{"$f":"E2261","v":1},2,1,2160006]
[null,2160007,1,"试炼160层普通怪7",{"$f":"E2262","v":1},2,1,2160007]
[null,2160008,1,"试炼160层普通怪8",{"$f":"E2263","v":1},2,1,2160008]
[null,2161000,2,"试炼161层boss",{"$f":"E2264","v":10},2,1,2161000]
[null,2161001,1,"试炼161层普通怪1",{"$f":"E2265","v":1},2,1,2161001]
[null,2161002,1,"试炼161层普通怪2",{"$f":"E2266","v":1},2,1,2161002]
[null,2161003,1,"试炼161层普通怪3",{"$f":"E2267","v":1},2,1,2161003]
[null,2161004,1,"试炼161层普通怪4",{"$f":"E2268","v":1},2,1,2161004]
[null,2161005,1,"试炼161层普通怪5",{"$f":"E2269","v":1},2,1,2161005]
[null,2161006,1,"试炼161层普通怪6",{"$f":"E2270","v":1},2,1,2161006]
[null,2161007,1,"试炼161层普通怪7",{"$f":"E2271","v":1},2,1,2161007]
[null,2161008,1,"试炼161层普通怪8",{"$f":"E2272","v":1},2,1,2161008]
[null,2162000,2,"试炼162层boss",{"$f":"E2273","v":10},2,1,2162000]
[null,2162001,1,"试炼162层普通怪1",{"$f":"E2274","v":1},2,1,2162001]
[null,2162002,1,"试炼162层普通怪2",{"$f":"E2275","v":1},2,1,2162002]
[null,2162003,1,"试炼162层普通怪3",{"$f":"E2276","v":1},2,1,2162003]
[null,2162004,1,"试炼162层普通怪4",{"$f":"E2277","v":1},2,1,2162004]
[null,2162005,1,"试炼162层普通怪5",{"$f":"E2278","v":1},2,1,2162005]
[null,2162006,1,"试炼162层普通怪6",{"$f":"E2279","v":1},2,1,2162006]
[null,2162007,1,"试炼162层普通怪7",{"$f":"E2280","v":1},2,1,2162007]
[null,2162008,1,"试炼162层普通怪8",{"$f":"E2281","v":1},2,1,2162008]
[null,2163000,2,"试炼163层boss",{"$f":"E2282","v":10},2,1,2163000]
[null,2163001,1,"试炼163层普通怪1",{"$f":"E2283","v":1},2,1,2163001]
[null,2163002,1,"试炼163层普通怪2",{"$f":"E2284","v":1},2,1,2163002]
[null,2163003,1,"试炼163层普通怪3",{"$f":"E2285","v":1},2,1,2163003]
[null,2163004,1,"试炼163层普通怪4",{"$f":"E2286","v":1},2,1,2163004]
[null,2163005,1,"试炼163层普通怪5",{"$f":"E2287","v":1},2,1,2163005]
[null,2163006,1,"试炼163层普通怪6",{"$f":"E2288","v":1},2,1,2163006]
[null,2163007,1,"试炼163层普通怪7",{"$f":"E2289","v":1},2,1,2163007]
[null,2163008,1,"试炼163层普通怪8",{"$f":"E2290","v":1},2,1,2163008]
[null,2164000,2,"试炼164层boss",{"$f":"E2291","v":10},2,1,2164000]
[null,2164001,1,"试炼164层普通怪1",{"$f":"E2292","v":1},2,1,2164001]
[null,2164002,1,"试炼164层普通怪2",{"$f":"E2293","v":1},2,1,2164002]
[null,2164003,1,"试炼164层普通怪3",{"$f":"E2294","v":1},2,1,2164003]
[null,2164004,1,"试炼164层普通怪4",{"$f":"E2295","v":1},2,1,2164004]
[null,2164005,1,"试炼164层普通怪5",{"$f":"E2296","v":1},2,1,2164005]
[null,2164006,1,"试炼164层普通怪6",{"$f":"E2297","v":1},2,1,2164006]
[null,2164007,1,"试炼164层普通怪7",{"$f":"E2298","v":1},2,1,2164007]
[null,2164008,1,"试炼164层普通怪8",{"$f":"E2299","v":1},2,1,2164008]
[null,2165000,2,"试炼165层boss",{"$f":"E2300","v":10},2,1,2165000]
[null,2165001,1,"试炼165层普通怪1",{"$f":"E2301","v":1},2,1,2165001]
[null,2165002,1,"试炼165层普通怪2",{"$f":"E2302","v":1},2,1,2165002]
[null,2165003,1,"试炼165层普通怪3",{"$f":"E2303","v":1},2,1,2165003]
[null,2165004,1,"试炼165层普通怪4",{"$f":"E2304","v":1},2,1,2165004]
[null,2165005,1,"试炼165层普通怪5",{"$f":"E2305","v":1},2,1,2165005]
[null,{"$f":"B2306+1000","v":2165006},{"$f":"C2306","v":1},"试炼165层普通怪6",{"$f":"E2306","v":1},2,1,{"$f":"H2306+1000","v":2165006}]
[null,2165007,1,"试炼165层普通怪7",{"$f":"E2307","v":1},2,1,2165007]
[null,2165008,1,"试炼165层普通怪8",{"$f":"E2308","v":1},2,1,2165008]
[null,2166000,2,"试炼166层boss",{"$f":"E2309","v":10},2,1,2166000]
[null,2166001,1,"试炼166层普通怪1",{"$f":"E2310","v":1},2,1,2166001]
[null,2166002,1,"试炼166层普通怪2",{"$f":"E2311","v":1},2,1,2166002]
[null,2166003,1,"试炼166层普通怪3",{"$f":"E2312","v":1},2,1,2166003]
[null,2166004,1,"试炼166层普通怪4",{"$f":"E2313","v":1},2,1,2166004]
[null,2166005,1,"试炼166层普通怪5",{"$f":"E2314","v":1},2,1,2166005]
[null,2166006,1,"试炼166层普通怪6",{"$f":"E2315","v":1},2,1,2166006]
[null,2166007,1,"试炼166层普通怪7",{"$f":"E2316","v":1},2,1,2166007]
[null,2166008,1,{"$f":"\"试炼\"&INT(MID(B2326,2,3))&\"层\"&IF(INT(RIGHT(B2326,1))=0,\"boss\",\"普通怪\"&RIGHT(B2326,1))","v":"试炼166层普通怪8"},{"$f":"E2317","v":1},2,1,2166008]
[null,2167000,2,"试炼167层boss",{"$f":"E2318","v":10},2,1,2167000]
[null,2167001,1,"试炼167层普通怪1",{"$f":"E2319","v":1},2,1,2167001]
[null,2167002,1,"试炼167层普通怪2",{"$f":"E2320","v":1},2,1,2167002]
[null,2167003,1,"试炼167层普通怪3",{"$f":"E2321","v":1},2,1,2167003]
[null,2167004,1,"试炼167层普通怪4",{"$f":"E2322","v":1},2,1,2167004]
[null,2167005,1,"试炼167层普通怪5",{"$f":"E2323","v":1},2,1,2167005]
[null,2167006,1,"试炼167层普通怪6",{"$f":"E2324","v":1},2,1,2167006]
[null,2167007,1,"试炼167层普通怪7",{"$f":"E2325","v":1},2,1,2167007]
[null,2167008,1,"试炼167层普通怪8",{"$f":"E2326","v":1},2,1,2167008]
[null,2168000,2,"试炼168层boss",{"$f":"E2327","v":10},2,1,2168000]
[null,2168001,1,"试炼168层普通怪1",{"$f":"E2328","v":1},2,1,2168001]
[null,2168002,1,"试炼168层普通怪2",{"$f":"E2329","v":1},2,1,2168002]
[null,2168003,1,"试炼168层普通怪3",{"$f":"E2330","v":1},2,1,2168003]
[null,2168004,1,"试炼168层普通怪4",{"$f":"E2331","v":1},2,1,2168004]
[null,2168005,1,"试炼168层普通怪5",{"$f":"E2332","v":1},2,1,2168005]
[null,2168006,1,"试炼168层普通怪6",{"$f":"E2333","v":1},2,1,2168006]
[null,2168007,1,"试炼168层普通怪7",{"$f":"E2334","v":1},2,1,2168007]
[null,2168008,1,"试炼168层普通怪8",{"$f":"E2335","v":1},2,1,2168008]
[null,2169000,2,"试炼169层boss",{"$f":"E2336","v":10},2,1,2169000]
[null,2169001,1,"试炼169层普通怪1",{"$f":"E2337","v":1},2,1,2169001]
[null,2169002,1,"试炼169层普通怪2",{"$f":"E2338","v":1},2,1,2169002]
[null,2169003,1,"试炼169层普通怪3",{"$f":"E2339","v":1},2,1,2169003]
[null,2169004,1,"试炼169层普通怪4",{"$f":"E2340","v":1},2,1,2169004]
[null,2169005,1,"试炼169层普通怪5",{"$f":"E2341","v":1},2,1,2169005]
[null,2169006,1,"试炼169层普通怪6",{"$f":"E2342","v":1},2,1,2169006]
[null,2169007,1,"试炼169层普通怪7",{"$f":"E2343","v":1},2,1,2169007]
[null,2169008,1,"试炼169层普通怪8",{"$f":"E2344","v":1},2,1,2169008]
[null,2170000,2,"试炼170层boss",{"$f":"E2345","v":10},2,1,2170000]
[null,2170001,1,"试炼170层普通怪1",{"$f":"E2346","v":1},2,1,2170001]
[null,2170002,1,"试炼170层普通怪2",{"$f":"E2347","v":1},2,1,2170002]
[null,2170003,1,"试炼170层普通怪3",{"$f":"E2348","v":1},2,1,2170003]
[null,2170004,1,"试炼170层普通怪4",{"$f":"E2349","v":1},2,1,2170004]
[null,2170005,1,"试炼170层普通怪5",{"$f":"E2350","v":1},2,1,2170005]
[null,2170006,1,"试炼170层普通怪6",{"$f":"E2351","v":1},2,1,2170006]
[null,2170007,1,"试炼170层普通怪7",{"$f":"E2352","v":1},2,1,2170007]
[null,2170008,1,"试炼170层普通怪8",{"$f":"E2353","v":1},2,1,2170008]
[null,2171000,2,"试炼171层boss",{"$f":"E2354","v":10},2,1,2171000]
[null,2171001,1,"试炼171层普通怪1",{"$f":"E2355","v":1},2,1,2171001]
[null,2171002,1,"试炼171层普通怪2",{"$f":"E2356","v":1},2,1,2171002]
[null,2171003,1,"试炼171层普通怪3",{"$f":"E2357","v":1},2,1,2171003]
[null,2171004,1,"试炼171层普通怪4",{"$f":"E2358","v":1},2,1,2171004]
[null,2171005,1,"试炼171层普通怪5",{"$f":"E2359","v":1},2,1,2171005]
[null,2171006,1,"试炼171层普通怪6",{"$f":"E2360","v":1},2,1,2171006]
[null,2171007,1,"试炼171层普通怪7",{"$f":"E2361","v":1},2,1,2171007]
[null,2171008,1,"试炼171层普通怪8",{"$f":"E2362","v":1},2,1,2171008]
[null,2172000,2,"试炼172层boss",{"$f":"E2363","v":10},2,1,2172000]
[null,2172001,1,"试炼172层普通怪1",{"$f":"E2364","v":1},2,1,2172001]
[null,2172002,1,"试炼172层普通怪2",{"$f":"E2365","v":1},2,1,2172002]
[null,2172003,1,"试炼172层普通怪3",{"$f":"E2366","v":1},2,1,2172003]
[null,2172004,1,"试炼172层普通怪4",{"$f":"E2367","v":1},2,1,2172004]
[null,2172005,1,"试炼172层普通怪5",{"$f":"E2368","v":1},2,1,2172005]
[null,2172006,1,"试炼172层普通怪6",{"$f":"E2369","v":1},2,1,2172006]
[null,{"$f":"B2370+1000","v":2172007},{"$f":"C2370","v":1},"试炼172层普通怪7",{"$f":"E2370","v":1},2,1,{"$f":"H2370+1000","v":2172007}]
[null,2172008,1,"试炼172层普通怪8",{"$f":"E2371","v":1},2,1,2172008]
[null,2173000,2,"试炼173层boss",{"$f":"E2372","v":10},2,1,2173000]
[null,2173001,1,"试炼173层普通怪1",{"$f":"E2373","v":1},2,1,2173001]
[null,2173002,1,"试炼173层普通怪2",{"$f":"E2374","v":1},2,1,2173002]
[null,2173003,1,"试炼173层普通怪3",{"$f":"E2375","v":1},2,1,2173003]
[null,2173004,1,"试炼173层普通怪4",{"$f":"E2376","v":1},2,1,2173004]
[null,2173005,1,"试炼173层普通怪5",{"$f":"E2377","v":1},2,1,2173005]
[null,2173006,1,"试炼173层普通怪6",{"$f":"E2378","v":1},2,1,2173006]
[null,2173007,1,"试炼173层普通怪7",{"$f":"E2379","v":1},2,1,2173007]
[null,2173008,1,"试炼173层普通怪8",{"$f":"E2380","v":1},2,1,2173008]
[null,2174000,2,{"$f":"\"试炼\"&INT(MID(B2390,2,3))&\"层\"&IF(INT(RIGHT(B2390,1))=0,\"boss\",\"普通怪\"&RIGHT(B2390,1))","v":"试炼174层boss"},{"$f":"E2381","v":10},2,1,2174000]
[null,2174001,1,"试炼174层普通怪1",{"$f":"E2382","v":1},2,1,2174001]
[null,2174002,1,"试炼174层普通怪2",{"$f":"E2383","v":1},2,1,2174002]
[null,2174003,1,"试炼174层普通怪3",{"$f":"E2384","v":1},2,1,2174003]
[null,2174004,1,"试炼174层普通怪4",{"$f":"E2385","v":1},2,1,2174004]
[null,2174005,1,"试炼174层普通怪5",{"$f":"E2386","v":1},2,1,2174005]
[null,2174006,1,"试炼174层普通怪6",{"$f":"E2387","v":1},2,1,2174006]
[null,2174007,1,"试炼174层普通怪7",{"$f":"E2388","v":1},2,1,2174007]
[null,2174008,1,"试炼174层普通怪8",{"$f":"E2389","v":1},2,1,2174008]
[null,2175000,2,"试炼175层boss",{"$f":"E2390","v":10},2,1,2175000]
[null,2175001,1,"试炼175层普通怪1",{"$f":"E2391","v":1},2,1,2175001]
[null,2175002,1,"试炼175层普通怪2",{"$f":"E2392","v":1},2,1,2175002]
[null,2175003,1,"试炼175层普通怪3",{"$f":"E2393","v":1},2,1,2175003]
[null,2175004,1,"试炼175层普通怪4",{"$f":"E2394","v":1},2,1,2175004]
[null,2175005,1,"试炼175层普通怪5",{"$f":"E2395","v":1},2,1,2175005]
[null,2175006,1,"试炼175层普通怪6",{"$f":"E2396","v":1},2,1,2175006]
[null,2175007,1,"试炼175层普通怪7",{"$f":"E2397","v":1},2,1,2175007]
[null,2175008,1,"试炼175层普通怪8",{"$f":"E2398","v":1},2,1,2175008]
[null,2176000,2,"试炼176层boss",{"$f":"E2399","v":10},2,1,2176000]
[null,2176001,1,"试炼176层普通怪1",{"$f":"E2400","v":1},2,1,2176001]
[null,2176002,1,"试炼176层普通怪2",{"$f":"E2401","v":1},2,1,2176002]
[null,2176003,1,"试炼176层普通怪3",{"$f":"E2402","v":1},2,1,2176003]
[null,2176004,1,"试炼176层普通怪4",{"$f":"E2403","v":1},2,1,2176004]
[null,2176005,1,"试炼176层普通怪5",{"$f":"E2404","v":1},2,1,2176005]
[null,2176006,1,"试炼176层普通怪6",{"$f":"E2405","v":1},2,1,2176006]
[null,2176007,1,"试炼176层普通怪7",{"$f":"E2406","v":1},2,1,2176007]
[null,2176008,1,"试炼176层普通怪8",{"$f":"E2407","v":1},2,1,2176008]
[null,2177000,2,"试炼177层boss",{"$f":"E2408","v":10},2,1,2177000]
[null,2177001,1,"试炼177层普通怪1",{"$f":"E2409","v":1},2,1,2177001]
[null,2177002,1,"试炼177层普通怪2",{"$f":"E2410","v":1},2,1,2177002]
[null,2177003,1,"试炼177层普通怪3",{"$f":"E2411","v":1},2,1,2177003]
[null,2177004,1,"试炼177层普通怪4",{"$f":"E2412","v":1},2,1,2177004]
[null,2177005,1,"试炼177层普通怪5",{"$f":"E2413","v":1},2,1,2177005]
[null,2177006,1,"试炼177层普通怪6",{"$f":"E2414","v":1},2,1,2177006]
[null,2177007,1,"试炼177层普通怪7",{"$f":"E2415","v":1},2,1,2177007]
[null,2177008,1,"试炼177层普通怪8",{"$f":"E2416","v":1},2,1,2177008]
[null,2178000,2,"试炼178层boss",{"$f":"E2417","v":10},2,1,2178000]
[null,2178001,1,"试炼178层普通怪1",{"$f":"E2418","v":1},2,1,2178001]
[null,2178002,1,"试炼178层普通怪2",{"$f":"E2419","v":1},2,1,2178002]
[null,2178003,1,"试炼178层普通怪3",{"$f":"E2420","v":1},2,1,2178003]
[null,2178004,1,"试炼178层普通怪4",{"$f":"E2421","v":1},2,1,2178004]
[null,2178005,1,"试炼178层普通怪5",{"$f":"E2422","v":1},2,1,2178005]
[null,2178006,1,"试炼178层普通怪6",{"$f":"E2423","v":1},2,1,2178006]
[null,2178007,1,"试炼178层普通怪7",{"$f":"E2424","v":1},2,1,2178007]
[null,2178008,1,"试炼178层普通怪8",{"$f":"E2425","v":1},2,1,2178008]
[null,2179000,2,"试炼179层boss",{"$f":"E2426","v":10},2,1,2179000]
[null,2179001,1,"试炼179层普通怪1",{"$f":"E2427","v":1},2,1,2179001]
[null,2179002,1,"试炼179层普通怪2",{"$f":"E2428","v":1},2,1,2179002]
[null,2179003,1,"试炼179层普通怪3",{"$f":"E2429","v":1},2,1,2179003]
[null,2179004,1,"试炼179层普通怪4",{"$f":"E2430","v":1},2,1,2179004]
[null,2179005,1,"试炼179层普通怪5",{"$f":"E2431","v":1},2,1,2179005]
[null,2179006,1,"试炼179层普通怪6",{"$f":"E2432","v":1},2,1,2179006]
[null,2179007,1,"试炼179层普通怪7",{"$f":"E2433","v":1},2,1,2179007]
[null,{"$f":"B2434+1000","v":2179008},{"$f":"C2434","v":1},"试炼179层普通怪8",{"$f":"E2434","v":1},2,1,{"$f":"H2434+1000","v":2179008}]
[null,2180000,2,"试炼180层boss",{"$f":"E2435","v":10},2,1,2180000]
[null,2180001,1,"试炼180层普通怪1",{"$f":"E2436","v":1},2,1,2180001]
[null,2180002,1,"试炼180层普通怪2",{"$f":"E2437","v":1},2,1,2180002]
[null,2180003,1,"试炼180层普通怪3",{"$f":"E2438","v":1},2,1,2180003]
[null,2180004,1,"试炼180层普通怪4",{"$f":"E2439","v":1},2,1,2180004]
[null,2180005,1,"试炼180层普通怪5",{"$f":"E2440","v":1},2,1,2180005]
[null,2180006,1,"试炼180层普通怪6",{"$f":"E2441","v":1},2,1,2180006]
[null,2180007,1,"试炼180层普通怪7",{"$f":"E2442","v":1},2,1,2180007]
[null,2180008,1,"试炼180层普通怪8",{"$f":"E2443","v":1},2,1,2180008]
[null,2181000,2,"试炼181层boss",{"$f":"E2444","v":10},2,1,2181000]
[null,2181001,1,{"$f":"\"试炼\"&INT(MID(B2454,2,3))&\"层\"&IF(INT(RIGHT(B2454,1))=0,\"boss\",\"普通怪\"&RIGHT(B2454,1))","v":"试炼181层普通怪1"},{"$f":"E2445","v":1},2,1,2181001]
[null,2181002,1,"试炼181层普通怪2",{"$f":"E2446","v":1},2,1,2181002]
[null,2181003,1,"试炼181层普通怪3",{"$f":"E2447","v":1},2,1,2181003]
[null,2181004,1,"试炼181层普通怪4",{"$f":"E2448","v":1},2,1,2181004]
[null,2181005,1,"试炼181层普通怪5",{"$f":"E2449","v":1},2,1,2181005]
[null,2181006,1,"试炼181层普通怪6",{"$f":"E2450","v":1},2,1,2181006]
[null,2181007,1,"试炼181层普通怪7",{"$f":"E2451","v":1},2,1,2181007]
[null,2181008,1,"试炼181层普通怪8",{"$f":"E2452","v":1},2,1,2181008]
[null,2182000,2,"试炼182层boss",{"$f":"E2453","v":10},2,1,2182000]
[null,2182001,1,"试炼182层普通怪1",{"$f":"E2454","v":1},2,1,2182001]
[null,2182002,1,"试炼182层普通怪2",{"$f":"E2455","v":1},2,1,2182002]
[null,2182003,1,"试炼182层普通怪3",{"$f":"E2456","v":1},2,1,2182003]
[null,2182004,1,"试炼182层普通怪4",{"$f":"E2457","v":1},2,1,2182004]
[null,2182005,1,"试炼182层普通怪5",{"$f":"E2458","v":1},2,1,2182005]
[null,2182006,1,"试炼182层普通怪6",{"$f":"E2459","v":1},2,1,2182006]
[null,2182007,1,"试炼182层普通怪7",{"$f":"E2460","v":1},2,1,2182007]
[null,2182008,1,"试炼182层普通怪8",{"$f":"E2461","v":1},2,1,2182008]
[null,2183000,2,"试炼183层boss",{"$f":"E2462","v":10},2,1,2183000]
[null,2183001,1,"试炼183层普通怪1",{"$f":"E2463","v":1},2,1,2183001]
[null,2183002,1,"试炼183层普通怪2",{"$f":"E2464","v":1},2,1,2183002]
[null,2183003,1,"试炼183层普通怪3",{"$f":"E2465","v":1},2,1,2183003]
[null,2183004,1,"试炼183层普通怪4",{"$f":"E2466","v":1},2,1,2183004]
[null,2183005,1,"试炼183层普通怪5",{"$f":"E2467","v":1},2,1,2183005]
[null,2183006,1,"试炼183层普通怪6",{"$f":"E2468","v":1},2,1,2183006]
[null,2183007,1,"试炼183层普通怪7",{"$f":"E2469","v":1},2,1,2183007]
[null,2183008,1,"试炼183层普通怪8",{"$f":"E2470","v":1},2,1,2183008]
[null,2184000,2,"试炼184层boss",{"$f":"E2471","v":10},2,1,2184000]
[null,2184001,1,"试炼184层普通怪1",{"$f":"E2472","v":1},2,1,2184001]
[null,2184002,1,"试炼184层普通怪2",{"$f":"E2473","v":1},2,1,2184002]
[null,2184003,1,"试炼184层普通怪3",{"$f":"E2474","v":1},2,1,2184003]
[null,2184004,1,"试炼184层普通怪4",{"$f":"E2475","v":1},2,1,2184004]
[null,2184005,1,"试炼184层普通怪5",{"$f":"E2476","v":1},2,1,2184005]
[null,2184006,1,"试炼184层普通怪6",{"$f":"E2477","v":1},2,1,2184006]
[null,2184007,1,"试炼184层普通怪7",{"$f":"E2478","v":1},2,1,2184007]
[null,2184008,1,"试炼184层普通怪8",{"$f":"E2479","v":1},2,1,2184008]
[null,2185000,2,"试炼185层boss",{"$f":"E2480","v":10},2,1,2185000]
[null,2185001,1,"试炼185层普通怪1",{"$f":"E2481","v":1},2,1,2185001]
[null,2185002,1,"试炼185层普通怪2",{"$f":"E2482","v":1},2,1,2185002]
[null,2185003,1,"试炼185层普通怪3",{"$f":"E2483","v":1},2,1,2185003]
[null,2185004,1,"试炼185层普通怪4",{"$f":"E2484","v":1},2,1,2185004]
[null,2185005,1,"试炼185层普通怪5",{"$f":"E2485","v":1},2,1,2185005]
[null,2185006,1,"试炼185层普通怪6",{"$f":"E2486","v":1},2,1,2185006]
[null,2185007,1,"试炼185层普通怪7",{"$f":"E2487","v":1},2,1,2185007]
[null,2185008,1,"试炼185层普通怪8",{"$f":"E2488","v":1},2,1,2185008]
[null,2186000,2,"试炼186层boss",{"$f":"E2489","v":10},2,1,2186000]
[null,2186001,1,"试炼186层普通怪1",{"$f":"E2490","v":1},2,1,2186001]
[null,2186002,1,"试炼186层普通怪2",{"$f":"E2491","v":1},2,1,2186002]
[null,2186003,1,"试炼186层普通怪3",{"$f":"E2492","v":1},2,1,2186003]
[null,2186004,1,"试炼186层普通怪4",{"$f":"E2493","v":1},2,1,2186004]
[null,2186005,1,"试炼186层普通怪5",{"$f":"E2494","v":1},2,1,2186005]
[null,2186006,1,"试炼186层普通怪6",{"$f":"E2495","v":1},2,1,2186006]
[null,2186007,1,"试炼186层普通怪7",{"$f":"E2496","v":1},2,1,2186007]
[null,2186008,1,"试炼186层普通怪8",{"$f":"E2497","v":1},2,1,2186008]
[null,{"$f":"B2498+1000","v":2187000},{"$f":"C2498","v":2},"试炼187层boss",{"$f":"E2498","v":10},2,1,{"$f":"H2498+1000","v":2187000}]
[null,2187001,1,"试炼187层普通怪1",{"$f":"E2499","v":1},2,1,2187001]
[null,2187002,1,"试炼187层普通怪2",{"$f":"E2500","v":1},2,1,2187002]
[null,2187003,1,"试炼187层普通怪3",{"$f":"E2501","v":1},2,1,2187003]
[null,2187004,1,"试炼187层普通怪4",{"$f":"E2502","v":1},2,1,2187004]
[null,2187005,1,"试炼187层普通怪5",{"$f":"E2503","v":1},2,1,2187005]
[null,2187006,1,"试炼187层普通怪6",{"$f":"E2504","v":1},2,1,2187006]
[null,2187007,1,"试炼187层普通怪7",{"$f":"E2505","v":1},2,1,2187007]
[null,2187008,1,"试炼187层普通怪8",{"$f":"E2506","v":1},2,1,2187008]
[null,2188000,2,"试炼188层boss",{"$f":"E2507","v":10},2,1,2188000]
[null,2188001,1,"试炼188层普通怪1",{"$f":"E2508","v":1},2,1,2188001]
[null,2188002,1,{"$f":"\"试炼\"&INT(MID(B2518,2,3))&\"层\"&IF(INT(RIGHT(B2518,1))=0,\"boss\",\"普通怪\"&RIGHT(B2518,1))","v":"试炼188层普通怪2"},{"$f":"E2509","v":1},2,1,2188002]
[null,2188003,1,"试炼188层普通怪3",{"$f":"E2510","v":1},2,1,2188003]
[null,2188004,1,"试炼188层普通怪4",{"$f":"E2511","v":1},2,1,2188004]
[null,2188005,1,"试炼188层普通怪5",{"$f":"E2512","v":1},2,1,2188005]
[null,2188006,1,"试炼188层普通怪6",{"$f":"E2513","v":1},2,1,2188006]
[null,2188007,1,"试炼188层普通怪7",{"$f":"E2514","v":1},2,1,2188007]
[null,2188008,1,"试炼188层普通怪8",{"$f":"E2515","v":1},2,1,2188008]
[null,2189000,2,"试炼189层boss",{"$f":"E2516","v":10},2,1,2189000]
[null,2189001,1,"试炼189层普通怪1",{"$f":"E2517","v":1},2,1,2189001]
[null,2189002,1,"试炼189层普通怪2",{"$f":"E2518","v":1},2,1,2189002]
[null,2189003,1,"试炼189层普通怪3",{"$f":"E2519","v":1},2,1,2189003]
[null,2189004,1,"试炼189层普通怪4",{"$f":"E2520","v":1},2,1,2189004]
[null,2189005,1,"试炼189层普通怪5",{"$f":"E2521","v":1},2,1,2189005]
[null,2189006,1,"试炼189层普通怪6",{"$f":"E2522","v":1},2,1,2189006]
[null,2189007,1,"试炼189层普通怪7",{"$f":"E2523","v":1},2,1,2189007]
[null,2189008,1,"试炼189层普通怪8",{"$f":"E2524","v":1},2,1,2189008]
[null,2190000,2,"试炼190层boss",{"$f":"E2525","v":10},2,1,2190000]
[null,2190001,1,"试炼190层普通怪1",{"$f":"E2526","v":1},2,1,2190001]
[null,2190002,1,"试炼190层普通怪2",{"$f":"E2527","v":1},2,1,2190002]
[null,2190003,1,"试炼190层普通怪3",{"$f":"E2528","v":1},2,1,2190003]
[null,2190004,1,"试炼190层普通怪4",{"$f":"E2529","v":1},2,1,2190004]
[null,2190005,1,"试炼190层普通怪5",{"$f":"E2530","v":1},2,1,2190005]
[null,2190006,1,"试炼190层普通怪6",{"$f":"E2531","v":1},2,1,2190006]
[null,2190007,1,"试炼190层普通怪7",{"$f":"E2532","v":1},2,1,2190007]
[null,2190008,1,"试炼190层普通怪8",{"$f":"E2533","v":1},2,1,2190008]
[null,2191000,2,"试炼191层boss",{"$f":"E2534","v":10},2,1,2191000]
[null,2191001,1,"试炼191层普通怪1",{"$f":"E2535","v":1},2,1,2191001]
[null,2191002,1,"试炼191层普通怪2",{"$f":"E2536","v":1},2,1,2191002]
[null,2191003,1,"试炼191层普通怪3",{"$f":"E2537","v":1},2,1,2191003]
[null,2191004,1,"试炼191层普通怪4",{"$f":"E2538","v":1},2,1,2191004]
[null,2191005,1,"试炼191层普通怪5",{"$f":"E2539","v":1},2,1,2191005]
[null,2191006,1,"试炼191层普通怪6",{"$f":"E2540","v":1},2,1,2191006]
[null,2191007,1,"试炼191层普通怪7",{"$f":"E2541","v":1},2,1,2191007]
[null,2191008,1,"试炼191层普通怪8",{"$f":"E2542","v":1},2,1,2191008]
[null,2192000,2,"试炼192层boss",{"$f":"E2543","v":10},2,1,2192000]
[null,2192001,1,"试炼192层普通怪1",{"$f":"E2544","v":1},2,1,2192001]
[null,2192002,1,"试炼192层普通怪2",{"$f":"E2545","v":1},2,1,2192002]
[null,2192003,1,"试炼192层普通怪3",{"$f":"E2546","v":1},2,1,2192003]
[null,2192004,1,"试炼192层普通怪4",{"$f":"E2547","v":1},2,1,2192004]
[null,2192005,1,"试炼192层普通怪5",{"$f":"E2548","v":1},2,1,2192005]
[null,2192006,1,"试炼192层普通怪6",{"$f":"E2549","v":1},2,1,2192006]
[null,2192007,1,"试炼192层普通怪7",{"$f":"E2550","v":1},2,1,2192007]
[null,2192008,1,"试炼192层普通怪8",{"$f":"E2551","v":1},2,1,2192008]
[null,2193000,2,"试炼193层boss",{"$f":"E2552","v":10},2,1,2193000]
[null,2193001,1,"试炼193层普通怪1",{"$f":"E2553","v":1},2,1,2193001]
[null,2193002,1,"试炼193层普通怪2",{"$f":"E2554","v":1},2,1,2193002]
[null,2193003,1,"试炼193层普通怪3",{"$f":"E2555","v":1},2,1,2193003]
[null,2193004,1,"试炼193层普通怪4",{"$f":"E2556","v":1},2,1,2193004]
[null,2193005,1,"试炼193层普通怪5",{"$f":"E2557","v":1},2,1,2193005]
[null,2193006,1,"试炼193层普通怪6",{"$f":"E2558","v":1},2,1,2193006]
[null,2193007,1,"试炼193层普通怪7",{"$f":"E2559","v":1},2,1,2193007]
[null,2193008,1,"试炼193层普通怪8",{"$f":"E2560","v":1},2,1,2193008]
[null,2194000,2,"试炼194层boss",{"$f":"E2561","v":10},2,1,2194000]
[null,{"$f":"B2562+1000","v":2194001},{"$f":"C2562","v":1},"试炼194层普通怪1",{"$f":"E2562","v":1},2,1,{"$f":"H2562+1000","v":2194001}]
[null,2194002,1,"试炼194层普通怪2",{"$f":"E2563","v":1},2,1,2194002]
[null,2194003,1,"试炼194层普通怪3",{"$f":"E2564","v":1},2,1,2194003]
[null,2194004,1,"试炼194层普通怪4",{"$f":"E2565","v":1},2,1,2194004]
[null,2194005,1,"试炼194层普通怪5",{"$f":"E2566","v":1},2,1,2194005]
[null,2194006,1,"试炼194层普通怪6",{"$f":"E2567","v":1},2,1,2194006]
[null,2194007,1,"试炼194层普通怪7",{"$f":"E2568","v":1},2,1,2194007]
[null,2194008,1,"试炼194层普通怪8",{"$f":"E2569","v":1},2,1,2194008]
[null,2195000,2,"试炼195层boss",{"$f":"E2570","v":10},2,1,2195000]
[null,2195001,1,"试炼195层普通怪1",{"$f":"E2571","v":1},2,1,2195001]
[null,2195002,1,"试炼195层普通怪2",{"$f":"E2572","v":1},2,1,2195002]
[null,2195003,1,{"$f":"\"试炼\"&INT(MID(B2582,2,3))&\"层\"&IF(INT(RIGHT(B2582,1))=0,\"boss\",\"普通怪\"&RIGHT(B2582,1))","v":"试炼195层普通怪3"},{"$f":"E2573","v":1},2,1,2195003]
[null,2195004,1,"试炼195层普通怪4",{"$f":"E2574","v":1},2,1,2195004]
[null,2195005,1,"试炼195层普通怪5",{"$f":"E2575","v":1},2,1,2195005]
[null,2195006,1,"试炼195层普通怪6",{"$f":"E2576","v":1},2,1,2195006]
[null,2195007,1,"试炼195层普通怪7",{"$f":"E2577","v":1},2,1,2195007]
[null,2195008,1,"试炼195层普通怪8",{"$f":"E2578","v":1},2,1,2195008]
[null,2196000,2,"试炼196层boss",{"$f":"E2579","v":10},2,1,2196000]
[null,2196001,1,"试炼196层普通怪1",{"$f":"E2580","v":1},2,1,2196001]
[null,2196002,1,"试炼196层普通怪2",{"$f":"E2581","v":1},2,1,2196002]
[null,2196003,1,"试炼196层普通怪3",{"$f":"E2582","v":1},2,1,2196003]
[null,2196004,1,"试炼196层普通怪4",{"$f":"E2583","v":1},2,1,2196004]
[null,2196005,1,"试炼196层普通怪5",{"$f":"E2584","v":1},2,1,2196005]
[null,2196006,1,"试炼196层普通怪6",{"$f":"E2585","v":1},2,1,2196006]
[null,2196007,1,"试炼196层普通怪7",{"$f":"E2586","v":1},2,1,2196007]
[null,2196008,1,"试炼196层普通怪8",{"$f":"E2587","v":1},2,1,2196008]
[null,2197000,2,"试炼197层boss",{"$f":"E2588","v":10},2,1,2197000]
[null,2197001,1,"试炼197层普通怪1",{"$f":"E2589","v":1},2,1,2197001]
[null,2197002,1,"试炼197层普通怪2",{"$f":"E2590","v":1},2,1,2197002]
[null,2197003,1,"试炼197层普通怪3",{"$f":"E2591","v":1},2,1,2197003]
[null,2197004,1,"试炼197层普通怪4",{"$f":"E2592","v":1},2,1,2197004]
[null,2197005,1,"试炼197层普通怪5",{"$f":"E2593","v":1},2,1,2197005]
[null,2197006,1,"试炼197层普通怪6",{"$f":"E2594","v":1},2,1,2197006]
[null,2197007,1,"试炼197层普通怪7",{"$f":"E2595","v":1},2,1,2197007]
[null,2197008,1,"试炼197层普通怪8",{"$f":"E2596","v":1},2,1,2197008]
[null,2198000,2,"试炼198层boss",{"$f":"E2597","v":10},2,1,2198000]
[null,2198001,1,"试炼198层普通怪1",{"$f":"E2598","v":1},2,1,2198001]
[null,2198002,1,"试炼198层普通怪2",{"$f":"E2599","v":1},2,1,2198002]
[null,2198003,1,"试炼198层普通怪3",{"$f":"E2600","v":1},2,1,2198003]
[null,2198004,1,"试炼198层普通怪4",{"$f":"E2601","v":1},2,1,2198004]
[null,2198005,1,"试炼198层普通怪5",{"$f":"E2602","v":1},2,1,2198005]
[null,2198006,1,"试炼198层普通怪6",{"$f":"E2603","v":1},2,1,2198006]
[null,2198007,1,"试炼198层普通怪7",{"$f":"E2604","v":1},2,1,2198007]
[null,2198008,1,"试炼198层普通怪8",{"$f":"E2605","v":1},2,1,2198008]
[null,2199000,2,"试炼199层boss",{"$f":"E2606","v":10},2,1,2199000]
[null,2199001,1,"试炼199层普通怪1",{"$f":"E2607","v":1},2,1,2199001]
[null,2199002,1,"试炼199层普通怪2",{"$f":"E2608","v":1},2,1,2199002]
[null,2199003,1,"试炼199层普通怪3",{"$f":"E2609","v":1},2,1,2199003]
[null,2199004,1,"试炼199层普通怪4",{"$f":"E2610","v":1},2,1,2199004]
[null,2199005,1,"试炼199层普通怪5",{"$f":"E2611","v":1},2,1,2199005]
[null,2199006,1,"试炼199层普通怪6",{"$f":"E2612","v":1},2,1,2199006]
[null,2199007,1,"试炼199层普通怪7",{"$f":"E2613","v":1},2,1,2199007]
[null,2199008,1,"试炼199层普通怪8",{"$f":"E2614","v":1},2,1,2199008]
[null,2200000,2,"试炼200层boss",{"$f":"E2615","v":10},2,1,2200000]
[null,2200001,1,"试炼200层普通怪1",{"$f":"E2616","v":1},2,1,2200001]
[null,2200002,1,"试炼200层普通怪2",{"$f":"E2617","v":1},2,1,2200002]
[null,2200003,1,"试炼200层普通怪3",{"$f":"E2618","v":1},2,1,2200003]
[null,2200004,1,"试炼200层普通怪4",{"$f":"E2619","v":1},2,1,2200004]
[null,2200005,1,"试炼200层普通怪5",{"$f":"E2620","v":1},2,1,2200005]
[null,2200006,1,"试炼200层普通怪6",{"$f":"E2621","v":1},2,1,2200006]
[null,2200007,1,"试炼200层普通怪7",{"$f":"E2622","v":1},2,1,2200007]
[null,2200008,1,"试炼200层普通怪8",{"$f":"E2623","v":1},2,1,2200008]

{"sheet":"Sheet1","index":1,"n_rows":200,"n_cols":27,"rows_kept":200}
["2001001#100","2001002#100","2001003#100","2001004#100","2001005#100","2001006#100","2001007#100","2001008#100",null,null,{"$f":"--LEFT(A1,FIND(\"#\",A1,1)-1)","v":2001001},{"$f":"--LEFT(B1,FIND(\"#\",B1,1)-1)","v":2001002},2001003,2001004,2001005,2001006,2001007,2001008,null,{"$f":"VLOOKUP(K1,MapPointConfig!$B$833:$H$1732,7,FALSE)","v":2001001},{"$f":"VLOOKUP(L1,MapPointConfig!$B$833:$H$1732,7,FALSE)","v":2001002},{"$f":"VLOOKUP(M1,MapPointConfig!$B$833:$H$1732,7,FALSE)","v":2001003},{"$f":"VLOOKUP(N1,MapPointConfig!$B$833:$H$1732,7,FALSE)","v":2001004},{"$f":"VLOOKUP(O1,MapPointConfig!$B$833:$H$1732,7,FALSE)","v":2001005},{"$f":"VLOOKUP(P1,MapPointConfig!$B$833:$H$1732,7,FALSE)","v":2001006},{"$f":"VLOOKUP(Q1,MapPointConfig!$B$833:$H$1732,7,FALSE)","v":2001007},{"$f":"VLOOKUP(R1,MapPointConfig!$B$833:$H$1732,7,FALSE)","v":2001008}]
["2002001#100","2002002#100","2002003#100","2002004#100","2002005#100","2002006#100","2002007#100","2002008#100",null,null,{"$f":"--LEFT(A2,FIND(\"#\",A2,1)-1)","v":2002001},{"$f":"--LEFT(B2,FIND(\"#\",B2,1)-1)","v":2002002},{"$f":"--LEFT(C2,FIND(\"#\",C2,1)-1)","v":2002003},{"$f":"--LEFT(D2,FIND(\"#\",D2,1)-1)","v":2002004},{"$f":"--LEFT(E2,FIND(\"#\",E2,1)-1)","v":2002005},{"$f":"--LEFT(F2,FIND(\"#\",F2,1)-1)","v":2002006},{"$f":"--LEFT(G2,FIND(\"#\",G2,1)-1)","v":2002007},{"$f":"--LEFT(H2,FIND(\"#\",H2,1)-1)","v":2002008},null,{"$f":"VLOOKUP(K2,MapPointConfig!$B$833:$H$1732,7,FALSE)","v":2002001},{"$f":"VLOOKUP(L2,MapPointConfig!$B$833:$H$1732,7,FALSE)","v":2002002},{"$f":"VLOOKUP(M2,MapPointConfig!$B$833:$H$1732,7,FALSE)","v":2002003},{"$f":"VLOOKUP(N2,MapPointConfig!$B$833:$H$1732,7,FALSE)","v":2002004},{"$f":"VLOOKUP(O2,MapPointConfig!$B$833:$H$1732,7,FALSE)","v":2002005},{"$f":"VLOOKUP(P2,MapPointConfig!$B$833:$H$1732,7,FALSE)","v":2002006},{"$f":"VLOOKUP(Q2,MapPointConfig!$B$833:$H$1732,7,FALSE)","v":2002007},{"$f":"VLOOKUP(R2,MapPointConfig!$B$833:$H$1732,7,FALSE)","v":2002008}]
["2003001#100","2003002#100","2003003#100","2003004#100","2003005#100","2003006#100","2003007#100","2003008#100",null,null,2003001,2003002,2003003,2003004,2003005,2003006,2003007,2003008,null,{"$f":"VLOOKUP(K3,MapPointConfig!$B$833:$H$1732,7,FALSE)","v":2003001},{"$f":"VLOOKUP(L3,MapPointConfig!$B$833:$H$1732,7,FALSE)","v":2003002},{"$f":"VLOOKUP(M3,MapPointConfig!$B$833:$H$1732,7,FALSE)","v":2003003},{"$f":"VLOOKUP(N3,MapPointConfig!$B$833:$H$1732,7,FALSE)","v":2003004},{"$f":"VLOOKUP(O3,MapPointConfig!$B$833:$H$1732,7,FALSE)","v":2003005},{"$f":"VLOOKUP(P3,MapPointConfig!$B$833:$H$1732,7,FALSE)","v":2003006},{"$f":"VLOOKUP(Q3,MapPointConfig!$B$833:$H$1732,7,FALSE)","v":2003007},{"$f":"VLOOKUP(R3,MapPointConfig!$B$833:$H$1732,7,FALSE)","v":2003008}]
["2004001#100","2004002#100","2004003#100","2004004#100","2004005#100","2004006#100","2004007#100","2004008#100",null,null,2004001,2004002,2004003,2004004,2004005,2004006,2004007,2004008,null,{"$f":"VLOOKUP(K4,MapPointConfig!$B$833:$H$1732,7,FALSE)","v":2004001},{"$f":"VLOOKUP(L4,MapPointConfig!$B$833:$H$1732,7,FALSE)","v":2004002},{"$f":"VLOOKUP(M4,MapPointConfig!$B$833:$H$1732,7,FALSE)","v":2004003},{"$f":"VLOOKUP(N4,MapPointConfig!$B$833:$H$1732,7,FALSE)","v":2004004},{"$f":"VLOOKUP(O4,MapPointConfig!$B$833:$H$1732,7,FALSE)","v":2004005},{"$f":"VLOOKUP(P4,MapPointConfig!$B$833:$H$1732,7,FALSE)","v":2004006},{"$f":"VLOOKUP(Q4,MapPointConfig!$B$833:$H$1732,7,FALSE)","v":2004007},{"$f":"VLOOKUP(R4,MapPointConfig!$B$833:$H$1732,7,FALSE)","v":2004008}]
["2005001#100","2005002#100","2005003#100","2005004#100","2005005#100","2005006#100","2005007#100","2005008#100",null,null,2005001,2005002,2005003,2005004,2005005,2005006,2005007,2005008,null,{"$f":"VLOOKUP(K5,MapPointConfig!$B$833:$H$1732,7,FALSE)","v":2005001},{"$f":"VLOOKUP(L5,MapPointConfig!$B$833:$H$1732,7,FALSE)","v":2005002},{"$f":"VLOOKUP(M5,MapPointConfig!$B$833:$H$1732,7,FALSE)","v":2005003},{"$f":"VLOOKUP(N5,MapPointConfig!$B$833:$H$1732,7,FALSE)","v":2005004},{"$f":"VLOOKUP(O5,MapPointConfig!$B$833:$H$1732,7,FALSE)","v":2005005},{"$f":"VLOOKUP(P5,MapPointConfig!$B$833:$H$1732,7,FALSE)","v":2005006},{"$f":"VLOOKUP(Q5,MapPointConfig!$B$833:$H$1732,7,FALSE)","v":2005007},{"$f":"VLOOKUP(R5,MapPointConfig!$B$833:$H$1732,7,FALSE)","v":2005008}]
["2006001#100","2006002#100","2006003#100","2006004#100","2006005#100","2006006#100","2006007#100","2006008#100",null,null,2006001,2006002,2006003,2006004,2006005,2006006,2006007,2006008,null,{"$f":"VLOOKUP(K6,MapPointConfig!$B$833:$H$1732,7,FALSE)","v":2006001},{"$f":"VLOOKUP(L6,MapPointConfig!$B$833:$H$1732,7,FALSE)","v":2006002},{"$f":"VLOOKUP(M6,MapPointConfig!$B$833:$H$1732,7,FALSE)","v":2006003},{"$f":"VLOOKUP(N6,MapPointConfig!$B$833:$H$1732,7,FALSE)","v":2006004},{"$f":"VLOOKUP(O6,MapPointConfig!$B$833:$H$1732,7,FALSE)","v":2006005},{"$f":"VLOOKUP(P6,MapPointConfig!$B$833:$H$1732,7,FALSE)","v":2006006},{"$f":"VLOOKUP(Q6,MapPointConfig!$B$833:$H$1732,7,FALSE)","v":2006007},{"$f":"VLOOKUP(R6,MapPointConfig!$B$833:$H$1732,7,FALSE)","v":2006008}]
["2007001#100","2007002#100","2007003#100","2007004#100","2007005#100","2007006#100","2007007#100","2007008#100",null,null,2007001,2007002,2007003,2007004,2007005,2007006,2007007,2007008,null,{"$f":"VLOOKUP(K7,MapPointConfig!$B$833:$H$1732,7,FALSE)","v":2007001},{"$f":"VLOOKUP(L7,MapPointConfig!$B$833:$H$1732,7,FALSE)","v":2007002},{"$f":"VLOOKUP(M7,MapPointConfig!$B$833:$H$1732,7,FALSE)","v":2007003},{"$f":"VLOOKUP(N7,MapPointConfig!$B$833:$H$1732,7,FALSE)","v":2007004},{"$f":"VLOOKUP(O7,MapPointConfig!$B$833:$H$1732,7,FALSE)","v":2007005},{"$f":"VLOOKUP(P7,MapPointConfig!$B$833:$H$1732,7,FALSE)","v":2007006},{"$f":"VLOOKUP(Q7,MapPointConfig!$B$833:$H$1732,7,FALSE)","v":2007007},{"$f":"VLOOKUP(R7,MapPointConfig!$B$833:$H$1732,7,FALSE)","v":2007008}]
["2008001#100","2008002#100","2008003#100","2008004#100","2008005#100","2008006#100","2008007#100","2008008#100",null,null,2008001,2008002,2008003,2008004,2008005,2008006,2008007,2008008,null,{"$f":"VLOOKUP(K8,MapPointConfig!$B$833:$H$1732,7,FALSE)","v":2008001},{"$f":"VLOOKUP(L8,MapPointConfig!$B$833:$H$1732,7,FALSE)","v":2008002},{"$f":"VLOOKUP(M8,MapPointConfig!$B$833:$H$1732,7,FALSE)","v":2008003},{"$f":"VLOOKUP(N8,MapPointConfig!$B$833:$H$1732,7,FALSE)","v":2008004},{"$f":"VLOOKUP(O8,MapPointConfig!$B$833:$H$1732,7,FALSE)","v":2008005},{"$f":"VLOOKUP(P8,MapPointConfig!$B$833:$H$1732,7,FALSE)","v":2008006},{"$f":"VLOOKUP(Q8,MapPointConfig!$B$833:$H$1732,7,FALSE)","v":2008007},{"$f":"VLOOKUP(R8,MapPointConfig!$B$833:$H$1732,7,FALSE)","v":2008008}]
["2009001#100","2009002#100","2009003#100","2009004#100","2009005#100","2009006#100","2009007#100","2009008#100",null,null,2009001,2009002,2009003,2009004,2009005,2009006,2009007,2009008,null,{"$f":"VLOOKUP(K9,MapPointConfig!$B$833:$H$1732,7,FALSE)","v":2009001},{"$f":"VLOOKUP(L9,MapPointConfig!$B$833:$H$1732,7,FALSE)","v":2009002},{"$f":"VLOOKUP(M9,MapPointConfig!$B$833:$H$1732,7,FALSE)","v":2009003},{"$f":"VLOOKUP(N9,MapPointConfig!$B$833:$H$1732,7,FALSE)","v":2009004},{"$f":"VLOOKUP(O9,MapPointConfig!$B$833:$H$1732,7,FALSE)","v":2009005},{"$f":"VLOOKUP(P9,MapPointConfig!$B$833:$H$1732,7,FALSE)","v":2009006},{"$f":"VLOOKUP(Q9,MapPointConfig!$B$833:$H$1732,7,FALSE)","v":2009007},{"$f":"VLOOKUP(R9,MapPointConfig!$B$833:$H$1732,7,FALSE)","v":2009008}]
["2010001#100","2010002#100","2010003#100","2010004#100","2010005#100","2010006#100","2010007#100","2010008#100",null,null,2010001,2010002,2010003,2010004,2010005,2010006,2010007,2010008,null,{"$f":"VLOOKUP(K10,MapPointConfig!$B$833:$H$1732,7,FALSE)","v":2010001},{"$f":"VLOOKUP(L10,MapPointConfig!$B$833:$H$1732,7,FALSE)","v":2010002},{"$f":"VLOOKUP(M10,MapPointConfig!$B$833:$H$1732,7,FALSE)","v":2010003},{"$f":"VLOOKUP(N10,MapPointConfig!$B$833:$H$1732,7,FALSE)","v":2010004},{"$f":"VLOOKUP(O10,MapPointConfig!$B$833:$H$1732,7,FALSE)","v":2010005},{"$f":"VLOOKUP(P10,MapPointConfig!$B$833:$H$1732,7,FALSE)","v":2010006},{"$f":"VLOOKUP(Q10,MapPointConfig!$B$833:$H$1732,7,FALSE)","v":2010007},{"$f":"VLOOKUP(R10,MapPointConfig!$B$833:$H$1732,7,FALSE)","v":2010008}]
["2011001#100","2011002#100","2011003#100","2011004#100","2011005#100","2011006#100","2011007#100","2011008#100",null,null,2011001,2011002,2011003,2011004,2011005,2011006,2011007,2011008,null,{"$f":"VLOOKUP(K11,MapPointConfig!$B$833:$H$1732,7,FALSE)","v":2011001},{"$f":"VLOOKUP(L11,MapPointConfig!$B$833:$H$1732,7,FALSE)","v":2011002},{"$f":"VLOOKUP(M11,MapPointConfig!$B$833:$H$1732,7,FALSE)","v":2011003},{"$f":"VLOOKUP(N11,MapPointConfig!$B$833:$H$1732,7,FALSE)","v":2011004},{"$f":"VLOOKUP(O11,MapPointConfig!$B$833:$H$1732,7,FALSE)","v":2011005},{"$f":"VLOOKUP(P11,MapPointConfig!$B$833:$H$1732,7,FALSE)","v":2011006},{"$f":"VLOOKUP(Q11,MapPointConfig!$B$833:$H$1732,7,FALSE)","v":2011007},{"$f":"VLOOKUP(R11,MapPointConfig!$B$833:$H$1732,7,FALSE)","v":2011008}]
["2012001#100","2012002#100","2012003#100","2012004#100","2012005#100","2012006#100","2012007#100","2012008#100",null,null,2012001,2012002,2012003,2012004,2012005,2012006,2012007,2012008,null,{"$f":"VLOOKUP(K12,MapPointConfig!$B$833:$H$1732,7,FALSE)","v":2012001},{"$f":"VLOOKUP(L12,MapPointConfig!$B$833:$H$1732,7,FALSE)","v":2012002},{"$f":"VLOOKUP(M12,MapPointConfig!$B$833:$H$1732,7,FALSE)","v":2012003},{"$f":"VLOOKUP(N12,MapPointConfig!$B$833:$H$1732,7,FALSE)","v":2012004},{"$f":"VLOOKUP(O12,MapPointConfig!$B$833:$H$1732,7,FALSE)","v":2012005},{"$f":"VLOOKUP(P12,MapPointConfig!$B$833:$H$1732,7,FALSE)","v":2012006},{"$f":"VLOOKUP(Q12,MapPointConfig!$B$833:$H$1732,7,FALSE)","v":2012007},{"$f":"VLOOKUP(R12,MapPointConfig!$B$833:$H$1732,7,FALSE)","v":2012008}]
["2013001#100","2013002#100","2013003#100","2013004#100","2013005#100","2013006#100","2013007#100","2013008#100",null,null,2013001,2013002,2013003,2013004,2013005,2013006,2013007,2013008,null,{"$f":"VLOOKUP(K13,MapPointConfig!$B$833:$H$1732,7,FALSE)","v":2013001},{"$f":"VLOOKUP(L13,MapPointConfig!$B$833:$H$1732,7,FALSE)","v":2013002},{"$f":"VLOOKUP(M13,MapPointConfig!$B$833:$H$1732,7,FALSE)","v":2013003},{"$f":"VLOOKUP(N13,MapPointConfig!$B$833:$H$1732,7,FALSE)","v":2013004},{"$f":"VLOOKUP(O13,MapPointConfig!$B$833:$H$1732,7,FALSE)","v":2013005},{"$f":"VLOOKUP(P13,MapPointConfig!$B$833:$H$1732,7,FALSE)","v":2013006},{"$f":"VLOOKUP(Q13,MapPointConfig!$B$833:$H$1732,7,FALSE)","v":2013007},{"$f":"VLOOKUP(R13,MapPointConfig!$B$833:$H$1732,7,FALSE)","v":2013008}]
["2014001#100","2014002#100","2014003#100","2014004#100","2014005#100","2014006#100","2014007#100","2014008#100",null,null,2014001,2014002,2014003,2014004,2014005,2014006,2014007,2014008,null,{"$f":"VLOOKUP(K14,MapPointConfig!$B$833:$H$1732,7,FALSE)","v":2014001},{"$f":"VLOOKUP(L14,MapPointConfig!$B$833:$H$1732,7,FALSE)","v":2014002},{"$f":"VLOOKUP(M14,MapPointConfig!$B$833:$H$1732,7,FALSE)","v":2014003},{"$f":"VLOOKUP(N14,MapPointConfig!$B$833:$H$1732,7,FALSE)","v":2014004},{"$f":"VLOOKUP(O14,MapPointConfig!$B$833:$H$1732,7,FALSE)","v":2014005},{"$f":"VLOOKUP(P14,MapPointConfig!$B$833:$H$1732,7,FALSE)","v":2014006},{"$f":"VLOOKUP(Q14,MapPointConfig!$B$833:$H$1732,7,FALSE)","v":2014007},{"$f":"VLOOKUP(R14,MapPointConfig!$B$833:$H$1732,7,FALSE)","v":2014008}]
["2015001#100","2015002#100","2015003#100","2015004#100","2015005#100","2015006#100","2015007#100","2015008#100",null,null,2015001,2015002,2015003,2015004,2015005,2015006,2015007,2015008,null,{"$f":"VLOOKUP(K15,MapPointConfig!$B$833:$H$1732,7,FALSE)","v":2015001},{"$f":"VLOOKUP(L15,MapPointConfig!$B$833:$H$1732,7,FALSE)","v":2015002},{"$f":"VLOOKUP(M15,MapPointConfig!$B$833:$H$1732,7,FALSE)","v":2015003},{"$f":"VLOOKUP(N15,MapPointConfig!$B$833:$H$1732,7,FALSE)","v":2015004},{"$f":"VLOOKUP(O15,MapPointConfig!$B$833:$H$1732,7,FALSE)","v":2015005},{"$f":"VLOOKUP(P15,MapPointConfig!$B$833:$H$1732,7,FALSE)","v":2015006},{"$f":"VLOOKUP(Q15,MapPointConfig!$B$833:$H$1732,7,FALSE)","v":2015007},{"$f":"VLOOKUP(R15,MapPointConfig!$B$833:$H$1732,7,FALSE)","v":2015008}]
["2016001#100","2016002#100","2016003#100","2016004#100","2016005#100","2016006#100","2016007#100","2016008#100",null,null,2016001,2016002,2016003,2016004,2016005,2016006,2016007,2016008,null,{"$f":"VLOOKUP(K16,MapPointConfig!$B$833:$H$1732,7,FALSE)","v":2016001},{"$f":"VLOOKUP(L16,MapPointConfig!$B$833:$H$1732,7,FALSE)","v":2016002},{"$f":"VLOOKUP(M16,MapPointConfig!$B$833:$H$1732,7,FALSE)","v":2016003},{"$f":"VLOOKUP(N16,MapPointConfig!$B$833:$H$1732,7,FALSE)","v":2016004},{"$f":"VLOOKUP(O16,MapPointConfig!$B$833:$H$1732,7,FALSE)","v":2016005},{"$f":"VLOOKUP(P16,MapPointConfig!$B$833:$H$1732,7,FALSE)","v":2016006},{"$f":"VLOOKUP(Q16,MapPointConfig!$B$833:$H$1732,7,FALSE)","v":2016007},{"$f":"VLOOKUP(R16,MapPointConfig!$B$833:$H$1732,7,FALSE)","v":2016008}]
["2017001#100","2017002#100","2017003#100","2017004#100","2017005#100","2017006#100","2017007#100","2017008#100",null,null,2017001,2017002,2017003,2017004,2017005,2017006,2017007,2017008,null,{"$f":"VLOOKUP(K17,MapPointConfig!$B$833:$H$1732,7,FALSE)","v":2017001},{"$f":"VLOOKUP(L17,MapPointConfig!$B$833:$H$1732,7,FALSE)","v":2017002},{"$f":"VLOOKUP(M17,MapPointConfig!$B$833:$H$1732,7,FALSE)","v":2017003},{"$f":"VLOOKUP(N17,MapPointConfig!$B$833:$H$1732,7,FALSE)","v":2017004},{"$f":"VLOOKUP(O17,MapPointConfig!$B$833:$H$1732,7,FALSE)","v":2017005},{"$f":"VLOOKUP(P17,MapPointConfig!$B$833:$H$1732,7,FALSE)","v":2017006},{"$f":"VLOOKUP(Q17,MapPointConfig!$B$833:$H$1732,7,FALSE)","v":2017007},{"$f":"VLOOKUP(R17,MapPointConfig!$B$833:$H$1732,7,FALSE)","v":2017008}]
["2018001#100","2018002#100","2018003#100","2018004#100","2018005#100","2018006#100","2018007#100","2018008#100",null,null,2018001,2018002,2018003,2018004,2018005,2018006,2018007,2018008,null,{"$f":"VLOOKUP(K18,MapPointConfig!$B$833:$H$1732,7,FALSE)","v":2018001},{"$f":"VLOOKUP(L18,MapPointConfig!$B$833:$H$1732,7,FALSE)","v":2018002},{"$f":"VLOOKUP(M18,MapPointConfig!$B$833:$H$1732,7,FALSE)","v":2018003},{"$f":"VLOOKUP(N18,MapPointConfig!$B$833:$H$1732,7,FALSE)","v":2018004},{"$f":"VLOOKUP(O18,MapPointConfig!$B$833:$H$1732,7,FALSE)","v":2018005},{"$f":"VLOOKUP(P18,MapPointConfig!$B$833:$H$1732,7,FALSE)","v":2018006},{"$f":"VLOOKUP(Q18,MapPointConfig!$B$833:$H$1732,7,FALSE)","v":2018007},{"$f":"VLOOKUP(R18,MapPointConfig!$B$833:$H$1732,7,FALSE)","v":2018008}]
["2019001#100","2019002#100","2019003#100","2019004#100","2019005#100","2019006#100","2019007#100","2019008#100",null,null,2019001,2019002,2019003,2019004,2019005,2019006,2019007,2019008,null,{"$f":"VLOOKUP(K19,MapPointConfig!$B$833:$H$1732,7,FALSE)","v":2019001},{"$f":"VLOOKUP(L19,MapPointConfig!$B$833:$H$1732,7,FALSE)","v":2019002},{"$f":"VLOOKUP(M19,MapPointConfig!$B$833:$H$1732,7,FALSE)","v":2019003},{"$f":"VLOOKUP(N19,MapPointConfig!$B$833:$H$1732,7,FALSE)","v":2019004},{"$f":"VLOOKUP(O19,MapPointConfig!$B$833:$H$1732,7,FALSE)","v":2019005},{"$f":"VLOOKUP(P19,MapPointConfig!$B$833:$H$1732,7,FALSE)","v":2019006},{"$f":"VLOOKUP(Q19,MapPointConfig!$B$833:$H$1732,7,FALSE)","v":2019007},{"$f":"VLOOKUP(R19,MapPointConfig!$B$833:$H$1732,7,FALSE)","v":2019008}]
["2020001#100","2020002#100","2020003#100","2020004#100","2020005#100","2020006#100","2020007#100","2020008#100",null,null,2020001,2020002,2020003,2020004,2020005,2020006,2020007,2020008,null,{"$f":"VLOOKUP(K20,MapPointConfig!$B$833:$H$1732,7,FALSE)","v":2020001},{"$f":"VLOOKUP(L20,MapPointConfig!$B$833:$H$1732,7,FALSE)","v":2020002},{"$f":"VLOOKUP(M20,MapPointConfig!$B$833:$H$1732,7,FALSE)","v":2020003},{"$f":"VLOOKUP(N20,MapPointConfig!$B$833:$H$1732,7,FALSE)","v":2020004},{"$f":"VLOOKUP(O20,MapPointConfig!$B$833:$H$1732,7,FALSE)","v":2020005},{"$f":"VLOOKUP(P20,MapPointConfig!$B$833:$H$1732,7,FALSE)","v":2020006},{"$f":"VLOOKUP(Q20,MapPointConfig!$B$833:$H$1732,7,FALSE)","v":2020007},{"$f":"VLOOKUP(R20,MapPointConfig!$B$833:$H$1732,7,FALSE)","v":2020008}]
["2021001#100","2021002#100","2021003#100","2021004#100","2021005#100","2021006#100","2021007#100","2021008#100",null,null,2021001,2021002,2021003,2021004,2021005,2021006,2021007,2021008,null,{"$f":"VLOOKUP(K21,MapPointConfig!$B$833:$H$1732,7,FALSE)","v":2021001},{"$f":"VLOOKUP(L21,MapPointConfig!$B$833:$H$1732,7,FALSE)","v":2021002},{"$f":"VLOOKUP(M21,MapPointConfig!$B$833:$H$1732,7,FALSE)","v":2021003},{"$f":"VLOOKUP(N21,MapPointConfig!$B$833:$H$1732,7,FALSE)","v":2021004},{"$f":"VLOOKUP(O21,MapPointConfig!$B$833:$H$1732,7,FALSE)","v":2021005},{"$f":"VLOOKUP(P21,MapPointConfig!$B$833:$H$1732,7,FALSE)","v":2021006},{"$f":"VLOOKUP(Q21,MapPointConfig!$B$833:$H$1732,7,FALSE)","v":2021007},{"$f":"VLOOKUP(R21,MapPointConfig!$B$833:$H$1732,7,FALSE)","v":2021008}]
["2022001#100","2022002#100","2022003#100","2022004#100","2022005#100","2022006#100","2022007#100","2022008#100",null,null,2022001,2022002,2022003,2022004,2022005,2022006,2022007,2022008,null,{"$f":"VLOOKUP(K22,MapPointConfig!$B$833:$H$1732,7,FALSE)","v":2022001},{"$f":"VLOOKUP(L22,MapPointConfig!$B$833:$H$1732,7,FALSE)","v":2022002},{"$f":"VLOOKUP(M22,MapPointConfig!$B$833:$H$1732,7,FALSE)","v":2022003},{"$f":"VLOOKUP(N22,MapPointConfig!$B$833:$H$1732,7,FALSE)","v":2022004},{"$f":"VLOOKUP(O22,MapPointConfig!$B$833:$H$1732,7,FALSE)","v":2022005},{"$f":"VLOOKUP(P22,MapPointConfig!$B$833:$H$1732,7,FALSE)","v":2022006},{"$f":"VLOOKUP(Q22,MapPointConfig!$B$833:$H$1732,7,FALSE)","v":2022007},{"$f":"VLOOKUP(R22,MapPointConfig!$B$833:$H$1732,7,FALSE)","v":2022008}]
["2023001#100","2023002#100","2023003#100","2023004#100","2023005#100","2023006#100","2023007#100","2023008#100",null,null,2023001,2023002,2023003,2023004,2023005,2023006,2023007,2023008,null,{"$f":"VLOOKUP(K23,MapPointConfig!$B$833:$H$1732,7,FALSE)","v":2023001},{"$f":"VLOOKUP(L23,MapPointConfig!$B$833:$H$1732,7,FALSE)","v":2023002},{"$f":"VLOOKUP(M23,MapPointConfig!$B$833:$H$1732,7,FALSE)","v":2023003},{"$f":"VLOOKUP(N23,MapPointConfig!$B$833:$H$1732,7,FALSE)","v":2023004},{"$f":"VLOOKUP(O23,MapPointConfig!$B$833:$H$1732,7,FALSE)","v":2023005},{"$f":"VLOOKUP(P23,MapPointConfig!$B$833:$H$1732,7,FALSE)","v":2023006},{"$f":"VLOOKUP(Q23,MapPointConfig!$B$833:$H$1732,7,FALSE)","v":2023007},{"$f":"VLOOKUP(R23,MapPointConfig!$B$833:$H$1732,7,FALSE)","v":2023008}]
["2024001#100","2024002#100","2024003#100","2024004#100","2024005#100","2024006#100","2024007#100","2024008#100",null,null,2024001,2024002,2024003,2024004,2024005,2024006,2024007,2024008,null,{"$f":"VLOOKUP(K24,MapPointConfig!$B$833:$H$1732,7,FALSE)","v":2024001},{"$f":"VLOOKUP(L24,MapPointConfig!$B$833:$H$1732,7,FALSE)","v":2024002},{"$f":"VLOOKUP(M24,MapPointConfig!$B$833:$H$1732,7,FALSE)","v":2024003},{"$f":"VLOOKUP(N24,MapPointConfig!$B$833:$H$1732,7,FALSE)","v":2024004},{"$f":"VLOOKUP(O24,MapPointConfig!$B$833:$H$1732,7,FALSE)","v":2024005},{"$f":"VLOOKUP(P24,MapPointConfig!$B$833:$H$1732,7,FALSE)","v":2024006},{"$f":"VLOOKUP(Q24,MapPointConfig!$B$833:$H$1732,7,FALSE)","v":2024007},{"$f":"VLOOKUP(R24,MapPointConfig!$B$833:$H$1732,7,FALSE)","v":2024008}]
["2025001#100","2025002#100","2025003#100","2025004#100","2025005#100","2025006#100","2025007#100","2025008#100",null,null,2025001,2025002,2025003,2025004,2025005,2025006,2025007,2025008,null,{"$f":"VLOOKUP(K25,MapPointConfig!$B$833:$H$1732,7,FALSE)","v":2025001},{"$f":"VLOOKUP(L25,MapPointConfig!$B$833:$H$1732,7,FALSE)","v":2025002},{"$f":"VLOOKUP(M25,MapPointConfig!$B$833:$H$1732,7,FALSE)","v":2025003},{"$f":"VLOOKUP(N25,MapPointConfig!$B$833:$H$1732,7,FALSE)","v":2025004},{"$f":"VLOOKUP(O25,MapPointConfig!$B$833:$H$1732,7,FALSE)","v":2025005},{"$f":"VLOOKUP(P25,MapPointConfig!$B$833:$H$1732,7,FALSE)","v":2025006},{"$f":"VLOOKUP(Q25,MapPointConfig!$B$833:$H$1732,7,FALSE)","v":2025007},{"$f":"VLOOKUP(R25,MapPointConfig!$B$833:$H$1732,7,FALSE)","v":2025008}]
["2026001#100","2026002#100","2026003#100","2026004#100","2026005#100","2026006#100","2026007#100","2026008#100",null,null,2026001,2026002,2026003,2026004,2026005,2026006,2026007,2026008,null,{"$f":"VLOOKUP(K26,MapPointConfig!$B$833:$H$1732,7,FALSE)","v":2026001},{"$f":"VLOOKUP(L26,MapPointConfig!$B$833:$H$1732,7,FALSE)","v":2026002},{"$f":"VLOOKUP(M26,MapPointConfig!$B$833:$H$1732,7,FALSE)","v":2026003},{"$f":"VLOOKUP(N26,MapPointConfig!$B$833:$H$1732,7,FALSE)","v":2026004},{"$f":"VLOOKUP(O26,MapPointConfig!$B$833:$H$1732,7,FALSE)","v":2026005},{"$f":"VLOOKUP(P26,MapPointConfig!$B$833:$H$1732,7,FALSE)","v":2026006},{"$f":"VLOOKUP(Q26,MapPointConfig!$B$833:$H$1732,7,FALSE)","v":2026007},{"$f":"VLOOKUP(R26,MapPointConfig!$B$833:$H$1732,7,FALSE)","v":2026008}]
["2027001#100","2027002#100","2027003#100","2027004#100","2027005#100","2027006#100","2027007#100","2027008#100",null,null,2027001,2027002,2027003,2027004,2027005,2027006,2027007,2027008,null,{"$f":"VLOOKUP(K27,MapPointConfig!$B$833:$H$1732,7,FALSE)","v":2027001},{"$f":"VLOOKUP(L27,MapPointConfig!$B$833:$H$1732,7,FALSE)","v":2027002},{"$f":"VLOOKUP(M27,MapPointConfig!$B$833:$H$1732,7,FALSE)","v":2027003},{"$f":"VLOOKUP(N27,MapPointConfig!$B$833:$H$1732,7,FALSE)","v":2027004},{"$f":"VLOOKUP(O27,MapPointConfig!$B$833:$H$1732,7,FALSE)","v":2027005},{"$f":"VLOOKUP(P27,MapPointConfig!$B$833:$H$1732,7,FALSE)","v":2027006},{"$f":"VLOOKUP(Q27,MapPointConfig!$B$833:$H$1732,7,FALSE)","v":2027007},{"$f":"VLOOKUP(R27,MapPointConfig!$B$833:$H$1732,7,FALSE)","v":2027008}]
["2028001#100","2028002#100","2028003#100","2028004#100","2028005#100","2028006#100","2028007#100","2028008#100",null,null,2028001,2028002,2028003,2028004,2028005,2028006,2028007,2028008,null,{"$f":"VLOOKUP(K28,MapPointConfig!$B$833:$H$1732,7,FALSE)","v":2028001},{"$f":"VLOOKUP(L28,MapPointConfig!$B$833:$H$1732,7,FALSE)","v":2028002},{"$f":"VLOOKUP(M28,MapPointConfig!$B$833:$H$1732,7,FALSE)","v":2028003},{"$f":"VLOOKUP(N28,MapPointConfig!$B$833:$H$1732,7,FALSE)","v":2028004},{"$f":"VLOOKUP(O28,MapPointConfig!$B$833:$H$1732,7,FALSE)","v":2028005},{"$f":"VLOOKUP(P28,MapPointConfig!$B$833:$H$1732,7,FALSE)","v":2028006},{"$f":"VLOOKUP(Q28,MapPointConfig!$B$833:$H$1732,7,FALSE)","v":2028007},{"$f":"VLOOKUP(R28,MapPointConfig!$B$833:$H$1732,7,FALSE)","v":2028008}]
["2029001#100","2029002#100","2029003#100","2029004#100","2029005#100","2029006#100","2029007#100","2029008#100",null,null,2029001,2029002,2029003,2029004,2029005,2029006,2029007,2029008,null,{"$f":"VLOOKUP(K29,MapPointConfig!$B$833:$H$1732,7,FALSE)","v":2029001},{"$f":"VLOOKUP(L29,MapPointConfig!$B$833:$H$1732,7,FALSE)","v":2029002},{"$f":"VLOOKUP(M29,MapPointConfig!$B$833:$H$1732,7,FALSE)","v":2029003},{"$f":"VLOOKUP(N29,MapPointConfig!$B$833:$H$1732,7,FALSE)","v":2029004},{"$f":"VLOOKUP(O29,MapPointConfig!$B$833:$H$1732,7,FALSE)","v":2029005},{"$f":"VLOOKUP(P29,MapPointConfig!$B$833:$H$1732,7,FALSE)","v":2029006},{"$f":"VLOOKUP(Q29,MapPointConfig!$B$833:$H$1732,7,FALSE)","v":2029007},{"$f":"VLOOKUP(R29,MapPointConfig!$B$833:$H$1732,7,FALSE)","v":2029008}]
["2030001#100","2030002#100","2030003#100","2030004#100","2030005#100","2030006#100","2030007#100","2030008#100",null,null,2030001,2030002,2030003,2030004,2030005,2030006,2030007,2030008,null,{"$f":"VLOOKUP(K30,MapPointConfig!$B$833:$H$1732,7,FALSE)","v":2030001},{"$f":"VLOOKUP(L30,MapPointConfig!$B$833:$H$1732,7,FALSE)","v":2030002},{"$f":"VLOOKUP(M30,MapPointConfig!$B$833:$H$1732,7,FALSE)","v":2030003},{"$f":"VLOOKUP(N30,MapPointConfig!$B$833:$H$1732,7,FALSE)","v":2030004},{"$f":"VLOOKUP(O30,MapPointConfig!$B$833:$H$1732,7,FALSE)","v":2030005},{"$f":"VLOOKUP(P30,MapPointConfig!$B$833:$H$1732,7,FALSE)","v":2030006},{"$f":"VLOOKUP(Q30,MapPointConfig!$B$833:$H$1732,7,FALSE)","v":2030007},{"$f":"VLOOKUP(R30,MapPointConfig!$B$833:$H$1732,7,FALSE)","v":2030008}]
["2031001#100","2031002#100","2031003#100","2031004#100","2031005#100","2031006#100","2031007#100","2031008#100",null,null,2031001,2031002,2031003,2031004,2031005,2031006,2031007,2031008,null,{"$f":"VLOOKUP(K31,MapPointConfig!$B$833:$H$1732,7,FALSE)","v":2031001},{"$f":"VLOOKUP(L31,MapPointConfig!$B$833:$H$1732,7,FALSE)","v":2031002},{"$f":"VLOOKUP(M31,MapPointConfig!$B$833:$H$1732,7,FALSE)","v":2031003},{"$f":"VLOOKUP(N31,MapPointConfig!$B$833:$H$1732,7,FALSE)","v":2031004},{"$f":"VLOOKUP(O31,MapPointConfig!$B$833:$H$1732,7,FALSE)","v":2031005},{"$f":"VLOOKUP(P31,MapPointConfig!$B$833:$H$1732,7,FALSE)","v":2031006},{"$f":"VLOOKUP(Q31,MapPointConfig!$B$833:$H$1732,7,FALSE)","v":2031007},{"$f":"VLOOKUP(R31,MapPointConfig!$B$833:$H$1732,7,FALSE)","v":2031008}]
["2032001#100","2032002#100","2032003#100","2032004#100","2032005#100","2032006#100","2032007#100","2032008#100",null,null,2032001,2032002,2032003,2032004,2032005,2032006,2032007,2032008,null,{"$f":"VLOOKUP(K32,MapPointConfig!$B$833:$H$1732,7,FALSE)","v":2032001},{"$f":"VLOOKUP(L32,MapPointConfig!$B$833:$H$1732,7,FALSE)","v":2032002},{"$f":"VLOOKUP(M32,MapPointConfig!$B$833:$H$1732,7,FALSE)","v":2032003},{"$f":"VLOOKUP(N32,MapPointConfig!$B$833:$H$1732,7,FALSE)","v":2032004},{"$f":"VLOOKUP(O32,MapPointConfig!$B$833:$H$1732,7,FALSE)","v":2032005},{"$f":"VLOOKUP(P32,MapPointConfig!$B$833:$H$1732,7,FALSE)","v":2032006},{"$f":"VLOOKUP(Q32,MapPointConfig!$B$833:$H$1732,7,FALSE)","v":2032007},{"$f":"VLOOKUP(R32,MapPointConfig!$B$833:$H$1732,7,FALSE)","v":2032008}]
["2033001#100","2033002#100","2033003#100","2033004#100","2033005#100","2033006#100","2033007#100","2033008#100",null,null,2033001,2033002,2033003,2033004,2033005,2033006,2033007,2033008,null,{"$f":"VLOOKUP(K33,MapPointConfig!$B$833:$H$1732,7,FALSE)","v":2033001},{"$f":"VLOOKUP(L33,MapPointConfig!$B$833:$H$1732,7,FALSE)","v":2033002},{"$f":"VLOOKUP(M33,MapPointConfig!$B$833:$H$1732,7,FALSE)","v":2033003},{"$f":"VLOOKUP(N33,MapPointConfig!$B$833:$H$1732,7,FALSE)","v":2033004},{"$f":"VLOOKUP(O33,MapPointConfig!$B$833:$H$1732,7,FALSE)","v":2033005},{"$f":"VLOOKUP(P33,MapPointConfig!$B$833:$H$1732,7,FALSE)","v":2033006},{"$f":"VLOOKUP(Q33,MapPointConfig!$B$833:$H$1732,7,FALSE)","v":2033007},{"$f":"VLOOKUP(R33,MapPointConfig!$B$833:$H$1732,7,FALSE)","v":2033008}]
["2034001#100","2034002#100","2034003#100","2034004#100","2034005#100","2034006#100","2034007#100","2034008#100",null,null,2034001,2034002,2034003,2034004,2034005,2034006,2034007,2034008,null,{"$f":"VLOOKUP(K34,MapPointConfig!$B$833:$H$1732,7,FALSE)","v":2034001},{"$f":"VLOOKUP(L34,MapPointConfig!$B$833:$H$1732,7,FALSE)","v":2034002},{"$f":"VLOOKUP(M34,MapPointConfig!$B$833:$H$1732,7,FALSE)","v":2034003},{"$f":"VLOOKUP(N34,MapPointConfig!$B$833:$H$1732,7,FALSE)","v":2034004},{"$f":"VLOOKUP(O34,MapPointConfig!$B$833:$H$1732,7,FALSE)","v":2034005},{"$f":"VLOOKUP(P34,MapPointConfig!$B$833:$H$1732,7,FALSE)","v":2034006},{"$f":"VLOOKUP(Q34,MapPointConfig!$B$833:$H$1732,7,FALSE)","v":2034007},{"$f":"VLOOKUP(R34,MapPointConfig!$B$833:$H$1732,7,FALSE)","v":2034008}]
["2035001#100","2035002#100","2035003#100","2035004#100","2035005#100","2035006#100","2035007#100","2035008#100",null,null,2035001,2035002,2035003,2035004,2035005,2035006,2035007,2035008,null,{"$f":"VLOOKUP(K35,MapPointConfig!$B$833:$H$1732,7,FALSE)","v":2035001},{"$f":"VLOOKUP(L35,MapPointConfig!$B$833:$H$1732,7,FALSE)","v":2035002},{"$f":"VLOOKUP(M35,MapPointConfig!$B$833:$H$1732,7,FALSE)","v":2035003},{"$f":"VLOOKUP(N35,MapPointConfig!$B$833:$H$1732,7,FALSE)","v":2035004},{"$f":"VLOOKUP(O35,MapPointConfig!$B$833:$H$1732,7,FALSE)","v":2035005},{"$f":"VLOOKUP(P35,MapPointConfig!$B$833:$H$1732,7,FALSE)","v":2035006},{"$f":"VLOOKUP(Q35,MapPointConfig!$B$833:$H$1732,7,FALSE)","v":2035007},{"$f":"VLOOKUP(R35,MapPointConfig!$B$833:$H$1732,7,FALSE)","v":2035008}]
["2036001#100","2036002#100","2036003#100","2036004#100","2036005#100","2036006#100","2036007#100","2036008#100",null,null,2036001,2036002,2036003,2036004,2036005,2036006,2036007,2036008,null,{"$f":"VLOOKUP(K36,MapPointConfig!$B$833:$H$1732,7,FALSE)","v":2036001},{"$f":"VLOOKUP(L36,MapPointConfig!$B$833:$H$1732,7,FALSE)","v":2036002},{"$f":"VLOOKUP(M36,MapPointConfig!$B$833:$H$1732,7,FALSE)","v":2036003},{"$f":"VLOOKUP(N36,MapPointConfig!$B$833:$H$1732,7,FALSE)","v":2036004},{"$f":"VLOOKUP(O36,MapPointConfig!$B$833:$H$1732,7,FALSE)","v":2036005},{"$f":"VLOOKUP(P36,MapPointConfig!$B$833:$H$1732,7,FALSE)","v":2036006},{"$f":"VLOOKUP(Q36,MapPointConfig!$B$833:$H$1732,7,FALSE)","v":2036007},{"$f":"VLOOKUP(R36,MapPointConfig!$B$833:$H$1732,7,FALSE)","v":2036008}]
["2037001#100","2037002#100","2037003#100","2037004#100","2037005#100","2037006#100","2037007#100","2037008#100",null,null,2037001,2037002,2037003,2037004,2037005,2037006,2037007,2037008,null,{"$f":"VLOOKUP(K37,MapPointConfig!$B$833:$H$1732,7,FALSE)","v":2037001},{"$f":"VLOOKUP(L37,MapPointConfig!$B$833:$H$1732,7,FALSE)","v":2037002},{"$f":"VLOOKUP(M37,MapPointConfig!$B$833:$H$1732,7,FALSE)","v":2037003},{"$f":"VLOOKUP(N37,MapPointConfig!$B$833:$H$1732,7,FALSE)","v":2037004},{"$f":"VLOOKUP(O37,MapPointConfig!$B$833:$H$1732,7,FALSE)","v":2037005},{"$f":"VLOOKUP(P37,MapPointConfig!$B$833:$H$1732,7,FALSE)","v":2037006},{"$f":"VLOOKUP(Q37,MapPointConfig!$B$833:$H$1732,7,FALSE)","v":2037007},{"$f":"VLOOKUP(R37,MapPointConfig!$B$833:$H$1732,7,FALSE)","v":2037008}]
["2038001#100","2038002#100","2038003#100","2038004#100","2038005#100","2038006#100","2038007#100","2038008#100",null,null,2038001,2038002,2038003,2038004,2038005,2038006,2038007,2038008,null,{"$f":"VLOOKUP(K38,MapPointConfig!$B$833:$H$1732,7,FALSE)","v":2038001},{"$f":"VLOOKUP(L38,MapPointConfig!$B$833:$H$1732,7,FALSE)","v":2038002},{"$f":"VLOOKUP(M38,MapPointConfig!$B$833:$H$1732,7,FALSE)","v":2038003},{"$f":"VLOOKUP(N38,MapPointConfig!$B$833:$H$1732,7,FALSE)","v":2038004},{"$f":"VLOOKUP(O38,MapPointConfig!$B$833:$H$1732,7,FALSE)","v":2038005},{"$f":"VLOOKUP(P38,MapPointConfig!$B$833:$H$1732,7,FALSE)","v":2038006},{"$f":"VLOOKUP(Q38,MapPointConfig!$B$833:$H$1732,7,FALSE)","v":2038007},{"$f":"VLOOKUP(R38,MapPointConfig!$B$833:$H$1732,7,FALSE)","v":2038008}]
["2039001#100","2039002#100","2039003#100","2039004#100","2039005#100","2039006#100","2039007#100","2039008#100",null,null,2039001,2039002,2039003,2039004,2039005,2039006,2039007,2039008,null,{"$f":"VLOOKUP(K39,MapPointConfig!$B$833:$H$1732,7,FALSE)","v":2039001},{"$f":"VLOOKUP(L39,MapPointConfig!$B$833:$H$1732,7,FALSE)","v":2039002},{"$f":"VLOOKUP(M39,MapPointConfig!$B$833:$H$1732,7,FALSE)","v":2039003},{"$f":"VLOOKUP(N39,MapPointConfig!$B$833:$H$1732,7,FALSE)","v":2039004},{"$f":"VLOOKUP(O39,MapPointConfig!$B$833:$H$1732,7,FALSE)","v":2039005},{"$f":"VLOOKUP(P39,MapPointConfig!$B$833:$H$1732,7,FALSE)","v":2039006},{"$f":"VLOOKUP(Q39,MapPointConfig!$B$833:$H$1732,7,FALSE)","v":2039007},{"$f":"VLOOKUP(R39,MapPointConfig!$B$833:$H$1732,7,FALSE)","v":2039008}]
["2040001#100","2040002#100","2040003#100","2040004#100","2040005#100","2040006#100","2040007#100","2040008#100",null,null,2040001,2040002,2040003,2040004,2040005,2040006,2040007,2040008,null,{"$f":"VLOOKUP(K40,MapPointConfig!$B$833:$H$1732,7,FALSE)","v":2040001},{"$f":"VLOOKUP(L40,MapPointConfig!$B$833:$H$1732,7,FALSE)","v":2040002},{"$f":"VLOOKUP(M40,MapPointConfig!$B$833:$H$1732,7,FALSE)","v":2040003},{"$f":"VLOOKUP(N40,MapPointConfig!$B$833:$H$1732,7,FALSE)","v":2040004},{"$f":"VLOOKUP(O40,MapPointConfig!$B$833:$H$1732,7,FALSE)","v":2040005},{"$f":"VLOOKUP(P40,MapPointConfig!$B$833:$H$1732,7,FALSE)","v":2040006},{"$f":"VLOOKUP(Q40,MapPointConfig!$B$833:$H$1732,7,FALSE)","v":2040007},{"$f":"VLOOKUP(R40,MapPointConfig!$B$833:$H$1732,7,FALSE)","v":2040008}]
["2041001#100","2041002#100","2041003#100","2041004#100","2041005#100","2041006#100","2041007#100","2041008#100",null,null,2041001,2041002,2041003,2041004,2041005,2041006,2041007,2041008,null,{"$f":"VLOOKUP(K41,MapPointConfig!$B$833:$H$1732,7,FALSE)","v":2041001},{"$f":"VLOOKUP(L41,MapPointConfig!$B$833:$H$1732,7,FALSE)","v":2041002},{"$f":"VLOOKUP(M41,MapPointConfig!$B$833:$H$1732,7,FALSE)","v":2041003},{"$f":"VLOOKUP(N41,MapPointConfig!$B$833:$H$1732,7,FALSE)","v":2041004},{"$f":"VLOOKUP(O41,MapPointConfig!$B$833:$H$1732,7,FALSE)","v":2041005},{"$f":"VLOOKUP(P41,MapPointConfig!$B$833:$H$1732,7,FALSE)","v":2041006},{"$f":"VLOOKUP(Q41,MapPointConfig!$B$833:$H$1732,7,FALSE)","v":2041007},{"$f":"VLOOKUP(R41,MapPointConfig!$B$833:$H$1732,7,FALSE)","v":2041008}]
["2042001#100","2042002#100","2042003#100","2042004#100","2042005#100","2042006#100","2042007#100","2042008#100",null,null,2042001,2042002,2042003,2042004,2042005,2042006,2042007,2042008,null,{"$f":"VLOOKUP(K42,MapPointConfig!$B$833:$H$1732,7,FALSE)","v":2042001},{"$f":"VLOOKUP(L42,MapPointConfig!$B$833:$H$1732,7,FALSE)","v":2042002},{"$f":"VLOOKUP(M42,MapPointConfig!$B$833:$H$1732,7,FALSE)","v":2042003},{"$f":"VLOOKUP(N42,MapPointConfig!$B$833:$H$1732,7,FALSE)","v":2042004},{"$f":"VLOOKUP(O42,MapPointConfig!$B$833:$H$1732,7,FALSE)","v":2042005},{"$f":"VLOOKUP(P42,MapPointConfig!$B$833:$H$1732,7,FALSE)","v":2042006},{"$f":"VLOOKUP(Q42,MapPointConfig!$B$833:$H$1732,7,FALSE)","v":2042007},{"$f":"VLOOKUP(R42,MapPointConfig!$B$833:$H$1732,7,FALSE)","v":2042008}]
["2043001#100","2043002#100","2043003#100","2043004#100","2043005#100","2043006#100","2043007#100","2043008#100",null,null,2043001,2043002,2043003,2043004,2043005,2043006,2043007,2043008,null,{"$f":"VLOOKUP(K43,MapPointConfig!$B$833:$H$1732,7,FALSE)","v":2043001},{"$f":"VLOOKUP(L43,MapPointConfig!$B$833:$H$1732,7,FALSE)","v":2043002},{"$f":"VLOOKUP(M43,MapPointConfig!$B$833:$H$1732,7,FALSE)","v":2043003},{"$f":"VLOOKUP(N43,MapPointConfig!$B$833:$H$1732,7,FALSE)","v":2043004},{"$f":"VLOOKUP(O43,MapPointConfig!$B$833:$H$1732,7,FALSE)","v":2043005},{"$f":"VLOOKUP(P43,MapPointConfig!$B$833:$H$1732,7,FALSE)","v":2043006},{"$f":"VLOOKUP(Q43,MapPointConfig!$B$833:$H$1732,7,FALSE)","v":2043007},{"$f":"VLOOKUP(R43,MapPointConfig!$B$833:$H$1732,7,FALSE)","v":2043008}]
["2044001#100","2044002#100","2044003#100","2044004#100","2044005#100","2044006#100","2044007#100","2044008#100",null,null,2044001,2044002,2044003,2044004,2044005,2044006,2044007,2044008,null,{"$f":"VLOOKUP(K44,MapPointConfig!$B$833:$H$1732,7,FALSE)","v":2044001},{"$f":"VLOOKUP(L44,MapPointConfig!$B$833:$H$1732,7,FALSE)","v":2044002},{"$f":"VLOOKUP(M44,MapPointConfig!$B$833:$H$1732,7,FALSE)","v":2044003},{"$f":"VLOOKUP(N44,MapPointConfig!$B$833:$H$1732,7,FALSE)","v":2044004},{"$f":"VLOOKUP(O44,MapPointConfig!$B$833:$H$1732,7,FALSE)","v":2044005},{"$f":"VLOOKUP(P44,MapPointConfig!$B$833:$H$1732,7,FALSE)","v":2044006},{"$f":"VLOOKUP(Q44,MapPointConfig!$B$833:$H$1732,7,FALSE)","v":2044007},{"$f":"VLOOKUP(R44,MapPointConfig!$B$833:$H$1732,7,FALSE)","v":2044008}]
["2045001#100","2045002#100","2045003#100","2045004#100","2045005#100","2045006#100","2045007#100","2045008#100",null,null,2045001,2045002,2045003,2045004,2045005,2045006,2045007,2045008,null,{"$f":"VLOOKUP(K45,MapPointConfig!$B$833:$H$1732,7,FALSE)","v":2045001},{"$f":"VLOOKUP(L45,MapPointConfig!$B$833:$H$1732,7,FALSE)","v":2045002},{"$f":"VLOOKUP(M45,MapPointConfig!$B$833:$H$1732,7,FALSE)","v":2045003},{"$f":"VLOOKUP(N45,MapPointConfig!$B$833:$H$1732,7,FALSE)","v":2045004},{"$f":"VLOOKUP(O45,MapPointConfig!$B$833:$H$1732,7,FALSE)","v":2045005},{"$f":"VLOOKUP(P45,MapPointConfig!$B$833:$H$1732,7,FALSE)","v":2045006},{"$f":"VLOOKUP(Q45,MapPointConfig!$B$833:$H$1732,7,FALSE)","v":2045007},{"$f":"VLOOKUP(R45,MapPointConfig!$B$833:$H$1732,7,FALSE)","v":2045008}]
["2046001#100","2046002#100","2046003#100","2046004#100","2046005#100","2046006#100","2046007#100","2046008#100",null,null,2046001,2046002,2046003,2046004,2046005,2046006,2046007,2046008,null,{"$f":"VLOOKUP(K46,MapPointConfig!$B$833:$H$1732,7,FALSE)","v":2046001},{"$f":"VLOOKUP(L46,MapPointConfig!$B$833:$H$1732,7,FALSE)","v":2046002},{"$f":"VLOOKUP(M46,MapPointConfig!$B$833:$H$1732,7,FALSE)","v":2046003},{"$f":"VLOOKUP(N46,MapPointConfig!$B$833:$H$1732,7,FALSE)","v":2046004},{"$f":"VLOOKUP(O46,MapPointConfig!$B$833:$H$1732,7,FALSE)","v":2046005},{"$f":"VLOOKUP(P46,MapPointConfig!$B$833:$H$1732,7,FALSE)","v":2046006},{"$f":"VLOOKUP(Q46,MapPointConfig!$B$833:$H$1732,7,FALSE)","v":2046007},{"$f":"VLOOKUP(R46,MapPointConfig!$B$833:$H$1732,7,FALSE)","v":2046008}]
["2047001#100","2047002#100","2047003#100","2047004#100","2047005#100","2047006#100","2047007#100","2047008#100",null,null,2047001,2047002,2047003,2047004,2047005,2047006,2047007,2047008,null,{"$f":"VLOOKUP(K47,MapPointConfig!$B$833:$H$1732,7,FALSE)","v":2047001},{"$f":"VLOOKUP(L47,MapPointConfig!$B$833:$H$1732,7,FALSE)","v":2047002},{"$f":"VLOOKUP(M47,MapPointConfig!$B$833:$H$1732,7,FALSE)","v":2047003},{"$f":"VLOOKUP(N47,MapPointConfig!$B$833:$H$1732,7,FALSE)","v":2047004},{"$f":"VLOOKUP(O47,MapPointConfig!$B$833:$H$1732,7,FALSE)","v":2047005},{"$f":"VLOOKUP(P47,MapPointConfig!$B$833:$H$1732,7,FALSE)","v":2047006},{"$f":"VLOOKUP(Q47,MapPointConfig!$B$833:$H$1732,7,FALSE)","v":2047007},{"$f":"VLOOKUP(R47,MapPointConfig!$B$833:$H$1732,7,FALSE)","v":2047008}]
["2048001#100","2048002#100","2048003#100","2048004#100","2048005#100","2048006#100","2048007#100","2048008#100",null,null,2048001,2048002,2048003,2048004,2048005,2048006,2048007,2048008,null,{"$f":"VLOOKUP(K48,MapPointConfig!$B$833:$H$1732,7,FALSE)","v":2048001},{"$f":"VLOOKUP(L48,MapPointConfig!$B$833:$H$1732,7,FALSE)","v":2048002},{"$f":"VLOOKUP(M48,MapPointConfig!$B$833:$H$1732,7,FALSE)","v":2048003},{"$f":"VLOOKUP(N48,MapPointConfig!$B$833:$H$1732,7,FALSE)","v":2048004},{"$f":"VLOOKUP(O48,MapPointConfig!$B$833:$H$1732,7,FALSE)","v":2048005},{"$f":"VLOOKUP(P48,MapPointConfig!$B$833:$H$1732,7,FALSE)","v":2048006},{"$f":"VLOOKUP(Q48,MapPointConfig!$B$833:$H$1732,7,FALSE)","v":2048007},{"$f":"VLOOKUP(R48,MapPointConfig!$B$833:$H$1732,7,FALSE)","v":2048008}]
["2049001#100","2049002#100","2049003#100","2049004#100","2049005#100","2049006#100","2049007#100","2049008#100",null,null,2049001,2049002,2049003,2049004,2049005,2049006,2049007,2049008,null,{"$f":"VLOOKUP(K49,MapPointConfig!$B$833:$H$1732,7,FALSE)","v":2049001},{"$f":"VLOOKUP(L49,MapPointConfig!$B$833:$H$1732,7,FALSE)","v":2049002},{"$f":"VLOOKUP(M49,MapPointConfig!$B$833:$H$1732,7,FALSE)","v":2049003},{"$f":"VLOOKUP(N49,MapPointConfig!$B$833:$H$1732,7,FALSE)","v":2049004},{"$f":"VLOOKUP(O49,MapPointConfig!$B$833:$H$1732,7,FALSE)","v":2049005},{"$f":"VLOOKUP(P49,MapPointConfig!$B$833:$H$1732,7,FALSE)","v":2049006},{"$f":"VLOOKUP(Q49,MapPointConfig!$B$833:$H$1732,7,FALSE)","v":2049007},{"$f":"VLOOKUP(R49,MapPointConfig!$B$833:$H$1732,7,FALSE)","v":2049008}]
["2050001#100","2050002#100","2050003#100","2050004#100","2050005#100","2050006#100","2050007#100","2050008#100",null,null,2050001,2050002,2050003,2050004,2050005,2050006,2050007,2050008,null,{"$f":"VLOOKUP(K50,MapPointConfig!$B$833:$H$1732,7,FALSE)","v":2050001},{"$f":"VLOOKUP(L50,MapPointConfig!$B$833:$H$1732,7,FALSE)","v":2050002},{"$f":"VLOOKUP(M50,MapPointConfig!$B$833:$H$1732,7,FALSE)","v":2050003},{"$f":"VLOOKUP(N50,MapPointConfig!$B$833:$H$1732,7,FALSE)","v":2050004},{"$f":"VLOOKUP(O50,MapPointConfig!$B$833:$H$1732,7,FALSE)","v":2050005},{"$f":"VLOOKUP(P50,MapPointConfig!$B$833:$H$1732,7,FALSE)","v":2050006},{"$f":"VLOOKUP(Q50,MapPointConfig!$B$833:$H$1732,7,FALSE)","v":2050007},{"$f":"VLOOKUP(R50,MapPointConfig!$B$833:$H$1732,7,FALSE)","v":2050008}]
["2051001#100","2051002#100","2051003#100","2051004#100","2051005#100","2051006#100","2051007#100","2051008#100",null,null,2051001,2051002,2051003,2051004,2051005,2051006,2051007,2051008,null,{"$f":"VLOOKUP(K51,MapPointConfig!$B$833:$H$1732,7,FALSE)","v":2051001},{"$f":"VLOOKUP(L51,MapPointConfig!$B$833:$H$1732,7,FALSE)","v":2051002},{"$f":"VLOOKUP(M51,MapPointConfig!$B$833:$H$1732,7,FALSE)","v":2051003},{"$f":"VLOOKUP(N51,MapPointConfig!$B$833:$H$1732,7,FALSE)","v":2051004},{"$f":"VLOOKUP(O51,MapPointConfig!$B$833:$H$1732,7,FALSE)","v":2051005},{"$f":"VLOOKUP(P51,MapPointConfig!$B$833:$H$1732,7,FALSE)","v":2051006},{"$f":"VLOOKUP(Q51,MapPointConfig!$B$833:$H$1732,7,FALSE)","v":2051007},{"$f":"VLOOKUP(R51,MapPointConfig!$B$833:$H$1732,7,FALSE)","v":2051008}]
["2052001#100","2052002#100","2052003#100","2052004#100","2052005#100","2052006#100","2052007#100","2052008#100",null,null,2052001,2052002,2052003,2052004,2052005,2052006,2052007,2052008,null,{"$f":"VLOOKUP(K52,MapPointConfig!$B$833:$H$1732,7,FALSE)","v":2052001},{"$f":"VLOOKUP(L52,MapPointConfig!$B$833:$H$1732,7,FALSE)","v":2052002},{"$f":"VLOOKUP(M52,MapPointConfig!$B$833:$H$1732,7,FALSE)","v":2052003},{"$f":"VLOOKUP(N52,MapPointConfig!$B$833:$H$1732,7,FALSE)","v":2052004},{"$f":"VLOOKUP(O52,MapPointConfig!$B$833:$H$1732,7,FALSE)","v":2052005},{"$f":"VLOOKUP(P52,MapPointConfig!$B$833:$H$1732,7,FALSE)","v":2052006},{"$f":"VLOOKUP(Q52,MapPointConfig!$B$833:$H$1732,7,FALSE)","v":2052007},{"$f":"VLOOKUP(R52,MapPointConfig!$B$833:$H$1732,7,FALSE)","v":2052008}]
["2053001#100","2053002#100","2053003#100","2053004#100","2053005#100","2053006#100","2053007#100","2053008#100",null,null,2053001,2053002,2053003,2053004,2053005,2053006,2053007,2053008,null,{"$f":"VLOOKUP(K53,MapPointConfig!$B$833:$H$1732,7,FALSE)","v":2053001},{"$f":"VLOOKUP(L53,MapPointConfig!$B$833:$H$1732,7,FALSE)","v":2053002},{"$f":"VLOOKUP(M53,MapPointConfig!$B$833:$H$1732,7,FALSE)","v":2053003},{"$f":"VLOOKUP(N53,MapPointConfig!$B$833:$H$1732,7,FALSE)","v":2053004},{"$f":"VLOOKUP(O53,MapPointConfig!$B$833:$H$1732,7,FALSE)","v":2053005},{"$f":"VLOOKUP(P53,MapPointConfig!$B$833:$H$1732,7,FALSE)","v":2053006},{"$f":"VLOOKUP(Q53,MapPointConfig!$B$833:$H$1732,7,FALSE)","v":2053007},{"$f":"VLOOKUP(R53,MapPointConfig!$B$833:$H$1732,7,FALSE)","v":2053008}]
["2054001#100","2054002#100","2054003#100","2054004#100","2054005#100","2054006#100","2054007#100","2054008#100",null,null,2054001,2054002,2054003,2054004,2054005,2054006,2054007,2054008,null,{"$f":"VLOOKUP(K54,MapPointConfig!$B$833:$H$1732,7,FALSE)","v":2054001},{"$f":"VLOOKUP(L54,MapPointConfig!$B$833:$H$1732,7,FALSE)","v":2054002},{"$f":"VLOOKUP(M54,MapPointConfig!$B$833:$H$1732,7,FALSE)","v":2054003},{"$f":"VLOOKUP(N54,MapPointConfig!$B$833:$H$1732,7,FALSE)","v":2054004},{"$f":"VLOOKUP(O54,MapPointConfig!$B$833:$H$1732,7,FALSE)","v":2054005},{"$f":"VLOOKUP(P54,MapPointConfig!$B$833:$H$1732,7,FALSE)","v":2054006},{"$f":"VLOOKUP(Q54,MapPointConfig!$B$833:$H$1732,7,FALSE)","v":2054007},{"$f":"VLOOKUP(R54,MapPointConfig!$B$833:$H$1732,7,FALSE)","v":2054008}]
["2055001#100","2055002#100","2055003#100","2055004#100","2055005#100","2055006#100","2055007#100","2055008#100",null,null,2055001,2055002,2055003,2055004,2055005,2055006,2055007,2055008,null,{"$f":"VLOOKUP(K55,MapPointConfig!$B$833:$H$1732,7,FALSE)","v":2055001},{"$f":"VLOOKUP(L55,MapPointConfig!$B$833:$H$1732,7,FALSE)","v":2055002},{"$f":"VLOOKUP(M55,MapPointConfig!$B$833:$H$1732,7,FALSE)","v":2055003},{"$f":"VLOOKUP(N55,MapPointConfig!$B$833:$H$1732,7,FALSE)","v":2055004},{"$f":"VLOOKUP(O55,MapPointConfig!$B$833:$H$1732,7,FALSE)","v":2055005},{"$f":"VLOOKUP(P55,MapPointConfig!$B$833:$H$1732,7,FALSE)","v":2055006},{"$f":"VLOOKUP(Q55,MapPointConfig!$B$833:$H$1732,7,FALSE)","v":2055007},{"$f":"VLOOKUP(R55,MapPointConfig!$B$833:$H$1732,7,FALSE)","v":2055008}]
["2056001#100","2056002#100","2056003#100","2056004#100","2056005#100","2056006#100","2056007#100","2056008#100",null,null,2056001,2056002,2056003,2056004,2056005,2056006,2056007,2056008,null,{"$f":"VLOOKUP(K56,MapPointConfig!$B$833:$H$1732,7,FALSE)","v":2056001},{"$f":"VLOOKUP(L56,MapPointConfig!$B$833:$H$1732,7,FALSE)","v":2056002},{"$f":"VLOOKUP(M56,MapPointConfig!$B$833:$H$1732,7,FALSE)","v":2056003},{"$f":"VLOOKUP(N56,MapPointConfig!$B$833:$H$1732,7,FALSE)","v":2056004},{"$f":"VLOOKUP(O56,MapPointConfig!$B$833:$H$1732,7,FALSE)","v":2056005},{"$f":"VLOOKUP(P56,MapPointConfig!$B$833:$H$1732,7,FALSE)","v":2056006},{"$f":"VLOOKUP(Q56,MapPointConfig!$B$833:$H$1732,7,FALSE)","v":2056007},{"$f":"VLOOKUP(R56,MapPointConfig!$B$833:$H$1732,7,FALSE)","v":2056008}]
["2057001#100","2057002#100","2057003#100","2057004#100","2057005#100","2057006#100","2057007#100","2057008#100",null,null,2057001,2057002,2057003,2057004,2057005,2057006,2057007,2057008,null,{"$f":"VLOOKUP(K57,MapPointConfig!$B$833:$H$1732,7,FALSE)","v":2057001},{"$f":"VLOOKUP(L57,MapPointConfig!$B$833:$H$1732,7,FALSE)","v":2057002},{"$f":"VLOOKUP(M57,MapPointConfig!$B$833:$H$1732,7,FALSE)","v":2057003},{"$f":"VLOOKUP(N57,MapPointConfig!$B$833:$H$1732,7,FALSE)","v":2057004},{"$f":"VLOOKUP(O57,MapPointConfig!$B$833:$H$1732,7,FALSE)","v":2057005},{"$f":"VLOOKUP(P57,MapPointConfig!$B$833:$H$1732,7,FALSE)","v":2057006},{"$f":"VLOOKUP(Q57,MapPointConfig!$B$833:$H$1732,7,FALSE)","v":2057007},{"$f":"VLOOKUP(R57,MapPointConfig!$B$833:$H$1732,7,FALSE)","v":2057008}]
["2058001#100","2058002#100","2058003#100","2058004#100","2058005#100","2058006#100","2058007#100","2058008#100",null,null,2058001,2058002,2058003,2058004,2058005,2058006,2058007,2058008,null,{"$f":"VLOOKUP(K58,MapPointConfig!$B$833:$H$1732,7,FALSE)","v":2058001},{"$f":"VLOOKUP(L58,MapPointConfig!$B$833:$H$1732,7,FALSE)","v":2058002},{"$f":"VLOOKUP(M58,MapPointConfig!$B$833:$H$1732,7,FALSE)","v":2058003},{"$f":"VLOOKUP(N58,MapPointConfig!$B$833:$H$1732,7,FALSE)","v":2058004},{"$f":"VLOOKUP(O58,MapPointConfig!$B$833:$H$1732,7,FALSE)","v":2058005},{"$f":"VLOOKUP(P58,MapPointConfig!$B$833:$H$1732,7,FALSE)","v":2058006},{"$f":"VLOOKUP(Q58,MapPointConfig!$B$833:$H$1732,7,FALSE)","v":2058007},{"$f":"VLOOKUP(R58,MapPointConfig!$B$833:$H$1732,7,FALSE)","v":2058008}]
["2059001#100","2059002#100","2059003#100","2059004#100","2059005#100","2059006#100","2059007#100","2059008#100",null,null,2059001,2059002,2059003,2059004,2059005,2059006,2059007,2059008,null,{"$f":"VLOOKUP(K59,MapPointConfig!$B$833:$H$1732,7,FALSE)","v":2059001},{"$f":"VLOOKUP(L59,MapPointConfig!$B$833:$H$1732,7,FALSE)","v":2059002},{"$f":"VLOOKUP(M59,MapPointConfig!$B$833:$H$1732,7,FALSE)","v":2059003},{"$f":"VLOOKUP(N59,MapPointConfig!$B$833:$H$1732,7,FALSE)","v":2059004},{"$f":"VLOOKUP(O59,MapPointConfig!$B$833:$H$1732,7,FALSE)","v":2059005},{"$f":"VLOOKUP(P59,MapPointConfig!$B$833:$H$1732,7,FALSE)","v":2059006},{"$f":"VLOOKUP(Q59,MapPointConfig!$B$833:$H$1732,7,FALSE)","v":2059007},{"$f":"VLOOKUP(R59,MapPointConfig!$B$833:$H$1732,7,FALSE)","v":2059008}]
["2060001#100","2060002#100","2060003#100","2060004#100","2060005#100","2060006#100","2060007#100","2060008#100",null,null,2060001,2060002,2060003,2060004,2060005,2060006,2060007,2060008,null,{"$f":"VLOOKUP(K60,MapPointConfig!$B$833:$H$1732,7,FALSE)","v":2060001},{"$f":"VLOOKUP(L60,MapPointConfig!$B$833:$H$1732,7,FALSE)","v":2060002},{"$f":"VLOOKUP(M60,MapPointConfig!$B$833:$H$1732,7,FALSE)","v":2060003},{"$f":"VLOOKUP(N60,MapPointConfig!$B$833:$H$1732,7,FALSE)","v":2060004},{"$f":"VLOOKUP(O60,MapPointConfig!$B$833:$H$1732,7,FALSE)","v":2060005},{"$f":"VLOOKUP(P60,MapPointConfig!$B$833:$H$1732,7,FALSE)","v":2060006},{"$f":"VLOOKUP(Q60,MapPointConfig!$B$833:$H$1732,7,FALSE)","v":2060007},{"$f":"VLOOKUP(R60,MapPointConfig!$B$833:$H$1732,7,FALSE)","v":2060008}]
["2061001#100","2061002#100","2061003#100","2061004#100","2061005#100","2061006#100","2061007#100","2061008#100",null,null,2061001,2061002,2061003,2061004,2061005,2061006,2061007,2061008,null,{"$f":"VLOOKUP(K61,MapPointConfig!$B$833:$H$1732,7,FALSE)","v":2061001},{"$f":"VLOOKUP(L61,MapPointConfig!$B$833:$H$1732,7,FALSE)","v":2061002},{"$f":"VLOOKUP(M61,MapPointConfig!$B$833:$H$1732,7,FALSE)","v":2061003},{"$f":"VLOOKUP(N61,MapPointConfig!$B$833:$H$1732,7,FALSE)","v":2061004},{"$f":"VLOOKUP(O61,MapPointConfig!$B$833:$H$1732,7,FALSE)","v":2061005},{"$f":"VLOOKUP(P61,MapPointConfig!$B$833:$H$1732,7,FALSE)","v":2061006},{"$f":"VLOOKUP(Q61,MapPointConfig!$B$833:$H$1732,7,FALSE)","v":2061007},{"$f":"VLOOKUP(R61,MapPointConfig!$B$833:$H$1732,7,FALSE)","v":2061008}]
["2062001#100","2062002#100","2062003#100","2062004#100","2062005#100","2062006#100","2062007#100","2062008#100",null,null,2062001,2062002,2062003,2062004,2062005,2062006,2062007,2062008,null,{"$f":"VLOOKUP(K62,MapPointConfig!$B$833:$H$1732,7,FALSE)","v":2062001},{"$f":"VLOOKUP(L62,MapPointConfig!$B$833:$H$1732,7,FALSE)","v":2062002},{"$f":"VLOOKUP(M62,MapPointConfig!$B$833:$H$1732,7,FALSE)","v":2062003},{"$f":"VLOOKUP(N62,MapPointConfig!$B$833:$H$1732,7,FALSE)","v":2062004},{"$f":"VLOOKUP(O62,MapPointConfig!$B$833:$H$1732,7,FALSE)","v":2062005},{"$f":"VLOOKUP(P62,MapPointConfig!$B$833:$H$1732,7,FALSE)","v":2062006},{"$f":"VLOOKUP(Q62,MapPointConfig!$B$833:$H$1732,7,FALSE)","v":2062007},{"$f":"VLOOKUP(R62,MapPointConfig!$B$833:$H$1732,7,FALSE)","v":2062008}]
["2063001#100","2063002#100","2063003#100","2063004#100","2063005#100","2063006#100","2063007#100","2063008#100",null,null,2063001,2063002,2063003,2063004,2063005,2063006,2063007,2063008,null,{"$f":"VLOOKUP(K63,MapPointConfig!$B$833:$H$1732,7,FALSE)","v":2063001},{"$f":"VLOOKUP(L63,MapPointConfig!$B$833:$H$1732,7,FALSE)","v":2063002},{"$f":"VLOOKUP(M63,MapPointConfig!$B$833:$H$1732,7,FALSE)","v":2063003},{"$f":"VLOOKUP(N63,MapPointConfig!$B$833:$H$1732,7,FALSE)","v":2063004},{"$f":"VLOOKUP(O63,MapPointConfig!$B$833:$H$1732,7,FALSE)","v":2063005},{"$f":"VLOOKUP(P63,MapPointConfig!$B$833:$H$1732,7,FALSE)","v":2063006},{"$f":"VLOOKUP(Q63,MapPointConfig!$B$833:$H$1732,7,FALSE)","v":2063007},{"$f":"VLOOKUP(R63,MapPointConfig!$B$833:$H$1732,7,FALSE)","v":2063008}]
["2064001#100","2064002#100","2064003#100","2064004#100","2064005#100","2064006#100","2064007#100","2064008#100",null,null,2064001,2064002,2064003,2064004,2064005,2064006,2064007,2064008,null,{"$f":"VLOOKUP(K64,MapPointConfig!$B$833:$H$1732,7,FALSE)","v":2064001},{"$f":"VLOOKUP(L64,MapPointConfig!$B$833:$H$1732,7,FALSE)","v":2064002},{"$f":"VLOOKUP(M64,MapPointConfig!$B$833:$H$1732,7,FALSE)","v":2064003},{"$f":"VLOOKUP(N64,MapPointConfig!$B$833:$H$1732,7,FALSE)","v":2064004},{"$f":"VLOOKUP(O64,MapPointConfig!$B$833:$H$1732,7,FALSE)","v":2064005},{"$f":"VLOOKUP(P64,MapPointConfig!$B$833:$H$1732,7,FALSE)","v":2064006},{"$f":"VLOOKUP(Q64,MapPointConfig!$B$833:$H$1732,7,FALSE)","v":2064007},{"$f":"VLOOKUP(R64,MapPointConfig!$B$833:$H$1732,7,FALSE)","v":2064008}]
["2065001#100","2065002#100","2065003#100","2065004#100","2065005#100","2065006#100","2065007#100","2065008#100",null,null,2065001,2065002,2065003,2065004,2065005,2065006,2065007,2065008,null,{"$f":"VLOOKUP(K65,MapPointConfig!$B$833:$H$1732,7,FALSE)","v":2065001},{"$f":"VLOOKUP(L65,MapPointConfig!$B$833:$H$1732,7,FALSE)","v":2065002},{"$f":"VLOOKUP(M65,MapPointConfig!$B$833:$H$1732,7,FALSE)","v":2065003},{"$f":"VLOOKUP(N65,MapPointConfig!$B$833:$H$1732,7,FALSE)","v":2065004},{"$f":"VLOOKUP(O65,MapPointConfig!$B$833:$H$1732,7,FALSE)","v":2065005},{"$f":"VLOOKUP(P65,MapPointConfig!$B$833:$H$1732,7,FALSE)","v":2065006},{"$f":"VLOOKUP(Q65,MapPointConfig!$B$833:$H$1732,7,FALSE)","v":2065007},{"$f":"VLOOKUP(R65,MapPointConfig!$B$833:$H$1732,7,FALSE)","v":2065008}]
["2066001#100","2066002#100","2066003#100","2066004#100","2066005#100","2066006#100","2066007#100","2066008#100",null,null,{"$f":"--LEFT(A66,FIND(\"#\",A66,1)-1)","v":2066001},{"$f":"--LEFT(B66,FIND(\"#\",B66,1)-1)","v":2066002},{"$f":"--LEFT(C66,FIND(\"#\",C66,1)-1)","v":2066003},{"$f":"--LEFT(D66,FIND(\"#\",D66,1)-1)","v":2066004},{"$f":"--LEFT(E66,FIND(\"#\",E66,1)-1)","v":2066005},{"$f":"--LEFT(F66,FIND(\"#\",F66,1)-1)","v":2066006},{"$f":"--LEFT(G66,FIND(\"#\",G66,1)-1)","v":2066007},{"$f":"--LEFT(H66,FIND(\"#\",H66,1)-1)","v":2066008},null,{"$f":"VLOOKUP(K66,MapPointConfig!$B$833:$H$1732,7,FALSE)","v":2066001},{"$f":"VLOOKUP(L66,MapPointConfig!$B$833:$H$1732,7,FALSE)","v":2066002},{"$f":"VLOOKUP(M66,MapPointConfig!$B$833:$H$1732,7,FALSE)","v":2066003},{"$f":"VLOOKUP(N66,MapPointConfig!$B$833:$H$1732,7,FALSE)","v":2066004},{"$f":"VLOOKUP(O66,MapPointConfig!$B$833:$H$1732,7,FALSE)","v":2066005},{"$f":"VLOOKUP(P66,MapPointConfig!$B$833:$H$1732,7,FALSE)","v":2066006},{"$f":"VLOOKUP(Q66,MapPointConfig!$B$833:$H$1732,7,FALSE)","v":2066007},{"$f":"VLOOKUP(R66,MapPointConfig!$B$833:$H$1732,7,FALSE)","v":2066008}]
["2067001#100","2067002#100","2067003#100","2067004#100","2067005#100","2067006#100","2067007#100","2067008#100",null,null,2067001,2067002,2067003,2067004,2067005,2067006,2067007,2067008,null,{"$f":"VLOOKUP(K67,MapPointConfig!$B$833:$H$1732,7,FALSE)","v":2067001},{"$f":"VLOOKUP(L67,MapPointConfig!$B$833:$H$1732,7,FALSE)","v":2067002},{"$f":"VLOOKUP(M67,MapPointConfig!$B$833:$H$1732,7,FALSE)","v":2067003},{"$f":"VLOOKUP(N67,MapPointConfig!$B$833:$H$1732,7,FALSE)","v":2067004},{"$f":"VLOOKUP(O67,MapPointConfig!$B$833:$H$1732,7,FALSE)","v":2067005},{"$f":"VLOOKUP(P67,MapPointConfig!$B$833:$H$1732,7,FALSE)","v":2067006},{"$f":"VLOOKUP(Q67,MapPointConfig!$B$833:$H$1732,7,FALSE)","v":2067007},{"$f":"VLOOKUP(R67,MapPointConfig!$B$833:$H$1732,7,FALSE)","v":2067008}]
["2068001#100","2068002#100","2068003#100","2068004#100","2068005#100","2068006#100","2068007#100","2068008#100",null,null,2068001,2068002,2068003,2068004,2068005,2068006,2068007,2068008,null,{"$f":"VLOOKUP(K68,MapPointConfig!$B$833:$H$1732,7,FALSE)","v":2068001},{"$f":"VLOOKUP(L68,MapPointConfig!$B$833:$H$1732,7,FALSE)","v":2068002},{"$f":"VLOOKUP(M68,MapPointConfig!$B$833:$H$1732,7,FALSE)","v":2068003},{"$f":"VLOOKUP(N68,MapPointConfig!$B$833:$H$1732,7,FALSE)","v":2068004},{"$f":"VLOOKUP(O68,MapPointConfig!$B$833:$H$1732,7,FALSE)","v":2068005},{"$f":"VLOOKUP(P68,MapPointConfig!$B$833:$H$1732,7,FALSE)","v":2068006},{"$f":"VLOOKUP(Q68,MapPointConfig!$B$833:$H$1732,7,FALSE)","v":2068007},{"$f":"VLOOKUP(R68,MapPointConfig!$B$833:$H$1732,7,FALSE)","v":2068008}]
["2069001#100","2069002#100","2069003#100","2069004#100","2069005#100","2069006#100","2069007#100","2069008#100",null,null,2069001,2069002,2069003,2069004,2069005,2069006,2069007,2069008,null,{"$f":"VLOOKUP(K69,MapPointConfig!$B$833:$H$1732,7,FALSE)","v":2069001},{"$f":"VLOOKUP(L69,MapPointConfig!$B$833:$H$1732,7,FALSE)","v":2069002},{"$f":"VLOOKUP(M69,MapPointConfig!$B$833:$H$1732,7,FALSE)","v":2069003},{"$f":"VLOOKUP(N69,MapPointConfig!$B$833:$H$1732,7,FALSE)","v":2069004},{"$f":"VLOOKUP(O69,MapPointConfig!$B$833:$H$1732,7,FALSE)","v":2069005},{"$f":"VLOOKUP(P69,MapPointConfig!$B$833:$H$1732,7,FALSE)","v":2069006},{"$f":"VLOOKUP(Q69,MapPointConfig!$B$833:$H$1732,7,FALSE)","v":2069007},{"$f":"VLOOKUP(R69,MapPointConfig!$B$833:$H$1732,7,FALSE)","v":2069008}]
["2070001#100","2070002#100","2070003#100","2070004#100","2070005#100","2070006#100","2070007#100","2070008#100",null,null,2070001,2070002,2070003,2070004,2070005,2070006,2070007,2070008,null,{"$f":"VLOOKUP(K70,MapPointConfig!$B$833:$H$1732,7,FALSE)","v":2070001},{"$f":"VLOOKUP(L70,MapPointConfig!$B$833:$H$1732,7,FALSE)","v":2070002},{"$f":"VLOOKUP(M70,MapPointConfig!$B$833:$H$1732,7,FALSE)","v":2070003},{"$f":"VLOOKUP(N70,MapPointConfig!$B$833:$H$1732,7,FALSE)","v":2070004},{"$f":"VLOOKUP(O70,MapPointConfig!$B$833:$H$1732,7,FALSE)","v":2070005},{"$f":"VLOOKUP(P70,MapPointConfig!$B$833:$H$1732,7,FALSE)","v":2070006},{"$f":"VLOOKUP(Q70,MapPointConfig!$B$833:$H$1732,7,FALSE)","v":2070007},{"$f":"VLOOKUP(R70,MapPointConfig!$B$833:$H$1732,7,FALSE)","v":2070008}]
["2071001#100","2071002#100","2071003#100","2071004#100","2071005#100","2071006#100","2071007#100","2071008#100",null,null,2071001,2071002,2071003,2071004,2071005,2071006,2071007,2071008,null,{"$f":"VLOOKUP(K71,MapPointConfig!$B$833:$H$1732,7,FALSE)","v":2071001},{"$f":"VLOOKUP(L71,MapPointConfig!$B$833:$H$1732,7,FALSE)","v":2071002},{"$f":"VLOOKUP(M71,MapPointConfig!$B$833:$H$1732,7,FALSE)","v":2071003},{"$f":"VLOOKUP(N71,MapPointConfig!$B$833:$H$1732,7,FALSE)","v":2071004},{"$f":"VLOOKUP(O71,MapPointConfig!$B$833:$H$1732,7,FALSE)","v":2071005},{"$f":"VLOOKUP(P71,MapPointConfig!$B$833:$H$1732,7,FALSE)","v":2071006},{"$f":"VLOOKUP(Q71,MapPointConfig!$B$833:$H$1732,7,FALSE)","v":2071007},{"$f":"VLOOKUP(R71,MapPointConfig!$B$833:$H$1732,7,FALSE)","v":2071008}]
["2072001#100","2072002#100","2072003#100","2072004#100","2072005#100","2072006#100","2072007#100","2072008#100",null,null,2072001,2072002,2072003,2072004,2072005,2072006,2072007,2072008,null,{"$f":"VLOOKUP(K72,MapPointConfig!$B$833:$H$1732,7,FALSE)","v":2072001},{"$f":"VLOOKUP(L72,MapPointConfig!$B$833:$H$1732,7,FALSE)","v":2072002},{"$f":"VLOOKUP(M72,MapPointConfig!$B$833:$H$1732,7,FALSE)","v":2072003},{"$f":"VLOOKUP(N72,MapPointConfig!$B$833:$H$1732,7,FALSE)","v":2072004},{"$f":"VLOOKUP(O72,MapPointConfig!$B$833:$H$1732,7,FALSE)","v":2072005},{"$f":"VLOOKUP(P72,MapPointConfig!$B$833:$H$1732,7,FALSE)","v":2072006},{"$f":"VLOOKUP(Q72,MapPointConfig!$B$833:$H$1732,7,FALSE)","v":2072007},{"$f":"VLOOKUP(R72,MapPointConfig!$B$833:$H$1732,7,FALSE)","v":2072008}]
["2073001#100","2073002#100","2073003#100","2073004#100","2073005#100","2073006#100","2073007#100","2073008#100",null,null,2073001,2073002,2073003,2073004,2073005,2073006,2073007,2073008,null,{"$f":"VLOOKUP(K73,MapPointConfig!$B$833:$H$1732,7,FALSE)","v":2073001},{"$f":"VLOOKUP(L73,MapPointConfig!$B$833:$H$1732,7,FALSE)","v":2073002},{"$f":"VLOOKUP(M73,MapPointConfig!$B$833:$H$1732,7,FALSE)","v":2073003},{"$f":"VLOOKUP(N73,MapPointConfig!$B$833:$H$1732,7,FALSE)","v":2073004},{"$f":"VLOOKUP(O73,MapPointConfig!$B$833:$H$1732,7,FALSE)","v":2073005},{"$f":"VLOOKUP(P73,MapPointConfig!$B$833:$H$1732,7,FALSE)","v":2073006},{"$f":"VLOOKUP(Q73,MapPointConfig!$B$833:$H$1732,7,FALSE)","v":2073007},{"$f":"VLOOKUP(R73,MapPointConfig!$B$833:$H$1732,7,FALSE)","v":2073008}]
["2074001#100","2074002#100","2074003#100","2074004#100","2074005#100","2074006#100","2074007#100","2074008#100",null,null,2074001,2074002,2074003,2074004,2074005,2074006,2074007,2074008,null,{"$f":"VLOOKUP(K74,MapPointConfig!$B$833:$H$1732,7,FALSE)","v":2074001},{"$f":"VLOOKUP(L74,MapPointConfig!$B$833:$H$1732,7,FALSE)","v":2074002},{"$f":"VLOOKUP(M74,MapPointConfig!$B$833:$H$1732,7,FALSE)","v":2074003},{"$f":"VLOOKUP(N74,MapPointConfig!$B$833:$H$1732,7,FALSE)","v":2074004},{"$f":"VLOOKUP(O74,MapPointConfig!$B$833:$H$1732,7,FALSE)","v":2074005},{"$f":"VLOOKUP(P74,MapPointConfig!$B$833:$H$1732,7,FALSE)","v":2074006},{"$f":"VLOOKUP(Q74,MapPointConfig!$B$833:$H$1732,7,FALSE)","v":2074007},{"$f":"VLOOKUP(R74,MapPointConfig!$B$833:$H$1732,7,FALSE)","v":2074008}]
["2075001#100","2075002#100","2075003#100","2075004#100","2075005#100","2075006#100","2075007#100","2075008#100",null,null,2075001,2075002,2075003,2075004,2075005,2075006,2075007,2075008,null,{"$f":"VLOOKUP(K75,MapPointConfig!$B$833:$H$1732,7,FALSE)","v":2075001},{"$f":"VLOOKUP(L75,MapPointConfig!$B$833:$H$1732,7,FALSE)","v":2075002},{"$f":"VLOOKUP(M75,MapPointConfig!$B$833:$H$1732,7,FALSE)","v":2075003},{"$f":"VLOOKUP(N75,MapPointConfig!$B$833:$H$1732,7,FALSE)","v":2075004},{"$f":"VLOOKUP(O75,MapPointConfig!$B$833:$H$1732,7,FALSE)","v":2075005},{"$f":"VLOOKUP(P75,MapPointConfig!$B$833:$H$1732,7,FALSE)","v":2075006},{"$f":"VLOOKUP(Q75,MapPointConfig!$B$833:$H$1732,7,FALSE)","v":2075007},{"$f":"VLOOKUP(R75,MapPointConfig!$B$833:$H$1732,7,FALSE)","v":2075008}]
["2076001#100","2076002#100","2076003#100","2076004#100","2076005#100","2076006#100","2076007#100","2076008#100",null,null,2076001,2076002,2076003,2076004,2076005,2076006,2076007,2076008,null,{"$f":"VLOOKUP(K76,MapPointConfig!$B$833:$H$1732,7,FALSE)","v":2076001},{"$f":"VLOOKUP(L76,MapPointConfig!$B$833:$H$1732,7,FALSE)","v":2076002},{"$f":"VLOOKUP(M76,MapPointConfig!$B$833:$H$1732,7,FALSE)","v":2076003},{"$f":"VLOOKUP(N76,MapPointConfig!$B$833:$H$1732,7,FALSE)","v":2076004},{"$f":"VLOOKUP(O76,MapPointConfig!$B$833:$H$1732,7,FALSE)","v":2076005},{"$f":"VLOOKUP(P76,MapPointConfig!$B$833:$H$1732,7,FALSE)","v":2076006},{"$f":"VLOOKUP(Q76,MapPointConfig!$B$833:$H$1732,7,FALSE)","v":2076007},{"$f":"VLOOKUP(R76,MapPointConfig!$B$833:$H$1732,7,FALSE)","v":2076008}]
["2077001#100","2077002#100","2077003#100","2077004#100","2077005#100","2077006#100","2077007#100","2077008#100",null,null,2077001,2077002,2077003,2077004,2077005,2077006,2077007,2077008,null,{"$f":"VLOOKUP(K77,MapPointConfig!$B$833:$H$1732,7,FALSE)","v":2077001},{"$f":"VLOOKUP(L77,MapPointConfig!$B$833:$H$1732,7,FALSE)","v":2077002},{"$f":"VLOOKUP(M77,MapPointConfig!$B$833:$H$1732,7,FALSE)","v":2077003},{"$f":"VLOOKUP(N77,MapPointConfig!$B$833:$H$1732,7,FALSE)","v":2077004},{"$f":"VLOOKUP(O77,MapPointConfig!$B$833:$H$1732,7,FALSE)","v":2077005},{"$f":"VLOOKUP(P77,MapPointConfig!$B$833:$H$1732,7,FALSE)","v":2077006},{"$f":"VLOOKUP(Q77,MapPointConfig!$B$833:$H$1732,7,FALSE)","v":2077007},{"$f":"VLOOKUP(R77,MapPointConfig!$B$833:$H$1732,7,FALSE)","v":2077008}]
["2078001#100","2078002#100","2078003#100","2078004#100","2078005#100","2078006#100","2078007#100","2078008#100",null,null,2078001,2078002,2078003,2078004,2078005,2078006,2078007,2078008,null,{"$f":"VLOOKUP(K78,MapPointConfig!$B$833:$H$1732,7,FALSE)","v":2078001},{"$f":"VLOOKUP(L78,MapPointConfig!$B$833:$H$1732,7,FALSE)","v":2078002},{"$f":"VLOOKUP(M78,MapPointConfig!$B$833:$H$1732,7,FALSE)","v":2078003},{"$f":"VLOOKUP(N78,MapPointConfig!$B$833:$H$1732,7,FALSE)","v":2078004},{"$f":"VLOOKUP(O78,MapPointConfig!$B$833:$H$1732,7,FALSE)","v":2078005},{"$f":"VLOOKUP(P78,MapPointConfig!$B$833:$H$1732,7,FALSE)","v":2078006},{"$f":"VLOOKUP(Q78,MapPointConfig!$B$833:$H$1732,7,FALSE)","v":2078007},{"$f":"VLOOKUP(R78,MapPointConfig!$B$833:$H$1732,7,FALSE)","v":2078008}]
["2079001#100","2079002#100","2079003#100","2079004#100","2079005#100","2079006#100","2079007#100","2079008#100",null,null,2079001,2079002,2079003,2079004,2079005,2079006,2079007,2079008,null,{"$f":"VLOOKUP(K79,MapPointConfig!$B$833:$H$1732,7,FALSE)","v":2079001},{"$f":"VLOOKUP(L79,MapPointConfig!$B$833:$H$1732,7,FALSE)","v":2079002},{"$f":"VLOOKUP(M79,MapPointConfig!$B$833:$H$1732,7,FALSE)","v":2079003},{"$f":"VLOOKUP(N79,MapPointConfig!$B$833:$H$1732,7,FALSE)","v":2079004},{"$f":"VLOOKUP(O79,MapPointConfig!$B$833:$H$1732,7,FALSE)","v":2079005},{"$f":"VLOOKUP(P79,MapPointConfig!$B$833:$H$1732,7,FALSE)","v":2079006},{"$f":"VLOOKUP(Q79,MapPointConfig!$B$833:$H$1732,7,FALSE)","v":2079007},{"$f":"VLOOKUP(R79,MapPointConfig!$B$833:$H$1732,7,FALSE)","v":2079008}]
["2080001#100","2080002#100","2080003#100","2080004#100","2080005#100","2080006#100","2080007#100","2080008#100",null,null,2080001,2080002,2080003,2080004,2080005,2080006,2080007,2080008,null,{"$f":"VLOOKUP(K80,MapPointConfig!$B$833:$H$1732,7,FALSE)","v":2080001},{"$f":"VLOOKUP(L80,MapPointConfig!$B$833:$H$1732,7,FALSE)","v":2080002},{"$f":"VLOOKUP(M80,MapPointConfig!$B$833:$H$1732,7,FALSE)","v":2080003},{"$f":"VLOOKUP(N80,MapPointConfig!$B$833:$H$1732,7,FALSE)","v":2080004},{"$f":"VLOOKUP(O80,MapPointConfig!$B$833:$H$1732,7,FALSE)","v":2080005},{"$f":"VLOOKUP(P80,MapPointConfig!$B$833:$H$1732,7,FALSE)","v":2080006},{"$f":"VLOOKUP(Q80,MapPointConfig!$B$833:$H$1732,7,FALSE)","v":2080007},{"$f":"VLOOKUP(R80,MapPointConfig!$B$833:$H$1732,7,FALSE)","v":2080008}]
["2081001#100","2081002#100","2081003#100","2081004#100","2081005#100","2081006#100","2081007#100","2081008#100",null,null,2081001,2081002,2081003,2081004,2081005,2081006,2081007,2081008,null,{"$f":"VLOOKUP(K81,MapPointConfig!$B$833:$H$1732,7,FALSE)","v":2081001},{"$f":"VLOOKUP(L81,MapPointConfig!$B$833:$H$1732,7,FALSE)","v":2081002},{"$f":"VLOOKUP(M81,MapPointConfig!$B$833:$H$1732,7,FALSE)","v":2081003},{"$f":"VLOOKUP(N81,MapPointConfig!$B$833:$H$1732,7,FALSE)","v":2081004},{"$f":"VLOOKUP(O81,MapPointConfig!$B$833:$H$1732,7,FALSE)","v":2081005},{"$f":"VLOOKUP(P81,MapPointConfig!$B$833:$H$1732,7,FALSE)","v":2081006},{"$f":"VLOOKUP(Q81,MapPointConfig!$B$833:$H$1732,7,FALSE)","v":2081007},{"$f":"VLOOKUP(R81,MapPointConfig!$B$833:$H$1732,7,FALSE)","v":2081008}]
["2082001#100","2082002#100","2082003#100","2082004#100","2082005#100","2082006#100","2082007#100","2082008#100",null,null,2082001,2082002,2082003,2082004,2082005,2082006,2082007,2082008,null,{"$f":"VLOOKUP(K82,MapPointConfig!$B$833:$H$1732,7,FALSE)","v":2082001},{"$f":"VLOOKUP(L82,MapPointConfig!$B$833:$H$1732,7,FALSE)","v":2082002},{"$f":"VLOOKUP(M82,MapPointConfig!$B$833:$H$1732,7,FALSE)","v":2082003},{"$f":"VLOOKUP(N82,MapPointConfig!$B$833:$H$1732,7,FALSE)","v":2082004},{"$f":"VLOOKUP(O82,MapPointConfig!$B$833:$H$1732,7,FALSE)","v":2082005},{"$f":"VLOOKUP(P82,MapPointConfig!$B$833:$H$1732,7,FALSE)","v":2082006},{"$f":"VLOOKUP(Q82,MapPointConfig!$B$833:$H$1732,7,FALSE)","v":2082007},{"$f":"VLOOKUP(R82,MapPointConfig!$B$833:$H$1732,7,FALSE)","v":2082008}]
["2083001#100","2083002#100","2083003#100","2083004#100","2083005#100","2083006#100","2083007#100","2083008#100",null,null,2083001,2083002,2083003,2083004,2083005,2083006,2083007,2083008,null,{"$f":"VLOOKUP(K83,MapPointConfig!$B$833:$H$1732,7,FALSE)","v":2083001},{"$f":"VLOOKUP(L83,MapPointConfig!$B$833:$H$1732,7,FALSE)","v":2083002},{"$f":"VLOOKUP(M83,MapPointConfig!$B$833:$H$1732,7,FALSE)","v":2083003},{"$f":"VLOOKUP(N83,MapPointConfig!$B$833:$H$1732,7,FALSE)","v":2083004},{"$f":"VLOOKUP(O83,MapPointConfig!$B$833:$H$1732,7,FALSE)","v":2083005},{"$f":"VLOOKUP(P83,MapPointConfig!$B$833:$H$1732,7,FALSE)","v":2083006},{"$f":"VLOOKUP(Q83,MapPointConfig!$B$833:$H$1732,7,FALSE)","v":2083007},{"$f":"VLOOKUP(R83,MapPointConfig!$B$833:$H$1732,7,FALSE)","v":2083008}]
["2084001#100","2084002#100","2084003#100","2084004#100","2084005#100","2084006#100","2084007#100","2084008#100",null,null,2084001,2084002,2084003,2084004,2084005,2084006,2084007,2084008,null,{"$f":"VLOOKUP(K84,MapPointConfig!$B$833:$H$1732,7,FALSE)","v":2084001},{"$f":"VLOOKUP(L84,MapPointConfig!$B$833:$H$1732,7,FALSE)","v":2084002},{"$f":"VLOOKUP(M84,MapPointConfig!$B$833:$H$1732,7,FALSE)","v":2084003},{"$f":"VLOOKUP(N84,MapPointConfig!$B$833:$H$1732,7,FALSE)","v":2084004},{"$f":"VLOOKUP(O84,MapPointConfig!$B$833:$H$1732,7,FALSE)","v":2084005},{"$f":"VLOOKUP(P84,MapPointConfig!$B$833:$H$1732,7,FALSE)","v":2084006},{"$f":"VLOOKUP(Q84,MapPointConfig!$B$833:$H$1732,7,FALSE)","v":2084007},{"$f":"VLOOKUP(R84,MapPointConfig!$B$833:$H$1732,7,FALSE)","v":2084008}]
["2085001#100","2085002#100","2085003#100","2085004#100","2085005#100","2085006#100","2085007#100","2085008#100",null,null,2085001,2085002,2085003,2085004,2085005,2085006,2085007,2085008,null,{"$f":"VLOOKUP(K85,MapPointConfig!$B$833:$H$1732,7,FALSE)","v":2085001},{"$f":"VLOOKUP(L85,MapPointConfig!$B$833:$H$1732,7,FALSE)","v":2085002},{"$f":"VLOOKUP(M85,MapPointConfig!$B$833:$H$1732,7,FALSE)","v":2085003},{"$f":"VLOOKUP(N85,MapPointConfig!$B$833:$H$1732,7,FALSE)","v":2085004},{"$f":"VLOOKUP(O85,MapPointConfig!$B$833:$H$1732,7,FALSE)","v":2085005},{"$f":"VLOOKUP(P85,MapPointConfig!$B$833:$H$1732,7,FALSE)","v":2085006},{"$f":"VLOOKUP(Q85,MapPointConfig!$B$833:$H$1732,7,FALSE)","v":2085007},{"$f":"VLOOKUP(R85,MapPointConfig!$B$833:$H$1732,7,FALSE)","v":2085008}]
["2086001#100","2086002#100","2086003#100","2086004#100","2086005#100","2086006#100","2086007#100","2086008#100",null,null,2086001,2086002,2086003,2086004,2086005,2086006,2086007,2086008,null,{"$f":"VLOOKUP(K86,MapPointConfig!$B$833:$H$1732,7,FALSE)","v":2086001},{"$f":"VLOOKUP(L86,MapPointConfig!$B$833:$H$1732,7,FALSE)","v":2086002},{"$f":"VLOOKUP(M86,MapPointConfig!$B$833:$H$1732,7,FALSE)","v":2086003},{"$f":"VLOOKUP(N86,MapPointConfig!$B$833:$H$1732,7,FALSE)","v":2086004},{"$f":"VLOOKUP(O86,MapPointConfig!$B$833:$H$1732,7,FALSE)","v":2086005},{"$f":"VLOOKUP(P86,MapPointConfig!$B$833:$H$1732,7,FALSE)","v":2086006},{"$f":"VLOOKUP(Q86,MapPointConfig!$B$833:$H$1732,7,FALSE)","v":2086007},{"$f":"VLOOKUP(R86,MapPointConfig!$B$833:$H$1732,7,FALSE)","v":2086008}]
["2087001#100","2087002#100","2087003#100","2087004#100","2087005#100","2087006#100","2087007#100","2087008#100",null,null,2087001,2087002,2087003,2087004,2087005,2087006,2087007,2087008,null,{"$f":"VLOOKUP(K87,MapPointConfig!$B$833:$H$1732,7,FALSE)","v":2087001},{"$f":"VLOOKUP(L87,MapPointConfig!$B$833:$H$1732,7,FALSE)","v":2087002},{"$f":"VLOOKUP(M87,MapPointConfig!$B$833:$H$1732,7,FALSE)","v":2087003},{"$f":"VLOOKUP(N87,MapPointConfig!$B$833:$H$1732,7,FALSE)","v":2087004},{"$f":"VLOOKUP(O87,MapPointConfig!$B$833:$H$1732,7,FALSE)","v":2087005},{"$f":"VLOOKUP(P87,MapPointConfig!$B$833:$H$1732,7,FALSE)","v":2087006},{"$f":"VLOOKUP(Q87,MapPointConfig!$B$833:$H$1732,7,FALSE)","v":2087007},{"$f":"VLOOKUP(R87,MapPointConfig!$B$833:$H$1732,7,FALSE)","v":2087008}]
["2088001#100","2088002#100","2088003#100","2088004#100","2088005#100","2088006#100","2088007#100","2088008#100",null,null,2088001,2088002,2088003,2088004,2088005,2088006,2088007,2088008,null,{"$f":"VLOOKUP(K88,MapPointConfig!$B$833:$H$1732,7,FALSE)","v":2088001},{"$f":"VLOOKUP(L88,MapPointConfig!$B$833:$H$1732,7,FALSE)","v":2088002},{"$f":"VLOOKUP(M88,MapPointConfig!$B$833:$H$1732,7,FALSE)","v":2088003},{"$f":"VLOOKUP(N88,MapPointConfig!$B$833:$H$1732,7,FALSE)","v":2088004},{"$f":"VLOOKUP(O88,MapPointConfig!$B$833:$H$1732,7,FALSE)","v":2088005},{"$f":"VLOOKUP(P88,MapPointConfig!$B$833:$H$1732,7,FALSE)","v":2088006},{"$f":"VLOOKUP(Q88,MapPointConfig!$B$833:$H$1732,7,FALSE)","v":2088007},{"$f":"VLOOKUP(R88,MapPointConfig!$B$833:$H$1732,7,FALSE)","v":2088008}]
["2089001#100","2089002#100","2089003#100","2089004#100","2089005#100","2089006#100","2089007#100","2089008#100",null,null,2089001,2089002,2089003,2089004,2089005,2089006,2089007,2089008,null,{"$f":"VLOOKUP(K89,MapPointConfig!$B$833:$H$1732,7,FALSE)","v":2089001},{"$f":"VLOOKUP(L89,MapPointConfig!$B$833:$H$1732,7,FALSE)","v":2089002},{"$f":"VLOOKUP(M89,MapPointConfig!$B$833:$H$1732,7,FALSE)","v":2089003},{"$f":"VLOOKUP(N89,MapPointConfig!$B$833:$H$1732,7,FALSE)","v":2089004},{"$f":"VLOOKUP(O89,MapPointConfig!$B$833:$H$1732,7,FALSE)","v":2089005},{"$f":"VLOOKUP(P89,MapPointConfig!$B$833:$H$1732,7,FALSE)","v":2089006},{"$f":"VLOOKUP(Q89,MapPointConfig!$B$833:$H$1732,7,FALSE)","v":2089007},{"$f":"VLOOKUP(R89,MapPointConfig!$B$833:$H$1732,7,FALSE)","v":2089008}]
["2090001#100","2090002#100","2090003#100","2090004#100","2090005#100","2090006#100","2090007#100","2090008#100",null,null,2090001,2090002,2090003,2090004,2090005,2090006,2090007,2090008,null,{"$f":"VLOOKUP(K90,MapPointConfig!$B$833:$H$1732,7,FALSE)","v":2090001},{"$f":"VLOOKUP(L90,MapPointConfig!$B$833:$H$1732,7,FALSE)","v":2090002},{"$f":"VLOOKUP(M90,MapPointConfig!$B$833:$H$1732,7,FALSE)","v":2090003},{"$f":"VLOOKUP(N90,MapPointConfig!$B$833:$H$1732,7,FALSE)","v":2090004},{"$f":"VLOOKUP(O90,MapPointConfig!$B$833:$H$1732,7,FALSE)","v":2090005},{"$f":"VLOOKUP(P90,MapPointConfig!$B$833:$H$1732,7,FALSE)","v":2090006},{"$f":"VLOOKUP(Q90,MapPointConfig!$B$833:$H$1732,7,FALSE)","v":2090007},{"$f":"VLOOKUP(R90,MapPointConfig!$B$833:$H$1732,7,FALSE)","v":2090008}]
["2091001#100","2091002#100","2091003#100","2091004#100","2091005#100","2091006#100","2091007#100","2091008#100",null,null,2091001,2091002,2091003,2091004,2091005,2091006,2091007,2091008,null,{"$f":"VLOOKUP(K91,MapPointConfig!$B$833:$H$1732,7,FALSE)","v":2091001},{"$f":"VLOOKUP(L91,MapPointConfig!$B$833:$H$1732,7,FALSE)","v":2091002},{"$f":"VLOOKUP(M91,MapPointConfig!$B$833:$H$1732,7,FALSE)","v":2091003},{"$f":"VLOOKUP(N91,MapPointConfig!$B$833:$H$1732,7,FALSE)","v":2091004},{"$f":"VLOOKUP(O91,MapPointConfig!$B$833:$H$1732,7,FALSE)","v":2091005},{"$f":"VLOOKUP(P91,MapPointConfig!$B$833:$H$1732,7,FALSE)","v":2091006},{"$f":"VLOOKUP(Q91,MapPointConfig!$B$833:$H$1732,7,FALSE)","v":2091007},{"$f":"VLOOKUP(R91,MapPointConfig!$B$833:$H$1732,7,FALSE)","v":2091008}]
["2092001#100","2092002#100","2092003#100","2092004#100","2092005#100","2092006#100","2092007#100","2092008#100",null,null,2092001,2092002,2092003,2092004,2092005,2092006,2092007,2092008,null,{"$f":"VLOOKUP(K92,MapPointConfig!$B$833:$H$1732,7,FALSE)","v":2092001},{"$f":"VLOOKUP(L92,MapPointConfig!$B$833:$H$1732,7,FALSE)","v":2092002},{"$f":"VLOOKUP(M92,MapPointConfig!$B$833:$H$1732,7,FALSE)","v":2092003},{"$f":"VLOOKUP(N92,MapPointConfig!$B$833:$H$1732,7,FALSE)","v":2092004},{"$f":"VLOOKUP(O92,MapPointConfig!$B$833:$H$1732,7,FALSE)","v":2092005},{"$f":"VLOOKUP(P92,MapPointConfig!$B$833:$H$1732,7,FALSE)","v":2092006},{"$f":"VLOOKUP(Q92,MapPointConfig!$B$833:$H$1732,7,FALSE)","v":2092007},{"$f":"VLOOKUP(R92,MapPointConfig!$B$833:$H$1732,7,FALSE)","v":2092008}]
["2093001#100","2093002#100","2093003#100","2093004#100","2093005#100","2093006#100","2093007#100","2093008#100",null,null,2093001,2093002,2093003,2093004,2093005,2093006,2093007,2093008,null,{"$f":"VLOOKUP(K93,MapPointConfig!$B$833:$H$1732,7,FALSE)","v":2093001},{"$f":"VLOOKUP(L93,MapPointConfig!$B$833:$H$1732,7,FALSE)","v":2093002},{"$f":"VLOOKUP(M93,MapPointConfig!$B$833:$H$1732,7,FALSE)","v":2093003},{"$f":"VLOOKUP(N93,MapPointConfig!$B$833:$H$1732,7,FALSE)","v":2093004},{"$f":"VLOOKUP(O93,MapPointConfig!$B$833:$H$1732,7,FALSE)","v":2093005},{"$f":"VLOOKUP(P93,MapPointConfig!$B$833:$H$1732,7,FALSE)","v":2093006},{"$f":"VLOOKUP(Q93,MapPointConfig!$B$833:$H$1732,7,FALSE)","v":2093007},{"$f":"VLOOKUP(R93,MapPointConfig!$B$833:$H$1732,7,FALSE)","v":2093008}]
["2094001#100","2094002#100","2094003#100","2094004#100","2094005#100","2094006#100","2094007#100","2094008#100",null,null,2094001,2094002,2094003,2094004,2094005,2094006,2094007,2094008,null,{"$f":"VLOOKUP(K94,MapPointConfig!$B$833:$H$1732,7,FALSE)","v":2094001},{"$f":"VLOOKUP(L94,MapPointConfig!$B$833:$H$1732,7,FALSE)","v":2094002},{"$f":"VLOOKUP(M94,MapPointConfig!$B$833:$H$1732,7,FALSE)","v":2094003},{"$f":"VLOOKUP(N94,MapPointConfig!$B$833:$H$1732,7,FALSE)","v":2094004},{"$f":"VLOOKUP(O94,MapPointConfig!$B$833:$H$1732,7,FALSE)","v":2094005},{"$f":"VLOOKUP(P94,MapPointConfig!$B$833:$H$1732,7,FALSE)","v":2094006},{"$f":"VLOOKUP(Q94,MapPointConfig!$B$833:$H$1732,7,FALSE)","v":2094007},{"$f":"VLOOKUP(R94,MapPointConfig!$B$833:$H$1732,7,FALSE)","v":2094008}]
["2095001#100","2095002#100","2095003#100","2095004#100","2095005#100","2095006#100","2095007#100","2095008#100",null,null,2095001,2095002,2095003,2095004,2095005,2095006,2095007,2095008,null,{"$f":"VLOOKUP(K95,MapPointConfig!$B$833:$H$1732,7,FALSE)","v":2095001},{"$f":"VLOOKUP(L95,MapPointConfig!$B$833:$H$1732,7,FALSE)","v":2095002},{"$f":"VLOOKUP(M95,MapPointConfig!$B$833:$H$1732,7,FALSE)","v":2095003},{"$f":"VLOOKUP(N95,MapPointConfig!$B$833:$H$1732,7,FALSE)","v":2095004},{"$f":"VLOOKUP(O95,MapPointConfig!$B$833:$H$1732,7,FALSE)","v":2095005},{"$f":"VLOOKUP(P95,MapPointConfig!$B$833:$H$1732,7,FALSE)","v":2095006},{"$f":"VLOOKUP(Q95,MapPointConfig!$B$833:$H$1732,7,FALSE)","v":2095007},{"$f":"VLOOKUP(R95,MapPointConfig!$B$833:$H$1732,7,FALSE)","v":2095008}]
["2096001#100","2096002#100","2096003#100","2096004#100","2096005#100","2096006#100","2096007#100","2096008#100",null,null,2096001,2096002,2096003,2096004,2096005,2096006,2096007,2096008,null,{"$f":"VLOOKUP(K96,MapPointConfig!$B$833:$H$1732,7,FALSE)","v":2096001},{"$f":"VLOOKUP(L96,MapPointConfig!$B$833:$H$1732,7,FALSE)","v":2096002},{"$f":"VLOOKUP(M96,MapPointConfig!$B$833:$H$1732,7,FALSE)","v":2096003},{"$f":"VLOOKUP(N96,MapPointConfig!$B$833:$H$1732,7,FALSE)","v":2096004},{"$f":"VLOOKUP(O96,MapPointConfig!$B$833:$H$1732,7,FALSE)","v":2096005},{"$f":"VLOOKUP(P96,MapPointConfig!$B$833:$H$1732,7,FALSE)","v":2096006},{"$f":"VLOOKUP(Q96,MapPointConfig!$B$833:$H$1732,7,FALSE)","v":2096007},{"$f":"VLOOKUP(R96,MapPointConfig!$B$833:$H$1732,7,FALSE)","v":2096008}]
["2097001#100","2097002#100","2097003#100","2097004#100","2097005#100","2097006#100","2097007#100","2097008#100",null,null,2097001,2097002,2097003,2097004,2097005,2097006,2097007,2097008,null,{"$f":"VLOOKUP(K97,MapPointConfig!$B$833:$H$1732,7,FALSE)","v":2097001},{"$f":"VLOOKUP(L97,MapPointConfig!$B$833:$H$1732,7,FALSE)","v":2097002},{"$f":"VLOOKUP(M97,MapPointConfig!$B$833:$H$1732,7,FALSE)","v":2097003},{"$f":"VLOOKUP(N97,MapPointConfig!$B$833:$H$1732,7,FALSE)","v":2097004},{"$f":"VLOOKUP(O97,MapPointConfig!$B$833:$H$1732,7,FALSE)","v":2097005},{"$f":"VLOOKUP(P97,MapPointConfig!$B$833:$H$1732,7,FALSE)","v":2097006},{"$f":"VLOOKUP(Q97,MapPointConfig!$B$833:$H$1732,7,FALSE)","v":2097007},{"$f":"VLOOKUP(R97,MapPointConfig!$B$833:$H$1732,7,FALSE)","v":2097008}]
["2098001#100","2098002#100","2098003#100","2098004#100","2098005#100","2098006#100","2098007#100","2098008#100",null,null,2098001,2098002,2098003,2098004,2098005,2098006,2098007,2098008,null,{"$f":"VLOOKUP(K98,MapPointConfig!$B$833:$H$1732,7,FALSE)","v":2098001},{"$f":"VLOOKUP(L98,MapPointConfig!$B$833:$H$1732,7,FALSE)","v":2098002},{"$f":"VLOOKUP(M98,MapPointConfig!$B$833:$H$1732,7,FALSE)","v":2098003},{"$f":"VLOOKUP(N98,MapPointConfig!$B$833:$H$1732,7,FALSE)","v":2098004},{"$f":"VLOOKUP(O98,MapPointConfig!$B$833:$H$1732,7,FALSE)","v":2098005},{"$f":"VLOOKUP(P98,MapPointConfig!$B$833:$H$1732,7,FALSE)","v":2098006},{"$f":"VLOOKUP(Q98,MapPointConfig!$B$833:$H$1732,7,FALSE)","v":2098007},{"$f":"VLOOKUP(R98,MapPointConfig!$B$833:$H$1732,7,FALSE)","v":2098008}]
["2099001#100","2099002#100","2099003#100","2099004#100","2099005#100","2099006#100","2099007#100","2099008#100",null,null,2099001,2099002,2099003,2099004,2099005,2099006,2099007,2099008,null,{"$f":"VLOOKUP(K99,MapPointConfig!$B$833:$H$1732,7,FALSE)","v":2099001},{"$f":"VLOOKUP(L99,MapPointConfig!$B$833:$H$1732,7,FALSE)","v":2099002},{"$f":"VLOOKUP(M99,MapPointConfig!$B$833:$H$1732,7,FALSE)","v":2099003},{"$f":"VLOOKUP(N99,MapPointConfig!$B$833:$H$1732,7,FALSE)","v":2099004},{"$f":"VLOOKUP(O99,MapPointConfig!$B$833:$H$1732,7,FALSE)","v":2099005},{"$f":"VLOOKUP(P99,MapPointConfig!$B$833:$H$1732,7,FALSE)","v":2099006},{"$f":"VLOOKUP(Q99,MapPointConfig!$B$833:$H$1732,7,FALSE)","v":2099007},{"$f":"VLOOKUP(R99,MapPointConfig!$B$833:$H$1732,7,FALSE)","v":2099008}]
["2100001#100","2100002#100","2100003#100","2100004#100","2100005#100","2100006#100","2100007#100","2100008#100",null,null,2100001,2100002,2100003,2100004,2100005,2100006,2100007,2100008,null,{"$f":"VLOOKUP(K100,MapPointConfig!$B$833:$H$1732,7,FALSE)","v":2100001},{"$f":"VLOOKUP(L100,MapPointConfig!$B$833:$H$1732,7,FALSE)","v":2100002},{"$f":"VLOOKUP(M100,MapPointConfig!$B$833:$H$1732,7,FALSE)","v":2100003},{"$f":"VLOOKUP(N100,MapPointConfig!$B$833:$H$1732,7,FALSE)","v":2100004},{"$f":"VLOOKUP(O100,MapPointConfig!$B$833:$H$1732,7,FALSE)","v":2100005},{"$f":"VLOOKUP(P100,MapPointConfig!$B$833:$H$1732,7,FALSE)","v":2100006},{"$f":"VLOOKUP(Q100,MapPointConfig!$B$833:$H$1732,7,FALSE)","v":2100007},{"$f":"VLOOKUP(R100,MapPointConfig!$B$833:$H$1732,7,FALSE)","v":2100008}]
["2101001#100","2101002#100","2101003#100","2101004#100","2101005#100","2101006#100","2101007#100","2101008#100",null,null,2101001,2101002,2101003,2101004,2101005,2101006,2101007,2101008,null,{"$f":"VLOOKUP(K101,MapPointConfig!$B$833:$H$1732,7,FALSE)","v":{"$error":"#N/A"}},{"$f":"VLOOKUP(L101,MapPointConfig!$B$833:$H$1732,7,FALSE)","v":{"$error":"#N/A"}},{"$f":"VLOOKUP(M101,MapPointConfig!$B$833:$H$1732,7,FALSE)","v":{"$error":"#N/A"}},{"$f":"VLOOKUP(N101,MapPointConfig!$B$833:$H$1732,7,FALSE)","v":{"$error":"#N/A"}},{"$f":"VLOOKUP(O101,MapPointConfig!$B$833:$H$1732,7,FALSE)","v":{"$error":"#N/A"}},{"$f":"VLOOKUP(P101,MapPointConfig!$B$833:$H$1732,7,FALSE)","v":{"$error":"#N/A"}},{"$f":"VLOOKUP(Q101,MapPointConfig!$B$833:$H$1732,7,FALSE)","v":{"$error":"#N/A"}},{"$f":"VLOOKUP(R101,MapPointConfig!$B$833:$H$1732,7,FALSE)","v":{"$error":"#N/A"}}]
["2102001#100","2102002#100","2102003#100","2102004#100","2102005#100","2102006#100","2102007#100","2102008#100",null,null,2102001,2102002,2102003,2102004,2102005,2102006,2102007,2102008,null,{"$f":"VLOOKUP(K102,MapPointConfig!$B$833:$H$1732,7,FALSE)","v":{"$error":"#N/A"}},{"$f":"VLOOKUP(L102,MapPointConfig!$B$833:$H$1732,7,FALSE)","v":{"$error":"#N/A"}},{"$f":"VLOOKUP(M102,MapPointConfig!$B$833:$H$1732,7,FALSE)","v":{"$error":"#N/A"}},{"$f":"VLOOKUP(N102,MapPointConfig!$B$833:$H$1732,7,FALSE)","v":{"$error":"#N/A"}},{"$f":"VLOOKUP(O102,MapPointConfig!$B$833:$H$1732,7,FALSE)","v":{"$error":"#N/A"}},{"$f":"VLOOKUP(P102,MapPointConfig!$B$833:$H$1732,7,FALSE)","v":{"$error":"#N/A"}},{"$f":"VLOOKUP(Q102,MapPointConfig!$B$833:$H$1732,7,FALSE)","v":{"$error":"#N/A"}},{"$f":"VLOOKUP(R102,MapPointConfig!$B$833:$H$1732,7,FALSE)","v":{"$error":"#N/A"}}]
["2103001#100","2103002#100","2103003#100","2103004#100","2103005#100","2103006#100","2103007#100","2103008#100",null,null,2103001,2103002,2103003,2103004,2103005,2103006,2103007,2103008,null,{"$f":"VLOOKUP(K103,MapPointConfig!$B$833:$H$1732,7,FALSE)","v":{"$error":"#N/A"}},{"$f":"VLOOKUP(L103,MapPointConfig!$B$833:$H$1732,7,FALSE)","v":{"$error":"#N/A"}},{"$f":"VLOOKUP(M103,MapPointConfig!$B$833:$H$1732,7,FALSE)","v":{"$error":"#N/A"}},{"$f":"VLOOKUP(N103,MapPointConfig!$B$833:$H$1732,7,FALSE)","v":{"$error":"#N/A"}},{"$f":"VLOOKUP(O103,MapPointConfig!$B$833:$H$1732,7,FALSE)","v":{"$error":"#N/A"}},{"$f":"VLOOKUP(P103,MapPointConfig!$B$833:$H$1732,7,FALSE)","v":{"$error":"#N/A"}},{"$f":"VLOOKUP(Q103,MapPointConfig!$B$833:$H$1732,7,FALSE)","v":{"$error":"#N/A"}},{"$f":"VLOOKUP(R103,MapPointConfig!$B$833:$H$1732,7,FALSE)","v":{"$error":"#N/A"}}]
["2104001#100","2104002#100","2104003#100","2104004#100","2104005#100","2104006#100","2104007#100","2104008#100",null,null,2104001,2104002,2104003,2104004,2104005,2104006,2104007,2104008,null,{"$f":"VLOOKUP(K104,MapPointConfig!$B$833:$H$1732,7,FALSE)","v":{"$error":"#N/A"}},{"$f":"VLOOKUP(L104,MapPointConfig!$B$833:$H$1732,7,FALSE)","v":{"$error":"#N/A"}},{"$f":"VLOOKUP(M104,MapPointConfig!$B$833:$H$1732,7,FALSE)","v":{"$error":"#N/A"}},{"$f":"VLOOKUP(N104,MapPointConfig!$B$833:$H$1732,7,FALSE)","v":{"$error":"#N/A"}},{"$f":"VLOOKUP(O104,MapPointConfig!$B$833:$H$1732,7,FALSE)","v":{"$error":"#N/A"}},{"$f":"VLOOKUP(P104,MapPointConfig!$B$833:$H$1732,7,FALSE)","v":{"$error":"#N/A"}},{"$f":"VLOOKUP(Q104,MapPointConfig!$B$833:$H$1732,7,FALSE)","v":{"$error":"#N/A"}},{"$f":"VLOOKUP(R104,MapPointConfig!$B$833:$H$1732,7,FALSE)","v":{"$error":"#N/A"}}]
["2105001#100","2105002#100","2105003#100","2105004#100","2105005#100","2105006#100","2105007#100","2105008#100",null,null,2105001,2105002,2105003,2105004,2105005,2105006,2105007,2105008,null,{"$f":"VLOOKUP(K105,MapPointConfig!$B$833:$H$1732,7,FALSE)","v":{"$error":"#N/A"}},{"$f":"VLOOKUP(L105,MapPointConfig!$B$833:$H$1732,7,FALSE)","v":{"$error":"#N/A"}},{"$f":"VLOOKUP(M105,MapPointConfig!$B$833:$H$1732,7,FALSE)","v":{"$error":"#N/A"}},{"$f":"VLOOKUP(N105,MapPointConfig!$B$833:$H$1732,7,FALSE)","v":{"$error":"#N/A"}},{"$f":"VLOOKUP(O105,MapPointConfig!$B$833:$H$1732,7,FALSE)","v":{"$error":"#N/A"}},{"$f":"VLOOKUP(P105,MapPointConfig!$B$833:$H$1732,7,FALSE)","v":{"$error":"#N/A"}},{"$f":"VLOOKUP(Q105,MapPointConfig!$B$833:$H$1732,7,FALSE)","v":{"$error":"#N/A"}},{"$f":"VLOOKUP(R105,MapPointConfig!$B$833:$H$1732,7,FALSE)","v":{"$error":"#N/A"}}]
["2106001#100","2106002#100","2106003#100","2106004#100","2106005#100","2106006#100","2106007#100","2106008#100",null,null,2106001,2106002,2106003,2106004,2106005,2106006,2106007,2106008,null,{"$f":"VLOOKUP(K106,MapPointConfig!$B$833:$H$1732,7,FALSE)","v":{"$error":"#N/A"}},{"$f":"VLOOKUP(L106,MapPointConfig!$B$833:$H$1732,7,FALSE)","v":{"$error":"#N/A"}},{"$f":"VLOOKUP(M106,MapPointConfig!$B$833:$H$1732,7,FALSE)","v":{"$error":"#N/A"}},{"$f":"VLOOKUP(N106,MapPointConfig!$B$833:$H$1732,7,FALSE)","v":{"$error":"#N/A"}},{"$f":"VLOOKUP(O106,MapPointConfig!$B$833:$H$1732,7,FALSE)","v":{"$error":"#N/A"}},{"$f":"VLOOKUP(P106,MapPointConfig!$B$833:$H$1732,7,FALSE)","v":{"$error":"#N/A"}},{"$f":"VLOOKUP(Q106,MapPointConfig!$B$833:$H$1732,7,FALSE)","v":{"$error":"#N/A"}},{"$f":"VLOOKUP(R106,MapPointConfig!$B$833:$H$1732,7,FALSE)","v":{"$error":"#N/A"}}]
["2107001#100","2107002#100","2107003#100","2107004#100","2107005#100","2107006#100","2107007#100","2107008#100",null,null,2107001,2107002,2107003,2107004,2107005,2107006,2107007,2107008,null,{"$f":"VLOOKUP(K107,MapPointConfig!$B$833:$H$1732,7,FALSE)","v":{"$error":"#N/A"}},{"$f":"VLOOKUP(L107,MapPointConfig!$B$833:$H$1732,7,FALSE)","v":{"$error":"#N/A"}},{"$f":"VLOOKUP(M107,MapPointConfig!$B$833:$H$1732,7,FALSE)","v":{"$error":"#N/A"}},{"$f":"VLOOKUP(N107,MapPointConfig!$B$833:$H$1732,7,FALSE)","v":{"$error":"#N/A"}},{"$f":"VLOOKUP(O107,MapPointConfig!$B$833:$H$1732,7,FALSE)","v":{"$error":"#N/A"}},{"$f":"VLOOKUP(P107,MapPointConfig!$B$833:$H$1732,7,FALSE)","v":{"$error":"#N/A"}},{"$f":"VLOOKUP(Q107,MapPointConfig!$B$833:$H$1732,7,FALSE)","v":{"$error":"#N/A"}},{"$f":"VLOOKUP(R107,MapPointConfig!$B$833:$H$1732,7,FALSE)","v":{"$error":"#N/A"}}]
["2108001#100","2108002#100","2108003#100","2108004#100","2108005#100","2108006#100","2108007#100","2108008#100",null,null,2108001,2108002,2108003,2108004,2108005,2108006,2108007,2108008,null,{"$f":"VLOOKUP(K108,MapPointConfig!$B$833:$H$1732,7,FALSE)","v":{"$error":"#N/A"}},{"$f":"VLOOKUP(L108,MapPointConfig!$B$833:$H$1732,7,FALSE)","v":{"$error":"#N/A"}},{"$f":"VLOOKUP(M108,MapPointConfig!$B$833:$H$1732,7,FALSE)","v":{"$error":"#N/A"}},{"$f":"VLOOKUP(N108,MapPointConfig!$B$833:$H$1732,7,FALSE)","v":{"$error":"#N/A"}},{"$f":"VLOOKUP(O108,MapPointConfig!$B$833:$H$1732,7,FALSE)","v":{"$error":"#N/A"}},{"$f":"VLOOKUP(P108,MapPointConfig!$B$833:$H$1732,7,FALSE)","v":{"$error":"#N/A"}},{"$f":"VLOOKUP(Q108,MapPointConfig!$B$833:$H$1732,7,FALSE)","v":{"$error":"#N/A"}},{"$f":"VLOOKUP(R108,MapPointConfig!$B$833:$H$1732,7,FALSE)","v":{"$error":"#N/A"}}]
["2109001#100","2109002#100","2109003#100","2109004#100","2109005#100","2109006#100","2109007#100","2109008#100",null,null,2109001,2109002,2109003,2109004,2109005,2109006,2109007,2109008,null,{"$f":"VLOOKUP(K109,MapPointConfig!$B$833:$H$1732,7,FALSE)","v":{"$error":"#N/A"}},{"$f":"VLOOKUP(L109,MapPointConfig!$B$833:$H$1732,7,FALSE)","v":{"$error":"#N/A"}},{"$f":"VLOOKUP(M109,MapPointConfig!$B$833:$H$1732,7,FALSE)","v":{"$error":"#N/A"}},{"$f":"VLOOKUP(N109,MapPointConfig!$B$833:$H$1732,7,FALSE)","v":{"$error":"#N/A"}},{"$f":"VLOOKUP(O109,MapPointConfig!$B$833:$H$1732,7,FALSE)","v":{"$error":"#N/A"}},{"$f":"VLOOKUP(P109,MapPointConfig!$B$833:$H$1732,7,FALSE)","v":{"$error":"#N/A"}},{"$f":"VLOOKUP(Q109,MapPointConfig!$B$833:$H$1732,7,FALSE)","v":{"$error":"#N/A"}},{"$f":"VLOOKUP(R109,MapPointConfig!$B$833:$H$1732,7,FALSE)","v":{"$error":"#N/A"}}]
["2110001#100","2110002#100","2110003#100","2110004#100","2110005#100","2110006#100","2110007#100","2110008#100",null,null,2110001,2110002,2110003,2110004,2110005,2110006,2110007,2110008,null,{"$f":"VLOOKUP(K110,MapPointConfig!$B$833:$H$1732,7,FALSE)","v":{"$error":"#N/A"}},{"$f":"VLOOKUP(L110,MapPointConfig!$B$833:$H$1732,7,FALSE)","v":{"$error":"#N/A"}},{"$f":"VLOOKUP(M110,MapPointConfig!$B$833:$H$1732,7,FALSE)","v":{"$error":"#N/A"}},{"$f":"VLOOKUP(N110,MapPointConfig!$B$833:$H$1732,7,FALSE)","v":{"$error":"#N/A"}},{"$f":"VLOOKUP(O110,MapPointConfig!$B$833:$H$1732,7,FALSE)","v":{"$error":"#N/A"}},{"$f":"VLOOKUP(P110,MapPointConfig!$B$833:$H$1732,7,FALSE)","v":{"$error":"#N/A"}},{"$f":"VLOOKUP(Q110,MapPointConfig!$B$833:$H$1732,7,FALSE)","v":{"$error":"#N/A"}},{"$f":"VLOOKUP(R110,MapPointConfig!$B$833:$H$1732,7,FALSE)","v":{"$error":"#N/A"}}]
["2111001#100","2111002#100","2111003#100","2111004#100","2111005#100","2111006#100","2111007#100","2111008#100",null,null,2111001,2111002,2111003,2111004,2111005,2111006,2111007,2111008,null,{"$f":"VLOOKUP(K111,MapPointConfig!$B$833:$H$1732,7,FALSE)","v":{"$error":"#N/A"}},{"$f":"VLOOKUP(L111,MapPointConfig!$B$833:$H$1732,7,FALSE)","v":{"$error":"#N/A"}},{"$f":"VLOOKUP(M111,MapPointConfig!$B$833:$H$1732,7,FALSE)","v":{"$error":"#N/A"}},{"$f":"VLOOKUP(N111,MapPointConfig!$B$833:$H$1732,7,FALSE)","v":{"$error":"#N/A"}},{"$f":"VLOOKUP(O111,MapPointConfig!$B$833:$H$1732,7,FALSE)","v":{"$error":"#N/A"}},{"$f":"VLOOKUP(P111,MapPointConfig!$B$833:$H$1732,7,FALSE)","v":{"$error":"#N/A"}},{"$f":"VLOOKUP(Q111,MapPointConfig!$B$833:$H$1732,7,FALSE)","v":{"$error":"#N/A"}},{"$f":"VLOOKUP(R111,MapPointConfig!$B$833:$H$1732,7,FALSE)","v":{"$error":"#N/A"}}]
["2112001#100","2112002#100","2112003#100","2112004#100","2112005#100","2112006#100","2112007#100","2112008#100",null,null,2112001,2112002,2112003,2112004,2112005,2112006,2112007,2112008,null,{"$f":"VLOOKUP(K112,MapPointConfig!$B$833:$H$1732,7,FALSE)","v":{"$error":"#N/A"}},{"$f":"VLOOKUP(L112,MapPointConfig!$B$833:$H$1732,7,FALSE)","v":{"$error":"#N/A"}},{"$f":"VLOOKUP(M112,MapPointConfig!$B$833:$H$1732,7,FALSE)","v":{"$error":"#N/A"}},{"$f":"VLOOKUP(N112,MapPointConfig!$B$833:$H$1732,7,FALSE)","v":{"$error":"#N/A"}},{"$f":"VLOOKUP(O112,MapPointConfig!$B$833:$H$1732,7,FALSE)","v":{"$error":"#N/A"}},{"$f":"VLOOKUP(P112,MapPointConfig!$B$833:$H$1732,7,FALSE)","v":{"$error":"#N/A"}},{"$f":"VLOOKUP(Q112,MapPointConfig!$B$833:$H$1732,7,FALSE)","v":{"$error":"#N/A"}},{"$f":"VLOOKUP(R112,MapPointConfig!$B$833:$H$1732,7,FALSE)","v":{"$error":"#N/A"}}]
["2113001#100","2113002#100","2113003#100","2113004#100","2113005#100","2113006#100","2113007#100","2113008#100",null,null,2113001,2113002,2113003,2113004,2113005,2113006,2113007,2113008,null,{"$f":"VLOOKUP(K113,MapPointConfig!$B$833:$H$1732,7,FALSE)","v":{"$error":"#N/A"}},{"$f":"VLOOKUP(L113,MapPointConfig!$B$833:$H$1732,7,FALSE)","v":{"$error":"#N/A"}},{"$f":"VLOOKUP(M113,MapPointConfig!$B$833:$H$1732,7,FALSE)","v":{"$error":"#N/A"}},{"$f":"VLOOKUP(N113,MapPointConfig!$B$833:$H$1732,7,FALSE)","v":{"$error":"#N/A"}},{"$f":"VLOOKUP(O113,MapPointConfig!$B$833:$H$1732,7,FALSE)","v":{"$error":"#N/A"}},{"$f":"VLOOKUP(P113,MapPointConfig!$B$833:$H$1732,7,FALSE)","v":{"$error":"#N/A"}},{"$f":"VLOOKUP(Q113,MapPointConfig!$B$833:$H$1732,7,FALSE)","v":{"$error":"#N/A"}},{"$f":"VLOOKUP(R113,MapPointConfig!$B$833:$H$1732,7,FALSE)","v":{"$error":"#N/A"}}]
["2114001#100","2114002#100","2114003#100","2114004#100","2114005#100","2114006#100","2114007#100","2114008#100",null,null,2114001,2114002,2114003,2114004,2114005,2114006,2114007,2114008,null,{"$f":"VLOOKUP(K114,MapPointConfig!$B$833:$H$1732,7,FALSE)","v":{"$error":"#N/A"}},{"$f":"VLOOKUP(L114,MapPointConfig!$B$833:$H$1732,7,FALSE)","v":{"$error":"#N/A"}},{"$f":"VLOOKUP(M114,MapPointConfig!$B$833:$H$1732,7,FALSE)","v":{"$error":"#N/A"}},{"$f":"VLOOKUP(N114,MapPointConfig!$B$833:$H$1732,7,FALSE)","v":{"$error":"#N/A"}},{"$f":"VLOOKUP(O114,MapPointConfig!$B$833:$H$1732,7,FALSE)","v":{"$error":"#N/A"}},{"$f":"VLOOKUP(P114,MapPointConfig!$B$833:$H$1732,7,FALSE)","v":{"$error":"#N/A"}},{"$f":"VLOOKUP(Q114,MapPointConfig!$B$833:$H$1732,7,FALSE)","v":{"$error":"#N/A"}},{"$f":"VLOOKUP(R114,MapPointConfig!$B$833:$H$1732,7,FALSE)","v":{"$error":"#N/A"}}]
["2115001#100","2115002#100","2115003#100","2115004#100","2115005#100","2115006#100","2115007#100","2115008#100",null,null,2115001,2115002,2115003,2115004,2115005,2115006,2115007,2115008,null,{"$f":"VLOOKUP(K115,MapPointConfig!$B$833:$H$1732,7,FALSE)","v":{"$error":"#N/A"}},{"$f":"VLOOKUP(L115,MapPointConfig!$B$833:$H$1732,7,FALSE)","v":{"$error":"#N/A"}},{"$f":"VLOOKUP(M115,MapPointConfig!$B$833:$H$1732,7,FALSE)","v":{"$error":"#N/A"}},{"$f":"VLOOKUP(N115,MapPointConfig!$B$833:$H$1732,7,FALSE)","v":{"$error":"#N/A"}},{"$f":"VLOOKUP(O115,MapPointConfig!$B$833:$H$1732,7,FALSE)","v":{"$error":"#N/A"}},{"$f":"VLOOKUP(P115,MapPointConfig!$B$833:$H$1732,7,FALSE)","v":{"$error":"#N/A"}},{"$f":"VLOOKUP(Q115,MapPointConfig!$B$833:$H$1732,7,FALSE)","v":{"$error":"#N/A"}},{"$f":"VLOOKUP(R115,MapPointConfig!$B$833:$H$1732,7,FALSE)","v":{"$error":"#N/A"}}]
["2116001#100","2116002#100","2116003#100","2116004#100","2116005#100","2116006#100","2116007#100","2116008#100",null,null,2116001,2116002,2116003,2116004,2116005,2116006,2116007,2116008,null,{"$f":"VLOOKUP(K116,MapPointConfig!$B$833:$H$1732,7,FALSE)","v":{"$error":"#N/A"}},{"$f":"VLOOKUP(L116,MapPointConfig!$B$833:$H$1732,7,FALSE)","v":{"$error":"#N/A"}},{"$f":"VLOOKUP(M116,MapPointConfig!$B$833:$H$1732,7,FALSE)","v":{"$error":"#N/A"}},{"$f":"VLOOKUP(N116,MapPointConfig!$B$833:$H$1732,7,FALSE)","v":{"$error":"#N/A"}},{"$f":"VLOOKUP(O116,MapPointConfig!$B$833:$H$1732,7,FALSE)","v":{"$error":"#N/A"}},{"$f":"VLOOKUP(P116,MapPointConfig!$B$833:$H$1732,7,FALSE)","v":{"$error":"#N/A"}},{"$f":"VLOOKUP(Q116,MapPointConfig!$B$833:$H$1732,7,FALSE)","v":{"$error":"#N/A"}},{"$f":"VLOOKUP(R116,MapPointConfig!$B$833:$H$1732,7,FALSE)","v":{"$error":"#N/A"}}]
["2117001#100","2117002#100","2117003#100","2117004#100","2117005#100","2117006#100","2117007#100","2117008#100",null,null,2117001,2117002,2117003,2117004,2117005,2117006,2117007,2117008,null,{"$f":"VLOOKUP(K117,MapPointConfig!$B$833:$H$1732,7,FALSE)","v":{"$error":"#N/A"}},{"$f":"VLOOKUP(L117,MapPointConfig!$B$833:$H$1732,7,FALSE)","v":{"$error":"#N/A"}},{"$f":"VLOOKUP(M117,MapPointConfig!$B$833:$H$1732,7,FALSE)","v":{"$error":"#N/A"}},{"$f":"VLOOKUP(N117,MapPointConfig!$B$833:$H$1732,7,FALSE)","v":{"$error":"#N/A"}},{"$f":"VLOOKUP(O117,MapPointConfig!$B$833:$H$1732,7,FALSE)","v":{"$error":"#N/A"}},{"$f":"VLOOKUP(P117,MapPointConfig!$B$833:$H$1732,7,FALSE)","v":{"$error":"#N/A"}},{"$f":"VLOOKUP(Q117,MapPointConfig!$B$833:$H$1732,7,FALSE)","v":{"$error":"#N/A"}},{"$f":"VLOOKUP(R117,MapPointConfig!$B$833:$H$1732,7,FALSE)","v":{"$error":"#N/A"}}]
["2118001#100","2118002#100","2118003#100","2118004#100","2118005#100","2118006#100","2118007#100","2118008#100",null,null,2118001,2118002,2118003,2118004,2118005,2118006,2118007,2118008,null,{"$f":"VLOOKUP(K118,MapPointConfig!$B$833:$H$1732,7,FALSE)","v":{"$error":"#N/A"}},{"$f":"VLOOKUP(L118,MapPointConfig!$B$833:$H$1732,7,FALSE)","v":{"$error":"#N/A"}},{"$f":"VLOOKUP(M118,MapPointConfig!$B$833:$H$1732,7,FALSE)","v":{"$error":"#N/A"}},{"$f":"VLOOKUP(N118,MapPointConfig!$B$833:$H$1732,7,FALSE)","v":{"$error":"#N/A"}},{"$f":"VLOOKUP(O118,MapPointConfig!$B$833:$H$1732,7,FALSE)","v":{"$error":"#N/A"}},{"$f":"VLOOKUP(P118,MapPointConfig!$B$833:$H$1732,7,FALSE)","v":{"$error":"#N/A"}},{"$f":"VLOOKUP(Q118,MapPointConfig!$B$833:$H$1732,7,FALSE)","v":{"$error":"#N/A"}},{"$f":"VLOOKUP(R118,MapPointConfig!$B$833:$H$1732,7,FALSE)","v":{"$error":"#N/A"}}]
["2119001#100","2119002#100","2119003#100","2119004#100","2119005#100","2119006#100","2119007#100","2119008#100",null,null,2119001,2119002,2119003,2119004,2119005,2119006,2119007,2119008,null,{"$f":"VLOOKUP(K119,MapPointConfig!$B$833:$H$1732,7,FALSE)","v":{"$error":"#N/A"}},{"$f":"VLOOKUP(L119,MapPointConfig!$B$833:$H$1732,7,FALSE)","v":{"$error":"#N/A"}},{"$f":"VLOOKUP(M119,MapPointConfig!$B$833:$H$1732,7,FALSE)","v":{"$error":"#N/A"}},{"$f":"VLOOKUP(N119,MapPointConfig!$B$833:$H$1732,7,FALSE)","v":{"$error":"#N/A"}},{"$f":"VLOOKUP(O119,MapPointConfig!$B$833:$H$1732,7,FALSE)","v":{"$error":"#N/A"}},{"$f":"VLOOKUP(P119,MapPointConfig!$B$833:$H$1732,7,FALSE)","v":{"$error":"#N/A"}},{"$f":"VLOOKUP(Q119,MapPointConfig!$B$833:$H$1732,7,FALSE)","v":{"$error":"#N/A"}},{"$f":"VLOOKUP(R119,MapPointConfig!$B$833:$H$1732,7,FALSE)","v":{"$error":"#N/A"}}]
["2120001#100","2120002#100","2120003#100","2120004#100","2120005#100","2120006#100","2120007#100","2120008#100",null,null,2120001,2120002,2120003,2120004,2120005,2120006,2120007,2120008,null,{"$f":"VLOOKUP(K120,MapPointConfig!$B$833:$H$1732,7,FALSE)","v":{"$error":"#N/A"}},{"$f":"VLOOKUP(L120,MapPointConfig!$B$833:$H$1732,7,FALSE)","v":{"$error":"#N/A"}},{"$f":"VLOOKUP(M120,MapPointConfig!$B$833:$H$1732,7,FALSE)","v":{"$error":"#N/A"}},{"$f":"VLOOKUP(N120,MapPointConfig!$B$833:$H$1732,7,FALSE)","v":{"$error":"#N/A"}},{"$f":"VLOOKUP(O120,MapPointConfig!$B$833:$H$1732,7,FALSE)","v":{"$error":"#N/A"}},{"$f":"VLOOKUP(P120,MapPointConfig!$B$833:$H$1732,7,FALSE)","v":{"$error":"#N/A"}},{"$f":"VLOOKUP(Q120,MapPointConfig!$B$833:$H$1732,7,FALSE)","v":{"$error":"#N/A"}},{"$f":"VLOOKUP(R120,MapPointConfig!$B$833:$H$1732,7,FALSE)","v":{"$error":"#N/A"}}]
["2121001#100","2121002#100","2121003#100","2121004#100","2121005#100","2121006#100","2121007#100","2121008#100",null,null,2121001,2121002,2121003,2121004,2121005,2121006,2121007,2121008,null,{"$f":"VLOOKUP(K121,MapPointConfig!$B$833:$H$1732,7,FALSE)","v":{"$error":"#N/A"}},{"$f":"VLOOKUP(L121,MapPointConfig!$B$833:$H$1732,7,FALSE)","v":{"$error":"#N/A"}},{"$f":"VLOOKUP(M121,MapPointConfig!$B$833:$H$1732,7,FALSE)","v":{"$error":"#N/A"}},{"$f":"VLOOKUP(N121,MapPointConfig!$B$833:$H$1732,7,FALSE)","v":{"$error":"#N/A"}},{"$f":"VLOOKUP(O121,MapPointConfig!$B$833:$H$1732,7,FALSE)","v":{"$error":"#N/A"}},{"$f":"VLOOKUP(P121,MapPointConfig!$B$833:$H$1732,7,FALSE)","v":{"$error":"#N/A"}},{"$f":"VLOOKUP(Q121,MapPointConfig!$B$833:$H$1732,7,FALSE)","v":{"$error":"#N/A"}},{"$f":"VLOOKUP(R121,MapPointConfig!$B$833:$H$1732,7,FALSE)","v":{"$error":"#N/A"}}]
["2122001#100","2122002#100","2122003#100","2122004#100","2122005#100","2122006#100","2122007#100","2122008#100",null,null,2122001,2122002,2122003,2122004,2122005,2122006,2122007,2122008,null,{"$f":"VLOOKUP(K122,MapPointConfig!$B$833:$H$1732,7,FALSE)","v":{"$error":"#N/A"}},{"$f":"VLOOKUP(L122,MapPointConfig!$B$833:$H$1732,7,FALSE)","v":{"$error":"#N/A"}},{"$f":"VLOOKUP(M122,MapPointConfig!$B$833:$H$1732,7,FALSE)","v":{"$error":"#N/A"}},{"$f":"VLOOKUP(N122,MapPointConfig!$B$833:$H$1732,7,FALSE)","v":{"$error":"#N/A"}},{"$f":"VLOOKUP(O122,MapPointConfig!$B$833:$H$1732,7,FALSE)","v":{"$error":"#N/A"}},{"$f":"VLOOKUP(P122,MapPointConfig!$B$833:$H$1732,7,FALSE)","v":{"$error":"#N/A"}},{"$f":"VLOOKUP(Q122,MapPointConfig!$B$833:$H$1732,7,FALSE)","v":{"$error":"#N/A"}},{"$f":"VLOOKUP(R122,MapPointConfig!$B$833:$H$1732,7,FALSE)","v":{"$error":"#N/A"}}]
["2123001#100","2123002#100","2123003#100","2123004#100","2123005#100","2123006#100","2123007#100","2123008#100",null,null,2123001,2123002,2123003,2123004,2123005,2123006,2123007,2123008,null,{"$f":"VLOOKUP(K123,MapPointConfig!$B$833:$H$1732,7,FALSE)","v":{"$error":"#N/A"}},{"$f":"VLOOKUP(L123,MapPointConfig!$B$833:$H$1732,7,FALSE)","v":{"$error":"#N/A"}},{"$f":"VLOOKUP(M123,MapPointConfig!$B$833:$H$1732,7,FALSE)","v":{"$error":"#N/A"}},{"$f":"VLOOKUP(N123,MapPointConfig!$B$833:$H$1732,7,FALSE)","v":{"$error":"#N/A"}},{"$f":"VLOOKUP(O123,MapPointConfig!$B$833:$H$1732,7,FALSE)","v":{"$error":"#N/A"}},{"$f":"VLOOKUP(P123,MapPointConfig!$B$833:$H$1732,7,FALSE)","v":{"$error":"#N/A"}},{"$f":"VLOOKUP(Q123,MapPointConfig!$B$833:$H$1732,7,FALSE)","v":{"$error":"#N/A"}},{"$f":"VLOOKUP(R123,MapPointConfig!$B$833:$H$1732,7,FALSE)","v":{"$error":"#N/A"}}]
["2124001#100","2124002#100","2124003#100","2124004#100","2124005#100","2124006#100","2124007#100","2124008#100",null,null,2124001,2124002,2124003,2124004,2124005,2124006,2124007,2124008,null,{"$f":"VLOOKUP(K124,MapPointConfig!$B$833:$H$1732,7,FALSE)","v":{"$error":"#N/A"}},{"$f":"VLOOKUP(L124,MapPointConfig!$B$833:$H$1732,7,FALSE)","v":{"$error":"#N/A"}},{"$f":"VLOOKUP(M124,MapPointConfig!$B$833:$H$1732,7,FALSE)","v":{"$error":"#N/A"}},{"$f":"VLOOKUP(N124,MapPointConfig!$B$833:$H$1732,7,FALSE)","v":{"$error":"#N/A"}},{"$f":"VLOOKUP(O124,MapPointConfig!$B$833:$H$1732,7,FALSE)","v":{"$error":"#N/A"}},{"$f":"VLOOKUP(P124,MapPointConfig!$B$833:$H$1732,7,FALSE)","v":{"$error":"#N/A"}},{"$f":"VLOOKUP(Q124,MapPointConfig!$B$833:$H$1732,7,FALSE)","v":{"$error":"#N/A"}},{"$f":"VLOOKUP(R124,MapPointConfig!$B$833:$H$1732,7,FALSE)","v":{"$error":"#N/A"}}]
["2125001#100","2125002#100","2125003#100","2125004#100","2125005#100","2125006#100","2125007#100","2125008#100",null,null,2125001,2125002,2125003,2125004,2125005,2125006,2125007,2125008,null,{"$f":"VLOOKUP(K125,MapPointConfig!$B$833:$H$1732,7,FALSE)","v":{"$error":"#N/A"}},{"$f":"VLOOKUP(L125,MapPointConfig!$B$833:$H$1732,7,FALSE)","v":{"$error":"#N/A"}},{"$f":"VLOOKUP(M125,MapPointConfig!$B$833:$H$1732,7,FALSE)","v":{"$error":"#N/A"}},{"$f":"VLOOKUP(N125,MapPointConfig!$B$833:$H$1732,7,FALSE)","v":{"$error":"#N/A"}},{"$f":"VLOOKUP(O125,MapPointConfig!$B$833:$H$1732,7,FALSE)","v":{"$error":"#N/A"}},{"$f":"VLOOKUP(P125,MapPointConfig!$B$833:$H$1732,7,FALSE)","v":{"$error":"#N/A"}},{"$f":"VLOOKUP(Q125,MapPointConfig!$B$833:$H$1732,7,FALSE)","v":{"$error":"#N/A"}},{"$f":"VLOOKUP(R125,MapPointConfig!$B$833:$H$1732,7,FALSE)","v":{"$error":"#N/A"}}]
["2126001#100","2126002#100","2126003#100","2126004#100","2126005#100","2126006#100","2126007#100","2126008#100",null,null,2126001,2126002,2126003,2126004,2126005,2126006,2126007,2126008,null,{"$f":"VLOOKUP(K126,MapPointConfig!$B$833:$H$1732,7,FALSE)","v":{"$error":"#N/A"}},{"$f":"VLOOKUP(L126,MapPointConfig!$B$833:$H$1732,7,FALSE)","v":{"$error":"#N/A"}},{"$f":"VLOOKUP(M126,MapPointConfig!$B$833:$H$1732,7,FALSE)","v":{"$error":"#N/A"}},{"$f":"VLOOKUP(N126,MapPointConfig!$B$833:$H$1732,7,FALSE)","v":{"$error":"#N/A"}},{"$f":"VLOOKUP(O126,MapPointConfig!$B$833:$H$1732,7,FALSE)","v":{"$error":"#N/A"}},{"$f":"VLOOKUP(P126,MapPointConfig!$B$833:$H$1732,7,FALSE)","v":{"$error":"#N/A"}},{"$f":"VLOOKUP(Q126,MapPointConfig!$B$833:$H$1732,7,FALSE)","v":{"$error":"#N/A"}},{"$f":"VLOOKUP(R126,MapPointConfig!$B$833:$H$1732,7,FALSE)","v":{"$error":"#N/A"}}]
["2127001#100","2127002#100","2127003#100","2127004#100","2127005#100","2127006#100","2127007#100","2127008#100",null,null,2127001,2127002,2127003,2127004,2127005,2127006,2127007,2127008,null,{"$f":"VLOOKUP(K127,MapPointConfig!$B$833:$H$1732,7,FALSE)","v":{"$error":"#N/A"}},{"$f":"VLOOKUP(L127,MapPointConfig!$B$833:$H$1732,7,FALSE)","v":{"$error":"#N/A"}},{"$f":"VLOOKUP(M127,MapPointConfig!$B$833:$H$1732,7,FALSE)","v":{"$error":"#N/A"}},{"$f":"VLOOKUP(N127,MapPointConfig!$B$833:$H$1732,7,FALSE)","v":{"$error":"#N/A"}},{"$f":"VLOOKUP(O127,MapPointConfig!$B$833:$H$1732,7,FALSE)","v":{"$error":"#N/A"}},{"$f":"VLOOKUP(P127,MapPointConfig!$B$833:$H$1732,7,FALSE)","v":{"$error":"#N/A"}},{"$f":"VLOOKUP(Q127,MapPointConfig!$B$833:$H$1732,7,FALSE)","v":{"$error":"#N/A"}},{"$f":"VLOOKUP(R127,MapPointConfig!$B$833:$H$1732,7,FALSE)","v":{"$error":"#N/A"}}]
["2128001#100","2128002#100","2128003#100","2128004#100","2128005#100","2128006#100","2128007#100","2128008#100",null,null,2128001,2128002,2128003,2128004,2128005,2128006,2128007,2128008,null,{"$f":"VLOOKUP(K128,MapPointConfig!$B$833:$H$1732,7,FALSE)","v":{"$error":"#N/A"}},{"$f":"VLOOKUP(L128,MapPointConfig!$B$833:$H$1732,7,FALSE)","v":{"$error":"#N/A"}},{"$f":"VLOOKUP(M128,MapPointConfig!$B$833:$H$1732,7,FALSE)","v":{"$error":"#N/A"}},{"$f":"VLOOKUP(N128,MapPointConfig!$B$833:$H$1732,7,FALSE)","v":{"$error":"#N/A"}},{"$f":"VLOOKUP(O128,MapPointConfig!$B$833:$H$1732,7,FALSE)","v":{"$error":"#N/A"}},{"$f":"VLOOKUP(P128,MapPointConfig!$B$833:$H$1732,7,FALSE)","v":{"$error":"#N/A"}},{"$f":"VLOOKUP(Q128,MapPointConfig!$B$833:$H$1732,7,FALSE)","v":{"$error":"#N/A"}},{"$f":"VLOOKUP(R128,MapPointConfig!$B$833:$H$1732,7,FALSE)","v":{"$error":"#N/A"}}]
["2129001#100","2129002#100","2129003#100","2129004#100","2129005#100","2129006#100","2129007#100","2129008#100",null,null,2129001,2129002,2129003,2129004,2129005,2129006,2129007,2129008,null,{"$f":"VLOOKUP(K129,MapPointConfig!$B$833:$H$1732,7,FALSE)","v":{"$error":"#N/A"}},{"$f":"VLOOKUP(L129,MapPointConfig!$B$833:$H$1732,7,FALSE)","v":{"$error":"#N/A"}},{"$f":"VLOOKUP(M129,MapPointConfig!$B$833:$H$1732,7,FALSE)","v":{"$error":"#N/A"}},{"$f":"VLOOKUP(N129,MapPointConfig!$B$833:$H$1732,7,FALSE)","v":{"$error":"#N/A"}},{"$f":"VLOOKUP(O129,MapPointConfig!$B$833:$H$1732,7,FALSE)","v":{"$error":"#N/A"}},{"$f":"VLOOKUP(P129,MapPointConfig!$B$833:$H$1732,7,FALSE)","v":{"$error":"#N/A"}},{"$f":"VLOOKUP(Q129,MapPointConfig!$B$833:$H$1732,7,FALSE)","v":{"$error":"#N/A"}},{"$f":"VLOOKUP(R129,MapPointConfig!$B$833:$H$1732,7,FALSE)","v":{"$error":"#N/A"}}]
["2130001#100","2130002#100","2130003#100","2130004#100","2130005#100","2130006#100","2130007#100","2130008#100",null,null,{"$f":"--LEFT(A130,FIND(\"#\",A130,1)-1)","v":2130001},{"$f":"--LEFT(B130,FIND(\"#\",B130,1)-1)","v":2130002},{"$f":"--LEFT(C130,FIND(\"#\",C130,1)-1)","v":2130003},{"$f":"--LEFT(D130,FIND(\"#\",D130,1)-1)","v":2130004},{"$f":"--LEFT(E130,FIND(\"#\",E130,1)-1)","v":2130005},{"$f":"--LEFT(F130,FIND(\"#\",F130,1)-1)","v":2130006},{"$f":"--LEFT(G130,FIND(\"#\",G130,1)-1)","v":2130007},{"$f":"--LEFT(H130,FIND(\"#\",H130,1)-1)","v":2130008},null,{"$f":"VLOOKUP(K130,MapPointConfig!$B$833:$H$1732,7,FALSE)","v":{"$error":"#N/A"}},{"$f":"VLOOKUP(L130,MapPointConfig!$B$833:$H$1732,7,FALSE)","v":{"$error":"#N/A"}},{"$f":"VLOOKUP(M130,MapPointConfig!$B$833:$H$1732,7,FALSE)","v":{"$error":"#N/A"}},{"$f":"VLOOKUP(N130,MapPointConfig!$B$833:$H$1732,7,FALSE)","v":{"$error":"#N/A"}},{"$f":"VLOOKUP(O130,MapPointConfig!$B$833:$H$1732,7,FALSE)","v":{"$error":"#N/A"}},{"$f":"VLOOKUP(P130,MapPointConfig!$B$833:$H$1732,7,FALSE)","v":{"$error":"#N/A"}},{"$f":"VLOOKUP(Q130,MapPointConfig!$B$833:$H$1732,7,FALSE)","v":{"$error":"#N/A"}},{"$f":"VLOOKUP(R130,MapPointConfig!$B$833:$H$1732,7,FALSE)","v":{"$error":"#N/A"}}]
["2131001#100","2131002#100","2131003#100","2131004#100","2131005#100","2131006#100","2131007#100","2131008#100",null,null,2131001,2131002,2131003,2131004,2131005,2131006,2131007,2131008,null,{"$f":"VLOOKUP(K131,MapPointConfig!$B$833:$H$1732,7,FALSE)","v":{"$error":"#N/A"}},{"$f":"VLOOKUP(L131,MapPointConfig!$B$833:$H$1732,7,FALSE)","v":{"$error":"#N/A"}},{"$f":"VLOOKUP(M131,MapPointConfig!$B$833:$H$1732,7,FALSE)","v":{"$error":"#N/A"}},{"$f":"VLOOKUP(N131,MapPointConfig!$B$833:$H$1732,7,FALSE)","v":{"$error":"#N/A"}},{"$f":"VLOOKUP(O131,MapPointConfig!$B$833:$H$1732,7,FALSE)","v":{"$error":"#N/A"}},{"$f":"VLOOKUP(P131,MapPointConfig!$B$833:$H$1732,7,FALSE)","v":{"$error":"#N/A"}},{"$f":"VLOOKUP(Q131,MapPointConfig!$B$833:$H$1732,7,FALSE)","v":{"$error":"#N/A"}},{"$f":"VLOOKUP(R131,MapPointConfig!$B$833:$H$1732,7,FALSE)","v":{"$error":"#N/A"}}]
["2132001#100","2132002#100","2132003#100","2132004#100","2132005#100","2132006#100","2132007#100","2132008#100",null,null,2132001,2132002,2132003,2132004,2132005,2132006,2132007,2132008,null,{"$f":"VLOOKUP(K132,MapPointConfig!$B$833:$H$1732,7,FALSE)","v":{"$error":"#N/A"}},{"$f":"VLOOKUP(L132,MapPointConfig!$B$833:$H$1732,7,FALSE)","v":{"$error":"#N/A"}},{"$f":"VLOOKUP(M132,MapPointConfig!$B$833:$H$1732,7,FALSE)","v":{"$error":"#N/A"}},{"$f":"VLOOKUP(N132,MapPointConfig!$B$833:$H$1732,7,FALSE)","v":{"$error":"#N/A"}},{"$f":"VLOOKUP(O132,MapPointConfig!$B$833:$H$1732,7,FALSE)","v":{"$error":"#N/A"}},{"$f":"VLOOKUP(P132,MapPointConfig!$B$833:$H$1732,7,FALSE)","v":{"$error":"#N/A"}},{"$f":"VLOOKUP(Q132,MapPointConfig!$B$833:$H$1732,7,FALSE)","v":{"$error":"#N/A"}},{"$f":"VLOOKUP(R132,MapPointConfig!$B$833:$H$1732,7,FALSE)","v":{"$error":"#N/A"}}]
["2133001#100","2133002#100","2133003#100","2133004#100","2133005#100","2133006#100","2133007#100","2133008#100",null,null,2133001,2133002,2133003,2133004,2133005,2133006,2133007,2133008,null,{"$f":"VLOOKUP(K133,MapPointConfig!$B$833:$H$1732,7,FALSE)","v":{"$error":"#N/A"}},{"$f":"VLOOKUP(L133,MapPointConfig!$B$833:$H$1732,7,FALSE)","v":{"$error":"#N/A"}},{"$f":"VLOOKUP(M133,MapPointConfig!$B$833:$H$1732,7,FALSE)","v":{"$error":"#N/A"}},{"$f":"VLOOKUP(N133,MapPointConfig!$B$833:$H$1732,7,FALSE)","v":{"$error":"#N/A"}},{"$f":"VLOOKUP(O133,MapPointConfig!$B$833:$H$1732,7,FALSE)","v":{"$error":"#N/A"}},{"$f":"VLOOKUP(P133,MapPointConfig!$B$833:$H$1732,7,FALSE)","v":{"$error":"#N/A"}},{"$f":"VLOOKUP(Q133,MapPointConfig!$B$833:$H$1732,7,FALSE)","v":{"$error":"#N/A"}},{"$f":"VLOOKUP(R133,MapPointConfig!$B$833:$H$1732,7,FALSE)","v":{"$error":"#N/A"}}]
["2134001#100","2134002#100","2134003#100","2134004#100","2134005#100","2134006#100","2134007#100","2134008#100",null,null,2134001,2134002,2134003,2134004,2134005,2134006,2134007,2134008,null,{"$f":"VLOOKUP(K134,MapPointConfig!$B$833:$H$1732,7,FALSE)","v":{"$error":"#N/A"}},{"$f":"VLOOKUP(L134,MapPointConfig!$B$833:$H$1732,7,FALSE)","v":{"$error":"#N/A"}},{"$f":"VLOOKUP(M134,MapPointConfig!$B$833:$H$1732,7,FALSE)","v":{"$error":"#N/A"}},{"$f":"VLOOKUP(N134,MapPointConfig!$B$833:$H$1732,7,FALSE)","v":{"$error":"#N/A"}},{"$f":"VLOOKUP(O134,MapPointConfig!$B$833:$H$1732,7,FALSE)","v":{"$error":"#N/A"}},{"$f":"VLOOKUP(P134,MapPointConfig!$B$833:$H$1732,7,FALSE)","v":{"$error":"#N/A"}},{"$f":"VLOOKUP(Q134,MapPointConfig!$B$833:$H$1732,7,FALSE)","v":{"$error":"#N/A"}},{"$f":"VLOOKUP(R134,MapPointConfig!$B$833:$H$1732,7,FALSE)","v":{"$error":"#N/A"}}]
["2135001#100","2135002#100","2135003#100","2135004#100","2135005#100","2135006#100","2135007#100","2135008#100",null,null,2135001,2135002,2135003,2135004,2135005,2135006,2135007,2135008,null,{"$f":"VLOOKUP(K135,MapPointConfig!$B$833:$H$1732,7,FALSE)","v":{"$error":"#N/A"}},{"$f":"VLOOKUP(L135,MapPointConfig!$B$833:$H$1732,7,FALSE)","v":{"$error":"#N/A"}},{"$f":"VLOOKUP(M135,MapPointConfig!$B$833:$H$1732,7,FALSE)","v":{"$error":"#N/A"}},{"$f":"VLOOKUP(N135,MapPointConfig!$B$833:$H$1732,7,FALSE)","v":{"$error":"#N/A"}},{"$f":"VLOOKUP(O135,MapPointConfig!$B$833:$H$1732,7,FALSE)","v":{"$error":"#N/A"}},{"$f":"VLOOKUP(P135,MapPointConfig!$B$833:$H$1732,7,FALSE)","v":{"$error":"#N/A"}},{"$f":"VLOOKUP(Q135,MapPointConfig!$B$833:$H$1732,7,FALSE)","v":{"$error":"#N/A"}},{"$f":"VLOOKUP(R135,MapPointConfig!$B$833:$H$1732,7,FALSE)","v":{"$error":"#N/A"}}]
["2136001#100","2136002#100","2136003#100","2136004#100","2136005#100","2136006#100","2136007#100","2136008#100",null,null,2136001,2136002,2136003,2136004,2136005,2136006,2136007,2136008,null,{"$f":"VLOOKUP(K136,MapPointConfig!$B$833:$H$1732,7,FALSE)","v":{"$error":"#N/A"}},{"$f":"VLOOKUP(L136,MapPointConfig!$B$833:$H$1732,7,FALSE)","v":{"$error":"#N/A"}},{"$f":"VLOOKUP(M136,MapPointConfig!$B$833:$H$1732,7,FALSE)","v":{"$error":"#N/A"}},{"$f":"VLOOKUP(N136,MapPointConfig!$B$833:$H$1732,7,FALSE)","v":{"$error":"#N/A"}},{"$f":"VLOOKUP(O136,MapPointConfig!$B$833:$H$1732,7,FALSE)","v":{"$error":"#N/A"}},{"$f":"VLOOKUP(P136,MapPointConfig!$B$833:$H$1732,7,FALSE)","v":{"$error":"#N/A"}},{"$f":"VLOOKUP(Q136,MapPointConfig!$B$833:$H$1732,7,FALSE)","v":{"$error":"#N/A"}},{"$f":"VLOOKUP(R136,MapPointConfig!$B$833:$H$1732,7,FALSE)","v":{"$error":"#N/A"}}]
["2137001#100","2137002#100","2137003#100","2137004#100","2137005#100","2137006#100","2137007#100","2137008#100",null,null,2137001,2137002,2137003,2137004,2137005,2137006,2137007,2137008,null,{"$f":"VLOOKUP(K137,MapPointConfig!$B$833:$H$1732,7,FALSE)","v":{"$error":"#N/A"}},{"$f":"VLOOKUP(L137,MapPointConfig!$B$833:$H$1732,7,FALSE)","v":{"$error":"#N/A"}},{"$f":"VLOOKUP(M137,MapPointConfig!$B$833:$H$1732,7,FALSE)","v":{"$error":"#N/A"}},{"$f":"VLOOKUP(N137,MapPointConfig!$B$833:$H$1732,7,FALSE)","v":{"$error":"#N/A"}},{"$f":"VLOOKUP(O137,MapPointConfig!$B$833:$H$1732,7,FALSE)","v":{"$error":"#N/A"}},{"$f":"VLOOKUP(P137,MapPointConfig!$B$833:$H$1732,7,FALSE)","v":{"$error":"#N/A"}},{"$f":"VLOOKUP(Q137,MapPointConfig!$B$833:$H$1732,7,FALSE)","v":{"$error":"#N/A"}},{"$f":"VLOOKUP(R137,MapPointConfig!$B$833:$H$1732,7,FALSE)","v":{"$error":"#N/A"}}]
["2138001#100","2138002#100","2138003#100","2138004#100","2138005#100","2138006#100","2138007#100","2138008#100",null,null,2138001,2138002,2138003,2138004,2138005,2138006,2138007,2138008,null,{"$f":"VLOOKUP(K138,MapPointConfig!$B$833:$H$1732,7,FALSE)","v":{"$error":"#N/A"}},{"$f":"VLOOKUP(L138,MapPointConfig!$B$833:$H$1732,7,FALSE)","v":{"$error":"#N/A"}},{"$f":"VLOOKUP(M138,MapPointConfig!$B$833:$H$1732,7,FALSE)","v":{"$error":"#N/A"}},{"$f":"VLOOKUP(N138,MapPointConfig!$B$833:$H$1732,7,FALSE)","v":{"$error":"#N/A"}},{"$f":"VLOOKUP(O138,MapPointConfig!$B$833:$H$1732,7,FALSE)","v":{"$error":"#N/A"}},{"$f":"VLOOKUP(P138,MapPointConfig!$B$833:$H$1732,7,FALSE)","v":{"$error":"#N/A"}},{"$f":"VLOOKUP(Q138,MapPointConfig!$B$833:$H$1732,7,FALSE)","v":{"$error":"#N/A"}},{"$f":"VLOOKUP(R138,MapPointConfig!$B$833:$H$1732,7,FALSE)","v":{"$error":"#N/A"}}]
["2139001#100","2139002#100","2139003#100","2139004#100","2139005#100","2139006#100","2139007#100","2139008#100",null,null,2139001,2139002,2139003,2139004,2139005,2139006,2139007,2139008,null,{"$f":"VLOOKUP(K139,MapPointConfig!$B$833:$H$1732,7,FALSE)","v":{"$error":"#N/A"}},{"$f":"VLOOKUP(L139,MapPointConfig!$B$833:$H$1732,7,FALSE)","v":{"$error":"#N/A"}},{"$f":"VLOOKUP(M139,MapPointConfig!$B$833:$H$1732,7,FALSE)","v":{"$error":"#N/A"}},{"$f":"VLOOKUP(N139,MapPointConfig!$B$833:$H$1732,7,FALSE)","v":{"$error":"#N/A"}},{"$f":"VLOOKUP(O139,MapPointConfig!$B$833:$H$1732,7,FALSE)","v":{"$error":"#N/A"}},{"$f":"VLOOKUP(P139,MapPointConfig!$B$833:$H$1732,7,FALSE)","v":{"$error":"#N/A"}},{"$f":"VLOOKUP(Q139,MapPointConfig!$B$833:$H$1732,7,FALSE)","v":{"$error":"#N/A"}},{"$f":"VLOOKUP(R139,MapPointConfig!$B$833:$H$1732,7,FALSE)","v":{"$error":"#N/A"}}]
["2140001#100","2140002#100","2140003#100","2140004#100","2140005#100","2140006#100","2140007#100","2140008#100",null,null,2140001,2140002,2140003,2140004,2140005,2140006,2140007,2140008,null,{"$f":"VLOOKUP(K140,MapPointConfig!$B$833:$H$1732,7,FALSE)","v":{"$error":"#N/A"}},{"$f":"VLOOKUP(L140,MapPointConfig!$B$833:$H$1732,7,FALSE)","v":{"$error":"#N/A"}},{"$f":"VLOOKUP(M140,MapPointConfig!$B$833:$H$1732,7,FALSE)","v":{"$error":"#N/A"}},{"$f":"VLOOKUP(N140,MapPointConfig!$B$833:$H$1732,7,FALSE)","v":{"$error":"#N/A"}},{"$f":"VLOOKUP(O140,MapPointConfig!$B$833:$H$1732,7,FALSE)","v":{"$error":"#N/A"}},{"$f":"VLOOKUP(P140,MapPointConfig!$B$833:$H$1732,7,FALSE)","v":{"$error":"#N/A"}},{"$f":"VLOOKUP(Q140,MapPointConfig!$B$833:$H$1732,7,FALSE)","v":{"$error":"#N/A"}},{"$f":"VLOOKUP(R140,MapPointConfig!$B$833:$H$1732,7,FALSE)","v":{"$error":"#N/A"}}]
["2141001#100","2141002#100","2141003#100","2141004#100","2141005#100","2141006#100","2141007#100","2141008#100",null,null,2141001,2141002,2141003,2141004,2141005,2141006,2141007,2141008,null,{"$f":"VLOOKUP(K141,MapPointConfig!$B$833:$H$1732,7,FALSE)","v":{"$error":"#N/A"}},{"$f":"VLOOKUP(L141,MapPointConfig!$B$833:$H$1732,7,FALSE)","v":{"$error":"#N/A"}},{"$f":"VLOOKUP(M141,MapPointConfig!$B$833:$H$1732,7,FALSE)","v":{"$error":"#N/A"}},{"$f":"VLOOKUP(N141,MapPointConfig!$B$833:$H$1732,7,FALSE)","v":{"$error":"#N/A"}},{"$f":"VLOOKUP(O141,MapPointConfig!$B$833:$H$1732,7,FALSE)","v":{"$error":"#N/A"}},{"$f":"VLOOKUP(P141,MapPointConfig!$B$833:$H$1732,7,FALSE)","v":{"$error":"#N/A"}},{"$f":"VLOOKUP(Q141,MapPointConfig!$B$833:$H$1732,7,FALSE)","v":{"$error":"#N/A"}},{"$f":"VLOOKUP(R141,MapPointConfig!$B$833:$H$1732,7,FALSE)","v":{"$error":"#N/A"}}]
["2142001#100","2142002#100","2142003#100","2142004#100","2142005#100","2142006#100","2142007#100","2142008#100",null,null,2142001,2142002,2142003,2142004,2142005,2142006,2142007,2142008,null,{"$f":"VLOOKUP(K142,MapPointConfig!$B$833:$H$1732,7,FALSE)","v":{"$error":"#N/A"}},{"$f":"VLOOKUP(L142,MapPointConfig!$B$833:$H$1732,7,FALSE)","v":{"$error":"#N/A"}},{"$f":"VLOOKUP(M142,MapPointConfig!$B$833:$H$1732,7,FALSE)","v":{"$error":"#N/A"}},{"$f":"VLOOKUP(N142,MapPointConfig!$B$833:$H$1732,7,FALSE)","v":{"$error":"#N/A"}},{"$f":"VLOOKUP(O142,MapPointConfig!$B$833:$H$1732,7,FALSE)","v":{"$error":"#N/A"}},{"$f":"VLOOKUP(P142,MapPointConfig!$B$833:$H$1732,7,FALSE)","v":{"$error":"#N/A"}},{"$f":"VLOOKUP(Q142,MapPointConfig!$B$833:$H$1732,7,FALSE)","v":{"$error":"#N/A"}},{"$f":"VLOOKUP(R142,MapPointConfig!$B$833:$H$1732,7,FALSE)","v":{"$error":"#N/A"}}]
["2143001#100","2143002#100","2143003#100","2143004#100","2143005#100","2143006#100","2143007#100","2143008#100",null,null,2143001,2143002,2143003,2143004,2143005,2143006,2143007,2143008,null,{"$f":"VLOOKUP(K143,MapPointConfig!$B$833:$H$1732,7,FALSE)","v":{"$error":"#N/A"}},{"$f":"VLOOKUP(L143,MapPointConfig!$B$833:$H$1732,7,FALSE)","v":{"$error":"#N/A"}},{"$f":"VLOOKUP(M143,MapPointConfig!$B$833:$H$1732,7,FALSE)","v":{"$error":"#N/A"}},{"$f":"VLOOKUP(N143,MapPointConfig!$B$833:$H$1732,7,FALSE)","v":{"$error":"#N/A"}},{"$f":"VLOOKUP(O143,MapPointConfig!$B$833:$H$1732,7,FALSE)","v":{"$error":"#N/A"}},{"$f":"VLOOKUP(P143,MapPointConfig!$B$833:$H$1732,7,FALSE)","v":{"$error":"#N/A"}},{"$f":"VLOOKUP(Q143,MapPointConfig!$B$833:$H$1732,7,FALSE)","v":{"$error":"#N/A"}},{"$f":"VLOOKUP(R143,MapPointConfig!$B$833:$H$1732,7,FALSE)","v":{"$error":"#N/A"}}]
["2144001#100","2144002#100","2144003#100","2144004#100","2144005#100","2144006#100","2144007#100","2144008#100",null,null,2144001,2144002,2144003,2144004,2144005,2144006,2144007,2144008,null,{"$f":"VLOOKUP(K144,MapPointConfig!$B$833:$H$1732,7,FALSE)","v":{"$error":"#N/A"}},{"$f":"VLOOKUP(L144,MapPointConfig!$B$833:$H$1732,7,FALSE)","v":{"$error":"#N/A"}},{"$f":"VLOOKUP(M144,MapPointConfig!$B$833:$H$1732,7,FALSE)","v":{"$error":"#N/A"}},{"$f":"VLOOKUP(N144,MapPointConfig!$B$833:$H$1732,7,FALSE)","v":{"$error":"#N/A"}},{"$f":"VLOOKUP(O144,MapPointConfig!$B$833:$H$1732,7,FALSE)","v":{"$error":"#N/A"}},{"$f":"VLOOKUP(P144,MapPointConfig!$B$833:$H$1732,7,FALSE)","v":{"$error":"#N/A"}},{"$f":"VLOOKUP(Q144,MapPointConfig!$B$833:$H$1732,7,FALSE)","v":{"$error":"#N/A"}},{"$f":"VLOOKUP(R144,MapPointConfig!$B$833:$H$1732,7,FALSE)","v":{"$error":"#N/A"}}]
["2145001#100","2145002#100","2145003#100","2145004#100","2145005#100","2145006#100","2145007#100","2145008#100",null,null,2145001,2145002,2145003,2145004,2145005,2145006,2145007,2145008,null,{"$f":"VLOOKUP(K145,MapPointConfig!$B$833:$H$1732,7,FALSE)","v":{"$error":"#N/A"}},{"$f":"VLOOKUP(L145,MapPointConfig!$B$833:$H$1732,7,FALSE)","v":{"$error":"#N/A"}},{"$f":"VLOOKUP(M145,MapPointConfig!$B$833:$H$1732,7,FALSE)","v":{"$error":"#N/A"}},{"$f":"VLOOKUP(N145,MapPointConfig!$B$833:$H$1732,7,FALSE)","v":{"$error":"#N/A"}},{"$f":"VLOOKUP(O145,MapPointConfig!$B$833:$H$1732,7,FALSE)","v":{"$error":"#N/A"}},{"$f":"VLOOKUP(P145,MapPointConfig!$B$833:$H$1732,7,FALSE)","v":{"$error":"#N/A"}},{"$f":"VLOOKUP(Q145,MapPointConfig!$B$833:$H$1732,7,FALSE)","v":{"$error":"#N/A"}},{"$f":"VLOOKUP(R145,MapPointConfig!$B$833:$H$1732,7,FALSE)","v":{"$error":"#N/A"}}]
["2146001#100","2146002#100","2146003#100","2146004#100","2146005#100","2146006#100","2146007#100","2146008#100",null,null,2146001,2146002,2146003,2146004,2146005,2146006,2146007,2146008,null,{"$f":"VLOOKUP(K146,MapPointConfig!$B$833:$H$1732,7,FALSE)","v":{"$error":"#N/A"}},{"$f":"VLOOKUP(L146,MapPointConfig!$B$833:$H$1732,7,FALSE)","v":{"$error":"#N/A"}},{"$f":"VLOOKUP(M146,MapPointConfig!$B$833:$H$1732,7,FALSE)","v":{"$error":"#N/A"}},{"$f":"VLOOKUP(N146,MapPointConfig!$B$833:$H$1732,7,FALSE)","v":{"$error":"#N/A"}},{"$f":"VLOOKUP(O146,MapPointConfig!$B$833:$H$1732,7,FALSE)","v":{"$error":"#N/A"}},{"$f":"VLOOKUP(P146,MapPointConfig!$B$833:$H$1732,7,FALSE)","v":{"$error":"#N/A"}},{"$f":"VLOOKUP(Q146,MapPointConfig!$B$833:$H$1732,7,FALSE)","v":{"$error":"#N/A"}},{"$f":"VLOOKUP(R146,MapPointConfig!$B$833:$H$1732,7,FALSE)","v":{"$error":"#N/A"}}]
["2147001#100","2147002#100","2147003#100","2147004#100","2147005#100","2147006#100","2147007#100","2147008#100",null,null,2147001,2147002,2147003,2147004,2147005,2147006,2147007,2147008,null,{"$f":"VLOOKUP(K147,MapPointConfig!$B$833:$H$1732,7,FALSE)","v":{"$error":"#N/A"}},{"$f":"VLOOKUP(L147,MapPointConfig!$B$833:$H$1732,7,FALSE)","v":{"$error":"#N/A"}},{"$f":"VLOOKUP(M147,MapPointConfig!$B$833:$H$1732,7,FALSE)","v":{"$error":"#N/A"}},{"$f":"VLOOKUP(N147,MapPointConfig!$B$833:$H$1732,7,FALSE)","v":{"$error":"#N/A"}},{"$f":"VLOOKUP(O147,MapPointConfig!$B$833:$H$1732,7,FALSE)","v":{"$error":"#N/A"}},{"$f":"VLOOKUP(P147,MapPointConfig!$B$833:$H$1732,7,FALSE)","v":{"$error":"#N/A"}},{"$f":"VLOOKUP(Q147,MapPointConfig!$B$833:$H$1732,7,FALSE)","v":{"$error":"#N/A"}},{"$f":"VLOOKUP(R147,MapPointConfig!$B$833:$H$1732,7,FALSE)","v":{"$error":"#N/A"}}]
["2148001#100","2148002#100","2148003#100","2148004#100","2148005#100","2148006#100","2148007#100","2148008#100",null,null,2148001,2148002,2148003,2148004,2148005,2148006,2148007,2148008,null,{"$f":"VLOOKUP(K148,MapPointConfig!$B$833:$H$1732,7,FALSE)","v":{"$error":"#N/A"}},{"$f":"VLOOKUP(L148,MapPointConfig!$B$833:$H$1732,7,FALSE)","v":{"$error":"#N/A"}},{"$f":"VLOOKUP(M148,MapPointConfig!$B$833:$H$1732,7,FALSE)","v":{"$error":"#N/A"}},{"$f":"VLOOKUP(N148,MapPointConfig!$B$833:$H$1732,7,FALSE)","v":{"$error":"#N/A"}},{"$f":"VLOOKUP(O148,MapPointConfig!$B$833:$H$1732,7,FALSE)","v":{"$error":"#N/A"}},{"$f":"VLOOKUP(P148,MapPointConfig!$B$833:$H$1732,7,FALSE)","v":{"$error":"#N/A"}},{"$f":"VLOOKUP(Q148,MapPointConfig!$B$833:$H$1732,7,FALSE)","v":{"$error":"#N/A"}},{"$f":"VLOOKUP(R148,MapPointConfig!$B$833:$H$1732,7,FALSE)","v":{"$error":"#N/A"}}]
["2149001#100","2149002#100","2149003#100","2149004#100","2149005#100","2149006#100","2149007#100","2149008#100",null,null,2149001,2149002,2149003,2149004,2149005,2149006,2149007,2149008,null,{"$f":"VLOOKUP(K149,MapPointConfig!$B$833:$H$1732,7,FALSE)","v":{"$error":"#N/A"}},{"$f":"VLOOKUP(L149,MapPointConfig!$B$833:$H$1732,7,FALSE)","v":{"$error":"#N/A"}},{"$f":"VLOOKUP(M149,MapPointConfig!$B$833:$H$1732,7,FALSE)","v":{"$error":"#N/A"}},{"$f":"VLOOKUP(N149,MapPointConfig!$B$833:$H$1732,7,FALSE)","v":{"$error":"#N/A"}},{"$f":"VLOOKUP(O149,MapPointConfig!$B$833:$H$1732,7,FALSE)","v":{"$error":"#N/A"}},{"$f":"VLOOKUP(P149,MapPointConfig!$B$833:$H$1732,7,FALSE)","v":{"$error":"#N/A"}},{"$f":"VLOOKUP(Q149,MapPointConfig!$B$833:$H$1732,7,FALSE)","v":{"$error":"#N/A"}},{"$f":"VLOOKUP(R149,MapPointConfig!$B$833:$H$1732,7,FALSE)","v":{"$error":"#N/A"}}]
["2150001#100","2150002#100","2150003#100","2150004#100","2150005#100","2150006#100","2150007#100","2150008#100",null,null,2150001,2150002,2150003,2150004,2150005,2150006,2150007,2150008,null,{"$f":"VLOOKUP(K150,MapPointConfig!$B$833:$H$1732,7,FALSE)","v":{"$error":"#N/A"}},{"$f":"VLOOKUP(L150,MapPointConfig!$B$833:$H$1732,7,FALSE)","v":{"$error":"#N/A"}},{"$f":"VLOOKUP(M150,MapPointConfig!$B$833:$H$1732,7,FALSE)","v":{"$error":"#N/A"}},{"$f":"VLOOKUP(N150,MapPointConfig!$B$833:$H$1732,7,FALSE)","v":{"$error":"#N/A"}},{"$f":"VLOOKUP(O150,MapPointConfig!$B$833:$H$1732,7,FALSE)","v":{"$error":"#N/A"}},{"$f":"VLOOKUP(P150,MapPointConfig!$B$833:$H$1732,7,FALSE)","v":{"$error":"#N/A"}},{"$f":"VLOOKUP(Q150,MapPointConfig!$B$833:$H$1732,7,FALSE)","v":{"$error":"#N/A"}},{"$f":"VLOOKUP(R150,MapPointConfig!$B$833:$H$1732,7,FALSE)","v":{"$error":"#N/A"}}]
["2151001#100","2151002#100","2151003#100","2151004#100","2151005#100","2151006#100","2151007#100","2151008#100",null,null,2151001,2151002,2151003,2151004,2151005,2151006,2151007,2151008,null,{"$f":"VLOOKUP(K151,MapPointConfig!$B$833:$H$1732,7,FALSE)","v":{"$error":"#N/A"}},{"$f":"VLOOKUP(L151,MapPointConfig!$B$833:$H$1732,7,FALSE)","v":{"$error":"#N/A"}},{"$f":"VLOOKUP(M151,MapPointConfig!$B$833:$H$1732,7,FALSE)","v":{"$error":"#N/A"}},{"$f":"VLOOKUP(N151,MapPointConfig!$B$833:$H$1732,7,FALSE)","v":{"$error":"#N/A"}},{"$f":"VLOOKUP(O151,MapPointConfig!$B$833:$H$1732,7,FALSE)","v":{"$error":"#N/A"}},{"$f":"VLOOKUP(P151,MapPointConfig!$B$833:$H$1732,7,FALSE)","v":{"$error":"#N/A"}},{"$f":"VLOOKUP(Q151,MapPointConfig!$B$833:$H$1732,7,FALSE)","v":{"$error":"#N/A"}},{"$f":"VLOOKUP(R151,MapPointConfig!$B$833:$H$1732,7,FALSE)","v":{"$error":"#N/A"}}]
["2152001#100","2152002#100","2152003#100","2152004#100","2152005#100","2152006#100","2152007#100","2152008#100",null,null,2152001,2152002,2152003,2152004,2152005,2152006,2152007,2152008,null,{"$f":"VLOOKUP(K152,MapPointConfig!$B$833:$H$1732,7,FALSE)","v":{"$error":"#N/A"}},{"$f":"VLOOKUP(L152,MapPointConfig!$B$833:$H$1732,7,FALSE)","v":{"$error":"#N/A"}},{"$f":"VLOOKUP(M152,MapPointConfig!$B$833:$H$1732,7,FALSE)","v":{"$error":"#N/A"}},{"$f":"VLOOKUP(N152,MapPointConfig!$B$833:$H$1732,7,FALSE)","v":{"$error":"#N/A"}},{"$f":"VLOOKUP(O152,MapPointConfig!$B$833:$H$1732,7,FALSE)","v":{"$error":"#N/A"}},{"$f":"VLOOKUP(P152,MapPointConfig!$B$833:$H$1732,7,FALSE)","v":{"$error":"#N/A"}},{"$f":"VLOOKUP(Q152,MapPointConfig!$B$833:$H$1732,7,FALSE)","v":{"$error":"#N/A"}},{"$f":"VLOOKUP(R152,MapPointConfig!$B$833:$H$1732,7,FALSE)","v":{"$error":"#N/A"}}]
["2153001#100","2153002#100","2153003#100","2153004#100","2153005#100","2153006#100","2153007#100","2153008#100",null,null,2153001,2153002,2153003,2153004,2153005,2153006,2153007,2153008,null,{"$f":"VLOOKUP(K153,MapPointConfig!$B$833:$H$1732,7,FALSE)","v":{"$error":"#N/A"}},{"$f":"VLOOKUP(L153,MapPointConfig!$B$833:$H$1732,7,FALSE)","v":{"$error":"#N/A"}},{"$f":"VLOOKUP(M153,MapPointConfig!$B$833:$H$1732,7,FALSE)","v":{"$error":"#N/A"}},{"$f":"VLOOKUP(N153,MapPointConfig!$B$833:$H$1732,7,FALSE)","v":{"$error":"#N/A"}},{"$f":"VLOOKUP(O153,MapPointConfig!$B$833:$H$1732,7,FALSE)","v":{"$error":"#N/A"}},{"$f":"VLOOKUP(P153,MapPointConfig!$B$833:$H$1732,7,FALSE)","v":{"$error":"#N/A"}},{"$f":"VLOOKUP(Q153,MapPointConfig!$B$833:$H$1732,7,FALSE)","v":{"$error":"#N/A"}},{"$f":"VLOOKUP(R153,MapPointConfig!$B$833:$H$1732,7,FALSE)","v":{"$error":"#N/A"}}]
["2154001#100","2154002#100","2154003#100","2154004#100","2154005#100","2154006#100","2154007#100","2154008#100",null,null,2154001,2154002,2154003,2154004,2154005,2154006,2154007,2154008,null,{"$f":"VLOOKUP(K154,MapPointConfig!$B$833:$H$1732,7,FALSE)","v":{"$error":"#N/A"}},{"$f":"VLOOKUP(L154,MapPointConfig!$B$833:$H$1732,7,FALSE)","v":{"$error":"#N/A"}},{"$f":"VLOOKUP(M154,MapPointConfig!$B$833:$H$1732,7,FALSE)","v":{"$error":"#N/A"}},{"$f":"VLOOKUP(N154,MapPointConfig!$B$833:$H$1732,7,FALSE)","v":{"$error":"#N/A"}},{"$f":"VLOOKUP(O154,MapPointConfig!$B$833:$H$1732,7,FALSE)","v":{"$error":"#N/A"}},{"$f":"VLOOKUP(P154,MapPointConfig!$B$833:$H$1732,7,FALSE)","v":{"$error":"#N/A"}},{"$f":"VLOOKUP(Q154,MapPointConfig!$B$833:$H$1732,7,FALSE)","v":{"$error":"#N/A"}},{"$f":"VLOOKUP(R154,MapPointConfig!$B$833:$H$1732,7,FALSE)","v":{"$error":"#N/A"}}]
["2155001#100","2155002#100","2155003#100","2155004#100","2155005#100","2155006#100","2155007#100","2155008#100",null,null,2155001,2155002,2155003,2155004,2155005,2155006,2155007,2155008,null,{"$f":"VLOOKUP(K155,MapPointConfig!$B$833:$H$1732,7,FALSE)","v":{"$error":"#N/A"}},{"$f":"VLOOKUP(L155,MapPointConfig!$B$833:$H$1732,7,FALSE)","v":{"$error":"#N/A"}},{"$f":"VLOOKUP(M155,MapPointConfig!$B$833:$H$1732,7,FALSE)","v":{"$error":"#N/A"}},{"$f":"VLOOKUP(N155,MapPointConfig!$B$833:$H$1732,7,FALSE)","v":{"$error":"#N/A"}},{"$f":"VLOOKUP(O155,MapPointConfig!$B$833:$H$1732,7,FALSE)","v":{"$error":"#N/A"}},{"$f":"VLOOKUP(P155,MapPointConfig!$B$833:$H$1732,7,FALSE)","v":{"$error":"#N/A"}},{"$f":"VLOOKUP(Q155,MapPointConfig!$B$833:$H$1732,7,FALSE)","v":{"$error":"#N/A"}},{"$f":"VLOOKUP(R155,MapPointConfig!$B$833:$H$1732,7,FALSE)","v":{"$error":"#N/A"}}]
["2156001#100","2156002#100","2156003#100","2156004#100","2156005#100","2156006#100","2156007#100","2156008#100",null,null,2156001,2156002,2156003,2156004,2156005,2156006,2156007,2156008,null,{"$f":"VLOOKUP(K156,MapPointConfig!$B$833:$H$1732,7,FALSE)","v":{"$error":"#N/A"}},{"$f":"VLOOKUP(L156,MapPointConfig!$B$833:$H$1732,7,FALSE)","v":{"$error":"#N/A"}},{"$f":"VLOOKUP(M156,MapPointConfig!$B$833:$H$1732,7,FALSE)","v":{"$error":"#N/A"}},{"$f":"VLOOKUP(N156,MapPointConfig!$B$833:$H$1732,7,FALSE)","v":{"$error":"#N/A"}},{"$f":"VLOOKUP(O156,MapPointConfig!$B$833:$H$1732,7,FALSE)","v":{"$error":"#N/A"}},{"$f":"VLOOKUP(P156,MapPointConfig!$B$833:$H$1732,7,FALSE)","v":{"$error":"#N/A"}},{"$f":"VLOOKUP(Q156,MapPointConfig!$B$833:$H$1732,7,FALSE)","v":{"$error":"#N/A"}},{"$f":"VLOOKUP(R156,MapPointConfig!$B$833:$H$1732,7,FALSE)","v":{"$error":"#N/A"}}]
["2157001#100","2157002#100","2157003#100","2157004#100","2157005#100","2157006#100","2157007#100","2157008#100",null,null,2157001,2157002,2157003,2157004,2157005,2157006,2157007,2157008,null,{"$f":"VLOOKUP(K157,MapPointConfig!$B$833:$H$1732,7,FALSE)","v":{"$error":"#N/A"}},{"$f":"VLOOKUP(L157,MapPointConfig!$B$833:$H$1732,7,FALSE)","v":{"$error":"#N/A"}},{"$f":"VLOOKUP(M157,MapPointConfig!$B$833:$H$1732,7,FALSE)","v":{"$error":"#N/A"}},{"$f":"VLOOKUP(N157,MapPointConfig!$B$833:$H$1732,7,FALSE)","v":{"$error":"#N/A"}},{"$f":"VLOOKUP(O157,MapPointConfig!$B$833:$H$1732,7,FALSE)","v":{"$error":"#N/A"}},{"$f":"VLOOKUP(P157,MapPointConfig!$B$833:$H$1732,7,FALSE)","v":{"$error":"#N/A"}},{"$f":"VLOOKUP(Q157,MapPointConfig!$B$833:$H$1732,7,FALSE)","v":{"$error":"#N/A"}},{"$f":"VLOOKUP(R157,MapPointConfig!$B$833:$H$1732,7,FALSE)","v":{"$error":"#N/A"}}]
["2158001#100","2158002#100","2158003#100","2158004#100","2158005#100","2158006#100","2158007#100","2158008#100",null,null,2158001,2158002,2158003,2158004,2158005,2158006,2158007,2158008,null,{"$f":"VLOOKUP(K158,MapPointConfig!$B$833:$H$1732,7,FALSE)","v":{"$error":"#N/A"}},{"$f":"VLOOKUP(L158,MapPointConfig!$B$833:$H$1732,7,FALSE)","v":{"$error":"#N/A"}},{"$f":"VLOOKUP(M158,MapPointConfig!$B$833:$H$1732,7,FALSE)","v":{"$error":"#N/A"}},{"$f":"VLOOKUP(N158,MapPointConfig!$B$833:$H$1732,7,FALSE)","v":{"$error":"#N/A"}},{"$f":"VLOOKUP(O158,MapPointConfig!$B$833:$H$1732,7,FALSE)","v":{"$error":"#N/A"}},{"$f":"VLOOKUP(P158,MapPointConfig!$B$833:$H$1732,7,FALSE)","v":{"$error":"#N/A"}},{"$f":"VLOOKUP(Q158,MapPointConfig!$B$833:$H$1732,7,FALSE)","v":{"$error":"#N/A"}},{"$f":"VLOOKUP(R158,MapPointConfig!$B$833:$H$1732,7,FALSE)","v":{"$error":"#N/A"}}]
["2159001#100","2159002#100","2159003#100","2159004#100","2159005#100","2159006#100","2159007#100","2159008#100",null,null,2159001,2159002,2159003,2159004,2159005,2159006,2159007,2159008,null,{"$f":"VLOOKUP(K159,MapPointConfig!$B$833:$H$1732,7,FALSE)","v":{"$error":"#N/A"}},{"$f":"VLOOKUP(L159,MapPointConfig!$B$833:$H$1732,7,FALSE)","v":{"$error":"#N/A"}},{"$f":"VLOOKUP(M159,MapPointConfig!$B$833:$H$1732,7,FALSE)","v":{"$error":"#N/A"}},{"$f":"VLOOKUP(N159,MapPointConfig!$B$833:$H$1732,7,FALSE)","v":{"$error":"#N/A"}},{"$f":"VLOOKUP(O159,MapPointConfig!$B$833:$H$1732,7,FALSE)","v":{"$error":"#N/A"}},{"$f":"VLOOKUP(P159,MapPointConfig!$B$833:$H$1732,7,FALSE)","v":{"$error":"#N/A"}},{"$f":"VLOOKUP(Q159,MapPointConfig!$B$833:$H$1732,7,FALSE)","v":{"$error":"#N/A"}},{"$f":"VLOOKUP(R159,MapPointConfig!$B$833:$H$1732,7,FALSE)","v":{"$error":"#N/A"}}]
["2160001#100","2160002#100","2160003#100","2160004#100","2160005#100","2160006#100","2160007#100","2160008#100",null,null,2160001,2160002,2160003,2160004,2160005,2160006,2160007,2160008,null,{"$f":"VLOOKUP(K160,MapPointConfig!$B$833:$H$1732,7,FALSE)","v":{"$error":"#N/A"}},{"$f":"VLOOKUP(L160,MapPointConfig!$B$833:$H$1732,7,FALSE)","v":{"$error":"#N/A"}},{"$f":"VLOOKUP(M160,MapPointConfig!$B$833:$H$1732,7,FALSE)","v":{"$error":"#N/A"}},{"$f":"VLOOKUP(N160,MapPointConfig!$B$833:$H$1732,7,FALSE)","v":{"$error":"#N/A"}},{"$f":"VLOOKUP(O160,MapPointConfig!$B$833:$H$1732,7,FALSE)","v":{"$error":"#N/A"}},{"$f":"VLOOKUP(P160,MapPointConfig!$B$833:$H$1732,7,FALSE)","v":{"$error":"#N/A"}},{"$f":"VLOOKUP(Q160,MapPointConfig!$B$833:$H$1732,7,FALSE)","v":{"$error":"#N/A"}},{"$f":"VLOOKUP(R160,MapPointConfig!$B$833:$H$1732,7,FALSE)","v":{"$error":"#N/A"}}]
["2161001#100","2161002#100","2161003#100","2161004#100","2161005#100","2161006#100","2161007#100","2161008#100",null,null,2161001,2161002,2161003,2161004,2161005,2161006,2161007,2161008,null,{"$f":"VLOOKUP(K161,MapPointConfig!$B$833:$H$1732,7,FALSE)","v":{"$error":"#N/A"}},{"$f":"VLOOKUP(L161,MapPointConfig!$B$833:$H$1732,7,FALSE)","v":{"$error":"#N/A"}},{"$f":"VLOOKUP(M161,MapPointConfig!$B$833:$H$1732,7,FALSE)","v":{"$error":"#N/A"}},{"$f":"VLOOKUP(N161,MapPointConfig!$B$833:$H$1732,7,FALSE)","v":{"$error":"#N/A"}},{"$f":"VLOOKUP(O161,MapPointConfig!$B$833:$H$1732,7,FALSE)","v":{"$error":"#N/A"}},{"$f":"VLOOKUP(P161,MapPointConfig!$B$833:$H$1732,7,FALSE)","v":{"$error":"#N/A"}},{"$f":"VLOOKUP(Q161,MapPointConfig!$B$833:$H$1732,7,FALSE)","v":{"$error":"#N/A"}},{"$f":"VLOOKUP(R161,MapPointConfig!$B$833:$H$1732,7,FALSE)","v":{"$error":"#N/A"}}]
["2162001#100","2162002#100","2162003#100","2162004#100","2162005#100","2162006#100","2162007#100","2162008#100",null,null,2162001,2162002,2162003,2162004,2162005,2162006,2162007,2162008,null,{"$f":"VLOOKUP(K162,MapPointConfig!$B$833:$H$1732,7,FALSE)","v":{"$error":"#N/A"}},{"$f":"VLOOKUP(L162,MapPointConfig!$B$833:$H$1732,7,FALSE)","v":{"$error":"#N/A"}},{"$f":"VLOOKUP(M162,MapPointConfig!$B$833:$H$1732,7,FALSE)","v":{"$error":"#N/A"}},{"$f":"VLOOKUP(N162,MapPointConfig!$B$833:$H$1732,7,FALSE)","v":{"$error":"#N/A"}},{"$f":"VLOOKUP(O162,MapPointConfig!$B$833:$H$1732,7,FALSE)","v":{"$error":"#N/A"}},{"$f":"VLOOKUP(P162,MapPointConfig!$B$833:$H$1732,7,FALSE)","v":{"$error":"#N/A"}},{"$f":"VLOOKUP(Q162,MapPointConfig!$B$833:$H$1732,7,FALSE)","v":{"$error":"#N/A"}},{"$f":"VLOOKUP(R162,MapPointConfig!$B$833:$H$1732,7,FALSE)","v":{"$error":"#N/A"}}]
["2163001#100","2163002#100","2163003#100","2163004#100","2163005#100","2163006#100","2163007#100","2163008#100",null,null,2163001,2163002,2163003,2163004,2163005,2163006,2163007,2163008,null,{"$f":"VLOOKUP(K163,MapPointConfig!$B$833:$H$1732,7,FALSE)","v":{"$error":"#N/A"}},{"$f":"VLOOKUP(L163,MapPointConfig!$B$833:$H$1732,7,FALSE)","v":{"$error":"#N/A"}},{"$f":"VLOOKUP(M163,MapPointConfig!$B$833:$H$1732,7,FALSE)","v":{"$error":"#N/A"}},{"$f":"VLOOKUP(N163,MapPointConfig!$B$833:$H$1732,7,FALSE)","v":{"$error":"#N/A"}},{"$f":"VLOOKUP(O163,MapPointConfig!$B$833:$H$1732,7,FALSE)","v":{"$error":"#N/A"}},{"$f":"VLOOKUP(P163,MapPointConfig!$B$833:$H$1732,7,FALSE)","v":{"$error":"#N/A"}},{"$f":"VLOOKUP(Q163,MapPointConfig!$B$833:$H$1732,7,FALSE)","v":{"$error":"#N/A"}},{"$f":"VLOOKUP(R163,MapPointConfig!$B$833:$H$1732,7,FALSE)","v":{"$error":"#N/A"}}]
["2164001#100","2164002#100","2164003#100","2164004#100","2164005#100","2164006#100","2164007#100","2164008#100",null,null,2164001,2164002,2164003,2164004,2164005,2164006,2164007,2164008,null,{"$f":"VLOOKUP(K164,MapPointConfig!$B$833:$H$1732,7,FALSE)","v":{"$error":"#N/A"}},{"$f":"VLOOKUP(L164,MapPointConfig!$B$833:$H$1732,7,FALSE)","v":{"$error":"#N/A"}},{"$f":"VLOOKUP(M164,MapPointConfig!$B$833:$H$1732,7,FALSE)","v":{"$error":"#N/A"}},{"$f":"VLOOKUP(N164,MapPointConfig!$B$833:$H$1732,7,FALSE)","v":{"$error":"#N/A"}},{"$f":"VLOOKUP(O164,MapPointConfig!$B$833:$H$1732,7,FALSE)","v":{"$error":"#N/A"}},{"$f":"VLOOKUP(P164,MapPointConfig!$B$833:$H$1732,7,FALSE)","v":{"$error":"#N/A"}},{"$f":"VLOOKUP(Q164,MapPointConfig!$B$833:$H$1732,7,FALSE)","v":{"$error":"#N/A"}},{"$f":"VLOOKUP(R164,MapPointConfig!$B$833:$H$1732,7,FALSE)","v":{"$error":"#N/A"}}]
["2165001#100","2165002#100","2165003#100","2165004#100","2165005#100","2165006#100","2165007#100","2165008#100",null,null,2165001,2165002,2165003,2165004,2165005,2165006,2165007,2165008,null,{"$f":"VLOOKUP(K165,MapPointConfig!$B$833:$H$1732,7,FALSE)","v":{"$error":"#N/A"}},{"$f":"VLOOKUP(L165,MapPointConfig!$B$833:$H$1732,7,FALSE)","v":{"$error":"#N/A"}},{"$f":"VLOOKUP(M165,MapPointConfig!$B$833:$H$1732,7,FALSE)","v":{"$error":"#N/A"}},{"$f":"VLOOKUP(N165,MapPointConfig!$B$833:$H$1732,7,FALSE)","v":{"$error":"#N/A"}},{"$f":"VLOOKUP(O165,MapPointConfig!$B$833:$H$1732,7,FALSE)","v":{"$error":"#N/A"}},{"$f":"VLOOKUP(P165,MapPointConfig!$B$833:$H$1732,7,FALSE)","v":{"$error":"#N/A"}},{"$f":"VLOOKUP(Q165,MapPointConfig!$B$833:$H$1732,7,FALSE)","v":{"$error":"#N/A"}},{"$f":"VLOOKUP(R165,MapPointConfig!$B$833:$H$1732,7,FALSE)","v":{"$error":"#N/A"}}]
["2166001#100","2166002#100","2166003#100","2166004#100","2166005#100","2166006#100","2166007#100","2166008#100",null,null,2166001,2166002,2166003,2166004,2166005,2166006,2166007,2166008,null,{"$f":"VLOOKUP(K166,MapPointConfig!$B$833:$H$1732,7,FALSE)","v":{"$error":"#N/A"}},{"$f":"VLOOKUP(L166,MapPointConfig!$B$833:$H$1732,7,FALSE)","v":{"$error":"#N/A"}},{"$f":"VLOOKUP(M166,MapPointConfig!$B$833:$H$1732,7,FALSE)","v":{"$error":"#N/A"}},{"$f":"VLOOKUP(N166,MapPointConfig!$B$833:$H$1732,7,FALSE)","v":{"$error":"#N/A"}},{"$f":"VLOOKUP(O166,MapPointConfig!$B$833:$H$1732,7,FALSE)","v":{"$error":"#N/A"}},{"$f":"VLOOKUP(P166,MapPointConfig!$B$833:$H$1732,7,FALSE)","v":{"$error":"#N/A"}},{"$f":"VLOOKUP(Q166,MapPointConfig!$B$833:$H$1732,7,FALSE)","v":{"$error":"#N/A"}},{"$f":"VLOOKUP(R166,MapPointConfig!$B$833:$H$1732,7,FALSE)","v":{"$error":"#N/A"}}]
["2167001#100","2167002#100","2167003#100","2167004#100","2167005#100","2167006#100","2167007#100","2167008#100",null,null,2167001,2167002,2167003,2167004,2167005,2167006,2167007,2167008,null,{"$f":"VLOOKUP(K167,MapPointConfig!$B$833:$H$1732,7,FALSE)","v":{"$error":"#N/A"}},{"$f":"VLOOKUP(L167,MapPointConfig!$B$833:$H$1732,7,FALSE)","v":{"$error":"#N/A"}},{"$f":"VLOOKUP(M167,MapPointConfig!$B$833:$H$1732,7,FALSE)","v":{"$error":"#N/A"}},{"$f":"VLOOKUP(N167,MapPointConfig!$B$833:$H$1732,7,FALSE)","v":{"$error":"#N/A"}},{"$f":"VLOOKUP(O167,MapPointConfig!$B$833:$H$1732,7,FALSE)","v":{"$error":"#N/A"}},{"$f":"VLOOKUP(P167,MapPointConfig!$B$833:$H$1732,7,FALSE)","v":{"$error":"#N/A"}},{"$f":"VLOOKUP(Q167,MapPointConfig!$B$833:$H$1732,7,FALSE)","v":{"$error":"#N/A"}},{"$f":"VLOOKUP(R167,MapPointConfig!$B$833:$H$1732,7,FALSE)","v":{"$error":"#N/A"}}]
["2168001#100","2168002#100","2168003#100","2168004#100","2168005#100","2168006#100","2168007#100","2168008#100",null,null,2168001,2168002,2168003,2168004,2168005,2168006,2168007,2168008,null,{"$f":"VLOOKUP(K168,MapPointConfig!$B$833:$H$1732,7,FALSE)","v":{"$error":"#N/A"}},{"$f":"VLOOKUP(L168,MapPointConfig!$B$833:$H$1732,7,FALSE)","v":{"$error":"#N/A"}},{"$f":"VLOOKUP(M168,MapPointConfig!$B$833:$H$1732,7,FALSE)","v":{"$error":"#N/A"}},{"$f":"VLOOKUP(N168,MapPointConfig!$B$833:$H$1732,7,FALSE)","v":{"$error":"#N/A"}},{"$f":"VLOOKUP(O168,MapPointConfig!$B$833:$H$1732,7,FALSE)","v":{"$error":"#N/A"}},{"$f":"VLOOKUP(P168,MapPointConfig!$B$833:$H$1732,7,FALSE)","v":{"$error":"#N/A"}},{"$f":"VLOOKUP(Q168,MapPointConfig!$B$833:$H$1732,7,FALSE)","v":{"$error":"#N/A"}},{"$f":"VLOOKUP(R168,MapPointConfig!$B$833:$H$1732,7,FALSE)","v":{"$error":"#N/A"}}]
["2169001#100","2169002#100","2169003#100","2169004#100","2169005#100","2169006#100","2169007#100","2169008#100",null,null,2169001,2169002,2169003,2169004,2169005,2169006,2169007,2169008,null,{"$f":"VLOOKUP(K169,MapPointConfig!$B$833:$H$1732,7,FALSE)","v":{"$error":"#N/A"}},{"$f":"VLOOKUP(L169,MapPointConfig!$B$833:$H$1732,7,FALSE)","v":{"$error":"#N/A"}},{"$f":"VLOOKUP(M169,MapPointConfig!$B$833:$H$1732,7,FALSE)","v":{"$error":"#N/A"}},{"$f":"VLOOKUP(N169,MapPointConfig!$B$833:$H$1732,7,FALSE)","v":{"$error":"#N/A"}},{"$f":"VLOOKUP(O169,MapPointConfig!$B$833:$H$1732,7,FALSE)","v":{"$error":"#N/A"}},{"$f":"VLOOKUP(P169,MapPointConfig!$B$833:$H$1732,7,FALSE)","v":{"$error":"#N/A"}},{"$f":"VLOOKUP(Q169,MapPointConfig!$B$833:$H$1732,7,FALSE)","v":{"$error":"#N/A"}},{"$f":"VLOOKUP(R169,MapPointConfig!$B$833:$H$1732,7,FALSE)","v":{"$error":"#N/A"}}]
["2170001#100","2170002#100","2170003#100","2170004#100","2170005#100","2170006#100","2170007#100","2170008#100",null,null,2170001,2170002,2170003,2170004,2170005,2170006,2170007,2170008,null,{"$f":"VLOOKUP(K170,MapPointConfig!$B$833:$H$1732,7,FALSE)","v":{"$error":"#N/A"}},{"$f":"VLOOKUP(L170,MapPointConfig!$B$833:$H$1732,7,FALSE)","v":{"$error":"#N/A"}},{"$f":"VLOOKUP(M170,MapPointConfig!$B$833:$H$1732,7,FALSE)","v":{"$error":"#N/A"}},{"$f":"VLOOKUP(N170,MapPointConfig!$B$833:$H$1732,7,FALSE)","v":{"$error":"#N/A"}},{"$f":"VLOOKUP(O170,MapPointConfig!$B$833:$H$1732,7,FALSE)","v":{"$error":"#N/A"}},{"$f":"VLOOKUP(P170,MapPointConfig!$B$833:$H$1732,7,FALSE)","v":{"$error":"#N/A"}},{"$f":"VLOOKUP(Q170,MapPointConfig!$B$833:$H$1732,7,FALSE)","v":{"$error":"#N/A"}},{"$f":"VLOOKUP(R170,MapPointConfig!$B$833:$H$1732,7,FALSE)","v":{"$error":"#N/A"}}]
["2171001#100","2171002#100","2171003#100","2171004#100","2171005#100","2171006#100","2171007#100","2171008#100",null,null,2171001,2171002,2171003,2171004,2171005,2171006,2171007,2171008,null,{"$f":"VLOOKUP(K171,MapPointConfig!$B$833:$H$1732,7,FALSE)","v":{"$error":"#N/A"}},{"$f":"VLOOKUP(L171,MapPointConfig!$B$833:$H$1732,7,FALSE)","v":{"$error":"#N/A"}},{"$f":"VLOOKUP(M171,MapPointConfig!$B$833:$H$1732,7,FALSE)","v":{"$error":"#N/A"}},{"$f":"VLOOKUP(N171,MapPointConfig!$B$833:$H$1732,7,FALSE)","v":{"$error":"#N/A"}},{"$f":"VLOOKUP(O171,MapPointConfig!$B$833:$H$1732,7,FALSE)","v":{"$error":"#N/A"}},{"$f":"VLOOKUP(P171,MapPointConfig!$B$833:$H$1732,7,FALSE)","v":{"$error":"#N/A"}},{"$f":"VLOOKUP(Q171,MapPointConfig!$B$833:$H$1732,7,FALSE)","v":{"$error":"#N/A"}},{"$f":"VLOOKUP(R171,MapPointConfig!$B$833:$H$1732,7,FALSE)","v":{"$error":"#N/A"}}]
["2172001#100","2172002#100","2172003#100","2172004#100","2172005#100","2172006#100","2172007#100","2172008#100",null,null,2172001,2172002,2172003,2172004,2172005,2172006,2172007,2172008,null,{"$f":"VLOOKUP(K172,MapPointConfig!$B$833:$H$1732,7,FALSE)","v":{"$error":"#N/A"}},{"$f":"VLOOKUP(L172,MapPointConfig!$B$833:$H$1732,7,FALSE)","v":{"$error":"#N/A"}},{"$f":"VLOOKUP(M172,MapPointConfig!$B$833:$H$1732,7,FALSE)","v":{"$error":"#N/A"}},{"$f":"VLOOKUP(N172,MapPointConfig!$B$833:$H$1732,7,FALSE)","v":{"$error":"#N/A"}},{"$f":"VLOOKUP(O172,MapPointConfig!$B$833:$H$1732,7,FALSE)","v":{"$error":"#N/A"}},{"$f":"VLOOKUP(P172,MapPointConfig!$B$833:$H$1732,7,FALSE)","v":{"$error":"#N/A"}},{"$f":"VLOOKUP(Q172,MapPointConfig!$B$833:$H$1732,7,FALSE)","v":{"$error":"#N/A"}},{"$f":"VLOOKUP(R172,MapPointConfig!$B$833:$H$1732,7,FALSE)","v":{"$error":"#N/A"}}]
["2173001#100","2173002#100","2173003#100","2173004#100","2173005#100","2173006#100","2173007#100","2173008#100",null,null,2173001,2173002,2173003,2173004,2173005,2173006,2173007,2173008,null,{"$f":"VLOOKUP(K173,MapPointConfig!$B$833:$H$1732,7,FALSE)","v":{"$error":"#N/A"}},{"$f":"VLOOKUP(L173,MapPointConfig!$B$833:$H$1732,7,FALSE)","v":{"$error":"#N/A"}},{"$f":"VLOOKUP(M173,MapPointConfig!$B$833:$H$1732,7,FALSE)","v":{"$error":"#N/A"}},{"$f":"VLOOKUP(N173,MapPointConfig!$B$833:$H$1732,7,FALSE)","v":{"$error":"#N/A"}},{"$f":"VLOOKUP(O173,MapPointConfig!$B$833:$H$1732,7,FALSE)","v":{"$error":"#N/A"}},{"$f":"VLOOKUP(P173,MapPointConfig!$B$833:$H$1732,7,FALSE)","v":{"$error":"#N/A"}},{"$f":"VLOOKUP(Q173,MapPointConfig!$B$833:$H$1732,7,FALSE)","v":{"$error":"#N/A"}},{"$f":"VLOOKUP(R173,MapPointConfig!$B$833:$H$1732,7,FALSE)","v":{"$error":"#N/A"}}]
["2174001#100","2174002#100","2174003#100","2174004#100","2174005#100","2174006#100","2174007#100","2174008#100",null,null,2174001,2174002,2174003,2174004,2174005,2174006,2174007,2174008,null,{"$f":"VLOOKUP(K174,MapPointConfig!$B$833:$H$1732,7,FALSE)","v":{"$error":"#N/A"}},{"$f":"VLOOKUP(L174,MapPointConfig!$B$833:$H$1732,7,FALSE)","v":{"$error":"#N/A"}},{"$f":"VLOOKUP(M174,MapPointConfig!$B$833:$H$1732,7,FALSE)","v":{"$error":"#N/A"}},{"$f":"VLOOKUP(N174,MapPointConfig!$B$833:$H$1732,7,FALSE)","v":{"$error":"#N/A"}},{"$f":"VLOOKUP(O174,MapPointConfig!$B$833:$H$1732,7,FALSE)","v":{"$error":"#N/A"}},{"$f":"VLOOKUP(P174,MapPointConfig!$B$833:$H$1732,7,FALSE)","v":{"$error":"#N/A"}},{"$f":"VLOOKUP(Q174,MapPointConfig!$B$833:$H$1732,7,FALSE)","v":{"$error":"#N/A"}},{"$f":"VLOOKUP(R174,MapPointConfig!$B$833:$H$1732,7,FALSE)","v":{"$error":"#N/A"}}]
["2175001#100","2175002#100","2175003#100","2175004#100","2175005#100","2175006#100","2175007#100","2175008#100",null,null,2175001,2175002,2175003,2175004,2175005,2175006,2175007,2175008,null,{"$f":"VLOOKUP(K175,MapPointConfig!$B$833:$H$1732,7,FALSE)","v":{"$error":"#N/A"}},{"$f":"VLOOKUP(L175,MapPointConfig!$B$833:$H$1732,7,FALSE)","v":{"$error":"#N/A"}},{"$f":"VLOOKUP(M175,MapPointConfig!$B$833:$H$1732,7,FALSE)","v":{"$error":"#N/A"}},{"$f":"VLOOKUP(N175,MapPointConfig!$B$833:$H$1732,7,FALSE)","v":{"$error":"#N/A"}},{"$f":"VLOOKUP(O175,MapPointConfig!$B$833:$H$1732,7,FALSE)","v":{"$error":"#N/A"}},{"$f":"VLOOKUP(P175,MapPointConfig!$B$833:$H$1732,7,FALSE)","v":{"$error":"#N/A"}},{"$f":"VLOOKUP(Q175,MapPointConfig!$B$833:$H$1732,7,FALSE)","v":{"$error":"#N/A"}},{"$f":"VLOOKUP(R175,MapPointConfig!$B$833:$H$1732,7,FALSE)","v":{"$error":"#N/A"}}]
["2176001#100","2176002#100","2176003#100","2176004#100","2176005#100","2176006#100","2176007#100","2176008#100",null,null,2176001,2176002,2176003,2176004,2176005,2176006,2176007,2176008,null,{"$f":"VLOOKUP(K176,MapPointConfig!$B$833:$H$1732,7,FALSE)","v":{"$error":"#N/A"}},{"$f":"VLOOKUP(L176,MapPointConfig!$B$833:$H$1732,7,FALSE)","v":{"$error":"#N/A"}},{"$f":"VLOOKUP(M176,MapPointConfig!$B$833:$H$1732,7,FALSE)","v":{"$error":"#N/A"}},{"$f":"VLOOKUP(N176,MapPointConfig!$B$833:$H$1732,7,FALSE)","v":{"$error":"#N/A"}},{"$f":"VLOOKUP(O176,MapPointConfig!$B$833:$H$1732,7,FALSE)","v":{"$error":"#N/A"}},{"$f":"VLOOKUP(P176,MapPointConfig!$B$833:$H$1732,7,FALSE)","v":{"$error":"#N/A"}},{"$f":"VLOOKUP(Q176,MapPointConfig!$B$833:$H$1732,7,FALSE)","v":{"$error":"#N/A"}},{"$f":"VLOOKUP(R176,MapPointConfig!$B$833:$H$1732,7,FALSE)","v":{"$error":"#N/A"}}]
["2177001#100","2177002#100","2177003#100","2177004#100","2177005#100","2177006#100","2177007#100","2177008#100",null,null,2177001,2177002,2177003,2177004,2177005,2177006,2177007,2177008,null,{"$f":"VLOOKUP(K177,MapPointConfig!$B$833:$H$1732,7,FALSE)","v":{"$error":"#N/A"}},{"$f":"VLOOKUP(L177,MapPointConfig!$B$833:$H$1732,7,FALSE)","v":{"$error":"#N/A"}},{"$f":"VLOOKUP(M177,MapPointConfig!$B$833:$H$1732,7,FALSE)","v":{"$error":"#N/A"}},{"$f":"VLOOKUP(N177,MapPointConfig!$B$833:$H$1732,7,FALSE)","v":{"$error":"#N/A"}},{"$f":"VLOOKUP(O177,MapPointConfig!$B$833:$H$1732,7,FALSE)","v":{"$error":"#N/A"}},{"$f":"VLOOKUP(P177,MapPointConfig!$B$833:$H$1732,7,FALSE)","v":{"$error":"#N/A"}},{"$f":"VLOOKUP(Q177,MapPointConfig!$B$833:$H$1732,7,FALSE)","v":{"$error":"#N/A"}},{"$f":"VLOOKUP(R177,MapPointConfig!$B$833:$H$1732,7,FALSE)","v":{"$error":"#N/A"}}]
["2178001#100","2178002#100","2178003#100","2178004#100","2178005#100","2178006#100","2178007#100","2178008#100",null,null,2178001,2178002,2178003,2178004,2178005,2178006,2178007,2178008,null,{"$f":"VLOOKUP(K178,MapPointConfig!$B$833:$H$1732,7,FALSE)","v":{"$error":"#N/A"}},{"$f":"VLOOKUP(L178,MapPointConfig!$B$833:$H$1732,7,FALSE)","v":{"$error":"#N/A"}},{"$f":"VLOOKUP(M178,MapPointConfig!$B$833:$H$1732,7,FALSE)","v":{"$error":"#N/A"}},{"$f":"VLOOKUP(N178,MapPointConfig!$B$833:$H$1732,7,FALSE)","v":{"$error":"#N/A"}},{"$f":"VLOOKUP(O178,MapPointConfig!$B$833:$H$1732,7,FALSE)","v":{"$error":"#N/A"}},{"$f":"VLOOKUP(P178,MapPointConfig!$B$833:$H$1732,7,FALSE)","v":{"$error":"#N/A"}},{"$f":"VLOOKUP(Q178,MapPointConfig!$B$833:$H$1732,7,FALSE)","v":{"$error":"#N/A"}},{"$f":"VLOOKUP(R178,MapPointConfig!$B$833:$H$1732,7,FALSE)","v":{"$error":"#N/A"}}]
["2179001#100","2179002#100","2179003#100","2179004#100","2179005#100","2179006#100","2179007#100","2179008#100",null,null,2179001,2179002,2179003,2179004,2179005,2179006,2179007,2179008,null,{"$f":"VLOOKUP(K179,MapPointConfig!$B$833:$H$1732,7,FALSE)","v":{"$error":"#N/A"}},{"$f":"VLOOKUP(L179,MapPointConfig!$B$833:$H$1732,7,FALSE)","v":{"$error":"#N/A"}},{"$f":"VLOOKUP(M179,MapPointConfig!$B$833:$H$1732,7,FALSE)","v":{"$error":"#N/A"}},{"$f":"VLOOKUP(N179,MapPointConfig!$B$833:$H$1732,7,FALSE)","v":{"$error":"#N/A"}},{"$f":"VLOOKUP(O179,MapPointConfig!$B$833:$H$1732,7,FALSE)","v":{"$error":"#N/A"}},{"$f":"VLOOKUP(P179,MapPointConfig!$B$833:$H$1732,7,FALSE)","v":{"$error":"#N/A"}},{"$f":"VLOOKUP(Q179,MapPointConfig!$B$833:$H$1732,7,FALSE)","v":{"$error":"#N/A"}},{"$f":"VLOOKUP(R179,MapPointConfig!$B$833:$H$1732,7,FALSE)","v":{"$error":"#N/A"}}]
["2180001#100","2180002#100","2180003#100","2180004#100","2180005#100","2180006#100","2180007#100","2180008#100",null,null,2180001,2180002,2180003,2180004,2180005,2180006,2180007,2180008,null,{"$f":"VLOOKUP(K180,MapPointConfig!$B$833:$H$1732,7,FALSE)","v":{"$error":"#N/A"}},{"$f":"VLOOKUP(L180,MapPointConfig!$B$833:$H$1732,7,FALSE)","v":{"$error":"#N/A"}},{"$f":"VLOOKUP(M180,MapPointConfig!$B$833:$H$1732,7,FALSE)","v":{"$error":"#N/A"}},{"$f":"VLOOKUP(N180,MapPointConfig!$B$833:$H$1732,7,FALSE)","v":{"$error":"#N/A"}},{"$f":"VLOOKUP(O180,MapPointConfig!$B$833:$H$1732,7,FALSE)","v":{"$error":"#N/A"}},{"$f":"VLOOKUP(P180,MapPointConfig!$B$833:$H$1732,7,FALSE)","v":{"$error":"#N/A"}},{"$f":"VLOOKUP(Q180,MapPointConfig!$B$833:$H$1732,7,FALSE)","v":{"$error":"#N/A"}},{"$f":"VLOOKUP(R180,MapPointConfig!$B$833:$H$1732,7,FALSE)","v":{"$error":"#N/A"}}]
["2181001#100","2181002#100","2181003#100","2181004#100","2181005#100","2181006#100","2181007#100","2181008#100",null,null,2181001,2181002,2181003,2181004,2181005,2181006,2181007,2181008,null,{"$f":"VLOOKUP(K181,MapPointConfig!$B$833:$H$1732,7,FALSE)","v":{"$error":"#N/A"}},{"$f":"VLOOKUP(L181,MapPointConfig!$B$833:$H$1732,7,FALSE)","v":{"$error":"#N/A"}},{"$f":"VLOOKUP(M181,MapPointConfig!$B$833:$H$1732,7,FALSE)","v":{"$error":"#N/A"}},{"$f":"VLOOKUP(N181,MapPointConfig!$B$833:$H$1732,7,FALSE)","v":{"$error":"#N/A"}},{"$f":"VLOOKUP(O181,MapPointConfig!$B$833:$H$1732,7,FALSE)","v":{"$error":"#N/A"}},{"$f":"VLOOKUP(P181,MapPointConfig!$B$833:$H$1732,7,FALSE)","v":{"$error":"#N/A"}},{"$f":"VLOOKUP(Q181,MapPointConfig!$B$833:$H$1732,7,FALSE)","v":{"$error":"#N/A"}},{"$f":"VLOOKUP(R181,MapPointConfig!$B$833:$H$1732,7,FALSE)","v":{"$error":"#N/A"}}]
["2182001#100","2182002#100","2182003#100","2182004#100","2182005#100","2182006#100","2182007#100","2182008#100",null,null,2182001,2182002,2182003,2182004,2182005,2182006,2182007,2182008,null,{"$f":"VLOOKUP(K182,MapPointConfig!$B$833:$H$1732,7,FALSE)","v":{"$error":"#N/A"}},{"$f":"VLOOKUP(L182,MapPointConfig!$B$833:$H$1732,7,FALSE)","v":{"$error":"#N/A"}},{"$f":"VLOOKUP(M182,MapPointConfig!$B$833:$H$1732,7,FALSE)","v":{"$error":"#N/A"}},{"$f":"VLOOKUP(N182,MapPointConfig!$B$833:$H$1732,7,FALSE)","v":{"$error":"#N/A"}},{"$f":"VLOOKUP(O182,MapPointConfig!$B$833:$H$1732,7,FALSE)","v":{"$error":"#N/A"}},{"$f":"VLOOKUP(P182,MapPointConfig!$B$833:$H$1732,7,FALSE)","v":{"$error":"#N/A"}},{"$f":"VLOOKUP(Q182,MapPointConfig!$B$833:$H$1732,7,FALSE)","v":{"$error":"#N/A"}},{"$f":"VLOOKUP(R182,MapPointConfig!$B$833:$H$1732,7,FALSE)","v":{"$error":"#N/A"}}]
["2183001#100","2183002#100","2183003#100","2183004#100","2183005#100","2183006#100","2183007#100","2183008#100",null,null,2183001,2183002,2183003,2183004,2183005,2183006,2183007,2183008,null,{"$f":"VLOOKUP(K183,MapPointConfig!$B$833:$H$1732,7,FALSE)","v":{"$error":"#N/A"}},{"$f":"VLOOKUP(L183,MapPointConfig!$B$833:$H$1732,7,FALSE)","v":{"$error":"#N/A"}},{"$f":"VLOOKUP(M183,MapPointConfig!$B$833:$H$1732,7,FALSE)","v":{"$error":"#N/A"}},{"$f":"VLOOKUP(N183,MapPointConfig!$B$833:$H$1732,7,FALSE)","v":{"$error":"#N/A"}},{"$f":"VLOOKUP(O183,MapPointConfig!$B$833:$H$1732,7,FALSE)","v":{"$error":"#N/A"}},{"$f":"VLOOKUP(P183,MapPointConfig!$B$833:$H$1732,7,FALSE)","v":{"$error":"#N/A"}},{"$f":"VLOOKUP(Q183,MapPointConfig!$B$833:$H$1732,7,FALSE)","v":{"$error":"#N/A"}},{"$f":"VLOOKUP(R183,MapPointConfig!$B$833:$H$1732,7,FALSE)","v":{"$error":"#N/A"}}]
["2184001#100","2184002#100","2184003#100","2184004#100","2184005#100","2184006#100","2184007#100","2184008#100",null,null,2184001,2184002,2184003,2184004,2184005,2184006,2184007,2184008,null,{"$f":"VLOOKUP(K184,MapPointConfig!$B$833:$H$1732,7,FALSE)","v":{"$error":"#N/A"}},{"$f":"VLOOKUP(L184,MapPointConfig!$B$833:$H$1732,7,FALSE)","v":{"$error":"#N/A"}},{"$f":"VLOOKUP(M184,MapPointConfig!$B$833:$H$1732,7,FALSE)","v":{"$error":"#N/A"}},{"$f":"VLOOKUP(N184,MapPointConfig!$B$833:$H$1732,7,FALSE)","v":{"$error":"#N/A"}},{"$f":"VLOOKUP(O184,MapPointConfig!$B$833:$H$1732,7,FALSE)","v":{"$error":"#N/A"}},{"$f":"VLOOKUP(P184,MapPointConfig!$B$833:$H$1732,7,FALSE)","v":{"$error":"#N/A"}},{"$f":"VLOOKUP(Q184,MapPointConfig!$B$833:$H$1732,7,FALSE)","v":{"$error":"#N/A"}},{"$f":"VLOOKUP(R184,MapPointConfig!$B$833:$H$1732,7,FALSE)","v":{"$error":"#N/A"}}]
["2185001#100","2185002#100","2185003#100","2185004#100","2185005#100","2185006#100","2185007#100","2185008#100",null,null,2185001,2185002,2185003,2185004,2185005,2185006,2185007,2185008,null,{"$f":"VLOOKUP(K185,MapPointConfig!$B$833:$H$1732,7,FALSE)","v":{"$error":"#N/A"}},{"$f":"VLOOKUP(L185,MapPointConfig!$B$833:$H$1732,7,FALSE)","v":{"$error":"#N/A"}},{"$f":"VLOOKUP(M185,MapPointConfig!$B$833:$H$1732,7,FALSE)","v":{"$error":"#N/A"}},{"$f":"VLOOKUP(N185,MapPointConfig!$B$833:$H$1732,7,FALSE)","v":{"$error":"#N/A"}},{"$f":"VLOOKUP(O185,MapPointConfig!$B$833:$H$1732,7,FALSE)","v":{"$error":"#N/A"}},{"$f":"VLOOKUP(P185,MapPointConfig!$B$833:$H$1732,7,FALSE)","v":{"$error":"#N/A"}},{"$f":"VLOOKUP(Q185,MapPointConfig!$B$833:$H$1732,7,FALSE)","v":{"$error":"#N/A"}},{"$f":"VLOOKUP(R185,MapPointConfig!$B$833:$H$1732,7,FALSE)","v":{"$error":"#N/A"}}]
["2186001#100","2186002#100","2186003#100","2186004#100","2186005#100","2186006#100","2186007#100","2186008#100",null,null,2186001,2186002,2186003,2186004,2186005,2186006,2186007,2186008,null,{"$f":"VLOOKUP(K186,MapPointConfig!$B$833:$H$1732,7,FALSE)","v":{"$error":"#N/A"}},{"$f":"VLOOKUP(L186,MapPointConfig!$B$833:$H$1732,7,FALSE)","v":{"$error":"#N/A"}},{"$f":"VLOOKUP(M186,MapPointConfig!$B$833:$H$1732,7,FALSE)","v":{"$error":"#N/A"}},{"$f":"VLOOKUP(N186,MapPointConfig!$B$833:$H$1732,7,FALSE)","v":{"$error":"#N/A"}},{"$f":"VLOOKUP(O186,MapPointConfig!$B$833:$H$1732,7,FALSE)","v":{"$error":"#N/A"}},{"$f":"VLOOKUP(P186,MapPointConfig!$B$833:$H$1732,7,FALSE)","v":{"$error":"#N/A"}},{"$f":"VLOOKUP(Q186,MapPointConfig!$B$833:$H$1732,7,FALSE)","v":{"$error":"#N/A"}},{"$f":"VLOOKUP(R186,MapPointConfig!$B$833:$H$1732,7,FALSE)","v":{"$error":"#N/A"}}]
["2187001#100","2187002#100","2187003#100","2187004#100","2187005#100","2187006#100","2187007#100","2187008#100",null,null,2187001,2187002,2187003,2187004,2187005,2187006,2187007,2187008,null,{"$f":"VLOOKUP(K187,MapPointConfig!$B$833:$H$1732,7,FALSE)","v":{"$error":"#N/A"}},{"$f":"VLOOKUP(L187,MapPointConfig!$B$833:$H$1732,7,FALSE)","v":{"$error":"#N/A"}},{"$f":"VLOOKUP(M187,MapPointConfig!$B$833:$H$1732,7,FALSE)","v":{"$error":"#N/A"}},{"$f":"VLOOKUP(N187,MapPointConfig!$B$833:$H$1732,7,FALSE)","v":{"$error":"#N/A"}},{"$f":"VLOOKUP(O187,MapPointConfig!$B$833:$H$1732,7,FALSE)","v":{"$error":"#N/A"}},{"$f":"VLOOKUP(P187,MapPointConfig!$B$833:$H$1732,7,FALSE)","v":{"$error":"#N/A"}},{"$f":"VLOOKUP(Q187,MapPointConfig!$B$833:$H$1732,7,FALSE)","v":{"$error":"#N/A"}},{"$f":"VLOOKUP(R187,MapPointConfig!$B$833:$H$1732,7,FALSE)","v":{"$error":"#N/A"}}]
["2188001#100","2188002#100","2188003#100","2188004#100","2188005#100","2188006#100","2188007#100","2188008#100",null,null,2188001,2188002,2188003,2188004,2188005,2188006,2188007,2188008,null,{"$f":"VLOOKUP(K188,MapPointConfig!$B$833:$H$1732,7,FALSE)","v":{"$error":"#N/A"}},{"$f":"VLOOKUP(L188,MapPointConfig!$B$833:$H$1732,7,FALSE)","v":{"$error":"#N/A"}},{"$f":"VLOOKUP(M188,MapPointConfig!$B$833:$H$1732,7,FALSE)","v":{"$error":"#N/A"}},{"$f":"VLOOKUP(N188,MapPointConfig!$B$833:$H$1732,7,FALSE)","v":{"$error":"#N/A"}},{"$f":"VLOOKUP(O188,MapPointConfig!$B$833:$H$1732,7,FALSE)","v":{"$error":"#N/A"}},{"$f":"VLOOKUP(P188,MapPointConfig!$B$833:$H$1732,7,FALSE)","v":{"$error":"#N/A"}},{"$f":"VLOOKUP(Q188,MapPointConfig!$B$833:$H$1732,7,FALSE)","v":{"$error":"#N/A"}},{"$f":"VLOOKUP(R188,MapPointConfig!$B$833:$H$1732,7,FALSE)","v":{"$error":"#N/A"}}]
["2189001#100","2189002#100","2189003#100","2189004#100","2189005#100","2189006#100","2189007#100","2189008#100",null,null,2189001,2189002,2189003,2189004,2189005,2189006,2189007,2189008,null,{"$f":"VLOOKUP(K189,MapPointConfig!$B$833:$H$1732,7,FALSE)","v":{"$error":"#N/A"}},{"$f":"VLOOKUP(L189,MapPointConfig!$B$833:$H$1732,7,FALSE)","v":{"$error":"#N/A"}},{"$f":"VLOOKUP(M189,MapPointConfig!$B$833:$H$1732,7,FALSE)","v":{"$error":"#N/A"}},{"$f":"VLOOKUP(N189,MapPointConfig!$B$833:$H$1732,7,FALSE)","v":{"$error":"#N/A"}},{"$f":"VLOOKUP(O189,MapPointConfig!$B$833:$H$1732,7,FALSE)","v":{"$error":"#N/A"}},{"$f":"VLOOKUP(P189,MapPointConfig!$B$833:$H$1732,7,FALSE)","v":{"$error":"#N/A"}},{"$f":"VLOOKUP(Q189,MapPointConfig!$B$833:$H$1732,7,FALSE)","v":{"$error":"#N/A"}},{"$f":"VLOOKUP(R189,MapPointConfig!$B$833:$H$1732,7,FALSE)","v":{"$error":"#N/A"}}]
["2190001#100","2190002#100","2190003#100","2190004#100","2190005#100","2190006#100","2190007#100","2190008#100",null,null,2190001,2190002,2190003,2190004,2190005,2190006,2190007,2190008,null,{"$f":"VLOOKUP(K190,MapPointConfig!$B$833:$H$1732,7,FALSE)","v":{"$error":"#N/A"}},{"$f":"VLOOKUP(L190,MapPointConfig!$B$833:$H$1732,7,FALSE)","v":{"$error":"#N/A"}},{"$f":"VLOOKUP(M190,MapPointConfig!$B$833:$H$1732,7,FALSE)","v":{"$error":"#N/A"}},{"$f":"VLOOKUP(N190,MapPointConfig!$B$833:$H$1732,7,FALSE)","v":{"$error":"#N/A"}},{"$f":"VLOOKUP(O190,MapPointConfig!$B$833:$H$1732,7,FALSE)","v":{"$error":"#N/A"}},{"$f":"VLOOKUP(P190,MapPointConfig!$B$833:$H$1732,7,FALSE)","v":{"$error":"#N/A"}},{"$f":"VLOOKUP(Q190,MapPointConfig!$B$833:$H$1732,7,FALSE)","v":{"$error":"#N/A"}},{"$f":"VLOOKUP(R190,MapPointConfig!$B$833:$H$1732,7,FALSE)","v":{"$error":"#N/A"}}]
["2191001#100","2191002#100","2191003#100","2191004#100","2191005#100","2191006#100","2191007#100","2191008#100",null,null,2191001,2191002,2191003,2191004,2191005,2191006,2191007,2191008,null,{"$f":"VLOOKUP(K191,MapPointConfig!$B$833:$H$1732,7,FALSE)","v":{"$error":"#N/A"}},{"$f":"VLOOKUP(L191,MapPointConfig!$B$833:$H$1732,7,FALSE)","v":{"$error":"#N/A"}},{"$f":"VLOOKUP(M191,MapPointConfig!$B$833:$H$1732,7,FALSE)","v":{"$error":"#N/A"}},{"$f":"VLOOKUP(N191,MapPointConfig!$B$833:$H$1732,7,FALSE)","v":{"$error":"#N/A"}},{"$f":"VLOOKUP(O191,MapPointConfig!$B$833:$H$1732,7,FALSE)","v":{"$error":"#N/A"}},{"$f":"VLOOKUP(P191,MapPointConfig!$B$833:$H$1732,7,FALSE)","v":{"$error":"#N/A"}},{"$f":"VLOOKUP(Q191,MapPointConfig!$B$833:$H$1732,7,FALSE)","v":{"$error":"#N/A"}},{"$f":"VLOOKUP(R191,MapPointConfig!$B$833:$H$1732,7,FALSE)","v":{"$error":"#N/A"}}]
["2192001#100","2192002#100","2192003#100","2192004#100","2192005#100","2192006#100","2192007#100","2192008#100",null,null,2192001,2192002,2192003,2192004,2192005,2192006,2192007,2192008,null,{"$f":"VLOOKUP(K192,MapPointConfig!$B$833:$H$1732,7,FALSE)","v":{"$error":"#N/A"}},{"$f":"VLOOKUP(L192,MapPointConfig!$B$833:$H$1732,7,FALSE)","v":{"$error":"#N/A"}},{"$f":"VLOOKUP(M192,MapPointConfig!$B$833:$H$1732,7,FALSE)","v":{"$error":"#N/A"}},{"$f":"VLOOKUP(N192,MapPointConfig!$B$833:$H$1732,7,FALSE)","v":{"$error":"#N/A"}},{"$f":"VLOOKUP(O192,MapPointConfig!$B$833:$H$1732,7,FALSE)","v":{"$error":"#N/A"}},{"$f":"VLOOKUP(P192,MapPointConfig!$B$833:$H$1732,7,FALSE)","v":{"$error":"#N/A"}},{"$f":"VLOOKUP(Q192,MapPointConfig!$B$833:$H$1732,7,FALSE)","v":{"$error":"#N/A"}},{"$f":"VLOOKUP(R192,MapPointConfig!$B$833:$H$1732,7,FALSE)","v":{"$error":"#N/A"}}]
["2193001#100","2193002#100","2193003#100","2193004#100","2193005#100","2193006#100","2193007#100","2193008#100",null,null,2193001,2193002,2193003,2193004,2193005,2193006,2193007,2193008,null,{"$f":"VLOOKUP(K193,MapPointConfig!$B$833:$H$1732,7,FALSE)","v":{"$error":"#N/A"}},{"$f":"VLOOKUP(L193,MapPointConfig!$B$833:$H$1732,7,FALSE)","v":{"$error":"#N/A"}},{"$f":"VLOOKUP(M193,MapPointConfig!$B$833:$H$1732,7,FALSE)","v":{"$error":"#N/A"}},{"$f":"VLOOKUP(N193,MapPointConfig!$B$833:$H$1732,7,FALSE)","v":{"$error":"#N/A"}},{"$f":"VLOOKUP(O193,MapPointConfig!$B$833:$H$1732,7,FALSE)","v":{"$error":"#N/A"}},{"$f":"VLOOKUP(P193,MapPointConfig!$B$833:$H$1732,7,FALSE)","v":{"$error":"#N/A"}},{"$f":"VLOOKUP(Q193,MapPointConfig!$B$833:$H$1732,7,FALSE)","v":{"$error":"#N/A"}},{"$f":"VLOOKUP(R193,MapPointConfig!$B$833:$H$1732,7,FALSE)","v":{"$error":"#N/A"}}]
["2194001#100","2194002#100","2194003#100","2194004#100","2194005#100","2194006#100","2194007#100","2194008#100",null,null,{"$f":"--LEFT(A194,FIND(\"#\",A194,1)-1)","v":2194001},{"$f":"--LEFT(B194,FIND(\"#\",B194,1)-1)","v":2194002},{"$f":"--LEFT(C194,FIND(\"#\",C194,1)-1)","v":2194003},{"$f":"--LEFT(D194,FIND(\"#\",D194,1)-1)","v":2194004},{"$f":"--LEFT(E194,FIND(\"#\",E194,1)-1)","v":2194005},{"$f":"--LEFT(F194,FIND(\"#\",F194,1)-1)","v":2194006},{"$f":"--LEFT(G194,FIND(\"#\",G194,1)-1)","v":2194007},{"$f":"--LEFT(H194,FIND(\"#\",H194,1)-1)","v":2194008},null,{"$f":"VLOOKUP(K194,MapPointConfig!$B$833:$H$1732,7,FALSE)","v":{"$error":"#N/A"}},{"$f":"VLOOKUP(L194,MapPointConfig!$B$833:$H$1732,7,FALSE)","v":{"$error":"#N/A"}},{"$f":"VLOOKUP(M194,MapPointConfig!$B$833:$H$1732,7,FALSE)","v":{"$error":"#N/A"}},{"$f":"VLOOKUP(N194,MapPointConfig!$B$833:$H$1732,7,FALSE)","v":{"$error":"#N/A"}},{"$f":"VLOOKUP(O194,MapPointConfig!$B$833:$H$1732,7,FALSE)","v":{"$error":"#N/A"}},{"$f":"VLOOKUP(P194,MapPointConfig!$B$833:$H$1732,7,FALSE)","v":{"$error":"#N/A"}},{"$f":"VLOOKUP(Q194,MapPointConfig!$B$833:$H$1732,7,FALSE)","v":{"$error":"#N/A"}},{"$f":"VLOOKUP(R194,MapPointConfig!$B$833:$H$1732,7,FALSE)","v":{"$error":"#N/A"}}]
["2195001#100","2195002#100","2195003#100","2195004#100","2195005#100","2195006#100","2195007#100","2195008#100",null,null,2195001,2195002,2195003,2195004,2195005,2195006,2195007,2195008,null,{"$f":"VLOOKUP(K195,MapPointConfig!$B$833:$H$1732,7,FALSE)","v":{"$error":"#N/A"}},{"$f":"VLOOKUP(L195,MapPointConfig!$B$833:$H$1732,7,FALSE)","v":{"$error":"#N/A"}},{"$f":"VLOOKUP(M195,MapPointConfig!$B$833:$H$1732,7,FALSE)","v":{"$error":"#N/A"}},{"$f":"VLOOKUP(N195,MapPointConfig!$B$833:$H$1732,7,FALSE)","v":{"$error":"#N/A"}},{"$f":"VLOOKUP(O195,MapPointConfig!$B$833:$H$1732,7,FALSE)","v":{"$error":"#N/A"}},{"$f":"VLOOKUP(P195,MapPointConfig!$B$833:$H$1732,7,FALSE)","v":{"$error":"#N/A"}},{"$f":"VLOOKUP(Q195,MapPointConfig!$B$833:$H$1732,7,FALSE)","v":{"$error":"#N/A"}},{"$f":"VLOOKUP(R195,MapPointConfig!$B$833:$H$1732,7,FALSE)","v":{"$error":"#N/A"}}]
["2196001#100","2196002#100","2196003#100","2196004#100","2196005#100","2196006#100","2196007#100","2196008#100",null,null,2196001,2196002,2196003,2196004,2196005,2196006,2196007,2196008,null,{"$f":"VLOOKUP(K196,MapPointConfig!$B$833:$H$1732,7,FALSE)","v":{"$error":"#N/A"}},{"$f":"VLOOKUP(L196,MapPointConfig!$B$833:$H$1732,7,FALSE)","v":{"$error":"#N/A"}},{"$f":"VLOOKUP(M196,MapPointConfig!$B$833:$H$1732,7,FALSE)","v":{"$error":"#N/A"}},{"$f":"VLOOKUP(N196,MapPointConfig!$B$833:$H$1732,7,FALSE)","v":{"$error":"#N/A"}},{"$f":"VLOOKUP(O196,MapPointConfig!$B$833:$H$1732,7,FALSE)","v":{"$error":"#N/A"}},{"$f":"VLOOKUP(P196,MapPointConfig!$B$833:$H$1732,7,FALSE)","v":{"$error":"#N/A"}},{"$f":"VLOOKUP(Q196,MapPointConfig!$B$833:$H$1732,7,FALSE)","v":{"$error":"#N/A"}},{"$f":"VLOOKUP(R196,MapPointConfig!$B$833:$H$1732,7,FALSE)","v":{"$error":"#N/A"}}]
["2197001#100","2197002#100","2197003#100","2197004#100","2197005#100","2197006#100","2197007#100","2197008#100",null,null,2197001,2197002,2197003,2197004,2197005,2197006,2197007,2197008,null,{"$f":"VLOOKUP(K197,MapPointConfig!$B$833:$H$1732,7,FALSE)","v":{"$error":"#N/A"}},{"$f":"VLOOKUP(L197,MapPointConfig!$B$833:$H$1732,7,FALSE)","v":{"$error":"#N/A"}},{"$f":"VLOOKUP(M197,MapPointConfig!$B$833:$H$1732,7,FALSE)","v":{"$error":"#N/A"}},{"$f":"VLOOKUP(N197,MapPointConfig!$B$833:$H$1732,7,FALSE)","v":{"$error":"#N/A"}},{"$f":"VLOOKUP(O197,MapPointConfig!$B$833:$H$1732,7,FALSE)","v":{"$error":"#N/A"}},{"$f":"VLOOKUP(P197,MapPointConfig!$B$833:$H$1732,7,FALSE)","v":{"$error":"#N/A"}},{"$f":"VLOOKUP(Q197,MapPointConfig!$B$833:$H$1732,7,FALSE)","v":{"$error":"#N/A"}},{"$f":"VLOOKUP(R197,MapPointConfig!$B$833:$H$1732,7,FALSE)","v":{"$error":"#N/A"}}]
["2198001#100","2198002#100","2198003#100","2198004#100","2198005#100","2198006#100","2198007#100","2198008#100",null,null,2198001,2198002,2198003,2198004,2198005,2198006,2198007,2198008,null,{"$f":"VLOOKUP(K198,MapPointConfig!$B$833:$H$1732,7,FALSE)","v":{"$error":"#N/A"}},{"$f":"VLOOKUP(L198,MapPointConfig!$B$833:$H$1732,7,FALSE)","v":{"$error":"#N/A"}},{"$f":"VLOOKUP(M198,MapPointConfig!$B$833:$H$1732,7,FALSE)","v":{"$error":"#N/A"}},{"$f":"VLOOKUP(N198,MapPointConfig!$B$833:$H$1732,7,FALSE)","v":{"$error":"#N/A"}},{"$f":"VLOOKUP(O198,MapPointConfig!$B$833:$H$1732,7,FALSE)","v":{"$error":"#N/A"}},{"$f":"VLOOKUP(P198,MapPointConfig!$B$833:$H$1732,7,FALSE)","v":{"$error":"#N/A"}},{"$f":"VLOOKUP(Q198,MapPointConfig!$B$833:$H$1732,7,FALSE)","v":{"$error":"#N/A"}},{"$f":"VLOOKUP(R198,MapPointConfig!$B$833:$H$1732,7,FALSE)","v":{"$error":"#N/A"}}]
["2199001#100","2199002#100","2199003#100","2199004#100","2199005#100","2199006#100","2199007#100","2199008#100",null,null,2199001,2199002,2199003,2199004,2199005,2199006,2199007,2199008,null,{"$f":"VLOOKUP(K199,MapPointConfig!$B$833:$H$1732,7,FALSE)","v":{"$error":"#N/A"}},{"$f":"VLOOKUP(L199,MapPointConfig!$B$833:$H$1732,7,FALSE)","v":{"$error":"#N/A"}},{"$f":"VLOOKUP(M199,MapPointConfig!$B$833:$H$1732,7,FALSE)","v":{"$error":"#N/A"}},{"$f":"VLOOKUP(N199,MapPointConfig!$B$833:$H$1732,7,FALSE)","v":{"$error":"#N/A"}},{"$f":"VLOOKUP(O199,MapPointConfig!$B$833:$H$1732,7,FALSE)","v":{"$error":"#N/A"}},{"$f":"VLOOKUP(P199,MapPointConfig!$B$833:$H$1732,7,FALSE)","v":{"$error":"#N/A"}},{"$f":"VLOOKUP(Q199,MapPointConfig!$B$833:$H$1732,7,FALSE)","v":{"$error":"#N/A"}},{"$f":"VLOOKUP(R199,MapPointConfig!$B$833:$H$1732,7,FALSE)","v":{"$error":"#N/A"}}]
["2200001#100","2200002#100","2200003#100","2200004#100","2200005#100","2200006#100","2200007#100","2200008#100",null,null,2200001,2200002,2200003,2200004,2200005,2200006,2200007,2200008,null,{"$f":"VLOOKUP(K200,MapPointConfig!$B$833:$H$1732,7,FALSE)","v":{"$error":"#N/A"}},{"$f":"VLOOKUP(L200,MapPointConfig!$B$833:$H$1732,7,FALSE)","v":{"$error":"#N/A"}},{"$f":"VLOOKUP(M200,MapPointConfig!$B$833:$H$1732,7,FALSE)","v":{"$error":"#N/A"}},{"$f":"VLOOKUP(N200,MapPointConfig!$B$833:$H$1732,7,FALSE)","v":{"$error":"#N/A"}},{"$f":"VLOOKUP(O200,MapPointConfig!$B$833:$H$1732,7,FALSE)","v":{"$error":"#N/A"}},{"$f":"VLOOKUP(P200,MapPointConfig!$B$833:$H$1732,7,FALSE)","v":{"$error":"#N/A"}},{"$f":"VLOOKUP(Q200,MapPointConfig!$B$833:$H$1732,7,FALSE)","v":{"$error":"#N/A"}},{"$f":"VLOOKUP(R200,MapPointConfig!$B$833:$H$1732,7,FALSE)","v":{"$error":"#N/A"}}]

{"sheet":"Sheet2","index":2,"n_rows":25,"n_cols":2,"rows_kept":25}
[]
[1,"怪"]
[2,"精英怪"]
[3,"回血buff"]
[4,"试炼福利怪"]
[5,"暂未使用"]
[6,"开视野点"]
[7,"npc"]
[8,"金宝箱"]
[9,"传送门"]
[10,"史诗怪"]
[11,"任务道具"]
[12,"云游商人"]
[13,"暂未使用"]
[14,"攻击buff"]
[15,"防御buff"]
[16,"特殊buff"]
[17,"通缉怪"]
[18,"转盘游戏"]
[19,"挖矿游戏"]
[20,"彼岸花"]
[21,"buff采集"]
[22,"丹药葫芦"]
[23,"传送门1"]
[24,"传送门2"]

{"sheet":"事件点刷新规则","index":3,"n_rows":6,"n_cols":7,"rows_kept":6}
["编号","名称","描述"]
[1,"每日刷新","被销毁的事件点，到达第二天系统刷新时间后，再次进图时会重新生成该时间点。没有被销毁的事件点按探索刷新规则刷新。"]
[2,"探索刷新","不论事件点是否被销毁，再次进图时会重新生成该id的事件点"]
[3,"一次性","事件点不会重新生成。没有被销毁的事件点会保存当前进度。"]
[]
[{"$f":"A1+1000","v":{"$error":"#VALUE!"}},{"$f":"B1","v":"名称"},{"$f":"\"试炼\"&IF(INT(MID(A6,2,3))<10,MID(A6,4,1),IF(INT(MID(A6,2,3))<100,MID(A6,3,2),MID(A6,2,3)))&\"层\"&IF(INT(RIGHT(A6,1))=0,\"boss\",\"普通怪\"&RIGHT(A6,1))","v":{"$error":"#VALUE!"}},{"$f":"D1","v":0},2,1,{"$f":"A6","v":{"$error":"#VALUE!"}}]