{"text_format":"3","workbook":"xlsx","n_sheets":3,"sheets":["DifferDemonsComonpentsConfig","属性","消耗"],"not_rendered":{"external_links":1},"read":"whole","date_system":"1900"}

{"sheet":"DifferDemonsComonpentsConfig","index":0,"n_rows":727,"n_cols":7,"rows_kept":727}
[null,"Id","ComonpentsId","Stage","Cost","BaseAttribute","ExtraAdd"]
[null,"int","int","int","mut,int#int,2","mut,int#int,2","mut,int#int,2"]
[null,2,2,2,2,2,2]
[null,"索引","配件id","异妖当前阶级","配饰进阶需要消耗的道具列表\n道具id#数量|道具id#数量","配饰当前阶级的基础属性\n属性id#值（找PropertyConfig）","对职业额外加成\n职业id#属性id#num\n1、武卫；2、天罚；\n3、秘法；4，玄策；5，生花；0，全职业"]
["默认值",0,0,0,"null","null"]
["正确性校对"]
["校对值"]
[null,1,6001,1,"6001#1|5#0","1#81|3#22",""]
[null,2,6001,2,"6001#1|5#20","1#162|3#44","0#63#100"]
[null,3,6001,3,"6001#1|5#35","1#243|3#66",""]
[null,4,6001,4,"6001#1|5#50","1#324|3#88",""]
[null,5,6001,5,"6001#2|5#75","1#405|3#110",""]
[null,6,6001,6,"6001#2|5#100","1#486|3#132",""]
[null,7,6001,7,"6001#2|5#130","1#567|3#154","0#63#100"]
[null,8,6001,8,"6001#3|5#160","1#648|3#176",""]
[null,9,6001,9,"6001#3|5#195","1#729|3#198",""]
[null,10,6001,10,"6001#3|5#235","1#810|3#220",""]
[null,11,6001,11,"6001#3|5#280","1#891|3#242",""]
[null,12,6001,12,"6001#3|5#330","1#972|3#264",""]
[null,13,6001,13,"6001#3|5#380","1#1053|3#286",""]
[null,14,6001,14,"6001#4|5#435","1#1134|3#308",""]
[null,15,6001,15,"6001#5|5#495","1#1215|3#330","0#63#100"]
[null,16,6001,16,"6001#6|5#555","1#1296|3#352",""]
[null,17,6001,17,"6001#8|5#620","1#1377|3#375",""]
[null,18,6001,18,"6001#10|5#690","1#1458|3#397",""]
[null,19,6001,19,"6001#21|5#765","1#1539|3#419",""]
[null,20,6001,20,"6001#30|5#840","1#1620|3#441","0#63#100"]
[null,21,6002,1,"6002#1|5#0","1#81|2#22",""]
[null,22,6002,2,"6002#1|5#20","1#162|2#44","0#64#100"]
[null,23,6002,3,"6002#1|5#35","1#243|2#66",""]
[null,24,6002,4,"6002#1|5#50","1#324|2#88",""]
[null,25,6002,5,"6002#2|5#75","1#405|2#110",""]
[null,26,6002,6,"6002#2|5#100","1#486|2#132",""]
[null,27,6002,7,"6002#2|5#130","1#567|2#154","0#64#100"]
[null,28,6002,8,"6002#3|5#160","1#648|2#176",""]
[null,29,6002,9,"6002#3|5#195","1#729|2#198",""]
[null,30,6002,10,"6002#3|5#235","1#810|2#220",""]
[null,31,6002,11,"6002#3|5#280","1#891|2#242",""]
[null,32,6002,12,"6002#3|5#330","1#972|2#264",""]
[null,33,6002,13,"6002#3|5#380","1#1053|2#286",""]
[null,34,6002,14,"6002#4|5#435","1#1134|2#308",""]
[null,35,6002,15,"6002#5|5#495","1#1215|2#330","0#64#100"]
[null,36,6002,16,"6002#6|5#555","1#1296|2#352",""]
[null,37,6002,17,"6002#8|5#620","1#1377|2#375",""]
[null,38,6002,18,"6002#10|5#690","1#1458|2#397",""]
[null,39,6002,19,"6002#21|5#765","1#1539|2#419",""]
[null,40,6002,20,"6002#30|5#840","1#1620|2#441","0#64#100"]
[null,41,6003,1,"6003#1|5#0","1#81|4#22",""]
[null,42,6003,2,"6003#1|5#20","1#162|4#44","0#61#100"]
[null,43,6003,3,"6003#1|5#35","1#243|4#66",""]
[null,44,6003,4,"6003#1|5#50","1#324|4#88",""]
[null,45,6003,5,"6003#2|5#75","1#405|4#110",""]
[null,46,6003,6,"6003#2|5#100","1#486|4#132",""]
[null,47,6003,7,"6003#2|5#130","1#567|4#154","0#61#100"]
[null,48,6003,8,"6003#3|5#160","1#648|4#176",""]
[null,49,6003,9,"6003#3|5#195","1#729|4#198",""]
[null,50,6003,10,"6003#3|5#235","1#810|4#220",""]
[null,51,6003,11,"6003#3|5#280","1#891|4#242",""]
[null,52,6003,12,"6003#3|5#330","1#972|4#264",""]
[null,53,6003,13,"6003#3|5#380","1#1053|4#286",""]
[null,54,6003,14,"6003#4|5#435","1#1134|4#308",""]
[null,55,6003,15,"6003#5|5#495","1#1215|4#330","0#61#100"]
[null,56,6003,16,"6003#6|5#555","1#1296|4#352",""]
[null,57,6003,17,"6003#8|5#620","1#1377|4#375",""]
[null,58,6003,18,"6003#10|5#690","1#1458|4#397",""]
[null,59,6003,19,"6003#21|5#765","1#1539|4#419",""]
[null,60,6003,20,"6003#30|5#840","1#1620|4#441","0#61#100"]
[null,61,6004,1,"6004#1|5#0","1#81|3#22",""]
[null,62,6004,2,"6004#1|5#20","1#162|3#44","0#63#100"]
[null,63,6004,3,"6004#1|5#35","1#243|3#66",""]
[null,64,6004,4,"6004#1|5#50","1#324|3#88",""]
[null,65,6004,5,"6004#2|5#75","1#405|3#110",""]
[null,66,6004,6,"6004#2|5#100","1#486|3#132",""]
[null,67,6004,7,"6004#2|5#130","1#567|3#154","0#63#100"]
[null,68,6004,8,"6004#3|5#160","1#648|3#176",""]
[null,69,6004,9,"6004#3|5#195","1#729|3#198",""]
[null,70,6004,10,"6004#3|5#235","1#810|3#220",""]
[null,71,6004,11,"6004#3|5#280","1#891|3#242",""]
[null,72,6004,12,"6004#3|5#330","1#972|3#264",""]
[null,73,6004,13,"6004#3|5#380","1#1053|3#286",""]
[null,74,6004,14,"6004#4|5#435","1#1134|3#308",""]
[null,75,6004,15,"6004#5|5#495","1#1215|3#330","0#63#100"]
[null,76,6004,16,"6004#6|5#555","1#1296|3#352",""]
[null,77,6004,17,"6004#8|5#620","1#1377|3#375",""]
[null,78,6004,18,"6004#10|5#690","1#1458|3#397",""]
[null,79,6004,19,"6004#21|5#765","1#1539|3#419",""]
[null,80,6004,20,"6004#30|5#840","1#1620|3#441","0#63#100"]
[null,81,6005,1,"6005#1|5#0","1#81|2#22",""]
[null,82,6005,2,"6005#1|5#20","1#162|2#44","0#64#100"]
[null,83,6005,3,"6005#1|5#35","1#243|2#66",""]
[null,84,6005,4,"6005#1|5#50","1#324|2#88",""]
[null,85,6005,5,"6005#2|5#75","1#405|2#110",""]
[null,86,6005,6,"6005#2|5#100","1#486|2#132",""]
[null,87,6005,7,"6005#2|5#130","1#567|2#154","0#64#100"]
[null,88,6005,8,"6005#3|5#160","1#648|2#176",""]
[null,89,6005,9,"6005#3|5#195","1#729|2#198",""]
[null,90,6005,10,"6005#3|5#235","1#810|2#220",""]
[null,91,6005,11,"6005#3|5#280","1#891|2#242",""]
[null,92,6005,12,"6005#3|5#330","1#972|2#264",""]
[null,93,6005,13,"6005#3|5#380","1#1053|2#286",""]
[null,94,6005,14,"6005#4|5#435","1#1134|2#308",""]
[null,95,6005,15,"6005#5|5#495","1#1215|2#330","0#64#100"]
[null,96,6005,16,"6005#6|5#555","1#1296|2#352",""]
[null,97,6005,17,"6005#8|5#620","1#1377|2#375",""]
[null,98,6005,18,"6005#10|5#690","1#1458|2#397",""]
[null,99,6005,19,"6005#21|5#765","1#1539|2#419",""]
[null,100,6005,20,"6005#30|5#840","1#1620|2#441","0#64#100"]
[null,101,6006,1,"6006#1|5#0","1#81|4#22",""]
[null,102,6006,2,"6006#1|5#20","1#162|4#44","0#61#100"]
[null,103,6006,3,"6006#1|5#35","1#243|4#66",""]
[null,104,6006,4,"6006#1|5#50","1#324|4#88",""]
[null,105,6006,5,"6006#2|5#75","1#405|4#110",""]
[null,106,6006,6,"6006#2|5#100","1#486|4#132",""]
[null,107,6006,7,"6006#2|5#130","1#567|4#154","0#61#100"]
[null,108,6006,8,"6006#3|5#160","1#648|4#176",""]
[null,109,6006,9,"6006#3|5#195","1#729|4#198",""]
[null,110,6006,10,"6006#3|5#235","1#810|4#220",""]
[null,111,6006,11,"6006#3|5#280","1#891|4#242",""]
[null,112,6006,12,"6006#3|5#330","1#972|4#264",""]
[null,113,6006,13,"6006#3|5#380","1#1053|4#286",""]
[null,114,6006,14,"6006#4|5#435","1#1134|4#308",""]
[null,115,6006,15,"6006#5|5#495","1#1215|4#330","0#61#100"]
[null,116,6006,16,"6006#6|5#555","1#1296|4#352",""]
[null,117,6006,17,"6006#8|5#620","1#1377|4#375",""]
[null,118,6006,18,"6006#10|5#690","1#1458|4#397",""]
[null,119,6006,19,"6006#21|5#765","1#1539|4#419",""]
[null,120,6006,20,"6006#30|5#840","1#1620|4#441","0#61#100"]
[null,121,6007,1,"6007#1|5#0","1#81|3#22",""]
[null,122,6007,2,"6007#1|5#20","1#162|3#44","0#63#100"]
[null,123,6007,3,"6007#1|5#35","1#243|3#66",""]
[null,124,6007,4,"6007#1|5#50","1#324|3#88",""]
[null,125,6007,5,"6007#2|5#75","1#405|3#110",""]
[null,126,6007,6,"6007#2|5#100","1#486|3#132",""]
[null,127,6007,7,"6007#2|5#130","1#567|3#154","0#63#100"]
[null,128,6007,8,"6007#3|5#160","1#648|3#176",""]
[null,129,6007,9,"6007#3|5#195","1#729|3#198",""]
[null,130,6007,10,"6007#3|5#235","1#810|3#220",""]
[null,131,6007,11,"6007#3|5#280","1#891|3#242",""]
[null,132,6007,12,"6007#3|5#330","1#972|3#264",""]
[null,133,6007,13,"6007#3|5#380","1#1053|3#286",""]
[null,134,6007,14,"6007#4|5#435","1#1134|3#308",""]
[null,135,6007,15,"6007#5|5#495","1#1215|3#330","0#63#100"]
[null,136,6007,16,"6007#6|5#555","1#1296|3#352",""]
[null,137,6007,17,"6007#8|5#620","1#1377|3#375",""]
[null,138,6007,18,"6007#10|5#690","1#1458|3#397",""]
[null,139,6007,19,"6007#21|5#765","1#1539|3#419",""]
[null,140,6007,20,"6007#30|5#840","1#1620|3#441","0#63#100"]
[null,141,6008,1,"6008#1|5#0","1#81|2#22",""]
[null,142,6008,2,"6008#1|5#20","1#162|2#44","0#64#100"]
[null,143,6008,3,"6008#1|5#35","1#243|2#66",""]
[null,144,6008,4,"6008#1|5#50","1#324|2#88",""]
[null,145,6008,5,"6008#2|5#75","1#405|2#110",""]
[null,146,6008,6,"6008#2|5#100","1#486|2#132",""]
[null,147,6008,7,"6008#2|5#130","1#567|2#154","0#64#100"]
[null,148,6008,8,"6008#3|5#160","1#648|2#176",""]
[null,149,6008,9,"6008#3|5#195","1#729|2#198",""]
[null,150,6008,10,"6008#3|5#235","1#810|2#220",""]
[null,151,6008,11,"6008#3|5#280","1#891|2#242",""]
[null,152,6008,12,"6008#3|5#330","1#972|2#264",""]
[null,153,6008,13,"6008#3|5#380","1#1053|2#286",""]
[null,154,6008,14,"6008#4|5#435","1#1134|2#308",""]
[null,155,6008,15,"6008#5|5#495","1#1215|2#330","0#64#100"]
[null,156,6008,16,"6008#6|5#555","1#1296|2#352",""]
[null,157,6008,17,"6008#8|5#620","1#1377|2#375",""]
[null,158,6008,18,"6008#10|5#690","1#1458|2#397",""]
[null,159,6008,19,"6008#21|5#765","1#1539|2#419",""]
[null,160,6008,20,"6008#30|5#840","1#1620|2#441","0#64#100"]
[null,161,6009,1,"6009#1|5#0","1#81|4#22",""]
[null,162,6009,2,"6009#1|5#20","1#162|4#44","0#61#100"]
[null,163,6009,3,"6009#1|5#35","1#243|4#66",""]
[null,164,6009,4,"6009#1|5#50","1#324|4#88",""]
[null,165,6009,5,"6009#2|5#75","1#405|4#110",""]
[null,166,6009,6,"6009#2|5#100","1#486|4#132",""]
[null,167,6009,7,"6009#2|5#130","1#567|4#154","0#61#100"]
[null,168,6009,8,"6009#3|5#160","1#648|4#176",""]
[null,169,6009,9,"6009#3|5#195","1#729|4#198",""]
[null,170,6009,10,"6009#3|5#235","1#810|4#220",""]
[null,171,6009,11,"6009#3|5#280","1#891|4#242",""]
[null,172,6009,12,"6009#3|5#330","1#972|4#264",""]
[null,173,6009,13,"6009#3|5#380","1#1053|4#286",""]
[null,174,6009,14,"6009#4|5#435","1#1134|4#308",""]
[null,175,6009,15,"6009#5|5#495","1#1215|4#330","0#61#100"]
[null,176,6009,16,"6009#6|5#555","1#1296|4#352",""]
[null,177,6009,17,"6009#8|5#620","1#1377|4#375",""]
[null,178,6009,18,"6009#10|5#690","1#1458|4#397",""]
[null,179,6009,19,"6009#21|5#765","1#1539|4#419",""]
[null,180,6009,20,"6009#30|5#840","1#1620|4#441","0#61#100"]
[null,181,6010,1,"6010#1|5#0","1#81|3#22",""]
[null,182,6010,2,"6010#1|5#20","1#162|3#44","0#63#100"]
[null,183,6010,3,"6010#1|5#35","1#243|3#66",""]
[null,184,6010,4,"6010#1|5#50","1#324|3#88",""]
[null,185,6010,5,"6010#2|5#75","1#405|3#110",""]
[null,186,6010,6,"6010#2|5#100","1#486|3#132",""]
[null,187,6010,7,"6010#2|5#130","1#567|3#154","0#63#100"]
[null,188,6010,8,"6010#3|5#160","1#648|3#176",""]
[null,189,6010,9,"6010#3|5#195","1#729|3#198",""]
[null,190,6010,10,"6010#3|5#235","1#810|3#220",""]
[null,191,6010,11,"6010#3|5#280","1#891|3#242",""]
[null,192,6010,12,"6010#3|5#330","1#972|3#264",""]
[null,193,6010,13,"6010#3|5#380","1#1053|3#286",""]
[null,194,6010,14,"6010#4|5#435","1#1134|3#308",""]
[null,195,6010,15,"6010#5|5#495","1#1215|3#330","0#63#100"]
[null,196,6010,16,"6010#6|5#555","1#1296|3#352",""]
[null,197,6010,17,"6010#8|5#620","1#1377|3#375",""]
[null,198,6010,18,"6010#10|5#690","1#1458|3#397",""]
[null,199,6010,19,"6010#21|5#765","1#1539|3#419",""]
[null,200,6010,20,"6010#30|5#840","1#1620|3#441","0#63#100"]
[null,201,6011,1,"6011#1|5#0","1#81|2#22",""]
[null,202,6011,2,"6011#1|5#20","1#162|2#44","0#64#100"]
[null,203,6011,3,"6011#1|5#35","1#243|2#66",""]
[null,204,6011,4,"6011#1|5#50","1#324|2#88",""]
[null,205,6011,5,"6011#2|5#75","1#405|2#110",""]
[null,206,6011,6,"6011#2|5#100","1#486|2#132",""]
[null,207,6011,7,"6011#2|5#130","1#567|2#154","0#64#100"]
[null,208,6011,8,"6011#3|5#160","1#648|2#176",""]
[null,209,6011,9,"6011#3|5#195","1#729|2#198",""]
[null,210,6011,10,"6011#3|5#235","1#810|2#220",""]
[null,211,6011,11,"6011#3|5#280","1#891|2#242",""]
[null,212,6011,12,"6011#3|5#330","1#972|2#264",""]
[null,213,6011,13,"6011#3|5#380","1#1053|2#286",""]
[null,214,6011,14,"6011#4|5#435","1#1134|2#308",""]
[null,215,6011,15,"6011#5|5#495","1#1215|2#330","0#64#100"]
[null,216,6011,16,"6011#6|5#555","1#1296|2#352",""]
[null,217,6011,17,"6011#8|5#620","1#1377|2#375",""]
[null,218,6011,18,"6011#10|5#690","1#1458|2#397",""]
[null,219,6011,19,"6011#21|5#765","1#1539|2#419",""]
[null,220,6011,20,"6011#30|5#840","1#1620|2#441","0#64#100"]
[null,221,6012,1,"6012#1|5#0","1#81|4#22",""]
[null,222,6012,2,"6012#1|5#20","1#162|4#44","0#61#100"]
[null,223,6012,3,"6012#1|5#35","1#243|4#66",""]
[null,224,6012,4,"6012#1|5#50","1#324|4#88",""]
[null,225,6012,5,"6012#2|5#75","1#405|4#110",""]
[null,226,6012,6,"6012#2|5#100","1#486|4#132",""]
[null,227,6012,7,"6012#2|5#130","1#567|4#154","0#61#100"]
[null,228,6012,8,"6012#3|5#160","1#648|4#176",""]
[null,229,6012,9,"6012#3|5#195","1#729|4#198",""]
[null,230,6012,10,"6012#3|5#235","1#810|4#220",""]
[null,231,6012,11,"6012#3|5#280","1#891|4#242",""]
[null,232,6012,12,"6012#3|5#330","1#972|4#264",""]
[null,233,6012,13,"6012#3|5#380","1#1053|4#286",""]
[null,234,6012,14,"6012#4|5#435","1#1134|4#308",""]
[null,235,6012,15,"6012#5|5#495","1#1215|4#330","0#61#100"]
[null,236,6012,16,"6012#6|5#555","1#1296|4#352",""]
[null,237,6012,17,"6012#8|5#620","1#1377|4#375",""]
[null,238,6012,18,"6012#10|5#690","1#1458|4#397",""]
[null,239,6012,19,"6012#21|5#765","1#1539|4#419",""]
[null,240,6012,20,"6012#30|5#840","1#1620|4#441","0#61#100"]
[null,241,6013,1,"6013#1|5#0","1#26|2#20|66#10",""]
[null,242,6013,2,"6013#1|5#40","1#65|2#41|66#20","0#107#100"]
[null,243,6013,3,"6013#1|5#65","1#118|2#61|66#30",""]
[null,244,6013,4,"6013#1|5#100","1#184|2#82|66#40",""]
[null,245,6013,5,"6013#2|5#135","1#262|2#102|66#50",""]
[null,246,6013,6,"6013#2|5#180","1#354|2#123|66#60",""]
[null,247,6013,7,"6013#2|5#235","1#459|2#144|66#70","0#107#100"]
[null,248,6013,8,"6013#3|5#290","1#578|2#164|66#80",""]
[null,249,6013,9,"6013#3|5#355","1#709|2#185|66#90",""]
[null,250,6013,10,"6013#3|5#420","1#853|2#205|66#100",""]
[null,251,6013,11,"6013#3|5#495","1#1011|2#226|66#110",""]
[null,252,6013,12,"6013#3|5#580","1#1181|2#247|66#120",""]
[null,253,6013,13,"6013#3|5#665","1#1365|2#267|66#130",""]
[null,254,6013,14,"6013#4|5#760","1#1562|2#288|66#140",""]
[null,255,6013,15,"6013#5|5#855","1#1772|2#308|66#150","0#107#200"]
[null,256,6013,16,"6013#6|5#960","1#1995|2#329|66#160",""]
[null,257,6013,17,"6013#8|5#1075","1#2231|2#350|66#170",""]
[null,258,6013,18,"6013#10|5#1190","1#2481|2#370|66#180",""]
[null,259,6013,19,"6013#21|5#1315","1#2743|2#391|66#190",""]
[null,260,6013,20,"6013#30|5#1440","1#3020|2#411|66#200","0#107#200"]
[null,261,6014,1,"6014#1|5#0","1#26|3#40|59#10",""]
[null,262,6014,2,"6014#1|5#40","1#65|3#82|59#20","0#53#100"]
[null,263,6014,3,"6014#1|5#65","1#118|3#122|59#30",""]
[null,264,6014,4,"6014#1|5#100","1#184|3#164|59#40",""]
[null,265,6014,5,"6014#2|5#135","1#262|3#204|59#50",""]
[null,266,6014,6,"6014#2|5#180","1#354|3#246|59#60",""]
[null,267,6014,7,"6014#2|5#235","1#459|3#288|59#70","0#53#200"]
[null,268,6014,8,"6014#3|5#290","1#578|3#328|59#80",""]
[null,269,6014,9,"6014#3|5#355","1#709|3#370|59#90",""]
[null,270,6014,10,"6014#3|5#420","1#853|3#410|59#100",""]
[null,271,6014,11,"6014#3|5#495","1#1011|3#452|59#110",""]
[null,272,6014,12,"6014#3|5#580","1#1181|3#494|59#120",""]
[null,273,6014,13,"6014#3|5#665","1#1365|3#534|59#130",""]
[null,274,6014,14,"6014#4|5#760","1#1562|3#576|59#140",""]
[null,275,6014,15,"6014#5|5#855","1#1772|3#616|59#150","0#53#300"]
[null,276,6014,16,"6014#6|5#960","1#1995|3#658|59#160",""]
[null,277,6014,17,"6014#8|5#1075","1#2231|3#700|59#170",""]
[null,278,6014,18,"6014#10|5#1190","1#2481|3#740|59#180",""]
[null,279,6014,19,"6014#21|5#1315","1#2743|3#782|59#190",""]
[null,280,6014,20,"6014#30|5#1440","1#3020|3#822|59#200","0#53#400"]
[null,281,6015,1,"6015#1|5#0","1#26|4#40|59#10",""]
[null,282,6015,2,"6015#1|5#40","1#65|4#82|59#20","0#56#200"]
[null,283,6015,3,"6015#1|5#65","1#118|4#122|59#30",""]
[null,284,6015,4,"6015#1|5#100","1#184|4#164|59#40",""]
[null,285,6015,5,"6015#2|5#135","1#262|4#204|59#50",""]
[null,286,6015,6,"6015#2|5#180","1#354|4#246|59#60",""]
[null,287,6015,7,"6015#2|5#235","1#459|4#288|59#70","0#56#300"]
[null,288,6015,8,"6015#3|5#290","1#578|4#328|59#80",""]
[null,289,6015,9,"6015#3|5#355","1#709|4#370|59#90",""]
[null,290,6015,10,"6015#3|5#420","1#853|4#410|59#100",""]
[null,291,6015,11,"6015#3|5#495","1#1011|4#452|59#110",""]
[null,292,6015,12,"6015#3|5#580","1#1181|4#494|59#120",""]
[null,293,6015,13,"6015#3|5#665","1#1365|4#534|59#130",""]
[null,294,6015,14,"6015#4|5#760","1#1562|4#576|59#140",""]
[null,295,6015,15,"6015#5|5#855","1#1772|4#616|59#150","0#56#400"]
[null,296,6015,16,"6015#6|5#960","1#1995|4#658|59#160",""]
[null,297,6015,17,"6015#8|5#1075","1#2231|4#700|59#170",""]
[null,298,6015,18,"6015#10|5#1190","1#2481|4#740|59#180",""]
[null,299,6015,19,"6015#21|5#1315","1#2743|4#782|59#190",""]
[null,300,6015,20,"6015#30|5#1440","1#3020|4#822|59#200","0#56#500"]
[null,301,6016,1,"6016#1|5#0","2#20|59#10|66#10",""]
[null,302,6016,2,"6016#1|5#40","2#41|59#20|66#20","0#101#100"]
[null,303,6016,3,"6016#1|5#65","2#61|59#30|66#30",""]
[null,304,6016,4,"6016#1|5#100","2#82|59#40|66#40",""]
[null,305,6016,5,"6016#2|5#135","2#102|59#50|66#50",""]
[null,306,6016,6,"6016#2|5#180","2#123|59#60|66#60",""]
[null,307,6016,7,"6016#2|5#235","2#144|59#70|66#70","0#101#200"]
[null,308,6016,8,"6016#3|5#290","2#164|59#80|66#80",""]
[null,309,6016,9,"6016#3|5#355","2#185|59#90|66#90",""]
[null,310,6016,10,"6016#3|5#420","2#205|59#100|66#100",""]
[null,311,6016,11,"6016#3|5#495","2#226|59#110|66#110",""]
[null,312,6016,12,"6016#3|5#580","2#247|59#120|66#120",""]
[null,313,6016,13,"6016#3|5#665","2#267|59#130|66#130",""]
[null,314,6016,14,"6016#4|5#760","2#288|59#140|66#140",""]
[null,315,6016,15,"6016#5|5#855","2#308|59#150|66#150","0#101#300"]
[null,316,6016,16,"6016#6|5#960","2#329|59#160|66#160",""]
[null,317,6016,17,"6016#8|5#1075","2#350|59#170|66#170",""]
[null,318,6016,18,"6016#10|5#1190","2#370|59#180|66#180",""]
[null,319,6016,19,"6016#21|5#1315","2#391|59#190|66#190",""]
[null,320,6016,20,"6016#30|5#1440","2#411|59#200|66#200","0#101#600"]
[null,321,6017,1,"6017#1|5#0","1#26|2#20|66#10",""]
[null,322,6017,2,"6017#1|5#40","1#65|2#41|66#20","0#107#100"]
[null,323,6017,3,"6017#1|5#65","1#118|2#61|66#30",""]
[null,324,6017,4,"6017#1|5#100","1#184|2#82|66#40",""]
[null,325,6017,5,"6017#2|5#135","1#262|2#102|66#50",""]
[null,326,6017,6,"6017#2|5#180","1#354|2#123|66#60",""]
[null,327,6017,7,"6017#2|5#235","1#459|2#144|66#70","0#107#100"]
[null,328,6017,8,"6017#3|5#290","1#578|2#164|66#80",""]
[null,329,6017,9,"6017#3|5#355","1#709|2#185|66#90",""]
[null,330,6017,10,"6017#3|5#420","1#853|2#205|66#100",""]
[null,331,6017,11,"6017#3|5#495","1#1011|2#226|66#110",""]
[null,332,6017,12,"6017#3|5#580","1#1181|2#247|66#120",""]
[null,333,6017,13,"6017#3|5#665","1#1365|2#267|66#130",""]
[null,334,6017,14,"6017#4|5#760","1#1562|2#288|66#140",""]
[null,335,6017,15,"6017#5|5#855","1#1772|2#308|66#150","0#107#200"]
[null,336,6017,16,"6017#6|5#960","1#1995|2#329|66#160",""]
[null,337,6017,17,"6017#8|5#1075","1#2231|2#350|66#170",""]
[null,338,6017,18,"6017#10|5#1190","1#2481|2#370|66#180",""]
[null,339,6017,19,"6017#21|5#1315","1#2743|2#391|66#190",""]
[null,340,6017,20,"6017#30|5#1440","1#3020|2#411|66#200","0#107#200"]
[null,341,6018,1,"6018#1|5#0","1#26|3#40|59#10",""]
[null,342,6018,2,"6018#1|5#40","1#65|3#82|59#20","0#108#100"]
[null,343,6018,3,"6018#1|5#65","1#118|3#122|59#30",""]
[null,344,6018,4,"6018#1|5#100","1#184|3#164|59#40",""]
[null,345,6018,5,"6018#2|5#135","1#262|3#204|59#50",""]
[null,346,6018,6,"6018#2|5#180","1#354|3#246|59#60",""]
[null,347,6018,7,"6018#2|5#235","1#459|3#288|59#70","0#108#100"]
[null,348,6018,8,"6018#3|5#290","1#578|3#328|59#80",""]
[null,349,6018,9,"6018#3|5#355","1#709|3#370|59#90",""]
[null,350,6018,10,"6018#3|5#420","1#853|3#410|59#100",""]
[null,351,6018,11,"6018#3|5#495","1#1011|3#452|59#110",""]
[null,352,6018,12,"6018#3|5#580","1#1181|3#494|59#120",""]
[null,353,6018,13,"6018#3|5#665","1#1365|3#534|59#130",""]
[null,354,6018,14,"6018#4|5#760","1#1562|3#576|59#140",""]
[null,355,6018,15,"6018#5|5#855","1#1772|3#616|59#150","0#108#200"]
[null,356,6018,16,"6018#6|5#960","1#1995|3#658|59#160",""]
[null,357,6018,17,"6018#8|5#1075","1#2231|3#700|59#170",""]
[null,358,6018,18,"6018#10|5#1190","1#2481|3#740|59#180",""]
[null,359,6018,19,"6018#21|5#1315","1#2743|3#782|59#190",""]
[null,360,6018,20,"6018#30|5#1440","1#3020|3#822|59#200","0#108#200"]
[null,361,6019,1,"6019#1|5#0","1#26|4#40|59#10",""]
[null,362,6019,2,"6019#1|5#40","1#65|4#82|59#20","0#109#100"]
[null,363,6019,3,"6019#1|5#65","1#118|4#122|59#30",""]
[null,364,6019,4,"6019#1|5#100","1#184|4#164|59#40",""]
[null,365,6019,5,"6019#2|5#135","1#262|4#204|59#50",""]
[null,366,6019,6,"6019#2|5#180","1#354|4#246|59#60",""]
[null,367,6019,7,"6019#2|5#235","1#459|4#288|59#70","0#109#100"]
[null,368,6019,8,"6019#3|5#290","1#578|4#328|59#80",""]
[null,369,6019,9,"6019#3|5#355","1#709|4#370|59#90",""]
[null,370,6019,10,"6019#3|5#420","1#853|4#410|59#100",""]
[null,371,6019,11,"6019#3|5#495","1#1011|4#452|59#110",""]
[null,372,6019,12,"6019#3|5#580","1#1181|4#494|59#120",""]
[null,373,6019,13,"6019#3|5#665","1#1365|4#534|59#130",""]
[null,374,6019,14,"6019#4|5#760","1#1562|4#576|59#140",""]
[null,375,6019,15,"6019#5|5#855","1#1772|4#616|59#150","0#109#200"]
[null,376,6019,16,"6019#6|5#960","1#1995|4#658|59#160",""]
[null,377,6019,17,"6019#8|5#1075","1#2231|4#700|59#170",""]
[null,378,6019,18,"6019#10|5#1190","1#2481|4#740|59#180",""]
[null,379,6019,19,"6019#21|5#1315","1#2743|4#782|59#190",""]
[null,380,6019,20,"6019#30|5#1440","1#3020|4#822|59#200","0#109#200"]
[null,381,6020,1,"6020#1|5#0","2#20|59#10|66#10",""]
[null,382,6020,2,"6020#1|5#40","2#41|59#20|66#20","0#110#100"]
[null,383,6020,3,"6020#1|5#65","2#61|59#30|66#30",""]
[null,384,6020,4,"6020#1|5#100","2#82|59#40|66#40",""]
[null,385,6020,5,"6020#2|5#135","2#102|59#50|66#50",""]
[null,386,6020,6,"6020#2|5#180","2#123|59#60|66#60",""]
[null,387,6020,7,"6020#2|5#235","2#144|59#70|66#70","0#110#100"]
[null,388,6020,8,"6020#3|5#290","2#164|59#80|66#80",""]
[null,389,6020,9,"6020#3|5#355","2#185|59#90|66#90",""]
[null,390,6020,10,"6020#3|5#420","2#205|59#100|66#100",""]
[null,391,6020,11,"6020#3|5#495","2#226|59#110|66#110",""]
[null,392,6020,12,"6020#3|5#580","2#247|59#120|66#120",""]
[null,393,6020,13,"6020#3|5#665","2#267|59#130|66#130",""]
[null,394,6020,14,"6020#4|5#760","2#288|59#140|66#140",""]
[null,395,6020,15,"6020#5|5#855","2#308|59#150|66#150","0#110#200"]
[null,396,6020,16,"6020#6|5#960","2#329|59#160|66#160",""]
[null,397,6020,17,"6020#8|5#1075","2#350|59#170|66#170",""]
[null,398,6020,18,"6020#10|5#1190","2#370|59#180|66#180",""]
[null,399,6020,19,"6020#21|5#1315","2#391|59#190|66#190",""]
[null,400,6020,20,"6020#30|5#1440","2#411|59#200|66#200","0#110#200"]
[null,401,6021,1,"6021#1|5#0","1#26|2#20|66#10",""]
[null,402,6021,2,"6021#1|5#40","1#65|2#41|66#20","0#60#200"]
[null,403,6021,3,"6021#1|5#65","1#118|2#61|66#30",""]
[null,404,6021,4,"6021#1|5#100","1#184|2#82|66#40",""]
[null,405,6021,5,"6021#2|5#135","1#262|2#102|66#50",""]
[null,406,6021,6,"6021#2|5#180","1#354|2#123|66#60",""]
[null,407,6021,7,"6021#2|5#235","1#459|2#144|66#70","0#60#300"]
[null,408,6021,8,"6021#3|5#290","1#578|2#164|66#80",""]
[null,409,6021,9,"6021#3|5#355","1#709|2#185|66#90",""]
[null,410,6021,10,"6021#3|5#420","1#853|2#205|66#100",""]
[null,411,6021,11,"6021#3|5#495","1#1011|2#226|66#110",""]
[null,412,6021,12,"6021#3|5#580","1#1181|2#247|66#120",""]
[null,413,6021,13,"6021#3|5#665","1#1365|2#267|66#130",""]
[null,414,6021,14,"6021#4|5#760","1#1562|2#288|66#140",""]
[null,415,6021,15,"6021#5|5#855","1#1772|2#308|66#150","0#60#400"]
[null,416,6021,16,"6021#6|5#960","1#1995|2#329|66#160",""]
[null,417,6021,17,"6021#8|5#1075","1#2231|2#350|66#170",""]
[null,418,6021,18,"6021#10|5#1190","1#2481|2#370|66#180",""]
[null,419,6021,19,"6021#21|5#1315","1#2743|2#391|66#190",""]
[null,420,6021,20,"6021#30|5#1440","1#3020|2#411|66#200","0#60#500"]
[null,421,6022,1,"6022#1|5#0","1#26|3#40|59#10",""]
[null,422,6022,2,"6022#1|5#40","1#65|3#82|59#20","0#109#100"]
[null,423,6022,3,"6022#1|5#65","1#118|3#122|59#30",""]
[null,424,6022,4,"6022#1|5#100","1#184|3#164|59#40",""]
[null,425,6022,5,"6022#2|5#135","1#262|3#204|59#50",""]
[null,426,6022,6,"6022#2|5#180","1#354|3#246|59#60",""]
[null,427,6022,7,"6022#2|5#235","1#459|3#288|59#70","0#109#100"]
[null,428,6022,8,"6022#3|5#290","1#578|3#328|59#80",""]
[null,429,6022,9,"6022#3|5#355","1#709|3#370|59#90",""]
[null,430,6022,10,"6022#3|5#420","1#853|3#410|59#100",""]
[null,431,6022,11,"6022#3|5#495","1#1011|3#452|59#110",""]
[null,432,6022,12,"6022#3|5#580","1#1181|3#494|59#120",""]
[null,433,6022,13,"6022#3|5#665","1#1365|3#534|59#130",""]
[null,434,6022,14,"6022#4|5#760","1#1562|3#576|59#140",""]
[null,435,6022,15,"6022#5|5#855","1#1772|3#616|59#150","0#109#200"]
[null,436,6022,16,"6022#6|5#960","1#1995|3#658|59#160",""]
[null,437,6022,17,"6022#8|5#1075","1#2231|3#700|59#170",""]
[null,438,6022,18,"6022#10|5#1190","1#2481|3#740|59#180",""]
[null,439,6022,19,"6022#21|5#1315","1#2743|3#782|59#190",""]
[null,440,6022,20,"6022#30|5#1440","1#3020|3#822|59#200","0#109#200"]
[null,441,6023,1,"6023#1|5#0","1#26|4#40|59#10",""]
[null,442,6023,2,"6023#1|5#40","1#65|4#82|59#20","0#55#200"]
[null,443,6023,3,"6023#1|5#65","1#118|4#122|59#30",""]
[null,444,6023,4,"6023#1|5#100","1#184|4#164|59#40",""]
[null,445,6023,5,"6023#2|5#135","1#262|4#204|59#50",""]
[null,446,6023,6,"6023#2|5#180","1#354|4#246|59#60",""]
[null,447,6023,7,"6023#2|5#235","1#459|4#288|59#70","0#55#300"]
[null,448,6023,8,"6023#3|5#290","1#578|4#328|59#80",""]
[null,449,6023,9,"6023#3|5#355","1#709|4#370|59#90",""]
[null,450,6023,10,"6023#3|5#420","1#853|4#410|59#100",""]
[null,451,6023,11,"6023#3|5#495","1#1011|4#452|59#110",""]
[null,452,6023,12,"6023#3|5#580","1#1181|4#494|59#120",""]
[null,453,6023,13,"6023#3|5#665","1#1365|4#534|59#130",""]
[null,454,6023,14,"6023#4|5#760","1#1562|4#576|59#140",""]
[null,455,6023,15,"6023#5|5#855","1#1772|4#616|59#150","0#55#400"]
[null,456,6023,16,"6023#6|5#960","1#1995|4#658|59#160",""]
[null,457,6023,17,"6023#8|5#1075","1#2231|4#700|59#170",""]
[null,458,6023,18,"6023#10|5#1190","1#2481|4#740|59#180",""]
[null,459,6023,19,"6023#21|5#1315","1#2743|4#782|59#190",""]
[null,460,6023,20,"6023#30|5#1440","1#3020|4#822|59#200","0#55#500"]
[null,461,6024,1,"6024#1|5#0","2#20|59#10|66#10",""]
[null,462,6024,2,"6024#1|5#40","2#41|59#20|66#20","0#103#100"]
[null,463,6024,3,"6024#1|5#65","2#61|59#30|66#30",""]
[null,464,6024,4,"6024#1|5#100","2#82|59#40|66#40",""]
[null,465,6024,5,"6024#2|5#135","2#102|59#50|66#50",""]
[null,466,6024,6,"6024#2|5#180","2#123|59#60|66#60",""]
[null,467,6024,7,"6024#2|5#235","2#144|59#70|66#70","0#103#200"]
[null,468,6024,8,"6024#3|5#290","2#164|59#80|66#80",""]
[null,469,6024,9,"6024#3|5#355","2#185|59#90|66#90",""]
[null,470,6024,10,"6024#3|5#420","2#205|59#100|66#100",""]
[null,471,6024,11,"6024#3|5#495","2#226|59#110|66#110",""]
[null,472,6024,12,"6024#3|5#580","2#247|59#120|66#120",""]
[null,473,6024,13,"6024#3|5#665","2#267|59#130|66#130",""]
[null,474,6024,14,"6024#4|5#760","2#288|59#140|66#140",""]
[null,475,6024,15,"6024#5|5#855","2#308|59#150|66#150","0#103#300"]
[null,476,6024,16,"6024#6|5#960","2#329|59#160|66#160",""]
[null,477,6024,17,"6024#8|5#1075","2#350|59#170|66#170",""]
[null,478,6024,18,"6024#10|5#1190","2#370|59#180|66#180",""]
[null,479,6024,19,"6024#21|5#1315","2#391|59#190|66#190",""]
[null,480,6024,20,"6024#30|5#1440","2#411|59#200|66#200","0#103#600"]
[null,481,6025,1,"6025#1|5#0","1#26|2#20|66#10",""]
[null,482,6025,2,"6025#1|5#40","1#65|2#41|66#20","0#58#200"]
[null,483,6025,3,"6025#1|5#65","1#118|2#61|66#30",""]
[null,484,6025,4,"6025#1|5#100","1#184|2#82|66#40",""]
[null,485,6025,5,"6025#2|5#135","1#262|2#102|66#50",""]
[null,486,6025,6,"6025#2|5#180","1#354|2#123|66#60",""]
[null,487,6025,7,"6025#2|5#235","1#459|2#144|66#70","0#58#300"]
[null,488,6025,8,"6025#3|5#290","1#578|2#164|66#80",""]
[null,489,6025,9,"6025#3|5#355","1#709|2#185|66#90",""]
[null,490,6025,10,"6025#3|5#420","1#853|2#205|66#100",""]
[null,491,6025,11,"6025#3|5#495","1#1011|2#226|66#110",""]
[null,492,6025,12,"6025#3|5#580","1#1181|2#247|66#120",""]
[null,493,6025,13,"6025#3|5#665","1#1365|2#267|66#130",""]
[null,494,6025,14,"6025#4|5#760","1#1562|2#288|66#140",""]
[null,495,6025,15,"6025#5|5#855","1#1772|2#308|66#150","0#58#400"]
[null,496,6025,16,"6025#6|5#960","1#1995|2#329|66#160",""]
[null,497,6025,17,"6025#8|5#1075","1#2231|2#350|66#170",""]
[null,498,6025,18,"6025#10|5#1190","1#2481|2#370|66#180",""]
[null,499,6025,19,"6025#21|5#1315","1#2743|2#391|66#190",""]
[null,500,6025,20,"6025#30|5#1440","1#3020|2#411|66#200","0#58#500"]
[null,501,6026,1,"6026#1|5#0","1#26|3#40|59#10",""]
[null,502,6026,2,"6026#1|5#40","1#65|3#82|59#20","0#57#200"]
[null,503,6026,3,"6026#1|5#65","1#118|3#122|59#30",""]
[null,504,6026,4,"6026#1|5#100","1#184|3#164|59#40",""]
[null,505,6026,5,"6026#2|5#135","1#262|3#204|59#50",""]
[null,506,6026,6,"6026#2|5#180","1#354|3#246|59#60",""]
[null,507,6026,7,"6026#2|5#235","1#459|3#288|59#70","0#57#300"]
[null,508,6026,8,"6026#3|5#290","1#578|3#328|59#80",""]
[null,509,6026,9,"6026#3|5#355","1#709|3#370|59#90",""]
[null,510,6026,10,"6026#3|5#420","1#853|3#410|59#100",""]
[null,511,6026,11,"6026#3|5#495","1#1011|3#452|59#110",""]
[null,512,6026,12,"6026#3|5#580","1#1181|3#494|59#120",""]
[null,513,6026,13,"6026#3|5#665","1#1365|3#534|59#130",""]
[null,514,6026,14,"6026#4|5#760","1#1562|3#576|59#140",""]
[null,515,6026,15,"6026#5|5#855","1#1772|3#616|59#150","0#57#400"]
[null,516,6026,16,"6026#6|5#960","1#1995|3#658|59#160",""]
[null,517,6026,17,"6026#8|5#1075","1#2231|3#700|59#170",""]
[null,518,6026,18,"6026#10|5#1190","1#2481|3#740|59#180",""]
[null,519,6026,19,"6026#21|5#1315","1#2743|3#782|59#190",""]
[null,520,6026,20,"6026#30|5#1440","1#3020|3#822|59#200","0#57#500"]
[null,521,6027,1,"6027#1|5#0","1#26|4#40|59#10",""]
[null,522,6027,2,"6027#1|5#40","1#65|4#82|59#20","0#110#100"]
[null,523,6027,3,"6027#1|5#65","1#118|4#122|59#30",""]
[null,524,6027,4,"6027#1|5#100","1#184|4#164|59#40",""]
[null,525,6027,5,"6027#2|5#135","1#262|4#204|59#50",""]
[null,526,6027,6,"6027#2|5#180","1#354|4#246|59#60",""]
[null,527,6027,7,"6027#2|5#235","1#459|4#288|59#70","0#110#100"]
[null,528,6027,8,"6027#3|5#290","1#578|4#328|59#80",""]
[null,529,6027,9,"6027#3|5#355","1#709|4#370|59#90",""]
[null,530,6027,10,"6027#3|5#420","1#853|4#410|59#100",""]
[null,531,6027,11,"6027#3|5#495","1#1011|4#452|59#110",""]
[null,532,6027,12,"6027#3|5#580","1#1181|4#494|59#120",""]
[null,533,6027,13,"6027#3|5#665","1#1365|4#534|59#130",""]
[null,534,6027,14,"6027#4|5#760","1#1562|4#576|59#140",""]
[null,535,6027,15,"6027#5|5#855","1#1772|4#616|59#150","0#110#200"]
[null,536,6027,16,"6027#6|5#960","1#1995|4#658|59#160",""]
[null,537,6027,17,"6027#8|5#1075","1#2231|4#700|59#170",""]
[null,538,6027,18,"6027#10|5#1190","1#2481|4#740|59#180",""]
[null,539,6027,19,"6027#21|5#1315","1#2743|4#782|59#190",""]
[null,540,6027,20,"6027#30|5#1440","1#3020|4#822|59#200","0#110#200"]
[null,541,6028,1,"6028#1|5#0","2#20|59#10|66#10",""]
[null,542,6028,2,"6028#1|5#40","2#41|59#20|66#20","0#104#100"]
[null,543,6028,3,"6028#1|5#65","2#61|59#30|66#30",""]
[null,544,6028,4,"6028#1|5#100","2#82|59#40|66#40",""]
[null,545,6028,5,"6028#2|5#135","2#102|59#50|66#50",""]
[null,546,6028,6,"6028#2|5#180","2#123|59#60|66#60",""]
[null,547,6028,7,"6028#2|5#235","2#144|59#70|66#70","0#104#200"]
[null,548,6028,8,"6028#3|5#290","2#164|59#80|66#80",""]
[null,549,6028,9,"6028#3|5#355","2#185|59#90|66#90",""]
[null,550,6028,10,"6028#3|5#420","2#205|59#100|66#100",""]
[null,551,6028,11,"6028#3|5#495","2#226|59#110|66#110",""]
[null,552,6028,12,"6028#3|5#580","2#247|59#120|66#120",""]
[null,553,6028,13,"6028#3|5#665","2#267|59#130|66#130",""]
[null,554,6028,14,"6028#4|5#760","2#288|59#140|66#140",""]
[null,555,6028,15,"6028#5|5#855","2#308|59#150|66#150","0#104#300"]
[null,556,6028,16,"6028#6|5#960","2#329|59#160|66#160",""]
[null,557,6028,17,"6028#8|5#1075","2#350|59#170|66#170",""]
[null,558,6028,18,"6028#10|5#1190","2#370|59#180|66#180",""]
[null,559,6028,19,"6028#21|5#1315","2#391|59#190|66#190",""]
[null,560,6028,20,"6028#30|5#1440","2#411|59#200|66#200","0#104#600"]
[null,561,6029,1,"6029#1|5#0","1#26|2#20|66#10",""]
[null,562,6029,2,"6029#1|5#40","1#65|2#41|66#20","0#108#100"]
[null,563,6029,3,"6029#1|5#65","1#118|2#61|66#30",""]
[null,564,6029,4,"6029#1|5#100","1#184|2#82|66#40",""]
[null,565,6029,5,"6029#2|5#135","1#262|2#102|66#50",""]
[null,566,6029,6,"6029#2|5#180","1#354|2#123|66#60",""]
[null,567,6029,7,"6029#2|5#235","1#459|2#144|66#70","0#108#100"]
[null,568,6029,8,"6029#3|5#290","1#578|2#164|66#80",""]
[null,569,6029,9,"6029#3|5#355","1#709|2#185|66#90",""]
[null,570,6029,10,"6029#3|5#420","1#853|2#205|66#100",""]
[null,571,6029,11,"6029#3|5#495","1#1011|2#226|66#110",""]
[null,572,6029,12,"6029#3|5#580","1#1181|2#247|66#120",""]
[null,573,6029,13,"6029#3|5#665","1#1365|2#267|66#130",""]
[null,574,6029,14,"6029#4|5#760","1#1562|2#288|66#140",""]
[null,575,6029,15,"6029#5|5#855","1#1772|2#308|66#150","0#108#200"]
[null,576,6029,16,"6029#6|5#960","1#1995|2#329|66#160",""]
[null,577,6029,17,"6029#8|5#1075","1#2231|2#350|66#170",""]
[null,578,6029,18,"6029#10|5#1190","1#2481|2#370|66#180",""]
[null,579,6029,19,"6029#21|5#1315","1#2743|2#391|66#190",""]
[null,580,6029,20,"6029#30|5#1440","1#3020|2#411|66#200","0#108#200"]
[null,581,6030,1,"6030#1|5#0","1#26|3#40|59#10",""]
[null,582,6030,2,"6030#1|5#40","1#65|3#82|59#20","0#56#200"]
[null,583,6030,3,"6030#1|5#65","1#118|3#122|59#30",""]
[null,584,6030,4,"6030#1|5#100","1#184|3#164|59#40",""]
[null,585,6030,5,"6030#2|5#135","1#262|3#204|59#50",""]
[null,586,6030,6,"6030#2|5#180","1#354|3#246|59#60",""]
[null,587,6030,7,"6030#2|5#235","1#459|3#288|59#70","0#56#300"]
[null,588,6030,8,"6030#3|5#290","1#578|3#328|59#80",""]
[null,589,6030,9,"6030#3|5#355","1#709|3#370|59#90",""]
[null,590,6030,10,"6030#3|5#420","1#853|3#410|59#100",""]
[null,591,6030,11,"6030#3|5#495","1#1011|3#452|59#110",""]
[null,592,6030,12,"6030#3|5#580","1#1181|3#494|59#120",""]
[null,593,6030,13,"6030#3|5#665","1#1365|3#534|59#130",""]
[null,594,6030,14,"6030#4|5#760","1#1562|3#576|59#140",""]
[null,595,6030,15,"6030#5|5#855","1#1772|3#616|59#150","0#56#400"]
[null,596,6030,16,"6030#6|5#960","1#1995|3#658|59#160",""]
[null,597,6030,17,"6030#8|5#1075","1#2231|3#700|59#170",""]
[null,598,6030,18,"6030#10|5#1190","1#2481|3#740|59#180",""]
[null,599,6030,19,"6030#21|5#1315","1#2743|3#782|59#190",""]
[null,600,6030,20,"6030#30|5#1440","1#3020|3#822|59#200","0#56#500"]
[null,601,6031,1,"6031#1|5#0","1#26|4#40|59#10",""]
[null,602,6031,2,"6031#1|5#40","1#65|4#82|59#20","0#53#100"]
[null,603,6031,3,"6031#1|5#65","1#118|4#122|59#30",""]
[null,604,6031,4,"6031#1|5#100","1#184|4#164|59#40",""]
[null,605,6031,5,"6031#2|5#135","1#262|4#204|59#50",""]
[null,606,6031,6,"6031#2|5#180","1#354|4#246|59#60",""]
[null,607,6031,7,"6031#2|5#235","1#459|4#288|59#70","0#53#200"]
[null,608,6031,8,"6031#3|5#290","1#578|4#328|59#80",""]
[null,609,6031,9,"6031#3|5#355","1#709|4#370|59#90",""]
[null,610,6031,10,"6031#3|5#420","1#853|4#410|59#100",""]
[null,611,6031,11,"6031#3|5#495","1#1011|4#452|59#110",""]
[null,612,6031,12,"6031#3|5#580","1#1181|4#494|59#120",""]
[null,613,6031,13,"6031#3|5#665","1#1365|4#534|59#130",""]
[null,614,6031,14,"6031#4|5#760","1#1562|4#576|59#140",""]
[null,615,6031,15,"6031#5|5#855","1#1772|4#616|59#150","0#53#300"]
[null,616,6031,16,"6031#6|5#960","1#1995|4#658|59#160",""]
[null,617,6031,17,"6031#8|5#1075","1#2231|4#700|59#170",""]
[null,618,6031,18,"6031#10|5#1190","1#2481|4#740|59#180",""]
[null,619,6031,19,"6031#21|5#1315","1#2743|4#782|59#190",""]
[null,620,6031,20,"6031#30|5#1440","1#3020|4#822|59#200","0#53#400"]
[null,621,6032,1,"6032#1|5#0","2#20|59#10|66#10",""]
[null,622,6032,2,"6032#1|5#40","2#41|59#20|66#20","0#102#100"]
[null,623,6032,3,"6032#1|5#65","2#61|59#30|66#30",""]
[null,624,6032,4,"6032#1|5#100","2#82|59#40|66#40",""]
[null,625,6032,5,"6032#2|5#135","2#102|59#50|66#50",""]
[null,626,6032,6,"6032#2|5#180","2#123|59#60|66#60",""]
[null,627,6032,7,"6032#2|5#235","2#144|59#70|66#70","0#102#200"]
[null,628,6032,8,"6032#3|5#290","2#164|59#80|66#80",""]
[null,629,6032,9,"6032#3|5#355","2#185|59#90|66#90",""]
[null,630,6032,10,"6032#3|5#420","2#205|59#100|66#100",""]
[null,631,6032,11,"6032#3|5#495","2#226|59#110|66#110",""]
[null,632,6032,12,"6032#3|5#580","2#247|59#120|66#120",""]
[null,633,6032,13,"6032#3|5#665","2#267|59#130|66#130",""]
[null,634,6032,14,"6032#4|5#760","2#288|59#140|66#140",""]
[null,635,6032,15,"6032#5|5#855","2#308|59#150|66#150","0#102#300"]
[null,636,6032,16,"6032#6|5#960","2#329|59#160|66#160",""]
[null,637,6032,17,"6032#8|5#1075","2#350|59#170|66#170",""]
[null,638,6032,18,"6032#10|5#1190","2#370|59#180|66#180",""]
[null,639,6032,19,"6032#21|5#1315","2#391|59#190|66#190",""]
[null,640,6032,20,"6032#30|5#1440","2#411|59#200|66#200","0#102#600"]
[null,641,6033,1,"6033#1|5#0","1#26|2#20|66#10",""]
[null,642,6033,2,"6033#1|5#75","1#65|2#41|66#20","0#105#100"]
[null,643,6033,3,"6033#1|5#125","1#118|2#61|66#30",""]
[null,644,6033,4,"6033#1|5#180","1#184|2#82|66#40",""]
[null,645,6033,5,"6033#2|5#240","1#262|2#102|66#50",""]
[null,646,6033,6,"6033#2|5#310","1#354|2#123|66#60",""]
[null,647,6033,7,"6033#2|5#390","1#459|2#144|66#70","0#105#200"]
[null,648,6033,8,"6033#3|5#480","1#578|2#164|66#80",""]
[null,649,6033,9,"6033#3|5#575","1#709|2#185|66#90",""]
[null,650,6033,10,"6033#3|5#680","1#853|2#205|66#100",""]
[null,651,6033,11,"6033#3|5#795","1#1011|2#226|66#110",""]
[null,652,6033,12,"6033#3|5#915","1#1181|2#247|66#120",""]
[null,653,6033,13,"6033#3|5#1050","1#1365|2#267|66#130",""]
[null,654,6033,14,"6033#4|5#1190","1#1562|2#288|66#140",""]
[null,655,6033,15,"6033#5|5#1335","1#1772|2#308|66#150","0#105#300"]
[null,656,6033,16,"6033#6|5#1495","1#1995|2#329|66#160",""]
[null,657,6033,17,"6033#8|5#1665","1#2231|2#350|66#170",""]
[null,658,6033,18,"6033#10|5#1840","1#2481|2#370|66#180",""]
[null,659,6033,19,"6033#21|5#2025","1#2743|2#391|66#190",""]
[null,660,6033,20,"6033#30|5#2220","1#3020|2#411|66#200","0#105#600"]
[null,661,6034,1,"6034#1|5#0","1#26|3#40|59#10",""]
[null,662,6034,2,"6034#1|5#75","1#65|3#82|59#20","0#106#100"]
[null,663,6034,3,"6034#1|5#125","1#118|3#122|59#30",""]
[null,664,6034,4,"6034#1|5#180","1#184|3#164|59#40",""]
[null,665,6034,5,"6034#2|5#240","1#262|3#204|59#50",""]
[null,666,6034,6,"6034#2|5#310","1#354|3#246|59#60",""]
[null,667,6034,7,"6034#2|5#390","1#459|3#288|59#70","0#106#200"]
[null,668,6034,8,"6034#3|5#480","1#578|3#328|59#80",""]
[null,669,6034,9,"6034#3|5#575","1#709|3#370|59#90",""]
[null,670,6034,10,"6034#3|5#680","1#853|3#410|59#100",""]
[null,671,6034,11,"6034#3|5#795","1#1011|3#452|59#110",""]
[null,672,6034,12,"6034#3|5#915","1#1181|3#494|59#120",""]
[null,673,6034,13,"6034#3|5#1050","1#1365|3#534|59#130",""]
[null,674,6034,14,"6034#4|5#1190","1#1562|3#576|59#140",""]
[null,675,6034,15,"6034#5|5#1335","1#1772|3#616|59#150","0#106#300"]
[null,676,6034,16,"6034#6|5#1495","1#1995|3#658|59#160",""]
[null,677,6034,17,"6034#8|5#1665","1#2231|3#700|59#170",""]
[null,678,6034,18,"6034#10|5#1840","1#2481|3#740|59#180",""]
[null,679,6034,19,"6034#21|5#2025","1#2743|3#782|59#190",""]
[null,680,6034,20,"6034#30|5#2220","1#3020|3#822|59#200","0#106#600"]
[null,681,6035,1,"6035#1|5#0","1#26|4#40|59#10",""]
[null,682,6035,2,"6035#1|5#75","1#65|4#82|59#20","0#52#200"]
[null,683,6035,3,"6035#1|5#125","1#118|4#122|59#30",""]
[null,684,6035,4,"6035#1|5#180","1#184|4#164|59#40",""]
[null,685,6035,5,"6035#2|5#240","1#262|4#204|59#50",""]
[null,686,6035,6,"6035#2|5#310","1#354|4#246|59#60",""]
[null,687,6035,7,"6035#2|5#390","1#459|4#288|59#70","0#52#400"]
[null,688,6035,8,"6035#3|5#480","1#578|4#328|59#80",""]
[null,689,6035,9,"6035#3|5#575","1#709|4#370|59#90",""]
[null,690,6035,10,"6035#3|5#680","1#853|4#410|59#100",""]
[null,691,6035,11,"6035#3|5#795","1#1011|4#452|59#110",""]
[null,692,6035,12,"6035#3|5#915","1#1181|4#494|59#120",""]
[null,693,6035,13,"6035#3|5#1050","1#1365|4#534|59#130",""]
[null,694,6035,14,"6035#4|5#1190","1#1562|4#576|59#140",""]
[null,695,6035,15,"6035#5|5#1335","1#1772|4#616|59#150","0#52#600"]
[null,696,6035,16,"6035#6|5#1495","1#1995|4#658|59#160",""]
[null,697,6035,17,"6035#8|5#1665","1#2231|4#700|59#170",""]
[null,698,6035,18,"6035#10|5#1840","1#2481|4#740|59#180",""]
[null,699,6035,19,"6035#21|5#2025","1#2743|4#782|59#190",""]
[null,700,6035,20,"6035#30|5#2220","1#3020|4#822|59#200","0#52#900"]
[null,701,6036,1,"6036#1|5#0","2#20|59#10|66#10",""]
[null,702,6036,2,"6036#1|5#75","2#41|59#20|66#20","0#51#200"]
[null,703,6036,3,"6036#1|5#125","2#61|59#30|66#30",""]
[null,704,6036,4,"6036#1|5#180","2#82|59#40|66#40",""]
[null,705,6036,5,"6036#2|5#240","2#102|59#50|66#50",""]
[null,706,6036,6,"6036#2|5#310","2#123|59#60|66#60",""]
[null,707,6036,7,"6036#2|5#390","2#144|59#70|66#70","0#51#400"]
[null,708,6036,8,"6036#3|5#480","2#164|59#80|66#80",""]
[null,709,6036,9,"6036#3|5#575","2#185|59#90|66#90",""]
[null,710,6036,10,"6036#3|5#680","2#205|59#100|66#100",""]
[null,711,6036,11,"6036#3|5#795","2#226|59#110|66#110",""]
[null,712,6036,12,"6036#3|5#915","2#247|59#120|66#120",""]
[null,713,6036,13,"6036#3|5#1050","2#267|59#130|66#130",""]
[null,714,6036,14,"6036#4|5#1190","2#288|59#140|66#140",""]
[null,715,6036,15,"6036#5|5#1335","2#308|59#150|66#150","0#51#600"]
[null,716,6036,16,"6036#6|5#1495","2#329|59#160|66#160",""]
[null,717,6036,17,"6036#8|5#1665","2#350|59#170|66#170",""]
[null,718,6036,18,"6036#10|5#1840","2#370|59#180|66#180",""]
[null,719,6036,19,"6036#21|5#2025","2#391|59#190|66#190",""]
[null,720,6036,20,"6036#30|5#2220","2#411|59#200|66#200","0#51#900"]

{"sheet":"属性","index":1,"n_rows":721,"n_cols":34,"rows_kept":721}
["阶级","配件id","属性1","值","属性2","值","属性3","值","职业加成","加成属性","值",null,"属性id","值","属性id","值","属性id","值","辅助1","辅助2","辅助3","输出列1","辅助1","辅助2","辅助3","输出列2"]
[1,6001,"生命",147,"护甲",22,{"$nulls":6},{"$f":"VLOOKUP(C2,$AB:$AC,2,0)","v":1},{"$f":"D2","v":147},{"$f":"VLOOKUP(E2,$AB:$AC,2,0)","v":3},{"$f":"F2","v":22},{"$f":"IF(G2<>0,VLOOKUP(G2,$AB:$AC,2,0),\"\")","v":""},{"$f":"IF(H2<>0,H2,\"\")","v":""},{"$f":"[1]!SUMSTRING(M2:N2,\"#\")","v":{"$error":"#NAME?"}},{"$f":"[1]!SUMSTRING(O2:P2,\"#\")","v":{"$error":"#NAME?"}},{"$f":"IF(Q2<>0,[1]!SUMSTRING(Q2:R2,\"#\"),\"\")","v":{"$error":"#NAME?"}},{"$f":"[1]!SUMSTRING(S2:U2,\"|\")","v":{"$error":"#NAME?"}},{"$f":"IF(I2<>0,VLOOKUP(I2,$AG$3:$AH$7,2,0),\"\")","v":""},{"$f":"IF(J2<>0,VLOOKUP(J2,$AB:$AC,2,0),\"\")","v":""},{"$f":"IF(K2<>0,K2,\"\")","v":""},{"$f":"IF(W2<>0,[1]!SUMSTRING(W2:Y2,\"#\"),\"\")","v":{"$error":"#NAME?"}},null,"生命",1]
[2,6001,"生命",294,"护甲",44,null,null,"武卫","护甲百分比",300,null,{"$f":"VLOOKUP(C3,$AB:$AC,2,0)","v":1},{"$f":"D3","v":294},{"$f":"VLOOKUP(E3,$AB:$AC,2,0)","v":3},{"$f":"F3","v":44},{"$f":"IF(G3<>0,VLOOKUP(G3,$AB:$AC,2,0),\"\")","v":""},{"$f":"IF(H3<>0,H3,\"\")","v":""},{"$f":"[1]!SUMSTRING(M3:N3,\"#\")","v":{"$error":"#NAME?"}},{"$f":"[1]!SUMSTRING(O3:P3,\"#\")","v":{"$error":"#NAME?"}},{"$f":"IF(Q3<>0,[1]!SUMSTRING(Q3:R3,\"#\"),\"\")","v":{"$error":"#NAME?"}},{"$f":"[1]!SUMSTRING(S3:U3,\"|\")","v":{"$error":"#NAME?"}},{"$f":"IF(I3<>0,VLOOKUP(I3,$AG$3:$AH$7,2,0),\"\")","v":1},{"$f":"IF(J3<>0,VLOOKUP(J3,$AB:$AC,2,0),\"\")","v":63},{"$f":"IF(K3<>0,K3,\"\")","v":300},{"$f":"IF(W3<>0,[1]!SUMSTRING(W3:Y3,\"#\"),\"\")","v":{"$error":"#NAME?"}},null,"攻击",2,{"$nulls":3},"武卫",1]
[3,6001,"生命",441,"护甲",66,{"$nulls":6},1,441,3,66,"","",{"$f":"[1]!SUMSTRING(M4:N4,\"#\")","v":{"$error":"#NAME?"}},{"$f":"[1]!SUMSTRING(O4:P4,\"#\")","v":{"$error":"#NAME?"}},{"$f":"IF(Q4<>0,[1]!SUMSTRING(Q4:R4,\"#\"),\"\")","v":{"$error":"#NAME?"}},{"$f":"[1]!SUMSTRING(S4:U4,\"|\")","v":{"$error":"#NAME?"}},{"$f":"IF(I4<>0,VLOOKUP(I4,$AG$3:$AH$7,2,0),\"\")","v":""},"","",{"$f":"IF(W4<>0,[1]!SUMSTRING(W4:Y4,\"#\"),\"\")","v":{"$error":"#NAME?"}},null,"护甲",3,{"$nulls":3},"天罚",2]
[4,6001,"生命",588,"护甲",88,{"$nulls":6},1,588,3,88,"","",{"$f":"[1]!SUMSTRING(M5:N5,\"#\")","v":{"$error":"#NAME?"}},{"$f":"[1]!SUMSTRING(O5:P5,\"#\")","v":{"$error":"#NAME?"}},{"$f":"IF(Q5<>0,[1]!SUMSTRING(Q5:R5,\"#\"),\"\")","v":{"$error":"#NAME?"}},{"$f":"[1]!SUMSTRING(S5:U5,\"|\")","v":{"$error":"#NAME?"}},"","","",{"$f":"IF(W5<>0,[1]!SUMSTRING(W5:Y5,\"#\"),\"\")","v":{"$error":"#NAME?"}},null,"魔抗",4,{"$nulls":3},"秘法",3]
[5,6001,"生命",735,"护甲",110,null,null,"生花","护甲百分比",300,null,1,735,3,110,"","",{"$f":"[1]!SUMSTRING(M6:N6,\"#\")","v":{"$error":"#NAME?"}},{"$f":"[1]!SUMSTRING(O6:P6,\"#\")","v":{"$error":"#NAME?"}},{"$f":"IF(Q6<>0,[1]!SUMSTRING(Q6:R6,\"#\"),\"\")","v":{"$error":"#NAME?"}},{"$f":"[1]!SUMSTRING(S6:U6,\"|\")","v":{"$error":"#NAME?"}},5,63,300,{"$f":"IF(W6<>0,[1]!SUMSTRING(W6:Y6,\"#\"),\"\")","v":{"$error":"#NAME?"}},null,"速度",5,{"$nulls":3},"玄策",4]
[6,6001,"生命",882,"护甲",132,{"$nulls":6},1,882,3,132,"","",{"$f":"[1]!SUMSTRING(M7:N7,\"#\")","v":{"$error":"#NAME?"}},{"$f":"[1]!SUMSTRING(O7:P7,\"#\")","v":{"$error":"#NAME?"}},{"$f":"IF(Q7<>0,[1]!SUMSTRING(Q7:R7,\"#\"),\"\")","v":{"$error":"#NAME?"}},{"$f":"[1]!SUMSTRING(S7:U7,\"|\")","v":{"$error":"#NAME?"}},"","","",{"$f":"IF(W7<>0,[1]!SUMSTRING(W7:Y7,\"#\"),\"\")","v":{"$error":"#NAME?"}},null,"当前生命",6,{"$nulls":3},"生花",5]
[7,6001,"生命",1029,"护甲",154,{"$nulls":6},1,1029,3,154,"","",{"$f":"[1]!SUMSTRING(M8:N8,\"#\")","v":{"$error":"#NAME?"}},{"$f":"[1]!SUMSTRING(O8:P8,\"#\")","v":{"$error":"#NAME?"}},{"$f":"IF(Q8<>0,[1]!SUMSTRING(Q8:R8,\"#\"),\"\")","v":{"$error":"#NAME?"}},{"$f":"[1]!SUMSTRING(S8:U8,\"|\")","v":{"$error":"#NAME?"}},"","","",{"$f":"IF(W8<>0,[1]!SUMSTRING(W8:Y8,\"#\"),\"\")","v":{"$error":"#NAME?"}},null,"伤害加成",51]
[8,6001,"生命",1176,"护甲",176,null,null,"秘法","护甲百分比",300,null,1,1176,3,176,"","",{"$f":"[1]!SUMSTRING(M9:N9,\"#\")","v":{"$error":"#NAME?"}},{"$f":"[1]!SUMSTRING(O9:P9,\"#\")","v":{"$error":"#NAME?"}},{"$f":"IF(Q9<>0,[1]!SUMSTRING(Q9:R9,\"#\"),\"\")","v":{"$error":"#NAME?"}},{"$f":"[1]!SUMSTRING(S9:U9,\"|\")","v":{"$error":"#NAME?"}},3,63,300,{"$f":"IF(W9<>0,[1]!SUMSTRING(W9:Y9,\"#\"),\"\")","v":{"$error":"#NAME?"}},null,"伤害减免",52]
[9,6001,"生命",1323,"护甲",198,{"$nulls":6},1,1323,3,198,"","",{"$f":"[1]!SUMSTRING(M10:N10,\"#\")","v":{"$error":"#NAME?"}},{"$f":"[1]!SUMSTRING(O10:P10,\"#\")","v":{"$error":"#NAME?"}},{"$f":"IF(Q10<>0,[1]!SUMSTRING(Q10:R10,\"#\"),\"\")","v":{"$error":"#NAME?"}},{"$f":"[1]!SUMSTRING(S10:U10,\"|\")","v":{"$error":"#NAME?"}},"","","",{"$f":"IF(W10<>0,[1]!SUMSTRING(W10:Y10,\"#\"),\"\")","v":{"$error":"#NAME?"}},null,"效果命中",53]
[10,6001,"生命",1470,"护甲",220,{"$nulls":6},1,1470,3,220,"","",{"$f":"[1]!SUMSTRING(M11:N11,\"#\")","v":{"$error":"#NAME?"}},{"$f":"[1]!SUMSTRING(O11:P11,\"#\")","v":{"$error":"#NAME?"}},{"$f":"IF(Q11<>0,[1]!SUMSTRING(Q11:R11,\"#\"),\"\")","v":{"$error":"#NAME?"}},{"$f":"[1]!SUMSTRING(S11:U11,\"|\")","v":{"$error":"#NAME?"}},"","","",{"$f":"IF(W11<>0,[1]!SUMSTRING(W11:Y11,\"#\"),\"\")","v":{"$error":"#NAME?"}},null,"效果抵抗",54]
[11,6001,"生命",1617,"护甲",242,null,null,"玄策","护甲百分比",300,null,1,1617,3,242,"","",{"$f":"[1]!SUMSTRING(M12:N12,\"#\")","v":{"$error":"#NAME?"}},{"$f":"[1]!SUMSTRING(O12:P12,\"#\")","v":{"$error":"#NAME?"}},{"$f":"IF(Q12<>0,[1]!SUMSTRING(Q12:R12,\"#\"),\"\")","v":{"$error":"#NAME?"}},{"$f":"[1]!SUMSTRING(S12:U12,\"|\")","v":{"$error":"#NAME?"}},4,63,300,{"$f":"IF(W12<>0,[1]!SUMSTRING(W12:Y12,\"#\"),\"\")","v":{"$error":"#NAME?"}},null,"暴击",55]
[12,6001,"生命",1764,"护甲",264,{"$nulls":6},1,1764,3,264,"","",{"$f":"[1]!SUMSTRING(M13:N13,\"#\")","v":{"$error":"#NAME?"}},{"$f":"[1]!SUMSTRING(O13:P13,\"#\")","v":{"$error":"#NAME?"}},{"$f":"IF(Q13<>0,[1]!SUMSTRING(Q13:R13,\"#\"),\"\")","v":{"$error":"#NAME?"}},{"$f":"[1]!SUMSTRING(S13:U13,\"|\")","v":{"$error":"#NAME?"}},"","","",{"$f":"IF(W13<>0,[1]!SUMSTRING(W13:Y13,\"#\"),\"\")","v":{"$error":"#NAME?"}},null,"暴伤",56]
[13,6001,"生命",1911,"护甲",286,{"$nulls":6},1,1911,3,286,"","",{"$f":"[1]!SUMSTRING(M14:N14,\"#\")","v":{"$error":"#NAME?"}},{"$f":"[1]!SUMSTRING(O14:P14,\"#\")","v":{"$error":"#NAME?"}},{"$f":"IF(Q14<>0,[1]!SUMSTRING(Q14:R14,\"#\"),\"\")","v":{"$error":"#NAME?"}},{"$f":"[1]!SUMSTRING(S14:U14,\"|\")","v":{"$error":"#NAME?"}},"","","",{"$f":"IF(W14<>0,[1]!SUMSTRING(W14:Y14,\"#\"),\"\")","v":{"$error":"#NAME?"}},null,"受治疗",57]
[14,6001,"生命",2058,"护甲",308,null,null,"天罚","护甲百分比",300,null,1,2058,3,308,"","",{"$f":"[1]!SUMSTRING(M15:N15,\"#\")","v":{"$error":"#NAME?"}},{"$f":"[1]!SUMSTRING(O15:P15,\"#\")","v":{"$error":"#NAME?"}},{"$f":"IF(Q15<>0,[1]!SUMSTRING(Q15:R15,\"#\"),\"\")","v":{"$error":"#NAME?"}},{"$f":"[1]!SUMSTRING(S15:U15,\"|\")","v":{"$error":"#NAME?"}},2,63,300,{"$f":"IF(W15<>0,[1]!SUMSTRING(W15:Y15,\"#\"),\"\")","v":{"$error":"#NAME?"}},null,"治疗",58]
[15,6001,"生命",2205,"护甲",330,{"$nulls":6},1,2205,3,330,"","",{"$f":"[1]!SUMSTRING(M16:N16,\"#\")","v":{"$error":"#NAME?"}},{"$f":"[1]!SUMSTRING(O16:P16,\"#\")","v":{"$error":"#NAME?"}},{"$f":"IF(Q16<>0,[1]!SUMSTRING(Q16:R16,\"#\"),\"\")","v":{"$error":"#NAME?"}},{"$f":"[1]!SUMSTRING(S16:U16,\"|\")","v":{"$error":"#NAME?"}},"","","",{"$f":"IF(W16<>0,[1]!SUMSTRING(W16:Y16,\"#\"),\"\")","v":{"$error":"#NAME?"}},null,"异妖减伤",59]
[16,6001,"生命",2352,"护甲",352,{"$nulls":6},1,2352,3,352,"","",{"$f":"[1]!SUMSTRING(M17:N17,\"#\")","v":{"$error":"#NAME?"}},{"$f":"[1]!SUMSTRING(O17:P17,\"#\")","v":{"$error":"#NAME?"}},{"$f":"IF(Q17<>0,[1]!SUMSTRING(Q17:R17,\"#\"),\"\")","v":{"$error":"#NAME?"}},{"$f":"[1]!SUMSTRING(S17:U17,\"|\")","v":{"$error":"#NAME?"}},"","","",{"$f":"IF(W17<>0,[1]!SUMSTRING(W17:Y17,\"#\"),\"\")","v":{"$error":"#NAME?"}},null,"抗暴率",60]
[17,6001,"生命",2500,"护甲",375,null,null,"秘法","护甲百分比",300,null,1,2500,3,375,"","",{"$f":"[1]!SUMSTRING(M18:N18,\"#\")","v":{"$error":"#NAME?"}},{"$f":"[1]!SUMSTRING(O18:P18,\"#\")","v":{"$error":"#NAME?"}},{"$f":"IF(Q18<>0,[1]!SUMSTRING(Q18:R18,\"#\"),\"\")","v":{"$error":"#NAME?"}},{"$f":"[1]!SUMSTRING(S18:U18,\"|\")","v":{"$error":"#NAME?"}},3,63,300,{"$f":"IF(W18<>0,[1]!SUMSTRING(W18:Y18,\"#\"),\"\")","v":{"$error":"#NAME?"}},null,"生命百分比",61]
[18,6001,"生命",2647,"护甲",397,{"$nulls":6},1,2647,3,397,"","",{"$f":"[1]!SUMSTRING(M19:N19,\"#\")","v":{"$error":"#NAME?"}},{"$f":"[1]!SUMSTRING(O19:P19,\"#\")","v":{"$error":"#NAME?"}},{"$f":"IF(Q19<>0,[1]!SUMSTRING(Q19:R19,\"#\"),\"\")","v":{"$error":"#NAME?"}},{"$f":"[1]!SUMSTRING(S19:U19,\"|\")","v":{"$error":"#NAME?"}},"","","",{"$f":"IF(W19<>0,[1]!SUMSTRING(W19:Y19,\"#\"),\"\")","v":{"$error":"#NAME?"}},null,"攻击百分比",62]
[19,6001,"生命",2794,"护甲",419,{"$nulls":6},1,2794,3,419,"","",{"$f":"[1]!SUMSTRING(M20:N20,\"#\")","v":{"$error":"#NAME?"}},{"$f":"[1]!SUMSTRING(O20:P20,\"#\")","v":{"$error":"#NAME?"}},{"$f":"IF(Q20<>0,[1]!SUMSTRING(Q20:R20,\"#\"),\"\")","v":{"$error":"#NAME?"}},{"$f":"[1]!SUMSTRING(S20:U20,\"|\")","v":{"$error":"#NAME?"}},"","","",{"$f":"IF(W20<>0,[1]!SUMSTRING(W20:Y20,\"#\"),\"\")","v":{"$error":"#NAME?"}},null,"护甲百分比",63]
[20,6001,"生命",2941,"护甲",441,null,null,"天罚","护甲百分比",300,null,1,2941,3,441,"","",{"$f":"[1]!SUMSTRING(M21:N21,\"#\")","v":{"$error":"#NAME?"}},{"$f":"[1]!SUMSTRING(O21:P21,\"#\")","v":{"$error":"#NAME?"}},{"$f":"IF(Q21<>0,[1]!SUMSTRING(Q21:R21,\"#\"),\"\")","v":{"$error":"#NAME?"}},{"$f":"[1]!SUMSTRING(S21:U21,\"|\")","v":{"$error":"#NAME?"}},2,63,300,{"$f":"IF(W21<>0,[1]!SUMSTRING(W21:Y21,\"#\"),\"\")","v":{"$error":"#NAME?"}},null,"魔抗百分比",64]
[{"$f":"A2","v":1},{"$f":"B2+1","v":6002},"生命",147,"攻击",22,{"$nulls":6},1,147,2,22,"","",{"$f":"[1]!SUMSTRING(M22:N22,\"#\")","v":{"$error":"#NAME?"}},{"$f":"[1]!SUMSTRING(O22:P22,\"#\")","v":{"$error":"#NAME?"}},{"$f":"IF(Q22<>0,[1]!SUMSTRING(Q22:R22,\"#\"),\"\")","v":{"$error":"#NAME?"}},{"$f":"[1]!SUMSTRING(S22:U22,\"|\")","v":{"$error":"#NAME?"}},"","","",{"$f":"IF(W22<>0,[1]!SUMSTRING(W22:Y22,\"#\"),\"\")","v":{"$error":"#NAME?"}},null,"速度百分比",65]
[{"$f":"A3","v":2},{"$f":"B3+1","v":6002},"生命",294,"攻击",44,null,null,"武卫","魔抗百分比",300,null,1,294,2,44,"","",{"$f":"[1]!SUMSTRING(M23:N23,\"#\")","v":{"$error":"#NAME?"}},{"$f":"[1]!SUMSTRING(O23:P23,\"#\")","v":{"$error":"#NAME?"}},{"$f":"IF(Q23<>0,[1]!SUMSTRING(Q23:R23,\"#\"),\"\")","v":{"$error":"#NAME?"}},{"$f":"[1]!SUMSTRING(S23:U23,\"|\")","v":{"$error":"#NAME?"}},1,64,300,{"$f":"IF(W23<>0,[1]!SUMSTRING(W23:Y23,\"#\"),\"\")","v":{"$error":"#NAME?"}},null,"异妖增伤",66]
[3,6002,"生命",441,"攻击",66,{"$nulls":6},1,441,2,66,"","",{"$f":"[1]!SUMSTRING(M24:N24,\"#\")","v":{"$error":"#NAME?"}},{"$f":"[1]!SUMSTRING(O24:P24,\"#\")","v":{"$error":"#NAME?"}},{"$f":"IF(Q24<>0,[1]!SUMSTRING(Q24:R24,\"#\"),\"\")","v":{"$error":"#NAME?"}},{"$f":"[1]!SUMSTRING(S24:U24,\"|\")","v":{"$error":"#NAME?"}},"","","",{"$f":"IF(W24<>0,[1]!SUMSTRING(W24:Y24,\"#\"),\"\")","v":{"$error":"#NAME?"}},null,"当前生命",67]
[4,6002,"生命",588,"攻击",88,{"$nulls":6},1,588,2,88,"","",{"$f":"[1]!SUMSTRING(M25:N25,\"#\")","v":{"$error":"#NAME?"}},{"$f":"[1]!SUMSTRING(O25:P25,\"#\")","v":{"$error":"#NAME?"}},{"$f":"IF(Q25<>0,[1]!SUMSTRING(Q25:R25,\"#\"),\"\")","v":{"$error":"#NAME?"}},{"$f":"[1]!SUMSTRING(S25:U25,\"|\")","v":{"$error":"#NAME?"}},"","","",{"$f":"IF(W25<>0,[1]!SUMSTRING(W25:Y25,\"#\"),\"\")","v":{"$error":"#NAME?"}},null,"火焰伤害",101]
[5,6002,"生命",735,"攻击",110,null,null,"生花","魔抗百分比",300,null,1,735,2,110,"","",{"$f":"[1]!SUMSTRING(M26:N26,\"#\")","v":{"$error":"#NAME?"}},{"$f":"[1]!SUMSTRING(O26:P26,\"#\")","v":{"$error":"#NAME?"}},{"$f":"IF(Q26<>0,[1]!SUMSTRING(Q26:R26,\"#\"),\"\")","v":{"$error":"#NAME?"}},{"$f":"[1]!SUMSTRING(S26:U26,\"|\")","v":{"$error":"#NAME?"}},5,64,300,{"$f":"IF(W26<>0,[1]!SUMSTRING(W26:Y26,\"#\"),\"\")","v":{"$error":"#NAME?"}},null,"狂风伤害",102]
[6,6002,"生命",882,"攻击",132,{"$nulls":6},1,882,2,132,"","",{"$f":"[1]!SUMSTRING(M27:N27,\"#\")","v":{"$error":"#NAME?"}},{"$f":"[1]!SUMSTRING(O27:P27,\"#\")","v":{"$error":"#NAME?"}},{"$f":"IF(Q27<>0,[1]!SUMSTRING(Q27:R27,\"#\"),\"\")","v":{"$error":"#NAME?"}},{"$f":"[1]!SUMSTRING(S27:U27,\"|\")","v":{"$error":"#NAME?"}},"","","",{"$f":"IF(W27<>0,[1]!SUMSTRING(W27:Y27,\"#\"),\"\")","v":{"$error":"#NAME?"}},null,"碧水伤害",103]
[7,6002,"生命",1029,"攻击",154,{"$nulls":6},1,1029,2,154,"","",{"$f":"[1]!SUMSTRING(M28:N28,\"#\")","v":{"$error":"#NAME?"}},{"$f":"[1]!SUMSTRING(O28:P28,\"#\")","v":{"$error":"#NAME?"}},{"$f":"IF(Q28<>0,[1]!SUMSTRING(Q28:R28,\"#\"),\"\")","v":{"$error":"#NAME?"}},{"$f":"[1]!SUMSTRING(S28:U28,\"|\")","v":{"$error":"#NAME?"}},"","","",{"$f":"IF(W28<>0,[1]!SUMSTRING(W28:Y28,\"#\"),\"\")","v":{"$error":"#NAME?"}},null,"大地伤害",104]
[8,6002,"生命",1176,"攻击",176,null,null,"秘法","魔抗百分比",300,null,1,1176,2,176,"","",{"$f":"[1]!SUMSTRING(M29:N29,\"#\")","v":{"$error":"#NAME?"}},{"$f":"[1]!SUMSTRING(O29:P29,\"#\")","v":{"$error":"#NAME?"}},{"$f":"IF(Q29<>0,[1]!SUMSTRING(Q29:R29,\"#\"),\"\")","v":{"$error":"#NAME?"}},{"$f":"[1]!SUMSTRING(S29:U29,\"|\")","v":{"$error":"#NAME?"}},3,64,300,{"$f":"IF(W29<>0,[1]!SUMSTRING(W29:Y29,\"#\"),\"\")","v":{"$error":"#NAME?"}},null,"神圣伤害",105]
[9,6002,"生命",1323,"攻击",198,{"$nulls":6},1,1323,2,198,"","",{"$f":"[1]!SUMSTRING(M30:N30,\"#\")","v":{"$error":"#NAME?"}},{"$f":"[1]!SUMSTRING(O30:P30,\"#\")","v":{"$error":"#NAME?"}},{"$f":"IF(Q30<>0,[1]!SUMSTRING(Q30:R30,\"#\"),\"\")","v":{"$error":"#NAME?"}},{"$f":"[1]!SUMSTRING(S30:U30,\"|\")","v":{"$error":"#NAME?"}},"","","",{"$f":"IF(W30<>0,[1]!SUMSTRING(W30:Y30,\"#\"),\"\")","v":{"$error":"#NAME?"}},null,"黑暗伤害",106]
[10,6002,"生命",1470,"攻击",220,{"$nulls":6},1,1470,2,220,"","",{"$f":"[1]!SUMSTRING(M31:N31,\"#\")","v":{"$error":"#NAME?"}},{"$f":"[1]!SUMSTRING(O31:P31,\"#\")","v":{"$error":"#NAME?"}},{"$f":"IF(Q31<>0,[1]!SUMSTRING(Q31:R31,\"#\"),\"\")","v":{"$error":"#NAME?"}},{"$f":"[1]!SUMSTRING(S31:U31,\"|\")","v":{"$error":"#NAME?"}},"","","",{"$f":"IF(W31<>0,[1]!SUMSTRING(W31:Y31,\"#\"),\"\")","v":{"$error":"#NAME?"}},null,"火焰抗性",107]
[11,6002,"生命",1617,"攻击",242,null,null,"玄策","魔抗百分比",300,null,1,1617,2,242,"","",{"$f":"[1]!SUMSTRING(M32:N32,\"#\")","v":{"$error":"#NAME?"}},{"$f":"[1]!SUMSTRING(O32:P32,\"#\")","v":{"$error":"#NAME?"}},{"$f":"IF(Q32<>0,[1]!SUMSTRING(Q32:R32,\"#\"),\"\")","v":{"$error":"#NAME?"}},{"$f":"[1]!SUMSTRING(S32:U32,\"|\")","v":{"$error":"#NAME?"}},4,64,300,{"$f":"IF(W32<>0,[1]!SUMSTRING(W32:Y32,\"#\"),\"\")","v":{"$error":"#NAME?"}},null,"狂风抗性",108]
[12,6002,"生命",1764,"攻击",264,{"$nulls":6},1,1764,2,264,"","",{"$f":"[1]!SUMSTRING(M33:N33,\"#\")","v":{"$error":"#NAME?"}},{"$f":"[1]!SUMSTRING(O33:P33,\"#\")","v":{"$error":"#NAME?"}},{"$f":"IF(Q33<>0,[1]!SUMSTRING(Q33:R33,\"#\"),\"\")","v":{"$error":"#NAME?"}},{"$f":"[1]!SUMSTRING(S33:U33,\"|\")","v":{"$error":"#NAME?"}},"","","",{"$f":"IF(W33<>0,[1]!SUMSTRING(W33:Y33,\"#\"),\"\")","v":{"$error":"#NAME?"}},null,"碧水抗性",109]
[13,6002,"生命",1911,"攻击",286,{"$nulls":6},1,1911,2,286,"","",{"$f":"[1]!SUMSTRING(M34:N34,\"#\")","v":{"$error":"#NAME?"}},{"$f":"[1]!SUMSTRING(O34:P34,\"#\")","v":{"$error":"#NAME?"}},{"$f":"IF(Q34<>0,[1]!SUMSTRING(Q34:R34,\"#\"),\"\")","v":{"$error":"#NAME?"}},{"$f":"[1]!SUMSTRING(S34:U34,\"|\")","v":{"$error":"#NAME?"}},"","","",{"$f":"IF(W34<>0,[1]!SUMSTRING(W34:Y34,\"#\"),\"\")","v":{"$error":"#NAME?"}},null,"大地抗性",110]
[14,6002,"生命",2058,"攻击",308,null,null,"天罚","魔抗百分比",300,null,1,2058,2,308,"","",{"$f":"[1]!SUMSTRING(M35:N35,\"#\")","v":{"$error":"#NAME?"}},{"$f":"[1]!SUMSTRING(O35:P35,\"#\")","v":{"$error":"#NAME?"}},{"$f":"IF(Q35<>0,[1]!SUMSTRING(Q35:R35,\"#\"),\"\")","v":{"$error":"#NAME?"}},{"$f":"[1]!SUMSTRING(S35:U35,\"|\")","v":{"$error":"#NAME?"}},2,64,300,{"$f":"IF(W35<>0,[1]!SUMSTRING(W35:Y35,\"#\"),\"\")","v":{"$error":"#NAME?"}},null,"神圣抗性",111]
[15,6002,"生命",2205,"攻击",330,{"$nulls":6},1,2205,2,330,"","",{"$f":"[1]!SUMSTRING(M36:N36,\"#\")","v":{"$error":"#NAME?"}},{"$f":"[1]!SUMSTRING(O36:P36,\"#\")","v":{"$error":"#NAME?"}},{"$f":"IF(Q36<>0,[1]!SUMSTRING(Q36:R36,\"#\"),\"\")","v":{"$error":"#NAME?"}},{"$f":"[1]!SUMSTRING(S36:U36,\"|\")","v":{"$error":"#NAME?"}},"","","",{"$f":"IF(W36<>0,[1]!SUMSTRING(W36:Y36,\"#\"),\"\")","v":{"$error":"#NAME?"}},null,"黑暗抗性",112]
[16,6002,"生命",2352,"攻击",352,{"$nulls":6},1,2352,2,352,"","",{"$f":"[1]!SUMSTRING(M37:N37,\"#\")","v":{"$error":"#NAME?"}},{"$f":"[1]!SUMSTRING(O37:P37,\"#\")","v":{"$error":"#NAME?"}},{"$f":"IF(Q37<>0,[1]!SUMSTRING(Q37:R37,\"#\"),\"\")","v":{"$error":"#NAME?"}},{"$f":"[1]!SUMSTRING(S37:U37,\"|\")","v":{"$error":"#NAME?"}},"","","",{"$f":"IF(W37<>0,[1]!SUMSTRING(W37:Y37,\"#\"),\"\")","v":{"$error":"#NAME?"}}]
[17,6002,"生命",2500,"攻击",375,null,null,"秘法","魔抗百分比",300,null,1,2500,2,375,"","",{"$f":"[1]!SUMSTRING(M38:N38,\"#\")","v":{"$error":"#NAME?"}},{"$f":"[1]!SUMSTRING(O38:P38,\"#\")","v":{"$error":"#NAME?"}},{"$f":"IF(Q38<>0,[1]!SUMSTRING(Q38:R38,\"#\"),\"\")","v":{"$error":"#NAME?"}},{"$f":"[1]!SUMSTRING(S38:U38,\"|\")","v":{"$error":"#NAME?"}},3,64,300,{"$f":"IF(W38<>0,[1]!SUMSTRING(W38:Y38,\"#\"),\"\")","v":{"$error":"#NAME?"}}]
[18,6002,"生命",2647,"攻击",397,{"$nulls":6},1,2647,2,397,"","",{"$f":"[1]!SUMSTRING(M39:N39,\"#\")","v":{"$error":"#NAME?"}},{"$f":"[1]!SUMSTRING(O39:P39,\"#\")","v":{"$error":"#NAME?"}},{"$f":"IF(Q39<>0,[1]!SUMSTRING(Q39:R39,\"#\"),\"\")","v":{"$error":"#NAME?"}},{"$f":"[1]!SUMSTRING(S39:U39,\"|\")","v":{"$error":"#NAME?"}},"","","",{"$f":"IF(W39<>0,[1]!SUMSTRING(W39:Y39,\"#\"),\"\")","v":{"$error":"#NAME?"}}]
[19,6002,"生命",2794,"攻击",419,{"$nulls":6},1,2794,2,419,"","",{"$f":"[1]!SUMSTRING(M40:N40,\"#\")","v":{"$error":"#NAME?"}},{"$f":"[1]!SUMSTRING(O40:P40,\"#\")","v":{"$error":"#NAME?"}},{"$f":"IF(Q40<>0,[1]!SUMSTRING(Q40:R40,\"#\"),\"\")","v":{"$error":"#NAME?"}},{"$f":"[1]!SUMSTRING(S40:U40,\"|\")","v":{"$error":"#NAME?"}},"","","",{"$f":"IF(W40<>0,[1]!SUMSTRING(W40:Y40,\"#\"),\"\")","v":{"$error":"#NAME?"}}]
[20,6002,"生命",2941,"攻击",441,null,null,"天罚","魔抗百分比",300,null,1,2941,2,441,"","",{"$f":"[1]!SUMSTRING(M41:N41,\"#\")","v":{"$error":"#NAME?"}},{"$f":"[1]!SUMSTRING(O41:P41,\"#\")","v":{"$error":"#NAME?"}},{"$f":"IF(Q41<>0,[1]!SUMSTRING(Q41:R41,\"#\"),\"\")","v":{"$error":"#NAME?"}},{"$f":"[1]!SUMSTRING(S41:U41,\"|\")","v":{"$error":"#NAME?"}},2,64,300,{"$f":"IF(W41<>0,[1]!SUMSTRING(W41:Y41,\"#\"),\"\")","v":{"$error":"#NAME?"}}]
[1,6003,"生命",147,"魔抗",22,{"$nulls":6},1,147,4,22,"","",{"$f":"[1]!SUMSTRING(M42:N42,\"#\")","v":{"$error":"#NAME?"}},{"$f":"[1]!SUMSTRING(O42:P42,\"#\")","v":{"$error":"#NAME?"}},{"$f":"IF(Q42<>0,[1]!SUMSTRING(Q42:R42,\"#\"),\"\")","v":{"$error":"#NAME?"}},{"$f":"[1]!SUMSTRING(S42:U42,\"|\")","v":{"$error":"#NAME?"}},"","","",{"$f":"IF(W42<>0,[1]!SUMSTRING(W42:Y42,\"#\"),\"\")","v":{"$error":"#NAME?"}}]
[2,6003,"生命",294,"魔抗",44,null,null,"武卫","生命百分比",300,null,1,294,4,44,"","",{"$f":"[1]!SUMSTRING(M43:N43,\"#\")","v":{"$error":"#NAME?"}},{"$f":"[1]!SUMSTRING(O43:P43,\"#\")","v":{"$error":"#NAME?"}},{"$f":"IF(Q43<>0,[1]!SUMSTRING(Q43:R43,\"#\"),\"\")","v":{"$error":"#NAME?"}},{"$f":"[1]!SUMSTRING(S43:U43,\"|\")","v":{"$error":"#NAME?"}},1,61,300,{"$f":"IF(W43<>0,[1]!SUMSTRING(W43:Y43,\"#\"),\"\")","v":{"$error":"#NAME?"}}]
[3,6003,"生命",441,"魔抗",66,{"$nulls":6},1,441,4,66,"","",{"$f":"[1]!SUMSTRING(M44:N44,\"#\")","v":{"$error":"#NAME?"}},{"$f":"[1]!SUMSTRING(O44:P44,\"#\")","v":{"$error":"#NAME?"}},{"$f":"IF(Q44<>0,[1]!SUMSTRING(Q44:R44,\"#\"),\"\")","v":{"$error":"#NAME?"}},{"$f":"[1]!SUMSTRING(S44:U44,\"|\")","v":{"$error":"#NAME?"}},"","","",{"$f":"IF(W44<>0,[1]!SUMSTRING(W44:Y44,\"#\"),\"\")","v":{"$error":"#NAME?"}}]
[4,6003,"生命",588,"魔抗",88,{"$nulls":6},1,588,4,88,"","",{"$f":"[1]!SUMSTRING(M45:N45,\"#\")","v":{"$error":"#NAME?"}},{"$f":"[1]!SUMSTRING(O45:P45,\"#\")","v":{"$error":"#NAME?"}},{"$f":"IF(Q45<>0,[1]!SUMSTRING(Q45:R45,\"#\"),\"\")","v":{"$error":"#NAME?"}},{"$f":"[1]!SUMSTRING(S45:U45,\"|\")","v":{"$error":"#NAME?"}},"","","",{"$f":"IF(W45<>0,[1]!SUMSTRING(W45:Y45,\"#\"),\"\")","v":{"$error":"#NAME?"}}]
[5,6003,"生命",735,"魔抗",110,null,null,"生花","生命百分比",300,null,1,735,4,110,"","",{"$f":"[1]!SUMSTRING(M46:N46,\"#\")","v":{"$error":"#NAME?"}},{"$f":"[1]!SUMSTRING(O46:P46,\"#\")","v":{"$error":"#NAME?"}},{"$f":"IF(Q46<>0,[1]!SUMSTRING(Q46:R46,\"#\"),\"\")","v":{"$error":"#NAME?"}},{"$f":"[1]!SUMSTRING(S46:U46,\"|\")","v":{"$error":"#NAME?"}},5,61,300,{"$f":"IF(W46<>0,[1]!SUMSTRING(W46:Y46,\"#\"),\"\")","v":{"$error":"#NAME?"}}]
[6,6003,"生命",882,"魔抗",132,{"$nulls":6},1,882,4,132,"","",{"$f":"[1]!SUMSTRING(M47:N47,\"#\")","v":{"$error":"#NAME?"}},{"$f":"[1]!SUMSTRING(O47:P47,\"#\")","v":{"$error":"#NAME?"}},{"$f":"IF(Q47<>0,[1]!SUMSTRING(Q47:R47,\"#\"),\"\")","v":{"$error":"#NAME?"}},{"$f":"[1]!SUMSTRING(S47:U47,\"|\")","v":{"$error":"#NAME?"}},"","","",{"$f":"IF(W47<>0,[1]!SUMSTRING(W47:Y47,\"#\"),\"\")","v":{"$error":"#NAME?"}}]
[7,6003,"生命",1029,"魔抗",154,{"$nulls":6},1,1029,4,154,"","",{"$f":"[1]!SUMSTRING(M48:N48,\"#\")","v":{"$error":"#NAME?"}},{"$f":"[1]!SUMSTRING(O48:P48,\"#\")","v":{"$error":"#NAME?"}},{"$f":"IF(Q48<>0,[1]!SUMSTRING(Q48:R48,\"#\"),\"\")","v":{"$error":"#NAME?"}},{"$f":"[1]!SUMSTRING(S48:U48,\"|\")","v":{"$error":"#NAME?"}},"","","",{"$f":"IF(W48<>0,[1]!SUMSTRING(W48:Y48,\"#\"),\"\")","v":{"$error":"#NAME?"}}]
[8,6003,"生命",1176,"魔抗",176,null,null,"秘法","生命百分比",300,null,1,1176,4,176,"","",{"$f":"[1]!SUMSTRING(M49:N49,\"#\")","v":{"$error":"#NAME?"}},{"$f":"[1]!SUMSTRING(O49:P49,\"#\")","v":{"$error":"#NAME?"}},{"$f":"IF(Q49<>0,[1]!SUMSTRING(Q49:R49,\"#\"),\"\")","v":{"$error":"#NAME?"}},{"$f":"[1]!SUMSTRING(S49:U49,\"|\")","v":{"$error":"#NAME?"}},3,61,300,{"$f":"IF(W49<>0,[1]!SUMSTRING(W49:Y49,\"#\"),\"\")","v":{"$error":"#NAME?"}}]
[9,6003,"生命",1323,"魔抗",198,{"$nulls":6},1,1323,4,198,"","",{"$f":"[1]!SUMSTRING(M50:N50,\"#\")","v":{"$error":"#NAME?"}},{"$f":"[1]!SUMSTRING(O50:P50,\"#\")","v":{"$error":"#NAME?"}},{"$f":"IF(Q50<>0,[1]!SUMSTRING(Q50:R50,\"#\"),\"\")","v":{"$error":"#NAME?"}},{"$f":"[1]!SUMSTRING(S50:U50,\"|\")","v":{"$error":"#NAME?"}},"","","",{"$f":"IF(W50<>0,[1]!SUMSTRING(W50:Y50,\"#\"),\"\")","v":{"$error":"#NAME?"}}]
[10,6003,"生命",1470,"魔抗",220,{"$nulls":6},1,1470,4,220,"","",{"$f":"[1]!SUMSTRING(M51:N51,\"#\")","v":{"$error":"#NAME?"}},{"$f":"[1]!SUMSTRING(O51:P51,\"#\")","v":{"$error":"#NAME?"}},{"$f":"IF(Q51<>0,[1]!SUMSTRING(Q51:R51,\"#\"),\"\")","v":{"$error":"#NAME?"}},{"$f":"[1]!SUMSTRING(S51:U51,\"|\")","v":{"$error":"#NAME?"}},"","","",{"$f":"IF(W51<>0,[1]!SUMSTRING(W51:Y51,\"#\"),\"\")","v":{"$error":"#NAME?"}}]
[11,6003,"生命",1617,"魔抗",242,null,null,"玄策","生命百分比",300,null,1,1617,4,242,"","",{"$f":"[1]!SUMSTRING(M52:N52,\"#\")","v":{"$error":"#NAME?"}},{"$f":"[1]!SUMSTRING(O52:P52,\"#\")","v":{"$error":"#NAME?"}},{"$f":"IF(Q52<>0,[1]!SUMSTRING(Q52:R52,\"#\"),\"\")","v":{"$error":"#NAME?"}},{"$f":"[1]!SUMSTRING(S52:U52,\"|\")","v":{"$error":"#NAME?"}},4,61,300,{"$f":"IF(W52<>0,[1]!SUMSTRING(W52:Y52,\"#\"),\"\")","v":{"$error":"#NAME?"}}]
[12,6003,"生命",1764,"魔抗",264,{"$nulls":6},1,1764,4,264,"","",{"$f":"[1]!SUMSTRING(M53:N53,\"#\")","v":{"$error":"#NAME?"}},{"$f":"[1]!SUMSTRING(O53:P53,\"#\")","v":{"$error":"#NAME?"}},{"$f":"IF(Q53<>0,[1]!SUMSTRING(Q53:R53,\"#\"),\"\")","v":{"$error":"#NAME?"}},{"$f":"[1]!SUMSTRING(S53:U53,\"|\")","v":{"$error":"#NAME?"}},"","","",{"$f":"IF(W53<>0,[1]!SUMSTRING(W53:Y53,\"#\"),\"\")","v":{"$error":"#NAME?"}}]
[13,6003,"生命",1911,"魔抗",286,{"$nulls":6},1,1911,4,286,"","",{"$f":"[1]!SUMSTRING(M54:N54,\"#\")","v":{"$error":"#NAME?"}},{"$f":"[1]!SUMSTRING(O54:P54,\"#\")","v":{"$error":"#NAME?"}},{"$f":"IF(Q54<>0,[1]!SUMSTRING(Q54:R54,\"#\"),\"\")","v":{"$error":"#NAME?"}},{"$f":"[1]!SUMSTRING(S54:U54,\"|\")","v":{"$error":"#NAME?"}},"","","",{"$f":"IF(W54<>0,[1]!SUMSTRING(W54:Y54,\"#\"),\"\")","v":{"$error":"#NAME?"}}]
[14,6003,"生命",2058,"魔抗",308,null,null,"天罚","生命百分比",300,null,1,2058,4,308,"","",{"$f":"[1]!SUMSTRING(M55:N55,\"#\")","v":{"$error":"#NAME?"}},{"$f":"[1]!SUMSTRING(O55:P55,\"#\")","v":{"$error":"#NAME?"}},{"$f":"IF(Q55<>0,[1]!SUMSTRING(Q55:R55,\"#\"),\"\")","v":{"$error":"#NAME?"}},{"$f":"[1]!SUMSTRING(S55:U55,\"|\")","v":{"$error":"#NAME?"}},2,61,300,{"$f":"IF(W55<>0,[1]!SUMSTRING(W55:Y55,\"#\"),\"\")","v":{"$error":"#NAME?"}}]
[15,6003,"生命",2205,"魔抗",330,{"$nulls":6},1,2205,4,330,"","",{"$f":"[1]!SUMSTRING(M56:N56,\"#\")","v":{"$error":"#NAME?"}},{"$f":"[1]!SUMSTRING(O56:P56,\"#\")","v":{"$error":"#NAME?"}},{"$f":"IF(Q56<>0,[1]!SUMSTRING(Q56:R56,\"#\"),\"\")","v":{"$error":"#NAME?"}},{"$f":"[1]!SUMSTRING(S56:U56,\"|\")","v":{"$error":"#NAME?"}},"","","",{"$f":"IF(W56<>0,[1]!SUMSTRING(W56:Y56,\"#\"),\"\")","v":{"$error":"#NAME?"}}]
[16,6003,"生命",2352,"魔抗",352,{"$nulls":6},1,2352,4,352,"","",{"$f":"[1]!SUMSTRING(M57:N57,\"#\")","v":{"$error":"#NAME?"}},{"$f":"[1]!SUMSTRING(O57:P57,\"#\")","v":{"$error":"#NAME?"}},{"$f":"IF(Q57<>0,[1]!SUMSTRING(Q57:R57,\"#\"),\"\")","v":{"$error":"#NAME?"}},{"$f":"[1]!SUMSTRING(S57:U57,\"|\")","v":{"$error":"#NAME?"}},"","","",{"$f":"IF(W57<>0,[1]!SUMSTRING(W57:Y57,\"#\"),\"\")","v":{"$error":"#NAME?"}}]
[17,6003,"生命",2500,"魔抗",375,null,null,"秘法","生命百分比",300,null,1,2500,4,375,"","",{"$f":"[1]!SUMSTRING(M58:N58,\"#\")","v":{"$error":"#NAME?"}},{"$f":"[1]!SUMSTRING(O58:P58,\"#\")","v":{"$error":"#NAME?"}},{"$f":"IF(Q58<>0,[1]!SUMSTRING(Q58:R58,\"#\"),\"\")","v":{"$error":"#NAME?"}},{"$f":"[1]!SUMSTRING(S58:U58,\"|\")","v":{"$error":"#NAME?"}},3,61,300,{"$f":"IF(W58<>0,[1]!SUMSTRING(W58:Y58,\"#\"),\"\")","v":{"$error":"#NAME?"}}]
[18,6003,"生命",2647,"魔抗",397,{"$nulls":6},1,2647,4,397,"","",{"$f":"[1]!SUMSTRING(M59:N59,\"#\")","v":{"$error":"#NAME?"}},{"$f":"[1]!SUMSTRING(O59:P59,\"#\")","v":{"$error":"#NAME?"}},{"$f":"IF(Q59<>0,[1]!SUMSTRING(Q59:R59,\"#\"),\"\")","v":{"$error":"#NAME?"}},{"$f":"[1]!SUMSTRING(S59:U59,\"|\")","v":{"$error":"#NAME?"}},"","","",{"$f":"IF(W59<>0,[1]!SUMSTRING(W59:Y59,\"#\"),\"\")","v":{"$error":"#NAME?"}}]
[19,6003,"生命",2794,"魔抗",419,{"$nulls":6},1,2794,4,419,"","",{"$f":"[1]!SUMSTRING(M60:N60,\"#\")","v":{"$error":"#NAME?"}},{"$f":"[1]!SUMSTRING(O60:P60,\"#\")","v":{"$error":"#NAME?"}},{"$f":"IF(Q60<>0,[1]!SUMSTRING(Q60:R60,\"#\"),\"\")","v":{"$error":"#NAME?"}},{"$f":"[1]!SUMSTRING(S60:U60,\"|\")","v":{"$error":"#NAME?"}},"","","",{"$f":"IF(W60<>0,[1]!SUMSTRING(W60:Y60,\"#\"),\"\")","v":{"$error":"#NAME?"}}]
[20,6003,"生命",2941,"魔抗",441,null,null,"天罚","生命百分比",300,null,1,2941,4,441,"","",{"$f":"[1]!SUMSTRING(M61:N61,\"#\")","v":{"$error":"#NAME?"}},{"$f":"[1]!SUMSTRING(O61:P61,\"#\")","v":{"$error":"#NAME?"}},{"$f":"IF(Q61<>0,[1]!SUMSTRING(Q61:R61,\"#\"),\"\")","v":{"$error":"#NAME?"}},{"$f":"[1]!SUMSTRING(S61:U61,\"|\")","v":{"$error":"#NAME?"}},2,61,300,{"$f":"IF(W61<>0,[1]!SUMSTRING(W61:Y61,\"#\"),\"\")","v":{"$error":"#NAME?"}}]
[1,6004,"生命",147,"护甲",22,{"$nulls":6},1,147,3,22,"","",{"$f":"[1]!SUMSTRING(M62:N62,\"#\")","v":{"$error":"#NAME?"}},{"$f":"[1]!SUMSTRING(O62:P62,\"#\")","v":{"$error":"#NAME?"}},{"$f":"IF(Q62<>0,[1]!SUMSTRING(Q62:R62,\"#\"),\"\")","v":{"$error":"#NAME?"}},{"$f":"[1]!SUMSTRING(S62:U62,\"|\")","v":{"$error":"#NAME?"}},"","","",{"$f":"IF(W62<>0,[1]!SUMSTRING(W62:Y62,\"#\"),\"\")","v":{"$error":"#NAME?"}}]
[2,6004,"生命",294,"护甲",44,null,null,"武卫","护甲百分比",300,null,1,294,3,44,"","",{"$f":"[1]!SUMSTRING(M63:N63,\"#\")","v":{"$error":"#NAME?"}},{"$f":"[1]!SUMSTRING(O63:P63,\"#\")","v":{"$error":"#NAME?"}},{"$f":"IF(Q63<>0,[1]!SUMSTRING(Q63:R63,\"#\"),\"\")","v":{"$error":"#NAME?"}},{"$f":"[1]!SUMSTRING(S63:U63,\"|\")","v":{"$error":"#NAME?"}},1,63,300,{"$f":"IF(W63<>0,[1]!SUMSTRING(W63:Y63,\"#\"),\"\")","v":{"$error":"#NAME?"}}]
[3,6004,"生命",441,"护甲",66,{"$nulls":6},1,441,3,66,"","",{"$f":"[1]!SUMSTRING(M64:N64,\"#\")","v":{"$error":"#NAME?"}},{"$f":"[1]!SUMSTRING(O64:P64,\"#\")","v":{"$error":"#NAME?"}},{"$f":"IF(Q64<>0,[1]!SUMSTRING(Q64:R64,\"#\"),\"\")","v":{"$error":"#NAME?"}},{"$f":"[1]!SUMSTRING(S64:U64,\"|\")","v":{"$error":"#NAME?"}},"","","",{"$f":"IF(W64<>0,[1]!SUMSTRING(W64:Y64,\"#\"),\"\")","v":{"$error":"#NAME?"}}]
[4,6004,"生命",588,"护甲",88,{"$nulls":6},1,588,3,88,"","",{"$f":"[1]!SUMSTRING(M65:N65,\"#\")","v":{"$error":"#NAME?"}},{"$f":"[1]!SUMSTRING(O65:P65,\"#\")","v":{"$error":"#NAME?"}},{"$f":"IF(Q65<>0,[1]!SUMSTRING(Q65:R65,\"#\"),\"\")","v":{"$error":"#NAME?"}},{"$f":"[1]!SUMSTRING(S65:U65,\"|\")","v":{"$error":"#NAME?"}},"","","",{"$f":"IF(W65<>0,[1]!SUMSTRING(W65:Y65,\"#\"),\"\")","v":{"$error":"#NAME?"}}]
[5,6004,"生命",735,"护甲",110,null,null,"生花","护甲百分比",300,null,1,735,3,110,"","",{"$f":"[1]!SUMSTRING(M66:N66,\"#\")","v":{"$error":"#NAME?"}},{"$f":"[1]!SUMSTRING(O66:P66,\"#\")","v":{"$error":"#NAME?"}},{"$f":"IF(Q66<>0,[1]!SUMSTRING(Q66:R66,\"#\"),\"\")","v":{"$error":"#NAME?"}},{"$f":"[1]!SUMSTRING(S66:U66,\"|\")","v":{"$error":"#NAME?"}},5,63,300,{"$f":"IF(W66<>0,[1]!SUMSTRING(W66:Y66,\"#\"),\"\")","v":{"$error":"#NAME?"}}]
[6,6004,"生命",882,"护甲",132,{"$nulls":6},{"$f":"VLOOKUP(C67,$AB:$AC,2,0)","v":1},{"$f":"D67","v":882},{"$f":"VLOOKUP(E67,$AB:$AC,2,0)","v":3},{"$f":"F67","v":132},{"$f":"IF(G67<>0,VLOOKUP(G67,$AB:$AC,2,0),\"\")","v":""},{"$f":"IF(H67<>0,H67,\"\")","v":""},{"$f":"[1]!SUMSTRING(M67:N67,\"#\")","v":{"$error":"#NAME?"}},{"$f":"[1]!SUMSTRING(O67:P67,\"#\")","v":{"$error":"#NAME?"}},{"$f":"IF(Q67<>0,[1]!SUMSTRING(Q67:R67,\"#\"),\"\")","v":{"$error":"#NAME?"}},{"$f":"[1]!SUMSTRING(S67:U67,\"|\")","v":{"$error":"#NAME?"}},"",{"$f":"IF(J67<>0,VLOOKUP(J67,$AB:$AC,2,0),\"\")","v":""},{"$f":"IF(K67<>0,K67,\"\")","v":""},{"$f":"IF(W67<>0,[1]!SUMSTRING(W67:Y67,\"#\"),\"\")","v":{"$error":"#NAME?"}}]
[7,6004,"生命",1029,"护甲",154,{"$nulls":6},1,1029,3,154,"","",{"$f":"[1]!SUMSTRING(M68:N68,\"#\")","v":{"$error":"#NAME?"}},{"$f":"[1]!SUMSTRING(O68:P68,\"#\")","v":{"$error":"#NAME?"}},{"$f":"IF(Q68<>0,[1]!SUMSTRING(Q68:R68,\"#\"),\"\")","v":{"$error":"#NAME?"}},{"$f":"[1]!SUMSTRING(S68:U68,\"|\")","v":{"$error":"#NAME?"}},{"$f":"IF(I68<>0,VLOOKUP(I68,$AG$3:$AH$7,2,0),\"\")","v":""},"","",{"$f":"IF(W68<>0,[1]!SUMSTRING(W68:Y68,\"#\"),\"\")","v":{"$error":"#NAME?"}}]
[8,6004,"生命",1176,"护甲",176,null,null,"秘法","护甲百分比",300,null,1,1176,3,176,"","",{"$f":"[1]!SUMSTRING(M69:N69,\"#\")","v":{"$error":"#NAME?"}},{"$f":"[1]!SUMSTRING(O69:P69,\"#\")","v":{"$error":"#NAME?"}},{"$f":"IF(Q69<>0,[1]!SUMSTRING(Q69:R69,\"#\"),\"\")","v":{"$error":"#NAME?"}},{"$f":"[1]!SUMSTRING(S69:U69,\"|\")","v":{"$error":"#NAME?"}},3,63,300,{"$f":"IF(W69<>0,[1]!SUMSTRING(W69:Y69,\"#\"),\"\")","v":{"$error":"#NAME?"}}]
[9,6004,"生命",1323,"护甲",198,{"$nulls":6},1,1323,3,198,"","",{"$f":"[1]!SUMSTRING(M70:N70,\"#\")","v":{"$error":"#NAME?"}},{"$f":"[1]!SUMSTRING(O70:P70,\"#\")","v":{"$error":"#NAME?"}},{"$f":"IF(Q70<>0,[1]!SUMSTRING(Q70:R70,\"#\"),\"\")","v":{"$error":"#NAME?"}},{"$f":"[1]!SUMSTRING(S70:U70,\"|\")","v":{"$error":"#NAME?"}},"","","",{"$f":"IF(W70<>0,[1]!SUMSTRING(W70:Y70,\"#\"),\"\")","v":{"$error":"#NAME?"}}]
[10,6004,"生命",1470,"护甲",220,{"$nulls":6},1,1470,3,220,"","",{"$f":"[1]!SUMSTRING(M71:N71,\"#\")","v":{"$error":"#NAME?"}},{"$f":"[1]!SUMSTRING(O71:P71,\"#\")","v":{"$error":"#NAME?"}},{"$f":"IF(Q71<>0,[1]!SUMSTRING(Q71:R71,\"#\"),\"\")","v":{"$error":"#NAME?"}},{"$f":"[1]!SUMSTRING(S71:U71,\"|\")","v":{"$error":"#NAME?"}},"","","",{"$f":"IF(W71<>0,[1]!SUMSTRING(W71:Y71,\"#\"),\"\")","v":{"$error":"#NAME?"}}]
[11,6004,"生命",1617,"护甲",242,null,null,"玄策","护甲百分比",300,null,1,1617,3,242,"","",{"$f":"[1]!SUMSTRING(M72:N72,\"#\")","v":{"$error":"#NAME?"}},{"$f":"[1]!SUMSTRING(O72:P72,\"#\")","v":{"$error":"#NAME?"}},{"$f":"IF(Q72<>0,[1]!SUMSTRING(Q72:R72,\"#\"),\"\")","v":{"$error":"#NAME?"}},{"$f":"[1]!SUMSTRING(S72:U72,\"|\")","v":{"$error":"#NAME?"}},4,63,300,{"$f":"IF(W72<>0,[1]!SUMSTRING(W72:Y72,\"#\"),\"\")","v":{"$error":"#NAME?"}}]
[12,6004,"生命",1764,"护甲",264,{"$nulls":6},1,1764,3,264,"","",{"$f":"[1]!SUMSTRING(M73:N73,\"#\")","v":{"$error":"#NAME?"}},{"$f":"[1]!SUMSTRING(O73:P73,\"#\")","v":{"$error":"#NAME?"}},{"$f":"IF(Q73<>0,[1]!SUMSTRING(Q73:R73,\"#\"),\"\")","v":{"$error":"#NAME?"}},{"$f":"[1]!SUMSTRING(S73:U73,\"|\")","v":{"$error":"#NAME?"}},"","","",{"$f":"IF(W73<>0,[1]!SUMSTRING(W73:Y73,\"#\"),\"\")","v":{"$error":"#NAME?"}}]
[13,6004,"生命",1911,"护甲",286,{"$nulls":6},1,1911,3,286,"","",{"$f":"[1]!SUMSTRING(M74:N74,\"#\")","v":{"$error":"#NAME?"}},{"$f":"[1]!SUMSTRING(O74:P74,\"#\")","v":{"$error":"#NAME?"}},{"$f":"IF(Q74<>0,[1]!SUMSTRING(Q74:R74,\"#\"),\"\")","v":{"$error":"#NAME?"}},{"$f":"[1]!SUMSTRING(S74:U74,\"|\")","v":{"$error":"#NAME?"}},"","","",{"$f":"IF(W74<>0,[1]!SUMSTRING(W74:Y74,\"#\"),\"\")","v":{"$error":"#NAME?"}}]
[14,6004,"生命",2058,"护甲",308,null,null,"天罚","护甲百分比",300,null,1,2058,3,308,"","",{"$f":"[1]!SUMSTRING(M75:N75,\"#\")","v":{"$error":"#NAME?"}},{"$f":"[1]!SUMSTRING(O75:P75,\"#\")","v":{"$error":"#NAME?"}},{"$f":"IF(Q75<>0,[1]!SUMSTRING(Q75:R75,\"#\"),\"\")","v":{"$error":"#NAME?"}},{"$f":"[1]!SUMSTRING(S75:U75,\"|\")","v":{"$error":"#NAME?"}},2,63,300,{"$f":"IF(W75<>0,[1]!SUMSTRING(W75:Y75,\"#\"),\"\")","v":{"$error":"#NAME?"}}]
[15,6004,"生命",2205,"护甲",330,{"$nulls":6},1,2205,3,330,"","",{"$f":"[1]!SUMSTRING(M76:N76,\"#\")","v":{"$error":"#NAME?"}},{"$f":"[1]!SUMSTRING(O76:P76,\"#\")","v":{"$error":"#NAME?"}},{"$f":"IF(Q76<>0,[1]!SUMSTRING(Q76:R76,\"#\"),\"\")","v":{"$error":"#NAME?"}},{"$f":"[1]!SUMSTRING(S76:U76,\"|\")","v":{"$error":"#NAME?"}},"","","",{"$f":"IF(W76<>0,[1]!SUMSTRING(W76:Y76,\"#\"),\"\")","v":{"$error":"#NAME?"}}]
[16,6004,"生命",2352,"护甲",352,{"$nulls":6},1,2352,3,352,"","",{"$f":"[1]!SUMSTRING(M77:N77,\"#\")","v":{"$error":"#NAME?"}},{"$f":"[1]!SUMSTRING(O77:P77,\"#\")","v":{"$error":"#NAME?"}},{"$f":"IF(Q77<>0,[1]!SUMSTRING(Q77:R77,\"#\"),\"\")","v":{"$error":"#NAME?"}},{"$f":"[1]!SUMSTRING(S77:U77,\"|\")","v":{"$error":"#NAME?"}},"","","",{"$f":"IF(W77<>0,[1]!SUMSTRING(W77:Y77,\"#\"),\"\")","v":{"$error":"#NAME?"}}]
[17,6004,"生命",2500,"护甲",375,null,null,"秘法","护甲百分比",300,null,1,2500,3,375,"","",{"$f":"[1]!SUMSTRING(M78:N78,\"#\")","v":{"$error":"#NAME?"}},{"$f":"[1]!SUMSTRING(O78:P78,\"#\")","v":{"$error":"#NAME?"}},{"$f":"IF(Q78<>0,[1]!SUMSTRING(Q78:R78,\"#\"),\"\")","v":{"$error":"#NAME?"}},{"$f":"[1]!SUMSTRING(S78:U78,\"|\")","v":{"$error":"#NAME?"}},3,63,300,{"$f":"IF(W78<>0,[1]!SUMSTRING(W78:Y78,\"#\"),\"\")","v":{"$error":"#NAME?"}}]
[18,6004,"生命",2647,"护甲",397,{"$nulls":6},1,2647,3,397,"","",{"$f":"[1]!SUMSTRING(M79:N79,\"#\")","v":{"$error":"#NAME?"}},{"$f":"[1]!SUMSTRING(O79:P79,\"#\")","v":{"$error":"#NAME?"}},{"$f":"IF(Q79<>0,[1]!SUMSTRING(Q79:R79,\"#\"),\"\")","v":{"$error":"#NAME?"}},{"$f":"[1]!SUMSTRING(S79:U79,\"|\")","v":{"$error":"#NAME?"}},"","","",{"$f":"IF(W79<>0,[1]!SUMSTRING(W79:Y79,\"#\"),\"\")","v":{"$error":"#NAME?"}}]
[19,6004,"生命",2794,"护甲",419,{"$nulls":6},1,2794,3,419,"","",{"$f":"[1]!SUMSTRING(M80:N80,\"#\")","v":{"$error":"#NAME?"}},{"$f":"[1]!SUMSTRING(O80:P80,\"#\")","v":{"$error":"#NAME?"}},{"$f":"IF(Q80<>0,[1]!SUMSTRING(Q80:R80,\"#\"),\"\")","v":{"$error":"#NAME?"}},{"$f":"[1]!SUMSTRING(S80:U80,\"|\")","v":{"$error":"#NAME?"}},"","","",{"$f":"IF(W80<>0,[1]!SUMSTRING(W80:Y80,\"#\"),\"\")","v":{"$error":"#NAME?"}}]
[20,6004,"生命",2941,"护甲",441,null,null,"天罚","护甲百分比",300,null,1,2941,3,441,"","",{"$f":"[1]!SUMSTRING(M81:N81,\"#\")","v":{"$error":"#NAME?"}},{"$f":"[1]!SUMSTRING(O81:P81,\"#\")","v":{"$error":"#NAME?"}},{"$f":"IF(Q81<>0,[1]!SUMSTRING(Q81:R81,\"#\"),\"\")","v":{"$error":"#NAME?"}},{"$f":"[1]!SUMSTRING(S81:U81,\"|\")","v":{"$error":"#NAME?"}},2,63,300,{"$f":"IF(W81<>0,[1]!SUMSTRING(W81:Y81,\"#\"),\"\")","v":{"$error":"#NAME?"}}]
[1,6005,"生命",147,"攻击",22,{"$nulls":6},1,147,2,22,"","",{"$f":"[1]!SUMSTRING(M82:N82,\"#\")","v":{"$error":"#NAME?"}},{"$f":"[1]!SUMSTRING(O82:P82,\"#\")","v":{"$error":"#NAME?"}},{"$f":"IF(Q82<>0,[1]!SUMSTRING(Q82:R82,\"#\"),\"\")","v":{"$error":"#NAME?"}},{"$f":"[1]!SUMSTRING(S82:U82,\"|\")","v":{"$error":"#NAME?"}},"","","",{"$f":"IF(W82<>0,[1]!SUMSTRING(W82:Y82,\"#\"),\"\")","v":{"$error":"#NAME?"}}]
[2,6005,"生命",294,"攻击",44,null,null,"武卫","魔抗百分比",300,null,1,294,2,44,"","",{"$f":"[1]!SUMSTRING(M83:N83,\"#\")","v":{"$error":"#NAME?"}},{"$f":"[1]!SUMSTRING(O83:P83,\"#\")","v":{"$error":"#NAME?"}},{"$f":"IF(Q83<>0,[1]!SUMSTRING(Q83:R83,\"#\"),\"\")","v":{"$error":"#NAME?"}},{"$f":"[1]!SUMSTRING(S83:U83,\"|\")","v":{"$error":"#NAME?"}},1,64,300,{"$f":"IF(W83<>0,[1]!SUMSTRING(W83:Y83,\"#\"),\"\")","v":{"$error":"#NAME?"}}]
[3,6005,"生命",441,"攻击",66,{"$nulls":6},1,441,2,66,"","",{"$f":"[1]!SUMSTRING(M84:N84,\"#\")","v":{"$error":"#NAME?"}},{"$f":"[1]!SUMSTRING(O84:P84,\"#\")","v":{"$error":"#NAME?"}},{"$f":"IF(Q84<>0,[1]!SUMSTRING(Q84:R84,\"#\"),\"\")","v":{"$error":"#NAME?"}},{"$f":"[1]!SUMSTRING(S84:U84,\"|\")","v":{"$error":"#NAME?"}},"","","",{"$f":"IF(W84<>0,[1]!SUMSTRING(W84:Y84,\"#\"),\"\")","v":{"$error":"#NAME?"}}]
[4,6005,"生命",588,"攻击",88,{"$nulls":6},1,588,2,88,"","",{"$f":"[1]!SUMSTRING(M85:N85,\"#\")","v":{"$error":"#NAME?"}},{"$f":"[1]!SUMSTRING(O85:P85,\"#\")","v":{"$error":"#NAME?"}},{"$f":"IF(Q85<>0,[1]!SUMSTRING(Q85:R85,\"#\"),\"\")","v":{"$error":"#NAME?"}},{"$f":"[1]!SUMSTRING(S85:U85,\"|\")","v":{"$error":"#NAME?"}},"","","",{"$f":"IF(W85<>0,[1]!SUMSTRING(W85:Y85,\"#\"),\"\")","v":{"$error":"#NAME?"}}]
[5,6005,"生命",735,"攻击",110,null,null,"生花","魔抗百分比",300,null,1,735,2,110,"","",{"$f":"[1]!SUMSTRING(M86:N86,\"#\")","v":{"$error":"#NAME?"}},{"$f":"[1]!SUMSTRING(O86:P86,\"#\")","v":{"$error":"#NAME?"}},{"$f":"IF(Q86<>0,[1]!SUMSTRING(Q86:R86,\"#\"),\"\")","v":{"$error":"#NAME?"}},{"$f":"[1]!SUMSTRING(S86:U86,\"|\")","v":{"$error":"#NAME?"}},5,64,300,{"$f":"IF(W86<>0,[1]!SUMSTRING(W86:Y86,\"#\"),\"\")","v":{"$error":"#NAME?"}}]
[{"$f":"A67","v":6},{"$f":"B67+1","v":6005},"生命",882,"攻击",132,{"$nulls":6},1,882,2,132,"","",{"$f":"[1]!SUMSTRING(M87:N87,\"#\")","v":{"$error":"#NAME?"}},{"$f":"[1]!SUMSTRING(O87:P87,\"#\")","v":{"$error":"#NAME?"}},{"$f":"IF(Q87<>0,[1]!SUMSTRING(Q87:R87,\"#\"),\"\")","v":{"$error":"#NAME?"}},{"$f":"[1]!SUMSTRING(S87:U87,\"|\")","v":{"$error":"#NAME?"}},"","","",{"$f":"IF(W87<>0,[1]!SUMSTRING(W87:Y87,\"#\"),\"\")","v":{"$error":"#NAME?"}}]
[7,6005,"生命",1029,"攻击",154,{"$nulls":6},1,1029,2,154,"","",{"$f":"[1]!SUMSTRING(M88:N88,\"#\")","v":{"$error":"#NAME?"}},{"$f":"[1]!SUMSTRING(O88:P88,\"#\")","v":{"$error":"#NAME?"}},{"$f":"IF(Q88<>0,[1]!SUMSTRING(Q88:R88,\"#\"),\"\")","v":{"$error":"#NAME?"}},{"$f":"[1]!SUMSTRING(S88:U88,\"|\")","v":{"$error":"#NAME?"}},"","","",{"$f":"IF(W88<>0,[1]!SUMSTRING(W88:Y88,\"#\"),\"\")","v":{"$error":"#NAME?"}}]
[8,6005,"生命",1176,"攻击",176,null,null,"秘法","魔抗百分比",300,null,1,1176,2,176,"","",{"$f":"[1]!SUMSTRING(M89:N89,\"#\")","v":{"$error":"#NAME?"}},{"$f":"[1]!SUMSTRING(O89:P89,\"#\")","v":{"$error":"#NAME?"}},{"$f":"IF(Q89<>0,[1]!SUMSTRING(Q89:R89,\"#\"),\"\")","v":{"$error":"#NAME?"}},{"$f":"[1]!SUMSTRING(S89:U89,\"|\")","v":{"$error":"#NAME?"}},3,64,300,{"$f":"IF(W89<>0,[1]!SUMSTRING(W89:Y89,\"#\"),\"\")","v":{"$error":"#NAME?"}}]
[9,6005,"生命",1323,"攻击",198,{"$nulls":6},1,1323,2,198,"","",{"$f":"[1]!SUMSTRING(M90:N90,\"#\")","v":{"$error":"#NAME?"}},{"$f":"[1]!SUMSTRING(O90:P90,\"#\")","v":{"$error":"#NAME?"}},{"$f":"IF(Q90<>0,[1]!SUMSTRING(Q90:R90,\"#\"),\"\")","v":{"$error":"#NAME?"}},{"$f":"[1]!SUMSTRING(S90:U90,\"|\")","v":{"$error":"#NAME?"}},"","","",{"$f":"IF(W90<>0,[1]!SUMSTRING(W90:Y90,\"#\"),\"\")","v":{"$error":"#NAME?"}}]
[10,6005,"生命",1470,"攻击",220,{"$nulls":6},1,1470,2,220,"","",{"$f":"[1]!SUMSTRING(M91:N91,\"#\")","v":{"$error":"#NAME?"}},{"$f":"[1]!SUMSTRING(O91:P91,\"#\")","v":{"$error":"#NAME?"}},{"$f":"IF(Q91<>0,[1]!SUMSTRING(Q91:R91,\"#\"),\"\")","v":{"$error":"#NAME?"}},{"$f":"[1]!SUMSTRING(S91:U91,\"|\")","v":{"$error":"#NAME?"}},"","","",{"$f":"IF(W91<>0,[1]!SUMSTRING(W91:Y91,\"#\"),\"\")","v":{"$error":"#NAME?"}}]
[11,6005,"生命",1617,"攻击",242,null,null,"玄策","魔抗百分比",300,null,1,1617,2,242,"","",{"$f":"[1]!SUMSTRING(M92:N92,\"#\")","v":{"$error":"#NAME?"}},{"$f":"[1]!SUMSTRING(O92:P92,\"#\")","v":{"$error":"#NAME?"}},{"$f":"IF(Q92<>0,[1]!SUMSTRING(Q92:R92,\"#\"),\"\")","v":{"$error":"#NAME?"}},{"$f":"[1]!SUMSTRING(S92:U92,\"|\")","v":{"$error":"#NAME?"}},4,64,300,{"$f":"IF(W92<>0,[1]!SUMSTRING(W92:Y92,\"#\"),\"\")","v":{"$error":"#NAME?"}}]
[12,6005,"生命",1764,"攻击",264,{"$nulls":6},1,1764,2,264,"","",{"$f":"[1]!SUMSTRING(M93:N93,\"#\")","v":{"$error":"#NAME?"}},{"$f":"[1]!SUMSTRING(O93:P93,\"#\")","v":{"$error":"#NAME?"}},{"$f":"IF(Q93<>0,[1]!SUMSTRING(Q93:R93,\"#\"),\"\")","v":{"$error":"#NAME?"}},{"$f":"[1]!SUMSTRING(S93:U93,\"|\")","v":{"$error":"#NAME?"}},"","","",{"$f":"IF(W93<>0,[1]!SUMSTRING(W93:Y93,\"#\"),\"\")","v":{"$error":"#NAME?"}}]
[13,6005,"生命",1911,"攻击",286,{"$nulls":6},1,1911,2,286,"","",{"$f":"[1]!SUMSTRING(M94:N94,\"#\")","v":{"$error":"#NAME?"}},{"$f":"[1]!SUMSTRING(O94:P94,\"#\")","v":{"$error":"#NAME?"}},{"$f":"IF(Q94<>0,[1]!SUMSTRING(Q94:R94,\"#\"),\"\")","v":{"$error":"#NAME?"}},{"$f":"[1]!SUMSTRING(S94:U94,\"|\")","v":{"$error":"#NAME?"}},"","","",{"$f":"IF(W94<>0,[1]!SUMSTRING(W94:Y94,\"#\"),\"\")","v":{"$error":"#NAME?"}}]
[14,6005,"生命",2058,"攻击",308,null,null,"天罚","魔抗百分比",300,null,1,2058,2,308,"","",{"$f":"[1]!SUMSTRING(M95:N95,\"#\")","v":{"$error":"#NAME?"}},{"$f":"[1]!SUMSTRING(O95:P95,\"#\")","v":{"$error":"#NAME?"}},{"$f":"IF(Q95<>0,[1]!SUMSTRING(Q95:R95,\"#\"),\"\")","v":{"$error":"#NAME?"}},{"$f":"[1]!SUMSTRING(S95:U95,\"|\")","v":{"$error":"#NAME?"}},2,64,300,{"$f":"IF(W95<>0,[1]!SUMSTRING(W95:Y95,\"#\"),\"\")","v":{"$error":"#NAME?"}}]
[15,6005,"生命",2205,"攻击",330,{"$nulls":6},1,2205,2,330,"","",{"$f":"[1]!SUMSTRING(M96:N96,\"#\")","v":{"$error":"#NAME?"}},{"$f":"[1]!SUMSTRING(O96:P96,\"#\")","v":{"$error":"#NAME?"}},{"$f":"IF(Q96<>0,[1]!SUMSTRING(Q96:R96,\"#\"),\"\")","v":{"$error":"#NAME?"}},{"$f":"[1]!SUMSTRING(S96:U96,\"|\")","v":{"$error":"#NAME?"}},"","","",{"$f":"IF(W96<>0,[1]!SUMSTRING(W96:Y96,\"#\"),\"\")","v":{"$error":"#NAME?"}}]
[16,6005,"生命",2352,"攻击",352,{"$nulls":6},1,2352,2,352,"","",{"$f":"[1]!SUMSTRING(M97:N97,\"#\")","v":{"$error":"#NAME?"}},{"$f":"[1]!SUMSTRING(O97:P97,\"#\")","v":{"$error":"#NAME?"}},{"$f":"IF(Q97<>0,[1]!SUMSTRING(Q97:R97,\"#\"),\"\")","v":{"$error":"#NAME?"}},{"$f":"[1]!SUMSTRING(S97:U97,\"|\")","v":{"$error":"#NAME?"}},"","","",{"$f":"IF(W97<>0,[1]!SUMSTRING(W97:Y97,\"#\"),\"\")","v":{"$error":"#NAME?"}}]
[17,6005,"生命",2500,"攻击",375,null,null,"秘法","魔抗百分比",300,null,1,2500,2,375,"","",{"$f":"[1]!SUMSTRING(M98:N98,\"#\")","v":{"$error":"#NAME?"}},{"$f":"[1]!SUMSTRING(O98:P98,\"#\")","v":{"$error":"#NAME?"}},{"$f":"IF(Q98<>0,[1]!SUMSTRING(Q98:R98,\"#\"),\"\")","v":{"$error":"#NAME?"}},{"$f":"[1]!SUMSTRING(S98:U98,\"|\")","v":{"$error":"#NAME?"}},3,64,300,{"$f":"IF(W98<>0,[1]!SUMSTRING(W98:Y98,\"#\"),\"\")","v":{"$error":"#NAME?"}}]
[18,6005,"生命",2647,"攻击",397,{"$nulls":6},1,2647,2,397,"","",{"$f":"[1]!SUMSTRING(M99:N99,\"#\")","v":{"$error":"#NAME?"}},{"$f":"[1]!SUMSTRING(O99:P99,\"#\")","v":{"$error":"#NAME?"}},{"$f":"IF(Q99<>0,[1]!SUMSTRING(Q99:R99,\"#\"),\"\")","v":{"$error":"#NAME?"}},{"$f":"[1]!SUMSTRING(S99:U99,\"|\")","v":{"$error":"#NAME?"}},"","","",{"$f":"IF(W99<>0,[1]!SUMSTRING(W99:Y99,\"#\"),\"\")","v":{"$error":"#NAME?"}}]
[19,6005,"生命",2794,"攻击",419,{"$nulls":6},1,2794,2,419,"","",{"$f":"[1]!SUMSTRING(M100:N100,\"#\")","v":{"$error":"#NAME?"}},{"$f":"[1]!SUMSTRING(O100:P100,\"#\")","v":{"$error":"#NAME?"}},{"$f":"IF(Q100<>0,[1]!SUMSTRING(Q100:R100,\"#\"),\"\")","v":{"$error":"#NAME?"}},{"$f":"[1]!SUMSTRING(S100:U100,\"|\")","v":{"$error":"#NAME?"}},"","","",{"$f":"IF(W100<>0,[1]!SUMSTRING(W100:Y100,\"#\"),\"\")","v":{"$error":"#NAME?"}}]
[20,6005,"生命",2941,"攻击",441,null,null,"天罚","魔抗百分比",300,null,1,2941,2,441,"","",{"$f":"[1]!SUMSTRING(M101:N101,\"#\")","v":{"$error":"#NAME?"}},{"$f":"[1]!SUMSTRING(O101:P101,\"#\")","v":{"$error":"#NAME?"}},{"$f":"IF(Q101<>0,[1]!SUMSTRING(Q101:R101,\"#\"),\"\")","v":{"$error":"#NAME?"}},{"$f":"[1]!SUMSTRING(S101:U101,\"|\")","v":{"$error":"#NAME?"}},2,64,300,{"$f":"IF(W101<>0,[1]!SUMSTRING(W101:Y101,\"#\"),\"\")","v":{"$error":"#NAME?"}}]
[1,6006,"生命",147,"魔抗",22,{"$nulls":6},1,147,4,22,"","",{"$f":"[1]!SUMSTRING(M102:N102,\"#\")","v":{"$error":"#NAME?"}},{"$f":"[1]!SUMSTRING(O102:P102,\"#\")","v":{"$error":"#NAME?"}},{"$f":"IF(Q102<>0,[1]!SUMSTRING(Q102:R102,\"#\"),\"\")","v":{"$error":"#NAME?"}},{"$f":"[1]!SUMSTRING(S102:U102,\"|\")","v":{"$error":"#NAME?"}},"","","",{"$f":"IF(W102<>0,[1]!SUMSTRING(W102:Y102,\"#\"),\"\")","v":{"$error":"#NAME?"}}]
[2,6006,"生命",294,"魔抗",44,null,null,"武卫","生命百分比",300,null,1,294,4,44,"","",{"$f":"[1]!SUMSTRING(M103:N103,\"#\")","v":{"$error":"#NAME?"}},{"$f":"[1]!SUMSTRING(O103:P103,\"#\")","v":{"$error":"#NAME?"}},{"$f":"IF(Q103<>0,[1]!SUMSTRING(Q103:R103,\"#\"),\"\")","v":{"$error":"#NAME?"}},{"$f":"[1]!SUMSTRING(S103:U103,\"|\")","v":{"$error":"#NAME?"}},1,61,300,{"$f":"IF(W103<>0,[1]!SUMSTRING(W103:Y103,\"#\"),\"\")","v":{"$error":"#NAME?"}}]
[3,6006,"生命",441,"魔抗",66,{"$nulls":6},1,441,4,66,"","",{"$f":"[1]!SUMSTRING(M104:N104,\"#\")","v":{"$error":"#NAME?"}},{"$f":"[1]!SUMSTRING(O104:P104,\"#\")","v":{"$error":"#NAME?"}},{"$f":"IF(Q104<>0,[1]!SUMSTRING(Q104:R104,\"#\"),\"\")","v":{"$error":"#NAME?"}},{"$f":"[1]!SUMSTRING(S104:U104,\"|\")","v":{"$error":"#NAME?"}},"","","",{"$f":"IF(W104<>0,[1]!SUMSTRING(W104:Y104,\"#\"),\"\")","v":{"$error":"#NAME?"}}]
[4,6006,"生命",588,"魔抗",88,{"$nulls":6},1,588,4,88,"","",{"$f":"[1]!SUMSTRING(M105:N105,\"#\")","v":{"$error":"#NAME?"}},{"$f":"[1]!SUMSTRING(O105:P105,\"#\")","v":{"$error":"#NAME?"}},{"$f":"IF(Q105<>0,[1]!SUMSTRING(Q105:R105,\"#\"),\"\")","v":{"$error":"#NAME?"}},{"$f":"[1]!SUMSTRING(S105:U105,\"|\")","v":{"$error":"#NAME?"}},"","","",{"$f":"IF(W105<>0,[1]!SUMSTRING(W105:Y105,\"#\"),\"\")","v":{"$error":"#NAME?"}}]
[5,6006,"生命",735,"魔抗",110,null,null,"生花","生命百分比",300,null,1,735,4,110,"","",{"$f":"[1]!SUMSTRING(M106:N106,\"#\")","v":{"$error":"#NAME?"}},{"$f":"[1]!SUMSTRING(O106:P106,\"#\")","v":{"$error":"#NAME?"}},{"$f":"IF(Q106<>0,[1]!SUMSTRING(Q106:R106,\"#\"),\"\")","v":{"$error":"#NAME?"}},{"$f":"[1]!SUMSTRING(S106:U106,\"|\")","v":{"$error":"#NAME?"}},5,61,300,{"$f":"IF(W106<>0,[1]!SUMSTRING(W106:Y106,\"#\"),\"\")","v":{"$error":"#NAME?"}}]
[6,6006,"生命",882,"魔抗",132,{"$nulls":6},1,882,4,132,"","",{"$f":"[1]!SUMSTRING(M107:N107,\"#\")","v":{"$error":"#NAME?"}},{"$f":"[1]!SUMSTRING(O107:P107,\"#\")","v":{"$error":"#NAME?"}},{"$f":"IF(Q107<>0,[1]!SUMSTRING(Q107:R107,\"#\"),\"\")","v":{"$error":"#NAME?"}},{"$f":"[1]!SUMSTRING(S107:U107,\"|\")","v":{"$error":"#NAME?"}},"","","",{"$f":"IF(W107<>0,[1]!SUMSTRING(W107:Y107,\"#\"),\"\")","v":{"$error":"#NAME?"}}]
[7,6006,"生命",1029,"魔抗",154,{"$nulls":6},1,1029,4,154,"","",{"$f":"[1]!SUMSTRING(M108:N108,\"#\")","v":{"$error":"#NAME?"}},{"$f":"[1]!SUMSTRING(O108:P108,\"#\")","v":{"$error":"#NAME?"}},{"$f":"IF(Q108<>0,[1]!SUMSTRING(Q108:R108,\"#\"),\"\")","v":{"$error":"#NAME?"}},{"$f":"[1]!SUMSTRING(S108:U108,\"|\")","v":{"$error":"#NAME?"}},"","","",{"$f":"IF(W108<>0,[1]!SUMSTRING(W108:Y108,\"#\"),\"\")","v":{"$error":"#NAME?"}}]
[8,6006,"生命",1176,"魔抗",176,null,null,"秘法","生命百分比",300,null,1,1176,4,176,"","",{"$f":"[1]!SUMSTRING(M109:N109,\"#\")","v":{"$error":"#NAME?"}},{"$f":"[1]!SUMSTRING(O109:P109,\"#\")","v":{"$error":"#NAME?"}},{"$f":"IF(Q109<>0,[1]!SUMSTRING(Q109:R109,\"#\"),\"\")","v":{"$error":"#NAME?"}},{"$f":"[1]!SUMSTRING(S109:U109,\"|\")","v":{"$error":"#NAME?"}},3,61,300,{"$f":"IF(W109<>0,[1]!SUMSTRING(W109:Y109,\"#\"),\"\")","v":{"$error":"#NAME?"}}]
[9,6006,"生命",1323,"魔抗",198,{"$nulls":6},1,1323,4,198,"","",{"$f":"[1]!SUMSTRING(M110:N110,\"#\")","v":{"$error":"#NAME?"}},{"$f":"[1]!SUMSTRING(O110:P110,\"#\")","v":{"$error":"#NAME?"}},{"$f":"IF(Q110<>0,[1]!SUMSTRING(Q110:R110,\"#\"),\"\")","v":{"$error":"#NAME?"}},{"$f":"[1]!SUMSTRING(S110:U110,\"|\")","v":{"$error":"#NAME?"}},"","","",{"$f":"IF(W110<>0,[1]!SUMSTRING(W110:Y110,\"#\"),\"\")","v":{"$error":"#NAME?"}}]
[10,6006,"生命",1470,"魔抗",220,{"$nulls":6},1,1470,4,220,"","",{"$f":"[1]!SUMSTRING(M111:N111,\"#\")","v":{"$error":"#NAME?"}},{"$f":"[1]!SUMSTRING(O111:P111,\"#\")","v":{"$error":"#NAME?"}},{"$f":"IF(Q111<>0,[1]!SUMSTRING(Q111:R111,\"#\"),\"\")","v":{"$error":"#NAME?"}},{"$f":"[1]!SUMSTRING(S111:U111,\"|\")","v":{"$error":"#NAME?"}},"","","",{"$f":"IF(W111<>0,[1]!SUMSTRING(W111:Y111,\"#\"),\"\")","v":{"$error":"#NAME?"}}]
[11,6006,"生命",1617,"魔抗",242,null,null,"玄策","生命百分比",300,null,1,1617,4,242,"","",{"$f":"[1]!SUMSTRING(M112:N112,\"#\")","v":{"$error":"#NAME?"}},{"$f":"[1]!SUMSTRING(O112:P112,\"#\")","v":{"$error":"#NAME?"}},{"$f":"IF(Q112<>0,[1]!SUMSTRING(Q112:R112,\"#\"),\"\")","v":{"$error":"#NAME?"}},{"$f":"[1]!SUMSTRING(S112:U112,\"|\")","v":{"$error":"#NAME?"}},4,61,300,{"$f":"IF(W112<>0,[1]!SUMSTRING(W112:Y112,\"#\"),\"\")","v":{"$error":"#NAME?"}}]
[12,6006,"生命",1764,"魔抗",264,{"$nulls":6},1,1764,4,264,"","",{"$f":"[1]!SUMSTRING(M113:N113,\"#\")","v":{"$error":"#NAME?"}},{"$f":"[1]!SUMSTRING(O113:P113,\"#\")","v":{"$error":"#NAME?"}},{"$f":"IF(Q113<>0,[1]!SUMSTRING(Q113:R113,\"#\"),\"\")","v":{"$error":"#NAME?"}},{"$f":"[1]!SUMSTRING(S113:U113,\"|\")","v":{"$error":"#NAME?"}},"","","",{"$f":"IF(W113<>0,[1]!SUMSTRING(W113:Y113,\"#\"),\"\")","v":{"$error":"#NAME?"}}]
[13,6006,"生命",1911,"魔抗",286,{"$nulls":6},1,1911,4,286,"","",{"$f":"[1]!SUMSTRING(M114:N114,\"#\")","v":{"$error":"#NAME?"}},{"$f":"[1]!SUMSTRING(O114:P114,\"#\")","v":{"$error":"#NAME?"}},{"$f":"IF(Q114<>0,[1]!SUMSTRING(Q114:R114,\"#\"),\"\")","v":{"$error":"#NAME?"}},{"$f":"[1]!SUMSTRING(S114:U114,\"|\")","v":{"$error":"#NAME?"}},"","","",{"$f":"IF(W114<>0,[1]!SUMSTRING(W114:Y114,\"#\"),\"\")","v":{"$error":"#NAME?"}}]
[14,6006,"生命",2058,"魔抗",308,null,null,"天罚","生命百分比",300,null,1,2058,4,308,"","",{"$f":"[1]!SUMSTRING(M115:N115,\"#\")","v":{"$error":"#NAME?"}},{"$f":"[1]!SUMSTRING(O115:P115,\"#\")","v":{"$error":"#NAME?"}},{"$f":"IF(Q115<>0,[1]!SUMSTRING(Q115:R115,\"#\"),\"\")","v":{"$error":"#NAME?"}},{"$f":"[1]!SUMSTRING(S115:U115,\"|\")","v":{"$error":"#NAME?"}},2,61,300,{"$f":"IF(W115<>0,[1]!SUMSTRING(W115:Y115,\"#\"),\"\")","v":{"$error":"#NAME?"}}]
[15,6006,"生命",2205,"魔抗",330,{"$nulls":6},1,2205,4,330,"","",{"$f":"[1]!SUMSTRING(M116:N116,\"#\")","v":{"$error":"#NAME?"}},{"$f":"[1]!SUMSTRING(O116:P116,\"#\")","v":{"$error":"#NAME?"}},{"$f":"IF(Q116<>0,[1]!SUMSTRING(Q116:R116,\"#\"),\"\")","v":{"$error":"#NAME?"}},{"$f":"[1]!SUMSTRING(S116:U116,\"|\")","v":{"$error":"#NAME?"}},"","","",{"$f":"IF(W116<>0,[1]!SUMSTRING(W116:Y116,\"#\"),\"\")","v":{"$error":"#NAME?"}}]
[16,6006,"生命",2352,"魔抗",352,{"$nulls":6},1,2352,4,352,"","",{"$f":"[1]!SUMSTRING(M117:N117,\"#\")","v":{"$error":"#NAME?"}},{"$f":"[1]!SUMSTRING(O117:P117,\"#\")","v":{"$error":"#NAME?"}},{"$f":"IF(Q117<>0,[1]!SUMSTRING(Q117:R117,\"#\"),\"\")","v":{"$error":"#NAME?"}},{"$f":"[1]!SUMSTRING(S117:U117,\"|\")","v":{"$error":"#NAME?"}},"","","",{"$f":"IF(W117<>0,[1]!SUMSTRING(W117:Y117,\"#\"),\"\")","v":{"$error":"#NAME?"}}]
[17,6006,"生命",2500,"魔抗",375,null,null,"秘法","生命百分比",300,null,1,2500,4,375,"","",{"$f":"[1]!SUMSTRING(M118:N118,\"#\")","v":{"$error":"#NAME?"}},{"$f":"[1]!SUMSTRING(O118:P118,\"#\")","v":{"$error":"#NAME?"}},{"$f":"IF(Q118<>0,[1]!SUMSTRING(Q118:R118,\"#\"),\"\")","v":{"$error":"#NAME?"}},{"$f":"[1]!SUMSTRING(S118:U118,\"|\")","v":{"$error":"#NAME?"}},3,61,300,{"$f":"IF(W118<>0,[1]!SUMSTRING(W118:Y118,\"#\"),\"\")","v":{"$error":"#NAME?"}}]
[18,6006,"生命",2647,"魔抗",397,{"$nulls":6},1,2647,4,397,"","",{"$f":"[1]!SUMSTRING(M119:N119,\"#\")","v":{"$error":"#NAME?"}},{"$f":"[1]!SUMSTRING(O119:P119,\"#\")","v":{"$error":"#NAME?"}},{"$f":"IF(Q119<>0,[1]!SUMSTRING(Q119:R119,\"#\"),\"\")","v":{"$error":"#NAME?"}},{"$f":"[1]!SUMSTRING(S119:U119,\"|\")","v":{"$error":"#NAME?"}},"","","",{"$f":"IF(W119<>0,[1]!SUMSTRING(W119:Y119,\"#\"),\"\")","v":{"$error":"#NAME?"}}]
[19,6006,"生命",2794,"魔抗",419,{"$nulls":6},1,2794,4,419,"","",{"$f":"[1]!SUMSTRING(M120:N120,\"#\")","v":{"$error":"#NAME?"}},{"$f":"[1]!SUMSTRING(O120:P120,\"#\")","v":{"$error":"#NAME?"}},{"$f":"IF(Q120<>0,[1]!SUMSTRING(Q120:R120,\"#\"),\"\")","v":{"$error":"#NAME?"}},{"$f":"[1]!SUMSTRING(S120:U120,\"|\")","v":{"$error":"#NAME?"}},"","","",{"$f":"IF(W120<>0,[1]!SUMSTRING(W120:Y120,\"#\"),\"\")","v":{"$error":"#NAME?"}}]
[20,6006,"生命",2941,"魔抗",441,null,null,"天罚","生命百分比",300,null,1,2941,4,441,"","",{"$f":"[1]!SUMSTRING(M121:N121,\"#\")","v":{"$error":"#NAME?"}},{"$f":"[1]!SUMSTRING(O121:P121,\"#\")","v":{"$error":"#NAME?"}},{"$f":"IF(Q121<>0,[1]!SUMSTRING(Q121:R121,\"#\"),\"\")","v":{"$error":"#NAME?"}},{"$f":"[1]!SUMSTRING(S121:U121,\"|\")","v":{"$error":"#NAME?"}},2,61,300,{"$f":"IF(W121<>0,[1]!SUMSTRING(W121:Y121,\"#\"),\"\")","v":{"$error":"#NAME?"}}]
[1,6007,"生命",147,"护甲",22,{"$nulls":6},1,147,3,22,"","",{"$f":"[1]!SUMSTRING(M122:N122,\"#\")","v":{"$error":"#NAME?"}},{"$f":"[1]!SUMSTRING(O122:P122,\"#\")","v":{"$error":"#NAME?"}},{"$f":"IF(Q122<>0,[1]!SUMSTRING(Q122:R122,\"#\"),\"\")","v":{"$error":"#NAME?"}},{"$f":"[1]!SUMSTRING(S122:U122,\"|\")","v":{"$error":"#NAME?"}},"","","",{"$f":"IF(W122<>0,[1]!SUMSTRING(W122:Y122,\"#\"),\"\")","v":{"$error":"#NAME?"}}]
[2,6007,"生命",294,"护甲",44,null,null,"武卫","护甲百分比",300,null,1,294,3,44,"","",{"$f":"[1]!SUMSTRING(M123:N123,\"#\")","v":{"$error":"#NAME?"}},{"$f":"[1]!SUMSTRING(O123:P123,\"#\")","v":{"$error":"#NAME?"}},{"$f":"IF(Q123<>0,[1]!SUMSTRING(Q123:R123,\"#\"),\"\")","v":{"$error":"#NAME?"}},{"$f":"[1]!SUMSTRING(S123:U123,\"|\")","v":{"$error":"#NAME?"}},1,63,300,{"$f":"IF(W123<>0,[1]!SUMSTRING(W123:Y123,\"#\"),\"\")","v":{"$error":"#NAME?"}}]
[3,6007,"生命",441,"护甲",66,{"$nulls":6},1,441,3,66,"","",{"$f":"[1]!SUMSTRING(M124:N124,\"#\")","v":{"$error":"#NAME?"}},{"$f":"[1]!SUMSTRING(O124:P124,\"#\")","v":{"$error":"#NAME?"}},{"$f":"IF(Q124<>0,[1]!SUMSTRING(Q124:R124,\"#\"),\"\")","v":{"$error":"#NAME?"}},{"$f":"[1]!SUMSTRING(S124:U124,\"|\")","v":{"$error":"#NAME?"}},"","","",{"$f":"IF(W124<>0,[1]!SUMSTRING(W124:Y124,\"#\"),\"\")","v":{"$error":"#NAME?"}}]
[4,6007,"生命",588,"护甲",88,{"$nulls":6},1,588,3,88,"","",{"$f":"[1]!SUMSTRING(M125:N125,\"#\")","v":{"$error":"#NAME?"}},{"$f":"[1]!SUMSTRING(O125:P125,\"#\")","v":{"$error":"#NAME?"}},{"$f":"IF(Q125<>0,[1]!SUMSTRING(Q125:R125,\"#\"),\"\")","v":{"$error":"#NAME?"}},{"$f":"[1]!SUMSTRING(S125:U125,\"|\")","v":{"$error":"#NAME?"}},"","","",{"$f":"IF(W125<>0,[1]!SUMSTRING(W125:Y125,\"#\"),\"\")","v":{"$error":"#NAME?"}}]
[5,6007,"生命",735,"护甲",110,null,null,"生花","护甲百分比",300,null,1,735,3,110,"","",{"$f":"[1]!SUMSTRING(M126:N126,\"#\")","v":{"$error":"#NAME?"}},{"$f":"[1]!SUMSTRING(O126:P126,\"#\")","v":{"$error":"#NAME?"}},{"$f":"IF(Q126<>0,[1]!SUMSTRING(Q126:R126,\"#\"),\"\")","v":{"$error":"#NAME?"}},{"$f":"[1]!SUMSTRING(S126:U126,\"|\")","v":{"$error":"#NAME?"}},5,63,300,{"$f":"IF(W126<>0,[1]!SUMSTRING(W126:Y126,\"#\"),\"\")","v":{"$error":"#NAME?"}}]
[6,6007,"生命",882,"护甲",132,{"$nulls":6},1,882,3,132,"","",{"$f":"[1]!SUMSTRING(M127:N127,\"#\")","v":{"$error":"#NAME?"}},{"$f":"[1]!SUMSTRING(O127:P127,\"#\")","v":{"$error":"#NAME?"}},{"$f":"IF(Q127<>0,[1]!SUMSTRING(Q127:R127,\"#\"),\"\")","v":{"$error":"#NAME?"}},{"$f":"[1]!SUMSTRING(S127:U127,\"|\")","v":{"$error":"#NAME?"}},"","","",{"$f":"IF(W127<>0,[1]!SUMSTRING(W127:Y127,\"#\"),\"\")","v":{"$error":"#NAME?"}}]
[7,6007,"生命",1029,"护甲",154,{"$nulls":6},1,1029,3,154,"","",{"$f":"[1]!SUMSTRING(M128:N128,\"#\")","v":{"$error":"#NAME?"}},{"$f":"[1]!SUMSTRING(O128:P128,\"#\")","v":{"$error":"#NAME?"}},{"$f":"IF(Q128<>0,[1]!SUMSTRING(Q128:R128,\"#\"),\"\")","v":{"$error":"#NAME?"}},{"$f":"[1]!SUMSTRING(S128:U128,\"|\")","v":{"$error":"#NAME?"}},"","","",{"$f":"IF(W128<>0,[1]!SUMSTRING(W128:Y128,\"#\"),\"\")","v":{"$error":"#NAME?"}}]
[8,6007,"生命",1176,"护甲",176,null,null,"秘法","护甲百分比",300,null,1,1176,3,176,"","",{"$f":"[1]!SUMSTRING(M129:N129,\"#\")","v":{"$error":"#NAME?"}},{"$f":"[1]!SUMSTRING(O129:P129,\"#\")","v":{"$error":"#NAME?"}},{"$f":"IF(Q129<>0,[1]!SUMSTRING(Q129:R129,\"#\"),\"\")","v":{"$error":"#NAME?"}},{"$f":"[1]!SUMSTRING(S129:U129,\"|\")","v":{"$error":"#NAME?"}},3,63,300,{"$f":"IF(W129<>0,[1]!SUMSTRING(W129:Y129,\"#\"),\"\")","v":{"$error":"#NAME?"}}]
[9,6007,"生命",1323,"护甲",198,{"$nulls":6},1,1323,3,198,"","",{"$f":"[1]!SUMSTRING(M130:N130,\"#\")","v":{"$error":"#NAME?"}},{"$f":"[1]!SUMSTRING(O130:P130,\"#\")","v":{"$error":"#NAME?"}},{"$f":"IF(Q130<>0,[1]!SUMSTRING(Q130:R130,\"#\"),\"\")","v":{"$error":"#NAME?"}},{"$f":"[1]!SUMSTRING(S130:U130,\"|\")","v":{"$error":"#NAME?"}},"","","",{"$f":"IF(W130<>0,[1]!SUMSTRING(W130:Y130,\"#\"),\"\")","v":{"$error":"#NAME?"}}]
[10,6007,"生命",1470,"护甲",220,{"$nulls":6},{"$f":"VLOOKUP(C131,$AB:$AC,2,0)","v":1},{"$f":"D131","v":1470},{"$f":"VLOOKUP(E131,$AB:$AC,2,0)","v":3},{"$f":"F131","v":220},{"$f":"IF(G131<>0,VLOOKUP(G131,$AB:$AC,2,0),\"\")","v":""},{"$f":"IF(H131<>0,H131,\"\")","v":""},{"$f":"[1]!SUMSTRING(M131:N131,\"#\")","v":{"$error":"#NAME?"}},{"$f":"[1]!SUMSTRING(O131:P131,\"#\")","v":{"$error":"#NAME?"}},{"$f":"IF(Q131<>0,[1]!SUMSTRING(Q131:R131,\"#\"),\"\")","v":{"$error":"#NAME?"}},{"$f":"[1]!SUMSTRING(S131:U131,\"|\")","v":{"$error":"#NAME?"}},"",{"$f":"IF(J131<>0,VLOOKUP(J131,$AB:$AC,2,0),\"\")","v":""},{"$f":"IF(K131<>0,K131,\"\")","v":""},{"$f":"IF(W131<>0,[1]!SUMSTRING(W131:Y131,\"#\"),\"\")","v":{"$error":"#NAME?"}}]
[11,6007,"生命",1617,"护甲",242,null,null,"玄策","护甲百分比",300,null,1,1617,3,242,"","",{"$f":"[1]!SUMSTRING(M132:N132,\"#\")","v":{"$error":"#NAME?"}},{"$f":"[1]!SUMSTRING(O132:P132,\"#\")","v":{"$error":"#NAME?"}},{"$f":"IF(Q132<>0,[1]!SUMSTRING(Q132:R132,\"#\"),\"\")","v":{"$error":"#NAME?"}},{"$f":"[1]!SUMSTRING(S132:U132,\"|\")","v":{"$error":"#NAME?"}},{"$f":"IF(I132<>0,VLOOKUP(I132,$AG$3:$AH$7,2,0),\"\")","v":4},63,300,{"$f":"IF(W132<>0,[1]!SUMSTRING(W132:Y132,\"#\"),\"\")","v":{"$error":"#NAME?"}}]
[12,6007,"生命",1764,"护甲",264,{"$nulls":6},1,1764,3,264,"","",{"$f":"[1]!SUMSTRING(M133:N133,\"#\")","v":{"$error":"#NAME?"}},{"$f":"[1]!SUMSTRING(O133:P133,\"#\")","v":{"$error":"#NAME?"}},{"$f":"IF(Q133<>0,[1]!SUMSTRING(Q133:R133,\"#\"),\"\")","v":{"$error":"#NAME?"}},{"$f":"[1]!SUMSTRING(S133:U133,\"|\")","v":{"$error":"#NAME?"}},"","","",{"$f":"IF(W133<>0,[1]!SUMSTRING(W133:Y133,\"#\"),\"\")","v":{"$error":"#NAME?"}}]
[13,6007,"生命",1911,"护甲",286,{"$nulls":6},1,1911,3,286,"","",{"$f":"[1]!SUMSTRING(M134:N134,\"#\")","v":{"$error":"#NAME?"}},{"$f":"[1]!SUMSTRING(O134:P134,\"#\")","v":{"$error":"#NAME?"}},{"$f":"IF(Q134<>0,[1]!SUMSTRING(Q134:R134,\"#\"),\"\")","v":{"$error":"#NAME?"}},{"$f":"[1]!SUMSTRING(S134:U134,\"|\")","v":{"$error":"#NAME?"}},"","","",{"$f":"IF(W134<>0,[1]!SUMSTRING(W134:Y134,\"#\"),\"\")","v":{"$error":"#NAME?"}}]
[14,6007,"生命",2058,"护甲",308,null,null,"天罚","护甲百分比",300,null,1,2058,3,308,"","",{"$f":"[1]!SUMSTRING(M135:N135,\"#\")","v":{"$error":"#NAME?"}},{"$f":"[1]!SUMSTRING(O135:P135,\"#\")","v":{"$error":"#NAME?"}},{"$f":"IF(Q135<>0,[1]!SUMSTRING(Q135:R135,\"#\"),\"\")","v":{"$error":"#NAME?"}},{"$f":"[1]!SUMSTRING(S135:U135,\"|\")","v":{"$error":"#NAME?"}},2,63,300,{"$f":"IF(W135<>0,[1]!SUMSTRING(W135:Y135,\"#\"),\"\")","v":{"$error":"#NAME?"}}]
[15,6007,"生命",2205,"护甲",330,{"$nulls":6},1,2205,3,330,"","",{"$f":"[1]!SUMSTRING(M136:N136,\"#\")","v":{"$error":"#NAME?"}},{"$f":"[1]!SUMSTRING(O136:P136,\"#\")","v":{"$error":"#NAME?"}},{"$f":"IF(Q136<>0,[1]!SUMSTRING(Q136:R136,\"#\"),\"\")","v":{"$error":"#NAME?"}},{"$f":"[1]!SUMSTRING(S136:U136,\"|\")","v":{"$error":"#NAME?"}},"","","",{"$f":"IF(W136<>0,[1]!SUMSTRING(W136:Y136,\"#\"),\"\")","v":{"$error":"#NAME?"}}]
[16,6007,"生命",2352,"护甲",352,{"$nulls":6},1,2352,3,352,"","",{"$f":"[1]!SUMSTRING(M137:N137,\"#\")","v":{"$error":"#NAME?"}},{"$f":"[1]!SUMSTRING(O137:P137,\"#\")","v":{"$error":"#NAME?"}},{"$f":"IF(Q137<>0,[1]!SUMSTRING(Q137:R137,\"#\"),\"\")","v":{"$error":"#NAME?"}},{"$f":"[1]!SUMSTRING(S137:U137,\"|\")","v":{"$error":"#NAME?"}},"","","",{"$f":"IF(W137<>0,[1]!SUMSTRING(W137:Y137,\"#\"),\"\")","v":{"$error":"#NAME?"}}]
[17,6007,"生命",2500,"护甲",375,null,null,"秘法","护甲百分比",300,null,1,2500,3,375,"","",{"$f":"[1]!SUMSTRING(M138:N138,\"#\")","v":{"$error":"#NAME?"}},{"$f":"[1]!SUMSTRING(O138:P138,\"#\")","v":{"$error":"#NAME?"}},{"$f":"IF(Q138<>0,[1]!SUMSTRING(Q138:R138,\"#\"),\"\")","v":{"$error":"#NAME?"}},{"$f":"[1]!SUMSTRING(S138:U138,\"|\")","v":{"$error":"#NAME?"}},3,63,300,{"$f":"IF(W138<>0,[1]!SUMSTRING(W138:Y138,\"#\"),\"\")","v":{"$error":"#NAME?"}}]
[18,6007,"生命",2647,"护甲",397,{"$nulls":6},1,2647,3,397,"","",{"$f":"[1]!SUMSTRING(M139:N139,\"#\")","v":{"$error":"#NAME?"}},{"$f":"[1]!SUMSTRING(O139:P139,\"#\")","v":{"$error":"#NAME?"}},{"$f":"IF(Q139<>0,[1]!SUMSTRING(Q139:R139,\"#\"),\"\")","v":{"$error":"#NAME?"}},{"$f":"[1]!SUMSTRING(S139:U139,\"|\")","v":{"$error":"#NAME?"}},"","","",{"$f":"IF(W139<>0,[1]!SUMSTRING(W139:Y139,\"#\"),\"\")","v":{"$error":"#NAME?"}}]
[19,6007,"生命",2794,"护甲",419,{"$nulls":6},1,2794,3,419,"","",{"$f":"[1]!SUMSTRING(M140:N140,\"#\")","v":{"$error":"#NAME?"}},{"$f":"[1]!SUMSTRING(O140:P140,\"#\")","v":{"$error":"#NAME?"}},{"$f":"IF(Q140<>0,[1]!SUMSTRING(Q140:R140,\"#\"),\"\")","v":{"$error":"#NAME?"}},{"$f":"[1]!SUMSTRING(S140:U140,\"|\")","v":{"$error":"#NAME?"}},"","","",{"$f":"IF(W140<>0,[1]!SUMSTRING(W140:Y140,\"#\"),\"\")","v":{"$error":"#NAME?"}}]
[20,6007,"生命",2941,"护甲",441,null,null,"天罚","护甲百分比",300,null,1,2941,3,441,"","",{"$f":"[1]!SUMSTRING(M141:N141,\"#\")","v":{"$error":"#NAME?"}},{"$f":"[1]!SUMSTRING(O141:P141,\"#\")","v":{"$error":"#NAME?"}},{"$f":"IF(Q141<>0,[1]!SUMSTRING(Q141:R141,\"#\"),\"\")","v":{"$error":"#NAME?"}},{"$f":"[1]!SUMSTRING(S141:U141,\"|\")","v":{"$error":"#NAME?"}},2,63,300,{"$f":"IF(W141<>0,[1]!SUMSTRING(W141:Y141,\"#\"),\"\")","v":{"$error":"#NAME?"}}]
[1,6008,"生命",147,"攻击",22,{"$nulls":6},1,147,2,22,"","",{"$f":"[1]!SUMSTRING(M142:N142,\"#\")","v":{"$error":"#NAME?"}},{"$f":"[1]!SUMSTRING(O142:P142,\"#\")","v":{"$error":"#NAME?"}},{"$f":"IF(Q142<>0,[1]!SUMSTRING(Q142:R142,\"#\"),\"\")","v":{"$error":"#NAME?"}},{"$f":"[1]!SUMSTRING(S142:U142,\"|\")","v":{"$error":"#NAME?"}},"","","",{"$f":"IF(W142<>0,[1]!SUMSTRING(W142:Y142,\"#\"),\"\")","v":{"$error":"#NAME?"}}]
[2,6008,"生命",294,"攻击",44,null,null,"武卫","魔抗百分比",300,null,1,294,2,44,"","",{"$f":"[1]!SUMSTRING(M143:N143,\"#\")","v":{"$error":"#NAME?"}},{"$f":"[1]!SUMSTRING(O143:P143,\"#\")","v":{"$error":"#NAME?"}},{"$f":"IF(Q143<>0,[1]!SUMSTRING(Q143:R143,\"#\"),\"\")","v":{"$error":"#NAME?"}},{"$f":"[1]!SUMSTRING(S143:U143,\"|\")","v":{"$error":"#NAME?"}},1,64,300,{"$f":"IF(W143<>0,[1]!SUMSTRING(W143:Y143,\"#\"),\"\")","v":{"$error":"#NAME?"}}]
[3,6008,"生命",441,"攻击",66,{"$nulls":6},1,441,2,66,"","",{"$f":"[1]!SUMSTRING(M144:N144,\"#\")","v":{"$error":"#NAME?"}},{"$f":"[1]!SUMSTRING(O144:P144,\"#\")","v":{"$error":"#NAME?"}},{"$f":"IF(Q144<>0,[1]!SUMSTRING(Q144:R144,\"#\"),\"\")","v":{"$error":"#NAME?"}},{"$f":"[1]!SUMSTRING(S144:U144,\"|\")","v":{"$error":"#NAME?"}},"","","",{"$f":"IF(W144<>0,[1]!SUMSTRING(W144:Y144,\"#\"),\"\")","v":{"$error":"#NAME?"}}]
[4,6008,"生命",588,"攻击",88,{"$nulls":6},1,588,2,88,"","",{"$f":"[1]!SUMSTRING(M145:N145,\"#\")","v":{"$error":"#NAME?"}},{"$f":"[1]!SUMSTRING(O145:P145,\"#\")","v":{"$error":"#NAME?"}},{"$f":"IF(Q145<>0,[1]!SUMSTRING(Q145:R145,\"#\"),\"\")","v":{"$error":"#NAME?"}},{"$f":"[1]!SUMSTRING(S145:U145,\"|\")","v":{"$error":"#NAME?"}},"","","",{"$f":"IF(W145<>0,[1]!SUMSTRING(W145:Y145,\"#\"),\"\")","v":{"$error":"#NAME?"}}]
[5,6008,"生命",735,"攻击",110,null,null,"生花","魔抗百分比",300,null,1,735,2,110,"","",{"$f":"[1]!SUMSTRING(M146:N146,\"#\")","v":{"$error":"#NAME?"}},{"$f":"[1]!SUMSTRING(O146:P146,\"#\")","v":{"$error":"#NAME?"}},{"$f":"IF(Q146<>0,[1]!SUMSTRING(Q146:R146,\"#\"),\"\")","v":{"$error":"#NAME?"}},{"$f":"[1]!SUMSTRING(S146:U146,\"|\")","v":{"$error":"#NAME?"}},5,64,300,{"$f":"IF(W146<>0,[1]!SUMSTRING(W146:Y146,\"#\"),\"\")","v":{"$error":"#NAME?"}}]
[6,6008,"生命",882,"攻击",132,{"$nulls":6},1,882,2,132,"","",{"$f":"[1]!SUMSTRING(M147:N147,\"#\")","v":{"$error":"#NAME?"}},{"$f":"[1]!SUMSTRING(O147:P147,\"#\")","v":{"$error":"#NAME?"}},{"$f":"IF(Q147<>0,[1]!SUMSTRING(Q147:R147,\"#\"),\"\")","v":{"$error":"#NAME?"}},{"$f":"[1]!SUMSTRING(S147:U147,\"|\")","v":{"$error":"#NAME?"}},"","","",{"$f":"IF(W147<>0,[1]!SUMSTRING(W147:Y147,\"#\"),\"\")","v":{"$error":"#NAME?"}}]
[7,6008,"生命",1029,"攻击",154,{"$nulls":6},1,1029,2,154,"","",{"$f":"[1]!SUMSTRING(M148:N148,\"#\")","v":{"$error":"#NAME?"}},{"$f":"[1]!SUMSTRING(O148:P148,\"#\")","v":{"$error":"#NAME?"}},{"$f":"IF(Q148<>0,[1]!SUMSTRING(Q148:R148,\"#\"),\"\")","v":{"$error":"#NAME?"}},{"$f":"[1]!SUMSTRING(S148:U148,\"|\")","v":{"$error":"#NAME?"}},"","","",{"$f":"IF(W148<>0,[1]!SUMSTRING(W148:Y148,\"#\"),\"\")","v":{"$error":"#NAME?"}}]
[8,6008,"生命",1176,"攻击",176,null,null,"秘法","魔抗百分比",300,null,1,1176,2,176,"","",{"$f":"[1]!SUMSTRING(M149:N149,\"#\")","v":{"$error":"#NAME?"}},{"$f":"[1]!SUMSTRING(O149:P149,\"#\")","v":{"$error":"#NAME?"}},{"$f":"IF(Q149<>0,[1]!SUMSTRING(Q149:R149,\"#\"),\"\")","v":{"$error":"#NAME?"}},{"$f":"[1]!SUMSTRING(S149:U149,\"|\")","v":{"$error":"#NAME?"}},3,64,300,{"$f":"IF(W149<>0,[1]!SUMSTRING(W149:Y149,\"#\"),\"\")","v":{"$error":"#NAME?"}}]
[9,6008,"生命",1323,"攻击",198,{"$nulls":6},1,1323,2,198,"","",{"$f":"[1]!SUMSTRING(M150:N150,\"#\")","v":{"$error":"#NAME?"}},{"$f":"[1]!SUMSTRING(O150:P150,\"#\")","v":{"$error":"#NAME?"}},{"$f":"IF(Q150<>0,[1]!SUMSTRING(Q150:R150,\"#\"),\"\")","v":{"$error":"#NAME?"}},{"$f":"[1]!SUMSTRING(S150:U150,\"|\")","v":{"$error":"#NAME?"}},"","","",{"$f":"IF(W150<>0,[1]!SUMSTRING(W150:Y150,\"#\"),\"\")","v":{"$error":"#NAME?"}}]
[{"$f":"A131","v":10},{"$f":"B131+1","v":6008},"生命",1470,"攻击",220,{"$nulls":6},1,1470,2,220,"","",{"$f":"[1]!SUMSTRING(M151:N151,\"#\")","v":{"$error":"#NAME?"}},{"$f":"[1]!SUMSTRING(O151:P151,\"#\")","v":{"$error":"#NAME?"}},{"$f":"IF(Q151<>0,[1]!SUMSTRING(Q151:R151,\"#\"),\"\")","v":{"$error":"#NAME?"}},{"$f":"[1]!SUMSTRING(S151:U151,\"|\")","v":{"$error":"#NAME?"}},"","","",{"$f":"IF(W151<>0,[1]!SUMSTRING(W151:Y151,\"#\"),\"\")","v":{"$error":"#NAME?"}}]
[11,6008,"生命",1617,"攻击",242,null,null,"玄策","魔抗百分比",300,null,1,1617,2,242,"","",{"$f":"[1]!SUMSTRING(M152:N152,\"#\")","v":{"$error":"#NAME?"}},{"$f":"[1]!SUMSTRING(O152:P152,\"#\")","v":{"$error":"#NAME?"}},{"$f":"IF(Q152<>0,[1]!SUMSTRING(Q152:R152,\"#\"),\"\")","v":{"$error":"#NAME?"}},{"$f":"[1]!SUMSTRING(S152:U152,\"|\")","v":{"$error":"#NAME?"}},4,64,300,{"$f":"IF(W152<>0,[1]!SUMSTRING(W152:Y152,\"#\"),\"\")","v":{"$error":"#NAME?"}}]
[12,6008,"生命",1764,"攻击",264,{"$nulls":6},1,1764,2,264,"","",{"$f":"[1]!SUMSTRING(M153:N153,\"#\")","v":{"$error":"#NAME?"}},{"$f":"[1]!SUMSTRING(O153:P153,\"#\")","v":{"$error":"#NAME?"}},{"$f":"IF(Q153<>0,[1]!SUMSTRING(Q153:R153,\"#\"),\"\")","v":{"$error":"#NAME?"}},{"$f":"[1]!SUMSTRING(S153:U153,\"|\")","v":{"$error":"#NAME?"}},"","","",{"$f":"IF(W153<>0,[1]!SUMSTRING(W153:Y153,\"#\"),\"\")","v":{"$error":"#NAME?"}}]
[13,6008,"生命",1911,"攻击",286,{"$nulls":6},1,1911,2,286,"","",{"$f":"[1]!SUMSTRING(M154:N154,\"#\")","v":{"$error":"#NAME?"}},{"$f":"[1]!SUMSTRING(O154:P154,\"#\")","v":{"$error":"#NAME?"}},{"$f":"IF(Q154<>0,[1]!SUMSTRING(Q154:R154,\"#\"),\"\")","v":{"$error":"#NAME?"}},{"$f":"[1]!SUMSTRING(S154:U154,\"|\")","v":{"$error":"#NAME?"}},"","","",{"$f":"IF(W154<>0,[1]!SUMSTRING(W154:Y154,\"#\"),\"\")","v":{"$error":"#NAME?"}}]
[14,6008,"生命",2058,"攻击",308,null,null,"天罚","魔抗百分比",300,null,1,2058,2,308,"","",{"$f":"[1]!SUMSTRING(M155:N155,\"#\")","v":{"$error":"#NAME?"}},{"$f":"[1]!SUMSTRING(O155:P155,\"#\")","v":{"$error":"#NAME?"}},{"$f":"IF(Q155<>0,[1]!SUMSTRING(Q155:R155,\"#\"),\"\")","v":{"$error":"#NAME?"}},{"$f":"[1]!SUMSTRING(S155:U155,\"|\")","v":{"$error":"#NAME?"}},2,64,300,{"$f":"IF(W155<>0,[1]!SUMSTRING(W155:Y155,\"#\"),\"\")","v":{"$error":"#NAME?"}}]
[15,6008,"生命",2205,"攻击",330,{"$nulls":6},1,2205,2,330,"","",{"$f":"[1]!SUMSTRING(M156:N156,\"#\")","v":{"$error":"#NAME?"}},{"$f":"[1]!SUMSTRING(O156:P156,\"#\")","v":{"$error":"#NAME?"}},{"$f":"IF(Q156<>0,[1]!SUMSTRING(Q156:R156,\"#\"),\"\")","v":{"$error":"#NAME?"}},{"$f":"[1]!SUMSTRING(S156:U156,\"|\")","v":{"$error":"#NAME?"}},"","","",{"$f":"IF(W156<>0,[1]!SUMSTRING(W156:Y156,\"#\"),\"\")","v":{"$error":"#NAME?"}}]
[16,6008,"生命",2352,"攻击",352,{"$nulls":6},1,2352,2,352,"","",{"$f":"[1]!SUMSTRING(M157:N157,\"#\")","v":{"$error":"#NAME?"}},{"$f":"[1]!SUMSTRING(O157:P157,\"#\")","v":{"$error":"#NAME?"}},{"$f":"IF(Q157<>0,[1]!SUMSTRING(Q157:R157,\"#\"),\"\")","v":{"$error":"#NAME?"}},{"$f":"[1]!SUMSTRING(S157:U157,\"|\")","v":{"$error":"#NAME?"}},"","","",{"$f":"IF(W157<>0,[1]!SUMSTRING(W157:Y157,\"#\"),\"\")","v":{"$error":"#NAME?"}}]
[17,6008,"生命",2500,"攻击",375,null,null,"秘法","魔抗百分比",300,null,1,2500,2,375,"","",{"$f":"[1]!SUMSTRING(M158:N158,\"#\")","v":{"$error":"#NAME?"}},{"$f":"[1]!SUMSTRING(O158:P158,\"#\")","v":{"$error":"#NAME?"}},{"$f":"IF(Q158<>0,[1]!SUMSTRING(Q158:R158,\"#\"),\"\")","v":{"$error":"#NAME?"}},{"$f":"[1]!SUMSTRING(S158:U158,\"|\")","v":{"$error":"#NAME?"}},3,64,300,{"$f":"IF(W158<>0,[1]!SUMSTRING(W158:Y158,\"#\"),\"\")","v":{"$error":"#NAME?"}}]
[18,6008,"生命",2647,"攻击",397,{"$nulls":6},1,2647,2,397,"","",{"$f":"[1]!SUMSTRING(M159:N159,\"#\")","v":{"$error":"#NAME?"}},{"$f":"[1]!SUMSTRING(O159:P159,\"#\")","v":{"$error":"#NAME?"}},{"$f":"IF(Q159<>0,[1]!SUMSTRING(Q159:R159,\"#\"),\"\")","v":{"$error":"#NAME?"}},{"$f":"[1]!SUMSTRING(S159:U159,\"|\")","v":{"$error":"#NAME?"}},"","","",{"$f":"IF(W159<>0,[1]!SUMSTRING(W159:Y159,\"#\"),\"\")","v":{"$error":"#NAME?"}}]
[19,6008,"生命",2794,"攻击",419,{"$nulls":6},1,2794,2,419,"","",{"$f":"[1]!SUMSTRING(M160:N160,\"#\")","v":{"$error":"#NAME?"}},{"$f":"[1]!SUMSTRING(O160:P160,\"#\")","v":{"$error":"#NAME?"}},{"$f":"IF(Q160<>0,[1]!SUMSTRING(Q160:R160,\"#\"),\"\")","v":{"$error":"#NAME?"}},{"$f":"[1]!SUMSTRING(S160:U160,\"|\")","v":{"$error":"#NAME?"}},"","","",{"$f":"IF(W160<>0,[1]!SUMSTRING(W160:Y160,\"#\"),\"\")","v":{"$error":"#NAME?"}}]
[20,6008,"生命",2941,"攻击",441,null,null,"天罚","魔抗百分比",300,null,1,2941,2,441,"","",{"$f":"[1]!SUMSTRING(M161:N161,\"#\")","v":{"$error":"#NAME?"}},{"$f":"[1]!SUMSTRING(O161:P161,\"#\")","v":{"$error":"#NAME?"}},{"$f":"IF(Q161<>0,[1]!SUMSTRING(Q161:R161,\"#\"),\"\")","v":{"$error":"#NAME?"}},{"$f":"[1]!SUMSTRING(S161:U161,\"|\")","v":{"$error":"#NAME?"}},2,64,300,{"$f":"IF(W161<>0,[1]!SUMSTRING(W161:Y161,\"#\"),\"\")","v":{"$error":"#NAME?"}}]
[1,6009,"生命",147,"魔抗",22,{"$nulls":6},1,147,4,22,"","",{"$f":"[1]!SUMSTRING(M162:N162,\"#\")","v":{"$error":"#NAME?"}},{"$f":"[1]!SUMSTRING(O162:P162,\"#\")","v":{"$error":"#NAME?"}},{"$f":"IF(Q162<>0,[1]!SUMSTRING(Q162:R162,\"#\"),\"\")","v":{"$error":"#NAME?"}},{"$f":"[1]!SUMSTRING(S162:U162,\"|\")","v":{"$error":"#NAME?"}},"","","",{"$f":"IF(W162<>0,[1]!SUMSTRING(W162:Y162,\"#\"),\"\")","v":{"$error":"#NAME?"}}]
[2,6009,"生命",294,"魔抗",44,null,null,"武卫","生命百分比",300,null,1,294,4,44,"","",{"$f":"[1]!SUMSTRING(M163:N163,\"#\")","v":{"$error":"#NAME?"}},{"$f":"[1]!SUMSTRING(O163:P163,\"#\")","v":{"$error":"#NAME?"}},{"$f":"IF(Q163<>0,[1]!SUMSTRING(Q163:R163,\"#\"),\"\")","v":{"$error":"#NAME?"}},{"$f":"[1]!SUMSTRING(S163:U163,\"|\")","v":{"$error":"#NAME?"}},1,61,300,{"$f":"IF(W163<>0,[1]!SUMSTRING(W163:Y163,\"#\"),\"\")","v":{"$error":"#NAME?"}}]
[3,6009,"生命",441,"魔抗",66,{"$nulls":6},1,441,4,66,"","",{"$f":"[1]!SUMSTRING(M164:N164,\"#\")","v":{"$error":"#NAME?"}},{"$f":"[1]!SUMSTRING(O164:P164,\"#\")","v":{"$error":"#NAME?"}},{"$f":"IF(Q164<>0,[1]!SUMSTRING(Q164:R164,\"#\"),\"\")","v":{"$error":"#NAME?"}},{"$f":"[1]!SUMSTRING(S164:U164,\"|\")","v":{"$error":"#NAME?"}},"","","",{"$f":"IF(W164<>0,[1]!SUMSTRING(W164:Y164,\"#\"),\"\")","v":{"$error":"#NAME?"}}]
[4,6009,"生命",588,"魔抗",88,{"$nulls":6},1,588,4,88,"","",{"$f":"[1]!SUMSTRING(M165:N165,\"#\")","v":{"$error":"#NAME?"}},{"$f":"[1]!SUMSTRING(O165:P165,\"#\")","v":{"$error":"#NAME?"}},{"$f":"IF(Q165<>0,[1]!SUMSTRING(Q165:R165,\"#\"),\"\")","v":{"$error":"#NAME?"}},{"$f":"[1]!SUMSTRING(S165:U165,\"|\")","v":{"$error":"#NAME?"}},"","","",{"$f":"IF(W165<>0,[1]!SUMSTRING(W165:Y165,\"#\"),\"\")","v":{"$error":"#NAME?"}}]
[5,6009,"生命",735,"魔抗",110,null,null,"生花","生命百分比",300,null,1,735,4,110,"","",{"$f":"[1]!SUMSTRING(M166:N166,\"#\")","v":{"$error":"#NAME?"}},{"$f":"[1]!SUMSTRING(O166:P166,\"#\")","v":{"$error":"#NAME?"}},{"$f":"IF(Q166<>0,[1]!SUMSTRING(Q166:R166,\"#\"),\"\")","v":{"$error":"#NAME?"}},{"$f":"[1]!SUMSTRING(S166:U166,\"|\")","v":{"$error":"#NAME?"}},5,61,300,{"$f":"IF(W166<>0,[1]!SUMSTRING(W166:Y166,\"#\"),\"\")","v":{"$error":"#NAME?"}}]
[6,6009,"生命",882,"魔抗",132,{"$nulls":6},1,882,4,132,"","",{"$f":"[1]!SUMSTRING(M167:N167,\"#\")","v":{"$error":"#NAME?"}},{"$f":"[1]!SUMSTRING(O167:P167,\"#\")","v":{"$error":"#NAME?"}},{"$f":"IF(Q167<>0,[1]!SUMSTRING(Q167:R167,\"#\"),\"\")","v":{"$error":"#NAME?"}},{"$f":"[1]!SUMSTRING(S167:U167,\"|\")","v":{"$error":"#NAME?"}},"","","",{"$f":"IF(W167<>0,[1]!SUMSTRING(W167:Y167,\"#\"),\"\")","v":{"$error":"#NAME?"}}]
[7,6009,"生命",1029,"魔抗",154,{"$nulls":6},1,1029,4,154,"","",{"$f":"[1]!SUMSTRING(M168:N168,\"#\")","v":{"$error":"#NAME?"}},{"$f":"[1]!SUMSTRING(O168:P168,\"#\")","v":{"$error":"#NAME?"}},{"$f":"IF(Q168<>0,[1]!SUMSTRING(Q168:R168,\"#\"),\"\")","v":{"$error":"#NAME?"}},{"$f":"[1]!SUMSTRING(S168:U168,\"|\")","v":{"$error":"#NAME?"}},"","","",{"$f":"IF(W168<>0,[1]!SUMSTRING(W168:Y168,\"#\"),\"\")","v":{"$error":"#NAME?"}}]
[8,6009,"生命",1176,"魔抗",176,null,null,"秘法","生命百分比",300,null,1,1176,4,176,"","",{"$f":"[1]!SUMSTRING(M169:N169,\"#\")","v":{"$error":"#NAME?"}},{"$f":"[1]!SUMSTRING(O169:P169,\"#\")","v":{"$error":"#NAME?"}},{"$f":"IF(Q169<>0,[1]!SUMSTRING(Q169:R169,\"#\"),\"\")","v":{"$error":"#NAME?"}},{"$f":"[1]!SUMSTRING(S169:U169,\"|\")","v":{"$error":"#NAME?"}},3,61,300,{"$f":"IF(W169<>0,[1]!SUMSTRING(W169:Y169,\"#\"),\"\")","v":{"$error":"#NAME?"}}]
[9,6009,"生命",1323,"魔抗",198,{"$nulls":6},1,1323,4,198,"","",{"$f":"[1]!SUMSTRING(M170:N170,\"#\")","v":{"$error":"#NAME?"}},{"$f":"[1]!SUMSTRING(O170:P170,\"#\")","v":{"$error":"#NAME?"}},{"$f":"IF(Q170<>0,[1]!SUMSTRING(Q170:R170,\"#\"),\"\")","v":{"$error":"#NAME?"}},{"$f":"[1]!SUMSTRING(S170:U170,\"|\")","v":{"$error":"#NAME?"}},"","","",{"$f":"IF(W170<>0,[1]!SUMSTRING(W170:Y170,\"#\"),\"\")","v":{"$error":"#NAME?"}}]
[10,6009,"生命",1470,"魔抗",220,{"$nulls":6},1,1470,4,220,"","",{"$f":"[1]!SUMSTRING(M171:N171,\"#\")","v":{"$error":"#NAME?"}},{"$f":"[1]!SUMSTRING(O171:P171,\"#\")","v":{"$error":"#NAME?"}},{"$f":"IF(Q171<>0,[1]!SUMSTRING(Q171:R171,\"#\"),\"\")","v":{"$error":"#NAME?"}},{"$f":"[1]!SUMSTRING(S171:U171,\"|\")","v":{"$error":"#NAME?"}},"","","",{"$f":"IF(W171<>0,[1]!SUMSTRING(W171:Y171,\"#\"),\"\")","v":{"$error":"#NAME?"}}]
[11,6009,"生命",1617,"魔抗",242,null,null,"玄策","生命百分比",300,null,1,1617,4,242,"","",{"$f":"[1]!SUMSTRING(M172:N172,\"#\")","v":{"$error":"#NAME?"}},{"$f":"[1]!SUMSTRING(O172:P172,\"#\")","v":{"$error":"#NAME?"}},{"$f":"IF(Q172<>0,[1]!SUMSTRING(Q172:R172,\"#\"),\"\")","v":{"$error":"#NAME?"}},{"$f":"[1]!SUMSTRING(S172:U172,\"|\")","v":{"$error":"#NAME?"}},4,61,300,{"$f":"IF(W172<>0,[1]!SUMSTRING(W172:Y172,\"#\"),\"\")","v":{"$error":"#NAME?"}}]
[12,6009,"生命",1764,"魔抗",264,{"$nulls":6},1,1764,4,264,"","",{"$f":"[1]!SUMSTRING(M173:N173,\"#\")","v":{"$error":"#NAME?"}},{"$f":"[1]!SUMSTRING(O173:P173,\"#\")","v":{"$error":"#NAME?"}},{"$f":"IF(Q173<>0,[1]!SUMSTRING(Q173:R173,\"#\"),\"\")","v":{"$error":"#NAME?"}},{"$f":"[1]!SUMSTRING(S173:U173,\"|\")","v":{"$error":"#NAME?"}},"","","",{"$f":"IF(W173<>0,[1]!SUMSTRING(W173:Y173,\"#\"),\"\")","v":{"$error":"#NAME?"}}]
[13,6009,"生命",1911,"魔抗",286,{"$nulls":6},1,1911,4,286,"","",{"$f":"[1]!SUMSTRING(M174:N174,\"#\")","v":{"$error":"#NAME?"}},{"$f":"[1]!SUMSTRING(O174:P174,\"#\")","v":{"$error":"#NAME?"}},{"$f":"IF(Q174<>0,[1]!SUMSTRING(Q174:R174,\"#\"),\"\")","v":{"$error":"#NAME?"}},{"$f":"[1]!SUMSTRING(S174:U174,\"|\")","v":{"$error":"#NAME?"}},"","","",{"$f":"IF(W174<>0,[1]!SUMSTRING(W174:Y174,\"#\"),\"\")","v":{"$error":"#NAME?"}}]
[14,6009,"生命",2058,"魔抗",308,null,null,"天罚","生命百分比",300,null,1,2058,4,308,"","",{"$f":"[1]!SUMSTRING(M175:N175,\"#\")","v":{"$error":"#NAME?"}},{"$f":"[1]!SUMSTRING(O175:P175,\"#\")","v":{"$error":"#NAME?"}},{"$f":"IF(Q175<>0,[1]!SUMSTRING(Q175:R175,\"#\"),\"\")","v":{"$error":"#NAME?"}},{"$f":"[1]!SUMSTRING(S175:U175,\"|\")","v":{"$error":"#NAME?"}},2,61,300,{"$f":"IF(W175<>0,[1]!SUMSTRING(W175:Y175,\"#\"),\"\")","v":{"$error":"#NAME?"}}]
[15,6009,"生命",2205,"魔抗",330,{"$nulls":6},1,2205,4,330,"","",{"$f":"[1]!SUMSTRING(M176:N176,\"#\")","v":{"$error":"#NAME?"}},{"$f":"[1]!SUMSTRING(O176:P176,\"#\")","v":{"$error":"#NAME?"}},{"$f":"IF(Q176<>0,[1]!SUMSTRING(Q176:R176,\"#\"),\"\")","v":{"$error":"#NAME?"}},{"$f":"[1]!SUMSTRING(S176:U176,\"|\")","v":{"$error":"#NAME?"}},"","","",{"$f":"IF(W176<>0,[1]!SUMSTRING(W176:Y176,\"#\"),\"\")","v":{"$error":"#NAME?"}}]
[16,6009,"生命",2352,"魔抗",352,{"$nulls":6},1,2352,4,352,"","",{"$f":"[1]!SUMSTRING(M177:N177,\"#\")","v":{"$error":"#NAME?"}},{"$f":"[1]!SUMSTRING(O177:P177,\"#\")","v":{"$error":"#NAME?"}},{"$f":"IF(Q177<>0,[1]!SUMSTRING(Q177:R177,\"#\"),\"\")","v":{"$error":"#NAME?"}},{"$f":"[1]!SUMSTRING(S177:U177,\"|\")","v":{"$error":"#NAME?"}},"","","",{"$f":"IF(W177<>0,[1]!SUMSTRING(W177:Y177,\"#\"),\"\")","v":{"$error":"#NAME?"}}]
[17,6009,"生命",2500,"魔抗",375,null,null,"秘法","生命百分比",300,null,1,2500,4,375,"","",{"$f":"[1]!SUMSTRING(M178:N178,\"#\")","v":{"$error":"#NAME?"}},{"$f":"[1]!SUMSTRING(O178:P178,\"#\")","v":{"$error":"#NAME?"}},{"$f":"IF(Q178<>0,[1]!SUMSTRING(Q178:R178,\"#\"),\"\")","v":{"$error":"#NAME?"}},{"$f":"[1]!SUMSTRING(S178:U178,\"|\")","v":{"$error":"#NAME?"}},3,61,300,{"$f":"IF(W178<>0,[1]!SUMSTRING(W178:Y178,\"#\"),\"\")","v":{"$error":"#NAME?"}}]
[18,6009,"生命",2647,"魔抗",397,{"$nulls":6},1,2647,4,397,"","",{"$f":"[1]!SUMSTRING(M179:N179,\"#\")","v":{"$error":"#NAME?"}},{"$f":"[1]!SUMSTRING(O179:P179,\"#\")","v":{"$error":"#NAME?"}},{"$f":"IF(Q179<>0,[1]!SUMSTRING(Q179:R179,\"#\"),\"\")","v":{"$error":"#NAME?"}},{"$f":"[1]!SUMSTRING(S179:U179,\"|\")","v":{"$error":"#NAME?"}},"","","",{"$f":"IF(W179<>0,[1]!SUMSTRING(W179:Y179,\"#\"),\"\")","v":{"$error":"#NAME?"}}]
[19,6009,"生命",2794,"魔抗",419,{"$nulls":6},1,2794,4,419,"","",{"$f":"[1]!SUMSTRING(M180:N180,\"#\")","v":{"$error":"#NAME?"}},{"$f":"[1]!SUMSTRING(O180:P180,\"#\")","v":{"$error":"#NAME?"}},{"$f":"IF(Q180<>0,[1]!SUMSTRING(Q180:R180,\"#\"),\"\")","v":{"$error":"#NAME?"}},{"$f":"[1]!SUMSTRING(S180:U180,\"|\")","v":{"$error":"#NAME?"}},"","","",{"$f":"IF(W180<>0,[1]!SUMSTRING(W180:Y180,\"#\"),\"\")","v":{"$error":"#NAME?"}}]
[20,6009,"生命",2941,"魔抗",441,null,null,"天罚","生命百分比",300,null,1,2941,4,441,"","",{"$f":"[1]!SUMSTRING(M181:N181,\"#\")","v":{"$error":"#NAME?"}},{"$f":"[1]!SUMSTRING(O181:P181,\"#\")","v":{"$error":"#NAME?"}},{"$f":"IF(Q181<>0,[1]!SUMSTRING(Q181:R181,\"#\"),\"\")","v":{"$error":"#NAME?"}},{"$f":"[1]!SUMSTRING(S181:U181,\"|\")","v":{"$error":"#NAME?"}},2,61,300,{"$f":"IF(W181<>0,[1]!SUMSTRING(W181:Y181,\"#\"),\"\")","v":{"$error":"#NAME?"}}]
[1,6010,"生命",147,"护甲",22,{"$nulls":6},1,147,3,22,"","",{"$f":"[1]!SUMSTRING(M182:N182,\"#\")","v":{"$error":"#NAME?"}},{"$f":"[1]!SUMSTRING(O182:P182,\"#\")","v":{"$error":"#NAME?"}},{"$f":"IF(Q182<>0,[1]!SUMSTRING(Q182:R182,\"#\"),\"\")","v":{"$error":"#NAME?"}},{"$f":"[1]!SUMSTRING(S182:U182,\"|\")","v":{"$error":"#NAME?"}},"","","",{"$f":"IF(W182<>0,[1]!SUMSTRING(W182:Y182,\"#\"),\"\")","v":{"$error":"#NAME?"}}]
[2,6010,"生命",294,"护甲",44,null,null,"武卫","护甲百分比",300,null,1,294,3,44,"","",{"$f":"[1]!SUMSTRING(M183:N183,\"#\")","v":{"$error":"#NAME?"}},{"$f":"[1]!SUMSTRING(O183:P183,\"#\")","v":{"$error":"#NAME?"}},{"$f":"IF(Q183<>0,[1]!SUMSTRING(Q183:R183,\"#\"),\"\")","v":{"$error":"#NAME?"}},{"$f":"[1]!SUMSTRING(S183:U183,\"|\")","v":{"$error":"#NAME?"}},1,63,300,{"$f":"IF(W183<>0,[1]!SUMSTRING(W183:Y183,\"#\"),\"\")","v":{"$error":"#NAME?"}}]
[3,6010,"生命",441,"护甲",66,{"$nulls":6},1,441,3,66,"","",{"$f":"[1]!SUMSTRING(M184:N184,\"#\")","v":{"$error":"#NAME?"}},{"$f":"[1]!SUMSTRING(O184:P184,\"#\")","v":{"$error":"#NAME?"}},{"$f":"IF(Q184<>0,[1]!SUMSTRING(Q184:R184,\"#\"),\"\")","v":{"$error":"#NAME?"}},{"$f":"[1]!SUMSTRING(S184:U184,\"|\")","v":{"$error":"#NAME?"}},"","","",{"$f":"IF(W184<>0,[1]!SUMSTRING(W184:Y184,\"#\"),\"\")","v":{"$error":"#NAME?"}}]
[4,6010,"生命",588,"护甲",88,{"$nulls":6},1,588,3,88,"","",{"$f":"[1]!SUMSTRING(M185:N185,\"#\")","v":{"$error":"#NAME?"}},{"$f":"[1]!SUMSTRING(O185:P185,\"#\")","v":{"$error":"#NAME?"}},{"$f":"IF(Q185<>0,[1]!SUMSTRING(Q185:R185,\"#\"),\"\")","v":{"$error":"#NAME?"}},{"$f":"[1]!SUMSTRING(S185:U185,\"|\")","v":{"$error":"#NAME?"}},"","","",{"$f":"IF(W185<>0,[1]!SUMSTRING(W185:Y185,\"#\"),\"\")","v":{"$error":"#NAME?"}}]
[5,6010,"生命",735,"护甲",110,null,null,"生花","护甲百分比",300,null,1,735,3,110,"","",{"$f":"[1]!SUMSTRING(M186:N186,\"#\")","v":{"$error":"#NAME?"}},{"$f":"[1]!SUMSTRING(O186:P186,\"#\")","v":{"$error":"#NAME?"}},{"$f":"IF(Q186<>0,[1]!SUMSTRING(Q186:R186,\"#\"),\"\")","v":{"$error":"#NAME?"}},{"$f":"[1]!SUMSTRING(S186:U186,\"|\")","v":{"$error":"#NAME?"}},5,63,300,{"$f":"IF(W186<>0,[1]!SUMSTRING(W186:Y186,\"#\"),\"\")","v":{"$error":"#NAME?"}}]
[6,6010,"生命",882,"护甲",132,{"$nulls":6},1,882,3,132,"","",{"$f":"[1]!SUMSTRING(M187:N187,\"#\")","v":{"$error":"#NAME?"}},{"$f":"[1]!SUMSTRING(O187:P187,\"#\")","v":{"$error":"#NAME?"}},{"$f":"IF(Q187<>0,[1]!SUMSTRING(Q187:R187,\"#\"),\"\")","v":{"$error":"#NAME?"}},{"$f":"[1]!SUMSTRING(S187:U187,\"|\")","v":{"$error":"#NAME?"}},"","","",{"$f":"IF(W187<>0,[1]!SUMSTRING(W187:Y187,\"#\"),\"\")","v":{"$error":"#NAME?"}}]
[7,6010,"生命",1029,"护甲",154,{"$nulls":6},1,1029,3,154,"","",{"$f":"[1]!SUMSTRING(M188:N188,\"#\")","v":{"$error":"#NAME?"}},{"$f":"[1]!SUMSTRING(O188:P188,\"#\")","v":{"$error":"#NAME?"}},{"$f":"IF(Q188<>0,[1]!SUMSTRING(Q188:R188,\"#\"),\"\")","v":{"$error":"#NAME?"}},{"$f":"[1]!SUMSTRING(S188:U188,\"|\")","v":{"$error":"#NAME?"}},"","","",{"$f":"IF(W188<>0,[1]!SUMSTRING(W188:Y188,\"#\"),\"\")","v":{"$error":"#NAME?"}}]
[8,6010,"生命",1176,"护甲",176,null,null,"秘法","护甲百分比",300,null,1,1176,3,176,"","",{"$f":"[1]!SUMSTRING(M189:N189,\"#\")","v":{"$error":"#NAME?"}},{"$f":"[1]!SUMSTRING(O189:P189,\"#\")","v":{"$error":"#NAME?"}},{"$f":"IF(Q189<>0,[1]!SUMSTRING(Q189:R189,\"#\"),\"\")","v":{"$error":"#NAME?"}},{"$f":"[1]!SUMSTRING(S189:U189,\"|\")","v":{"$error":"#NAME?"}},3,63,300,{"$f":"IF(W189<>0,[1]!SUMSTRING(W189:Y189,\"#\"),\"\")","v":{"$error":"#NAME?"}}]
[9,6010,"生命",1323,"护甲",198,{"$nulls":6},1,1323,3,198,"","",{"$f":"[1]!SUMSTRING(M190:N190,\"#\")","v":{"$error":"#NAME?"}},{"$f":"[1]!SUMSTRING(O190:P190,\"#\")","v":{"$error":"#NAME?"}},{"$f":"IF(Q190<>0,[1]!SUMSTRING(Q190:R190,\"#\"),\"\")","v":{"$error":"#NAME?"}},{"$f":"[1]!SUMSTRING(S190:U190,\"|\")","v":{"$error":"#NAME?"}},"","","",{"$f":"IF(W190<>0,[1]!SUMSTRING(W190:Y190,\"#\"),\"\")","v":{"$error":"#NAME?"}}]
[10,6010,"生命",1470,"护甲",220,{"$nulls":6},1,1470,3,220,"","",{"$f":"[1]!SUMSTRING(M191:N191,\"#\")","v":{"$error":"#NAME?"}},{"$f":"[1]!SUMSTRING(O191:P191,\"#\")","v":{"$error":"#NAME?"}},{"$f":"IF(Q191<>0,[1]!SUMSTRING(Q191:R191,\"#\"),\"\")","v":{"$error":"#NAME?"}},{"$f":"[1]!SUMSTRING(S191:U191,\"|\")","v":{"$error":"#NAME?"}},"","","",{"$f":"IF(W191<>0,[1]!SUMSTRING(W191:Y191,\"#\"),\"\")","v":{"$error":"#NAME?"}}]
[11,6010,"生命",1617,"护甲",242,null,null,"玄策","护甲百分比",300,null,1,1617,3,242,"","",{"$f":"[1]!SUMSTRING(M192:N192,\"#\")","v":{"$error":"#NAME?"}},{"$f":"[1]!SUMSTRING(O192:P192,\"#\")","v":{"$error":"#NAME?"}},{"$f":"IF(Q192<>0,[1]!SUMSTRING(Q192:R192,\"#\"),\"\")","v":{"$error":"#NAME?"}},{"$f":"[1]!SUMSTRING(S192:U192,\"|\")","v":{"$error":"#NAME?"}},4,63,300,{"$f":"IF(W192<>0,[1]!SUMSTRING(W192:Y192,\"#\"),\"\")","v":{"$error":"#NAME?"}}]
[12,6010,"生命",1764,"护甲",264,{"$nulls":6},1,1764,3,264,"","",{"$f":"[1]!SUMSTRING(M193:N193,\"#\")","v":{"$error":"#NAME?"}},{"$f":"[1]!SUMSTRING(O193:P193,\"#\")","v":{"$error":"#NAME?"}},{"$f":"IF(Q193<>0,[1]!SUMSTRING(Q193:R193,\"#\"),\"\")","v":{"$error":"#NAME?"}},{"$f":"[1]!SUMSTRING(S193:U193,\"|\")","v":{"$error":"#NAME?"}},"","","",{"$f":"IF(W193<>0,[1]!SUMSTRING(W193:Y193,\"#\"),\"\")","v":{"$error":"#NAME?"}}]
[13,6010,"生命",1911,"护甲",286,{"$nulls":6},1,1911,3,286,"","",{"$f":"[1]!SUMSTRING(M194:N194,\"#\")","v":{"$error":"#NAME?"}},{"$f":"[1]!SUMSTRING(O194:P194,\"#\")","v":{"$error":"#NAME?"}},{"$f":"IF(Q194<>0,[1]!SUMSTRING(Q194:R194,\"#\"),\"\")","v":{"$error":"#NAME?"}},{"$f":"[1]!SUMSTRING(S194:U194,\"|\")","v":{"$error":"#NAME?"}},"","","",{"$f":"IF(W194<>0,[1]!SUMSTRING(W194:Y194,\"#\"),\"\")","v":{"$error":"#NAME?"}}]
[14,6010,"生命",2058,"护甲",308,null,null,"天罚","护甲百分比",300,null,{"$f":"VLOOKUP(C195,$AB:$AC,2,0)","v":1},{"$f":"D195","v":2058},{"$f":"VLOOKUP(E195,$AB:$AC,2,0)","v":3},{"$f":"F195","v":308},{"$f":"IF(G195<>0,VLOOKUP(G195,$AB:$AC,2,0),\"\")","v":""},{"$f":"IF(H195<>0,H195,\"\")","v":""},{"$f":"[1]!SUMSTRING(M195:N195,\"#\")","v":{"$error":"#NAME?"}},{"$f":"[1]!SUMSTRING(O195:P195,\"#\")","v":{"$error":"#NAME?"}},{"$f":"IF(Q195<>0,[1]!SUMSTRING(Q195:R195,\"#\"),\"\")","v":{"$error":"#NAME?"}},{"$f":"[1]!SUMSTRING(S195:U195,\"|\")","v":{"$error":"#NAME?"}},2,{"$f":"IF(J195<>0,VLOOKUP(J195,$AB:$AC,2,0),\"\")","v":63},{"$f":"IF(K195<>0,K195,\"\")","v":300},{"$f":"IF(W195<>0,[1]!SUMSTRING(W195:Y195,\"#\"),\"\")","v":{"$error":"#NAME?"}}]
[15,6010,"生命",2205,"护甲",330,{"$nulls":6},1,2205,3,330,"","",{"$f":"[1]!SUMSTRING(M196:N196,\"#\")","v":{"$error":"#NAME?"}},{"$f":"[1]!SUMSTRING(O196:P196,\"#\")","v":{"$error":"#NAME?"}},{"$f":"IF(Q196<>0,[1]!SUMSTRING(Q196:R196,\"#\"),\"\")","v":{"$error":"#NAME?"}},{"$f":"[1]!SUMSTRING(S196:U196,\"|\")","v":{"$error":"#NAME?"}},{"$f":"IF(I196<>0,VLOOKUP(I196,$AG$3:$AH$7,2,0),\"\")","v":""},"","",{"$f":"IF(W196<>0,[1]!SUMSTRING(W196:Y196,\"#\"),\"\")","v":{"$error":"#NAME?"}}]
[16,6010,"生命",2352,"护甲",352,{"$nulls":6},1,2352,3,352,"","",{"$f":"[1]!SUMSTRING(M197:N197,\"#\")","v":{"$error":"#NAME?"}},{"$f":"[1]!SUMSTRING(O197:P197,\"#\")","v":{"$error":"#NAME?"}},{"$f":"IF(Q197<>0,[1]!SUMSTRING(Q197:R197,\"#\"),\"\")","v":{"$error":"#NAME?"}},{"$f":"[1]!SUMSTRING(S197:U197,\"|\")","v":{"$error":"#NAME?"}},"","","",{"$f":"IF(W197<>0,[1]!SUMSTRING(W197:Y197,\"#\"),\"\")","v":{"$error":"#NAME?"}}]
[17,6010,"生命",2500,"护甲",375,null,null,"秘法","护甲百分比",300,null,1,2500,3,375,"","",{"$f":"[1]!SUMSTRING(M198:N198,\"#\")","v":{"$error":"#NAME?"}},{"$f":"[1]!SUMSTRING(O198:P198,\"#\")","v":{"$error":"#NAME?"}},{"$f":"IF(Q198<>0,[1]!SUMSTRING(Q198:R198,\"#\"),\"\")","v":{"$error":"#NAME?"}},{"$f":"[1]!SUMSTRING(S198:U198,\"|\")","v":{"$error":"#NAME?"}},3,63,300,{"$f":"IF(W198<>0,[1]!SUMSTRING(W198:Y198,\"#\"),\"\")","v":{"$error":"#NAME?"}}]
[18,6010,"生命",2647,"护甲",397,{"$nulls":6},1,2647,3,397,"","",{"$f":"[1]!SUMSTRING(M199:N199,\"#\")","v":{"$error":"#NAME?"}},{"$f":"[1]!SUMSTRING(O199:P199,\"#\")","v":{"$error":"#NAME?"}},{"$f":"IF(Q199<>0,[1]!SUMSTRING(Q199:R199,\"#\"),\"\")","v":{"$error":"#NAME?"}},{"$f":"[1]!SUMSTRING(S199:U199,\"|\")","v":{"$error":"#NAME?"}},"","","",{"$f":"IF(W199<>0,[1]!SUMSTRING(W199:Y199,\"#\"),\"\")","v":{"$error":"#NAME?"}}]
[19,6010,"生命",2794,"护甲",419,{"$nulls":6},1,2794,3,419,"","",{"$f":"[1]!SUMSTRING(M200:N200,\"#\")","v":{"$error":"#NAME?"}},{"$f":"[1]!SUMSTRING(O200:P200,\"#\")","v":{"$error":"#NAME?"}},{"$f":"IF(Q200<>0,[1]!SUMSTRING(Q200:R200,\"#\"),\"\")","v":{"$error":"#NAME?"}},{"$f":"[1]!SUMSTRING(S200:U200,\"|\")","v":{"$error":"#NAME?"}},"","","",{"$f":"IF(W200<>0,[1]!SUMSTRING(W200:Y200,\"#\"),\"\")","v":{"$error":"#NAME?"}}]
[20,6010,"生命",2941,"护甲",441,null,null,"天罚","护甲百分比",300,null,1,2941,3,441,"","",{"$f":"[1]!SUMSTRING(M201:N201,\"#\")","v":{"$error":"#NAME?"}},{"$f":"[1]!SUMSTRING(O201:P201,\"#\")","v":{"$error":"#NAME?"}},{"$f":"IF(Q201<>0,[1]!SUMSTRING(Q201:R201,\"#\"),\"\")","v":{"$error":"#NAME?"}},{"$f":"[1]!SUMSTRING(S201:U201,\"|\")","v":{"$error":"#NAME?"}},2,63,300,{"$f":"IF(W201<>0,[1]!SUMSTRING(W201:Y201,\"#\"),\"\")","v":{"$error":"#NAME?"}}]
[1,6011,"生命",147,"攻击",22,{"$nulls":6},1,147,2,22,"","",{"$f":"[1]!SUMSTRING(M202:N202,\"#\")","v":{"$error":"#NAME?"}},{"$f":"[1]!SUMSTRING(O202:P202,\"#\")","v":{"$error":"#NAME?"}},{"$f":"IF(Q202<>0,[1]!SUMSTRING(Q202:R202,\"#\"),\"\")","v":{"$error":"#NAME?"}},{"$f":"[1]!SUMSTRING(S202:U202,\"|\")","v":{"$error":"#NAME?"}},"","","",{"$f":"IF(W202<>0,[1]!SUMSTRING(W202:Y202,\"#\"),\"\")","v":{"$error":"#NAME?"}}]
[2,6011,"生命",294,"攻击",44,null,null,"武卫","魔抗百分比",300,null,1,294,2,44,"","",{"$f":"[1]!SUMSTRING(M203:N203,\"#\")","v":{"$error":"#NAME?"}},{"$f":"[1]!SUMSTRING(O203:P203,\"#\")","v":{"$error":"#NAME?"}},{"$f":"IF(Q203<>0,[1]!SUMSTRING(Q203:R203,\"#\"),\"\")","v":{"$error":"#NAME?"}},{"$f":"[1]!SUMSTRING(S203:U203,\"|\")","v":{"$error":"#NAME?"}},1,64,300,{"$f":"IF(W203<>0,[1]!SUMSTRING(W203:Y203,\"#\"),\"\")","v":{"$error":"#NAME?"}}]
[3,6011,"生命",441,"攻击",66,{"$nulls":6},1,441,2,66,"","",{"$f":"[1]!SUMSTRING(M204:N204,\"#\")","v":{"$error":"#NAME?"}},{"$f":"[1]!SUMSTRING(O204:P204,\"#\")","v":{"$error":"#NAME?"}},{"$f":"IF(Q204<>0,[1]!SUMSTRING(Q204:R204,\"#\"),\"\")","v":{"$error":"#NAME?"}},{"$f":"[1]!SUMSTRING(S204:U204,\"|\")","v":{"$error":"#NAME?"}},"","","",{"$f":"IF(W204<>0,[1]!SUMSTRING(W204:Y204,\"#\"),\"\")","v":{"$error":"#NAME?"}}]
[4,6011,"生命",588,"攻击",88,{"$nulls":6},1,588,2,88,"","",{"$f":"[1]!SUMSTRING(M205:N205,\"#\")","v":{"$error":"#NAME?"}},{"$f":"[1]!SUMSTRING(O205:P205,\"#\")","v":{"$error":"#NAME?"}},{"$f":"IF(Q205<>0,[1]!SUMSTRING(Q205:R205,\"#\"),\"\")","v":{"$error":"#NAME?"}},{"$f":"[1]!SUMSTRING(S205:U205,\"|\")","v":{"$error":"#NAME?"}},"","","",{"$f":"IF(W205<>0,[1]!SUMSTRING(W205:Y205,\"#\"),\"\")","v":{"$error":"#NAME?"}}]
[5,6011,"生命",735,"攻击",110,null,null,"生花","魔抗百分比",300,null,1,735,2,110,"","",{"$f":"[1]!SUMSTRING(M206:N206,\"#\")","v":{"$error":"#NAME?"}},{"$f":"[1]!SUMSTRING(O206:P206,\"#\")","v":{"$error":"#NAME?"}},{"$f":"IF(Q206<>0,[1]!SUMSTRING(Q206:R206,\"#\"),\"\")","v":{"$error":"#NAME?"}},{"$f":"[1]!SUMSTRING(S206:U206,\"|\")","v":{"$error":"#NAME?"}},5,64,300,{"$f":"IF(W206<>0,[1]!SUMSTRING(W206:Y206,\"#\"),\"\")","v":{"$error":"#NAME?"}}]
[6,6011,"生命",882,"攻击",132,{"$nulls":6},1,882,2,132,"","",{"$f":"[1]!SUMSTRING(M207:N207,\"#\")","v":{"$error":"#NAME?"}},{"$f":"[1]!SUMSTRING(O207:P207,\"#\")","v":{"$error":"#NAME?"}},{"$f":"IF(Q207<>0,[1]!SUMSTRING(Q207:R207,\"#\"),\"\")","v":{"$error":"#NAME?"}},{"$f":"[1]!SUMSTRING(S207:U207,\"|\")","v":{"$error":"#NAME?"}},"","","",{"$f":"IF(W207<>0,[1]!SUMSTRING(W207:Y207,\"#\"),\"\")","v":{"$error":"#NAME?"}}]
[7,6011,"生命",1029,"攻击",154,{"$nulls":6},1,1029,2,154,"","",{"$f":"[1]!SUMSTRING(M208:N208,\"#\")","v":{"$error":"#NAME?"}},{"$f":"[1]!SUMSTRING(O208:P208,\"#\")","v":{"$error":"#NAME?"}},{"$f":"IF(Q208<>0,[1]!SUMSTRING(Q208:R208,\"#\"),\"\")","v":{"$error":"#NAME?"}},{"$f":"[1]!SUMSTRING(S208:U208,\"|\")","v":{"$error":"#NAME?"}},"","","",{"$f":"IF(W208<>0,[1]!SUMSTRING(W208:Y208,\"#\"),\"\")","v":{"$error":"#NAME?"}}]
[8,6011,"生命",1176,"攻击",176,null,null,"秘法","魔抗百分比",300,null,1,1176,2,176,"","",{"$f":"[1]!SUMSTRING(M209:N209,\"#\")","v":{"$error":"#NAME?"}},{"$f":"[1]!SUMSTRING(O209:P209,\"#\")","v":{"$error":"#NAME?"}},{"$f":"IF(Q209<>0,[1]!SUMSTRING(Q209:R209,\"#\"),\"\")","v":{"$error":"#NAME?"}},{"$f":"[1]!SUMSTRING(S209:U209,\"|\")","v":{"$error":"#NAME?"}},3,64,300,{"$f":"IF(W209<>0,[1]!SUMSTRING(W209:Y209,\"#\"),\"\")","v":{"$error":"#NAME?"}}]
[9,6011,"生命",1323,"攻击",198,{"$nulls":6},1,1323,2,198,"","",{"$f":"[1]!SUMSTRING(M210:N210,\"#\")","v":{"$error":"#NAME?"}},{"$f":"[1]!SUMSTRING(O210:P210,\"#\")","v":{"$error":"#NAME?"}},{"$f":"IF(Q210<>0,[1]!SUMSTRING(Q210:R210,\"#\"),\"\")","v":{"$error":"#NAME?"}},{"$f":"[1]!SUMSTRING(S210:U210,\"|\")","v":{"$error":"#NAME?"}},"","","",{"$f":"IF(W210<>0,[1]!SUMSTRING(W210:Y210,\"#\"),\"\")","v":{"$error":"#NAME?"}}]
[10,6011,"生命",1470,"攻击",220,{"$nulls":6},1,1470,2,220,"","",{"$f":"[1]!SUMSTRING(M211:N211,\"#\")","v":{"$error":"#NAME?"}},{"$f":"[1]!SUMSTRING(O211:P211,\"#\")","v":{"$error":"#NAME?"}},{"$f":"IF(Q211<>0,[1]!SUMSTRING(Q211:R211,\"#\"),\"\")","v":{"$error":"#NAME?"}},{"$f":"[1]!SUMSTRING(S211:U211,\"|\")","v":{"$error":"#NAME?"}},"","","",{"$f":"IF(W211<>0,[1]!SUMSTRING(W211:Y211,\"#\"),\"\")","v":{"$error":"#NAME?"}}]
[11,6011,"生命",1617,"攻击",242,null,null,"玄策","魔抗百分比",300,null,1,1617,2,242,"","",{"$f":"[1]!SUMSTRING(M212:N212,\"#\")","v":{"$error":"#NAME?"}},{"$f":"[1]!SUMSTRING(O212:P212,\"#\")","v":{"$error":"#NAME?"}},{"$f":"IF(Q212<>0,[1]!SUMSTRING(Q212:R212,\"#\"),\"\")","v":{"$error":"#NAME?"}},{"$f":"[1]!SUMSTRING(S212:U212,\"|\")","v":{"$error":"#NAME?"}},4,64,300,{"$f":"IF(W212<>0,[1]!SUMSTRING(W212:Y212,\"#\"),\"\")","v":{"$error":"#NAME?"}}]
[12,6011,"生命",1764,"攻击",264,{"$nulls":6},1,1764,2,264,"","",{"$f":"[1]!SUMSTRING(M213:N213,\"#\")","v":{"$error":"#NAME?"}},{"$f":"[1]!SUMSTRING(O213:P213,\"#\")","v":{"$error":"#NAME?"}},{"$f":"IF(Q213<>0,[1]!SUMSTRING(Q213:R213,\"#\"),\"\")","v":{"$error":"#NAME?"}},{"$f":"[1]!SUMSTRING(S213:U213,\"|\")","v":{"$error":"#NAME?"}},"","","",{"$f":"IF(W213<>0,[1]!SUMSTRING(W213:Y213,\"#\"),\"\")","v":{"$error":"#NAME?"}}]
[13,6011,"生命",1911,"攻击",286,{"$nulls":6},1,1911,2,286,"","",{"$f":"[1]!SUMSTRING(M214:N214,\"#\")","v":{"$error":"#NAME?"}},{"$f":"[1]!SUMSTRING(O214:P214,\"#\")","v":{"$error":"#NAME?"}},{"$f":"IF(Q214<>0,[1]!SUMSTRING(Q214:R214,\"#\"),\"\")","v":{"$error":"#NAME?"}},{"$f":"[1]!SUMSTRING(S214:U214,\"|\")","v":{"$error":"#NAME?"}},"","","",{"$f":"IF(W214<>0,[1]!SUMSTRING(W214:Y214,\"#\"),\"\")","v":{"$error":"#NAME?"}}]
[{"$f":"A195","v":14},{"$f":"B195+1","v":6011},"生命",2058,"攻击",308,null,null,"天罚","魔抗百分比",300,null,1,2058,2,308,"","",{"$f":"[1]!SUMSTRING(M215:N215,\"#\")","v":{"$error":"#NAME?"}},{"$f":"[1]!SUMSTRING(O215:P215,\"#\")","v":{"$error":"#NAME?"}},{"$f":"IF(Q215<>0,[1]!SUMSTRING(Q215:R215,\"#\"),\"\")","v":{"$error":"#NAME?"}},{"$f":"[1]!SUMSTRING(S215:U215,\"|\")","v":{"$error":"#NAME?"}},2,64,300,{"$f":"IF(W215<>0,[1]!SUMSTRING(W215:Y215,\"#\"),\"\")","v":{"$error":"#NAME?"}}]
[15,6011,"生命",2205,"攻击",330,{"$nulls":6},1,2205,2,330,"","",{"$f":"[1]!SUMSTRING(M216:N216,\"#\")","v":{"$error":"#NAME?"}},{"$f":"[1]!SUMSTRING(O216:P216,\"#\")","v":{"$error":"#NAME?"}},{"$f":"IF(Q216<>0,[1]!SUMSTRING(Q216:R216,\"#\"),\"\")","v":{"$error":"#NAME?"}},{"$f":"[1]!SUMSTRING(S216:U216,\"|\")","v":{"$error":"#NAME?"}},"","","",{"$f":"IF(W216<>0,[1]!SUMSTRING(W216:Y216,\"#\"),\"\")","v":{"$error":"#NAME?"}}]
[16,6011,"生命",2352,"攻击",352,{"$nulls":6},1,2352,2,352,"","",{"$f":"[1]!SUMSTRING(M217:N217,\"#\")","v":{"$error":"#NAME?"}},{"$f":"[1]!SUMSTRING(O217:P217,\"#\")","v":{"$error":"#NAME?"}},{"$f":"IF(Q217<>0,[1]!SUMSTRING(Q217:R217,\"#\"),\"\")","v":{"$error":"#NAME?"}},{"$f":"[1]!SUMSTRING(S217:U217,\"|\")","v":{"$error":"#NAME?"}},"","","",{"$f":"IF(W217<>0,[1]!SUMSTRING(W217:Y217,\"#\"),\"\")","v":{"$error":"#NAME?"}}]
[17,6011,"生命",2500,"攻击",375,null,null,"秘法","魔抗百分比",300,null,1,2500,2,375,"","",{"$f":"[1]!SUMSTRING(M218:N218,\"#\")","v":{"$error":"#NAME?"}},{"$f":"[1]!SUMSTRING(O218:P218,\"#\")","v":{"$error":"#NAME?"}},{"$f":"IF(Q218<>0,[1]!SUMSTRING(Q218:R218,\"#\"),\"\")","v":{"$error":"#NAME?"}},{"$f":"[1]!SUMSTRING(S218:U218,\"|\")","v":{"$error":"#NAME?"}},3,64,300,{"$f":"IF(W218<>0,[1]!SUMSTRING(W218:Y218,\"#\"),\"\")","v":{"$error":"#NAME?"}}]
[18,6011,"生命",2647,"攻击",397,{"$nulls":6},1,2647,2,397,"","",{"$f":"[1]!SUMSTRING(M219:N219,\"#\")","v":{"$error":"#NAME?"}},{"$f":"[1]!SUMSTRING(O219:P219,\"#\")","v":{"$error":"#NAME?"}},{"$f":"IF(Q219<>0,[1]!SUMSTRING(Q219:R219,\"#\"),\"\")","v":{"$error":"#NAME?"}},{"$f":"[1]!SUMSTRING(S219:U219,\"|\")","v":{"$error":"#NAME?"}},"","","",{"$f":"IF(W219<>0,[1]!SUMSTRING(W219:Y219,\"#\"),\"\")","v":{"$error":"#NAME?"}}]
[19,6011,"生命",2794,"攻击",419,{"$nulls":6},1,2794,2,419,"","",{"$f":"[1]!SUMSTRING(M220:N220,\"#\")","v":{"$error":"#NAME?"}},{"$f":"[1]!SUMSTRING(O220:P220,\"#\")","v":{"$error":"#NAME?"}},{"$f":"IF(Q220<>0,[1]!SUMSTRING(Q220:R220,\"#\"),\"\")","v":{"$error":"#NAME?"}},{"$f":"[1]!SUMSTRING(S220:U220,\"|\")","v":{"$error":"#NAME?"}},"","","",{"$f":"IF(W220<>0,[1]!SUMSTRING(W220:Y220,\"#\"),\"\")","v":{"$error":"#NAME?"}}]
[20,6011,"生命",2941,"攻击",441,null,null,"天罚","魔抗百分比",300,null,1,2941,2,441,"","",{"$f":"[1]!SUMSTRING(M221:N221,\"#\")","v":{"$error":"#NAME?"}},{"$f":"[1]!SUMSTRING(O221:P221,\"#\")","v":{"$error":"#NAME?"}},{"$f":"IF(Q221<>0,[1]!SUMSTRING(Q221:R221,\"#\"),\"\")","v":{"$error":"#NAME?"}},{"$f":"[1]!SUMSTRING(S221:U221,\"|\")","v":{"$error":"#NAME?"}},2,64,300,{"$f":"IF(W221<>0,[1]!SUMSTRING(W221:Y221,\"#\"),\"\")","v":{"$error":"#NAME?"}}]
[1,6012,"生命",147,"魔抗",22,{"$nulls":6},1,147,4,22,"","",{"$f":"[1]!SUMSTRING(M222:N222,\"#\")","v":{"$error":"#NAME?"}},{"$f":"[1]!SUMSTRING(O222:P222,\"#\")","v":{"$error":"#NAME?"}},{"$f":"IF(Q222<>0,[1]!SUMSTRING(Q222:R222,\"#\"),\"\")","v":{"$error":"#NAME?"}},{"$f":"[1]!SUMSTRING(S222:U222,\"|\")","v":{"$error":"#NAME?"}},"","","",{"$f":"IF(W222<>0,[1]!SUMSTRING(W222:Y222,\"#\"),\"\")","v":{"$error":"#NAME?"}}]
[2,6012,"生命",294,"魔抗",44,null,null,"武卫","生命百分比",300,null,1,294,4,44,"","",{"$f":"[1]!SUMSTRING(M223:N223,\"#\")","v":{"$error":"#NAME?"}},{"$f":"[1]!SUMSTRING(O223:P223,\"#\")","v":{"$error":"#NAME?"}},{"$f":"IF(Q223<>0,[1]!SUMSTRING(Q223:R223,\"#\"),\"\")","v":{"$error":"#NAME?"}},{"$f":"[1]!SUMSTRING(S223:U223,\"|\")","v":{"$error":"#NAME?"}},1,61,300,{"$f":"IF(W223<>0,[1]!SUMSTRING(W223:Y223,\"#\"),\"\")","v":{"$error":"#NAME?"}}]
[3,6012,"生命",441,"魔抗",66,{"$nulls":6},1,441,4,66,"","",{"$f":"[1]!SUMSTRING(M224:N224,\"#\")","v":{"$error":"#NAME?"}},{"$f":"[1]!SUMSTRING(O224:P224,\"#\")","v":{"$error":"#NAME?"}},{"$f":"IF(Q224<>0,[1]!SUMSTRING(Q224:R224,\"#\"),\"\")","v":{"$error":"#NAME?"}},{"$f":"[1]!SUMSTRING(S224:U224,\"|\")","v":{"$error":"#NAME?"}},"","","",{"$f":"IF(W224<>0,[1]!SUMSTRING(W224:Y224,\"#\"),\"\")","v":{"$error":"#NAME?"}}]
[4,6012,"生命",588,"魔抗",88,{"$nulls":6},1,588,4,88,"","",{"$f":"[1]!SUMSTRING(M225:N225,\"#\")","v":{"$error":"#NAME?"}},{"$f":"[1]!SUMSTRING(O225:P225,\"#\")","v":{"$error":"#NAME?"}},{"$f":"IF(Q225<>0,[1]!SUMSTRING(Q225:R225,\"#\"),\"\")","v":{"$error":"#NAME?"}},{"$f":"[1]!SUMSTRING(S225:U225,\"|\")","v":{"$error":"#NAME?"}},"","","",{"$f":"IF(W225<>0,[1]!SUMSTRING(W225:Y225,\"#\"),\"\")","v":{"$error":"#NAME?"}}]
[5,6012,"生命",735,"魔抗",110,null,null,"生花","生命百分比",300,null,1,735,4,110,"","",{"$f":"[1]!SUMSTRING(M226:N226,\"#\")","v":{"$error":"#NAME?"}},{"$f":"[1]!SUMSTRING(O226:P226,\"#\")","v":{"$error":"#NAME?"}},{"$f":"IF(Q226<>0,[1]!SUMSTRING(Q226:R226,\"#\"),\"\")","v":{"$error":"#NAME?"}},{"$f":"[1]!SUMSTRING(S226:U226,\"|\")","v":{"$error":"#NAME?"}},5,61,300,{"$f":"IF(W226<>0,[1]!SUMSTRING(W226:Y226,\"#\"),\"\")","v":{"$error":"#NAME?"}}]
[6,6012,"生命",882,"魔抗",132,{"$nulls":6},1,882,4,132,"","",{"$f":"[1]!SUMSTRING(M227:N227,\"#\")","v":{"$error":"#NAME?"}},{"$f":"[1]!SUMSTRING(O227:P227,\"#\")","v":{"$error":"#NAME?"}},{"$f":"IF(Q227<>0,[1]!SUMSTRING(Q227:R227,\"#\"),\"\")","v":{"$error":"#NAME?"}},{"$f":"[1]!SUMSTRING(S227:U227,\"|\")","v":{"$error":"#NAME?"}},"","","",{"$f":"IF(W227<>0,[1]!SUMSTRING(W227:Y227,\"#\"),\"\")","v":{"$error":"#NAME?"}}]
[7,6012,"生命",1029,"魔抗",154,{"$nulls":6},1,1029,4,154,"","",{"$f":"[1]!SUMSTRING(M228:N228,\"#\")","v":{"$error":"#NAME?"}},{"$f":"[1]!SUMSTRING(O228:P228,\"#\")","v":{"$error":"#NAME?"}},{"$f":"IF(Q228<>0,[1]!SUMSTRING(Q228:R228,\"#\"),\"\")","v":{"$error":"#NAME?"}},{"$f":"[1]!SUMSTRING(S228:U228,\"|\")","v":{"$error":"#NAME?"}},"","","",{"$f":"IF(W228<>0,[1]!SUMSTRING(W228:Y228,\"#\"),\"\")","v":{"$error":"#NAME?"}}]
[8,6012,"生命",1176,"魔抗",176,null,null,"秘法","生命百分比",300,null,1,1176,4,176,"","",{"$f":"[1]!SUMSTRING(M229:N229,\"#\")","v":{"$error":"#NAME?"}},{"$f":"[1]!SUMSTRING(O229:P229,\"#\")","v":{"$error":"#NAME?"}},{"$f":"IF(Q229<>0,[1]!SUMSTRING(Q229:R229,\"#\"),\"\")","v":{"$error":"#NAME?"}},{"$f":"[1]!SUMSTRING(S229:U229,\"|\")","v":{"$error":"#NAME?"}},3,61,300,{"$f":"IF(W229<>0,[1]!SUMSTRING(W229:Y229,\"#\"),\"\")","v":{"$error":"#NAME?"}}]
[9,6012,"生命",1323,"魔抗",198,{"$nulls":6},1,1323,4,198,"","",{"$f":"[1]!SUMSTRING(M230:N230,\"#\")","v":{"$error":"#NAME?"}},{"$f":"[1]!SUMSTRING(O230:P230,\"#\")","v":{"$error":"#NAME?"}},{"$f":"IF(Q230<>0,[1]!SUMSTRING(Q230:R230,\"#\"),\"\")","v":{"$error":"#NAME?"}},{"$f":"[1]!SUMSTRING(S230:U230,\"|\")","v":{"$error":"#NAME?"}},"","","",{"$f":"IF(W230<>0,[1]!SUMSTRING(W230:Y230,\"#\"),\"\")","v":{"$error":"#NAME?"}}]
[10,6012,"生命",1470,"魔抗",220,{"$nulls":6},1,1470,4,220,"","",{"$f":"[1]!SUMSTRING(M231:N231,\"#\")","v":{"$error":"#NAME?"}},{"$f":"[1]!SUMSTRING(O231:P231,\"#\")","v":{"$error":"#NAME?"}},{"$f":"IF(Q231<>0,[1]!SUMSTRING(Q231:R231,\"#\"),\"\")","v":{"$error":"#NAME?"}},{"$f":"[1]!SUMSTRING(S231:U231,\"|\")","v":{"$error":"#NAME?"}},"","","",{"$f":"IF(W231<>0,[1]!SUMSTRING(W231:Y231,\"#\"),\"\")","v":{"$error":"#NAME?"}}]
[11,6012,"生命",1617,"魔抗",242,null,null,"玄策","生命百分比",300,null,1,1617,4,242,"","",{"$f":"[1]!SUMSTRING(M232:N232,\"#\")","v":{"$error":"#NAME?"}},{"$f":"[1]!SUMSTRING(O232:P232,\"#\")","v":{"$error":"#NAME?"}},{"$f":"IF(Q232<>0,[1]!SUMSTRING(Q232:R232,\"#\"),\"\")","v":{"$error":"#NAME?"}},{"$f":"[1]!SUMSTRING(S232:U232,\"|\")","v":{"$error":"#NAME?"}},4,61,300,{"$f":"IF(W232<>0,[1]!SUMSTRING(W232:Y232,\"#\"),\"\")","v":{"$error":"#NAME?"}}]
[12,6012,"生命",1764,"魔抗",264,{"$nulls":6},1,1764,4,264,"","",{"$f":"[1]!SUMSTRING(M233:N233,\"#\")","v":{"$error":"#NAME?"}},{"$f":"[1]!SUMSTRING(O233:P233,\"#\")","v":{"$error":"#NAME?"}},{"$f":"IF(Q233<>0,[1]!SUMSTRING(Q233:R233,\"#\"),\"\")","v":{"$error":"#NAME?"}},{"$f":"[1]!SUMSTRING(S233:U233,\"|\")","v":{"$error":"#NAME?"}},"","","",{"$f":"IF(W233<>0,[1]!SUMSTRING(W233:Y233,\"#\"),\"\")","v":{"$error":"#NAME?"}}]
[13,6012,"生命",1911,"魔抗",286,{"$nulls":6},1,1911,4,286,"","",{"$f":"[1]!SUMSTRING(M234:N234,\"#\")","v":{"$error":"#NAME?"}},{"$f":"[1]!SUMSTRING(O234:P234,\"#\")","v":{"$error":"#NAME?"}},{"$f":"IF(Q234<>0,[1]!SUMSTRING(Q234:R234,\"#\"),\"\")","v":{"$error":"#NAME?"}},{"$f":"[1]!SUMSTRING(S234:U234,\"|\")","v":{"$error":"#NAME?"}},"","","",{"$f":"IF(W234<>0,[1]!SUMSTRING(W234:Y234,\"#\"),\"\")","v":{"$error":"#NAME?"}}]
[14,6012,"生命",2058,"魔抗",308,null,null,"天罚","生命百分比",300,null,1,2058,4,308,"","",{"$f":"[1]!SUMSTRING(M235:N235,\"#\")","v":{"$error":"#NAME?"}},{"$f":"[1]!SUMSTRING(O235:P235,\"#\")","v":{"$error":"#NAME?"}},{"$f":"IF(Q235<>0,[1]!SUMSTRING(Q235:R235,\"#\"),\"\")","v":{"$error":"#NAME?"}},{"$f":"[1]!SUMSTRING(S235:U235,\"|\")","v":{"$error":"#NAME?"}},2,61,300,{"$f":"IF(W235<>0,[1]!SUMSTRING(W235:Y235,\"#\"),\"\")","v":{"$error":"#NAME?"}}]
[15,6012,"生命",2205,"魔抗",330,{"$nulls":6},1,2205,4,330,"","",{"$f":"[1]!SUMSTRING(M236:N236,\"#\")","v":{"$error":"#NAME?"}},{"$f":"[1]!SUMSTRING(O236:P236,\"#\")","v":{"$error":"#NAME?"}},{"$f":"IF(Q236<>0,[1]!SUMSTRING(Q236:R236,\"#\"),\"\")","v":{"$error":"#NAME?"}},{"$f":"[1]!SUMSTRING(S236:U236,\"|\")","v":{"$error":"#NAME?"}},"","","",{"$f":"IF(W236<>0,[1]!SUMSTRING(W236:Y236,\"#\"),\"\")","v":{"$error":"#NAME?"}}]
[16,6012,"生命",2352,"魔抗",352,{"$nulls":6},1,2352,4,352,"","",{"$f":"[1]!SUMSTRING(M237:N237,\"#\")","v":{"$error":"#NAME?"}},{"$f":"[1]!SUMSTRING(O237:P237,\"#\")","v":{"$error":"#NAME?"}},{"$f":"IF(Q237<>0,[1]!SUMSTRING(Q237:R237,\"#\"),\"\")","v":{"$error":"#NAME?"}},{"$f":"[1]!SUMSTRING(S237:U237,\"|\")","v":{"$error":"#NAME?"}},"","","",{"$f":"IF(W237<>0,[1]!SUMSTRING(W237:Y237,\"#\"),\"\")","v":{"$error":"#NAME?"}}]
[17,6012,"生命",2500,"魔抗",375,null,null,"秘法","生命百分比",300,null,1,2500,4,375,"","",{"$f":"[1]!SUMSTRING(M238:N238,\"#\")","v":{"$error":"#NAME?"}},{"$f":"[1]!SUMSTRING(O238:P238,\"#\")","v":{"$error":"#NAME?"}},{"$f":"IF(Q238<>0,[1]!SUMSTRING(Q238:R238,\"#\"),\"\")","v":{"$error":"#NAME?"}},{"$f":"[1]!SUMSTRING(S238:U238,\"|\")","v":{"$error":"#NAME?"}},3,61,300,{"$f":"IF(W238<>0,[1]!SUMSTRING(W238:Y238,\"#\"),\"\")","v":{"$error":"#NAME?"}}]
[18,6012,"生命",2647,"魔抗",397,{"$nulls":6},1,2647,4,397,"","",{"$f":"[1]!SUMSTRING(M239:N239,\"#\")","v":{"$error":"#NAME?"}},{"$f":"[1]!SUMSTRING(O239:P239,\"#\")","v":{"$error":"#NAME?"}},{"$f":"IF(Q239<>0,[1]!SUMSTRING(Q239:R239,\"#\"),\"\")","v":{"$error":"#NAME?"}},{"$f":"[1]!SUMSTRING(S239:U239,\"|\")","v":{"$error":"#NAME?"}},"","","",{"$f":"IF(W239<>0,[1]!SUMSTRING(W239:Y239,\"#\"),\"\")","v":{"$error":"#NAME?"}}]
[19,6012,"生命",2794,"魔抗",419,{"$nulls":6},1,2794,4,419,"","",{"$f":"[1]!SUMSTRING(M240:N240,\"#\")","v":{"$error":"#NAME?"}},{"$f":"[1]!SUMSTRING(O240:P240,\"#\")","v":{"$error":"#NAME?"}},{"$f":"IF(Q240<>0,[1]!SUMSTRING(Q240:R240,\"#\"),\"\")","v":{"$error":"#NAME?"}},{"$f":"[1]!SUMSTRING(S240:U240,\"|\")","v":{"$error":"#NAME?"}},"","","",{"$f":"IF(W240<>0,[1]!SUMSTRING(W240:Y240,\"#\"),\"\")","v":{"$error":"#NAME?"}}]
[20,6012,"生命",2941,"魔抗",441,null,null,"天罚","生命百分比",300,null,1,2941,4,441,"","",{"$f":"[1]!SUMSTRING(M241:N241,\"#\")","v":{"$error":"#NAME?"}},{"$f":"[1]!SUMSTRING(O241:P241,\"#\")","v":{"$error":"#NAME?"}},{"$f":"IF(Q241<>0,[1]!SUMSTRING(Q241:R241,\"#\"),\"\")","v":{"$error":"#NAME?"}},{"$f":"[1]!SUMSTRING(S241:U241,\"|\")","v":{"$error":"#NAME?"}},2,61,300,{"$f":"IF(W241<>0,[1]!SUMSTRING(W241:Y241,\"#\"),\"\")","v":{"$error":"#NAME?"}}]
[1,6013,"生命",47,"攻击",20,"异妖增伤",{"$f":"25*A242","v":25},{"$nulls":4},1,47,2,20,66,25,{"$f":"[1]!SUMSTRING(M242:N242,\"#\")","v":{"$error":"#NAME?"}},{"$f":"[1]!SUMSTRING(O242:P242,\"#\")","v":{"$error":"#NAME?"}},{"$f":"IF(Q242<>0,[1]!SUMSTRING(Q242:R242,\"#\"),\"\")","v":{"$error":"#NAME?"}},{"$f":"[1]!SUMSTRING(S242:U242,\"|\")","v":{"$error":"#NAME?"}},"","","",{"$f":"IF(W242<>0,[1]!SUMSTRING(W242:Y242,\"#\"),\"\")","v":{"$error":"#NAME?"}}]
[2,6013,"生命",119,"攻击",41,"异妖增伤",{"$f":"25*A243","v":50},"武卫","速度",500,null,1,119,2,41,66,50,{"$f":"[1]!SUMSTRING(M243:N243,\"#\")","v":{"$error":"#NAME?"}},{"$f":"[1]!SUMSTRING(O243:P243,\"#\")","v":{"$error":"#NAME?"}},{"$f":"IF(Q243<>0,[1]!SUMSTRING(Q243:R243,\"#\"),\"\")","v":{"$error":"#NAME?"}},{"$f":"[1]!SUMSTRING(S243:U243,\"|\")","v":{"$error":"#NAME?"}},1,5,500,{"$f":"IF(W243<>0,[1]!SUMSTRING(W243:Y243,\"#\"),\"\")","v":{"$error":"#NAME?"}}]
[3,6013,"生命",214,"攻击",61,"异妖增伤",75,{"$nulls":4},1,214,2,61,66,75,{"$f":"[1]!SUMSTRING(M244:N244,\"#\")","v":{"$error":"#NAME?"}},{"$f":"[1]!SUMSTRING(O244:P244,\"#\")","v":{"$error":"#NAME?"}},{"$f":"IF(Q244<>0,[1]!SUMSTRING(Q244:R244,\"#\"),\"\")","v":{"$error":"#NAME?"}},{"$f":"[1]!SUMSTRING(S244:U244,\"|\")","v":{"$error":"#NAME?"}},"","","",{"$f":"IF(W244<>0,[1]!SUMSTRING(W244:Y244,\"#\"),\"\")","v":{"$error":"#NAME?"}}]
[4,6013,"生命",334,"攻击",82,"异妖增伤",100,{"$nulls":4},1,334,2,82,66,100,{"$f":"[1]!SUMSTRING(M245:N245,\"#\")","v":{"$error":"#NAME?"}},{"$f":"[1]!SUMSTRING(O245:P245,\"#\")","v":{"$error":"#NAME?"}},{"$f":"IF(Q245<>0,[1]!SUMSTRING(Q245:R245,\"#\"),\"\")","v":{"$error":"#NAME?"}},{"$f":"[1]!SUMSTRING(S245:U245,\"|\")","v":{"$error":"#NAME?"}},"","","",{"$f":"IF(W245<>0,[1]!SUMSTRING(W245:Y245,\"#\"),\"\")","v":{"$error":"#NAME?"}}]
[5,6013,"生命",477,"攻击",102,"异妖增伤",125,"生花","速度",500,null,1,477,2,102,66,125,{"$f":"[1]!SUMSTRING(M246:N246,\"#\")","v":{"$error":"#NAME?"}},{"$f":"[1]!SUMSTRING(O246:P246,\"#\")","v":{"$error":"#NAME?"}},{"$f":"IF(Q246<>0,[1]!SUMSTRING(Q246:R246,\"#\"),\"\")","v":{"$error":"#NAME?"}},{"$f":"[1]!SUMSTRING(S246:U246,\"|\")","v":{"$error":"#NAME?"}},5,5,500,{"$f":"IF(W246<>0,[1]!SUMSTRING(W246:Y246,\"#\"),\"\")","v":{"$error":"#NAME?"}}]
[6,6013,"生命",644,"攻击",123,"异妖增伤",150,{"$nulls":4},1,644,2,123,66,150,{"$f":"[1]!SUMSTRING(M247:N247,\"#\")","v":{"$error":"#NAME?"}},{"$f":"[1]!SUMSTRING(O247:P247,\"#\")","v":{"$error":"#NAME?"}},{"$f":"IF(Q247<>0,[1]!SUMSTRING(Q247:R247,\"#\"),\"\")","v":{"$error":"#NAME?"}},{"$f":"[1]!SUMSTRING(S247:U247,\"|\")","v":{"$error":"#NAME?"}},"","","",{"$f":"IF(W247<>0,[1]!SUMSTRING(W247:Y247,\"#\"),\"\")","v":{"$error":"#NAME?"}}]
[7,6013,"生命",835,"攻击",144,"异妖增伤",175,{"$nulls":4},1,835,2,144,66,175,{"$f":"[1]!SUMSTRING(M248:N248,\"#\")","v":{"$error":"#NAME?"}},{"$f":"[1]!SUMSTRING(O248:P248,\"#\")","v":{"$error":"#NAME?"}},{"$f":"IF(Q248<>0,[1]!SUMSTRING(Q248:R248,\"#\"),\"\")","v":{"$error":"#NAME?"}},{"$f":"[1]!SUMSTRING(S248:U248,\"|\")","v":{"$error":"#NAME?"}},"","","",{"$f":"IF(W248<>0,[1]!SUMSTRING(W248:Y248,\"#\"),\"\")","v":{"$error":"#NAME?"}}]
[8,6013,"生命",1050,"攻击",164,"异妖增伤",200,"秘法","速度",500,null,1,1050,2,164,66,200,{"$f":"[1]!SUMSTRING(M249:N249,\"#\")","v":{"$error":"#NAME?"}},{"$f":"[1]!SUMSTRING(O249:P249,\"#\")","v":{"$error":"#NAME?"}},{"$f":"IF(Q249<>0,[1]!SUMSTRING(Q249:R249,\"#\"),\"\")","v":{"$error":"#NAME?"}},{"$f":"[1]!SUMSTRING(S249:U249,\"|\")","v":{"$error":"#NAME?"}},3,5,500,{"$f":"IF(W249<>0,[1]!SUMSTRING(W249:Y249,\"#\"),\"\")","v":{"$error":"#NAME?"}}]
[9,6013,"生命",1289,"攻击",185,"异妖增伤",225,{"$nulls":4},1,1289,2,185,66,225,{"$f":"[1]!SUMSTRING(M250:N250,\"#\")","v":{"$error":"#NAME?"}},{"$f":"[1]!SUMSTRING(O250:P250,\"#\")","v":{"$error":"#NAME?"}},{"$f":"IF(Q250<>0,[1]!SUMSTRING(Q250:R250,\"#\"),\"\")","v":{"$error":"#NAME?"}},{"$f":"[1]!SUMSTRING(S250:U250,\"|\")","v":{"$error":"#NAME?"}},"","","",{"$f":"IF(W250<>0,[1]!SUMSTRING(W250:Y250,\"#\"),\"\")","v":{"$error":"#NAME?"}}]
[10,6013,"生命",1551,"攻击",205,"异妖增伤",250,{"$nulls":4},1,1551,2,205,66,250,{"$f":"[1]!SUMSTRING(M251:N251,\"#\")","v":{"$error":"#NAME?"}},{"$f":"[1]!SUMSTRING(O251:P251,\"#\")","v":{"$error":"#NAME?"}},{"$f":"IF(Q251<>0,[1]!SUMSTRING(Q251:R251,\"#\"),\"\")","v":{"$error":"#NAME?"}},{"$f":"[1]!SUMSTRING(S251:U251,\"|\")","v":{"$error":"#NAME?"}},"","","",{"$f":"IF(W251<>0,[1]!SUMSTRING(W251:Y251,\"#\"),\"\")","v":{"$error":"#NAME?"}}]
[11,6013,"生命",1838,"攻击",226,"异妖增伤",275,"玄策","速度",500,null,1,1838,2,226,66,275,{"$f":"[1]!SUMSTRING(M252:N252,\"#\")","v":{"$error":"#NAME?"}},{"$f":"[1]!SUMSTRING(O252:P252,\"#\")","v":{"$error":"#NAME?"}},{"$f":"IF(Q252<>0,[1]!SUMSTRING(Q252:R252,\"#\"),\"\")","v":{"$error":"#NAME?"}},{"$f":"[1]!SUMSTRING(S252:U252,\"|\")","v":{"$error":"#NAME?"}},4,5,500,{"$f":"IF(W252<>0,[1]!SUMSTRING(W252:Y252,\"#\"),\"\")","v":{"$error":"#NAME?"}}]
[12,6013,"生命",2148,"攻击",247,"异妖增伤",300,{"$nulls":4},1,2148,2,247,66,300,{"$f":"[1]!SUMSTRING(M253:N253,\"#\")","v":{"$error":"#NAME?"}},{"$f":"[1]!SUMSTRING(O253:P253,\"#\")","v":{"$error":"#NAME?"}},{"$f":"IF(Q253<>0,[1]!SUMSTRING(Q253:R253,\"#\"),\"\")","v":{"$error":"#NAME?"}},{"$f":"[1]!SUMSTRING(S253:U253,\"|\")","v":{"$error":"#NAME?"}},"","","",{"$f":"IF(W253<>0,[1]!SUMSTRING(W253:Y253,\"#\"),\"\")","v":{"$error":"#NAME?"}}]
[13,6013,"生命",2482,"攻击",267,"异妖增伤",325,{"$nulls":4},1,2482,2,267,66,325,{"$f":"[1]!SUMSTRING(M254:N254,\"#\")","v":{"$error":"#NAME?"}},{"$f":"[1]!SUMSTRING(O254:P254,\"#\")","v":{"$error":"#NAME?"}},{"$f":"IF(Q254<>0,[1]!SUMSTRING(Q254:R254,\"#\"),\"\")","v":{"$error":"#NAME?"}},{"$f":"[1]!SUMSTRING(S254:U254,\"|\")","v":{"$error":"#NAME?"}},"","","",{"$f":"IF(W254<>0,[1]!SUMSTRING(W254:Y254,\"#\"),\"\")","v":{"$error":"#NAME?"}}]
[14,6013,"生命",2840,"攻击",288,"异妖增伤",350,"天罚","速度",500,null,1,2840,2,288,66,350,{"$f":"[1]!SUMSTRING(M255:N255,\"#\")","v":{"$error":"#NAME?"}},{"$f":"[1]!SUMSTRING(O255:P255,\"#\")","v":{"$error":"#NAME?"}},{"$f":"IF(Q255<>0,[1]!SUMSTRING(Q255:R255,\"#\"),\"\")","v":{"$error":"#NAME?"}},{"$f":"[1]!SUMSTRING(S255:U255,\"|\")","v":{"$error":"#NAME?"}},2,5,500,{"$f":"IF(W255<>0,[1]!SUMSTRING(W255:Y255,\"#\"),\"\")","v":{"$error":"#NAME?"}}]
[15,6013,"生命",3222,"攻击",308,"异妖增伤",375,{"$nulls":4},1,3222,2,308,66,375,{"$f":"[1]!SUMSTRING(M256:N256,\"#\")","v":{"$error":"#NAME?"}},{"$f":"[1]!SUMSTRING(O256:P256,\"#\")","v":{"$error":"#NAME?"}},{"$f":"IF(Q256<>0,[1]!SUMSTRING(Q256:R256,\"#\"),\"\")","v":{"$error":"#NAME?"}},{"$f":"[1]!SUMSTRING(S256:U256,\"|\")","v":{"$error":"#NAME?"}},"","","",{"$f":"IF(W256<>0,[1]!SUMSTRING(W256:Y256,\"#\"),\"\")","v":{"$error":"#NAME?"}}]
[16,6013,"生命",3628,"攻击",329,"异妖增伤",400,{"$nulls":4},1,3628,2,329,66,400,{"$f":"[1]!SUMSTRING(M257:N257,\"#\")","v":{"$error":"#NAME?"}},{"$f":"[1]!SUMSTRING(O257:P257,\"#\")","v":{"$error":"#NAME?"}},{"$f":"IF(Q257<>0,[1]!SUMSTRING(Q257:R257,\"#\"),\"\")","v":{"$error":"#NAME?"}},{"$f":"[1]!SUMSTRING(S257:U257,\"|\")","v":{"$error":"#NAME?"}},"","","",{"$f":"IF(W257<>0,[1]!SUMSTRING(W257:Y257,\"#\"),\"\")","v":{"$error":"#NAME?"}}]
[17,6013,"生命",4057,"攻击",350,"异妖增伤",425,"武卫","速度",300,null,1,4057,2,350,66,425,{"$f":"[1]!SUMSTRING(M258:N258,\"#\")","v":{"$error":"#NAME?"}},{"$f":"[1]!SUMSTRING(O258:P258,\"#\")","v":{"$error":"#NAME?"}},{"$f":"IF(Q258<>0,[1]!SUMSTRING(Q258:R258,\"#\"),\"\")","v":{"$error":"#NAME?"}},{"$f":"[1]!SUMSTRING(S258:U258,\"|\")","v":{"$error":"#NAME?"}},1,5,300,{"$f":"IF(W258<>0,[1]!SUMSTRING(W258:Y258,\"#\"),\"\")","v":{"$error":"#NAME?"}}]
[18,6013,"生命",4511,"攻击",370,"异妖增伤",450,{"$nulls":4},{"$f":"VLOOKUP(C259,$AB:$AC,2,0)","v":1},{"$f":"D259","v":4511},{"$f":"VLOOKUP(E259,$AB:$AC,2,0)","v":2},{"$f":"F259","v":370},{"$f":"IF(G259<>0,VLOOKUP(G259,$AB:$AC,2,0),\"\")","v":66},{"$f":"IF(H259<>0,H259,\"\")","v":450},{"$f":"[1]!SUMSTRING(M259:N259,\"#\")","v":{"$error":"#NAME?"}},{"$f":"[1]!SUMSTRING(O259:P259,\"#\")","v":{"$error":"#NAME?"}},{"$f":"IF(Q259<>0,[1]!SUMSTRING(Q259:R259,\"#\"),\"\")","v":{"$error":"#NAME?"}},{"$f":"[1]!SUMSTRING(S259:U259,\"|\")","v":{"$error":"#NAME?"}},"",{"$f":"IF(J259<>0,VLOOKUP(J259,$AB:$AC,2,0),\"\")","v":""},{"$f":"IF(K259<>0,K259,\"\")","v":""},{"$f":"IF(W259<>0,[1]!SUMSTRING(W259:Y259,\"#\"),\"\")","v":{"$error":"#NAME?"}}]
[19,6013,"生命",4988,"攻击",391,"异妖增伤",475,{"$nulls":4},1,4988,2,391,66,475,{"$f":"[1]!SUMSTRING(M260:N260,\"#\")","v":{"$error":"#NAME?"}},{"$f":"[1]!SUMSTRING(O260:P260,\"#\")","v":{"$error":"#NAME?"}},{"$f":"IF(Q260<>0,[1]!SUMSTRING(Q260:R260,\"#\"),\"\")","v":{"$error":"#NAME?"}},{"$f":"[1]!SUMSTRING(S260:U260,\"|\")","v":{"$error":"#NAME?"}},{"$f":"IF(I260<>0,VLOOKUP(I260,$AG$3:$AH$7,2,0),\"\")","v":""},"","",{"$f":"IF(W260<>0,[1]!SUMSTRING(W260:Y260,\"#\"),\"\")","v":{"$error":"#NAME?"}}]
[20,6013,"生命",5490,"攻击",411,"异妖增伤",500,"玄策","速度",300,null,1,5490,2,411,66,500,{"$f":"[1]!SUMSTRING(M261:N261,\"#\")","v":{"$error":"#NAME?"}},{"$f":"[1]!SUMSTRING(O261:P261,\"#\")","v":{"$error":"#NAME?"}},{"$f":"IF(Q261<>0,[1]!SUMSTRING(Q261:R261,\"#\"),\"\")","v":{"$error":"#NAME?"}},{"$f":"[1]!SUMSTRING(S261:U261,\"|\")","v":{"$error":"#NAME?"}},4,5,300,{"$f":"IF(W261<>0,[1]!SUMSTRING(W261:Y261,\"#\"),\"\")","v":{"$error":"#NAME?"}}]
[1,6014,"生命",47,"护甲",40,"异妖减伤",25,{"$nulls":4},1,47,3,40,59,25,{"$f":"[1]!SUMSTRING(M262:N262,\"#\")","v":{"$error":"#NAME?"}},{"$f":"[1]!SUMSTRING(O262:P262,\"#\")","v":{"$error":"#NAME?"}},{"$f":"IF(Q262<>0,[1]!SUMSTRING(Q262:R262,\"#\"),\"\")","v":{"$error":"#NAME?"}},{"$f":"[1]!SUMSTRING(S262:U262,\"|\")","v":{"$error":"#NAME?"}},"","","",{"$f":"IF(W262<>0,[1]!SUMSTRING(W262:Y262,\"#\"),\"\")","v":{"$error":"#NAME?"}}]
[2,6014,"生命",119,"护甲",82,"异妖减伤",{"$f":"25*A263","v":50},"武卫","速度",500,null,1,119,3,82,59,50,{"$f":"[1]!SUMSTRING(M263:N263,\"#\")","v":{"$error":"#NAME?"}},{"$f":"[1]!SUMSTRING(O263:P263,\"#\")","v":{"$error":"#NAME?"}},{"$f":"IF(Q263<>0,[1]!SUMSTRING(Q263:R263,\"#\"),\"\")","v":{"$error":"#NAME?"}},{"$f":"[1]!SUMSTRING(S263:U263,\"|\")","v":{"$error":"#NAME?"}},1,5,500,{"$f":"IF(W263<>0,[1]!SUMSTRING(W263:Y263,\"#\"),\"\")","v":{"$error":"#NAME?"}}]
[3,6014,"生命",214,"护甲",122,"异妖减伤",75,{"$nulls":4},1,214,3,122,59,75,{"$f":"[1]!SUMSTRING(M264:N264,\"#\")","v":{"$error":"#NAME?"}},{"$f":"[1]!SUMSTRING(O264:P264,\"#\")","v":{"$error":"#NAME?"}},{"$f":"IF(Q264<>0,[1]!SUMSTRING(Q264:R264,\"#\"),\"\")","v":{"$error":"#NAME?"}},{"$f":"[1]!SUMSTRING(S264:U264,\"|\")","v":{"$error":"#NAME?"}},"","","",{"$f":"IF(W264<>0,[1]!SUMSTRING(W264:Y264,\"#\"),\"\")","v":{"$error":"#NAME?"}}]
[4,6014,"生命",334,"护甲",164,"异妖减伤",100,{"$nulls":4},1,334,3,164,59,100,{"$f":"[1]!SUMSTRING(M265:N265,\"#\")","v":{"$error":"#NAME?"}},{"$f":"[1]!SUMSTRING(O265:P265,\"#\")","v":{"$error":"#NAME?"}},{"$f":"IF(Q265<>0,[1]!SUMSTRING(Q265:R265,\"#\"),\"\")","v":{"$error":"#NAME?"}},{"$f":"[1]!SUMSTRING(S265:U265,\"|\")","v":{"$error":"#NAME?"}},"","","",{"$f":"IF(W265<>0,[1]!SUMSTRING(W265:Y265,\"#\"),\"\")","v":{"$error":"#NAME?"}}]
[5,6014,"生命",477,"护甲",204,"异妖减伤",125,"生花","速度",500,null,1,477,3,204,59,125,{"$f":"[1]!SUMSTRING(M266:N266,\"#\")","v":{"$error":"#NAME?"}},{"$f":"[1]!SUMSTRING(O266:P266,\"#\")","v":{"$error":"#NAME?"}},{"$f":"IF(Q266<>0,[1]!SUMSTRING(Q266:R266,\"#\"),\"\")","v":{"$error":"#NAME?"}},{"$f":"[1]!SUMSTRING(S266:U266,\"|\")","v":{"$error":"#NAME?"}},5,5,500,{"$f":"IF(W266<>0,[1]!SUMSTRING(W266:Y266,\"#\"),\"\")","v":{"$error":"#NAME?"}}]
[6,6014,"生命",644,"护甲",246,"异妖减伤",150,{"$nulls":4},1,644,3,246,59,150,{"$f":"[1]!SUMSTRING(M267:N267,\"#\")","v":{"$error":"#NAME?"}},{"$f":"[1]!SUMSTRING(O267:P267,\"#\")","v":{"$error":"#NAME?"}},{"$f":"IF(Q267<>0,[1]!SUMSTRING(Q267:R267,\"#\"),\"\")","v":{"$error":"#NAME?"}},{"$f":"[1]!SUMSTRING(S267:U267,\"|\")","v":{"$error":"#NAME?"}},"","","",{"$f":"IF(W267<>0,[1]!SUMSTRING(W267:Y267,\"#\"),\"\")","v":{"$error":"#NAME?"}}]
[7,6014,"生命",835,"护甲",288,"异妖减伤",175,{"$nulls":4},1,835,3,288,59,175,{"$f":"[1]!SUMSTRING(M268:N268,\"#\")","v":{"$error":"#NAME?"}},{"$f":"[1]!SUMSTRING(O268:P268,\"#\")","v":{"$error":"#NAME?"}},{"$f":"IF(Q268<>0,[1]!SUMSTRING(Q268:R268,\"#\"),\"\")","v":{"$error":"#NAME?"}},{"$f":"[1]!SUMSTRING(S268:U268,\"|\")","v":{"$error":"#NAME?"}},"","","",{"$f":"IF(W268<>0,[1]!SUMSTRING(W268:Y268,\"#\"),\"\")","v":{"$error":"#NAME?"}}]
[8,6014,"生命",1050,"护甲",328,"异妖减伤",200,"秘法","速度",500,null,1,1050,3,328,59,200,{"$f":"[1]!SUMSTRING(M269:N269,\"#\")","v":{"$error":"#NAME?"}},{"$f":"[1]!SUMSTRING(O269:P269,\"#\")","v":{"$error":"#NAME?"}},{"$f":"IF(Q269<>0,[1]!SUMSTRING(Q269:R269,\"#\"),\"\")","v":{"$error":"#NAME?"}},{"$f":"[1]!SUMSTRING(S269:U269,\"|\")","v":{"$error":"#NAME?"}},3,5,500,{"$f":"IF(W269<>0,[1]!SUMSTRING(W269:Y269,\"#\"),\"\")","v":{"$error":"#NAME?"}}]
[9,6014,"生命",1289,"护甲",370,"异妖减伤",225,{"$nulls":4},1,1289,3,370,59,225,{"$f":"[1]!SUMSTRING(M270:N270,\"#\")","v":{"$error":"#NAME?"}},{"$f":"[1]!SUMSTRING(O270:P270,\"#\")","v":{"$error":"#NAME?"}},{"$f":"IF(Q270<>0,[1]!SUMSTRING(Q270:R270,\"#\"),\"\")","v":{"$error":"#NAME?"}},{"$f":"[1]!SUMSTRING(S270:U270,\"|\")","v":{"$error":"#NAME?"}},"","","",{"$f":"IF(W270<>0,[1]!SUMSTRING(W270:Y270,\"#\"),\"\")","v":{"$error":"#NAME?"}}]
[10,6014,"生命",1551,"护甲",410,"异妖减伤",250,{"$nulls":4},1,1551,3,410,59,250,{"$f":"[1]!SUMSTRING(M271:N271,\"#\")","v":{"$error":"#NAME?"}},{"$f":"[1]!SUMSTRING(O271:P271,\"#\")","v":{"$error":"#NAME?"}},{"$f":"IF(Q271<>0,[1]!SUMSTRING(Q271:R271,\"#\"),\"\")","v":{"$error":"#NAME?"}},{"$f":"[1]!SUMSTRING(S271:U271,\"|\")","v":{"$error":"#NAME?"}},"","","",{"$f":"IF(W271<>0,[1]!SUMSTRING(W271:Y271,\"#\"),\"\")","v":{"$error":"#NAME?"}}]
[11,6014,"生命",1838,"护甲",452,"异妖减伤",275,"玄策","速度",500,null,1,1838,3,452,59,275,{"$f":"[1]!SUMSTRING(M272:N272,\"#\")","v":{"$error":"#NAME?"}},{"$f":"[1]!SUMSTRING(O272:P272,\"#\")","v":{"$error":"#NAME?"}},{"$f":"IF(Q272<>0,[1]!SUMSTRING(Q272:R272,\"#\"),\"\")","v":{"$error":"#NAME?"}},{"$f":"[1]!SUMSTRING(S272:U272,\"|\")","v":{"$error":"#NAME?"}},4,5,500,{"$f":"IF(W272<>0,[1]!SUMSTRING(W272:Y272,\"#\"),\"\")","v":{"$error":"#NAME?"}}]
[12,6014,"生命",2148,"护甲",494,"异妖减伤",300,{"$nulls":4},1,2148,3,494,59,300,{"$f":"[1]!SUMSTRING(M273:N273,\"#\")","v":{"$error":"#NAME?"}},{"$f":"[1]!SUMSTRING(O273:P273,\"#\")","v":{"$error":"#NAME?"}},{"$f":"IF(Q273<>0,[1]!SUMSTRING(Q273:R273,\"#\"),\"\")","v":{"$error":"#NAME?"}},{"$f":"[1]!SUMSTRING(S273:U273,\"|\")","v":{"$error":"#NAME?"}},"","","",{"$f":"IF(W273<>0,[1]!SUMSTRING(W273:Y273,\"#\"),\"\")","v":{"$error":"#NAME?"}}]
[13,6014,"生命",2482,"护甲",534,"异妖减伤",325,{"$nulls":4},1,2482,3,534,59,325,{"$f":"[1]!SUMSTRING(M274:N274,\"#\")","v":{"$error":"#NAME?"}},{"$f":"[1]!SUMSTRING(O274:P274,\"#\")","v":{"$error":"#NAME?"}},{"$f":"IF(Q274<>0,[1]!SUMSTRING(Q274:R274,\"#\"),\"\")","v":{"$error":"#NAME?"}},{"$f":"[1]!SUMSTRING(S274:U274,\"|\")","v":{"$error":"#NAME?"}},"","","",{"$f":"IF(W274<>0,[1]!SUMSTRING(W274:Y274,\"#\"),\"\")","v":{"$error":"#NAME?"}}]
[14,6014,"生命",2840,"护甲",576,"异妖减伤",350,"天罚","速度",500,null,1,2840,3,576,59,350,{"$f":"[1]!SUMSTRING(M275:N275,\"#\")","v":{"$error":"#NAME?"}},{"$f":"[1]!SUMSTRING(O275:P275,\"#\")","v":{"$error":"#NAME?"}},{"$f":"IF(Q275<>0,[1]!SUMSTRING(Q275:R275,\"#\"),\"\")","v":{"$error":"#NAME?"}},{"$f":"[1]!SUMSTRING(S275:U275,\"|\")","v":{"$error":"#NAME?"}},2,5,500,{"$f":"IF(W275<>0,[1]!SUMSTRING(W275:Y275,\"#\"),\"\")","v":{"$error":"#NAME?"}}]
[15,6014,"生命",3222,"护甲",616,"异妖减伤",375,{"$nulls":4},1,3222,3,616,59,375,{"$f":"[1]!SUMSTRING(M276:N276,\"#\")","v":{"$error":"#NAME?"}},{"$f":"[1]!SUMSTRING(O276:P276,\"#\")","v":{"$error":"#NAME?"}},{"$f":"IF(Q276<>0,[1]!SUMSTRING(Q276:R276,\"#\"),\"\")","v":{"$error":"#NAME?"}},{"$f":"[1]!SUMSTRING(S276:U276,\"|\")","v":{"$error":"#NAME?"}},"","","",{"$f":"IF(W276<>0,[1]!SUMSTRING(W276:Y276,\"#\"),\"\")","v":{"$error":"#NAME?"}}]
[16,6014,"生命",3628,"护甲",658,"异妖减伤",400,{"$nulls":4},1,3628,3,658,59,400,{"$f":"[1]!SUMSTRING(M277:N277,\"#\")","v":{"$error":"#NAME?"}},{"$f":"[1]!SUMSTRING(O277:P277,\"#\")","v":{"$error":"#NAME?"}},{"$f":"IF(Q277<>0,[1]!SUMSTRING(Q277:R277,\"#\"),\"\")","v":{"$error":"#NAME?"}},{"$f":"[1]!SUMSTRING(S277:U277,\"|\")","v":{"$error":"#NAME?"}},"","","",{"$f":"IF(W277<>0,[1]!SUMSTRING(W277:Y277,\"#\"),\"\")","v":{"$error":"#NAME?"}}]
[17,6014,"生命",4057,"护甲",700,"异妖减伤",425,"武卫","速度",300,null,1,4057,3,700,59,425,{"$f":"[1]!SUMSTRING(M278:N278,\"#\")","v":{"$error":"#NAME?"}},{"$f":"[1]!SUMSTRING(O278:P278,\"#\")","v":{"$error":"#NAME?"}},{"$f":"IF(Q278<>0,[1]!SUMSTRING(Q278:R278,\"#\"),\"\")","v":{"$error":"#NAME?"}},{"$f":"[1]!SUMSTRING(S278:U278,\"|\")","v":{"$error":"#NAME?"}},1,5,300,{"$f":"IF(W278<>0,[1]!SUMSTRING(W278:Y278,\"#\"),\"\")","v":{"$error":"#NAME?"}}]
[{"$f":"A259","v":18},{"$f":"B259+1","v":6014},"生命",4511,"护甲",740,"异妖减伤",450,{"$nulls":4},1,4511,3,740,59,450,{"$f":"[1]!SUMSTRING(M279:N279,\"#\")","v":{"$error":"#NAME?"}},{"$f":"[1]!SUMSTRING(O279:P279,\"#\")","v":{"$error":"#NAME?"}},{"$f":"IF(Q279<>0,[1]!SUMSTRING(Q279:R279,\"#\"),\"\")","v":{"$error":"#NAME?"}},{"$f":"[1]!SUMSTRING(S279:U279,\"|\")","v":{"$error":"#NAME?"}},"","","",{"$f":"IF(W279<>0,[1]!SUMSTRING(W279:Y279,\"#\"),\"\")","v":{"$error":"#NAME?"}}]
[19,6014,"生命",4988,"护甲",782,"异妖减伤",475,{"$nulls":4},1,4988,3,782,59,475,{"$f":"[1]!SUMSTRING(M280:N280,\"#\")","v":{"$error":"#NAME?"}},{"$f":"[1]!SUMSTRING(O280:P280,\"#\")","v":{"$error":"#NAME?"}},{"$f":"IF(Q280<>0,[1]!SUMSTRING(Q280:R280,\"#\"),\"\")","v":{"$error":"#NAME?"}},{"$f":"[1]!SUMSTRING(S280:U280,\"|\")","v":{"$error":"#NAME?"}},"","","",{"$f":"IF(W280<>0,[1]!SUMSTRING(W280:Y280,\"#\"),\"\")","v":{"$error":"#NAME?"}}]
[20,6014,"生命",5490,"护甲",822,"异妖减伤",500,"玄策","速度",300,null,1,5490,3,822,59,500,{"$f":"[1]!SUMSTRING(M281:N281,\"#\")","v":{"$error":"#NAME?"}},{"$f":"[1]!SUMSTRING(O281:P281,\"#\")","v":{"$error":"#NAME?"}},{"$f":"IF(Q281<>0,[1]!SUMSTRING(Q281:R281,\"#\"),\"\")","v":{"$error":"#NAME?"}},{"$f":"[1]!SUMSTRING(S281:U281,\"|\")","v":{"$error":"#NAME?"}},4,5,300,{"$f":"IF(W281<>0,[1]!SUMSTRING(W281:Y281,\"#\"),\"\")","v":{"$error":"#NAME?"}}]
[1,6015,"生命",47,"魔抗",40,"异妖减伤",25,{"$nulls":4},1,47,4,40,59,25,{"$f":"[1]!SUMSTRING(M282:N282,\"#\")","v":{"$error":"#NAME?"}},{"$f":"[1]!SUMSTRING(O282:P282,\"#\")","v":{"$error":"#NAME?"}},{"$f":"IF(Q282<>0,[1]!SUMSTRING(Q282:R282,\"#\"),\"\")","v":{"$error":"#NAME?"}},{"$f":"[1]!SUMSTRING(S282:U282,\"|\")","v":{"$error":"#NAME?"}},"","","",{"$f":"IF(W282<>0,[1]!SUMSTRING(W282:Y282,\"#\"),\"\")","v":{"$error":"#NAME?"}}]
[2,6015,"生命",119,"魔抗",82,"异妖减伤",50,"武卫","速度",500,null,1,119,4,82,59,50,{"$f":"[1]!SUMSTRING(M283:N283,\"#\")","v":{"$error":"#NAME?"}},{"$f":"[1]!SUMSTRING(O283:P283,\"#\")","v":{"$error":"#NAME?"}},{"$f":"IF(Q283<>0,[1]!SUMSTRING(Q283:R283,\"#\"),\"\")","v":{"$error":"#NAME?"}},{"$f":"[1]!SUMSTRING(S283:U283,\"|\")","v":{"$error":"#NAME?"}},1,5,500,{"$f":"IF(W283<>0,[1]!SUMSTRING(W283:Y283,\"#\"),\"\")","v":{"$error":"#NAME?"}}]
[3,6015,"生命",214,"魔抗",122,"异妖减伤",{"$f":"25*A284","v":75},{"$nulls":4},1,214,4,122,59,75,{"$f":"[1]!SUMSTRING(M284:N284,\"#\")","v":{"$error":"#NAME?"}},{"$f":"[1]!SUMSTRING(O284:P284,\"#\")","v":{"$error":"#NAME?"}},{"$f":"IF(Q284<>0,[1]!SUMSTRING(Q284:R284,\"#\"),\"\")","v":{"$error":"#NAME?"}},{"$f":"[1]!SUMSTRING(S284:U284,\"|\")","v":{"$error":"#NAME?"}},"","","",{"$f":"IF(W284<>0,[1]!SUMSTRING(W284:Y284,\"#\"),\"\")","v":{"$error":"#NAME?"}}]
[4,6015,"生命",334,"魔抗",164,"异妖减伤",100,{"$nulls":4},1,334,4,164,59,100,{"$f":"[1]!SUMSTRING(M285:N285,\"#\")","v":{"$error":"#NAME?"}},{"$f":"[1]!SUMSTRING(O285:P285,\"#\")","v":{"$error":"#NAME?"}},{"$f":"IF(Q285<>0,[1]!SUMSTRING(Q285:R285,\"#\"),\"\")","v":{"$error":"#NAME?"}},{"$f":"[1]!SUMSTRING(S285:U285,\"|\")","v":{"$error":"#NAME?"}},"","","",{"$f":"IF(W285<>0,[1]!SUMSTRING(W285:Y285,\"#\"),\"\")","v":{"$error":"#NAME?"}}]
[5,6015,"生命",477,"魔抗",204,"异妖减伤",125,"生花","速度",500,null,1,477,4,204,59,125,{"$f":"[1]!SUMSTRING(M286:N286,\"#\")","v":{"$error":"#NAME?"}},{"$f":"[1]!SUMSTRING(O286:P286,\"#\")","v":{"$error":"#NAME?"}},{"$f":"IF(Q286<>0,[1]!SUMSTRING(Q286:R286,\"#\"),\"\")","v":{"$error":"#NAME?"}},{"$f":"[1]!SUMSTRING(S286:U286,\"|\")","v":{"$error":"#NAME?"}},5,5,500,{"$f":"IF(W286<>0,[1]!SUMSTRING(W286:Y286,\"#\"),\"\")","v":{"$error":"#NAME?"}}]
[6,6015,"生命",644,"魔抗",246,"异妖减伤",150,{"$nulls":4},1,644,4,246,59,150,{"$f":"[1]!SUMSTRING(M287:N287,\"#\")","v":{"$error":"#NAME?"}},{"$f":"[1]!SUMSTRING(O287:P287,\"#\")","v":{"$error":"#NAME?"}},{"$f":"IF(Q287<>0,[1]!SUMSTRING(Q287:R287,\"#\"),\"\")","v":{"$error":"#NAME?"}},{"$f":"[1]!SUMSTRING(S287:U287,\"|\")","v":{"$error":"#NAME?"}},"","","",{"$f":"IF(W287<>0,[1]!SUMSTRING(W287:Y287,\"#\"),\"\")","v":{"$error":"#NAME?"}}]
[7,6015,"生命",835,"魔抗",288,"异妖减伤",175,{"$nulls":4},1,835,4,288,59,175,{"$f":"[1]!SUMSTRING(M288:N288,\"#\")","v":{"$error":"#NAME?"}},{"$f":"[1]!SUMSTRING(O288:P288,\"#\")","v":{"$error":"#NAME?"}},{"$f":"IF(Q288<>0,[1]!SUMSTRING(Q288:R288,\"#\"),\"\")","v":{"$error":"#NAME?"}},{"$f":"[1]!SUMSTRING(S288:U288,\"|\")","v":{"$error":"#NAME?"}},"","","",{"$f":"IF(W288<>0,[1]!SUMSTRING(W288:Y288,\"#\"),\"\")","v":{"$error":"#NAME?"}}]
[8,6015,"生命",1050,"魔抗",328,"异妖减伤",200,"秘法","速度",500,null,1,1050,4,328,59,200,{"$f":"[1]!SUMSTRING(M289:N289,\"#\")","v":{"$error":"#NAME?"}},{"$f":"[1]!SUMSTRING(O289:P289,\"#\")","v":{"$error":"#NAME?"}},{"$f":"IF(Q289<>0,[1]!SUMSTRING(Q289:R289,\"#\"),\"\")","v":{"$error":"#NAME?"}},{"$f":"[1]!SUMSTRING(S289:U289,\"|\")","v":{"$error":"#NAME?"}},3,5,500,{"$f":"IF(W289<>0,[1]!SUMSTRING(W289:Y289,\"#\"),\"\")","v":{"$error":"#NAME?"}}]
[9,6015,"生命",1289,"魔抗",370,"异妖减伤",225,{"$nulls":4},1,1289,4,370,59,225,{"$f":"[1]!SUMSTRING(M290:N290,\"#\")","v":{"$error":"#NAME?"}},{"$f":"[1]!SUMSTRING(O290:P290,\"#\")","v":{"$error":"#NAME?"}},{"$f":"IF(Q290<>0,[1]!SUMSTRING(Q290:R290,\"#\"),\"\")","v":{"$error":"#NAME?"}},{"$f":"[1]!SUMSTRING(S290:U290,\"|\")","v":{"$error":"#NAME?"}},"","","",{"$f":"IF(W290<>0,[1]!SUMSTRING(W290:Y290,\"#\"),\"\")","v":{"$error":"#NAME?"}}]
[10,6015,"生命",1551,"魔抗",410,"异妖减伤",250,{"$nulls":4},1,1551,4,410,59,250,{"$f":"[1]!SUMSTRING(M291:N291,\"#\")","v":{"$error":"#NAME?"}},{"$f":"[1]!SUMSTRING(O291:P291,\"#\")","v":{"$error":"#NAME?"}},{"$f":"IF(Q291<>0,[1]!SUMSTRING(Q291:R291,\"#\"),\"\")","v":{"$error":"#NAME?"}},{"$f":"[1]!SUMSTRING(S291:U291,\"|\")","v":{"$error":"#NAME?"}},"","","",{"$f":"IF(W291<>0,[1]!SUMSTRING(W291:Y291,\"#\"),\"\")","v":{"$error":"#NAME?"}}]
[11,6015,"生命",1838,"魔抗",452,"异妖减伤",275,"玄策","速度",500,null,1,1838,4,452,59,275,{"$f":"[1]!SUMSTRING(M292:N292,\"#\")","v":{"$error":"#NAME?"}},{"$f":"[1]!SUMSTRING(O292:P292,\"#\")","v":{"$error":"#NAME?"}},{"$f":"IF(Q292<>0,[1]!SUMSTRING(Q292:R292,\"#\"),\"\")","v":{"$error":"#NAME?"}},{"$f":"[1]!SUMSTRING(S292:U292,\"|\")","v":{"$error":"#NAME?"}},4,5,500,{"$f":"IF(W292<>0,[1]!SUMSTRING(W292:Y292,\"#\"),\"\")","v":{"$error":"#NAME?"}}]
[12,6015,"生命",2148,"魔抗",494,"异妖减伤",300,{"$nulls":4},1,2148,4,494,59,300,{"$f":"[1]!SUMSTRING(M293:N293,\"#\")","v":{"$error":"#NAME?"}},{"$f":"[1]!SUMSTRING(O293:P293,\"#\")","v":{"$error":"#NAME?"}},{"$f":"IF(Q293<>0,[1]!SUMSTRING(Q293:R293,\"#\"),\"\")","v":{"$error":"#NAME?"}},{"$f":"[1]!SUMSTRING(S293:U293,\"|\")","v":{"$error":"#NAME?"}},"","","",{"$f":"IF(W293<>0,[1]!SUMSTRING(W293:Y293,\"#\"),\"\")","v":{"$error":"#NAME?"}}]
[13,6015,"生命",2482,"魔抗",534,"异妖减伤",325,{"$nulls":4},1,2482,4,534,59,325,{"$f":"[1]!SUMSTRING(M294:N294,\"#\")","v":{"$error":"#NAME?"}},{"$f":"[1]!SUMSTRING(O294:P294,\"#\")","v":{"$error":"#NAME?"}},{"$f":"IF(Q294<>0,[1]!SUMSTRING(Q294:R294,\"#\"),\"\")","v":{"$error":"#NAME?"}},{"$f":"[1]!SUMSTRING(S294:U294,\"|\")","v":{"$error":"#NAME?"}},"","","",{"$f":"IF(W294<>0,[1]!SUMSTRING(W294:Y294,\"#\"),\"\")","v":{"$error":"#NAME?"}}]
[14,6015,"生命",2840,"魔抗",576,"异妖减伤",350,"天罚","速度",500,null,1,2840,4,576,59,350,{"$f":"[1]!SUMSTRING(M295:N295,\"#\")","v":{"$error":"#NAME?"}},{"$f":"[1]!SUMSTRING(O295:P295,\"#\")","v":{"$error":"#NAME?"}},{"$f":"IF(Q295<>0,[1]!SUMSTRING(Q295:R295,\"#\"),\"\")","v":{"$error":"#NAME?"}},{"$f":"[1]!SUMSTRING(S295:U295,\"|\")","v":{"$error":"#NAME?"}},2,5,500,{"$f":"IF(W295<>0,[1]!SUMSTRING(W295:Y295,\"#\"),\"\")","v":{"$error":"#NAME?"}}]
[15,6015,"生命",3222,"魔抗",616,"异妖减伤",375,{"$nulls":4},1,3222,4,616,59,375,{"$f":"[1]!SUMSTRING(M296:N296,\"#\")","v":{"$error":"#NAME?"}},{"$f":"[1]!SUMSTRING(O296:P296,\"#\")","v":{"$error":"#NAME?"}},{"$f":"IF(Q296<>0,[1]!SUMSTRING(Q296:R296,\"#\"),\"\")","v":{"$error":"#NAME?"}},{"$f":"[1]!SUMSTRING(S296:U296,\"|\")","v":{"$error":"#NAME?"}},"","","",{"$f":"IF(W296<>0,[1]!SUMSTRING(W296:Y296,\"#\"),\"\")","v":{"$error":"#NAME?"}}]
[16,6015,"生命",3628,"魔抗",658,"异妖减伤",400,{"$nulls":4},1,3628,4,658,59,400,{"$f":"[1]!SUMSTRING(M297:N297,\"#\")","v":{"$error":"#NAME?"}},{"$f":"[1]!SUMSTRING(O297:P297,\"#\")","v":{"$error":"#NAME?"}},{"$f":"IF(Q297<>0,[1]!SUMSTRING(Q297:R297,\"#\"),\"\")","v":{"$error":"#NAME?"}},{"$f":"[1]!SUMSTRING(S297:U297,\"|\")","v":{"$error":"#NAME?"}},"","","",{"$f":"IF(W297<>0,[1]!SUMSTRING(W297:Y297,\"#\"),\"\")","v":{"$error":"#NAME?"}}]
[17,6015,"生命",4057,"魔抗",700,"异妖减伤",425,"武卫","速度",300,null,1,4057,4,700,59,425,{"$f":"[1]!SUMSTRING(M298:N298,\"#\")","v":{"$error":"#NAME?"}},{"$f":"[1]!SUMSTRING(O298:P298,\"#\")","v":{"$error":"#NAME?"}},{"$f":"IF(Q298<>0,[1]!SUMSTRING(Q298:R298,\"#\"),\"\")","v":{"$error":"#NAME?"}},{"$f":"[1]!SUMSTRING(S298:U298,\"|\")","v":{"$error":"#NAME?"}},1,5,300,{"$f":"IF(W298<>0,[1]!SUMSTRING(W298:Y298,\"#\"),\"\")","v":{"$error":"#NAME?"}}]
[18,6015,"生命",4511,"魔抗",740,"异妖减伤",450,{"$nulls":4},1,4511,4,740,59,450,{"$f":"[1]!SUMSTRING(M299:N299,\"#\")","v":{"$error":"#NAME?"}},{"$f":"[1]!SUMSTRING(O299:P299,\"#\")","v":{"$error":"#NAME?"}},{"$f":"IF(Q299<>0,[1]!SUMSTRING(Q299:R299,\"#\"),\"\")","v":{"$error":"#NAME?"}},{"$f":"[1]!SUMSTRING(S299:U299,\"|\")","v":{"$error":"#NAME?"}},"","","",{"$f":"IF(W299<>0,[1]!SUMSTRING(W299:Y299,\"#\"),\"\")","v":{"$error":"#NAME?"}}]
[19,6015,"生命",4988,"魔抗",782,"异妖减伤",475,{"$nulls":4},1,4988,4,782,59,475,{"$f":"[1]!SUMSTRING(M300:N300,\"#\")","v":{"$error":"#NAME?"}},{"$f":"[1]!SUMSTRING(O300:P300,\"#\")","v":{"$error":"#NAME?"}},{"$f":"IF(Q300<>0,[1]!SUMSTRING(Q300:R300,\"#\"),\"\")","v":{"$error":"#NAME?"}},{"$f":"[1]!SUMSTRING(S300:U300,\"|\")","v":{"$error":"#NAME?"}},"","","",{"$f":"IF(W300<>0,[1]!SUMSTRING(W300:Y300,\"#\"),\"\")","v":{"$error":"#NAME?"}}]
[20,6015,"生命",5490,"魔抗",822,"异妖减伤",500,"玄策","速度",300,null,1,5490,4,822,59,500,{"$f":"[1]!SUMSTRING(M301:N301,\"#\")","v":{"$error":"#NAME?"}},{"$f":"[1]!SUMSTRING(O301:P301,\"#\")","v":{"$error":"#NAME?"}},{"$f":"IF(Q301<>0,[1]!SUMSTRING(Q301:R301,\"#\"),\"\")","v":{"$error":"#NAME?"}},{"$f":"[1]!SUMSTRING(S301:U301,\"|\")","v":{"$error":"#NAME?"}},4,5,300,{"$f":"IF(W301<>0,[1]!SUMSTRING(W301:Y301,\"#\"),\"\")","v":{"$error":"#NAME?"}}]
[1,6016,"攻击",20,"异妖减伤",25,"异妖增伤",25,{"$nulls":4},2,20,59,25,66,25,{"$f":"[1]!SUMSTRING(M302:N302,\"#\")","v":{"$error":"#NAME?"}},{"$f":"[1]!SUMSTRING(O302:P302,\"#\")","v":{"$error":"#NAME?"}},{"$f":"IF(Q302<>0,[1]!SUMSTRING(Q302:R302,\"#\"),\"\")","v":{"$error":"#NAME?"}},{"$f":"[1]!SUMSTRING(S302:U302,\"|\")","v":{"$error":"#NAME?"}},"","","",{"$f":"IF(W302<>0,[1]!SUMSTRING(W302:Y302,\"#\"),\"\")","v":{"$error":"#NAME?"}}]
[2,6016,"攻击",41,"异妖减伤",50,"异妖增伤",50,"武卫","速度",500,null,2,41,59,50,66,50,{"$f":"[1]!SUMSTRING(M303:N303,\"#\")","v":{"$error":"#NAME?"}},{"$f":"[1]!SUMSTRING(O303:P303,\"#\")","v":{"$error":"#NAME?"}},{"$f":"IF(Q303<>0,[1]!SUMSTRING(Q303:R303,\"#\"),\"\")","v":{"$error":"#NAME?"}},{"$f":"[1]!SUMSTRING(S303:U303,\"|\")","v":{"$error":"#NAME?"}},1,5,500,{"$f":"IF(W303<>0,[1]!SUMSTRING(W303:Y303,\"#\"),\"\")","v":{"$error":"#NAME?"}}]
[3,6016,"攻击",61,"异妖减伤",75,"异妖增伤",75,{"$nulls":4},2,61,59,75,66,75,{"$f":"[1]!SUMSTRING(M304:N304,\"#\")","v":{"$error":"#NAME?"}},{"$f":"[1]!SUMSTRING(O304:P304,\"#\")","v":{"$error":"#NAME?"}},{"$f":"IF(Q304<>0,[1]!SUMSTRING(Q304:R304,\"#\"),\"\")","v":{"$error":"#NAME?"}},{"$f":"[1]!SUMSTRING(S304:U304,\"|\")","v":{"$error":"#NAME?"}},"","","",{"$f":"IF(W304<>0,[1]!SUMSTRING(W304:Y304,\"#\"),\"\")","v":{"$error":"#NAME?"}}]
[4,6016,"攻击",82,"异妖减伤",100,"异妖增伤",{"$f":"25*A305","v":100},{"$nulls":4},2,82,59,100,66,100,{"$f":"[1]!SUMSTRING(M305:N305,\"#\")","v":{"$error":"#NAME?"}},{"$f":"[1]!SUMSTRING(O305:P305,\"#\")","v":{"$error":"#NAME?"}},{"$f":"IF(Q305<>0,[1]!SUMSTRING(Q305:R305,\"#\"),\"\")","v":{"$error":"#NAME?"}},{"$f":"[1]!SUMSTRING(S305:U305,\"|\")","v":{"$error":"#NAME?"}},"","","",{"$f":"IF(W305<>0,[1]!SUMSTRING(W305:Y305,\"#\"),\"\")","v":{"$error":"#NAME?"}}]
[5,6016,"攻击",102,"异妖减伤",125,"异妖增伤",125,"生花","速度",500,null,2,102,59,125,66,125,{"$f":"[1]!SUMSTRING(M306:N306,\"#\")","v":{"$error":"#NAME?"}},{"$f":"[1]!SUMSTRING(O306:P306,\"#\")","v":{"$error":"#NAME?"}},{"$f":"IF(Q306<>0,[1]!SUMSTRING(Q306:R306,\"#\"),\"\")","v":{"$error":"#NAME?"}},{"$f":"[1]!SUMSTRING(S306:U306,\"|\")","v":{"$error":"#NAME?"}},5,5,500,{"$f":"IF(W306<>0,[1]!SUMSTRING(W306:Y306,\"#\"),\"\")","v":{"$error":"#NAME?"}}]
[6,6016,"攻击",123,"异妖减伤",150,"异妖增伤",{"$f":"25*A307","v":150},{"$nulls":4},2,123,59,150,66,150,{"$f":"[1]!SUMSTRING(M307:N307,\"#\")","v":{"$error":"#NAME?"}},{"$f":"[1]!SUMSTRING(O307:P307,\"#\")","v":{"$error":"#NAME?"}},{"$f":"IF(Q307<>0,[1]!SUMSTRING(Q307:R307,\"#\"),\"\")","v":{"$error":"#NAME?"}},{"$f":"[1]!SUMSTRING(S307:U307,\"|\")","v":{"$error":"#NAME?"}},"","","",{"$f":"IF(W307<>0,[1]!SUMSTRING(W307:Y307,\"#\"),\"\")","v":{"$error":"#NAME?"}}]
[7,6016,"攻击",144,"异妖减伤",175,"异妖增伤",175,{"$nulls":4},2,144,59,175,66,175,{"$f":"[1]!SUMSTRING(M308:N308,\"#\")","v":{"$error":"#NAME?"}},{"$f":"[1]!SUMSTRING(O308:P308,\"#\")","v":{"$error":"#NAME?"}},{"$f":"IF(Q308<>0,[1]!SUMSTRING(Q308:R308,\"#\"),\"\")","v":{"$error":"#NAME?"}},{"$f":"[1]!SUMSTRING(S308:U308,\"|\")","v":{"$error":"#NAME?"}},"","","",{"$f":"IF(W308<>0,[1]!SUMSTRING(W308:Y308,\"#\"),\"\")","v":{"$error":"#NAME?"}}]
[8,6016,"攻击",164,"异妖减伤",200,"异妖增伤",200,"秘法","速度",500,null,2,164,59,200,66,200,{"$f":"[1]!SUMSTRING(M309:N309,\"#\")","v":{"$error":"#NAME?"}},{"$f":"[1]!SUMSTRING(O309:P309,\"#\")","v":{"$error":"#NAME?"}},{"$f":"IF(Q309<>0,[1]!SUMSTRING(Q309:R309,\"#\"),\"\")","v":{"$error":"#NAME?"}},{"$f":"[1]!SUMSTRING(S309:U309,\"|\")","v":{"$error":"#NAME?"}},3,5,500,{"$f":"IF(W309<>0,[1]!SUMSTRING(W309:Y309,\"#\"),\"\")","v":{"$error":"#NAME?"}}]
[9,6016,"攻击",185,"异妖减伤",225,"异妖增伤",225,{"$nulls":4},2,185,59,225,66,225,{"$f":"[1]!SUMSTRING(M310:N310,\"#\")","v":{"$error":"#NAME?"}},{"$f":"[1]!SUMSTRING(O310:P310,\"#\")","v":{"$error":"#NAME?"}},{"$f":"IF(Q310<>0,[1]!SUMSTRING(Q310:R310,\"#\"),\"\")","v":{"$error":"#NAME?"}},{"$f":"[1]!SUMSTRING(S310:U310,\"|\")","v":{"$error":"#NAME?"}},"","","",{"$f":"IF(W310<>0,[1]!SUMSTRING(W310:Y310,\"#\"),\"\")","v":{"$error":"#NAME?"}}]
[10,6016,"攻击",205,"异妖减伤",250,"异妖增伤",250,{"$nulls":4},2,205,59,250,66,250,{"$f":"[1]!SUMSTRING(M311:N311,\"#\")","v":{"$error":"#NAME?"}},{"$f":"[1]!SUMSTRING(O311:P311,\"#\")","v":{"$error":"#NAME?"}},{"$f":"IF(Q311<>0,[1]!SUMSTRING(Q311:R311,\"#\"),\"\")","v":{"$error":"#NAME?"}},{"$f":"[1]!SUMSTRING(S311:U311,\"|\")","v":{"$error":"#NAME?"}},"","","",{"$f":"IF(W311<>0,[1]!SUMSTRING(W311:Y311,\"#\"),\"\")","v":{"$error":"#NAME?"}}]
[11,6016,"攻击",226,"异妖减伤",275,"异妖增伤",275,"玄策","速度",500,null,2,226,59,275,66,275,{"$f":"[1]!SUMSTRING(M312:N312,\"#\")","v":{"$error":"#NAME?"}},{"$f":"[1]!SUMSTRING(O312:P312,\"#\")","v":{"$error":"#NAME?"}},{"$f":"IF(Q312<>0,[1]!SUMSTRING(Q312:R312,\"#\"),\"\")","v":{"$error":"#NAME?"}},{"$f":"[1]!SUMSTRING(S312:U312,\"|\")","v":{"$error":"#NAME?"}},4,5,500,{"$f":"IF(W312<>0,[1]!SUMSTRING(W312:Y312,\"#\"),\"\")","v":{"$error":"#NAME?"}}]
[12,6016,"攻击",247,"异妖减伤",300,"异妖增伤",300,{"$nulls":4},2,247,59,300,66,300,{"$f":"[1]!SUMSTRING(M313:N313,\"#\")","v":{"$error":"#NAME?"}},{"$f":"[1]!SUMSTRING(O313:P313,\"#\")","v":{"$error":"#NAME?"}},{"$f":"IF(Q313<>0,[1]!SUMSTRING(Q313:R313,\"#\"),\"\")","v":{"$error":"#NAME?"}},{"$f":"[1]!SUMSTRING(S313:U313,\"|\")","v":{"$error":"#NAME?"}},"","","",{"$f":"IF(W313<>0,[1]!SUMSTRING(W313:Y313,\"#\"),\"\")","v":{"$error":"#NAME?"}}]
[13,6016,"攻击",267,"异妖减伤",325,"异妖增伤",325,{"$nulls":4},2,267,59,325,66,325,{"$f":"[1]!SUMSTRING(M314:N314,\"#\")","v":{"$error":"#NAME?"}},{"$f":"[1]!SUMSTRING(O314:P314,\"#\")","v":{"$error":"#NAME?"}},{"$f":"IF(Q314<>0,[1]!SUMSTRING(Q314:R314,\"#\"),\"\")","v":{"$error":"#NAME?"}},{"$f":"[1]!SUMSTRING(S314:U314,\"|\")","v":{"$error":"#NAME?"}},"","","",{"$f":"IF(W314<>0,[1]!SUMSTRING(W314:Y314,\"#\"),\"\")","v":{"$error":"#NAME?"}}]
[14,6016,"攻击",288,"异妖减伤",350,"异妖增伤",350,"天罚","速度",500,null,2,288,59,350,66,350,{"$f":"[1]!SUMSTRING(M315:N315,\"#\")","v":{"$error":"#NAME?"}},{"$f":"[1]!SUMSTRING(O315:P315,\"#\")","v":{"$error":"#NAME?"}},{"$f":"IF(Q315<>0,[1]!SUMSTRING(Q315:R315,\"#\"),\"\")","v":{"$error":"#NAME?"}},{"$f":"[1]!SUMSTRING(S315:U315,\"|\")","v":{"$error":"#NAME?"}},2,5,500,{"$f":"IF(W315<>0,[1]!SUMSTRING(W315:Y315,\"#\"),\"\")","v":{"$error":"#NAME?"}}]
[15,6016,"攻击",308,"异妖减伤",375,"异妖增伤",375,{"$nulls":4},2,308,59,375,66,375,{"$f":"[1]!SUMSTRING(M316:N316,\"#\")","v":{"$error":"#NAME?"}},{"$f":"[1]!SUMSTRING(O316:P316,\"#\")","v":{"$error":"#NAME?"}},{"$f":"IF(Q316<>0,[1]!SUMSTRING(Q316:R316,\"#\"),\"\")","v":{"$error":"#NAME?"}},{"$f":"[1]!SUMSTRING(S316:U316,\"|\")","v":{"$error":"#NAME?"}},"","","",{"$f":"IF(W316<>0,[1]!SUMSTRING(W316:Y316,\"#\"),\"\")","v":{"$error":"#NAME?"}}]
[16,6016,"攻击",329,"异妖减伤",400,"异妖增伤",400,{"$nulls":4},2,329,59,400,66,400,{"$f":"[1]!SUMSTRING(M317:N317,\"#\")","v":{"$error":"#NAME?"}},{"$f":"[1]!SUMSTRING(O317:P317,\"#\")","v":{"$error":"#NAME?"}},{"$f":"IF(Q317<>0,[1]!SUMSTRING(Q317:R317,\"#\"),\"\")","v":{"$error":"#NAME?"}},{"$f":"[1]!SUMSTRING(S317:U317,\"|\")","v":{"$error":"#NAME?"}},"","","",{"$f":"IF(W317<>0,[1]!SUMSTRING(W317:Y317,\"#\"),\"\")","v":{"$error":"#NAME?"}}]
[17,6016,"攻击",350,"异妖减伤",425,"异妖增伤",425,"武卫","速度",300,null,2,350,59,425,66,425,{"$f":"[1]!SUMSTRING(M318:N318,\"#\")","v":{"$error":"#NAME?"}},{"$f":"[1]!SUMSTRING(O318:P318,\"#\")","v":{"$error":"#NAME?"}},{"$f":"IF(Q318<>0,[1]!SUMSTRING(Q318:R318,\"#\"),\"\")","v":{"$error":"#NAME?"}},{"$f":"[1]!SUMSTRING(S318:U318,\"|\")","v":{"$error":"#NAME?"}},1,5,300,{"$f":"IF(W318<>0,[1]!SUMSTRING(W318:Y318,\"#\"),\"\")","v":{"$error":"#NAME?"}}]
[18,6016,"攻击",370,"异妖减伤",450,"异妖增伤",450,{"$nulls":4},2,370,59,450,66,450,{"$f":"[1]!SUMSTRING(M319:N319,\"#\")","v":{"$error":"#NAME?"}},{"$f":"[1]!SUMSTRING(O319:P319,\"#\")","v":{"$error":"#NAME?"}},{"$f":"IF(Q319<>0,[1]!SUMSTRING(Q319:R319,\"#\"),\"\")","v":{"$error":"#NAME?"}},{"$f":"[1]!SUMSTRING(S319:U319,\"|\")","v":{"$error":"#NAME?"}},"","","",{"$f":"IF(W319<>0,[1]!SUMSTRING(W319:Y319,\"#\"),\"\")","v":{"$error":"#NAME?"}}]
[19,6016,"攻击",391,"异妖减伤",475,"异妖增伤",475,{"$nulls":4},2,391,59,475,66,475,{"$f":"[1]!SUMSTRING(M320:N320,\"#\")","v":{"$error":"#NAME?"}},{"$f":"[1]!SUMSTRING(O320:P320,\"#\")","v":{"$error":"#NAME?"}},{"$f":"IF(Q320<>0,[1]!SUMSTRING(Q320:R320,\"#\"),\"\")","v":{"$error":"#NAME?"}},{"$f":"[1]!SUMSTRING(S320:U320,\"|\")","v":{"$error":"#NAME?"}},"","","",{"$f":"IF(W320<>0,[1]!SUMSTRING(W320:Y320,\"#\"),\"\")","v":{"$error":"#NAME?"}}]
[20,6016,"攻击",411,"异妖减伤",500,"异妖增伤",500,"玄策","速度",300,null,2,411,59,500,66,500,{"$f":"[1]!SUMSTRING(M321:N321,\"#\")","v":{"$error":"#NAME?"}},{"$f":"[1]!SUMSTRING(O321:P321,\"#\")","v":{"$error":"#NAME?"}},{"$f":"IF(Q321<>0,[1]!SUMSTRING(Q321:R321,\"#\"),\"\")","v":{"$error":"#NAME?"}},{"$f":"[1]!SUMSTRING(S321:U321,\"|\")","v":{"$error":"#NAME?"}},4,5,300,{"$f":"IF(W321<>0,[1]!SUMSTRING(W321:Y321,\"#\"),\"\")","v":{"$error":"#NAME?"}}]
[1,6017,"生命",47,"攻击",20,"异妖增伤",25,{"$nulls":4},1,47,2,20,66,25,{"$f":"[1]!SUMSTRING(M322:N322,\"#\")","v":{"$error":"#NAME?"}},{"$f":"[1]!SUMSTRING(O322:P322,\"#\")","v":{"$error":"#NAME?"}},{"$f":"IF(Q322<>0,[1]!SUMSTRING(Q322:R322,\"#\"),\"\")","v":{"$error":"#NAME?"}},{"$f":"[1]!SUMSTRING(S322:U322,\"|\")","v":{"$error":"#NAME?"}},"","","",{"$f":"IF(W322<>0,[1]!SUMSTRING(W322:Y322,\"#\"),\"\")","v":{"$error":"#NAME?"}}]
[2,6017,"生命",119,"攻击",41,"异妖增伤",50,"武卫","治疗",1000,null,{"$f":"VLOOKUP(C323,$AB:$AC,2,0)","v":1},{"$f":"D323","v":119},{"$f":"VLOOKUP(E323,$AB:$AC,2,0)","v":2},{"$f":"F323","v":41},{"$f":"IF(G323<>0,VLOOKUP(G323,$AB:$AC,2,0),\"\")","v":66},{"$f":"IF(H323<>0,H323,\"\")","v":50},{"$f":"[1]!SUMSTRING(M323:N323,\"#\")","v":{"$error":"#NAME?"}},{"$f":"[1]!SUMSTRING(O323:P323,\"#\")","v":{"$error":"#NAME?"}},{"$f":"IF(Q323<>0,[1]!SUMSTRING(Q323:R323,\"#\"),\"\")","v":{"$error":"#NAME?"}},{"$f":"[1]!SUMSTRING(S323:U323,\"|\")","v":{"$error":"#NAME?"}},1,{"$f":"IF(J323<>0,VLOOKUP(J323,$AB:$AC,2,0),\"\")","v":58},{"$f":"IF(K323<>0,K323,\"\")","v":1000},{"$f":"IF(W323<>0,[1]!SUMSTRING(W323:Y323,\"#\"),\"\")","v":{"$error":"#NAME?"}}]
[3,6017,"生命",214,"攻击",61,"异妖增伤",75,{"$nulls":4},1,214,2,61,66,75,{"$f":"[1]!SUMSTRING(M324:N324,\"#\")","v":{"$error":"#NAME?"}},{"$f":"[1]!SUMSTRING(O324:P324,\"#\")","v":{"$error":"#NAME?"}},{"$f":"IF(Q324<>0,[1]!SUMSTRING(Q324:R324,\"#\"),\"\")","v":{"$error":"#NAME?"}},{"$f":"[1]!SUMSTRING(S324:U324,\"|\")","v":{"$error":"#NAME?"}},{"$f":"IF(I324<>0,VLOOKUP(I324,$AG$3:$AH$7,2,0),\"\")","v":""},"","",{"$f":"IF(W324<>0,[1]!SUMSTRING(W324:Y324,\"#\"),\"\")","v":{"$error":"#NAME?"}}]
[4,6017,"生命",334,"攻击",82,"异妖增伤",100,{"$nulls":4},1,334,2,82,66,100,{"$f":"[1]!SUMSTRING(M325:N325,\"#\")","v":{"$error":"#NAME?"}},{"$f":"[1]!SUMSTRING(O325:P325,\"#\")","v":{"$error":"#NAME?"}},{"$f":"IF(Q325<>0,[1]!SUMSTRING(Q325:R325,\"#\"),\"\")","v":{"$error":"#NAME?"}},{"$f":"[1]!SUMSTRING(S325:U325,\"|\")","v":{"$error":"#NAME?"}},"","","",{"$f":"IF(W325<>0,[1]!SUMSTRING(W325:Y325,\"#\"),\"\")","v":{"$error":"#NAME?"}}]
[5,6017,"生命",477,"攻击",102,"异妖增伤",125,"生花","治疗",1000,null,1,477,2,102,66,125,{"$f":"[1]!SUMSTRING(M326:N326,\"#\")","v":{"$error":"#NAME?"}},{"$f":"[1]!SUMSTRING(O326:P326,\"#\")","v":{"$error":"#NAME?"}},{"$f":"IF(Q326<>0,[1]!SUMSTRING(Q326:R326,\"#\"),\"\")","v":{"$error":"#NAME?"}},{"$f":"[1]!SUMSTRING(S326:U326,\"|\")","v":{"$error":"#NAME?"}},5,58,1000,{"$f":"IF(W326<>0,[1]!SUMSTRING(W326:Y326,\"#\"),\"\")","v":{"$error":"#NAME?"}}]
[6,6017,"生命",644,"攻击",123,"异妖增伤",150,{"$nulls":4},1,644,2,123,66,150,{"$f":"[1]!SUMSTRING(M327:N327,\"#\")","v":{"$error":"#NAME?"}},{"$f":"[1]!SUMSTRING(O327:P327,\"#\")","v":{"$error":"#NAME?"}},{"$f":"IF(Q327<>0,[1]!SUMSTRING(Q327:R327,\"#\"),\"\")","v":{"$error":"#NAME?"}},{"$f":"[1]!SUMSTRING(S327:U327,\"|\")","v":{"$error":"#NAME?"}},"","","",{"$f":"IF(W327<>0,[1]!SUMSTRING(W327:Y327,\"#\"),\"\")","v":{"$error":"#NAME?"}}]
[7,6017,"生命",835,"攻击",144,"异妖增伤",175,{"$nulls":4},1,835,2,144,66,175,{"$f":"[1]!SUMSTRING(M328:N328,\"#\")","v":{"$error":"#NAME?"}},{"$f":"[1]!SUMSTRING(O328:P328,\"#\")","v":{"$error":"#NAME?"}},{"$f":"IF(Q328<>0,[1]!SUMSTRING(Q328:R328,\"#\"),\"\")","v":{"$error":"#NAME?"}},{"$f":"[1]!SUMSTRING(S328:U328,\"|\")","v":{"$error":"#NAME?"}},"","","",{"$f":"IF(W328<>0,[1]!SUMSTRING(W328:Y328,\"#\"),\"\")","v":{"$error":"#NAME?"}}]
[8,6017,"生命",1050,"攻击",164,"异妖增伤",200,"秘法","治疗",1000,null,1,1050,2,164,66,200,{"$f":"[1]!SUMSTRING(M329:N329,\"#\")","v":{"$error":"#NAME?"}},{"$f":"[1]!SUMSTRING(O329:P329,\"#\")","v":{"$error":"#NAME?"}},{"$f":"IF(Q329<>0,[1]!SUMSTRING(Q329:R329,\"#\"),\"\")","v":{"$error":"#NAME?"}},{"$f":"[1]!SUMSTRING(S329:U329,\"|\")","v":{"$error":"#NAME?"}},3,58,1000,{"$f":"IF(W329<>0,[1]!SUMSTRING(W329:Y329,\"#\"),\"\")","v":{"$error":"#NAME?"}}]
[9,6017,"生命",1289,"攻击",185,"异妖增伤",225,{"$nulls":4},1,1289,2,185,66,225,{"$f":"[1]!SUMSTRING(M330:N330,\"#\")","v":{"$error":"#NAME?"}},{"$f":"[1]!SUMSTRING(O330:P330,\"#\")","v":{"$error":"#NAME?"}},{"$f":"IF(Q330<>0,[1]!SUMSTRING(Q330:R330,\"#\"),\"\")","v":{"$error":"#NAME?"}},{"$f":"[1]!SUMSTRING(S330:U330,\"|\")","v":{"$error":"#NAME?"}},"","","",{"$f":"IF(W330<>0,[1]!SUMSTRING(W330:Y330,\"#\"),\"\")","v":{"$error":"#NAME?"}}]
[10,6017,"生命",1551,"攻击",205,"异妖增伤",250,{"$nulls":4},1,1551,2,205,66,250,{"$f":"[1]!SUMSTRING(M331:N331,\"#\")","v":{"$error":"#NAME?"}},{"$f":"[1]!SUMSTRING(O331:P331,\"#\")","v":{"$error":"#NAME?"}},{"$f":"IF(Q331<>0,[1]!SUMSTRING(Q331:R331,\"#\"),\"\")","v":{"$error":"#NAME?"}},{"$f":"[1]!SUMSTRING(S331:U331,\"|\")","v":{"$error":"#NAME?"}},"","","",{"$f":"IF(W331<>0,[1]!SUMSTRING(W331:Y331,\"#\"),\"\")","v":{"$error":"#NAME?"}}]
[11,6017,"生命",1838,"攻击",226,"异妖增伤",275,"玄策","治疗",1000,null,1,1838,2,226,66,275,{"$f":"[1]!SUMSTRING(M332:N332,\"#\")","v":{"$error":"#NAME?"}},{"$f":"[1]!SUMSTRING(O332:P332,\"#\")","v":{"$error":"#NAME?"}},{"$f":"IF(Q332<>0,[1]!SUMSTRING(Q332:R332,\"#\"),\"\")","v":{"$error":"#NAME?"}},{"$f":"[1]!SUMSTRING(S332:U332,\"|\")","v":{"$error":"#NAME?"}},4,58,1000,{"$f":"IF(W332<>0,[1]!SUMSTRING(W332:Y332,\"#\"),\"\")","v":{"$error":"#NAME?"}}]
[12,6017,"生命",2148,"攻击",247,"异妖增伤",300,{"$nulls":4},1,2148,2,247,66,300,{"$f":"[1]!SUMSTRING(M333:N333,\"#\")","v":{"$error":"#NAME?"}},{"$f":"[1]!SUMSTRING(O333:P333,\"#\")","v":{"$error":"#NAME?"}},{"$f":"IF(Q333<>0,[1]!SUMSTRING(Q333:R333,\"#\"),\"\")","v":{"$error":"#NAME?"}},{"$f":"[1]!SUMSTRING(S333:U333,\"|\")","v":{"$error":"#NAME?"}},"","","",{"$f":"IF(W333<>0,[1]!SUMSTRING(W333:Y333,\"#\"),\"\")","v":{"$error":"#NAME?"}}]
[13,6017,"生命",2482,"攻击",267,"异妖增伤",325,{"$nulls":4},1,2482,2,267,66,325,{"$f":"[1]!SUMSTRING(M334:N334,\"#\")","v":{"$error":"#NAME?"}},{"$f":"[1]!SUMSTRING(O334:P334,\"#\")","v":{"$error":"#NAME?"}},{"$f":"IF(Q334<>0,[1]!SUMSTRING(Q334:R334,\"#\"),\"\")","v":{"$error":"#NAME?"}},{"$f":"[1]!SUMSTRING(S334:U334,\"|\")","v":{"$error":"#NAME?"}},"","","",{"$f":"IF(W334<>0,[1]!SUMSTRING(W334:Y334,\"#\"),\"\")","v":{"$error":"#NAME?"}}]
[14,6017,"生命",2840,"攻击",288,"异妖增伤",350,"天罚","治疗",1000,null,1,2840,2,288,66,350,{"$f":"[1]!SUMSTRING(M335:N335,\"#\")","v":{"$error":"#NAME?"}},{"$f":"[1]!SUMSTRING(O335:P335,\"#\")","v":{"$error":"#NAME?"}},{"$f":"IF(Q335<>0,[1]!SUMSTRING(Q335:R335,\"#\"),\"\")","v":{"$error":"#NAME?"}},{"$f":"[1]!SUMSTRING(S335:U335,\"|\")","v":{"$error":"#NAME?"}},2,58,1000,{"$f":"IF(W335<>0,[1]!SUMSTRING(W335:Y335,\"#\"),\"\")","v":{"$error":"#NAME?"}}]
[15,6017,"生命",3222,"攻击",308,"异妖增伤",375,{"$nulls":4},1,3222,2,308,66,375,{"$f":"[1]!SUMSTRING(M336:N336,\"#\")","v":{"$error":"#NAME?"}},{"$f":"[1]!SUMSTRING(O336:P336,\"#\")","v":{"$error":"#NAME?"}},{"$f":"IF(Q336<>0,[1]!SUMSTRING(Q336:R336,\"#\"),\"\")","v":{"$error":"#NAME?"}},{"$f":"[1]!SUMSTRING(S336:U336,\"|\")","v":{"$error":"#NAME?"}},"","","",{"$f":"IF(W336<>0,[1]!SUMSTRING(W336:Y336,\"#\"),\"\")","v":{"$error":"#NAME?"}}]
[16,6017,"生命",3628,"攻击",329,"异妖增伤",400,{"$nulls":4},1,3628,2,329,66,400,{"$f":"[1]!SUMSTRING(M337:N337,\"#\")","v":{"$error":"#NAME?"}},{"$f":"[1]!SUMSTRING(O337:P337,\"#\")","v":{"$error":"#NAME?"}},{"$f":"IF(Q337<>0,[1]!SUMSTRING(Q337:R337,\"#\"),\"\")","v":{"$error":"#NAME?"}},{"$f":"[1]!SUMSTRING(S337:U337,\"|\")","v":{"$error":"#NAME?"}},"","","",{"$f":"IF(W337<>0,[1]!SUMSTRING(W337:Y337,\"#\"),\"\")","v":{"$error":"#NAME?"}}]
[17,6017,"生命",4057,"攻击",350,"异妖增伤",425,"武卫","治疗",500,null,1,4057,2,350,66,425,{"$f":"[1]!SUMSTRING(M338:N338,\"#\")","v":{"$error":"#NAME?"}},{"$f":"[1]!SUMSTRING(O338:P338,\"#\")","v":{"$error":"#NAME?"}},{"$f":"IF(Q338<>0,[1]!SUMSTRING(Q338:R338,\"#\"),\"\")","v":{"$error":"#NAME?"}},{"$f":"[1]!SUMSTRING(S338:U338,\"|\")","v":{"$error":"#NAME?"}},1,58,500,{"$f":"IF(W338<>0,[1]!SUMSTRING(W338:Y338,\"#\"),\"\")","v":{"$error":"#NAME?"}}]
[18,6017,"生命",4511,"攻击",370,"异妖增伤",450,{"$nulls":4},1,4511,2,370,66,450,{"$f":"[1]!SUMSTRING(M339:N339,\"#\")","v":{"$error":"#NAME?"}},{"$f":"[1]!SUMSTRING(O339:P339,\"#\")","v":{"$error":"#NAME?"}},{"$f":"IF(Q339<>0,[1]!SUMSTRING(Q339:R339,\"#\"),\"\")","v":{"$error":"#NAME?"}},{"$f":"[1]!SUMSTRING(S339:U339,\"|\")","v":{"$error":"#NAME?"}},"","","",{"$f":"IF(W339<>0,[1]!SUMSTRING(W339:Y339,\"#\"),\"\")","v":{"$error":"#NAME?"}}]
[19,6017,"生命",4988,"攻击",391,"异妖增伤",475,{"$nulls":4},1,4988,2,391,66,475,{"$f":"[1]!SUMSTRING(M340:N340,\"#\")","v":{"$error":"#NAME?"}},{"$f":"[1]!SUMSTRING(O340:P340,\"#\")","v":{"$error":"#NAME?"}},{"$f":"IF(Q340<>0,[1]!SUMSTRING(Q340:R340,\"#\"),\"\")","v":{"$error":"#NAME?"}},{"$f":"[1]!SUMSTRING(S340:U340,\"|\")","v":{"$error":"#NAME?"}},"","","",{"$f":"IF(W340<>0,[1]!SUMSTRING(W340:Y340,\"#\"),\"\")","v":{"$error":"#NAME?"}}]
[20,6017,"生命",5490,"攻击",411,"异妖增伤",500,"生花","治疗",500,null,1,5490,2,411,66,500,{"$f":"[1]!SUMSTRING(M341:N341,\"#\")","v":{"$error":"#NAME?"}},{"$f":"[1]!SUMSTRING(O341:P341,\"#\")","v":{"$error":"#NAME?"}},{"$f":"IF(Q341<>0,[1]!SUMSTRING(Q341:R341,\"#\"),\"\")","v":{"$error":"#NAME?"}},{"$f":"[1]!SUMSTRING(S341:U341,\"|\")","v":{"$error":"#NAME?"}},5,58,500,{"$f":"IF(W341<>0,[1]!SUMSTRING(W341:Y341,\"#\"),\"\")","v":{"$error":"#NAME?"}}]
[1,6018,"生命",47,"护甲",40,"异妖减伤",25,{"$nulls":4},1,47,3,40,59,25,{"$f":"[1]!SUMSTRING(M342:N342,\"#\")","v":{"$error":"#NAME?"}},{"$f":"[1]!SUMSTRING(O342:P342,\"#\")","v":{"$error":"#NAME?"}},{"$f":"IF(Q342<>0,[1]!SUMSTRING(Q342:R342,\"#\"),\"\")","v":{"$error":"#NAME?"}},{"$f":"[1]!SUMSTRING(S342:U342,\"|\")","v":{"$error":"#NAME?"}},"","","",{"$f":"IF(W342<>0,[1]!SUMSTRING(W342:Y342,\"#\"),\"\")","v":{"$error":"#NAME?"}}]
[{"$f":"A323","v":2},{"$f":"B323+1","v":6018},"生命",119,"护甲",82,"异妖减伤",50,"武卫","受治疗",1000,null,1,119,3,82,59,50,{"$f":"[1]!SUMSTRING(M343:N343,\"#\")","v":{"$error":"#NAME?"}},{"$f":"[1]!SUMSTRING(O343:P343,\"#\")","v":{"$error":"#NAME?"}},{"$f":"IF(Q343<>0,[1]!SUMSTRING(Q343:R343,\"#\"),\"\")","v":{"$error":"#NAME?"}},{"$f":"[1]!SUMSTRING(S343:U343,\"|\")","v":{"$error":"#NAME?"}},1,57,1000,{"$f":"IF(W343<>0,[1]!SUMSTRING(W343:Y343,\"#\"),\"\")","v":{"$error":"#NAME?"}}]
[3,6018,"生命",214,"护甲",122,"异妖减伤",75,{"$nulls":4},1,214,3,122,59,75,{"$f":"[1]!SUMSTRING(M344:N344,\"#\")","v":{"$error":"#NAME?"}},{"$f":"[1]!SUMSTRING(O344:P344,\"#\")","v":{"$error":"#NAME?"}},{"$f":"IF(Q344<>0,[1]!SUMSTRING(Q344:R344,\"#\"),\"\")","v":{"$error":"#NAME?"}},{"$f":"[1]!SUMSTRING(S344:U344,\"|\")","v":{"$error":"#NAME?"}},"","","",{"$f":"IF(W344<>0,[1]!SUMSTRING(W344:Y344,\"#\"),\"\")","v":{"$error":"#NAME?"}}]
[4,6018,"生命",334,"护甲",164,"异妖减伤",100,{"$nulls":4},1,334,3,164,59,100,{"$f":"[1]!SUMSTRING(M345:N345,\"#\")","v":{"$error":"#NAME?"}},{"$f":"[1]!SUMSTRING(O345:P345,\"#\")","v":{"$error":"#NAME?"}},{"$f":"IF(Q345<>0,[1]!SUMSTRING(Q345:R345,\"#\"),\"\")","v":{"$error":"#NAME?"}},{"$f":"[1]!SUMSTRING(S345:U345,\"|\")","v":{"$error":"#NAME?"}},"","","",{"$f":"IF(W345<>0,[1]!SUMSTRING(W345:Y345,\"#\"),\"\")","v":{"$error":"#NAME?"}}]
[5,6018,"生命",477,"护甲",204,"异妖减伤",125,"生花","受治疗",1000,null,1,477,3,204,59,125,{"$f":"[1]!SUMSTRING(M346:N346,\"#\")","v":{"$error":"#NAME?"}},{"$f":"[1]!SUMSTRING(O346:P346,\"#\")","v":{"$error":"#NAME?"}},{"$f":"IF(Q346<>0,[1]!SUMSTRING(Q346:R346,\"#\"),\"\")","v":{"$error":"#NAME?"}},{"$f":"[1]!SUMSTRING(S346:U346,\"|\")","v":{"$error":"#NAME?"}},5,57,1000,{"$f":"IF(W346<>0,[1]!SUMSTRING(W346:Y346,\"#\"),\"\")","v":{"$error":"#NAME?"}}]
[6,6018,"生命",644,"护甲",246,"异妖减伤",150,{"$nulls":4},1,644,3,246,59,150,{"$f":"[1]!SUMSTRING(M347:N347,\"#\")","v":{"$error":"#NAME?"}},{"$f":"[1]!SUMSTRING(O347:P347,\"#\")","v":{"$error":"#NAME?"}},{"$f":"IF(Q347<>0,[1]!SUMSTRING(Q347:R347,\"#\"),\"\")","v":{"$error":"#NAME?"}},{"$f":"[1]!SUMSTRING(S347:U347,\"|\")","v":{"$error":"#NAME?"}},"","","",{"$f":"IF(W347<>0,[1]!SUMSTRING(W347:Y347,\"#\"),\"\")","v":{"$error":"#NAME?"}}]
[7,6018,"生命",835,"护甲",288,"异妖减伤",175,{"$nulls":4},1,835,3,288,59,175,{"$f":"[1]!SUMSTRING(M348:N348,\"#\")","v":{"$error":"#NAME?"}},{"$f":"[1]!SUMSTRING(O348:P348,\"#\")","v":{"$error":"#NAME?"}},{"$f":"IF(Q348<>0,[1]!SUMSTRING(Q348:R348,\"#\"),\"\")","v":{"$error":"#NAME?"}},{"$f":"[1]!SUMSTRING(S348:U348,\"|\")","v":{"$error":"#NAME?"}},"","","",{"$f":"IF(W348<>0,[1]!SUMSTRING(W348:Y348,\"#\"),\"\")","v":{"$error":"#NAME?"}}]
[8,6018,"生命",1050,"护甲",328,"异妖减伤",200,"秘法","受治疗",1000,null,1,1050,3,328,59,200,{"$f":"[1]!SUMSTRING(M349:N349,\"#\")","v":{"$error":"#NAME?"}},{"$f":"[1]!SUMSTRING(O349:P349,\"#\")","v":{"$error":"#NAME?"}},{"$f":"IF(Q349<>0,[1]!SUMSTRING(Q349:R349,\"#\"),\"\")","v":{"$error":"#NAME?"}},{"$f":"[1]!SUMSTRING(S349:U349,\"|\")","v":{"$error":"#NAME?"}},3,57,1000,{"$f":"IF(W349<>0,[1]!SUMSTRING(W349:Y349,\"#\"),\"\")","v":{"$error":"#NAME?"}}]
[9,6018,"生命",1289,"护甲",370,"异妖减伤",225,{"$nulls":4},1,1289,3,370,59,225,{"$f":"[1]!SUMSTRING(M350:N350,\"#\")","v":{"$error":"#NAME?"}},{"$f":"[1]!SUMSTRING(O350:P350,\"#\")","v":{"$error":"#NAME?"}},{"$f":"IF(Q350<>0,[1]!SUMSTRING(Q350:R350,\"#\"),\"\")","v":{"$error":"#NAME?"}},{"$f":"[1]!SUMSTRING(S350:U350,\"|\")","v":{"$error":"#NAME?"}},"","","",{"$f":"IF(W350<>0,[1]!SUMSTRING(W350:Y350,\"#\"),\"\")","v":{"$error":"#NAME?"}}]
[10,6018,"生命",1551,"护甲",410,"异妖减伤",250,{"$nulls":4},1,1551,3,410,59,250,{"$f":"[1]!SUMSTRING(M351:N351,\"#\")","v":{"$error":"#NAME?"}},{"$f":"[1]!SUMSTRING(O351:P351,\"#\")","v":{"$error":"#NAME?"}},{"$f":"IF(Q351<>0,[1]!SUMSTRING(Q351:R351,\"#\"),\"\")","v":{"$error":"#NAME?"}},{"$f":"[1]!SUMSTRING(S351:U351,\"|\")","v":{"$error":"#NAME?"}},"","","",{"$f":"IF(W351<>0,[1]!SUMSTRING(W351:Y351,\"#\"),\"\")","v":{"$error":"#NAME?"}}]
[11,6018,"生命",1838,"护甲",452,"异妖减伤",275,"玄策","受治疗",1000,null,1,1838,3,452,59,275,{"$f":"[1]!SUMSTRING(M352:N352,\"#\")","v":{"$error":"#NAME?"}},{"$f":"[1]!SUMSTRING(O352:P352,\"#\")","v":{"$error":"#NAME?"}},{"$f":"IF(Q352<>0,[1]!SUMSTRING(Q352:R352,\"#\"),\"\")","v":{"$error":"#NAME?"}},{"$f":"[1]!SUMSTRING(S352:U352,\"|\")","v":{"$error":"#NAME?"}},4,57,1000,{"$f":"IF(W352<>0,[1]!SUMSTRING(W352:Y352,\"#\"),\"\")","v":{"$error":"#NAME?"}}]
[12,6018,"生命",2148,"护甲",494,"异妖减伤",300,{"$nulls":4},1,2148,3,494,59,300,{"$f":"[1]!SUMSTRING(M353:N353,\"#\")","v":{"$error":"#NAME?"}},{"$f":"[1]!SUMSTRING(O353:P353,\"#\")","v":{"$error":"#NAME?"}},{"$f":"IF(Q353<>0,[1]!SUMSTRING(Q353:R353,\"#\"),\"\")","v":{"$error":"#NAME?"}},{"$f":"[1]!SUMSTRING(S353:U353,\"|\")","v":{"$error":"#NAME?"}},"","","",{"$f":"IF(W353<>0,[1]!SUMSTRING(W353:Y353,\"#\"),\"\")","v":{"$error":"#NAME?"}}]
[13,6018,"生命",2482,"护甲",534,"异妖减伤",325,{"$nulls":4},1,2482,3,534,59,325,{"$f":"[1]!SUMSTRING(M354:N354,\"#\")","v":{"$error":"#NAME?"}},{"$f":"[1]!SUMSTRING(O354:P354,\"#\")","v":{"$error":"#NAME?"}},{"$f":"IF(Q354<>0,[1]!SUMSTRING(Q354:R354,\"#\"),\"\")","v":{"$error":"#NAME?"}},{"$f":"[1]!SUMSTRING(S354:U354,\"|\")","v":{"$error":"#NAME?"}},"","","",{"$f":"IF(W354<>0,[1]!SUMSTRING(W354:Y354,\"#\"),\"\")","v":{"$error":"#NAME?"}}]
[14,6018,"生命",2840,"护甲",576,"异妖减伤",350,"天罚","受治疗",1000,null,1,2840,3,576,59,350,{"$f":"[1]!SUMSTRING(M355:N355,\"#\")","v":{"$error":"#NAME?"}},{"$f":"[1]!SUMSTRING(O355:P355,\"#\")","v":{"$error":"#NAME?"}},{"$f":"IF(Q355<>0,[1]!SUMSTRING(Q355:R355,\"#\"),\"\")","v":{"$error":"#NAME?"}},{"$f":"[1]!SUMSTRING(S355:U355,\"|\")","v":{"$error":"#NAME?"}},2,57,1000,{"$f":"IF(W355<>0,[1]!SUMSTRING(W355:Y355,\"#\"),\"\")","v":{"$error":"#NAME?"}}]
[15,6018,"生命",3222,"护甲",616,"异妖减伤",375,{"$nulls":4},1,3222,3,616,59,375,{"$f":"[1]!SUMSTRING(M356:N356,\"#\")","v":{"$error":"#NAME?"}},{"$f":"[1]!SUMSTRING(O356:P356,\"#\")","v":{"$error":"#NAME?"}},{"$f":"IF(Q356<>0,[1]!SUMSTRING(Q356:R356,\"#\"),\"\")","v":{"$error":"#NAME?"}},{"$f":"[1]!SUMSTRING(S356:U356,\"|\")","v":{"$error":"#NAME?"}},"","","",{"$f":"IF(W356<>0,[1]!SUMSTRING(W356:Y356,\"#\"),\"\")","v":{"$error":"#NAME?"}}]
[16,6018,"生命",3628,"护甲",658,"异妖减伤",400,{"$nulls":4},1,3628,3,658,59,400,{"$f":"[1]!SUMSTRING(M357:N357,\"#\")","v":{"$error":"#NAME?"}},{"$f":"[1]!SUMSTRING(O357:P357,\"#\")","v":{"$error":"#NAME?"}},{"$f":"IF(Q357<>0,[1]!SUMSTRING(Q357:R357,\"#\"),\"\")","v":{"$error":"#NAME?"}},{"$f":"[1]!SUMSTRING(S357:U357,\"|\")","v":{"$error":"#NAME?"}},"","","",{"$f":"IF(W357<>0,[1]!SUMSTRING(W357:Y357,\"#\"),\"\")","v":{"$error":"#NAME?"}}]
[17,6018,"生命",4057,"护甲",700,"异妖减伤",425,"武卫","受治疗",500,null,1,4057,3,700,59,425,{"$f":"[1]!SUMSTRING(M358:N358,\"#\")","v":{"$error":"#NAME?"}},{"$f":"[1]!SUMSTRING(O358:P358,\"#\")","v":{"$error":"#NAME?"}},{"$f":"IF(Q358<>0,[1]!SUMSTRING(Q358:R358,\"#\"),\"\")","v":{"$error":"#NAME?"}},{"$f":"[1]!SUMSTRING(S358:U358,\"|\")","v":{"$error":"#NAME?"}},1,57,500,{"$f":"IF(W358<>0,[1]!SUMSTRING(W358:Y358,\"#\"),\"\")","v":{"$error":"#NAME?"}}]
[18,6018,"生命",4511,"护甲",740,"异妖减伤",450,{"$nulls":4},1,4511,3,740,59,450,{"$f":"[1]!SUMSTRING(M359:N359,\"#\")","v":{"$error":"#NAME?"}},{"$f":"[1]!SUMSTRING(O359:P359,\"#\")","v":{"$error":"#NAME?"}},{"$f":"IF(Q359<>0,[1]!SUMSTRING(Q359:R359,\"#\"),\"\")","v":{"$error":"#NAME?"}},{"$f":"[1]!SUMSTRING(S359:U359,\"|\")","v":{"$error":"#NAME?"}},"","","",{"$f":"IF(W359<>0,[1]!SUMSTRING(W359:Y359,\"#\"),\"\")","v":{"$error":"#NAME?"}}]
[19,6018,"生命",4988,"护甲",782,"异妖减伤",475,{"$nulls":4},1,4988,3,782,59,475,{"$f":"[1]!SUMSTRING(M360:N360,\"#\")","v":{"$error":"#NAME?"}},{"$f":"[1]!SUMSTRING(O360:P360,\"#\")","v":{"$error":"#NAME?"}},{"$f":"IF(Q360<>0,[1]!SUMSTRING(Q360:R360,\"#\"),\"\")","v":{"$error":"#NAME?"}},{"$f":"[1]!SUMSTRING(S360:U360,\"|\")","v":{"$error":"#NAME?"}},"","","",{"$f":"IF(W360<>0,[1]!SUMSTRING(W360:Y360,\"#\"),\"\")","v":{"$error":"#NAME?"}}]
[20,6018,"生命",5490,"护甲",822,"异妖减伤",500,"生花","受治疗",500,null,1,5490,3,822,59,500,{"$f":"[1]!SUMSTRING(M361:N361,\"#\")","v":{"$error":"#NAME?"}},{"$f":"[1]!SUMSTRING(O361:P361,\"#\")","v":{"$error":"#NAME?"}},{"$f":"IF(Q361<>0,[1]!SUMSTRING(Q361:R361,\"#\"),\"\")","v":{"$error":"#NAME?"}},{"$f":"[1]!SUMSTRING(S361:U361,\"|\")","v":{"$error":"#NAME?"}},5,57,500,{"$f":"IF(W361<>0,[1]!SUMSTRING(W361:Y361,\"#\"),\"\")","v":{"$error":"#NAME?"}}]
[1,6019,"生命",47,"魔抗",40,"异妖减伤",25,{"$nulls":4},1,47,4,40,59,25,{"$f":"[1]!SUMSTRING(M362:N362,\"#\")","v":{"$error":"#NAME?"}},{"$f":"[1]!SUMSTRING(O362:P362,\"#\")","v":{"$error":"#NAME?"}},{"$f":"IF(Q362<>0,[1]!SUMSTRING(Q362:R362,\"#\"),\"\")","v":{"$error":"#NAME?"}},{"$f":"[1]!SUMSTRING(S362:U362,\"|\")","v":{"$error":"#NAME?"}},"","","",{"$f":"IF(W362<>0,[1]!SUMSTRING(W362:Y362,\"#\"),\"\")","v":{"$error":"#NAME?"}}]
[2,6019,"生命",119,"魔抗",82,"异妖减伤",50,"武卫","神圣抗性",2000,null,1,119,4,82,59,50,{"$f":"[1]!SUMSTRING(M363:N363,\"#\")","v":{"$error":"#NAME?"}},{"$f":"[1]!SUMSTRING(O363:P363,\"#\")","v":{"$error":"#NAME?"}},{"$f":"IF(Q363<>0,[1]!SUMSTRING(Q363:R363,\"#\"),\"\")","v":{"$error":"#NAME?"}},{"$f":"[1]!SUMSTRING(S363:U363,\"|\")","v":{"$error":"#NAME?"}},1,111,2000,{"$f":"IF(W363<>0,[1]!SUMSTRING(W363:Y363,\"#\"),\"\")","v":{"$error":"#NAME?"}}]
[3,6019,"生命",214,"魔抗",122,"异妖减伤",75,{"$nulls":4},1,214,4,122,59,75,{"$f":"[1]!SUMSTRING(M364:N364,\"#\")","v":{"$error":"#NAME?"}},{"$f":"[1]!SUMSTRING(O364:P364,\"#\")","v":{"$error":"#NAME?"}},{"$f":"IF(Q364<>0,[1]!SUMSTRING(Q364:R364,\"#\"),\"\")","v":{"$error":"#NAME?"}},{"$f":"[1]!SUMSTRING(S364:U364,\"|\")","v":{"$error":"#NAME?"}},"","","",{"$f":"IF(W364<>0,[1]!SUMSTRING(W364:Y364,\"#\"),\"\")","v":{"$error":"#NAME?"}}]
[4,6019,"生命",334,"魔抗",164,"异妖减伤",100,{"$nulls":4},1,334,4,164,59,100,{"$f":"[1]!SUMSTRING(M365:N365,\"#\")","v":{"$error":"#NAME?"}},{"$f":"[1]!SUMSTRING(O365:P365,\"#\")","v":{"$error":"#NAME?"}},{"$f":"IF(Q365<>0,[1]!SUMSTRING(Q365:R365,\"#\"),\"\")","v":{"$error":"#NAME?"}},{"$f":"[1]!SUMSTRING(S365:U365,\"|\")","v":{"$error":"#NAME?"}},"","","",{"$f":"IF(W365<>0,[1]!SUMSTRING(W365:Y365,\"#\"),\"\")","v":{"$error":"#NAME?"}}]
[5,6019,"生命",477,"魔抗",204,"异妖减伤",125,"生花","神圣抗性",2000,null,1,477,4,204,59,125,{"$f":"[1]!SUMSTRING(M366:N366,\"#\")","v":{"$error":"#NAME?"}},{"$f":"[1]!SUMSTRING(O366:P366,\"#\")","v":{"$error":"#NAME?"}},{"$f":"IF(Q366<>0,[1]!SUMSTRING(Q366:R366,\"#\"),\"\")","v":{"$error":"#NAME?"}},{"$f":"[1]!SUMSTRING(S366:U366,\"|\")","v":{"$error":"#NAME?"}},5,111,2000,{"$f":"IF(W366<>0,[1]!SUMSTRING(W366:Y366,\"#\"),\"\")","v":{"$error":"#NAME?"}}]
[6,6019,"生命",644,"魔抗",246,"异妖减伤",150,{"$nulls":4},1,644,4,246,59,150,{"$f":"[1]!SUMSTRING(M367:N367,\"#\")","v":{"$error":"#NAME?"}},{"$f":"[1]!SUMSTRING(O367:P367,\"#\")","v":{"$error":"#NAME?"}},{"$f":"IF(Q367<>0,[1]!SUMSTRING(Q367:R367,\"#\"),\"\")","v":{"$error":"#NAME?"}},{"$f":"[1]!SUMSTRING(S367:U367,\"|\")","v":{"$error":"#NAME?"}},"","","",{"$f":"IF(W367<>0,[1]!SUMSTRING(W367:Y367,\"#\"),\"\")","v":{"$error":"#NAME?"}}]
[7,6019,"生命",835,"魔抗",288,"异妖减伤",175,{"$nulls":4},1,835,4,288,59,175,{"$f":"[1]!SUMSTRING(M368:N368,\"#\")","v":{"$error":"#NAME?"}},{"$f":"[1]!SUMSTRING(O368:P368,\"#\")","v":{"$error":"#NAME?"}},{"$f":"IF(Q368<>0,[1]!SUMSTRING(Q368:R368,\"#\"),\"\")","v":{"$error":"#NAME?"}},{"$f":"[1]!SUMSTRING(S368:U368,\"|\")","v":{"$error":"#NAME?"}},"","","",{"$f":"IF(W368<>0,[1]!SUMSTRING(W368:Y368,\"#\"),\"\")","v":{"$error":"#NAME?"}}]
[8,6019,"生命",1050,"魔抗",328,"异妖减伤",200,"秘法","神圣抗性",2000,null,1,1050,4,328,59,200,{"$f":"[1]!SUMSTRING(M369:N369,\"#\")","v":{"$error":"#NAME?"}},{"$f":"[1]!SUMSTRING(O369:P369,\"#\")","v":{"$error":"#NAME?"}},{"$f":"IF(Q369<>0,[1]!SUMSTRING(Q369:R369,\"#\"),\"\")","v":{"$error":"#NAME?"}},{"$f":"[1]!SUMSTRING(S369:U369,\"|\")","v":{"$error":"#NAME?"}},3,111,2000,{"$f":"IF(W369<>0,[1]!SUMSTRING(W369:Y369,\"#\"),\"\")","v":{"$error":"#NAME?"}}]
[9,6019,"生命",1289,"魔抗",370,"异妖减伤",225,{"$nulls":4},1,1289,4,370,59,225,{"$f":"[1]!SUMSTRING(M370:N370,\"#\")","v":{"$error":"#NAME?"}},{"$f":"[1]!SUMSTRING(O370:P370,\"#\")","v":{"$error":"#NAME?"}},{"$f":"IF(Q370<>0,[1]!SUMSTRING(Q370:R370,\"#\"),\"\")","v":{"$error":"#NAME?"}},{"$f":"[1]!SUMSTRING(S370:U370,\"|\")","v":{"$error":"#NAME?"}},"","","",{"$f":"IF(W370<>0,[1]!SUMSTRING(W370:Y370,\"#\"),\"\")","v":{"$error":"#NAME?"}}]
[10,6019,"生命",1551,"魔抗",410,"异妖减伤",250,{"$nulls":4},1,1551,4,410,59,250,{"$f":"[1]!SUMSTRING(M371:N371,\"#\")","v":{"$error":"#NAME?"}},{"$f":"[1]!SUMSTRING(O371:P371,\"#\")","v":{"$error":"#NAME?"}},{"$f":"IF(Q371<>0,[1]!SUMSTRING(Q371:R371,\"#\"),\"\")","v":{"$error":"#NAME?"}},{"$f":"[1]!SUMSTRING(S371:U371,\"|\")","v":{"$error":"#NAME?"}},"","","",{"$f":"IF(W371<>0,[1]!SUMSTRING(W371:Y371,\"#\"),\"\")","v":{"$error":"#NAME?"}}]
[11,6019,"生命",1838,"魔抗",452,"异妖减伤",275,"玄策","神圣抗性",2000,null,1,1838,4,452,59,275,{"$f":"[1]!SUMSTRING(M372:N372,\"#\")","v":{"$error":"#NAME?"}},{"$f":"[1]!SUMSTRING(O372:P372,\"#\")","v":{"$error":"#NAME?"}},{"$f":"IF(Q372<>0,[1]!SUMSTRING(Q372:R372,\"#\"),\"\")","v":{"$error":"#NAME?"}},{"$f":"[1]!SUMSTRING(S372:U372,\"|\")","v":{"$error":"#NAME?"}},4,111,2000,{"$f":"IF(W372<>0,[1]!SUMSTRING(W372:Y372,\"#\"),\"\")","v":{"$error":"#NAME?"}}]
[12,6019,"生命",2148,"魔抗",494,"异妖减伤",300,{"$nulls":4},1,2148,4,494,59,300,{"$f":"[1]!SUMSTRING(M373:N373,\"#\")","v":{"$error":"#NAME?"}},{"$f":"[1]!SUMSTRING(O373:P373,\"#\")","v":{"$error":"#NAME?"}},{"$f":"IF(Q373<>0,[1]!SUMSTRING(Q373:R373,\"#\"),\"\")","v":{"$error":"#NAME?"}},{"$f":"[1]!SUMSTRING(S373:U373,\"|\")","v":{"$error":"#NAME?"}},"","","",{"$f":"IF(W373<>0,[1]!SUMSTRING(W373:Y373,\"#\"),\"\")","v":{"$error":"#NAME?"}}]
[13,6019,"生命",2482,"魔抗",534,"异妖减伤",325,{"$nulls":4},1,2482,4,534,59,325,{"$f":"[1]!SUMSTRING(M374:N374,\"#\")","v":{"$error":"#NAME?"}},{"$f":"[1]!SUMSTRING(O374:P374,\"#\")","v":{"$error":"#NAME?"}},{"$f":"IF(Q374<>0,[1]!SUMSTRING(Q374:R374,\"#\"),\"\")","v":{"$error":"#NAME?"}},{"$f":"[1]!SUMSTRING(S374:U374,\"|\")","v":{"$error":"#NAME?"}},"","","",{"$f":"IF(W374<>0,[1]!SUMSTRING(W374:Y374,\"#\"),\"\")","v":{"$error":"#NAME?"}}]
[14,6019,"生命",2840,"魔抗",576,"异妖减伤",350,"天罚","神圣抗性",2000,null,1,2840,4,576,59,350,{"$f":"[1]!SUMSTRING(M375:N375,\"#\")","v":{"$error":"#NAME?"}},{"$f":"[1]!SUMSTRING(O375:P375,\"#\")","v":{"$error":"#NAME?"}},{"$f":"IF(Q375<>0,[1]!SUMSTRING(Q375:R375,\"#\"),\"\")","v":{"$error":"#NAME?"}},{"$f":"[1]!SUMSTRING(S375:U375,\"|\")","v":{"$error":"#NAME?"}},2,111,2000,{"$f":"IF(W375<>0,[1]!SUMSTRING(W375:Y375,\"#\"),\"\")","v":{"$error":"#NAME?"}}]
[15,6019,"生命",3222,"魔抗",616,"异妖减伤",375,{"$nulls":4},1,3222,4,616,59,375,{"$f":"[1]!SUMSTRING(M376:N376,\"#\")","v":{"$error":"#NAME?"}},{"$f":"[1]!SUMSTRING(O376:P376,\"#\")","v":{"$error":"#NAME?"}},{"$f":"IF(Q376<>0,[1]!SUMSTRING(Q376:R376,\"#\"),\"\")","v":{"$error":"#NAME?"}},{"$f":"[1]!SUMSTRING(S376:U376,\"|\")","v":{"$error":"#NAME?"}},"","","",{"$f":"IF(W376<>0,[1]!SUMSTRING(W376:Y376,\"#\"),\"\")","v":{"$error":"#NAME?"}}]
[16,6019,"生命",3628,"魔抗",658,"异妖减伤",400,{"$nulls":4},1,3628,4,658,59,400,{"$f":"[1]!SUMSTRING(M377:N377,\"#\")","v":{"$error":"#NAME?"}},{"$f":"[1]!SUMSTRING(O377:P377,\"#\")","v":{"$error":"#NAME?"}},{"$f":"IF(Q377<>0,[1]!SUMSTRING(Q377:R377,\"#\"),\"\")","v":{"$error":"#NAME?"}},{"$f":"[1]!SUMSTRING(S377:U377,\"|\")","v":{"$error":"#NAME?"}},"","","",{"$f":"IF(W377<>0,[1]!SUMSTRING(W377:Y377,\"#\"),\"\")","v":{"$error":"#NAME?"}}]
[17,6019,"生命",4057,"魔抗",700,"异妖减伤",425,"武卫","神圣抗性",1000,null,1,4057,4,700,59,425,{"$f":"[1]!SUMSTRING(M378:N378,\"#\")","v":{"$error":"#NAME?"}},{"$f":"[1]!SUMSTRING(O378:P378,\"#\")","v":{"$error":"#NAME?"}},{"$f":"IF(Q378<>0,[1]!SUMSTRING(Q378:R378,\"#\"),\"\")","v":{"$error":"#NAME?"}},{"$f":"[1]!SUMSTRING(S378:U378,\"|\")","v":{"$error":"#NAME?"}},1,111,1000,{"$f":"IF(W378<>0,[1]!SUMSTRING(W378:Y378,\"#\"),\"\")","v":{"$error":"#NAME?"}}]
[18,6019,"生命",4511,"魔抗",740,"异妖减伤",450,{"$nulls":4},1,4511,4,740,59,450,{"$f":"[1]!SUMSTRING(M379:N379,\"#\")","v":{"$error":"#NAME?"}},{"$f":"[1]!SUMSTRING(O379:P379,\"#\")","v":{"$error":"#NAME?"}},{"$f":"IF(Q379<>0,[1]!SUMSTRING(Q379:R379,\"#\"),\"\")","v":{"$error":"#NAME?"}},{"$f":"[1]!SUMSTRING(S379:U379,\"|\")","v":{"$error":"#NAME?"}},"","","",{"$f":"IF(W379<>0,[1]!SUMSTRING(W379:Y379,\"#\"),\"\")","v":{"$error":"#NAME?"}}]
[19,6019,"生命",4988,"魔抗",782,"异妖减伤",475,{"$nulls":4},1,4988,4,782,59,475,{"$f":"[1]!SUMSTRING(M380:N380,\"#\")","v":{"$error":"#NAME?"}},{"$f":"[1]!SUMSTRING(O380:P380,\"#\")","v":{"$error":"#NAME?"}},{"$f":"IF(Q380<>0,[1]!SUMSTRING(Q380:R380,\"#\"),\"\")","v":{"$error":"#NAME?"}},{"$f":"[1]!SUMSTRING(S380:U380,\"|\")","v":{"$error":"#NAME?"}},"","","",{"$f":"IF(W380<>0,[1]!SUMSTRING(W380:Y380,\"#\"),\"\")","v":{"$error":"#NAME?"}}]
[20,6019,"生命",5490,"魔抗",822,"异妖减伤",500,"生花","神圣抗性",1000,null,1,5490,4,822,59,500,{"$f":"[1]!SUMSTRING(M381:N381,\"#\")","v":{"$error":"#NAME?"}},{"$f":"[1]!SUMSTRING(O381:P381,\"#\")","v":{"$error":"#NAME?"}},{"$f":"IF(Q381<>0,[1]!SUMSTRING(Q381:R381,\"#\"),\"\")","v":{"$error":"#NAME?"}},{"$f":"[1]!SUMSTRING(S381:U381,\"|\")","v":{"$error":"#NAME?"}},5,111,1000,{"$f":"IF(W381<>0,[1]!SUMSTRING(W381:Y381,\"#\"),\"\")","v":{"$error":"#NAME?"}}]
[1,6020,"攻击",20,"异妖减伤",25,"异妖增伤",25,{"$nulls":4},2,20,59,25,66,25,{"$f":"[1]!SUMSTRING(M382:N382,\"#\")","v":{"$error":"#NAME?"}},{"$f":"[1]!SUMSTRING(O382:P382,\"#\")","v":{"$error":"#NAME?"}},{"$f":"IF(Q382<>0,[1]!SUMSTRING(Q382:R382,\"#\"),\"\")","v":{"$error":"#NAME?"}},{"$f":"[1]!SUMSTRING(S382:U382,\"|\")","v":{"$error":"#NAME?"}},"","","",{"$f":"IF(W382<>0,[1]!SUMSTRING(W382:Y382,\"#\"),\"\")","v":{"$error":"#NAME?"}}]
[2,6020,"攻击",41,"异妖减伤",50,"异妖增伤",50,"武卫","黑暗抗性",2000,null,2,41,59,50,66,50,{"$f":"[1]!SUMSTRING(M383:N383,\"#\")","v":{"$error":"#NAME?"}},{"$f":"[1]!SUMSTRING(O383:P383,\"#\")","v":{"$error":"#NAME?"}},{"$f":"IF(Q383<>0,[1]!SUMSTRING(Q383:R383,\"#\"),\"\")","v":{"$error":"#NAME?"}},{"$f":"[1]!SUMSTRING(S383:U383,\"|\")","v":{"$error":"#NAME?"}},1,112,2000,{"$f":"IF(W383<>0,[1]!SUMSTRING(W383:Y383,\"#\"),\"\")","v":{"$error":"#NAME?"}}]
[3,6020,"攻击",61,"异妖减伤",75,"异妖增伤",75,{"$nulls":4},2,61,59,75,66,75,{"$f":"[1]!SUMSTRING(M384:N384,\"#\")","v":{"$error":"#NAME?"}},{"$f":"[1]!SUMSTRING(O384:P384,\"#\")","v":{"$error":"#NAME?"}},{"$f":"IF(Q384<>0,[1]!SUMSTRING(Q384:R384,\"#\"),\"\")","v":{"$error":"#NAME?"}},{"$f":"[1]!SUMSTRING(S384:U384,\"|\")","v":{"$error":"#NAME?"}},"","","",{"$f":"IF(W384<>0,[1]!SUMSTRING(W384:Y384,\"#\"),\"\")","v":{"$error":"#NAME?"}}]
[4,6020,"攻击",82,"异妖减伤",100,"异妖增伤",100,{"$nulls":4},2,82,59,100,66,100,{"$f":"[1]!SUMSTRING(M385:N385,\"#\")","v":{"$error":"#NAME?"}},{"$f":"[1]!SUMSTRING(O385:P385,\"#\")","v":{"$error":"#NAME?"}},{"$f":"IF(Q385<>0,[1]!SUMSTRING(Q385:R385,\"#\"),\"\")","v":{"$error":"#NAME?"}},{"$f":"[1]!SUMSTRING(S385:U385,\"|\")","v":{"$error":"#NAME?"}},"","","",{"$f":"IF(W385<>0,[1]!SUMSTRING(W385:Y385,\"#\"),\"\")","v":{"$error":"#NAME?"}}]
[5,6020,"攻击",102,"异妖减伤",125,"异妖增伤",125,"生花","黑暗抗性",2000,null,2,102,59,125,66,125,{"$f":"[1]!SUMSTRING(M386:N386,\"#\")","v":{"$error":"#NAME?"}},{"$f":"[1]!SUMSTRING(O386:P386,\"#\")","v":{"$error":"#NAME?"}},{"$f":"IF(Q386<>0,[1]!SUMSTRING(Q386:R386,\"#\"),\"\")","v":{"$error":"#NAME?"}},{"$f":"[1]!SUMSTRING(S386:U386,\"|\")","v":{"$error":"#NAME?"}},5,112,2000,{"$f":"IF(W386<>0,[1]!SUMSTRING(W386:Y386,\"#\"),\"\")","v":{"$error":"#NAME?"}}]
[6,6020,"攻击",123,"异妖减伤",150,"异妖增伤",150,{"$nulls":4},{"$f":"VLOOKUP(C387,$AB:$AC,2,0)","v":2},{"$f":"D387","v":123},{"$f":"VLOOKUP(E387,$AB:$AC,2,0)","v":59},{"$f":"F387","v":150},{"$f":"IF(G387<>0,VLOOKUP(G387,$AB:$AC,2,0),\"\")","v":66},{"$f":"IF(H387<>0,H387,\"\")","v":150},{"$f":"[1]!SUMSTRING(M387:N387,\"#\")","v":{"$error":"#NAME?"}},{"$f":"[1]!SUMSTRING(O387:P387,\"#\")","v":{"$error":"#NAME?"}},{"$f":"IF(Q387<>0,[1]!SUMSTRING(Q387:R387,\"#\"),\"\")","v":{"$error":"#NAME?"}},{"$f":"[1]!SUMSTRING(S387:U387,\"|\")","v":{"$error":"#NAME?"}},"",{"$f":"IF(J387<>0,VLOOKUP(J387,$AB:$AC,2,0),\"\")","v":""},{"$f":"IF(K387<>0,K387,\"\")","v":""},{"$f":"IF(W387<>0,[1]!SUMSTRING(W387:Y387,\"#\"),\"\")","v":{"$error":"#NAME?"}}]
[7,6020,"攻击",144,"异妖减伤",175,"异妖增伤",175,{"$nulls":4},2,144,59,175,66,175,{"$f":"[1]!SUMSTRING(M388:N388,\"#\")","v":{"$error":"#NAME?"}},{"$f":"[1]!SUMSTRING(O388:P388,\"#\")","v":{"$error":"#NAME?"}},{"$f":"IF(Q388<>0,[1]!SUMSTRING(Q388:R388,\"#\"),\"\")","v":{"$error":"#NAME?"}},{"$f":"[1]!SUMSTRING(S388:U388,\"|\")","v":{"$error":"#NAME?"}},{"$f":"IF(I388<>0,VLOOKUP(I388,$AG$3:$AH$7,2,0),\"\")","v":""},"","",{"$f":"IF(W388<>0,[1]!SUMSTRING(W388:Y388,\"#\"),\"\")","v":{"$error":"#NAME?"}}]
[8,6020,"攻击",164,"异妖减伤",200,"异妖增伤",200,"秘法","黑暗抗性",2000,null,2,164,59,200,66,200,{"$f":"[1]!SUMSTRING(M389:N389,\"#\")","v":{"$error":"#NAME?"}},{"$f":"[1]!SUMSTRING(O389:P389,\"#\")","v":{"$error":"#NAME?"}},{"$f":"IF(Q389<>0,[1]!SUMSTRING(Q389:R389,\"#\"),\"\")","v":{"$error":"#NAME?"}},{"$f":"[1]!SUMSTRING(S389:U389,\"|\")","v":{"$error":"#NAME?"}},3,112,2000,{"$f":"IF(W389<>0,[1]!SUMSTRING(W389:Y389,\"#\"),\"\")","v":{"$error":"#NAME?"}}]
[9,6020,"攻击",185,"异妖减伤",225,"异妖增伤",225,{"$nulls":4},2,185,59,225,66,225,{"$f":"[1]!SUMSTRING(M390:N390,\"#\")","v":{"$error":"#NAME?"}},{"$f":"[1]!SUMSTRING(O390:P390,\"#\")","v":{"$error":"#NAME?"}},{"$f":"IF(Q390<>0,[1]!SUMSTRING(Q390:R390,\"#\"),\"\")","v":{"$error":"#NAME?"}},{"$f":"[1]!SUMSTRING(S390:U390,\"|\")","v":{"$error":"#NAME?"}},"","","",{"$f":"IF(W390<>0,[1]!SUMSTRING(W390:Y390,\"#\"),\"\")","v":{"$error":"#NAME?"}}]
[10,6020,"攻击",205,"异妖减伤",250,"异妖增伤",250,{"$nulls":4},2,205,59,250,66,250,{"$f":"[1]!SUMSTRING(M391:N391,\"#\")","v":{"$error":"#NAME?"}},{"$f":"[1]!SUMSTRING(O391:P391,\"#\")","v":{"$error":"#NAME?"}},{"$f":"IF(Q391<>0,[1]!SUMSTRING(Q391:R391,\"#\"),\"\")","v":{"$error":"#NAME?"}},{"$f":"[1]!SUMSTRING(S391:U391,\"|\")","v":{"$error":"#NAME?"}},"","","",{"$f":"IF(W391<>0,[1]!SUMSTRING(W391:Y391,\"#\"),\"\")","v":{"$error":"#NAME?"}}]
[11,6020,"攻击",226,"异妖减伤",275,"异妖增伤",275,"玄策","黑暗抗性",2000,null,2,226,59,275,66,275,{"$f":"[1]!SUMSTRING(M392:N392,\"#\")","v":{"$error":"#NAME?"}},{"$f":"[1]!SUMSTRING(O392:P392,\"#\")","v":{"$error":"#NAME?"}},{"$f":"IF(Q392<>0,[1]!SUMSTRING(Q392:R392,\"#\"),\"\")","v":{"$error":"#NAME?"}},{"$f":"[1]!SUMSTRING(S392:U392,\"|\")","v":{"$error":"#NAME?"}},4,112,2000,{"$f":"IF(W392<>0,[1]!SUMSTRING(W392:Y392,\"#\"),\"\")","v":{"$error":"#NAME?"}}]
[12,6020,"攻击",247,"异妖减伤",300,"异妖增伤",300,{"$nulls":4},2,247,59,300,66,300,{"$f":"[1]!SUMSTRING(M393:N393,\"#\")","v":{"$error":"#NAME?"}},{"$f":"[1]!SUMSTRING(O393:P393,\"#\")","v":{"$error":"#NAME?"}},{"$f":"IF(Q393<>0,[1]!SUMSTRING(Q393:R393,\"#\"),\"\")","v":{"$error":"#NAME?"}},{"$f":"[1]!SUMSTRING(S393:U393,\"|\")","v":{"$error":"#NAME?"}},"","","",{"$f":"IF(W393<>0,[1]!SUMSTRING(W393:Y393,\"#\"),\"\")","v":{"$error":"#NAME?"}}]
[13,6020,"攻击",267,"异妖减伤",325,"异妖增伤",325,{"$nulls":4},2,267,59,325,66,325,{"$f":"[1]!SUMSTRING(M394:N394,\"#\")","v":{"$error":"#NAME?"}},{"$f":"[1]!SUMSTRING(O394:P394,\"#\")","v":{"$error":"#NAME?"}},{"$f":"IF(Q394<>0,[1]!SUMSTRING(Q394:R394,\"#\"),\"\")","v":{"$error":"#NAME?"}},{"$f":"[1]!SUMSTRING(S394:U394,\"|\")","v":{"$error":"#NAME?"}},"","","",{"$f":"IF(W394<>0,[1]!SUMSTRING(W394:Y394,\"#\"),\"\")","v":{"$error":"#NAME?"}}]
[14,6020,"攻击",288,"异妖减伤",350,"异妖增伤",350,"天罚","黑暗抗性",2000,null,2,288,59,350,66,350,{"$f":"[1]!SUMSTRING(M395:N395,\"#\")","v":{"$error":"#NAME?"}},{"$f":"[1]!SUMSTRING(O395:P395,\"#\")","v":{"$error":"#NAME?"}},{"$f":"IF(Q395<>0,[1]!SUMSTRING(Q395:R395,\"#\"),\"\")","v":{"$error":"#NAME?"}},{"$f":"[1]!SUMSTRING(S395:U395,\"|\")","v":{"$error":"#NAME?"}},2,112,2000,{"$f":"IF(W395<>0,[1]!SUMSTRING(W395:Y395,\"#\"),\"\")","v":{"$error":"#NAME?"}}]
[15,6020,"攻击",308,"异妖减伤",375,"异妖增伤",375,{"$nulls":4},2,308,59,375,66,375,{"$f":"[1]!SUMSTRING(M396:N396,\"#\")","v":{"$error":"#NAME?"}},{"$f":"[1]!SUMSTRING(O396:P396,\"#\")","v":{"$error":"#NAME?"}},{"$f":"IF(Q396<>0,[1]!SUMSTRING(Q396:R396,\"#\"),\"\")","v":{"$error":"#NAME?"}},{"$f":"[1]!SUMSTRING(S396:U396,\"|\")","v":{"$error":"#NAME?"}},"","","",{"$f":"IF(W396<>0,[1]!SUMSTRING(W396:Y396,\"#\"),\"\")","v":{"$error":"#NAME?"}}]
[16,6020,"攻击",329,"异妖减伤",400,"异妖增伤",400,{"$nulls":4},2,329,59,400,66,400,{"$f":"[1]!SUMSTRING(M397:N397,\"#\")","v":{"$error":"#NAME?"}},{"$f":"[1]!SUMSTRING(O397:P397,\"#\")","v":{"$error":"#NAME?"}},{"$f":"IF(Q397<>0,[1]!SUMSTRING(Q397:R397,\"#\"),\"\")","v":{"$error":"#NAME?"}},{"$f":"[1]!SUMSTRING(S397:U397,\"|\")","v":{"$error":"#NAME?"}},"","","",{"$f":"IF(W397<>0,[1]!SUMSTRING(W397:Y397,\"#\"),\"\")","v":{"$error":"#NAME?"}}]
[17,6020,"攻击",350,"异妖减伤",425,"异妖增伤",425,"武卫","黑暗抗性",1000,null,2,350,59,425,66,425,{"$f":"[1]!SUMSTRING(M398:N398,\"#\")","v":{"$error":"#NAME?"}},{"$f":"[1]!SUMSTRING(O398:P398,\"#\")","v":{"$error":"#NAME?"}},{"$f":"IF(Q398<>0,[1]!SUMSTRING(Q398:R398,\"#\"),\"\")","v":{"$error":"#NAME?"}},{"$f":"[1]!SUMSTRING(S398:U398,\"|\")","v":{"$error":"#NAME?"}},1,112,1000,{"$f":"IF(W398<>0,[1]!SUMSTRING(W398:Y398,\"#\"),\"\")","v":{"$error":"#NAME?"}}]
[18,6020,"攻击",370,"异妖减伤",450,"异妖增伤",450,{"$nulls":4},2,370,59,450,66,450,{"$f":"[1]!SUMSTRING(M399:N399,\"#\")","v":{"$error":"#NAME?"}},{"$f":"[1]!SUMSTRING(O399:P399,\"#\")","v":{"$error":"#NAME?"}},{"$f":"IF(Q399<>0,[1]!SUMSTRING(Q399:R399,\"#\"),\"\")","v":{"$error":"#NAME?"}},{"$f":"[1]!SUMSTRING(S399:U399,\"|\")","v":{"$error":"#NAME?"}},"","","",{"$f":"IF(W399<>0,[1]!SUMSTRING(W399:Y399,\"#\"),\"\")","v":{"$error":"#NAME?"}}]
[19,6020,"攻击",391,"异妖减伤",475,"异妖增伤",475,{"$nulls":4},2,391,59,475,66,475,{"$f":"[1]!SUMSTRING(M400:N400,\"#\")","v":{"$error":"#NAME?"}},{"$f":"[1]!SUMSTRING(O400:P400,\"#\")","v":{"$error":"#NAME?"}},{"$f":"IF(Q400<>0,[1]!SUMSTRING(Q400:R400,\"#\"),\"\")","v":{"$error":"#NAME?"}},{"$f":"[1]!SUMSTRING(S400:U400,\"|\")","v":{"$error":"#NAME?"}},"","","",{"$f":"IF(W400<>0,[1]!SUMSTRING(W400:Y400,\"#\"),\"\")","v":{"$error":"#NAME?"}}]
[20,6020,"攻击",411,"异妖减伤",500,"异妖增伤",500,"生花","黑暗抗性",1000,null,2,411,59,500,66,500,{"$f":"[1]!SUMSTRING(M401:N401,\"#\")","v":{"$error":"#NAME?"}},{"$f":"[1]!SUMSTRING(O401:P401,\"#\")","v":{"$error":"#NAME?"}},{"$f":"IF(Q401<>0,[1]!SUMSTRING(Q401:R401,\"#\"),\"\")","v":{"$error":"#NAME?"}},{"$f":"[1]!SUMSTRING(S401:U401,\"|\")","v":{"$error":"#NAME?"}},5,112,1000,{"$f":"IF(W401<>0,[1]!SUMSTRING(W401:Y401,\"#\"),\"\")","v":{"$error":"#NAME?"}}]
[1,6021,"生命",47,"攻击",20,"异妖增伤",25,{"$nulls":4},1,47,2,20,66,25,{"$f":"[1]!SUMSTRING(M402:N402,\"#\")","v":{"$error":"#NAME?"}},{"$f":"[1]!SUMSTRING(O402:P402,\"#\")","v":{"$error":"#NAME?"}},{"$f":"IF(Q402<>0,[1]!SUMSTRING(Q402:R402,\"#\"),\"\")","v":{"$error":"#NAME?"}},{"$f":"[1]!SUMSTRING(S402:U402,\"|\")","v":{"$error":"#NAME?"}},"","","",{"$f":"IF(W402<>0,[1]!SUMSTRING(W402:Y402,\"#\"),\"\")","v":{"$error":"#NAME?"}}]
[2,6021,"生命",119,"攻击",41,"异妖增伤",50,"武卫","效果命中",2000,null,1,119,2,41,66,50,{"$f":"[1]!SUMSTRING(M403:N403,\"#\")","v":{"$error":"#NAME?"}},{"$f":"[1]!SUMSTRING(O403:P403,\"#\")","v":{"$error":"#NAME?"}},{"$f":"IF(Q403<>0,[1]!SUMSTRING(Q403:R403,\"#\"),\"\")","v":{"$error":"#NAME?"}},{"$f":"[1]!SUMSTRING(S403:U403,\"|\")","v":{"$error":"#NAME?"}},1,53,2000,{"$f":"IF(W403<>0,[1]!SUMSTRING(W403:Y403,\"#\"),\"\")","v":{"$error":"#NAME?"}}]
[3,6021,"生命",214,"攻击",61,"异妖增伤",75,{"$nulls":4},1,214,2,61,66,75,{"$f":"[1]!SUMSTRING(M404:N404,\"#\")","v":{"$error":"#NAME?"}},{"$f":"[1]!SUMSTRING(O404:P404,\"#\")","v":{"$error":"#NAME?"}},{"$f":"IF(Q404<>0,[1]!SUMSTRING(Q404:R404,\"#\"),\"\")","v":{"$error":"#NAME?"}},{"$f":"[1]!SUMSTRING(S404:U404,\"|\")","v":{"$error":"#NAME?"}},"","","",{"$f":"IF(W404<>0,[1]!SUMSTRING(W404:Y404,\"#\"),\"\")","v":{"$error":"#NAME?"}}]
[4,6021,"生命",334,"攻击",82,"异妖增伤",100,{"$nulls":4},1,334,2,82,66,100,{"$f":"[1]!SUMSTRING(M405:N405,\"#\")","v":{"$error":"#NAME?"}},{"$f":"[1]!SUMSTRING(O405:P405,\"#\")","v":{"$error":"#NAME?"}},{"$f":"IF(Q405<>0,[1]!SUMSTRING(Q405:R405,\"#\"),\"\")","v":{"$error":"#NAME?"}},{"$f":"[1]!SUMSTRING(S405:U405,\"|\")","v":{"$error":"#NAME?"}},"","","",{"$f":"IF(W405<>0,[1]!SUMSTRING(W405:Y405,\"#\"),\"\")","v":{"$error":"#NAME?"}}]
[5,6021,"生命",477,"攻击",102,"异妖增伤",125,"生花","效果命中",2000,null,1,477,2,102,66,125,{"$f":"[1]!SUMSTRING(M406:N406,\"#\")","v":{"$error":"#NAME?"}},{"$f":"[1]!SUMSTRING(O406:P406,\"#\")","v":{"$error":"#NAME?"}},{"$f":"IF(Q406<>0,[1]!SUMSTRING(Q406:R406,\"#\"),\"\")","v":{"$error":"#NAME?"}},{"$f":"[1]!SUMSTRING(S406:U406,\"|\")","v":{"$error":"#NAME?"}},5,53,2000,{"$f":"IF(W406<>0,[1]!SUMSTRING(W406:Y406,\"#\"),\"\")","v":{"$error":"#NAME?"}}]
[{"$f":"A387","v":6},{"$f":"B387+1","v":6021},"生命",644,"攻击",123,"异妖增伤",150,{"$nulls":4},1,644,2,123,66,150,{"$f":"[1]!SUMSTRING(M407:N407,\"#\")","v":{"$error":"#NAME?"}},{"$f":"[1]!SUMSTRING(O407:P407,\"#\")","v":{"$error":"#NAME?"}},{"$f":"IF(Q407<>0,[1]!SUMSTRING(Q407:R407,\"#\"),\"\")","v":{"$error":"#NAME?"}},{"$f":"[1]!SUMSTRING(S407:U407,\"|\")","v":{"$error":"#NAME?"}},"","","",{"$f":"IF(W407<>0,[1]!SUMSTRING(W407:Y407,\"#\"),\"\")","v":{"$error":"#NAME?"}}]
[7,6021,"生命",835,"攻击",144,"异妖增伤",175,{"$nulls":4},1,835,2,144,66,175,{"$f":"[1]!SUMSTRING(M408:N408,\"#\")","v":{"$error":"#NAME?"}},{"$f":"[1]!SUMSTRING(O408:P408,\"#\")","v":{"$error":"#NAME?"}},{"$f":"IF(Q408<>0,[1]!SUMSTRING(Q408:R408,\"#\"),\"\")","v":{"$error":"#NAME?"}},{"$f":"[1]!SUMSTRING(S408:U408,\"|\")","v":{"$error":"#NAME?"}},"","","",{"$f":"IF(W408<>0,[1]!SUMSTRING(W408:Y408,\"#\"),\"\")","v":{"$error":"#NAME?"}}]
[8,6021,"生命",1050,"攻击",164,"异妖增伤",200,"秘法","效果命中",2000,null,1,1050,2,164,66,200,{"$f":"[1]!SUMSTRING(M409:N409,\"#\")","v":{"$error":"#NAME?"}},{"$f":"[1]!SUMSTRING(O409:P409,\"#\")","v":{"$error":"#NAME?"}},{"$f":"IF(Q409<>0,[1]!SUMSTRING(Q409:R409,\"#\"),\"\")","v":{"$error":"#NAME?"}},{"$f":"[1]!SUMSTRING(S409:U409,\"|\")","v":{"$error":"#NAME?"}},3,53,2000,{"$f":"IF(W409<>0,[1]!SUMSTRING(W409:Y409,\"#\"),\"\")","v":{"$error":"#NAME?"}}]
[9,6021,"生命",1289,"攻击",185,"异妖增伤",225,{"$nulls":4},1,1289,2,185,66,225,{"$f":"[1]!SUMSTRING(M410:N410,\"#\")","v":{"$error":"#NAME?"}},{"$f":"[1]!SUMSTRING(O410:P410,\"#\")","v":{"$error":"#NAME?"}},{"$f":"IF(Q410<>0,[1]!SUMSTRING(Q410:R410,\"#\"),\"\")","v":{"$error":"#NAME?"}},{"$f":"[1]!SUMSTRING(S410:U410,\"|\")","v":{"$error":"#NAME?"}},"","","",{"$f":"IF(W410<>0,[1]!SUMSTRING(W410:Y410,\"#\"),\"\")","v":{"$error":"#NAME?"}}]
[10,6021,"生命",1551,"攻击",205,"异妖增伤",250,{"$nulls":4},1,1551,2,205,66,250,{"$f":"[1]!SUMSTRING(M411:N411,\"#\")","v":{"$error":"#NAME?"}},{"$f":"[1]!SUMSTRING(O411:P411,\"#\")","v":{"$error":"#NAME?"}},{"$f":"IF(Q411<>0,[1]!SUMSTRING(Q411:R411,\"#\"),\"\")","v":{"$error":"#NAME?"}},{"$f":"[1]!SUMSTRING(S411:U411,\"|\")","v":{"$error":"#NAME?"}},"","","",{"$f":"IF(W411<>0,[1]!SUMSTRING(W411:Y411,\"#\"),\"\")","v":{"$error":"#NAME?"}}]
[11,6021,"生命",1838,"攻击",226,"异妖增伤",275,"玄策","效果命中",2000,null,1,1838,2,226,66,275,{"$f":"[1]!SUMSTRING(M412:N412,\"#\")","v":{"$error":"#NAME?"}},{"$f":"[1]!SUMSTRING(O412:P412,\"#\")","v":{"$error":"#NAME?"}},{"$f":"IF(Q412<>0,[1]!SUMSTRING(Q412:R412,\"#\"),\"\")","v":{"$error":"#NAME?"}},{"$f":"[1]!SUMSTRING(S412:U412,\"|\")","v":{"$error":"#NAME?"}},4,53,2000,{"$f":"IF(W412<>0,[1]!SUMSTRING(W412:Y412,\"#\"),\"\")","v":{"$error":"#NAME?"}}]
[12,6021,"生命",2148,"攻击",247,"异妖增伤",300,{"$nulls":4},1,2148,2,247,66,300,{"$f":"[1]!SUMSTRING(M413:N413,\"#\")","v":{"$error":"#NAME?"}},{"$f":"[1]!SUMSTRING(O413:P413,\"#\")","v":{"$error":"#NAME?"}},{"$f":"IF(Q413<>0,[1]!SUMSTRING(Q413:R413,\"#\"),\"\")","v":{"$error":"#NAME?"}},{"$f":"[1]!SUMSTRING(S413:U413,\"|\")","v":{"$error":"#NAME?"}},"","","",{"$f":"IF(W413<>0,[1]!SUMSTRING(W413:Y413,\"#\"),\"\")","v":{"$error":"#NAME?"}}]
[13,6021,"生命",2482,"攻击",267,"异妖增伤",325,{"$nulls":4},1,2482,2,267,66,325,{"$f":"[1]!SUMSTRING(M414:N414,\"#\")","v":{"$error":"#NAME?"}},{"$f":"[1]!SUMSTRING(O414:P414,\"#\")","v":{"$error":"#NAME?"}},{"$f":"IF(Q414<>0,[1]!SUMSTRING(Q414:R414,\"#\"),\"\")","v":{"$error":"#NAME?"}},{"$f":"[1]!SUMSTRING(S414:U414,\"|\")","v":{"$error":"#NAME?"}},"","","",{"$f":"IF(W414<>0,[1]!SUMSTRING(W414:Y414,\"#\"),\"\")","v":{"$error":"#NAME?"}}]
[14,6021,"生命",2840,"攻击",288,"异妖增伤",350,"天罚","效果命中",2000,null,1,2840,2,288,66,350,{"$f":"[1]!SUMSTRING(M415:N415,\"#\")","v":{"$error":"#NAME?"}},{"$f":"[1]!SUMSTRING(O415:P415,\"#\")","v":{"$error":"#NAME?"}},{"$f":"IF(Q415<>0,[1]!SUMSTRING(Q415:R415,\"#\"),\"\")","v":{"$error":"#NAME?"}},{"$f":"[1]!SUMSTRING(S415:U415,\"|\")","v":{"$error":"#NAME?"}},2,53,2000,{"$f":"IF(W415<>0,[1]!SUMSTRING(W415:Y415,\"#\"),\"\")","v":{"$error":"#NAME?"}}]
[15,6021,"生命",3222,"攻击",308,"异妖增伤",375,{"$nulls":4},1,3222,2,308,66,375,{"$f":"[1]!SUMSTRING(M416:N416,\"#\")","v":{"$error":"#NAME?"}},{"$f":"[1]!SUMSTRING(O416:P416,\"#\")","v":{"$error":"#NAME?"}},{"$f":"IF(Q416<>0,[1]!SUMSTRING(Q416:R416,\"#\"),\"\")","v":{"$error":"#NAME?"}},{"$f":"[1]!SUMSTRING(S416:U416,\"|\")","v":{"$error":"#NAME?"}},"","","",{"$f":"IF(W416<>0,[1]!SUMSTRING(W416:Y416,\"#\"),\"\")","v":{"$error":"#NAME?"}}]
[16,6021,"生命",3628,"攻击",329,"异妖增伤",400,{"$nulls":4},1,3628,2,329,66,400,{"$f":"[1]!SUMSTRING(M417:N417,\"#\")","v":{"$error":"#NAME?"}},{"$f":"[1]!SUMSTRING(O417:P417,\"#\")","v":{"$error":"#NAME?"}},{"$f":"IF(Q417<>0,[1]!SUMSTRING(Q417:R417,\"#\"),\"\")","v":{"$error":"#NAME?"}},{"$f":"[1]!SUMSTRING(S417:U417,\"|\")","v":{"$error":"#NAME?"}},"","","",{"$f":"IF(W417<>0,[1]!SUMSTRING(W417:Y417,\"#\"),\"\")","v":{"$error":"#NAME?"}}]
[17,6021,"生命",4057,"攻击",350,"异妖增伤",425,"玄策","效果命中",1000,null,1,4057,2,350,66,425,{"$f":"[1]!SUMSTRING(M418:N418,\"#\")","v":{"$error":"#NAME?"}},{"$f":"[1]!SUMSTRING(O418:P418,\"#\")","v":{"$error":"#NAME?"}},{"$f":"IF(Q418<>0,[1]!SUMSTRING(Q418:R418,\"#\"),\"\")","v":{"$error":"#NAME?"}},{"$f":"[1]!SUMSTRING(S418:U418,\"|\")","v":{"$error":"#NAME?"}},4,53,1000,{"$f":"IF(W418<>0,[1]!SUMSTRING(W418:Y418,\"#\"),\"\")","v":{"$error":"#NAME?"}}]
[18,6021,"生命",4511,"攻击",370,"异妖增伤",450,{"$nulls":4},1,4511,2,370,66,450,{"$f":"[1]!SUMSTRING(M419:N419,\"#\")","v":{"$error":"#NAME?"}},{"$f":"[1]!SUMSTRING(O419:P419,\"#\")","v":{"$error":"#NAME?"}},{"$f":"IF(Q419<>0,[1]!SUMSTRING(Q419:R419,\"#\"),\"\")","v":{"$error":"#NAME?"}},{"$f":"[1]!SUMSTRING(S419:U419,\"|\")","v":{"$error":"#NAME?"}},"","","",{"$f":"IF(W419<>0,[1]!SUMSTRING(W419:Y419,\"#\"),\"\")","v":{"$error":"#NAME?"}}]
[19,6021,"生命",4988,"攻击",391,"异妖增伤",475,{"$nulls":4},1,4988,2,391,66,475,{"$f":"[1]!SUMSTRING(M420:N420,\"#\")","v":{"$error":"#NAME?"}},{"$f":"[1]!SUMSTRING(O420:P420,\"#\")","v":{"$error":"#NAME?"}},{"$f":"IF(Q420<>0,[1]!SUMSTRING(Q420:R420,\"#\"),\"\")","v":{"$error":"#NAME?"}},{"$f":"[1]!SUMSTRING(S420:U420,\"|\")","v":{"$error":"#NAME?"}},"","","",{"$f":"IF(W420<>0,[1]!SUMSTRING(W420:Y420,\"#\"),\"\")","v":{"$error":"#NAME?"}}]
[20,6021,"生命",5490,"攻击",411,"异妖增伤",500,"秘法","效果命中",1000,null,1,5490,2,411,66,500,{"$f":"[1]!SUMSTRING(M421:N421,\"#\")","v":{"$error":"#NAME?"}},{"$f":"[1]!SUMSTRING(O421:P421,\"#\")","v":{"$error":"#NAME?"}},{"$f":"IF(Q421<>0,[1]!SUMSTRING(Q421:R421,\"#\"),\"\")","v":{"$error":"#NAME?"}},{"$f":"[1]!SUMSTRING(S421:U421,\"|\")","v":{"$error":"#NAME?"}},3,53,1000,{"$f":"IF(W421<>0,[1]!SUMSTRING(W421:Y421,\"#\"),\"\")","v":{"$error":"#NAME?"}}]
[1,6022,"生命",47,"护甲",40,"异妖减伤",25,{"$nulls":4},1,47,3,40,59,25,{"$f":"[1]!SUMSTRING(M422:N422,\"#\")","v":{"$error":"#NAME?"}},{"$f":"[1]!SUMSTRING(O422:P422,\"#\")","v":{"$error":"#NAME?"}},{"$f":"IF(Q422<>0,[1]!SUMSTRING(Q422:R422,\"#\"),\"\")","v":{"$error":"#NAME?"}},{"$f":"[1]!SUMSTRING(S422:U422,\"|\")","v":{"$error":"#NAME?"}},"","","",{"$f":"IF(W422<>0,[1]!SUMSTRING(W422:Y422,\"#\"),\"\")","v":{"$error":"#NAME?"}}]
[2,6022,"生命",119,"护甲",82,"异妖减伤",50,"武卫","效果抵抗",2000,null,1,119,3,82,59,50,{"$f":"[1]!SUMSTRING(M423:N423,\"#\")","v":{"$error":"#NAME?"}},{"$f":"[1]!SUMSTRING(O423:P423,\"#\")","v":{"$error":"#NAME?"}},{"$f":"IF(Q423<>0,[1]!SUMSTRING(Q423:R423,\"#\"),\"\")","v":{"$error":"#NAME?"}},{"$f":"[1]!SUMSTRING(S423:U423,\"|\")","v":{"$error":"#NAME?"}},1,54,2000,{"$f":"IF(W423<>0,[1]!SUMSTRING(W423:Y423,\"#\"),\"\")","v":{"$error":"#NAME?"}}]
[3,6022,"生命",214,"护甲",122,"异妖减伤",75,{"$nulls":4},1,214,3,122,59,75,{"$f":"[1]!SUMSTRING(M424:N424,\"#\")","v":{"$error":"#NAME?"}},{"$f":"[1]!SUMSTRING(O424:P424,\"#\")","v":{"$error":"#NAME?"}},{"$f":"IF(Q424<>0,[1]!SUMSTRING(Q424:R424,\"#\"),\"\")","v":{"$error":"#NAME?"}},{"$f":"[1]!SUMSTRING(S424:U424,\"|\")","v":{"$error":"#NAME?"}},"","","",{"$f":"IF(W424<>0,[1]!SUMSTRING(W424:Y424,\"#\"),\"\")","v":{"$error":"#NAME?"}}]
[4,6022,"生命",334,"护甲",164,"异妖减伤",100,{"$nulls":4},1,334,3,164,59,100,{"$f":"[1]!SUMSTRING(M425:N425,\"#\")","v":{"$error":"#NAME?"}},{"$f":"[1]!SUMSTRING(O425:P425,\"#\")","v":{"$error":"#NAME?"}},{"$f":"IF(Q425<>0,[1]!SUMSTRING(Q425:R425,\"#\"),\"\")","v":{"$error":"#NAME?"}},{"$f":"[1]!SUMSTRING(S425:U425,\"|\")","v":{"$error":"#NAME?"}},"","","",{"$f":"IF(W425<>0,[1]!SUMSTRING(W425:Y425,\"#\"),\"\")","v":{"$error":"#NAME?"}}]
[5,6022,"生命",477,"护甲",204,"异妖减伤",125,"生花","效果抵抗",2000,null,1,477,3,204,59,125,{"$f":"[1]!SUMSTRING(M426:N426,\"#\")","v":{"$error":"#NAME?"}},{"$f":"[1]!SUMSTRING(O426:P426,\"#\")","v":{"$error":"#NAME?"}},{"$f":"IF(Q426<>0,[1]!SUMSTRING(Q426:R426,\"#\"),\"\")","v":{"$error":"#NAME?"}},{"$f":"[1]!SUMSTRING(S426:U426,\"|\")","v":{"$error":"#NAME?"}},5,54,2000,{"$f":"IF(W426<>0,[1]!SUMSTRING(W426:Y426,\"#\"),\"\")","v":{"$error":"#NAME?"}}]
[6,6022,"生命",644,"护甲",246,"异妖减伤",150,{"$nulls":4},1,644,3,246,59,150,{"$f":"[1]!SUMSTRING(M427:N427,\"#\")","v":{"$error":"#NAME?"}},{"$f":"[1]!SUMSTRING(O427:P427,\"#\")","v":{"$error":"#NAME?"}},{"$f":"IF(Q427<>0,[1]!SUMSTRING(Q427:R427,\"#\"),\"\")","v":{"$error":"#NAME?"}},{"$f":"[1]!SUMSTRING(S427:U427,\"|\")","v":{"$error":"#NAME?"}},"","","",{"$f":"IF(W427<>0,[1]!SUMSTRING(W427:Y427,\"#\"),\"\")","v":{"$error":"#NAME?"}}]
[7,6022,"生命",835,"护甲",288,"异妖减伤",175,{"$nulls":4},1,835,3,288,59,175,{"$f":"[1]!SUMSTRING(M428:N428,\"#\")","v":{"$error":"#NAME?"}},{"$f":"[1]!SUMSTRING(O428:P428,\"#\")","v":{"$error":"#NAME?"}},{"$f":"IF(Q428<>0,[1]!SUMSTRING(Q428:R428,\"#\"),\"\")","v":{"$error":"#NAME?"}},{"$f":"[1]!SUMSTRING(S428:U428,\"|\")","v":{"$error":"#NAME?"}},"","","",{"$f":"IF(W428<>0,[1]!SUMSTRING(W428:Y428,\"#\"),\"\")","v":{"$error":"#NAME?"}}]
[8,6022,"生命",1050,"护甲",328,"异妖减伤",200,"秘法","效果抵抗",2000,null,1,1050,3,328,59,200,{"$f":"[1]!SUMSTRING(M429:N429,\"#\")","v":{"$error":"#NAME?"}},{"$f":"[1]!SUMSTRING(O429:P429,\"#\")","v":{"$error":"#NAME?"}},{"$f":"IF(Q429<>0,[1]!SUMSTRING(Q429:R429,\"#\"),\"\")","v":{"$error":"#NAME?"}},{"$f":"[1]!SUMSTRING(S429:U429,\"|\")","v":{"$error":"#NAME?"}},3,54,2000,{"$f":"IF(W429<>0,[1]!SUMSTRING(W429:Y429,\"#\"),\"\")","v":{"$error":"#NAME?"}}]
[9,6022,"生命",1289,"护甲",370,"异妖减伤",225,{"$nulls":4},1,1289,3,370,59,225,{"$f":"[1]!SUMSTRING(M430:N430,\"#\")","v":{"$error":"#NAME?"}},{"$f":"[1]!SUMSTRING(O430:P430,\"#\")","v":{"$error":"#NAME?"}},{"$f":"IF(Q430<>0,[1]!SUMSTRING(Q430:R430,\"#\"),\"\")","v":{"$error":"#NAME?"}},{"$f":"[1]!SUMSTRING(S430:U430,\"|\")","v":{"$error":"#NAME?"}},"","","",{"$f":"IF(W430<>0,[1]!SUMSTRING(W430:Y430,\"#\"),\"\")","v":{"$error":"#NAME?"}}]
[10,6022,"生命",1551,"护甲",410,"异妖减伤",250,{"$nulls":4},1,1551,3,410,59,250,{"$f":"[1]!SUMSTRING(M431:N431,\"#\")","v":{"$error":"#NAME?"}},{"$f":"[1]!SUMSTRING(O431:P431,\"#\")","v":{"$error":"#NAME?"}},{"$f":"IF(Q431<>0,[1]!SUMSTRING(Q431:R431,\"#\"),\"\")","v":{"$error":"#NAME?"}},{"$f":"[1]!SUMSTRING(S431:U431,\"|\")","v":{"$error":"#NAME?"}},"","","",{"$f":"IF(W431<>0,[1]!SUMSTRING(W431:Y431,\"#\"),\"\")","v":{"$error":"#NAME?"}}]
[11,6022,"生命",1838,"护甲",452,"异妖减伤",275,"玄策","效果抵抗",2000,null,1,1838,3,452,59,275,{"$f":"[1]!SUMSTRING(M432:N432,\"#\")","v":{"$error":"#NAME?"}},{"$f":"[1]!SUMSTRING(O432:P432,\"#\")","v":{"$error":"#NAME?"}},{"$f":"IF(Q432<>0,[1]!SUMSTRING(Q432:R432,\"#\"),\"\")","v":{"$error":"#NAME?"}},{"$f":"[1]!SUMSTRING(S432:U432,\"|\")","v":{"$error":"#NAME?"}},4,54,2000,{"$f":"IF(W432<>0,[1]!SUMSTRING(W432:Y432,\"#\"),\"\")","v":{"$error":"#NAME?"}}]
[12,6022,"生命",2148,"护甲",494,"异妖减伤",300,{"$nulls":4},1,2148,3,494,59,300,{"$f":"[1]!SUMSTRING(M433:N433,\"#\")","v":{"$error":"#NAME?"}},{"$f":"[1]!SUMSTRING(O433:P433,\"#\")","v":{"$error":"#NAME?"}},{"$f":"IF(Q433<>0,[1]!SUMSTRING(Q433:R433,\"#\"),\"\")","v":{"$error":"#NAME?"}},{"$f":"[1]!SUMSTRING(S433:U433,\"|\")","v":{"$error":"#NAME?"}},"","","",{"$f":"IF(W433<>0,[1]!SUMSTRING(W433:Y433,\"#\"),\"\")","v":{"$error":"#NAME?"}}]
[13,6022,"生命",2482,"护甲",534,"异妖减伤",325,{"$nulls":4},1,2482,3,534,59,325,{"$f":"[1]!SUMSTRING(M434:N434,\"#\")","v":{"$error":"#NAME?"}},{"$f":"[1]!SUMSTRING(O434:P434,\"#\")","v":{"$error":"#NAME?"}},{"$f":"IF(Q434<>0,[1]!SUMSTRING(Q434:R434,\"#\"),\"\")","v":{"$error":"#NAME?"}},{"$f":"[1]!SUMSTRING(S434:U434,\"|\")","v":{"$error":"#NAME?"}},"","","",{"$f":"IF(W434<>0,[1]!SUMSTRING(W434:Y434,\"#\"),\"\")","v":{"$error":"#NAME?"}}]
[14,6022,"生命",2840,"护甲",576,"异妖减伤",350,"天罚","效果抵抗",2000,null,1,2840,3,576,59,350,{"$f":"[1]!SUMSTRING(M435:N435,\"#\")","v":{"$error":"#NAME?"}},{"$f":"[1]!SUMSTRING(O435:P435,\"#\")","v":{"$error":"#NAME?"}},{"$f":"IF(Q435<>0,[1]!SUMSTRING(Q435:R435,\"#\"),\"\")","v":{"$error":"#NAME?"}},{"$f":"[1]!SUMSTRING(S435:U435,\"|\")","v":{"$error":"#NAME?"}},2,54,2000,{"$f":"IF(W435<>0,[1]!SUMSTRING(W435:Y435,\"#\"),\"\")","v":{"$error":"#NAME?"}}]
[15,6022,"生命",3222,"护甲",616,"异妖减伤",375,{"$nulls":4},1,3222,3,616,59,375,{"$f":"[1]!SUMSTRING(M436:N436,\"#\")","v":{"$error":"#NAME?"}},{"$f":"[1]!SUMSTRING(O436:P436,\"#\")","v":{"$error":"#NAME?"}},{"$f":"IF(Q436<>0,[1]!SUMSTRING(Q436:R436,\"#\"),\"\")","v":{"$error":"#NAME?"}},{"$f":"[1]!SUMSTRING(S436:U436,\"|\")","v":{"$error":"#NAME?"}},"","","",{"$f":"IF(W436<>0,[1]!SUMSTRING(W436:Y436,\"#\"),\"\")","v":{"$error":"#NAME?"}}]
[16,6022,"生命",3628,"护甲",658,"异妖减伤",400,{"$nulls":4},1,3628,3,658,59,400,{"$f":"[1]!SUMSTRING(M437:N437,\"#\")","v":{"$error":"#NAME?"}},{"$f":"[1]!SUMSTRING(O437:P437,\"#\")","v":{"$error":"#NAME?"}},{"$f":"IF(Q437<>0,[1]!SUMSTRING(Q437:R437,\"#\"),\"\")","v":{"$error":"#NAME?"}},{"$f":"[1]!SUMSTRING(S437:U437,\"|\")","v":{"$error":"#NAME?"}},"","","",{"$f":"IF(W437<>0,[1]!SUMSTRING(W437:Y437,\"#\"),\"\")","v":{"$error":"#NAME?"}}]
[17,6022,"生命",4057,"护甲",700,"异妖减伤",425,"玄策","效果抵抗",1000,null,1,4057,3,700,59,425,{"$f":"[1]!SUMSTRING(M438:N438,\"#\")","v":{"$error":"#NAME?"}},{"$f":"[1]!SUMSTRING(O438:P438,\"#\")","v":{"$error":"#NAME?"}},{"$f":"IF(Q438<>0,[1]!SUMSTRING(Q438:R438,\"#\"),\"\")","v":{"$error":"#NAME?"}},{"$f":"[1]!SUMSTRING(S438:U438,\"|\")","v":{"$error":"#NAME?"}},4,54,1000,{"$f":"IF(W438<>0,[1]!SUMSTRING(W438:Y438,\"#\"),\"\")","v":{"$error":"#NAME?"}}]
[18,6022,"生命",4511,"护甲",740,"异妖减伤",450,{"$nulls":4},1,4511,3,740,59,450,{"$f":"[1]!SUMSTRING(M439:N439,\"#\")","v":{"$error":"#NAME?"}},{"$f":"[1]!SUMSTRING(O439:P439,\"#\")","v":{"$error":"#NAME?"}},{"$f":"IF(Q439<>0,[1]!SUMSTRING(Q439:R439,\"#\"),\"\")","v":{"$error":"#NAME?"}},{"$f":"[1]!SUMSTRING(S439:U439,\"|\")","v":{"$error":"#NAME?"}},"","","",{"$f":"IF(W439<>0,[1]!SUMSTRING(W439:Y439,\"#\"),\"\")","v":{"$error":"#NAME?"}}]
[19,6022,"生命",4988,"护甲",782,"异妖减伤",475,{"$nulls":4},1,4988,3,782,59,475,{"$f":"[1]!SUMSTRING(M440:N440,\"#\")","v":{"$error":"#NAME?"}},{"$f":"[1]!SUMSTRING(O440:P440,\"#\")","v":{"$error":"#NAME?"}},{"$f":"IF(Q440<>0,[1]!SUMSTRING(Q440:R440,\"#\"),\"\")","v":{"$error":"#NAME?"}},{"$f":"[1]!SUMSTRING(S440:U440,\"|\")","v":{"$error":"#NAME?"}},"","","",{"$f":"IF(W440<>0,[1]!SUMSTRING(W440:Y440,\"#\"),\"\")","v":{"$error":"#NAME?"}}]
[20,6022,"生命",5490,"护甲",822,"异妖减伤",500,"秘法","效果抵抗",1000,null,1,5490,3,822,59,500,{"$f":"[1]!SUMSTRING(M441:N441,\"#\")","v":{"$error":"#NAME?"}},{"$f":"[1]!SUMSTRING(O441:P441,\"#\")","v":{"$error":"#NAME?"}},{"$f":"IF(Q441<>0,[1]!SUMSTRING(Q441:R441,\"#\"),\"\")","v":{"$error":"#NAME?"}},{"$f":"[1]!SUMSTRING(S441:U441,\"|\")","v":{"$error":"#NAME?"}},3,54,1000,{"$f":"IF(W441<>0,[1]!SUMSTRING(W441:Y441,\"#\"),\"\")","v":{"$error":"#NAME?"}}]
[1,6023,"生命",47,"魔抗",40,"异妖减伤",25,{"$nulls":4},1,47,4,40,59,25,{"$f":"[1]!SUMSTRING(M442:N442,\"#\")","v":{"$error":"#NAME?"}},{"$f":"[1]!SUMSTRING(O442:P442,\"#\")","v":{"$error":"#NAME?"}},{"$f":"IF(Q442<>0,[1]!SUMSTRING(Q442:R442,\"#\"),\"\")","v":{"$error":"#NAME?"}},{"$f":"[1]!SUMSTRING(S442:U442,\"|\")","v":{"$error":"#NAME?"}},"","","",{"$f":"IF(W442<>0,[1]!SUMSTRING(W442:Y442,\"#\"),\"\")","v":{"$error":"#NAME?"}}]
[2,6023,"生命",119,"魔抗",82,"异妖减伤",50,"武卫","暴击",1000,null,1,119,4,82,59,50,{"$f":"[1]!SUMSTRING(M443:N443,\"#\")","v":{"$error":"#NAME?"}},{"$f":"[1]!SUMSTRING(O443:P443,\"#\")","v":{"$error":"#NAME?"}},{"$f":"IF(Q443<>0,[1]!SUMSTRING(Q443:R443,\"#\"),\"\")","v":{"$error":"#NAME?"}},{"$f":"[1]!SUMSTRING(S443:U443,\"|\")","v":{"$error":"#NAME?"}},1,55,1000,{"$f":"IF(W443<>0,[1]!SUMSTRING(W443:Y443,\"#\"),\"\")","v":{"$error":"#NAME?"}}]
[3,6023,"生命",214,"魔抗",122,"异妖减伤",75,{"$nulls":4},1,214,4,122,59,75,{"$f":"[1]!SUMSTRING(M444:N444,\"#\")","v":{"$error":"#NAME?"}},{"$f":"[1]!SUMSTRING(O444:P444,\"#\")","v":{"$error":"#NAME?"}},{"$f":"IF(Q444<>0,[1]!SUMSTRING(Q444:R444,\"#\"),\"\")","v":{"$error":"#NAME?"}},{"$f":"[1]!SUMSTRING(S444:U444,\"|\")","v":{"$error":"#NAME?"}},"","","",{"$f":"IF(W444<>0,[1]!SUMSTRING(W444:Y444,\"#\"),\"\")","v":{"$error":"#NAME?"}}]
[4,6023,"生命",334,"魔抗",164,"异妖减伤",100,{"$nulls":4},1,334,4,164,59,100,{"$f":"[1]!SUMSTRING(M445:N445,\"#\")","v":{"$error":"#NAME?"}},{"$f":"[1]!SUMSTRING(O445:P445,\"#\")","v":{"$error":"#NAME?"}},{"$f":"IF(Q445<>0,[1]!SUMSTRING(Q445:R445,\"#\"),\"\")","v":{"$error":"#NAME?"}},{"$f":"[1]!SUMSTRING(S445:U445,\"|\")","v":{"$error":"#NAME?"}},"","","",{"$f":"IF(W445<>0,[1]!SUMSTRING(W445:Y445,\"#\"),\"\")","v":{"$error":"#NAME?"}}]
[5,6023,"生命",477,"魔抗",204,"异妖减伤",125,"生花","暴击",1000,null,1,477,4,204,59,125,{"$f":"[1]!SUMSTRING(M446:N446,\"#\")","v":{"$error":"#NAME?"}},{"$f":"[1]!SUMSTRING(O446:P446,\"#\")","v":{"$error":"#NAME?"}},{"$f":"IF(Q446<>0,[1]!SUMSTRING(Q446:R446,\"#\"),\"\")","v":{"$error":"#NAME?"}},{"$f":"[1]!SUMSTRING(S446:U446,\"|\")","v":{"$error":"#NAME?"}},5,55,1000,{"$f":"IF(W446<>0,[1]!SUMSTRING(W446:Y446,\"#\"),\"\")","v":{"$error":"#NAME?"}}]
[6,6023,"生命",644,"魔抗",246,"异妖减伤",150,{"$nulls":4},1,644,4,246,59,150,{"$f":"[1]!SUMSTRING(M447:N447,\"#\")","v":{"$error":"#NAME?"}},{"$f":"[1]!SUMSTRING(O447:P447,\"#\")","v":{"$error":"#NAME?"}},{"$f":"IF(Q447<>0,[1]!SUMSTRING(Q447:R447,\"#\"),\"\")","v":{"$error":"#NAME?"}},{"$f":"[1]!SUMSTRING(S447:U447,\"|\")","v":{"$error":"#NAME?"}},"","","",{"$f":"IF(W447<>0,[1]!SUMSTRING(W447:Y447,\"#\"),\"\")","v":{"$error":"#NAME?"}}]
[7,6023,"生命",835,"魔抗",288,"异妖减伤",175,{"$nulls":4},1,835,4,288,59,175,{"$f":"[1]!SUMSTRING(M448:N448,\"#\")","v":{"$error":"#NAME?"}},{"$f":"[1]!SUMSTRING(O448:P448,\"#\")","v":{"$error":"#NAME?"}},{"$f":"IF(Q448<>0,[1]!SUMSTRING(Q448:R448,\"#\"),\"\")","v":{"$error":"#NAME?"}},{"$f":"[1]!SUMSTRING(S448:U448,\"|\")","v":{"$error":"#NAME?"}},"","","",{"$f":"IF(W448<>0,[1]!SUMSTRING(W448:Y448,\"#\"),\"\")","v":{"$error":"#NAME?"}}]
[8,6023,"生命",1050,"魔抗",328,"异妖减伤",200,"秘法","暴击",1000,null,1,1050,4,328,59,200,{"$f":"[1]!SUMSTRING(M449:N449,\"#\")","v":{"$error":"#NAME?"}},{"$f":"[1]!SUMSTRING(O449:P449,\"#\")","v":{"$error":"#NAME?"}},{"$f":"IF(Q449<>0,[1]!SUMSTRING(Q449:R449,\"#\"),\"\")","v":{"$error":"#NAME?"}},{"$f":"[1]!SUMSTRING(S449:U449,\"|\")","v":{"$error":"#NAME?"}},3,55,1000,{"$f":"IF(W449<>0,[1]!SUMSTRING(W449:Y449,\"#\"),\"\")","v":{"$error":"#NAME?"}}]
[9,6023,"生命",1289,"魔抗",370,"异妖减伤",225,{"$nulls":4},1,1289,4,370,59,225,{"$f":"[1]!SUMSTRING(M450:N450,\"#\")","v":{"$error":"#NAME?"}},{"$f":"[1]!SUMSTRING(O450:P450,\"#\")","v":{"$error":"#NAME?"}},{"$f":"IF(Q450<>0,[1]!SUMSTRING(Q450:R450,\"#\"),\"\")","v":{"$error":"#NAME?"}},{"$f":"[1]!SUMSTRING(S450:U450,\"|\")","v":{"$error":"#NAME?"}},"","","",{"$f":"IF(W450<>0,[1]!SUMSTRING(W450:Y450,\"#\"),\"\")","v":{"$error":"#NAME?"}}]
[10,6023,"生命",1551,"魔抗",410,"异妖减伤",250,{"$nulls":4},{"$f":"VLOOKUP(C451,$AB:$AC,2,0)","v":1},{"$f":"D451","v":1551},{"$f":"VLOOKUP(E451,$AB:$AC,2,0)","v":4},{"$f":"F451","v":410},{"$f":"IF(G451<>0,VLOOKUP(G451,$AB:$AC,2,0),\"\")","v":59},{"$f":"IF(H451<>0,H451,\"\")","v":250},{"$f":"[1]!SUMSTRING(M451:N451,\"#\")","v":{"$error":"#NAME?"}},{"$f":"[1]!SUMSTRING(O451:P451,\"#\")","v":{"$error":"#NAME?"}},{"$f":"IF(Q451<>0,[1]!SUMSTRING(Q451:R451,\"#\"),\"\")","v":{"$error":"#NAME?"}},{"$f":"[1]!SUMSTRING(S451:U451,\"|\")","v":{"$error":"#NAME?"}},"",{"$f":"IF(J451<>0,VLOOKUP(J451,$AB:$AC,2,0),\"\")","v":""},{"$f":"IF(K451<>0,K451,\"\")","v":""},{"$f":"IF(W451<>0,[1]!SUMSTRING(W451:Y451,\"#\"),\"\")","v":{"$error":"#NAME?"}}]
[11,6023,"生命",1838,"魔抗",452,"异妖减伤",275,"玄策","暴击",1000,null,1,1838,4,452,59,275,{"$f":"[1]!SUMSTRING(M452:N452,\"#\")","v":{"$error":"#NAME?"}},{"$f":"[1]!SUMSTRING(O452:P452,\"#\")","v":{"$error":"#NAME?"}},{"$f":"IF(Q452<>0,[1]!SUMSTRING(Q452:R452,\"#\"),\"\")","v":{"$error":"#NAME?"}},{"$f":"[1]!SUMSTRING(S452:U452,\"|\")","v":{"$error":"#NAME?"}},{"$f":"IF(I452<>0,VLOOKUP(I452,$AG$3:$AH$7,2,0),\"\")","v":4},55,1000,{"$f":"IF(W452<>0,[1]!SUMSTRING(W452:Y452,\"#\"),\"\")","v":{"$error":"#NAME?"}}]
[12,6023,"生命",2148,"魔抗",494,"异妖减伤",300,{"$nulls":4},1,2148,4,494,59,300,{"$f":"[1]!SUMSTRING(M453:N453,\"#\")","v":{"$error":"#NAME?"}},{"$f":"[1]!SUMSTRING(O453:P453,\"#\")","v":{"$error":"#NAME?"}},{"$f":"IF(Q453<>0,[1]!SUMSTRING(Q453:R453,\"#\"),\"\")","v":{"$error":"#NAME?"}},{"$f":"[1]!SUMSTRING(S453:U453,\"|\")","v":{"$error":"#NAME?"}},"","","",{"$f":"IF(W453<>0,[1]!SUMSTRING(W453:Y453,\"#\"),\"\")","v":{"$error":"#NAME?"}}]
[13,6023,"生命",2482,"魔抗",534,"异妖减伤",325,{"$nulls":4},1,2482,4,534,59,325,{"$f":"[1]!SUMSTRING(M454:N454,\"#\")","v":{"$error":"#NAME?"}},{"$f":"[1]!SUMSTRING(O454:P454,\"#\")","v":{"$error":"#NAME?"}},{"$f":"IF(Q454<>0,[1]!SUMSTRING(Q454:R454,\"#\"),\"\")","v":{"$error":"#NAME?"}},{"$f":"[1]!SUMSTRING(S454:U454,\"|\")","v":{"$error":"#NAME?"}},"","","",{"$f":"IF(W454<>0,[1]!SUMSTRING(W454:Y454,\"#\"),\"\")","v":{"$error":"#NAME?"}}]
[14,6023,"生命",2840,"魔抗",576,"异妖减伤",350,"天罚","暴击",1000,null,1,2840,4,576,59,350,{"$f":"[1]!SUMSTRING(M455:N455,\"#\")","v":{"$error":"#NAME?"}},{"$f":"[1]!SUMSTRING(O455:P455,\"#\")","v":{"$error":"#NAME?"}},{"$f":"IF(Q455<>0,[1]!SUMSTRING(Q455:R455,\"#\"),\"\")","v":{"$error":"#NAME?"}},{"$f":"[1]!SUMSTRING(S455:U455,\"|\")","v":{"$error":"#NAME?"}},2,55,1000,{"$f":"IF(W455<>0,[1]!SUMSTRING(W455:Y455,\"#\"),\"\")","v":{"$error":"#NAME?"}}]
[15,6023,"生命",3222,"魔抗",616,"异妖减伤",375,{"$nulls":4},1,3222,4,616,59,375,{"$f":"[1]!SUMSTRING(M456:N456,\"#\")","v":{"$error":"#NAME?"}},{"$f":"[1]!SUMSTRING(O456:P456,\"#\")","v":{"$error":"#NAME?"}},{"$f":"IF(Q456<>0,[1]!SUMSTRING(Q456:R456,\"#\"),\"\")","v":{"$error":"#NAME?"}},{"$f":"[1]!SUMSTRING(S456:U456,\"|\")","v":{"$error":"#NAME?"}},"","","",{"$f":"IF(W456<>0,[1]!SUMSTRING(W456:Y456,\"#\"),\"\")","v":{"$error":"#NAME?"}}]
[16,6023,"生命",3628,"魔抗",658,"异妖减伤",400,{"$nulls":4},1,3628,4,658,59,400,{"$f":"[1]!SUMSTRING(M457:N457,\"#\")","v":{"$error":"#NAME?"}},{"$f":"[1]!SUMSTRING(O457:P457,\"#\")","v":{"$error":"#NAME?"}},{"$f":"IF(Q457<>0,[1]!SUMSTRING(Q457:R457,\"#\"),\"\")","v":{"$error":"#NAME?"}},{"$f":"[1]!SUMSTRING(S457:U457,\"|\")","v":{"$error":"#NAME?"}},"","","",{"$f":"IF(W457<>0,[1]!SUMSTRING(W457:Y457,\"#\"),\"\")","v":{"$error":"#NAME?"}}]
[17,6023,"生命",4057,"魔抗",700,"异妖减伤",425,"秘法","暴击",500,null,1,4057,4,700,59,425,{"$f":"[1]!SUMSTRING(M458:N458,\"#\")","v":{"$error":"#NAME?"}},{"$f":"[1]!SUMSTRING(O458:P458,\"#\")","v":{"$error":"#NAME?"}},{"$f":"IF(Q458<>0,[1]!SUMSTRING(Q458:R458,\"#\"),\"\")","v":{"$error":"#NAME?"}},{"$f":"[1]!SUMSTRING(S458:U458,\"|\")","v":{"$error":"#NAME?"}},3,55,500,{"$f":"IF(W458<>0,[1]!SUMSTRING(W458:Y458,\"#\"),\"\")","v":{"$error":"#NAME?"}}]
[18,6023,"生命",4511,"魔抗",740,"异妖减伤",450,{"$nulls":4},1,4511,4,740,59,450,{"$f":"[1]!SUMSTRING(M459:N459,\"#\")","v":{"$error":"#NAME?"}},{"$f":"[1]!SUMSTRING(O459:P459,\"#\")","v":{"$error":"#NAME?"}},{"$f":"IF(Q459<>0,[1]!SUMSTRING(Q459:R459,\"#\"),\"\")","v":{"$error":"#NAME?"}},{"$f":"[1]!SUMSTRING(S459:U459,\"|\")","v":{"$error":"#NAME?"}},"","","",{"$f":"IF(W459<>0,[1]!SUMSTRING(W459:Y459,\"#\"),\"\")","v":{"$error":"#NAME?"}}]
[19,6023,"生命",4988,"魔抗",782,"异妖减伤",475,{"$nulls":4},1,4988,4,782,59,475,{"$f":"[1]!SUMSTRING(M460:N460,\"#\")","v":{"$error":"#NAME?"}},{"$f":"[1]!SUMSTRING(O460:P460,\"#\")","v":{"$error":"#NAME?"}},{"$f":"IF(Q460<>0,[1]!SUMSTRING(Q460:R460,\"#\"),\"\")","v":{"$error":"#NAME?"}},{"$f":"[1]!SUMSTRING(S460:U460,\"|\")","v":{"$error":"#NAME?"}},"","","",{"$f":"IF(W460<>0,[1]!SUMSTRING(W460:Y460,\"#\"),\"\")","v":{"$error":"#NAME?"}}]
[20,6023,"生命",5490,"魔抗",822,"异妖减伤",500,"天罚","暴击",500,null,1,5490,4,822,59,500,{"$f":"[1]!SUMSTRING(M461:N461,\"#\")","v":{"$error":"#NAME?"}},{"$f":"[1]!SUMSTRING(O461:P461,\"#\")","v":{"$error":"#NAME?"}},{"$f":"IF(Q461<>0,[1]!SUMSTRING(Q461:R461,\"#\"),\"\")","v":{"$error":"#NAME?"}},{"$f":"[1]!SUMSTRING(S461:U461,\"|\")","v":{"$error":"#NAME?"}},2,55,500,{"$f":"IF(W461<>0,[1]!SUMSTRING(W461:Y461,\"#\"),\"\")","v":{"$error":"#NAME?"}}]
[1,6024,"攻击",20,"异妖减伤",25,"异妖增伤",25,{"$nulls":4},2,20,59,25,66,25,{"$f":"[1]!SUMSTRING(M462:N462,\"#\")","v":{"$error":"#NAME?"}},{"$f":"[1]!SUMSTRING(O462:P462,\"#\")","v":{"$error":"#NAME?"}},{"$f":"IF(Q462<>0,[1]!SUMSTRING(Q462:R462,\"#\"),\"\")","v":{"$error":"#NAME?"}},{"$f":"[1]!SUMSTRING(S462:U462,\"|\")","v":{"$error":"#NAME?"}},"","","",{"$f":"IF(W462<>0,[1]!SUMSTRING(W462:Y462,\"#\"),\"\")","v":{"$error":"#NAME?"}}]
[2,6024,"攻击",41,"异妖减伤",50,"异妖增伤",50,"武卫","暴伤",2000,null,2,41,59,50,66,50,{"$f":"[1]!SUMSTRING(M463:N463,\"#\")","v":{"$error":"#NAME?"}},{"$f":"[1]!SUMSTRING(O463:P463,\"#\")","v":{"$error":"#NAME?"}},{"$f":"IF(Q463<>0,[1]!SUMSTRING(Q463:R463,\"#\"),\"\")","v":{"$error":"#NAME?"}},{"$f":"[1]!SUMSTRING(S463:U463,\"|\")","v":{"$error":"#NAME?"}},1,56,2000,{"$f":"IF(W463<>0,[1]!SUMSTRING(W463:Y463,\"#\"),\"\")","v":{"$error":"#NAME?"}}]
[3,6024,"攻击",61,"异妖减伤",75,"异妖增伤",75,{"$nulls":4},2,61,59,75,66,75,{"$f":"[1]!SUMSTRING(M464:N464,\"#\")","v":{"$error":"#NAME?"}},{"$f":"[1]!SUMSTRING(O464:P464,\"#\")","v":{"$error":"#NAME?"}},{"$f":"IF(Q464<>0,[1]!SUMSTRING(Q464:R464,\"#\"),\"\")","v":{"$error":"#NAME?"}},{"$f":"[1]!SUMSTRING(S464:U464,\"|\")","v":{"$error":"#NAME?"}},"","","",{"$f":"IF(W464<>0,[1]!SUMSTRING(W464:Y464,\"#\"),\"\")","v":{"$error":"#NAME?"}}]
[4,6024,"攻击",82,"异妖减伤",100,"异妖增伤",100,{"$nulls":4},2,82,59,100,66,100,{"$f":"[1]!SUMSTRING(M465:N465,\"#\")","v":{"$error":"#NAME?"}},{"$f":"[1]!SUMSTRING(O465:P465,\"#\")","v":{"$error":"#NAME?"}},{"$f":"IF(Q465<>0,[1]!SUMSTRING(Q465:R465,\"#\"),\"\")","v":{"$error":"#NAME?"}},{"$f":"[1]!SUMSTRING(S465:U465,\"|\")","v":{"$error":"#NAME?"}},"","","",{"$f":"IF(W465<>0,[1]!SUMSTRING(W465:Y465,\"#\"),\"\")","v":{"$error":"#NAME?"}}]
[5,6024,"攻击",102,"异妖减伤",125,"异妖增伤",125,"生花","暴伤",2000,null,2,102,59,125,66,125,{"$f":"[1]!SUMSTRING(M466:N466,\"#\")","v":{"$error":"#NAME?"}},{"$f":"[1]!SUMSTRING(O466:P466,\"#\")","v":{"$error":"#NAME?"}},{"$f":"IF(Q466<>0,[1]!SUMSTRING(Q466:R466,\"#\"),\"\")","v":{"$error":"#NAME?"}},{"$f":"[1]!SUMSTRING(S466:U466,\"|\")","v":{"$error":"#NAME?"}},5,56,2000,{"$f":"IF(W466<>0,[1]!SUMSTRING(W466:Y466,\"#\"),\"\")","v":{"$error":"#NAME?"}}]
[6,6024,"攻击",123,"异妖减伤",150,"异妖增伤",150,{"$nulls":4},2,123,59,150,66,150,{"$f":"[1]!SUMSTRING(M467:N467,\"#\")","v":{"$error":"#NAME?"}},{"$f":"[1]!SUMSTRING(O467:P467,\"#\")","v":{"$error":"#NAME?"}},{"$f":"IF(Q467<>0,[1]!SUMSTRING(Q467:R467,\"#\"),\"\")","v":{"$error":"#NAME?"}},{"$f":"[1]!SUMSTRING(S467:U467,\"|\")","v":{"$error":"#NAME?"}},"","","",{"$f":"IF(W467<>0,[1]!SUMSTRING(W467:Y467,\"#\"),\"\")","v":{"$error":"#NAME?"}}]
[7,6024,"攻击",144,"异妖减伤",175,"异妖增伤",175,{"$nulls":4},2,144,59,175,66,175,{"$f":"[1]!SUMSTRING(M468:N468,\"#\")","v":{"$error":"#NAME?"}},{"$f":"[1]!SUMSTRING(O468:P468,\"#\")","v":{"$error":"#NAME?"}},{"$f":"IF(Q468<>0,[1]!SUMSTRING(Q468:R468,\"#\"),\"\")","v":{"$error":"#NAME?"}},{"$f":"[1]!SUMSTRING(S468:U468,\"|\")","v":{"$error":"#NAME?"}},"","","",{"$f":"IF(W468<>0,[1]!SUMSTRING(W468:Y468,\"#\"),\"\")","v":{"$error":"#NAME?"}}]
[8,6024,"攻击",164,"异妖减伤",200,"异妖增伤",200,"秘法","暴伤",2000,null,2,164,59,200,66,200,{"$f":"[1]!SUMSTRING(M469:N469,\"#\")","v":{"$error":"#NAME?"}},{"$f":"[1]!SUMSTRING(O469:P469,\"#\")","v":{"$error":"#NAME?"}},{"$f":"IF(Q469<>0,[1]!SUMSTRING(Q469:R469,\"#\"),\"\")","v":{"$error":"#NAME?"}},{"$f":"[1]!SUMSTRING(S469:U469,\"|\")","v":{"$error":"#NAME?"}},3,56,2000,{"$f":"IF(W469<>0,[1]!SUMSTRING(W469:Y469,\"#\"),\"\")","v":{"$error":"#NAME?"}}]
[9,6024,"攻击",185,"异妖减伤",225,"异妖增伤",225,{"$nulls":4},2,185,59,225,66,225,{"$f":"[1]!SUMSTRING(M470:N470,\"#\")","v":{"$error":"#NAME?"}},{"$f":"[1]!SUMSTRING(O470:P470,\"#\")","v":{"$error":"#NAME?"}},{"$f":"IF(Q470<>0,[1]!SUMSTRING(Q470:R470,\"#\"),\"\")","v":{"$error":"#NAME?"}},{"$f":"[1]!SUMSTRING(S470:U470,\"|\")","v":{"$error":"#NAME?"}},"","","",{"$f":"IF(W470<>0,[1]!SUMSTRING(W470:Y470,\"#\"),\"\")","v":{"$error":"#NAME?"}}]
[{"$f":"A451","v":10},{"$f":"B451+1","v":6024},"攻击",205,"异妖减伤",250,"异妖增伤",250,{"$nulls":4},2,205,59,250,66,250,{"$f":"[1]!SUMSTRING(M471:N471,\"#\")","v":{"$error":"#NAME?"}},{"$f":"[1]!SUMSTRING(O471:P471,\"#\")","v":{"$error":"#NAME?"}},{"$f":"IF(Q471<>0,[1]!SUMSTRING(Q471:R471,\"#\"),\"\")","v":{"$error":"#NAME?"}},{"$f":"[1]!SUMSTRING(S471:U471,\"|\")","v":{"$error":"#NAME?"}},"","","",{"$f":"IF(W471<>0,[1]!SUMSTRING(W471:Y471,\"#\"),\"\")","v":{"$error":"#NAME?"}}]
[11,6024,"攻击",226,"异妖减伤",275,"异妖增伤",275,"玄策","暴伤",2000,null,2,226,59,275,66,275,{"$f":"[1]!SUMSTRING(M472:N472,\"#\")","v":{"$error":"#NAME?"}},{"$f":"[1]!SUMSTRING(O472:P472,\"#\")","v":{"$error":"#NAME?"}},{"$f":"IF(Q472<>0,[1]!SUMSTRING(Q472:R472,\"#\"),\"\")","v":{"$error":"#NAME?"}},{"$f":"[1]!SUMSTRING(S472:U472,\"|\")","v":{"$error":"#NAME?"}},4,56,2000,{"$f":"IF(W472<>0,[1]!SUMSTRING(W472:Y472,\"#\"),\"\")","v":{"$error":"#NAME?"}}]
[12,6024,"攻击",247,"异妖减伤",300,"异妖增伤",300,{"$nulls":4},2,247,59,300,66,300,{"$f":"[1]!SUMSTRING(M473:N473,\"#\")","v":{"$error":"#NAME?"}},{"$f":"[1]!SUMSTRING(O473:P473,\"#\")","v":{"$error":"#NAME?"}},{"$f":"IF(Q473<>0,[1]!SUMSTRING(Q473:R473,\"#\"),\"\")","v":{"$error":"#NAME?"}},{"$f":"[1]!SUMSTRING(S473:U473,\"|\")","v":{"$error":"#NAME?"}},"","","",{"$f":"IF(W473<>0,[1]!SUMSTRING(W473:Y473,\"#\"),\"\")","v":{"$error":"#NAME?"}}]
[13,6024,"攻击",267,"异妖减伤",325,"异妖增伤",325,{"$nulls":4},2,267,59,325,66,325,{"$f":"[1]!SUMSTRING(M474:N474,\"#\")","v":{"$error":"#NAME?"}},{"$f":"[1]!SUMSTRING(O474:P474,\"#\")","v":{"$error":"#NAME?"}},{"$f":"IF(Q474<>0,[1]!SUMSTRING(Q474:R474,\"#\"),\"\")","v":{"$error":"#NAME?"}},{"$f":"[1]!SUMSTRING(S474:U474,\"|\")","v":{"$error":"#NAME?"}},"","","",{"$f":"IF(W474<>0,[1]!SUMSTRING(W474:Y474,\"#\"),\"\")","v":{"$error":"#NAME?"}}]
[14,6024,"攻击",288,"异妖减伤",350,"异妖增伤",350,"天罚","暴伤",2000,null,2,288,59,350,66,350,{"$f":"[1]!SUMSTRING(M475:N475,\"#\")","v":{"$error":"#NAME?"}},{"$f":"[1]!SUMSTRING(O475:P475,\"#\")","v":{"$error":"#NAME?"}},{"$f":"IF(Q475<>0,[1]!SUMSTRING(Q475:R475,\"#\"),\"\")","v":{"$error":"#NAME?"}},{"$f":"[1]!SUMSTRING(S475:U475,\"|\")","v":{"$error":"#NAME?"}},2,56,2000,{"$f":"IF(W475<>0,[1]!SUMSTRING(W475:Y475,\"#\"),\"\")","v":{"$error":"#NAME?"}}]
[15,6024,"攻击",308,"异妖减伤",375,"异妖增伤",375,{"$nulls":4},2,308,59,375,66,375,{"$f":"[1]!SUMSTRING(M476:N476,\"#\")","v":{"$error":"#NAME?"}},{"$f":"[1]!SUMSTRING(O476:P476,\"#\")","v":{"$error":"#NAME?"}},{"$f":"IF(Q476<>0,[1]!SUMSTRING(Q476:R476,\"#\"),\"\")","v":{"$error":"#NAME?"}},{"$f":"[1]!SUMSTRING(S476:U476,\"|\")","v":{"$error":"#NAME?"}},"","","",{"$f":"IF(W476<>0,[1]!SUMSTRING(W476:Y476,\"#\"),\"\")","v":{"$error":"#NAME?"}}]
[16,6024,"攻击",329,"异妖减伤",400,"异妖增伤",400,{"$nulls":4},2,329,59,400,66,400,{"$f":"[1]!SUMSTRING(M477:N477,\"#\")","v":{"$error":"#NAME?"}},{"$f":"[1]!SUMSTRING(O477:P477,\"#\")","v":{"$error":"#NAME?"}},{"$f":"IF(Q477<>0,[1]!SUMSTRING(Q477:R477,\"#\"),\"\")","v":{"$error":"#NAME?"}},{"$f":"[1]!SUMSTRING(S477:U477,\"|\")","v":{"$error":"#NAME?"}},"","","",{"$f":"IF(W477<>0,[1]!SUMSTRING(W477:Y477,\"#\"),\"\")","v":{"$error":"#NAME?"}}]
[17,6024,"攻击",350,"异妖减伤",425,"异妖增伤",425,"秘法","暴伤",1000,null,2,350,59,425,66,425,{"$f":"[1]!SUMSTRING(M478:N478,\"#\")","v":{"$error":"#NAME?"}},{"$f":"[1]!SUMSTRING(O478:P478,\"#\")","v":{"$error":"#NAME?"}},{"$f":"IF(Q478<>0,[1]!SUMSTRING(Q478:R478,\"#\"),\"\")","v":{"$error":"#NAME?"}},{"$f":"[1]!SUMSTRING(S478:U478,\"|\")","v":{"$error":"#NAME?"}},3,56,1000,{"$f":"IF(W478<>0,[1]!SUMSTRING(W478:Y478,\"#\"),\"\")","v":{"$error":"#NAME?"}}]
[18,6024,"攻击",370,"异妖减伤",450,"异妖增伤",450,{"$nulls":4},2,370,59,450,66,450,{"$f":"[1]!SUMSTRING(M479:N479,\"#\")","v":{"$error":"#NAME?"}},{"$f":"[1]!SUMSTRING(O479:P479,\"#\")","v":{"$error":"#NAME?"}},{"$f":"IF(Q479<>0,[1]!SUMSTRING(Q479:R479,\"#\"),\"\")","v":{"$error":"#NAME?"}},{"$f":"[1]!SUMSTRING(S479:U479,\"|\")","v":{"$error":"#NAME?"}},"","","",{"$f":"IF(W479<>0,[1]!SUMSTRING(W479:Y479,\"#\"),\"\")","v":{"$error":"#NAME?"}}]
[19,6024,"攻击",391,"异妖减伤",475,"异妖增伤",475,{"$nulls":4},2,391,59,475,66,475,{"$f":"[1]!SUMSTRING(M480:N480,\"#\")","v":{"$error":"#NAME?"}},{"$f":"[1]!SUMSTRING(O480:P480,\"#\")","v":{"$error":"#NAME?"}},{"$f":"IF(Q480<>0,[1]!SUMSTRING(Q480:R480,\"#\"),\"\")","v":{"$error":"#NAME?"}},{"$f":"[1]!SUMSTRING(S480:U480,\"|\")","v":{"$error":"#NAME?"}},"","","",{"$f":"IF(W480<>0,[1]!SUMSTRING(W480:Y480,\"#\"),\"\")","v":{"$error":"#NAME?"}}]
[20,6024,"攻击",411,"异妖减伤",500,"异妖增伤",500,"天罚","暴伤",1000,null,2,411,59,500,66,500,{"$f":"[1]!SUMSTRING(M481:N481,\"#\")","v":{"$error":"#NAME?"}},{"$f":"[1]!SUMSTRING(O481:P481,\"#\")","v":{"$error":"#NAME?"}},{"$f":"IF(Q481<>0,[1]!SUMSTRING(Q481:R481,\"#\"),\"\")","v":{"$error":"#NAME?"}},{"$f":"[1]!SUMSTRING(S481:U481,\"|\")","v":{"$error":"#NAME?"}},2,56,1000,{"$f":"IF(W481<>0,[1]!SUMSTRING(W481:Y481,\"#\"),\"\")","v":{"$error":"#NAME?"}}]
[1,6025,"生命",47,"攻击",20,"异妖增伤",25,{"$nulls":4},1,47,2,20,66,25,{"$f":"[1]!SUMSTRING(M482:N482,\"#\")","v":{"$error":"#NAME?"}},{"$f":"[1]!SUMSTRING(O482:P482,\"#\")","v":{"$error":"#NAME?"}},{"$f":"IF(Q482<>0,[1]!SUMSTRING(Q482:R482,\"#\"),\"\")","v":{"$error":"#NAME?"}},{"$f":"[1]!SUMSTRING(S482:U482,\"|\")","v":{"$error":"#NAME?"}},"","","",{"$f":"IF(W482<>0,[1]!SUMSTRING(W482:Y482,\"#\"),\"\")","v":{"$error":"#NAME?"}}]
[2,6025,"生命",119,"攻击",41,"异妖增伤",50,"武卫","火焰抗性",2000,null,1,119,2,41,66,50,{"$f":"[1]!SUMSTRING(M483:N483,\"#\")","v":{"$error":"#NAME?"}},{"$f":"[1]!SUMSTRING(O483:P483,\"#\")","v":{"$error":"#NAME?"}},{"$f":"IF(Q483<>0,[1]!SUMSTRING(Q483:R483,\"#\"),\"\")","v":{"$error":"#NAME?"}},{"$f":"[1]!SUMSTRING(S483:U483,\"|\")","v":{"$error":"#NAME?"}},1,107,2000,{"$f":"IF(W483<>0,[1]!SUMSTRING(W483:Y483,\"#\"),\"\")","v":{"$error":"#NAME?"}}]
[3,6025,"生命",214,"攻击",61,"异妖增伤",75,{"$nulls":4},1,214,2,61,66,75,{"$f":"[1]!SUMSTRING(M484:N484,\"#\")","v":{"$error":"#NAME?"}},{"$f":"[1]!SUMSTRING(O484:P484,\"#\")","v":{"$error":"#NAME?"}},{"$f":"IF(Q484<>0,[1]!SUMSTRING(Q484:R484,\"#\"),\"\")","v":{"$error":"#NAME?"}},{"$f":"[1]!SUMSTRING(S484:U484,\"|\")","v":{"$error":"#NAME?"}},"","","",{"$f":"IF(W484<>0,[1]!SUMSTRING(W484:Y484,\"#\"),\"\")","v":{"$error":"#NAME?"}}]
[4,6025,"生命",334,"攻击",82,"异妖增伤",100,{"$nulls":4},1,334,2,82,66,100,{"$f":"[1]!SUMSTRING(M485:N485,\"#\")","v":{"$error":"#NAME?"}},{"$f":"[1]!SUMSTRING(O485:P485,\"#\")","v":{"$error":"#NAME?"}},{"$f":"IF(Q485<>0,[1]!SUMSTRING(Q485:R485,\"#\"),\"\")","v":{"$error":"#NAME?"}},{"$f":"[1]!SUMSTRING(S485:U485,\"|\")","v":{"$error":"#NAME?"}},"","","",{"$f":"IF(W485<>0,[1]!SUMSTRING(W485:Y485,\"#\"),\"\")","v":{"$error":"#NAME?"}}]
[5,6025,"生命",477,"攻击",102,"异妖增伤",125,"生花","火焰抗性",2000,null,1,477,2,102,66,125,{"$f":"[1]!SUMSTRING(M486:N486,\"#\")","v":{"$error":"#NAME?"}},{"$f":"[1]!SUMSTRING(O486:P486,\"#\")","v":{"$error":"#NAME?"}},{"$f":"IF(Q486<>0,[1]!SUMSTRING(Q486:R486,\"#\"),\"\")","v":{"$error":"#NAME?"}},{"$f":"[1]!SUMSTRING(S486:U486,\"|\")","v":{"$error":"#NAME?"}},5,107,2000,{"$f":"IF(W486<>0,[1]!SUMSTRING(W486:Y486,\"#\"),\"\")","v":{"$error":"#NAME?"}}]
[6,6025,"生命",644,"攻击",123,"异妖增伤",150,{"$nulls":4},1,644,2,123,66,150,{"$f":"[1]!SUMSTRING(M487:N487,\"#\")","v":{"$error":"#NAME?"}},{"$f":"[1]!SUMSTRING(O487:P487,\"#\")","v":{"$error":"#NAME?"}},{"$f":"IF(Q487<>0,[1]!SUMSTRING(Q487:R487,\"#\"),\"\")","v":{"$error":"#NAME?"}},{"$f":"[1]!SUMSTRING(S487:U487,\"|\")","v":{"$error":"#NAME?"}},"","","",{"$f":"IF(W487<>0,[1]!SUMSTRING(W487:Y487,\"#\"),\"\")","v":{"$error":"#NAME?"}}]
[7,6025,"生命",835,"攻击",144,"异妖增伤",175,{"$nulls":4},1,835,2,144,66,175,{"$f":"[1]!SUMSTRING(M488:N488,\"#\")","v":{"$error":"#NAME?"}},{"$f":"[1]!SUMSTRING(O488:P488,\"#\")","v":{"$error":"#NAME?"}},{"$f":"IF(Q488<>0,[1]!SUMSTRING(Q488:R488,\"#\"),\"\")","v":{"$error":"#NAME?"}},{"$f":"[1]!SUMSTRING(S488:U488,\"|\")","v":{"$error":"#NAME?"}},"","","",{"$f":"IF(W488<>0,[1]!SUMSTRING(W488:Y488,\"#\"),\"\")","v":{"$error":"#NAME?"}}]
[8,6025,"生命",1050,"攻击",164,"异妖增伤",200,"秘法","火焰抗性",2000,null,1,1050,2,164,66,200,{"$f":"[1]!SUMSTRING(M489:N489,\"#\")","v":{"$error":"#NAME?"}},{"$f":"[1]!SUMSTRING(O489:P489,\"#\")","v":{"$error":"#NAME?"}},{"$f":"IF(Q489<>0,[1]!SUMSTRING(Q489:R489,\"#\"),\"\")","v":{"$error":"#NAME?"}},{"$f":"[1]!SUMSTRING(S489:U489,\"|\")","v":{"$error":"#NAME?"}},3,107,2000,{"$f":"IF(W489<>0,[1]!SUMSTRING(W489:Y489,\"#\"),\"\")","v":{"$error":"#NAME?"}}]
[9,6025,"生命",1289,"攻击",185,"异妖增伤",225,{"$nulls":4},1,1289,2,185,66,225,{"$f":"[1]!SUMSTRING(M490:N490,\"#\")","v":{"$error":"#NAME?"}},{"$f":"[1]!SUMSTRING(O490:P490,\"#\")","v":{"$error":"#NAME?"}},{"$f":"IF(Q490<>0,[1]!SUMSTRING(Q490:R490,\"#\"),\"\")","v":{"$error":"#NAME?"}},{"$f":"[1]!SUMSTRING(S490:U490,\"|\")","v":{"$error":"#NAME?"}},"","","",{"$f":"IF(W490<>0,[1]!SUMSTRING(W490:Y490,\"#\"),\"\")","v":{"$error":"#NAME?"}}]
[10,6025,"生命",1551,"攻击",205,"异妖增伤",250,{"$nulls":4},1,1551,2,205,66,250,{"$f":"[1]!SUMSTRING(M491:N491,\"#\")","v":{"$error":"#NAME?"}},{"$f":"[1]!SUMSTRING(O491:P491,\"#\")","v":{"$error":"#NAME?"}},{"$f":"IF(Q491<>0,[1]!SUMSTRING(Q491:R491,\"#\"),\"\")","v":{"$error":"#NAME?"}},{"$f":"[1]!SUMSTRING(S491:U491,\"|\")","v":{"$error":"#NAME?"}},"","","",{"$f":"IF(W491<>0,[1]!SUMSTRING(W491:Y491,\"#\"),\"\")","v":{"$error":"#NAME?"}}]
[11,6025,"生命",1838,"攻击",226,"异妖增伤",275,"玄策","火焰抗性",2000,null,1,1838,2,226,66,275,{"$f":"[1]!SUMSTRING(M492:N492,\"#\")","v":{"$error":"#NAME?"}},{"$f":"[1]!SUMSTRING(O492:P492,\"#\")","v":{"$error":"#NAME?"}},{"$f":"IF(Q492<>0,[1]!SUMSTRING(Q492:R492,\"#\"),\"\")","v":{"$error":"#NAME?"}},{"$f":"[1]!SUMSTRING(S492:U492,\"|\")","v":{"$error":"#NAME?"}},4,107,2000,{"$f":"IF(W492<>0,[1]!SUMSTRING(W492:Y492,\"#\"),\"\")","v":{"$error":"#NAME?"}}]
[12,6025,"生命",2148,"攻击",247,"异妖增伤",300,{"$nulls":4},1,2148,2,247,66,300,{"$f":"[1]!SUMSTRING(M493:N493,\"#\")","v":{"$error":"#NAME?"}},{"$f":"[1]!SUMSTRING(O493:P493,\"#\")","v":{"$error":"#NAME?"}},{"$f":"IF(Q493<>0,[1]!SUMSTRING(Q493:R493,\"#\"),\"\")","v":{"$error":"#NAME?"}},{"$f":"[1]!SUMSTRING(S493:U493,\"|\")","v":{"$error":"#NAME?"}},"","","",{"$f":"IF(W493<>0,[1]!SUMSTRING(W493:Y493,\"#\"),\"\")","v":{"$error":"#NAME?"}}]
[13,6025,"生命",2482,"攻击",267,"异妖增伤",325,{"$nulls":4},1,2482,2,267,66,325,{"$f":"[1]!SUMSTRING(M494:N494,\"#\")","v":{"$error":"#NAME?"}},{"$f":"[1]!SUMSTRING(O494:P494,\"#\")","v":{"$error":"#NAME?"}},{"$f":"IF(Q494<>0,[1]!SUMSTRING(Q494:R494,\"#\"),\"\")","v":{"$error":"#NAME?"}},{"$f":"[1]!SUMSTRING(S494:U494,\"|\")","v":{"$error":"#NAME?"}},"","","",{"$f":"IF(W494<>0,[1]!SUMSTRING(W494:Y494,\"#\"),\"\")","v":{"$error":"#NAME?"}}]
[14,6025,"生命",2840,"攻击",288,"异妖增伤",350,"天罚","火焰抗性",2000,null,1,2840,2,288,66,350,{"$f":"[1]!SUMSTRING(M495:N495,\"#\")","v":{"$error":"#NAME?"}},{"$f":"[1]!SUMSTRING(O495:P495,\"#\")","v":{"$error":"#NAME?"}},{"$f":"IF(Q495<>0,[1]!SUMSTRING(Q495:R495,\"#\"),\"\")","v":{"$error":"#NAME?"}},{"$f":"[1]!SUMSTRING(S495:U495,\"|\")","v":{"$error":"#NAME?"}},2,107,2000,{"$f":"IF(W495<>0,[1]!SUMSTRING(W495:Y495,\"#\"),\"\")","v":{"$error":"#NAME?"}}]
[15,6025,"生命",3222,"攻击",308,"异妖增伤",375,{"$nulls":4},1,3222,2,308,66,375,{"$f":"[1]!SUMSTRING(M496:N496,\"#\")","v":{"$error":"#NAME?"}},{"$f":"[1]!SUMSTRING(O496:P496,\"#\")","v":{"$error":"#NAME?"}},{"$f":"IF(Q496<>0,[1]!SUMSTRING(Q496:R496,\"#\"),\"\")","v":{"$error":"#NAME?"}},{"$f":"[1]!SUMSTRING(S496:U496,\"|\")","v":{"$error":"#NAME?"}},"","","",{"$f":"IF(W496<>0,[1]!SUMSTRING(W496:Y496,\"#\"),\"\")","v":{"$error":"#NAME?"}}]
[16,6025,"生命",3628,"攻击",329,"异妖增伤",400,{"$nulls":4},1,3628,2,329,66,400,{"$f":"[1]!SUMSTRING(M497:N497,\"#\")","v":{"$error":"#NAME?"}},{"$f":"[1]!SUMSTRING(O497:P497,\"#\")","v":{"$error":"#NAME?"}},{"$f":"IF(Q497<>0,[1]!SUMSTRING(Q497:R497,\"#\"),\"\")","v":{"$error":"#NAME?"}},{"$f":"[1]!SUMSTRING(S497:U497,\"|\")","v":{"$error":"#NAME?"}},"","","",{"$f":"IF(W497<>0,[1]!SUMSTRING(W497:Y497,\"#\"),\"\")","v":{"$error":"#NAME?"}}]
[17,6025,"生命",4057,"攻击",350,"异妖增伤",425,"武卫","火焰抗性",1000,null,1,4057,2,350,66,425,{"$f":"[1]!SUMSTRING(M498:N498,\"#\")","v":{"$error":"#NAME?"}},{"$f":"[1]!SUMSTRING(O498:P498,\"#\")","v":{"$error":"#NAME?"}},{"$f":"IF(Q498<>0,[1]!SUMSTRING(Q498:R498,\"#\"),\"\")","v":{"$error":"#NAME?"}},{"$f":"[1]!SUMSTRING(S498:U498,\"|\")","v":{"$error":"#NAME?"}},1,107,1000,{"$f":"IF(W498<>0,[1]!SUMSTRING(W498:Y498,\"#\"),\"\")","v":{"$error":"#NAME?"}}]
[18,6025,"生命",4511,"攻击",370,"异妖增伤",450,{"$nulls":4},1,4511,2,370,66,450,{"$f":"[1]!SUMSTRING(M499:N499,\"#\")","v":{"$error":"#NAME?"}},{"$f":"[1]!SUMSTRING(O499:P499,\"#\")","v":{"$error":"#NAME?"}},{"$f":"IF(Q499<>0,[1]!SUMSTRING(Q499:R499,\"#\"),\"\")","v":{"$error":"#NAME?"}},{"$f":"[1]!SUMSTRING(S499:U499,\"|\")","v":{"$error":"#NAME?"}},"","","",{"$f":"IF(W499<>0,[1]!SUMSTRING(W499:Y499,\"#\"),\"\")","v":{"$error":"#NAME?"}}]
[19,6025,"生命",4988,"攻击",391,"异妖增伤",475,{"$nulls":4},1,4988,2,391,66,475,{"$f":"[1]!SUMSTRING(M500:N500,\"#\")","v":{"$error":"#NAME?"}},{"$f":"[1]!SUMSTRING(O500:P500,\"#\")","v":{"$error":"#NAME?"}},{"$f":"IF(Q500<>0,[1]!SUMSTRING(Q500:R500,\"#\"),\"\")","v":{"$error":"#NAME?"}},{"$f":"[1]!SUMSTRING(S500:U500,\"|\")","v":{"$error":"#NAME?"}},"","","",{"$f":"IF(W500<>0,[1]!SUMSTRING(W500:Y500,\"#\"),\"\")","v":{"$error":"#NAME?"}}]
[20,6025,"生命",5490,"攻击",411,"异妖增伤",500,"生花","火焰抗性",1000,null,1,5490,2,411,66,500,{"$f":"[1]!SUMSTRING(M501:N501,\"#\")","v":{"$error":"#NAME?"}},{"$f":"[1]!SUMSTRING(O501:P501,\"#\")","v":{"$error":"#NAME?"}},{"$f":"IF(Q501<>0,[1]!SUMSTRING(Q501:R501,\"#\"),\"\")","v":{"$error":"#NAME?"}},{"$f":"[1]!SUMSTRING(S501:U501,\"|\")","v":{"$error":"#NAME?"}},5,107,1000,{"$f":"IF(W501<>0,[1]!SUMSTRING(W501:Y501,\"#\"),\"\")","v":{"$error":"#NAME?"}}]
[1,6026,"生命",47,"护甲",40,"异妖减伤",25,{"$nulls":4},1,47,3,40,59,25,{"$f":"[1]!SUMSTRING(M502:N502,\"#\")","v":{"$error":"#NAME?"}},{"$f":"[1]!SUMSTRING(O502:P502,\"#\")","v":{"$error":"#NAME?"}},{"$f":"IF(Q502<>0,[1]!SUMSTRING(Q502:R502,\"#\"),\"\")","v":{"$error":"#NAME?"}},{"$f":"[1]!SUMSTRING(S502:U502,\"|\")","v":{"$error":"#NAME?"}},"","","",{"$f":"IF(W502<>0,[1]!SUMSTRING(W502:Y502,\"#\"),\"\")","v":{"$error":"#NAME?"}}]
[2,6026,"生命",119,"护甲",82,"异妖减伤",50,"武卫","狂风抗性",2000,null,1,119,3,82,59,50,{"$f":"[1]!SUMSTRING(M503:N503,\"#\")","v":{"$error":"#NAME?"}},{"$f":"[1]!SUMSTRING(O503:P503,\"#\")","v":{"$error":"#NAME?"}},{"$f":"IF(Q503<>0,[1]!SUMSTRING(Q503:R503,\"#\"),\"\")","v":{"$error":"#NAME?"}},{"$f":"[1]!SUMSTRING(S503:U503,\"|\")","v":{"$error":"#NAME?"}},1,108,2000,{"$f":"IF(W503<>0,[1]!SUMSTRING(W503:Y503,\"#\"),\"\")","v":{"$error":"#NAME?"}}]
[3,6026,"生命",214,"护甲",122,"异妖减伤",75,{"$nulls":4},1,214,3,122,59,75,{"$f":"[1]!SUMSTRING(M504:N504,\"#\")","v":{"$error":"#NAME?"}},{"$f":"[1]!SUMSTRING(O504:P504,\"#\")","v":{"$error":"#NAME?"}},{"$f":"IF(Q504<>0,[1]!SUMSTRING(Q504:R504,\"#\"),\"\")","v":{"$error":"#NAME?"}},{"$f":"[1]!SUMSTRING(S504:U504,\"|\")","v":{"$error":"#NAME?"}},"","","",{"$f":"IF(W504<>0,[1]!SUMSTRING(W504:Y504,\"#\"),\"\")","v":{"$error":"#NAME?"}}]
[4,6026,"生命",334,"护甲",164,"异妖减伤",100,{"$nulls":4},1,334,3,164,59,100,{"$f":"[1]!SUMSTRING(M505:N505,\"#\")","v":{"$error":"#NAME?"}},{"$f":"[1]!SUMSTRING(O505:P505,\"#\")","v":{"$error":"#NAME?"}},{"$f":"IF(Q505<>0,[1]!SUMSTRING(Q505:R505,\"#\"),\"\")","v":{"$error":"#NAME?"}},{"$f":"[1]!SUMSTRING(S505:U505,\"|\")","v":{"$error":"#NAME?"}},"","","",{"$f":"IF(W505<>0,[1]!SUMSTRING(W505:Y505,\"#\"),\"\")","v":{"$error":"#NAME?"}}]
[5,6026,"生命",477,"护甲",204,"异妖减伤",125,"生花","狂风抗性",2000,null,1,477,3,204,59,125,{"$f":"[1]!SUMSTRING(M506:N506,\"#\")","v":{"$error":"#NAME?"}},{"$f":"[1]!SUMSTRING(O506:P506,\"#\")","v":{"$error":"#NAME?"}},{"$f":"IF(Q506<>0,[1]!SUMSTRING(Q506:R506,\"#\"),\"\")","v":{"$error":"#NAME?"}},{"$f":"[1]!SUMSTRING(S506:U506,\"|\")","v":{"$error":"#NAME?"}},5,108,2000,{"$f":"IF(W506<>0,[1]!SUMSTRING(W506:Y506,\"#\"),\"\")","v":{"$error":"#NAME?"}}]
[6,6026,"生命",644,"护甲",246,"异妖减伤",150,{"$nulls":4},1,644,3,246,59,150,{"$f":"[1]!SUMSTRING(M507:N507,\"#\")","v":{"$error":"#NAME?"}},{"$f":"[1]!SUMSTRING(O507:P507,\"#\")","v":{"$error":"#NAME?"}},{"$f":"IF(Q507<>0,[1]!SUMSTRING(Q507:R507,\"#\"),\"\")","v":{"$error":"#NAME?"}},{"$f":"[1]!SUMSTRING(S507:U507,\"|\")","v":{"$error":"#NAME?"}},"","","",{"$f":"IF(W507<>0,[1]!SUMSTRING(W507:Y507,\"#\"),\"\")","v":{"$error":"#NAME?"}}]
[7,6026,"生命",835,"护甲",288,"异妖减伤",175,{"$nulls":4},1,835,3,288,59,175,{"$f":"[1]!SUMSTRING(M508:N508,\"#\")","v":{"$error":"#NAME?"}},{"$f":"[1]!SUMSTRING(O508:P508,\"#\")","v":{"$error":"#NAME?"}},{"$f":"IF(Q508<>0,[1]!SUMSTRING(Q508:R508,\"#\"),\"\")","v":{"$error":"#NAME?"}},{"$f":"[1]!SUMSTRING(S508:U508,\"|\")","v":{"$error":"#NAME?"}},"","","",{"$f":"IF(W508<>0,[1]!SUMSTRING(W508:Y508,\"#\"),\"\")","v":{"$error":"#NAME?"}}]
[8,6026,"生命",1050,"护甲",328,"异妖减伤",200,"秘法","狂风抗性",2000,null,1,1050,3,328,59,200,{"$f":"[1]!SUMSTRING(M509:N509,\"#\")","v":{"$error":"#NAME?"}},{"$f":"[1]!SUMSTRING(O509:P509,\"#\")","v":{"$error":"#NAME?"}},{"$f":"IF(Q509<>0,[1]!SUMSTRING(Q509:R509,\"#\"),\"\")","v":{"$error":"#NAME?"}},{"$f":"[1]!SUMSTRING(S509:U509,\"|\")","v":{"$error":"#NAME?"}},3,108,2000,{"$f":"IF(W509<>0,[1]!SUMSTRING(W509:Y509,\"#\"),\"\")","v":{"$error":"#NAME?"}}]
[9,6026,"生命",1289,"护甲",370,"异妖减伤",225,{"$nulls":4},1,1289,3,370,59,225,{"$f":"[1]!SUMSTRING(M510:N510,\"#\")","v":{"$error":"#NAME?"}},{"$f":"[1]!SUMSTRING(O510:P510,\"#\")","v":{"$error":"#NAME?"}},{"$f":"IF(Q510<>0,[1]!SUMSTRING(Q510:R510,\"#\"),\"\")","v":{"$error":"#NAME?"}},{"$f":"[1]!SUMSTRING(S510:U510,\"|\")","v":{"$error":"#NAME?"}},"","","",{"$f":"IF(W510<>0,[1]!SUMSTRING(W510:Y510,\"#\"),\"\")","v":{"$error":"#NAME?"}}]
[10,6026,"生命",1551,"护甲",410,"异妖减伤",250,{"$nulls":4},1,1551,3,410,59,250,{"$f":"[1]!SUMSTRING(M511:N511,\"#\")","v":{"$error":"#NAME?"}},{"$f":"[1]!SUMSTRING(O511:P511,\"#\")","v":{"$error":"#NAME?"}},{"$f":"IF(Q511<>0,[1]!SUMSTRING(Q511:R511,\"#\"),\"\")","v":{"$error":"#NAME?"}},{"$f":"[1]!SUMSTRING(S511:U511,\"|\")","v":{"$error":"#NAME?"}},"","","",{"$f":"IF(W511<>0,[1]!SUMSTRING(W511:Y511,\"#\"),\"\")","v":{"$error":"#NAME?"}}]
[11,6026,"生命",1838,"护甲",452,"异妖减伤",275,"玄策","狂风抗性",2000,null,1,1838,3,452,59,275,{"$f":"[1]!SUMSTRING(M512:N512,\"#\")","v":{"$error":"#NAME?"}},{"$f":"[1]!SUMSTRING(O512:P512,\"#\")","v":{"$error":"#NAME?"}},{"$f":"IF(Q512<>0,[1]!SUMSTRING(Q512:R512,\"#\"),\"\")","v":{"$error":"#NAME?"}},{"$f":"[1]!SUMSTRING(S512:U512,\"|\")","v":{"$error":"#NAME?"}},4,108,2000,{"$f":"IF(W512<>0,[1]!SUMSTRING(W512:Y512,\"#\"),\"\")","v":{"$error":"#NAME?"}}]
[12,6026,"生命",2148,"护甲",494,"异妖减伤",300,{"$nulls":4},1,2148,3,494,59,300,{"$f":"[1]!SUMSTRING(M513:N513,\"#\")","v":{"$error":"#NAME?"}},{"$f":"[1]!SUMSTRING(O513:P513,\"#\")","v":{"$error":"#NAME?"}},{"$f":"IF(Q513<>0,[1]!SUMSTRING(Q513:R513,\"#\"),\"\")","v":{"$error":"#NAME?"}},{"$f":"[1]!SUMSTRING(S513:U513,\"|\")","v":{"$error":"#NAME?"}},"","","",{"$f":"IF(W513<>0,[1]!SUMSTRING(W513:Y513,\"#\"),\"\")","v":{"$error":"#NAME?"}}]
[13,6026,"生命",2482,"护甲",534,"异妖减伤",325,{"$nulls":4},1,2482,3,534,59,325,{"$f":"[1]!SUMSTRING(M514:N514,\"#\")","v":{"$error":"#NAME?"}},{"$f":"[1]!SUMSTRING(O514:P514,\"#\")","v":{"$error":"#NAME?"}},{"$f":"IF(Q514<>0,[1]!SUMSTRING(Q514:R514,\"#\"),\"\")","v":{"$error":"#NAME?"}},{"$f":"[1]!SUMSTRING(S514:U514,\"|\")","v":{"$error":"#NAME?"}},"","","",{"$f":"IF(W514<>0,[1]!SUMSTRING(W514:Y514,\"#\"),\"\")","v":{"$error":"#NAME?"}}]
[14,6026,"生命",2840,"护甲",576,"异妖减伤",350,"天罚","狂风抗性",2000,null,{"$f":"VLOOKUP(C515,$AB:$AC,2,0)","v":1},{"$f":"D515","v":2840},{"$f":"VLOOKUP(E515,$AB:$AC,2,0)","v":3},{"$f":"F515","v":576},{"$f":"IF(G515<>0,VLOOKUP(G515,$AB:$AC,2,0),\"\")","v":59},{"$f":"IF(H515<>0,H515,\"\")","v":350},{"$f":"[1]!SUMSTRING(M515:N515,\"#\")","v":{"$error":"#NAME?"}},{"$f":"[1]!SUMSTRING(O515:P515,\"#\")","v":{"$error":"#NAME?"}},{"$f":"IF(Q515<>0,[1]!SUMSTRING(Q515:R515,\"#\"),\"\")","v":{"$error":"#NAME?"}},{"$f":"[1]!SUMSTRING(S515:U515,\"|\")","v":{"$error":"#NAME?"}},2,{"$f":"IF(J515<>0,VLOOKUP(J515,$AB:$AC,2,0),\"\")","v":108},{"$f":"IF(K515<>0,K515,\"\")","v":2000},{"$f":"IF(W515<>0,[1]!SUMSTRING(W515:Y515,\"#\"),\"\")","v":{"$error":"#NAME?"}}]
[15,6026,"生命",3222,"护甲",616,"异妖减伤",375,{"$nulls":4},1,3222,3,616,59,375,{"$f":"[1]!SUMSTRING(M516:N516,\"#\")","v":{"$error":"#NAME?"}},{"$f":"[1]!SUMSTRING(O516:P516,\"#\")","v":{"$error":"#NAME?"}},{"$f":"IF(Q516<>0,[1]!SUMSTRING(Q516:R516,\"#\"),\"\")","v":{"$error":"#NAME?"}},{"$f":"[1]!SUMSTRING(S516:U516,\"|\")","v":{"$error":"#NAME?"}},{"$f":"IF(I516<>0,VLOOKUP(I516,$AG$3:$AH$7,2,0),\"\")","v":""},"","",{"$f":"IF(W516<>0,[1]!SUMSTRING(W516:Y516,\"#\"),\"\")","v":{"$error":"#NAME?"}}]
[16,6026,"生命",3628,"护甲",658,"异妖减伤",400,{"$nulls":4},1,3628,3,658,59,400,{"$f":"[1]!SUMSTRING(M517:N517,\"#\")","v":{"$error":"#NAME?"}},{"$f":"[1]!SUMSTRING(O517:P517,\"#\")","v":{"$error":"#NAME?"}},{"$f":"IF(Q517<>0,[1]!SUMSTRING(Q517:R517,\"#\"),\"\")","v":{"$error":"#NAME?"}},{"$f":"[1]!SUMSTRING(S517:U517,\"|\")","v":{"$error":"#NAME?"}},"","","",{"$f":"IF(W517<>0,[1]!SUMSTRING(W517:Y517,\"#\"),\"\")","v":{"$error":"#NAME?"}}]
[17,6026,"生命",4057,"护甲",700,"异妖减伤",425,"武卫","狂风抗性",1000,null,1,4057,3,700,59,425,{"$f":"[1]!SUMSTRING(M518:N518,\"#\")","v":{"$error":"#NAME?"}},{"$f":"[1]!SUMSTRING(O518:P518,\"#\")","v":{"$error":"#NAME?"}},{"$f":"IF(Q518<>0,[1]!SUMSTRING(Q518:R518,\"#\"),\"\")","v":{"$error":"#NAME?"}},{"$f":"[1]!SUMSTRING(S518:U518,\"|\")","v":{"$error":"#NAME?"}},1,108,1000,{"$f":"IF(W518<>0,[1]!SUMSTRING(W518:Y518,\"#\"),\"\")","v":{"$error":"#NAME?"}}]
[18,6026,"生命",4511,"护甲",740,"异妖减伤",450,{"$nulls":4},1,4511,3,740,59,450,{"$f":"[1]!SUMSTRING(M519:N519,\"#\")","v":{"$error":"#NAME?"}},{"$f":"[1]!SUMSTRING(O519:P519,\"#\")","v":{"$error":"#NAME?"}},{"$f":"IF(Q519<>0,[1]!SUMSTRING(Q519:R519,\"#\"),\"\")","v":{"$error":"#NAME?"}},{"$f":"[1]!SUMSTRING(S519:U519,\"|\")","v":{"$error":"#NAME?"}},"","","",{"$f":"IF(W519<>0,[1]!SUMSTRING(W519:Y519,\"#\"),\"\")","v":{"$error":"#NAME?"}}]
[19,6026,"生命",4988,"护甲",782,"异妖减伤",475,{"$nulls":4},1,4988,3,782,59,475,{"$f":"[1]!SUMSTRING(M520:N520,\"#\")","v":{"$error":"#NAME?"}},{"$f":"[1]!SUMSTRING(O520:P520,\"#\")","v":{"$error":"#NAME?"}},{"$f":"IF(Q520<>0,[1]!SUMSTRING(Q520:R520,\"#\"),\"\")","v":{"$error":"#NAME?"}},{"$f":"[1]!SUMSTRING(S520:U520,\"|\")","v":{"$error":"#NAME?"}},"","","",{"$f":"IF(W520<>0,[1]!SUMSTRING(W520:Y520,\"#\"),\"\")","v":{"$error":"#NAME?"}}]
[20,6026,"生命",5490,"护甲",822,"异妖减伤",500,"生花","狂风抗性",1000,null,1,5490,3,822,59,500,{"$f":"[1]!SUMSTRING(M521:N521,\"#\")","v":{"$error":"#NAME?"}},{"$f":"[1]!SUMSTRING(O521:P521,\"#\")","v":{"$error":"#NAME?"}},{"$f":"IF(Q521<>0,[1]!SUMSTRING(Q521:R521,\"#\"),\"\")","v":{"$error":"#NAME?"}},{"$f":"[1]!SUMSTRING(S521:U521,\"|\")","v":{"$error":"#NAME?"}},5,108,1000,{"$f":"IF(W521<>0,[1]!SUMSTRING(W521:Y521,\"#\"),\"\")","v":{"$error":"#NAME?"}}]
[1,6027,"生命",47,"魔抗",40,"异妖减伤",25,{"$nulls":4},1,47,4,40,59,25,{"$f":"[1]!SUMSTRING(M522:N522,\"#\")","v":{"$error":"#NAME?"}},{"$f":"[1]!SUMSTRING(O522:P522,\"#\")","v":{"$error":"#NAME?"}},{"$f":"IF(Q522<>0,[1]!SUMSTRING(Q522:R522,\"#\"),\"\")","v":{"$error":"#NAME?"}},{"$f":"[1]!SUMSTRING(S522:U522,\"|\")","v":{"$error":"#NAME?"}},"","","",{"$f":"IF(W522<>0,[1]!SUMSTRING(W522:Y522,\"#\"),\"\")","v":{"$error":"#NAME?"}}]
[2,6027,"生命",119,"魔抗",82,"异妖减伤",50,"武卫","碧水抗性",2000,null,1,119,4,82,59,50,{"$f":"[1]!SUMSTRING(M523:N523,\"#\")","v":{"$error":"#NAME?"}},{"$f":"[1]!SUMSTRING(O523:P523,\"#\")","v":{"$error":"#NAME?"}},{"$f":"IF(Q523<>0,[1]!SUMSTRING(Q523:R523,\"#\"),\"\")","v":{"$error":"#NAME?"}},{"$f":"[1]!SUMSTRING(S523:U523,\"|\")","v":{"$error":"#NAME?"}},1,109,2000,{"$f":"IF(W523<>0,[1]!SUMSTRING(W523:Y523,\"#\"),\"\")","v":{"$error":"#NAME?"}}]
[3,6027,"生命",214,"魔抗",122,"异妖减伤",75,{"$nulls":4},1,214,4,122,59,75,{"$f":"[1]!SUMSTRING(M524:N524,\"#\")","v":{"$error":"#NAME?"}},{"$f":"[1]!SUMSTRING(O524:P524,\"#\")","v":{"$error":"#NAME?"}},{"$f":"IF(Q524<>0,[1]!SUMSTRING(Q524:R524,\"#\"),\"\")","v":{"$error":"#NAME?"}},{"$f":"[1]!SUMSTRING(S524:U524,\"|\")","v":{"$error":"#NAME?"}},"","","",{"$f":"IF(W524<>0,[1]!SUMSTRING(W524:Y524,\"#\"),\"\")","v":{"$error":"#NAME?"}}]
[4,6027,"生命",334,"魔抗",164,"异妖减伤",100,{"$nulls":4},1,334,4,164,59,100,{"$f":"[1]!SUMSTRING(M525:N525,\"#\")","v":{"$error":"#NAME?"}},{"$f":"[1]!SUMSTRING(O525:P525,\"#\")","v":{"$error":"#NAME?"}},{"$f":"IF(Q525<>0,[1]!SUMSTRING(Q525:R525,\"#\"),\"\")","v":{"$error":"#NAME?"}},{"$f":"[1]!SUMSTRING(S525:U525,\"|\")","v":{"$error":"#NAME?"}},"","","",{"$f":"IF(W525<>0,[1]!SUMSTRING(W525:Y525,\"#\"),\"\")","v":{"$error":"#NAME?"}}]
[5,6027,"生命",477,"魔抗",204,"异妖减伤",125,"生花","碧水抗性",2000,null,1,477,4,204,59,125,{"$f":"[1]!SUMSTRING(M526:N526,\"#\")","v":{"$error":"#NAME?"}},{"$f":"[1]!SUMSTRING(O526:P526,\"#\")","v":{"$error":"#NAME?"}},{"$f":"IF(Q526<>0,[1]!SUMSTRING(Q526:R526,\"#\"),\"\")","v":{"$error":"#NAME?"}},{"$f":"[1]!SUMSTRING(S526:U526,\"|\")","v":{"$error":"#NAME?"}},5,109,2000,{"$f":"IF(W526<>0,[1]!SUMSTRING(W526:Y526,\"#\"),\"\")","v":{"$error":"#NAME?"}}]
[6,6027,"生命",644,"魔抗",246,"异妖减伤",150,{"$nulls":4},1,644,4,246,59,150,{"$f":"[1]!SUMSTRING(M527:N527,\"#\")","v":{"$error":"#NAME?"}},{"$f":"[1]!SUMSTRING(O527:P527,\"#\")","v":{"$error":"#NAME?"}},{"$f":"IF(Q527<>0,[1]!SUMSTRING(Q527:R527,\"#\"),\"\")","v":{"$error":"#NAME?"}},{"$f":"[1]!SUMSTRING(S527:U527,\"|\")","v":{"$error":"#NAME?"}},"","","",{"$f":"IF(W527<>0,[1]!SUMSTRING(W527:Y527,\"#\"),\"\")","v":{"$error":"#NAME?"}}]
[7,6027,"生命",835,"魔抗",288,"异妖减伤",175,{"$nulls":4},1,835,4,288,59,175,{"$f":"[1]!SUMSTRING(M528:N528,\"#\")","v":{"$error":"#NAME?"}},{"$f":"[1]!SUMSTRING(O528:P528,\"#\")","v":{"$error":"#NAME?"}},{"$f":"IF(Q528<>0,[1]!SUMSTRING(Q528:R528,\"#\"),\"\")","v":{"$error":"#NAME?"}},{"$f":"[1]!SUMSTRING(S528:U528,\"|\")","v":{"$error":"#NAME?"}},"","","",{"$f":"IF(W528<>0,[1]!SUMSTRING(W528:Y528,\"#\"),\"\")","v":{"$error":"#NAME?"}}]
[8,6027,"生命",1050,"魔抗",328,"异妖减伤",200,"秘法","碧水抗性",2000,null,1,1050,4,328,59,200,{"$f":"[1]!SUMSTRING(M529:N529,\"#\")","v":{"$error":"#NAME?"}},{"$f":"[1]!SUMSTRING(O529:P529,\"#\")","v":{"$error":"#NAME?"}},{"$f":"IF(Q529<>0,[1]!SUMSTRING(Q529:R529,\"#\"),\"\")","v":{"$error":"#NAME?"}},{"$f":"[1]!SUMSTRING(S529:U529,\"|\")","v":{"$error":"#NAME?"}},3,109,2000,{"$f":"IF(W529<>0,[1]!SUMSTRING(W529:Y529,\"#\"),\"\")","v":{"$error":"#NAME?"}}]
[9,6027,"生命",1289,"魔抗",370,"异妖减伤",225,{"$nulls":4},1,1289,4,370,59,225,{"$f":"[1]!SUMSTRING(M530:N530,\"#\")","v":{"$error":"#NAME?"}},{"$f":"[1]!SUMSTRING(O530:P530,\"#\")","v":{"$error":"#NAME?"}},{"$f":"IF(Q530<>0,[1]!SUMSTRING(Q530:R530,\"#\"),\"\")","v":{"$error":"#NAME?"}},{"$f":"[1]!SUMSTRING(S530:U530,\"|\")","v":{"$error":"#NAME?"}},"","","",{"$f":"IF(W530<>0,[1]!SUMSTRING(W530:Y530,\"#\"),\"\")","v":{"$error":"#NAME?"}}]
[10,6027,"生命",1551,"魔抗",410,"异妖减伤",250,{"$nulls":4},1,1551,4,410,59,250,{"$f":"[1]!SUMSTRING(M531:N531,\"#\")","v":{"$error":"#NAME?"}},{"$f":"[1]!SUMSTRING(O531:P531,\"#\")","v":{"$error":"#NAME?"}},{"$f":"IF(Q531<>0,[1]!SUMSTRING(Q531:R531,\"#\"),\"\")","v":{"$error":"#NAME?"}},{"$f":"[1]!SUMSTRING(S531:U531,\"|\")","v":{"$error":"#NAME?"}},"","","",{"$f":"IF(W531<>0,[1]!SUMSTRING(W531:Y531,\"#\"),\"\")","v":{"$error":"#NAME?"}}]
[11,6027,"生命",1838,"魔抗",452,"异妖减伤",275,"玄策","碧水抗性",2000,null,1,1838,4,452,59,275,{"$f":"[1]!SUMSTRING(M532:N532,\"#\")","v":{"$error":"#NAME?"}},{"$f":"[1]!SUMSTRING(O532:P532,\"#\")","v":{"$error":"#NAME?"}},{"$f":"IF(Q532<>0,[1]!SUMSTRING(Q532:R532,\"#\"),\"\")","v":{"$error":"#NAME?"}},{"$f":"[1]!SUMSTRING(S532:U532,\"|\")","v":{"$error":"#NAME?"}},4,109,2000,{"$f":"IF(W532<>0,[1]!SUMSTRING(W532:Y532,\"#\"),\"\")","v":{"$error":"#NAME?"}}]
[12,6027,"生命",2148,"魔抗",494,"异妖减伤",300,{"$nulls":4},1,2148,4,494,59,300,{"$f":"[1]!SUMSTRING(M533:N533,\"#\")","v":{"$error":"#NAME?"}},{"$f":"[1]!SUMSTRING(O533:P533,\"#\")","v":{"$error":"#NAME?"}},{"$f":"IF(Q533<>0,[1]!SUMSTRING(Q533:R533,\"#\"),\"\")","v":{"$error":"#NAME?"}},{"$f":"[1]!SUMSTRING(S533:U533,\"|\")","v":{"$error":"#NAME?"}},"","","",{"$f":"IF(W533<>0,[1]!SUMSTRING(W533:Y533,\"#\"),\"\")","v":{"$error":"#NAME?"}}]
[13,6027,"生命",2482,"魔抗",534,"异妖减伤",325,{"$nulls":4},1,2482,4,534,59,325,{"$f":"[1]!SUMSTRING(M534:N534,\"#\")","v":{"$error":"#NAME?"}},{"$f":"[1]!SUMSTRING(O534:P534,\"#\")","v":{"$error":"#NAME?"}},{"$f":"IF(Q534<>0,[1]!SUMSTRING(Q534:R534,\"#\"),\"\")","v":{"$error":"#NAME?"}},{"$f":"[1]!SUMSTRING(S534:U534,\"|\")","v":{"$error":"#NAME?"}},"","","",{"$f":"IF(W534<>0,[1]!SUMSTRING(W534:Y534,\"#\"),\"\")","v":{"$error":"#NAME?"}}]
[{"$f":"A515","v":14},{"$f":"B515+1","v":6027},"生命",2840,"魔抗",576,"异妖减伤",350,"天罚","碧水抗性",2000,null,1,2840,4,576,59,350,{"$f":"[1]!SUMSTRING(M535:N535,\"#\")","v":{"$error":"#NAME?"}},{"$f":"[1]!SUMSTRING(O535:P535,\"#\")","v":{"$error":"#NAME?"}},{"$f":"IF(Q535<>0,[1]!SUMSTRING(Q535:R535,\"#\"),\"\")","v":{"$error":"#NAME?"}},{"$f":"[1]!SUMSTRING(S535:U535,\"|\")","v":{"$error":"#NAME?"}},2,109,2000,{"$f":"IF(W535<>0,[1]!SUMSTRING(W535:Y535,\"#\"),\"\")","v":{"$error":"#NAME?"}}]
[15,6027,"生命",3222,"魔抗",616,"异妖减伤",375,{"$nulls":4},1,3222,4,616,59,375,{"$f":"[1]!SUMSTRING(M536:N536,\"#\")","v":{"$error":"#NAME?"}},{"$f":"[1]!SUMSTRING(O536:P536,\"#\")","v":{"$error":"#NAME?"}},{"$f":"IF(Q536<>0,[1]!SUMSTRING(Q536:R536,\"#\"),\"\")","v":{"$error":"#NAME?"}},{"$f":"[1]!SUMSTRING(S536:U536,\"|\")","v":{"$error":"#NAME?"}},"","","",{"$f":"IF(W536<>0,[1]!SUMSTRING(W536:Y536,\"#\"),\"\")","v":{"$error":"#NAME?"}}]
[16,6027,"生命",3628,"魔抗",658,"异妖减伤",400,{"$nulls":4},1,3628,4,658,59,400,{"$f":"[1]!SUMSTRING(M537:N537,\"#\")","v":{"$error":"#NAME?"}},{"$f":"[1]!SUMSTRING(O537:P537,\"#\")","v":{"$error":"#NAME?"}},{"$f":"IF(Q537<>0,[1]!SUMSTRING(Q537:R537,\"#\"),\"\")","v":{"$error":"#NAME?"}},{"$f":"[1]!SUMSTRING(S537:U537,\"|\")","v":{"$error":"#NAME?"}},"","","",{"$f":"IF(W537<>0,[1]!SUMSTRING(W537:Y537,\"#\"),\"\")","v":{"$error":"#NAME?"}}]
[17,6027,"生命",4057,"魔抗",700,"异妖减伤",425,"武卫","碧水抗性",1000,null,1,4057,4,700,59,425,{"$f":"[1]!SUMSTRING(M538:N538,\"#\")","v":{"$error":"#NAME?"}},{"$f":"[1]!SUMSTRING(O538:P538,\"#\")","v":{"$error":"#NAME?"}},{"$f":"IF(Q538<>0,[1]!SUMSTRING(Q538:R538,\"#\"),\"\")","v":{"$error":"#NAME?"}},{"$f":"[1]!SUMSTRING(S538:U538,\"|\")","v":{"$error":"#NAME?"}},1,109,1000,{"$f":"IF(W538<>0,[1]!SUMSTRING(W538:Y538,\"#\"),\"\")","v":{"$error":"#NAME?"}}]
[18,6027,"生命",4511,"魔抗",740,"异妖减伤",450,{"$nulls":4},1,4511,4,740,59,450,{"$f":"[1]!SUMSTRING(M539:N539,\"#\")","v":{"$error":"#NAME?"}},{"$f":"[1]!SUMSTRING(O539:P539,\"#\")","v":{"$error":"#NAME?"}},{"$f":"IF(Q539<>0,[1]!SUMSTRING(Q539:R539,\"#\"),\"\")","v":{"$error":"#NAME?"}},{"$f":"[1]!SUMSTRING(S539:U539,\"|\")","v":{"$error":"#NAME?"}},"","","",{"$f":"IF(W539<>0,[1]!SUMSTRING(W539:Y539,\"#\"),\"\")","v":{"$error":"#NAME?"}}]
[19,6027,"生命",4988,"魔抗",782,"异妖减伤",475,{"$nulls":4},1,4988,4,782,59,475,{"$f":"[1]!SUMSTRING(M540:N540,\"#\")","v":{"$error":"#NAME?"}},{"$f":"[1]!SUMSTRING(O540:P540,\"#\")","v":{"$error":"#NAME?"}},{"$f":"IF(Q540<>0,[1]!SUMSTRING(Q540:R540,\"#\"),\"\")","v":{"$error":"#NAME?"}},{"$f":"[1]!SUMSTRING(S540:U540,\"|\")","v":{"$error":"#NAME?"}},"","","",{"$f":"IF(W540<>0,[1]!SUMSTRING(W540:Y540,\"#\"),\"\")","v":{"$error":"#NAME?"}}]
[20,6027,"生命",5490,"魔抗",822,"异妖减伤",500,"生花","碧水抗性",1000,null,1,5490,4,822,59,500,{"$f":"[1]!SUMSTRING(M541:N541,\"#\")","v":{"$error":"#NAME?"}},{"$f":"[1]!SUMSTRING(O541:P541,\"#\")","v":{"$error":"#NAME?"}},{"$f":"IF(Q541<>0,[1]!SUMSTRING(Q541:R541,\"#\"),\"\")","v":{"$error":"#NAME?"}},{"$f":"[1]!SUMSTRING(S541:U541,\"|\")","v":{"$error":"#NAME?"}},5,109,1000,{"$f":"IF(W541<>0,[1]!SUMSTRING(W541:Y541,\"#\"),\"\")","v":{"$error":"#NAME?"}}]
[1,6028,"攻击",20,"异妖减伤",25,"异妖增伤",25,{"$nulls":4},2,20,59,25,66,25,{"$f":"[1]!SUMSTRING(M542:N542,\"#\")","v":{"$error":"#NAME?"}},{"$f":"[1]!SUMSTRING(O542:P542,\"#\")","v":{"$error":"#NAME?"}},{"$f":"IF(Q542<>0,[1]!SUMSTRING(Q542:R542,\"#\"),\"\")","v":{"$error":"#NAME?"}},{"$f":"[1]!SUMSTRING(S542:U542,\"|\")","v":{"$error":"#NAME?"}},"","","",{"$f":"IF(W542<>0,[1]!SUMSTRING(W542:Y542,\"#\"),\"\")","v":{"$error":"#NAME?"}}]
[2,6028,"攻击",41,"异妖减伤",50,"异妖增伤",50,"武卫","大地抗性",2000,null,2,41,59,50,66,50,{"$f":"[1]!SUMSTRING(M543:N543,\"#\")","v":{"$error":"#NAME?"}},{"$f":"[1]!SUMSTRING(O543:P543,\"#\")","v":{"$error":"#NAME?"}},{"$f":"IF(Q543<>0,[1]!SUMSTRING(Q543:R543,\"#\"),\"\")","v":{"$error":"#NAME?"}},{"$f":"[1]!SUMSTRING(S543:U543,\"|\")","v":{"$error":"#NAME?"}},1,110,2000,{"$f":"IF(W543<>0,[1]!SUMSTRING(W543:Y543,\"#\"),\"\")","v":{"$error":"#NAME?"}}]
[3,6028,"攻击",61,"异妖减伤",75,"异妖增伤",75,{"$nulls":4},2,61,59,75,66,75,{"$f":"[1]!SUMSTRING(M544:N544,\"#\")","v":{"$error":"#NAME?"}},{"$f":"[1]!SUMSTRING(O544:P544,\"#\")","v":{"$error":"#NAME?"}},{"$f":"IF(Q544<>0,[1]!SUMSTRING(Q544:R544,\"#\"),\"\")","v":{"$error":"#NAME?"}},{"$f":"[1]!SUMSTRING(S544:U544,\"|\")","v":{"$error":"#NAME?"}},"","","",{"$f":"IF(W544<>0,[1]!SUMSTRING(W544:Y544,\"#\"),\"\")","v":{"$error":"#NAME?"}}]
[4,6028,"攻击",82,"异妖减伤",100,"异妖增伤",100,{"$nulls":4},2,82,59,100,66,100,{"$f":"[1]!SUMSTRING(M545:N545,\"#\")","v":{"$error":"#NAME?"}},{"$f":"[1]!SUMSTRING(O545:P545,\"#\")","v":{"$error":"#NAME?"}},{"$f":"IF(Q545<>0,[1]!SUMSTRING(Q545:R545,\"#\"),\"\")","v":{"$error":"#NAME?"}},{"$f":"[1]!SUMSTRING(S545:U545,\"|\")","v":{"$error":"#NAME?"}},"","","",{"$f":"IF(W545<>0,[1]!SUMSTRING(W545:Y545,\"#\"),\"\")","v":{"$error":"#NAME?"}}]
[5,6028,"攻击",102,"异妖减伤",125,"异妖增伤",125,"生花","大地抗性",2000,null,2,102,59,125,66,125,{"$f":"[1]!SUMSTRING(M546:N546,\"#\")","v":{"$error":"#NAME?"}},{"$f":"[1]!SUMSTRING(O546:P546,\"#\")","v":{"$error":"#NAME?"}},{"$f":"IF(Q546<>0,[1]!SUMSTRING(Q546:R546,\"#\"),\"\")","v":{"$error":"#NAME?"}},{"$f":"[1]!SUMSTRING(S546:U546,\"|\")","v":{"$error":"#NAME?"}},5,110,2000,{"$f":"IF(W546<>0,[1]!SUMSTRING(W546:Y546,\"#\"),\"\")","v":{"$error":"#NAME?"}}]
[6,6028,"攻击",123,"异妖减伤",150,"异妖增伤",150,{"$nulls":4},2,123,59,150,66,150,{"$f":"[1]!SUMSTRING(M547:N547,\"#\")","v":{"$error":"#NAME?"}},{"$f":"[1]!SUMSTRING(O547:P547,\"#\")","v":{"$error":"#NAME?"}},{"$f":"IF(Q547<>0,[1]!SUMSTRING(Q547:R547,\"#\"),\"\")","v":{"$error":"#NAME?"}},{"$f":"[1]!SUMSTRING(S547:U547,\"|\")","v":{"$error":"#NAME?"}},"","","",{"$f":"IF(W547<>0,[1]!SUMSTRING(W547:Y547,\"#\"),\"\")","v":{"$error":"#NAME?"}}]
[7,6028,"攻击",144,"异妖减伤",175,"异妖增伤",175,{"$nulls":4},2,144,59,175,66,175,{"$f":"[1]!SUMSTRING(M548:N548,\"#\")","v":{"$error":"#NAME?"}},{"$f":"[1]!SUMSTRING(O548:P548,\"#\")","v":{"$error":"#NAME?"}},{"$f":"IF(Q548<>0,[1]!SUMSTRING(Q548:R548,\"#\"),\"\")","v":{"$error":"#NAME?"}},{"$f":"[1]!SUMSTRING(S548:U548,\"|\")","v":{"$error":"#NAME?"}},"","","",{"$f":"IF(W548<>0,[1]!SUMSTRING(W548:Y548,\"#\"),\"\")","v":{"$error":"#NAME?"}}]
[8,6028,"攻击",164,"异妖减伤",200,"异妖增伤",200,"秘法","大地抗性",2000,null,2,164,59,200,66,200,{"$f":"[1]!SUMSTRING(M549:N549,\"#\")","v":{"$error":"#NAME?"}},{"$f":"[1]!SUMSTRING(O549:P549,\"#\")","v":{"$error":"#NAME?"}},{"$f":"IF(Q549<>0,[1]!SUMSTRING(Q549:R549,\"#\"),\"\")","v":{"$error":"#NAME?"}},{"$f":"[1]!SUMSTRING(S549:U549,\"|\")","v":{"$error":"#NAME?"}},3,110,2000,{"$f":"IF(W549<>0,[1]!SUMSTRING(W549:Y549,\"#\"),\"\")","v":{"$error":"#NAME?"}}]
[9,6028,"攻击",185,"异妖减伤",225,"异妖增伤",225,{"$nulls":4},2,185,59,225,66,225,{"$f":"[1]!SUMSTRING(M550:N550,\"#\")","v":{"$error":"#NAME?"}},{"$f":"[1]!SUMSTRING(O550:P550,\"#\")","v":{"$error":"#NAME?"}},{"$f":"IF(Q550<>0,[1]!SUMSTRING(Q550:R550,\"#\"),\"\")","v":{"$error":"#NAME?"}},{"$f":"[1]!SUMSTRING(S550:U550,\"|\")","v":{"$error":"#NAME?"}},"","","",{"$f":"IF(W550<>0,[1]!SUMSTRING(W550:Y550,\"#\"),\"\")","v":{"$error":"#NAME?"}}]
[10,6028,"攻击",205,"异妖减伤",250,"异妖增伤",250,{"$nulls":4},2,205,59,250,66,250,{"$f":"[1]!SUMSTRING(M551:N551,\"#\")","v":{"$error":"#NAME?"}},{"$f":"[1]!SUMSTRING(O551:P551,\"#\")","v":{"$error":"#NAME?"}},{"$f":"IF(Q551<>0,[1]!SUMSTRING(Q551:R551,\"#\"),\"\")","v":{"$error":"#NAME?"}},{"$f":"[1]!SUMSTRING(S551:U551,\"|\")","v":{"$error":"#NAME?"}},"","","",{"$f":"IF(W551<>0,[1]!SUMSTRING(W551:Y551,\"#\"),\"\")","v":{"$error":"#NAME?"}}]
[11,6028,"攻击",226,"异妖减伤",275,"异妖增伤",275,"玄策","大地抗性",2000,null,2,226,59,275,66,275,{"$f":"[1]!SUMSTRING(M552:N552,\"#\")","v":{"$error":"#NAME?"}},{"$f":"[1]!SUMSTRING(O552:P552,\"#\")","v":{"$error":"#NAME?"}},{"$f":"IF(Q552<>0,[1]!SUMSTRING(Q552:R552,\"#\"),\"\")","v":{"$error":"#NAME?"}},{"$f":"[1]!SUMSTRING(S552:U552,\"|\")","v":{"$error":"#NAME?"}},4,110,2000,{"$f":"IF(W552<>0,[1]!SUMSTRING(W552:Y552,\"#\"),\"\")","v":{"$error":"#NAME?"}}]
[12,6028,"攻击",247,"异妖减伤",300,"异妖增伤",300,{"$nulls":4},2,247,59,300,66,300,{"$f":"[1]!SUMSTRING(M553:N553,\"#\")","v":{"$error":"#NAME?"}},{"$f":"[1]!SUMSTRING(O553:P553,\"#\")","v":{"$error":"#NAME?"}},{"$f":"IF(Q553<>0,[1]!SUMSTRING(Q553:R553,\"#\"),\"\")","v":{"$error":"#NAME?"}},{"$f":"[1]!SUMSTRING(S553:U553,\"|\")","v":{"$error":"#NAME?"}},"","","",{"$f":"IF(W553<>0,[1]!SUMSTRING(W553:Y553,\"#\"),\"\")","v":{"$error":"#NAME?"}}]
[13,6028,"攻击",267,"异妖减伤",325,"异妖增伤",325,{"$nulls":4},2,267,59,325,66,325,{"$f":"[1]!SUMSTRING(M554:N554,\"#\")","v":{"$error":"#NAME?"}},{"$f":"[1]!SUMSTRING(O554:P554,\"#\")","v":{"$error":"#NAME?"}},{"$f":"IF(Q554<>0,[1]!SUMSTRING(Q554:R554,\"#\"),\"\")","v":{"$error":"#NAME?"}},{"$f":"[1]!SUMSTRING(S554:U554,\"|\")","v":{"$error":"#NAME?"}},"","","",{"$f":"IF(W554<>0,[1]!SUMSTRING(W554:Y554,\"#\"),\"\")","v":{"$error":"#NAME?"}}]
[14,6028,"攻击",288,"异妖减伤",350,"异妖增伤",350,"天罚","大地抗性",2000,null,2,288,59,350,66,350,{"$f":"[1]!SUMSTRING(M555:N555,\"#\")","v":{"$error":"#NAME?"}},{"$f":"[1]!SUMSTRING(O555:P555,\"#\")","v":{"$error":"#NAME?"}},{"$f":"IF(Q555<>0,[1]!SUMSTRING(Q555:R555,\"#\"),\"\")","v":{"$error":"#NAME?"}},{"$f":"[1]!SUMSTRING(S555:U555,\"|\")","v":{"$error":"#NAME?"}},2,110,2000,{"$f":"IF(W555<>0,[1]!SUMSTRING(W555:Y555,\"#\"),\"\")","v":{"$error":"#NAME?"}}]
[15,6028,"攻击",308,"异妖减伤",375,"异妖增伤",375,{"$nulls":4},2,308,59,375,66,375,{"$f":"[1]!SUMSTRING(M556:N556,\"#\")","v":{"$error":"#NAME?"}},{"$f":"[1]!SUMSTRING(O556:P556,\"#\")","v":{"$error":"#NAME?"}},{"$f":"IF(Q556<>0,[1]!SUMSTRING(Q556:R556,\"#\"),\"\")","v":{"$error":"#NAME?"}},{"$f":"[1]!SUMSTRING(S556:U556,\"|\")","v":{"$error":"#NAME?"}},"","","",{"$f":"IF(W556<>0,[1]!SUMSTRING(W556:Y556,\"#\"),\"\")","v":{"$error":"#NAME?"}}]
[16,6028,"攻击",329,"异妖减伤",400,"异妖增伤",400,{"$nulls":4},2,329,59,400,66,400,{"$f":"[1]!SUMSTRING(M557:N557,\"#\")","v":{"$error":"#NAME?"}},{"$f":"[1]!SUMSTRING(O557:P557,\"#\")","v":{"$error":"#NAME?"}},{"$f":"IF(Q557<>0,[1]!SUMSTRING(Q557:R557,\"#\"),\"\")","v":{"$error":"#NAME?"}},{"$f":"[1]!SUMSTRING(S557:U557,\"|\")","v":{"$error":"#NAME?"}},"","","",{"$f":"IF(W557<>0,[1]!SUMSTRING(W557:Y557,\"#\"),\"\")","v":{"$error":"#NAME?"}}]
[17,6028,"攻击",350,"异妖减伤",425,"异妖增伤",425,"武卫","大地抗性",1000,null,2,350,59,425,66,425,{"$f":"[1]!SUMSTRING(M558:N558,\"#\")","v":{"$error":"#NAME?"}},{"$f":"[1]!SUMSTRING(O558:P558,\"#\")","v":{"$error":"#NAME?"}},{"$f":"IF(Q558<>0,[1]!SUMSTRING(Q558:R558,\"#\"),\"\")","v":{"$error":"#NAME?"}},{"$f":"[1]!SUMSTRING(S558:U558,\"|\")","v":{"$error":"#NAME?"}},1,110,1000,{"$f":"IF(W558<>0,[1]!SUMSTRING(W558:Y558,\"#\"),\"\")","v":{"$error":"#NAME?"}}]
[18,6028,"攻击",370,"异妖减伤",450,"异妖增伤",450,{"$nulls":4},2,370,59,450,66,450,{"$f":"[1]!SUMSTRING(M559:N559,\"#\")","v":{"$error":"#NAME?"}},{"$f":"[1]!SUMSTRING(O559:P559,\"#\")","v":{"$error":"#NAME?"}},{"$f":"IF(Q559<>0,[1]!SUMSTRING(Q559:R559,\"#\"),\"\")","v":{"$error":"#NAME?"}},{"$f":"[1]!SUMSTRING(S559:U559,\"|\")","v":{"$error":"#NAME?"}},"","","",{"$f":"IF(W559<>0,[1]!SUMSTRING(W559:Y559,\"#\"),\"\")","v":{"$error":"#NAME?"}}]
[19,6028,"攻击",391,"异妖减伤",475,"异妖增伤",475,{"$nulls":4},2,391,59,475,66,475,{"$f":"[1]!SUMSTRING(M560:N560,\"#\")","v":{"$error":"#NAME?"}},{"$f":"[1]!SUMSTRING(O560:P560,\"#\")","v":{"$error":"#NAME?"}},{"$f":"IF(Q560<>0,[1]!SUMSTRING(Q560:R560,\"#\"),\"\")","v":{"$error":"#NAME?"}},{"$f":"[1]!SUMSTRING(S560:U560,\"|\")","v":{"$error":"#NAME?"}},"","","",{"$f":"IF(W560<>0,[1]!SUMSTRING(W560:Y560,\"#\"),\"\")","v":{"$error":"#NAME?"}}]
[20,6028,"攻击",411,"异妖减伤",500,"异妖增伤",500,"生花","大地抗性",1000,null,2,411,59,500,66,500,{"$f":"[1]!SUMSTRING(M561:N561,\"#\")","v":{"$error":"#NAME?"}},{"$f":"[1]!SUMSTRING(O561:P561,\"#\")","v":{"$error":"#NAME?"}},{"$f":"IF(Q561<>0,[1]!SUMSTRING(Q561:R561,\"#\"),\"\")","v":{"$error":"#NAME?"}},{"$f":"[1]!SUMSTRING(S561:U561,\"|\")","v":{"$error":"#NAME?"}},5,110,1000,{"$f":"IF(W561<>0,[1]!SUMSTRING(W561:Y561,\"#\"),\"\")","v":{"$error":"#NAME?"}}]
[1,6029,"生命",47,"攻击",20,"异妖增伤",25,{"$nulls":4},1,47,2,20,66,25,{"$f":"[1]!SUMSTRING(M562:N562,\"#\")","v":{"$error":"#NAME?"}},{"$f":"[1]!SUMSTRING(O562:P562,\"#\")","v":{"$error":"#NAME?"}},{"$f":"IF(Q562<>0,[1]!SUMSTRING(Q562:R562,\"#\"),\"\")","v":{"$error":"#NAME?"}},{"$f":"[1]!SUMSTRING(S562:U562,\"|\")","v":{"$error":"#NAME?"}},"","","",{"$f":"IF(W562<>0,[1]!SUMSTRING(W562:Y562,\"#\"),\"\")","v":{"$error":"#NAME?"}}]
[2,6029,"生命",119,"攻击",41,"异妖增伤",50,"武卫","火焰伤害",2000,null,1,119,2,41,66,50,{"$f":"[1]!SUMSTRING(M563:N563,\"#\")","v":{"$error":"#NAME?"}},{"$f":"[1]!SUMSTRING(O563:P563,\"#\")","v":{"$error":"#NAME?"}},{"$f":"IF(Q563<>0,[1]!SUMSTRING(Q563:R563,\"#\"),\"\")","v":{"$error":"#NAME?"}},{"$f":"[1]!SUMSTRING(S563:U563,\"|\")","v":{"$error":"#NAME?"}},1,101,2000,{"$f":"IF(W563<>0,[1]!SUMSTRING(W563:Y563,\"#\"),\"\")","v":{"$error":"#NAME?"}}]
[3,6029,"生命",214,"攻击",61,"异妖增伤",75,{"$nulls":4},1,214,2,61,66,75,{"$f":"[1]!SUMSTRING(M564:N564,\"#\")","v":{"$error":"#NAME?"}},{"$f":"[1]!SUMSTRING(O564:P564,\"#\")","v":{"$error":"#NAME?"}},{"$f":"IF(Q564<>0,[1]!SUMSTRING(Q564:R564,\"#\"),\"\")","v":{"$error":"#NAME?"}},{"$f":"[1]!SUMSTRING(S564:U564,\"|\")","v":{"$error":"#NAME?"}},"","","",{"$f":"IF(W564<>0,[1]!SUMSTRING(W564:Y564,\"#\"),\"\")","v":{"$error":"#NAME?"}}]
[4,6029,"生命",334,"攻击",82,"异妖增伤",100,{"$nulls":4},1,334,2,82,66,100,{"$f":"[1]!SUMSTRING(M565:N565,\"#\")","v":{"$error":"#NAME?"}},{"$f":"[1]!SUMSTRING(O565:P565,\"#\")","v":{"$error":"#NAME?"}},{"$f":"IF(Q565<>0,[1]!SUMSTRING(Q565:R565,\"#\"),\"\")","v":{"$error":"#NAME?"}},{"$f":"[1]!SUMSTRING(S565:U565,\"|\")","v":{"$error":"#NAME?"}},"","","",{"$f":"IF(W565<>0,[1]!SUMSTRING(W565:Y565,\"#\"),\"\")","v":{"$error":"#NAME?"}}]
[5,6029,"生命",477,"攻击",102,"异妖增伤",125,"生花","火焰伤害",2000,null,1,477,2,102,66,125,{"$f":"[1]!SUMSTRING(M566:N566,\"#\")","v":{"$error":"#NAME?"}},{"$f":"[1]!SUMSTRING(O566:P566,\"#\")","v":{"$error":"#NAME?"}},{"$f":"IF(Q566<>0,[1]!SUMSTRING(Q566:R566,\"#\"),\"\")","v":{"$error":"#NAME?"}},{"$f":"[1]!SUMSTRING(S566:U566,\"|\")","v":{"$error":"#NAME?"}},5,101,2000,{"$f":"IF(W566<>0,[1]!SUMSTRING(W566:Y566,\"#\"),\"\")","v":{"$error":"#NAME?"}}]
[6,6029,"生命",644,"攻击",123,"异妖增伤",150,{"$nulls":4},1,644,2,123,66,150,{"$f":"[1]!SUMSTRING(M567:N567,\"#\")","v":{"$error":"#NAME?"}},{"$f":"[1]!SUMSTRING(O567:P567,\"#\")","v":{"$error":"#NAME?"}},{"$f":"IF(Q567<>0,[1]!SUMSTRING(Q567:R567,\"#\"),\"\")","v":{"$error":"#NAME?"}},{"$f":"[1]!SUMSTRING(S567:U567,\"|\")","v":{"$error":"#NAME?"}},"","","",{"$f":"IF(W567<>0,[1]!SUMSTRING(W567:Y567,\"#\"),\"\")","v":{"$error":"#NAME?"}}]
[7,6029,"生命",835,"攻击",144,"异妖增伤",175,{"$nulls":4},1,835,2,144,66,175,{"$f":"[1]!SUMSTRING(M568:N568,\"#\")","v":{"$error":"#NAME?"}},{"$f":"[1]!SUMSTRING(O568:P568,\"#\")","v":{"$error":"#NAME?"}},{"$f":"IF(Q568<>0,[1]!SUMSTRING(Q568:R568,\"#\"),\"\")","v":{"$error":"#NAME?"}},{"$f":"[1]!SUMSTRING(S568:U568,\"|\")","v":{"$error":"#NAME?"}},"","","",{"$f":"IF(W568<>0,[1]!SUMSTRING(W568:Y568,\"#\"),\"\")","v":{"$error":"#NAME?"}}]
[8,6029,"生命",1050,"攻击",164,"异妖增伤",200,"秘法","火焰伤害",2000,null,1,1050,2,164,66,200,{"$f":"[1]!SUMSTRING(M569:N569,\"#\")","v":{"$error":"#NAME?"}},{"$f":"[1]!SUMSTRING(O569:P569,\"#\")","v":{"$error":"#NAME?"}},{"$f":"IF(Q569<>0,[1]!SUMSTRING(Q569:R569,\"#\"),\"\")","v":{"$error":"#NAME?"}},{"$f":"[1]!SUMSTRING(S569:U569,\"|\")","v":{"$error":"#NAME?"}},3,101,2000,{"$f":"IF(W569<>0,[1]!SUMSTRING(W569:Y569,\"#\"),\"\")","v":{"$error":"#NAME?"}}]
[9,6029,"生命",1289,"攻击",185,"异妖增伤",225,{"$nulls":4},1,1289,2,185,66,225,{"$f":"[1]!SUMSTRING(M570:N570,\"#\")","v":{"$error":"#NAME?"}},{"$f":"[1]!SUMSTRING(O570:P570,\"#\")","v":{"$error":"#NAME?"}},{"$f":"IF(Q570<>0,[1]!SUMSTRING(Q570:R570,\"#\"),\"\")","v":{"$error":"#NAME?"}},{"$f":"[1]!SUMSTRING(S570:U570,\"|\")","v":{"$error":"#NAME?"}},"","","",{"$f":"IF(W570<>0,[1]!SUMSTRING(W570:Y570,\"#\"),\"\")","v":{"$error":"#NAME?"}}]
[10,6029,"生命",1551,"攻击",205,"异妖增伤",250,{"$nulls":4},1,1551,2,205,66,250,{"$f":"[1]!SUMSTRING(M571:N571,\"#\")","v":{"$error":"#NAME?"}},{"$f":"[1]!SUMSTRING(O571:P571,\"#\")","v":{"$error":"#NAME?"}},{"$f":"IF(Q571<>0,[1]!SUMSTRING(Q571:R571,\"#\"),\"\")","v":{"$error":"#NAME?"}},{"$f":"[1]!SUMSTRING(S571:U571,\"|\")","v":{"$error":"#NAME?"}},"","","",{"$f":"IF(W571<>0,[1]!SUMSTRING(W571:Y571,\"#\"),\"\")","v":{"$error":"#NAME?"}}]
[11,6029,"生命",1838,"攻击",226,"异妖增伤",275,"玄策","火焰伤害",2000,null,1,1838,2,226,66,275,{"$f":"[1]!SUMSTRING(M572:N572,\"#\")","v":{"$error":"#NAME?"}},{"$f":"[1]!SUMSTRING(O572:P572,\"#\")","v":{"$error":"#NAME?"}},{"$f":"IF(Q572<>0,[1]!SUMSTRING(Q572:R572,\"#\"),\"\")","v":{"$error":"#NAME?"}},{"$f":"[1]!SUMSTRING(S572:U572,\"|\")","v":{"$error":"#NAME?"}},4,101,2000,{"$f":"IF(W572<>0,[1]!SUMSTRING(W572:Y572,\"#\"),\"\")","v":{"$error":"#NAME?"}}]
[12,6029,"生命",2148,"攻击",247,"异妖增伤",300,{"$nulls":4},1,2148,2,247,66,300,{"$f":"[1]!SUMSTRING(M573:N573,\"#\")","v":{"$error":"#NAME?"}},{"$f":"[1]!SUMSTRING(O573:P573,\"#\")","v":{"$error":"#NAME?"}},{"$f":"IF(Q573<>0,[1]!SUMSTRING(Q573:R573,\"#\"),\"\")","v":{"$error":"#NAME?"}},{"$f":"[1]!SUMSTRING(S573:U573,\"|\")","v":{"$error":"#NAME?"}},"","","",{"$f":"IF(W573<>0,[1]!SUMSTRING(W573:Y573,\"#\"),\"\")","v":{"$error":"#NAME?"}}]
[13,6029,"生命",2482,"攻击",267,"异妖增伤",325,{"$nulls":4},1,2482,2,267,66,325,{"$f":"[1]!SUMSTRING(M574:N574,\"#\")","v":{"$error":"#NAME?"}},{"$f":"[1]!SUMSTRING(O574:P574,\"#\")","v":{"$error":"#NAME?"}},{"$f":"IF(Q574<>0,[1]!SUMSTRING(Q574:R574,\"#\"),\"\")","v":{"$error":"#NAME?"}},{"$f":"[1]!SUMSTRING(S574:U574,\"|\")","v":{"$error":"#NAME?"}},"","","",{"$f":"IF(W574<>0,[1]!SUMSTRING(W574:Y574,\"#\"),\"\")","v":{"$error":"#NAME?"}}]
[14,6029,"生命",2840,"攻击",288,"异妖增伤",350,"天罚","火焰伤害",2000,null,1,2840,2,288,66,350,{"$f":"[1]!SUMSTRING(M575:N575,\"#\")","v":{"$error":"#NAME?"}},{"$f":"[1]!SUMSTRING(O575:P575,\"#\")","v":{"$error":"#NAME?"}},{"$f":"IF(Q575<>0,[1]!SUMSTRING(Q575:R575,\"#\"),\"\")","v":{"$error":"#NAME?"}},{"$f":"[1]!SUMSTRING(S575:U575,\"|\")","v":{"$error":"#NAME?"}},2,101,2000,{"$f":"IF(W575<>0,[1]!SUMSTRING(W575:Y575,\"#\"),\"\")","v":{"$error":"#NAME?"}}]
[15,6029,"生命",3222,"攻击",308,"异妖增伤",375,{"$nulls":4},1,3222,2,308,66,375,{"$f":"[1]!SUMSTRING(M576:N576,\"#\")","v":{"$error":"#NAME?"}},{"$f":"[1]!SUMSTRING(O576:P576,\"#\")","v":{"$error":"#NAME?"}},{"$f":"IF(Q576<>0,[1]!SUMSTRING(Q576:R576,\"#\"),\"\")","v":{"$error":"#NAME?"}},{"$f":"[1]!SUMSTRING(S576:U576,\"|\")","v":{"$error":"#NAME?"}},"","","",{"$f":"IF(W576<>0,[1]!SUMSTRING(W576:Y576,\"#\"),\"\")","v":{"$error":"#NAME?"}}]
[16,6029,"生命",3628,"攻击",329,"异妖增伤",400,{"$nulls":4},1,3628,2,329,66,400,{"$f":"[1]!SUMSTRING(M577:N577,\"#\")","v":{"$error":"#NAME?"}},{"$f":"[1]!SUMSTRING(O577:P577,\"#\")","v":{"$error":"#NAME?"}},{"$f":"IF(Q577<>0,[1]!SUMSTRING(Q577:R577,\"#\"),\"\")","v":{"$error":"#NAME?"}},{"$f":"[1]!SUMSTRING(S577:U577,\"|\")","v":{"$error":"#NAME?"}},"","","",{"$f":"IF(W577<>0,[1]!SUMSTRING(W577:Y577,\"#\"),\"\")","v":{"$error":"#NAME?"}}]
[17,6029,"生命",4057,"攻击",350,"异妖增伤",425,"武卫","火焰伤害",1000,null,1,4057,2,350,66,425,{"$f":"[1]!SUMSTRING(M578:N578,\"#\")","v":{"$error":"#NAME?"}},{"$f":"[1]!SUMSTRING(O578:P578,\"#\")","v":{"$error":"#NAME?"}},{"$f":"IF(Q578<>0,[1]!SUMSTRING(Q578:R578,\"#\"),\"\")","v":{"$error":"#NAME?"}},{"$f":"[1]!SUMSTRING(S578:U578,\"|\")","v":{"$error":"#NAME?"}},1,101,1000,{"$f":"IF(W578<>0,[1]!SUMSTRING(W578:Y578,\"#\"),\"\")","v":{"$error":"#NAME?"}}]
[18,6029,"生命",4511,"攻击",370,"异妖增伤",450,{"$nulls":4},{"$f":"VLOOKUP(C579,$AB:$AC,2,0)","v":1},{"$f":"D579","v":4511},{"$f":"VLOOKUP(E579,$AB:$AC,2,0)","v":2},{"$f":"F579","v":370},{"$f":"IF(G579<>0,VLOOKUP(G579,$AB:$AC,2,0),\"\")","v":66},{"$f":"IF(H579<>0,H579,\"\")","v":450},{"$f":"[1]!SUMSTRING(M579:N579,\"#\")","v":{"$error":"#NAME?"}},{"$f":"[1]!SUMSTRING(O579:P579,\"#\")","v":{"$error":"#NAME?"}},{"$f":"IF(Q579<>0,[1]!SUMSTRING(Q579:R579,\"#\"),\"\")","v":{"$error":"#NAME?"}},{"$f":"[1]!SUMSTRING(S579:U579,\"|\")","v":{"$error":"#NAME?"}},"",{"$f":"IF(J579<>0,VLOOKUP(J579,$AB:$AC,2,0),\"\")","v":""},{"$f":"IF(K579<>0,K579,\"\")","v":""},{"$f":"IF(W579<>0,[1]!SUMSTRING(W579:Y579,\"#\"),\"\")","v":{"$error":"#NAME?"}}]
[19,6029,"生命",4988,"攻击",391,"异妖增伤",475,{"$nulls":4},1,4988,2,391,66,475,{"$f":"[1]!SUMSTRING(M580:N580,\"#\")","v":{"$error":"#NAME?"}},{"$f":"[1]!SUMSTRING(O580:P580,\"#\")","v":{"$error":"#NAME?"}},{"$f":"IF(Q580<>0,[1]!SUMSTRING(Q580:R580,\"#\"),\"\")","v":{"$error":"#NAME?"}},{"$f":"[1]!SUMSTRING(S580:U580,\"|\")","v":{"$error":"#NAME?"}},{"$f":"IF(I580<>0,VLOOKUP(I580,$AG$3:$AH$7,2,0),\"\")","v":""},"","",{"$f":"IF(W580<>0,[1]!SUMSTRING(W580:Y580,\"#\"),\"\")","v":{"$error":"#NAME?"}}]
[20,6029,"生命",5490,"攻击",411,"异妖增伤",500,"生花","火焰伤害",1000,null,1,5490,2,411,66,500,{"$f":"[1]!SUMSTRING(M581:N581,\"#\")","v":{"$error":"#NAME?"}},{"$f":"[1]!SUMSTRING(O581:P581,\"#\")","v":{"$error":"#NAME?"}},{"$f":"IF(Q581<>0,[1]!SUMSTRING(Q581:R581,\"#\"),\"\")","v":{"$error":"#NAME?"}},{"$f":"[1]!SUMSTRING(S581:U581,\"|\")","v":{"$error":"#NAME?"}},5,101,1000,{"$f":"IF(W581<>0,[1]!SUMSTRING(W581:Y581,\"#\"),\"\")","v":{"$error":"#NAME?"}}]
[1,6030,"生命",47,"护甲",40,"异妖减伤",25,{"$nulls":4},1,47,3,40,59,25,{"$f":"[1]!SUMSTRING(M582:N582,\"#\")","v":{"$error":"#NAME?"}},{"$f":"[1]!SUMSTRING(O582:P582,\"#\")","v":{"$error":"#NAME?"}},{"$f":"IF(Q582<>0,[1]!SUMSTRING(Q582:R582,\"#\"),\"\")","v":{"$error":"#NAME?"}},{"$f":"[1]!SUMSTRING(S582:U582,\"|\")","v":{"$error":"#NAME?"}},"","","",{"$f":"IF(W582<>0,[1]!SUMSTRING(W582:Y582,\"#\"),\"\")","v":{"$error":"#NAME?"}}]
[2,6030,"生命",119,"护甲",82,"异妖减伤",50,"武卫","狂风伤害",2000,null,1,119,3,82,59,50,{"$f":"[1]!SUMSTRING(M583:N583,\"#\")","v":{"$error":"#NAME?"}},{"$f":"[1]!SUMSTRING(O583:P583,\"#\")","v":{"$error":"#NAME?"}},{"$f":"IF(Q583<>0,[1]!SUMSTRING(Q583:R583,\"#\"),\"\")","v":{"$error":"#NAME?"}},{"$f":"[1]!SUMSTRING(S583:U583,\"|\")","v":{"$error":"#NAME?"}},1,102,2000,{"$f":"IF(W583<>0,[1]!SUMSTRING(W583:Y583,\"#\"),\"\")","v":{"$error":"#NAME?"}}]
[3,6030,"生命",214,"护甲",122,"异妖减伤",75,{"$nulls":4},1,214,3,122,59,75,{"$f":"[1]!SUMSTRING(M584:N584,\"#\")","v":{"$error":"#NAME?"}},{"$f":"[1]!SUMSTRING(O584:P584,\"#\")","v":{"$error":"#NAME?"}},{"$f":"IF(Q584<>0,[1]!SUMSTRING(Q584:R584,\"#\"),\"\")","v":{"$error":"#NAME?"}},{"$f":"[1]!SUMSTRING(S584:U584,\"|\")","v":{"$error":"#NAME?"}},"","","",{"$f":"IF(W584<>0,[1]!SUMSTRING(W584:Y584,\"#\"),\"\")","v":{"$error":"#NAME?"}}]
[4,6030,"生命",334,"护甲",164,"异妖减伤",100,{"$nulls":4},1,334,3,164,59,100,{"$f":"[1]!SUMSTRING(M585:N585,\"#\")","v":{"$error":"#NAME?"}},{"$f":"[1]!SUMSTRING(O585:P585,\"#\")","v":{"$error":"#NAME?"}},{"$f":"IF(Q585<>0,[1]!SUMSTRING(Q585:R585,\"#\"),\"\")","v":{"$error":"#NAME?"}},{"$f":"[1]!SUMSTRING(S585:U585,\"|\")","v":{"$error":"#NAME?"}},"","","",{"$f":"IF(W585<>0,[1]!SUMSTRING(W585:Y585,\"#\"),\"\")","v":{"$error":"#NAME?"}}]
[5,6030,"生命",477,"护甲",204,"异妖减伤",125,"生花","狂风伤害",2000,null,1,477,3,204,59,125,{"$f":"[1]!SUMSTRING(M586:N586,\"#\")","v":{"$error":"#NAME?"}},{"$f":"[1]!SUMSTRING(O586:P586,\"#\")","v":{"$error":"#NAME?"}},{"$f":"IF(Q586<>0,[1]!SUMSTRING(Q586:R586,\"#\"),\"\")","v":{"$error":"#NAME?"}},{"$f":"[1]!SUMSTRING(S586:U586,\"|\")","v":{"$error":"#NAME?"}},5,102,2000,{"$f":"IF(W586<>0,[1]!SUMSTRING(W586:Y586,\"#\"),\"\")","v":{"$error":"#NAME?"}}]
[6,6030,"生命",644,"护甲",246,"异妖减伤",150,{"$nulls":4},1,644,3,246,59,150,{"$f":"[1]!SUMSTRING(M587:N587,\"#\")","v":{"$error":"#NAME?"}},{"$f":"[1]!SUMSTRING(O587:P587,\"#\")","v":{"$error":"#NAME?"}},{"$f":"IF(Q587<>0,[1]!SUMSTRING(Q587:R587,\"#\"),\"\")","v":{"$error":"#NAME?"}},{"$f":"[1]!SUMSTRING(S587:U587,\"|\")","v":{"$error":"#NAME?"}},"","","",{"$f":"IF(W587<>0,[1]!SUMSTRING(W587:Y587,\"#\"),\"\")","v":{"$error":"#NAME?"}}]
[7,6030,"生命",835,"护甲",288,"异妖减伤",175,{"$nulls":4},1,835,3,288,59,175,{"$f":"[1]!SUMSTRING(M588:N588,\"#\")","v":{"$error":"#NAME?"}},{"$f":"[1]!SUMSTRING(O588:P588,\"#\")","v":{"$error":"#NAME?"}},{"$f":"IF(Q588<>0,[1]!SUMSTRING(Q588:R588,\"#\"),\"\")","v":{"$error":"#NAME?"}},{"$f":"[1]!SUMSTRING(S588:U588,\"|\")","v":{"$error":"#NAME?"}},"","","",{"$f":"IF(W588<>0,[1]!SUMSTRING(W588:Y588,\"#\"),\"\")","v":{"$error":"#NAME?"}}]
[8,6030,"生命",1050,"护甲",328,"异妖减伤",200,"秘法","狂风伤害",2000,null,1,1050,3,328,59,200,{"$f":"[1]!SUMSTRING(M589:N589,\"#\")","v":{"$error":"#NAME?"}},{"$f":"[1]!SUMSTRING(O589:P589,\"#\")","v":{"$error":"#NAME?"}},{"$f":"IF(Q589<>0,[1]!SUMSTRING(Q589:R589,\"#\"),\"\")","v":{"$error":"#NAME?"}},{"$f":"[1]!SUMSTRING(S589:U589,\"|\")","v":{"$error":"#NAME?"}},3,102,2000,{"$f":"IF(W589<>0,[1]!SUMSTRING(W589:Y589,\"#\"),\"\")","v":{"$error":"#NAME?"}}]
[9,6030,"生命",1289,"护甲",370,"异妖减伤",225,{"$nulls":4},1,1289,3,370,59,225,{"$f":"[1]!SUMSTRING(M590:N590,\"#\")","v":{"$error":"#NAME?"}},{"$f":"[1]!SUMSTRING(O590:P590,\"#\")","v":{"$error":"#NAME?"}},{"$f":"IF(Q590<>0,[1]!SUMSTRING(Q590:R590,\"#\"),\"\")","v":{"$error":"#NAME?"}},{"$f":"[1]!SUMSTRING(S590:U590,\"|\")","v":{"$error":"#NAME?"}},"","","",{"$f":"IF(W590<>0,[1]!SUMSTRING(W590:Y590,\"#\"),\"\")","v":{"$error":"#NAME?"}}]
[10,6030,"生命",1551,"护甲",410,"异妖减伤",250,{"$nulls":4},1,1551,3,410,59,250,{"$f":"[1]!SUMSTRING(M591:N591,\"#\")","v":{"$error":"#NAME?"}},{"$f":"[1]!SUMSTRING(O591:P591,\"#\")","v":{"$error":"#NAME?"}},{"$f":"IF(Q591<>0,[1]!SUMSTRING(Q591:R591,\"#\"),\"\")","v":{"$error":"#NAME?"}},{"$f":"[1]!SUMSTRING(S591:U591,\"|\")","v":{"$error":"#NAME?"}},"","","",{"$f":"IF(W591<>0,[1]!SUMSTRING(W591:Y591,\"#\"),\"\")","v":{"$error":"#NAME?"}}]
[11,6030,"生命",1838,"护甲",452,"异妖减伤",275,"玄策","狂风伤害",2000,null,1,1838,3,452,59,275,{"$f":"[1]!SUMSTRING(M592:N592,\"#\")","v":{"$error":"#NAME?"}},{"$f":"[1]!SUMSTRING(O592:P592,\"#\")","v":{"$error":"#NAME?"}},{"$f":"IF(Q592<>0,[1]!SUMSTRING(Q592:R592,\"#\"),\"\")","v":{"$error":"#NAME?"}},{"$f":"[1]!SUMSTRING(S592:U592,\"|\")","v":{"$error":"#NAME?"}},4,102,2000,{"$f":"IF(W592<>0,[1]!SUMSTRING(W592:Y592,\"#\"),\"\")","v":{"$error":"#NAME?"}}]
[12,6030,"生命",2148,"护甲",494,"异妖减伤",300,{"$nulls":4},1,2148,3,494,59,300,{"$f":"[1]!SUMSTRING(M593:N593,\"#\")","v":{"$error":"#NAME?"}},{"$f":"[1]!SUMSTRING(O593:P593,\"#\")","v":{"$error":"#NAME?"}},{"$f":"IF(Q593<>0,[1]!SUMSTRING(Q593:R593,\"#\"),\"\")","v":{"$error":"#NAME?"}},{"$f":"[1]!SUMSTRING(S593:U593,\"|\")","v":{"$error":"#NAME?"}},"","","",{"$f":"IF(W593<>0,[1]!SUMSTRING(W593:Y593,\"#\"),\"\")","v":{"$error":"#NAME?"}}]
[13,6030,"生命",2482,"护甲",534,"异妖减伤",325,{"$nulls":4},1,2482,3,534,59,325,{"$f":"[1]!SUMSTRING(M594:N594,\"#\")","v":{"$error":"#NAME?"}},{"$f":"[1]!SUMSTRING(O594:P594,\"#\")","v":{"$error":"#NAME?"}},{"$f":"IF(Q594<>0,[1]!SUMSTRING(Q594:R594,\"#\"),\"\")","v":{"$error":"#NAME?"}},{"$f":"[1]!SUMSTRING(S594:U594,\"|\")","v":{"$error":"#NAME?"}},"","","",{"$f":"IF(W594<>0,[1]!SUMSTRING(W594:Y594,\"#\"),\"\")","v":{"$error":"#NAME?"}}]
[14,6030,"生命",2840,"护甲",576,"异妖减伤",350,"天罚","狂风伤害",2000,null,1,2840,3,576,59,350,{"$f":"[1]!SUMSTRING(M595:N595,\"#\")","v":{"$error":"#NAME?"}},{"$f":"[1]!SUMSTRING(O595:P595,\"#\")","v":{"$error":"#NAME?"}},{"$f":"IF(Q595<>0,[1]!SUMSTRING(Q595:R595,\"#\"),\"\")","v":{"$error":"#NAME?"}},{"$f":"[1]!SUMSTRING(S595:U595,\"|\")","v":{"$error":"#NAME?"}},2,102,2000,{"$f":"IF(W595<>0,[1]!SUMSTRING(W595:Y595,\"#\"),\"\")","v":{"$error":"#NAME?"}}]
[15,6030,"生命",3222,"护甲",616,"异妖减伤",375,{"$nulls":4},1,3222,3,616,59,375,{"$f":"[1]!SUMSTRING(M596:N596,\"#\")","v":{"$error":"#NAME?"}},{"$f":"[1]!SUMSTRING(O596:P596,\"#\")","v":{"$error":"#NAME?"}},{"$f":"IF(Q596<>0,[1]!SUMSTRING(Q596:R596,\"#\"),\"\")","v":{"$error":"#NAME?"}},{"$f":"[1]!SUMSTRING(S596:U596,\"|\")","v":{"$error":"#NAME?"}},"","","",{"$f":"IF(W596<>0,[1]!SUMSTRING(W596:Y596,\"#\"),\"\")","v":{"$error":"#NAME?"}}]
[16,6030,"生命",3628,"护甲",658,"异妖减伤",400,{"$nulls":4},1,3628,3,658,59,400,{"$f":"[1]!SUMSTRING(M597:N597,\"#\")","v":{"$error":"#NAME?"}},{"$f":"[1]!SUMSTRING(O597:P597,\"#\")","v":{"$error":"#NAME?"}},{"$f":"IF(Q597<>0,[1]!SUMSTRING(Q597:R597,\"#\"),\"\")","v":{"$error":"#NAME?"}},{"$f":"[1]!SUMSTRING(S597:U597,\"|\")","v":{"$error":"#NAME?"}},"","","",{"$f":"IF(W597<>0,[1]!SUMSTRING(W597:Y597,\"#\"),\"\")","v":{"$error":"#NAME?"}}]
[17,6030,"生命",4057,"护甲",700,"异妖减伤",425,"武卫","狂风伤害",1000,null,1,4057,3,700,59,425,{"$f":"[1]!SUMSTRING(M598:N598,\"#\")","v":{"$error":"#NAME?"}},{"$f":"[1]!SUMSTRING(O598:P598,\"#\")","v":{"$error":"#NAME?"}},{"$f":"IF(Q598<>0,[1]!SUMSTRING(Q598:R598,\"#\"),\"\")","v":{"$error":"#NAME?"}},{"$f":"[1]!SUMSTRING(S598:U598,\"|\")","v":{"$error":"#NAME?"}},1,102,1000,{"$f":"IF(W598<>0,[1]!SUMSTRING(W598:Y598,\"#\"),\"\")","v":{"$error":"#NAME?"}}]
[{"$f":"A579","v":18},{"$f":"B579+1","v":6030},"生命",4511,"护甲",740,"异妖减伤",450,{"$nulls":4},1,4511,3,740,59,450,{"$f":"[1]!SUMSTRING(M599:N599,\"#\")","v":{"$error":"#NAME?"}},{"$f":"[1]!SUMSTRING(O599:P599,\"#\")","v":{"$error":"#NAME?"}},{"$f":"IF(Q599<>0,[1]!SUMSTRING(Q599:R599,\"#\"),\"\")","v":{"$error":"#NAME?"}},{"$f":"[1]!SUMSTRING(S599:U599,\"|\")","v":{"$error":"#NAME?"}},"","","",{"$f":"IF(W599<>0,[1]!SUMSTRING(W599:Y599,\"#\"),\"\")","v":{"$error":"#NAME?"}}]
[19,6030,"生命",4988,"护甲",782,"异妖减伤",475,{"$nulls":4},1,4988,3,782,59,475,{"$f":"[1]!SUMSTRING(M600:N600,\"#\")","v":{"$error":"#NAME?"}},{"$f":"[1]!SUMSTRING(O600:P600,\"#\")","v":{"$error":"#NAME?"}},{"$f":"IF(Q600<>0,[1]!SUMSTRING(Q600:R600,\"#\"),\"\")","v":{"$error":"#NAME?"}},{"$f":"[1]!SUMSTRING(S600:U600,\"|\")","v":{"$error":"#NAME?"}},"","","",{"$f":"IF(W600<>0,[1]!SUMSTRING(W600:Y600,\"#\"),\"\")","v":{"$error":"#NAME?"}}]
[20,6030,"生命",5490,"护甲",822,"异妖减伤",500,"生花","狂风伤害",1000,null,1,5490,3,822,59,500,{"$f":"[1]!SUMSTRING(M601:N601,\"#\")","v":{"$error":"#NAME?"}},{"$f":"[1]!SUMSTRING(O601:P601,\"#\")","v":{"$error":"#NAME?"}},{"$f":"IF(Q601<>0,[1]!SUMSTRING(Q601:R601,\"#\"),\"\")","v":{"$error":"#NAME?"}},{"$f":"[1]!SUMSTRING(S601:U601,\"|\")","v":{"$error":"#NAME?"}},5,102,1000,{"$f":"IF(W601<>0,[1]!SUMSTRING(W601:Y601,\"#\"),\"\")","v":{"$error":"#NAME?"}}]
[1,6031,"生命",47,"魔抗",40,"异妖减伤",25,{"$nulls":4},1,47,4,40,59,25,{"$f":"[1]!SUMSTRING(M602:N602,\"#\")","v":{"$error":"#NAME?"}},{"$f":"[1]!SUMSTRING(O602:P602,\"#\")","v":{"$error":"#NAME?"}},{"$f":"IF(Q602<>0,[1]!SUMSTRING(Q602:R602,\"#\"),\"\")","v":{"$error":"#NAME?"}},{"$f":"[1]!SUMSTRING(S602:U602,\"|\")","v":{"$error":"#NAME?"}},"","","",{"$f":"IF(W602<>0,[1]!SUMSTRING(W602:Y602,\"#\"),\"\")","v":{"$error":"#NAME?"}}]
[2,6031,"生命",119,"魔抗",82,"异妖减伤",50,"武卫","碧水伤害",2000,null,1,119,4,82,59,50,{"$f":"[1]!SUMSTRING(M603:N603,\"#\")","v":{"$error":"#NAME?"}},{"$f":"[1]!SUMSTRING(O603:P603,\"#\")","v":{"$error":"#NAME?"}},{"$f":"IF(Q603<>0,[1]!SUMSTRING(Q603:R603,\"#\"),\"\")","v":{"$error":"#NAME?"}},{"$f":"[1]!SUMSTRING(S603:U603,\"|\")","v":{"$error":"#NAME?"}},1,103,2000,{"$f":"IF(W603<>0,[1]!SUMSTRING(W603:Y603,\"#\"),\"\")","v":{"$error":"#NAME?"}}]
[3,6031,"生命",214,"魔抗",122,"异妖减伤",75,{"$nulls":4},1,214,4,122,59,75,{"$f":"[1]!SUMSTRING(M604:N604,\"#\")","v":{"$error":"#NAME?"}},{"$f":"[1]!SUMSTRING(O604:P604,\"#\")","v":{"$error":"#NAME?"}},{"$f":"IF(Q604<>0,[1]!SUMSTRING(Q604:R604,\"#\"),\"\")","v":{"$error":"#NAME?"}},{"$f":"[1]!SUMSTRING(S604:U604,\"|\")","v":{"$error":"#NAME?"}},"","","",{"$f":"IF(W604<>0,[1]!SUMSTRING(W604:Y604,\"#\"),\"\")","v":{"$error":"#NAME?"}}]
[4,6031,"生命",334,"魔抗",164,"异妖减伤",100,{"$nulls":4},1,334,4,164,59,100,{"$f":"[1]!SUMSTRING(M605:N605,\"#\")","v":{"$error":"#NAME?"}},{"$f":"[1]!SUMSTRING(O605:P605,\"#\")","v":{"$error":"#NAME?"}},{"$f":"IF(Q605<>0,[1]!SUMSTRING(Q605:R605,\"#\"),\"\")","v":{"$error":"#NAME?"}},{"$f":"[1]!SUMSTRING(S605:U605,\"|\")","v":{"$error":"#NAME?"}},"","","",{"$f":"IF(W605<>0,[1]!SUMSTRING(W605:Y605,\"#\"),\"\")","v":{"$error":"#NAME?"}}]
[5,6031,"生命",477,"魔抗",204,"异妖减伤",125,"生花","碧水伤害",2000,null,1,477,4,204,59,125,{"$f":"[1]!SUMSTRING(M606:N606,\"#\")","v":{"$error":"#NAME?"}},{"$f":"[1]!SUMSTRING(O606:P606,\"#\")","v":{"$error":"#NAME?"}},{"$f":"IF(Q606<>0,[1]!SUMSTRING(Q606:R606,\"#\"),\"\")","v":{"$error":"#NAME?"}},{"$f":"[1]!SUMSTRING(S606:U606,\"|\")","v":{"$error":"#NAME?"}},5,103,2000,{"$f":"IF(W606<>0,[1]!SUMSTRING(W606:Y606,\"#\"),\"\")","v":{"$error":"#NAME?"}}]
[6,6031,"生命",644,"魔抗",246,"异妖减伤",150,{"$nulls":4},1,644,4,246,59,150,{"$f":"[1]!SUMSTRING(M607:N607,\"#\")","v":{"$error":"#NAME?"}},{"$f":"[1]!SUMSTRING(O607:P607,\"#\")","v":{"$error":"#NAME?"}},{"$f":"IF(Q607<>0,[1]!SUMSTRING(Q607:R607,\"#\"),\"\")","v":{"$error":"#NAME?"}},{"$f":"[1]!SUMSTRING(S607:U607,\"|\")","v":{"$error":"#NAME?"}},"","","",{"$f":"IF(W607<>0,[1]!SUMSTRING(W607:Y607,\"#\"),\"\")","v":{"$error":"#NAME?"}}]
[7,6031,"生命",835,"魔抗",288,"异妖减伤",175,{"$nulls":4},1,835,4,288,59,175,{"$f":"[1]!SUMSTRING(M608:N608,\"#\")","v":{"$error":"#NAME?"}},{"$f":"[1]!SUMSTRING(O608:P608,\"#\")","v":{"$error":"#NAME?"}},{"$f":"IF(Q608<>0,[1]!SUMSTRING(Q608:R608,\"#\"),\"\")","v":{"$error":"#NAME?"}},{"$f":"[1]!SUMSTRING(S608:U608,\"|\")","v":{"$error":"#NAME?"}},"","","",{"$f":"IF(W608<>0,[1]!SUMSTRING(W608:Y608,\"#\"),\"\")","v":{"$error":"#NAME?"}}]
[8,6031,"生命",1050,"魔抗",328,"异妖减伤",200,"秘法","碧水伤害",2000,null,1,1050,4,328,59,200,{"$f":"[1]!SUMSTRING(M609:N609,\"#\")","v":{"$error":"#NAME?"}},{"$f":"[1]!SUMSTRING(O609:P609,\"#\")","v":{"$error":"#NAME?"}},{"$f":"IF(Q609<>0,[1]!SUMSTRING(Q609:R609,\"#\"),\"\")","v":{"$error":"#NAME?"}},{"$f":"[1]!SUMSTRING(S609:U609,\"|\")","v":{"$error":"#NAME?"}},3,103,2000,{"$f":"IF(W609<>0,[1]!SUMSTRING(W609:Y609,\"#\"),\"\")","v":{"$error":"#NAME?"}}]
[9,6031,"生命",1289,"魔抗",370,"异妖减伤",225,{"$nulls":4},1,1289,4,370,59,225,{"$f":"[1]!SUMSTRING(M610:N610,\"#\")","v":{"$error":"#NAME?"}},{"$f":"[1]!SUMSTRING(O610:P610,\"#\")","v":{"$error":"#NAME?"}},{"$f":"IF(Q610<>0,[1]!SUMSTRING(Q610:R610,\"#\"),\"\")","v":{"$error":"#NAME?"}},{"$f":"[1]!SUMSTRING(S610:U610,\"|\")","v":{"$error":"#NAME?"}},"","","",{"$f":"IF(W610<>0,[1]!SUMSTRING(W610:Y610,\"#\"),\"\")","v":{"$error":"#NAME?"}}]
[10,6031,"生命",1551,"魔抗",410,"异妖减伤",250,{"$nulls":4},1,1551,4,410,59,250,{"$f":"[1]!SUMSTRING(M611:N611,\"#\")","v":{"$error":"#NAME?"}},{"$f":"[1]!SUMSTRING(O611:P611,\"#\")","v":{"$error":"#NAME?"}},{"$f":"IF(Q611<>0,[1]!SUMSTRING(Q611:R611,\"#\"),\"\")","v":{"$error":"#NAME?"}},{"$f":"[1]!SUMSTRING(S611:U611,\"|\")","v":{"$error":"#NAME?"}},"","","",{"$f":"IF(W611<>0,[1]!SUMSTRING(W611:Y611,\"#\"),\"\")","v":{"$error":"#NAME?"}}]
[11,6031,"生命",1838,"魔抗",452,"异妖减伤",275,"玄策","碧水伤害",2000,null,1,1838,4,452,59,275,{"$f":"[1]!SUMSTRING(M612:N612,\"#\")","v":{"$error":"#NAME?"}},{"$f":"[1]!SUMSTRING(O612:P612,\"#\")","v":{"$error":"#NAME?"}},{"$f":"IF(Q612<>0,[1]!SUMSTRING(Q612:R612,\"#\"),\"\")","v":{"$error":"#NAME?"}},{"$f":"[1]!SUMSTRING(S612:U612,\"|\")","v":{"$error":"#NAME?"}},4,103,2000,{"$f":"IF(W612<>0,[1]!SUMSTRING(W612:Y612,\"#\"),\"\")","v":{"$error":"#NAME?"}}]
[12,6031,"生命",2148,"魔抗",494,"异妖减伤",300,{"$nulls":4},1,2148,4,494,59,300,{"$f":"[1]!SUMSTRING(M613:N613,\"#\")","v":{"$error":"#NAME?"}},{"$f":"[1]!SUMSTRING(O613:P613,\"#\")","v":{"$error":"#NAME?"}},{"$f":"IF(Q613<>0,[1]!SUMSTRING(Q613:R613,\"#\"),\"\")","v":{"$error":"#NAME?"}},{"$f":"[1]!SUMSTRING(S613:U613,\"|\")","v":{"$error":"#NAME?"}},"","","",{"$f":"IF(W613<>0,[1]!SUMSTRING(W613:Y613,\"#\"),\"\")","v":{"$error":"#NAME?"}}]
[13,6031,"生命",2482,"魔抗",534,"异妖减伤",325,{"$nulls":4},1,2482,4,534,59,325,{"$f":"[1]!SUMSTRING(M614:N614,\"#\")","v":{"$error":"#NAME?"}},{"$f":"[1]!SUMSTRING(O614:P614,\"#\")","v":{"$error":"#NAME?"}},{"$f":"IF(Q614<>0,[1]!SUMSTRING(Q614:R614,\"#\"),\"\")","v":{"$error":"#NAME?"}},{"$f":"[1]!SUMSTRING(S614:U614,\"|\")","v":{"$error":"#NAME?"}},"","","",{"$f":"IF(W614<>0,[1]!SUMSTRING(W614:Y614,\"#\"),\"\")","v":{"$error":"#NAME?"}}]
[14,6031,"生命",2840,"魔抗",576,"异妖减伤",350,"天罚","碧水伤害",2000,null,1,2840,4,576,59,350,{"$f":"[1]!SUMSTRING(M615:N615,\"#\")","v":{"$error":"#NAME?"}},{"$f":"[1]!SUMSTRING(O615:P615,\"#\")","v":{"$error":"#NAME?"}},{"$f":"IF(Q615<>0,[1]!SUMSTRING(Q615:R615,\"#\"),\"\")","v":{"$error":"#NAME?"}},{"$f":"[1]!SUMSTRING(S615:U615,\"|\")","v":{"$error":"#NAME?"}},2,103,2000,{"$f":"IF(W615<>0,[1]!SUMSTRING(W615:Y615,\"#\"),\"\")","v":{"$error":"#NAME?"}}]
[15,6031,"生命",3222,"魔抗",616,"异妖减伤",375,{"$nulls":4},1,3222,4,616,59,375,{"$f":"[1]!SUMSTRING(M616:N616,\"#\")","v":{"$error":"#NAME?"}},{"$f":"[1]!SUMSTRING(O616:P616,\"#\")","v":{"$error":"#NAME?"}},{"$f":"IF(Q616<>0,[1]!SUMSTRING(Q616:R616,\"#\"),\"\")","v":{"$error":"#NAME?"}},{"$f":"[1]!SUMSTRING(S616:U616,\"|\")","v":{"$error":"#NAME?"}},"","","",{"$f":"IF(W616<>0,[1]!SUMSTRING(W616:Y616,\"#\"),\"\")","v":{"$error":"#NAME?"}}]
[16,6031,"生命",3628,"魔抗",658,"异妖减伤",400,{"$nulls":4},1,3628,4,658,59,400,{"$f":"[1]!SUMSTRING(M617:N617,\"#\")","v":{"$error":"#NAME?"}},{"$f":"[1]!SUMSTRING(O617:P617,\"#\")","v":{"$error":"#NAME?"}},{"$f":"IF(Q617<>0,[1]!SUMSTRING(Q617:R617,\"#\"),\"\")","v":{"$error":"#NAME?"}},{"$f":"[1]!SUMSTRING(S617:U617,\"|\")","v":{"$error":"#NAME?"}},"","","",{"$f":"IF(W617<>0,[1]!SUMSTRING(W617:Y617,\"#\"),\"\")","v":{"$error":"#NAME?"}}]
[17,6031,"生命",4057,"魔抗",700,"异妖减伤",425,"武卫","碧水伤害",1000,null,1,4057,4,700,59,425,{"$f":"[1]!SUMSTRING(M618:N618,\"#\")","v":{"$error":"#NAME?"}},{"$f":"[1]!SUMSTRING(O618:P618,\"#\")","v":{"$error":"#NAME?"}},{"$f":"IF(Q618<>0,[1]!SUMSTRING(Q618:R618,\"#\"),\"\")","v":{"$error":"#NAME?"}},{"$f":"[1]!SUMSTRING(S618:U618,\"|\")","v":{"$error":"#NAME?"}},1,103,1000,{"$f":"IF(W618<>0,[1]!SUMSTRING(W618:Y618,\"#\"),\"\")","v":{"$error":"#NAME?"}}]
[18,6031,"生命",4511,"魔抗",740,"异妖减伤",450,{"$nulls":4},1,4511,4,740,59,450,{"$f":"[1]!SUMSTRING(M619:N619,\"#\")","v":{"$error":"#NAME?"}},{"$f":"[1]!SUMSTRING(O619:P619,\"#\")","v":{"$error":"#NAME?"}},{"$f":"IF(Q619<>0,[1]!SUMSTRING(Q619:R619,\"#\"),\"\")","v":{"$error":"#NAME?"}},{"$f":"[1]!SUMSTRING(S619:U619,\"|\")","v":{"$error":"#NAME?"}},"","","",{"$f":"IF(W619<>0,[1]!SUMSTRING(W619:Y619,\"#\"),\"\")","v":{"$error":"#NAME?"}}]
[19,6031,"生命",4988,"魔抗",782,"异妖减伤",475,{"$nulls":4},1,4988,4,782,59,475,{"$f":"[1]!SUMSTRING(M620:N620,\"#\")","v":{"$error":"#NAME?"}},{"$f":"[1]!SUMSTRING(O620:P620,\"#\")","v":{"$error":"#NAME?"}},{"$f":"IF(Q620<>0,[1]!SUMSTRING(Q620:R620,\"#\"),\"\")","v":{"$error":"#NAME?"}},{"$f":"[1]!SUMSTRING(S620:U620,\"|\")","v":{"$error":"#NAME?"}},"","","",{"$f":"IF(W620<>0,[1]!SUMSTRING(W620:Y620,\"#\"),\"\")","v":{"$error":"#NAME?"}}]
[20,6031,"生命",5490,"魔抗",822,"异妖减伤",500,"生花","碧水伤害",1000,null,1,5490,4,822,59,500,{"$f":"[1]!SUMSTRING(M621:N621,\"#\")","v":{"$error":"#NAME?"}},{"$f":"[1]!SUMSTRING(O621:P621,\"#\")","v":{"$error":"#NAME?"}},{"$f":"IF(Q621<>0,[1]!SUMSTRING(Q621:R621,\"#\"),\"\")","v":{"$error":"#NAME?"}},{"$f":"[1]!SUMSTRING(S621:U621,\"|\")","v":{"$error":"#NAME?"}},5,103,1000,{"$f":"IF(W621<>0,[1]!SUMSTRING(W621:Y621,\"#\"),\"\")","v":{"$error":"#NAME?"}}]
[1,6032,"攻击",20,"异妖减伤",25,"异妖增伤",25,{"$nulls":4},2,20,59,25,66,25,{"$f":"[1]!SUMSTRING(M622:N622,\"#\")","v":{"$error":"#NAME?"}},{"$f":"[1]!SUMSTRING(O622:P622,\"#\")","v":{"$error":"#NAME?"}},{"$f":"IF(Q622<>0,[1]!SUMSTRING(Q622:R622,\"#\"),\"\")","v":{"$error":"#NAME?"}},{"$f":"[1]!SUMSTRING(S622:U622,\"|\")","v":{"$error":"#NAME?"}},"","","",{"$f":"IF(W622<>0,[1]!SUMSTRING(W622:Y622,\"#\"),\"\")","v":{"$error":"#NAME?"}}]
[2,6032,"攻击",41,"异妖减伤",50,"异妖增伤",50,"武卫","大地伤害",2000,null,2,41,59,50,66,50,{"$f":"[1]!SUMSTRING(M623:N623,\"#\")","v":{"$error":"#NAME?"}},{"$f":"[1]!SUMSTRING(O623:P623,\"#\")","v":{"$error":"#NAME?"}},{"$f":"IF(Q623<>0,[1]!SUMSTRING(Q623:R623,\"#\"),\"\")","v":{"$error":"#NAME?"}},{"$f":"[1]!SUMSTRING(S623:U623,\"|\")","v":{"$error":"#NAME?"}},1,104,2000,{"$f":"IF(W623<>0,[1]!SUMSTRING(W623:Y623,\"#\"),\"\")","v":{"$error":"#NAME?"}}]
[3,6032,"攻击",61,"异妖减伤",75,"异妖增伤",75,{"$nulls":4},2,61,59,75,66,75,{"$f":"[1]!SUMSTRING(M624:N624,\"#\")","v":{"$error":"#NAME?"}},{"$f":"[1]!SUMSTRING(O624:P624,\"#\")","v":{"$error":"#NAME?"}},{"$f":"IF(Q624<>0,[1]!SUMSTRING(Q624:R624,\"#\"),\"\")","v":{"$error":"#NAME?"}},{"$f":"[1]!SUMSTRING(S624:U624,\"|\")","v":{"$error":"#NAME?"}},"","","",{"$f":"IF(W624<>0,[1]!SUMSTRING(W624:Y624,\"#\"),\"\")","v":{"$error":"#NAME?"}}]
[4,6032,"攻击",82,"异妖减伤",100,"异妖增伤",100,{"$nulls":4},2,82,59,100,66,100,{"$f":"[1]!SUMSTRING(M625:N625,\"#\")","v":{"$error":"#NAME?"}},{"$f":"[1]!SUMSTRING(O625:P625,\"#\")","v":{"$error":"#NAME?"}},{"$f":"IF(Q625<>0,[1]!SUMSTRING(Q625:R625,\"#\"),\"\")","v":{"$error":"#NAME?"}},{"$f":"[1]!SUMSTRING(S625:U625,\"|\")","v":{"$error":"#NAME?"}},"","","",{"$f":"IF(W625<>0,[1]!SUMSTRING(W625:Y625,\"#\"),\"\")","v":{"$error":"#NAME?"}}]
[5,6032,"攻击",102,"异妖减伤",125,"异妖增伤",125,"生花","大地伤害",2000,null,2,102,59,125,66,125,{"$f":"[1]!SUMSTRING(M626:N626,\"#\")","v":{"$error":"#NAME?"}},{"$f":"[1]!SUMSTRING(O626:P626,\"#\")","v":{"$error":"#NAME?"}},{"$f":"IF(Q626<>0,[1]!SUMSTRING(Q626:R626,\"#\"),\"\")","v":{"$error":"#NAME?"}},{"$f":"[1]!SUMSTRING(S626:U626,\"|\")","v":{"$error":"#NAME?"}},5,104,2000,{"$f":"IF(W626<>0,[1]!SUMSTRING(W626:Y626,\"#\"),\"\")","v":{"$error":"#NAME?"}}]
[6,6032,"攻击",123,"异妖减伤",150,"异妖增伤",150,{"$nulls":4},2,123,59,150,66,150,{"$f":"[1]!SUMSTRING(M627:N627,\"#\")","v":{"$error":"#NAME?"}},{"$f":"[1]!SUMSTRING(O627:P627,\"#\")","v":{"$error":"#NAME?"}},{"$f":"IF(Q627<>0,[1]!SUMSTRING(Q627:R627,\"#\"),\"\")","v":{"$error":"#NAME?"}},{"$f":"[1]!SUMSTRING(S627:U627,\"|\")","v":{"$error":"#NAME?"}},"","","",{"$f":"IF(W627<>0,[1]!SUMSTRING(W627:Y627,\"#\"),\"\")","v":{"$error":"#NAME?"}}]
[7,6032,"攻击",144,"异妖减伤",175,"异妖增伤",175,{"$nulls":4},2,144,59,175,66,175,{"$f":"[1]!SUMSTRING(M628:N628,\"#\")","v":{"$error":"#NAME?"}},{"$f":"[1]!SUMSTRING(O628:P628,\"#\")","v":{"$error":"#NAME?"}},{"$f":"IF(Q628<>0,[1]!SUMSTRING(Q628:R628,\"#\"),\"\")","v":{"$error":"#NAME?"}},{"$f":"[1]!SUMSTRING(S628:U628,\"|\")","v":{"$error":"#NAME?"}},"","","",{"$f":"IF(W628<>0,[1]!SUMSTRING(W628:Y628,\"#\"),\"\")","v":{"$error":"#NAME?"}}]
[8,6032,"攻击",164,"异妖减伤",200,"异妖增伤",200,"秘法","大地伤害",2000,null,2,164,59,200,66,200,{"$f":"[1]!SUMSTRING(M629:N629,\"#\")","v":{"$error":"#NAME?"}},{"$f":"[1]!SUMSTRING(O629:P629,\"#\")","v":{"$error":"#NAME?"}},{"$f":"IF(Q629<>0,[1]!SUMSTRING(Q629:R629,\"#\"),\"\")","v":{"$error":"#NAME?"}},{"$f":"[1]!SUMSTRING(S629:U629,\"|\")","v":{"$error":"#NAME?"}},3,104,2000,{"$f":"IF(W629<>0,[1]!SUMSTRING(W629:Y629,\"#\"),\"\")","v":{"$error":"#NAME?"}}]
[9,6032,"攻击",185,"异妖减伤",225,"异妖增伤",225,{"$nulls":4},2,185,59,225,66,225,{"$f":"[1]!SUMSTRING(M630:N630,\"#\")","v":{"$error":"#NAME?"}},{"$f":"[1]!SUMSTRING(O630:P630,\"#\")","v":{"$error":"#NAME?"}},{"$f":"IF(Q630<>0,[1]!SUMSTRING(Q630:R630,\"#\"),\"\")","v":{"$error":"#NAME?"}},{"$f":"[1]!SUMSTRING(S630:U630,\"|\")","v":{"$error":"#NAME?"}},"","","",{"$f":"IF(W630<>0,[1]!SUMSTRING(W630:Y630,\"#\"),\"\")","v":{"$error":"#NAME?"}}]
[10,6032,"攻击",205,"异妖减伤",250,"异妖增伤",250,{"$nulls":4},2,205,59,250,66,250,{"$f":"[1]!SUMSTRING(M631:N631,\"#\")","v":{"$error":"#NAME?"}},{"$f":"[1]!SUMSTRING(O631:P631,\"#\")","v":{"$error":"#NAME?"}},{"$f":"IF(Q631<>0,[1]!SUMSTRING(Q631:R631,\"#\"),\"\")","v":{"$error":"#NAME?"}},{"$f":"[1]!SUMSTRING(S631:U631,\"|\")","v":{"$error":"#NAME?"}},"","","",{"$f":"IF(W631<>0,[1]!SUMSTRING(W631:Y631,\"#\"),\"\")","v":{"$error":"#NAME?"}}]
[11,6032,"攻击",226,"异妖减伤",275,"异妖增伤",275,"玄策","大地伤害",2000,null,2,226,59,275,66,275,{"$f":"[1]!SUMSTRING(M632:N632,\"#\")","v":{"$error":"#NAME?"}},{"$f":"[1]!SUMSTRING(O632:P632,\"#\")","v":{"$error":"#NAME?"}},{"$f":"IF(Q632<>0,[1]!SUMSTRING(Q632:R632,\"#\"),\"\")","v":{"$error":"#NAME?"}},{"$f":"[1]!SUMSTRING(S632:U632,\"|\")","v":{"$error":"#NAME?"}},4,104,2000,{"$f":"IF(W632<>0,[1]!SUMSTRING(W632:Y632,\"#\"),\"\")","v":{"$error":"#NAME?"}}]
[12,6032,"攻击",247,"异妖减伤",300,"异妖增伤",300,{"$nulls":4},2,247,59,300,66,300,{"$f":"[1]!SUMSTRING(M633:N633,\"#\")","v":{"$error":"#NAME?"}},{"$f":"[1]!SUMSTRING(O633:P633,\"#\")","v":{"$error":"#NAME?"}},{"$f":"IF(Q633<>0,[1]!SUMSTRING(Q633:R633,\"#\"),\"\")","v":{"$error":"#NAME?"}},{"$f":"[1]!SUMSTRING(S633:U633,\"|\")","v":{"$error":"#NAME?"}},"","","",{"$f":"IF(W633<>0,[1]!SUMSTRING(W633:Y633,\"#\"),\"\")","v":{"$error":"#NAME?"}}]
[13,6032,"攻击",267,"异妖减伤",325,"异妖增伤",325,{"$nulls":4},2,267,59,325,66,325,{"$f":"[1]!SUMSTRING(M634:N634,\"#\")","v":{"$error":"#NAME?"}},{"$f":"[1]!SUMSTRING(O634:P634,\"#\")","v":{"$error":"#NAME?"}},{"$f":"IF(Q634<>0,[1]!SUMSTRING(Q634:R634,\"#\"),\"\")","v":{"$error":"#NAME?"}},{"$f":"[1]!SUMSTRING(S634:U634,\"|\")","v":{"$error":"#NAME?"}},"","","",{"$f":"IF(W634<>0,[1]!SUMSTRING(W634:Y634,\"#\"),\"\")","v":{"$error":"#NAME?"}}]
[14,6032,"攻击",288,"异妖减伤",350,"异妖增伤",350,"天罚","大地伤害",2000,null,2,288,59,350,66,350,{"$f":"[1]!SUMSTRING(M635:N635,\"#\")","v":{"$error":"#NAME?"}},{"$f":"[1]!SUMSTRING(O635:P635,\"#\")","v":{"$error":"#NAME?"}},{"$f":"IF(Q635<>0,[1]!SUMSTRING(Q635:R635,\"#\"),\"\")","v":{"$error":"#NAME?"}},{"$f":"[1]!SUMSTRING(S635:U635,\"|\")","v":{"$error":"#NAME?"}},2,104,2000,{"$f":"IF(W635<>0,[1]!SUMSTRING(W635:Y635,\"#\"),\"\")","v":{"$error":"#NAME?"}}]
[15,6032,"攻击",308,"异妖减伤",375,"异妖增伤",375,{"$nulls":4},2,308,59,375,66,375,{"$f":"[1]!SUMSTRING(M636:N636,\"#\")","v":{"$error":"#NAME?"}},{"$f":"[1]!SUMSTRING(O636:P636,\"#\")","v":{"$error":"#NAME?"}},{"$f":"IF(Q636<>0,[1]!SUMSTRING(Q636:R636,\"#\"),\"\")","v":{"$error":"#NAME?"}},{"$f":"[1]!SUMSTRING(S636:U636,\"|\")","v":{"$error":"#NAME?"}},"","","",{"$f":"IF(W636<>0,[1]!SUMSTRING(W636:Y636,\"#\"),\"\")","v":{"$error":"#NAME?"}}]
[16,6032,"攻击",329,"异妖减伤",400,"异妖增伤",400,{"$nulls":4},2,329,59,400,66,400,{"$f":"[1]!SUMSTRING(M637:N637,\"#\")","v":{"$error":"#NAME?"}},{"$f":"[1]!SUMSTRING(O637:P637,\"#\")","v":{"$error":"#NAME?"}},{"$f":"IF(Q637<>0,[1]!SUMSTRING(Q637:R637,\"#\"),\"\")","v":{"$error":"#NAME?"}},{"$f":"[1]!SUMSTRING(S637:U637,\"|\")","v":{"$error":"#NAME?"}},"","","",{"$f":"IF(W637<>0,[1]!SUMSTRING(W637:Y637,\"#\"),\"\")","v":{"$error":"#NAME?"}}]
[17,6032,"攻击",350,"异妖减伤",425,"异妖增伤",425,"武卫","大地伤害",1000,null,2,350,59,425,66,425,{"$f":"[1]!SUMSTRING(M638:N638,\"#\")","v":{"$error":"#NAME?"}},{"$f":"[1]!SUMSTRING(O638:P638,\"#\")","v":{"$error":"#NAME?"}},{"$f":"IF(Q638<>0,[1]!SUMSTRING(Q638:R638,\"#\"),\"\")","v":{"$error":"#NAME?"}},{"$f":"[1]!SUMSTRING(S638:U638,\"|\")","v":{"$error":"#NAME?"}},1,104,1000,{"$f":"IF(W638<>0,[1]!SUMSTRING(W638:Y638,\"#\"),\"\")","v":{"$error":"#NAME?"}}]
[18,6032,"攻击",370,"异妖减伤",450,"异妖增伤",450,{"$nulls":4},2,370,59,450,66,450,{"$f":"[1]!SUMSTRING(M639:N639,\"#\")","v":{"$error":"#NAME?"}},{"$f":"[1]!SUMSTRING(O639:P639,\"#\")","v":{"$error":"#NAME?"}},{"$f":"IF(Q639<>0,[1]!SUMSTRING(Q639:R639,\"#\"),\"\")","v":{"$error":"#NAME?"}},{"$f":"[1]!SUMSTRING(S639:U639,\"|\")","v":{"$error":"#NAME?"}},"","","",{"$f":"IF(W639<>0,[1]!SUMSTRING(W639:Y639,\"#\"),\"\")","v":{"$error":"#NAME?"}}]
[19,6032,"攻击",391,"异妖减伤",475,"异妖增伤",475,{"$nulls":4},2,391,59,475,66,475,{"$f":"[1]!SUMSTRING(M640:N640,\"#\")","v":{"$error":"#NAME?"}},{"$f":"[1]!SUMSTRING(O640:P640,\"#\")","v":{"$error":"#NAME?"}},{"$f":"IF(Q640<>0,[1]!SUMSTRING(Q640:R640,\"#\"),\"\")","v":{"$error":"#NAME?"}},{"$f":"[1]!SUMSTRING(S640:U640,\"|\")","v":{"$error":"#NAME?"}},"","","",{"$f":"IF(W640<>0,[1]!SUMSTRING(W640:Y640,\"#\"),\"\")","v":{"$error":"#NAME?"}}]
[20,6032,"攻击",411,"异妖减伤",500,"异妖增伤",500,"生花","大地伤害",1000,null,2,411,59,500,66,500,{"$f":"[1]!SUMSTRING(M641:N641,\"#\")","v":{"$error":"#NAME?"}},{"$f":"[1]!SUMSTRING(O641:P641,\"#\")","v":{"$error":"#NAME?"}},{"$f":"IF(Q641<>0,[1]!SUMSTRING(Q641:R641,\"#\"),\"\")","v":{"$error":"#NAME?"}},{"$f":"[1]!SUMSTRING(S641:U641,\"|\")","v":{"$error":"#NAME?"}},5,104,1000,{"$f":"IF(W641<>0,[1]!SUMSTRING(W641:Y641,\"#\"),\"\")","v":{"$error":"#NAME?"}}]
[1,6033,"生命",47,"攻击",20,"异妖增伤",25,{"$nulls":4},1,47,2,20,66,25,{"$f":"[1]!SUMSTRING(M642:N642,\"#\")","v":{"$error":"#NAME?"}},{"$f":"[1]!SUMSTRING(O642:P642,\"#\")","v":{"$error":"#NAME?"}},{"$f":"IF(Q642<>0,[1]!SUMSTRING(Q642:R642,\"#\"),\"\")","v":{"$error":"#NAME?"}},{"$f":"[1]!SUMSTRING(S642:U642,\"|\")","v":{"$error":"#NAME?"}},"","","",{"$f":"IF(W642<>0,[1]!SUMSTRING(W642:Y642,\"#\"),\"\")","v":{"$error":"#NAME?"}}]
[2,6033,"生命",119,"攻击",41,"异妖增伤",50,"武卫","伤害加成",1000,null,{"$f":"VLOOKUP(C643,$AB:$AC,2,0)","v":1},{"$f":"D643","v":119},{"$f":"VLOOKUP(E643,$AB:$AC,2,0)","v":2},{"$f":"F643","v":41},{"$f":"IF(G643<>0,VLOOKUP(G643,$AB:$AC,2,0),\"\")","v":66},{"$f":"IF(H643<>0,H643,\"\")","v":50},{"$f":"[1]!SUMSTRING(M643:N643,\"#\")","v":{"$error":"#NAME?"}},{"$f":"[1]!SUMSTRING(O643:P643,\"#\")","v":{"$error":"#NAME?"}},{"$f":"IF(Q643<>0,[1]!SUMSTRING(Q643:R643,\"#\"),\"\")","v":{"$error":"#NAME?"}},{"$f":"[1]!SUMSTRING(S643:U643,\"|\")","v":{"$error":"#NAME?"}},1,{"$f":"IF(J643<>0,VLOOKUP(J643,$AB:$AC,2,0),\"\")","v":51},{"$f":"IF(K643<>0,K643,\"\")","v":1000},{"$f":"IF(W643<>0,[1]!SUMSTRING(W643:Y643,\"#\"),\"\")","v":{"$error":"#NAME?"}}]
[3,6033,"生命",214,"攻击",61,"异妖增伤",75,{"$nulls":4},1,214,2,61,66,75,{"$f":"[1]!SUMSTRING(M644:N644,\"#\")","v":{"$error":"#NAME?"}},{"$f":"[1]!SUMSTRING(O644:P644,\"#\")","v":{"$error":"#NAME?"}},{"$f":"IF(Q644<>0,[1]!SUMSTRING(Q644:R644,\"#\"),\"\")","v":{"$error":"#NAME?"}},{"$f":"[1]!SUMSTRING(S644:U644,\"|\")","v":{"$error":"#NAME?"}},{"$f":"IF(I644<>0,VLOOKUP(I644,$AG$3:$AH$7,2,0),\"\")","v":""},"","",{"$f":"IF(W644<>0,[1]!SUMSTRING(W644:Y644,\"#\"),\"\")","v":{"$error":"#NAME?"}}]
[4,6033,"生命",334,"攻击",82,"异妖增伤",100,{"$nulls":4},1,334,2,82,66,100,{"$f":"[1]!SUMSTRING(M645:N645,\"#\")","v":{"$error":"#NAME?"}},{"$f":"[1]!SUMSTRING(O645:P645,\"#\")","v":{"$error":"#NAME?"}},{"$f":"IF(Q645<>0,[1]!SUMSTRING(Q645:R645,\"#\"),\"\")","v":{"$error":"#NAME?"}},{"$f":"[1]!SUMSTRING(S645:U645,\"|\")","v":{"$error":"#NAME?"}},"","","",{"$f":"IF(W645<>0,[1]!SUMSTRING(W645:Y645,\"#\"),\"\")","v":{"$error":"#NAME?"}}]
[5,6033,"生命",477,"攻击",102,"异妖增伤",125,"生花","伤害加成",1000,null,1,477,2,102,66,125,{"$f":"[1]!SUMSTRING(M646:N646,\"#\")","v":{"$error":"#NAME?"}},{"$f":"[1]!SUMSTRING(O646:P646,\"#\")","v":{"$error":"#NAME?"}},{"$f":"IF(Q646<>0,[1]!SUMSTRING(Q646:R646,\"#\"),\"\")","v":{"$error":"#NAME?"}},{"$f":"[1]!SUMSTRING(S646:U646,\"|\")","v":{"$error":"#NAME?"}},5,51,1000,{"$f":"IF(W646<>0,[1]!SUMSTRING(W646:Y646,\"#\"),\"\")","v":{"$error":"#NAME?"}}]
[6,6033,"生命",644,"攻击",123,"异妖增伤",150,{"$nulls":4},1,644,2,123,66,150,{"$f":"[1]!SUMSTRING(M647:N647,\"#\")","v":{"$error":"#NAME?"}},{"$f":"[1]!SUMSTRING(O647:P647,\"#\")","v":{"$error":"#NAME?"}},{"$f":"IF(Q647<>0,[1]!SUMSTRING(Q647:R647,\"#\"),\"\")","v":{"$error":"#NAME?"}},{"$f":"[1]!SUMSTRING(S647:U647,\"|\")","v":{"$error":"#NAME?"}},"","","",{"$f":"IF(W647<>0,[1]!SUMSTRING(W647:Y647,\"#\"),\"\")","v":{"$error":"#NAME?"}}]
[7,6033,"生命",835,"攻击",144,"异妖增伤",175,{"$nulls":4},1,835,2,144,66,175,{"$f":"[1]!SUMSTRING(M648:N648,\"#\")","v":{"$error":"#NAME?"}},{"$f":"[1]!SUMSTRING(O648:P648,\"#\")","v":{"$error":"#NAME?"}},{"$f":"IF(Q648<>0,[1]!SUMSTRING(Q648:R648,\"#\"),\"\")","v":{"$error":"#NAME?"}},{"$f":"[1]!SUMSTRING(S648:U648,\"|\")","v":{"$error":"#NAME?"}},"","","",{"$f":"IF(W648<>0,[1]!SUMSTRING(W648:Y648,\"#\"),\"\")","v":{"$error":"#NAME?"}}]
[8,6033,"生命",1050,"攻击",164,"异妖增伤",200,"秘法","伤害加成",1000,null,1,1050,2,164,66,200,{"$f":"[1]!SUMSTRING(M649:N649,\"#\")","v":{"$error":"#NAME?"}},{"$f":"[1]!SUMSTRING(O649:P649,\"#\")","v":{"$error":"#NAME?"}},{"$f":"IF(Q649<>0,[1]!SUMSTRING(Q649:R649,\"#\"),\"\")","v":{"$error":"#NAME?"}},{"$f":"[1]!SUMSTRING(S649:U649,\"|\")","v":{"$error":"#NAME?"}},3,51,1000,{"$f":"IF(W649<>0,[1]!SUMSTRING(W649:Y649,\"#\"),\"\")","v":{"$error":"#NAME?"}}]
[9,6033,"生命",1289,"攻击",185,"异妖增伤",225,{"$nulls":4},1,1289,2,185,66,225,{"$f":"[1]!SUMSTRING(M650:N650,\"#\")","v":{"$error":"#NAME?"}},{"$f":"[1]!SUMSTRING(O650:P650,\"#\")","v":{"$error":"#NAME?"}},{"$f":"IF(Q650<>0,[1]!SUMSTRING(Q650:R650,\"#\"),\"\")","v":{"$error":"#NAME?"}},{"$f":"[1]!SUMSTRING(S650:U650,\"|\")","v":{"$error":"#NAME?"}},"","","",{"$f":"IF(W650<>0,[1]!SUMSTRING(W650:Y650,\"#\"),\"\")","v":{"$error":"#NAME?"}}]
[10,6033,"生命",1551,"攻击",205,"异妖增伤",250,{"$nulls":4},1,1551,2,205,66,250,{"$f":"[1]!SUMSTRING(M651:N651,\"#\")","v":{"$error":"#NAME?"}},{"$f":"[1]!SUMSTRING(O651:P651,\"#\")","v":{"$error":"#NAME?"}},{"$f":"IF(Q651<>0,[1]!SUMSTRING(Q651:R651,\"#\"),\"\")","v":{"$error":"#NAME?"}},{"$f":"[1]!SUMSTRING(S651:U651,\"|\")","v":{"$error":"#NAME?"}},"","","",{"$f":"IF(W651<>0,[1]!SUMSTRING(W651:Y651,\"#\"),\"\")","v":{"$error":"#NAME?"}}]
[11,6033,"生命",1838,"攻击",226,"异妖增伤",275,"玄策","伤害加成",1000,null,1,1838,2,226,66,275,{"$f":"[1]!SUMSTRING(M652:N652,\"#\")","v":{"$error":"#NAME?"}},{"$f":"[1]!SUMSTRING(O652:P652,\"#\")","v":{"$error":"#NAME?"}},{"$f":"IF(Q652<>0,[1]!SUMSTRING(Q652:R652,\"#\"),\"\")","v":{"$error":"#NAME?"}},{"$f":"[1]!SUMSTRING(S652:U652,\"|\")","v":{"$error":"#NAME?"}},4,51,1000,{"$f":"IF(W652<>0,[1]!SUMSTRING(W652:Y652,\"#\"),\"\")","v":{"$error":"#NAME?"}}]
[12,6033,"生命",2148,"攻击",247,"异妖增伤",300,{"$nulls":4},1,2148,2,247,66,300,{"$f":"[1]!SUMSTRING(M653:N653,\"#\")","v":{"$error":"#NAME?"}},{"$f":"[1]!SUMSTRING(O653:P653,\"#\")","v":{"$error":"#NAME?"}},{"$f":"IF(Q653<>0,[1]!SUMSTRING(Q653:R653,\"#\"),\"\")","v":{"$error":"#NAME?"}},{"$f":"[1]!SUMSTRING(S653:U653,\"|\")","v":{"$error":"#NAME?"}},"","","",{"$f":"IF(W653<>0,[1]!SUMSTRING(W653:Y653,\"#\"),\"\")","v":{"$error":"#NAME?"}}]
[13,6033,"生命",2482,"攻击",267,"异妖增伤",325,{"$nulls":4},1,2482,2,267,66,325,{"$f":"[1]!SUMSTRING(M654:N654,\"#\")","v":{"$error":"#NAME?"}},{"$f":"[1]!SUMSTRING(O654:P654,\"#\")","v":{"$error":"#NAME?"}},{"$f":"IF(Q654<>0,[1]!SUMSTRING(Q654:R654,\"#\"),\"\")","v":{"$error":"#NAME?"}},{"$f":"[1]!SUMSTRING(S654:U654,\"|\")","v":{"$error":"#NAME?"}},"","","",{"$f":"IF(W654<>0,[1]!SUMSTRING(W654:Y654,\"#\"),\"\")","v":{"$error":"#NAME?"}}]
[14,6033,"生命",2840,"攻击",288,"异妖增伤",350,"天罚","伤害加成",1000,null,1,2840,2,288,66,350,{"$f":"[1]!SUMSTRING(M655:N655,\"#\")","v":{"$error":"#NAME?"}},{"$f":"[1]!SUMSTRING(O655:P655,\"#\")","v":{"$error":"#NAME?"}},{"$f":"IF(Q655<>0,[1]!SUMSTRING(Q655:R655,\"#\"),\"\")","v":{"$error":"#NAME?"}},{"$f":"[1]!SUMSTRING(S655:U655,\"|\")","v":{"$error":"#NAME?"}},2,51,1000,{"$f":"IF(W655<>0,[1]!SUMSTRING(W655:Y655,\"#\"),\"\")","v":{"$error":"#NAME?"}}]
[15,6033,"生命",3222,"攻击",308,"异妖增伤",375,{"$nulls":4},1,3222,2,308,66,375,{"$f":"[1]!SUMSTRING(M656:N656,\"#\")","v":{"$error":"#NAME?"}},{"$f":"[1]!SUMSTRING(O656:P656,\"#\")","v":{"$error":"#NAME?"}},{"$f":"IF(Q656<>0,[1]!SUMSTRING(Q656:R656,\"#\"),\"\")","v":{"$error":"#NAME?"}},{"$f":"[1]!SUMSTRING(S656:U656,\"|\")","v":{"$error":"#NAME?"}},"","","",{"$f":"IF(W656<>0,[1]!SUMSTRING(W656:Y656,\"#\"),\"\")","v":{"$error":"#NAME?"}}]
[16,6033,"生命",3628,"攻击",329,"异妖增伤",400,{"$nulls":4},1,3628,2,329,66,400,{"$f":"[1]!SUMSTRING(M657:N657,\"#\")","v":{"$error":"#NAME?"}},{"$f":"[1]!SUMSTRING(O657:P657,\"#\")","v":{"$error":"#NAME?"}},{"$f":"IF(Q657<>0,[1]!SUMSTRING(Q657:R657,\"#\"),\"\")","v":{"$error":"#NAME?"}},{"$f":"[1]!SUMSTRING(S657:U657,\"|\")","v":{"$error":"#NAME?"}},"","","",{"$f":"IF(W657<>0,[1]!SUMSTRING(W657:Y657,\"#\"),\"\")","v":{"$error":"#NAME?"}}]
[17,6033,"生命",4057,"攻击",350,"异妖增伤",425,"秘法","伤害加成",500,null,1,4057,2,350,66,425,{"$f":"[1]!SUMSTRING(M658:N658,\"#\")","v":{"$error":"#NAME?"}},{"$f":"[1]!SUMSTRING(O658:P658,\"#\")","v":{"$error":"#NAME?"}},{"$f":"IF(Q658<>0,[1]!SUMSTRING(Q658:R658,\"#\"),\"\")","v":{"$error":"#NAME?"}},{"$f":"[1]!SUMSTRING(S658:U658,\"|\")","v":{"$error":"#NAME?"}},3,51,500,{"$f":"IF(W658<>0,[1]!SUMSTRING(W658:Y658,\"#\"),\"\")","v":{"$error":"#NAME?"}}]
[18,6033,"生命",4511,"攻击",370,"异妖增伤",450,{"$nulls":4},1,4511,2,370,66,450,{"$f":"[1]!SUMSTRING(M659:N659,\"#\")","v":{"$error":"#NAME?"}},{"$f":"[1]!SUMSTRING(O659:P659,\"#\")","v":{"$error":"#NAME?"}},{"$f":"IF(Q659<>0,[1]!SUMSTRING(Q659:R659,\"#\"),\"\")","v":{"$error":"#NAME?"}},{"$f":"[1]!SUMSTRING(S659:U659,\"|\")","v":{"$error":"#NAME?"}},"","","",{"$f":"IF(W659<>0,[1]!SUMSTRING(W659:Y659,\"#\"),\"\")","v":{"$error":"#NAME?"}}]
[19,6033,"生命",4988,"攻击",391,"异妖增伤",475,{"$nulls":4},1,4988,2,391,66,475,{"$f":"[1]!SUMSTRING(M660:N660,\"#\")","v":{"$error":"#NAME?"}},{"$f":"[1]!SUMSTRING(O660:P660,\"#\")","v":{"$error":"#NAME?"}},{"$f":"IF(Q660<>0,[1]!SUMSTRING(Q660:R660,\"#\"),\"\")","v":{"$error":"#NAME?"}},{"$f":"[1]!SUMSTRING(S660:U660,\"|\")","v":{"$error":"#NAME?"}},"","","",{"$f":"IF(W660<>0,[1]!SUMSTRING(W660:Y660,\"#\"),\"\")","v":{"$error":"#NAME?"}}]
[20,6033,"生命",5490,"攻击",411,"异妖增伤",500,"玄策","伤害加成",500,null,1,5490,2,411,66,500,{"$f":"[1]!SUMSTRING(M661:N661,\"#\")","v":{"$error":"#NAME?"}},{"$f":"[1]!SUMSTRING(O661:P661,\"#\")","v":{"$error":"#NAME?"}},{"$f":"IF(Q661<>0,[1]!SUMSTRING(Q661:R661,\"#\"),\"\")","v":{"$error":"#NAME?"}},{"$f":"[1]!SUMSTRING(S661:U661,\"|\")","v":{"$error":"#NAME?"}},4,51,500,{"$f":"IF(W661<>0,[1]!SUMSTRING(W661:Y661,\"#\"),\"\")","v":{"$error":"#NAME?"}}]
[1,6034,"生命",47,"护甲",40,"异妖减伤",25,{"$nulls":4},1,47,3,40,59,25,{"$f":"[1]!SUMSTRING(M662:N662,\"#\")","v":{"$error":"#NAME?"}},{"$f":"[1]!SUMSTRING(O662:P662,\"#\")","v":{"$error":"#NAME?"}},{"$f":"IF(Q662<>0,[1]!SUMSTRING(Q662:R662,\"#\"),\"\")","v":{"$error":"#NAME?"}},{"$f":"[1]!SUMSTRING(S662:U662,\"|\")","v":{"$error":"#NAME?"}},"","","",{"$f":"IF(W662<>0,[1]!SUMSTRING(W662:Y662,\"#\"),\"\")","v":{"$error":"#NAME?"}}]
[{"$f":"A643","v":2},{"$f":"B643+1","v":6034},"生命",119,"护甲",82,"异妖减伤",50,"武卫","伤害减免",1000,null,1,119,3,82,59,50,{"$f":"[1]!SUMSTRING(M663:N663,\"#\")","v":{"$error":"#NAME?"}},{"$f":"[1]!SUMSTRING(O663:P663,\"#\")","v":{"$error":"#NAME?"}},{"$f":"IF(Q663<>0,[1]!SUMSTRING(Q663:R663,\"#\"),\"\")","v":{"$error":"#NAME?"}},{"$f":"[1]!SUMSTRING(S663:U663,\"|\")","v":{"$error":"#NAME?"}},1,52,1000,{"$f":"IF(W663<>0,[1]!SUMSTRING(W663:Y663,\"#\"),\"\")","v":{"$error":"#NAME?"}}]
[3,6034,"生命",214,"护甲",122,"异妖减伤",75,{"$nulls":4},1,214,3,122,59,75,{"$f":"[1]!SUMSTRING(M664:N664,\"#\")","v":{"$error":"#NAME?"}},{"$f":"[1]!SUMSTRING(O664:P664,\"#\")","v":{"$error":"#NAME?"}},{"$f":"IF(Q664<>0,[1]!SUMSTRING(Q664:R664,\"#\"),\"\")","v":{"$error":"#NAME?"}},{"$f":"[1]!SUMSTRING(S664:U664,\"|\")","v":{"$error":"#NAME?"}},"","","",{"$f":"IF(W664<>0,[1]!SUMSTRING(W664:Y664,\"#\"),\"\")","v":{"$error":"#NAME?"}}]
[4,6034,"生命",334,"护甲",164,"异妖减伤",100,{"$nulls":4},1,334,3,164,59,100,{"$f":"[1]!SUMSTRING(M665:N665,\"#\")","v":{"$error":"#NAME?"}},{"$f":"[1]!SUMSTRING(O665:P665,\"#\")","v":{"$error":"#NAME?"}},{"$f":"IF(Q665<>0,[1]!SUMSTRING(Q665:R665,\"#\"),\"\")","v":{"$error":"#NAME?"}},{"$f":"[1]!SUMSTRING(S665:U665,\"|\")","v":{"$error":"#NAME?"}},"","","",{"$f":"IF(W665<>0,[1]!SUMSTRING(W665:Y665,\"#\"),\"\")","v":{"$error":"#NAME?"}}]
[5,6034,"生命",477,"护甲",204,"异妖减伤",125,"生花","伤害减免",1000,null,1,477,3,204,59,125,{"$f":"[1]!SUMSTRING(M666:N666,\"#\")","v":{"$error":"#NAME?"}},{"$f":"[1]!SUMSTRING(O666:P666,\"#\")","v":{"$error":"#NAME?"}},{"$f":"IF(Q666<>0,[1]!SUMSTRING(Q666:R666,\"#\"),\"\")","v":{"$error":"#NAME?"}},{"$f":"[1]!SUMSTRING(S666:U666,\"|\")","v":{"$error":"#NAME?"}},5,52,1000,{"$f":"IF(W666<>0,[1]!SUMSTRING(W666:Y666,\"#\"),\"\")","v":{"$error":"#NAME?"}}]
[6,6034,"生命",644,"护甲",246,"异妖减伤",150,{"$nulls":4},1,644,3,246,59,150,{"$f":"[1]!SUMSTRING(M667:N667,\"#\")","v":{"$error":"#NAME?"}},{"$f":"[1]!SUMSTRING(O667:P667,\"#\")","v":{"$error":"#NAME?"}},{"$f":"IF(Q667<>0,[1]!SUMSTRING(Q667:R667,\"#\"),\"\")","v":{"$error":"#NAME?"}},{"$f":"[1]!SUMSTRING(S667:U667,\"|\")","v":{"$error":"#NAME?"}},"","","",{"$f":"IF(W667<>0,[1]!SUMSTRING(W667:Y667,\"#\"),\"\")","v":{"$error":"#NAME?"}}]
[7,6034,"生命",835,"护甲",288,"异妖减伤",175,{"$nulls":4},1,835,3,288,59,175,{"$f":"[1]!SUMSTRING(M668:N668,\"#\")","v":{"$error":"#NAME?"}},{"$f":"[1]!SUMSTRING(O668:P668,\"#\")","v":{"$error":"#NAME?"}},{"$f":"IF(Q668<>0,[1]!SUMSTRING(Q668:R668,\"#\"),\"\")","v":{"$error":"#NAME?"}},{"$f":"[1]!SUMSTRING(S668:U668,\"|\")","v":{"$error":"#NAME?"}},"","","",{"$f":"IF(W668<>0,[1]!SUMSTRING(W668:Y668,\"#\"),\"\")","v":{"$error":"#NAME?"}}]
[8,6034,"生命",1050,"护甲",328,"异妖减伤",200,"秘法","伤害减免",1000,null,1,1050,3,328,59,200,{"$f":"[1]!SUMSTRING(M669:N669,\"#\")","v":{"$error":"#NAME?"}},{"$f":"[1]!SUMSTRING(O669:P669,\"#\")","v":{"$error":"#NAME?"}},{"$f":"IF(Q669<>0,[1]!SUMSTRING(Q669:R669,\"#\"),\"\")","v":{"$error":"#NAME?"}},{"$f":"[1]!SUMSTRING(S669:U669,\"|\")","v":{"$error":"#NAME?"}},3,52,1000,{"$f":"IF(W669<>0,[1]!SUMSTRING(W669:Y669,\"#\"),\"\")","v":{"$error":"#NAME?"}}]
[9,6034,"生命",1289,"护甲",370,"异妖减伤",225,{"$nulls":4},1,1289,3,370,59,225,{"$f":"[1]!SUMSTRING(M670:N670,\"#\")","v":{"$error":"#NAME?"}},{"$f":"[1]!SUMSTRING(O670:P670,\"#\")","v":{"$error":"#NAME?"}},{"$f":"IF(Q670<>0,[1]!SUMSTRING(Q670:R670,\"#\"),\"\")","v":{"$error":"#NAME?"}},{"$f":"[1]!SUMSTRING(S670:U670,\"|\")","v":{"$error":"#NAME?"}},"","","",{"$f":"IF(W670<>0,[1]!SUMSTRING(W670:Y670,\"#\"),\"\")","v":{"$error":"#NAME?"}}]
[10,6034,"生命",1551,"护甲",410,"异妖减伤",250,{"$nulls":4},1,1551,3,410,59,250,{"$f":"[1]!SUMSTRING(M671:N671,\"#\")","v":{"$error":"#NAME?"}},{"$f":"[1]!SUMSTRING(O671:P671,\"#\")","v":{"$error":"#NAME?"}},{"$f":"IF(Q671<>0,[1]!SUMSTRING(Q671:R671,\"#\"),\"\")","v":{"$error":"#NAME?"}},{"$f":"[1]!SUMSTRING(S671:U671,\"|\")","v":{"$error":"#NAME?"}},"","","",{"$f":"IF(W671<>0,[1]!SUMSTRING(W671:Y671,\"#\"),\"\")","v":{"$error":"#NAME?"}}]
[11,6034,"生命",1838,"护甲",452,"异妖减伤",275,"玄策","伤害减免",1000,null,1,1838,3,452,59,275,{"$f":"[1]!SUMSTRING(M672:N672,\"#\")","v":{"$error":"#NAME?"}},{"$f":"[1]!SUMSTRING(O672:P672,\"#\")","v":{"$error":"#NAME?"}},{"$f":"IF(Q672<>0,[1]!SUMSTRING(Q672:R672,\"#\"),\"\")","v":{"$error":"#NAME?"}},{"$f":"[1]!SUMSTRING(S672:U672,\"|\")","v":{"$error":"#NAME?"}},4,52,1000,{"$f":"IF(W672<>0,[1]!SUMSTRING(W672:Y672,\"#\"),\"\")","v":{"$error":"#NAME?"}}]
[12,6034,"生命",2148,"护甲",494,"异妖减伤",300,{"$nulls":4},1,2148,3,494,59,300,{"$f":"[1]!SUMSTRING(M673:N673,\"#\")","v":{"$error":"#NAME?"}},{"$f":"[1]!SUMSTRING(O673:P673,\"#\")","v":{"$error":"#NAME?"}},{"$f":"IF(Q673<>0,[1]!SUMSTRING(Q673:R673,\"#\"),\"\")","v":{"$error":"#NAME?"}},{"$f":"[1]!SUMSTRING(S673:U673,\"|\")","v":{"$error":"#NAME?"}},"","","",{"$f":"IF(W673<>0,[1]!SUMSTRING(W673:Y673,\"#\"),\"\")","v":{"$error":"#NAME?"}}]
[13,6034,"生命",2482,"护甲",534,"异妖减伤",325,{"$nulls":4},1,2482,3,534,59,325,{"$f":"[1]!SUMSTRING(M674:N674,\"#\")","v":{"$error":"#NAME?"}},{"$f":"[1]!SUMSTRING(O674:P674,\"#\")","v":{"$error":"#NAME?"}},{"$f":"IF(Q674<>0,[1]!SUMSTRING(Q674:R674,\"#\"),\"\")","v":{"$error":"#NAME?"}},{"$f":"[1]!SUMSTRING(S674:U674,\"|\")","v":{"$error":"#NAME?"}},"","","",{"$f":"IF(W674<>0,[1]!SUMSTRING(W674:Y674,\"#\"),\"\")","v":{"$error":"#NAME?"}}]
[14,6034,"生命",2840,"护甲",576,"异妖减伤",350,"天罚","伤害减免",1000,null,1,2840,3,576,59,350,{"$f":"[1]!SUMSTRING(M675:N675,\"#\")","v":{"$error":"#NAME?"}},{"$f":"[1]!SUMSTRING(O675:P675,\"#\")","v":{"$error":"#NAME?"}},{"$f":"IF(Q675<>0,[1]!SUMSTRING(Q675:R675,\"#\"),\"\")","v":{"$error":"#NAME?"}},{"$f":"[1]!SUMSTRING(S675:U675,\"|\")","v":{"$error":"#NAME?"}},2,52,1000,{"$f":"IF(W675<>0,[1]!SUMSTRING(W675:Y675,\"#\"),\"\")","v":{"$error":"#NAME?"}}]
[15,6034,"生命",3222,"护甲",616,"异妖减伤",375,{"$nulls":4},1,3222,3,616,59,375,{"$f":"[1]!SUMSTRING(M676:N676,\"#\")","v":{"$error":"#NAME?"}},{"$f":"[1]!SUMSTRING(O676:P676,\"#\")","v":{"$error":"#NAME?"}},{"$f":"IF(Q676<>0,[1]!SUMSTRING(Q676:R676,\"#\"),\"\")","v":{"$error":"#NAME?"}},{"$f":"[1]!SUMSTRING(S676:U676,\"|\")","v":{"$error":"#NAME?"}},"","","",{"$f":"IF(W676<>0,[1]!SUMSTRING(W676:Y676,\"#\"),\"\")","v":{"$error":"#NAME?"}}]
[16,6034,"生命",3628,"护甲",658,"异妖减伤",400,{"$nulls":4},1,3628,3,658,59,400,{"$f":"[1]!SUMSTRING(M677:N677,\"#\")","v":{"$error":"#NAME?"}},{"$f":"[1]!SUMSTRING(O677:P677,\"#\")","v":{"$error":"#NAME?"}},{"$f":"IF(Q677<>0,[1]!SUMSTRING(Q677:R677,\"#\"),\"\")","v":{"$error":"#NAME?"}},{"$f":"[1]!SUMSTRING(S677:U677,\"|\")","v":{"$error":"#NAME?"}},"","","",{"$f":"IF(W677<>0,[1]!SUMSTRING(W677:Y677,\"#\"),\"\")","v":{"$error":"#NAME?"}}]
[17,6034,"生命",4057,"护甲",700,"异妖减伤",425,"天罚","伤害减免",500,null,1,4057,3,700,59,425,{"$f":"[1]!SUMSTRING(M678:N678,\"#\")","v":{"$error":"#NAME?"}},{"$f":"[1]!SUMSTRING(O678:P678,\"#\")","v":{"$error":"#NAME?"}},{"$f":"IF(Q678<>0,[1]!SUMSTRING(Q678:R678,\"#\"),\"\")","v":{"$error":"#NAME?"}},{"$f":"[1]!SUMSTRING(S678:U678,\"|\")","v":{"$error":"#NAME?"}},2,52,500,{"$f":"IF(W678<>0,[1]!SUMSTRING(W678:Y678,\"#\"),\"\")","v":{"$error":"#NAME?"}}]
[18,6034,"生命",4511,"护甲",740,"异妖减伤",450,{"$nulls":4},1,4511,3,740,59,450,{"$f":"[1]!SUMSTRING(M679:N679,\"#\")","v":{"$error":"#NAME?"}},{"$f":"[1]!SUMSTRING(O679:P679,\"#\")","v":{"$error":"#NAME?"}},{"$f":"IF(Q679<>0,[1]!SUMSTRING(Q679:R679,\"#\"),\"\")","v":{"$error":"#NAME?"}},{"$f":"[1]!SUMSTRING(S679:U679,\"|\")","v":{"$error":"#NAME?"}},"","","",{"$f":"IF(W679<>0,[1]!SUMSTRING(W679:Y679,\"#\"),\"\")","v":{"$error":"#NAME?"}}]
[19,6034,"生命",4988,"护甲",782,"异妖减伤",475,{"$nulls":4},1,4988,3,782,59,475,{"$f":"[1]!SUMSTRING(M680:N680,\"#\")","v":{"$error":"#NAME?"}},{"$f":"[1]!SUMSTRING(O680:P680,\"#\")","v":{"$error":"#NAME?"}},{"$f":"IF(Q680<>0,[1]!SUMSTRING(Q680:R680,\"#\"),\"\")","v":{"$error":"#NAME?"}},{"$f":"[1]!SUMSTRING(S680:U680,\"|\")","v":{"$error":"#NAME?"}},"","","",{"$f":"IF(W680<>0,[1]!SUMSTRING(W680:Y680,\"#\"),\"\")","v":{"$error":"#NAME?"}}]
[20,6034,"生命",5490,"护甲",822,"异妖减伤",500,"玄策","伤害减免",500,null,1,5490,3,822,59,500,{"$f":"[1]!SUMSTRING(M681:N681,\"#\")","v":{"$error":"#NAME?"}},{"$f":"[1]!SUMSTRING(O681:P681,\"#\")","v":{"$error":"#NAME?"}},{"$f":"IF(Q681<>0,[1]!SUMSTRING(Q681:R681,\"#\"),\"\")","v":{"$error":"#NAME?"}},{"$f":"[1]!SUMSTRING(S681:U681,\"|\")","v":{"$error":"#NAME?"}},4,52,500,{"$f":"IF(W681<>0,[1]!SUMSTRING(W681:Y681,\"#\"),\"\")","v":{"$error":"#NAME?"}}]
[1,6035,"生命",47,"魔抗",40,"异妖减伤",25,{"$nulls":4},1,47,4,40,59,25,{"$f":"[1]!SUMSTRING(M682:N682,\"#\")","v":{"$error":"#NAME?"}},{"$f":"[1]!SUMSTRING(O682:P682,\"#\")","v":{"$error":"#NAME?"}},{"$f":"IF(Q682<>0,[1]!SUMSTRING(Q682:R682,\"#\"),\"\")","v":{"$error":"#NAME?"}},{"$f":"[1]!SUMSTRING(S682:U682,\"|\")","v":{"$error":"#NAME?"}},"","","",{"$f":"IF(W682<>0,[1]!SUMSTRING(W682:Y682,\"#\"),\"\")","v":{"$error":"#NAME?"}}]
[2,6035,"生命",119,"魔抗",82,"异妖减伤",50,"武卫","神圣伤害",2000,null,1,119,4,82,59,50,{"$f":"[1]!SUMSTRING(M683:N683,\"#\")","v":{"$error":"#NAME?"}},{"$f":"[1]!SUMSTRING(O683:P683,\"#\")","v":{"$error":"#NAME?"}},{"$f":"IF(Q683<>0,[1]!SUMSTRING(Q683:R683,\"#\"),\"\")","v":{"$error":"#NAME?"}},{"$f":"[1]!SUMSTRING(S683:U683,\"|\")","v":{"$error":"#NAME?"}},1,105,2000,{"$f":"IF(W683<>0,[1]!SUMSTRING(W683:Y683,\"#\"),\"\")","v":{"$error":"#NAME?"}}]
[3,6035,"生命",214,"魔抗",122,"异妖减伤",75,{"$nulls":4},1,214,4,122,59,75,{"$f":"[1]!SUMSTRING(M684:N684,\"#\")","v":{"$error":"#NAME?"}},{"$f":"[1]!SUMSTRING(O684:P684,\"#\")","v":{"$error":"#NAME?"}},{"$f":"IF(Q684<>0,[1]!SUMSTRING(Q684:R684,\"#\"),\"\")","v":{"$error":"#NAME?"}},{"$f":"[1]!SUMSTRING(S684:U684,\"|\")","v":{"$error":"#NAME?"}},"","","",{"$f":"IF(W684<>0,[1]!SUMSTRING(W684:Y684,\"#\"),\"\")","v":{"$error":"#NAME?"}}]
[4,6035,"生命",334,"魔抗",164,"异妖减伤",100,{"$nulls":4},1,334,4,164,59,100,{"$f":"[1]!SUMSTRING(M685:N685,\"#\")","v":{"$error":"#NAME?"}},{"$f":"[1]!SUMSTRING(O685:P685,\"#\")","v":{"$error":"#NAME?"}},{"$f":"IF(Q685<>0,[1]!SUMSTRING(Q685:R685,\"#\"),\"\")","v":{"$error":"#NAME?"}},{"$f":"[1]!SUMSTRING(S685:U685,\"|\")","v":{"$error":"#NAME?"}},"","","",{"$f":"IF(W685<>0,[1]!SUMSTRING(W685:Y685,\"#\"),\"\")","v":{"$error":"#NAME?"}}]
[5,6035,"生命",477,"魔抗",204,"异妖减伤",125,"生花","神圣伤害",2000,null,1,477,4,204,59,125,{"$f":"[1]!SUMSTRING(M686:N686,\"#\")","v":{"$error":"#NAME?"}},{"$f":"[1]!SUMSTRING(O686:P686,\"#\")","v":{"$error":"#NAME?"}},{"$f":"IF(Q686<>0,[1]!SUMSTRING(Q686:R686,\"#\"),\"\")","v":{"$error":"#NAME?"}},{"$f":"[1]!SUMSTRING(S686:U686,\"|\")","v":{"$error":"#NAME?"}},5,105,2000,{"$f":"IF(W686<>0,[1]!SUMSTRING(W686:Y686,\"#\"),\"\")","v":{"$error":"#NAME?"}}]
[6,6035,"生命",644,"魔抗",246,"异妖减伤",150,{"$nulls":4},1,644,4,246,59,150,{"$f":"[1]!SUMSTRING(M687:N687,\"#\")","v":{"$error":"#NAME?"}},{"$f":"[1]!SUMSTRING(O687:P687,\"#\")","v":{"$error":"#NAME?"}},{"$f":"IF(Q687<>0,[1]!SUMSTRING(Q687:R687,\"#\"),\"\")","v":{"$error":"#NAME?"}},{"$f":"[1]!SUMSTRING(S687:U687,\"|\")","v":{"$error":"#NAME?"}},"","","",{"$f":"IF(W687<>0,[1]!SUMSTRING(W687:Y687,\"#\"),\"\")","v":{"$error":"#NAME?"}}]
[7,6035,"生命",835,"魔抗",288,"异妖减伤",175,{"$nulls":4},1,835,4,288,59,175,{"$f":"[1]!SUMSTRING(M688:N688,\"#\")","v":{"$error":"#NAME?"}},{"$f":"[1]!SUMSTRING(O688:P688,\"#\")","v":{"$error":"#NAME?"}},{"$f":"IF(Q688<>0,[1]!SUMSTRING(Q688:R688,\"#\"),\"\")","v":{"$error":"#NAME?"}},{"$f":"[1]!SUMSTRING(S688:U688,\"|\")","v":{"$error":"#NAME?"}},"","","",{"$f":"IF(W688<>0,[1]!SUMSTRING(W688:Y688,\"#\"),\"\")","v":{"$error":"#NAME?"}}]
[8,6035,"生命",1050,"魔抗",328,"异妖减伤",200,"秘法","神圣伤害",2000,null,1,1050,4,328,59,200,{"$f":"[1]!SUMSTRING(M689:N689,\"#\")","v":{"$error":"#NAME?"}},{"$f":"[1]!SUMSTRING(O689:P689,\"#\")","v":{"$error":"#NAME?"}},{"$f":"IF(Q689<>0,[1]!SUMSTRING(Q689:R689,\"#\"),\"\")","v":{"$error":"#NAME?"}},{"$f":"[1]!SUMSTRING(S689:U689,\"|\")","v":{"$error":"#NAME?"}},3,105,2000,{"$f":"IF(W689<>0,[1]!SUMSTRING(W689:Y689,\"#\"),\"\")","v":{"$error":"#NAME?"}}]
[9,6035,"生命",1289,"魔抗",370,"异妖减伤",225,{"$nulls":4},1,1289,4,370,59,225,{"$f":"[1]!SUMSTRING(M690:N690,\"#\")","v":{"$error":"#NAME?"}},{"$f":"[1]!SUMSTRING(O690:P690,\"#\")","v":{"$error":"#NAME?"}},{"$f":"IF(Q690<>0,[1]!SUMSTRING(Q690:R690,\"#\"),\"\")","v":{"$error":"#NAME?"}},{"$f":"[1]!SUMSTRING(S690:U690,\"|\")","v":{"$error":"#NAME?"}},"","","",{"$f":"IF(W690<>0,[1]!SUMSTRING(W690:Y690,\"#\"),\"\")","v":{"$error":"#NAME?"}}]
[10,6035,"生命",1551,"魔抗",410,"异妖减伤",250,{"$nulls":4},1,1551,4,410,59,250,{"$f":"[1]!SUMSTRING(M691:N691,\"#\")","v":{"$error":"#NAME?"}},{"$f":"[1]!SUMSTRING(O691:P691,\"#\")","v":{"$error":"#NAME?"}},{"$f":"IF(Q691<>0,[1]!SUMSTRING(Q691:R691,\"#\"),\"\")","v":{"$error":"#NAME?"}},{"$f":"[1]!SUMSTRING(S691:U691,\"|\")","v":{"$error":"#NAME?"}},"","","",{"$f":"IF(W691<>0,[1]!SUMSTRING(W691:Y691,\"#\"),\"\")","v":{"$error":"#NAME?"}}]
[11,6035,"生命",1838,"魔抗",452,"异妖减伤",275,"玄策","神圣伤害",2000,null,1,1838,4,452,59,275,{"$f":"[1]!SUMSTRING(M692:N692,\"#\")","v":{"$error":"#NAME?"}},{"$f":"[1]!SUMSTRING(O692:P692,\"#\")","v":{"$error":"#NAME?"}},{"$f":"IF(Q692<>0,[1]!SUMSTRING(Q692:R692,\"#\"),\"\")","v":{"$error":"#NAME?"}},{"$f":"[1]!SUMSTRING(S692:U692,\"|\")","v":{"$error":"#NAME?"}},4,105,2000,{"$f":"IF(W692<>0,[1]!SUMSTRING(W692:Y692,\"#\"),\"\")","v":{"$error":"#NAME?"}}]
[12,6035,"生命",2148,"魔抗",494,"异妖减伤",300,{"$nulls":4},1,2148,4,494,59,300,{"$f":"[1]!SUMSTRING(M693:N693,\"#\")","v":{"$error":"#NAME?"}},{"$f":"[1]!SUMSTRING(O693:P693,\"#\")","v":{"$error":"#NAME?"}},{"$f":"IF(Q693<>0,[1]!SUMSTRING(Q693:R693,\"#\"),\"\")","v":{"$error":"#NAME?"}},{"$f":"[1]!SUMSTRING(S693:U693,\"|\")","v":{"$error":"#NAME?"}},"","","",{"$f":"IF(W693<>0,[1]!SUMSTRING(W693:Y693,\"#\"),\"\")","v":{"$error":"#NAME?"}}]
[13,6035,"生命",2482,"魔抗",534,"异妖减伤",325,{"$nulls":4},1,2482,4,534,59,325,{"$f":"[1]!SUMSTRING(M694:N694,\"#\")","v":{"$error":"#NAME?"}},{"$f":"[1]!SUMSTRING(O694:P694,\"#\")","v":{"$error":"#NAME?"}},{"$f":"IF(Q694<>0,[1]!SUMSTRING(Q694:R694,\"#\"),\"\")","v":{"$error":"#NAME?"}},{"$f":"[1]!SUMSTRING(S694:U694,\"|\")","v":{"$error":"#NAME?"}},"","","",{"$f":"IF(W694<>0,[1]!SUMSTRING(W694:Y694,\"#\"),\"\")","v":{"$error":"#NAME?"}}]
[14,6035,"生命",2840,"魔抗",576,"异妖减伤",350,"天罚","神圣伤害",2000,null,1,2840,4,576,59,350,{"$f":"[1]!SUMSTRING(M695:N695,\"#\")","v":{"$error":"#NAME?"}},{"$f":"[1]!SUMSTRING(O695:P695,\"#\")","v":{"$error":"#NAME?"}},{"$f":"IF(Q695<>0,[1]!SUMSTRING(Q695:R695,\"#\"),\"\")","v":{"$error":"#NAME?"}},{"$f":"[1]!SUMSTRING(S695:U695,\"|\")","v":{"$error":"#NAME?"}},2,105,2000,{"$f":"IF(W695<>0,[1]!SUMSTRING(W695:Y695,\"#\"),\"\")","v":{"$error":"#NAME?"}}]
[15,6035,"生命",3222,"魔抗",616,"异妖减伤",375,{"$nulls":4},1,3222,4,616,59,375,{"$f":"[1]!SUMSTRING(M696:N696,\"#\")","v":{"$error":"#NAME?"}},{"$f":"[1]!SUMSTRING(O696:P696,\"#\")","v":{"$error":"#NAME?"}},{"$f":"IF(Q696<>0,[1]!SUMSTRING(Q696:R696,\"#\"),\"\")","v":{"$error":"#NAME?"}},{"$f":"[1]!SUMSTRING(S696:U696,\"|\")","v":{"$error":"#NAME?"}},"","","",{"$f":"IF(W696<>0,[1]!SUMSTRING(W696:Y696,\"#\"),\"\")","v":{"$error":"#NAME?"}}]
[16,6035,"生命",3628,"魔抗",658,"异妖减伤",400,{"$nulls":4},1,3628,4,658,59,400,{"$f":"[1]!SUMSTRING(M697:N697,\"#\")","v":{"$error":"#NAME?"}},{"$f":"[1]!SUMSTRING(O697:P697,\"#\")","v":{"$error":"#NAME?"}},{"$f":"IF(Q697<>0,[1]!SUMSTRING(Q697:R697,\"#\"),\"\")","v":{"$error":"#NAME?"}},{"$f":"[1]!SUMSTRING(S697:U697,\"|\")","v":{"$error":"#NAME?"}},"","","",{"$f":"IF(W697<>0,[1]!SUMSTRING(W697:Y697,\"#\"),\"\")","v":{"$error":"#NAME?"}}]
[17,6035,"生命",4057,"魔抗",700,"异妖减伤",425,"武卫","神圣伤害",1000,null,1,4057,4,700,59,425,{"$f":"[1]!SUMSTRING(M698:N698,\"#\")","v":{"$error":"#NAME?"}},{"$f":"[1]!SUMSTRING(O698:P698,\"#\")","v":{"$error":"#NAME?"}},{"$f":"IF(Q698<>0,[1]!SUMSTRING(Q698:R698,\"#\"),\"\")","v":{"$error":"#NAME?"}},{"$f":"[1]!SUMSTRING(S698:U698,\"|\")","v":{"$error":"#NAME?"}},1,105,1000,{"$f":"IF(W698<>0,[1]!SUMSTRING(W698:Y698,\"#\"),\"\")","v":{"$error":"#NAME?"}}]
[18,6035,"生命",4511,"魔抗",740,"异妖减伤",450,{"$nulls":4},1,4511,4,740,59,450,{"$f":"[1]!SUMSTRING(M699:N699,\"#\")","v":{"$error":"#NAME?"}},{"$f":"[1]!SUMSTRING(O699:P699,\"#\")","v":{"$error":"#NAME?"}},{"$f":"IF(Q699<>0,[1]!SUMSTRING(Q699:R699,\"#\"),\"\")","v":{"$error":"#NAME?"}},{"$f":"[1]!SUMSTRING(S699:U699,\"|\")","v":{"$error":"#NAME?"}},"","","",{"$f":"IF(W699<>0,[1]!SUMSTRING(W699:Y699,\"#\"),\"\")","v":{"$error":"#NAME?"}}]
[19,6035,"生命",4988,"魔抗",782,"异妖减伤",475,{"$nulls":4},1,4988,4,782,59,475,{"$f":"[1]!SUMSTRING(M700:N700,\"#\")","v":{"$error":"#NAME?"}},{"$f":"[1]!SUMSTRING(O700:P700,\"#\")","v":{"$error":"#NAME?"}},{"$f":"IF(Q700<>0,[1]!SUMSTRING(Q700:R700,\"#\"),\"\")","v":{"$error":"#NAME?"}},{"$f":"[1]!SUMSTRING(S700:U700,\"|\")","v":{"$error":"#NAME?"}},"","","",{"$f":"IF(W700<>0,[1]!SUMSTRING(W700:Y700,\"#\"),\"\")","v":{"$error":"#NAME?"}}]
[20,6035,"生命",5490,"魔抗",822,"异妖减伤",500,"生花","神圣伤害",1000,null,1,5490,4,822,59,500,{"$f":"[1]!SUMSTRING(M701:N701,\"#\")","v":{"$error":"#NAME?"}},{"$f":"[1]!SUMSTRING(O701:P701,\"#\")","v":{"$error":"#NAME?"}},{"$f":"IF(Q701<>0,[1]!SUMSTRING(Q701:R701,\"#\"),\"\")","v":{"$error":"#NAME?"}},{"$f":"[1]!SUMSTRING(S701:U701,\"|\")","v":{"$error":"#NAME?"}},5,105,1000,{"$f":"IF(W701<>0,[1]!SUMSTRING(W701:Y701,\"#\"),\"\")","v":{"$error":"#NAME?"}}]
[1,6036,"攻击",20,"异妖减伤",25,"异妖增伤",25,{"$nulls":4},2,20,59,25,66,25,{"$f":"[1]!SUMSTRING(M702:N702,\"#\")","v":{"$error":"#NAME?"}},{"$f":"[1]!SUMSTRING(O702:P702,\"#\")","v":{"$error":"#NAME?"}},{"$f":"IF(Q702<>0,[1]!SUMSTRING(Q702:R702,\"#\"),\"\")","v":{"$error":"#NAME?"}},{"$f":"[1]!SUMSTRING(S702:U702,\"|\")","v":{"$error":"#NAME?"}},"","","",{"$f":"IF(W702<>0,[1]!SUMSTRING(W702:Y702,\"#\"),\"\")","v":{"$error":"#NAME?"}}]
[2,6036,"攻击",41,"异妖减伤",50,"异妖增伤",50,"武卫","黑暗伤害",2000,null,2,41,59,50,66,50,{"$f":"[1]!SUMSTRING(M703:N703,\"#\")","v":{"$error":"#NAME?"}},{"$f":"[1]!SUMSTRING(O703:P703,\"#\")","v":{"$error":"#NAME?"}},{"$f":"IF(Q703<>0,[1]!SUMSTRING(Q703:R703,\"#\"),\"\")","v":{"$error":"#NAME?"}},{"$f":"[1]!SUMSTRING(S703:U703,\"|\")","v":{"$error":"#NAME?"}},1,106,2000,{"$f":"IF(W703<>0,[1]!SUMSTRING(W703:Y703,\"#\"),\"\")","v":{"$error":"#NAME?"}}]
[3,6036,"攻击",61,"异妖减伤",75,"异妖增伤",75,{"$nulls":4},2,61,59,75,66,75,{"$f":"[1]!SUMSTRING(M704:N704,\"#\")","v":{"$error":"#NAME?"}},{"$f":"[1]!SUMSTRING(O704:P704,\"#\")","v":{"$error":"#NAME?"}},{"$f":"IF(Q704<>0,[1]!SUMSTRING(Q704:R704,\"#\"),\"\")","v":{"$error":"#NAME?"}},{"$f":"[1]!SUMSTRING(S704:U704,\"|\")","v":{"$error":"#NAME?"}},"","","",{"$f":"IF(W704<>0,[1]!SUMSTRING(W704:Y704,\"#\"),\"\")","v":{"$error":"#NAME?"}}]
[4,6036,"攻击",82,"异妖减伤",100,"异妖增伤",100,{"$nulls":4},2,82,59,100,66,100,{"$f":"[1]!SUMSTRING(M705:N705,\"#\")","v":{"$error":"#NAME?"}},{"$f":"[1]!SUMSTRING(O705:P705,\"#\")","v":{"$error":"#NAME?"}},{"$f":"IF(Q705<>0,[1]!SUMSTRING(Q705:R705,\"#\"),\"\")","v":{"$error":"#NAME?"}},{"$f":"[1]!SUMSTRING(S705:U705,\"|\")","v":{"$error":"#NAME?"}},"","","",{"$f":"IF(W705<>0,[1]!SUMSTRING(W705:Y705,\"#\"),\"\")","v":{"$error":"#NAME?"}}]
[5,6036,"攻击",102,"异妖减伤",125,"异妖增伤",125,"生花","黑暗伤害",2000,null,2,102,59,125,66,125,{"$f":"[1]!SUMSTRING(M706:N706,\"#\")","v":{"$error":"#NAME?"}},{"$f":"[1]!SUMSTRING(O706:P706,\"#\")","v":{"$error":"#NAME?"}},{"$f":"IF(Q706<>0,[1]!SUMSTRING(Q706:R706,\"#\"),\"\")","v":{"$error":"#NAME?"}},{"$f":"[1]!SUMSTRING(S706:U706,\"|\")","v":{"$error":"#NAME?"}},5,106,2000,{"$f":"IF(W706<>0,[1]!SUMSTRING(W706:Y706,\"#\"),\"\")","v":{"$error":"#NAME?"}}]
[6,6036,"攻击",123,"异妖减伤",150,"异妖增伤",150,{"$nulls":4},{"$f":"VLOOKUP(C707,$AB:$AC,2,0)","v":2},{"$f":"D707","v":123},{"$f":"VLOOKUP(E707,$AB:$AC,2,0)","v":59},{"$f":"F707","v":150},{"$f":"IF(G707<>0,VLOOKUP(G707,$AB:$AC,2,0),\"\")","v":66},{"$f":"IF(H707<>0,H707,\"\")","v":150},{"$f":"[1]!SUMSTRING(M707:N707,\"#\")","v":{"$error":"#NAME?"}},{"$f":"[1]!SUMSTRING(O707:P707,\"#\")","v":{"$error":"#NAME?"}},{"$f":"IF(Q707<>0,[1]!SUMSTRING(Q707:R707,\"#\"),\"\")","v":{"$error":"#NAME?"}},{"$f":"[1]!SUMSTRING(S707:U707,\"|\")","v":{"$error":"#NAME?"}},"",{"$f":"IF(J707<>0,VLOOKUP(J707,$AB:$AC,2,0),\"\")","v":""},{"$f":"IF(K707<>0,K707,\"\")","v":""},{"$f":"IF(W707<>0,[1]!SUMSTRING(W707:Y707,\"#\"),\"\")","v":{"$error":"#NAME?"}}]
[7,6036,"攻击",144,"异妖减伤",175,"异妖增伤",175,{"$nulls":4},2,144,59,175,66,175,{"$f":"[1]!SUMSTRING(M708:N708,\"#\")","v":{"$error":"#NAME?"}},{"$f":"[1]!SUMSTRING(O708:P708,\"#\")","v":{"$error":"#NAME?"}},{"$f":"IF(Q708<>0,[1]!SUMSTRING(Q708:R708,\"#\"),\"\")","v":{"$error":"#NAME?"}},{"$f":"[1]!SUMSTRING(S708:U708,\"|\")","v":{"$error":"#NAME?"}},{"$f":"IF(I708<>0,VLOOKUP(I708,$AG$3:$AH$7,2,0),\"\")","v":""},"","",{"$f":"IF(W708<>0,[1]!SUMSTRING(W708:Y708,\"#\"),\"\")","v":{"$error":"#NAME?"}}]
[8,6036,"攻击",164,"异妖减伤",200,"异妖增伤",200,"秘法","黑暗伤害",2000,null,2,164,59,200,66,200,{"$f":"[1]!SUMSTRING(M709:N709,\"#\")","v":{"$error":"#NAME?"}},{"$f":"[1]!SUMSTRING(O709:P709,\"#\")","v":{"$error":"#NAME?"}},{"$f":"IF(Q709<>0,[1]!SUMSTRING(Q709:R709,\"#\"),\"\")","v":{"$error":"#NAME?"}},{"$f":"[1]!SUMSTRING(S709:U709,\"|\")","v":{"$error":"#NAME?"}},3,106,2000,{"$f":"IF(W709<>0,[1]!SUMSTRING(W709:Y709,\"#\"),\"\")","v":{"$error":"#NAME?"}}]
[9,6036,"攻击",185,"异妖减伤",225,"异妖增伤",225,{"$nulls":4},2,185,59,225,66,225,{"$f":"[1]!SUMSTRING(M710:N710,\"#\")","v":{"$error":"#NAME?"}},{"$f":"[1]!SUMSTRING(O710:P710,\"#\")","v":{"$error":"#NAME?"}},{"$f":"IF(Q710<>0,[1]!SUMSTRING(Q710:R710,\"#\"),\"\")","v":{"$error":"#NAME?"}},{"$f":"[1]!SUMSTRING(S710:U710,\"|\")","v":{"$error":"#NAME?"}},"","","",{"$f":"IF(W710<>0,[1]!SUMSTRING(W710:Y710,\"#\"),\"\")","v":{"$error":"#NAME?"}}]
[10,6036,"攻击",205,"异妖减伤",250,"异妖增伤",250,{"$nulls":4},2,205,59,250,66,250,{"$f":"[1]!SUMSTRING(M711:N711,\"#\")","v":{"$error":"#NAME?"}},{"$f":"[1]!SUMSTRING(O711:P711,\"#\")","v":{"$error":"#NAME?"}},{"$f":"IF(Q711<>0,[1]!SUMSTRING(Q711:R711,\"#\"),\"\")","v":{"$error":"#NAME?"}},{"$f":"[1]!SUMSTRING(S711:U711,\"|\")","v":{"$error":"#NAME?"}},"","","",{"$f":"IF(W711<>0,[1]!SUMSTRING(W711:Y711,\"#\"),\"\")","v":{"$error":"#NAME?"}}]
[11,6036,"攻击",226,"异妖减伤",275,"异妖增伤",275,"玄策","黑暗伤害",2000,null,2,226,59,275,66,275,{"$f":"[1]!SUMSTRING(M712:N712,\"#\")","v":{"$error":"#NAME?"}},{"$f":"[1]!SUMSTRING(O712:P712,\"#\")","v":{"$error":"#NAME?"}},{"$f":"IF(Q712<>0,[1]!SUMSTRING(Q712:R712,\"#\"),\"\")","v":{"$error":"#NAME?"}},{"$f":"[1]!SUMSTRING(S712:U712,\"|\")","v":{"$error":"#NAME?"}},4,106,2000,{"$f":"IF(W712<>0,[1]!SUMSTRING(W712:Y712,\"#\"),\"\")","v":{"$error":"#NAME?"}}]
[12,6036,"攻击",247,"异妖减伤",300,"异妖增伤",300,{"$nulls":4},2,247,59,300,66,300,{"$f":"[1]!SUMSTRING(M713:N713,\"#\")","v":{"$error":"#NAME?"}},{"$f":"[1]!SUMSTRING(O713:P713,\"#\")","v":{"$error":"#NAME?"}},{"$f":"IF(Q713<>0,[1]!SUMSTRING(Q713:R713,\"#\"),\"\")","v":{"$error":"#NAME?"}},{"$f":"[1]!SUMSTRING(S713:U713,\"|\")","v":{"$error":"#NAME?"}},"","","",{"$f":"IF(W713<>0,[1]!SUMSTRING(W713:Y713,\"#\"),\"\")","v":{"$error":"#NAME?"}}]
[13,6036,"攻击",267,"异妖减伤",325,"异妖增伤",325,{"$nulls":4},2,267,59,325,66,325,{"$f":"[1]!SUMSTRING(M714:N714,\"#\")","v":{"$error":"#NAME?"}},{"$f":"[1]!SUMSTRING(O714:P714,\"#\")","v":{"$error":"#NAME?"}},{"$f":"IF(Q714<>0,[1]!SUMSTRING(Q714:R714,\"#\"),\"\")","v":{"$error":"#NAME?"}},{"$f":"[1]!SUMSTRING(S714:U714,\"|\")","v":{"$error":"#NAME?"}},"","","",{"$f":"IF(W714<>0,[1]!SUMSTRING(W714:Y714,\"#\"),\"\")","v":{"$error":"#NAME?"}}]
[14,6036,"攻击",288,"异妖减伤",350,"异妖增伤",350,"天罚","黑暗伤害",2000,null,2,288,59,350,66,350,{"$f":"[1]!SUMSTRING(M715:N715,\"#\")","v":{"$error":"#NAME?"}},{"$f":"[1]!SUMSTRING(O715:P715,\"#\")","v":{"$error":"#NAME?"}},{"$f":"IF(Q715<>0,[1]!SUMSTRING(Q715:R715,\"#\"),\"\")","v":{"$error":"#NAME?"}},{"$f":"[1]!SUMSTRING(S715:U715,\"|\")","v":{"$error":"#NAME?"}},2,106,2000,{"$f":"IF(W715<>0,[1]!SUMSTRING(W715:Y715,\"#\"),\"\")","v":{"$error":"#NAME?"}}]
[15,6036,"攻击",308,"异妖减伤",375,"异妖增伤",375,{"$nulls":4},2,308,59,375,66,375,{"$f":"[1]!SUMSTRING(M716:N716,\"#\")","v":{"$error":"#NAME?"}},{"$f":"[1]!SUMSTRING(O716:P716,\"#\")","v":{"$error":"#NAME?"}},{"$f":"IF(Q716<>0,[1]!SUMSTRING(Q716:R716,\"#\"),\"\")","v":{"$error":"#NAME?"}},{"$f":"[1]!SUMSTRING(S716:U716,\"|\")","v":{"$error":"#NAME?"}},"","","",{"$f":"IF(W716<>0,[1]!SUMSTRING(W716:Y716,\"#\"),\"\")","v":{"$error":"#NAME?"}}]
[16,6036,"攻击",329,"异妖减伤",400,"异妖增伤",400,{"$nulls":4},2,329,59,400,66,400,{"$f":"[1]!SUMSTRING(M717:N717,\"#\")","v":{"$error":"#NAME?"}},{"$f":"[1]!SUMSTRING(O717:P717,\"#\")","v":{"$error":"#NAME?"}},{"$f":"IF(Q717<>0,[1]!SUMSTRING(Q717:R717,\"#\"),\"\")","v":{"$error":"#NAME?"}},{"$f":"[1]!SUMSTRING(S717:U717,\"|\")","v":{"$error":"#NAME?"}},"","","",{"$f":"IF(W717<>0,[1]!SUMSTRING(W717:Y717,\"#\"),\"\")","v":{"$error":"#NAME?"}}]
[17,6036,"攻击",350,"异妖减伤",425,"异妖增伤",425,"武卫","黑暗伤害",1000,null,2,350,59,425,66,425,{"$f":"[1]!SUMSTRING(M718:N718,\"#\")","v":{"$error":"#NAME?"}},{"$f":"[1]!SUMSTRING(O718:P718,\"#\")","v":{"$error":"#NAME?"}},{"$f":"IF(Q718<>0,[1]!SUMSTRING(Q718:R718,\"#\"),\"\")","v":{"$error":"#NAME?"}},{"$f":"[1]!SUMSTRING(S718:U718,\"|\")","v":{"$error":"#NAME?"}},1,106,1000,{"$f":"IF(W718<>0,[1]!SUMSTRING(W718:Y718,\"#\"),\"\")","v":{"$error":"#NAME?"}}]
[18,6036,"攻击",370,"异妖减伤",450,"异妖增伤",450,{"$nulls":4},2,370,59,450,66,450,{"$f":"[1]!SUMSTRING(M719:N719,\"#\")","v":{"$error":"#NAME?"}},{"$f":"[1]!SUMSTRING(O719:P719,\"#\")","v":{"$error":"#NAME?"}},{"$f":"IF(Q719<>0,[1]!SUMSTRING(Q719:R719,\"#\"),\"\")","v":{"$error":"#NAME?"}},{"$f":"[1]!SUMSTRING(S719:U719,\"|\")","v":{"$error":"#NAME?"}},"","","",{"$f":"IF(W719<>0,[1]!SUMSTRING(W719:Y719,\"#\"),\"\")","v":{"$error":"#NAME?"}}]
[19,6036,"攻击",391,"异妖减伤",475,"异妖增伤",475,{"$nulls":4},2,391,59,475,66,475,{"$f":"[1]!SUMSTRING(M720:N720,\"#\")","v":{"$error":"#NAME?"}},{"$f":"[1]!SUMSTRING(O720:P720,\"#\")","v":{"$error":"#NAME?"}},{"$f":"IF(Q720<>0,[1]!SUMSTRING(Q720:R720,\"#\"),\"\")","v":{"$error":"#NAME?"}},{"$f":"[1]!SUMSTRING(S720:U720,\"|\")","v":{"$error":"#NAME?"}},"","","",{"$f":"IF(W720<>0,[1]!SUMSTRING(W720:Y720,\"#\"),\"\")","v":{"$error":"#NAME?"}}]
[20,6036,"攻击",411,"异妖减伤",500,"异妖增伤",500,"生花","黑暗伤害",1000,null,2,411,59,500,66,500,{"$f":"[1]!SUMSTRING(M721:N721,\"#\")","v":{"$error":"#NAME?"}},{"$f":"[1]!SUMSTRING(O721:P721,\"#\")","v":{"$error":"#NAME?"}},{"$f":"IF(Q721<>0,[1]!SUMSTRING(Q721:R721,\"#\"),\"\")","v":{"$error":"#NAME?"}},{"$f":"[1]!SUMSTRING(S721:U721,\"|\")","v":{"$error":"#NAME?"}},5,106,1000,{"$f":"IF(W721<>0,[1]!SUMSTRING(W721:Y721,\"#\"),\"\")","v":{"$error":"#NAME?"}}]

{"sheet":"消耗","index":2,"n_rows":721,"n_cols":12,"rows_kept":721}
["阶级","配件id",null,"消耗1","数量","消耗2","数量",null,"辅助1","辅助2",null,"输出列"]
[1,6001,null,{"$f":"B2","v":6001},1,5,0,null,{"$f":"[1]!SUMSTRING(D2:E2,\"#\")","v":{"$error":"#NAME?"}},{"$f":"[1]!SUMSTRING(F2:G2,\"#\")","v":{"$error":"#NAME?"}},null,{"$f":"[1]!SUMSTRING(I2:J2,\"|\")","v":{"$error":"#NAME?"}}]
[2,6001,null,{"$f":"B3","v":6001},1,5,20,null,{"$f":"[1]!SUMSTRING(D3:E3,\"#\")","v":{"$error":"#NAME?"}},{"$f":"[1]!SUMSTRING(F3:G3,\"#\")","v":{"$error":"#NAME?"}},null,{"$f":"[1]!SUMSTRING(I3:J3,\"|\")","v":{"$error":"#NAME?"}}]
[3,6001,null,6001,1,5,35,null,{"$f":"[1]!SUMSTRING(D4:E4,\"#\")","v":{"$error":"#NAME?"}},{"$f":"[1]!SUMSTRING(F4:G4,\"#\")","v":{"$error":"#NAME?"}},null,{"$f":"[1]!SUMSTRING(I4:J4,\"|\")","v":{"$error":"#NAME?"}}]
[4,6001,null,6001,1,5,50,null,{"$f":"[1]!SUMSTRING(D5:E5,\"#\")","v":{"$error":"#NAME?"}},{"$f":"[1]!SUMSTRING(F5:G5,\"#\")","v":{"$error":"#NAME?"}},null,{"$f":"[1]!SUMSTRING(I5:J5,\"|\")","v":{"$error":"#NAME?"}}]
[5,6001,null,6001,2,5,75,null,{"$f":"[1]!SUMSTRING(D6:E6,\"#\")","v":{"$error":"#NAME?"}},{"$f":"[1]!SUMSTRING(F6:G6,\"#\")","v":{"$error":"#NAME?"}},null,{"$f":"[1]!SUMSTRING(I6:J6,\"|\")","v":{"$error":"#NAME?"}}]
[6,6001,null,6001,2,5,100,null,{"$f":"[1]!SUMSTRING(D7:E7,\"#\")","v":{"$error":"#NAME?"}},{"$f":"[1]!SUMSTRING(F7:G7,\"#\")","v":{"$error":"#NAME?"}},null,{"$f":"[1]!SUMSTRING(I7:J7,\"|\")","v":{"$error":"#NAME?"}}]
[7,6001,null,6001,2,5,130,null,{"$f":"[1]!SUMSTRING(D8:E8,\"#\")","v":{"$error":"#NAME?"}},{"$f":"[1]!SUMSTRING(F8:G8,\"#\")","v":{"$error":"#NAME?"}},null,{"$f":"[1]!SUMSTRING(I8:J8,\"|\")","v":{"$error":"#NAME?"}}]
[8,6001,null,6001,3,5,160,null,{"$f":"[1]!SUMSTRING(D9:E9,\"#\")","v":{"$error":"#NAME?"}},{"$f":"[1]!SUMSTRING(F9:G9,\"#\")","v":{"$error":"#NAME?"}},null,{"$f":"[1]!SUMSTRING(I9:J9,\"|\")","v":{"$error":"#NAME?"}}]
[9,6001,null,6001,3,5,195,null,{"$f":"[1]!SUMSTRING(D10:E10,\"#\")","v":{"$error":"#NAME?"}},{"$f":"[1]!SUMSTRING(F10:G10,\"#\")","v":{"$error":"#NAME?"}},null,{"$f":"[1]!SUMSTRING(I10:J10,\"|\")","v":{"$error":"#NAME?"}}]
[10,6001,null,6001,3,5,235,null,{"$f":"[1]!SUMSTRING(D11:E11,\"#\")","v":{"$error":"#NAME?"}},{"$f":"[1]!SUMSTRING(F11:G11,\"#\")","v":{"$error":"#NAME?"}},null,{"$f":"[1]!SUMSTRING(I11:J11,\"|\")","v":{"$error":"#NAME?"}}]
[11,6001,null,6001,3,5,280,null,{"$f":"[1]!SUMSTRING(D12:E12,\"#\")","v":{"$error":"#NAME?"}},{"$f":"[1]!SUMSTRING(F12:G12,\"#\")","v":{"$error":"#NAME?"}},null,{"$f":"[1]!SUMSTRING(I12:J12,\"|\")","v":{"$error":"#NAME?"}}]
[12,6001,null,6001,3,5,330,null,{"$f":"[1]!SUMSTRING(D13:E13,\"#\")","v":{"$error":"#NAME?"}},{"$f":"[1]!SUMSTRING(F13:G13,\"#\")","v":{"$error":"#NAME?"}},null,{"$f":"[1]!SUMSTRING(I13:J13,\"|\")","v":{"$error":"#NAME?"}}]
[13,6001,null,6001,3,5,380,null,{"$f":"[1]!SUMSTRING(D14:E14,\"#\")","v":{"$error":"#NAME?"}},{"$f":"[1]!SUMSTRING(F14:G14,\"#\")","v":{"$error":"#NAME?"}},null,{"$f":"[1]!SUMSTRING(I14:J14,\"|\")","v":{"$error":"#NAME?"}}]
[14,6001,null,6001,4,5,435,null,{"$f":"[1]!SUMSTRING(D15:E15,\"#\")","v":{"$error":"#NAME?"}},{"$f":"[1]!SUMSTRING(F15:G15,\"#\")","v":{"$error":"#NAME?"}},null,{"$f":"[1]!SUMSTRING(I15:J15,\"|\")","v":{"$error":"#NAME?"}}]
[15,6001,null,6001,5,5,495,null,{"$f":"[1]!SUMSTRING(D16:E16,\"#\")","v":{"$error":"#NAME?"}},{"$f":"[1]!SUMSTRING(F16:G16,\"#\")","v":{"$error":"#NAME?"}},null,{"$f":"[1]!SUMSTRING(I16:J16,\"|\")","v":{"$error":"#NAME?"}}]
[16,6001,null,6001,6,5,555,null,{"$f":"[1]!SUMSTRING(D17:E17,\"#\")","v":{"$error":"#NAME?"}},{"$f":"[1]!SUMSTRING(F17:G17,\"#\")","v":{"$error":"#NAME?"}},null,{"$f":"[1]!SUMSTRING(I17:J17,\"|\")","v":{"$error":"#NAME?"}}]
[17,6001,null,6001,8,5,620,null,{"$f":"[1]!SUMSTRING(D18:E18,\"#\")","v":{"$error":"#NAME?"}},{"$f":"[1]!SUMSTRING(F18:G18,\"#\")","v":{"$error":"#NAME?"}},null,{"$f":"[1]!SUMSTRING(I18:J18,\"|\")","v":{"$error":"#NAME?"}}]
[18,6001,null,6001,10,5,690,null,{"$f":"[1]!SUMSTRING(D19:E19,\"#\")","v":{"$error":"#NAME?"}},{"$f":"[1]!SUMSTRING(F19:G19,\"#\")","v":{"$error":"#NAME?"}},null,{"$f":"[1]!SUMSTRING(I19:J19,\"|\")","v":{"$error":"#NAME?"}}]
[19,6001,null,6001,21,5,765,null,{"$f":"[1]!SUMSTRING(D20:E20,\"#\")","v":{"$error":"#NAME?"}},{"$f":"[1]!SUMSTRING(F20:G20,\"#\")","v":{"$error":"#NAME?"}},null,{"$f":"[1]!SUMSTRING(I20:J20,\"|\")","v":{"$error":"#NAME?"}}]
[20,6001,null,6001,30,5,840,null,{"$f":"[1]!SUMSTRING(D21:E21,\"#\")","v":{"$error":"#NAME?"}},{"$f":"[1]!SUMSTRING(F21:G21,\"#\")","v":{"$error":"#NAME?"}},null,{"$f":"[1]!SUMSTRING(I21:J21,\"|\")","v":{"$error":"#NAME?"}}]
[{"$f":"A2","v":1},{"$f":"B2+1","v":6002},null,6002,{"$f":"E2","v":1},5,0,null,{"$f":"[1]!SUMSTRING(D22:E22,\"#\")","v":{"$error":"#NAME?"}},{"$f":"[1]!SUMSTRING(F22:G22,\"#\")","v":{"$error":"#NAME?"}},null,{"$f":"[1]!SUMSTRING(I22:J22,\"|\")","v":{"$error":"#NAME?"}}]
[{"$f":"A3","v":2},{"$f":"B3+1","v":6002},null,6002,{"$f":"E3","v":1},5,20,null,{"$f":"[1]!SUMSTRING(D23:E23,\"#\")","v":{"$error":"#NAME?"}},{"$f":"[1]!SUMSTRING(F23:G23,\"#\")","v":{"$error":"#NAME?"}},null,{"$f":"[1]!SUMSTRING(I23:J23,\"|\")","v":{"$error":"#NAME?"}}]
[3,6002,null,6002,1,5,35,null,{"$f":"[1]!SUMSTRING(D24:E24,\"#\")","v":{"$error":"#NAME?"}},{"$f":"[1]!SUMSTRING(F24:G24,\"#\")","v":{"$error":"#NAME?"}},null,{"$f":"[1]!SUMSTRING(I24:J24,\"|\")","v":{"$error":"#NAME?"}}]
[4,6002,null,6002,1,5,50,null,{"$f":"[1]!SUMSTRING(D25:E25,\"#\")","v":{"$error":"#NAME?"}},{"$f":"[1]!SUMSTRING(F25:G25,\"#\")","v":{"$error":"#NAME?"}},null,{"$f":"[1]!SUMSTRING(I25:J25,\"|\")","v":{"$error":"#NAME?"}}]
[5,6002,null,6002,2,5,75,null,{"$f":"[1]!SUMSTRING(D26:E26,\"#\")","v":{"$error":"#NAME?"}},{"$f":"[1]!SUMSTRING(F26:G26,\"#\")","v":{"$error":"#NAME?"}},null,{"$f":"[1]!SUMSTRING(I26:J26,\"|\")","v":{"$error":"#NAME?"}}]
[6,6002,null,6002,2,5,100,null,{"$f":"[1]!SUMSTRING(D27:E27,\"#\")","v":{"$error":"#NAME?"}},{"$f":"[1]!SUMSTRING(F27:G27,\"#\")","v":{"$error":"#NAME?"}},null,{"$f":"[1]!SUMSTRING(I27:J27,\"|\")","v":{"$error":"#NAME?"}}]
[7,6002,null,6002,2,5,130,null,{"$f":"[1]!SUMSTRING(D28:E28,\"#\")","v":{"$error":"#NAME?"}},{"$f":"[1]!SUMSTRING(F28:G28,\"#\")","v":{"$error":"#NAME?"}},null,{"$f":"[1]!SUMSTRING(I28:J28,\"|\")","v":{"$error":"#NAME?"}}]
[8,6002,null,6002,3,5,160,null,{"$f":"[1]!SUMSTRING(D29:E29,\"#\")","v":{"$error":"#NAME?"}},{"$f":"[1]!SUMSTRING(F29:G29,\"#\")","v":{"$error":"#NAME?"}},null,{"$f":"[1]!SUMSTRING(I29:J29,\"|\")","v":{"$error":"#NAME?"}}]
[9,6002,null,6002,3,5,195,null,{"$f":"[1]!SUMSTRING(D30:E30,\"#\")","v":{"$error":"#NAME?"}},{"$f":"[1]!SUMSTRING(F30:G30,\"#\")","v":{"$error":"#NAME?"}},null,{"$f":"[1]!SUMSTRING(I30:J30,\"|\")","v":{"$error":"#NAME?"}}]
[10,6002,null,6002,3,5,235,null,{"$f":"[1]!SUMSTRING(D31:E31,\"#\")","v":{"$error":"#NAME?"}},{"$f":"[1]!SUMSTRING(F31:G31,\"#\")","v":{"$error":"#NAME?"}},null,{"$f":"[1]!SUMSTRING(I31:J31,\"|\")","v":{"$error":"#NAME?"}}]
[11,6002,null,6002,3,5,280,null,{"$f":"[1]!SUMSTRING(D32:E32,\"#\")","v":{"$error":"#NAME?"}},{"$f":"[1]!SUMSTRING(F32:G32,\"#\")","v":{"$error":"#NAME?"}},null,{"$f":"[1]!SUMSTRING(I32:J32,\"|\")","v":{"$error":"#NAME?"}}]
[12,6002,null,6002,3,5,330,null,{"$f":"[1]!SUMSTRING(D33:E33,\"#\")","v":{"$error":"#NAME?"}},{"$f":"[1]!SUMSTRING(F33:G33,\"#\")","v":{"$error":"#NAME?"}},null,{"$f":"[1]!SUMSTRING(I33:J33,\"|\")","v":{"$error":"#NAME?"}}]
[13,6002,null,6002,3,5,380,null,{"$f":"[1]!SUMSTRING(D34:E34,\"#\")","v":{"$error":"#NAME?"}},{"$f":"[1]!SUMSTRING(F34:G34,\"#\")","v":{"$error":"#NAME?"}},null,{"$f":"[1]!SUMSTRING(I34:J34,\"|\")","v":{"$error":"#NAME?"}}]
[14,6002,null,6002,4,5,435,null,{"$f":"[1]!SUMSTRING(D35:E35,\"#\")","v":{"$error":"#NAME?"}},{"$f":"[1]!SUMSTRING(F35:G35,\"#\")","v":{"$error":"#NAME?"}},null,{"$f":"[1]!SUMSTRING(I35:J35,\"|\")","v":{"$error":"#NAME?"}}]
[15,6002,null,6002,5,5,495,null,{"$f":"[1]!SUMSTRING(D36:E36,\"#\")","v":{"$error":"#NAME?"}},{"$f":"[1]!SUMSTRING(F36:G36,\"#\")","v":{"$error":"#NAME?"}},null,{"$f":"[1]!SUMSTRING(I36:J36,\"|\")","v":{"$error":"#NAME?"}}]
[16,6002,null,6002,6,5,555,null,{"$f":"[1]!SUMSTRING(D37:E37,\"#\")","v":{"$error":"#NAME?"}},{"$f":"[1]!SUMSTRING(F37:G37,\"#\")","v":{"$error":"#NAME?"}},null,{"$f":"[1]!SUMSTRING(I37:J37,\"|\")","v":{"$error":"#NAME?"}}]
[17,6002,null,6002,8,5,620,null,{"$f":"[1]!SUMSTRING(D38:E38,\"#\")","v":{"$error":"#NAME?"}},{"$f":"[1]!SUMSTRING(F38:G38,\"#\")","v":{"$error":"#NAME?"}},null,{"$f":"[1]!SUMSTRING(I38:J38,\"|\")","v":{"$error":"#NAME?"}}]
[18,6002,null,6002,10,5,690,null,{"$f":"[1]!SUMSTRING(D39:E39,\"#\")","v":{"$error":"#NAME?"}},{"$f":"[1]!SUMSTRING(F39:G39,\"#\")","v":{"$error":"#NAME?"}},null,{"$f":"[1]!SUMSTRING(I39:J39,\"|\")","v":{"$error":"#NAME?"}}]
[19,6002,null,6002,21,5,765,null,{"$f":"[1]!SUMSTRING(D40:E40,\"#\")","v":{"$error":"#NAME?"}},{"$f":"[1]!SUMSTRING(F40:G40,\"#\")","v":{"$error":"#NAME?"}},null,{"$f":"[1]!SUMSTRING(I40:J40,\"|\")","v":{"$error":"#NAME?"}}]
[20,6002,null,6002,30,5,840,null,{"$f":"[1]!SUMSTRING(D41:E41,\"#\")","v":{"$error":"#NAME?"}},{"$f":"[1]!SUMSTRING(F41:G41,\"#\")","v":{"$error":"#NAME?"}},null,{"$f":"[1]!SUMSTRING(I41:J41,\"|\")","v":{"$error":"#NAME?"}}]
[1,6003,null,6003,1,5,0,null,{"$f":"[1]!SUMSTRING(D42:E42,\"#\")","v":{"$error":"#NAME?"}},{"$f":"[1]!SUMSTRING(F42:G42,\"#\")","v":{"$error":"#NAME?"}},null,{"$f":"[1]!SUMSTRING(I42:J42,\"|\")","v":{"$error":"#NAME?"}}]
[2,6003,null,6003,1,5,20,null,{"$f":"[1]!SUMSTRING(D43:E43,\"#\")","v":{"$error":"#NAME?"}},{"$f":"[1]!SUMSTRING(F43:G43,\"#\")","v":{"$error":"#NAME?"}},null,{"$f":"[1]!SUMSTRING(I43:J43,\"|\")","v":{"$error":"#NAME?"}}]
[3,6003,null,6003,1,5,35,null,{"$f":"[1]!SUMSTRING(D44:E44,\"#\")","v":{"$error":"#NAME?"}},{"$f":"[1]!SUMSTRING(F44:G44,\"#\")","v":{"$error":"#NAME?"}},null,{"$f":"[1]!SUMSTRING(I44:J44,\"|\")","v":{"$error":"#NAME?"}}]
[4,6003,null,6003,1,5,50,null,{"$f":"[1]!SUMSTRING(D45:E45,\"#\")","v":{"$error":"#NAME?"}},{"$f":"[1]!SUMSTRING(F45:G45,\"#\")","v":{"$error":"#NAME?"}},null,{"$f":"[1]!SUMSTRING(I45:J45,\"|\")","v":{"$error":"#NAME?"}}]
[5,6003,null,6003,2,5,75,null,{"$f":"[1]!SUMSTRING(D46:E46,\"#\")","v":{"$error":"#NAME?"}},{"$f":"[1]!SUMSTRING(F46:G46,\"#\")","v":{"$error":"#NAME?"}},null,{"$f":"[1]!SUMSTRING(I46:J46,\"|\")","v":{"$error":"#NAME?"}}]
[6,6003,null,6003,2,5,100,null,{"$f":"[1]!SUMSTRING(D47:E47,\"#\")","v":{"$error":"#NAME?"}},{"$f":"[1]!SUMSTRING(F47:G47,\"#\")","v":{"$error":"#NAME?"}},null,{"$f":"[1]!SUMSTRING(I47:J47,\"|\")","v":{"$error":"#NAME?"}}]
[7,6003,null,6003,2,5,130,null,{"$f":"[1]!SUMSTRING(D48:E48,\"#\")","v":{"$error":"#NAME?"}},{"$f":"[1]!SUMSTRING(F48:G48,\"#\")","v":{"$error":"#NAME?"}},null,{"$f":"[1]!SUMSTRING(I48:J48,\"|\")","v":{"$error":"#NAME?"}}]
[8,6003,null,6003,3,5,160,null,{"$f":"[1]!SUMSTRING(D49:E49,\"#\")","v":{"$error":"#NAME?"}},{"$f":"[1]!SUMSTRING(F49:G49,\"#\")","v":{"$error":"#NAME?"}},null,{"$f":"[1]!SUMSTRING(I49:J49,\"|\")","v":{"$error":"#NAME?"}}]
[9,6003,null,6003,3,5,195,null,{"$f":"[1]!SUMSTRING(D50:E50,\"#\")","v":{"$error":"#NAME?"}},{"$f":"[1]!SUMSTRING(F50:G50,\"#\")","v":{"$error":"#NAME?"}},null,{"$f":"[1]!SUMSTRING(I50:J50,\"|\")","v":{"$error":"#NAME?"}}]
[10,6003,null,6003,3,5,235,null,{"$f":"[1]!SUMSTRING(D51:E51,\"#\")","v":{"$error":"#NAME?"}},{"$f":"[1]!SUMSTRING(F51:G51,\"#\")","v":{"$error":"#NAME?"}},null,{"$f":"[1]!SUMSTRING(I51:J51,\"|\")","v":{"$error":"#NAME?"}}]
[11,6003,null,6003,3,5,280,null,{"$f":"[1]!SUMSTRING(D52:E52,\"#\")","v":{"$error":"#NAME?"}},{"$f":"[1]!SUMSTRING(F52:G52,\"#\")","v":{"$error":"#NAME?"}},null,{"$f":"[1]!SUMSTRING(I52:J52,\"|\")","v":{"$error":"#NAME?"}}]
[12,6003,null,6003,3,5,330,null,{"$f":"[1]!SUMSTRING(D53:E53,\"#\")","v":{"$error":"#NAME?"}},{"$f":"[1]!SUMSTRING(F53:G53,\"#\")","v":{"$error":"#NAME?"}},null,{"$f":"[1]!SUMSTRING(I53:J53,\"|\")","v":{"$error":"#NAME?"}}]
[13,6003,null,6003,3,5,380,null,{"$f":"[1]!SUMSTRING(D54:E54,\"#\")","v":{"$error":"#NAME?"}},{"$f":"[1]!SUMSTRING(F54:G54,\"#\")","v":{"$error":"#NAME?"}},null,{"$f":"[1]!SUMSTRING(I54:J54,\"|\")","v":{"$error":"#NAME?"}}]
[14,6003,null,6003,4,5,435,null,{"$f":"[1]!SUMSTRING(D55:E55,\"#\")","v":{"$error":"#NAME?"}},{"$f":"[1]!SUMSTRING(F55:G55,\"#\")","v":{"$error":"#NAME?"}},null,{"$f":"[1]!SUMSTRING(I55:J55,\"|\")","v":{"$error":"#NAME?"}}]
[15,6003,null,6003,5,5,495,null,{"$f":"[1]!SUMSTRING(D56:E56,\"#\")","v":{"$error":"#NAME?"}},{"$f":"[1]!SUMSTRING(F56:G56,\"#\")","v":{"$error":"#NAME?"}},null,{"$f":"[1]!SUMSTRING(I56:J56,\"|\")","v":{"$error":"#NAME?"}}]
[16,6003,null,6003,6,5,555,null,{"$f":"[1]!SUMSTRING(D57:E57,\"#\")","v":{"$error":"#NAME?"}},{"$f":"[1]!SUMSTRING(F57:G57,\"#\")","v":{"$error":"#NAME?"}},null,{"$f":"[1]!SUMSTRING(I57:J57,\"|\")","v":{"$error":"#NAME?"}}]
[17,6003,null,6003,8,5,620,null,{"$f":"[1]!SUMSTRING(D58:E58,\"#\")","v":{"$error":"#NAME?"}},{"$f":"[1]!SUMSTRING(F58:G58,\"#\")","v":{"$error":"#NAME?"}},null,{"$f":"[1]!SUMSTRING(I58:J58,\"|\")","v":{"$error":"#NAME?"}}]
[18,6003,null,6003,10,5,690,null,{"$f":"[1]!SUMSTRING(D59:E59,\"#\")","v":{"$error":"#NAME?"}},{"$f":"[1]!SUMSTRING(F59:G59,\"#\")","v":{"$error":"#NAME?"}},null,{"$f":"[1]!SUMSTRING(I59:J59,\"|\")","v":{"$error":"#NAME?"}}]
[19,6003,null,6003,21,5,765,null,{"$f":"[1]!SUMSTRING(D60:E60,\"#\")","v":{"$error":"#NAME?"}},{"$f":"[1]!SUMSTRING(F60:G60,\"#\")","v":{"$error":"#NAME?"}},null,{"$f":"[1]!SUMSTRING(I60:J60,\"|\")","v":{"$error":"#NAME?"}}]
[20,6003,null,6003,30,5,840,null,{"$f":"[1]!SUMSTRING(D61:E61,\"#\")","v":{"$error":"#NAME?"}},{"$f":"[1]!SUMSTRING(F61:G61,\"#\")","v":{"$error":"#NAME?"}},null,{"$f":"[1]!SUMSTRING(I61:J61,\"|\")","v":{"$error":"#NAME?"}}]
[1,6004,null,6004,1,5,0,null,{"$f":"[1]!SUMSTRING(D62:E62,\"#\")","v":{"$error":"#NAME?"}},{"$f":"[1]!SUMSTRING(F62:G62,\"#\")","v":{"$error":"#NAME?"}},null,{"$f":"[1]!SUMSTRING(I62:J62,\"|\")","v":{"$error":"#NAME?"}}]
[2,6004,null,6004,1,5,20,null,{"$f":"[1]!SUMSTRING(D63:E63,\"#\")","v":{"$error":"#NAME?"}},{"$f":"[1]!SUMSTRING(F63:G63,\"#\")","v":{"$error":"#NAME?"}},null,{"$f":"[1]!SUMSTRING(I63:J63,\"|\")","v":{"$error":"#NAME?"}}]
[3,6004,null,6004,1,5,35,null,{"$f":"[1]!SUMSTRING(D64:E64,\"#\")","v":{"$error":"#NAME?"}},{"$f":"[1]!SUMSTRING(F64:G64,\"#\")","v":{"$error":"#NAME?"}},null,{"$f":"[1]!SUMSTRING(I64:J64,\"|\")","v":{"$error":"#NAME?"}}]
[4,6004,null,6004,1,5,50,null,{"$f":"[1]!SUMSTRING(D65:E65,\"#\")","v":{"$error":"#NAME?"}},{"$f":"[1]!SUMSTRING(F65:G65,\"#\")","v":{"$error":"#NAME?"}},null,{"$f":"[1]!SUMSTRING(I65:J65,\"|\")","v":{"$error":"#NAME?"}}]
[5,6004,null,6004,2,5,75,null,{"$f":"[1]!SUMSTRING(D66:E66,\"#\")","v":{"$error":"#NAME?"}},{"$f":"[1]!SUMSTRING(F66:G66,\"#\")","v":{"$error":"#NAME?"}},null,{"$f":"[1]!SUMSTRING(I66:J66,\"|\")","v":{"$error":"#NAME?"}}]
[6,6004,null,{"$f":"B67","v":6004},2,5,100,null,{"$f":"[1]!SUMSTRING(D67:E67,\"#\")","v":{"$error":"#NAME?"}},{"$f":"[1]!SUMSTRING(F67:G67,\"#\")","v":{"$error":"#NAME?"}},null,{"$f":"[1]!SUMSTRING(I67:J67,\"|\")","v":{"$error":"#NAME?"}}]
[7,6004,null,6004,2,5,130,null,{"$f":"[1]!SUMSTRING(D68:E68,\"#\")","v":{"$error":"#NAME?"}},{"$f":"[1]!SUMSTRING(F68:G68,\"#\")","v":{"$error":"#NAME?"}},null,{"$f":"[1]!SUMSTRING(I68:J68,\"|\")","v":{"$error":"#NAME?"}}]
[8,6004,null,6004,3,5,160,null,{"$f":"[1]!SUMSTRING(D69:E69,\"#\")","v":{"$error":"#NAME?"}},{"$f":"[1]!SUMSTRING(F69:G69,\"#\")","v":{"$error":"#NAME?"}},null,{"$f":"[1]!SUMSTRING(I69:J69,\"|\")","v":{"$error":"#NAME?"}}]
[9,6004,null,6004,3,5,195,null,{"$f":"[1]!SUMSTRING(D70:E70,\"#\")","v":{"$error":"#NAME?"}},{"$f":"[1]!SUMSTRING(F70:G70,\"#\")","v":{"$error":"#NAME?"}},null,{"$f":"[1]!SUMSTRING(I70:J70,\"|\")","v":{"$error":"#NAME?"}}]
[10,6004,null,6004,3,5,235,null,{"$f":"[1]!SUMSTRING(D71:E71,\"#\")","v":{"$error":"#NAME?"}},{"$f":"[1]!SUMSTRING(F71:G71,\"#\")","v":{"$error":"#NAME?"}},null,{"$f":"[1]!SUMSTRING(I71:J71,\"|\")","v":{"$error":"#NAME?"}}]
[11,6004,null,6004,3,5,280,null,{"$f":"[1]!SUMSTRING(D72:E72,\"#\")","v":{"$error":"#NAME?"}},{"$f":"[1]!SUMSTRING(F72:G72,\"#\")","v":{"$error":"#NAME?"}},null,{"$f":"[1]!SUMSTRING(I72:J72,\"|\")","v":{"$error":"#NAME?"}}]
[12,6004,null,6004,3,5,330,null,{"$f":"[1]!SUMSTRING(D73:E73,\"#\")","v":{"$error":"#NAME?"}},{"$f":"[1]!SUMSTRING(F73:G73,\"#\")","v":{"$error":"#NAME?"}},null,{"$f":"[1]!SUMSTRING(I73:J73,\"|\")","v":{"$error":"#NAME?"}}]
[13,6004,null,6004,3,5,380,null,{"$f":"[1]!SUMSTRING(D74:E74,\"#\")","v":{"$error":"#NAME?"}},{"$f":"[1]!SUMSTRING(F74:G74,\"#\")","v":{"$error":"#NAME?"}},null,{"$f":"[1]!SUMSTRING(I74:J74,\"|\")","v":{"$error":"#NAME?"}}]
[14,6004,null,6004,4,5,435,null,{"$f":"[1]!SUMSTRING(D75:E75,\"#\")","v":{"$error":"#NAME?"}},{"$f":"[1]!SUMSTRING(F75:G75,\"#\")","v":{"$error":"#NAME?"}},null,{"$f":"[1]!SUMSTRING(I75:J75,\"|\")","v":{"$error":"#NAME?"}}]
[15,6004,null,6004,5,5,495,null,{"$f":"[1]!SUMSTRING(D76:E76,\"#\")","v":{"$error":"#NAME?"}},{"$f":"[1]!SUMSTRING(F76:G76,\"#\")","v":{"$error":"#NAME?"}},null,{"$f":"[1]!SUMSTRING(I76:J76,\"|\")","v":{"$error":"#NAME?"}}]
[16,6004,null,6004,6,5,555,null,{"$f":"[1]!SUMSTRING(D77:E77,\"#\")","v":{"$error":"#NAME?"}},{"$f":"[1]!SUMSTRING(F77:G77,\"#\")","v":{"$error":"#NAME?"}},null,{"$f":"[1]!SUMSTRING(I77:J77,\"|\")","v":{"$error":"#NAME?"}}]
[17,6004,null,6004,8,5,620,null,{"$f":"[1]!SUMSTRING(D78:E78,\"#\")","v":{"$error":"#NAME?"}},{"$f":"[1]!SUMSTRING(F78:G78,\"#\")","v":{"$error":"#NAME?"}},null,{"$f":"[1]!SUMSTRING(I78:J78,\"|\")","v":{"$error":"#NAME?"}}]
[18,6004,null,6004,10,5,690,null,{"$f":"[1]!SUMSTRING(D79:E79,\"#\")","v":{"$error":"#NAME?"}},{"$f":"[1]!SUMSTRING(F79:G79,\"#\")","v":{"$error":"#NAME?"}},null,{"$f":"[1]!SUMSTRING(I79:J79,\"|\")","v":{"$error":"#NAME?"}}]
[19,6004,null,6004,21,5,765,null,{"$f":"[1]!SUMSTRING(D80:E80,\"#\")","v":{"$error":"#NAME?"}},{"$f":"[1]!SUMSTRING(F80:G80,\"#\")","v":{"$error":"#NAME?"}},null,{"$f":"[1]!SUMSTRING(I80:J80,\"|\")","v":{"$error":"#NAME?"}}]
[20,6004,null,6004,30,5,840,null,{"$f":"[1]!SUMSTRING(D81:E81,\"#\")","v":{"$error":"#NAME?"}},{"$f":"[1]!SUMSTRING(F81:G81,\"#\")","v":{"$error":"#NAME?"}},null,{"$f":"[1]!SUMSTRING(I81:J81,\"|\")","v":{"$error":"#NAME?"}}]
[1,6005,null,6005,1,5,0,null,{"$f":"[1]!SUMSTRING(D82:E82,\"#\")","v":{"$error":"#NAME?"}},{"$f":"[1]!SUMSTRING(F82:G82,\"#\")","v":{"$error":"#NAME?"}},null,{"$f":"[1]!SUMSTRING(I82:J82,\"|\")","v":{"$error":"#NAME?"}}]
[2,6005,null,6005,1,5,20,null,{"$f":"[1]!SUMSTRING(D83:E83,\"#\")","v":{"$error":"#NAME?"}},{"$f":"[1]!SUMSTRING(F83:G83,\"#\")","v":{"$error":"#NAME?"}},null,{"$f":"[1]!SUMSTRING(I83:J83,\"|\")","v":{"$error":"#NAME?"}}]
[3,6005,null,6005,1,5,35,null,{"$f":"[1]!SUMSTRING(D84:E84,\"#\")","v":{"$error":"#NAME?"}},{"$f":"[1]!SUMSTRING(F84:G84,\"#\")","v":{"$error":"#NAME?"}},null,{"$f":"[1]!SUMSTRING(I84:J84,\"|\")","v":{"$error":"#NAME?"}}]
[4,6005,null,6005,1,5,50,null,{"$f":"[1]!SUMSTRING(D85:E85,\"#\")","v":{"$error":"#NAME?"}},{"$f":"[1]!SUMSTRING(F85:G85,\"#\")","v":{"$error":"#NAME?"}},null,{"$f":"[1]!SUMSTRING(I85:J85,\"|\")","v":{"$error":"#NAME?"}}]
[5,6005,null,6005,2,5,75,null,{"$f":"[1]!SUMSTRING(D86:E86,\"#\")","v":{"$error":"#NAME?"}},{"$f":"[1]!SUMSTRING(F86:G86,\"#\")","v":{"$error":"#NAME?"}},null,{"$f":"[1]!SUMSTRING(I86:J86,\"|\")","v":{"$error":"#NAME?"}}]
[{"$f":"A67","v":6},{"$f":"B67+1","v":6005},null,6005,{"$f":"E67","v":2},5,100,null,{"$f":"[1]!SUMSTRING(D87:E87,\"#\")","v":{"$error":"#NAME?"}},{"$f":"[1]!SUMSTRING(F87:G87,\"#\")","v":{"$error":"#NAME?"}},null,{"$f":"[1]!SUMSTRING(I87:J87,\"|\")","v":{"$error":"#NAME?"}}]
[7,6005,null,6005,2,5,130,null,{"$f":"[1]!SUMSTRING(D88:E88,\"#\")","v":{"$error":"#NAME?"}},{"$f":"[1]!SUMSTRING(F88:G88,\"#\")","v":{"$error":"#NAME?"}},null,{"$f":"[1]!SUMSTRING(I88:J88,\"|\")","v":{"$error":"#NAME?"}}]
[8,6005,null,6005,3,5,160,null,{"$f":"[1]!SUMSTRING(D89:E89,\"#\")","v":{"$error":"#NAME?"}},{"$f":"[1]!SUMSTRING(F89:G89,\"#\")","v":{"$error":"#NAME?"}},null,{"$f":"[1]!SUMSTRING(I89:J89,\"|\")","v":{"$error":"#NAME?"}}]
[9,6005,null,6005,3,5,195,null,{"$f":"[1]!SUMSTRING(D90:E90,\"#\")","v":{"$error":"#NAME?"}},{"$f":"[1]!SUMSTRING(F90:G90,\"#\")","v":{"$error":"#NAME?"}},null,{"$f":"[1]!SUMSTRING(I90:J90,\"|\")","v":{"$error":"#NAME?"}}]
[10,6005,null,6005,3,5,235,null,{"$f":"[1]!SUMSTRING(D91:E91,\"#\")","v":{"$error":"#NAME?"}},{"$f":"[1]!SUMSTRING(F91:G91,\"#\")","v":{"$error":"#NAME?"}},null,{"$f":"[1]!SUMSTRING(I91:J91,\"|\")","v":{"$error":"#NAME?"}}]
[11,6005,null,6005,3,5,280,null,{"$f":"[1]!SUMSTRING(D92:E92,\"#\")","v":{"$error":"#NAME?"}},{"$f":"[1]!SUMSTRING(F92:G92,\"#\")","v":{"$error":"#NAME?"}},null,{"$f":"[1]!SUMSTRING(I92:J92,\"|\")","v":{"$error":"#NAME?"}}]
[12,6005,null,6005,3,5,330,null,{"$f":"[1]!SUMSTRING(D93:E93,\"#\")","v":{"$error":"#NAME?"}},{"$f":"[1]!SUMSTRING(F93:G93,\"#\")","v":{"$error":"#NAME?"}},null,{"$f":"[1]!SUMSTRING(I93:J93,\"|\")","v":{"$error":"#NAME?"}}]
[13,6005,null,6005,3,5,380,null,{"$f":"[1]!SUMSTRING(D94:E94,\"#\")","v":{"$error":"#NAME?"}},{"$f":"[1]!SUMSTRING(F94:G94,\"#\")","v":{"$error":"#NAME?"}},null,{"$f":"[1]!SUMSTRING(I94:J94,\"|\")","v":{"$error":"#NAME?"}}]
[14,6005,null,6005,4,5,435,null,{"$f":"[1]!SUMSTRING(D95:E95,\"#\")","v":{"$error":"#NAME?"}},{"$f":"[1]!SUMSTRING(F95:G95,\"#\")","v":{"$error":"#NAME?"}},null,{"$f":"[1]!SUMSTRING(I95:J95,\"|\")","v":{"$error":"#NAME?"}}]
[15,6005,null,6005,5,5,495,null,{"$f":"[1]!SUMSTRING(D96:E96,\"#\")","v":{"$error":"#NAME?"}},{"$f":"[1]!SUMSTRING(F96:G96,\"#\")","v":{"$error":"#NAME?"}},null,{"$f":"[1]!SUMSTRING(I96:J96,\"|\")","v":{"$error":"#NAME?"}}]
[16,6005,null,6005,6,5,555,null,{"$f":"[1]!SUMSTRING(D97:E97,\"#\")","v":{"$error":"#NAME?"}},{"$f":"[1]!SUMSTRING(F97:G97,\"#\")","v":{"$error":"#NAME?"}},null,{"$f":"[1]!SUMSTRING(I97:J97,\"|\")","v":{"$error":"#NAME?"}}]
[17,6005,null,6005,8,5,620,null,{"$f":"[1]!SUMSTRING(D98:E98,\"#\")","v":{"$error":"#NAME?"}},{"$f":"[1]!SUMSTRING(F98:G98,\"#\")","v":{"$error":"#NAME?"}},null,{"$f":"[1]!SUMSTRING(I98:J98,\"|\")","v":{"$error":"#NAME?"}}]
[18,6005,null,6005,10,5,690,null,{"$f":"[1]!SUMSTRING(D99:E99,\"#\")","v":{"$error":"#NAME?"}},{"$f":"[1]!SUMSTRING(F99:G99,\"#\")","v":{"$error":"#NAME?"}},null,{"$f":"[1]!SUMSTRING(I99:J99,\"|\")","v":{"$error":"#NAME?"}}]
[19,6005,null,6005,21,5,765,null,{"$f":"[1]!SUMSTRING(D100:E100,\"#\")","v":{"$error":"#NAME?"}},{"$f":"[1]!SUMSTRING(F100:G100,\"#\")","v":{"$error":"#NAME?"}},null,{"$f":"[1]!SUMSTRING(I100:J100,\"|\")","v":{"$error":"#NAME?"}}]
[20,6005,null,6005,30,5,840,null,{"$f":"[1]!SUMSTRING(D101:E101,\"#\")","v":{"$error":"#NAME?"}},{"$f":"[1]!SUMSTRING(F101:G101,\"#\")","v":{"$error":"#NAME?"}},null,{"$f":"[1]!SUMSTRING(I101:J101,\"|\")","v":{"$error":"#NAME?"}}]
[1,6006,null,6006,1,5,0,null,{"$f":"[1]!SUMSTRING(D102:E102,\"#\")","v":{"$error":"#NAME?"}},{"$f":"[1]!SUMSTRING(F102:G102,\"#\")","v":{"$error":"#NAME?"}},null,{"$f":"[1]!SUMSTRING(I102:J102,\"|\")","v":{"$error":"#NAME?"}}]
[2,6006,null,6006,1,5,20,null,{"$f":"[1]!SUMSTRING(D103:E103,\"#\")","v":{"$error":"#NAME?"}},{"$f":"[1]!SUMSTRING(F103:G103,\"#\")","v":{"$error":"#NAME?"}},null,{"$f":"[1]!SUMSTRING(I103:J103,\"|\")","v":{"$error":"#NAME?"}}]
[3,6006,null,6006,1,5,35,null,{"$f":"[1]!SUMSTRING(D104:E104,\"#\")","v":{"$error":"#NAME?"}},{"$f":"[1]!SUMSTRING(F104:G104,\"#\")","v":{"$error":"#NAME?"}},null,{"$f":"[1]!SUMSTRING(I104:J104,\"|\")","v":{"$error":"#NAME?"}}]
[4,6006,null,6006,1,5,50,null,{"$f":"[1]!SUMSTRING(D105:E105,\"#\")","v":{"$error":"#NAME?"}},{"$f":"[1]!SUMSTRING(F105:G105,\"#\")","v":{"$error":"#NAME?"}},null,{"$f":"[1]!SUMSTRING(I105:J105,\"|\")","v":{"$error":"#NAME?"}}]
[5,6006,null,6006,2,5,75,null,{"$f":"[1]!SUMSTRING(D106:E106,\"#\")","v":{"$error":"#NAME?"}},{"$f":"[1]!SUMSTRING(F106:G106,\"#\")","v":{"$error":"#NAME?"}},null,{"$f":"[1]!SUMSTRING(I106:J106,\"|\")","v":{"$error":"#NAME?"}}]
[6,6006,null,6006,2,5,100,null,{"$f":"[1]!SUMSTRING(D107:E107,\"#\")","v":{"$error":"#NAME?"}},{"$f":"[1]!SUMSTRING(F107:G107,\"#\")","v":{"$error":"#NAME?"}},null,{"$f":"[1]!SUMSTRING(I107:J107,\"|\")","v":{"$error":"#NAME?"}}]
[7,6006,null,6006,2,5,130,null,{"$f":"[1]!SUMSTRING(D108:E108,\"#\")","v":{"$error":"#NAME?"}},{"$f":"[1]!SUMSTRING(F108:G108,\"#\")","v":{"$error":"#NAME?"}},null,{"$f":"[1]!SUMSTRING(I108:J108,\"|\")","v":{"$error":"#NAME?"}}]
[8,6006,null,6006,3,5,160,null,{"$f":"[1]!SUMSTRING(D109:E109,\"#\")","v":{"$error":"#NAME?"}},{"$f":"[1]!SUMSTRING(F109:G109,\"#\")","v":{"$error":"#NAME?"}},null,{"$f":"[1]!SUMSTRING(I109:J109,\"|\")","v":{"$error":"#NAME?"}}]
[9,6006,null,6006,3,5,195,null,{"$f":"[1]!SUMSTRING(D110:E110,\"#\")","v":{"$error":"#NAME?"}},{"$f":"[1]!SUMSTRING(F110:G110,\"#\")","v":{"$error":"#NAME?"}},null,{"$f":"[1]!SUMSTRING(I110:J110,\"|\")","v":{"$error":"#NAME?"}}]
[10,6006,null,6006,3,5,235,null,{"$f":"[1]!SUMSTRING(D111:E111,\"#\")","v":{"$error":"#NAME?"}},{"$f":"[1]!SUMSTRING(F111:G111,\"#\")","v":{"$error":"#NAME?"}},null,{"$f":"[1]!SUMSTRING(I111:J111,\"|\")","v":{"$error":"#NAME?"}}]
[11,6006,null,6006,3,5,280,null,{"$f":"[1]!SUMSTRING(D112:E112,\"#\")","v":{"$error":"#NAME?"}},{"$f":"[1]!SUMSTRING(F112:G112,\"#\")","v":{"$error":"#NAME?"}},null,{"$f":"[1]!SUMSTRING(I112:J112,\"|\")","v":{"$error":"#NAME?"}}]
[12,6006,null,6006,3,5,330,null,{"$f":"[1]!SUMSTRING(D113:E113,\"#\")","v":{"$error":"#NAME?"}},{"$f":"[1]!SUMSTRING(F113:G113,\"#\")","v":{"$error":"#NAME?"}},null,{"$f":"[1]!SUMSTRING(I113:J113,\"|\")","v":{"$error":"#NAME?"}}]
[13,6006,null,6006,3,5,380,null,{"$f":"[1]!SUMSTRING(D114:E114,\"#\")","v":{"$error":"#NAME?"}},{"$f":"[1]!SUMSTRING(F114:G114,\"#\")","v":{"$error":"#NAME?"}},null,{"$f":"[1]!SUMSTRING(I114:J114,\"|\")","v":{"$error":"#NAME?"}}]
[14,6006,null,6006,4,5,435,null,{"$f":"[1]!SUMSTRING(D115:E115,\"#\")","v":{"$error":"#NAME?"}},{"$f":"[1]!SUMSTRING(F115:G115,\"#\")","v":{"$error":"#NAME?"}},null,{"$f":"[1]!SUMSTRING(I115:J115,\"|\")","v":{"$error":"#NAME?"}}]
[15,6006,null,6006,5,5,495,null,{"$f":"[1]!SUMSTRING(D116:E116,\"#\")","v":{"$error":"#NAME?"}},{"$f":"[1]!SUMSTRING(F116:G116,\"#\")","v":{"$error":"#NAME?"}},null,{"$f":"[1]!SUMSTRING(I116:J116,\"|\")","v":{"$error":"#NAME?"}}]
[16,6006,null,6006,6,5,555,null,{"$f":"[1]!SUMSTRING(D117:E117,\"#\")","v":{"$error":"#NAME?"}},{"$f":"[1]!SUMSTRING(F117:G117,\"#\")","v":{"$error":"#NAME?"}},null,{"$f":"[1]!SUMSTRING(I117:J117,\"|\")","v":{"$error":"#NAME?"}}]
[17,6006,null,6006,8,5,620,null,{"$f":"[1]!SUMSTRING(D118:E118,\"#\")","v":{"$error":"#NAME?"}},{"$f":"[1]!SUMSTRING(F118:G118,\"#\")","v":{"$error":"#NAME?"}},null,{"$f":"[1]!SUMSTRING(I118:J118,\"|\")","v":{"$error":"#NAME?"}}]
[18,6006,null,6006,10,5,690,null,{"$f":"[1]!SUMSTRING(D119:E119,\"#\")","v":{"$error":"#NAME?"}},{"$f":"[1]!SUMSTRING(F119:G119,\"#\")","v":{"$error":"#NAME?"}},null,{"$f":"[1]!SUMSTRING(I119:J119,\"|\")","v":{"$error":"#NAME?"}}]
[19,6006,null,6006,21,5,765,null,{"$f":"[1]!SUMSTRING(D120:E120,\"#\")","v":{"$error":"#NAME?"}},{"$f":"[1]!SUMSTRING(F120:G120,\"#\")","v":{"$error":"#NAME?"}},null,{"$f":"[1]!SUMSTRING(I120:J120,\"|\")","v":{"$error":"#NAME?"}}]
[20,6006,null,6006,30,5,840,null,{"$f":"[1]!SUMSTRING(D121:E121,\"#\")","v":{"$error":"#NAME?"}},{"$f":"[1]!SUMSTRING(F121:G121,\"#\")","v":{"$error":"#NAME?"}},null,{"$f":"[1]!SUMSTRING(I121:J121,\"|\")","v":{"$error":"#NAME?"}}]
[1,6007,null,6007,1,5,0,null,{"$f":"[1]!SUMSTRING(D122:E122,\"#\")","v":{"$error":"#NAME?"}},{"$f":"[1]!SUMSTRING(F122:G122,\"#\")","v":{"$error":"#NAME?"}},null,{"$f":"[1]!SUMSTRING(I122:J122,\"|\")","v":{"$error":"#NAME?"}}]
[2,6007,null,6007,1,5,20,null,{"$f":"[1]!SUMSTRING(D123:E123,\"#\")","v":{"$error":"#NAME?"}},{"$f":"[1]!SUMSTRING(F123:G123,\"#\")","v":{"$error":"#NAME?"}},null,{"$f":"[1]!SUMSTRING(I123:J123,\"|\")","v":{"$error":"#NAME?"}}]
[3,6007,null,6007,1,5,35,null,{"$f":"[1]!SUMSTRING(D124:E124,\"#\")","v":{"$error":"#NAME?"}},{"$f":"[1]!SUMSTRING(F124:G124,\"#\")","v":{"$error":"#NAME?"}},null,{"$f":"[1]!SUMSTRING(I124:J124,\"|\")","v":{"$error":"#NAME?"}}]
[4,6007,null,6007,1,5,50,null,{"$f":"[1]!SUMSTRING(D125:E125,\"#\")","v":{"$error":"#NAME?"}},{"$f":"[1]!SUMSTRING(F125:G125,\"#\")","v":{"$error":"#NAME?"}},null,{"$f":"[1]!SUMSTRING(I125:J125,\"|\")","v":{"$error":"#NAME?"}}]
[5,6007,null,6007,2,5,75,null,{"$f":"[1]!SUMSTRING(D126:E126,\"#\")","v":{"$error":"#NAME?"}},{"$f":"[1]!SUMSTRING(F126:G126,\"#\")","v":{"$error":"#NAME?"}},null,{"$f":"[1]!SUMSTRING(I126:J126,\"|\")","v":{"$error":"#NAME?"}}]
[6,6007,null,6007,2,5,100,null,{"$f":"[1]!SUMSTRING(D127:E127,\"#\")","v":{"$error":"#NAME?"}},{"$f":"[1]!SUMSTRING(F127:G127,\"#\")","v":{"$error":"#NAME?"}},null,{"$f":"[1]!SUMSTRING(I127:J127,\"|\")","v":{"$error":"#NAME?"}}]
[7,6007,null,6007,2,5,130,null,{"$f":"[1]!SUMSTRING(D128:E128,\"#\")","v":{"$error":"#NAME?"}},{"$f":"[1]!SUMSTRING(F128:G128,\"#\")","v":{"$error":"#NAME?"}},null,{"$f":"[1]!SUMSTRING(I128:J128,\"|\")","v":{"$error":"#NAME?"}}]
[8,6007,null,6007,3,5,160,null,{"$f":"[1]!SUMSTRING(D129:E129,\"#\")","v":{"$error":"#NAME?"}},{"$f":"[1]!SUMSTRING(F129:G129,\"#\")","v":{"$error":"#NAME?"}},null,{"$f":"[1]!SUMSTRING(I129:J129,\"|\")","v":{"$error":"#NAME?"}}]
[9,6007,null,6007,3,5,195,null,{"$f":"[1]!SUMSTRING(D130:E130,\"#\")","v":{"$error":"#NAME?"}},{"$f":"[1]!SUMSTRING(F130:G130,\"#\")","v":{"$error":"#NAME?"}},null,{"$f":"[1]!SUMSTRING(I130:J130,\"|\")","v":{"$error":"#NAME?"}}]
[10,6007,null,{"$f":"B131","v":6007},3,5,235,null,{"$f":"[1]!SUMSTRING(D131:E131,\"#\")","v":{"$error":"#NAME?"}},{"$f":"[1]!SUMSTRING(F131:G131,\"#\")","v":{"$error":"#NAME?"}},null,{"$f":"[1]!SUMSTRING(I131:J131,\"|\")","v":{"$error":"#NAME?"}}]
[11,6007,null,6007,3,5,280,null,{"$f":"[1]!SUMSTRING(D132:E132,\"#\")","v":{"$error":"#NAME?"}},{"$f":"[1]!SUMSTRING(F132:G132,\"#\")","v":{"$error":"#NAME?"}},null,{"$f":"[1]!SUMSTRING(I132:J132,\"|\")","v":{"$error":"#NAME?"}}]
[12,6007,null,6007,3,5,330,null,{"$f":"[1]!SUMSTRING(D133:E133,\"#\")","v":{"$error":"#NAME?"}},{"$f":"[1]!SUMSTRING(F133:G133,\"#\")","v":{"$error":"#NAME?"}},null,{"$f":"[1]!SUMSTRING(I133:J133,\"|\")","v":{"$error":"#NAME?"}}]
[13,6007,null,6007,3,5,380,null,{"$f":"[1]!SUMSTRING(D134:E134,\"#\")","v":{"$error":"#NAME?"}},{"$f":"[1]!SUMSTRING(F134:G134,\"#\")","v":{"$error":"#NAME?"}},null,{"$f":"[1]!SUMSTRING(I134:J134,\"|\")","v":{"$error":"#NAME?"}}]
[14,6007,null,6007,4,5,435,null,{"$f":"[1]!SUMSTRING(D135:E135,\"#\")","v":{"$error":"#NAME?"}},{"$f":"[1]!SUMSTRING(F135:G135,\"#\")","v":{"$error":"#NAME?"}},null,{"$f":"[1]!SUMSTRING(I135:J135,\"|\")","v":{"$error":"#NAME?"}}]
[15,6007,null,6007,5,5,495,null,{"$f":"[1]!SUMSTRING(D136:E136,\"#\")","v":{"$error":"#NAME?"}},{"$f":"[1]!SUMSTRING(F136:G136,\"#\")","v":{"$error":"#NAME?"}},null,{"$f":"[1]!SUMSTRING(I136:J136,\"|\")","v":{"$error":"#NAME?"}}]
[16,6007,null,6007,6,5,555,null,{"$f":"[1]!SUMSTRING(D137:E137,\"#\")","v":{"$error":"#NAME?"}},{"$f":"[1]!SUMSTRING(F137:G137,\"#\")","v":{"$error":"#NAME?"}},null,{"$f":"[1]!SUMSTRING(I137:J137,\"|\")","v":{"$error":"#NAME?"}}]
[17,6007,null,6007,8,5,620,null,{"$f":"[1]!SUMSTRING(D138:E138,\"#\")","v":{"$error":"#NAME?"}},{"$f":"[1]!SUMSTRING(F138:G138,\"#\")","v":{"$error":"#NAME?"}},null,{"$f":"[1]!SUMSTRING(I138:J138,\"|\")","v":{"$error":"#NAME?"}}]
[18,6007,null,6007,10,5,690,null,{"$f":"[1]!SUMSTRING(D139:E139,\"#\")","v":{"$error":"#NAME?"}},{"$f":"[1]!SUMSTRING(F139:G139,\"#\")","v":{"$error":"#NAME?"}},null,{"$f":"[1]!SUMSTRING(I139:J139,\"|\")","v":{"$error":"#NAME?"}}]
[19,6007,null,6007,21,5,765,null,{"$f":"[1]!SUMSTRING(D140:E140,\"#\")","v":{"$error":"#NAME?"}},{"$f":"[1]!SUMSTRING(F140:G140,\"#\")","v":{"$error":"#NAME?"}},null,{"$f":"[1]!SUMSTRING(I140:J140,\"|\")","v":{"$error":"#NAME?"}}]
[20,6007,null,6007,30,5,840,null,{"$f":"[1]!SUMSTRING(D141:E141,\"#\")","v":{"$error":"#NAME?"}},{"$f":"[1]!SUMSTRING(F141:G141,\"#\")","v":{"$error":"#NAME?"}},null,{"$f":"[1]!SUMSTRING(I141:J141,\"|\")","v":{"$error":"#NAME?"}}]
[1,6008,null,6008,1,5,0,null,{"$f":"[1]!SUMSTRING(D142:E142,\"#\")","v":{"$error":"#NAME?"}},{"$f":"[1]!SUMSTRING(F142:G142,\"#\")","v":{"$error":"#NAME?"}},null,{"$f":"[1]!SUMSTRING(I142:J142,\"|\")","v":{"$error":"#NAME?"}}]
[2,6008,null,6008,1,5,20,null,{"$f":"[1]!SUMSTRING(D143:E143,\"#\")","v":{"$error":"#NAME?"}},{"$f":"[1]!SUMSTRING(F143:G143,\"#\")","v":{"$error":"#NAME?"}},null,{"$f":"[1]!SUMSTRING(I143:J143,\"|\")","v":{"$error":"#NAME?"}}]
[3,6008,null,6008,1,5,35,null,{"$f":"[1]!SUMSTRING(D144:E144,\"#\")","v":{"$error":"#NAME?"}},{"$f":"[1]!SUMSTRING(F144:G144,\"#\")","v":{"$error":"#NAME?"}},null,{"$f":"[1]!SUMSTRING(I144:J144,\"|\")","v":{"$error":"#NAME?"}}]
[4,6008,null,6008,1,5,50,null,{"$f":"[1]!SUMSTRING(D145:E145,\"#\")","v":{"$error":"#NAME?"}},{"$f":"[1]!SUMSTRING(F145:G145,\"#\")","v":{"$error":"#NAME?"}},null,{"$f":"[1]!SUMSTRING(I145:J145,\"|\")","v":{"$error":"#NAME?"}}]
[5,6008,null,6008,2,5,75,null,{"$f":"[1]!SUMSTRING(D146:E146,\"#\")","v":{"$error":"#NAME?"}},{"$f":"[1]!SUMSTRING(F146:G146,\"#\")","v":{"$error":"#NAME?"}},null,{"$f":"[1]!SUMSTRING(I146:J146,\"|\")","v":{"$error":"#NAME?"}}]
[6,6008,null,6008,2,5,100,null,{"$f":"[1]!SUMSTRING(D147:E147,\"#\")","v":{"$error":"#NAME?"}},{"$f":"[1]!SUMSTRING(F147:G147,\"#\")","v":{"$error":"#NAME?"}},null,{"$f":"[1]!SUMSTRING(I147:J147,\"|\")","v":{"$error":"#NAME?"}}]
[7,6008,null,6008,2,5,130,null,{"$f":"[1]!SUMSTRING(D148:E148,\"#\")","v":{"$error":"#NAME?"}},{"$f":"[1]!SUMSTRING(F148:G148,\"#\")","v":{"$error":"#NAME?"}},null,{"$f":"[1]!SUMSTRING(I148:J148,\"|\")","v":{"$error":"#NAME?"}}]
[8,6008,null,6008,3,5,160,null,{"$f":"[1]!SUMSTRING(D149:E149,\"#\")","v":{"$error":"#NAME?"}},{"$f":"[1]!SUMSTRING(F149:G149,\"#\")","v":{"$error":"#NAME?"}},null,{"$f":"[1]!SUMSTRING(I149:J149,\"|\")","v":{"$error":"#NAME?"}}]
[9,6008,null,6008,3,5,195,null,{"$f":"[1]!SUMSTRING(D150:E150,\"#\")","v":{"$error":"#NAME?"}},{"$f":"[1]!SUMSTRING(F150:G150,\"#\")","v":{"$error":"#NAME?"}},null,{"$f":"[1]!SUMSTRING(I150:J150,\"|\")","v":{"$error":"#NAME?"}}]
[{"$f":"A131","v":10},{"$f":"B131+1","v":6008},null,6008,{"$f":"E131","v":3},5,235,null,{"$f":"[1]!SUMSTRING(D151:E151,\"#\")","v":{"$error":"#NAME?"}},{"$f":"[1]!SUMSTRING(F151:G151,\"#\")","v":{"$error":"#NAME?"}},null,{"$f":"[1]!SUMSTRING(I151:J151,\"|\")","v":{"$error":"#NAME?"}}]
[11,6008,null,6008,3,5,280,null,{"$f":"[1]!SUMSTRING(D152:E152,\"#\")","v":{"$error":"#NAME?"}},{"$f":"[1]!SUMSTRING(F152:G152,\"#\")","v":{"$error":"#NAME?"}},null,{"$f":"[1]!SUMSTRING(I152:J152,\"|\")","v":{"$error":"#NAME?"}}]
[12,6008,null,6008,3,5,330,null,{"$f":"[1]!SUMSTRING(D153:E153,\"#\")","v":{"$error":"#NAME?"}},{"$f":"[1]!SUMSTRING(F153:G153,\"#\")","v":{"$error":"#NAME?"}},null,{"$f":"[1]!SUMSTRING(I153:J153,\"|\")","v":{"$error":"#NAME?"}}]
[13,6008,null,6008,3,5,380,null,{"$f":"[1]!SUMSTRING(D154:E154,\"#\")","v":{"$error":"#NAME?"}},{"$f":"[1]!SUMSTRING(F154:G154,\"#\")","v":{"$error":"#NAME?"}},null,{"$f":"[1]!SUMSTRING(I154:J154,\"|\")","v":{"$error":"#NAME?"}}]
[14,6008,null,6008,4,5,435,null,{"$f":"[1]!SUMSTRING(D155:E155,\"#\")","v":{"$error":"#NAME?"}},{"$f":"[1]!SUMSTRING(F155:G155,\"#\")","v":{"$error":"#NAME?"}},null,{"$f":"[1]!SUMSTRING(I155:J155,\"|\")","v":{"$error":"#NAME?"}}]
[15,6008,null,6008,5,5,495,null,{"$f":"[1]!SUMSTRING(D156:E156,\"#\")","v":{"$error":"#NAME?"}},{"$f":"[1]!SUMSTRING(F156:G156,\"#\")","v":{"$error":"#NAME?"}},null,{"$f":"[1]!SUMSTRING(I156:J156,\"|\")","v":{"$error":"#NAME?"}}]
[16,6008,null,6008,6,5,555,null,{"$f":"[1]!SUMSTRING(D157:E157,\"#\")","v":{"$error":"#NAME?"}},{"$f":"[1]!SUMSTRING(F157:G157,\"#\")","v":{"$error":"#NAME?"}},null,{"$f":"[1]!SUMSTRING(I157:J157,\"|\")","v":{"$error":"#NAME?"}}]
[17,6008,null,6008,8,5,620,null,{"$f":"[1]!SUMSTRING(D158:E158,\"#\")","v":{"$error":"#NAME?"}},{"$f":"[1]!SUMSTRING(F158:G158,\"#\")","v":{"$error":"#NAME?"}},null,{"$f":"[1]!SUMSTRING(I158:J158,\"|\")","v":{"$error":"#NAME?"}}]
[18,6008,null,6008,10,5,690,null,{"$f":"[1]!SUMSTRING(D159:E159,\"#\")","v":{"$error":"#NAME?"}},{"$f":"[1]!SUMSTRING(F159:G159,\"#\")","v":{"$error":"#NAME?"}},null,{"$f":"[1]!SUMSTRING(I159:J159,\"|\")","v":{"$error":"#NAME?"}}]
[19,6008,null,6008,21,5,765,null,{"$f":"[1]!SUMSTRING(D160:E160,\"#\")","v":{"$error":"#NAME?"}},{"$f":"[1]!SUMSTRING(F160:G160,\"#\")","v":{"$error":"#NAME?"}},null,{"$f":"[1]!SUMSTRING(I160:J160,\"|\")","v":{"$error":"#NAME?"}}]
[20,6008,null,6008,30,5,840,null,{"$f":"[1]!SUMSTRING(D161:E161,\"#\")","v":{"$error":"#NAME?"}},{"$f":"[1]!SUMSTRING(F161:G161,\"#\")","v":{"$error":"#NAME?"}},null,{"$f":"[1]!SUMSTRING(I161:J161,\"|\")","v":{"$error":"#NAME?"}}]
[1,6009,null,6009,1,5,0,null,{"$f":"[1]!SUMSTRING(D162:E162,\"#\")","v":{"$error":"#NAME?"}},{"$f":"[1]!SUMSTRING(F162:G162,\"#\")","v":{"$error":"#NAME?"}},null,{"$f":"[1]!SUMSTRING(I162:J162,\"|\")","v":{"$error":"#NAME?"}}]
[2,6009,null,6009,1,5,20,null,{"$f":"[1]!SUMSTRING(D163:E163,\"#\")","v":{"$error":"#NAME?"}},{"$f":"[1]!SUMSTRING(F163:G163,\"#\")","v":{"$error":"#NAME?"}},null,{"$f":"[1]!SUMSTRING(I163:J163,\"|\")","v":{"$error":"#NAME?"}}]
[3,6009,null,6009,1,5,35,null,{"$f":"[1]!SUMSTRING(D164:E164,\"#\")","v":{"$error":"#NAME?"}},{"$f":"[1]!SUMSTRING(F164:G164,\"#\")","v":{"$error":"#NAME?"}},null,{"$f":"[1]!SUMSTRING(I164:J164,\"|\")","v":{"$error":"#NAME?"}}]
[4,6009,null,6009,1,5,50,null,{"$f":"[1]!SUMSTRING(D165:E165,\"#\")","v":{"$error":"#NAME?"}},{"$f":"[1]!SUMSTRING(F165:G165,\"#\")","v":{"$error":"#NAME?"}},null,{"$f":"[1]!SUMSTRING(I165:J165,\"|\")","v":{"$error":"#NAME?"}}]
[5,6009,null,6009,2,5,75,null,{"$f":"[1]!SUMSTRING(D166:E166,\"#\")","v":{"$error":"#NAME?"}},{"$f":"[1]!SUMSTRING(F166:G166,\"#\")","v":{"$error":"#NAME?"}},null,{"$f":"[1]!SUMSTRING(I166:J166,\"|\")","v":{"$error":"#NAME?"}}]
[6,6009,null,6009,2,5,100,null,{"$f":"[1]!SUMSTRING(D167:E167,\"#\")","v":{"$error":"#NAME?"}},{"$f":"[1]!SUMSTRING(F167:G167,\"#\")","v":{"$error":"#NAME?"}},null,{"$f":"[1]!SUMSTRING(I167:J167,\"|\")","v":{"$error":"#NAME?"}}]
[7,6009,null,6009,2,5,130,null,{"$f":"[1]!SUMSTRING(D168:E168,\"#\")","v":{"$error":"#NAME?"}},{"$f":"[1]!SUMSTRING(F168:G168,\"#\")","v":{"$error":"#NAME?"}},null,{"$f":"[1]!SUMSTRING(I168:J168,\"|\")","v":{"$error":"#NAME?"}}]
[8,6009,null,6009,3,5,160,null,{"$f":"[1]!SUMSTRING(D169:E169,\"#\")","v":{"$error":"#NAME?"}},{"$f":"[1]!SUMSTRING(F169:G169,\"#\")","v":{"$error":"#NAME?"}},null,{"$f":"[1]!SUMSTRING(I169:J169,\"|\")","v":{"$error":"#NAME?"}}]
[9,6009,null,6009,3,5,195,null,{"$f":"[1]!SUMSTRING(D170:E170,\"#\")","v":{"$error":"#NAME?"}},{"$f":"[1]!SUMSTRING(F170:G170,\"#\")","v":{"$error":"#NAME?"}},null,{"$f":"[1]!SUMSTRING(I170:J170,\"|\")","v":{"$error":"#NAME?"}}]
[10,6009,null,6009,3,5,235,null,{"$f":"[1]!SUMSTRING(D171:E171,\"#\")","v":{"$error":"#NAME?"}},{"$f":"[1]!SUMSTRING(F171:G171,\"#\")","v":{"$error":"#NAME?"}},null,{"$f":"[1]!SUMSTRING(I171:J171,\"|\")","v":{"$error":"#NAME?"}}]
[11,6009,null,6009,3,5,280,null,{"$f":"[1]!SUMSTRING(D172:E172,\"#\")","v":{"$error":"#NAME?"}},{"$f":"[1]!SUMSTRING(F172:G172,\"#\")","v":{"$error":"#NAME?"}},null,{"$f":"[1]!SUMSTRING(I172:J172,\"|\")","v":{"$error":"#NAME?"}}]
[12,6009,null,6009,3,5,330,null,{"$f":"[1]!SUMSTRING(D173:E173,\"#\")","v":{"$error":"#NAME?"}},{"$f":"[1]!SUMSTRING(F173:G173,\"#\")","v":{"$error":"#NAME?"}},null,{"$f":"[1]!SUMSTRING(I173:J173,\"|\")","v":{"$error":"#NAME?"}}]
[13,6009,null,6009,3,5,380,null,{"$f":"[1]!SUMSTRING(D174:E174,\"#\")","v":{"$error":"#NAME?"}},{"$f":"[1]!SUMSTRING(F174:G174,\"#\")","v":{"$error":"#NAME?"}},null,{"$f":"[1]!SUMSTRING(I174:J174,\"|\")","v":{"$error":"#NAME?"}}]
[14,6009,null,6009,4,5,435,null,{"$f":"[1]!SUMSTRING(D175:E175,\"#\")","v":{"$error":"#NAME?"}},{"$f":"[1]!SUMSTRING(F175:G175,\"#\")","v":{"$error":"#NAME?"}},null,{"$f":"[1]!SUMSTRING(I175:J175,\"|\")","v":{"$error":"#NAME?"}}]
[15,6009,null,6009,5,5,495,null,{"$f":"[1]!SUMSTRING(D176:E176,\"#\")","v":{"$error":"#NAME?"}},{"$f":"[1]!SUMSTRING(F176:G176,\"#\")","v":{"$error":"#NAME?"}},null,{"$f":"[1]!SUMSTRING(I176:J176,\"|\")","v":{"$error":"#NAME?"}}]
[16,6009,null,6009,6,5,555,null,{"$f":"[1]!SUMSTRING(D177:E177,\"#\")","v":{"$error":"#NAME?"}},{"$f":"[1]!SUMSTRING(F177:G177,\"#\")","v":{"$error":"#NAME?"}},null,{"$f":"[1]!SUMSTRING(I177:J177,\"|\")","v":{"$error":"#NAME?"}}]
[17,6009,null,6009,8,5,620,null,{"$f":"[1]!SUMSTRING(D178:E178,\"#\")","v":{"$error":"#NAME?"}},{"$f":"[1]!SUMSTRING(F178:G178,\"#\")","v":{"$error":"#NAME?"}},null,{"$f":"[1]!SUMSTRING(I178:J178,\"|\")","v":{"$error":"#NAME?"}}]
[18,6009,null,6009,10,5,690,null,{"$f":"[1]!SUMSTRING(D179:E179,\"#\")","v":{"$error":"#NAME?"}},{"$f":"[1]!SUMSTRING(F179:G179,\"#\")","v":{"$error":"#NAME?"}},null,{"$f":"[1]!SUMSTRING(I179:J179,\"|\")","v":{"$error":"#NAME?"}}]
[19,6009,null,6009,21,5,765,null,{"$f":"[1]!SUMSTRING(D180:E180,\"#\")","v":{"$error":"#NAME?"}},{"$f":"[1]!SUMSTRING(F180:G180,\"#\")","v":{"$error":"#NAME?"}},null,{"$f":"[1]!SUMSTRING(I180:J180,\"|\")","v":{"$error":"#NAME?"}}]
[20,6009,null,6009,30,5,840,null,{"$f":"[1]!SUMSTRING(D181:E181,\"#\")","v":{"$error":"#NAME?"}},{"$f":"[1]!SUMSTRING(F181:G181,\"#\")","v":{"$error":"#NAME?"}},null,{"$f":"[1]!SUMSTRING(I181:J181,\"|\")","v":{"$error":"#NAME?"}}]
[1,6010,null,6010,1,5,0,null,{"$f":"[1]!SUMSTRING(D182:E182,\"#\")","v":{"$error":"#NAME?"}},{"$f":"[1]!SUMSTRING(F182:G182,\"#\")","v":{"$error":"#NAME?"}},null,{"$f":"[1]!SUMSTRING(I182:J182,\"|\")","v":{"$error":"#NAME?"}}]
[2,6010,null,6010,1,5,20,null,{"$f":"[1]!SUMSTRING(D183:E183,\"#\")","v":{"$error":"#NAME?"}},{"$f":"[1]!SUMSTRING(F183:G183,\"#\")","v":{"$error":"#NAME?"}},null,{"$f":"[1]!SUMSTRING(I183:J183,\"|\")","v":{"$error":"#NAME?"}}]
[3,6010,null,6010,1,5,35,null,{"$f":"[1]!SUMSTRING(D184:E184,\"#\")","v":{"$error":"#NAME?"}},{"$f":"[1]!SUMSTRING(F184:G184,\"#\")","v":{"$error":"#NAME?"}},null,{"$f":"[1]!SUMSTRING(I184:J184,\"|\")","v":{"$error":"#NAME?"}}]
[4,6010,null,6010,1,5,50,null,{"$f":"[1]!SUMSTRING(D185:E185,\"#\")","v":{"$error":"#NAME?"}},{"$f":"[1]!SUMSTRING(F185:G185,\"#\")","v":{"$error":"#NAME?"}},null,{"$f":"[1]!SUMSTRING(I185:J185,\"|\")","v":{"$error":"#NAME?"}}]
[5,6010,null,6010,2,5,75,null,{"$f":"[1]!SUMSTRING(D186:E186,\"#\")","v":{"$error":"#NAME?"}},{"$f":"[1]!SUMSTRING(F186:G186,\"#\")","v":{"$error":"#NAME?"}},null,{"$f":"[1]!SUMSTRING(I186:J186,\"|\")","v":{"$error":"#NAME?"}}]
[6,6010,null,6010,2,5,100,null,{"$f":"[1]!SUMSTRING(D187:E187,\"#\")","v":{"$error":"#NAME?"}},{"$f":"[1]!SUMSTRING(F187:G187,\"#\")","v":{"$error":"#NAME?"}},null,{"$f":"[1]!SUMSTRING(I187:J187,\"|\")","v":{"$error":"#NAME?"}}]
[7,6010,null,6010,2,5,130,null,{"$f":"[1]!SUMSTRING(D188:E188,\"#\")","v":{"$error":"#NAME?"}},{"$f":"[1]!SUMSTRING(F188:G188,\"#\")","v":{"$error":"#NAME?"}},null,{"$f":"[1]!SUMSTRING(I188:J188,\"|\")","v":{"$error":"#NAME?"}}]
[8,6010,null,6010,3,5,160,null,{"$f":"[1]!SUMSTRING(D189:E189,\"#\")","v":{"$error":"#NAME?"}},{"$f":"[1]!SUMSTRING(F189:G189,\"#\")","v":{"$error":"#NAME?"}},null,{"$f":"[1]!SUMSTRING(I189:J189,\"|\")","v":{"$error":"#NAME?"}}]
[9,6010,null,6010,3,5,195,null,{"$f":"[1]!SUMSTRING(D190:E190,\"#\")","v":{"$error":"#NAME?"}},{"$f":"[1]!SUMSTRING(F190:G190,\"#\")","v":{"$error":"#NAME?"}},null,{"$f":"[1]!SUMSTRING(I190:J190,\"|\")","v":{"$error":"#NAME?"}}]
[10,6010,null,6010,3,5,235,null,{"$f":"[1]!SUMSTRING(D191:E191,\"#\")","v":{"$error":"#NAME?"}},{"$f":"[1]!SUMSTRING(F191:G191,\"#\")","v":{"$error":"#NAME?"}},null,{"$f":"[1]!SUMSTRING(I191:J191,\"|\")","v":{"$error":"#NAME?"}}]
[11,6010,null,6010,3,5,280,null,{"$f":"[1]!SUMSTRING(D192:E192,\"#\")","v":{"$error":"#NAME?"}},{"$f":"[1]!SUMSTRING(F192:G192,\"#\")","v":{"$error":"#NAME?"}},null,{"$f":"[1]!SUMSTRING(I192:J192,\"|\")","v":{"$error":"#NAME?"}}]
[12,6010,null,6010,3,5,330,null,{"$f":"[1]!SUMSTRING(D193:E193,\"#\")","v":{"$error":"#NAME?"}},{"$f":"[1]!SUMSTRING(F193:G193,\"#\")","v":{"$error":"#NAME?"}},null,{"$f":"[1]!SUMSTRING(I193:J193,\"|\")","v":{"$error":"#NAME?"}}]
[13,6010,null,6010,3,5,380,null,{"$f":"[1]!SUMSTRING(D194:E194,\"#\")","v":{"$error":"#NAME?"}},{"$f":"[1]!SUMSTRING(F194:G194,\"#\")","v":{"$error":"#NAME?"}},null,{"$f":"[1]!SUMSTRING(I194:J194,\"|\")","v":{"$error":"#NAME?"}}]
[14,6010,null,{"$f":"B195","v":6010},4,5,435,null,{"$f":"[1]!SUMSTRING(D195:E195,\"#\")","v":{"$error":"#NAME?"}},{"$f":"[1]!SUMSTRING(F195:G195,\"#\")","v":{"$error":"#NAME?"}},null,{"$f":"[1]!SUMSTRING(I195:J195,\"|\")","v":{"$error":"#NAME?"}}]
[15,6010,null,6010,5,5,495,null,{"$f":"[1]!SUMSTRING(D196:E196,\"#\")","v":{"$error":"#NAME?"}},{"$f":"[1]!SUMSTRING(F196:G196,\"#\")","v":{"$error":"#NAME?"}},null,{"$f":"[1]!SUMSTRING(I196:J196,\"|\")","v":{"$error":"#NAME?"}}]
[16,6010,null,6010,6,5,555,null,{"$f":"[1]!SUMSTRING(D197:E197,\"#\")","v":{"$error":"#NAME?"}},{"$f":"[1]!SUMSTRING(F197:G197,\"#\")","v":{"$error":"#NAME?"}},null,{"$f":"[1]!SUMSTRING(I197:J197,\"|\")","v":{"$error":"#NAME?"}}]
[17,6010,null,6010,8,5,620,null,{"$f":"[1]!SUMSTRING(D198:E198,\"#\")","v":{"$error":"#NAME?"}},{"$f":"[1]!SUMSTRING(F198:G198,\"#\")","v":{"$error":"#NAME?"}},null,{"$f":"[1]!SUMSTRING(I198:J198,\"|\")","v":{"$error":"#NAME?"}}]
[18,6010,null,6010,10,5,690,null,{"$f":"[1]!SUMSTRING(D199:E199,\"#\")","v":{"$error":"#NAME?"}},{"$f":"[1]!SUMSTRING(F199:G199,\"#\")","v":{"$error":"#NAME?"}},null,{"$f":"[1]!SUMSTRING(I199:J199,\"|\")","v":{"$error":"#NAME?"}}]
[19,6010,null,6010,21,5,765,null,{"$f":"[1]!SUMSTRING(D200:E200,\"#\")","v":{"$error":"#NAME?"}},{"$f":"[1]!SUMSTRING(F200:G200,\"#\")","v":{"$error":"#NAME?"}},null,{"$f":"[1]!SUMSTRING(I200:J200,\"|\")","v":{"$error":"#NAME?"}}]
[20,6010,null,6010,30,5,840,null,{"$f":"[1]!SUMSTRING(D201:E201,\"#\")","v":{"$error":"#NAME?"}},{"$f":"[1]!SUMSTRING(F201:G201,\"#\")","v":{"$error":"#NAME?"}},null,{"$f":"[1]!SUMSTRING(I201:J201,\"|\")","v":{"$error":"#NAME?"}}]
[1,6011,null,6011,1,5,0,null,{"$f":"[1]!SUMSTRING(D202:E202,\"#\")","v":{"$error":"#NAME?"}},{"$f":"[1]!SUMSTRING(F202:G202,\"#\")","v":{"$error":"#NAME?"}},null,{"$f":"[1]!SUMSTRING(I202:J202,\"|\")","v":{"$error":"#NAME?"}}]
[2,6011,null,6011,1,5,20,null,{"$f":"[1]!SUMSTRING(D203:E203,\"#\")","v":{"$error":"#NAME?"}},{"$f":"[1]!SUMSTRING(F203:G203,\"#\")","v":{"$error":"#NAME?"}},null,{"$f":"[1]!SUMSTRING(I203:J203,\"|\")","v":{"$error":"#NAME?"}}]
[3,6011,null,6011,1,5,35,null,{"$f":"[1]!SUMSTRING(D204:E204,\"#\")","v":{"$error":"#NAME?"}},{"$f":"[1]!SUMSTRING(F204:G204,\"#\")","v":{"$error":"#NAME?"}},null,{"$f":"[1]!SUMSTRING(I204:J204,\"|\")","v":{"$error":"#NAME?"}}]
[4,6011,null,6011,1,5,50,null,{"$f":"[1]!SUMSTRING(D205:E205,\"#\")","v":{"$error":"#NAME?"}},{"$f":"[1]!SUMSTRING(F205:G205,\"#\")","v":{"$error":"#NAME?"}},null,{"$f":"[1]!SUMSTRING(I205:J205,\"|\")","v":{"$error":"#NAME?"}}]
[5,6011,null,6011,2,5,75,null,{"$f":"[1]!SUMSTRING(D206:E206,\"#\")","v":{"$error":"#NAME?"}},{"$f":"[1]!SUMSTRING(F206:G206,\"#\")","v":{"$error":"#NAME?"}},null,{"$f":"[1]!SUMSTRING(I206:J206,\"|\")","v":{"$error":"#NAME?"}}]
[6,6011,null,6011,2,5,100,null,{"$f":"[1]!SUMSTRING(D207:E207,\"#\")","v":{"$error":"#NAME?"}},{"$f":"[1]!SUMSTRING(F207:G207,\"#\")","v":{"$error":"#NAME?"}},null,{"$f":"[1]!SUMSTRING(I207:J207,\"|\")","v":{"$error":"#NAME?"}}]
[7,6011,null,6011,2,5,130,null,{"$f":"[1]!SUMSTRING(D208:E208,\"#\")","v":{"$error":"#NAME?"}},{"$f":"[1]!SUMSTRING(F208:G208,\"#\")","v":{"$error":"#NAME?"}},null,{"$f":"[1]!SUMSTRING(I208:J208,\"|\")","v":{"$error":"#NAME?"}}]
[8,6011,null,6011,3,5,160,null,{"$f":"[1]!SUMSTRING(D209:E209,\"#\")","v":{"$error":"#NAME?"}},{"$f":"[1]!SUMSTRING(F209:G209,\"#\")","v":{"$error":"#NAME?"}},null,{"$f":"[1]!SUMSTRING(I209:J209,\"|\")","v":{"$error":"#NAME?"}}]
[9,6011,null,6011,3,5,195,null,{"$f":"[1]!SUMSTRING(D210:E210,\"#\")","v":{"$error":"#NAME?"}},{"$f":"[1]!SUMSTRING(F210:G210,\"#\")","v":{"$error":"#NAME?"}},null,{"$f":"[1]!SUMSTRING(I210:J210,\"|\")","v":{"$error":"#NAME?"}}]
[10,6011,null,6011,3,5,235,null,{"$f":"[1]!SUMSTRING(D211:E211,\"#\")","v":{"$error":"#NAME?"}},{"$f":"[1]!SUMSTRING(F211:G211,\"#\")","v":{"$error":"#NAME?"}},null,{"$f":"[1]!SUMSTRING(I211:J211,\"|\")","v":{"$error":"#NAME?"}}]
[11,6011,null,6011,3,5,280,null,{"$f":"[1]!SUMSTRING(D212:E212,\"#\")","v":{"$error":"#NAME?"}},{"$f":"[1]!SUMSTRING(F212:G212,\"#\")","v":{"$error":"#NAME?"}},null,{"$f":"[1]!SUMSTRING(I212:J212,\"|\")","v":{"$error":"#NAME?"}}]
[12,6011,null,6011,3,5,330,null,{"$f":"[1]!SUMSTRING(D213:E213,\"#\")","v":{"$error":"#NAME?"}},{"$f":"[1]!SUMSTRING(F213:G213,\"#\")","v":{"$error":"#NAME?"}},null,{"$f":"[1]!SUMSTRING(I213:J213,\"|\")","v":{"$error":"#NAME?"}}]
[13,6011,null,6011,3,5,380,null,{"$f":"[1]!SUMSTRING(D214:E214,\"#\")","v":{"$error":"#NAME?"}},{"$f":"[1]!SUMSTRING(F214:G214,\"#\")","v":{"$error":"#NAME?"}},null,{"$f":"[1]!SUMSTRING(I214:J214,\"|\")","v":{"$error":"#NAME?"}}]
[{"$f":"A195","v":14},{"$f":"B195+1","v":6011},null,6011,{"$f":"E195","v":4},5,435,null,{"$f":"[1]!SUMSTRING(D215:E215,\"#\")","v":{"$error":"#NAME?"}},{"$f":"[1]!SUMSTRING(F215:G215,\"#\")","v":{"$error":"#NAME?"}},null,{"$f":"[1]!SUMSTRING(I215:J215,\"|\")","v":{"$error":"#NAME?"}}]
[15,6011,null,6011,5,5,495,null,{"$f":"[1]!SUMSTRING(D216:E216,\"#\")","v":{"$error":"#NAME?"}},{"$f":"[1]!SUMSTRING(F216:G216,\"#\")","v":{"$error":"#NAME?"}},null,{"$f":"[1]!SUMSTRING(I216:J216,\"|\")","v":{"$error":"#NAME?"}}]
[16,6011,null,6011,6,5,555,null,{"$f":"[1]!SUMSTRING(D217:E217,\"#\")","v":{"$error":"#NAME?"}},{"$f":"[1]!SUMSTRING(F217:G217,\"#\")","v":{"$error":"#NAME?"}},null,{"$f":"[1]!SUMSTRING(I217:J217,\"|\")","v":{"$error":"#NAME?"}}]
[17,6011,null,6011,8,5,620,null,{"$f":"[1]!SUMSTRING(D218:E218,\"#\")","v":{"$error":"#NAME?"}},{"$f":"[1]!SUMSTRING(F218:G218,\"#\")","v":{"$error":"#NAME?"}},null,{"$f":"[1]!SUMSTRING(I218:J218,\"|\")","v":{"$error":"#NAME?"}}]
[18,6011,null,6011,10,5,690,null,{"$f":"[1]!SUMSTRING(D219:E219,\"#\")","v":{"$error":"#NAME?"}},{"$f":"[1]!SUMSTRING(F219:G219,\"#\")","v":{"$error":"#NAME?"}},null,{"$f":"[1]!SUMSTRING(I219:J219,\"|\")","v":{"$error":"#NAME?"}}]
[19,6011,null,6011,21,5,765,null,{"$f":"[1]!SUMSTRING(D220:E220,\"#\")","v":{"$error":"#NAME?"}},{"$f":"[1]!SUMSTRING(F220:G220,\"#\")","v":{"$error":"#NAME?"}},null,{"$f":"[1]!SUMSTRING(I220:J220,\"|\")","v":{"$error":"#NAME?"}}]
[20,6011,null,6011,30,5,840,null,{"$f":"[1]!SUMSTRING(D221:E221,\"#\")","v":{"$error":"#NAME?"}},{"$f":"[1]!SUMSTRING(F221:G221,\"#\")","v":{"$error":"#NAME?"}},null,{"$f":"[1]!SUMSTRING(I221:J221,\"|\")","v":{"$error":"#NAME?"}}]
[1,6012,null,6012,1,5,0,null,{"$f":"[1]!SUMSTRING(D222:E222,\"#\")","v":{"$error":"#NAME?"}},{"$f":"[1]!SUMSTRING(F222:G222,\"#\")","v":{"$error":"#NAME?"}},null,{"$f":"[1]!SUMSTRING(I222:J222,\"|\")","v":{"$error":"#NAME?"}}]
[2,6012,null,6012,1,5,20,null,{"$f":"[1]!SUMSTRING(D223:E223,\"#\")","v":{"$error":"#NAME?"}},{"$f":"[1]!SUMSTRING(F223:G223,\"#\")","v":{"$error":"#NAME?"}},null,{"$f":"[1]!SUMSTRING(I223:J223,\"|\")","v":{"$error":"#NAME?"}}]
[3,6012,null,6012,1,5,35,null,{"$f":"[1]!SUMSTRING(D224:E224,\"#\")","v":{"$error":"#NAME?"}},{"$f":"[1]!SUMSTRING(F224:G224,\"#\")","v":{"$error":"#NAME?"}},null,{"$f":"[1]!SUMSTRING(I224:J224,\"|\")","v":{"$error":"#NAME?"}}]
[4,6012,null,6012,1,5,50,null,{"$f":"[1]!SUMSTRING(D225:E225,\"#\")","v":{"$error":"#NAME?"}},{"$f":"[1]!SUMSTRING(F225:G225,\"#\")","v":{"$error":"#NAME?"}},null,{"$f":"[1]!SUMSTRING(I225:J225,\"|\")","v":{"$error":"#NAME?"}}]
[5,6012,null,6012,2,5,75,null,{"$f":"[1]!SUMSTRING(D226:E226,\"#\")","v":{"$error":"#NAME?"}},{"$f":"[1]!SUMSTRING(F226:G226,\"#\")","v":{"$error":"#NAME?"}},null,{"$f":"[1]!SUMSTRING(I226:J226,\"|\")","v":{"$error":"#NAME?"}}]
[6,6012,null,6012,2,5,100,null,{"$f":"[1]!SUMSTRING(D227:E227,\"#\")","v":{"$error":"#NAME?"}},{"$f":"[1]!SUMSTRING(F227:G227,\"#\")","v":{"$error":"#NAME?"}},null,{"$f":"[1]!SUMSTRING(I227:J227,\"|\")","v":{"$error":"#NAME?"}}]
[7,6012,null,6012,2,5,130,null,{"$f":"[1]!SUMSTRING(D228:E228,\"#\")","v":{"$error":"#NAME?"}},{"$f":"[1]!SUMSTRING(F228:G228,\"#\")","v":{"$error":"#NAME?"}},null,{"$f":"[1]!SUMSTRING(I228:J228,\"|\")","v":{"$error":"#NAME?"}}]
[8,6012,null,6012,3,5,160,null,{"$f":"[1]!SUMSTRING(D229:E229,\"#\")","v":{"$error":"#NAME?"}},{"$f":"[1]!SUMSTRING(F229:G229,\"#\")","v":{"$error":"#NAME?"}},null,{"$f":"[1]!SUMSTRING(I229:J229,\"|\")","v":{"$error":"#NAME?"}}]
[9,6012,null,6012,3,5,195,null,{"$f":"[1]!SUMSTRING(D230:E230,\"#\")","v":{"$error":"#NAME?"}},{"$f":"[1]!SUMSTRING(F230:G230,\"#\")","v":{"$error":"#NAME?"}},null,{"$f":"[1]!SUMSTRING(I230:J230,\"|\")","v":{"$error":"#NAME?"}}]
[10,6012,null,6012,3,5,235,null,{"$f":"[1]!SUMSTRING(D231:E231,\"#\")","v":{"$error":"#NAME?"}},{"$f":"[1]!SUMSTRING(F231:G231,\"#\")","v":{"$error":"#NAME?"}},null,{"$f":"[1]!SUMSTRING(I231:J231,\"|\")","v":{"$error":"#NAME?"}}]
[11,6012,null,6012,3,5,280,null,{"$f":"[1]!SUMSTRING(D232:E232,\"#\")","v":{"$error":"#NAME?"}},{"$f":"[1]!SUMSTRING(F232:G232,\"#\")","v":{"$error":"#NAME?"}},null,{"$f":"[1]!SUMSTRING(I232:J232,\"|\")","v":{"$error":"#NAME?"}}]
[12,6012,null,6012,3,5,330,null,{"$f":"[1]!SUMSTRING(D233:E233,\"#\")","v":{"$error":"#NAME?"}},{"$f":"[1]!SUMSTRING(F233:G233,\"#\")","v":{"$error":"#NAME?"}},null,{"$f":"[1]!SUMSTRING(I233:J233,\"|\")","v":{"$error":"#NAME?"}}]
[13,6012,null,6012,3,5,380,null,{"$f":"[1]!SUMSTRING(D234:E234,\"#\")","v":{"$error":"#NAME?"}},{"$f":"[1]!SUMSTRING(F234:G234,\"#\")","v":{"$error":"#NAME?"}},null,{"$f":"[1]!SUMSTRING(I234:J234,\"|\")","v":{"$error":"#NAME?"}}]
[14,6012,null,6012,4,5,435,null,{"$f":"[1]!SUMSTRING(D235:E235,\"#\")","v":{"$error":"#NAME?"}},{"$f":"[1]!SUMSTRING(F235:G235,\"#\")","v":{"$error":"#NAME?"}},null,{"$f":"[1]!SUMSTRING(I235:J235,\"|\")","v":{"$error":"#NAME?"}}]
[15,6012,null,6012,5,5,495,null,{"$f":"[1]!SUMSTRING(D236:E236,\"#\")","v":{"$error":"#NAME?"}},{"$f":"[1]!SUMSTRING(F236:G236,\"#\")","v":{"$error":"#NAME?"}},null,{"$f":"[1]!SUMSTRING(I236:J236,\"|\")","v":{"$error":"#NAME?"}}]
[16,6012,null,6012,6,5,555,null,{"$f":"[1]!SUMSTRING(D237:E237,\"#\")","v":{"$error":"#NAME?"}},{"$f":"[1]!SUMSTRING(F237:G237,\"#\")","v":{"$error":"#NAME?"}},null,{"$f":"[1]!SUMSTRING(I237:J237,\"|\")","v":{"$error":"#NAME?"}}]
[17,6012,null,6012,8,5,620,null,{"$f":"[1]!SUMSTRING(D238:E238,\"#\")","v":{"$error":"#NAME?"}},{"$f":"[1]!SUMSTRING(F238:G238,\"#\")","v":{"$error":"#NAME?"}},null,{"$f":"[1]!SUMSTRING(I238:J238,\"|\")","v":{"$error":"#NAME?"}}]
[18,6012,null,6012,10,5,690,null,{"$f":"[1]!SUMSTRING(D239:E239,\"#\")","v":{"$error":"#NAME?"}},{"$f":"[1]!SUMSTRING(F239:G239,\"#\")","v":{"$error":"#NAME?"}},null,{"$f":"[1]!SUMSTRING(I239:J239,\"|\")","v":{"$error":"#NAME?"}}]
[19,6012,null,6012,21,5,765,null,{"$f":"[1]!SUMSTRING(D240:E240,\"#\")","v":{"$error":"#NAME?"}},{"$f":"[1]!SUMSTRING(F240:G240,\"#\")","v":{"$error":"#NAME?"}},null,{"$f":"[1]!SUMSTRING(I240:J240,\"|\")","v":{"$error":"#NAME?"}}]
[20,6012,null,6012,30,5,840,null,{"$f":"[1]!SUMSTRING(D241:E241,\"#\")","v":{"$error":"#NAME?"}},{"$f":"[1]!SUMSTRING(F241:G241,\"#\")","v":{"$error":"#NAME?"}},null,{"$f":"[1]!SUMSTRING(I241:J241,\"|\")","v":{"$error":"#NAME?"}}]
[1,6013,null,6013,1,5,0,null,{"$f":"[1]!SUMSTRING(D242:E242,\"#\")","v":{"$error":"#NAME?"}},{"$f":"[1]!SUMSTRING(F242:G242,\"#\")","v":{"$error":"#NAME?"}},null,{"$f":"[1]!SUMSTRING(I242:J242,\"|\")","v":{"$error":"#NAME?"}}]
[2,6013,null,6013,1,5,40,null,{"$f":"[1]!SUMSTRING(D243:E243,\"#\")","v":{"$error":"#NAME?"}},{"$f":"[1]!SUMSTRING(F243:G243,\"#\")","v":{"$error":"#NAME?"}},null,{"$f":"[1]!SUMSTRING(I243:J243,\"|\")","v":{"$error":"#NAME?"}}]
[3,6013,null,6013,1,5,65,null,{"$f":"[1]!SUMSTRING(D244:E244,\"#\")","v":{"$error":"#NAME?"}},{"$f":"[1]!SUMSTRING(F244:G244,\"#\")","v":{"$error":"#NAME?"}},null,{"$f":"[1]!SUMSTRING(I244:J244,\"|\")","v":{"$error":"#NAME?"}}]
[4,6013,null,6013,1,5,100,null,{"$f":"[1]!SUMSTRING(D245:E245,\"#\")","v":{"$error":"#NAME?"}},{"$f":"[1]!SUMSTRING(F245:G245,\"#\")","v":{"$error":"#NAME?"}},null,{"$f":"[1]!SUMSTRING(I245:J245,\"|\")","v":{"$error":"#NAME?"}}]
[5,6013,null,6013,2,5,135,null,{"$f":"[1]!SUMSTRING(D246:E246,\"#\")","v":{"$error":"#NAME?"}},{"$f":"[1]!SUMSTRING(F246:G246,\"#\")","v":{"$error":"#NAME?"}},null,{"$f":"[1]!SUMSTRING(I246:J246,\"|\")","v":{"$error":"#NAME?"}}]
[6,6013,null,6013,2,5,180,null,{"$f":"[1]!SUMSTRING(D247:E247,\"#\")","v":{"$error":"#NAME?"}},{"$f":"[1]!SUMSTRING(F247:G247,\"#\")","v":{"$error":"#NAME?"}},null,{"$f":"[1]!SUMSTRING(I247:J247,\"|\")","v":{"$error":"#NAME?"}}]
[7,6013,null,6013,2,5,235,null,{"$f":"[1]!SUMSTRING(D248:E248,\"#\")","v":{"$error":"#NAME?"}},{"$f":"[1]!SUMSTRING(F248:G248,\"#\")","v":{"$error":"#NAME?"}},null,{"$f":"[1]!SUMSTRING(I248:J248,\"|\")","v":{"$error":"#NAME?"}}]
[8,6013,null,6013,3,5,290,null,{"$f":"[1]!SUMSTRING(D249:E249,\"#\")","v":{"$error":"#NAME?"}},{"$f":"[1]!SUMSTRING(F249:G249,\"#\")","v":{"$error":"#NAME?"}},null,{"$f":"[1]!SUMSTRING(I249:J249,\"|\")","v":{"$error":"#NAME?"}}]
[9,6013,null,6013,3,5,355,null,{"$f":"[1]!SUMSTRING(D250:E250,\"#\")","v":{"$error":"#NAME?"}},{"$f":"[1]!SUMSTRING(F250:G250,\"#\")","v":{"$error":"#NAME?"}},null,{"$f":"[1]!SUMSTRING(I250:J250,\"|\")","v":{"$error":"#NAME?"}}]
[10,6013,null,6013,3,5,420,null,{"$f":"[1]!SUMSTRING(D251:E251,\"#\")","v":{"$error":"#NAME?"}},{"$f":"[1]!SUMSTRING(F251:G251,\"#\")","v":{"$error":"#NAME?"}},null,{"$f":"[1]!SUMSTRING(I251:J251,\"|\")","v":{"$error":"#NAME?"}}]
[11,6013,null,6013,3,5,495,null,{"$f":"[1]!SUMSTRING(D252:E252,\"#\")","v":{"$error":"#NAME?"}},{"$f":"[1]!SUMSTRING(F252:G252,\"#\")","v":{"$error":"#NAME?"}},null,{"$f":"[1]!SUMSTRING(I252:J252,\"|\")","v":{"$error":"#NAME?"}}]
[12,6013,null,6013,3,5,580,null,{"$f":"[1]!SUMSTRING(D253:E253,\"#\")","v":{"$error":"#NAME?"}},{"$f":"[1]!SUMSTRING(F253:G253,\"#\")","v":{"$error":"#NAME?"}},null,{"$f":"[1]!SUMSTRING(I253:J253,\"|\")","v":{"$error":"#NAME?"}}]
[13,6013,null,6013,3,5,665,null,{"$f":"[1]!SUMSTRING(D254:E254,\"#\")","v":{"$error":"#NAME?"}},{"$f":"[1]!SUMSTRING(F254:G254,\"#\")","v":{"$error":"#NAME?"}},null,{"$f":"[1]!SUMSTRING(I254:J254,\"|\")","v":{"$error":"#NAME?"}}]
[14,6013,null,6013,4,5,760,null,{"$f":"[1]!SUMSTRING(D255:E255,\"#\")","v":{"$error":"#NAME?"}},{"$f":"[1]!SUMSTRING(F255:G255,\"#\")","v":{"$error":"#NAME?"}},null,{"$f":"[1]!SUMSTRING(I255:J255,\"|\")","v":{"$error":"#NAME?"}}]
[15,6013,null,6013,5,5,855,null,{"$f":"[1]!SUMSTRING(D256:E256,\"#\")","v":{"$error":"#NAME?"}},{"$f":"[1]!SUMSTRING(F256:G256,\"#\")","v":{"$error":"#NAME?"}},null,{"$f":"[1]!SUMSTRING(I256:J256,\"|\")","v":{"$error":"#NAME?"}}]
[16,6013,null,6013,6,5,960,null,{"$f":"[1]!SUMSTRING(D257:E257,\"#\")","v":{"$error":"#NAME?"}},{"$f":"[1]!SUMSTRING(F257:G257,\"#\")","v":{"$error":"#NAME?"}},null,{"$f":"[1]!SUMSTRING(I257:J257,\"|\")","v":{"$error":"#NAME?"}}]
[17,6013,null,6013,8,5,1075,null,{"$f":"[1]!SUMSTRING(D258:E258,\"#\")","v":{"$error":"#NAME?"}},{"$f":"[1]!SUMSTRING(F258:G258,\"#\")","v":{"$error":"#NAME?"}},null,{"$f":"[1]!SUMSTRING(I258:J258,\"|\")","v":{"$error":"#NAME?"}}]
[18,6013,null,{"$f":"B259","v":6013},10,5,1190,null,{"$f":"[1]!SUMSTRING(D259:E259,\"#\")","v":{"$error":"#NAME?"}},{"$f":"[1]!SUMSTRING(F259:G259,\"#\")","v":{"$error":"#NAME?"}},null,{"$f":"[1]!SUMSTRING(I259:J259,\"|\")","v":{"$error":"#NAME?"}}]
[19,6013,null,6013,21,5,1315,null,{"$f":"[1]!SUMSTRING(D260:E260,\"#\")","v":{"$error":"#NAME?"}},{"$f":"[1]!SUMSTRING(F260:G260,\"#\")","v":{"$error":"#NAME?"}},null,{"$f":"[1]!SUMSTRING(I260:J260,\"|\")","v":{"$error":"#NAME?"}}]
[20,6013,null,6013,30,5,1440,null,{"$f":"[1]!SUMSTRING(D261:E261,\"#\")","v":{"$error":"#NAME?"}},{"$f":"[1]!SUMSTRING(F261:G261,\"#\")","v":{"$error":"#NAME?"}},null,{"$f":"[1]!SUMSTRING(I261:J261,\"|\")","v":{"$error":"#NAME?"}}]
[1,6014,null,6014,1,5,0,null,{"$f":"[1]!SUMSTRING(D262:E262,\"#\")","v":{"$error":"#NAME?"}},{"$f":"[1]!SUMSTRING(F262:G262,\"#\")","v":{"$error":"#NAME?"}},null,{"$f":"[1]!SUMSTRING(I262:J262,\"|\")","v":{"$error":"#NAME?"}}]
[2,6014,null,6014,1,5,40,null,{"$f":"[1]!SUMSTRING(D263:E263,\"#\")","v":{"$error":"#NAME?"}},{"$f":"[1]!SUMSTRING(F263:G263,\"#\")","v":{"$error":"#NAME?"}},null,{"$f":"[1]!SUMSTRING(I263:J263,\"|\")","v":{"$error":"#NAME?"}}]
[3,6014,null,6014,1,5,65,null,{"$f":"[1]!SUMSTRING(D264:E264,\"#\")","v":{"$error":"#NAME?"}},{"$f":"[1]!SUMSTRING(F264:G264,\"#\")","v":{"$error":"#NAME?"}},null,{"$f":"[1]!SUMSTRING(I264:J264,\"|\")","v":{"$error":"#NAME?"}}]
[4,6014,null,6014,1,5,100,null,{"$f":"[1]!SUMSTRING(D265:E265,\"#\")","v":{"$error":"#NAME?"}},{"$f":"[1]!SUMSTRING(F265:G265,\"#\")","v":{"$error":"#NAME?"}},null,{"$f":"[1]!SUMSTRING(I265:J265,\"|\")","v":{"$error":"#NAME?"}}]
[5,6014,null,6014,2,5,135,null,{"$f":"[1]!SUMSTRING(D266:E266,\"#\")","v":{"$error":"#NAME?"}},{"$f":"[1]!SUMSTRING(F266:G266,\"#\")","v":{"$error":"#NAME?"}},null,{"$f":"[1]!SUMSTRING(I266:J266,\"|\")","v":{"$error":"#NAME?"}}]
[6,6014,null,6014,2,5,180,null,{"$f":"[1]!SUMSTRING(D267:E267,\"#\")","v":{"$error":"#NAME?"}},{"$f":"[1]!SUMSTRING(F267:G267,\"#\")","v":{"$error":"#NAME?"}},null,{"$f":"[1]!SUMSTRING(I267:J267,\"|\")","v":{"$error":"#NAME?"}}]
[7,6014,null,6014,2,5,235,null,{"$f":"[1]!SUMSTRING(D268:E268,\"#\")","v":{"$error":"#NAME?"}},{"$f":"[1]!SUMSTRING(F268:G268,\"#\")","v":{"$error":"#NAME?"}},null,{"$f":"[1]!SUMSTRING(I268:J268,\"|\")","v":{"$error":"#NAME?"}}]
[8,6014,null,6014,3,5,290,null,{"$f":"[1]!SUMSTRING(D269:E269,\"#\")","v":{"$error":"#NAME?"}},{"$f":"[1]!SUMSTRING(F269:G269,\"#\")","v":{"$error":"#NAME?"}},null,{"$f":"[1]!SUMSTRING(I269:J269,\"|\")","v":{"$error":"#NAME?"}}]
[9,6014,null,6014,3,5,355,null,{"$f":"[1]!SUMSTRING(D270:E270,\"#\")","v":{"$error":"#NAME?"}},{"$f":"[1]!SUMSTRING(F270:G270,\"#\")","v":{"$error":"#NAME?"}},null,{"$f":"[1]!SUMSTRING(I270:J270,\"|\")","v":{"$error":"#NAME?"}}]
[10,6014,null,6014,3,5,420,null,{"$f":"[1]!SUMSTRING(D271:E271,\"#\")","v":{"$error":"#NAME?"}},{"$f":"[1]!SUMSTRING(F271:G271,\"#\")","v":{"$error":"#NAME?"}},null,{"$f":"[1]!SUMSTRING(I271:J271,\"|\")","v":{"$error":"#NAME?"}}]
[11,6014,null,6014,3,5,495,null,{"$f":"[1]!SUMSTRING(D272:E272,\"#\")","v":{"$error":"#NAME?"}},{"$f":"[1]!SUMSTRING(F272:G272,\"#\")","v":{"$error":"#NAME?"}},null,{"$f":"[1]!SUMSTRING(I272:J272,\"|\")","v":{"$error":"#NAME?"}}]
[12,6014,null,6014,3,5,580,null,{"$f":"[1]!SUMSTRING(D273:E273,\"#\")","v":{"$error":"#NAME?"}},{"$f":"[1]!SUMSTRING(F273:G273,\"#\")","v":{"$error":"#NAME?"}},null,{"$f":"[1]!SUMSTRING(I273:J273,\"|\")","v":{"$error":"#NAME?"}}]
[13,6014,null,6014,3,5,665,null,{"$f":"[1]!SUMSTRING(D274:E274,\"#\")","v":{"$error":"#NAME?"}},{"$f":"[1]!SUMSTRING(F274:G274,\"#\")","v":{"$error":"#NAME?"}},null,{"$f":"[1]!SUMSTRING(I274:J274,\"|\")","v":{"$error":"#NAME?"}}]
[14,6014,null,6014,4,5,760,null,{"$f":"[1]!SUMSTRING(D275:E275,\"#\")","v":{"$error":"#NAME?"}},{"$f":"[1]!SUMSTRING(F275:G275,\"#\")","v":{"$error":"#NAME?"}},null,{"$f":"[1]!SUMSTRING(I275:J275,\"|\")","v":{"$error":"#NAME?"}}]
[15,6014,null,6014,5,5,855,null,{"$f":"[1]!SUMSTRING(D276:E276,\"#\")","v":{"$error":"#NAME?"}},{"$f":"[1]!SUMSTRING(F276:G276,\"#\")","v":{"$error":"#NAME?"}},null,{"$f":"[1]!SUMSTRING(I276:J276,\"|\")","v":{"$error":"#NAME?"}}]
[16,6014,null,6014,6,5,960,null,{"$f":"[1]!SUMSTRING(D277:E277,\"#\")","v":{"$error":"#NAME?"}},{"$f":"[1]!SUMSTRING(F277:G277,\"#\")","v":{"$error":"#NAME?"}},null,{"$f":"[1]!SUMSTRING(I277:J277,\"|\")","v":{"$error":"#NAME?"}}]
[17,6014,null,6014,8,5,1075,null,{"$f":"[1]!SUMSTRING(D278:E278,\"#\")","v":{"$error":"#NAME?"}},{"$f":"[1]!SUMSTRING(F278:G278,\"#\")","v":{"$error":"#NAME?"}},null,{"$f":"[1]!SUMSTRING(I278:J278,\"|\")","v":{"$error":"#NAME?"}}]
[{"$f":"A259","v":18},{"$f":"B259+1","v":6014},null,6014,{"$f":"E259","v":10},5,1190,null,{"$f":"[1]!SUMSTRING(D279:E279,\"#\")","v":{"$error":"#NAME?"}},{"$f":"[1]!SUMSTRING(F279:G279,\"#\")","v":{"$error":"#NAME?"}},null,{"$f":"[1]!SUMSTRING(I279:J279,\"|\")","v":{"$error":"#NAME?"}}]
[19,6014,null,6014,21,5,1315,null,{"$f":"[1]!SUMSTRING(D280:E280,\"#\")","v":{"$error":"#NAME?"}},{"$f":"[1]!SUMSTRING(F280:G280,\"#\")","v":{"$error":"#NAME?"}},null,{"$f":"[1]!SUMSTRING(I280:J280,\"|\")","v":{"$error":"#NAME?"}}]
[20,6014,null,6014,30,5,1440,null,{"$f":"[1]!SUMSTRING(D281:E281,\"#\")","v":{"$error":"#NAME?"}},{"$f":"[1]!SUMSTRING(F281:G281,\"#\")","v":{"$error":"#NAME?"}},null,{"$f":"[1]!SUMSTRING(I281:J281,\"|\")","v":{"$error":"#NAME?"}}]
[1,6015,null,6015,1,5,0,null,{"$f":"[1]!SUMSTRING(D282:E282,\"#\")","v":{"$error":"#NAME?"}},{"$f":"[1]!SUMSTRING(F282:G282,\"#\")","v":{"$error":"#NAME?"}},null,{"$f":"[1]!SUMSTRING(I282:J282,\"|\")","v":{"$error":"#NAME?"}}]
[2,6015,null,6015,1,5,40,null,{"$f":"[1]!SUMSTRING(D283:E283,\"#\")","v":{"$error":"#NAME?"}},{"$f":"[1]!SUMSTRING(F283:G283,\"#\")","v":{"$error":"#NAME?"}},null,{"$f":"[1]!SUMSTRING(I283:J283,\"|\")","v":{"$error":"#NAME?"}}]
[3,6015,null,6015,1,5,65,null,{"$f":"[1]!SUMSTRING(D284:E284,\"#\")","v":{"$error":"#NAME?"}},{"$f":"[1]!SUMSTRING(F284:G284,\"#\")","v":{"$error":"#NAME?"}},null,{"$f":"[1]!SUMSTRING(I284:J284,\"|\")","v":{"$error":"#NAME?"}}]
[4,6015,null,6015,1,5,100,null,{"$f":"[1]!SUMSTRING(D285:E285,\"#\")","v":{"$error":"#NAME?"}},{"$f":"[1]!SUMSTRING(F285:G285,\"#\")","v":{"$error":"#NAME?"}},null,{"$f":"[1]!SUMSTRING(I285:J285,\"|\")","v":{"$error":"#NAME?"}}]
[5,6015,null,6015,2,5,135,null,{"$f":"[1]!SUMSTRING(D286:E286,\"#\")","v":{"$error":"#NAME?"}},{"$f":"[1]!SUMSTRING(F286:G286,\"#\")","v":{"$error":"#NAME?"}},null,{"$f":"[1]!SUMSTRING(I286:J286,\"|\")","v":{"$error":"#NAME?"}}]
[6,6015,null,6015,2,5,180,null,{"$f":"[1]!SUMSTRING(D287:E287,\"#\")","v":{"$error":"#NAME?"}},{"$f":"[1]!SUMSTRING(F287:G287,\"#\")","v":{"$error":"#NAME?"}},null,{"$f":"[1]!SUMSTRING(I287:J287,\"|\")","v":{"$error":"#NAME?"}}]
[7,6015,null,6015,2,5,235,null,{"$f":"[1]!SUMSTRING(D288:E288,\"#\")","v":{"$error":"#NAME?"}},{"$f":"[1]!SUMSTRING(F288:G288,\"#\")","v":{"$error":"#NAME?"}},null,{"$f":"[1]!SUMSTRING(I288:J288,\"|\")","v":{"$error":"#NAME?"}}]
[8,6015,null,6015,3,5,290,null,{"$f":"[1]!SUMSTRING(D289:E289,\"#\")","v":{"$error":"#NAME?"}},{"$f":"[1]!SUMSTRING(F289:G289,\"#\")","v":{"$error":"#NAME?"}},null,{"$f":"[1]!SUMSTRING(I289:J289,\"|\")","v":{"$error":"#NAME?"}}]
[9,6015,null,6015,3,5,355,null,{"$f":"[1]!SUMSTRING(D290:E290,\"#\")","v":{"$error":"#NAME?"}},{"$f":"[1]!SUMSTRING(F290:G290,\"#\")","v":{"$error":"#NAME?"}},null,{"$f":"[1]!SUMSTRING(I290:J290,\"|\")","v":{"$error":"#NAME?"}}]
[10,6015,null,6015,3,5,420,null,{"$f":"[1]!SUMSTRING(D291:E291,\"#\")","v":{"$error":"#NAME?"}},{"$f":"[1]!SUMSTRING(F291:G291,\"#\")","v":{"$error":"#NAME?"}},null,{"$f":"[1]!SUMSTRING(I291:J291,\"|\")","v":{"$error":"#NAME?"}}]
[11,6015,null,6015,3,5,495,null,{"$f":"[1]!SUMSTRING(D292:E292,\"#\")","v":{"$error":"#NAME?"}},{"$f":"[1]!SUMSTRING(F292:G292,\"#\")","v":{"$error":"#NAME?"}},null,{"$f":"[1]!SUMSTRING(I292:J292,\"|\")","v":{"$error":"#NAME?"}}]
[12,6015,null,6015,3,5,580,null,{"$f":"[1]!SUMSTRING(D293:E293,\"#\")","v":{"$error":"#NAME?"}},{"$f":"[1]!SUMSTRING(F293:G293,\"#\")","v":{"$error":"#NAME?"}},null,{"$f":"[1]!SUMSTRING(I293:J293,\"|\")","v":{"$error":"#NAME?"}}]
[13,6015,null,6015,3,5,665,null,{"$f":"[1]!SUMSTRING(D294:E294,\"#\")","v":{"$error":"#NAME?"}},{"$f":"[1]!SUMSTRING(F294:G294,\"#\")","v":{"$error":"#NAME?"}},null,{"$f":"[1]!SUMSTRING(I294:J294,\"|\")","v":{"$error":"#NAME?"}}]
[14,6015,null,6015,4,5,760,null,{"$f":"[1]!SUMSTRING(D295:E295,\"#\")","v":{"$error":"#NAME?"}},{"$f":"[1]!SUMSTRING(F295:G295,\"#\")","v":{"$error":"#NAME?"}},null,{"$f":"[1]!SUMSTRING(I295:J295,\"|\")","v":{"$error":"#NAME?"}}]
[15,6015,null,6015,5,5,855,null,{"$f":"[1]!SUMSTRING(D296:E296,\"#\")","v":{"$error":"#NAME?"}},{"$f":"[1]!SUMSTRING(F296:G296,\"#\")","v":{"$error":"#NAME?"}},null,{"$f":"[1]!SUMSTRING(I296:J296,\"|\")","v":{"$error":"#NAME?"}}]
[16,6015,null,6015,6,5,960,null,{"$f":"[1]!SUMSTRING(D297:E297,\"#\")","v":{"$error":"#NAME?"}},{"$f":"[1]!SUMSTRING(F297:G297,\"#\")","v":{"$error":"#NAME?"}},null,{"$f":"[1]!SUMSTRING(I297:J297,\"|\")","v":{"$error":"#NAME?"}}]
[17,6015,null,6015,8,5,1075,null,{"$f":"[1]!SUMSTRING(D298:E298,\"#\")","v":{"$error":"#NAME?"}},{"$f":"[1]!SUMSTRING(F298:G298,\"#\")","v":{"$error":"#NAME?"}},null,{"$f":"[1]!SUMSTRING(I298:J298,\"|\")","v":{"$error":"#NAME?"}}]
[18,6015,null,6015,10,5,1190,null,{"$f":"[1]!SUMSTRING(D299:E299,\"#\")","v":{"$error":"#NAME?"}},{"$f":"[1]!SUMSTRING(F299:G299,\"#\")","v":{"$error":"#NAME?"}},null,{"$f":"[1]!SUMSTRING(I299:J299,\"|\")","v":{"$error":"#NAME?"}}]
[19,6015,null,6015,21,5,1315,null,{"$f":"[1]!SUMSTRING(D300:E300,\"#\")","v":{"$error":"#NAME?"}},{"$f":"[1]!SUMSTRING(F300:G300,\"#\")","v":{"$error":"#NAME?"}},null,{"$f":"[1]!SUMSTRING(I300:J300,\"|\")","v":{"$error":"#NAME?"}}]
[20,6015,null,6015,30,5,1440,null,{"$f":"[1]!SUMSTRING(D301:E301,\"#\")","v":{"$error":"#NAME?"}},{"$f":"[1]!SUMSTRING(F301:G301,\"#\")","v":{"$error":"#NAME?"}},null,{"$f":"[1]!SUMSTRING(I301:J301,\"|\")","v":{"$error":"#NAME?"}}]
[1,6016,null,6016,1,5,0,null,{"$f":"[1]!SUMSTRING(D302:E302,\"#\")","v":{"$error":"#NAME?"}},{"$f":"[1]!SUMSTRING(F302:G302,\"#\")","v":{"$error":"#NAME?"}},null,{"$f":"[1]!SUMSTRING(I302:J302,\"|\")","v":{"$error":"#NAME?"}}]
[2,6016,null,6016,1,5,40,null,{"$f":"[1]!SUMSTRING(D303:E303,\"#\")","v":{"$error":"#NAME?"}},{"$f":"[1]!SUMSTRING(F303:G303,\"#\")","v":{"$error":"#NAME?"}},null,{"$f":"[1]!SUMSTRING(I303:J303,\"|\")","v":{"$error":"#NAME?"}}]
[3,6016,null,6016,1,5,65,null,{"$f":"[1]!SUMSTRING(D304:E304,\"#\")","v":{"$error":"#NAME?"}},{"$f":"[1]!SUMSTRING(F304:G304,\"#\")","v":{"$error":"#NAME?"}},null,{"$f":"[1]!SUMSTRING(I304:J304,\"|\")","v":{"$error":"#NAME?"}}]
[4,6016,null,6016,1,5,100,null,{"$f":"[1]!SUMSTRING(D305:E305,\"#\")","v":{"$error":"#NAME?"}},{"$f":"[1]!SUMSTRING(F305:G305,\"#\")","v":{"$error":"#NAME?"}},null,{"$f":"[1]!SUMSTRING(I305:J305,\"|\")","v":{"$error":"#NAME?"}}]
[5,6016,null,6016,2,5,135,null,{"$f":"[1]!SUMSTRING(D306:E306,\"#\")","v":{"$error":"#NAME?"}},{"$f":"[1]!SUMSTRING(F306:G306,\"#\")","v":{"$error":"#NAME?"}},null,{"$f":"[1]!SUMSTRING(I306:J306,\"|\")","v":{"$error":"#NAME?"}}]
[6,6016,null,6016,2,5,180,null,{"$f":"[1]!SUMSTRING(D307:E307,\"#\")","v":{"$error":"#NAME?"}},{"$f":"[1]!SUMSTRING(F307:G307,\"#\")","v":{"$error":"#NAME?"}},null,{"$f":"[1]!SUMSTRING(I307:J307,\"|\")","v":{"$error":"#NAME?"}}]
[7,6016,null,6016,2,5,235,null,{"$f":"[1]!SUMSTRING(D308:E308,\"#\")","v":{"$error":"#NAME?"}},{"$f":"[1]!SUMSTRING(F308:G308,\"#\")","v":{"$error":"#NAME?"}},null,{"$f":"[1]!SUMSTRING(I308:J308,\"|\")","v":{"$error":"#NAME?"}}]
[8,6016,null,6016,3,5,290,null,{"$f":"[1]!SUMSTRING(D309:E309,\"#\")","v":{"$error":"#NAME?"}},{"$f":"[1]!SUMSTRING(F309:G309,\"#\")","v":{"$error":"#NAME?"}},null,{"$f":"[1]!SUMSTRING(I309:J309,\"|\")","v":{"$error":"#NAME?"}}]
[9,6016,null,6016,3,5,355,null,{"$f":"[1]!SUMSTRING(D310:E310,\"#\")","v":{"$error":"#NAME?"}},{"$f":"[1]!SUMSTRING(F310:G310,\"#\")","v":{"$error":"#NAME?"}},null,{"$f":"[1]!SUMSTRING(I310:J310,\"|\")","v":{"$error":"#NAME?"}}]
[10,6016,null,6016,3,5,420,null,{"$f":"[1]!SUMSTRING(D311:E311,\"#\")","v":{"$error":"#NAME?"}},{"$f":"[1]!SUMSTRING(F311:G311,\"#\")","v":{"$error":"#NAME?"}},null,{"$f":"[1]!SUMSTRING(I311:J311,\"|\")","v":{"$error":"#NAME?"}}]
[11,6016,null,6016,3,5,495,null,{"$f":"[1]!SUMSTRING(D312:E312,\"#\")","v":{"$error":"#NAME?"}},{"$f":"[1]!SUMSTRING(F312:G312,\"#\")","v":{"$error":"#NAME?"}},null,{"$f":"[1]!SUMSTRING(I312:J312,\"|\")","v":{"$error":"#NAME?"}}]
[12,6016,null,6016,3,5,580,null,{"$f":"[1]!SUMSTRING(D313:E313,\"#\")","v":{"$error":"#NAME?"}},{"$f":"[1]!SUMSTRING(F313:G313,\"#\")","v":{"$error":"#NAME?"}},null,{"$f":"[1]!SUMSTRING(I313:J313,\"|\")","v":{"$error":"#NAME?"}}]
[13,6016,null,6016,3,5,665,null,{"$f":"[1]!SUMSTRING(D314:E314,\"#\")","v":{"$error":"#NAME?"}},{"$f":"[1]!SUMSTRING(F314:G314,\"#\")","v":{"$error":"#NAME?"}},null,{"$f":"[1]!SUMSTRING(I314:J314,\"|\")","v":{"$error":"#NAME?"}}]
[14,6016,null,6016,4,5,760,null,{"$f":"[1]!SUMSTRING(D315:E315,\"#\")","v":{"$error":"#NAME?"}},{"$f":"[1]!SUMSTRING(F315:G315,\"#\")","v":{"$error":"#NAME?"}},null,{"$f":"[1]!SUMSTRING(I315:J315,\"|\")","v":{"$error":"#NAME?"}}]
[15,6016,null,6016,5,5,855,null,{"$f":"[1]!SUMSTRING(D316:E316,\"#\")","v":{"$error":"#NAME?"}},{"$f":"[1]!SUMSTRING(F316:G316,\"#\")","v":{"$error":"#NAME?"}},null,{"$f":"[1]!SUMSTRING(I316:J316,\"|\")","v":{"$error":"#NAME?"}}]
[16,6016,null,6016,6,5,960,null,{"$f":"[1]!SUMSTRING(D317:E317,\"#\")","v":{"$error":"#NAME?"}},{"$f":"[1]!SUMSTRING(F317:G317,\"#\")","v":{"$error":"#NAME?"}},null,{"$f":"[1]!SUMSTRING(I317:J317,\"|\")","v":{"$error":"#NAME?"}}]
[17,6016,null,6016,8,5,1075,null,{"$f":"[1]!SUMSTRING(D318:E318,\"#\")","v":{"$error":"#NAME?"}},{"$f":"[1]!SUMSTRING(F318:G318,\"#\")","v":{"$error":"#NAME?"}},null,{"$f":"[1]!SUMSTRING(I318:J318,\"|\")","v":{"$error":"#NAME?"}}]
[18,6016,null,6016,10,5,1190,null,{"$f":"[1]!SUMSTRING(D319:E319,\"#\")","v":{"$error":"#NAME?"}},{"$f":"[1]!SUMSTRING(F319:G319,\"#\")","v":{"$error":"#NAME?"}},null,{"$f":"[1]!SUMSTRING(I319:J319,\"|\")","v":{"$error":"#NAME?"}}]
[19,6016,null,6016,21,5,1315,null,{"$f":"[1]!SUMSTRING(D320:E320,\"#\")","v":{"$error":"#NAME?"}},{"$f":"[1]!SUMSTRING(F320:G320,\"#\")","v":{"$error":"#NAME?"}},null,{"$f":"[1]!SUMSTRING(I320:J320,\"|\")","v":{"$error":"#NAME?"}}]
[20,6016,null,6016,30,5,1440,null,{"$f":"[1]!SUMSTRING(D321:E321,\"#\")","v":{"$error":"#NAME?"}},{"$f":"[1]!SUMSTRING(F321:G321,\"#\")","v":{"$error":"#NAME?"}},null,{"$f":"[1]!SUMSTRING(I321:J321,\"|\")","v":{"$error":"#NAME?"}}]
[1,6017,null,6017,1,5,{"$f":"G302","v":0},null,{"$f":"[1]!SUMSTRING(D322:E322,\"#\")","v":{"$error":"#NAME?"}},{"$f":"[1]!SUMSTRING(F322:G322,\"#\")","v":{"$error":"#NAME?"}},null,{"$f":"[1]!SUMSTRING(I322:J322,\"|\")","v":{"$error":"#NAME?"}}]
[2,6017,null,{"$f":"B323","v":6017},1,5,{"$f":"G303","v":40},null,{"$f":"[1]!SUMSTRING(D323:E323,\"#\")","v":{"$error":"#NAME?"}},{"$f":"[1]!SUMSTRING(F323:G323,\"#\")","v":{"$error":"#NAME?"}},null,{"$f":"[1]!SUMSTRING(I323:J323,\"|\")","v":{"$error":"#NAME?"}}]
[3,6017,null,6017,1,5,65,null,{"$f":"[1]!SUMSTRING(D324:E324,\"#\")","v":{"$error":"#NAME?"}},{"$f":"[1]!SUMSTRING(F324:G324,\"#\")","v":{"$error":"#NAME?"}},null,{"$f":"[1]!SUMSTRING(I324:J324,\"|\")","v":{"$error":"#NAME?"}}]
[4,6017,null,6017,1,5,100,null,{"$f":"[1]!SUMSTRING(D325:E325,\"#\")","v":{"$error":"#NAME?"}},{"$f":"[1]!SUMSTRING(F325:G325,\"#\")","v":{"$error":"#NAME?"}},null,{"$f":"[1]!SUMSTRING(I325:J325,\"|\")","v":{"$error":"#NAME?"}}]
[5,6017,null,6017,2,5,135,null,{"$f":"[1]!SUMSTRING(D326:E326,\"#\")","v":{"$error":"#NAME?"}},{"$f":"[1]!SUMSTRING(F326:G326,\"#\")","v":{"$error":"#NAME?"}},null,{"$f":"[1]!SUMSTRING(I326:J326,\"|\")","v":{"$error":"#NAME?"}}]
[6,6017,null,6017,2,5,180,null,{"$f":"[1]!SUMSTRING(D327:E327,\"#\")","v":{"$error":"#NAME?"}},{"$f":"[1]!SUMSTRING(F327:G327,\"#\")","v":{"$error":"#NAME?"}},null,{"$f":"[1]!SUMSTRING(I327:J327,\"|\")","v":{"$error":"#NAME?"}}]
[7,6017,null,6017,2,5,235,null,{"$f":"[1]!SUMSTRING(D328:E328,\"#\")","v":{"$error":"#NAME?"}},{"$f":"[1]!SUMSTRING(F328:G328,\"#\")","v":{"$error":"#NAME?"}},null,{"$f":"[1]!SUMSTRING(I328:J328,\"|\")","v":{"$error":"#NAME?"}}]
[8,6017,null,6017,3,5,290,null,{"$f":"[1]!SUMSTRING(D329:E329,\"#\")","v":{"$error":"#NAME?"}},{"$f":"[1]!SUMSTRING(F329:G329,\"#\")","v":{"$error":"#NAME?"}},null,{"$f":"[1]!SUMSTRING(I329:J329,\"|\")","v":{"$error":"#NAME?"}}]
[9,6017,null,6017,3,5,355,null,{"$f":"[1]!SUMSTRING(D330:E330,\"#\")","v":{"$error":"#NAME?"}},{"$f":"[1]!SUMSTRING(F330:G330,\"#\")","v":{"$error":"#NAME?"}},null,{"$f":"[1]!SUMSTRING(I330:J330,\"|\")","v":{"$error":"#NAME?"}}]
[10,6017,null,6017,3,5,420,null,{"$f":"[1]!SUMSTRING(D331:E331,\"#\")","v":{"$error":"#NAME?"}},{"$f":"[1]!SUMSTRING(F331:G331,\"#\")","v":{"$error":"#NAME?"}},null,{"$f":"[1]!SUMSTRING(I331:J331,\"|\")","v":{"$error":"#NAME?"}}]
[11,6017,null,6017,3,5,495,null,{"$f":"[1]!SUMSTRING(D332:E332,\"#\")","v":{"$error":"#NAME?"}},{"$f":"[1]!SUMSTRING(F332:G332,\"#\")","v":{"$error":"#NAME?"}},null,{"$f":"[1]!SUMSTRING(I332:J332,\"|\")","v":{"$error":"#NAME?"}}]
[12,6017,null,6017,3,5,580,null,{"$f":"[1]!SUMSTRING(D333:E333,\"#\")","v":{"$error":"#NAME?"}},{"$f":"[1]!SUMSTRING(F333:G333,\"#\")","v":{"$error":"#NAME?"}},null,{"$f":"[1]!SUMSTRING(I333:J333,\"|\")","v":{"$error":"#NAME?"}}]
[13,6017,null,6017,3,5,665,null,{"$f":"[1]!SUMSTRING(D334:E334,\"#\")","v":{"$error":"#NAME?"}},{"$f":"[1]!SUMSTRING(F334:G334,\"#\")","v":{"$error":"#NAME?"}},null,{"$f":"[1]!SUMSTRING(I334:J334,\"|\")","v":{"$error":"#NAME?"}}]
[14,6017,null,6017,4,5,760,null,{"$f":"[1]!SUMSTRING(D335:E335,\"#\")","v":{"$error":"#NAME?"}},{"$f":"[1]!SUMSTRING(F335:G335,\"#\")","v":{"$error":"#NAME?"}},null,{"$f":"[1]!SUMSTRING(I335:J335,\"|\")","v":{"$error":"#NAME?"}}]
[15,6017,null,6017,5,5,855,null,{"$f":"[1]!SUMSTRING(D336:E336,\"#\")","v":{"$error":"#NAME?"}},{"$f":"[1]!SUMSTRING(F336:G336,\"#\")","v":{"$error":"#NAME?"}},null,{"$f":"[1]!SUMSTRING(I336:J336,\"|\")","v":{"$error":"#NAME?"}}]
[16,6017,null,6017,6,5,960,null,{"$f":"[1]!SUMSTRING(D337:E337,\"#\")","v":{"$error":"#NAME?"}},{"$f":"[1]!SUMSTRING(F337:G337,\"#\")","v":{"$error":"#NAME?"}},null,{"$f":"[1]!SUMSTRING(I337:J337,\"|\")","v":{"$error":"#NAME?"}}]
[17,6017,null,6017,8,5,1075,null,{"$f":"[1]!SUMSTRING(D338:E338,\"#\")","v":{"$error":"#NAME?"}},{"$f":"[1]!SUMSTRING(F338:G338,\"#\")","v":{"$error":"#NAME?"}},null,{"$f":"[1]!SUMSTRING(I338:J338,\"|\")","v":{"$error":"#NAME?"}}]
[18,6017,null,6017,10,5,1190,null,{"$f":"[1]!SUMSTRING(D339:E339,\"#\")","v":{"$error":"#NAME?"}},{"$f":"[1]!SUMSTRING(F339:G339,\"#\")","v":{"$error":"#NAME?"}},null,{"$f":"[1]!SUMSTRING(I339:J339,\"|\")","v":{"$error":"#NAME?"}}]
[19,6017,null,6017,21,5,1315,null,{"$f":"[1]!SUMSTRING(D340:E340,\"#\")","v":{"$error":"#NAME?"}},{"$f":"[1]!SUMSTRING(F340:G340,\"#\")","v":{"$error":"#NAME?"}},null,{"$f":"[1]!SUMSTRING(I340:J340,\"|\")","v":{"$error":"#NAME?"}}]
[20,6017,null,6017,30,5,1440,null,{"$f":"[1]!SUMSTRING(D341:E341,\"#\")","v":{"$error":"#NAME?"}},{"$f":"[1]!SUMSTRING(F341:G341,\"#\")","v":{"$error":"#NAME?"}},null,{"$f":"[1]!SUMSTRING(I341:J341,\"|\")","v":{"$error":"#NAME?"}}]
[1,6018,null,6018,1,5,0,null,{"$f":"[1]!SUMSTRING(D342:E342,\"#\")","v":{"$error":"#NAME?"}},{"$f":"[1]!SUMSTRING(F342:G342,\"#\")","v":{"$error":"#NAME?"}},null,{"$f":"[1]!SUMSTRING(I342:J342,\"|\")","v":{"$error":"#NAME?"}}]
[{"$f":"A323","v":2},{"$f":"B323+1","v":6018},null,6018,{"$f":"E323","v":1},5,40,null,{"$f":"[1]!SUMSTRING(D343:E343,\"#\")","v":{"$error":"#NAME?"}},{"$f":"[1]!SUMSTRING(F343:G343,\"#\")","v":{"$error":"#NAME?"}},null,{"$f":"[1]!SUMSTRING(I343:J343,\"|\")","v":{"$error":"#NAME?"}}]
[3,6018,null,6018,1,5,65,null,{"$f":"[1]!SUMSTRING(D344:E344,\"#\")","v":{"$error":"#NAME?"}},{"$f":"[1]!SUMSTRING(F344:G344,\"#\")","v":{"$error":"#NAME?"}},null,{"$f":"[1]!SUMSTRING(I344:J344,\"|\")","v":{"$error":"#NAME?"}}]
[4,6018,null,6018,1,5,100,null,{"$f":"[1]!SUMSTRING(D345:E345,\"#\")","v":{"$error":"#NAME?"}},{"$f":"[1]!SUMSTRING(F345:G345,\"#\")","v":{"$error":"#NAME?"}},null,{"$f":"[1]!SUMSTRING(I345:J345,\"|\")","v":{"$error":"#NAME?"}}]
[5,6018,null,6018,2,5,135,null,{"$f":"[1]!SUMSTRING(D346:E346,\"#\")","v":{"$error":"#NAME?"}},{"$f":"[1]!SUMSTRING(F346:G346,\"#\")","v":{"$error":"#NAME?"}},null,{"$f":"[1]!SUMSTRING(I346:J346,\"|\")","v":{"$error":"#NAME?"}}]
[6,6018,null,6018,2,5,180,null,{"$f":"[1]!SUMSTRING(D347:E347,\"#\")","v":{"$error":"#NAME?"}},{"$f":"[1]!SUMSTRING(F347:G347,\"#\")","v":{"$error":"#NAME?"}},null,{"$f":"[1]!SUMSTRING(I347:J347,\"|\")","v":{"$error":"#NAME?"}}]
[7,6018,null,6018,2,5,235,null,{"$f":"[1]!SUMSTRING(D348:E348,\"#\")","v":{"$error":"#NAME?"}},{"$f":"[1]!SUMSTRING(F348:G348,\"#\")","v":{"$error":"#NAME?"}},null,{"$f":"[1]!SUMSTRING(I348:J348,\"|\")","v":{"$error":"#NAME?"}}]
[8,6018,null,6018,3,5,290,null,{"$f":"[1]!SUMSTRING(D349:E349,\"#\")","v":{"$error":"#NAME?"}},{"$f":"[1]!SUMSTRING(F349:G349,\"#\")","v":{"$error":"#NAME?"}},null,{"$f":"[1]!SUMSTRING(I349:J349,\"|\")","v":{"$error":"#NAME?"}}]
[9,6018,null,6018,3,5,355,null,{"$f":"[1]!SUMSTRING(D350:E350,\"#\")","v":{"$error":"#NAME?"}},{"$f":"[1]!SUMSTRING(F350:G350,\"#\")","v":{"$error":"#NAME?"}},null,{"$f":"[1]!SUMSTRING(I350:J350,\"|\")","v":{"$error":"#NAME?"}}]
[10,6018,null,6018,3,5,420,null,{"$f":"[1]!SUMSTRING(D351:E351,\"#\")","v":{"$error":"#NAME?"}},{"$f":"[1]!SUMSTRING(F351:G351,\"#\")","v":{"$error":"#NAME?"}},null,{"$f":"[1]!SUMSTRING(I351:J351,\"|\")","v":{"$error":"#NAME?"}}]
[11,6018,null,6018,3,5,495,null,{"$f":"[1]!SUMSTRING(D352:E352,\"#\")","v":{"$error":"#NAME?"}},{"$f":"[1]!SUMSTRING(F352:G352,\"#\")","v":{"$error":"#NAME?"}},null,{"$f":"[1]!SUMSTRING(I352:J352,\"|\")","v":{"$error":"#NAME?"}}]
[12,6018,null,6018,3,5,580,null,{"$f":"[1]!SUMSTRING(D353:E353,\"#\")","v":{"$error":"#NAME?"}},{"$f":"[1]!SUMSTRING(F353:G353,\"#\")","v":{"$error":"#NAME?"}},null,{"$f":"[1]!SUMSTRING(I353:J353,\"|\")","v":{"$error":"#NAME?"}}]
[13,6018,null,6018,3,5,665,null,{"$f":"[1]!SUMSTRING(D354:E354,\"#\")","v":{"$error":"#NAME?"}},{"$f":"[1]!SUMSTRING(F354:G354,\"#\")","v":{"$error":"#NAME?"}},null,{"$f":"[1]!SUMSTRING(I354:J354,\"|\")","v":{"$error":"#NAME?"}}]
[14,6018,null,6018,4,5,760,null,{"$f":"[1]!SUMSTRING(D355:E355,\"#\")","v":{"$error":"#NAME?"}},{"$f":"[1]!SUMSTRING(F355:G355,\"#\")","v":{"$error":"#NAME?"}},null,{"$f":"[1]!SUMSTRING(I355:J355,\"|\")","v":{"$error":"#NAME?"}}]
[15,6018,null,6018,5,5,855,null,{"$f":"[1]!SUMSTRING(D356:E356,\"#\")","v":{"$error":"#NAME?"}},{"$f":"[1]!SUMSTRING(F356:G356,\"#\")","v":{"$error":"#NAME?"}},null,{"$f":"[1]!SUMSTRING(I356:J356,\"|\")","v":{"$error":"#NAME?"}}]
[16,6018,null,6018,6,5,960,null,{"$f":"[1]!SUMSTRING(D357:E357,\"#\")","v":{"$error":"#NAME?"}},{"$f":"[1]!SUMSTRING(F357:G357,\"#\")","v":{"$error":"#NAME?"}},null,{"$f":"[1]!SUMSTRING(I357:J357,\"|\")","v":{"$error":"#NAME?"}}]
[17,6018,null,6018,8,5,1075,null,{"$f":"[1]!SUMSTRING(D358:E358,\"#\")","v":{"$error":"#NAME?"}},{"$f":"[1]!SUMSTRING(F358:G358,\"#\")","v":{"$error":"#NAME?"}},null,{"$f":"[1]!SUMSTRING(I358:J358,\"|\")","v":{"$error":"#NAME?"}}]
[18,6018,null,6018,10,5,1190,null,{"$f":"[1]!SUMSTRING(D359:E359,\"#\")","v":{"$error":"#NAME?"}},{"$f":"[1]!SUMSTRING(F359:G359,\"#\")","v":{"$error":"#NAME?"}},null,{"$f":"[1]!SUMSTRING(I359:J359,\"|\")","v":{"$error":"#NAME?"}}]
[19,6018,null,6018,21,5,1315,null,{"$f":"[1]!SUMSTRING(D360:E360,\"#\")","v":{"$error":"#NAME?"}},{"$f":"[1]!SUMSTRING(F360:G360,\"#\")","v":{"$error":"#NAME?"}},null,{"$f":"[1]!SUMSTRING(I360:J360,\"|\")","v":{"$error":"#NAME?"}}]
[20,6018,null,6018,30,5,1440,null,{"$f":"[1]!SUMSTRING(D361:E361,\"#\")","v":{"$error":"#NAME?"}},{"$f":"[1]!SUMSTRING(F361:G361,\"#\")","v":{"$error":"#NAME?"}},null,{"$f":"[1]!SUMSTRING(I361:J361,\"|\")","v":{"$error":"#NAME?"}}]
[1,6019,null,6019,1,5,0,null,{"$f":"[1]!SUMSTRING(D362:E362,\"#\")","v":{"$error":"#NAME?"}},{"$f":"[1]!SUMSTRING(F362:G362,\"#\")","v":{"$error":"#NAME?"}},null,{"$f":"[1]!SUMSTRING(I362:J362,\"|\")","v":{"$error":"#NAME?"}}]
[2,6019,null,6019,1,5,40,null,{"$f":"[1]!SUMSTRING(D363:E363,\"#\")","v":{"$error":"#NAME?"}},{"$f":"[1]!SUMSTRING(F363:G363,\"#\")","v":{"$error":"#NAME?"}},null,{"$f":"[1]!SUMSTRING(I363:J363,\"|\")","v":{"$error":"#NAME?"}}]
[3,6019,null,6019,1,5,65,null,{"$f":"[1]!SUMSTRING(D364:E364,\"#\")","v":{"$error":"#NAME?"}},{"$f":"[1]!SUMSTRING(F364:G364,\"#\")","v":{"$error":"#NAME?"}},null,{"$f":"[1]!SUMSTRING(I364:J364,\"|\")","v":{"$error":"#NAME?"}}]
[4,6019,null,6019,1,5,100,null,{"$f":"[1]!SUMSTRING(D365:E365,\"#\")","v":{"$error":"#NAME?"}},{"$f":"[1]!SUMSTRING(F365:G365,\"#\")","v":{"$error":"#NAME?"}},null,{"$f":"[1]!SUMSTRING(I365:J365,\"|\")","v":{"$error":"#NAME?"}}]
[5,6019,null,6019,2,5,135,null,{"$f":"[1]!SUMSTRING(D366:E366,\"#\")","v":{"$error":"#NAME?"}},{"$f":"[1]!SUMSTRING(F366:G366,\"#\")","v":{"$error":"#NAME?"}},null,{"$f":"[1]!SUMSTRING(I366:J366,\"|\")","v":{"$error":"#NAME?"}}]
[6,6019,null,6019,2,5,180,null,{"$f":"[1]!SUMSTRING(D367:E367,\"#\")","v":{"$error":"#NAME?"}},{"$f":"[1]!SUMSTRING(F367:G367,\"#\")","v":{"$error":"#NAME?"}},null,{"$f":"[1]!SUMSTRING(I367:J367,\"|\")","v":{"$error":"#NAME?"}}]
[7,6019,null,6019,2,5,235,null,{"$f":"[1]!SUMSTRING(D368:E368,\"#\")","v":{"$error":"#NAME?"}},{"$f":"[1]!SUMSTRING(F368:G368,\"#\")","v":{"$error":"#NAME?"}},null,{"$f":"[1]!SUMSTRING(I368:J368,\"|\")","v":{"$error":"#NAME?"}}]
[8,6019,null,6019,3,5,290,null,{"$f":"[1]!SUMSTRING(D369:E369,\"#\")","v":{"$error":"#NAME?"}},{"$f":"[1]!SUMSTRING(F369:G369,\"#\")","v":{"$error":"#NAME?"}},null,{"$f":"[1]!SUMSTRING(I369:J369,\"|\")","v":{"$error":"#NAME?"}}]
[9,6019,null,6019,3,5,355,null,{"$f":"[1]!SUMSTRING(D370:E370,\"#\")","v":{"$error":"#NAME?"}},{"$f":"[1]!SUMSTRING(F370:G370,\"#\")","v":{"$error":"#NAME?"}},null,{"$f":"[1]!SUMSTRING(I370:J370,\"|\")","v":{"$error":"#NAME?"}}]
[10,6019,null,6019,3,5,420,null,{"$f":"[1]!SUMSTRING(D371:E371,\"#\")","v":{"$error":"#NAME?"}},{"$f":"[1]!SUMSTRING(F371:G371,\"#\")","v":{"$error":"#NAME?"}},null,{"$f":"[1]!SUMSTRING(I371:J371,\"|\")","v":{"$error":"#NAME?"}}]
[11,6019,null,6019,3,5,495,null,{"$f":"[1]!SUMSTRING(D372:E372,\"#\")","v":{"$error":"#NAME?"}},{"$f":"[1]!SUMSTRING(F372:G372,\"#\")","v":{"$error":"#NAME?"}},null,{"$f":"[1]!SUMSTRING(I372:J372,\"|\")","v":{"$error":"#NAME?"}}]
[12,6019,null,6019,3,5,580,null,{"$f":"[1]!SUMSTRING(D373:E373,\"#\")","v":{"$error":"#NAME?"}},{"$f":"[1]!SUMSTRING(F373:G373,\"#\")","v":{"$error":"#NAME?"}},null,{"$f":"[1]!SUMSTRING(I373:J373,\"|\")","v":{"$error":"#NAME?"}}]
[13,6019,null,6019,3,5,665,null,{"$f":"[1]!SUMSTRING(D374:E374,\"#\")","v":{"$error":"#NAME?"}},{"$f":"[1]!SUMSTRING(F374:G374,\"#\")","v":{"$error":"#NAME?"}},null,{"$f":"[1]!SUMSTRING(I374:J374,\"|\")","v":{"$error":"#NAME?"}}]
[14,6019,null,6019,4,5,760,null,{"$f":"[1]!SUMSTRING(D375:E375,\"#\")","v":{"$error":"#NAME?"}},{"$f":"[1]!SUMSTRING(F375:G375,\"#\")","v":{"$error":"#NAME?"}},null,{"$f":"[1]!SUMSTRING(I375:J375,\"|\")","v":{"$error":"#NAME?"}}]
[15,6019,null,6019,5,5,855,null,{"$f":"[1]!SUMSTRING(D376:E376,\"#\")","v":{"$error":"#NAME?"}},{"$f":"[1]!SUMSTRING(F376:G376,\"#\")","v":{"$error":"#NAME?"}},null,{"$f":"[1]!SUMSTRING(I376:J376,\"|\")","v":{"$error":"#NAME?"}}]
[16,6019,null,6019,6,5,960,null,{"$f":"[1]!SUMSTRING(D377:E377,\"#\")","v":{"$error":"#NAME?"}},{"$f":"[1]!SUMSTRING(F377:G377,\"#\")","v":{"$error":"#NAME?"}},null,{"$f":"[1]!SUMSTRING(I377:J377,\"|\")","v":{"$error":"#NAME?"}}]
[17,6019,null,6019,8,5,1075,null,{"$f":"[1]!SUMSTRING(D378:E378,\"#\")","v":{"$error":"#NAME?"}},{"$f":"[1]!SUMSTRING(F378:G378,\"#\")","v":{"$error":"#NAME?"}},null,{"$f":"[1]!SUMSTRING(I378:J378,\"|\")","v":{"$error":"#NAME?"}}]
[18,6019,null,6019,10,5,1190,null,{"$f":"[1]!SUMSTRING(D379:E379,\"#\")","v":{"$error":"#NAME?"}},{"$f":"[1]!SUMSTRING(F379:G379,\"#\")","v":{"$error":"#NAME?"}},null,{"$f":"[1]!SUMSTRING(I379:J379,\"|\")","v":{"$error":"#NAME?"}}]
[19,6019,null,6019,21,5,1315,null,{"$f":"[1]!SUMSTRING(D380:E380,\"#\")","v":{"$error":"#NAME?"}},{"$f":"[1]!SUMSTRING(F380:G380,\"#\")","v":{"$error":"#NAME?"}},null,{"$f":"[1]!SUMSTRING(I380:J380,\"|\")","v":{"$error":"#NAME?"}}]
[20,6019,null,6019,30,5,1440,null,{"$f":"[1]!SUMSTRING(D381:E381,\"#\")","v":{"$error":"#NAME?"}},{"$f":"[1]!SUMSTRING(F381:G381,\"#\")","v":{"$error":"#NAME?"}},null,{"$f":"[1]!SUMSTRING(I381:J381,\"|\")","v":{"$error":"#NAME?"}}]
[1,6020,null,6020,1,5,0,null,{"$f":"[1]!SUMSTRING(D382:E382,\"#\")","v":{"$error":"#NAME?"}},{"$f":"[1]!SUMSTRING(F382:G382,\"#\")","v":{"$error":"#NAME?"}},null,{"$f":"[1]!SUMSTRING(I382:J382,\"|\")","v":{"$error":"#NAME?"}}]
[2,6020,null,6020,1,5,40,null,{"$f":"[1]!SUMSTRING(D383:E383,\"#\")","v":{"$error":"#NAME?"}},{"$f":"[1]!SUMSTRING(F383:G383,\"#\")","v":{"$error":"#NAME?"}},null,{"$f":"[1]!SUMSTRING(I383:J383,\"|\")","v":{"$error":"#NAME?"}}]
[3,6020,null,6020,1,5,65,null,{"$f":"[1]!SUMSTRING(D384:E384,\"#\")","v":{"$error":"#NAME?"}},{"$f":"[1]!SUMSTRING(F384:G384,\"#\")","v":{"$error":"#NAME?"}},null,{"$f":"[1]!SUMSTRING(I384:J384,\"|\")","v":{"$error":"#NAME?"}}]
[4,6020,null,6020,1,5,100,null,{"$f":"[1]!SUMSTRING(D385:E385,\"#\")","v":{"$error":"#NAME?"}},{"$f":"[1]!SUMSTRING(F385:G385,\"#\")","v":{"$error":"#NAME?"}},null,{"$f":"[1]!SUMSTRING(I385:J385,\"|\")","v":{"$error":"#NAME?"}}]
[5,6020,null,6020,2,5,135,null,{"$f":"[1]!SUMSTRING(D386:E386,\"#\")","v":{"$error":"#NAME?"}},{"$f":"[1]!SUMSTRING(F386:G386,\"#\")","v":{"$error":"#NAME?"}},null,{"$f":"[1]!SUMSTRING(I386:J386,\"|\")","v":{"$error":"#NAME?"}}]
[6,6020,null,{"$f":"B387","v":6020},2,5,{"$f":"G367","v":180},null,{"$f":"[1]!SUMSTRING(D387:E387,\"#\")","v":{"$error":"#NAME?"}},{"$f":"[1]!SUMSTRING(F387:G387,\"#\")","v":{"$error":"#NAME?"}},null,{"$f":"[1]!SUMSTRING(I387:J387,\"|\")","v":{"$error":"#NAME?"}}]
[7,6020,null,6020,2,5,235,null,{"$f":"[1]!SUMSTRING(D388:E388,\"#\")","v":{"$error":"#NAME?"}},{"$f":"[1]!SUMSTRING(F388:G388,\"#\")","v":{"$error":"#NAME?"}},null,{"$f":"[1]!SUMSTRING(I388:J388,\"|\")","v":{"$error":"#NAME?"}}]
[8,6020,null,6020,3,5,290,null,{"$f":"[1]!SUMSTRING(D389:E389,\"#\")","v":{"$error":"#NAME?"}},{"$f":"[1]!SUMSTRING(F389:G389,\"#\")","v":{"$error":"#NAME?"}},null,{"$f":"[1]!SUMSTRING(I389:J389,\"|\")","v":{"$error":"#NAME?"}}]
[9,6020,null,6020,3,5,355,null,{"$f":"[1]!SUMSTRING(D390:E390,\"#\")","v":{"$error":"#NAME?"}},{"$f":"[1]!SUMSTRING(F390:G390,\"#\")","v":{"$error":"#NAME?"}},null,{"$f":"[1]!SUMSTRING(I390:J390,\"|\")","v":{"$error":"#NAME?"}}]
[10,6020,null,6020,3,5,420,null,{"$f":"[1]!SUMSTRING(D391:E391,\"#\")","v":{"$error":"#NAME?"}},{"$f":"[1]!SUMSTRING(F391:G391,\"#\")","v":{"$error":"#NAME?"}},null,{"$f":"[1]!SUMSTRING(I391:J391,\"|\")","v":{"$error":"#NAME?"}}]
[11,6020,null,6020,3,5,495,null,{"$f":"[1]!SUMSTRING(D392:E392,\"#\")","v":{"$error":"#NAME?"}},{"$f":"[1]!SUMSTRING(F392:G392,\"#\")","v":{"$error":"#NAME?"}},null,{"$f":"[1]!SUMSTRING(I392:J392,\"|\")","v":{"$error":"#NAME?"}}]
[12,6020,null,6020,3,5,580,null,{"$f":"[1]!SUMSTRING(D393:E393,\"#\")","v":{"$error":"#NAME?"}},{"$f":"[1]!SUMSTRING(F393:G393,\"#\")","v":{"$error":"#NAME?"}},null,{"$f":"[1]!SUMSTRING(I393:J393,\"|\")","v":{"$error":"#NAME?"}}]
[13,6020,null,6020,3,5,665,null,{"$f":"[1]!SUMSTRING(D394:E394,\"#\")","v":{"$error":"#NAME?"}},{"$f":"[1]!SUMSTRING(F394:G394,\"#\")","v":{"$error":"#NAME?"}},null,{"$f":"[1]!SUMSTRING(I394:J394,\"|\")","v":{"$error":"#NAME?"}}]
[14,6020,null,6020,4,5,760,null,{"$f":"[1]!SUMSTRING(D395:E395,\"#\")","v":{"$error":"#NAME?"}},{"$f":"[1]!SUMSTRING(F395:G395,\"#\")","v":{"$error":"#NAME?"}},null,{"$f":"[1]!SUMSTRING(I395:J395,\"|\")","v":{"$error":"#NAME?"}}]
[15,6020,null,6020,5,5,855,null,{"$f":"[1]!SUMSTRING(D396:E396,\"#\")","v":{"$error":"#NAME?"}},{"$f":"[1]!SUMSTRING(F396:G396,\"#\")","v":{"$error":"#NAME?"}},null,{"$f":"[1]!SUMSTRING(I396:J396,\"|\")","v":{"$error":"#NAME?"}}]
[16,6020,null,6020,6,5,960,null,{"$f":"[1]!SUMSTRING(D397:E397,\"#\")","v":{"$error":"#NAME?"}},{"$f":"[1]!SUMSTRING(F397:G397,\"#\")","v":{"$error":"#NAME?"}},null,{"$f":"[1]!SUMSTRING(I397:J397,\"|\")","v":{"$error":"#NAME?"}}]
[17,6020,null,6020,8,5,1075,null,{"$f":"[1]!SUMSTRING(D398:E398,\"#\")","v":{"$error":"#NAME?"}},{"$f":"[1]!SUMSTRING(F398:G398,\"#\")","v":{"$error":"#NAME?"}},null,{"$f":"[1]!SUMSTRING(I398:J398,\"|\")","v":{"$error":"#NAME?"}}]
[18,6020,null,6020,10,5,1190,null,{"$f":"[1]!SUMSTRING(D399:E399,\"#\")","v":{"$error":"#NAME?"}},{"$f":"[1]!SUMSTRING(F399:G399,\"#\")","v":{"$error":"#NAME?"}},null,{"$f":"[1]!SUMSTRING(I399:J399,\"|\")","v":{"$error":"#NAME?"}}]
[19,6020,null,6020,21,5,1315,null,{"$f":"[1]!SUMSTRING(D400:E400,\"#\")","v":{"$error":"#NAME?"}},{"$f":"[1]!SUMSTRING(F400:G400,\"#\")","v":{"$error":"#NAME?"}},null,{"$f":"[1]!SUMSTRING(I400:J400,\"|\")","v":{"$error":"#NAME?"}}]
[20,6020,null,6020,30,5,1440,null,{"$f":"[1]!SUMSTRING(D401:E401,\"#\")","v":{"$error":"#NAME?"}},{"$f":"[1]!SUMSTRING(F401:G401,\"#\")","v":{"$error":"#NAME?"}},null,{"$f":"[1]!SUMSTRING(I401:J401,\"|\")","v":{"$error":"#NAME?"}}]
[1,6021,null,6021,1,5,0,null,{"$f":"[1]!SUMSTRING(D402:E402,\"#\")","v":{"$error":"#NAME?"}},{"$f":"[1]!SUMSTRING(F402:G402,\"#\")","v":{"$error":"#NAME?"}},null,{"$f":"[1]!SUMSTRING(I402:J402,\"|\")","v":{"$error":"#NAME?"}}]
[2,6021,null,6021,1,5,40,null,{"$f":"[1]!SUMSTRING(D403:E403,\"#\")","v":{"$error":"#NAME?"}},{"$f":"[1]!SUMSTRING(F403:G403,\"#\")","v":{"$error":"#NAME?"}},null,{"$f":"[1]!SUMSTRING(I403:J403,\"|\")","v":{"$error":"#NAME?"}}]
[3,6021,null,6021,1,5,65,null,{"$f":"[1]!SUMSTRING(D404:E404,\"#\")","v":{"$error":"#NAME?"}},{"$f":"[1]!SUMSTRING(F404:G404,\"#\")","v":{"$error":"#NAME?"}},null,{"$f":"[1]!SUMSTRING(I404:J404,\"|\")","v":{"$error":"#NAME?"}}]
[4,6021,null,6021,1,5,100,null,{"$f":"[1]!SUMSTRING(D405:E405,\"#\")","v":{"$error":"#NAME?"}},{"$f":"[1]!SUMSTRING(F405:G405,\"#\")","v":{"$error":"#NAME?"}},null,{"$f":"[1]!SUMSTRING(I405:J405,\"|\")","v":{"$error":"#NAME?"}}]
[5,6021,null,6021,2,5,135,null,{"$f":"[1]!SUMSTRING(D406:E406,\"#\")","v":{"$error":"#NAME?"}},{"$f":"[1]!SUMSTRING(F406:G406,\"#\")","v":{"$error":"#NAME?"}},null,{"$f":"[1]!SUMSTRING(I406:J406,\"|\")","v":{"$error":"#NAME?"}}]
[{"$f":"A387","v":6},{"$f":"B387+1","v":6021},null,6021,{"$f":"E387","v":2},5,180,null,{"$f":"[1]!SUMSTRING(D407:E407,\"#\")","v":{"$error":"#NAME?"}},{"$f":"[1]!SUMSTRING(F407:G407,\"#\")","v":{"$error":"#NAME?"}},null,{"$f":"[1]!SUMSTRING(I407:J407,\"|\")","v":{"$error":"#NAME?"}}]
[7,6021,null,6021,2,5,235,null,{"$f":"[1]!SUMSTRING(D408:E408,\"#\")","v":{"$error":"#NAME?"}},{"$f":"[1]!SUMSTRING(F408:G408,\"#\")","v":{"$error":"#NAME?"}},null,{"$f":"[1]!SUMSTRING(I408:J408,\"|\")","v":{"$error":"#NAME?"}}]
[8,6021,null,6021,3,5,290,null,{"$f":"[1]!SUMSTRING(D409:E409,\"#\")","v":{"$error":"#NAME?"}},{"$f":"[1]!SUMSTRING(F409:G409,\"#\")","v":{"$error":"#NAME?"}},null,{"$f":"[1]!SUMSTRING(I409:J409,\"|\")","v":{"$error":"#NAME?"}}]
[9,6021,null,6021,3,5,355,null,{"$f":"[1]!SUMSTRING(D410:E410,\"#\")","v":{"$error":"#NAME?"}},{"$f":"[1]!SUMSTRING(F410:G410,\"#\")","v":{"$error":"#NAME?"}},null,{"$f":"[1]!SUMSTRING(I410:J410,\"|\")","v":{"$error":"#NAME?"}}]
[10,6021,null,6021,3,5,420,null,{"$f":"[1]!SUMSTRING(D411:E411,\"#\")","v":{"$error":"#NAME?"}},{"$f":"[1]!SUMSTRING(F411:G411,\"#\")","v":{"$error":"#NAME?"}},null,{"$f":"[1]!SUMSTRING(I411:J411,\"|\")","v":{"$error":"#NAME?"}}]
[11,6021,null,6021,3,5,495,null,{"$f":"[1]!SUMSTRING(D412:E412,\"#\")","v":{"$error":"#NAME?"}},{"$f":"[1]!SUMSTRING(F412:G412,\"#\")","v":{"$error":"#NAME?"}},null,{"$f":"[1]!SUMSTRING(I412:J412,\"|\")","v":{"$error":"#NAME?"}}]
[12,6021,null,6021,3,5,580,null,{"$f":"[1]!SUMSTRING(D413:E413,\"#\")","v":{"$error":"#NAME?"}},{"$f":"[1]!SUMSTRING(F413:G413,\"#\")","v":{"$error":"#NAME?"}},null,{"$f":"[1]!SUMSTRING(I413:J413,\"|\")","v":{"$error":"#NAME?"}}]
[13,6021,null,6021,3,5,665,null,{"$f":"[1]!SUMSTRING(D414:E414,\"#\")","v":{"$error":"#NAME?"}},{"$f":"[1]!SUMSTRING(F414:G414,\"#\")","v":{"$error":"#NAME?"}},null,{"$f":"[1]!SUMSTRING(I414:J414,\"|\")","v":{"$error":"#NAME?"}}]
[14,6021,null,6021,4,5,760,null,{"$f":"[1]!SUMSTRING(D415:E415,\"#\")","v":{"$error":"#NAME?"}},{"$f":"[1]!SUMSTRING(F415:G415,\"#\")","v":{"$error":"#NAME?"}},null,{"$f":"[1]!SUMSTRING(I415:J415,\"|\")","v":{"$error":"#NAME?"}}]
[15,6021,null,6021,5,5,855,null,{"$f":"[1]!SUMSTRING(D416:E416,\"#\")","v":{"$error":"#NAME?"}},{"$f":"[1]!SUMSTRING(F416:G416,\"#\")","v":{"$error":"#NAME?"}},null,{"$f":"[1]!SUMSTRING(I416:J416,\"|\")","v":{"$error":"#NAME?"}}]
[16,6021,null,6021,6,5,960,null,{"$f":"[1]!SUMSTRING(D417:E417,\"#\")","v":{"$error":"#NAME?"}},{"$f":"[1]!SUMSTRING(F417:G417,\"#\")","v":{"$error":"#NAME?"}},null,{"$f":"[1]!SUMSTRING(I417:J417,\"|\")","v":{"$error":"#NAME?"}}]
[17,6021,null,6021,8,5,1075,null,{"$f":"[1]!SUMSTRING(D418:E418,\"#\")","v":{"$error":"#NAME?"}},{"$f":"[1]!SUMSTRING(F418:G418,\"#\")","v":{"$error":"#NAME?"}},null,{"$f":"[1]!SUMSTRING(I418:J418,\"|\")","v":{"$error":"#NAME?"}}]
[18,6021,null,6021,10,5,1190,null,{"$f":"[1]!SUMSTRING(D419:E419,\"#\")","v":{"$error":"#NAME?"}},{"$f":"[1]!SUMSTRING(F419:G419,\"#\")","v":{"$error":"#NAME?"}},null,{"$f":"[1]!SUMSTRING(I419:J419,\"|\")","v":{"$error":"#NAME?"}}]
[19,6021,null,6021,21,5,1315,null,{"$f":"[1]!SUMSTRING(D420:E420,\"#\")","v":{"$error":"#NAME?"}},{"$f":"[1]!SUMSTRING(F420:G420,\"#\")","v":{"$error":"#NAME?"}},null,{"$f":"[1]!SUMSTRING(I420:J420,\"|\")","v":{"$error":"#NAME?"}}]
[20,6021,null,6021,30,5,1440,null,{"$f":"[1]!SUMSTRING(D421:E421,\"#\")","v":{"$error":"#NAME?"}},{"$f":"[1]!SUMSTRING(F421:G421,\"#\")","v":{"$error":"#NAME?"}},null,{"$f":"[1]!SUMSTRING(I421:J421,\"|\")","v":{"$error":"#NAME?"}}]
[1,6022,null,6022,1,5,0,null,{"$f":"[1]!SUMSTRING(D422:E422,\"#\")","v":{"$error":"#NAME?"}},{"$f":"[1]!SUMSTRING(F422:G422,\"#\")","v":{"$error":"#NAME?"}},null,{"$f":"[1]!SUMSTRING(I422:J422,\"|\")","v":{"$error":"#NAME?"}}]
[2,6022,null,6022,1,5,40,null,{"$f":"[1]!SUMSTRING(D423:E423,\"#\")","v":{"$error":"#NAME?"}},{"$f":"[1]!SUMSTRING(F423:G423,\"#\")","v":{"$error":"#NAME?"}},null,{"$f":"[1]!SUMSTRING(I423:J423,\"|\")","v":{"$error":"#NAME?"}}]
[3,6022,null,6022,1,5,65,null,{"$f":"[1]!SUMSTRING(D424:E424,\"#\")","v":{"$error":"#NAME?"}},{"$f":"[1]!SUMSTRING(F424:G424,\"#\")","v":{"$error":"#NAME?"}},null,{"$f":"[1]!SUMSTRING(I424:J424,\"|\")","v":{"$error":"#NAME?"}}]
[4,6022,null,6022,1,5,100,null,{"$f":"[1]!SUMSTRING(D425:E425,\"#\")","v":{"$error":"#NAME?"}},{"$f":"[1]!SUMSTRING(F425:G425,\"#\")","v":{"$error":"#NAME?"}},null,{"$f":"[1]!SUMSTRING(I425:J425,\"|\")","v":{"$error":"#NAME?"}}]
[5,6022,null,6022,2,5,135,null,{"$f":"[1]!SUMSTRING(D426:E426,\"#\")","v":{"$error":"#NAME?"}},{"$f":"[1]!SUMSTRING(F426:G426,\"#\")","v":{"$error":"#NAME?"}},null,{"$f":"[1]!SUMSTRING(I426:J426,\"|\")","v":{"$error":"#NAME?"}}]
[6,6022,null,6022,2,5,180,null,{"$f":"[1]!SUMSTRING(D427:E427,\"#\")","v":{"$error":"#NAME?"}},{"$f":"[1]!SUMSTRING(F427:G427,\"#\")","v":{"$error":"#NAME?"}},null,{"$f":"[1]!SUMSTRING(I427:J427,\"|\")","v":{"$error":"#NAME?"}}]
[7,6022,null,6022,2,5,235,null,{"$f":"[1]!SUMSTRING(D428:E428,\"#\")","v":{"$error":"#NAME?"}},{"$f":"[1]!SUMSTRING(F428:G428,\"#\")","v":{"$error":"#NAME?"}},null,{"$f":"[1]!SUMSTRING(I428:J428,\"|\")","v":{"$error":"#NAME?"}}]
[8,6022,null,6022,3,5,290,null,{"$f":"[1]!SUMSTRING(D429:E429,\"#\")","v":{"$error":"#NAME?"}},{"$f":"[1]!SUMSTRING(F429:G429,\"#\")","v":{"$error":"#NAME?"}},null,{"$f":"[1]!SUMSTRING(I429:J429,\"|\")","v":{"$error":"#NAME?"}}]
[9,6022,null,6022,3,5,355,null,{"$f":"[1]!SUMSTRING(D430:E430,\"#\")","v":{"$error":"#NAME?"}},{"$f":"[1]!SUMSTRING(F430:G430,\"#\")","v":{"$error":"#NAME?"}},null,{"$f":"[1]!SUMSTRING(I430:J430,\"|\")","v":{"$error":"#NAME?"}}]
[10,6022,null,6022,3,5,420,null,{"$f":"[1]!SUMSTRING(D431:E431,\"#\")","v":{"$error":"#NAME?"}},{"$f":"[1]!SUMSTRING(F431:G431,\"#\")","v":{"$error":"#NAME?"}},null,{"$f":"[1]!SUMSTRING(I431:J431,\"|\")","v":{"$error":"#NAME?"}}]
[11,6022,null,6022,3,5,495,null,{"$f":"[1]!SUMSTRING(D432:E432,\"#\")","v":{"$error":"#NAME?"}},{"$f":"[1]!SUMSTRING(F432:G432,\"#\")","v":{"$error":"#NAME?"}},null,{"$f":"[1]!SUMSTRING(I432:J432,\"|\")","v":{"$error":"#NAME?"}}]
[12,6022,null,6022,3,5,580,null,{"$f":"[1]!SUMSTRING(D433:E433,\"#\")","v":{"$error":"#NAME?"}},{"$f":"[1]!SUMSTRING(F433:G433,\"#\")","v":{"$error":"#NAME?"}},null,{"$f":"[1]!SUMSTRING(I433:J433,\"|\")","v":{"$error":"#NAME?"}}]
[13,6022,null,6022,3,5,665,null,{"$f":"[1]!SUMSTRING(D434:E434,\"#\")","v":{"$error":"#NAME?"}},{"$f":"[1]!SUMSTRING(F434:G434,\"#\")","v":{"$error":"#NAME?"}},null,{"$f":"[1]!SUMSTRING(I434:J434,\"|\")","v":{"$error":"#NAME?"}}]
[14,6022,null,6022,4,5,760,null,{"$f":"[1]!SUMSTRING(D435:E435,\"#\")","v":{"$error":"#NAME?"}},{"$f":"[1]!SUMSTRING(F435:G435,\"#\")","v":{"$error":"#NAME?"}},null,{"$f":"[1]!SUMSTRING(I435:J435,\"|\")","v":{"$error":"#NAME?"}}]
[15,6022,null,6022,5,5,855,null,{"$f":"[1]!SUMSTRING(D436:E436,\"#\")","v":{"$error":"#NAME?"}},{"$f":"[1]!SUMSTRING(F436:G436,\"#\")","v":{"$error":"#NAME?"}},null,{"$f":"[1]!SUMSTRING(I436:J436,\"|\")","v":{"$error":"#NAME?"}}]
[16,6022,null,6022,6,5,960,null,{"$f":"[1]!SUMSTRING(D437:E437,\"#\")","v":{"$error":"#NAME?"}},{"$f":"[1]!SUMSTRING(F437:G437,\"#\")","v":{"$error":"#NAME?"}},null,{"$f":"[1]!SUMSTRING(I437:J437,\"|\")","v":{"$error":"#NAME?"}}]
[17,6022,null,6022,8,5,1075,null,{"$f":"[1]!SUMSTRING(D438:E438,\"#\")","v":{"$error":"#NAME?"}},{"$f":"[1]!SUMSTRING(F438:G438,\"#\")","v":{"$error":"#NAME?"}},null,{"$f":"[1]!SUMSTRING(I438:J438,\"|\")","v":{"$error":"#NAME?"}}]
[18,6022,null,6022,10,5,1190,null,{"$f":"[1]!SUMSTRING(D439:E439,\"#\")","v":{"$error":"#NAME?"}},{"$f":"[1]!SUMSTRING(F439:G439,\"#\")","v":{"$error":"#NAME?"}},null,{"$f":"[1]!SUMSTRING(I439:J439,\"|\")","v":{"$error":"#NAME?"}}]
[19,6022,null,6022,21,5,1315,null,{"$f":"[1]!SUMSTRING(D440:E440,\"#\")","v":{"$error":"#NAME?"}},{"$f":"[1]!SUMSTRING(F440:G440,\"#\")","v":{"$error":"#NAME?"}},null,{"$f":"[1]!SUMSTRING(I440:J440,\"|\")","v":{"$error":"#NAME?"}}]
[20,6022,null,6022,30,5,1440,null,{"$f":"[1]!SUMSTRING(D441:E441,\"#\")","v":{"$error":"#NAME?"}},{"$f":"[1]!SUMSTRING(F441:G441,\"#\")","v":{"$error":"#NAME?"}},null,{"$f":"[1]!SUMSTRING(I441:J441,\"|\")","v":{"$error":"#NAME?"}}]
[1,6023,null,6023,1,5,0,null,{"$f":"[1]!SUMSTRING(D442:E442,\"#\")","v":{"$error":"#NAME?"}},{"$f":"[1]!SUMSTRING(F442:G442,\"#\")","v":{"$error":"#NAME?"}},null,{"$f":"[1]!SUMSTRING(I442:J442,\"|\")","v":{"$error":"#NAME?"}}]
[2,6023,null,6023,1,5,40,null,{"$f":"[1]!SUMSTRING(D443:E443,\"#\")","v":{"$error":"#NAME?"}},{"$f":"[1]!SUMSTRING(F443:G443,\"#\")","v":{"$error":"#NAME?"}},null,{"$f":"[1]!SUMSTRING(I443:J443,\"|\")","v":{"$error":"#NAME?"}}]
[3,6023,null,6023,1,5,65,null,{"$f":"[1]!SUMSTRING(D444:E444,\"#\")","v":{"$error":"#NAME?"}},{"$f":"[1]!SUMSTRING(F444:G444,\"#\")","v":{"$error":"#NAME?"}},null,{"$f":"[1]!SUMSTRING(I444:J444,\"|\")","v":{"$error":"#NAME?"}}]
[4,6023,null,6023,1,5,100,null,{"$f":"[1]!SUMSTRING(D445:E445,\"#\")","v":{"$error":"#NAME?"}},{"$f":"[1]!SUMSTRING(F445:G445,\"#\")","v":{"$error":"#NAME?"}},null,{"$f":"[1]!SUMSTRING(I445:J445,\"|\")","v":{"$error":"#NAME?"}}]
[5,6023,null,6023,2,5,135,null,{"$f":"[1]!SUMSTRING(D446:E446,\"#\")","v":{"$error":"#NAME?"}},{"$f":"[1]!SUMSTRING(F446:G446,\"#\")","v":{"$error":"#NAME?"}},null,{"$f":"[1]!SUMSTRING(I446:J446,\"|\")","v":{"$error":"#NAME?"}}]
[6,6023,null,6023,2,5,180,null,{"$f":"[1]!SUMSTRING(D447:E447,\"#\")","v":{"$error":"#NAME?"}},{"$f":"[1]!SUMSTRING(F447:G447,\"#\")","v":{"$error":"#NAME?"}},null,{"$f":"[1]!SUMSTRING(I447:J447,\"|\")","v":{"$error":"#NAME?"}}]
[7,6023,null,6023,2,5,235,null,{"$f":"[1]!SUMSTRING(D448:E448,\"#\")","v":{"$error":"#NAME?"}},{"$f":"[1]!SUMSTRING(F448:G448,\"#\")","v":{"$error":"#NAME?"}},null,{"$f":"[1]!SUMSTRING(I448:J448,\"|\")","v":{"$error":"#NAME?"}}]
[8,6023,null,6023,3,5,290,null,{"$f":"[1]!SUMSTRING(D449:E449,\"#\")","v":{"$error":"#NAME?"}},{"$f":"[1]!SUMSTRING(F449:G449,\"#\")","v":{"$error":"#NAME?"}},null,{"$f":"[1]!SUMSTRING(I449:J449,\"|\")","v":{"$error":"#NAME?"}}]
[9,6023,null,6023,3,5,355,null,{"$f":"[1]!SUMSTRING(D450:E450,\"#\")","v":{"$error":"#NAME?"}},{"$f":"[1]!SUMSTRING(F450:G450,\"#\")","v":{"$error":"#NAME?"}},null,{"$f":"[1]!SUMSTRING(I450:J450,\"|\")","v":{"$error":"#NAME?"}}]
[10,6023,null,{"$f":"B451","v":6023},3,5,{"$f":"G431","v":420},null,{"$f":"[1]!SUMSTRING(D451:E451,\"#\")","v":{"$error":"#NAME?"}},{"$f":"[1]!SUMSTRING(F451:G451,\"#\")","v":{"$error":"#NAME?"}},null,{"$f":"[1]!SUMSTRING(I451:J451,\"|\")","v":{"$error":"#NAME?"}}]
[11,6023,null,6023,3,5,495,null,{"$f":"[1]!SUMSTRING(D452:E452,\"#\")","v":{"$error":"#NAME?"}},{"$f":"[1]!SUMSTRING(F452:G452,\"#\")","v":{"$error":"#NAME?"}},null,{"$f":"[1]!SUMSTRING(I452:J452,\"|\")","v":{"$error":"#NAME?"}}]
[12,6023,null,6023,3,5,580,null,{"$f":"[1]!SUMSTRING(D453:E453,\"#\")","v":{"$error":"#NAME?"}},{"$f":"[1]!SUMSTRING(F453:G453,\"#\")","v":{"$error":"#NAME?"}},null,{"$f":"[1]!SUMSTRING(I453:J453,\"|\")","v":{"$error":"#NAME?"}}]
[13,6023,null,6023,3,5,665,null,{"$f":"[1]!SUMSTRING(D454:E454,\"#\")","v":{"$error":"#NAME?"}},{"$f":"[1]!SUMSTRING(F454:G454,\"#\")","v":{"$error":"#NAME?"}},null,{"$f":"[1]!SUMSTRING(I454:J454,\"|\")","v":{"$error":"#NAME?"}}]
[14,6023,null,6023,4,5,760,null,{"$f":"[1]!SUMSTRING(D455:E455,\"#\")","v":{"$error":"#NAME?"}},{"$f":"[1]!SUMSTRING(F455:G455,\"#\")","v":{"$error":"#NAME?"}},null,{"$f":"[1]!SUMSTRING(I455:J455,\"|\")","v":{"$error":"#NAME?"}}]
[15,6023,null,6023,5,5,855,null,{"$f":"[1]!SUMSTRING(D456:E456,\"#\")","v":{"$error":"#NAME?"}},{"$f":"[1]!SUMSTRING(F456:G456,\"#\")","v":{"$error":"#NAME?"}},null,{"$f":"[1]!SUMSTRING(I456:J456,\"|\")","v":{"$error":"#NAME?"}}]
[16,6023,null,6023,6,5,960,null,{"$f":"[1]!SUMSTRING(D457:E457,\"#\")","v":{"$error":"#NAME?"}},{"$f":"[1]!SUMSTRING(F457:G457,\"#\")","v":{"$error":"#NAME?"}},null,{"$f":"[1]!SUMSTRING(I457:J457,\"|\")","v":{"$error":"#NAME?"}}]
[17,6023,null,6023,8,5,1075,null,{"$f":"[1]!SUMSTRING(D458:E458,\"#\")","v":{"$error":"#NAME?"}},{"$f":"[1]!SUMSTRING(F458:G458,\"#\")","v":{"$error":"#NAME?"}},null,{"$f":"[1]!SUMSTRING(I458:J458,\"|\")","v":{"$error":"#NAME?"}}]
[18,6023,null,6023,10,5,1190,null,{"$f":"[1]!SUMSTRING(D459:E459,\"#\")","v":{"$error":"#NAME?"}},{"$f":"[1]!SUMSTRING(F459:G459,\"#\")","v":{"$error":"#NAME?"}},null,{"$f":"[1]!SUMSTRING(I459:J459,\"|\")","v":{"$error":"#NAME?"}}]
[19,6023,null,6023,21,5,1315,null,{"$f":"[1]!SUMSTRING(D460:E460,\"#\")","v":{"$error":"#NAME?"}},{"$f":"[1]!SUMSTRING(F460:G460,\"#\")","v":{"$error":"#NAME?"}},null,{"$f":"[1]!SUMSTRING(I460:J460,\"|\")","v":{"$error":"#NAME?"}}]
[20,6023,null,6023,30,5,1440,null,{"$f":"[1]!SUMSTRING(D461:E461,\"#\")","v":{"$error":"#NAME?"}},{"$f":"[1]!SUMSTRING(F461:G461,\"#\")","v":{"$error":"#NAME?"}},null,{"$f":"[1]!SUMSTRING(I461:J461,\"|\")","v":{"$error":"#NAME?"}}]
[1,6024,null,6024,1,5,0,null,{"$f":"[1]!SUMSTRING(D462:E462,\"#\")","v":{"$error":"#NAME?"}},{"$f":"[1]!SUMSTRING(F462:G462,\"#\")","v":{"$error":"#NAME?"}},null,{"$f":"[1]!SUMSTRING(I462:J462,\"|\")","v":{"$error":"#NAME?"}}]
[2,6024,null,6024,1,5,40,null,{"$f":"[1]!SUMSTRING(D463:E463,\"#\")","v":{"$error":"#NAME?"}},{"$f":"[1]!SUMSTRING(F463:G463,\"#\")","v":{"$error":"#NAME?"}},null,{"$f":"[1]!SUMSTRING(I463:J463,\"|\")","v":{"$error":"#NAME?"}}]
[3,6024,null,6024,1,5,65,null,{"$f":"[1]!SUMSTRING(D464:E464,\"#\")","v":{"$error":"#NAME?"}},{"$f":"[1]!SUMSTRING(F464:G464,\"#\")","v":{"$error":"#NAME?"}},null,{"$f":"[1]!SUMSTRING(I464:J464,\"|\")","v":{"$error":"#NAME?"}}]
[4,6024,null,6024,1,5,100,null,{"$f":"[1]!SUMSTRING(D465:E465,\"#\")","v":{"$error":"#NAME?"}},{"$f":"[1]!SUMSTRING(F465:G465,\"#\")","v":{"$error":"#NAME?"}},null,{"$f":"[1]!SUMSTRING(I465:J465,\"|\")","v":{"$error":"#NAME?"}}]
[5,6024,null,6024,2,5,135,null,{"$f":"[1]!SUMSTRING(D466:E466,\"#\")","v":{"$error":"#NAME?"}},{"$f":"[1]!SUMSTRING(F466:G466,\"#\")","v":{"$error":"#NAME?"}},null,{"$f":"[1]!SUMSTRING(I466:J466,\"|\")","v":{"$error":"#NAME?"}}]
[6,6024,null,6024,2,5,180,null,{"$f":"[1]!SUMSTRING(D467:E467,\"#\")","v":{"$error":"#NAME?"}},{"$f":"[1]!SUMSTRING(F467:G467,\"#\")","v":{"$error":"#NAME?"}},null,{"$f":"[1]!SUMSTRING(I467:J467,\"|\")","v":{"$error":"#NAME?"}}]
[7,6024,null,6024,2,5,235,null,{"$f":"[1]!SUMSTRING(D468:E468,\"#\")","v":{"$error":"#NAME?"}},{"$f":"[1]!SUMSTRING(F468:G468,\"#\")","v":{"$error":"#NAME?"}},null,{"$f":"[1]!SUMSTRING(I468:J468,\"|\")","v":{"$error":"#NAME?"}}]
[8,6024,null,6024,3,5,290,null,{"$f":"[1]!SUMSTRING(D469:E469,\"#\")","v":{"$error":"#NAME?"}},{"$f":"[1]!SUMSTRING(F469:G469,\"#\")","v":{"$error":"#NAME?"}},null,{"$f":"[1]!SUMSTRING(I469:J469,\"|\")","v":{"$error":"#NAME?"}}]
[9,6024,null,6024,3,5,355,null,{"$f":"[1]!SUMSTRING(D470:E470,\"#\")","v":{"$error":"#NAME?"}},{"$f":"[1]!SUMSTRING(F470:G470,\"#\")","v":{"$error":"#NAME?"}},null,{"$f":"[1]!SUMSTRING(I470:J470,\"|\")","v":{"$error":"#NAME?"}}]
[{"$f":"A451","v":10},{"$f":"B451+1","v":6024},null,6024,{"$f":"E451","v":3},5,420,null,{"$f":"[1]!SUMSTRING(D471:E471,\"#\")","v":{"$error":"#NAME?"}},{"$f":"[1]!SUMSTRING(F471:G471,\"#\")","v":{"$error":"#NAME?"}},null,{"$f":"[1]!SUMSTRING(I471:J471,\"|\")","v":{"$error":"#NAME?"}}]
[11,6024,null,6024,3,5,495,null,{"$f":"[1]!SUMSTRING(D472:E472,\"#\")","v":{"$error":"#NAME?"}},{"$f":"[1]!SUMSTRING(F472:G472,\"#\")","v":{"$error":"#NAME?"}},null,{"$f":"[1]!SUMSTRING(I472:J472,\"|\")","v":{"$error":"#NAME?"}}]
[12,6024,null,6024,3,5,580,null,{"$f":"[1]!SUMSTRING(D473:E473,\"#\")","v":{"$error":"#NAME?"}},{"$f":"[1]!SUMSTRING(F473:G473,\"#\")","v":{"$error":"#NAME?"}},null,{"$f":"[1]!SUMSTRING(I473:J473,\"|\")","v":{"$error":"#NAME?"}}]
[13,6024,null,6024,3,5,665,null,{"$f":"[1]!SUMSTRING(D474:E474,\"#\")","v":{"$error":"#NAME?"}},{"$f":"[1]!SUMSTRING(F474:G474,\"#\")","v":{"$error":"#NAME?"}},null,{"$f":"[1]!SUMSTRING(I474:J474,\"|\")","v":{"$error":"#NAME?"}}]
[14,6024,null,6024,4,5,760,null,{"$f":"[1]!SUMSTRING(D475:E475,\"#\")","v":{"$error":"#NAME?"}},{"$f":"[1]!SUMSTRING(F475:G475,\"#\")","v":{"$error":"#NAME?"}},null,{"$f":"[1]!SUMSTRING(I475:J475,\"|\")","v":{"$error":"#NAME?"}}]
[15,6024,null,6024,5,5,855,null,{"$f":"[1]!SUMSTRING(D476:E476,\"#\")","v":{"$error":"#NAME?"}},{"$f":"[1]!SUMSTRING(F476:G476,\"#\")","v":{"$error":"#NAME?"}},null,{"$f":"[1]!SUMSTRING(I476:J476,\"|\")","v":{"$error":"#NAME?"}}]
[16,6024,null,6024,6,5,960,null,{"$f":"[1]!SUMSTRING(D477:E477,\"#\")","v":{"$error":"#NAME?"}},{"$f":"[1]!SUMSTRING(F477:G477,\"#\")","v":{"$error":"#NAME?"}},null,{"$f":"[1]!SUMSTRING(I477:J477,\"|\")","v":{"$error":"#NAME?"}}]
[17,6024,null,6024,8,5,1075,null,{"$f":"[1]!SUMSTRING(D478:E478,\"#\")","v":{"$error":"#NAME?"}},{"$f":"[1]!SUMSTRING(F478:G478,\"#\")","v":{"$error":"#NAME?"}},null,{"$f":"[1]!SUMSTRING(I478:J478,\"|\")","v":{"$error":"#NAME?"}}]
[18,6024,null,6024,10,5,1190,null,{"$f":"[1]!SUMSTRING(D479:E479,\"#\")","v":{"$error":"#NAME?"}},{"$f":"[1]!SUMSTRING(F479:G479,\"#\")","v":{"$error":"#NAME?"}},null,{"$f":"[1]!SUMSTRING(I479:J479,\"|\")","v":{"$error":"#NAME?"}}]
[19,6024,null,6024,21,5,1315,null,{"$f":"[1]!SUMSTRING(D480:E480,\"#\")","v":{"$error":"#NAME?"}},{"$f":"[1]!SUMSTRING(F480:G480,\"#\")","v":{"$error":"#NAME?"}},null,{"$f":"[1]!SUMSTRING(I480:J480,\"|\")","v":{"$error":"#NAME?"}}]
[20,6024,null,6024,30,5,1440,null,{"$f":"[1]!SUMSTRING(D481:E481,\"#\")","v":{"$error":"#NAME?"}},{"$f":"[1]!SUMSTRING(F481:G481,\"#\")","v":{"$error":"#NAME?"}},null,{"$f":"[1]!SUMSTRING(I481:J481,\"|\")","v":{"$error":"#NAME?"}}]
[1,6025,null,6025,1,5,0,null,{"$f":"[1]!SUMSTRING(D482:E482,\"#\")","v":{"$error":"#NAME?"}},{"$f":"[1]!SUMSTRING(F482:G482,\"#\")","v":{"$error":"#NAME?"}},null,{"$f":"[1]!SUMSTRING(I482:J482,\"|\")","v":{"$error":"#NAME?"}}]
[2,6025,null,6025,1,5,40,null,{"$f":"[1]!SUMSTRING(D483:E483,\"#\")","v":{"$error":"#NAME?"}},{"$f":"[1]!SUMSTRING(F483:G483,\"#\")","v":{"$error":"#NAME?"}},null,{"$f":"[1]!SUMSTRING(I483:J483,\"|\")","v":{"$error":"#NAME?"}}]
[3,6025,null,6025,1,5,65,null,{"$f":"[1]!SUMSTRING(D484:E484,\"#\")","v":{"$error":"#NAME?"}},{"$f":"[1]!SUMSTRING(F484:G484,\"#\")","v":{"$error":"#NAME?"}},null,{"$f":"[1]!SUMSTRING(I484:J484,\"|\")","v":{"$error":"#NAME?"}}]
[4,6025,null,6025,1,5,100,null,{"$f":"[1]!SUMSTRING(D485:E485,\"#\")","v":{"$error":"#NAME?"}},{"$f":"[1]!SUMSTRING(F485:G485,\"#\")","v":{"$error":"#NAME?"}},null,{"$f":"[1]!SUMSTRING(I485:J485,\"|\")","v":{"$error":"#NAME?"}}]
[5,6025,null,6025,2,5,135,null,{"$f":"[1]!SUMSTRING(D486:E486,\"#\")","v":{"$error":"#NAME?"}},{"$f":"[1]!SUMSTRING(F486:G486,\"#\")","v":{"$error":"#NAME?"}},null,{"$f":"[1]!SUMSTRING(I486:J486,\"|\")","v":{"$error":"#NAME?"}}]
[6,6025,null,6025,2,5,180,null,{"$f":"[1]!SUMSTRING(D487:E487,\"#\")","v":{"$error":"#NAME?"}},{"$f":"[1]!SUMSTRING(F487:G487,\"#\")","v":{"$error":"#NAME?"}},null,{"$f":"[1]!SUMSTRING(I487:J487,\"|\")","v":{"$error":"#NAME?"}}]
[7,6025,null,6025,2,5,235,null,{"$f":"[1]!SUMSTRING(D488:E488,\"#\")","v":{"$error":"#NAME?"}},{"$f":"[1]!SUMSTRING(F488:G488,\"#\")","v":{"$error":"#NAME?"}},null,{"$f":"[1]!SUMSTRING(I488:J488,\"|\")","v":{"$error":"#NAME?"}}]
[8,6025,null,6025,3,5,290,null,{"$f":"[1]!SUMSTRING(D489:E489,\"#\")","v":{"$error":"#NAME?"}},{"$f":"[1]!SUMSTRING(F489:G489,\"#\")","v":{"$error":"#NAME?"}},null,{"$f":"[1]!SUMSTRING(I489:J489,\"|\")","v":{"$error":"#NAME?"}}]
[9,6025,null,6025,3,5,355,null,{"$f":"[1]!SUMSTRING(D490:E490,\"#\")","v":{"$error":"#NAME?"}},{"$f":"[1]!SUMSTRING(F490:G490,\"#\")","v":{"$error":"#NAME?"}},null,{"$f":"[1]!SUMSTRING(I490:J490,\"|\")","v":{"$error":"#NAME?"}}]
[10,6025,null,6025,3,5,420,null,{"$f":"[1]!SUMSTRING(D491:E491,\"#\")","v":{"$error":"#NAME?"}},{"$f":"[1]!SUMSTRING(F491:G491,\"#\")","v":{"$error":"#NAME?"}},null,{"$f":"[1]!SUMSTRING(I491:J491,\"|\")","v":{"$error":"#NAME?"}}]
[11,6025,null,6025,3,5,495,null,{"$f":"[1]!SUMSTRING(D492:E492,\"#\")","v":{"$error":"#NAME?"}},{"$f":"[1]!SUMSTRING(F492:G492,\"#\")","v":{"$error":"#NAME?"}},null,{"$f":"[1]!SUMSTRING(I492:J492,\"|\")","v":{"$error":"#NAME?"}}]
[12,6025,null,6025,3,5,580,null,{"$f":"[1]!SUMSTRING(D493:E493,\"#\")","v":{"$error":"#NAME?"}},{"$f":"[1]!SUMSTRING(F493:G493,\"#\")","v":{"$error":"#NAME?"}},null,{"$f":"[1]!SUMSTRING(I493:J493,\"|\")","v":{"$error":"#NAME?"}}]
[13,6025,null,6025,3,5,665,null,{"$f":"[1]!SUMSTRING(D494:E494,\"#\")","v":{"$error":"#NAME?"}},{"$f":"[1]!SUMSTRING(F494:G494,\"#\")","v":{"$error":"#NAME?"}},null,{"$f":"[1]!SUMSTRING(I494:J494,\"|\")","v":{"$error":"#NAME?"}}]
[14,6025,null,6025,4,5,760,null,{"$f":"[1]!SUMSTRING(D495:E495,\"#\")","v":{"$error":"#NAME?"}},{"$f":"[1]!SUMSTRING(F495:G495,\"#\")","v":{"$error":"#NAME?"}},null,{"$f":"[1]!SUMSTRING(I495:J495,\"|\")","v":{"$error":"#NAME?"}}]
[15,6025,null,6025,5,5,855,null,{"$f":"[1]!SUMSTRING(D496:E496,\"#\")","v":{"$error":"#NAME?"}},{"$f":"[1]!SUMSTRING(F496:G496,\"#\")","v":{"$error":"#NAME?"}},null,{"$f":"[1]!SUMSTRING(I496:J496,\"|\")","v":{"$error":"#NAME?"}}]
[16,6025,null,6025,6,5,960,null,{"$f":"[1]!SUMSTRING(D497:E497,\"#\")","v":{"$error":"#NAME?"}},{"$f":"[1]!SUMSTRING(F497:G497,\"#\")","v":{"$error":"#NAME?"}},null,{"$f":"[1]!SUMSTRING(I497:J497,\"|\")","v":{"$error":"#NAME?"}}]
[17,6025,null,6025,8,5,1075,null,{"$f":"[1]!SUMSTRING(D498:E498,\"#\")","v":{"$error":"#NAME?"}},{"$f":"[1]!SUMSTRING(F498:G498,\"#\")","v":{"$error":"#NAME?"}},null,{"$f":"[1]!SUMSTRING(I498:J498,\"|\")","v":{"$error":"#NAME?"}}]
[18,6025,null,6025,10,5,1190,null,{"$f":"[1]!SUMSTRING(D499:E499,\"#\")","v":{"$error":"#NAME?"}},{"$f":"[1]!SUMSTRING(F499:G499,\"#\")","v":{"$error":"#NAME?"}},null,{"$f":"[1]!SUMSTRING(I499:J499,\"|\")","v":{"$error":"#NAME?"}}]
[19,6025,null,6025,21,5,1315,null,{"$f":"[1]!SUMSTRING(D500:E500,\"#\")","v":{"$error":"#NAME?"}},{"$f":"[1]!SUMSTRING(F500:G500,\"#\")","v":{"$error":"#NAME?"}},null,{"$f":"[1]!SUMSTRING(I500:J500,\"|\")","v":{"$error":"#NAME?"}}]
[20,6025,null,6025,30,5,1440,null,{"$f":"[1]!SUMSTRING(D501:E501,\"#\")","v":{"$error":"#NAME?"}},{"$f":"[1]!SUMSTRING(F501:G501,\"#\")","v":{"$error":"#NAME?"}},null,{"$f":"[1]!SUMSTRING(I501:J501,\"|\")","v":{"$error":"#NAME?"}}]
[1,6026,null,6026,1,5,0,null,{"$f":"[1]!SUMSTRING(D502:E502,\"#\")","v":{"$error":"#NAME?"}},{"$f":"[1]!SUMSTRING(F502:G502,\"#\")","v":{"$error":"#NAME?"}},null,{"$f":"[1]!SUMSTRING(I502:J502,\"|\")","v":{"$error":"#NAME?"}}]
[2,6026,null,6026,1,5,40,null,{"$f":"[1]!SUMSTRING(D503:E503,\"#\")","v":{"$error":"#NAME?"}},{"$f":"[1]!SUMSTRING(F503:G503,\"#\")","v":{"$error":"#NAME?"}},null,{"$f":"[1]!SUMSTRING(I503:J503,\"|\")","v":{"$error":"#NAME?"}}]
[3,6026,null,6026,1,5,65,null,{"$f":"[1]!SUMSTRING(D504:E504,\"#\")","v":{"$error":"#NAME?"}},{"$f":"[1]!SUMSTRING(F504:G504,\"#\")","v":{"$error":"#NAME?"}},null,{"$f":"[1]!SUMSTRING(I504:J504,\"|\")","v":{"$error":"#NAME?"}}]
[4,6026,null,6026,1,5,100,null,{"$f":"[1]!SUMSTRING(D505:E505,\"#\")","v":{"$error":"#NAME?"}},{"$f":"[1]!SUMSTRING(F505:G505,\"#\")","v":{"$error":"#NAME?"}},null,{"$f":"[1]!SUMSTRING(I505:J505,\"|\")","v":{"$error":"#NAME?"}}]
[5,6026,null,6026,2,5,135,null,{"$f":"[1]!SUMSTRING(D506:E506,\"#\")","v":{"$error":"#NAME?"}},{"$f":"[1]!SUMSTRING(F506:G506,\"#\")","v":{"$error":"#NAME?"}},null,{"$f":"[1]!SUMSTRING(I506:J506,\"|\")","v":{"$error":"#NAME?"}}]
[6,6026,null,6026,2,5,180,null,{"$f":"[1]!SUMSTRING(D507:E507,\"#\")","v":{"$error":"#NAME?"}},{"$f":"[1]!SUMSTRING(F507:G507,\"#\")","v":{"$error":"#NAME?"}},null,{"$f":"[1]!SUMSTRING(I507:J507,\"|\")","v":{"$error":"#NAME?"}}]
[7,6026,null,6026,2,5,235,null,{"$f":"[1]!SUMSTRING(D508:E508,\"#\")","v":{"$error":"#NAME?"}},{"$f":"[1]!SUMSTRING(F508:G508,\"#\")","v":{"$error":"#NAME?"}},null,{"$f":"[1]!SUMSTRING(I508:J508,\"|\")","v":{"$error":"#NAME?"}}]
[8,6026,null,6026,3,5,290,null,{"$f":"[1]!SUMSTRING(D509:E509,\"#\")","v":{"$error":"#NAME?"}},{"$f":"[1]!SUMSTRING(F509:G509,\"#\")","v":{"$error":"#NAME?"}},null,{"$f":"[1]!SUMSTRING(I509:J509,\"|\")","v":{"$error":"#NAME?"}}]
[9,6026,null,6026,3,5,355,null,{"$f":"[1]!SUMSTRING(D510:E510,\"#\")","v":{"$error":"#NAME?"}},{"$f":"[1]!SUMSTRING(F510:G510,\"#\")","v":{"$error":"#NAME?"}},null,{"$f":"[1]!SUMSTRING(I510:J510,\"|\")","v":{"$error":"#NAME?"}}]
[10,6026,null,6026,3,5,420,null,{"$f":"[1]!SUMSTRING(D511:E511,\"#\")","v":{"$error":"#NAME?"}},{"$f":"[1]!SUMSTRING(F511:G511,\"#\")","v":{"$error":"#NAME?"}},null,{"$f":"[1]!SUMSTRING(I511:J511,\"|\")","v":{"$error":"#NAME?"}}]
[11,6026,null,6026,3,5,495,null,{"$f":"[1]!SUMSTRING(D512:E512,\"#\")","v":{"$error":"#NAME?"}},{"$f":"[1]!SUMSTRING(F512:G512,\"#\")","v":{"$error":"#NAME?"}},null,{"$f":"[1]!SUMSTRING(I512:J512,\"|\")","v":{"$error":"#NAME?"}}]
[12,6026,null,6026,3,5,580,null,{"$f":"[1]!SUMSTRING(D513:E513,\"#\")","v":{"$error":"#NAME?"}},{"$f":"[1]!SUMSTRING(F513:G513,\"#\")","v":{"$error":"#NAME?"}},null,{"$f":"[1]!SUMSTRING(I513:J513,\"|\")","v":{"$error":"#NAME?"}}]
[13,6026,null,6026,3,5,665,null,{"$f":"[1]!SUMSTRING(D514:E514,\"#\")","v":{"$error":"#NAME?"}},{"$f":"[1]!SUMSTRING(F514:G514,\"#\")","v":{"$error":"#NAME?"}},null,{"$f":"[1]!SUMSTRING(I514:J514,\"|\")","v":{"$error":"#NAME?"}}]
[14,6026,null,{"$f":"B515","v":6026},4,5,{"$f":"G495","v":760},null,{"$f":"[1]!SUMSTRING(D515:E515,\"#\")","v":{"$error":"#NAME?"}},{"$f":"[1]!SUMSTRING(F515:G515,\"#\")","v":{"$error":"#NAME?"}},null,{"$f":"[1]!SUMSTRING(I515:J515,\"|\")","v":{"$error":"#NAME?"}}]
[15,6026,null,6026,5,5,855,null,{"$f":"[1]!SUMSTRING(D516:E516,\"#\")","v":{"$error":"#NAME?"}},{"$f":"[1]!SUMSTRING(F516:G516,\"#\")","v":{"$error":"#NAME?"}},null,{"$f":"[1]!SUMSTRING(I516:J516,\"|\")","v":{"$error":"#NAME?"}}]
[16,6026,null,6026,6,5,960,null,{"$f":"[1]!SUMSTRING(D517:E517,\"#\")","v":{"$error":"#NAME?"}},{"$f":"[1]!SUMSTRING(F517:G517,\"#\")","v":{"$error":"#NAME?"}},null,{"$f":"[1]!SUMSTRING(I517:J517,\"|\")","v":{"$error":"#NAME?"}}]
[17,6026,null,6026,8,5,1075,null,{"$f":"[1]!SUMSTRING(D518:E518,\"#\")","v":{"$error":"#NAME?"}},{"$f":"[1]!SUMSTRING(F518:G518,\"#\")","v":{"$error":"#NAME?"}},null,{"$f":"[1]!SUMSTRING(I518:J518,\"|\")","v":{"$error":"#NAME?"}}]
[18,6026,null,6026,10,5,1190,null,{"$f":"[1]!SUMSTRING(D519:E519,\"#\")","v":{"$error":"#NAME?"}},{"$f":"[1]!SUMSTRING(F519:G519,\"#\")","v":{"$error":"#NAME?"}},null,{"$f":"[1]!SUMSTRING(I519:J519,\"|\")","v":{"$error":"#NAME?"}}]
[19,6026,null,6026,21,5,1315,null,{"$f":"[1]!SUMSTRING(D520:E520,\"#\")","v":{"$error":"#NAME?"}},{"$f":"[1]!SUMSTRING(F520:G520,\"#\")","v":{"$error":"#NAME?"}},null,{"$f":"[1]!SUMSTRING(I520:J520,\"|\")","v":{"$error":"#NAME?"}}]
[20,6026,null,6026,30,5,1440,null,{"$f":"[1]!SUMSTRING(D521:E521,\"#\")","v":{"$error":"#NAME?"}},{"$f":"[1]!SUMSTRING(F521:G521,\"#\")","v":{"$error":"#NAME?"}},null,{"$f":"[1]!SUMSTRING(I521:J521,\"|\")","v":{"$error":"#NAME?"}}]
[1,6027,null,6027,1,5,0,null,{"$f":"[1]!SUMSTRING(D522:E522,\"#\")","v":{"$error":"#NAME?"}},{"$f":"[1]!SUMSTRING(F522:G522,\"#\")","v":{"$error":"#NAME?"}},null,{"$f":"[1]!SUMSTRING(I522:J522,\"|\")","v":{"$error":"#NAME?"}}]
[2,6027,null,6027,1,5,40,null,{"$f":"[1]!SUMSTRING(D523:E523,\"#\")","v":{"$error":"#NAME?"}},{"$f":"[1]!SUMSTRING(F523:G523,\"#\")","v":{"$error":"#NAME?"}},null,{"$f":"[1]!SUMSTRING(I523:J523,\"|\")","v":{"$error":"#NAME?"}}]
[3,6027,null,6027,1,5,65,null,{"$f":"[1]!SUMSTRING(D524:E524,\"#\")","v":{"$error":"#NAME?"}},{"$f":"[1]!SUMSTRING(F524:G524,\"#\")","v":{"$error":"#NAME?"}},null,{"$f":"[1]!SUMSTRING(I524:J524,\"|\")","v":{"$error":"#NAME?"}}]
[4,6027,null,6027,1,5,100,null,{"$f":"[1]!SUMSTRING(D525:E525,\"#\")","v":{"$error":"#NAME?"}},{"$f":"[1]!SUMSTRING(F525:G525,\"#\")","v":{"$error":"#NAME?"}},null,{"$f":"[1]!SUMSTRING(I525:J525,\"|\")","v":{"$error":"#NAME?"}}]
[5,6027,null,6027,2,5,135,null,{"$f":"[1]!SUMSTRING(D526:E526,\"#\")","v":{"$error":"#NAME?"}},{"$f":"[1]!SUMSTRING(F526:G526,\"#\")","v":{"$error":"#NAME?"}},null,{"$f":"[1]!SUMSTRING(I526:J526,\"|\")","v":{"$error":"#NAME?"}}]
[6,6027,null,6027,2,5,180,null,{"$f":"[1]!SUMSTRING(D527:E527,\"#\")","v":{"$error":"#NAME?"}},{"$f":"[1]!SUMSTRING(F527:G527,\"#\")","v":{"$error":"#NAME?"}},null,{"$f":"[1]!SUMSTRING(I527:J527,\"|\")","v":{"$error":"#NAME?"}}]
[7,6027,null,6027,2,5,235,null,{"$f":"[1]!SUMSTRING(D528:E528,\"#\")","v":{"$error":"#NAME?"}},{"$f":"[1]!SUMSTRING(F528:G528,\"#\")","v":{"$error":"#NAME?"}},null,{"$f":"[1]!SUMSTRING(I528:J528,\"|\")","v":{"$error":"#NAME?"}}]
[8,6027,null,6027,3,5,290,null,{"$f":"[1]!SUMSTRING(D529:E529,\"#\")","v":{"$error":"#NAME?"}},{"$f":"[1]!SUMSTRING(F529:G529,\"#\")","v":{"$error":"#NAME?"}},null,{"$f":"[1]!SUMSTRING(I529:J529,\"|\")","v":{"$error":"#NAME?"}}]
[9,6027,null,6027,3,5,355,null,{"$f":"[1]!SUMSTRING(D530:E530,\"#\")","v":{"$error":"#NAME?"}},{"$f":"[1]!SUMSTRING(F530:G530,\"#\")","v":{"$error":"#NAME?"}},null,{"$f":"[1]!SUMSTRING(I530:J530,\"|\")","v":{"$error":"#NAME?"}}]
[10,6027,null,6027,3,5,420,null,{"$f":"[1]!SUMSTRING(D531:E531,\"#\")","v":{"$error":"#NAME?"}},{"$f":"[1]!SUMSTRING(F531:G531,\"#\")","v":{"$error":"#NAME?"}},null,{"$f":"[1]!SUMSTRING(I531:J531,\"|\")","v":{"$error":"#NAME?"}}]
[11,6027,null,6027,3,5,495,null,{"$f":"[1]!SUMSTRING(D532:E532,\"#\")","v":{"$error":"#NAME?"}},{"$f":"[1]!SUMSTRING(F532:G532,\"#\")","v":{"$error":"#NAME?"}},null,{"$f":"[1]!SUMSTRING(I532:J532,\"|\")","v":{"$error":"#NAME?"}}]
[12,6027,null,6027,3,5,580,null,{"$f":"[1]!SUMSTRING(D533:E533,\"#\")","v":{"$error":"#NAME?"}},{"$f":"[1]!SUMSTRING(F533:G533,\"#\")","v":{"$error":"#NAME?"}},null,{"$f":"[1]!SUMSTRING(I533:J533,\"|\")","v":{"$error":"#NAME?"}}]
[13,6027,null,6027,3,5,665,null,{"$f":"[1]!SUMSTRING(D534:E534,\"#\")","v":{"$error":"#NAME?"}},{"$f":"[1]!SUMSTRING(F534:G534,\"#\")","v":{"$error":"#NAME?"}},null,{"$f":"[1]!SUMSTRING(I534:J534,\"|\")","v":{"$error":"#NAME?"}}]
[{"$f":"A515","v":14},{"$f":"B515+1","v":6027},null,6027,{"$f":"E515","v":4},5,760,null,{"$f":"[1]!SUMSTRING(D535:E535,\"#\")","v":{"$error":"#NAME?"}},{"$f":"[1]!SUMSTRING(F535:G535,\"#\")","v":{"$error":"#NAME?"}},null,{"$f":"[1]!SUMSTRING(I535:J535,\"|\")","v":{"$error":"#NAME?"}}]
[15,6027,null,6027,5,5,855,null,{"$f":"[1]!SUMSTRING(D536:E536,\"#\")","v":{"$error":"#NAME?"}},{"$f":"[1]!SUMSTRING(F536:G536,\"#\")","v":{"$error":"#NAME?"}},null,{"$f":"[1]!SUMSTRING(I536:J536,\"|\")","v":{"$error":"#NAME?"}}]
[16,6027,null,6027,6,5,960,null,{"$f":"[1]!SUMSTRING(D537:E537,\"#\")","v":{"$error":"#NAME?"}},{"$f":"[1]!SUMSTRING(F537:G537,\"#\")","v":{"$error":"#NAME?"}},null,{"$f":"[1]!SUMSTRING(I537:J537,\"|\")","v":{"$error":"#NAME?"}}]
[17,6027,null,6027,8,5,1075,null,{"$f":"[1]!SUMSTRING(D538:E538,\"#\")","v":{"$error":"#NAME?"}},{"$f":"[1]!SUMSTRING(F538:G538,\"#\")","v":{"$error":"#NAME?"}},null,{"$f":"[1]!SUMSTRING(I538:J538,\"|\")","v":{"$error":"#NAME?"}}]
[18,6027,null,6027,10,5,1190,null,{"$f":"[1]!SUMSTRING(D539:E539,\"#\")","v":{"$error":"#NAME?"}},{"$f":"[1]!SUMSTRING(F539:G539,\"#\")","v":{"$error":"#NAME?"}},null,{"$f":"[1]!SUMSTRING(I539:J539,\"|\")","v":{"$error":"#NAME?"}}]
[19,6027,null,6027,21,5,1315,null,{"$f":"[1]!SUMSTRING(D540:E540,\"#\")","v":{"$error":"#NAME?"}},{"$f":"[1]!SUMSTRING(F540:G540,\"#\")","v":{"$error":"#NAME?"}},null,{"$f":"[1]!SUMSTRING(I540:J540,\"|\")","v":{"$error":"#NAME?"}}]
[20,6027,null,6027,30,5,1440,null,{"$f":"[1]!SUMSTRING(D541:E541,\"#\")","v":{"$error":"#NAME?"}},{"$f":"[1]!SUMSTRING(F541:G541,\"#\")","v":{"$error":"#NAME?"}},null,{"$f":"[1]!SUMSTRING(I541:J541,\"|\")","v":{"$error":"#NAME?"}}]
[1,6028,null,6028,1,5,0,null,{"$f":"[1]!SUMSTRING(D542:E542,\"#\")","v":{"$error":"#NAME?"}},{"$f":"[1]!SUMSTRING(F542:G542,\"#\")","v":{"$error":"#NAME?"}},null,{"$f":"[1]!SUMSTRING(I542:J542,\"|\")","v":{"$error":"#NAME?"}}]
[2,6028,null,6028,1,5,40,null,{"$f":"[1]!SUMSTRING(D543:E543,\"#\")","v":{"$error":"#NAME?"}},{"$f":"[1]!SUMSTRING(F543:G543,\"#\")","v":{"$error":"#NAME?"}},null,{"$f":"[1]!SUMSTRING(I543:J543,\"|\")","v":{"$error":"#NAME?"}}]
[3,6028,null,6028,1,5,65,null,{"$f":"[1]!SUMSTRING(D544:E544,\"#\")","v":{"$error":"#NAME?"}},{"$f":"[1]!SUMSTRING(F544:G544,\"#\")","v":{"$error":"#NAME?"}},null,{"$f":"[1]!SUMSTRING(I544:J544,\"|\")","v":{"$error":"#NAME?"}}]
[4,6028,null,6028,1,5,100,null,{"$f":"[1]!SUMSTRING(D545:E545,\"#\")","v":{"$error":"#NAME?"}},{"$f":"[1]!SUMSTRING(F545:G545,\"#\")","v":{"$error":"#NAME?"}},null,{"$f":"[1]!SUMSTRING(I545:J545,\"|\")","v":{"$error":"#NAME?"}}]
[5,6028,null,6028,2,5,135,null,{"$f":"[1]!SUMSTRING(D546:E546,\"#\")","v":{"$error":"#NAME?"}},{"$f":"[1]!SUMSTRING(F546:G546,\"#\")","v":{"$error":"#NAME?"}},null,{"$f":"[1]!SUMSTRING(I546:J546,\"|\")","v":{"$error":"#NAME?"}}]
[6,6028,null,6028,2,5,180,null,{"$f":"[1]!SUMSTRING(D547:E547,\"#\")","v":{"$error":"#NAME?"}},{"$f":"[1]!SUMSTRING(F547:G547,\"#\")","v":{"$error":"#NAME?"}},null,{"$f":"[1]!SUMSTRING(I547:J547,\"|\")","v":{"$error":"#NAME?"}}]
[7,6028,null,6028,2,5,235,null,{"$f":"[1]!SUMSTRING(D548:E548,\"#\")","v":{"$error":"#NAME?"}},{"$f":"[1]!SUMSTRING(F548:G548,\"#\")","v":{"$error":"#NAME?"}},null,{"$f":"[1]!SUMSTRING(I548:J548,\"|\")","v":{"$error":"#NAME?"}}]
[8,6028,null,6028,3,5,290,null,{"$f":"[1]!SUMSTRING(D549:E549,\"#\")","v":{"$error":"#NAME?"}},{"$f":"[1]!SUMSTRING(F549:G549,\"#\")","v":{"$error":"#NAME?"}},null,{"$f":"[1]!SUMSTRING(I549:J549,\"|\")","v":{"$error":"#NAME?"}}]
[9,6028,null,6028,3,5,355,null,{"$f":"[1]!SUMSTRING(D550:E550,\"#\")","v":{"$error":"#NAME?"}},{"$f":"[1]!SUMSTRING(F550:G550,\"#\")","v":{"$error":"#NAME?"}},null,{"$f":"[1]!SUMSTRING(I550:J550,\"|\")","v":{"$error":"#NAME?"}}]
[10,6028,null,6028,3,5,420,null,{"$f":"[1]!SUMSTRING(D551:E551,\"#\")","v":{"$error":"#NAME?"}},{"$f":"[1]!SUMSTRING(F551:G551,\"#\")","v":{"$error":"#NAME?"}},null,{"$f":"[1]!SUMSTRING(I551:J551,\"|\")","v":{"$error":"#NAME?"}}]
[11,6028,null,6028,3,5,495,null,{"$f":"[1]!SUMSTRING(D552:E552,\"#\")","v":{"$error":"#NAME?"}},{"$f":"[1]!SUMSTRING(F552:G552,\"#\")","v":{"$error":"#NAME?"}},null,{"$f":"[1]!SUMSTRING(I552:J552,\"|\")","v":{"$error":"#NAME?"}}]
[12,6028,null,6028,3,5,580,null,{"$f":"[1]!SUMSTRING(D553:E553,\"#\")","v":{"$error":"#NAME?"}},{"$f":"[1]!SUMSTRING(F553:G553,\"#\")","v":{"$error":"#NAME?"}},null,{"$f":"[1]!SUMSTRING(I553:J553,\"|\")","v":{"$error":"#NAME?"}}]
[13,6028,null,6028,3,5,665,null,{"$f":"[1]!SUMSTRING(D554:E554,\"#\")","v":{"$error":"#NAME?"}},{"$f":"[1]!SUMSTRING(F554:G554,\"#\")","v":{"$error":"#NAME?"}},null,{"$f":"[1]!SUMSTRING(I554:J554,\"|\")","v":{"$error":"#NAME?"}}]
[14,6028,null,6028,4,5,760,null,{"$f":"[1]!SUMSTRING(D555:E555,\"#\")","v":{"$error":"#NAME?"}},{"$f":"[1]!SUMSTRING(F555:G555,\"#\")","v":{"$error":"#NAME?"}},null,{"$f":"[1]!SUMSTRING(I555:J555,\"|\")","v":{"$error":"#NAME?"}}]
[15,6028,null,6028,5,5,855,null,{"$f":"[1]!SUMSTRING(D556:E556,\"#\")","v":{"$error":"#NAME?"}},{"$f":"[1]!SUMSTRING(F556:G556,\"#\")","v":{"$error":"#NAME?"}},null,{"$f":"[1]!SUMSTRING(I556:J556,\"|\")","v":{"$error":"#NAME?"}}]
[16,6028,null,6028,6,5,960,null,{"$f":"[1]!SUMSTRING(D557:E557,\"#\")","v":{"$error":"#NAME?"}},{"$f":"[1]!SUMSTRING(F557:G557,\"#\")","v":{"$error":"#NAME?"}},null,{"$f":"[1]!SUMSTRING(I557:J557,\"|\")","v":{"$error":"#NAME?"}}]
[17,6028,null,6028,8,5,1075,null,{"$f":"[1]!SUMSTRING(D558:E558,\"#\")","v":{"$error":"#NAME?"}},{"$f":"[1]!SUMSTRING(F558:G558,\"#\")","v":{"$error":"#NAME?"}},null,{"$f":"[1]!SUMSTRING(I558:J558,\"|\")","v":{"$error":"#NAME?"}}]
[18,6028,null,6028,10,5,1190,null,{"$f":"[1]!SUMSTRING(D559:E559,\"#\")","v":{"$error":"#NAME?"}},{"$f":"[1]!SUMSTRING(F559:G559,\"#\")","v":{"$error":"#NAME?"}},null,{"$f":"[1]!SUMSTRING(I559:J559,\"|\")","v":{"$error":"#NAME?"}}]
[19,6028,null,6028,21,5,1315,null,{"$f":"[1]!SUMSTRING(D560:E560,\"#\")","v":{"$error":"#NAME?"}},{"$f":"[1]!SUMSTRING(F560:G560,\"#\")","v":{"$error":"#NAME?"}},null,{"$f":"[1]!SUMSTRING(I560:J560,\"|\")","v":{"$error":"#NAME?"}}]
[20,6028,null,6028,30,5,1440,null,{"$f":"[1]!SUMSTRING(D561:E561,\"#\")","v":{"$error":"#NAME?"}},{"$f":"[1]!SUMSTRING(F561:G561,\"#\")","v":{"$error":"#NAME?"}},null,{"$f":"[1]!SUMSTRING(I561:J561,\"|\")","v":{"$error":"#NAME?"}}]
[1,6029,null,6029,1,5,0,null,{"$f":"[1]!SUMSTRING(D562:E562,\"#\")","v":{"$error":"#NAME?"}},{"$f":"[1]!SUMSTRING(F562:G562,\"#\")","v":{"$error":"#NAME?"}},null,{"$f":"[1]!SUMSTRING(I562:J562,\"|\")","v":{"$error":"#NAME?"}}]
[2,6029,null,6029,1,5,40,null,{"$f":"[1]!SUMSTRING(D563:E563,\"#\")","v":{"$error":"#NAME?"}},{"$f":"[1]!SUMSTRING(F563:G563,\"#\")","v":{"$error":"#NAME?"}},null,{"$f":"[1]!SUMSTRING(I563:J563,\"|\")","v":{"$error":"#NAME?"}}]
[3,6029,null,6029,1,5,65,null,{"$f":"[1]!SUMSTRING(D564:E564,\"#\")","v":{"$error":"#NAME?"}},{"$f":"[1]!SUMSTRING(F564:G564,\"#\")","v":{"$error":"#NAME?"}},null,{"$f":"[1]!SUMSTRING(I564:J564,\"|\")","v":{"$error":"#NAME?"}}]
[4,6029,null,6029,1,5,100,null,{"$f":"[1]!SUMSTRING(D565:E565,\"#\")","v":{"$error":"#NAME?"}},{"$f":"[1]!SUMSTRING(F565:G565,\"#\")","v":{"$error":"#NAME?"}},null,{"$f":"[1]!SUMSTRING(I565:J565,\"|\")","v":{"$error":"#NAME?"}}]
[5,6029,null,6029,2,5,135,null,{"$f":"[1]!SUMSTRING(D566:E566,\"#\")","v":{"$error":"#NAME?"}},{"$f":"[1]!SUMSTRING(F566:G566,\"#\")","v":{"$error":"#NAME?"}},null,{"$f":"[1]!SUMSTRING(I566:J566,\"|\")","v":{"$error":"#NAME?"}}]
[6,6029,null,6029,2,5,180,null,{"$f":"[1]!SUMSTRING(D567:E567,\"#\")","v":{"$error":"#NAME?"}},{"$f":"[1]!SUMSTRING(F567:G567,\"#\")","v":{"$error":"#NAME?"}},null,{"$f":"[1]!SUMSTRING(I567:J567,\"|\")","v":{"$error":"#NAME?"}}]
[7,6029,null,6029,2,5,235,null,{"$f":"[1]!SUMSTRING(D568:E568,\"#\")","v":{"$error":"#NAME?"}},{"$f":"[1]!SUMSTRING(F568:G568,\"#\")","v":{"$error":"#NAME?"}},null,{"$f":"[1]!SUMSTRING(I568:J568,\"|\")","v":{"$error":"#NAME?"}}]
[8,6029,null,6029,3,5,290,null,{"$f":"[1]!SUMSTRING(D569:E569,\"#\")","v":{"$error":"#NAME?"}},{"$f":"[1]!SUMSTRING(F569:G569,\"#\")","v":{"$error":"#NAME?"}},null,{"$f":"[1]!SUMSTRING(I569:J569,\"|\")","v":{"$error":"#NAME?"}}]
[9,6029,null,6029,3,5,355,null,{"$f":"[1]!SUMSTRING(D570:E570,\"#\")","v":{"$error":"#NAME?"}},{"$f":"[1]!SUMSTRING(F570:G570,\"#\")","v":{"$error":"#NAME?"}},null,{"$f":"[1]!SUMSTRING(I570:J570,\"|\")","v":{"$error":"#NAME?"}}]
[10,6029,null,6029,3,5,420,null,{"$f":"[1]!SUMSTRING(D571:E571,\"#\")","v":{"$error":"#NAME?"}},{"$f":"[1]!SUMSTRING(F571:G571,\"#\")","v":{"$error":"#NAME?"}},null,{"$f":"[1]!SUMSTRING(I571:J571,\"|\")","v":{"$error":"#NAME?"}}]
[11,6029,null,6029,3,5,495,null,{"$f":"[1]!SUMSTRING(D572:E572,\"#\")","v":{"$error":"#NAME?"}},{"$f":"[1]!SUMSTRING(F572:G572,\"#\")","v":{"$error":"#NAME?"}},null,{"$f":"[1]!SUMSTRING(I572:J572,\"|\")","v":{"$error":"#NAME?"}}]
[12,6029,null,6029,3,5,580,null,{"$f":"[1]!SUMSTRING(D573:E573,\"#\")","v":{"$error":"#NAME?"}},{"$f":"[1]!SUMSTRING(F573:G573,\"#\")","v":{"$error":"#NAME?"}},null,{"$f":"[1]!SUMSTRING(I573:J573,\"|\")","v":{"$error":"#NAME?"}}]
[13,6029,null,6029,3,5,665,null,{"$f":"[1]!SUMSTRING(D574:E574,\"#\")","v":{"$error":"#NAME?"}},{"$f":"[1]!SUMSTRING(F574:G574,\"#\")","v":{"$error":"#NAME?"}},null,{"$f":"[1]!SUMSTRING(I574:J574,\"|\")","v":{"$error":"#NAME?"}}]
[14,6029,null,6029,4,5,760,null,{"$f":"[1]!SUMSTRING(D575:E575,\"#\")","v":{"$error":"#NAME?"}},{"$f":"[1]!SUMSTRING(F575:G575,\"#\")","v":{"$error":"#NAME?"}},null,{"$f":"[1]!SUMSTRING(I575:J575,\"|\")","v":{"$error":"#NAME?"}}]
[15,6029,null,6029,5,5,855,null,{"$f":"[1]!SUMSTRING(D576:E576,\"#\")","v":{"$error":"#NAME?"}},{"$f":"[1]!SUMSTRING(F576:G576,\"#\")","v":{"$error":"#NAME?"}},null,{"$f":"[1]!SUMSTRING(I576:J576,\"|\")","v":{"$error":"#NAME?"}}]
[16,6029,null,6029,6,5,960,null,{"$f":"[1]!SUMSTRING(D577:E577,\"#\")","v":{"$error":"#NAME?"}},{"$f":"[1]!SUMSTRING(F577:G577,\"#\")","v":{"$error":"#NAME?"}},null,{"$f":"[1]!SUMSTRING(I577:J577,\"|\")","v":{"$error":"#NAME?"}}]
[17,6029,null,6029,8,5,1075,null,{"$f":"[1]!SUMSTRING(D578:E578,\"#\")","v":{"$error":"#NAME?"}},{"$f":"[1]!SUMSTRING(F578:G578,\"#\")","v":{"$error":"#NAME?"}},null,{"$f":"[1]!SUMSTRING(I578:J578,\"|\")","v":{"$error":"#NAME?"}}]
[18,6029,null,{"$f":"B579","v":6029},10,5,{"$f":"G559","v":1190},null,{"$f":"[1]!SUMSTRING(D579:E579,\"#\")","v":{"$error":"#NAME?"}},{"$f":"[1]!SUMSTRING(F579:G579,\"#\")","v":{"$error":"#NAME?"}},null,{"$f":"[1]!SUMSTRING(I579:J579,\"|\")","v":{"$error":"#NAME?"}}]
[19,6029,null,6029,21,5,1315,null,{"$f":"[1]!SUMSTRING(D580:E580,\"#\")","v":{"$error":"#NAME?"}},{"$f":"[1]!SUMSTRING(F580:G580,\"#\")","v":{"$error":"#NAME?"}},null,{"$f":"[1]!SUMSTRING(I580:J580,\"|\")","v":{"$error":"#NAME?"}}]
[20,6029,null,6029,30,5,1440,null,{"$f":"[1]!SUMSTRING(D581:E581,\"#\")","v":{"$error":"#NAME?"}},{"$f":"[1]!SUMSTRING(F581:G581,\"#\")","v":{"$error":"#NAME?"}},null,{"$f":"[1]!SUMSTRING(I581:J581,\"|\")","v":{"$error":"#NAME?"}}]
[1,6030,null,6030,1,5,0,null,{"$f":"[1]!SUMSTRING(D582:E582,\"#\")","v":{"$error":"#NAME?"}},{"$f":"[1]!SUMSTRING(F582:G582,\"#\")","v":{"$error":"#NAME?"}},null,{"$f":"[1]!SUMSTRING(I582:J582,\"|\")","v":{"$error":"#NAME?"}}]
[2,6030,null,6030,1,5,40,null,{"$f":"[1]!SUMSTRING(D583:E583,\"#\")","v":{"$error":"#NAME?"}},{"$f":"[1]!SUMSTRING(F583:G583,\"#\")","v":{"$error":"#NAME?"}},null,{"$f":"[1]!SUMSTRING(I583:J583,\"|\")","v":{"$error":"#NAME?"}}]
[3,6030,null,6030,1,5,65,null,{"$f":"[1]!SUMSTRING(D584:E584,\"#\")","v":{"$error":"#NAME?"}},{"$f":"[1]!SUMSTRING(F584:G584,\"#\")","v":{"$error":"#NAME?"}},null,{"$f":"[1]!SUMSTRING(I584:J584,\"|\")","v":{"$error":"#NAME?"}}]
[4,6030,null,6030,1,5,100,null,{"$f":"[1]!SUMSTRING(D585:E585,\"#\")","v":{"$error":"#NAME?"}},{"$f":"[1]!SUMSTRING(F585:G585,\"#\")","v":{"$error":"#NAME?"}},null,{"$f":"[1]!SUMSTRING(I585:J585,\"|\")","v":{"$error":"#NAME?"}}]
[5,6030,null,6030,2,5,135,null,{"$f":"[1]!SUMSTRING(D586:E586,\"#\")","v":{"$error":"#NAME?"}},{"$f":"[1]!SUMSTRING(F586:G586,\"#\")","v":{"$error":"#NAME?"}},null,{"$f":"[1]!SUMSTRING(I586:J586,\"|\")","v":{"$error":"#NAME?"}}]
[6,6030,null,6030,2,5,180,null,{"$f":"[1]!SUMSTRING(D587:E587,\"#\")","v":{"$error":"#NAME?"}},{"$f":"[1]!SUMSTRING(F587:G587,\"#\")","v":{"$error":"#NAME?"}},null,{"$f":"[1]!SUMSTRING(I587:J587,\"|\")","v":{"$error":"#NAME?"}}]
[7,6030,null,6030,2,5,235,null,{"$f":"[1]!SUMSTRING(D588:E588,\"#\")","v":{"$error":"#NAME?"}},{"$f":"[1]!SUMSTRING(F588:G588,\"#\")","v":{"$error":"#NAME?"}},null,{"$f":"[1]!SUMSTRING(I588:J588,\"|\")","v":{"$error":"#NAME?"}}]
[8,6030,null,6030,3,5,290,null,{"$f":"[1]!SUMSTRING(D589:E589,\"#\")","v":{"$error":"#NAME?"}},{"$f":"[1]!SUMSTRING(F589:G589,\"#\")","v":{"$error":"#NAME?"}},null,{"$f":"[1]!SUMSTRING(I589:J589,\"|\")","v":{"$error":"#NAME?"}}]
[9,6030,null,6030,3,5,355,null,{"$f":"[1]!SUMSTRING(D590:E590,\"#\")","v":{"$error":"#NAME?"}},{"$f":"[1]!SUMSTRING(F590:G590,\"#\")","v":{"$error":"#NAME?"}},null,{"$f":"[1]!SUMSTRING(I590:J590,\"|\")","v":{"$error":"#NAME?"}}]
[10,6030,null,6030,3,5,420,null,{"$f":"[1]!SUMSTRING(D591:E591,\"#\")","v":{"$error":"#NAME?"}},{"$f":"[1]!SUMSTRING(F591:G591,\"#\")","v":{"$error":"#NAME?"}},null,{"$f":"[1]!SUMSTRING(I591:J591,\"|\")","v":{"$error":"#NAME?"}}]
[11,6030,null,6030,3,5,495,null,{"$f":"[1]!SUMSTRING(D592:E592,\"#\")","v":{"$error":"#NAME?"}},{"$f":"[1]!SUMSTRING(F592:G592,\"#\")","v":{"$error":"#NAME?"}},null,{"$f":"[1]!SUMSTRING(I592:J592,\"|\")","v":{"$error":"#NAME?"}}]
[12,6030,null,6030,3,5,580,null,{"$f":"[1]!SUMSTRING(D593:E593,\"#\")","v":{"$error":"#NAME?"}},{"$f":"[1]!SUMSTRING(F593:G593,\"#\")","v":{"$error":"#NAME?"}},null,{"$f":"[1]!SUMSTRING(I593:J593,\"|\")","v":{"$error":"#NAME?"}}]
[13,6030,null,6030,3,5,665,null,{"$f":"[1]!SUMSTRING(D594:E594,\"#\")","v":{"$error":"#NAME?"}},{"$f":"[1]!SUMSTRING(F594:G594,\"#\")","v":{"$error":"#NAME?"}},null,{"$f":"[1]!SUMSTRING(I594:J594,\"|\")","v":{"$error":"#NAME?"}}]
[14,6030,null,6030,4,5,760,null,{"$f":"[1]!SUMSTRING(D595:E595,\"#\")","v":{"$error":"#NAME?"}},{"$f":"[1]!SUMSTRING(F595:G595,\"#\")","v":{"$error":"#NAME?"}},null,{"$f":"[1]!SUMSTRING(I595:J595,\"|\")","v":{"$error":"#NAME?"}}]
[15,6030,null,6030,5,5,855,null,{"$f":"[1]!SUMSTRING(D596:E596,\"#\")","v":{"$error":"#NAME?"}},{"$f":"[1]!SUMSTRING(F596:G596,\"#\")","v":{"$error":"#NAME?"}},null,{"$f":"[1]!SUMSTRING(I596:J596,\"|\")","v":{"$error":"#NAME?"}}]
[16,6030,null,6030,6,5,960,null,{"$f":"[1]!SUMSTRING(D597:E597,\"#\")","v":{"$error":"#NAME?"}},{"$f":"[1]!SUMSTRING(F597:G597,\"#\")","v":{"$error":"#NAME?"}},null,{"$f":"[1]!SUMSTRING(I597:J597,\"|\")","v":{"$error":"#NAME?"}}]
[17,6030,null,6030,8,5,1075,null,{"$f":"[1]!SUMSTRING(D598:E598,\"#\")","v":{"$error":"#NAME?"}},{"$f":"[1]!SUMSTRING(F598:G598,\"#\")","v":{"$error":"#NAME?"}},null,{"$f":"[1]!SUMSTRING(I598:J598,\"|\")","v":{"$error":"#NAME?"}}]
[{"$f":"A579","v":18},{"$f":"B579+1","v":6030},null,6030,{"$f":"E579","v":10},5,1190,null,{"$f":"[1]!SUMSTRING(D599:E599,\"#\")","v":{"$error":"#NAME?"}},{"$f":"[1]!SUMSTRING(F599:G599,\"#\")","v":{"$error":"#NAME?"}},null,{"$f":"[1]!SUMSTRING(I599:J599,\"|\")","v":{"$error":"#NAME?"}}]
[19,6030,null,6030,21,5,1315,null,{"$f":"[1]!SUMSTRING(D600:E600,\"#\")","v":{"$error":"#NAME?"}},{"$f":"[1]!SUMSTRING(F600:G600,\"#\")","v":{"$error":"#NAME?"}},null,{"$f":"[1]!SUMSTRING(I600:J600,\"|\")","v":{"$error":"#NAME?"}}]
[20,6030,null,6030,30,5,1440,null,{"$f":"[1]!SUMSTRING(D601:E601,\"#\")","v":{"$error":"#NAME?"}},{"$f":"[1]!SUMSTRING(F601:G601,\"#\")","v":{"$error":"#NAME?"}},null,{"$f":"[1]!SUMSTRING(I601:J601,\"|\")","v":{"$error":"#NAME?"}}]
[1,6031,null,6031,1,5,0,null,{"$f":"[1]!SUMSTRING(D602:E602,\"#\")","v":{"$error":"#NAME?"}},{"$f":"[1]!SUMSTRING(F602:G602,\"#\")","v":{"$error":"#NAME?"}},null,{"$f":"[1]!SUMSTRING(I602:J602,\"|\")","v":{"$error":"#NAME?"}}]
[2,6031,null,6031,1,5,40,null,{"$f":"[1]!SUMSTRING(D603:E603,\"#\")","v":{"$error":"#NAME?"}},{"$f":"[1]!SUMSTRING(F603:G603,\"#\")","v":{"$error":"#NAME?"}},null,{"$f":"[1]!SUMSTRING(I603:J603,\"|\")","v":{"$error":"#NAME?"}}]
[3,6031,null,6031,1,5,65,null,{"$f":"[1]!SUMSTRING(D604:E604,\"#\")","v":{"$error":"#NAME?"}},{"$f":"[1]!SUMSTRING(F604:G604,\"#\")","v":{"$error":"#NAME?"}},null,{"$f":"[1]!SUMSTRING(I604:J604,\"|\")","v":{"$error":"#NAME?"}}]
[4,6031,null,6031,1,5,100,null,{"$f":"[1]!SUMSTRING(D605:E605,\"#\")","v":{"$error":"#NAME?"}},{"$f":"[1]!SUMSTRING(F605:G605,\"#\")","v":{"$error":"#NAME?"}},null,{"$f":"[1]!SUMSTRING(I605:J605,\"|\")","v":{"$error":"#NAME?"}}]
[5,6031,null,6031,2,5,135,null,{"$f":"[1]!SUMSTRING(D606:E606,\"#\")","v":{"$error":"#NAME?"}},{"$f":"[1]!SUMSTRING(F606:G606,\"#\")","v":{"$error":"#NAME?"}},null,{"$f":"[1]!SUMSTRING(I606:J606,\"|\")","v":{"$error":"#NAME?"}}]
[6,6031,null,6031,2,5,180,null,{"$f":"[1]!SUMSTRING(D607:E607,\"#\")","v":{"$error":"#NAME?"}},{"$f":"[1]!SUMSTRING(F607:G607,\"#\")","v":{"$error":"#NAME?"}},null,{"$f":"[1]!SUMSTRING(I607:J607,\"|\")","v":{"$error":"#NAME?"}}]
[7,6031,null,6031,2,5,235,null,{"$f":"[1]!SUMSTRING(D608:E608,\"#\")","v":{"$error":"#NAME?"}},{"$f":"[1]!SUMSTRING(F608:G608,\"#\")","v":{"$error":"#NAME?"}},null,{"$f":"[1]!SUMSTRING(I608:J608,\"|\")","v":{"$error":"#NAME?"}}]
[8,6031,null,6031,3,5,290,null,{"$f":"[1]!SUMSTRING(D609:E609,\"#\")","v":{"$error":"#NAME?"}},{"$f":"[1]!SUMSTRING(F609:G609,\"#\")","v":{"$error":"#NAME?"}},null,{"$f":"[1]!SUMSTRING(I609:J609,\"|\")","v":{"$error":"#NAME?"}}]
[9,6031,null,6031,3,5,355,null,{"$f":"[1]!SUMSTRING(D610:E610,\"#\")","v":{"$error":"#NAME?"}},{"$f":"[1]!SUMSTRING(F610:G610,\"#\")","v":{"$error":"#NAME?"}},null,{"$f":"[1]!SUMSTRING(I610:J610,\"|\")","v":{"$error":"#NAME?"}}]
[10,6031,null,6031,3,5,420,null,{"$f":"[1]!SUMSTRING(D611:E611,\"#\")","v":{"$error":"#NAME?"}},{"$f":"[1]!SUMSTRING(F611:G611,\"#\")","v":{"$error":"#NAME?"}},null,{"$f":"[1]!SUMSTRING(I611:J611,\"|\")","v":{"$error":"#NAME?"}}]
[11,6031,null,6031,3,5,495,null,{"$f":"[1]!SUMSTRING(D612:E612,\"#\")","v":{"$error":"#NAME?"}},{"$f":"[1]!SUMSTRING(F612:G612,\"#\")","v":{"$error":"#NAME?"}},null,{"$f":"[1]!SUMSTRING(I612:J612,\"|\")","v":{"$error":"#NAME?"}}]
[12,6031,null,6031,3,5,580,null,{"$f":"[1]!SUMSTRING(D613:E613,\"#\")","v":{"$error":"#NAME?"}},{"$f":"[1]!SUMSTRING(F613:G613,\"#\")","v":{"$error":"#NAME?"}},null,{"$f":"[1]!SUMSTRING(I613:J613,\"|\")","v":{"$error":"#NAME?"}}]
[13,6031,null,6031,3,5,665,null,{"$f":"[1]!SUMSTRING(D614:E614,\"#\")","v":{"$error":"#NAME?"}},{"$f":"[1]!SUMSTRING(F614:G614,\"#\")","v":{"$error":"#NAME?"}},null,{"$f":"[1]!SUMSTRING(I614:J614,\"|\")","v":{"$error":"#NAME?"}}]
[14,6031,null,6031,4,5,760,null,{"$f":"[1]!SUMSTRING(D615:E615,\"#\")","v":{"$error":"#NAME?"}},{"$f":"[1]!SUMSTRING(F615:G615,\"#\")","v":{"$error":"#NAME?"}},null,{"$f":"[1]!SUMSTRING(I615:J615,\"|\")","v":{"$error":"#NAME?"}}]
[15,6031,null,6031,5,5,855,null,{"$f":"[1]!SUMSTRING(D616:E616,\"#\")","v":{"$error":"#NAME?"}},{"$f":"[1]!SUMSTRING(F616:G616,\"#\")","v":{"$error":"#NAME?"}},null,{"$f":"[1]!SUMSTRING(I616:J616,\"|\")","v":{"$error":"#NAME?"}}]
[16,6031,null,6031,6,5,960,null,{"$f":"[1]!SUMSTRING(D617:E617,\"#\")","v":{"$error":"#NAME?"}},{"$f":"[1]!SUMSTRING(F617:G617,\"#\")","v":{"$error":"#NAME?"}},null,{"$f":"[1]!SUMSTRING(I617:J617,\"|\")","v":{"$error":"#NAME?"}}]
[17,6031,null,6031,8,5,1075,null,{"$f":"[1]!SUMSTRING(D618:E618,\"#\")","v":{"$error":"#NAME?"}},{"$f":"[1]!SUMSTRING(F618:G618,\"#\")","v":{"$error":"#NAME?"}},null,{"$f":"[1]!SUMSTRING(I618:J618,\"|\")","v":{"$error":"#NAME?"}}]
[18,6031,null,6031,10,5,1190,null,{"$f":"[1]!SUMSTRING(D619:E619,\"#\")","v":{"$error":"#NAME?"}},{"$f":"[1]!SUMSTRING(F619:G619,\"#\")","v":{"$error":"#NAME?"}},null,{"$f":"[1]!SUMSTRING(I619:J619,\"|\")","v":{"$error":"#NAME?"}}]
[19,6031,null,6031,21,5,1315,null,{"$f":"[1]!SUMSTRING(D620:E620,\"#\")","v":{"$error":"#NAME?"}},{"$f":"[1]!SUMSTRING(F620:G620,\"#\")","v":{"$error":"#NAME?"}},null,{"$f":"[1]!SUMSTRING(I620:J620,\"|\")","v":{"$error":"#NAME?"}}]
[20,6031,null,6031,30,5,1440,null,{"$f":"[1]!SUMSTRING(D621:E621,\"#\")","v":{"$error":"#NAME?"}},{"$f":"[1]!SUMSTRING(F621:G621,\"#\")","v":{"$error":"#NAME?"}},null,{"$f":"[1]!SUMSTRING(I621:J621,\"|\")","v":{"$error":"#NAME?"}}]
[1,6032,null,6032,1,5,0,null,{"$f":"[1]!SUMSTRING(D622:E622,\"#\")","v":{"$error":"#NAME?"}},{"$f":"[1]!SUMSTRING(F622:G622,\"#\")","v":{"$error":"#NAME?"}},null,{"$f":"[1]!SUMSTRING(I622:J622,\"|\")","v":{"$error":"#NAME?"}}]
[2,6032,null,6032,1,5,40,null,{"$f":"[1]!SUMSTRING(D623:E623,\"#\")","v":{"$error":"#NAME?"}},{"$f":"[1]!SUMSTRING(F623:G623,\"#\")","v":{"$error":"#NAME?"}},null,{"$f":"[1]!SUMSTRING(I623:J623,\"|\")","v":{"$error":"#NAME?"}}]
[3,6032,null,6032,1,5,65,null,{"$f":"[1]!SUMSTRING(D624:E624,\"#\")","v":{"$error":"#NAME?"}},{"$f":"[1]!SUMSTRING(F624:G624,\"#\")","v":{"$error":"#NAME?"}},null,{"$f":"[1]!SUMSTRING(I624:J624,\"|\")","v":{"$error":"#NAME?"}}]
[4,6032,null,6032,1,5,100,null,{"$f":"[1]!SUMSTRING(D625:E625,\"#\")","v":{"$error":"#NAME?"}},{"$f":"[1]!SUMSTRING(F625:G625,\"#\")","v":{"$error":"#NAME?"}},null,{"$f":"[1]!SUMSTRING(I625:J625,\"|\")","v":{"$error":"#NAME?"}}]
[5,6032,null,6032,2,5,135,null,{"$f":"[1]!SUMSTRING(D626:E626,\"#\")","v":{"$error":"#NAME?"}},{"$f":"[1]!SUMSTRING(F626:G626,\"#\")","v":{"$error":"#NAME?"}},null,{"$f":"[1]!SUMSTRING(I626:J626,\"|\")","v":{"$error":"#NAME?"}}]
[6,6032,null,6032,2,5,180,null,{"$f":"[1]!SUMSTRING(D627:E627,\"#\")","v":{"$error":"#NAME?"}},{"$f":"[1]!SUMSTRING(F627:G627,\"#\")","v":{"$error":"#NAME?"}},null,{"$f":"[1]!SUMSTRING(I627:J627,\"|\")","v":{"$error":"#NAME?"}}]
[7,6032,null,6032,2,5,235,null,{"$f":"[1]!SUMSTRING(D628:E628,\"#\")","v":{"$error":"#NAME?"}},{"$f":"[1]!SUMSTRING(F628:G628,\"#\")","v":{"$error":"#NAME?"}},null,{"$f":"[1]!SUMSTRING(I628:J628,\"|\")","v":{"$error":"#NAME?"}}]
[8,6032,null,6032,3,5,290,null,{"$f":"[1]!SUMSTRING(D629:E629,\"#\")","v":{"$error":"#NAME?"}},{"$f":"[1]!SUMSTRING(F629:G629,\"#\")","v":{"$error":"#NAME?"}},null,{"$f":"[1]!SUMSTRING(I629:J629,\"|\")","v":{"$error":"#NAME?"}}]
[9,6032,null,6032,3,5,355,null,{"$f":"[1]!SUMSTRING(D630:E630,\"#\")","v":{"$error":"#NAME?"}},{"$f":"[1]!SUMSTRING(F630:G630,\"#\")","v":{"$error":"#NAME?"}},null,{"$f":"[1]!SUMSTRING(I630:J630,\"|\")","v":{"$error":"#NAME?"}}]
[10,6032,null,6032,3,5,420,null,{"$f":"[1]!SUMSTRING(D631:E631,\"#\")","v":{"$error":"#NAME?"}},{"$f":"[1]!SUMSTRING(F631:G631,\"#\")","v":{"$error":"#NAME?"}},null,{"$f":"[1]!SUMSTRING(I631:J631,\"|\")","v":{"$error":"#NAME?"}}]
[11,6032,null,6032,3,5,495,null,{"$f":"[1]!SUMSTRING(D632:E632,\"#\")","v":{"$error":"#NAME?"}},{"$f":"[1]!SUMSTRING(F632:G632,\"#\")","v":{"$error":"#NAME?"}},null,{"$f":"[1]!SUMSTRING(I632:J632,\"|\")","v":{"$error":"#NAME?"}}]
[12,6032,null,6032,3,5,580,null,{"$f":"[1]!SUMSTRING(D633:E633,\"#\")","v":{"$error":"#NAME?"}},{"$f":"[1]!SUMSTRING(F633:G633,\"#\")","v":{"$error":"#NAME?"}},null,{"$f":"[1]!SUMSTRING(I633:J633,\"|\")","v":{"$error":"#NAME?"}}]
[13,6032,null,6032,3,5,665,null,{"$f":"[1]!SUMSTRING(D634:E634,\"#\")","v":{"$error":"#NAME?"}},{"$f":"[1]!SUMSTRING(F634:G634,\"#\")","v":{"$error":"#NAME?"}},null,{"$f":"[1]!SUMSTRING(I634:J634,\"|\")","v":{"$error":"#NAME?"}}]
[14,6032,null,6032,4,5,760,null,{"$f":"[1]!SUMSTRING(D635:E635,\"#\")","v":{"$error":"#NAME?"}},{"$f":"[1]!SUMSTRING(F635:G635,\"#\")","v":{"$error":"#NAME?"}},null,{"$f":"[1]!SUMSTRING(I635:J635,\"|\")","v":{"$error":"#NAME?"}}]
[15,6032,null,6032,5,5,855,null,{"$f":"[1]!SUMSTRING(D636:E636,\"#\")","v":{"$error":"#NAME?"}},{"$f":"[1]!SUMSTRING(F636:G636,\"#\")","v":{"$error":"#NAME?"}},null,{"$f":"[1]!SUMSTRING(I636:J636,\"|\")","v":{"$error":"#NAME?"}}]
[16,6032,null,6032,6,5,960,null,{"$f":"[1]!SUMSTRING(D637:E637,\"#\")","v":{"$error":"#NAME?"}},{"$f":"[1]!SUMSTRING(F637:G637,\"#\")","v":{"$error":"#NAME?"}},null,{"$f":"[1]!SUMSTRING(I637:J637,\"|\")","v":{"$error":"#NAME?"}}]
[17,6032,null,6032,8,5,1075,null,{"$f":"[1]!SUMSTRING(D638:E638,\"#\")","v":{"$error":"#NAME?"}},{"$f":"[1]!SUMSTRING(F638:G638,\"#\")","v":{"$error":"#NAME?"}},null,{"$f":"[1]!SUMSTRING(I638:J638,\"|\")","v":{"$error":"#NAME?"}}]
[18,6032,null,6032,10,5,1190,null,{"$f":"[1]!SUMSTRING(D639:E639,\"#\")","v":{"$error":"#NAME?"}},{"$f":"[1]!SUMSTRING(F639:G639,\"#\")","v":{"$error":"#NAME?"}},null,{"$f":"[1]!SUMSTRING(I639:J639,\"|\")","v":{"$error":"#NAME?"}}]
[19,6032,null,6032,21,5,1315,null,{"$f":"[1]!SUMSTRING(D640:E640,\"#\")","v":{"$error":"#NAME?"}},{"$f":"[1]!SUMSTRING(F640:G640,\"#\")","v":{"$error":"#NAME?"}},null,{"$f":"[1]!SUMSTRING(I640:J640,\"|\")","v":{"$error":"#NAME?"}}]
[20,6032,null,6032,30,5,1440,null,{"$f":"[1]!SUMSTRING(D641:E641,\"#\")","v":{"$error":"#NAME?"}},{"$f":"[1]!SUMSTRING(F641:G641,\"#\")","v":{"$error":"#NAME?"}},null,{"$f":"[1]!SUMSTRING(I641:J641,\"|\")","v":{"$error":"#NAME?"}}]
[1,6033,null,6033,1,5,0,null,{"$f":"[1]!SUMSTRING(D642:E642,\"#\")","v":{"$error":"#NAME?"}},{"$f":"[1]!SUMSTRING(F642:G642,\"#\")","v":{"$error":"#NAME?"}},null,{"$f":"[1]!SUMSTRING(I642:J642,\"|\")","v":{"$error":"#NAME?"}}]
[2,6033,null,{"$f":"B643","v":6033},1,5,75,null,{"$f":"[1]!SUMSTRING(D643:E643,\"#\")","v":{"$error":"#NAME?"}},{"$f":"[1]!SUMSTRING(F643:G643,\"#\")","v":{"$error":"#NAME?"}},null,{"$f":"[1]!SUMSTRING(I643:J643,\"|\")","v":{"$error":"#NAME?"}}]
[3,6033,null,6033,1,5,125,null,{"$f":"[1]!SUMSTRING(D644:E644,\"#\")","v":{"$error":"#NAME?"}},{"$f":"[1]!SUMSTRING(F644:G644,\"#\")","v":{"$error":"#NAME?"}},null,{"$f":"[1]!SUMSTRING(I644:J644,\"|\")","v":{"$error":"#NAME?"}}]
[4,6033,null,6033,1,5,180,null,{"$f":"[1]!SUMSTRING(D645:E645,\"#\")","v":{"$error":"#NAME?"}},{"$f":"[1]!SUMSTRING(F645:G645,\"#\")","v":{"$error":"#NAME?"}},null,{"$f":"[1]!SUMSTRING(I645:J645,\"|\")","v":{"$error":"#NAME?"}}]
[5,6033,null,6033,2,5,240,null,{"$f":"[1]!SUMSTRING(D646:E646,\"#\")","v":{"$error":"#NAME?"}},{"$f":"[1]!SUMSTRING(F646:G646,\"#\")","v":{"$error":"#NAME?"}},null,{"$f":"[1]!SUMSTRING(I646:J646,\"|\")","v":{"$error":"#NAME?"}}]
[6,6033,null,6033,2,5,310,null,{"$f":"[1]!SUMSTRING(D647:E647,\"#\")","v":{"$error":"#NAME?"}},{"$f":"[1]!SUMSTRING(F647:G647,\"#\")","v":{"$error":"#NAME?"}},null,{"$f":"[1]!SUMSTRING(I647:J647,\"|\")","v":{"$error":"#NAME?"}}]
[7,6033,null,6033,2,5,390,null,{"$f":"[1]!SUMSTRING(D648:E648,\"#\")","v":{"$error":"#NAME?"}},{"$f":"[1]!SUMSTRING(F648:G648,\"#\")","v":{"$error":"#NAME?"}},null,{"$f":"[1]!SUMSTRING(I648:J648,\"|\")","v":{"$error":"#NAME?"}}]
[8,6033,null,6033,3,5,480,null,{"$f":"[1]!SUMSTRING(D649:E649,\"#\")","v":{"$error":"#NAME?"}},{"$f":"[1]!SUMSTRING(F649:G649,\"#\")","v":{"$error":"#NAME?"}},null,{"$f":"[1]!SUMSTRING(I649:J649,\"|\")","v":{"$error":"#NAME?"}}]
[9,6033,null,6033,3,5,575,null,{"$f":"[1]!SUMSTRING(D650:E650,\"#\")","v":{"$error":"#NAME?"}},{"$f":"[1]!SUMSTRING(F650:G650,\"#\")","v":{"$error":"#NAME?"}},null,{"$f":"[1]!SUMSTRING(I650:J650,\"|\")","v":{"$error":"#NAME?"}}]
[10,6033,null,6033,3,5,680,null,{"$f":"[1]!SUMSTRING(D651:E651,\"#\")","v":{"$error":"#NAME?"}},{"$f":"[1]!SUMSTRING(F651:G651,\"#\")","v":{"$error":"#NAME?"}},null,{"$f":"[1]!SUMSTRING(I651:J651,\"|\")","v":{"$error":"#NAME?"}}]
[11,6033,null,6033,3,5,795,null,{"$f":"[1]!SUMSTRING(D652:E652,\"#\")","v":{"$error":"#NAME?"}},{"$f":"[1]!SUMSTRING(F652:G652,\"#\")","v":{"$error":"#NAME?"}},null,{"$f":"[1]!SUMSTRING(I652:J652,\"|\")","v":{"$error":"#NAME?"}}]
[12,6033,null,6033,3,5,915,null,{"$f":"[1]!SUMSTRING(D653:E653,\"#\")","v":{"$error":"#NAME?"}},{"$f":"[1]!SUMSTRING(F653:G653,\"#\")","v":{"$error":"#NAME?"}},null,{"$f":"[1]!SUMSTRING(I653:J653,\"|\")","v":{"$error":"#NAME?"}}]
[13,6033,null,6033,3,5,1050,null,{"$f":"[1]!SUMSTRING(D654:E654,\"#\")","v":{"$error":"#NAME?"}},{"$f":"[1]!SUMSTRING(F654:G654,\"#\")","v":{"$error":"#NAME?"}},null,{"$f":"[1]!SUMSTRING(I654:J654,\"|\")","v":{"$error":"#NAME?"}}]
[14,6033,null,6033,4,5,1190,null,{"$f":"[1]!SUMSTRING(D655:E655,\"#\")","v":{"$error":"#NAME?"}},{"$f":"[1]!SUMSTRING(F655:G655,\"#\")","v":{"$error":"#NAME?"}},null,{"$f":"[1]!SUMSTRING(I655:J655,\"|\")","v":{"$error":"#NAME?"}}]
[15,6033,null,6033,5,5,1335,null,{"$f":"[1]!SUMSTRING(D656:E656,\"#\")","v":{"$error":"#NAME?"}},{"$f":"[1]!SUMSTRING(F656:G656,\"#\")","v":{"$error":"#NAME?"}},null,{"$f":"[1]!SUMSTRING(I656:J656,\"|\")","v":{"$error":"#NAME?"}}]
[16,6033,null,6033,6,5,1495,null,{"$f":"[1]!SUMSTRING(D657:E657,\"#\")","v":{"$error":"#NAME?"}},{"$f":"[1]!SUMSTRING(F657:G657,\"#\")","v":{"$error":"#NAME?"}},null,{"$f":"[1]!SUMSTRING(I657:J657,\"|\")","v":{"$error":"#NAME?"}}]
[17,6033,null,6033,8,5,1665,null,{"$f":"[1]!SUMSTRING(D658:E658,\"#\")","v":{"$error":"#NAME?"}},{"$f":"[1]!SUMSTRING(F658:G658,\"#\")","v":{"$error":"#NAME?"}},null,{"$f":"[1]!SUMSTRING(I658:J658,\"|\")","v":{"$error":"#NAME?"}}]
[18,6033,null,6033,10,5,1840,null,{"$f":"[1]!SUMSTRING(D659:E659,\"#\")","v":{"$error":"#NAME?"}},{"$f":"[1]!SUMSTRING(F659:G659,\"#\")","v":{"$error":"#NAME?"}},null,{"$f":"[1]!SUMSTRING(I659:J659,\"|\")","v":{"$error":"#NAME?"}}]
[19,6033,null,6033,21,5,2025,null,{"$f":"[1]!SUMSTRING(D660:E660,\"#\")","v":{"$error":"#NAME?"}},{"$f":"[1]!SUMSTRING(F660:G660,\"#\")","v":{"$error":"#NAME?"}},null,{"$f":"[1]!SUMSTRING(I660:J660,\"|\")","v":{"$error":"#NAME?"}}]
[20,6033,null,6033,30,5,2220,null,{"$f":"[1]!SUMSTRING(D661:E661,\"#\")","v":{"$error":"#NAME?"}},{"$f":"[1]!SUMSTRING(F661:G661,\"#\")","v":{"$error":"#NAME?"}},null,{"$f":"[1]!SUMSTRING(I661:J661,\"|\")","v":{"$error":"#NAME?"}}]
[1,6034,null,6034,1,5,0,null,{"$f":"[1]!SUMSTRING(D662:E662,\"#\")","v":{"$error":"#NAME?"}},{"$f":"[1]!SUMSTRING(F662:G662,\"#\")","v":{"$error":"#NAME?"}},null,{"$f":"[1]!SUMSTRING(I662:J662,\"|\")","v":{"$error":"#NAME?"}}]
[{"$f":"A643","v":2},{"$f":"B643+1","v":6034},null,6034,{"$f":"E643","v":1},5,75,null,{"$f":"[1]!SUMSTRING(D663:E663,\"#\")","v":{"$error":"#NAME?"}},{"$f":"[1]!SUMSTRING(F663:G663,\"#\")","v":{"$error":"#NAME?"}},null,{"$f":"[1]!SUMSTRING(I663:J663,\"|\")","v":{"$error":"#NAME?"}}]
[3,6034,null,6034,1,5,125,null,{"$f":"[1]!SUMSTRING(D664:E664,\"#\")","v":{"$error":"#NAME?"}},{"$f":"[1]!SUMSTRING(F664:G664,\"#\")","v":{"$error":"#NAME?"}},null,{"$f":"[1]!SUMSTRING(I664:J664,\"|\")","v":{"$error":"#NAME?"}}]
[4,6034,null,6034,1,5,180,null,{"$f":"[1]!SUMSTRING(D665:E665,\"#\")","v":{"$error":"#NAME?"}},{"$f":"[1]!SUMSTRING(F665:G665,\"#\")","v":{"$error":"#NAME?"}},null,{"$f":"[1]!SUMSTRING(I665:J665,\"|\")","v":{"$error":"#NAME?"}}]
[5,6034,null,6034,2,5,240,null,{"$f":"[1]!SUMSTRING(D666:E666,\"#\")","v":{"$error":"#NAME?"}},{"$f":"[1]!SUMSTRING(F666:G666,\"#\")","v":{"$error":"#NAME?"}},null,{"$f":"[1]!SUMSTRING(I666:J666,\"|\")","v":{"$error":"#NAME?"}}]
[6,6034,null,6034,2,5,310,null,{"$f":"[1]!SUMSTRING(D667:E667,\"#\")","v":{"$error":"#NAME?"}},{"$f":"[1]!SUMSTRING(F667:G667,\"#\")","v":{"$error":"#NAME?"}},null,{"$f":"[1]!SUMSTRING(I667:J667,\"|\")","v":{"$error":"#NAME?"}}]
[7,6034,null,6034,2,5,390,null,{"$f":"[1]!SUMSTRING(D668:E668,\"#\")","v":{"$error":"#NAME?"}},{"$f":"[1]!SUMSTRING(F668:G668,\"#\")","v":{"$error":"#NAME?"}},null,{"$f":"[1]!SUMSTRING(I668:J668,\"|\")","v":{"$error":"#NAME?"}}]
[8,6034,null,6034,3,5,480,null,{"$f":"[1]!SUMSTRING(D669:E669,\"#\")","v":{"$error":"#NAME?"}},{"$f":"[1]!SUMSTRING(F669:G669,\"#\")","v":{"$error":"#NAME?"}},null,{"$f":"[1]!SUMSTRING(I669:J669,\"|\")","v":{"$error":"#NAME?"}}]
[9,6034,null,6034,3,5,575,null,{"$f":"[1]!SUMSTRING(D670:E670,\"#\")","v":{"$error":"#NAME?"}},{"$f":"[1]!SUMSTRING(F670:G670,\"#\")","v":{"$error":"#NAME?"}},null,{"$f":"[1]!SUMSTRING(I670:J670,\"|\")","v":{"$error":"#NAME?"}}]
[10,6034,null,6034,3,5,680,null,{"$f":"[1]!SUMSTRING(D671:E671,\"#\")","v":{"$error":"#NAME?"}},{"$f":"[1]!SUMSTRING(F671:G671,\"#\")","v":{"$error":"#NAME?"}},null,{"$f":"[1]!SUMSTRING(I671:J671,\"|\")","v":{"$error":"#NAME?"}}]
[11,6034,null,6034,3,5,795,null,{"$f":"[1]!SUMSTRING(D672:E672,\"#\")","v":{"$error":"#NAME?"}},{"$f":"[1]!SUMSTRING(F672:G672,\"#\")","v":{"$error":"#NAME?"}},null,{"$f":"[1]!SUMSTRING(I672:J672,\"|\")","v":{"$error":"#NAME?"}}]
[12,6034,null,6034,3,5,915,null,{"$f":"[1]!SUMSTRING(D673:E673,\"#\")","v":{"$error":"#NAME?"}},{"$f":"[1]!SUMSTRING(F673:G673,\"#\")","v":{"$error":"#NAME?"}},null,{"$f":"[1]!SUMSTRING(I673:J673,\"|\")","v":{"$error":"#NAME?"}}]
[13,6034,null,6034,3,5,1050,null,{"$f":"[1]!SUMSTRING(D674:E674,\"#\")","v":{"$error":"#NAME?"}},{"$f":"[1]!SUMSTRING(F674:G674,\"#\")","v":{"$error":"#NAME?"}},null,{"$f":"[1]!SUMSTRING(I674:J674,\"|\")","v":{"$error":"#NAME?"}}]
[14,6034,null,6034,4,5,1190,null,{"$f":"[1]!SUMSTRING(D675:E675,\"#\")","v":{"$error":"#NAME?"}},{"$f":"[1]!SUMSTRING(F675:G675,\"#\")","v":{"$error":"#NAME?"}},null,{"$f":"[1]!SUMSTRING(I675:J675,\"|\")","v":{"$error":"#NAME?"}}]
[15,6034,null,6034,5,5,1335,null,{"$f":"[1]!SUMSTRING(D676:E676,\"#\")","v":{"$error":"#NAME?"}},{"$f":"[1]!SUMSTRING(F676:G676,\"#\")","v":{"$error":"#NAME?"}},null,{"$f":"[1]!SUMSTRING(I676:J676,\"|\")","v":{"$error":"#NAME?"}}]
[16,6034,null,6034,6,5,1495,null,{"$f":"[1]!SUMSTRING(D677:E677,\"#\")","v":{"$error":"#NAME?"}},{"$f":"[1]!SUMSTRING(F677:G677,\"#\")","v":{"$error":"#NAME?"}},null,{"$f":"[1]!SUMSTRING(I677:J677,\"|\")","v":{"$error":"#NAME?"}}]
[17,6034,null,6034,8,5,1665,null,{"$f":"[1]!SUMSTRING(D678:E678,\"#\")","v":{"$error":"#NAME?"}},{"$f":"[1]!SUMSTRING(F678:G678,\"#\")","v":{"$error":"#NAME?"}},null,{"$f":"[1]!SUMSTRING(I678:J678,\"|\")","v":{"$error":"#NAME?"}}]
[18,6034,null,6034,10,5,1840,null,{"$f":"[1]!SUMSTRING(D679:E679,\"#\")","v":{"$error":"#NAME?"}},{"$f":"[1]!SUMSTRING(F679:G679,\"#\")","v":{"$error":"#NAME?"}},null,{"$f":"[1]!SUMSTRING(I679:J679,\"|\")","v":{"$error":"#NAME?"}}]
[19,6034,null,6034,21,5,2025,null,{"$f":"[1]!SUMSTRING(D680:E680,\"#\")","v":{"$error":"#NAME?"}},{"$f":"[1]!SUMSTRING(F680:G680,\"#\")","v":{"$error":"#NAME?"}},null,{"$f":"[1]!SUMSTRING(I680:J680,\"|\")","v":{"$error":"#NAME?"}}]
[20,6034,null,6034,30,5,2220,null,{"$f":"[1]!SUMSTRING(D681:E681,\"#\")","v":{"$error":"#NAME?"}},{"$f":"[1]!SUMSTRING(F681:G681,\"#\")","v":{"$error":"#NAME?"}},null,{"$f":"[1]!SUMSTRING(I681:J681,\"|\")","v":{"$error":"#NAME?"}}]
[1,6035,null,6035,1,5,{"$f":"G662","v":0},null,{"$f":"[1]!SUMSTRING(D682:E682,\"#\")","v":{"$error":"#NAME?"}},{"$f":"[1]!SUMSTRING(F682:G682,\"#\")","v":{"$error":"#NAME?"}},null,{"$f":"[1]!SUMSTRING(I682:J682,\"|\")","v":{"$error":"#NAME?"}}]
[2,6035,null,6035,1,5,75,null,{"$f":"[1]!SUMSTRING(D683:E683,\"#\")","v":{"$error":"#NAME?"}},{"$f":"[1]!SUMSTRING(F683:G683,\"#\")","v":{"$error":"#NAME?"}},null,{"$f":"[1]!SUMSTRING(I683:J683,\"|\")","v":{"$error":"#NAME?"}}]
[3,6035,null,6035,1,5,125,null,{"$f":"[1]!SUMSTRING(D684:E684,\"#\")","v":{"$error":"#NAME?"}},{"$f":"[1]!SUMSTRING(F684:G684,\"#\")","v":{"$error":"#NAME?"}},null,{"$f":"[1]!SUMSTRING(I684:J684,\"|\")","v":{"$error":"#NAME?"}}]
[4,6035,null,6035,1,5,180,null,{"$f":"[1]!SUMSTRING(D685:E685,\"#\")","v":{"$error":"#NAME?"}},{"$f":"[1]!SUMSTRING(F685:G685,\"#\")","v":{"$error":"#NAME?"}},null,{"$f":"[1]!SUMSTRING(I685:J685,\"|\")","v":{"$error":"#NAME?"}}]
[5,6035,null,6035,2,5,240,null,{"$f":"[1]!SUMSTRING(D686:E686,\"#\")","v":{"$error":"#NAME?"}},{"$f":"[1]!SUMSTRING(F686:G686,\"#\")","v":{"$error":"#NAME?"}},null,{"$f":"[1]!SUMSTRING(I686:J686,\"|\")","v":{"$error":"#NAME?"}}]
[6,6035,null,6035,2,5,310,null,{"$f":"[1]!SUMSTRING(D687:E687,\"#\")","v":{"$error":"#NAME?"}},{"$f":"[1]!SUMSTRING(F687:G687,\"#\")","v":{"$error":"#NAME?"}},null,{"$f":"[1]!SUMSTRING(I687:J687,\"|\")","v":{"$error":"#NAME?"}}]
[7,6035,null,6035,2,5,390,null,{"$f":"[1]!SUMSTRING(D688:E688,\"#\")","v":{"$error":"#NAME?"}},{"$f":"[1]!SUMSTRING(F688:G688,\"#\")","v":{"$error":"#NAME?"}},null,{"$f":"[1]!SUMSTRING(I688:J688,\"|\")","v":{"$error":"#NAME?"}}]
[8,6035,null,6035,3,5,480,null,{"$f":"[1]!SUMSTRING(D689:E689,\"#\")","v":{"$error":"#NAME?"}},{"$f":"[1]!SUMSTRING(F689:G689,\"#\")","v":{"$error":"#NAME?"}},null,{"$f":"[1]!SUMSTRING(I689:J689,\"|\")","v":{"$error":"#NAME?"}}]
[9,6035,null,6035,3,5,575,null,{"$f":"[1]!SUMSTRING(D690:E690,\"#\")","v":{"$error":"#NAME?"}},{"$f":"[1]!SUMSTRING(F690:G690,\"#\")","v":{"$error":"#NAME?"}},null,{"$f":"[1]!SUMSTRING(I690:J690,\"|\")","v":{"$error":"#NAME?"}}]
[10,6035,null,6035,3,5,680,null,{"$f":"[1]!SUMSTRING(D691:E691,\"#\")","v":{"$error":"#NAME?"}},{"$f":"[1]!SUMSTRING(F691:G691,\"#\")","v":{"$error":"#NAME?"}},null,{"$f":"[1]!SUMSTRING(I691:J691,\"|\")","v":{"$error":"#NAME?"}}]
[11,6035,null,6035,3,5,795,null,{"$f":"[1]!SUMSTRING(D692:E692,\"#\")","v":{"$error":"#NAME?"}},{"$f":"[1]!SUMSTRING(F692:G692,\"#\")","v":{"$error":"#NAME?"}},null,{"$f":"[1]!SUMSTRING(I692:J692,\"|\")","v":{"$error":"#NAME?"}}]
[12,6035,null,6035,3,5,915,null,{"$f":"[1]!SUMSTRING(D693:E693,\"#\")","v":{"$error":"#NAME?"}},{"$f":"[1]!SUMSTRING(F693:G693,\"#\")","v":{"$error":"#NAME?"}},null,{"$f":"[1]!SUMSTRING(I693:J693,\"|\")","v":{"$error":"#NAME?"}}]
[13,6035,null,6035,3,5,1050,null,{"$f":"[1]!SUMSTRING(D694:E694,\"#\")","v":{"$error":"#NAME?"}},{"$f":"[1]!SUMSTRING(F694:G694,\"#\")","v":{"$error":"#NAME?"}},null,{"$f":"[1]!SUMSTRING(I694:J694,\"|\")","v":{"$error":"#NAME?"}}]
[14,6035,null,6035,4,5,1190,null,{"$f":"[1]!SUMSTRING(D695:E695,\"#\")","v":{"$error":"#NAME?"}},{"$f":"[1]!SUMSTRING(F695:G695,\"#\")","v":{"$error":"#NAME?"}},null,{"$f":"[1]!SUMSTRING(I695:J695,\"|\")","v":{"$error":"#NAME?"}}]
[15,6035,null,6035,5,5,1335,null,{"$f":"[1]!SUMSTRING(D696:E696,\"#\")","v":{"$error":"#NAME?"}},{"$f":"[1]!SUMSTRING(F696:G696,\"#\")","v":{"$error":"#NAME?"}},null,{"$f":"[1]!SUMSTRING(I696:J696,\"|\")","v":{"$error":"#NAME?"}}]
[16,6035,null,6035,6,5,1495,null,{"$f":"[1]!SUMSTRING(D697:E697,\"#\")","v":{"$error":"#NAME?"}},{"$f":"[1]!SUMSTRING(F697:G697,\"#\")","v":{"$error":"#NAME?"}},null,{"$f":"[1]!SUMSTRING(I697:J697,\"|\")","v":{"$error":"#NAME?"}}]
[17,6035,null,6035,8,5,1665,null,{"$f":"[1]!SUMSTRING(D698:E698,\"#\")","v":{"$error":"#NAME?"}},{"$f":"[1]!SUMSTRING(F698:G698,\"#\")","v":{"$error":"#NAME?"}},null,{"$f":"[1]!SUMSTRING(I698:J698,\"|\")","v":{"$error":"#NAME?"}}]
[18,6035,null,6035,10,5,1840,null,{"$f":"[1]!SUMSTRING(D699:E699,\"#\")","v":{"$error":"#NAME?"}},{"$f":"[1]!SUMSTRING(F699:G699,\"#\")","v":{"$error":"#NAME?"}},null,{"$f":"[1]!SUMSTRING(I699:J699,\"|\")","v":{"$error":"#NAME?"}}]
[19,6035,null,6035,21,5,2025,null,{"$f":"[1]!SUMSTRING(D700:E700,\"#\")","v":{"$error":"#NAME?"}},{"$f":"[1]!SUMSTRING(F700:G700,\"#\")","v":{"$error":"#NAME?"}},null,{"$f":"[1]!SUMSTRING(I700:J700,\"|\")","v":{"$error":"#NAME?"}}]
[20,6035,null,6035,30,5,2220,null,{"$f":"[1]!SUMSTRING(D701:E701,\"#\")","v":{"$error":"#NAME?"}},{"$f":"[1]!SUMSTRING(F701:G701,\"#\")","v":{"$error":"#NAME?"}},null,{"$f":"[1]!SUMSTRING(I701:J701,\"|\")","v":{"$error":"#NAME?"}}]
[1,6036,null,6036,1,5,0,null,{"$f":"[1]!SUMSTRING(D702:E702,\"#\")","v":{"$error":"#NAME?"}},{"$f":"[1]!SUMSTRING(F702:G702,\"#\")","v":{"$error":"#NAME?"}},null,{"$f":"[1]!SUMSTRING(I702:J702,\"|\")","v":{"$error":"#NAME?"}}]
[2,6036,null,6036,1,5,75,null,{"$f":"[1]!SUMSTRING(D703:E703,\"#\")","v":{"$error":"#NAME?"}},{"$f":"[1]!SUMSTRING(F703:G703,\"#\")","v":{"$error":"#NAME?"}},null,{"$f":"[1]!SUMSTRING(I703:J703,\"|\")","v":{"$error":"#NAME?"}}]
[3,6036,null,6036,1,5,125,null,{"$f":"[1]!SUMSTRING(D704:E704,\"#\")","v":{"$error":"#NAME?"}},{"$f":"[1]!SUMSTRING(F704:G704,\"#\")","v":{"$error":"#NAME?"}},null,{"$f":"[1]!SUMSTRING(I704:J704,\"|\")","v":{"$error":"#NAME?"}}]
[4,6036,null,6036,1,5,180,null,{"$f":"[1]!SUMSTRING(D705:E705,\"#\")","v":{"$error":"#NAME?"}},{"$f":"[1]!SUMSTRING(F705:G705,\"#\")","v":{"$error":"#NAME?"}},null,{"$f":"[1]!SUMSTRING(I705:J705,\"|\")","v":{"$error":"#NAME?"}}]
[5,6036,null,6036,2,5,240,null,{"$f":"[1]!SUMSTRING(D706:E706,\"#\")","v":{"$error":"#NAME?"}},{"$f":"[1]!SUMSTRING(F706:G706,\"#\")","v":{"$error":"#NAME?"}},null,{"$f":"[1]!SUMSTRING(I706:J706,\"|\")","v":{"$error":"#NAME?"}}]
[6,6036,null,{"$f":"B707","v":6036},2,5,{"$f":"G687","v":310},null,{"$f":"[1]!SUMSTRING(D707:E707,\"#\")","v":{"$error":"#NAME?"}},{"$f":"[1]!SUMSTRING(F707:G707,\"#\")","v":{"$error":"#NAME?"}},null,{"$f":"[1]!SUMSTRING(I707:J707,\"|\")","v":{"$error":"#NAME?"}}]
[7,6036,null,6036,2,5,390,null,{"$f":"[1]!SUMSTRING(D708:E708,\"#\")","v":{"$error":"#NAME?"}},{"$f":"[1]!SUMSTRING(F708:G708,\"#\")","v":{"$error":"#NAME?"}},null,{"$f":"[1]!SUMSTRING(I708:J708,\"|\")","v":{"$error":"#NAME?"}}]
[8,6036,null,6036,3,5,480,null,{"$f":"[1]!SUMSTRING(D709:E709,\"#\")","v":{"$error":"#NAME?"}},{"$f":"[1]!SUMSTRING(F709:G709,\"#\")","v":{"$error":"#NAME?"}},null,{"$f":"[1]!SUMSTRING(I709:J709,\"|\")","v":{"$error":"#NAME?"}}]
[9,6036,null,6036,3,5,575,null,{"$f":"[1]!SUMSTRING(D710:E710,\"#\")","v":{"$error":"#NAME?"}},{"$f":"[1]!SUMSTRING(F710:G710,\"#\")","v":{"$error":"#NAME?"}},null,{"$f":"[1]!SUMSTRING(I710:J710,\"|\")","v":{"$error":"#NAME?"}}]
[10,6036,null,6036,3,5,680,null,{"$f":"[1]!SUMSTRING(D711:E711,\"#\")","v":{"$error":"#NAME?"}},{"$f":"[1]!SUMSTRING(F711:G711,\"#\")","v":{"$error":"#NAME?"}},null,{"$f":"[1]!SUMSTRING(I711:J711,\"|\")","v":{"$error":"#NAME?"}}]
[11,6036,null,6036,3,5,795,null,{"$f":"[1]!SUMSTRING(D712:E712,\"#\")","v":{"$error":"#NAME?"}},{"$f":"[1]!SUMSTRING(F712:G712,\"#\")","v":{"$error":"#NAME?"}},null,{"$f":"[1]!SUMSTRING(I712:J712,\"|\")","v":{"$error":"#NAME?"}}]
[12,6036,null,6036,3,5,915,null,{"$f":"[1]!SUMSTRING(D713:E713,\"#\")","v":{"$error":"#NAME?"}},{"$f":"[1]!SUMSTRING(F713:G713,\"#\")","v":{"$error":"#NAME?"}},null,{"$f":"[1]!SUMSTRING(I713:J713,\"|\")","v":{"$error":"#NAME?"}}]
[13,6036,null,6036,3,5,1050,null,{"$f":"[1]!SUMSTRING(D714:E714,\"#\")","v":{"$error":"#NAME?"}},{"$f":"[1]!SUMSTRING(F714:G714,\"#\")","v":{"$error":"#NAME?"}},null,{"$f":"[1]!SUMSTRING(I714:J714,\"|\")","v":{"$error":"#NAME?"}}]
[14,6036,null,6036,4,5,1190,null,{"$f":"[1]!SUMSTRING(D715:E715,\"#\")","v":{"$error":"#NAME?"}},{"$f":"[1]!SUMSTRING(F715:G715,\"#\")","v":{"$error":"#NAME?"}},null,{"$f":"[1]!SUMSTRING(I715:J715,\"|\")","v":{"$error":"#NAME?"}}]
[15,6036,null,6036,5,5,1335,null,{"$f":"[1]!SUMSTRING(D716:E716,\"#\")","v":{"$error":"#NAME?"}},{"$f":"[1]!SUMSTRING(F716:G716,\"#\")","v":{"$error":"#NAME?"}},null,{"$f":"[1]!SUMSTRING(I716:J716,\"|\")","v":{"$error":"#NAME?"}}]
[16,6036,null,6036,6,5,1495,null,{"$f":"[1]!SUMSTRING(D717:E717,\"#\")","v":{"$error":"#NAME?"}},{"$f":"[1]!SUMSTRING(F717:G717,\"#\")","v":{"$error":"#NAME?"}},null,{"$f":"[1]!SUMSTRING(I717:J717,\"|\")","v":{"$error":"#NAME?"}}]
[17,6036,null,6036,8,5,1665,null,{"$f":"[1]!SUMSTRING(D718:E718,\"#\")","v":{"$error":"#NAME?"}},{"$f":"[1]!SUMSTRING(F718:G718,\"#\")","v":{"$error":"#NAME?"}},null,{"$f":"[1]!SUMSTRING(I718:J718,\"|\")","v":{"$error":"#NAME?"}}]
[18,6036,null,6036,10,5,1840,null,{"$f":"[1]!SUMSTRING(D719:E719,\"#\")","v":{"$error":"#NAME?"}},{"$f":"[1]!SUMSTRING(F719:G719,\"#\")","v":{"$error":"#NAME?"}},null,{"$f":"[1]!SUMSTRING(I719:J719,\"|\")","v":{"$error":"#NAME?"}}]
[19,6036,null,6036,21,5,2025,null,{"$f":"[1]!SUMSTRING(D720:E720,\"#\")","v":{"$error":"#NAME?"}},{"$f":"[1]!SUMSTRING(F720:G720,\"#\")","v":{"$error":"#NAME?"}},null,{"$f":"[1]!SUMSTRING(I720:J720,\"|\")","v":{"$error":"#NAME?"}}]
[20,6036,null,6036,30,5,2220,null,{"$f":"[1]!SUMSTRING(D721:E721,\"#\")","v":{"$error":"#NAME?"}},{"$f":"[1]!SUMSTRING(F721:G721,\"#\")","v":{"$error":"#NAME?"}},null,{"$f":"[1]!SUMSTRING(I721:J721,\"|\")","v":{"$error":"#NAME?"}}]