Workbook
Name 开发角色Data: '[1]角色类型&星级Ver0.1'!$B$6:$B$33

Sheet HeroConfig
B1: Id | C1: Description | D1: ReadingName | E1: Painting | F1: Live | G1: Icon | H1: PiecesId | I1: PiecesCount | J1: Star | K1: Quality | L1: Natural | M1: Profession | N1: Scale | O1: Position | P1: PositionView | Q1: PropertyName | R1: MaxRank | S1: Hp | T1: Attack | U1: PhysicalDefence | V1: MagicDefence | W1: Speed | X1: SecondaryFactor | Y1: ActionPower | Z1: RankupConsumeMaterial | AA1: OpenSkillRules | AB1: OpenPassiveSkillRules | AC1: EquipTalismana | AD1: HeroStage | AE1: HeroLocation | AF1: AttackScale | AG1: DefenseScale | AH1: AssistScale | AI1: HeroStory | AJ1: GrowthSwitch | AK1: Heroadornlevel | AL1: HeroLocationDesc1 | AM1: HeroLocationDesc2 | AN1: RecommendTeamId | AO1: ShowHeroLocation
B2: int | C2: int | D2: string | E2: int | F2: int | G2: int | H2: int | I2: int | J2: int | K2: int | L2: int | M2: int | N2: float | O2: mut,float#float,1 | P2: mut,float#float,1 | Q2: int | R2: int | S2: float | T2: float | U2: float | V2: float | W2: float | X2: mut,int#int,2 | Y2: int | Z2: mut,int#int,2 | AA2: mut,int#int,2 | AB2: mut,int#int,2 | AC2: mut,int#int,1 | AD2: int | AE2: string | AF2: int | AG2: int | AH2: int | AI2: string | AJ2: mut,int#int,1 | AK2: mut.int#int,1 | AL2: String | AM2: String | AN2: mut,int#int,1 | AO2: int
B3: 2 | C3: 3 | D3: 2 | E3: 3 | F3: 3 | G3: 3 | H3: 2 | I3: 2 | J3: 2 | K3: 2 | L3: 2 | M3: 2 | N3: 3 | O3: 3 | P3: 3 | Q3: 2 | R3: 2 | S3: 2 | T3: 2 | U3: 2 | V3: 2 | W3: 2 | X3: 2 | Y3: 2 | Z3: 2 | AA3: 2 | AB3: 2 | AC3: 2 | AD3: 3 | AE3: 3 | AF3: 3 | AG3: 3 | AH3: 3 | AI3: 3 | AJ3: 2 | AK3: 3 | AL3: 3 | AM3: 3 | AN3: 3 | AO3: 3
B4: 角色ID | C4: 角色简单介绍 | D4: 角色名（辨识用） | E4: 角色静态立绘ID | F4: 角色动态立绘ID | G4: 角色小头像 | H4: 角色解锁需要碎片ID--对应物品表 | I4: 角色解锁需要碎片数量（若为0则不通过碎片解锁） 10000临时值 | J4: 初始星级 | K4: 角色品质- | L4: 角色资质 | M4: 角色职业 1、肉盾；2、输出； 3、控制；4，辅助； | N4: 角色缩放值 | O4: 位置 | P4: 妖灵师预览界面位置 | Q4: 角色属性（1、人；2、佛；3、妖；4、道；5.光；6.暗） | R4: 角色最高星级 10星 | S4: 生命值 | T4: 攻击力 | U4: 护甲 | V4: 魔抗 | W4: 速度 | X4: 二级属性中初始默认不为0都要在这边备注出来 属性id#num| | Y4: 初始行动力 | Z4: 升至下一星级需要材料 升至星级#槽位#卡组#数量 | AA4: 技能开放规则 星级#技能id | AB4: 技能开放规则 突破/升星#突破/升星id#技能id 1突破 2升星 突破/升星id去HeroRankupConfig表找 技能id去PassiveSkillLogicConfig表找 | AC4: 角色专属法宝 星级#id | AD4: 角色阶段 | AE4: 角色定位 | AF4: 攻（满值100） | AG4: 防（满值100） | AH4: 辅（满值100） | AI4: 角色传记 | AJ4: 妖灵师能不能升级进阶回溯 1、升级 2、进阶 3、回溯 | AK4: 英雄佩戴魂印等级 | AL4: 英雄定位描述 若未配置则详情界面不显示定位按钮 | AM4: 英雄定位描述补充文字，多行之间以|分割 | AN4: 读取的推荐队伍ID，多个ID之间以#分割 | AO4: 猎妖师详情是否显示定位按钮
A5: 默认值 | B5: 0 | C5: 0 | D5: ="" | E5: 0 | F5: 0 | G5: 0 | H5: 0 | I5: 0 | K5: 0 | M5: 0 | O5: null | P5: null | Q5: 0 | R5: 0 | S5: 0 | T5: 0 | U5: 0 | V5: 0 | Y5: 0 | AN5: 0 | AO5: 0
A6: 正确性校对
A7: 校对值
B8: 10001 | C8: 10501 | D8: 伏羲 | E8: 1001 | F8: 2001 | G8: 3001 | H8: 11001 | I8: 50 | J8: 5 | K8: 5 | L8: 5 | M8: 2 | N8: 0.6 | O8: 0#280 | P8: 0#150 | Q8: 1 | R8: 10 | S8: 4000 | T8: 600 | U8: 200 | V8: 200 | W8: 268 | X8: 53#10000|57#10000|58#10000 | Y8: 30 | Z8: 6#1#3#1|6#2#22#1|6#3#17#3|7#1#17#4|8#1#18#1|8#2#17#3|9#1#3#1|9#2#18#1|9#3#17#2|10#1#3#2|10#2#18#1|10#3#14#1 | AA8: 5#1271|5#1272|6#1271|6#1272|7#1271|7#1272|8#1271|8#1272|9#1271|9#1272|10#1271|10#1272|11#1271|11#1272 | AB8: 1#1#127101|1#2#127102|1#3#127103|1#3#127104|1#4#127105|1#5#127106|2#7#127107|2#8#127108|2#9#127109|2#10#127110|2#11#127111 | AC8: 6#90027 | AD8: 4 | AE8: 灼烧队输出 | AF8: 64 | AG8: 60 | AH8: 81 | AI8: 上古时代，华胥国有个叫“华胥氏”的姑娘，到一个叫雷泽的地方去游玩，偶尔看到了一个巨大的脚印，便好奇地踩了一下，于是就有了身孕，怀孕十二年后生下一个儿子，这个儿子有蛇的身体人的脑袋，取名为伏羲。\n伏羲以一拟太极，然后一画开天，世间万物的创造，世界生命的诞生全靠这一画。\n有谓之天根者，以其混沌世界，黑暗无光，忽焉一画开天，而阴阳动静迭为升降，天地定位，日月运行，万物之生生不息。伏羲一画开天，岂非以一拟太极哉？则凡卦爻，莫非自此一来，固莫非太极之象。\n《易经》云：保世滋大，概群藉而罗万有者，悉在此一画开天，人文肇始之。 | AL8: 增伤 追击 高暴 | AM8: <color=#2C8B1C>六星：</color>释放技能后追加1次普攻|<color=#2C8B1C>九星：</color>敌方每阵亡一人伤害+15%|<color=#2C8B1C>法宝+25：</color>攻击时对灼烧目标暴击率额外+80% | AN8: 12#13 | AO8: 1
B9: 10002 | C9: 10502 | D9: 洛神 | E9: 1002 | F9: 2002 | G9: 3002 | H9: 11002 | I9: 50 | J9: 5 | K9: 5 | L9: 5 | M9: 2 | N9: 0.5 | O9: 0#350 | P9: 0#200 | Q9: 3 | R9: 10 | S9: 4000 | T9: 600 | U9: 200 | V9: 200 | W9: 396 | X9: 53#10000|57#10000|58#10000 | Y9: 30 | Z9: 6#1#3#1|6#2#23#1|6#3#17#3|7#1#17#4|8#1#18#1|8#2#17#3|9#1#3#1|9#2#18#1|9#3#17#2|10#1#3#2|10#2#18#1|10#3#14#1 | AA9: 5#1031|5#1032|6#1031|6#1032|7#1031|7#1032|8#1031|8#1032|9#1031|9#1032|10#1031|10#1032|11#1031|11#1032 | AB9: 1#1#103101|1#2#103102|1#3#103103|1#3#103104|1#4#103105|1#5#103106|2#7#103107|2#8#103108|2#9#103109|2#10#103110|2#11#103111 | AC9: 6#90003 | AD9: 3 | AE9: 永动队输出 | AF9: 64 | AG9: 74 | AH9: 82 | AI9: 洛神最初叫做“宓妃”，这一名称源于屈原《天问》：“帝降夷羿，革孽夏民。胡射夫河伯，而妻彼雒嫔？”意是“天帝降下后羿，（让后羿）改变夏民的灾祸。为何射河伯，娶洛川妃为妻？”宓妃的身份，是河伯之妻，被夏朝的有穷国君夷羿所霸占。\n“吾令丰隆乘云兮， 求宓妃之所在。解佩纕以结言兮，吾令蹇修以为理。纷总总其离合兮，忽纬繣其难迁。夕归次于穷石兮，朝濯发乎洧盤。保厥美以骄傲兮，日康娱以淫游。虽信美而无礼兮，来违弃而改求。”\n——屈原 | AL9: 爆发 追击 增伤 | AM9: <color=#2C8B1C>六星：</color>技能伤害+25%|<color=#2C8B1C>九星：</color>释放技能后追加1次普攻（不回怒气）|<color=#2C8B1C>法宝+25：</color>行动后回1点怒气 | AN9: 1#5 | AO9: 1
B10: 10003 | C10: 10503 | D10: 猪八戒 | E10: 1003 | F10: 2003 | G10: 3003 | H10: 11003 | I10: 50 | J10: 5 | K10: 5 | L10: 5 | M10: 1 | N10: 0.7 | O10: 45#-400 | P10: 45#-330 | Q10: 3 | R10: 10 | S10: 4000 | T10: 600 | U10: 200 | V10: 200 | W10: 260 | X10: 53#10000|57#10000|58#10000 | Y10: 30 | Z10: 6#1#3#1|6#2#24#1|6#3#17#3|7#1#17#4|8#1#18#1|8#2#17#3|9#1#3#1|9#2#18#1|9#3#17#2|10#1#3#2|10#2#18#1|10#3#14#1 | AA10: 5#1061|5#1062|6#1061|6#1062|7#1061|7#1062|8#1061|8#1062|9#1061|9#1062|10#1061|10#1062|11#1061|11#1062 | AB10: 1#1#106101|1#2#106102|1#3#106103|1#3#106104|1#4#106105|1#5#106106|2#7#106107|2#8#106108|2#9#106109|2#10#106110|2#11#106111 | AC10: 6#90006 | AD10: 4 | AE10: 永动队肉盾 | AF10: 70 | AG10: 81 | AH10: 64 | AI10: 猪八戒前世为执掌天河八万水军的“天蓬元帅”，一直倾慕容貌过人的霓裳仙子（属于嫦娥中的一员，《西游记》中各路神仙基本借鉴了正统道教神仙录，由高老庄一集猪八戒提及可见，猪八戒的前世天蓬元帅即是水神天河宪节）。因调戏嫦娥并且惹来纠察灵官后，又拱倒斗牛宫被贬下凡尘，却错投猪胎，在福陵山落草。后受观音菩萨点化，入赘高老庄务农，等待取经人。后成为唐僧的弟子之一，与孙悟空、沙悟净一同保护唐僧去西天取经，几经九九八十一劫难，因保护唐僧有功，成了正果，最后被如来佛祖亲封为“净坛使者”。 | AL10: 吸血 反伤 | AM10: <color=#2C8B1C>六星：</color>受到技能或普攻直接伤害的50%反弹|<color=#2C8B1C>九星：</color>生命+30%|<color=#2C8B1C>法宝+25：</color>受到普攻直接伤害时回1点怒气 | AN10: 1 | AO10: 1
B11: 10004 | C11: 10504 | D11: 慈航道人 | E11: 1004 | F11: 2004 | G11: 3004 | H11: 11004 | I11: 50 | J11: 5 | K11: 5 | L11: 5 | M11: 4 | N11: 0.65 | O11: 10#240 | P11: 10#140 | Q11: 1 | R11: 10 | S11: 4000 | T11: 600 | U11: 200 | V11: 200 | W11: 325 | X11: 53#10000|57#10000|58#10000 | Y11: 30 | Z11: 6#1#3#1|6#2#25#1|6#3#17#3|7#1#17#4|8#1#18#1|8#2#17#3|9#1#3#1|9#2#18#1|9#3#17#2|10#1#3#2|10#2#18#1|10#3#14#1 | AA11: 5#1291|5#1292|6#1291|6#1292|7#1291|7#1292|8#1291|8#1292|9#1291|9#1292|10#1291|10#1292|11#1291|11#1292 | AB11: 1#1#129101|1#2#129102|1#3#129103|1#3#129104|1#4#129105|1#5#129106|2#7#129107|2#8#129108|2#9#129109|2#10#129110|2#11#129111 | AC11: 6#90029 | AD11: 1 | AE11: 灼烧队辅助 | AF11: 70 | AG11: 82 | AH11: 90 | AI11: 慈航道人本来是民间的一名普通的人类女子，封神大战之时，为了搭救自己的母亲，被妲己所害，女娲娘娘感念她至孝纯真，将她安置于玄都洞八景宫太上老君处，并传她千手千眼之术，之后她与太上老君相处几月之后，她决定向女娲娘娘提出要拜玉虚宫的元始天尊为师，故元始天尊传授给她一本属于阐教、截教共修的神通哲理《道德真经》，随即被元始天尊封为十二金仙之一。 | AL11: 治疗 群体 缓回 | AM11: <color=#2C8B1C>六星：</color>释放技能后给目标附加持续治疗效果每回合回复大乔最大攻击20%生命持续2回合|<color=#2C8B1C>九星：</color>普攻后给目标附加持续治疗效果每回合回复大乔32%最大攻击生命2回合|<color=#2C8B1C>法宝+25：</color>释放技能时为队友附加持续治疗效果增大至32%攻击力 | AN11: 13 | AO11: 1
B12: 10005 | C12: 10505 | D12: 妲己 | E12: 1005 | F12: 2005 | G12: 3005 | H12: 11005 | I12: 50 | J12: 5 | K12: 5 | L12: 5 | M12: 3 | N12: 0.55 | O12: 0#270 | P12: -11#134 | Q12: 3 | R12: 10 | S12: 4000 | T12: 600 | U12: 200 | V12: 200 | W12: 343 | X12: 53#10000|57#10000|58#10000 | Y12: 30 | Z12: 6#1#3#1|6#2#23#1|6#3#17#3|7#1#17#4|8#1#18#1|8#2#17#3|9#1#3#1|9#2#18#1|9#3#17#2|10#1#3#2|10#2#18#1|10#3#14#1 | AA12: 5#1071|5#1072|6#1071|6#1072|7#1071|7#1072|8#1071|8#1072|9#1071|9#1072|10#1071|10#1072|11#1071|11#1072 | AB12: 1#1#107101|1#2#107102|1#3#107103|1#3#107104|1#4#107105|1#5#107106|2#7#107107|2#8#107108|2#9#107109|2#10#107110|2#11#107111 | AC12: 6#90007 | AD12: 3 | AE12: 永动队控制 | AF12: 72 | AG12: 74 | AH12: 68 | AI12: 妲己，本是商朝冀州侯苏护之女，苏全忠之妹，乃倾国倾城、美艳娇媚、闭月羞花的绝色美女。后其父亲献女于商纣王为妃，路上却惨遭九尾狐狸精害死噬魂并夺身附体，被利用来迷惑纣王，败殷商气运，断送商汤基业之辉。\n最终被女娲娘娘活捉，当场判了死罪，交给西周一方斩首示众而亡，死于陆压道人送给姜子牙的“斩仙飞刀”之下。 | AL12: 沉默 无消耗 | AM12: <color=#2C8B1C>六星：</color>释放技能后回1点怒气|<color=#2C8B1C>九星：</color>沉默概率提升至65%|<color=#2C8B1C>法宝+25：</color>释放技能后额外回1点怒气 | AN12: 4 | AO12: 1
B13: 10006 | C13: 10506 | D13: 共工 | E13: 1006 | F13: 2006 | G13: 3006 | H13: 11006 | I13: 50 | J13: 5 | K13: 5 | L13: 5 | M13: 4 | N13: 0.5 | O13: -25#210 | P13: -25#50 | Q13: 3 | R13: 10 | S13: 4000 | T13: 600 | U13: 200 | V13: 200 | W13: 311 | X13: 53#10000|57#10000|58#10000 | Y13: 30 | Z13: 6#1#3#1|6#2#27#1|6#3#17#3|7#1#17#4|8#1#18#1|8#2#17#3|9#1#3#1|9#2#18#1|9#3#17#2|10#1#3#2|10#2#18#1|10#3#14#1 | AA13: 5#1041|5#1042|6#1041|6#1042|7#1041|7#1042|8#1041|8#1042|9#1041|9#1042|10#1041|10#1042|11#1041|11#1042 | AB13: 1#1#104101|1#2#104102|1#3#104103|1#3#104104|1#4#104105|1#5#104106|2#7#104107|2#8#104108|2#9#104109|2#10#104110|2#11#104111 | AC13: 6#90004 | AD13: 3 | AE13: 永动队辅助 | AF13: 81 | AG13: 70 | AH13: 64 | AI13: 共工是上古神话里的水神，脾气暴躁，与火神祝融是一对冤家。共工曾与祝融大战连天，输掉以后以头撞向不周山，将不周山这根撑天的柱子撞断了。一时间天河之水倾泻而下，人间变成一片泽国。女娲不忍人间受苦，炼制五彩石将天大的窟窿堵住了。\n后来共工不满女娲受人们爱戴，发动洪水淹没大地。大禹请出应龙等隐居的神兽，打的共工求饶，最后才解决了水患。传说共工是太阳神炎帝的后人，炎帝长于姜水，因而姓姜，共工也姓姜。 | AL13: 无敌 回怒 光环 | AM13: <color=#2C8B1C>六星：</color>释放技能后给除自己外己方生命最少的神将附加无敌盾2回合|<color=#2C8B1C>九星：</color>全体攻击+20%|<color=#2C8B1C>法宝+25：</color>全体暴击率+20% | AN13: 1#2#3 | AO13: 1
B14: 10007 | C14: 10507 | D14: 唐僧 | E14: 1007 | F14: 2007 | G14: 3007 | H14: 11007 | I14: 50 | J14: 5 | K14: 5 | L14: 5 | M14: 4 | N14: 0.65 | O14: -9#340 | P14: 30#200 | Q14: 2 | R14: 10 | S14: 4000 | T14: 600 | U14: 200 | V14: 200 | W14: 343 | X14: 53#10000|57#10000|58#10000 | Y14: 30 | Z14: 6#1#3#1|6#2#28#1|6#3#17#3|7#1#17#4|8#1#18#1|8#2#17#3|9#1#3#1|9#2#18#1|9#3#17#2|10#1#3#2|10#2#18#1|10#3#14#1 | AA14: 5#1161|5#1162|6#1161|6#1162|7#1161|7#1162|8#1161|8#1162|9#1161|9#1162|10#1161|10#1162|11#1161|11#1162 | AB14: 1#1#116101|1#2#116102|1#3#116103|1#3#116104|1#4#116105|1#5#116106|2#7#116107|2#8#116108|2#9#116109|2#10#116110|2#11#116111 | AC14: 6#90016 | AD14: 4 | AE14: 暴力队辅助 | AF14: 64 | AG14: 81 | AH14: 82 | AI14: 唐僧，俗名陈祎，小名江流儿，法号玄奘，号三藏，被唐太宗赐姓为唐。为如来佛祖座下二弟子金蝉长老投胎。他是遗腹子，由于父母凄惨、离奇的经历，自幼在寺庙中出家、长大，在金山寺出家，最终迁移到京城的著名寺院中落户、修行。\n唐僧勤敏好学，悟性极高，在寺庙僧人中脱颖而出。唐太宗请他开“水陆大会”，又被观音菩萨选定为取经人，与唐太宗结拜并前往西天取经。\n在取经路上，唐僧带领徒弟们经历九九八十一难，终于将真经带回东土大唐。 | AL14: 治疗 群体 | AM14: <color=#2C8B1C>六星：</color>受到伤害12%治疗己方全体|<color=#2C8B1C>九星：</color>释放普攻后回1点怒气|<color=#2C8B1C>法宝+25：</color>受到伤害18%治疗己方全体 | AN14: 6#10 | AO14: 1
B15: 10008 | C15: 10508 | D15: 精卫 | E15: 1008 | F15: 2008 | G15: 3008 | H15: 11008 | I15: 50 | J15: 5 | K15: 5 | L15: 5 | M15: 4 | N15: 0.6 | O15: 0#290 | P15: 0#180 | Q15: 3 | R15: 10 | S15: 4000 | T15: 600 | U15: 200 | V15: 200 | W15: 220 | X15: 53#10000|57#10000|58#10000 | Y15: 30 | Z15: 6#1#3#1|6#2#24#1|6#3#17#3|7#1#17#4|8#1#18#1|8#2#17#3|9#1#3#1|9#2#18#1|9#3#17#2|10#1#3#2|10#2#18#1|10#3#14#1 | AA15: 5#1021|5#1022|6#1021|6#1022|7#1021|7#1022|8#1021|8#1022|9#1021|9#1022|10#1021|10#1022|11#1021|11#1022 | AB15: 1#1#102101|1#2#102102|1#3#102103|1#3#102104|1#4#102105|1#5#102106|2#7#102107|2#8#102108|2#9#102109|2#10#102110|2#11#102111 | AC15: 6#90002 | AD15: 1 | AE15: 永动队辅助 | AF15: 81 | AG15: 60 | AH15: 64 | AI15: 女娃，炎帝最小的女儿，后化作精卫，精卫填海典故的主人公就是女娃。女娃化为精卫后住在发鸠山，形状和乌鸦相似，但头部有花纹，嘴是白色的，足是红色的，她的鸣叫就是自呼其名，她常常用嘴夹着西山上的小树枝和碎石，去填东海。\n发鸠之山，其上多柘木，有鸟焉，其状如乌，文首，白喙，赤足，名曰：“精卫”，其鸣自詨。是炎帝之少女，名曰女娃。女娃游于东海，溺而不返，故为精卫，常衔西山之木石，以堙于东海。漳水出焉，东流注于河。\n——《山海经》 | AL15: 回怒 无消耗 治疗 | AM15: <color=#2C8B1C>六星：</color>释放技能40%概率不消耗怒气|<color=#2C8B1C>九星：</color>技能直接伤害40%转化为生命治疗生命最少的队员|<color=#2C8B1C>法宝+25：</color>全体暴击率+30% | AN15: 1#5 | AO15: 1
B16: 10009 | C16: 10509 | D16: 龙吉公主 | E16: 1009 | F16: 2009 | G16: 3009 | H16: 11009 | I16: 50 | J16: 5 | K16: 5 | L16: 5 | M16: 4 | N16: 0.65 | O16: 0#260 | P16: 0#160 | Q16: 1 | R16: 10 | S16: 4000 | T16: 600 | U16: 200 | V16: 200 | W16: 310 | X16: 53#10000|57#10000|58#10000 | Y16: 30 | Z16: 6#1#3#1|6#2#22#1|6#3#17#3|7#1#17#4|8#1#18#1|8#2#17#3|9#1#3#1|9#2#18#1|9#3#17#2|10#1#3#2|10#2#18#1|10#3#14#1 | AA16: 5#1311|5#1312|6#1311|6#1312|7#1311|7#1312|8#1311|8#1312|9#1311|9#1312|10#1311|10#1312|11#1311|11#1312 | AB16: 1#1#131101|1#2#131102|1#3#131103|1#3#131104|1#4#131105|1#5#131106|2#7#131107|2#8#131108|2#9#131109|2#10#131110|2#11#131111 | AC16: 6#90031 | AD16: 3 | AE16: 灼烧队辅助 | AF16: 82 | AG16: 70 | AH16: 65 | AI16: 龙吉公主原为天仙，乃昊天上帝之女，瑶池金母所生，有思凡之心，曾居于天宫，当年蟠桃会上失了礼数，被贬在凤凰山青鸾斗阙，因罗宣火焚西岐城，为此下山助武王伐纣，将功补过，并希望有朝一日恢复仙籍重回天庭。因符元仙翁称她与洪锦有姻缘，月下老人下凡牵线，嫁于手下败将洪锦。在攻打万仙阵之时，龙吉公主被金灵圣母用四象塔打落马下，被截教众仙所杀，其丈夫洪锦也被金灵圣母以龙虎如意打杀。后被姜子牙封神，成为红鸾星。 | AL16: 光环 回怒 无敌 | AM16: <color=#2C8B1C>六星：</color>全体攻击+20%|<color=#2C8B1C>九星：</color>释放技能后全体回1点怒气|<color=#2C8B1C>法宝+25：</color>释放技能后给两名血量最少队友附加无敌吸血盾1回合 | AN16: 12#13#14 | AO16: 1
B17: 10010 | C17: 10510 | D17: 孔雀明王 | E17: 1010 | F17: 2010 | G17: 3010 | H17: 11010 | I17: 50 | J17: 5 | K17: 5 | L17: 5 | M17: 1 | N17: 0.8 | O17: 10#250 | P17: 0#200 | Q17: 2 | R17: 10 | S17: 4000 | T17: 600 | U17: 200 | V17: 200 | W17: 300 | X17: 53#10000|57#10000|58#10000 | Y17: 30 | Z17: 6#1#3#1|6#2#31#1|6#3#17#3|7#1#17#4|8#1#18#1|8#2#17#3|9#1#3#1|9#2#18#1|9#3#17#2|10#1#3#2|10#2#18#1|10#3#14#1 | AA17: 5#1171|5#1172|6#1171|6#1172|7#1171|7#1172|8#1171|8#1172|9#1171|9#1172|10#1171|10#1172|11#1171|11#1172 | AB17: 1#1#117101|1#2#117102|1#3#117103|1#3#117104|1#4#117105|1#5#117106|2#7#117107|2#8#117108|2#9#117109|2#10#117110|2#11#117111 | AC17: 6#90017 | AD17: 3 | AE17: 暴力队肉盾 | AF17: 90 | AG17: 61 | AH17: 71 | AI17: 孔雀明王汉译有摩诃摩瑜利罗阇、佛母大孔雀明王等。此尊相传为毗卢遮那佛或释迦牟尼佛的等流身。密号为佛母金刚、护世金刚。在密教修法中，以孔雀明王为本尊而修者，称为孔雀明王经法，又称孔雀经法。为密教四大法之一。根据《孔雀明王经》记载，佛陀在世时，有一位莎底比丘遭到毒蛇咬螫，不胜其苦，当阿难向佛陀禀告之后，佛陀于是教导一个可以消除鬼魅、毒害、恶疾的修持法门，这就是《孔雀明王经》的主要内容。 | AL17: 减伤 增疗 | AM17: <color=#2C8B1C>六星：</color>减伤盾持续时间变为2回合|<color=#2C8B1C>九星：</color>生命+30%|<color=#2C8B1C>法宝+25：</color>受到治疗量增加50% | AN17: 10 | AO17: 1
B18: 10011 | C18: 10511 | D18: 雷震子 | E18: 1011 | F18: 2011 | G18: 3011 | H18: 11011 | I18: 50 | J18: 5 | K18: 5 | L18: 5 | M18: 2 | N18: 0.6 | O18: -60#230 | P18: 0#120 | Q18: 3 | R18: 10 | S18: 4000 | T18: 600 | U18: 200 | V18: 200 | W18: 292 | X18: 53#10000|57#10000|58#10000 | Y18: 30 | Z18: 6#1#3#1|6#2#32#1|6#3#17#3|7#1#17#4|8#1#18#1|8#2#17#3|9#1#3#1|9#2#18#1|9#3#17#2|10#1#3#2|10#2#18#1|10#3#14#1 | AA18: 5#1011|5#1012|6#1011|6#1012|7#1011|7#1012|8#1011|8#1012|9#1011|9#1012|10#1011|10#1012|11#1011|11#1012 | AB18: 1#1#101101|1#2#101102|1#3#101103|1#3#101104|1#4#101105|1#5#101106|2#7#101107|2#8#101108|2#9#101109|2#10#101110|2#11#101111 | AC18: 6#90001 | AD18: 1 | AE18: 永动队输出 | AF18: 90 | AG18: 71 | AH18: 72 | AI18: 雷震子乃天雷将星下世，身份神秘，商末年间诞生于燕山，周文王姬昌避雨时相遇后，并收养为义子。因其现身时霹雳交加，电闪雷鸣，所以取名雷震子。自幼修行学艺，拜在阐教门下福德真仙云中子为师。\n雷震子身长二丈，全身水合色，背肋下生出一对“风雷双翅”。手使一条黄金棍，力大无穷，武艺高强，展开羽翼飞行时风生雷动，且速度奇快，可日行万里。\n在封神之战后，因封神榜上无名，最终肉身成圣。 | AL18: 群体 爆发 追技 | AM18: <color=#2C8B1C>六星：</color>直接伤害击杀目标回2点怒气|<color=#2C8B1C>九星：</color>技能伤害增加30%|<color=#2C8B1C>法宝+25：</color>释放技能40%概率追加1次技能对敌方全体造成41%法术伤害不触发特性 | AN18: 1#2#3 | AO18: 1
B19: 10012 | C19: 10512 | D19: 降龙罗汉 | E19: 1012 | F19: 2012 | G19: 3012 | H19: 11012 | I19: 50 | J19: 5 | K19: 5 | L19: 5 | M19: 2 | N19: 0.5 | O19: 40#380 | P19: 0#250 | Q19: 2 | R19: 10 | S19: 4000 | T19: 600 | U19: 200 | V19: 200 | W19: 286 | X19: 53#10000|57#10000|58#10000 | Y19: 30 | Z19: 6#1#3#1|6#2#31#1|6#3#17#3|7#1#17#4|8#1#18#1|8#2#17#3|9#1#3#1|9#2#18#1|9#3#17#2|10#1#3#2|10#2#18#1|10#3#14#1 | AA19: 5#1211|5#1212|6#1211|6#1212|7#1211|7#1212|8#1211|8#1212|9#1211|9#1212|10#1211|10#1212|11#1211|11#1212 | AB19: 1#1#121101|1#2#121102|1#3#121103|1#3#121104|1#4#121105|1#5#121106|2#7#121107|2#8#121108|2#9#121109|2#10#121110|2#11#121111 | AC19: 6#90021 | AD19: 1 | AE19: 暴力队输出 | AF19: 90 | AG19: 60 | AH19: 71 | AI19: 传说古印度有龙王用洪水淹那竭国，将佛经藏于龙宫。后来降龙尊者降服了龙王取回佛经，立了大功，故称他为「降龙尊者」。降龙罗汉乃佛祖座下弟子，法力无边，助佛祖降龙伏妖，立下不少奇功。降龙修炼1420年却始终不能得成正果，求教观音，得知七世尘缘未了，便下凡普渡众生，了结未了尘缘。 | AL19: 追击 增伤 增暴 | AM19: <color=#2C8B1C>六星：</color>战斗中生命每降10%伤害+5%|<color=#2C8B1C>九星：</color>战斗中生命每降10%暴击率+5%|<color=#2C8B1C>法宝+25：</color>生命降低10%攻击增加5% | AN19: 6#11 | AO19: 1
B20: 10013 | C20: 10532 | D20: 吕洞宾 | E20: 1013 | F20: 2013 | G20: 3013 | H20: 11013 | I20: 50 | J20: 5 | K20: 5 | L20: 5 | M20: 3 | N20: 0.65 | O20: -35#267 | P20: -35#137 | Q20: 4 | R20: 10 | S20: 4000 | T20: 600 | U20: 200 | V20: 200 | W20: 264 | X20: 53#10000|57#10000|58#10000 | Y20: 30 | Z20: 6#1#3#1|6#2#34#1|6#3#17#3|7#1#17#4|8#1#18#1|8#2#17#3|9#1#3#1|9#2#18#1|9#3#17#2|10#1#3#2|10#2#18#1|10#3#14#1 | AA20: 5#1461|5#1462|6#1461|6#1462|7#1461|7#1462|8#1461|8#1462|9#1461|9#1462|10#1461|10#1462|11#1461|11#1462 | AB20: 1#1#146101|1#2#146102|1#3#146103|1#3#146104|1#4#146105|1#5#146106|2#7#146107|2#8#146108|2#9#146109|2#10#146110|2#11#146111 | AC20: 6#90046 | AD20: 3 | AE20: 减怒队控制 | AF20: 71 | AG20: 65 | AH20: 68 | AI20: 唐朝时，在一个叫永乐乡的地方，住着一户吕姓人家。这吕家世代都是读书人，并且都在朝廷上当过官。吕洞宾就出生在这样的人家。\n吕洞宾母亲在要生吕洞宾的时候，屋里异香扑鼻，空中仙乐阵阵，一只白鹤自天而下，飞入他母亲的帐中就消失。生下吕洞宾果然气度不凡，自小聪明过人，日记万言，过目成诵，出口成章。\n长安应考，在酒肆中遇见上天仙使钟离权。钟离权让他做了一个建功树名、出将入相、封妻荫子的美梦，醒后方知功名利禄均为梦幻，遂大彻大悟，拜钟离权为师，赴终南山中修道，改名喦，字洞宾。 | AL20: 群体 麻痹 减怒 | AM20: <color=#2C8B1C>六星：</color>释放技能回1点怒气|<color=#2C8B1C>九星：</color>技能伤害+25%|<color=#2C8B1C>法宝+25：</color>技能麻痹几率提升至50% | AN20: 17 | AO20: 1
B21: 10014 | C21: 10514 | D21: 哪吒 | E21: 1014 | F21: 2014 | G21: 3014 | H21: 11014 | I21: 50 | J21: 5 | K21: 5 | L21: 5 | M21: 4 | N21: 0.8 | O21: -30#295 | P21: -30#145 | Q21: 1 | R21: 10 | S21: 4000 | T21: 600 | U21: 200 | V21: 200 | W21: 313 | X21: 53#10000|57#10000|58#10000 | Y21: 30 | Z21: 6#1#3#1|6#2#35#1|6#3#17#3|7#1#17#4|8#1#18#1|8#2#17#3|9#1#3#1|9#2#18#1|9#3#17#2|10#1#3#2|10#2#18#1|10#3#14#1 | AA21: 5#1281|5#1282|6#1281|6#1282|7#1281|7#1282|8#1281|8#1282|9#1281|9#1282|10#1281|10#1282|11#1281|11#1282 | AB21: 1#1#128101|1#2#128102|1#3#128103|1#3#128104|1#4#128105|1#5#128106|2#7#128107|2#8#128108|2#9#128109|2#10#128110|2#11#128111 | AC21: 6#90028 | AD21: 3 | AE21: 灼烧队辅助 | AF21: 90 | AG21: 73 | AH21: 72 | AI21: 哪吒是陈塘关总兵李靖的第三个儿子，金吒、木吒的三弟，本是镇阐教之宝灵珠子投胎转世；奉元始天尊法旨下凡，母亲殷夫人怀胎三年零六个月 生出一个肉球，李靖以为是妖物就用剑切开，里面跳出一个手戴金镯、肚缠红绫的男婴。太乙真人登门道贺，收徒取名“哪吒”。\n在与东海龙王发生冲突后，哪吒挺身自刎保下百姓。事后太乙真人以莲花为哪吒做出了崭新的身躯，并在讨伐纣王的战斗中立下赫赫功劳，最终肉身成圣。 | AL21: 群体 灼烧 | AM21: <color=#2C8B1C>六星：</color>技能灼烧概率提升至65%|<color=#2C8B1C>九星：</color>普攻有40%概率使攻击者灼烧2回合|<color=#2C8B1C>法宝+25：</color>受到普攻有80%概率使攻击者灼烧2回合 | AN21: 12#13#14 | AO21: 1
B22: 10015 | C22: 10515 | D22: 伏虎罗汉 | E22: 1015 | F22: 2015 | G22: 3015 | H22: 11015 | I22: 50 | J22: 5 | K22: 5 | L22: 5 | M22: 2 | N22: 0.65 | O22: 0#350 | P22: 0#200 | Q22: 2 | R22: 10 | S22: 4000 | T22: 600 | U22: 200 | V22: 200 | W22: 300 | X22: 53#10000|57#10000|58#10000 | Y22: 30 | Z22: 6#1#3#1|6#2#28#1|6#3#17#3|7#1#17#4|8#1#18#1|8#2#17#3|9#1#3#1|9#2#18#1|9#3#17#2|10#1#3#2|10#2#18#1|10#3#14#1 | AA22: 5#1201|5#1202|6#1201|6#1202|7#1201|7#1202|8#1201|8#1202|9#1201|9#1202|10#1201|10#1202|11#1201|11#1202 | AB22: 1#1#120101|1#2#120102|1#3#120103|1#3#120104|1#4#120105|1#5#120106|2#7#120107|2#8#120108|2#9#120109|2#10#120110|2#11#120111 | AC22: 6#90020 | AD22: 1 | AE22: 暴力队输出 | AF22: 89 | AG22: 61 | AH22: 71 | AI22: 传说伏虎尊者所住的寺庙外，经常有猛虎因肚子饿长哮，伏虎尊者把自己的饭食分给这只老虎，时间一长了猛虎就被他降服了，常和他一起玩耍，故又称他为「伏虎罗汉」。 | AL22: 单体 爆发 必暴 | AM22: <color=#2C8B1C>六星：</color>战斗第一回合必定暴击|<color=#2C8B1C>九星：</color>技能伤害+25%|<color=#2C8B1C>法宝+25：</color>直接伤害击杀目标回1点怒气 | AN22: 6 | AO22: 1
B23: 10016 | C23: 10516 | D23: 蚩尤 | E23: 1016 | F23: 2016 | G23: 3016 | H23: 11016 | I23: 50 | J23: 5 | K23: 5 | L23: 5 | M23: 1 | N23: 0.6 | O23: 0#235 | P23: 0#100 | Q23: 1 | R23: 10 | S23: 4000 | T23: 600 | U23: 200 | V23: 200 | W23: 288 | X23: 53#10000|57#10000|58#10000 | Y23: 30 | Z23: 6#1#3#1|6#2#37#1|6#3#17#3|7#1#17#4|8#1#18#1|8#2#17#3|9#1#3#1|9#2#18#1|9#3#17#2|10#1#3#2|10#2#18#1|10#3#14#1 | AA23: 5#1301|5#1302|6#1301|6#1302|7#1301|7#1302|8#1301|8#1302|9#1301|9#1302|10#1301|10#1302|11#1301|11#1302 | AB23: 1#1#130101|1#2#130102|1#3#130103|1#3#130104|1#4#130105|1#5#130106|2#7#130107|2#8#130108|2#9#130109|2#10#130110|2#11#130111 | AC23: 6#90030 | AD23: 3 | AE23: 灼烧队肉盾 | AF23: 70 | AG23: 67 | AH23: 67 | AI23: 传说蚩尤有八只脚，三头六臂，铜头铁额，刀枪不入。善于使用刀、斧、戈作战，不死不休，勇猛无比。黄帝不能力敌，请天神助其破之。杀得天昏地暗，血流成河。蚩尤被黄帝所杀，帝斩其首葬之，首级化为血枫林。后黄帝尊蚩尤为“兵主”，即战争之神。\n“食铁石”，“人身牛蹄，四目六手，耳鬓如剑戟，头有角”。\n——《述异记》 | AL23: 吸血 减伤 无敌 | AM23: <color=#2C8B1C>六星：</color>受到灼烧状态敌人攻击时受到伤害减少40%|<color=#2C8B1C>九星：</color>战斗第一回合无敌（不会被清除）|<color=#2C8B1C>法宝+25：</color>受到灼烧状态敌人攻击所受伤害额外再降低25% | AN23: 12#13 | AO23: 1
B24: 10017 | C24: 10517 | D24: 嫦娥 | E24: 1017 | F24: 2017 | G24: 3017 | H24: 11017 | I24: 50 | J24: 5 | K24: 5 | L24: 5 | M24: 2 | N24: 0.65 | O24: 62.45#227.81 | P24: 62.45#100 | Q24: 1 | R24: 10 | S24: 4000 | T24: 600 | U24: 200 | V24: 200 | W24: 264 | X24: 53#10000|57#10000|58#10000 | Y24: 30 | Z24: 6#1#3#1|6#2#25#1|6#3#17#3|7#1#17#4|8#1#18#1|8#2#17#3|9#1#3#1|9#2#18#1|9#3#17#2|10#1#3#2|10#2#18#1|10#3#14#1 | AA24: 5#1331|5#1332|6#1331|6#1332|7#1331|7#1332|8#1331|8#1332|9#1331|9#1332|10#1331|10#1332|11#1331|11#1332 | AB24: 1#1#133101|1#2#133102|1#3#133103|1#3#133104|1#4#133105|1#5#133106|2#7#133107|2#8#133108|2#9#133109|2#10#133110|2#11#133111 | AC24: 6#90033 | AD24: 1 | AE24: 灼烧队输出 | AF24: 64 | AG24: 72 | AH24: 81 | AI24: 嫦娥是后裔的妻子，两人在一起生活着。后羿射下九个太阳，受到百姓的尊敬和爱戴，不少志士慕名前来投师学艺。奸诈刁钻、心术不正的逢蒙也混了进来。后羿向西王母求得一包不死药，交予嫦娥保管。逢蒙趁后羿外出，逼迫嫦娥交出不死药，嫦娥危急之时吞下不死药，不多时便飘离地面，飞落月亮上成了仙。\n后羿回家寻妻不得，捶胸顿足，仰望月亮千呼万唤地呼唤嫦娥名字。月母被羿的真情所打动，允许嫦娥在月圆之日与羿在月桂树下相会。 | AL24: 单体 追击 爆发 | AM24: <color=#2C8B1C>六星：</color>技能对灼烧目标伤害额外增加50%|<color=#2C8B1C>九星：</color>直接伤害击杀目标回1点怒气|<color=#2C8B1C>法宝+25：</color>普攻对灼烧目标伤害额外+80% | AN24: 12 | AO24: 1
B25: 10018 | C25: 10518 | D25: 九命猫 | E25: 1018 | F25: 2018 | G25: 3018 | H25: 11018 | I25: 50 | J25: 5 | K25: 5 | L25: 5 | M25: 4 | N25: 0.2 | O25: 30#300 | P25: 30#200 | Q25: 3 | R25: 10 | S25: 4000 | T25: 600 | U25: 200 | V25: 200 | W25: 264 | X25: 53#10000|57#10000|58#10000 | Y25: 30 | Z25: 6#1#3#1|6#2#32#1|6#3#17#3|7#1#17#4|8#1#18#1|8#2#17#3|9#1#3#1|9#2#18#1|9#3#17#2|10#1#3#2|10#2#18#1|10#3#14#1 | AA25: 5#1051|5#1052|6#1051|6#1052|7#1051|7#1052|8#1051|8#1052|9#1051|9#1052|10#1051|10#1052|11#1051|11#1052 | AB25: 1#1#105101|1#2#105102|1#3#105103|1#3#105104|1#4#105105|1#5#105106|2#7#105107|2#8#105108|2#9#105109|2#10#105110|2#11#105111 | AC25: 6#90005 | AD25: 1 | AE25: 永动队辅助 | AF25: 64 | AG25: 72 | AH25: 82 | AI25: 传说世间的一切生灵皆可修炼成仙，而猫自然在其中。每修炼一百年，猫就会多长出一条尾巴，等到有九条尾巴的时候，就算功德圆满了，连天上的神仙都要敬让三分。/n可是，这第九条尾巴却是极难修到的，当猫修炼到第八条尾巴时，会得到一个提示，帮助它的主人实现一个愿望，心愿完成后，会长出一条新的尾巴，但是从前的尾巴也会脱落一条，仍是八尾。这看起来是个奇怪的死循环，无论怎样都不可能修炼到九条尾巴。/n但是这只猫因为独特的机缘，而修成了九尾，被称为九命猫。 | AL25: 治疗 | AM25: <color=#2C8B1C>六星：</color>受到直接伤害16%治疗己方三个生命最少单位|<color=#2C8B1C>九星：</color>释放技能后回1点怒气|<color=#2C8B1C>法宝+25：</color>技能治疗量+25% | AN25: 1#4#5 | AO25: 1
B26: 10019 | C26: 10519 | D26: 巨灵神 | E26: 1019 | F26: 2019 | G26: 3019 | H26: 11019 | I26: 50 | J26: 5 | K26: 5 | L26: 5 | M26: 1 | N26: 0.2 | O26: 0#250 | P26: 0#150 | Q26: 4 | R26: 10 | S26: 4000 | T26: 600 | U26: 200 | V26: 200 | W26: 350 | X26: 53#10000|57#10000|58#10000 | Y26: 30 | Z26: 6#1#3#1|6#2#40#1|6#3#17#3|7#1#17#4|8#1#18#1|8#2#17#3|9#1#3#1|9#2#18#1|9#3#17#2|10#1#3#2|10#2#18#1|10#3#14#1 | AA26: 5#1431|5#1432|6#1431|6#1432|7#1431|7#1432|8#1431|8#1432|9#1431|9#1432|10#1431|10#1432|11#1431|11#1432 | AB26: 1#1#143101|1#2#143102|1#3#143103|1#3#143104|1#4#143105|1#5#143106|2#7#143107|2#8#143108|2#9#143109|2#10#143110|2#11#143111 | AC26: 6#90043 | AD26: 4 | AE26: 减怒队肉盾 | AF26: 72 | AG26: 74 | AH26: 68 | AI26: 巨灵神，是托塔天王帐下的一员战将，使用的兵器是件宣花板斧，舞动起沉重的宣花板斧，就象凤凰穿花，灵巧无比。\n二华之山，本一山也，当河，河水过之，而曲行；河神巨灵，以手擘开其上，以足蹈离其下，中分为两。以利河流。今观手迹于华岳上，指掌之形具在；脚迹在首阳山下，至今犹存。\n——《搜神记》 | AL26: 减伤 减怒 | AM26: <color=#2C8B1C>六星：</color>受到普攻降低攻击自己的神将1点怒气|<color=#2C8B1C>九星：</color>受到治疗量+50%|<color=#2C8B1C>法宝+25：</color>减伤盾减伤比例提升至50% | AN26: 17#19 | AO26: 1
B27: 10020 | C27: 10520 | D27: 姑获鸟 | E27: 1020 | F27: 2020 | G27: 3020 | H27: 11020 | I27: 50 | J27: 5 | K27: 5 | L27: 5 | M27: 3 | N27: 0.65 | O27: 20#220 | P27: 20#120 | Q27: 3 | R27: 10 | S27: 4000 | T27: 600 | U27: 200 | V27: 200 | W27: 376 | X27: 53#10000|57#10000|58#10000 | Y27: 30 | Z27: 6#1#3#1|6#2#27#1|6#3#17#3|7#1#17#4|8#1#18#1|8#2#17#3|9#1#3#1|9#2#18#1|9#3#17#2|10#1#3#2|10#2#18#1|10#3#14#1 | AA27: 5#1081|5#1082|6#1081|6#1082|7#1081|7#1082|8#1081|8#1082|9#1081|9#1082|10#1081|10#1082|11#1081|11#1082 | AB27: 1#1#108101|1#2#108102|1#3#108103|1#3#108104|1#4#108105|1#5#108106|2#7#108107|2#8#108108|2#9#108109|2#10#108110|2#11#108111 | AC27: 6#90008 | AD27: 4 | AE27: 永动队控制 | AF27: 64 | AG27: 72 | AH27: 82 | AI27: 姑获鸟就是来自中国古代神话传说的妖怪，有时以九头的样子显形。\n明代《本草纲目》里提到了它的由来，说是死去的产妇的执念所化，抱着婴儿在夜里行走，怀抱里婴儿的哭声就化成了姑获鸟的叫声。\n晋代《玄中记》。姑获鸟有时会变成夏获鸟，姑获鸟抱走孩子，而夏获鸟收养孩子。 | AL27: 眩晕 减怒 | AM27: <color=#2C8B1C>六星：</color>释放技能后回1点怒气|<color=#2C8B1C>九星：</color>释放技能后降低目标1点怒气|<color=#2C8B1C>法宝+25：</color>直接伤害导致死亡时100%眩晕攻击自己的神将 | AN27: 4 | AO27: 1
B28: 10021 | C28: 10521 | D28: 东陵圣母 | E28: 1021 | F28: 2021 | G28: 3021 | H28: 11021 | I28: 50 | J28: 5 | K28: 5 | L28: 5 | M28: 3 | N28: 0.6 | O28: -26.79#328.55 | P28: -26.79#150 | Q28: 1 | R28: 10 | S28: 4000 | T28: 600 | U28: 200 | V28: 200 | W28: 326 | X28: 53#10000|57#10000|58#10000 | Y28: 30 | Z28: 6#1#3#1|6#2#35#1|6#3#17#3|7#1#17#4|8#1#18#1|8#2#17#3|9#1#3#1|9#2#18#1|9#3#17#2|10#1#3#2|10#2#18#1|10#3#14#1 | AA28: 5#1321|5#1322|6#1321|6#1322|7#1321|7#1322|8#1321|8#1322|9#1321|9#1322|10#1321|10#1322|11#1321|11#1322 | AB28: 1#1#132101|1#2#132102|1#3#132103|1#3#132104|1#4#132105|1#5#132106|2#7#132107|2#8#132108|2#9#132109|2#10#132110|2#11#132111 | AC28: 6#90032 | AD28: 3 | AE28: 灼烧队控制 | AF28: 70 | AG28: 71 | AH28: 67 | AI28: 东陵圣母，广陵府海陵县人，嫁于杜氏，拜刘纲为师学道，能够易形变化，时隐时现没有定准。她的丈夫杜氏不信道，常常因此生她的气。东陵圣母治病救人，有时前往有病的人家，她的丈夫气愤得更加厉害，把她告到官府，理由是：“东陵圣母是邪恶伪诈的妖人，不理家务。”官府就把东陵圣母抓起来投进监狱。不久，东陵圣母已经从监狱的天窗中飞出去，众人都望见她越来越高直入云中，只留下她所穿的一双鞋在窗下。\n于是远近的人盖庙宇祭祀她，老百姓求告的事，向她祷告立刻见效。经常有一只青色的鸟在祭祀的地方，有人丢失了东西，向她乞问在哪里，青鸟就飞去落在偷东西那个人的头上，因此，那里路不拾遗。岁月稍长，也就不再这样了。至今海陵县人不得做奸盗之事。如果做了，罪过大的，不是被风浪吞没淹死，就是被虎狼吃掉，罪过小的就一再生病。 | AL28: 群体 眩晕 终曲 | AM28: <color=#2C8B1C>六星：</color>释放技能时如目标处于灼烧状态眩晕概率提升至50%|<color=#2C8B1C>九星：</color>死亡时释放一次技能|<color=#2C8B1C>法宝+25：</color>释放技能时如目标处于灼烧状态眩晕率提升至80% | AN28: 13 | AO28: 1
B29: 10022 | C29: 10522 | D29: 文殊菩萨 | E29: 1022 | F29: 2022 | G29: 3022 | H29: 11022 | I29: 50 | J29: 5 | K29: 5 | L29: 5 | M29: 3 | N29: 0.65 | O29: 150#240 | P29: 30#140 | Q29: 2 | R29: 10 | S29: 4000 | T29: 600 | U29: 200 | V29: 200 | W29: 325 | X29: 53#10000|57#10000|58#10000 | Y29: 30 | Z29: 6#1#3#1|6#2#43#1|6#3#17#3|7#1#17#4|8#1#18#1|8#2#17#3|9#1#3#1|9#2#18#1|9#3#17#2|10#1#3#2|10#2#18#1|10#3#14#1 | AA29: 5#1151|5#1152|6#1151|6#1152|7#1151|7#1152|8#1151|8#1152|9#1151|9#1152|10#1151|10#1152|11#1151|11#1152 | AB29: 1#1#115101|1#2#115102|1#3#115103|1#3#115104|1#4#115105|1#5#115106|2#7#115107|2#8#115108|2#9#115109|2#10#115110|2#11#115111 | AC29: 6#90015 | AD29: 1 | AE29: 暴力队控制 | AF29: 81 | AG29: 61 | AH29: 65 | AI29: 文殊菩萨，音译作文殊师利、曼殊室利、满祖室哩，意译为妙德、妙吉祥、妙乐、法王子。又称文殊师利童真、孺童文殊菩萨。为佛教四大菩萨之一。与般若经典关系甚深，故称为大智文殊师利菩萨。\n文殊菩萨是佛陀怙恃之一。文殊菩萨又称法王子，为智慧之象征，身紫金色，形如童子，五髻冠其项，右手持金刚宝剑(表示智能之利)，能斩群魔，断一切烦恼，左手持青莲花，花上有金刚般若经卷宝，象征所具无上智慧，坐骑为一狮子(表示智能威猛)。\n一般称文殊师利菩萨，与普贤菩萨同为释迦佛之胁侍，分别表示佛智、佛慧之别德。所乘之狮子，象征其威猛。 | AL29: 眩晕 追技 减怒 | AM29: <color=#2C8B1C>六星：</color>释放技能后回2点怒气|<color=#2C8B1C>九星：</color>释放技能眩晕概率提升至70%|<color=#2C8B1C>法宝+25：</color>释放技能后降低目标1点怒气 | AN29: 6#9#10 | AO29: 1
B30: 10023 | C30: 10523 | D30: 孙悟空 | E30: 1023 | F30: 2023 | G30: 3023 | H30: 11023 | I30: 50 | J30: 5 | K30: 5 | L30: 5 | M30: 2 | N30: 0.8 | O30: -2.5#-590.7 | P30: -2.5#-450 | Q30: 2 | R30: 10 | S30: 4000 | T30: 600 | U30: 200 | V30: 200 | W30: 295 | X30: 53#10000|57#10000|58#10000 | Y30: 30 | Z30: 6#1#3#1|6#2#44#1|6#3#17#3|7#1#17#4|8#1#18#1|8#2#17#3|9#1#3#1|9#2#18#1|9#3#17#2|10#1#3#2|10#2#18#1|10#3#14#1 | AA30: 5#1141|5#1142|6#1141|6#1142|7#1141|7#1142|8#1141|8#1142|9#1141|9#1142|10#1141|10#1142|11#1141|11#1142 | AB30: 1#1#114101|1#2#114102|1#3#114103|1#3#114104|1#4#114105|1#5#114106|2#7#114107|2#8#114108|2#9#114109|2#10#114110|2#11#114111 | AC30: 6#90014 | AD30: 1 | AE30: 暴力队输出 | AF30: 81 | AG30: 58 | AH30: 64 | AI30: 孙悟空出生于娑婆世界东胜神洲傲来国花果山，自开辟以来的仙石孕育而生。仙石处于十洲三岛的祖脉上，其高围按二十四气，其上窍孔对应九宫八卦。一天仙石迸裂，产一石卵， 经风一吹，化作一石猴，石猴出世后，眼里冒出两道神光，射冲斗府，惊动的天上的玉皇大帝。之后因为成功闯入水帘洞，被花果山诸猴拜为“美猴王”。后自称“齐天大圣”，西天取经经历九九八十一难后被封为“斗战胜佛”。 | AL30: 增伤 爆发 追击 | AM30: <color=#2C8B1C>六星：</color>普攻后自身伤害+10%持续7回合效果可叠加|<color=#2C8B1C>九星：</color>释放技能后回2点怒气|<color=#2C8B1C>法宝+25：</color>直接伤害击杀目标会追加一次普攻 不点怒气 | AN30: 6#7#8 | AO30: 1
B31: 10024 | C31: 10524 | D31: 姜子牙 | E31: 1024 | F31: 2024 | G31: 3024 | H31: 11024 | I31: 50 | J31: 5 | K31: 5 | L31: 5 | M31: 4 | N31: 0.75 | O31: 0#250 | P31: 0#100 | Q31: 4 | R31: 10 | S31: 4000 | T31: 600 | U31: 200 | V31: 200 | W31: 306 | X31: 53#10000|57#10000|58#10000 | Y31: 30 | Z31: 6#1#3#1|6#2#34#1|6#3#17#3|7#1#17#4|8#1#18#1|8#2#17#3|9#1#3#1|9#2#18#1|9#3#17#2|10#1#3#2|10#2#18#1|10#3#14#1 | AA31: 5#1421|5#1422|6#1421|6#1422|7#1421|7#1422|8#1421|8#1422|9#1421|9#1422|10#1421|10#1422|11#1421|11#1422 | AB31: 1#1#142101|1#2#142102|1#3#142103|1#3#142104|1#4#142105|1#5#142106|2#7#142107|2#8#142108|2#9#142109|2#10#142110|2#11#142111 | AC31: 6#90042 | AD31: 3 | AE31: 减怒队辅助 | AF31: 55 | AG31: 60 | AH31: 69 | AI31: 姜子牙是昆仑山玉虚宫元始天尊门下的阐教弟子之一，后被派下山辅佐明君周武王姬发反商伐纣，代理封神，推翻恶君商纣王后，奉法旨敕封三百六十五路正神，自己无福成正果，只能得享人间富贵。\n姜子牙代理封神榜、执掌打神鞭，有法宝杏黄旗护体，骑着神兽坐骑四不相。封神完毕之后，元始天尊赠予姜子牙打神鞭，并特许他可云游众神部，每去一处，该部正神暂时让位，就是所谓的“太公在此，诸神回避”。 | AL31: 治疗 群体 复活 | AM31: <color=#2C8B1C>六星：</color>技能治疗量+25%|<color=#2C8B1C>九星：</color>死亡时释放一次技能|<color=#2C8B1C>法宝+25：</color>目标血量每减少10%对其造成治疗量增加5% | AN31: 15#17 | AO31: 1
B32: 10025 | C32: 10525 | D32: 道德天尊 | E32: 1025 | F32: 2025 | G32: 3025 | H32: 11025 | I32: 50 | J32: 5 | K32: 5 | L32: 5 | M32: 2 | N32: 0.65 | O32: 0#278.43 | P32: 0#130 | Q32: 4 | R32: 9 | S32: 4000 | T32: 600 | U32: 200 | V32: 200 | W32: 288 | X32: 53#10000|57#10000|58#10000 | Y32: 30 | Z32: 6#1#3#1|6#2#46#1|6#3#17#3|7#1#17#4|8#1#18#1|8#2#17#3|9#1#3#1|9#2#18#1|9#3#17#2 | AA32: 5#1481|5#1482|6#1481|6#1482|7#1481|7#1482|8#1481|8#1482|9#1481|9#1482|10#1481|10#1482|11#1481|11#1482 | AB32: 1#1#148101|1#2#148102|1#3#148103|1#3#148104|1#4#148105|1#5#148106|2#7#148107|2#8#148108|2#9#148109|2#10#148110 | AC32: 6#90048 | AD32: 1 | AE32: 减怒队输出 | AF32: 69 | AG32: 54 | AH32: 55 | AI32: 太上老君尊号：一气化三清太清居大赤天仙登太清境玄气所成日神宝君道德天尊混元上帝，简称太上老君。太上老君为道教创始人，道祖，据《史记》记载，老君又称老子，姓“李” ，名“耳”，字“伯阳”，谥号“聃”。许多道教宗师都自称得到老君显灵的启示与教诲，如汉朝的张道陵、南北朝的寇谦之等。唐朝皇室更尊奉老君为其始祖。 | AL32: 追击 减怒 | AM32: <color=#2C8B1C>六星：</color>追加普攻必定暴击（追加普攻不回怒气）|<color=#2C8B1C>九星：</color>释放技能后降低目标1点怒气|<color=#2C8B1C>法宝+25：</color>直接伤害击杀目标回1点怒气
B33: 10026 | C33: 10526 | D33: 东华帝君 | E33: 1026 | F33: 2026 | G33: 3026 | H33: 11026 | I33: 50 | J33: 5 | K33: 5 | L33: 5 | M33: 2 | N33: 0.6 | O33: 90#300 | P33: 90#250 | Q33: 4 | R33: 10 | S33: 4000 | T33: 600 | U33: 200 | V33: 200 | W33: 356 | X33: 53#10000|57#10000|58#10000 | Y33: 30 | Z33: 6#1#3#1|6#2#47#1|6#3#17#3|7#1#17#4|8#1#18#1|8#2#17#3|9#1#3#1|9#2#18#1|9#3#17#2|10#1#3#2|10#2#18#1|10#3#14#1 | AA33: 5#1411|5#1412|6#1411|6#1412|7#1411|7#1412|8#1411|8#1412|9#1411|9#1412|10#1411|10#1412|11#1411|11#1412 | AB33: 1#1#141101|1#2#141102|1#3#141103|1#3#141104|1#4#141105|1#5#141106|2#7#141107|2#8#141108|2#9#141109|2#10#141110|2#11#141111 | AC33: 6#90041 | AD33: 3 | AE33: 减怒队输出 | AF33: 55 | AG33: 66 | AH33: 69 | AI33: 东华帝君管理一切登仙得道的男子，掌管仙籍。\n东荒山中有大石室，东王公居焉。长一丈，头发皓白，人形鸟面而虎尾，载一黑熊，左右顾望。恒与一玉女投壶，每投千二百矫，设有入不出者，天为之嘘；矫出而脱悟不接者，天为之笑。\n——《东荒经》 | AL33: 群体 减怒 追加 | AM33: <color=#2C8B1C>六星：</color>技能目标每减少一个技能伤害增加15%|<color=#2C8B1C>九星：</color>技能释放后降低目标1点怒气|<color=#2C8B1C>法宝+25：</color>直接伤害击杀目标回2点怒气 | AN33: 15#17 | AO33: 1
B34: 10027 | C34: 10527 | D34: 孟婆 | E34: 1027 | F34: 2027 | G34: 3027 | H34: 11027 | I34: 50 | J34: 5 | K34: 5 | L34: 5 | M34: 3 | N34: 0.3 | O34: 105#226 | P34: 105#126 | Q34: 4 | R34: 9 | S34: 4000 | T34: 600 | U34: 200 | V34: 200 | W34: 305 | X34: 53#10000|57#10000|58#10000 | Y34: 30 | Z34: 6#1#3#1|6#2#48#1|6#3#17#3|7#1#17#4|8#1#18#1|8#2#17#3|9#1#3#1|9#2#18#1|9#3#17#2 | AA34: 5#1501|5#1502|6#1501|6#1502|7#1501|7#1502|8#1501|8#1502|9#1501|9#1502|10#1501|10#1502|11#1501|11#1502 | AB34: 1#1#150101|1#2#150102|1#3#150103|1#3#150104|1#4#150105|1#5#150106|2#7#150107|2#8#150108|2#9#150109|2#10#150110 | AC34: 6#90050 | AD34: 4 | AE34: 减怒队控制 | AF34: 55 | AG34: 70 | AH34: 69 | AI34: 孟婆从三界分开时便已在世上，她本为天界的一个散官。后因看到世人恩怨情仇无数，即便死了也不肯放下，就来到了阴曹地府的忘川河边，在奈何桥的桥头立起一口大锅，将世人放不下的思绪炼化成了孟婆汤让阴魂喝下，便忘记了生前的爱恨情仇，卸下了生前的包袱，走入下一个轮回。 | AL34: 沉默 减怒 | AM34: <color=#2C8B1C>六星：</color>普通攻击降低目标1点怒气|<color=#2C8B1C>九星：</color>普攻后额外回1点怒气|<color=#2C8B1C>法宝+25：</color>释放技能后降低目标1点怒气
B35: 10028 | C35: 10528 | D35: 石矶娘娘 | E35: 1028 | F35: 2028 | G35: 3028 | H35: 11028 | I35: 50 | J35: 5 | K35: 5 | L35: 5 | M35: 2 | N35: 0.6 | O35: -60#360 | P35: -60#200 | Q35: 3 | R35: 9 | S35: 4000 | T35: 600 | U35: 200 | V35: 200 | W35: 284 | X35: 53#10000|57#10000|58#10000 | Y35: 30 | Z35: 6#1#3#1|6#2#49#1|6#3#17#3|7#1#17#4|8#1#18#1|8#2#17#3|9#1#3#1|9#2#18#1|9#3#17#2 | AA35: 5#1111|5#1112|6#1111|6#1112|7#1111|7#1112|8#1111|8#1112|9#1111|9#1112|10#1111|10#1112|11#1111|11#1112 | AB35: 1#1#111101|1#2#111102|1#3#111103|1#3#111104|1#4#111105|1#5#111106|2#7#111107|2#8#111108|2#9#111109|2#10#111110 | AC35: 6#90011 | AD35: 3 | AE35: 永动队输出 | AF35: 69 | AG35: 61 | AH35: 55 | AI35: 石矶娘娘住在骷髅山白骨洞，是得道数万年的妖仙，原形为石头，玄黄时期诞生，其为截教通天教主的徒弟，武器为太阿剑、八卦云光帕（可召唤黄巾力士）、八卦龙须帕，座骑是青鸾，座下弟子碧云童子和彩云童子。石矶娘娘为被哪吒射死的徒弟之一报仇，被太乙真人用九龙神火罩烧死。后被计入封神榜，被姜子牙封为“月游星”。 | AL35: 回血 增伤 回怒 | AM35: <color=#2C8B1C>六星：</color>战斗第一回合伤害+50%|<color=#2C8B1C>九星：</color>直接伤害击杀目标回复生命上限10%|<color=#2C8B1C>法宝+25：</color>技能目标每减少一个伤害+10%
B36: 10029 | C36: 10529 | D36: 月光菩萨 | E36: 1029 | F36: 2029 | G36: 3029 | H36: 11029 | I36: 50 | J36: 5 | K36: 5 | L36: 5 | M36: 3 | N36: 0.8 | O36: 0#185 | P36: 0#85 | Q36: 2 | R36: 9 | S36: 4000 | T36: 600 | U36: 200 | V36: 200 | W36: 312 | X36: 53#10000|57#10000|58#10000 | Y36: 30 | Z36: 6#1#3#1|6#2#50#1|6#3#17#3|7#1#17#4|8#1#18#1|8#2#17#3|9#1#3#1|9#2#18#1|9#3#17#2 | AA36: 5#1241|5#1242|6#1241|6#1242|7#1241|7#1242|8#1241|8#1242|9#1241|9#1242|10#1241|10#1242|11#1241|11#1242 | AB36: 1#1#124101|1#2#124102|1#3#124103|1#3#124104|1#4#124105|1#5#124106|2#7#124107|2#8#124108|2#9#124109|2#10#124110 | AC36: 6#90024 | AD36: 4 | AE36: 暴力队控制 | AF36: 60 | AG36: 65 | AH36: 57 | AI36: 《觉禅钞》曾引《药师经疏》卷一而言，过去世电光如来时，有一梵士医王，养育日照、月照二子，发心愿利乐众生，二子亦发愿供养。梵士医王即今之药师如来，二子即日光、月光二菩萨。依《药师仪轨布坛法》所载，月光菩萨身呈白色，手持月轮，坐鹅座上；但此像与历代相传者颇为不同，历来所造皆为立像，而月光菩萨即立于药师如来之右侧。如同日光菩萨一样，月光菩萨与观世音菩萨的大悲咒也有密切的关系。凡是至心持诵大悲咒的修行者，月光菩萨也会与无量神人来增益其持咒效验。修行者在持诵大悲咒过后，如果能再加诵月光菩萨陀罗尼，则月光菩萨当会来加庇护，使持咒者除去一切障难与病痛，并成就一切善法、远离各种怖畏。 | AL36: 眩晕 减怒 回怒 | AM36: <color=#2C8B1C>六星：</color>普攻后回1点怒气|<color=#2C8B1C>九星：</color>释放技能后降低目标1点怒气|<color=#2C8B1C>法宝+25：</color>眩晕率提升至65%
B37: 10030 | C37: 10530 | D37: 梵天 | E37: 1030 | F37: 2030 | G37: 3030 | H37: 11030 | I37: 50 | J37: 5 | K37: 5 | L37: 5 | M37: 3 | N37: 0.65 | O37: 35#300 | P37: 35#150 | Q37: 2 | R37: 9 | S37: 4000 | T37: 600 | U37: 200 | V37: 200 | W37: 289 | X37: 53#10000|57#10000|58#10000 | Y37: 30 | Z37: 6#1#3#1|6#2#51#1|6#3#17#3|7#1#17#4|8#1#18#1|8#2#17#3|9#1#3#1|9#2#18#1|9#3#17#2 | AA37: 5#1251|5#1252|6#1251|6#1252|7#1251|7#1252|8#1251|8#1252|9#1251|9#1252|10#1251|10#1252|11#1251|11#1252 | AB37: 1#1#125101|1#2#125102|1#3#125103|1#3#125104|1#4#125105|1#5#125106|2#7#125107|2#8#125108|2#9#125109|2#10#125110 | AC37: 6#90025 | AD37: 3 | AE37: 暴力队控制 | AF37: 54 | AG37: 68 | AH37: 69 | AI37: 梵天，是指印度教的创造之神。梵天亦称造书天、婆罗贺摩天、净天，华人地区俗称四面佛（印度佛教中的大梵天王诸神众，特指色界初禅天之主，又称大梵天王），是印度婆罗门教的创造之神，梵文字母的创制者。与毗湿奴、湿婆并称三主神。 | AL37: 眩晕 减怒 | AM37: <color=#2C8B1C>六星：</color>普攻后降低目标1点怒气|<color=#2C8B1C>九星：</color>释放技能后减低目标1点怒气|<color=#2C8B1C>法宝+25：</color>释放技能后额外回1点怒气
B38: 10031 | C38: 10531 | D38: 红孩儿 | E38: 1031 | F38: 2031 | G38: 3031 | H38: 11031 | I38: 50 | J38: 5 | K38: 5 | L38: 5 | M38: 2 | N38: 0.8 | O38: -54.62#300 | P38: -54.62#200 | Q38: 3 | R38: 9 | S38: 4000 | T38: 600 | U38: 200 | V38: 200 | W38: 300 | X38: 53#10000|57#10000|58#10000 | Y38: 30 | Z38: 6#1#3#1|6#2#52#1|6#3#17#3|7#1#17#4|8#1#18#1|8#2#17#3|9#1#3#1|9#2#18#1|9#3#17#2 | AA38: 5#1101|5#1102|6#1101|6#1102|7#1101|7#1102|8#1101|8#1102|9#1101|9#1102|10#1101|10#1102|11#1101|11#1102 | AB38: 1#1#110101|1#2#110102|1#3#110103|1#3#110104|1#4#110105|1#5#110106|2#7#110107|2#8#110108|2#9#110109|2#10#110110 | AC38: 6#90010 | AD38: 1 | AE38: 永动队输出 | AF38: 55 | AG38: 59 | AH38: 69 | AI38: 红孩儿出生于魔道，自幼起就上山学道，在火焰山修炼后得道，得到了三昧真火的法力，具有三百年的道行和功力，同时也有三百多岁的岁数，但他的外形依旧是个婴孩般的模样，心性亦如孩童一般，喜欢赤身赤脚。\n他听说吃了唐僧的肉就能长生不老，便变作一个赤条条的男孩儿吊在树上引唐僧师徒搭救，趁机兴风抓走唐僧。孙悟空鏖战不敌，请来观音后收伏红孩儿为门下弟子，封为善财童子。 | AL38: 追击 必暴 | AM38: <color=#2C8B1C>六星：</color>追加普攻必定暴击 （追加普攻不回怒气）|<color=#2C8B1C>九星：</color>直接伤害击杀目标追加一次普攻 （追加普攻不回怒气）|<color=#2C8B1C>法宝+25：</color>直接伤害击杀目标回1点怒气
B39: 10032 | C39: 10513 | D39: 吴刚 | E39: 1032 | F39: 2032 | G39: 3032 | H39: 11032 | I39: 50 | J39: 5 | K39: 5 | L39: 5 | M39: 2 | N39: 0.8 | O39: -50#180 | P39: -31#160 | Q39: 1 | R39: 9 | S39: 4000 | T39: 600 | U39: 200 | V39: 200 | W39: 355 | X39: 53#10000|57#10000|58#10000 | Y39: 30 | Z39: 6#1#3#1|6#2#53#1|6#3#17#3|7#1#17#4|8#1#18#1|8#2#17#3|9#1#3#1|9#2#18#1|9#3#17#2 | AA39: 5#1361|5#1362|6#1361|6#1362|7#1361|7#1362|8#1361|8#1362|9#1361|9#1362|10#1361|10#1362|11#1361|11#1362 | AB39: 1#1#136101|1#2#136102|1#3#136103|1#3#136104|1#4#136105|1#5#136106|2#7#136107|2#8#136108|2#9#136109|2#10#136110 | AC39: 6#90036 | AD39: 3 | AE39: 灼烧队输出 | AF39: 69 | AG39: 61 | AH39: 55 | AI39: 传说月亮里有一棵高五百丈的桂树。汉朝时有个叫吴刚的人，学仙过程中有过错，因此天帝龙颜大怒，把他拘留在月宫，令他在月宫伐桂树，并说：“如果你砍倒桂树，就可获仙术。”但吴刚每砍一斧，斧起而树创伤就马上愈合。日复一日，吴刚伐桂的愿望仍未达成。因此吴刚在月宫常年伐桂，始终砍不倒这棵树。 | AL39: 增伤 回怒 | AM39: <color=#2C8B1C>六星：</color>普攻对灼烧目标伤害额外增加80%|<color=#2C8B1C>九星：</color>释放技能后回1点怒气|<color=#2C8B1C>法宝+25：</color>直接伤害击杀灼烧目标回50%生命
B40: 10033 | C40: 10533 | D40: 净光天女 | E40: 1033 | F40: 2033 | G40: 3033 | H40: 11033 | I40: 50 | J40: 5 | K40: 5 | L40: 5 | M40: 4 | N40: 0.75 | O40: -30#340 | P40: -30#200 | Q40: 2 | R40: 10 | S40: 4000 | T40: 600 | U40: 200 | V40: 200 | W40: 308 | X40: 53#10000|57#10000|58#10000 | Y40: 30 | Z40: 6#1#3#1|6#2#43#1|6#3#17#3|7#1#17#4|8#1#18#1|8#2#17#3|9#1#3#1|9#2#18#1|9#3#17#2|10#1#3#2|10#2#18#1|10#3#14#1 | AA40: 5#1191|5#1192|6#1191|6#1192|7#1191|7#1192|8#1191|8#1192|9#1191|9#1192|10#1191|10#1192|11#1191|11#1192 | AB40: 1#1#119101|1#2#119102|1#3#119103|1#3#119104|1#4#119105|1#5#119106|2#7#119107|2#8#119108|2#9#119109|2#10#119110|2#11#119111 | AC40: 6#90019 | AD40: 4 | AE40: 暴力队辅助 | AF40: 60 | AG40: 64 | AH40: 58 | AI40: 净光天女曾在灯佛那里听过大涅盘经，由此因缘释迦佛在世时生为净光天女，再次听闻佛法深义。/n后世舍天身生为女人成为国王，得到转轮王统领疆土的四分之一，得大自在，受持五戒，成为优婆夷，教化所属的城乡男女老少受持五戒、守护正法，摧伏外道的各种邪见异见，作菩萨事业。 | AL40: 治疗 光环 回怒 | AM40: <color=#2C8B1C>六星：</color>全体免伤+20%|<color=#2C8B1C>九星：</color>技能伤害50%治疗己方生命最低队友|<color=#2C8B1C>法宝+25：</color>释放技能后全体回1点怒气 | AN40: 8#9#10 | AO40: 1
...

Sheet 角色技能
A1: 角色id | B1: 属性 | C1: 初始星级 | D1: 初始技能 | E1: 初始星级 | F1: 初始技能 | G1: 升星1 | H1: 技能1 | I1: 升星1 | J1: 技能1 | K1: 升星2 | L1: 技能2 | M1: 升星2 | N1: 技能2 | O1: 升星3 | P1: 技能3 | Q1: 升星3 | R1: 技能3 | S1: 升星4 | T1: 技能4 | U1: 升星4 | V1: 技能4 | W1: 升星5 | X1: 技能5 | Y1: 升星5 | Z1: 技能5
A2: 10001 | B2: 2 | C2: 5 | D2: 1000111 | E2: 5 | F2: 1000121 | G2: =E2+1 -> 6 | H2: =D2+1 -> 1000112 | I2: =G2 -> 6 | J2: 1000121 | K2: =I2+1 -> 7 | L2: =H2 -> 1000112 | M2: =K2 -> 7 | N2: =IF(M2=7,J2+1,J2) -> 1000122 | O2: =K2+1 -> 8 | P2: =IF(O2=8,L2+1,L2) -> 1000113 | Q2: =M2+1 -> 8 | R2: 1000122 | S2: =O2+1 -> 9 | T2: 1000113 | U2: =S2 -> 9 | V2: =R2+1 -> 1000123 | W2: =S2+1 -> 10 | X2: =T2+1 -> 1000114 | Y2: 10 | Z2: =V2+1 -> 1000124 | AA2: =[2]!SUMSTRING(C2:D2,"#") -> #NAME? | AC2: =[2]!SUMSTRING(E2:F2,"#") -> #NAME? | AE2: =[2]!SUMSTRING(G2:H2,"#") -> #NAME? | AG2: =[2]!SUMSTRING(I2:J2,"#") -> #NAME? | AI2: =[2]!SUMSTRING(K2:L2,"#") -> #NAME? | AK2: =[2]!SUMSTRING(M2:N2,"#") -> #NAME? | AM2: =[2]!SUMSTRING(O2:P2,"#") -> #NAME? | AO2: =[2]!SUMSTRING(Q2:R2,"#") -> #NAME? | AQ2: =[2]!SUMSTRING(S2:T2,"#") -> #NAME? | AS2: =[2]!SUMSTRING(U2:V2,"#") -> #NAME? | AU2: =[2]!SUMSTRING(W2:X2,"#") -> #NAME? | AW2: =[2]!SUMSTRING(Y2:Z2,"#") -> #NAME? | AY2: =[2]!SUMSTRING(AA2:AW2,"|") -> #NAME?
A3: 10002 | B3: 3 | C3: 5 | D3: =D2+100 -> 1000211 | E3: 5 | F3: 1000221 | G3: =E3+1 -> 6 | H3: =D3+1 -> 1000212 | I3: =G3 -> 6 | J3: 1000221 | K3: =I3+1 -> 7 | L3: =H3 -> 1000212 | M3: =K3 -> 7 | N3: =IF(M3=7,J3+1,J3) -> 1000222 | O3: =K3+1 -> 8 | P3: =IF(O3=8,L3+1,L3) -> 1000213 | Q3: =M3+1 -> 8 | R3: 1000222 | S3: =O3+1 -> 9 | T3: 1000213 | U3: =S3 -> 9 | V3: =R3+1 -> 1000223 | W3: =S3+1 -> 10 | X3: =T3+1 -> 1000214 | Y3: 10 | Z3: =V3+1 -> 1000224 | AA3: =[2]!SUMSTRING(C3:D3,"#") -> #NAME? | AC3: =[2]!SUMSTRING(E3:F3,"#") -> #NAME? | AE3: =[2]!SUMSTRING(G3:H3,"#") -> #NAME? | AG3: =[2]!SUMSTRING(I3:J3,"#") -> #NAME? | AI3: =[2]!SUMSTRING(K3:L3,"#") -> #NAME? | AK3: =[2]!SUMSTRING(M3:N3,"#") -> #NAME? | AM3: =[2]!SUMSTRING(O3:P3,"#") -> #NAME? | AO3: =[2]!SUMSTRING(Q3:R3,"#") -> #NAME? | AQ3: =[2]!SUMSTRING(S3:T3,"#") -> #NAME? | AS3: =[2]!SUMSTRING(U3:V3,"#") -> #NAME? | AU3: =[2]!SUMSTRING(W3:X3,"#") -> #NAME? | AW3: =[2]!SUMSTRING(Y3:Z3,"#") -> #NAME? | AY3: =[2]!SUMSTRING(AA3:AW3,"|") -> #NAME?
A4: 10003 | B4: 4 | C4: 5 | D4: =D3+100 -> 1000311 | E4: 5 | F4: 1000321 | G4: =E4+1 -> 6 | H4: =D4+1 -> 1000312 | I4: =G4 -> 6 | J4: 1000321 | K4: =I4+1 -> 7 | L4: =H4 -> 1000312 | M4: =K4 -> 7 | N4: =IF(M4=7,J4+1,J4) -> 1000322 | O4: =K4+1 -> 8 | P4: =IF(O4=8,L4+1,L4) -> 1000313 | Q4: =M4+1 -> 8 | R4: 1000322 | S4: =O4+1 -> 9 | T4: 1000313 | U4: =S4 -> 9 | V4: =R4+1 -> 1000323 | W4: =S4+1 -> 10 | X4: =T4+1 -> 1000314 | Y4: 10 | Z4: =V4+1 -> 1000324 | AA4: =[2]!SUMSTRING(C4:D4,"#") -> #NAME? | AC4: =[2]!SUMSTRING(E4:F4,"#") -> #NAME? | AE4: =[2]!SUMSTRING(G4:H4,"#") -> #NAME? | AG4: =[2]!SUMSTRING(I4:J4,"#") -> #NAME? | AI4: =[2]!SUMSTRING(K4:L4,"#") -> #NAME? | AK4: =[2]!SUMSTRING(M4:N4,"#") -> #NAME? | AM4: =[2]!SUMSTRING(O4:P4,"#") -> #NAME? | AO4: =[2]!SUMSTRING(Q4:R4,"#") -> #NAME? | AQ4: =[2]!SUMSTRING(S4:T4,"#") -> #NAME? | AS4: =[2]!SUMSTRING(U4:V4,"#") -> #NAME? | AU4: =[2]!SUMSTRING(W4:X4,"#") -> #NAME? | AW4: =[2]!SUMSTRING(Y4:Z4,"#") -> #NAME? | AY4: =[2]!SUMSTRING(AA4:AW4,"|") -> #NAME?
A5: 10004 | B5: 3 | C5: 5 | D5: =D4+100 -> 1000411 | E5: 5 | F5: 1000421 | G5: =E5+1 -> 6 | H5: =D5+1 -> 1000412 | I5: =G5 -> 6 | J5: 1000421 | K5: =I5+1 -> 7 | L5: =H5 -> 1000412 | M5: =K5 -> 7 | N5: =IF(M5=7,J5+1,J5) -> 1000422 | O5: =K5+1 -> 8 | P5: =IF(O5=8,L5+1,L5) -> 1000413 | Q5: =M5+1 -> 8 | R5: 1000422 | S5: =O5+1 -> 9 | T5: 1000413 | U5: =S5 -> 9 | V5: =R5+1 -> 1000423 | W5: =S5+1 -> 10 | X5: =T5+1 -> 1000414 | Y5: 10 | Z5: =V5+1 -> 1000424 | AA5: =[2]!SUMSTRING(C5:D5,"#") -> #NAME? | AC5: =[2]!SUMSTRING(E5:F5,"#") -> #NAME? | AE5: =[2]!SUMSTRING(G5:H5,"#") -> #NAME? | AG5: =[2]!SUMSTRING(I5:J5,"#") -> #NAME? | AI5: =[2]!SUMSTRING(K5:L5,"#") -> #NAME? | AK5: =[2]!SUMSTRING(M5:N5,"#") -> #NAME? | AM5: =[2]!SUMSTRING(O5:P5,"#") -> #NAME? | AO5: =[2]!SUMSTRING(Q5:R5,"#") -> #NAME? | AQ5: =[2]!SUMSTRING(S5:T5,"#") -> #NAME? | AS5: =[2]!SUMSTRING(U5:V5,"#") -> #NAME? | AU5: =[2]!SUMSTRING(W5:X5,"#") -> #NAME? | AW5: =[2]!SUMSTRING(Y5:Z5,"#") -> #NAME? | AY5: =[2]!SUMSTRING(AA5:AW5,"|") -> #NAME?
A6: 10005 | B6: 4 | C6: 5 | D6: =D5+100 -> 1000511 | E6: 5 | F6: 1000521 | G6: =E6+1 -> 6 | H6: =D6+1 -> 1000512 | I6: =G6 -> 6 | J6: 1000521 | K6: =I6+1 -> 7 | L6: =H6 -> 1000512 | M6: =K6 -> 7 | N6: =IF(M6=7,J6+1,J6) -> 1000522 | O6: =K6+1 -> 8 | P6: =IF(O6=8,L6+1,L6) -> 1000513 | Q6: =M6+1 -> 8 | R6: 1000522 | S6: =O6+1 -> 9 | T6: 1000513 | U6: =S6 -> 9 | V6: =R6+1 -> 1000523 | W6: =S6+1 -> 10 | X6: =T6+1 -> 1000514 | Y6: 10 | Z6: =V6+1 -> 1000524 | AA6: =[2]!SUMSTRING(C6:D6,"#") -> #NAME? | AC6: =[2]!SUMSTRING(E6:F6,"#") -> #NAME? | AE6: =[2]!SUMSTRING(G6:H6,"#") -> #NAME? | AG6: =[2]!SUMSTRING(I6:J6,"#") -> #NAME? | AI6: =[2]!SUMSTRING(K6:L6,"#") -> #NAME? | AK6: =[2]!SUMSTRING(M6:N6,"#") -> #NAME? | AM6: =[2]!SUMSTRING(O6:P6,"#") -> #NAME? | AO6: =[2]!SUMSTRING(Q6:R6,"#") -> #NAME? | AQ6: =[2]!SUMSTRING(S6:T6,"#") -> #NAME? | AS6: =[2]!SUMSTRING(U6:V6,"#") -> #NAME? | AU6: =[2]!SUMSTRING(W6:X6,"#") -> #NAME? | AW6: =[2]!SUMSTRING(Y6:Z6,"#") -> #NAME? | AY6: =[2]!SUMSTRING(AA6:AW6,"|") -> #NAME?
A7: 10006 | B7: 1 | C7: 5 | D7: =D6+100 -> 1000611 | E7: 5 | F7: 1000621 | G7: =E7+1 -> 6 | H7: =D7+1 -> 1000612 | I7: =G7 -> 6 | J7: 1000621 | K7: =I7+1 -> 7 | L7: =H7 -> 1000612 | M7: =K7 -> 7 | N7: =IF(M7=7,J7+1,J7) -> 1000622 | O7: =K7+1 -> 8 | P7: =IF(O7=8,L7+1,L7) -> 1000613 | Q7: =M7+1 -> 8 | R7: 1000622 | S7: =O7+1 -> 9 | T7: 1000613 | U7: =S7 -> 9 | V7: =R7+1 -> 1000623 | W7: =S7+1 -> 10 | X7: =T7+1 -> 1000614 | Y7: 10 | Z7: =V7+1 -> 1000624 | AA7: =[2]!SUMSTRING(C7:D7,"#") -> #NAME? | AC7: =[2]!SUMSTRING(E7:F7,"#") -> #NAME? | AE7: =[2]!SUMSTRING(G7:H7,"#") -> #NAME? | AG7: =[2]!SUMSTRING(I7:J7,"#") -> #NAME? | AI7: =[2]!SUMSTRING(K7:L7,"#") -> #NAME? | AK7: =[2]!SUMSTRING(M7:N7,"#") -> #NAME? | AM7: =[2]!SUMSTRING(O7:P7,"#") -> #NAME? | AO7: =[2]!SUMSTRING(Q7:R7,"#") -> #NAME? | AQ7: =[2]!SUMSTRING(S7:T7,"#") -> #NAME? | AS7: =[2]!SUMSTRING(U7:V7,"#") -> #NAME? | AU7: =[2]!SUMSTRING(W7:X7,"#") -> #NAME? | AW7: =[2]!SUMSTRING(Y7:Z7,"#") -> #NAME? | AY7: =[2]!SUMSTRING(AA7:AW7,"|") -> #NAME?
A8: 10007 | B8: 2 | C8: 5 | D8: =D7+100 -> 1000711 | E8: 5 | F8: 1000721 | G8: =E8+1 -> 6 | H8: =D8+1 -> 1000712 | I8: =G8 -> 6 | J8: 1000721 | K8: =I8+1 -> 7 | L8: =H8 -> 1000712 | M8: =K8 -> 7 | N8: =IF(M8=7,J8+1,J8) -> 1000722 | O8: =K8+1 -> 8 | P8: =IF(O8=8,L8+1,L8) -> 1000713 | Q8: =M8+1 -> 8 | R8: 1000722 | S8: =O8+1 -> 9 | T8: 1000713 | U8: =S8 -> 9 | V8: =R8+1 -> 1000723 | W8: =S8+1 -> 10 | X8: =T8+1 -> 1000714 | Y8: 10 | Z8: =V8+1 -> 1000724 | AA8: =[2]!SUMSTRING(C8:D8,"#") -> #NAME? | AC8: =[2]!SUMSTRING(E8:F8,"#") -> #NAME? | AE8: =[2]!SUMSTRING(G8:H8,"#") -> #NAME? | AG8: =[2]!SUMSTRING(I8:J8,"#") -> #NAME? | AI8: =[2]!SUMSTRING(K8:L8,"#") -> #NAME? | AK8: =[2]!SUMSTRING(M8:N8,"#") -> #NAME? | AM8: =[2]!SUMSTRING(O8:P8,"#") -> #NAME? | AO8: =[2]!SUMSTRING(Q8:R8,"#") -> #NAME? | AQ8: =[2]!SUMSTRING(S8:T8,"#") -> #NAME? | AS8: =[2]!SUMSTRING(U8:V8,"#") -> #NAME? | AU8: =[2]!SUMSTRING(W8:X8,"#") -> #NAME? | AW8: =[2]!SUMSTRING(Y8:Z8,"#") -> #NAME? | AY8: =[2]!SUMSTRING(AA8:AW8,"|") -> #NAME?
A9: 10008 | B9: 5 | C9: 5 | D9: =D8+100 -> 1000811 | E9: 5 | F9: 1000821 | G9: =E9+1 -> 6 | H9: =D9+1 -> 1000812 | I9: =G9 -> 6 | J9: 1000821 | K9: =I9+1 -> 7 | L9: =H9 -> 1000812 | M9: =K9 -> 7 | N9: =IF(M9=7,J9+1,J9) -> 1000822 | O9: =K9+1 -> 8 | P9: =IF(O9=8,L9+1,L9) -> 1000813 | Q9: =M9+1 -> 8 | R9: 1000822 | S9: =O9+1 -> 9 | T9: 1000813 | U9: =S9 -> 9 | V9: =R9+1 -> 1000823 | W9: =S9+1 -> 10 | X9: =T9+1 -> 1000814 | Y9: 10 | Z9: =V9+1 -> 1000824 | AA9: =[2]!SUMSTRING(C9:D9,"#") -> #NAME? | AC9: =[2]!SUMSTRING(E9:F9,"#") -> #NAME? | AE9: =[2]!SUMSTRING(G9:H9,"#") -> #NAME? | AG9: =[2]!SUMSTRING(I9:J9,"#") -> #NAME? | AI9: =[2]!SUMSTRING(K9:L9,"#") -> #NAME? | AK9: =[2]!SUMSTRING(M9:N9,"#") -> #NAME? | AM9: =[2]!SUMSTRING(O9:P9,"#") -> #NAME? | AO9: =[2]!SUMSTRING(Q9:R9,"#") -> #NAME? | AQ9: =[2]!SUMSTRING(S9:T9,"#") -> #NAME? | AS9: =[2]!SUMSTRING(U9:V9,"#") -> #NAME? | AU9: =[2]!SUMSTRING(W9:X9,"#") -> #NAME? | AW9: =[2]!SUMSTRING(Y9:Z9,"#") -> #NAME? | AY9: =[2]!SUMSTRING(AA9:AW9,"|") -> #NAME?
A10: 10009 | B10: 6 | C10: 5 | D10: =D9+100 -> 1000911 | E10: 5 | F10: 1000921 | G10: =E10+1 -> 6 | H10: =D10+1 -> 1000912 | I10: =G10 -> 6 | J10: 1000921 | K10: =I10+1 -> 7 | L10: =H10 -> 1000912 | M10: =K10 -> 7 | N10: =IF(M10=7,J10+1,J10) -> 1000922 | O10: =K10+1 -> 8 | P10: =IF(O10=8,L10+1,L10) -> 1000913 | Q10: =M10+1 -> 8 | R10: 1000922 | S10: =O10+1 -> 9 | T10: 1000913 | U10: =S10 -> 9 | V10: =R10+1 -> 1000923 | W10: =S10+1 -> 10 | X10: =T10+1 -> 1000914 | Y10: 10 | Z10: =V10+1 -> 1000924 | AA10: =[2]!SUMSTRING(C10:D10,"#") -> #NAME? | AC10: =[2]!SUMSTRING(E10:F10,"#") -> #NAME? | AE10: =[2]!SUMSTRING(G10:H10,"#") -> #NAME? | AG10: =[2]!SUMSTRING(I10:J10,"#") -> #NAME? | AI10: =[2]!SUMSTRING(K10:L10,"#") -> #NAME? | AK10: =[2]!SUMSTRING(M10:N10,"#") -> #NAME? | AM10: =[2]!SUMSTRING(O10:P10,"#") -> #NAME? | AO10: =[2]!SUMSTRING(Q10:R10,"#") -> #NAME? | AQ10: =[2]!SUMSTRING(S10:T10,"#") -> #NAME? | AS10: =[2]!SUMSTRING(U10:V10,"#") -> #NAME? | AU10: =[2]!SUMSTRING(W10:X10,"#") -> #NAME? | AW10: =[2]!SUMSTRING(Y10:Z10,"#") -> #NAME? | AY10: =[2]!SUMSTRING(AA10:AW10,"|") -> #NAME?
A11: 10010 | B11: 2 | C11: 5 | D11: =D10+100 -> 1001011 | E11: 5 | F11: 1001021 | G11: =E11+1 -> 6 | H11: =D11+1 -> 1001012 | I11: =G11 -> 6 | J11: 1001021 | K11: =I11+1 -> 7 | L11: =H11 -> 1001012 | M11: =K11 -> 7 | N11: =IF(M11=7,J11+1,J11) -> 1001022 | O11: =K11+1 -> 8 | P11: =IF(O11=8,L11+1,L11) -> 1001013 | Q11: =M11+1 -> 8 | R11: 1001022 | S11: =O11+1 -> 9 | T11: 1001013 | U11: =S11 -> 9 | V11: =R11+1 -> 1001023 | W11: =S11+1 -> 10 | X11: =T11+1 -> 1001014 | Y11: 10 | Z11: =V11+1 -> 1001024 | AA11: =[2]!SUMSTRING(C11:D11,"#") -> #NAME? | AC11: =[2]!SUMSTRING(E11:F11,"#") -> #NAME? | AE11: =[2]!SUMSTRING(G11:H11,"#") -> #NAME? | AG11: =[2]!SUMSTRING(I11:J11,"#") -> #NAME? | AI11: =[2]!SUMSTRING(K11:L11,"#") -> #NAME? | AK11: =[2]!SUMSTRING(M11:N11,"#") -> #NAME? | AM11: =[2]!SUMSTRING(O11:P11,"#") -> #NAME? | AO11: =[2]!SUMSTRING(Q11:R11,"#") -> #NAME? | AQ11: =[2]!SUMSTRING(S11:T11,"#") -> #NAME? | AS11: =[2]!SUMSTRING(U11:V11,"#") -> #NAME? | AU11: =[2]!SUMSTRING(W11:X11,"#") -> #NAME? | AW11: =[2]!SUMSTRING(Y11:Z11,"#") -> #NAME? | AY11: =[2]!SUMSTRING(AA11:AW11,"|") -> #NAME?
A12: 10011 | B12: 4 | C12: 5 | D12: =D11+100 -> 1001111 | E12: 5 | F12: 1001121 | G12: =E12+1 -> 6 | H12: =D12+1 -> 1001112 | I12: =G12 -> 6 | J12: 1001121 | K12: =I12+1 -> 7 | L12: =H12 -> 1001112 | M12: =K12 -> 7 | N12: =IF(M12=7,J12+1,J12) -> 1001122 | O12: =K12+1 -> 8 | P12: =IF(O12=8,L12+1,L12) -> 1001113 | Q12: =M12+1 -> 8 | R12: 1001122 | S12: =O12+1 -> 9 | T12: 1001113 | U12: =S12 -> 9 | V12: =R12+1 -> 1001123 | W12: =S12+1 -> 10 | X12: =T12+1 -> 1001114 | Y12: 10 | Z12: =V12+1 -> 1001124 | AA12: =[2]!SUMSTRING(C12:D12,"#") -> #NAME? | AC12: =[2]!SUMSTRING(E12:F12,"#") -> #NAME? | AE12: =[2]!SUMSTRING(G12:H12,"#") -> #NAME? | AG12: =[2]!SUMSTRING(I12:J12,"#") -> #NAME? | AI12: =[2]!SUMSTRING(K12:L12,"#") -> #NAME? | AK12: =[2]!SUMSTRING(M12:N12,"#") -> #NAME? | AM12: =[2]!SUMSTRING(O12:P12,"#") -> #NAME? | AO12: =[2]!SUMSTRING(Q12:R12,"#") -> #NAME? | AQ12: =[2]!SUMSTRING(S12:T12,"#") -> #NAME? | AS12: =[2]!SUMSTRING(U12:V12,"#") -> #NAME? | AU12: =[2]!SUMSTRING(W12:X12,"#") -> #NAME? | AW12: =[2]!SUMSTRING(Y12:Z12,"#") -> #NAME? | AY12: =[2]!SUMSTRING(AA12:AW12,"|") -> #NAME?
A13: 10012 | B13: 1 | C13: 5 | D13: =D12+100 -> 1001211 | E13: 5 | F13: 1001221 | G13: =E13+1 -> 6 | H13: =D13+1 -> 1001212 | I13: =G13 -> 6 | J13: 1001221 | K13: =I13+1 -> 7 | L13: =H13 -> 1001212 | M13: =K13 -> 7 | N13: =IF(M13=7,J13+1,J13) -> 1001222 | O13: =K13+1 -> 8 | P13: =IF(O13=8,L13+1,L13) -> 1001213 | Q13: =M13+1 -> 8 | R13: 1001222 | S13: =O13+1 -> 9 | T13: 1001213 | U13: =S13 -> 9 | V13: =R13+1 -> 1001223 | W13: =S13+1 -> 10 | X13: =T13+1 -> 1001214 | Y13: 10 | Z13: =V13+1 -> 1001224 | AA13: =[2]!SUMSTRING(C13:D13,"#") -> #NAME? | AC13: =[2]!SUMSTRING(E13:F13,"#") -> #NAME? | AE13: =[2]!SUMSTRING(G13:H13,"#") -> #NAME? | AG13: =[2]!SUMSTRING(I13:J13,"#") -> #NAME? | AI13: =[2]!SUMSTRING(K13:L13,"#") -> #NAME? | AK13: =[2]!SUMSTRING(M13:N13,"#") -> #NAME? | AM13: =[2]!SUMSTRING(O13:P13,"#") -> #NAME? | AO13: =[2]!SUMSTRING(Q13:R13,"#") -> #NAME? | AQ13: =[2]!SUMSTRING(S13:T13,"#") -> #NAME? | AS13: =[2]!SUMSTRING(U13:V13,"#") -> #NAME? | AU13: =[2]!SUMSTRING(W13:X13,"#") -> #NAME? | AW13: =[2]!SUMSTRING(Y13:Z13,"#") -> #NAME? | AY13: =[2]!SUMSTRING(AA13:AW13,"|") -> #NAME?
A14: 10013 | B14: 4 | C14: 5 | D14: =D13+100 -> 1001311 | E14: 5 | F14: 1001321 | G14: =E14+1 -> 6 | H14: =D14+1 -> 1001312 | I14: =G14 -> 6 | J14: 1001321 | K14: =I14+1 -> 7 | L14: =H14 -> 1001312 | M14: =K14 -> 7 | N14: =IF(M14=7,J14+1,J14) -> 1001322 | O14: =K14+1 -> 8 | P14: =IF(O14=8,L14+1,L14) -> 1001313 | Q14: =M14+1 -> 8 | R14: 1001322 | S14: =O14+1 -> 9 | T14: 1001313 | U14: =S14 -> 9 | V14: =R14+1 -> 1001323 | W14: =S14+1 -> 10 | X14: =T14+1 -> 1001314 | Y14: 10 | Z14: =V14+1 -> 1001324 | AA14: =[2]!SUMSTRING(C14:D14,"#") -> #NAME? | AC14: =[2]!SUMSTRING(E14:F14,"#") -> #NAME? | AE14: =[2]!SUMSTRING(G14:H14,"#") -> #NAME? | AG14: =[2]!SUMSTRING(I14:J14,"#") -> #NAME? | AI14: =[2]!SUMSTRING(K14:L14,"#") -> #NAME? | AK14: =[2]!SUMSTRING(M14:N14,"#") -> #NAME? | AM14: =[2]!SUMSTRING(O14:P14,"#") -> #NAME? | AO14: =[2]!SUMSTRING(Q14:R14,"#") -> #NAME? | AQ14: =[2]!SUMSTRING(S14:T14,"#") -> #NAME? | AS14: =[2]!SUMSTRING(U14:V14,"#") -> #NAME? | AU14: =[2]!SUMSTRING(W14:X14,"#") -> #NAME? | AW14: =[2]!SUMSTRING(Y14:Z14,"#") -> #NAME? | AY14: =[2]!SUMSTRING(AA14:AW14,"|") -> #NAME?
... A24: 10023 | B24: 5 | C24: 5 | D24: =D23+100 -> 1002311 | E24: 5 | F24: 1002321 | G24: =E24+1 -> 6 | H24: =D24+1 -> 1002312 | I24: =G24 -> 6 | J24: 1002321 | K24: =I24+1 -> 7 | L24: =H24 -> 1002312 | M24: =K24 -> 7 | N24: =IF(M24=7,J24+1,J24) -> 1002322 | O24: =K24+1 -> 8 | P24: =IF(O24=8,L24+1,L24) -> 1002313 | Q24: =M24+1 -> 8 | R24: 1002322 | S24: =O24+1 -> 9 | T24: 1002313 | U24: =S24 -> 9 | V24: =R24+1 -> 1002323 | W24: =S24+1 -> 10 | X24: =T24+1 -> 1002314 | Y24: 10 | Z24: =V24+1 -> 1002324 | AA24: =[2]!SUMSTRING(C24:D24,"#") -> #NAME? | AC24: =[2]!SUMSTRING(E24:F24,"#") -> #NAME? | AE24: =[2]!SUMSTRING(G24:H24,"#") -> #NAME? | AG24: =[2]!SUMSTRING(I24:J24,"#") -> #NAME? | AI24: =[2]!SUMSTRING(K24:L24,"#") -> #NAME? | AK24: =[2]!SUMSTRING(M24:N24,"#") -> #NAME? | AM24: =[2]!SUMSTRING(O24:P24,"#") -> #NAME? | AO24: =[2]!SUMSTRING(Q24:R24,"#") -> #NAME? | AQ24: =[2]!SUMSTRING(S24:T24,"#") -> #NAME? | AS24: =[2]!SUMSTRING(U24:V24,"#") -> #NAME? | AU24: =[2]!SUMSTRING(W24:X24,"#") -> #NAME? | AW24: =[2]!SUMSTRING(Y24:Z24,"#") -> #NAME? | AY24: =[2]!SUMSTRING(AA24:AW24,"|") -> #NAME?
A25: 10024 | B25: 3 | C25: 4 | D25: =D24+100 -> 1002411 | G25: 5 | H25: 1002411 | I25: =G25 -> 5 | J25: 1002421 | K25: =I25+1 -> 6 | L25: =H25+1 -> 1002412 | M25: =K25 -> 6 | N25: =IF(M25=7,J25+1,J25) -> 1002421 | AA25: =[2]!SUMSTRING(C25:D25,"#") -> #NAME? | AC25: =[2]!SUMSTRING(E25:F25,"#") -> #NAME? | AE25: =[2]!SUMSTRING(G25:H25,"#") -> #NAME? | AG25: =[2]!SUMSTRING(I25:J25,"#") -> #NAME? | AI25: =[2]!SUMSTRING(K25:L25,"#") -> #NAME? | AK25: =[2]!SUMSTRING(M25:N25,"#") -> #NAME? | AM25: =[2]!SUMSTRING(O25:P25,"#") -> #NAME? | AO25: =[2]!SUMSTRING(Q25:R25,"#") -> #NAME? | AQ25: =[2]!SUMSTRING(S25:T25,"#") -> #NAME? | AS25: =[2]!SUMSTRING(U25:V25,"#") -> #NAME? | AU25: =[2]!SUMSTRING(W25:X25,"#") -> #NAME? | AW25: =[2]!SUMSTRING(Y25:Z25,"#") -> #NAME? | AY25: =[2]!SUMSTRING(AA25:AW25,"|") -> #NAME?
A26: 10025 | B26: 1 | C26: 4 | D26: =D25+100 -> 1002511 | G26: 5 | H26: 1002511 | I26: =G26 -> 5 | J26: 1002521 | K26: =I26+1 -> 6 | L26: =H26+1 -> 1002512 | M26: =K26 -> 6 | N26: =IF(M26=7,J26+1,J26) -> 1002521 | AA26: =[2]!SUMSTRING(C26:D26,"#") -> #NAME? | AC26: =[2]!SUMSTRING(E26:F26,"#") -> #NAME? | AE26: =[2]!SUMSTRING(G26:H26,"#") -> #NAME? | AG26: =[2]!SUMSTRING(I26:J26,"#") -> #NAME? | AI26: =[2]!SUMSTRING(K26:L26,"#") -> #NAME? | AK26: =[2]!SUMSTRING(M26:N26,"#") -> #NAME? | AM26: =[2]!SUMSTRING(O26:P26,"#") -> #NAME? | AO26: =[2]!SUMSTRING(Q26:R26,"#") -> #NAME? | AQ26: =[2]!SUMSTRING(S26:T26,"#") -> #NAME? | AS26: =[2]!SUMSTRING(U26:V26,"#") -> #NAME? | AU26: =[2]!SUMSTRING(W26:X26,"#") -> #NAME? | AW26: =[2]!SUMSTRING(Y26:Z26,"#") -> #NAME? | AY26: =[2]!SUMSTRING(AA26:AW26,"|") -> #NAME?
A27: 10026 | B27: 5 | C27: 4 | D27: =D26+100 -> 1002611 | G27: 5 | H27: 1002611 | I27: =G27 -> 5 | J27: 1002621 | K27: =I27+1 -> 6 | L27: =H27+1 -> 1002612 | M27: =K27 -> 6 | N27: =IF(M27=7,J27+1,J27) -> 1002621 | O27: =K27+1 -> 7 | P27: =L27 -> 1002612 | Q27: =M27+1 -> 7 | R27: =N27+1 -> 1002622 | S27: =O27+1 -> 8 | T27: =P27+1 -> 1002613 | U27: =S27 -> 8 | V27: =R27 -> 1002622 | W27: =S27+1 -> 9 | X27: =T27 -> 1002613 | Y27: 9 | Z27: =V27+1 -> 1002623 | AA27: =[2]!SUMSTRING(C27:D27,"#") -> #NAME? | AC27: =[2]!SUMSTRING(E27:F27,"#") -> #NAME? | AE27: =[2]!SUMSTRING(G27:H27,"#") -> #NAME? | AG27: =[2]!SUMSTRING(I27:J27,"#") -> #NAME? | AI27: =[2]!SUMSTRING(K27:L27,"#") -> #NAME? | AK27: =[2]!SUMSTRING(M27:N27,"#") -> #NAME? | AM27: =[2]!SUMSTRING(O27:P27,"#") -> #NAME? | AO27: =[2]!SUMSTRING(Q27:R27,"#") -> #NAME? | AQ27: =[2]!SUMSTRING(S27:T27,"#") -> #NAME? | AS27: =[2]!SUMSTRING(U27:V27,"#") -> #NAME? | AU27: =[2]!SUMSTRING(W27:X27,"#") -> #NAME? | AW27: =[2]!SUMSTRING(Y27:Z27,"#") -> #NAME? | AY27: =[2]!SUMSTRING(AA27:AW27,"|") -> #NAME?
A28: 10027 | B28: 5 | C28: 4 | D28: =D27+100 -> 1002711 | G28: 5 | H28: 1002711 | I28: =G28 -> 5 | J28: 1002721 | K28: =I28+1 -> 6 | L28: =H28+1 -> 1002712 | M28: =K28 -> 6 | N28: =IF(M28=7,J28+1,J28) -> 1002721 | O28: =K28+1 -> 7 | P28: =L28 -> 1002712 | Q28: =M28+1 -> 7 | R28: =N28+1 -> 1002722 | S28: =O28+1 -> 8 | T28: =P28+1 -> 1002713 | U28: =S28 -> 8 | V28: =R28 -> 1002722 | W28: =S28+1 -> 9 | X28: =T28 -> 1002713 | Y28: 9 | Z28: =V28+1 -> 1002723 | AA28: =[2]!SUMSTRING(C28:D28,"#") -> #NAME? | AC28: =[2]!SUMSTRING(E28:F28,"#") -> #NAME? | AE28: =[2]!SUMSTRING(G28:H28,"#") -> #NAME? | AG28: =[2]!SUMSTRING(I28:J28,"#") -> #NAME? | AI28: =[2]!SUMSTRING(K28:L28,"#") -> #NAME? | AK28: =[2]!SUMSTRING(M28:N28,"#") -> #NAME? | AM28: =[2]!SUMSTRING(O28:P28,"#") -> #NAME? | AO28: =[2]!SUMSTRING(Q28:R28,"#") -> #NAME? | AQ28: =[2]!SUMSTRING(S28:T28,"#") -> #NAME? | AS28: =[2]!SUMSTRING(U28:V28,"#") -> #NAME? | AU28: =[2]!SUMSTRING(W28:X28,"#") -> #NAME? | AW28: =[2]!SUMSTRING(Y28:Z28,"#") -> #NAME? | AY28: =[2]!SUMSTRING(AA28:AW28,"|") -> #NAME?
A29: 10028 | B29: 5 | C29: 4 | D29: =D28+100 -> 1002811 | G29: 5 | H29: 1002811 | I29: =G29 -> 5 | J29: 1002821 | K29: =I29+1 -> 6 | L29: =H29+1 -> 1002812 | M29: =K29 -> 6 | N29: =IF(M29=7,J29+1,J29) -> 1002821 | O29: =K29+1 -> 7 | P29: =L29 -> 1002812 | Q29: =M29+1 -> 7 | R29: =N29+1 -> 1002822 | S29: =O29+1 -> 8 | T29: =P29+1 -> 1002813 | U29: =S29 -> 8 | V29: =R29 -> 1002822 | W29: =S29+1 -> 9 | X29: =T29 -> 1002813 | Y29: 9 | Z29: =V29+1 -> 1002823 | AA29: =[2]!SUMSTRING(C29:D29,"#") -> #NAME? | AC29: =[2]!SUMSTRING(E29:F29,"#") -> #NAME? | AE29: =[2]!SUMSTRING(G29:H29,"#") -> #NAME? | AG29: =[2]!SUMSTRING(I29:J29,"#") -> #NAME? | AI29: =[2]!SUMSTRING(K29:L29,"#") -> #NAME? | AK29: =[2]!SUMSTRING(M29:N29,"#") -> #NAME? | AM29: =[2]!SUMSTRING(O29:P29,"#") -> #NAME? | AO29: =[2]!SUMSTRING(Q29:R29,"#") -> #NAME? | AQ29: =[2]!SUMSTRING(S29:T29,"#") -> #NAME? | AS29: =[2]!SUMSTRING(U29:V29,"#") -> #NAME? | AU29: =[2]!SUMSTRING(W29:X29,"#") -> #NAME? | AW29: =[2]!SUMSTRING(Y29:Z29,"#") -> #NAME? | AY29: =[2]!SUMSTRING(AA29:AW29,"|") -> #NAME?
A30: 10029 | B30: 4 | C30: 4 | D30: =D29+100 -> 1002911 | G30: 5 | H30: 1002911 | I30: =G30 -> 5 | J30: 1002921 | K30: =I30+1 -> 6 | L30: =H30+1 -> 1002912 | M30: =K30 -> 6 | N30: =IF(M30=7,J30+1,J30) -> 1002921 | AA30: =[2]!SUMSTRING(C30:D30,"#") -> #NAME? | AC30: =[2]!SUMSTRING(E30:F30,"#") -> #NAME? | AE30: =[2]!SUMSTRING(G30:H30,"#") -> #NAME? | AG30: =[2]!SUMSTRING(I30:J30,"#") -> #NAME? | AI30: =[2]!SUMSTRING(K30:L30,"#") -> #NAME? | AK30: =[2]!SUMSTRING(M30:N30,"#") -> #NAME? | AM30: =[2]!SUMSTRING(O30:P30,"#") -> #NAME? | AO30: =[2]!SUMSTRING(Q30:R30,"#") -> #NAME? | AQ30: =[2]!SUMSTRING(S30:T30,"#") -> #NAME? | AS30: =[2]!SUMSTRING(U30:V30,"#") -> #NAME? | AU30: =[2]!SUMSTRING(W30:X30,"#") -> #NAME? | AW30: =[2]!SUMSTRING(Y30:Z30,"#") -> #NAME? | AY30: =[2]!SUMSTRING(AA30:AW30,"|") -> #NAME?
A31: 10030 | B31: 3 | C31: 4 | D31: =D30+100 -> 1003011 | G31: 5 | H31: 1003011 | I31: =G31 -> 5 | J31: 1003021 | K31: =I31+1 -> 6 | L31: =H31+1 -> 1003012 | M31: =K31 -> 6 | N31: =IF(M31=7,J31+1,J31) -> 1003021 | AA31: =[2]!SUMSTRING(C31:D31,"#") -> #NAME? | AC31: =[2]!SUMSTRING(E31:F31,"#") -> #NAME? | AE31: =[2]!SUMSTRING(G31:H31,"#") -> #NAME? | AG31: =[2]!SUMSTRING(I31:J31,"#") -> #NAME? | AI31: =[2]!SUMSTRING(K31:L31,"#") -> #NAME? | AK31: =[2]!SUMSTRING(M31:N31,"#") -> #NAME? | AM31: =[2]!SUMSTRING(O31:P31,"#") -> #NAME? | AO31: =[2]!SUMSTRING(Q31:R31,"#") -> #NAME? | AQ31: =[2]!SUMSTRING(S31:T31,"#") -> #NAME? | AS31: =[2]!SUMSTRING(U31:V31,"#") -> #NAME? | AU31: =[2]!SUMSTRING(W31:X31,"#") -> #NAME? | AW31: =[2]!SUMSTRING(Y31:Z31,"#") -> #NAME? | AY31: =[2]!SUMSTRING(AA31:AW31,"|") -> #NAME?
