{"text_format":"3","workbook":"xlsx","n_sheets":8,"sheets":["EquipConfig","辅助表","装备等级分类","装备等级分类辅助","1","合成装备","装备分类辅助表","装备属性重制版辅助表"],"not_rendered":{"images":1,"external_links":2,"defined_names":3},"read":"whole","date_system":"1900"}

{"sheet":"EquipConfig","index":0,"n_rows":134,"n_cols":30,"rows_kept":134}
[null,"Id","Name","SuiteID","Quality","ProfessionLimit","Position","Star","Property","PropertyMin","PropertyMax","PassiveSkill","Pool","SecondNumMin","SecondNumMax","limit","Formula","Resource","Bcakground","Range","Describe","Parameter","SkillPoolId","InitialLevel","IfClear","IfShow","Score","NoUse1","NoUse3","NoUse4"]
[null,"int","string","int","int","int","int","int","mut,int#int,2","mut,int#int,1","mut,int#int,1","mut,int#int,1","mut,int#int,1","int","int","int","mut,int#int,2","mut,int#int,2","string","mut,int#int,1","string","mut,string#string,2","mut,int#int,1","int","int","int","int","string","string","string"]
[null,2,3,2,2,2,2,2,2,2,2,2,2,2,2,2,2,2,3,2,3,3,2,2,2,3,2,0,0,0]
[null,"道具id","道具名","所属套装id","装备品质\n2绿色\n3蓝色\n4紫色\n5橙色\n6红色                              7彩色","职业限定\n0 不限定\n1、武卫；2、天罚；3、秘法；4，玄策；5，生花","位置\n(1武器 2全身铠甲 3头饰 4鞋子 5魂印）","装备星级","属性\n属性id#num\n（属性id找propertyconfig表）","属性区间min\n属性id#num\n（属性id找propertyconfig表）","属性区间max\n属性id#num","被动效果id（去PassiveSkillLogicConfig表找）","附属性库","副属性随机最少个数，不重复","副属性最多随机个数，不重复","是否唯一（是否只能一名武将佩戴）\n1是\n0否","合成公式 \n（品质id（Quality）#数量）","合成消耗\n材料id#数量（itemconfig找道具id）","背景描述","适用英雄\n英雄id#英雄id\n0代表所有英雄均适用","适用英雄描述%s代表","英雄效果参数#英雄效果参数|英雄效果参数#英雄次效果参数\n为0时只显示describe列","附带技能库id","初始自带重置等级","是否可重铸\n0不可重铸\n1可重铸","是否在图鉴中显示\n0不显示\n1显示","战力评分","没啥用、","没啥用、","没啥用、"]
["默认值",0,{"$f":"\"\"","v":""},0,null,0,0,0,null,"null","null",null,"null",0,0,{"$nulls":8},0,0,null,0,{"$f":"\"\"","v":""},{"$f":"\"\"","v":""},{"$f":"\"\"","v":""}]
["正确性校对",{"$nulls":24},0]
["校对值"]
[null,60001,"猎户大斧",null,2,0,1,1,"2#120","2#120","2#120",{"$nulls":12},0,0]
[null,60002,"兽骨大斧",null,2,0,1,2,"2#150","2#150","2#150",{"$nulls":12},0,0]
[null,60016,"戍卫战甲",null,2,0,2,1,"3#40","3#40","3#40",{"$nulls":12},0,0]
[null,60017,"硬木战甲",null,2,0,2,2,"3#50","3#50","3#50",{"$nulls":12},0,0]
[null,60022,"猎户草帽",null,2,0,3,1,"4#40","4#40","4#40",{"$nulls":12},0,0]
[null,60023,"兽皮兜帽",null,2,0,3,2,"4#50","4#50","4#50",{"$nulls":12},0,0]
[null,60025,"猎户草鞋",null,2,0,4,1,"1#800","1#800","1#800",{"$nulls":12},0,0]
[null,60026,"兽皮皮靴",null,2,0,4,2,"1#1000","1#1000","1#1000",{"$nulls":12},0,0]
[null,60034,"乌木大斧",null,3,0,1,3,"2#180","2#180","2#180",{"$nulls":12},0,0]
[null,60035,"陨铁大斧",null,3,0,1,4,"2#270","2#270","2#270",{"$nulls":12},0,0]
[null,60049,"乌木战甲",null,3,0,2,3,"3#60","3#60","3#60",{"$nulls":12},0,0]
[null,60050,"陨铁战甲",null,3,0,2,4,"3#90","3#90","3#90",{"$nulls":12},0,0]
[null,60055,"乌木战盔",null,3,0,3,3,"4#60","4#60","4#60",{"$nulls":12},0,0]
[null,60056,"陨铁战盔",null,3,0,3,4,"4#90","4#90","4#90",{"$nulls":12},0,0]
[null,60058,"乌木战靴",null,3,0,4,3,"1#1200","1#1200","1#1200",{"$nulls":12},0,0]
[null,60059,"陨铁战靴",null,3,0,4,4,"1#1800","1#1800","1#1800",{"$nulls":12},0,0]
[null,60067,"御风战斧",null,4,0,1,5,"2#360","2#360","2#360",{"$nulls":12},0,0]
[null,60068,"困雨战斧",null,4,0,1,6,"2#450","2#450","2#450",{"$nulls":12},0,0]
[null,60069,"折雪战斧",1,4,0,1,7,"2#630","2#630","2#630",null,1001,1,1,{"$nulls":8},0,0]
[null,60082,"屠戮战甲",null,4,0,2,5,"3#120","3#120","3#120",{"$nulls":12},0,0]
[null,60083,"明光战甲",null,4,0,2,6,"3#150","3#150","3#150",{"$nulls":12},0,0]
[null,60084,"冥魂战甲",1,4,0,2,7,"3#210","3#210","3#210",null,1000,1,1,{"$nulls":8},0,0]
[null,60088,"神行战盔",null,4,0,3,5,"4#120","4#120","4#120",{"$nulls":12},0,0]
[null,60089,"乘风战盔",null,4,0,3,6,"4#150","4#150","4#150",{"$nulls":12},0,0]
[null,60090,"破空战盔",1,4,0,3,7,"4#210","4#210","4#210",null,1002,1,1,{"$nulls":8},0,0]
[null,60091,"神行战靴",null,4,0,4,5,"1#2400","1#2400","1#2400",{"$nulls":12},0,0]
[null,60092,"乘风战靴",null,4,0,4,6,"1#3000","1#3000","1#3000",{"$nulls":12},0,0]
[null,60093,"破空战靴",1,4,0,4,7,"1#4200","1#4200","1#4200",null,1002,1,1,{"$nulls":8},0,0]
[null,60100,"断念神斧",2,5,0,1,8,"2#840","2#840","2#840",null,1004,1,1,{"$nulls":8},0,0]
[null,60101,"斩尘神斧",3,5,0,1,9,"2#1140","2#1140","2#1140",null,1007,1,1,{"$nulls":8},0,0]
[null,60102,"凝墨神斧",4,5,0,1,10,"2#1500","2#1500","2#1500",null,1010,1,1,{"$nulls":8},0,0]
[null,60103,"孤星战斧",5,5,0,1,11,"2#2040","2#2040","2#2040",null,1013,1,1,{"$nulls":8},0,0]
[null,60125,"虬龙仙甲",2,5,0,2,8,"3#280","3#280","3#280",null,1003,1,1,{"$nulls":8},0,0]
[null,60126,"神凰羽衣",3,5,0,2,9,"3#380","3#380","3#380",null,1006,1,1,{"$nulls":8},0,0]
[null,60127,"饕餮战衣",4,5,0,2,10,"3#500","3#500","3#500",null,1009,1,1,{"$nulls":8},0,0]
[null,60128,"孤星战衣",5,5,0,2,11,"3#680","3#680","3#680",null,1012,1,1,{"$nulls":8},0,0]
[null,60135,"虬龙战盔",2,5,0,3,8,"4#280","4#280","4#280",null,1005,1,1,{"$nulls":8},0,0]
[null,60136,"神凰战盔",3,5,0,3,9,"4#380","4#380","4#380",null,1008,1,1,{"$nulls":8},0,0]
[null,60137,"饕餮战盔",4,5,0,3,10,"4#500","4#500","4#500",null,1011,1,1,{"$nulls":8},0,0]
[null,60138,"孤星战盔",5,5,0,3,11,"4#680","4#680","4#680",null,1014,1,1,{"$nulls":8},0,0]
[null,60140,"虬龙战靴",2,5,0,4,8,"1#5600","1#5600","1#5600",null,1005,1,1,{"$nulls":8},0,0]
[null,60141,"神凰战靴",3,5,0,4,9,"1#7600","1#7600","1#7600",null,1008,1,1,{"$nulls":8},0,0]
[null,60142,"饕餮战靴",4,5,0,4,10,"1#10000","1#10000","1#10000",null,1011,1,1,{"$nulls":8},0,0]
[null,60144,"孤星战靴",5,5,0,4,11,"1#13600","1#13600","1#13600",null,1014,1,1,{"$nulls":8},0,0]
[null,60155,"弹指神戟",6,6,0,1,12,"2#3180","2#3180","2#3180",null,1016,1,1,{"$nulls":8},0,0]
[null,60156,"刹那神戟",7,6,0,1,13,"2#4890","2#4890","2#4890",null,1019,1,1,{"$nulls":8},0,0]
[null,60157,"一念神戟",8,6,0,1,14,"2#7410|55#200","2#7410","2#7410",null,1022,1,1,{"$nulls":8},0,0]
[null,60158,"须臾神戟",9,6,0,1,15,"2#11070|55#400","2#11070","2#11070",null,1025,1,1,{"$nulls":8},0,0]
[null,60159,"劫火神戟",10,6,0,1,16,"2#16380|55#800","2#16380","2#16380",null,1028,1,1,{"$nulls":8},0,0]
[null,60160,"弹指神刺",11,6,0,1,17,"2#24000|55#1600","2#24000","2#24000",null,1031,1,1,{"$nulls":8},0,0]
[null,60180,"炎帝战甲",6,6,0,2,12,"3#1060","3#1060","3#1060",null,1015,1,1,{"$nulls":8},0,0]
[null,60181,"句芒战甲",7,6,0,2,13,"3#1630","3#1630","3#1630",null,1018,1,1,{"$nulls":8},0,0]
[null,60182,"云龙战甲",8,6,0,2,14,"3#2470|60#200","3#2470","3#2470",null,1021,1,1,{"$nulls":8},0,0]
[null,60183,"霜狼战甲",9,6,0,2,15,"3#3690|60#400","3#3690","3#3690",null,1024,1,1,{"$nulls":8},0,0]
[null,60184,"银月战甲",10,6,0,2,16,"3#5460|60#800","3#5460","3#5460",null,1027,1,1,{"$nulls":8},0,0]
[null,60185,"赤阳战甲",11,6,0,2,17,"3#8000|60#1600","3#8000","3#8000",null,null,1,1,{"$nulls":8},0,0]
[null,60190,"六合战盔",6,6,0,3,12,"4#1060","4#1060","4#1060",null,1017,1,1,{"$nulls":8},0,0]
[null,60191,"八荒战盔",7,6,0,3,13,"4#1630","4#1630","4#1630",null,1020,1,1,{"$nulls":8},0,0]
[null,60192,"太初战盔",8,6,0,3,14,"4#2470|53#200","4#2470","4#2470",null,1023,1,1,{"$nulls":8},0,0]
[null,60193,"鸿蒙战盔",9,6,0,3,15,"4#3690|53#400","4#3690","4#3690",null,1026,1,1,{"$nulls":8},0,0]
[null,60194,"轩辕战盔",10,6,0,3,16,"4#5460|53#800","4#5460","4#5460",null,1029,1,1,{"$nulls":8},0,0]
[null,60195,"六合战靴",6,6,0,4,12,"1#21200","1#21200","1#21200",null,1017,1,1,{"$nulls":8},0,0]
[null,60196,"八荒战靴",7,6,0,4,13,"1#32600","1#32600","1#32600",null,1020,1,1,{"$nulls":8},0,0]
[null,60197,"太初战靴",8,6,0,4,14,"1#49400|54#200","1#49400","1#49400",null,1023,1,1,{"$nulls":8},0,0]
[null,60198,"鸿蒙战靴",9,6,0,4,15,"1#73800|54#400","1#73800","1#73800",null,1026,1,1,{"$nulls":8},0,0]
[null,60199,"轩辕战靴",10,6,0,4,16,"1#109200|54#800","1#109200","1#109200",null,1029,1,1,{"$nulls":8},0,0]
[null,60200,"昊天战盔",11,6,0,3,17,"4#8000|53#1600","4#8000","4#8000",null,null,1,1,{"$nulls":8},0,0]
[null,60201,"昊天战靴",11,6,0,4,17,"1#160000|54#1600","1#160000","1#160000",null,null,1,1,{"$nulls":8},0,0]
[null,5000001,"嫦娥魂印",null,4,0,5,0,"56#500","56#500","56#500",{"$nulls":4},0,null,"14#20000","无敌",0,"适用全部神将",0,{"$nulls":4},7200]
[null,5000002,"申公豹魂印",null,4,0,5,0,"2#300","2#300","2#300",1000002,{"$nulls":3},0,null,"14#20000","无敌",0,"适用全部神将",0,{"$nulls":4},7200]
[null,5000003,"普贤菩萨魂印",null,4,0,5,0,"1#2000","1#2000","1#2000",1000003,{"$nulls":3},0,null,"14#20000","无敌",0,"适用全部神将",0,{"$nulls":4},7200]
[null,5000004,"达摩魂印",null,4,0,5,0,"3#100","3#100","3#100","1000004#1000060#1000062",{"$nulls":3},0,null,"14#20000","无敌",0,"适用全部神将",0,{"$nulls":4},7200]
[null,5000005,"红孩儿魂印",null,4,0,5,0,"60#800","60#800","60#800",{"$nulls":4},0,null,"14#20000","无敌",0,"适用全部神将",0,{"$nulls":4},7200]
[null,5000006,"混世魔王魂印",null,4,0,5,0,"55#800","55#800","55#800",{"$nulls":4},0,null,"14#20000","无敌",0,"适用全部神将",0,{"$nulls":4},7200]
[null,5000007,"吴刚魂印",null,4,0,5,0,"51#500","51#500","51#500",{"$nulls":4},0,null,"14#20000","无敌",0,"适用全部神将",0,{"$nulls":4},7200]
[null,5000008,"金翅大鹏魂印",null,4,0,5,0,"52#500","52#500","52#500",{"$nulls":4},0,null,"14#20000","无敌",0,"适用全部神将",0,{"$nulls":4},7200]
[null,5000009,"妲己魂印",null,5,0,5,0,{"$nulls":3},1000009,{"$nulls":3},0,null,"14#20000","无敌","10005#10027","沉默概率增加%s%%","24|24",{"$nulls":4},24000]
[null,5000010,"猪八戒魂印",null,5,0,5,0,{"$nulls":3},1000010,{"$nulls":3},0,null,"14#20000","无敌",10003,"反伤比例增加%s%%",30,{"$nulls":4},24000]
[null,5000011,"伏羲魂印",null,5,0,5,0,"51#1200","51#1200","51#1200",{"$nulls":4},0,null,"14#20000","无敌",0,"适用全部神将",0,{"$nulls":4},24000]
[null,5000012,"精卫魂印",null,5,0,5,0,{"$nulls":3},1000012,{"$nulls":3},0,null,"14#20000","无敌","10011#10008#10002#10006#10003#10005#10020#10044#10031#10028#10045#10085#10023#10022#10010#10089#10033#10015#10012#10034#10039#10029#10030#10086#10001#10014#10016#10009#10021#10017#10087#10046#10032#10035#10036#10040#10088#10026#10019#10042#10043#10013#10041#10025#10037#10027#10038#10090","击杀目标回复自身%s点怒气","1|1|1|1|1|1|1|1|1|1|1|1|1|1|1|1|1|1|1|1|1|1|1|1|1|1|1|1|1|1|1|1|1|1|1|1|1|1|1|1|1|1|1|1|1|1|1|1",{"$nulls":4},24000]
[null,5000013,"百花仙子魂印",null,5,0,5,0,{"$nulls":3},1000013,{"$nulls":3},0,null,"14#20000","无敌","10008#10045#10033#10043","技能直接伤害转化为生命治疗当前生命最少的神将的比例提升%s%%","18|18|18|18",{"$nulls":4},24000]
[null,5000014,"唐僧魂印",null,5,0,5,0,{"$nulls":3},1000014,{"$nulls":3},0,null,"14#20000","无敌","10018#10007#10004#10024","技能对己方生命最少神将造成治疗效果额外提升治疗神将自身攻击的%s%%","55|55|55|55",{"$nulls":4},24000]
[null,5000015,"九天玄女魂印",null,5,0,5,0,"60#2000","60#2000","60#2000",{"$nulls":4},0,null,"14#20000","无敌",0,"适用全部神将",0,{"$nulls":4},24000]
[null,5000016,"孙悟空魂印",null,5,0,5,0,{"$nulls":3},1000016,{"$nulls":3},0,null,"14#20000","无敌",0,"适用全部神将",0,{"$nulls":4},24000]
[null,5000017,"降龙罗汉魂印",null,5,0,5,0,"2#900","2#900","2#900",1000017,{"$nulls":3},0,null,"14#20000","无敌",0,"适用全部神将",0,{"$nulls":4},24000]
[null,5000018,"孔雀明王魂印",null,5,0,5,0,{"$nulls":3},1000018,{"$nulls":3},0,null,"14#20000","无敌","10010#10019","减伤盾减伤效果增加%s%%","12|36",{"$nulls":4},24000]
[null,5000019,"燃灯魂印",null,5,0,5,0,"1#6000","1#6000","1#6000",1000019,{"$nulls":3},0,null,"14#20000","无敌",0,"适用全部神将",0,{"$nulls":4},24000]
[null,5000020,"月光菩萨魂印",null,5,0,5,0,{"$nulls":3},1000020,{"$nulls":3},0,null,"14#20000","无敌","10020#10022#10029#10030#10021#10036#10088#10037","眩晕概率增加%s%%","24|16|24|48|8|24|16|48",{"$nulls":4},24000]
[null,5000021,"龙吉公主魂印",null,5,0,5,0,{"$nulls":3},1000021,{"$nulls":3},0,null,"14#20000","无敌","10009#10013","麻痹概率增加%s%%","24|12",{"$nulls":4},24000]
[null,5000022,"九命猫魂印",null,5,0,5,0,{"$nulls":3},1000022,{"$nulls":3},0,null,"14#20000","无敌","10018#10007#10004#10024","技能的治疗效果提升%s%%，同时为技能目标附加%s个免伤盾。受到直接伤害降低%s%%持续%s回合。","25#1#12#1|25#1#12#1|25#1#12#1|25#1#12#1",{"$nulls":4},24000]
[null,5000023,"蚩尤魂印",null,5,0,5,0,"3#300","3#300","3#300","1000023#1000061#1000063",{"$nulls":3},0,null,"14#20000","无敌",0,"适用全部神将",0,{"$nulls":4},24000]
[null,5000024,"妈祖魂印",null,5,0,5,0,"56#1200","56#1200","56#1200",{"$nulls":4},0,null,"14#20000","无敌",0,"适用全部神将",0,{"$nulls":4},24000]
[null,5000025,"娥皇魂印",null,5,0,5,0,{"$nulls":3},1000025,{"$nulls":3},0,null,"14#20000","无敌","10014#10087#10046","普通攻击附加灼烧的概率增加%s%%，技能附加灼烧的概率增加%s%%。","20#10|60#20|60#20",{"$nulls":4},24000]
[null,5000026,"冥毒邪宴魂印",null,5,0,5,0,{"$nulls":3},1000026,{"$nulls":3},0,null,"14#20000","无敌","10041#10038","造成的中毒伤害的%s%%转化为生命治疗自己","10|10",{"$nulls":4},24000]
[null,5000027,"太阴星君魂印",null,5,0,5,0,{"$nulls":3},1000027,{"$nulls":3},0,null,"14#20000","无敌",0,"适用全部神将",0,{"$nulls":4},24000]
[null,5000028,"巨灵神魂印",null,5,0,5,0,"52#1200","52#1200","52#1200",{"$nulls":4},0,null,"14#20000","无敌",0,"适用全部神将",0,{"$nulls":4},24000]
[null,5000029,"通天教主魂印",null,5,0,5,0,{"$nulls":3},1000029,{"$nulls":3},0,null,"14#20000","无敌","10041#10038","技能附加中毒的概率增加%s%%","20|20",{"$nulls":4},24000]
[null,5000030,"罗刹魂印",null,5,0,5,0,{"$nulls":3},1000030,{"$nulls":3},0,null,"14#20000","无敌","10030#10036#10043#10027#10042#10037","%s单体目标时额外降低目标%s点怒气","攻击#1|普通攻击#1|普通攻击#1|普通攻击#1|技能攻击#1|技能攻击#1",{"$nulls":4},24000]
[null,5000031,"夜叉魂印",null,5,0,5,0,{"$nulls":3},1000031,{"$nulls":3},0,null,"14#20000","无敌","10041#10038","中毒伤害增加%s%%","20|20",{"$nulls":4},24000]
[null,5000032,"帝释天魂印",null,5,0,5,0,"55#2000","55#2000","55#2000",{"$nulls":4},0,null,"14#20000","无敌",0,"适用全部神将",0,{"$nulls":4},24000]
[null,5000033,"瘟癀疫病魂印",null,6,0,5,0,{"$nulls":3},1000033,{"$nulls":3},0,null,"14#20000","无敌","10041#10038","释放技能造成的%s附加封疗效果","中毒|中毒",{"$nulls":4},72000]
[null,5000034,"蚀骨火毒魂印",null,6,0,5,0,{"$nulls":3},1000034,{"$nulls":3},0,null,"14#20000","无敌","10041#10038","中毒状态额外增加%s回合","1|1",{"$nulls":4},72000]
[null,5000035,"神女庇佑魂印",null,6,0,5,0,{"$nulls":3},1000035,{"$nulls":3},0,null,"14#20000","无敌","10015#10017#10035","直接伤害击杀目标后追加%s次技能，对敌方单体造成%s%%物理伤害。（追击技能不消耗怒气，不触发任何特性）","1#175|1#175|1#175",{"$nulls":4},72000]
[null,5000036,"姑获鸟魂印",null,6,0,5,0,{"$nulls":3},1000036,{"$nulls":3},0,null,"14#20000","无敌","10029#10025#10020","攻击纵排目标降低其%s点怒气","1|1|1",{"$nulls":4},72000]
[null,5000037,"敖丙魂印",null,6,0,5,0,{"$nulls":3},1000037,{"$nulls":3},0,null,"14#20000","无敌",0,"适用全部神将",0,{"$nulls":4},72000]
[null,5000038,"义结金兰魂印",null,6,0,5,0,{"$nulls":3},1000038,{"$nulls":3},0,null,"14#20000","无敌",0,"适用全部神将",0,{"$nulls":4},72000]
[null,5000039,"青鸟传信魂印",null,6,0,5,0,{"$nulls":3},1000039,{"$nulls":3},0,null,"14#20000","无敌","10014#10087#10046","普通攻击附加灼烧的概率增加%s%%，技能附加灼烧的概率增加%s%%。","32#16|96#32|96#32",{"$nulls":4},72000]
[null,5000040,"火烧连城魂印",null,6,0,5,0,{"$nulls":3},1000040,{"$nulls":3},0,null,"14#20000","无敌","10014#10087#10046","被灼烧的神将无法获得%s和%s效果","无敌#无敌吸血盾|无敌#无敌吸血盾|无敌#无敌吸血盾",{"$nulls":4},72000]
[null,5000041,"破邪怒斩魂印",null,6,0,5,0,{"$nulls":3},1000041,{"$nulls":3},0,null,"14#20000","无敌","10015#10017#10035","所有攻击优先攻击当前敌方生命最%s的神将","低|低|低",{"$nulls":4},72000]
[null,5000042,"狂噬戮兽魂印",null,6,0,5,0,{"$nulls":3},1000042,{"$nulls":3},0,null,"14#20000","无敌","10011#10008#10002#10006#10003#10005#10020#10044#10031#10028#10045#10085#10023#10022#10010#10089#10033#10015#10012#10034#10039#10029#10030#10086#10001#10014#10016#10009#10021#10017#10087#10046#10032#10035#10036#10040#10088#10026#10019#10042#10043#10013#10041#10025#10037#10027#10038#10090","技能直接伤害的%s%%转化为生命治疗自己","18|18|18|18|18|18|18|18|18|18|18|18|18|18|18|18|18|18|18|18|18|18|18|18|18|18|18|18|18|18|18|18|18|18|18|18|18|18|18|18|18|18|18|18|18|18|18|18",{"$nulls":4},72000]
[null,5000043,"哪吒魂印",null,6,0,5,0,{"$nulls":3},1000043,{"$nulls":3},0,null,"14#20000","无敌","10014#10087#10046","灼烧状态额外增加%s回合","1|1|1",{"$nulls":4},72000]
[null,5000044,"失心暴怒魂印",null,6,0,5,0,{"$nulls":3},1000044,{"$nulls":3},0,null,"14#20000","无敌",0,"适用全部神将",0,{"$nulls":4},72000]
[null,5000045,"起死回生魂印",null,6,0,5,0,{"$nulls":3},1000045,{"$nulls":3},0,null,"14#20000","无敌","10018#10007#10004#10024","技能对己方生命最少的%s名神将造成治疗效果额外提升治疗神将自身攻击的%s%%","3#32|3#32|3#32|3#32",{"$nulls":4},72000]
[null,5000046,"破军魂印",null,6,0,5,0,{"$nulls":3},1000046,{"$nulls":3},0,null,"14#20000","无敌","10011#10008#10002#10006#10003#10005#10020#10044#10031#10028#10045#10085#10023#10022#10010#10089#10033#10015#10012#10034#10039#10029#10030#10086#10001#10014#10016#10009#10021#10017#10087#10046#10032#10035#10036#10040#10088#10026#10019#10042#10043#10013#10041#10025#10037#10027#10038#10090","普攻有%s%%概率清除目标无敌，技能有%s%%概率清除目标无敌。","33#16|33#33|50#33|100#100|100#50|100#33|100#50|100#50|100#33|100#25|100#100|50#50|50#50|33#33|100#33|100#50|100#100|100#100|100#33|100#33|100#50|100#50|100#100|100#50|33#33|33#16|100#100|100#33|100#16|100#100|100#33|100#33|100#33|100#100|100#50|100#50|33#33|33#16|100#100|100#100|100#100|100#16|100#33|100#50|100#100|100#33|100#33|100#33",{"$nulls":4},72000]
[null,5000047,"辟邪守护魂印",null,6,0,5,0,{"$nulls":3},1000047,{"$nulls":3},0,null,"14#20000","无敌",0,"适用全部神将",0,{"$nulls":4},72000]
[null,5000048,"破阵穿心魂印",null,7,0,5,0,{"$nulls":3},1000048,{"$nulls":3},0,"6#3","14#10000000","无敌","10002#10044#10031#10085#10023#10012#10034#10039#10086#10001#10032#10040#10041#10038#10090","我方纵排、前排、后排输出神将对敌方造成伤害如被分摊其分摊比降低%s%%","50|50|50|50|50|50|50|50|50|50|50|50|50|50|50",{"$nulls":4},216000]
[null,5000049,"饕餮吞鲸魂印",null,7,0,5,0,{"$nulls":3},1000049,{"$nulls":3},0,"6#3","14#10000000","无敌","10011#10002#10044#10031#10028#10085#10023#10015#10012#10034#10039#10086#10001#10017#10032#10035#10040#10026#10041#10038#10025#10090","技能直接击杀敌方目标时，获得目标剩余的所有怒气（%s神将佩戴）","输出|输出|输出|输出|输出|输出|输出|输出|输出|输出|输出|输出|输出|输出|输出|输出|输出|输出|输出|输出|输出|输出|输出|输出|",{"$nulls":4},216000]
[null,5000050,"斩妖净气魂印",null,7,0,5,0,"51#1800","51#1800","51#1800",{"$nulls":4},0,"6#3","14#10000000","无敌",0,"适用全部神将",0,{"$nulls":4},216000]
[null,5000051,"羲农之佑魂印",null,7,0,5,0,{"$nulls":3},1000051,{"$nulls":3},0,"6#3","14#10000000","无敌",0,"适用全部神将",0,{"$nulls":4},216000]
[null,5000052,"除妖斩魔魂印",null,7,0,5,0,{"$nulls":3},1000052,{"$nulls":3},0,"6#3","14#10000000","无敌",0,"适用全部神将",0,{"$nulls":4},216000]
[null,5000053,"历战之躯魂印",null,7,0,5,0,{"$nulls":3},1000053,{"$nulls":3},1,"6#3","14#10000000","无敌","10003#10010#10016#10019","每回合最多受到自身生命上限%s%%的伤害","50|50|50|50",{"$nulls":4},216000]
[null,5000054,"舍身济世魂印",null,7,0,5,0,{"$nulls":3},1000054,{"$nulls":3},1,"6#3","14#10000000","无敌","10003#10010#10016#10019","同阵营神将受到直接伤害时该伤害%s%%转移给佩戴此魂印的神将转移伤害属于直接伤害","40|40|40|40",{"$nulls":4},216000]
[null,5000055,"灵气护体魂印",null,7,0,5,0,"52#1800","52#1800","52#1800",{"$nulls":4},0,"6#3","14#10000000","无敌",0,"适用全部神将",0,{"$nulls":4},216000]
[null,5000056,"灭魂一击魂印",null,7,0,5,0,{"$nulls":3},1000056,{"$nulls":3},0,"6#3","14#10000000","无敌",10040,"初始怒气增加%s点，并且强化暴毙触发的时机，目标血量低于%s%%即有概率触发暴毙","1#30",{"$nulls":4},216000]
[null,5000057,"见血封喉魂印",null,7,0,5,0,{"$nulls":3},1000057,{"$nulls":3},0,"6#3","14#10000000","无敌",10040,"暴毙概率提升%s%%，杨戬直接伤害击杀的灼烧目标有%s%%概率无法复活，触发暴毙的目标%s%%概率无法复活","20#70#100",{"$nulls":4},216000]
[null,5000058,"阴阳调和魂印",null,7,0,5,0,{"$nulls":3},1000058,{"$nulls":3},0,"6#3","14#10000000","无敌",10090,"初始怒气增加%s点，敌方处于链接符状态的目标在回合结束时有%s%%概率减少%s点怒气","1#70#1",{"$nulls":4},216000]
[null,5000059,"气运在握魂印",null,7,0,5,0,{"$nulls":3},1000059,{"$nulls":3},0,"6#3","14#10000000","无敌",10090,"敌方处于链接符状态的目标在获得无敌盾时有%s%%概率获取失败",60,{"$nulls":4},216000]

{"sheet":"辅助表","index":1,"n_rows":118,"n_cols":35,"rows_kept":118}
[null,"装备id","装备名字","位置","武器名字","主属性","主属性id","品质","辅助列","主属性数值min","主属性数值max","输出","输出"]
[null,3001,"绿色武卫武器1",1,{"$f":"LEFT(RIGHT(C2,3),2)","v":"武器"},{"$f":"VLOOKUP(E2,$Y$7:$Z$11,2,0)","v":"攻击"},{"$f":"VLOOKUP(F2,$Y$16:$Z$39,2,0)","v":2},{"$f":"LEFT(C2,2)","v":"绿色"},{"$f":"H2&F2","v":"绿色攻击"},{"$f":"ROUND(VLOOKUP(I2,$AD$21:$AF$40,2,0)*VLOOKUP(E2,$Y$7:$AA$11,3,0),0)","v":42},{"$f":"ROUND(VLOOKUP(I2,$AD$21:$AF$40,3,0)*VLOOKUP(E2,$Y$7:$AA$11,3,0),0)","v":70},{"$f":"$G2&\"#\"&J2","v":"2#42"},{"$f":"$G2&\"#\"&K2","v":"2#70"},{"$f":"IF(OR(E2=\"布甲\",E2=\"板甲\"),H2&\"铠甲\",H2&E2)","v":"绿色武器"},{"$f":"VLOOKUP(N2,[1]Sheet1!A:B,2,0)","v":{"$error":"#N/A"}},{"$nulls":14},"装备上限","装备下限","速度上限","速度下线","百分比属性","工坊放大两倍"]
[null,3002,"绿色武卫武器2",1,{"$f":"LEFT(RIGHT(C3,3),2)","v":"武器"},{"$f":"VLOOKUP(E3,$Y$7:$Z$11,2,0)","v":"攻击"},{"$f":"VLOOKUP(F3,$Y$16:$Z$39,2,0)","v":2},{"$f":"LEFT(C3,2)","v":"绿色"},{"$f":"H3&F3","v":"绿色攻击"},{"$f":"ROUND(VLOOKUP(I3,$AD$21:$AF$40,2,0)*VLOOKUP(E3,$Y$7:$AA$11,3,0),0)","v":42},{"$f":"ROUND(VLOOKUP(I3,$AD$21:$AF$40,3,0)*VLOOKUP(E3,$Y$7:$AA$11,3,0),0)","v":70},{"$f":"$G3&\"#\"&J3","v":"2#42"},{"$f":"$G3&\"#\"&K3","v":"2#70"},{"$f":"IF(OR(E3=\"布甲\",E3=\"板甲\"),H3&\"铠甲\",H3&E3)","v":"绿色武器"},{"$f":"VLOOKUP(N3,[1]Sheet1!A:B,2,0)","v":{"$error":"#N/A"}},{"$nulls":13},"绿",0.581060606060605,{"$f":"AD3*0.6","v":0.34863636363636297},0.25,{"$f":"AF3*0.85","v":0.2125}]
[null,3003,"绿色生花武器1",1,"武器","攻击",2,"绿色","绿色攻击",42,70,"2#42","2#70","绿色武器",{"$f":"VLOOKUP(N4,[1]Sheet1!A:B,2,0)","v":{"$error":"#N/A"}},{"$nulls":13},"蓝",0.778030303030301,{"$f":"AD4*0.6","v":0.4668181818181806},0.5,{"$f":"AF4*0.85","v":0.425},20]
[null,3004,"绿色生花武器2",1,"武器","攻击",2,"绿色","绿色攻击",42,70,"2#42","2#70","绿色武器",{"$f":"VLOOKUP(N5,[1]Sheet1!A:B,2,0)","v":{"$error":"#N/A"}},{"$nulls":13},"紫",1,0.6,0.75,0.6375,40]
[null,3005,"绿色秘法武器1",1,"武器","攻击",2,"绿色","绿色攻击",42,70,"2#42","2#70","绿色武器",{"$f":"VLOOKUP(N6,[1]Sheet1!A:B,2,0)","v":{"$error":"#N/A"}},{"$nulls":13},"橙",5.31818181818182,3.190909090909092,1,0.85,60]
[null,3006,"绿色秘法武器2",1,"武器","攻击",2,"绿色","绿色攻击",42,70,"2#42","2#70","绿色武器",{"$f":"VLOOKUP(N7,[1]Sheet1!A:B,2,0)","v":{"$error":"#N/A"}},{"$nulls":9},"武器","攻击",0.6]
[null,3007,"绿色天罚武器1",1,"武器","攻击",2,"绿色","绿色攻击",42,70,"2#42","2#70","绿色武器",{"$f":"VLOOKUP(N8,[1]Sheet1!A:B,2,0)","v":{"$error":"#N/A"}},{"$nulls":9},"布甲","魔抗",0.58]
[null,3008,"绿色天罚武器2",1,"武器","攻击",2,"绿色","绿色攻击",42,70,"2#42","2#70","绿色武器",{"$f":"VLOOKUP(N9,[1]Sheet1!A:B,2,0)","v":{"$error":"#N/A"}},{"$nulls":9},"板甲","护甲",0.62]
[null,3009,"绿色玄策武器1",1,"武器","攻击",2,"绿色","绿色攻击",42,70,"2#42","2#70","绿色武器",{"$f":"VLOOKUP(N10,[1]Sheet1!A:B,2,0)","v":{"$error":"#N/A"}},{"$nulls":9},"鞋子","速度",0.64,null,"基础属性"]
[null,3010,"绿色玄策武器2",1,"武器","攻击",2,"绿色","绿色攻击",42,70,"2#42","2#70","绿色武器",{"$f":"VLOOKUP(N11,[1]Sheet1!A:B,2,0)","v":{"$error":"#N/A"}},{"$nulls":9},"头饰","生命",0.55,null,null,"生命",2400]
[null,3011,"绿色板甲1",2,"板甲","护甲",3,"绿色","绿色护甲",43,72,"3#43","3#72","绿色铠甲",{"$f":"VLOOKUP(N12,[1]Sheet1!A:B,2,0)","v":{"$error":"#N/A"}},{"$nulls":14},"攻击",200]
[null,3012,"绿色板甲2",2,"板甲","护甲",3,"绿色","绿色护甲",43,72,"3#43","3#72","绿色铠甲",{"$f":"VLOOKUP(N13,[1]Sheet1!A:B,2,0)","v":{"$error":"#N/A"}},{"$nulls":14},"护甲",200]
[null,3013,"绿色布甲1",2,"布甲","魔抗",4,"绿色","绿色魔抗",40,67,"4#40","4#67","绿色铠甲",{"$f":"VLOOKUP(N14,[1]Sheet1!A:B,2,0)","v":{"$error":"#N/A"}},{"$nulls":14},"魔抗",200]
[null,3014,"绿色布甲2",2,"布甲","魔抗",4,"绿色","绿色魔抗",40,67,"4#40","4#67","绿色铠甲",{"$f":"VLOOKUP(N15,[1]Sheet1!A:B,2,0)","v":{"$error":"#N/A"}},{"$nulls":14},"速度",176]
[null,3015,"绿色鞋子1",4,"鞋子","速度",5,"绿色","绿色速度",24,28,"5#24","5#28","绿色鞋子",{"$f":"VLOOKUP(N16,[1]Sheet1!A:B,2,0)","v":{"$error":"#N/A"}},{"$nulls":9},"生命",1]
[null,3016,"绿色鞋子2",4,"鞋子","速度",5,"绿色","绿色速度",24,28,"5#24","5#28","绿色鞋子",{"$f":"VLOOKUP(N17,[1]Sheet1!A:B,2,0)","v":{"$error":"#N/A"}},{"$nulls":9},"攻击",2]
[null,3017,"绿色头饰1",3,"头饰","生命",1,"绿色","绿色生命",460,767,"1#460","1#767","绿色头饰",{"$f":"VLOOKUP(N18,[1]Sheet1!A:B,2,0)","v":{"$error":"#N/A"}},"蓝色装备",{"$nulls":3},"紫色装备",{"$nulls":4},"护甲",3]
[null,3018,"绿色头饰2",3,"头饰","生命",1,"绿色","绿色生命",460,767,"1#460","1#767","绿色头饰",{"$f":"VLOOKUP(N19,[1]Sheet1!A:B,2,0)","v":{"$error":"#N/A"}},null,"速度",15,null,null,"速度",15,null,null,"魔抗",4]
[null,3101,"蓝色武卫武器1",1,"武器","攻击",2,"蓝色","蓝色攻击",56,93,"2#56","2#93","蓝色武器",{"$f":"VLOOKUP(N20,[1]Sheet1!A:B,2,0)","v":1},null,"效果抵抗",50,null,null,"效果抵抗",50,null,null,"速度",5,{"$nulls":4},"min","max","符文加成"]
[null,3102,"蓝色武卫武器2",1,"武器","攻击",2,"蓝色","蓝色攻击",56,93,"2#56","2#93","蓝色武器",{"$f":"VLOOKUP(N21,[1]Sheet1!A:B,2,0)","v":1},null,"效果命中",50,null,null,"效果命中",50,null,null,"伤害加成百分比",51,{"$nulls":3},"绿色生命",{"$f":"AE11*$AE$3","v":836.7272727272712},{"$f":"AE11*$AD$3","v":1394.5454545454518},{"$f":"INT(AE21/4/8)","v":26},{"$f":"INT(AF21/4/8)","v":43}]
[null,3103,"蓝色生花武器1",1,"武器","攻击",2,"蓝色","蓝色攻击",56,93,"2#56","2#93","蓝色武器",{"$f":"VLOOKUP(N22,[1]Sheet1!A:B,2,0)","v":1},{"$nulls":5},"暴击伤害",57,null,null,"伤害减免百分比",52,{"$nulls":3},"绿色攻击",{"$f":"AE12*$AE$3","v":69.72727272727259},{"$f":"AE12*$AD$3","v":116.21212121212099},{"$f":"INT(AE22/4/8)","v":2},{"$f":"INT(AF22/4/8)","v":3}]
[null,3104,"蓝色生花武器2",1,"武器","攻击",2,"蓝色","蓝色攻击",56,93,"2#56","2#93","蓝色武器",{"$f":"VLOOKUP(N23,[1]Sheet1!A:B,2,0)","v":1},"蓝色铠甲",{"$nulls":4},"暴击率",22,null,null,"效果命中",53,{"$nulls":3},"绿色护甲",69.72727272727259,116.21212121212099,2,3]
[null,3105,"蓝色秘法武器1",1,"武器","攻击",2,"蓝色","蓝色攻击",56,93,"2#56","2#93","蓝色武器",{"$f":"VLOOKUP(N24,[1]Sheet1!A:B,2,0)","v":1},null,"生命",21,null,"紫色铠甲",{"$nulls":4},"效果抵抗",54,{"$nulls":3},"绿色魔抗",69.72727272727259,116.21212121212099,2,3]
[null,3106,"蓝色秘法武器2",1,"武器","攻击",2,"蓝色","蓝色攻击",56,93,"2#56","2#93","蓝色武器",{"$f":"VLOOKUP(N25,[1]Sheet1!A:B,2,0)","v":1},null,"攻击",21,null,null,"生命",21,null,null,"暴击率",55,{"$nulls":3},"绿色速度",{"$f":"AE15*AG3","v":37.4},{"$f":"AE15*AF3","v":44},1,1]
[null,3107,"蓝色天罚武器1",1,"武器","攻击",2,"蓝色","蓝色攻击",56,93,"2#56","2#93","蓝色武器",{"$f":"VLOOKUP(N26,[1]Sheet1!A:B,2,0)","v":1},null,"效果命中",50,null,null,"攻击",21,null,null,"暴击伤害",56,{"$nulls":3},"蓝色生命",{"$f":"AE11*$AE$4","v":1120.3636363636333},{"$f":"$AD$4*AE11","v":1867.2727272727222}]
[null,3108,"蓝色天罚武器2",1,"武器","攻击",2,"蓝色","蓝色攻击",56,93,"2#56","2#93","蓝色武器",{"$f":"VLOOKUP(N27,[1]Sheet1!A:B,2,0)","v":1},null,"效果抵抗",50,null,null,"效果命中",50,null,null,"回复系数",57,{"$nulls":3},"蓝色攻击",{"$f":"AE12*$AE$4","v":93.36363636363612},{"$f":"$AD$4*AE12","v":155.6060606060602}]
[null,3109,"蓝色玄策武器1",1,"武器","攻击",2,"蓝色","蓝色攻击",56,93,"2#56","2#93","蓝色武器",{"$f":"VLOOKUP(N28,[1]Sheet1!A:B,2,0)","v":1},{"$nulls":5},"效果抵抗",50,null,null,"火攻（%）",101,{"$nulls":3},"蓝色护甲",93.36363636363612,155.6060606060602]
[null,3110,"蓝色玄策武器2",1,"武器","攻击",2,"蓝色","蓝色攻击",56,93,"2#56","2#93","蓝色武器",{"$f":"VLOOKUP(N29,[1]Sheet1!A:B,2,0)","v":1},"蓝色鞋子",{"$nulls":8},"风攻（%）",102,{"$nulls":3},"蓝色魔抗",93.36363636363612,155.6060606060602]
[null,3111,"蓝色板甲1",2,"板甲","护甲",3,"蓝色","蓝色护甲",58,96,"3#58","3#96","蓝色铠甲",{"$f":"VLOOKUP(N30,[1]Sheet1!A:B,2,0)","v":2},null,"生命",24,null,"紫色鞋子",{"$nulls":4},"水攻（%）",103,{"$nulls":3},"蓝色速度",{"$f":"AE15*AG4","v":74.8},{"$f":"AE15*AF4","v":88}]
[null,3112,"蓝色板甲2",2,"板甲","护甲",3,"蓝色","蓝色护甲",58,96,"3#58","3#96","蓝色铠甲",{"$f":"VLOOKUP(N31,[1]Sheet1!A:B,2,0)","v":2},null,"攻击",19,null,null,"生命",24,null,null,"地攻（%）",104,{"$nulls":3},"紫色生命",{"$f":"$AE$5*AE11","v":1440},{"$f":"AE11*$AD$5","v":2400}]
[null,3113,"蓝色布甲1",2,"布甲","魔抗",4,"蓝色","蓝色魔抗",54,90,"4#54","4#90","蓝色铠甲",{"$f":"VLOOKUP(N32,[1]Sheet1!A:B,2,0)","v":2},null,"护甲",10,null,null,"攻击",19,null,null,"光攻（%）",105,{"$nulls":3},"紫色攻击",{"$f":"$AE$5*AE12","v":120},{"$f":"AE12*$AD$5","v":200}]
[null,3114,"蓝色布甲2",2,"布甲","魔抗",4,"蓝色","蓝色魔抗",54,90,"4#54","4#90","蓝色铠甲",{"$f":"VLOOKUP(N33,[1]Sheet1!A:B,2,0)","v":2},null,"魔抗",13,null,null,"护甲",10,null,null,"暗攻（%）",106,{"$nulls":3},"紫色护甲",120,200]
[null,3115,"蓝色鞋子1",4,"鞋子","速度",5,"蓝色","蓝色速度",48,56,"5#48","5#56","蓝色鞋子",{"$f":"VLOOKUP(N34,[1]Sheet1!A:B,2,0)","v":3},{"$nulls":5},"魔抗",13,null,null,"火抗（%）",107,{"$nulls":3},"紫色魔抗",120,200]
[null,3116,"蓝色鞋子2",4,"鞋子","速度",5,"蓝色","蓝色速度",48,56,"5#48","5#56","蓝色鞋子",{"$f":"VLOOKUP(N35,[1]Sheet1!A:B,2,0)","v":3},"蓝色头饰",{"$nulls":4},"暴击率",23,null,null,"风抗（%）",108,{"$nulls":3},"紫色速度",{"$f":"AE15*AG5","v":112.19999999999999},{"$f":"AF5*AE15","v":132}]
[null,3117,"蓝色头饰1",3,"头饰","生命",1,"蓝色","蓝色生命",616,1027,"1#616","1#1027","蓝色头饰",{"$f":"VLOOKUP(N36,[1]Sheet1!A:B,2,0)","v":4},null,"护甲",28,null,null,"暴击伤害",17,null,null,"水抗（%）",109,{"$nulls":3},"橙色生命",{"$f":"$AE$6*AE11","v":7658.181818181821},{"$f":"$AD$6*AE11","v":12763.636363636368}]
[null,3118,"蓝色头饰2",3,"头饰","生命",1,"蓝色","蓝色生命",616,1027,"1#616","1#1027","蓝色头饰",{"$f":"VLOOKUP(N37,[1]Sheet1!A:B,2,0)","v":4},null,"魔抗",29,{"$nulls":6},"地抗（%）",110,{"$nulls":3},"橙色攻击",{"$f":"$AE$6*AE12","v":638.1818181818184},{"$f":"$AD$6*AE12","v":1063.636363636364}]
[null,3201,"紫色武卫武器1",1,"武器","攻击",2,"紫色","紫色攻击",72,120,"2#72","2#120","紫色武器",{"$f":"VLOOKUP(N38,[1]Sheet1!A:B,2,0)","v":5},null,"速度",21,null,"紫色头饰",{"$nulls":4},"光抗（%）",111,{"$nulls":3},"橙色护甲",638.1818181818184,1063.636363636364]
[null,3202,"紫色武卫武器2",1,"武器","攻击",2,"紫色","紫色攻击",72,120,"2#72","2#120","紫色武器",{"$f":"VLOOKUP(N39,[1]Sheet1!A:B,2,0)","v":5},{"$nulls":5},"护甲",28,null,null,"暗抗（%）",112,{"$nulls":3},"橙色魔抗",638.1818181818184,1063.636363636364]
[null,3203,"紫色生花武器1",1,"武器","攻击",2,"紫色","紫色攻击",72,120,"2#72","2#120","紫色武器",{"$f":"VLOOKUP(N40,[1]Sheet1!A:B,2,0)","v":5},{"$nulls":5},"魔抗",29,{"$nulls":7},"橙色速度",{"$f":"AE15*AG6","v":149.6},{"$f":"AE15","v":176}]
[null,3204,"紫色生花武器2",1,"武器","攻击",2,"紫色","紫色攻击",72,120,"2#72","2#120","紫色武器",{"$f":"VLOOKUP(N41,[1]Sheet1!A:B,2,0)","v":5},{"$nulls":5},"速度",21]
[null,3205,"紫色秘法武器1",1,"武器","攻击",2,"紫色","紫色攻击",72,120,"2#72","2#120","紫色武器",{"$f":"VLOOKUP(N42,[1]Sheet1!A:B,2,0)","v":5},{"$nulls":5},"暴击伤害",26]
[null,3206,"紫色秘法武器2",1,"武器","攻击",2,"紫色","紫色攻击",72,120,"2#72","2#120","紫色武器",{"$f":"VLOOKUP(N43,[1]Sheet1!A:B,2,0)","v":5}]
[null,3207,"紫色天罚武器1",1,"武器","攻击",2,"紫色","紫色攻击",72,120,"2#72","2#120","紫色武器",{"$f":"VLOOKUP(N44,[1]Sheet1!A:B,2,0)","v":5}]
[null,3208,"紫色天罚武器2",1,"武器","攻击",2,"紫色","紫色攻击",72,120,"2#72","2#120","紫色武器",{"$f":"VLOOKUP(N45,[1]Sheet1!A:B,2,0)","v":5},"橙色装备"]
[null,3209,"紫色玄策武器1",1,"武器","攻击",2,"紫色","紫色攻击",72,120,"2#72","2#120","紫色武器",{"$f":"VLOOKUP(N46,[1]Sheet1!A:B,2,0)","v":5},null,"速度",15]
[null,3210,"紫色玄策武器2",1,"武器","攻击",2,"紫色","紫色攻击",72,120,"2#72","2#120","紫色武器",{"$f":"VLOOKUP(N47,[1]Sheet1!A:B,2,0)","v":5},null,"效果抵抗",50]
[null,3211,"紫色板甲1",2,"板甲","护甲",3,"紫色","紫色护甲",74,124,"3#74","3#124","紫色铠甲",{"$f":"VLOOKUP(N48,[1]Sheet1!A:B,2,0)","v":6},null,"效果命中",50]
[null,3212,"紫色板甲2",2,"板甲","护甲",3,"紫色","紫色护甲",74,124,"3#74","3#124","紫色铠甲",{"$f":"VLOOKUP(N49,[1]Sheet1!A:B,2,0)","v":6},null,"暴击伤害",57]
[null,3213,"紫色布甲1",2,"布甲","魔抗",4,"紫色","紫色魔抗",70,116,"4#70","4#116","紫色铠甲",{"$f":"VLOOKUP(N50,[1]Sheet1!A:B,2,0)","v":6},null,"暴击率",22]
[null,3214,"紫色布甲2",2,"布甲","魔抗",4,"紫色","紫色魔抗",70,116,"4#70","4#116","紫色铠甲",{"$f":"VLOOKUP(N51,[1]Sheet1!A:B,2,0)","v":6},null,"火攻（%）",15]
[null,3215,"紫色鞋子1",4,"鞋子","速度",5,"紫色","紫色速度",72,84,"5#72","5#84","紫色鞋子",{"$f":"VLOOKUP(N52,[1]Sheet1!A:B,2,0)","v":7},null,"风攻（%）",15]
[null,3216,"紫色鞋子2",4,"鞋子","速度",5,"紫色","紫色速度",72,84,"5#72","5#84","紫色鞋子",{"$f":"VLOOKUP(N53,[1]Sheet1!A:B,2,0)","v":7},null,"水攻（%）",15]
[null,3217,"紫色头饰1",3,"头饰","生命",1,"紫色","紫色生命",792,1320,"1#792","1#1320","紫色头饰",{"$f":"VLOOKUP(N54,[1]Sheet1!A:B,2,0)","v":8},null,"地攻（%）",15]
[null,3218,"紫色头饰2",3,"头饰","生命",1,"紫色","紫色生命",792,1320,"1#792","1#1320","紫色头饰",{"$f":"VLOOKUP(N55,[1]Sheet1!A:B,2,0)","v":8},null,"光攻（%）",15]
[null,3301,"橙色武卫武器1",1,"武器","攻击",2,"橙色","橙色攻击",383,638,"2#383","2#638","橙色武器",{"$f":"VLOOKUP(N56,[1]Sheet1!A:B,2,0)","v":9},null,"暗攻（%）",15]
[null,3302,"橙色武卫武器2",1,"武器","攻击",2,"橙色","橙色攻击",383,638,"2#383","2#638","橙色武器",{"$f":"VLOOKUP(N57,[1]Sheet1!A:B,2,0)","v":9}]
[null,3303,"橙色生花武器1",1,"武器","攻击",2,"橙色","橙色攻击",383,638,"2#383","2#638","橙色武器",{"$f":"VLOOKUP(N58,[1]Sheet1!A:B,2,0)","v":9},"橙色铠甲"]
[null,3304,"橙色生花武器2",1,"武器","攻击",2,"橙色","橙色攻击",383,638,"2#383","2#638","橙色武器",{"$f":"VLOOKUP(N59,[1]Sheet1!A:B,2,0)","v":9},null,"生命",21]
[null,3305,"橙色秘法武器1",1,"武器","攻击",2,"橙色","橙色攻击",383,638,"2#383","2#638","橙色武器",{"$f":"VLOOKUP(N60,[1]Sheet1!A:B,2,0)","v":9},null,"攻击",21]
[null,3306,"橙色秘法武器2",1,"武器","攻击",2,"橙色","橙色攻击",383,638,"2#383","2#638","橙色武器",{"$f":"VLOOKUP(N61,[1]Sheet1!A:B,2,0)","v":9},null,"效果命中",50]
[null,3307,"橙色天罚武器1",1,"武器","攻击",2,"橙色","橙色攻击",383,638,"2#383","2#638","橙色武器",{"$f":"VLOOKUP(N62,[1]Sheet1!A:B,2,0)","v":9},null,"效果抵抗",50]
[null,3308,"橙色天罚武器2",1,"武器","攻击",2,"橙色","橙色攻击",383,638,"2#383","2#638","橙色武器",{"$f":"VLOOKUP(N63,[1]Sheet1!A:B,2,0)","v":9},null,"风抗（%）",10]
[null,3309,"橙色玄策武器1",1,"武器","攻击",2,"橙色","橙色攻击",383,638,"2#383","2#638","橙色武器",{"$f":"VLOOKUP(N64,[1]Sheet1!A:B,2,0)","v":9},null,"水抗（%）",10]
[null,3310,"橙色玄策武器2",1,"武器","攻击",2,"橙色","橙色攻击",383,638,"2#383","2#638","橙色武器",{"$f":"VLOOKUP(N65,[1]Sheet1!A:B,2,0)","v":9},null,"地抗（%）",10]
[null,3311,"橙色板甲1",2,"板甲","护甲",3,"橙色","橙色护甲",396,659,"3#396","3#659","橙色铠甲",{"$f":"VLOOKUP(N66,[1]Sheet1!A:B,2,0)","v":10},null,"光抗（%）",10]
[null,3312,"橙色板甲2",2,{"$f":"LEFT(RIGHT(C67,3),2)","v":"板甲"},{"$f":"VLOOKUP(E67,$Y$7:$Z$11,2,0)","v":"护甲"},{"$f":"VLOOKUP(F67,$Y$16:$Z$39,2,0)","v":3},{"$f":"LEFT(C67,2)","v":"橙色"},{"$f":"H67&F67","v":"橙色护甲"},{"$f":"ROUND(VLOOKUP(I67,$AD$21:$AF$40,2,0)*VLOOKUP(E67,$Y$7:$AA$11,3,0),0)","v":396},{"$f":"ROUND(VLOOKUP(I67,$AD$21:$AF$40,3,0)*VLOOKUP(E67,$Y$7:$AA$11,3,0),0)","v":659},{"$f":"$G67&\"#\"&J67","v":"3#396"},{"$f":"$G67&\"#\"&K67","v":"3#659"},{"$f":"IF(OR(E67=\"布甲\",E67=\"板甲\"),H67&\"铠甲\",H67&E67)","v":"橙色铠甲"},{"$f":"VLOOKUP(N67,[1]Sheet1!A:B,2,0)","v":10},null,"暗抗（%）",10]
[null,3313,"橙色布甲1",2,"布甲","魔抗",4,"橙色","橙色魔抗",370,617,"4#370","4#617","橙色铠甲",{"$f":"VLOOKUP(N68,[1]Sheet1!A:B,2,0)","v":10}]
[null,3314,"橙色布甲2",2,"布甲","魔抗",4,"橙色","橙色魔抗",370,617,"4#370","4#617","橙色铠甲",{"$f":"VLOOKUP(N69,[1]Sheet1!A:B,2,0)","v":10}]
[null,3315,"橙色鞋子1",4,"鞋子","速度",5,"橙色","橙色速度",96,113,"5#96","5#113","橙色鞋子",{"$f":"VLOOKUP(N70,[1]Sheet1!A:B,2,0)","v":11},"橙色鞋子"]
[null,3316,"橙色鞋子2",4,"鞋子","速度",5,"橙色","橙色速度",96,113,"5#96","5#113","橙色鞋子",{"$f":"VLOOKUP(N71,[1]Sheet1!A:B,2,0)","v":11},null,"生命",24]
[null,3317,"橙色头饰1",3,"头饰","生命",1,"橙色","橙色生命",4212,7020,"1#4212","1#7020","橙色头饰",{"$f":"VLOOKUP(N72,[1]Sheet1!A:B,2,0)","v":12},null,"攻击",19]
[null,3318,"橙色头饰2",3,"头饰","生命",1,"橙色","橙色生命",4212,7020,"1#4212","1#7020","橙色头饰",{"$f":"VLOOKUP(N73,[1]Sheet1!A:B,2,0)","v":12},null,"护甲",10]
[null,3319,"橙色武卫武器1_蓝图",1,"武器","攻击",2,"橙色","橙色攻击",383,638,"2#383","2#638","橙色武器",{"$f":"VLOOKUP(N74,[1]Sheet1!A:B,2,0)","v":9},null,"魔抗",13]
[null,3320,"橙色武卫武器2_蓝图",1,"武器","攻击",2,"橙色","橙色攻击",383,638,"2#383","2#638","橙色武器",{"$f":"VLOOKUP(N75,[1]Sheet1!A:B,2,0)","v":9},null,"暴击率",23]
[null,3321,"橙色生花武器1_蓝图",1,"武器","攻击",2,"橙色","橙色攻击",383,638,"2#383","2#638","橙色武器",{"$f":"VLOOKUP(N76,[1]Sheet1!A:B,2,0)","v":9},null,"暴击伤害",17]
[null,3322,"橙色生花武器2_蓝图",1,"武器","攻击",2,"橙色","橙色攻击",383,638,"2#383","2#638","橙色武器",{"$f":"VLOOKUP(N77,[1]Sheet1!A:B,2,0)","v":9},null,"风抗（%）",15]
[null,3323,"橙色秘法武器1_蓝图",1,"武器","攻击",2,"橙色","橙色攻击",383,638,"2#383","2#638","橙色武器",{"$f":"VLOOKUP(N78,[1]Sheet1!A:B,2,0)","v":9},null,"水抗（%）",15]
[null,3324,"橙色秘法武器2_蓝图",1,"武器","攻击",2,"橙色","橙色攻击",383,638,"2#383","2#638","橙色武器",{"$f":"VLOOKUP(N79,[1]Sheet1!A:B,2,0)","v":9},null,"地抗（%）",15]
[null,3325,"橙色天罚武器1_蓝图",1,"武器","攻击",2,"橙色","橙色攻击",383,638,"2#383","2#638","橙色武器",{"$f":"VLOOKUP(N80,[1]Sheet1!A:B,2,0)","v":9},null,"光抗（%）",15]
[null,3326,"橙色天罚武器2_蓝图",1,"武器","攻击",2,"橙色","橙色攻击",383,638,"2#383","2#638","橙色武器",{"$f":"VLOOKUP(N81,[1]Sheet1!A:B,2,0)","v":9},null,"暗抗（%）",15]
[null,3327,"橙色玄策武器1_蓝图",1,"武器","攻击",2,"橙色","橙色攻击",383,638,"2#383","2#638","橙色武器",{"$f":"VLOOKUP(N82,[1]Sheet1!A:B,2,0)","v":9}]
[null,3328,"橙色玄策武器2_蓝图",1,"武器","攻击",2,"橙色","橙色攻击",383,638,"2#383","2#638","橙色武器",{"$f":"VLOOKUP(N83,[1]Sheet1!A:B,2,0)","v":9},"橙色头饰"]
[null,3329,"橙色板甲1_蓝图",2,"板甲","护甲",3,"橙色","橙色护甲",396,659,"3#396","3#659","橙色铠甲",{"$f":"VLOOKUP(N84,[1]Sheet1!A:B,2,0)","v":10},null,"护甲",28]
[null,3330,"橙色板甲2_蓝图",2,"板甲","护甲",3,"橙色","橙色护甲",396,659,"3#396","3#659","橙色铠甲",{"$f":"VLOOKUP(N85,[1]Sheet1!A:B,2,0)","v":10},null,"魔抗",29]
[null,3331,"橙色布甲1_蓝图",2,"布甲","魔抗",4,"橙色","橙色魔抗",370,617,"4#370","4#617","橙色铠甲",{"$f":"VLOOKUP(N86,[1]Sheet1!A:B,2,0)","v":10},null,"速度",21]
[null,3332,"橙色布甲2_蓝图",2,"布甲","魔抗",4,"橙色","橙色魔抗",370,617,"4#370","4#617","橙色铠甲",{"$f":"VLOOKUP(N87,[1]Sheet1!A:B,2,0)","v":10},null,"暴击伤害",26]
[null,3333,"橙色鞋子1_蓝图",4,"鞋子","速度",5,"橙色","橙色速度",96,113,"5#96","5#113","橙色鞋子",{"$f":"VLOOKUP(N88,[1]Sheet1!A:B,2,0)","v":11},null,"火攻（%）",10]
[null,3334,"橙色鞋子2_蓝图",4,"鞋子","速度",5,"橙色","橙色速度",96,113,"5#96","5#113","橙色鞋子",{"$f":"VLOOKUP(N89,[1]Sheet1!A:B,2,0)","v":11},null,"风攻（%）",10]
[null,3335,"橙色头饰1_蓝图",3,"头饰","生命",1,"橙色","橙色生命",4212,7020,"1#4212","1#7020","橙色头饰",{"$f":"VLOOKUP(N90,[1]Sheet1!A:B,2,0)","v":12},null,"水攻（%）",10]
[null,3336,"橙色头饰2_蓝图",3,"头饰","生命",1,"橙色","橙色生命",4212,7020,"1#4212","1#7020","橙色头饰",{"$f":"VLOOKUP(N91,[1]Sheet1!A:B,2,0)","v":12},null,"地攻（%）",10]
[null,4001,"紫色武卫武器1_蓝图",1,"武器","攻击",2,"紫色","紫色攻击",72,120,"2#72","2#120","紫色武器",{"$f":"VLOOKUP(N92,[1]Sheet1!A:B,2,0)","v":5},null,"光攻（%）",10]
[null,4002,"紫色生花武器1_蓝图",1,"武器","攻击",2,"紫色","紫色攻击",72,120,"2#72","2#120","紫色武器",{"$f":"VLOOKUP(N93,[1]Sheet1!A:B,2,0)","v":5},null,"暗攻（%）",10]
[null,4003,"紫色秘法武器1_蓝图",1,"武器","攻击",2,"紫色","紫色攻击",72,120,"2#72","2#120","紫色武器",{"$f":"VLOOKUP(N94,[1]Sheet1!A:B,2,0)","v":5}]
[null,4004,"紫色天罚武器1_蓝图",1,"武器","攻击",2,"紫色","紫色攻击",72,120,"2#72","2#120","紫色武器",{"$f":"VLOOKUP(N95,[1]Sheet1!A:B,2,0)","v":5}]
[null,4005,"紫色玄策武器1_蓝图",1,"武器","攻击",2,"紫色","紫色攻击",72,120,"2#72","2#120","紫色武器",{"$f":"VLOOKUP(N96,[1]Sheet1!A:B,2,0)","v":5}]
[null,4006,"紫色板甲1_蓝图",2,"板甲","护甲",3,"紫色","紫色护甲",74,124,"3#74","3#124","紫色铠甲",{"$f":"VLOOKUP(N97,[1]Sheet1!A:B,2,0)","v":6}]
[null,4007,"紫色布甲1_蓝图",2,"布甲","魔抗",4,"紫色","紫色魔抗",70,116,"4#70","4#116","紫色铠甲",{"$f":"VLOOKUP(N98,[1]Sheet1!A:B,2,0)","v":6}]
[null,4008,"紫色鞋子1_蓝图",4,"鞋子","速度",5,"紫色","紫色速度",72,84,"5#72","5#84","紫色鞋子",{"$f":"VLOOKUP(N99,[1]Sheet1!A:B,2,0)","v":7}]
[null,4009,"紫色头饰1",3,"头饰","生命",1,"紫色","紫色生命",792,1320,"1#792","1#1320","紫色头饰",{"$f":"VLOOKUP(N100,[1]Sheet1!A:B,2,0)","v":8}]
[null,4101,"橙色武卫武器1_蓝图",1,"武器","攻击",2,"橙色","橙色攻击",383,638,"2#383","2#638","橙色武器",{"$f":"VLOOKUP(N101,[1]Sheet1!A:B,2,0)","v":9}]
[null,4102,"橙色武卫武器2_蓝图",1,"武器","攻击",2,"橙色","橙色攻击",383,638,"2#383","2#638","橙色武器",{"$f":"VLOOKUP(N102,[1]Sheet1!A:B,2,0)","v":9}]
[null,4103,"橙色生花武器1_蓝图",1,"武器","攻击",2,"橙色","橙色攻击",383,638,"2#383","2#638","橙色武器",{"$f":"VLOOKUP(N103,[1]Sheet1!A:B,2,0)","v":9}]
[null,4104,"橙色生花武器2_蓝图",1,"武器","攻击",2,"橙色","橙色攻击",383,638,"2#383","2#638","橙色武器",{"$f":"VLOOKUP(N104,[1]Sheet1!A:B,2,0)","v":9}]
[null,4105,"橙色秘法武器1_蓝图",1,"武器","攻击",2,"橙色","橙色攻击",383,638,"2#383","2#638","橙色武器",{"$f":"VLOOKUP(N105,[1]Sheet1!A:B,2,0)","v":9}]
[null,4106,"橙色秘法武器2_蓝图",1,"武器","攻击",2,"橙色","橙色攻击",383,638,"2#383","2#638","橙色武器",{"$f":"VLOOKUP(N106,[1]Sheet1!A:B,2,0)","v":9}]
[null,4107,"橙色天罚武器1_蓝图",1,"武器","攻击",2,"橙色","橙色攻击",383,638,"2#383","2#638","橙色武器",{"$f":"VLOOKUP(N107,[1]Sheet1!A:B,2,0)","v":9}]
[null,4108,"橙色天罚武器2_蓝图",1,"武器","攻击",2,"橙色","橙色攻击",383,638,"2#383","2#638","橙色武器",{"$f":"VLOOKUP(N108,[1]Sheet1!A:B,2,0)","v":9}]
[null,4109,"橙色玄策武器1_蓝图",1,"武器","攻击",2,"橙色","橙色攻击",383,638,"2#383","2#638","橙色武器",{"$f":"VLOOKUP(N109,[1]Sheet1!A:B,2,0)","v":9}]
[null,4110,"橙色玄策武器2_蓝图",1,"武器","攻击",2,"橙色","橙色攻击",383,638,"2#383","2#638","橙色武器",{"$f":"VLOOKUP(N110,[1]Sheet1!A:B,2,0)","v":9}]
[null,4111,"橙色板甲1_蓝图",2,"板甲","护甲",3,"橙色","橙色护甲",396,659,"3#396","3#659","橙色铠甲",{"$f":"VLOOKUP(N111,[1]Sheet1!A:B,2,0)","v":10}]
[null,4112,"橙色板甲2_蓝图",2,"板甲","护甲",3,"橙色","橙色护甲",396,659,"3#396","3#659","橙色铠甲",{"$f":"VLOOKUP(N112,[1]Sheet1!A:B,2,0)","v":10}]
[null,4113,"橙色布甲1_蓝图",2,"布甲","魔抗",4,"橙色","橙色魔抗",370,617,"4#370","4#617","橙色铠甲",{"$f":"VLOOKUP(N113,[1]Sheet1!A:B,2,0)","v":10}]
[null,4114,"橙色布甲2_蓝图",2,"布甲","魔抗",4,"橙色","橙色魔抗",370,617,"4#370","4#617","橙色铠甲",{"$f":"VLOOKUP(N114,[1]Sheet1!A:B,2,0)","v":10}]
[null,4115,"橙色鞋子1_蓝图",4,"鞋子","速度",5,"橙色","橙色速度",96,113,"5#96","5#113","橙色鞋子",{"$f":"VLOOKUP(N115,[1]Sheet1!A:B,2,0)","v":11}]
[null,4116,"橙色鞋子2_蓝图",4,"鞋子","速度",5,"橙色","橙色速度",96,113,"5#96","5#113","橙色鞋子",{"$f":"VLOOKUP(N116,[1]Sheet1!A:B,2,0)","v":11}]
[null,4117,"橙色头饰1_蓝图",3,"头饰","生命",1,"橙色","橙色生命",4212,7020,"1#4212","1#7020","橙色头饰",{"$f":"VLOOKUP(N117,[1]Sheet1!A:B,2,0)","v":12}]
[null,4118,"橙色头饰2_蓝图",3,"头饰","生命",1,"橙色","橙色生命",4212,7020,"1#4212","1#7020","橙色头饰",{"$f":"VLOOKUP(N118,[1]Sheet1!A:B,2,0)","v":12}]

{"sheet":"装备等级分类","index":2,"n_rows":54,"n_cols":17,"rows_kept":54,"merged":[[2,11,20,11],[2,12,7,12],[2,13,3,13],[4,13,7,13],[4,14,6,14],[4,16,6,16],[8,12,13,12],[8,13,13,13],[10,14,12,14],[10,16,12,16],[14,12,20,12],[14,13,20,13],[14,14,16,14],[14,16,16,16],[17,14,20,14],[18,16,20,16],[21,11,53,11],[21,12,31,12],[21,13,31,13],[23,14,24,14],[23,16,24,16],[25,14,27,14],[26,16,27,16],[28,14,31,14],[29,16,31,16],[32,12,39,12],[32,13,39,13],[33,14,35,14],[34,16,35,16],[36,14,39,14],[37,16,39,16],[40,12,53,12],[40,13,53,13],[40,14,42,14],[41,16,42,16],[43,14,45,14],[44,16,45,16],[46,14,48,14],[47,16,48,16],[49,14,52,14],[50,16,52,16]]}
[]
[null,"部位",null,null,"紫色","橙色",null,null,"副属性","特性",null,"装备阶梯","副属性数量","副属性库","特性","重铸等级"]
[1,"武器",null,1,"2-2","3-3",null,"1","生命、攻击、护甲、魔抗","固定伤害类/固定回复类",null,"紫色","2-2","1","0","0",1]
[2,"鞋",null,2,"2-2re","3-3re",null,"2","速度、抗暴、效果命中、效果抵抗","视作属性类",{"$nulls":4},"1","0","2"]
[3,"甲、头、腰",null,3,"2-2t","3-3t",null,"3","暴击、暴伤、治疗、受治疗","buff类/debuff类",{"$nulls":3},"1、2","0","30","3"]
[4,"戒",null,4,"2-3","3-4",null,"4","属性伤害、属性抵抗、伤害加成、伤害减免","属性伤害类/属性回复类",{"$nulls":5},"40"]
[5,null,null,5,"3-3re","3-4re",null,"5",null,"控制类/增加属性类",{"$nulls":5},"50"]
[6,null,null,6,"3-3t","3-4t",null,"6",null,"吸血/免疫",{"$nulls":4},"1、2","0","4"]
[7,{"$nulls":6},"7",null,"伤害加成/减伤类",null,null,"2-3","1、2","0","0","5"]
[{"$nulls":14},"1、2","0","6"]
[{"$nulls":14},"0","30","7"]
[{"$nulls":15},"40"]
[{"$nulls":8},"副属性中不会出现主属性","回复类只出现在生花、玄策武器中",{"$nulls":5},"50"]
[{"$nulls":8},"防御类只在2、3部位中出现","控制类只出现在玄策、武卫武器中",{"$nulls":4},"1、2、3","0","8"]
[{"$nulls":8},"攻击类只在1、4部位中出现","使用特性47时，遵循副属性的梯度规则",null,null,"3-3","1、2、3","0","30","9"]
[{"$nulls":8},"属性伤害、属性抵抗不遵守上述规则","注意特性与职业契合度",{"$nulls":5},"40"]
[{"$nulls":8},"治疗属性只在生花、玄策武器中","1类特性注意数值梯度与属性契合度",{"$nulls":5},"50"]
[{"$nulls":9},"伤害/回复/吸血只出现在戒指和武器中",{"$nulls":4},"2、3、4","0","10"]
[{"$nulls":9},"所有增加速度特性只出现在鞋子/戒指/玄策武器中",{"$nulls":5},"30","11"]
[{"$nulls":15},"40"]
[{"$nulls":15},"50"]
[{"$nulls":11},"橙色","3-3","1、2","0","0",1]
[{"$nulls":14},"1","0","2"]
[{"$nulls":14},"0","30","3"]
[{"$nulls":15},"40"]
[{"$nulls":14},"1、2","0","4"]
[{"$nulls":15},"30","5"]
[{"$nulls":15},"40"]
[{"$nulls":14},"1、2、3","0","6"]
[{"$nulls":15},"30","7"]
[{"$nulls":15},"40"]
[{"$nulls":15},"50"]
[{"$nulls":12},"3-4","1、2、3","0","0","8"]
[{"$nulls":14},"1、2、3","0","9"]
[{"$nulls":15},"30","10"]
[{"$nulls":15},"40"]
[{"$nulls":14},"2、3、4","0","11"]
[{"$nulls":15},"30","12"]
[{"$nulls":15},"40"]
[{"$nulls":15},"50"]
[{"$nulls":12},"4-4","1、2、3、4","1、2、3","0","13"]
[{"$nulls":15},"30","14"]
[{"$nulls":15},"40"]
[{"$nulls":14},"2、3、4","0","15"]
[{"$nulls":15},"30","16"]
[{"$nulls":15},"40"]
[{"$nulls":14},"3、4、5","0","17"]
[{"$nulls":15},"30","18"]
[{"$nulls":15},"40"]
[{"$nulls":14},"3、4、5、6、7","0","19"]
[{"$nulls":15},"30","20"]
[{"$nulls":15},"40"]
[{"$nulls":15},"50"]
[{"$nulls":14},"1-7","0","21"]

{"sheet":"装备等级分类辅助","index":3,"n_rows":37,"n_cols":26,"rows_kept":37,"merged":[[1,13,2,13],[1,23,11,23],[3,13,6,13],[7,13,12,13],[12,23,19,23],[13,13,22,13],[20,23,36,23]]}
[null,"最终表","最终表",null,"最终表","最终表",{"$nulls":5},"属性分配","属性分配",{"$nulls":8},"属性分配","属性分配"]
[null,{"$f":"VLOOKUP($I$4,$H$7:$I$11,2,FALSE)&\"#\"&INT(L2)","v":"5#293"},{"$f":"VLOOKUP($I$4,$H$7:$I$11,2,FALSE)&\"#\"&INT(M2)","v":"5#325"},null,{"$f":"VLOOKUP($S$4,$H$7:$I$11,2,FALSE)&\"#\"&INT(V2)","v":"5#560"},{"$f":"VLOOKUP($S$4,$H$7:$I$11,2,FALSE)&\"#\"&INT(W2)","v":"5#622"},null,"属性下限",293,null,0.9,{"$f":"$I$2","v":293},{"$f":"$L$2/K2","v":325.55555555555554},"1",null,1,null,"属性下限",560,null,0.9,{"$f":"$S$2","v":560},{"$f":"V2/U2","v":622.2222222222222},"1、2",null,5]
[null,{"$f":"VLOOKUP($I$4,$H$7:$I$11,2,FALSE)&\"#\"&INT(L3)","v":"5#294"},{"$f":"VLOOKUP($I$4,$H$7:$I$11,2,FALSE)&\"#\"&INT(M3)","v":"5#333"},null,{"$f":"VLOOKUP($S$4,$H$7:$I$11,2,FALSE)&\"#\"&INT(V3)","v":"5#558"},{"$f":"VLOOKUP($S$4,$H$7:$I$11,2,FALSE)&\"#\"&INT(W3)","v":"5#627"},null,"属性上限",480,null,0.885,{"$f":"M3*K3","v":294.9508333333333},{"$f":"M2+(M23-M2)/20","v":333.27777777777777},{"$nulls":4},"属性上限",840,null,0.89,{"$f":"W3*U3","v":558.6233333333333},{"$f":"$W$2+(($W$37-$W$2)*5/20)*Y3/10","v":627.6666666666666},null,1]
[null,"5#298","5#339",null,"5#563","5#633",null,"属性","速度",null,0.88,{"$f":"M4*K4","v":298.3811111111111},{"$f":"$M$3+(($M$23-$M$3)*3/19)*O4/4","v":339.06944444444446},"1、2",1,3,null,"属性","速度",null,0.89,563.4688888888888,{"$f":"$W$2+(($W$37-$W$2)*5/20)*Y4/10","v":633.1111111111111},null,2]
[null,"5#301","5#344",null,"5#568","5#638",{"$nulls":4},0.875,301.7534722222222,{"$f":"$M$3+(($M$23-$M$3)*3/19)*O5/4","v":344.8611111111111},null,2,{"$nulls":5},0.89,568.3144444444445,638.5555555555555,null,3]
[null,"5#305","5#350",null,"5#566","5#644",{"$nulls":4},0.87,305.06791666666663,350.65277777777777,null,3,{"$nulls":5},0.88,566.72,644,null,4]
[null,"5#308","5#356",null,"5#571","5#649",null,"生命",1,null,0.865,308.32444444444445,356.44444444444446,null,4,{"$nulls":5},0.88,571.5111111111111,649.4444444444443,null,5]
[null,"5#313","5#364",null,"5#576","5#654",null,"攻击",2,null,0.86,313.18333333333334,{"$f":"$M$7+(($M$23-$M$7)*6/16)*O8/6","v":364.1666666666667},"1、2",1,6,{"$nulls":4},0.88,576.3022222222221,654.8888888888888,null,6]
[null,"5#318","5#371",null,"5#581","5#660",null,"护甲",3,null,0.856,318.3368888888889,{"$f":"$M$7+(($M$23-$M$7)*6/16)*O9/6","v":371.8888888888889},null,2,{"$nulls":5},0.88,581.0933333333332,660.3333333333333,null,7]
[null,"5#323","5#379",null,"5#579","5#665",null,"魔抗",4,null,0.853,323.8082777777778,379.61111111111114,null,3,{"$nulls":5},0.87,579.2266666666666,665.7777777777777,null,8]
[null,"5#329","5#387",null,"5#583","5#671",null,"速度",5,null,0.85,329.23333333333335,387.33333333333337,null,4,{"$nulls":5},0.87,583.9633333333333,671.2222222222222,null,9]
[null,"5#334","5#395",null,"5#588","5#676",{"$nulls":4},0.846,334.217,395.05555555555554,null,5,{"$nulls":5},0.87,588.6999999999999,676.6666666666666,null,10]
[null,"5#339","5#402",null,"5#587","5#683",{"$nulls":4},0.843,339.54166666666663,402.77777777777777,null,6,{"$nulls":5},0.86,587.786111111111,{"$f":"$W$12+(($W$37-$W$12)*5/15)*Y13/8","v":683.4722222222222},"1、2、3",1,5]
[null,"5#344","5#410",null,"5#593","5#690",{"$nulls":4},0.84,344.82,{"$f":"$M$13+(($M$23-$M$13))*O14/10","v":410.5},"1、2、3",1,10,{"$nulls":4},0.86,593.6388888888888,{"$f":"$W$12+(($W$37-$W$12)*5/15)*Y14/8","v":690.2777777777777},null,2]
[null,"5#349","5#418",null,"5#599","5#697",{"$nulls":4},0.836,349.63377777777777,{"$f":"$M$13+(($M$23-$M$13))*O15/10","v":418.22222222222223},null,2,{"$nulls":5},0.86,599.4916666666666,697.0833333333333,null,3]
[null,"5#354","5#425",null,"5#598","5#703",{"$nulls":4},0.833,354.8117222222222,425.94444444444446,null,3,{"$nulls":5},0.85,598.3055555555555,703.8888888888889,null,4]
[null,"5#359","5#433",null,"5#604","5#710",{"$nulls":4},0.83,359.9433333333333,433.6666666666667,null,4,{"$nulls":5},0.85,604.0902777777778,710.6944444444445,null,5]
[null,"5#364","5#441",null,"5#609","5#717",{"$nulls":4},0.825,364.1458333333333,441.3888888888889,null,5,{"$nulls":5},0.85,609.875,717.5,null,6]
[null,"5#368","5#449",null,"5#608","5#724",{"$nulls":4},0.82,368.27111111111105,449.1111111111111,null,6,{"$nulls":5},0.84,608.4166666666666,724.3055555555555,null,7]
[null,"5#372","5#456",null,"5#614","5#731",{"$nulls":4},0.815,372.3191666666666,456.8333333333333,null,7,{"$nulls":5},0.84,614.1333333333333,731.1111111111111,null,8]
[null,"5#376","5#464",null,"5#619","5#737",{"$nulls":4},0.81,376.29,464.55555555555554,null,8,{"$nulls":5},0.84,619.5137254901961,{"$f":"$W$20+($W$37-$W$20)*Y21/17","v":737.5163398692811},"1、2、3、4",1,10]
[null,"5#380","5#472",null,"5#624","5#743",{"$nulls":4},0.805,380.18361111111113,472.27777777777777,null,9,{"$nulls":5},0.84,624.8941176470588,{"$f":"$W$20+($W$37-$W$20)*Y22/17","v":743.9215686274509},null,2]
[null,"5#384","5#480",null,"5#622","5#750",{"$nulls":4},0.8,384,{"$f":"$I$3","v":480},null,10,{"$nulls":5},0.83,622.7712418300654,750.3267973856209,null,3]
[{"$nulls":4},"5#628","5#756",{"$nulls":14},0.83,628.0875816993463,756.7320261437908,null,4]
[{"$nulls":4},"5#633","5#763",{"$nulls":14},0.83,633.4039215686274,763.1372549019608,null,5]
[{"$nulls":4},"5#638","5#769",{"$nulls":14},0.83,638.7202614379084,769.5424836601308,null,6]
[{"$nulls":4},"5#636","5#775",{"$nulls":14},0.82,636.2771241830064,775.9477124183006,null,7]
[{"$nulls":4},"5#641","5#782",{"$nulls":14},0.82,641.5294117647059,782.3529411764706,null,8]
[{"$nulls":4},"5#646","5#788",{"$nulls":14},0.82,646.7816993464052,788.7581699346405,null,9]
[{"$nulls":4},"5#652","5#795",{"$nulls":14},0.82,652.0339869281046,795.1633986928105,null,10]
[{"$nulls":4},"5#649","5#801",{"$nulls":14},0.81,649.2705882352941,801.5686274509803,null,11]
[{"$nulls":4},"5#654","5#807",{"$nulls":14},0.81,654.4588235294118,807.9738562091503,null,12]
[{"$nulls":4},"5#659","5#814",{"$nulls":14},0.81,659.6470588235295,814.3790849673203,null,13]
[{"$nulls":4},"5#656","5#820",{"$nulls":14},0.8,656.6274509803922,820.7843137254902,null,14]
[{"$nulls":4},"5#661","5#827",{"$nulls":14},0.8,661.7516339869281,827.1895424836601,null,15]
[{"$nulls":4},"5#666","5#833",{"$nulls":14},0.8,666.875816993464,833.59477124183,null,16]
[{"$nulls":4},"5#672","5#840",{"$nulls":14},0.8,672,{"$f":"$S$3","v":840},null,17]

{"sheet":"1","index":4,"n_rows":55,"n_cols":9,"rows_kept":55}
[null,null,"品质","道具名","道具品质",null,"类型英文","道具类型","资源名"]
[{"$f":"LEFT(C2,2)","v":"绿色"},"服饰","绿色装备","铁制锁子甲","高级",null,"CA","服饰","r_equip_CA_0001"]
[{"$f":"LEFT(C3,2)","v":"绿色"},"武卫","绿色装备","铁制巨剑","高级",null,"GS","武器","r_equip_GS_0001"]
["绿色","头饰","绿色装备","铁制耳环","高级",null,"HA","头饰","r_equip_HA_0001"]
["绿色","玄策","绿色装备","铁制双拐","高级",null,"HS","武器","r_equip_HS_0001"]
["绿色","秘法","绿色装备","铁制秘器","高级",null,"HW","武器","r_equip_HW_0001"]
["绿色","生花","绿色装备","铁制法器","高级",null,"MW","武器","r_equip_MW_0001"]
["绿色","服饰","绿色装备","铁制板甲","高级",null,"PA","服饰","r_equip_PA_0001"]
["绿色","天罚","绿色装备","铁制星槌","高级",null,"SH","武器","r_equip_SH_0001"]
["绿色","靴","绿色装备","铁制军靴","高级",null,"Shoes","靴","r_equip_Shoes_0001"]
["蓝色","武卫","蓝色装备","黑铁巨剑","顶级",null,"GS","武器","r_equip_GS_0002"]
["蓝色","秘法","蓝色装备","黑铁秘器","顶级",null,"HW","武器","r_equip_HW_0002"]
["蓝色","生花","蓝色装备","黑铁法器","顶级",null,"MW","武器","r_equip_MW_0002"]
["蓝色","玄策","蓝色装备","黑铁双拐","顶级",null,"HS","武器","r_equip_HS_0002"]
["蓝色","天罚","蓝色装备","黑铁星槌","顶级",null,"SH","武器","r_equip_SH_0002"]
["蓝色","头饰","蓝色装备","黑铁耳环","顶级",null,"HA","头饰","r_equip_HA_0002"]
["蓝色","服饰","蓝色装备","黑铁板甲","顶级",null,"PA","服饰","r_equip_PA_0002"]
["蓝色","服饰","蓝色装备","黑铁锁子甲","顶级",null,"CA","服饰","r_equip_CA_0002"]
["蓝色","靴","蓝色装备","黑铁军靴","顶级",null,"Shoes","靴","r_equip_Shoes_0002"]
["紫色","武卫","紫色狗粮装备","秘钢巨剑","英雄",null,"GS","武器","r_equip_GS_0003"]
["紫色","秘法","紫色狗粮装备","秘钢秘器","英雄",null,"HW","武器","r_equip_HW_0003"]
["紫色","生花","紫色狗粮装备","秘钢法器","英雄",null,"MW","武器","r_equip_MW_0003"]
["紫色","玄策","紫色狗粮装备","秘钢双拐","英雄",null,"HS","武器","r_equip_HS_0003"]
["紫色","天罚","紫色狗粮装备","秘钢星槌","英雄",null,"SH","武器","r_equip_SH_0003"]
["紫色","头饰","紫色狗粮装备","秘钢耳环","英雄",null,"HA","头饰","r_equip_HA_0003"]
["紫色","服饰","紫色狗粮装备","秘钢板甲","英雄",null,"PA","服饰","r_equip_PA_0003"]
["紫色","服饰","紫色狗粮装备","秘钢锁子甲","英雄",null,"CA","服饰","r_equip_CA_0003"]
["紫色","靴","紫色狗粮装备","秘钢军靴","英雄",null,"Shoes","靴","r_equip_Shoes_0003"]
["橙色","武卫","传说狗粮装备","玄金巨剑","传说",null,"GS","武器","r_equip_GS_0004"]
["橙色","秘法","传说狗粮装备","玄金秘器","传说",null,"HW","武器","r_equip_HW_0004"]
["橙色","生花","传说狗粮装备","玄金法器","传说",null,"MW","武器","r_equip_MW_0004"]
["橙色","玄策","传说狗粮装备","玄金双拐","传说",null,"HS","武器","r_equip_HS_0004"]
["橙色","天罚","传说狗粮装备","玄金星槌","传说",null,"SH","武器","r_equip_SH_0004"]
["橙色","头饰","传说狗粮装备","玄金耳环","传说",null,"HA","头饰","r_equip_HA_0004"]
["橙色","服饰","传说狗粮装备","玄金板甲","传说",null,"PA","服饰","r_equip_PA_0004"]
["橙色","服饰","传说狗粮装备","玄金锁子甲","传说",null,"CA","服饰","r_equip_CA_0004"]
["橙色","靴","传说狗粮装备","玄金军靴","传说",null,"Shoes","靴","r_equip_Shoes_0004"]
["紫色","武卫","紫色专属装备","泣血巨人","英雄",null,"GS","武器","r_equip_GS_0005"]
["紫色","秘法","紫色专属装备","红莲灯芯","英雄",null,"HW","武器","r_equip_HW_0005"]
["紫色","生花","紫色专属装备","封神结","英雄",null,"MW","武器","r_equip_MW_0005"]
["紫色","玄策","紫色专属装备","幻木宝镜","英雄",null,"HS","武器","r_equip_HS_0005"]
["紫色","天罚","紫色专属装备","摩尼尊印","英雄",null,"SH","武器","r_equip_SH_0005"]
["紫色","头饰","紫色专属装备","金罡头盔","英雄",null,"HA","头饰","r_equip_HA_0005"]
["紫色","服饰","紫色专属装备","风神战衣","英雄",null,"PA","服饰","r_equip_PA_0005"]
["紫色","服饰","紫色专属装备","碧垠圣袍","英雄",null,"CA","服饰","r_equip_CA_0005"]
["紫色","靴","紫色专属装备","灵蛇宝鞋","英雄",null,"Shoes","靴","r_equip_Shoes_0005"]
["橙色","武卫","橙色专属装备","日落","传说",null,"GS","武器","r_equip_GS_0006"]
["橙色","秘法","橙色专属装备","血狼闪","传说",null,"HW","武器","r_equip_HW_0006"]
["橙色","生花","橙色专属装备","斩风诀","传说",null,"MW","武器","r_equip_MW_0006"]
["橙色","玄策","橙色专属装备","狮心龙鳞","传说",null,"HS","武器","r_equip_HS_0006"]
["橙色","天罚","橙色专属装备","苍星","传说",null,"SH","武器","r_equip_SH_0006"]
["橙色","头饰","橙色专属装备","永恒金盾坠","传说",null,"HA","头饰","r_equip_HA_0006"]
["橙色","服饰","橙色专属装备","灭世","传说",null,"PA","服饰","r_equip_PA_0006"]
["橙色","服饰","橙色专属装备","不死鸟之魂","传说",null,"CA","服饰","r_equip_CA_0006"]
["橙色","靴","橙色专属装备","深渊羽鞋","传说",null,"Shoes","靴","r_equip_Shoes_0006"]

{"sheet":"合成装备","index":5,"n_rows":113,"n_cols":13,"rows_kept":113}
[]
[53005,"玄金法杖",3,1,1,"2#479","2#564",3,1,2,0,0,0]
[53006,"墨玉法杖",3,1,1,"2#499","2#588",4,1,2,0,0,0]
[53007,"神行法杖",3,1,1,"2#520","2#612",3,1,2,0,0,0]
[53019,"玄金长剑",3,2,1,"2#479","2#564",3,1,2,0,0,0]
[53020,"墨玉长剑",3,2,1,"2#499","2#588",4,1,2,0,0,0]
[53021,"神行长剑",3,2,1,"2#520","2#612",3,1,2,0,0,0]
[53033,"玄金大斧",3,3,1,"2#479","2#564",3,1,2,0,0,0]
[53034,"墨玉大斧",3,3,1,"2#499","2#588",4,1,2,0,0,0]
[53035,"神行大戟",3,3,1,"2#520","2#612",3,1,2,0,0,0]
[53047,"玄金短剑",3,4,1,"2#479","2#564",3,1,2,0,0,0]
[53048,"墨玉短剑",3,4,1,"2#499","2#588",4,1,2,0,0,0]
[53049,"神行短剑",3,4,1,"2#520","2#612",3,1,2,0,0,0]
[53061,"玄金法杖",3,5,1,"2#479","2#564",3,1,2,0,0,0]
[53062,"墨玉法杖",3,5,1,"2#499","2#588",4,1,2,0,0,0]
[53063,"神行法杖",3,5,1,"2#520","2#612",3,1,2,0,0,0]
[53081,"杀戮战甲",3,0,2,"3#563","3#663",6,1,1,0,0,0]
[53091,"轻灵战盔",3,0,3,"1#5916","1#6960",7,1,2,0,0,0]
[53092,"杀戮战盔",3,0,3,"1#6120","1#7200",7,1,2,0,0,0]
[53102,"轻灵战靴",3,0,4,"5#1039","5#1223",8,1,2,0,0,0]
[53103,"杀戮战靴",3,0,4,"5#1076","5#1267",8,1,2,0,0,0]
[54001,"御风短杖",4,1,1,"2#780","2#1084",9,2,3,0,0,0]
[54002,"困雨短杖",4,1,1,"2#663","2#780",9,2,3,0,0,0]
[54011,"止玄短杖",4,1,1,"2#957","2#1126",9,2,3,411004,0,0]
[54012,"无锋短杖",4,1,1,"2#998","2#1175",9,2,3,411005,0,0]
[54013,"千钧短杖",4,1,1,"2#1040","2#1224",9,2,3,411006,0,0]
[54014,"撼岳短杖",4,1,1,"2#1083","2#1275",9,2,3,411007,0,0]
[54015,"御风短剑",4,2,1,"2#780","2#1084",9,2,3,0,0,0]
[54016,"困雨短剑",4,2,1,"2#663","2#780",9,2,3,0,0,0]
[54025,"止玄之刺",4,2,1,"2#957","2#1126",9,2,3,412004,0,0]
[54026,"无锋之刺",4,2,1,"2#998","2#1175",9,2,3,412005,0,0]
[54027,"千钧之刺",4,2,1,"2#1040","2#1224",9,2,3,412006,0,0]
[54028,"撼岳之刺",4,2,1,"2#1083","2#1275",9,2,3,412007,0,0]
[54029,"御风战斧",4,3,1,"2#780","2#1084",9,2,3,0,0,0]
[54030,"困雨战斧",4,3,1,"2#663","2#780",9,2,3,0,0,0]
[54039,"止玄战矛",4,3,1,"2#957","2#1126",9,2,3,413004,0,0]
[54040,"无锋战矛",4,3,1,"2#998","2#1175",9,2,3,413005,0,0]
[54041,"千钧战矛",4,3,1,"2#1040","2#1224",9,2,3,413006,0,0]
[54042,"撼岳战矛",4,3,1,"2#1083","2#1275",9,2,3,413007,0,0]
[54043,"御风之刃",4,4,1,"2#780","2#1084",9,2,3,0,0,0]
[54044,"困雨之刃",4,4,1,"2#663","2#780",9,2,3,0,0,0]
[54053,"止玄之刃",4,4,1,"2#957","2#1126",9,2,3,414004,0,0]
[54054,"无锋之刃",4,4,1,"2#998","2#1175",9,2,3,414005,0,0]
[54055,"千钧之刃",4,4,1,"2#1040","2#1224",9,2,3,414006,0,0]
[54056,"撼岳之刃",4,4,1,"2#1083","2#1275",9,2,3,414007,0,0]
[54057,"御风法杖",4,5,1,"2#780","2#1084",9,2,3,0,0,0]
[54058,"困雨法杖",4,5,1,"2#663","2#780",9,2,3,0,0,0]
[54067,"止玄秘录",4,5,1,"2#957","2#1126",9,2,3,415004,0,0]
[54068,"无锋秘录",4,5,1,"2#998","2#1175",9,2,3,415005,0,0]
[54069,"千钧秘录",4,5,1,"2#1040","2#1224",9,2,3,415006,0,0]
[54070,"撼岳秘录",4,5,1,"2#1083","2#1275",9,2,3,415007,0,0]
[54071,"神行战甲",4,0,2,"4#718","4#845",10,2,3,0,0,0]
[54075,"逐光战甲",4,0,2,"4#1173","4#1381",10,2,3,420008,0,0]
[54076,"轻尘战甲",4,0,2,"3#718","3#845",10,2,3,0,0,0]
[54080,"遗迹战甲",4,0,2,"3#1173","3#1381",10,2,3,420009,0,0]
[54081,"天启战甲",4,0,2,"3#997","3#1174",11,2,3,420007,0,0]
[54082,"神行战盔",4,0,3,"1#6630","1#7800",12,2,3,0,0,0]
[54083,"乘风战盔",4,0,3,"1#7050","1#8295",12,2,3,0,0,0]
[54091,"遗迹战盔",4,0,3,"1#10416","1#12255",12,2,3,430003,0,0]
[54092,"天启战盔",4,0,3,"1#10842","1#12756",12,2,3,430004,0,0]
[54093,"神行战靴",4,0,4,"5#1166","5#1372",13,2,3,0,0,0]
[54094,"乘风战靴",4,0,4,"5#1241","5#1460",13,2,3,0,0,0]
[54102,"遗迹战靴",4,0,4,"5#1832","5#2156",13,2,3,440002,0,0]
[54103,"天启战靴",4,0,4,"5#1908","5#2245",13,2,3,440003,0,0]
[55001,"断念神杖",5,1,1,"2#1440","2#1836",14,2,4,0,0,0]
[55017,"离恨神杖",5,1,1,"2#1744","2#2052",14,0,0,511008,0,0]
[55018,"无始神杖",5,1,1,"2#1774","2#2088",14,0,0,511009,0,0]
[55019,"归凡神杖",5,1,1,"2#1805","2#2124",14,0,0,511010,0,0]
[55020,"道衍神杖",5,1,1,"2#1836","2#2160",14,0,0,511011,0,0]
[55021,"断念神剑",5,2,1,"2#1440","2#1836",14,2,4,0,0,0]
[55037,"离恨神刺",5,2,1,"2#1744","2#2052",14,0,0,512008,0,0]
[55038,"无始神刺",5,2,1,"2#1774","2#2088",14,0,0,512009,0,0]
[55039,"归凡神刺",5,2,1,"2#1805","2#2124",14,0,0,512010,0,0]
[55040,"道衍神刺",5,2,1,"2#1836","2#2160",14,0,0,512011,0,0]
[55041,"断念神斧",5,3,1,"2#1440","2#1836",14,2,4,0,0,0]
[55057,"离恨神戟",5,3,1,"2#1744","2#2052",14,0,0,513008,0,0]
[55058,"无始神戟",5,3,1,"2#1774","2#2088",14,0,0,513009,0,0]
[55059,"归凡神戟",5,3,1,"2#1805","2#2124",14,0,0,513010,0,0]
[55060,"道衍神戟",5,3,1,"2#1836","2#2160",14,0,0,513011,0,0]
[55061,"断念古剑",5,4,1,"2#1440","2#1836",14,2,4,0,0,0]
[55077,"离恨古剑",5,4,1,"2#1744","2#2052",14,0,0,514008,0,0]
[55078,"无始古剑",5,4,1,"2#1774","2#2088",14,0,0,514009,0,0]
[55079,"归凡古剑",5,4,1,"2#1805","2#2124",14,0,0,514010,0,0]
[55080,"道衍古剑",5,4,1,"2#1836","2#2160",14,0,0,514011,0,0]
[55081,"断念钟",5,5,1,"2#1440","2#1836",14,2,4,0,0,0]
[55097,"离恨宝录",5,5,1,"2#1744","2#2052",14,0,0,515008,0,0]
[55098,"无始宝录",5,5,1,"2#1774","2#2088",14,0,0,515009,0,0]
[55099,"归凡宝录",5,5,1,"2#1805","2#2124",14,0,0,515010,0,0]
[55100,"道衍宝录",5,5,1,"2#1836","2#2160",14,0,0,515011,0,0]
[55101,"虬龙仙甲",5,0,2,"3#1326","3#1560",15,2,4,0,0,0]
[55102,"神凰羽衣",5,0,2,"3#1436","3#1690",15,0,0,520001,0,0]
[55103,"饕餮战衣",5,0,2,"3#1547","3#1820",15,0,0,520002,0,0]
[55107,"黑狱战甲",5,0,2,"3#1989","3#2340",15,2,4,0,0,0]
[55108,"诸天神甲",5,0,2,"4#1326","4#1560",15,2,4,0,0,0]
[55109,"轮回羽衣",5,0,2,"4#1436","4#1690",15,0,0,520003,0,0]
[55110,"盘龙战甲",5,0,2,"4#1547","4#1820",15,0,0,520004,0,0]
[55114,"应龙战甲",5,0,2,"4#1989","4#2340",15,2,4,0,0,0]
[55116,"灵犀头巾",5,0,3,"1#12240","1#14400",17,2,4,0,0,0]
[55117,"霞凤羽冠",5,0,3,"1#12676","1#14914",17,2,4,0,0,0]
[55128,"麒麟战盔",5,0,3,"1#17482","1#20568",17,0,0,530004,0,0]
[55129,"应龙战盔",5,0,3,"1#17919","1#21082",17,0,0,530005,0,0]
[55130,"九霄华冠",5,0,3,"1#18360","1#21600",17,0,0,530006,0,0]
[55131,"青麟羽鞋",5,0,4,"5#2154","5#2534",18,2,4,0,0,0]
[55132,"鸿鹄羽靴",5,0,4,"5#2230","5#2624",18,2,4,0,0,0]
[55143,"麒麟战靴",5,0,4,"5#3071","5#3614",18,0,0,540007,0,0]
[55144,"应龙战靴",5,0,4,"5#3148","5#3704",18,0,0,540008,0,0]
[55145,"九霄华履",5,0,4,"5#3230","5#3801",18,0,0,540009,0,0]
[55158,"麒麟戒指",5,0,5,"2#581","2#684",23,0,0,0,0,0]
[55159,"应龙戒指",5,0,5,"2#595","2#701",23,0,0,0,0,0]
[55160,"九霄神戒",5,0,5,"2#612","2#720",23,0,0,0,0,0]
[55173,"麒麟束带",5,0,6,"1#4661","1#5484",24,0,0,0,0,0]
[55174,"应龙束带",5,0,6,"1#4777","1#5621",24,0,0,0,0,0]
[55175,"九霄玉扣",5,0,6,"1#4896","1#5760",24,0,0,0,0,0]

{"sheet":"装备分类辅助表","index":6,"n_rows":634,"n_cols":25,"rows_kept":634}
[null,"Id","Name","Quality","ProfessionLimit","Position","PropertyMin","PropertyMax","Pool","SecondNumMin","SecondNumMax","SkillId","InitialLevel","IfClear","Score","NoUse1","NoUse3","NoUse4"]
[null,"int","string","int","int","int","mut,int#int,1","mut,int#int,1","int","int","int","int","int","int","int","string","string","string"]
[null,2,3,2,2,2,2,2,2,2,2,2,2,2,2,0,0,0]
[null,"道具id","道具名","装备品质\n2绿色\n3蓝色\n4紫色\n5橙色","职业限定\n0 不限定\n1、秘法；2、天罚；3、武卫；4，玄策；5，生花","位置\n(1武器 2全身铠甲 3头饰 4鞋子 5戒指 6腰带）","属性区间min\n属性id#num\n（属性id找propertyconfig表）","属性区间max\n属性id#num","附属性库","副属性随机最少个数，不重复","副属性最多随机个数，不重复","附带技能id","初始自带重置等级","是否可重铸\n0不可重铸\n1可重铸","特性评分","没啥用、","没啥用、","没啥用、"]
["默认值",0,{"$f":"\"\"","v":""},null,0,0,"null","null",0,0,0,null,0,0,0,{"$f":"\"\"","v":""},"",""]
["正确性校对"]
["校对值"]
[null,52001,"猎户大锤",2,3,1,"2#204","2#240",1,0,0,null,0,0,null,{"$f":"_xlfn.IFNA(VLOOKUP(L8,[2]汇总!A:C,3,0),\"\")","v":""},null,null,2,204,null,2,240]
[null,52002,"兽骨匕首",2,3,1,"2#208","2#245",1,0,0,null,0,0,null,{"$f":"_xlfn.IFNA(VLOOKUP(L9,[2]汇总!A:C,3,0),\"\")","v":""},null,null,2,208,null,2,245]
[null,52003,"坚固宝剑",2,3,1,"2#212","2#250",1,0,0,null,0,0,null,{"$f":"_xlfn.IFNA(VLOOKUP(L10,[2]汇总!A:C,3,0),\"\")","v":""},null,null,2,212,null,2,250]
[null,52004,"家传短匕",2,3,1,"2#216","2#255",1,0,0,null,0,0,null,{"$f":"_xlfn.IFNA(VLOOKUP(L11,[2]汇总!A:C,3,0),\"\")","v":""},null,null,2,216,null,2,255]
[null,52005,"游侠战刀",2,3,1,"2#221","2#260",1,0,0,null,0,0,null,{"$f":"_xlfn.IFNA(VLOOKUP(L12,[2]汇总!A:C,3,0),\"\")","v":""},null,null,2,221,null,2,260]
[null,52006,"戍卫法杖",2,3,1,"2#225","2#265",1,0,0,null,0,0,null,{"$f":"_xlfn.IFNA(VLOOKUP(L13,[2]汇总!A:C,3,0),\"\")","v":""},null,null,2,225,null,2,265]
[null,52007,"硬木法杖",2,3,1,"2#229","2#270",1,0,0,null,0,0,null,{"$f":"_xlfn.IFNA(VLOOKUP(L14,[2]汇总!A:C,3,0),\"\")","v":""},null,null,2,229,null,2,270]
[null,52008,"黑铁法杖",2,3,1,"2#236","2#278",1,0,0,null,0,0,null,{"$f":"_xlfn.IFNA(VLOOKUP(L15,[2]汇总!A:C,3,0),\"\")","v":""},null,null,2,236,null,2,278]
[null,52009,"黄铜法杖",2,3,1,"2#249","2#294",1,1,1,null,0,0,null,{"$f":"_xlfn.IFNA(VLOOKUP(L16,[2]汇总!A:C,3,0),\"\")","v":""},null,null,2,249,null,2,294]
[null,52010,"锻钢法杖",2,3,1,"2#265","2#312",1,1,1,null,0,0,null,{"$f":"_xlfn.IFNA(VLOOKUP(L17,[2]汇总!A:C,3,0),\"\")","v":""},null,null,2,265,null,2,312]
[null,52011,"赤金法杖",2,3,1,"2#281","2#331",1,1,1,null,0,0,null,{"$f":"_xlfn.IFNA(VLOOKUP(L18,[2]汇总!A:C,3,0),\"\")","v":""},null,null,2,281,null,2,331]
[null,52012,"灵玉法杖",2,3,1,"2#289","2#340",2,1,1,null,0,0,null,{"$f":"_xlfn.IFNA(VLOOKUP(L19,[2]汇总!A:C,3,0),\"\")","v":""},null,null,2,289,null,2,340]
[null,52013,"地龙法杖",2,3,1,"2#304","2#358",2,1,1,null,0,0,null,{"$f":"_xlfn.IFNA(VLOOKUP(L20,[2]汇总!A:C,3,0),\"\")","v":""},null,null,2,304,null,2,358]
[null,52014,"妖麟法杖",2,3,1,"2#335","2#395",1,0,0,null,50,0,null,{"$f":"_xlfn.IFNA(VLOOKUP(L21,[2]汇总!A:C,3,0),\"\")","v":""},null,null,2,335,null,2,395]
[null,52015,"飞羽法杖",2,3,1,"2#343","2#404",1,0,0,null,60,0,null,{"$f":"_xlfn.IFNA(VLOOKUP(L22,[2]汇总!A:C,3,0),\"\")","v":""},null,null,2,343,null,2,404]
[null,52016,"青烟法杖",2,3,1,"2#351","2#413",1,0,0,null,70,0,null,{"$f":"_xlfn.IFNA(VLOOKUP(L23,[2]汇总!A:C,3,0),\"\")","v":""},null,null,2,351,null,2,413]
[null,52017,"追光法杖",2,3,1,"2#358","2#422",1,0,0,null,80,0,null,{"$f":"_xlfn.IFNA(VLOOKUP(L24,[2]汇总!A:C,3,0),\"\")","v":""},null,null,2,358,null,2,422]
[null,52018,"轻灵法杖",2,3,1,"2#343","2#404",1,0,0,210001,0,0,300,{"$f":"_xlfn.IFNA(VLOOKUP(L25,[2]汇总!A:C,3,0),\"\")","v":"造成伤害时，额外增加100点伤害。"},null,null,2,343,null,2,404]
[null,52019,"先知法杖",2,3,1,"2#351","2#413",1,0,0,210002,0,0,300,{"$f":"_xlfn.IFNA(VLOOKUP(L26,[2]汇总!A:C,3,0),\"\")","v":"进入战斗后，每1秒回复20生命。"},null,null,2,351,null,2,413]
[null,52020,"杀戮法杖",2,3,1,"2#358","2#422",1,0,0,210003,0,0,300,{"$f":"_xlfn.IFNA(VLOOKUP(L27,[2]汇总!A:C,3,0),\"\")","v":"造成伤害时，将伤害的2%转化为自身生命。"},null,null,2,358,null,2,422]
[null,52021,"猎户叉",2,2,1,"2#204","2#240",1,0,0,null,0,0,null,{"$f":"_xlfn.IFNA(VLOOKUP(L28,[2]汇总!A:C,3,0),\"\")","v":""},null,null,2,204,null,2,240]
[null,52022,"兽骨大锤",2,2,1,"2#208","2#245",1,0,0,null,0,0,null,{"$f":"_xlfn.IFNA(VLOOKUP(L29,[2]汇总!A:C,3,0),\"\")","v":""},null,null,2,208,null,2,245]
[null,52023,"坚固匕首",2,2,1,"2#212","2#250",1,0,0,null,0,0,null,{"$f":"_xlfn.IFNA(VLOOKUP(L30,[2]汇总!A:C,3,0),\"\")","v":""},null,null,2,212,null,2,250]
[null,52024,"家传宝剑",2,2,1,"2#216","2#255",1,0,0,null,0,0,null,{"$f":"_xlfn.IFNA(VLOOKUP(L31,[2]汇总!A:C,3,0),\"\")","v":""},null,null,2,216,null,2,255]
[null,52025,"游侠短匕",2,2,1,"2#221","2#260",1,0,0,null,0,0,null,{"$f":"_xlfn.IFNA(VLOOKUP(L32,[2]汇总!A:C,3,0),\"\")","v":""},null,null,2,221,null,2,260]
[null,52026,"戍卫战刀",2,2,1,"2#225","2#265",1,0,0,null,0,0,null,{"$f":"_xlfn.IFNA(VLOOKUP(L33,[2]汇总!A:C,3,0),\"\")","v":""},null,null,2,225,null,2,265]
[null,52027,"硬木短剑",2,2,1,"2#229","2#270",1,0,0,null,0,0,null,{"$f":"_xlfn.IFNA(VLOOKUP(L34,[2]汇总!A:C,3,0),\"\")","v":""},null,null,2,229,null,2,270]
[null,52028,"黑铁短剑",2,2,1,"2#236","2#278",1,0,0,null,0,0,null,{"$f":"_xlfn.IFNA(VLOOKUP(L35,[2]汇总!A:C,3,0),\"\")","v":""},null,null,2,236,null,2,278]
[null,52029,"黄铜短剑",2,2,1,"2#249","2#294",1,1,1,null,0,0,null,{"$f":"_xlfn.IFNA(VLOOKUP(L36,[2]汇总!A:C,3,0),\"\")","v":""},null,null,2,249,null,2,294]
[null,52030,"锻钢短剑",2,2,1,"2#265","2#312",1,1,1,null,0,0,null,{"$f":"_xlfn.IFNA(VLOOKUP(L37,[2]汇总!A:C,3,0),\"\")","v":""},null,null,2,265,null,2,312]
[null,52031,"赤金长剑",2,2,1,"2#281","2#331",1,1,1,null,0,0,null,{"$f":"_xlfn.IFNA(VLOOKUP(L38,[2]汇总!A:C,3,0),\"\")","v":""},null,null,2,281,null,2,331]
[null,52032,"灵玉长剑",2,2,1,"2#289","2#340",2,1,1,null,0,0,null,{"$f":"_xlfn.IFNA(VLOOKUP(L39,[2]汇总!A:C,3,0),\"\")","v":""},null,null,2,289,null,2,340]
[null,52033,"地龙长剑",2,2,1,"2#304","2#358",2,1,1,null,0,0,null,{"$f":"_xlfn.IFNA(VLOOKUP(L40,[2]汇总!A:C,3,0),\"\")","v":""},null,null,2,304,null,2,358]
[null,52034,"妖麟长剑",2,2,1,"2#335","2#395",1,0,0,null,50,0,null,{"$f":"_xlfn.IFNA(VLOOKUP(L41,[2]汇总!A:C,3,0),\"\")","v":""},null,null,2,335,null,2,395]
[null,52035,"飞羽之刺",2,2,1,"2#343","2#404",1,0,0,null,60,0,null,{"$f":"_xlfn.IFNA(VLOOKUP(L42,[2]汇总!A:C,3,0),\"\")","v":""},null,null,2,343,null,2,404]
[null,52036,"青烟之刺",2,2,1,"2#351","2#413",1,0,0,null,70,0,null,{"$f":"_xlfn.IFNA(VLOOKUP(L43,[2]汇总!A:C,3,0),\"\")","v":""},null,null,2,351,null,2,413]
[null,52037,"追光之刺",2,2,1,"2#358","2#422",1,0,0,null,80,0,null,{"$f":"_xlfn.IFNA(VLOOKUP(L44,[2]汇总!A:C,3,0),\"\")","v":""},null,null,2,358,null,2,422]
[null,52038,"轻灵之刺",2,2,1,"2#343","2#404",1,0,0,210001,0,0,300,{"$f":"_xlfn.IFNA(VLOOKUP(L45,[2]汇总!A:C,3,0),\"\")","v":"造成伤害时，额外增加100点伤害。"},null,null,2,343,null,2,404]
[null,52039,"先知之刺",2,2,1,"2#351","2#413",1,0,0,210002,0,0,300,{"$f":"_xlfn.IFNA(VLOOKUP(L46,[2]汇总!A:C,3,0),\"\")","v":"进入战斗后，每1秒回复20生命。"},null,null,2,351,null,2,413]
[null,52040,"杀戮之刺",2,2,1,"2#358","2#422",1,0,0,210003,0,0,300,{"$f":"_xlfn.IFNA(VLOOKUP(L47,[2]汇总!A:C,3,0),\"\")","v":"造成伤害时，将伤害的2%转化为自身生命。"},null,null,2,358,null,2,422]
[null,52041,"猎户叉",2,1,1,"2#204","2#240",1,0,0,null,0,0,null,{"$f":"_xlfn.IFNA(VLOOKUP(L48,[2]汇总!A:C,3,0),\"\")","v":""},null,null,2,204,null,2,240]
[null,52042,"兽骨大锤",2,1,1,"2#208","2#245",1,0,0,null,0,0,null,{"$f":"_xlfn.IFNA(VLOOKUP(L49,[2]汇总!A:C,3,0),\"\")","v":""},null,null,2,208,null,2,245]
[null,52043,"坚固匕首",2,1,1,"2#212","2#250",1,0,0,null,0,0,null,{"$f":"_xlfn.IFNA(VLOOKUP(L50,[2]汇总!A:C,3,0),\"\")","v":""},null,null,2,212,null,2,250]
[null,52044,"家传宝剑",2,1,1,"2#216","2#255",1,0,0,null,0,0,null,{"$f":"_xlfn.IFNA(VLOOKUP(L51,[2]汇总!A:C,3,0),\"\")","v":""},null,null,2,216,null,2,255]
[null,52045,"游侠短匕",2,1,1,"2#221","2#260",1,0,0,null,0,0,null,{"$f":"_xlfn.IFNA(VLOOKUP(L52,[2]汇总!A:C,3,0),\"\")","v":""},null,null,2,221,null,2,260]
[null,52046,"戍卫战刀",2,1,1,"2#225","2#265",1,0,0,null,0,0,null,{"$f":"_xlfn.IFNA(VLOOKUP(L53,[2]汇总!A:C,3,0),\"\")","v":""},null,null,2,225,null,2,265]
[null,52047,"硬木斧",2,1,1,"2#229","2#270",1,0,0,null,0,0,null,{"$f":"_xlfn.IFNA(VLOOKUP(L54,[2]汇总!A:C,3,0),\"\")","v":""},null,null,2,229,null,2,270]
[null,52048,"黑铁斧",2,1,1,"2#236","2#278",1,0,0,null,0,0,null,{"$f":"_xlfn.IFNA(VLOOKUP(L55,[2]汇总!A:C,3,0),\"\")","v":""},null,null,2,236,null,2,278]
[null,52049,"黄铜斧",2,1,1,"2#249","2#294",1,1,1,null,0,0,null,{"$f":"_xlfn.IFNA(VLOOKUP(L56,[2]汇总!A:C,3,0),\"\")","v":""},null,null,2,249,null,2,294]
[null,52050,"锻钢斧",2,1,1,"2#265","2#312",1,1,1,null,0,0,null,{"$f":"_xlfn.IFNA(VLOOKUP(L57,[2]汇总!A:C,3,0),\"\")","v":""},null,null,2,265,null,2,312]
[null,52051,"赤金斧",2,1,1,"2#281","2#331",1,1,1,null,0,0,null,{"$f":"_xlfn.IFNA(VLOOKUP(L58,[2]汇总!A:C,3,0),\"\")","v":""},null,null,2,281,null,2,331]
[null,52052,"灵玉斧",2,1,1,"2#289","2#340",2,1,1,null,0,0,null,{"$f":"_xlfn.IFNA(VLOOKUP(L59,[2]汇总!A:C,3,0),\"\")","v":""},null,null,2,289,null,2,340]
[null,52053,"地龙戟",2,1,1,"2#304","2#358",2,1,1,null,0,0,null,{"$f":"_xlfn.IFNA(VLOOKUP(L60,[2]汇总!A:C,3,0),\"\")","v":""},null,null,2,304,null,2,358]
[null,52054,"妖麟戟",2,1,1,"2#335","2#395",1,0,0,null,50,0,null,{"$f":"_xlfn.IFNA(VLOOKUP(L61,[2]汇总!A:C,3,0),\"\")","v":""},null,null,2,335,null,2,395]
[null,52055,"飞羽戟",2,1,1,"2#343","2#404",1,0,0,null,60,0,null,{"$f":"_xlfn.IFNA(VLOOKUP(L62,[2]汇总!A:C,3,0),\"\")","v":""},null,null,2,343,null,2,404]
[null,52056,"青烟戟",2,1,1,"2#351","2#413",1,0,0,null,70,0,null,{"$f":"_xlfn.IFNA(VLOOKUP(L63,[2]汇总!A:C,3,0),\"\")","v":""},null,null,2,351,null,2,413]
[null,52057,"追光矛",2,1,1,"2#358","2#422",1,0,0,null,80,0,null,{"$f":"_xlfn.IFNA(VLOOKUP(L64,[2]汇总!A:C,3,0),\"\")","v":""},null,null,2,358,null,2,422]
[null,52058,"轻灵矛",2,1,1,"2#343","2#404",1,0,0,210001,0,0,300,{"$f":"_xlfn.IFNA(VLOOKUP(L65,[2]汇总!A:C,3,0),\"\")","v":"造成伤害时，额外增加100点伤害。"},null,null,2,343,null,2,404]
[null,52059,"先知矛",2,1,1,"2#351","2#413",1,0,0,210002,0,0,300,{"$f":"_xlfn.IFNA(VLOOKUP(L66,[2]汇总!A:C,3,0),\"\")","v":"进入战斗后，每1秒回复20生命。"},null,null,2,351,null,2,413]
[null,52060,"杀戮矛",2,1,1,"2#358","2#422",1,0,0,210003,0,0,300,{"$f":"_xlfn.IFNA(VLOOKUP(L67,[2]汇总!A:C,3,0),\"\")","v":"造成伤害时，将伤害的2%转化为自身生命。"},null,null,2,358,null,2,422]
[null,52061,"猎户叉",2,4,1,"2#204","2#240",1,0,0,null,0,0,null,{"$f":"_xlfn.IFNA(VLOOKUP(L68,[2]汇总!A:C,3,0),\"\")","v":""},null,null,2,204,null,2,240]
[null,52062,"兽骨大锤",2,4,1,"2#208","2#245",1,0,0,null,0,0,null,{"$f":"_xlfn.IFNA(VLOOKUP(L69,[2]汇总!A:C,3,0),\"\")","v":""},null,null,2,208,null,2,245]
[null,52063,"坚固匕首",2,4,1,"2#212","2#250",1,0,0,null,0,0,null,{"$f":"_xlfn.IFNA(VLOOKUP(L70,[2]汇总!A:C,3,0),\"\")","v":""},null,null,2,212,null,2,250]
[null,52064,"家传宝剑",2,4,1,"2#216","2#255",1,0,0,null,0,0,null,{"$f":"_xlfn.IFNA(VLOOKUP(L71,[2]汇总!A:C,3,0),\"\")","v":""},null,null,2,216,null,2,255]
[null,52065,"游侠短匕",2,4,1,"2#221","2#260",1,0,0,null,0,0,null,{"$f":"_xlfn.IFNA(VLOOKUP(L72,[2]汇总!A:C,3,0),\"\")","v":""},null,null,2,221,null,2,260]
[null,52066,"戍卫战刀",2,4,1,"2#225","2#265",1,0,0,null,0,0,null,{"$f":"_xlfn.IFNA(VLOOKUP(L73,[2]汇总!A:C,3,0),\"\")","v":""},null,null,2,225,null,2,265]
[null,52067,"硬木短刀",2,4,1,"2#229","2#270",1,0,0,null,0,0,null,{"$f":"_xlfn.IFNA(VLOOKUP(L74,[2]汇总!A:C,3,0),\"\")","v":""},null,null,2,229,null,2,270]
[null,52068,"黑铁短刀",2,4,1,"2#236","2#278",1,0,0,null,0,0,null,{"$f":"_xlfn.IFNA(VLOOKUP(L75,[2]汇总!A:C,3,0),\"\")","v":""},null,null,2,236,null,2,278]
[null,52069,"黄铜短刀",2,4,1,"2#249","2#294",1,1,1,null,0,0,null,{"$f":"_xlfn.IFNA(VLOOKUP(L76,[2]汇总!A:C,3,0),\"\")","v":""},null,null,2,249,null,2,294]
[null,52070,"锻钢短刀",2,4,1,"2#265","2#312",1,1,1,null,0,0,null,{"$f":"_xlfn.IFNA(VLOOKUP(L77,[2]汇总!A:C,3,0),\"\")","v":""},null,null,2,265,null,2,312]
[null,52071,"赤金短刀",2,4,1,"2#281","2#331",1,1,1,null,0,0,null,{"$f":"_xlfn.IFNA(VLOOKUP(L78,[2]汇总!A:C,3,0),\"\")","v":""},null,null,2,281,null,2,331]
[null,52072,"灵玉短刀",2,4,1,"2#289","2#340",2,1,1,null,0,0,null,{"$f":"_xlfn.IFNA(VLOOKUP(L79,[2]汇总!A:C,3,0),\"\")","v":""},null,null,2,289,null,2,340]
[null,52073,"地龙短刀",2,4,1,"2#304","2#358",2,1,1,null,0,0,null,{"$f":"_xlfn.IFNA(VLOOKUP(L80,[2]汇总!A:C,3,0),\"\")","v":""},null,null,2,304,null,2,358]
[null,52074,"妖麟短刀",2,4,1,"2#335","2#395",1,0,0,null,50,0,null,{"$f":"_xlfn.IFNA(VLOOKUP(L81,[2]汇总!A:C,3,0),\"\")","v":""},null,null,2,335,null,2,395]
[null,52075,"飞羽长刀",2,4,1,"2#343","2#404",1,0,0,null,60,0,null,{"$f":"_xlfn.IFNA(VLOOKUP(L82,[2]汇总!A:C,3,0),\"\")","v":""},null,null,2,343,null,2,404]
[null,52076,"青烟长刀",2,4,1,"2#351","2#413",1,0,0,null,70,0,null,{"$f":"_xlfn.IFNA(VLOOKUP(L83,[2]汇总!A:C,3,0),\"\")","v":""},null,null,2,351,null,2,413]
[null,52077,"追光长刀",2,4,1,"2#358","2#422",1,0,0,null,80,0,null,{"$f":"_xlfn.IFNA(VLOOKUP(L84,[2]汇总!A:C,3,0),\"\")","v":""},null,null,2,358,null,2,422]
[null,52078,"轻灵长刀",2,4,1,"2#343","2#404",1,0,0,210001,0,0,300,{"$f":"_xlfn.IFNA(VLOOKUP(L85,[2]汇总!A:C,3,0),\"\")","v":"造成伤害时，额外增加100点伤害。"},null,null,2,343,null,2,404]
[null,52079,"先知长刀",2,4,1,"2#351","2#413",1,0,0,210002,0,0,300,{"$f":"_xlfn.IFNA(VLOOKUP(L86,[2]汇总!A:C,3,0),\"\")","v":"进入战斗后，每1秒回复20生命。"},null,null,2,351,null,2,413]
[null,52080,"杀戮长刀",2,4,1,"2#358","2#422",1,0,0,210003,0,0,300,{"$f":"_xlfn.IFNA(VLOOKUP(L87,[2]汇总!A:C,3,0),\"\")","v":"造成伤害时，将伤害的2%转化为自身生命。"},null,null,2,358,null,2,422]
[null,52081,"猎户大锤",2,5,1,"2#204","2#240",1,0,0,null,0,0,null,{"$f":"_xlfn.IFNA(VLOOKUP(L88,[2]汇总!A:C,3,0),\"\")","v":""},null,null,2,204,null,2,240]
[null,52082,"兽骨匕首",2,5,1,"2#208","2#245",1,0,0,null,0,0,null,{"$f":"_xlfn.IFNA(VLOOKUP(L89,[2]汇总!A:C,3,0),\"\")","v":""},null,null,2,208,null,2,245]
[null,52083,"坚固宝剑",2,5,1,"2#212","2#250",1,0,0,null,0,0,null,{"$f":"_xlfn.IFNA(VLOOKUP(L90,[2]汇总!A:C,3,0),\"\")","v":""},null,null,2,212,null,2,250]
[null,52084,"家传短匕",2,5,1,"2#216","2#255",1,0,0,null,0,0,null,{"$f":"_xlfn.IFNA(VLOOKUP(L91,[2]汇总!A:C,3,0),\"\")","v":""},null,null,2,216,null,2,255]
[null,52085,"游侠战刀",2,5,1,"2#221","2#260",1,0,0,null,0,0,null,{"$f":"_xlfn.IFNA(VLOOKUP(L92,[2]汇总!A:C,3,0),\"\")","v":""},null,null,2,221,null,2,260]
[null,52086,"戍卫法杖",2,5,1,"2#225","2#265",1,0,0,null,0,0,null,{"$f":"_xlfn.IFNA(VLOOKUP(L93,[2]汇总!A:C,3,0),\"\")","v":""},null,null,2,225,null,2,265]
[null,52087,"硬木法杖",2,5,1,"2#229","2#270",1,0,0,null,0,0,null,{"$f":"_xlfn.IFNA(VLOOKUP(L94,[2]汇总!A:C,3,0),\"\")","v":""},null,null,2,229,null,2,270]
[null,52088,"黑铁法杖",2,5,1,"2#236","2#278",1,0,0,null,0,0,null,{"$f":"_xlfn.IFNA(VLOOKUP(L95,[2]汇总!A:C,3,0),\"\")","v":""},null,null,2,236,null,2,278]
[null,52089,"黄铜法杖",2,5,1,"2#249","2#294",1,1,1,null,0,0,null,{"$f":"_xlfn.IFNA(VLOOKUP(L96,[2]汇总!A:C,3,0),\"\")","v":""},null,null,2,249,null,2,294]
[null,52090,"锻钢法杖",2,5,1,"2#265","2#312",1,1,1,null,0,0,null,{"$f":"_xlfn.IFNA(VLOOKUP(L97,[2]汇总!A:C,3,0),\"\")","v":""},null,null,2,265,null,2,312]
[null,52091,"赤金法杖",2,5,1,"2#281","2#331",1,1,1,null,0,0,null,{"$f":"_xlfn.IFNA(VLOOKUP(L98,[2]汇总!A:C,3,0),\"\")","v":""},null,null,2,281,null,2,331]
[null,52092,"灵玉法杖",2,5,1,"2#289","2#340",2,1,1,null,0,0,null,{"$f":"_xlfn.IFNA(VLOOKUP(L99,[2]汇总!A:C,3,0),\"\")","v":""},null,null,2,289,null,2,340]
[null,52093,"地龙法杖",2,5,1,"2#304","2#358",2,1,1,null,0,0,null,{"$f":"_xlfn.IFNA(VLOOKUP(L100,[2]汇总!A:C,3,0),\"\")","v":""},null,null,2,304,null,2,358]
[null,52094,"妖麟法杖",2,5,1,"2#335","2#395",1,0,0,null,50,0,null,{"$f":"_xlfn.IFNA(VLOOKUP(L101,[2]汇总!A:C,3,0),\"\")","v":""},null,null,2,335,null,2,395]
[null,52095,"飞羽法杖",2,5,1,"2#343","2#404",1,0,0,null,60,0,null,{"$f":"_xlfn.IFNA(VLOOKUP(L102,[2]汇总!A:C,3,0),\"\")","v":""},null,null,2,343,null,2,404]
[null,52096,"青烟法杖",2,5,1,"2#351","2#413",1,0,0,null,70,0,null,{"$f":"_xlfn.IFNA(VLOOKUP(L103,[2]汇总!A:C,3,0),\"\")","v":""},null,null,2,351,null,2,413]
[null,52097,"追光法杖",2,5,1,"2#358","2#422",1,0,0,null,80,0,null,{"$f":"_xlfn.IFNA(VLOOKUP(L104,[2]汇总!A:C,3,0),\"\")","v":""},null,null,2,358,null,2,422]
[null,52098,"轻灵法杖",2,5,1,"2#343","2#404",1,0,0,210001,0,0,300,{"$f":"_xlfn.IFNA(VLOOKUP(L105,[2]汇总!A:C,3,0),\"\")","v":"造成伤害时，额外增加100点伤害。"},null,null,2,343,null,2,404]
[null,52099,"先知法杖",2,5,1,"2#351","2#413",1,0,0,210002,0,0,300,{"$f":"_xlfn.IFNA(VLOOKUP(L106,[2]汇总!A:C,3,0),\"\")","v":"进入战斗后，每1秒回复20生命。"},null,null,2,351,null,2,413]
[null,52100,"杀戮法杖",2,5,1,"2#358","2#422",1,0,0,210003,0,0,300,{"$f":"_xlfn.IFNA(VLOOKUP(L107,[2]汇总!A:C,3,0),\"\")","v":"造成伤害时，将伤害的2%转化为自身生命。"},null,null,2,358,null,2,422]
[null,52101,"猎户蓑衣",2,0,2,"4#221","4#260",1,0,0,null,0,0,null,{"$f":"_xlfn.IFNA(VLOOKUP(L108,[2]汇总!A:C,3,0),\"\")","v":""},null,null,4,221,null,4,260]
[null,52102,"兽皮软甲",2,0,2,"4#248","4#292",1,0,0,null,0,0,null,{"$f":"_xlfn.IFNA(VLOOKUP(L109,[2]汇总!A:C,3,0),\"\")","v":""},null,null,4,248,null,4,292]
[null,52103,"坚固皮甲",2,0,2,"4#275","4#324",1,0,0,null,0,0,null,{"$f":"_xlfn.IFNA(VLOOKUP(L110,[2]汇总!A:C,3,0),\"\")","v":""},null,null,4,275,null,4,324]
[null,52104,"家传锁甲",2,0,2,"4#302","4#356",1,0,1,null,0,0,null,{"$f":"_xlfn.IFNA(VLOOKUP(L111,[2]汇总!A:C,3,0),\"\")","v":""},null,null,4,302,null,4,356]
[null,52105,"游侠软甲",2,0,2,"4#329","4#388",1,0,1,null,0,0,null,{"$f":"_xlfn.IFNA(VLOOKUP(L112,[2]汇总!A:C,3,0),\"\")","v":""},null,null,4,329,null,4,388]
[null,52106,"戍卫战甲",2,0,2,"3#221","3#260",1,0,0,null,0,0,null,{"$f":"_xlfn.IFNA(VLOOKUP(L113,[2]汇总!A:C,3,0),\"\")","v":""},null,null,3,221,null,3,260]
[null,52107,"硬木战甲",2,0,2,"3#248","3#292",1,0,0,null,0,0,null,{"$f":"_xlfn.IFNA(VLOOKUP(L114,[2]汇总!A:C,3,0),\"\")","v":""},null,null,3,248,null,3,292]
[null,52108,"黑铁战甲",2,0,2,"3#275","3#324",1,0,0,null,0,0,null,{"$f":"_xlfn.IFNA(VLOOKUP(L115,[2]汇总!A:C,3,0),\"\")","v":""},null,null,3,275,null,3,324]
[null,52109,"黄铜战甲",2,0,2,"3#302","3#356",1,0,1,null,0,0,null,{"$f":"_xlfn.IFNA(VLOOKUP(L116,[2]汇总!A:C,3,0),\"\")","v":""},null,null,3,302,null,3,356]
[null,52110,"锻钢战甲",2,0,2,"3#329","3#388",1,0,1,null,0,0,null,{"$f":"_xlfn.IFNA(VLOOKUP(L117,[2]汇总!A:C,3,0),\"\")","v":""},null,null,3,329,null,3,388]
[null,52111,"赤金战甲",2,0,2,"3#357","3#420",1,1,1,null,0,0,null,{"$f":"_xlfn.IFNA(VLOOKUP(L118,[2]汇总!A:C,3,0),\"\")","v":""},null,null,3,357,null,3,420]
[null,52112,"灵玉战甲",2,0,2,"3#388","3#457",1,1,1,null,0,0,null,{"$f":"_xlfn.IFNA(VLOOKUP(L119,[2]汇总!A:C,3,0),\"\")","v":""},null,null,3,388,null,3,457]
[null,52113,"地龙皮甲",2,0,2,"4#357","4#420",1,1,1,null,0,0,null,{"$f":"_xlfn.IFNA(VLOOKUP(L120,[2]汇总!A:C,3,0),\"\")","v":""},null,null,4,357,null,4,420]
[null,52114,"妖麟皮甲",2,0,2,"4#388","4#457",1,1,1,null,0,0,null,{"$f":"_xlfn.IFNA(VLOOKUP(L121,[2]汇总!A:C,3,0),\"\")","v":""},null,null,4,388,null,4,457]
[null,52115,"猎户草帽",2,0,3,"1#2244","1#2640",1,0,0,null,0,0,null,{"$f":"_xlfn.IFNA(VLOOKUP(L122,[2]汇总!A:C,3,0),\"\")","v":""},null,null,1,2244,null,1,2640]
[null,52116,"兽皮兜帽",2,0,3,"1#2374","1#2794",1,0,0,null,0,0,null,{"$f":"_xlfn.IFNA(VLOOKUP(L123,[2]汇总!A:C,3,0),\"\")","v":""},null,null,1,2374,null,1,2794]
[null,52117,"坚固头盔",2,0,3,"1#2505","1#2948",1,0,0,null,0,0,null,{"$f":"_xlfn.IFNA(VLOOKUP(L124,[2]汇总!A:C,3,0),\"\")","v":""},null,null,1,2505,null,1,2948]
[null,52118,"家传头盔",2,0,3,"1#2636","1#3102",1,0,0,null,0,0,null,{"$f":"_xlfn.IFNA(VLOOKUP(L125,[2]汇总!A:C,3,0),\"\")","v":""},null,null,1,2636,null,1,3102]
[null,52119,"游侠兜帽",2,0,3,"1#2767","1#3256",1,0,0,null,0,0,null,{"$f":"_xlfn.IFNA(VLOOKUP(L126,[2]汇总!A:C,3,0),\"\")","v":""},null,null,1,2767,null,1,3256]
[null,52120,"戍卫战盔",2,0,3,"1#2898","1#3410",1,0,0,null,0,0,null,{"$f":"_xlfn.IFNA(VLOOKUP(L127,[2]汇总!A:C,3,0),\"\")","v":""},null,null,1,2898,null,1,3410]
[null,52121,"硬木战盔",2,0,3,"1#3029","1#3564",1,0,0,null,0,0,null,{"$f":"_xlfn.IFNA(VLOOKUP(L128,[2]汇总!A:C,3,0),\"\")","v":""},null,null,1,3029,null,1,3564]
[null,52122,"黑铁战盔",2,0,3,"1#3160","1#3718",1,0,0,null,0,0,null,{"$f":"_xlfn.IFNA(VLOOKUP(L129,[2]汇总!A:C,3,0),\"\")","v":""},null,null,1,3160,null,1,3718]
[null,52123,"黄铜战盔",2,0,3,"1#3291","1#3872",1,0,1,null,0,0,null,{"$f":"_xlfn.IFNA(VLOOKUP(L130,[2]汇总!A:C,3,0),\"\")","v":""},null,null,1,3291,null,1,3872]
[null,52124,"锻钢战盔",2,0,3,"1#3422","1#4026",1,0,1,null,0,0,null,{"$f":"_xlfn.IFNA(VLOOKUP(L131,[2]汇总!A:C,3,0),\"\")","v":""},null,null,1,3422,null,1,4026]
[null,52125,"赤金战盔",2,0,3,"1#3553","1#4180",1,0,1,null,0,0,null,{"$f":"_xlfn.IFNA(VLOOKUP(L132,[2]汇总!A:C,3,0),\"\")","v":""},null,null,1,3553,null,1,4180]
[null,52126,"灵玉战盔",2,0,3,"1#3683","1#4334",2,0,1,null,0,0,null,{"$f":"_xlfn.IFNA(VLOOKUP(L133,[2]汇总!A:C,3,0),\"\")","v":""},null,null,1,3683,null,1,4334]
[null,52127,"地龙皮帽",2,0,3,"1#3814","1#4488",2,0,1,null,0,0,null,{"$f":"_xlfn.IFNA(VLOOKUP(L134,[2]汇总!A:C,3,0),\"\")","v":""},null,null,1,3814,null,1,4488]
[null,52128,"妖麟皮帽",2,0,3,"1#3949","1#4646",2,0,1,null,0,0,null,{"$f":"_xlfn.IFNA(VLOOKUP(L135,[2]汇总!A:C,3,0),\"\")","v":""},null,null,1,3949,null,1,4646]
[null,52129,"猎户草鞋",2,0,4,"5#359","5#422",1,0,0,null,0,0,null,{"$f":"_xlfn.IFNA(VLOOKUP(L136,[2]汇总!A:C,3,0),\"\")","v":""},null,null,5,359,null,5,422]
[null,52130,"兽皮皮靴",2,0,4,"5#379","5#447",1,0,0,null,0,0,null,{"$f":"_xlfn.IFNA(VLOOKUP(L137,[2]汇总!A:C,3,0),\"\")","v":""},null,null,5,379,null,5,447]
[null,52131,"坚固布鞋",2,0,4,"5#400","5#471",1,0,0,null,0,0,null,{"$f":"_xlfn.IFNA(VLOOKUP(L138,[2]汇总!A:C,3,0),\"\")","v":""},null,null,5,400,null,5,471]
[null,52132,"家传皮靴",2,0,4,"5#420","5#495",1,0,0,null,0,0,null,{"$f":"_xlfn.IFNA(VLOOKUP(L139,[2]汇总!A:C,3,0),\"\")","v":""},null,null,5,420,null,5,495]
[null,52133,"游侠皮靴",2,0,4,"5#441","5#519",1,0,0,null,0,0,null,{"$f":"_xlfn.IFNA(VLOOKUP(L140,[2]汇总!A:C,3,0),\"\")","v":""},null,null,5,441,null,5,519]
[null,52134,"戍卫战靴",2,0,4,"5#461","5#543",1,0,0,null,0,0,null,{"$f":"_xlfn.IFNA(VLOOKUP(L141,[2]汇总!A:C,3,0),\"\")","v":""},null,null,5,461,null,5,543]
[null,52135,"硬木战靴",2,0,4,"5#481","5#567",1,0,0,null,0,0,null,{"$f":"_xlfn.IFNA(VLOOKUP(L142,[2]汇总!A:C,3,0),\"\")","v":""},null,null,5,481,null,5,567]
[null,52136,"黑铁战靴",2,0,4,"5#502","5#591",1,0,0,null,0,0,null,{"$f":"_xlfn.IFNA(VLOOKUP(L143,[2]汇总!A:C,3,0),\"\")","v":""},null,null,5,502,null,5,591]
[null,52137,"黄铜战靴",2,0,4,"5#522","5#615",1,0,1,null,0,0,null,{"$f":"_xlfn.IFNA(VLOOKUP(L144,[2]汇总!A:C,3,0),\"\")","v":""},null,null,5,522,null,5,615]
[null,52138,"锻钢战靴",2,0,4,"5#543","5#639",1,0,1,null,0,0,null,{"$f":"_xlfn.IFNA(VLOOKUP(L145,[2]汇总!A:C,3,0),\"\")","v":""},null,null,5,543,null,5,639]
[null,52139,"赤金战靴",2,0,4,"5#563","5#663",1,0,1,null,0,0,null,{"$f":"_xlfn.IFNA(VLOOKUP(L146,[2]汇总!A:C,3,0),\"\")","v":""},null,null,5,563,null,5,663]
[null,52140,"灵玉战靴",2,0,4,"5#583","5#687",2,0,1,null,0,0,null,{"$f":"_xlfn.IFNA(VLOOKUP(L147,[2]汇总!A:C,3,0),\"\")","v":""},null,null,5,583,null,5,687]
[null,52141,"地龙皮靴",2,0,4,"5#604","5#711",2,0,1,null,0,0,null,{"$f":"_xlfn.IFNA(VLOOKUP(L148,[2]汇总!A:C,3,0),\"\")","v":""},null,null,5,604,null,5,711]
[null,52142,"妖麟皮靴",2,0,4,"5#631","5#743",2,0,1,null,0,0,null,{"$f":"_xlfn.IFNA(VLOOKUP(L149,[2]汇总!A:C,3,0),\"\")","v":""},null,null,5,631,null,5,743]
[null,52143,"猎户指环",2,0,5,"2#68","2#80",1,0,0,null,0,0,null,{"$f":"_xlfn.IFNA(VLOOKUP(L150,[2]汇总!A:C,3,0),\"\")","v":""},null,null,2,68,null,2,80]
[null,52144,"兽皮指环",2,0,5,"2#71","2#84",1,0,0,null,0,0,null,{"$f":"_xlfn.IFNA(VLOOKUP(L151,[2]汇总!A:C,3,0),\"\")","v":""},null,null,2,71,null,2,84]
[null,52145,"坚固手套",2,0,5,"2#74","2#88",1,0,0,null,0,0,null,{"$f":"_xlfn.IFNA(VLOOKUP(L152,[2]汇总!A:C,3,0),\"\")","v":""},null,null,2,74,null,2,88]
[null,52146,"家传指环",2,0,5,"2#78","2#92",1,0,0,null,0,0,null,{"$f":"_xlfn.IFNA(VLOOKUP(L153,[2]汇总!A:C,3,0),\"\")","v":""},null,null,2,78,null,2,92]
[null,52147,"游侠戒指",2,0,5,"2#81","2#96",1,0,0,null,0,0,null,{"$f":"_xlfn.IFNA(VLOOKUP(L154,[2]汇总!A:C,3,0),\"\")","v":""},null,null,2,81,null,2,96]
[null,52148,"戍卫戒指",2,0,5,"2#85","2#100",1,0,0,null,0,0,null,{"$f":"_xlfn.IFNA(VLOOKUP(L155,[2]汇总!A:C,3,0),\"\")","v":""},null,null,2,85,null,2,100]
[null,52149,"硬木戒指",2,0,5,"2#88","2#104",1,0,0,null,0,0,null,{"$f":"_xlfn.IFNA(VLOOKUP(L156,[2]汇总!A:C,3,0),\"\")","v":""},null,null,2,88,null,2,104]
[null,52150,"黑铁戒指",2,0,5,"2#91","2#108",1,0,0,null,0,0,null,{"$f":"_xlfn.IFNA(VLOOKUP(L157,[2]汇总!A:C,3,0),\"\")","v":""},null,null,2,91,null,2,108]
[null,52151,"黄铜戒指",2,0,5,"2#95","2#112",1,0,1,null,0,0,null,{"$f":"_xlfn.IFNA(VLOOKUP(L158,[2]汇总!A:C,3,0),\"\")","v":""},null,null,2,95,null,2,112]
[null,52152,"锻钢戒指",2,0,5,"2#98","2#116",1,0,1,null,0,0,null,{"$f":"_xlfn.IFNA(VLOOKUP(L159,[2]汇总!A:C,3,0),\"\")","v":""},null,null,2,98,null,2,116]
[null,52153,"赤金戒指",2,0,5,"2#102","2#120",1,0,1,null,0,0,null,{"$f":"_xlfn.IFNA(VLOOKUP(L160,[2]汇总!A:C,3,0),\"\")","v":""},null,null,2,102,null,2,120]
[null,52154,"灵玉戒指",2,0,5,"2#105","2#124",2,0,1,null,0,0,null,{"$f":"_xlfn.IFNA(VLOOKUP(L161,[2]汇总!A:C,3,0),\"\")","v":""},null,null,2,105,null,2,124]
[null,52155,"地龙戒指",2,0,5,"2#108","2#128",2,0,1,null,0,0,null,{"$f":"_xlfn.IFNA(VLOOKUP(L162,[2]汇总!A:C,3,0),\"\")","v":""},null,null,2,108,null,2,128]
[null,52156,"妖麟戒指",2,0,5,"2#119","2#140",2,0,1,null,0,0,null,{"$f":"_xlfn.IFNA(VLOOKUP(L163,[2]汇总!A:C,3,0),\"\")","v":""},null,null,2,119,null,2,140]
[null,52157,"猎户皮带",2,0,6,"1#544","1#640",1,0,0,null,0,0,null,{"$f":"_xlfn.IFNA(VLOOKUP(L164,[2]汇总!A:C,3,0),\"\")","v":""},null,null,1,544,null,1,640]
[null,52158,"兽皮束带",2,0,6,"1#575","1#677",1,0,0,null,0,0,null,{"$f":"_xlfn.IFNA(VLOOKUP(L165,[2]汇总!A:C,3,0),\"\")","v":""},null,null,1,575,null,1,677]
[null,52159,"坚固腰带",2,0,6,"1#606","1#714",1,0,0,null,0,0,null,{"$f":"_xlfn.IFNA(VLOOKUP(L166,[2]汇总!A:C,3,0),\"\")","v":""},null,null,1,606,null,1,714]
[null,52160,"家传腰带",2,0,6,"1#638","1#751",1,0,0,null,0,0,null,{"$f":"_xlfn.IFNA(VLOOKUP(L167,[2]汇总!A:C,3,0),\"\")","v":""},null,null,1,638,null,1,751]
[null,52161,"游侠束带",2,0,6,"1#669","1#788",1,0,0,null,0,0,null,{"$f":"_xlfn.IFNA(VLOOKUP(L168,[2]汇总!A:C,3,0),\"\")","v":""},null,null,1,669,null,1,788]
[null,52162,"戍卫腰带",2,0,6,"1#701","1#825",1,0,0,null,0,0,null,{"$f":"_xlfn.IFNA(VLOOKUP(L169,[2]汇总!A:C,3,0),\"\")","v":""},null,null,1,701,null,1,825]
[null,52163,"硬木腰带",2,0,6,"1#732","1#862",1,0,0,null,0,0,null,{"$f":"_xlfn.IFNA(VLOOKUP(L170,[2]汇总!A:C,3,0),\"\")","v":""},null,null,1,732,null,1,862]
[null,52164,"黑铁腰带",2,0,6,"1#764","1#899",1,0,0,null,0,0,null,{"$f":"_xlfn.IFNA(VLOOKUP(L171,[2]汇总!A:C,3,0),\"\")","v":""},null,null,1,764,null,1,899]
[null,52165,"黄铜腰带",2,0,6,"1#795","1#936",1,0,1,null,0,0,null,{"$f":"_xlfn.IFNA(VLOOKUP(L172,[2]汇总!A:C,3,0),\"\")","v":""},null,null,1,795,null,1,936]
[null,52166,"锻钢腰带",2,0,6,"1#827","1#973",1,0,1,null,0,0,null,{"$f":"_xlfn.IFNA(VLOOKUP(L173,[2]汇总!A:C,3,0),\"\")","v":""},null,null,1,827,null,1,973]
[null,52167,"赤金腰带",2,0,6,"1#858","1#1010",1,0,1,null,0,0,null,{"$f":"_xlfn.IFNA(VLOOKUP(L174,[2]汇总!A:C,3,0),\"\")","v":""},null,null,1,858,null,1,1010]
[null,52168,"灵玉腰带",2,0,6,"1#889","1#1047",2,0,1,null,0,0,null,{"$f":"_xlfn.IFNA(VLOOKUP(L175,[2]汇总!A:C,3,0),\"\")","v":""},null,null,1,889,null,1,1047]
[null,52169,"地龙皮带",2,0,6,"1#921","1#1084",2,0,1,null,0,0,null,{"$f":"_xlfn.IFNA(VLOOKUP(L176,[2]汇总!A:C,3,0),\"\")","v":""},null,null,1,921,null,1,1084]
[null,52170,"妖麟皮带",2,0,6,"1#957","1#1126",2,0,1,null,0,0,null,{"$f":"_xlfn.IFNA(VLOOKUP(L177,[2]汇总!A:C,3,0),\"\")","v":""},null,null,1,957,null,1,1126]
[null,53001,"乌木法杖",3,3,1,"2#408","2#480",3,0,1,null,0,0,null,{"$f":"_xlfn.IFNA(VLOOKUP(L178,[2]汇总!A:C,3,0),\"\")","v":""},null,null,2,408,null,2,480]
[null,53002,"陨铁法杖",3,3,1,"2#438","2#516",4,0,1,null,0,0,null,{"$f":"_xlfn.IFNA(VLOOKUP(L179,[2]汇总!A:C,3,0),\"\")","v":""},null,null,2,438,null,2,516]
[null,53003,"寒铜法杖",3,3,1,"2#459","2#540",3,0,1,null,30,0,null,{"$f":"_xlfn.IFNA(VLOOKUP(L180,[2]汇总!A:C,3,0),\"\")","v":""},null,null,2,459,null,2,540]
[null,53004,"秘钢法杖",3,3,1,"2#489","2#576",3,0,1,null,40,0,null,{"$f":"_xlfn.IFNA(VLOOKUP(L181,[2]汇总!A:C,3,0),\"\")","v":""},null,null,2,489,null,2,576]
[null,53005,"玄金法杖",3,3,1,"2#479","2#564",3,1,2,null,0,0,null,{"$f":"_xlfn.IFNA(VLOOKUP(L182,[2]汇总!A:C,3,0),\"\")","v":""},null,null,2,479,null,2,564]
[null,53006,"墨玉法杖",3,3,1,"2#499","2#588",4,1,2,null,0,0,null,{"$f":"_xlfn.IFNA(VLOOKUP(L183,[2]汇总!A:C,3,0),\"\")","v":""},null,null,2,499,null,2,588]
[null,53007,"神行法杖",3,3,1,"2#520","2#612",3,1,2,null,0,0,null,{"$f":"_xlfn.IFNA(VLOOKUP(L184,[2]汇总!A:C,3,0),\"\")","v":""},null,null,2,520,null,2,612]
[null,53008,"乘风法杖",3,3,1,"2#530","2#624",3,1,2,null,50,0,null,{"$f":"_xlfn.IFNA(VLOOKUP(L185,[2]汇总!A:C,3,0),\"\")","v":""},null,null,2,530,null,2,624]
[null,53009,"光羽法杖",3,3,1,"2#550","2#648",3,1,2,null,60,0,null,{"$f":"_xlfn.IFNA(VLOOKUP(L186,[2]汇总!A:C,3,0),\"\")","v":""},null,null,2,550,null,2,648]
[null,53010,"破空法杖",3,3,1,"2#571","2#672",3,1,2,null,70,0,null,{"$f":"_xlfn.IFNA(VLOOKUP(L187,[2]汇总!A:C,3,0),\"\")","v":""},null,null,2,571,null,2,672]
[null,53011,"逐光法杖",3,3,1,"2#550","2#648",3,0,0,310001,0,0,500,{"$f":"_xlfn.IFNA(VLOOKUP(L188,[2]汇总!A:C,3,0),\"\")","v":"发动技能后，减少目标50点护甲，持续整场战斗，最多可减少400点。"},null,null,2,550,null,2,648]
[null,53012,"轻尘法杖",3,3,1,"2#571","2#672",3,0,0,310002,0,0,500,{"$f":"_xlfn.IFNA(VLOOKUP(L189,[2]汇总!A:C,3,0),\"\")","v":"造成的伤害暴击时，有10%的概率造成200%的暴击伤害。"},null,null,2,571,null,2,672]
[null,53013,"洞察法杖",3,3,1,"2#591","2#696",3,0,0,310003,0,0,500,{"$f":"_xlfn.IFNA(VLOOKUP(L190,[2]汇总!A:C,3,0),\"\")","v":"造成伤害时，额外增加200点伤害。"},null,null,2,591,null,2,696]
[null,53014,"屠戮法杖",3,3,1,"2#612","2#720",3,0,0,310004,0,0,500,{"$f":"_xlfn.IFNA(VLOOKUP(L191,[2]汇总!A:C,3,0),\"\")","v":"进入战斗后，每1秒回复35生命。"},null,null,2,612,null,2,720]
[null,53015,"乌木短剑",3,2,1,"2#408","2#480",3,0,1,null,0,0,null,{"$f":"_xlfn.IFNA(VLOOKUP(L192,[2]汇总!A:C,3,0),\"\")","v":""},null,null,2,408,null,2,480]
[null,53016,"陨铁短剑",3,2,1,"2#438","2#516",4,0,1,null,0,0,null,{"$f":"_xlfn.IFNA(VLOOKUP(L193,[2]汇总!A:C,3,0),\"\")","v":""},null,null,2,438,null,2,516]
[null,53017,"寒铜短剑",3,2,1,"2#459","2#540",3,0,1,null,30,0,null,{"$f":"_xlfn.IFNA(VLOOKUP(L194,[2]汇总!A:C,3,0),\"\")","v":""},null,null,2,459,null,2,540]
[null,53018,"秘钢短剑",3,2,1,"2#489","2#576",3,0,1,null,40,0,null,{"$f":"_xlfn.IFNA(VLOOKUP(L195,[2]汇总!A:C,3,0),\"\")","v":""},null,null,2,489,null,2,576]
[null,53019,"玄金长剑",3,2,1,"2#479","2#564",3,1,2,null,0,0,null,{"$f":"_xlfn.IFNA(VLOOKUP(L196,[2]汇总!A:C,3,0),\"\")","v":""},null,null,2,479,null,2,564]
[null,53020,"墨玉长剑",3,2,1,"2#499","2#588",4,1,2,null,0,0,null,{"$f":"_xlfn.IFNA(VLOOKUP(L197,[2]汇总!A:C,3,0),\"\")","v":""},null,null,2,499,null,2,588]
[null,53021,"神行长剑",3,2,1,"2#520","2#612",3,1,2,null,0,0,null,{"$f":"_xlfn.IFNA(VLOOKUP(L198,[2]汇总!A:C,3,0),\"\")","v":""},null,null,2,520,null,2,612]
[null,53022,"乘风长剑",3,2,1,"2#530","2#624",3,1,2,null,50,0,null,{"$f":"_xlfn.IFNA(VLOOKUP(L199,[2]汇总!A:C,3,0),\"\")","v":""},null,null,2,530,null,2,624]
[null,53023,"光羽之刺",3,2,1,"2#550","2#648",3,1,2,null,60,0,null,{"$f":"_xlfn.IFNA(VLOOKUP(L200,[2]汇总!A:C,3,0),\"\")","v":""},null,null,2,550,null,2,648]
[null,53024,"破空之刺",3,2,1,"2#571","2#672",3,1,2,null,70,0,null,{"$f":"_xlfn.IFNA(VLOOKUP(L201,[2]汇总!A:C,3,0),\"\")","v":""},null,null,2,571,null,2,672]
[null,53025,"逐光之刺",3,2,1,"2#550","2#648",3,0,0,310001,0,0,500,{"$f":"_xlfn.IFNA(VLOOKUP(L202,[2]汇总!A:C,3,0),\"\")","v":"发动技能后，减少目标50点护甲，持续整场战斗，最多可减少400点。"},null,null,2,550,null,2,648]
[null,53026,"轻尘之刺",3,2,1,"2#571","2#672",3,0,0,310002,0,0,500,{"$f":"_xlfn.IFNA(VLOOKUP(L203,[2]汇总!A:C,3,0),\"\")","v":"造成的伤害暴击时，有10%的概率造成200%的暴击伤害。"},null,null,2,571,null,2,672]
[null,53027,"洞察之刺",3,2,1,"2#591","2#696",3,0,0,310003,0,0,500,{"$f":"_xlfn.IFNA(VLOOKUP(L204,[2]汇总!A:C,3,0),\"\")","v":"造成伤害时，额外增加200点伤害。"},null,null,2,591,null,2,696]
[null,53028,"屠戮之刺",3,2,1,"2#612","2#720",3,0,0,310004,0,0,500,{"$f":"_xlfn.IFNA(VLOOKUP(L205,[2]汇总!A:C,3,0),\"\")","v":"进入战斗后，每1秒回复35生命。"},null,null,2,612,null,2,720]
[null,53029,"乌木大斧",3,1,1,"2#408","2#480",3,0,1,null,0,0,null,{"$f":"_xlfn.IFNA(VLOOKUP(L206,[2]汇总!A:C,3,0),\"\")","v":""},null,null,2,408,null,2,480]
[null,53030,"陨铁大斧",3,1,1,"2#438","2#516",4,0,1,null,0,0,null,{"$f":"_xlfn.IFNA(VLOOKUP(L207,[2]汇总!A:C,3,0),\"\")","v":""},null,null,2,438,null,2,516]
[null,53031,"寒铜大斧",3,1,1,"2#459","2#540",3,0,1,null,30,0,null,{"$f":"_xlfn.IFNA(VLOOKUP(L208,[2]汇总!A:C,3,0),\"\")","v":""},null,null,2,459,null,2,540]
[null,53032,"秘钢大斧",3,1,1,"2#489","2#576",3,0,1,null,40,0,null,{"$f":"_xlfn.IFNA(VLOOKUP(L209,[2]汇总!A:C,3,0),\"\")","v":""},null,null,2,489,null,2,576]
[null,53033,"玄金大斧",3,1,1,"2#479","2#564",3,1,2,null,0,0,null,{"$f":"_xlfn.IFNA(VLOOKUP(L210,[2]汇总!A:C,3,0),\"\")","v":""},null,null,2,479,null,2,564]
[null,53034,"墨玉大斧",3,1,1,"2#499","2#588",4,1,2,null,0,0,null,{"$f":"_xlfn.IFNA(VLOOKUP(L211,[2]汇总!A:C,3,0),\"\")","v":""},null,null,2,499,null,2,588]
[null,53035,"神行大戟",3,1,1,"2#520","2#612",3,1,2,null,0,0,null,{"$f":"_xlfn.IFNA(VLOOKUP(L212,[2]汇总!A:C,3,0),\"\")","v":""},null,null,2,520,null,2,612]
[null,53036,"乘风大戟",3,1,1,"2#530","2#624",3,1,2,null,50,0,null,{"$f":"_xlfn.IFNA(VLOOKUP(L213,[2]汇总!A:C,3,0),\"\")","v":""},null,null,2,530,null,2,624]
[null,53037,"光羽大戟",3,1,1,"2#550","2#648",3,1,2,null,60,0,null,{"$f":"_xlfn.IFNA(VLOOKUP(L214,[2]汇总!A:C,3,0),\"\")","v":""},null,null,2,550,null,2,648]
[null,53038,"破空大戟",3,1,1,"2#571","2#672",3,1,2,null,70,0,null,{"$f":"_xlfn.IFNA(VLOOKUP(L215,[2]汇总!A:C,3,0),\"\")","v":""},null,null,2,571,null,2,672]
[null,53039,"逐光大矛",3,1,1,"2#550","2#648",3,0,0,310001,0,0,500,{"$f":"_xlfn.IFNA(VLOOKUP(L216,[2]汇总!A:C,3,0),\"\")","v":"发动技能后，减少目标50点护甲，持续整场战斗，最多可减少400点。"},null,null,2,550,null,2,648]
[null,53040,"轻尘大矛",3,1,1,"2#571","2#672",3,0,0,310002,0,0,500,{"$f":"_xlfn.IFNA(VLOOKUP(L217,[2]汇总!A:C,3,0),\"\")","v":"造成的伤害暴击时，有10%的概率造成200%的暴击伤害。"},null,null,2,571,null,2,672]
[null,53041,"洞察大矛",3,1,1,"2#591","2#696",3,0,0,310003,0,0,500,{"$f":"_xlfn.IFNA(VLOOKUP(L218,[2]汇总!A:C,3,0),\"\")","v":"造成伤害时，额外增加200点伤害。"},null,null,2,591,null,2,696]
[null,53042,"屠戮大矛",3,1,1,"2#612","2#720",3,0,0,310004,0,0,500,{"$f":"_xlfn.IFNA(VLOOKUP(L219,[2]汇总!A:C,3,0),\"\")","v":"进入战斗后，每1秒回复35生命。"},null,null,2,612,null,2,720]
[null,53043,"乌木短剑",3,4,1,"2#408","2#480",3,0,1,null,0,0,null,{"$f":"_xlfn.IFNA(VLOOKUP(L220,[2]汇总!A:C,3,0),\"\")","v":""},null,null,2,408,null,2,480]
[null,53044,"陨铁短剑",3,4,1,"2#438","2#516",4,0,1,null,0,0,null,{"$f":"_xlfn.IFNA(VLOOKUP(L221,[2]汇总!A:C,3,0),\"\")","v":""},null,null,2,438,null,2,516]
[null,53045,"寒铜短剑",3,4,1,"2#459","2#540",3,0,1,null,30,0,null,{"$f":"_xlfn.IFNA(VLOOKUP(L222,[2]汇总!A:C,3,0),\"\")","v":""},null,null,2,459,null,2,540]
[null,53046,"秘钢短剑",3,4,1,"2#489","2#576",3,0,1,null,40,0,null,{"$f":"_xlfn.IFNA(VLOOKUP(L223,[2]汇总!A:C,3,0),\"\")","v":""},null,null,2,489,null,2,576]
[null,53047,"玄金短剑",3,4,1,"2#479","2#564",3,1,2,null,0,0,null,{"$f":"_xlfn.IFNA(VLOOKUP(L224,[2]汇总!A:C,3,0),\"\")","v":""},null,null,2,479,null,2,564]
[null,53048,"墨玉短剑",3,4,1,"2#499","2#588",4,1,2,null,0,0,null,{"$f":"_xlfn.IFNA(VLOOKUP(L225,[2]汇总!A:C,3,0),\"\")","v":""},null,null,2,499,null,2,588]
[null,53049,"神行短剑",3,4,1,"2#520","2#612",3,1,2,null,0,0,null,{"$f":"_xlfn.IFNA(VLOOKUP(L226,[2]汇总!A:C,3,0),\"\")","v":""},null,null,2,520,null,2,612]
[null,53050,"乘风短剑",3,4,1,"2#530","2#624",3,1,2,null,50,0,null,{"$f":"_xlfn.IFNA(VLOOKUP(L227,[2]汇总!A:C,3,0),\"\")","v":""},null,null,2,530,null,2,624]
[null,53051,"光羽长剑",3,4,1,"2#550","2#648",3,1,2,null,60,0,null,{"$f":"_xlfn.IFNA(VLOOKUP(L228,[2]汇总!A:C,3,0),\"\")","v":""},null,null,2,550,null,2,648]
[null,53052,"破空长剑",3,4,1,"2#571","2#672",3,1,2,null,70,0,null,{"$f":"_xlfn.IFNA(VLOOKUP(L229,[2]汇总!A:C,3,0),\"\")","v":""},null,null,2,571,null,2,672]
[null,53053,"逐光长剑",3,4,1,"2#550","2#648",3,0,0,310001,0,0,500,{"$f":"_xlfn.IFNA(VLOOKUP(L230,[2]汇总!A:C,3,0),\"\")","v":"发动技能后，减少目标50点护甲，持续整场战斗，最多可减少400点。"},null,null,2,550,null,2,648]
[null,53054,"轻尘长剑",3,4,1,"2#571","2#672",3,0,0,310002,0,0,500,{"$f":"_xlfn.IFNA(VLOOKUP(L231,[2]汇总!A:C,3,0),\"\")","v":"造成的伤害暴击时，有10%的概率造成200%的暴击伤害。"},null,null,2,571,null,2,672]
[null,53055,"洞察长剑",3,4,1,"2#591","2#696",3,0,0,310003,0,0,500,{"$f":"_xlfn.IFNA(VLOOKUP(L232,[2]汇总!A:C,3,0),\"\")","v":"造成伤害时，额外增加200点伤害。"},null,null,2,591,null,2,696]
[null,53056,"屠戮长剑",3,4,1,"2#612","2#720",3,0,0,310004,0,0,500,{"$f":"_xlfn.IFNA(VLOOKUP(L233,[2]汇总!A:C,3,0),\"\")","v":"进入战斗后，每1秒回复35生命。"},null,null,2,612,null,2,720]
[null,53057,"乌木法杖",3,5,1,"2#408","2#480",3,0,1,null,0,0,null,{"$f":"_xlfn.IFNA(VLOOKUP(L234,[2]汇总!A:C,3,0),\"\")","v":""},null,null,2,408,null,2,480]
[null,53058,"陨铁法杖",3,5,1,"2#438","2#516",4,0,1,null,0,0,null,{"$f":"_xlfn.IFNA(VLOOKUP(L235,[2]汇总!A:C,3,0),\"\")","v":""},null,null,2,438,null,2,516]
[null,53059,"寒铜法杖",3,5,1,"2#459","2#540",3,0,1,null,30,0,null,{"$f":"_xlfn.IFNA(VLOOKUP(L236,[2]汇总!A:C,3,0),\"\")","v":""},null,null,2,459,null,2,540]
[null,53060,"秘钢法杖",3,5,1,"2#489","2#576",3,0,1,null,40,0,null,{"$f":"_xlfn.IFNA(VLOOKUP(L237,[2]汇总!A:C,3,0),\"\")","v":""},null,null,2,489,null,2,576]
[null,53061,"玄金法杖",3,5,1,"2#479","2#564",3,1,2,null,0,0,null,{"$f":"_xlfn.IFNA(VLOOKUP(L238,[2]汇总!A:C,3,0),\"\")","v":""},null,null,2,479,null,2,564]
[null,53062,"墨玉法杖",3,5,1,"2#499","2#588",4,1,2,null,0,0,null,{"$f":"_xlfn.IFNA(VLOOKUP(L239,[2]汇总!A:C,3,0),\"\")","v":""},null,null,2,499,null,2,588]
[null,53063,"神行法杖",3,5,1,"2#520","2#612",3,1,2,null,0,0,null,{"$f":"_xlfn.IFNA(VLOOKUP(L240,[2]汇总!A:C,3,0),\"\")","v":""},null,null,2,520,null,2,612]
[null,53064,"乘风法杖",3,5,1,"2#530","2#624",3,1,2,null,50,0,null,{"$f":"_xlfn.IFNA(VLOOKUP(L241,[2]汇总!A:C,3,0),\"\")","v":""},null,null,2,530,null,2,624]
[null,53065,"光羽法杖",3,5,1,"2#550","2#648",3,1,2,null,60,0,null,{"$f":"_xlfn.IFNA(VLOOKUP(L242,[2]汇总!A:C,3,0),\"\")","v":""},null,null,2,550,null,2,648]
[null,53066,"破空法杖",3,5,1,"2#571","2#672",3,1,2,null,70,0,null,{"$f":"_xlfn.IFNA(VLOOKUP(L243,[2]汇总!A:C,3,0),\"\")","v":""},null,null,2,571,null,2,672]
[null,53067,"逐光法杖",3,5,1,"2#550","2#648",3,0,0,310001,0,0,500,{"$f":"_xlfn.IFNA(VLOOKUP(L244,[2]汇总!A:C,3,0),\"\")","v":"发动技能后，减少目标50点护甲，持续整场战斗，最多可减少400点。"},null,null,2,550,null,2,648]
[null,53068,"轻尘法杖",3,5,1,"2#571","2#672",3,0,0,310002,0,0,500,{"$f":"_xlfn.IFNA(VLOOKUP(L245,[2]汇总!A:C,3,0),\"\")","v":"造成的伤害暴击时，有10%的概率造成200%的暴击伤害。"},null,null,2,571,null,2,672]
[null,53069,"洞察法杖",3,5,1,"2#591","2#696",3,0,0,310003,0,0,500,{"$f":"_xlfn.IFNA(VLOOKUP(L246,[2]汇总!A:C,3,0),\"\")","v":"造成伤害时，额外增加200点伤害。"},null,null,2,591,null,2,696]
[null,53070,"屠戮法杖",3,5,1,"2#612","2#720",3,0,0,310004,0,0,500,{"$f":"_xlfn.IFNA(VLOOKUP(L247,[2]汇总!A:C,3,0),\"\")","v":"进入战斗后，每1秒回复35生命。"},null,null,2,612,null,2,720]
[null,53071,"乌木战甲",3,0,2,"3#442","3#520",3,0,0,null,0,0,null,{"$f":"_xlfn.IFNA(VLOOKUP(L248,[2]汇总!A:C,3,0),\"\")","v":""},null,null,3,442,null,3,520]
[null,53072,"陨铁战甲",3,0,2,"3#497","3#585",3,0,0,null,0,0,null,{"$f":"_xlfn.IFNA(VLOOKUP(L249,[2]汇总!A:C,3,0),\"\")","v":""},null,null,3,497,null,3,585]
[null,53073,"寒铜战甲",3,0,2,"3#552","3#650",3,0,0,null,0,0,null,{"$f":"_xlfn.IFNA(VLOOKUP(L250,[2]汇总!A:C,3,0),\"\")","v":""},null,null,3,552,null,3,650]
[null,53074,"秘钢战甲",3,0,2,"3#607","3#715",3,0,0,null,0,0,null,{"$f":"_xlfn.IFNA(VLOOKUP(L251,[2]汇总!A:C,3,0),\"\")","v":""},null,null,3,607,null,3,715]
[null,53075,"玄金战甲",3,0,2,"3#663","3#780",3,0,1,null,0,0,null,{"$f":"_xlfn.IFNA(VLOOKUP(L252,[2]汇总!A:C,3,0),\"\")","v":""},null,null,3,663,null,3,780]
[null,53076,"墨玉战甲",3,0,2,"4#442","4#520",3,0,0,null,0,0,null,{"$f":"_xlfn.IFNA(VLOOKUP(L253,[2]汇总!A:C,3,0),\"\")","v":""},null,null,4,442,null,4,520]
[null,53077,"飞羽战甲",3,0,2,"4#497","4#585",3,0,0,null,0,0,null,{"$f":"_xlfn.IFNA(VLOOKUP(L254,[2]汇总!A:C,3,0),\"\")","v":""},null,null,4,497,null,4,585]
[null,53078,"青烟战甲",3,0,2,"4#552","4#650",3,0,0,null,0,0,null,{"$f":"_xlfn.IFNA(VLOOKUP(L255,[2]汇总!A:C,3,0),\"\")","v":""},null,null,4,552,null,4,650]
[null,53079,"追光战甲",3,0,2,"4#607","4#715",3,0,0,null,0,0,null,{"$f":"_xlfn.IFNA(VLOOKUP(L256,[2]汇总!A:C,3,0),\"\")","v":""},null,null,4,607,null,4,715]
[null,53080,"轻灵战甲",3,0,2,"4#663","4#780",3,0,1,null,0,0,null,{"$f":"_xlfn.IFNA(VLOOKUP(L257,[2]汇总!A:C,3,0),\"\")","v":""},null,null,4,663,null,4,780]
[null,53081,"杀戮战甲",3,0,2,"3#563","3#663",6,1,1,null,0,0,null,{"$f":"_xlfn.IFNA(VLOOKUP(L258,[2]汇总!A:C,3,0),\"\")","v":""},null,null,3,563,null,3,663]
[null,53082,"乌木战盔",3,0,3,"1#4080","1#4800",7,0,0,null,0,0,null,{"$f":"_xlfn.IFNA(VLOOKUP(L259,[2]汇总!A:C,3,0),\"\")","v":""},null,null,1,4080,null,1,4800]
[null,53083,"陨铁战盔",3,0,3,"1#4284","1#5040",7,0,0,null,0,0,null,{"$f":"_xlfn.IFNA(VLOOKUP(L260,[2]汇总!A:C,3,0),\"\")","v":""},null,null,1,4284,null,1,5040]
[null,53084,"寒铜战盔",3,0,3,"1#4488","1#5280",7,0,0,null,0,0,null,{"$f":"_xlfn.IFNA(VLOOKUP(L261,[2]汇总!A:C,3,0),\"\")","v":""},null,null,1,4488,null,1,5280]
[null,53085,"秘钢战盔",3,0,3,"1#4692","1#5520",7,0,0,null,0,0,null,{"$f":"_xlfn.IFNA(VLOOKUP(L262,[2]汇总!A:C,3,0),\"\")","v":""},null,null,1,4692,null,1,5520]
[null,53086,"玄金战盔",3,0,3,"1#4896","1#5760",7,0,0,null,0,0,null,{"$f":"_xlfn.IFNA(VLOOKUP(L263,[2]汇总!A:C,3,0),\"\")","v":""},null,null,1,4896,null,1,5760]
[null,53087,"墨玉战盔",3,0,3,"1#5100","1#6000",7,0,0,null,0,0,null,{"$f":"_xlfn.IFNA(VLOOKUP(L264,[2]汇总!A:C,3,0),\"\")","v":""},null,null,1,5100,null,1,6000]
[null,53088,"飞羽战盔",3,0,3,"1#5304","1#6240",7,0,1,null,0,0,null,{"$f":"_xlfn.IFNA(VLOOKUP(L265,[2]汇总!A:C,3,0),\"\")","v":""},null,null,1,5304,null,1,6240]
[null,53089,"青烟战盔",3,0,3,"1#5508","1#6480",7,0,1,null,0,0,null,{"$f":"_xlfn.IFNA(VLOOKUP(L266,[2]汇总!A:C,3,0),\"\")","v":""},null,null,1,5508,null,1,6480]
[null,53090,"追光战盔",3,0,3,"1#5712","1#6720",7,0,1,null,0,0,null,{"$f":"_xlfn.IFNA(VLOOKUP(L267,[2]汇总!A:C,3,0),\"\")","v":""},null,null,1,5712,null,1,6720]
[null,53091,"轻灵战盔",3,0,3,"1#5916","1#6960",7,1,2,null,0,0,null,{"$f":"_xlfn.IFNA(VLOOKUP(L268,[2]汇总!A:C,3,0),\"\")","v":""},null,null,1,5916,null,1,6960]
[null,53092,"杀戮战盔",3,0,3,"1#6120","1#7200",7,1,2,null,0,0,null,{"$f":"_xlfn.IFNA(VLOOKUP(L269,[2]汇总!A:C,3,0),\"\")","v":""},null,null,1,6120,null,1,7200]
[null,53093,"乌木战靴",3,0,4,"5#718","5#844",8,0,0,null,0,0,null,{"$f":"_xlfn.IFNA(VLOOKUP(L270,[2]汇总!A:C,3,0),\"\")","v":""},null,null,5,718,null,5,844]
[null,53094,"陨铁战靴",3,0,4,"5#753","5#887",8,0,0,null,0,0,null,{"$f":"_xlfn.IFNA(VLOOKUP(L271,[2]汇总!A:C,3,0),\"\")","v":""},null,null,5,753,null,5,887]
[null,53095,"寒铜战靴",3,0,4,"5#789","5#929",8,0,0,null,0,0,null,{"$f":"_xlfn.IFNA(VLOOKUP(L272,[2]汇总!A:C,3,0),\"\")","v":""},null,null,5,789,null,5,929]
[null,53096,"秘钢战靴",3,0,4,"5#825","5#971",8,0,0,null,0,0,null,{"$f":"_xlfn.IFNA(VLOOKUP(L273,[2]汇总!A:C,3,0),\"\")","v":""},null,null,5,825,null,5,971]
[null,53097,"玄金战靴",3,0,4,"5#861","5#1013",8,0,0,null,0,0,null,{"$f":"_xlfn.IFNA(VLOOKUP(L274,[2]汇总!A:C,3,0),\"\")","v":""},null,null,5,861,null,5,1013]
[null,53098,"墨玉战靴",3,0,4,"5#896","5#1055",8,0,0,null,0,0,null,{"$f":"_xlfn.IFNA(VLOOKUP(L275,[2]汇总!A:C,3,0),\"\")","v":""},null,null,5,896,null,5,1055]
[null,53099,"飞羽战靴",3,0,4,"5#932","5#1097",8,0,1,null,0,0,null,{"$f":"_xlfn.IFNA(VLOOKUP(L276,[2]汇总!A:C,3,0),\"\")","v":""},null,null,5,932,null,5,1097]
[null,53100,"青烟战靴",3,0,4,"5#968","5#1139",8,0,1,null,0,0,null,{"$f":"_xlfn.IFNA(VLOOKUP(L277,[2]汇总!A:C,3,0),\"\")","v":""},null,null,5,968,null,5,1139]
[null,53101,"追光战靴",3,0,4,"5#1003","5#1181",8,0,1,null,0,0,null,{"$f":"_xlfn.IFNA(VLOOKUP(L278,[2]汇总!A:C,3,0),\"\")","v":""},null,null,5,1003,null,5,1181]
[null,53102,"轻灵战靴",3,0,4,"5#1039","5#1223",8,1,2,null,0,0,null,{"$f":"_xlfn.IFNA(VLOOKUP(L279,[2]汇总!A:C,3,0),\"\")","v":""},null,null,5,1039,null,5,1223]
[null,53103,"杀戮战靴",3,0,4,"5#1076","5#1267",8,1,2,null,0,0,null,{"$f":"_xlfn.IFNA(VLOOKUP(L280,[2]汇总!A:C,3,0),\"\")","v":""},null,null,5,1076,null,5,1267]
[null,53104,"乌木戒指",3,0,5,"2#136","2#160",19,0,0,null,0,0,null,{"$f":"_xlfn.IFNA(VLOOKUP(L281,[2]汇总!A:C,3,0),\"\")","v":""},null,null,2,136,null,2,160]
[null,53105,"陨铁戒指",3,0,5,"2#142","2#168",19,0,0,null,0,0,null,{"$f":"_xlfn.IFNA(VLOOKUP(L282,[2]汇总!A:C,3,0),\"\")","v":""},null,null,2,142,null,2,168]
[null,53106,"寒铜戒指",3,0,5,"2#149","2#176",19,0,0,null,0,0,null,{"$f":"_xlfn.IFNA(VLOOKUP(L283,[2]汇总!A:C,3,0),\"\")","v":""},null,null,2,149,null,2,176]
[null,53107,"秘钢戒指",3,0,5,"2#156","2#184",19,0,0,null,0,0,null,{"$f":"_xlfn.IFNA(VLOOKUP(L284,[2]汇总!A:C,3,0),\"\")","v":""},null,null,2,156,null,2,184]
[null,53108,"玄金戒指",3,0,5,"2#163","2#192",19,0,0,null,0,0,null,{"$f":"_xlfn.IFNA(VLOOKUP(L285,[2]汇总!A:C,3,0),\"\")","v":""},null,null,2,163,null,2,192]
[null,53109,"墨玉戒指",3,0,5,"2#170","2#200",19,0,0,null,0,0,null,{"$f":"_xlfn.IFNA(VLOOKUP(L286,[2]汇总!A:C,3,0),\"\")","v":""},null,null,2,170,null,2,200]
[null,53110,"飞羽戒指",3,0,5,"2#176","2#208",19,0,1,null,0,0,null,{"$f":"_xlfn.IFNA(VLOOKUP(L287,[2]汇总!A:C,3,0),\"\")","v":""},null,null,2,176,null,2,208]
[null,53111,"青烟戒指",3,0,5,"2#183","2#216",19,0,1,null,0,0,null,{"$f":"_xlfn.IFNA(VLOOKUP(L288,[2]汇总!A:C,3,0),\"\")","v":""},null,null,2,183,null,2,216]
[null,53112,"追光戒指",3,0,5,"2#190","2#224",19,0,1,null,0,0,null,{"$f":"_xlfn.IFNA(VLOOKUP(L289,[2]汇总!A:C,3,0),\"\")","v":""},null,null,2,190,null,2,224]
[null,53113,"轻灵戒指",3,0,5,"2#197","2#232",19,1,2,null,0,0,null,{"$f":"_xlfn.IFNA(VLOOKUP(L290,[2]汇总!A:C,3,0),\"\")","v":""},null,null,2,197,null,2,232]
[null,53114,"杀戮戒指",3,0,5,"2#204","2#240",19,1,2,null,0,0,null,{"$f":"_xlfn.IFNA(VLOOKUP(L291,[2]汇总!A:C,3,0),\"\")","v":""},null,null,2,204,null,2,240]
[null,53115,"乌木腰带",3,0,6,"1#1088","1#1280",20,0,0,null,0,0,null,{"$f":"_xlfn.IFNA(VLOOKUP(L292,[2]汇总!A:C,3,0),\"\")","v":""},null,null,1,1088,null,1,1280]
[null,53116,"陨铁腰带",3,0,6,"1#1142","1#1344",20,0,0,null,0,0,null,{"$f":"_xlfn.IFNA(VLOOKUP(L293,[2]汇总!A:C,3,0),\"\")","v":""},null,null,1,1142,null,1,1344]
[null,53117,"寒铜腰带",3,0,6,"1#1196","1#1408",20,0,0,null,0,0,null,{"$f":"_xlfn.IFNA(VLOOKUP(L294,[2]汇总!A:C,3,0),\"\")","v":""},null,null,1,1196,null,1,1408]
[null,53118,"秘钢腰带",3,0,6,"1#1251","1#1472",20,0,0,null,0,0,null,{"$f":"_xlfn.IFNA(VLOOKUP(L295,[2]汇总!A:C,3,0),\"\")","v":""},null,null,1,1251,null,1,1472]
[null,53119,"玄金腰带",3,0,6,"1#1305","1#1536",20,0,0,null,0,0,null,{"$f":"_xlfn.IFNA(VLOOKUP(L296,[2]汇总!A:C,3,0),\"\")","v":""},null,null,1,1305,null,1,1536]
[null,53120,"墨玉腰带",3,0,6,"1#1360","1#1600",20,0,0,null,0,0,null,{"$f":"_xlfn.IFNA(VLOOKUP(L297,[2]汇总!A:C,3,0),\"\")","v":""},null,null,1,1360,null,1,1600]
[null,53121,"飞羽束带",3,0,6,"1#1414","1#1664",20,0,1,null,0,0,null,{"$f":"_xlfn.IFNA(VLOOKUP(L298,[2]汇总!A:C,3,0),\"\")","v":""},null,null,1,1414,null,1,1664]
[null,53122,"青烟束带",3,0,6,"1#1468","1#1728",20,0,1,null,0,0,null,{"$f":"_xlfn.IFNA(VLOOKUP(L299,[2]汇总!A:C,3,0),\"\")","v":""},null,null,1,1468,null,1,1728]
[null,53123,"追光束带",3,0,6,"1#1523","1#1792",20,0,1,null,0,0,null,{"$f":"_xlfn.IFNA(VLOOKUP(L300,[2]汇总!A:C,3,0),\"\")","v":""},null,null,1,1523,null,1,1792]
[null,53124,"轻灵束带",3,0,6,"1#1577","1#1856",20,1,2,null,0,0,null,{"$f":"_xlfn.IFNA(VLOOKUP(L301,[2]汇总!A:C,3,0),\"\")","v":""},null,null,1,1577,null,1,1856]
[null,53125,"杀戮束带",3,0,6,"1#1632","1#1920",20,1,2,null,0,0,null,{"$f":"_xlfn.IFNA(VLOOKUP(L302,[2]汇总!A:C,3,0),\"\")","v":""},null,null,1,1632,null,1,1920]
[null,54001,"御风短杖",4,3,1,"2#780","2#1084",9,2,3,null,0,1,null,{"$f":"_xlfn.IFNA(VLOOKUP(L303,[2]汇总!A:C,3,0),\"\")","v":""},null,null,2,780,null,2,1084,{"$f":"W303-T303","v":304},{"$f":"X303/T303","v":0.38974358974358975}]
[null,54002,"困雨短杖",4,3,1,"2#663","2#780",9,2,3,null,0,1,null,{"$f":"_xlfn.IFNA(VLOOKUP(L304,[2]汇总!A:C,3,0),\"\")","v":""},null,null,2,663,null,2,780,{"$f":"W304-T304","v":117},{"$f":"X304/T304","v":0.17647058823529413}]
[null,54003,"折雪短杖",4,3,1,"2#704","2#829",9,2,3,null,30,0,null,{"$f":"_xlfn.IFNA(VLOOKUP(L305,[2]汇总!A:C,3,0),\"\")","v":""},null,null,2,704,null,2,829]
[null,54004,"碎土短杖",4,3,1,"2#747","2#879",9,2,3,null,40,0,null,{"$f":"_xlfn.IFNA(VLOOKUP(L306,[2]汇总!A:C,3,0),\"\")","v":""},null,null,2,747,null,2,879]
[null,54005,"叠云短杖",4,3,1,"2#763","2#898",9,2,3,null,50,0,null,{"$f":"_xlfn.IFNA(VLOOKUP(L307,[2]汇总!A:C,3,0),\"\")","v":""},null,null,2,763,null,2,898]
[null,54006,"藏雷短杖",4,3,1,"2#797","2#938",9,2,3,null,0,1,null,{"$f":"_xlfn.IFNA(VLOOKUP(L308,[2]汇总!A:C,3,0),\"\")","v":""},null,null,2,797,null,2,938,{"$f":"W308-T308","v":141},{"$f":"X308/T308","v":0.17691342534504392}]
[null,54007,"残雾短杖",4,3,1,"2#831","2#978",9,2,3,null,0,1,null,{"$f":"_xlfn.IFNA(VLOOKUP(L309,[2]汇总!A:C,3,0),\"\")","v":""},null,null,2,831,null,2,978,{"$f":"W309-T309","v":147},{"$f":"X309/T309","v":0.17689530685920576}]
[null,54008,"踏江短杖",4,3,1,"2#851","2#1002",9,3,3,null,0,1,null,{"$f":"_xlfn.IFNA(VLOOKUP(L310,[2]汇总!A:C,3,0),\"\")","v":""},null,null,2,851,null,2,1002]
[null,54009,"悬河短杖",4,3,1,"2#893","2#1051",9,3,3,null,0,1,null,{"$f":"_xlfn.IFNA(VLOOKUP(L311,[2]汇总!A:C,3,0),\"\")","v":""},null,null,2,893,null,2,1051]
[null,54010,"镜湖短杖",4,3,1,"2#935","2#1101",9,3,3,null,0,1,null,{"$f":"_xlfn.IFNA(VLOOKUP(L312,[2]汇总!A:C,3,0),\"\")","v":""},null,null,2,935,null,2,1101]
[null,54012,"无锋短杖",4,3,1,"2#998","2#1175",9,2,3,411005,0,1,888,{"$f":"_xlfn.IFNA(VLOOKUP(L313,[2]汇总!A:C,3,0),\"\")","v":"战斗中，增加10%伤害减免。"},null,null,2,998,null,2,1175]
[null,54014,"撼岳短杖",4,3,1,"2#1083","2#1275",9,2,3,411007,0,1,888,{"$f":"_xlfn.IFNA(VLOOKUP(L314,[2]汇总!A:C,3,0),\"\")","v":"战斗中，增加5%效果命中。"},null,null,2,1083,null,2,1275]
[null,54015,"御风短剑",4,2,1,"2#780","2#1084",9,2,3,null,0,1,null,{"$f":"_xlfn.IFNA(VLOOKUP(L315,[2]汇总!A:C,3,0),\"\")","v":""},null,null,2,780,null,2,1084,{"$f":"W315-T315","v":304},{"$f":"X315/T315","v":0.38974358974358975}]
[null,54016,"困雨短剑",4,2,1,"2#663","2#780",9,2,3,null,0,1,null,{"$f":"_xlfn.IFNA(VLOOKUP(L316,[2]汇总!A:C,3,0),\"\")","v":""},null,null,2,663,null,2,780,{"$f":"W316-T316","v":117},{"$f":"X316/T316","v":0.17647058823529413}]
[null,54017,"折雪短剑",4,2,1,"2#704","2#829",9,2,3,null,30,0,null,{"$f":"_xlfn.IFNA(VLOOKUP(L317,[2]汇总!A:C,3,0),\"\")","v":""},null,null,2,704,null,2,829]
[null,54018,"碎土短剑",4,2,1,"2#747","2#879",9,2,3,null,40,0,null,{"$f":"_xlfn.IFNA(VLOOKUP(L318,[2]汇总!A:C,3,0),\"\")","v":""},null,null,2,747,null,2,879]
[null,54019,"叠云长剑",4,2,1,"2#763","2#898",9,2,3,null,50,0,null,{"$f":"_xlfn.IFNA(VLOOKUP(L319,[2]汇总!A:C,3,0),\"\")","v":""},null,null,2,763,null,2,898]
[null,54020,"藏雷长剑",4,2,1,"2#797","2#938",9,2,3,null,0,1,null,{"$f":"_xlfn.IFNA(VLOOKUP(L320,[2]汇总!A:C,3,0),\"\")","v":""},null,null,2,797,null,2,938,{"$f":"W320-T320","v":141},{"$f":"X320/T320","v":0.17691342534504392}]
[null,54021,"残雾长剑",4,2,1,"2#831","2#978",9,2,3,null,0,1,null,{"$f":"_xlfn.IFNA(VLOOKUP(L321,[2]汇总!A:C,3,0),\"\")","v":""},null,null,2,831,null,2,978,{"$f":"W321-T321","v":147},{"$f":"X321/T321","v":0.17689530685920576}]
[null,54022,"踏江长剑",4,2,1,"2#851","2#1002",9,3,3,null,0,1,null,{"$f":"_xlfn.IFNA(VLOOKUP(L322,[2]汇总!A:C,3,0),\"\")","v":""},null,null,2,851,null,2,1002]
[null,54023,"悬河之刺",4,2,1,"2#893","2#1051",9,3,3,null,0,1,null,{"$f":"_xlfn.IFNA(VLOOKUP(L323,[2]汇总!A:C,3,0),\"\")","v":""},null,null,2,893,null,2,1051]
[null,54024,"镜湖之刺",4,2,1,"2#935","2#1101",9,3,3,null,0,1,null,{"$f":"_xlfn.IFNA(VLOOKUP(L324,[2]汇总!A:C,3,0),\"\")","v":""},null,null,2,935,null,2,1101]
[null,54025,"止玄之刺",4,2,1,"2#957","2#1126",9,2,3,412004,0,1,888,{"$f":"_xlfn.IFNA(VLOOKUP(L325,[2]汇总!A:C,3,0),\"\")","v":"战斗中，增加20%暴击伤害。"},null,null,2,957,null,2,1126]
[null,54026,"无锋之刺",4,2,1,"2#998","2#1175",9,2,3,412005,0,1,888,{"$f":"_xlfn.IFNA(VLOOKUP(L326,[2]汇总!A:C,3,0),\"\")","v":"战斗中，增加634点速度。"},null,null,2,998,null,2,1175]
[null,54029,"御风战斧",4,1,1,"2#780","2#1084",9,2,3,null,0,1,null,{"$f":"_xlfn.IFNA(VLOOKUP(L327,[2]汇总!A:C,3,0),\"\")","v":""},null,null,2,780,null,2,1084,{"$f":"W327-T327","v":304},{"$f":"X327/T327","v":0.38974358974358975}]
[null,54030,"困雨战斧",4,1,1,"2#663","2#780",9,2,3,null,0,1,null,{"$f":"_xlfn.IFNA(VLOOKUP(L328,[2]汇总!A:C,3,0),\"\")","v":""},null,null,2,663,null,2,780,{"$f":"W328-T328","v":117},{"$f":"X328/T328","v":0.17647058823529413}]
[null,54031,"折雪战斧",4,1,1,"2#704","2#829",9,2,3,null,30,0,null,{"$f":"_xlfn.IFNA(VLOOKUP(L329,[2]汇总!A:C,3,0),\"\")","v":""},null,null,2,704,null,2,829]
[null,54032,"碎土战斧",4,1,1,"2#747","2#879",9,2,3,null,40,0,null,{"$f":"_xlfn.IFNA(VLOOKUP(L330,[2]汇总!A:C,3,0),\"\")","v":""},null,null,2,747,null,2,879]
[null,54033,"叠云战斧",4,1,1,"2#763","2#898",9,2,3,null,50,0,null,{"$f":"_xlfn.IFNA(VLOOKUP(L331,[2]汇总!A:C,3,0),\"\")","v":""},null,null,2,763,null,2,898]
[null,54034,"藏雷战斧",4,1,1,"2#797","2#938",9,2,3,null,0,1,null,{"$f":"_xlfn.IFNA(VLOOKUP(L332,[2]汇总!A:C,3,0),\"\")","v":""},null,null,2,797,null,2,938,{"$f":"W332-T332","v":141},{"$f":"X332/T332","v":0.17691342534504392}]
[null,54035,"残雾战戟",4,1,1,"2#831","2#978",9,2,3,null,0,1,null,{"$f":"_xlfn.IFNA(VLOOKUP(L333,[2]汇总!A:C,3,0),\"\")","v":""},null,null,2,831,null,2,978,{"$f":"W333-T333","v":147},{"$f":"X333/T333","v":0.17689530685920576}]
[null,54036,"踏江战戟",4,1,1,"2#851","2#1002",9,3,3,null,0,1,null,{"$f":"_xlfn.IFNA(VLOOKUP(L334,[2]汇总!A:C,3,0),\"\")","v":""},null,null,2,851,null,2,1002]
[null,54037,"悬河战戟",4,1,1,"2#893","2#1051",9,3,3,null,0,1,null,{"$f":"_xlfn.IFNA(VLOOKUP(L335,[2]汇总!A:C,3,0),\"\")","v":""},null,null,2,893,null,2,1051]
[null,54038,"镜湖战戟",4,1,1,"2#935","2#1101",9,3,3,null,0,1,null,{"$f":"_xlfn.IFNA(VLOOKUP(L336,[2]汇总!A:C,3,0),\"\")","v":""},null,null,2,935,null,2,1101]
[null,54039,"止玄战矛",4,1,1,"2#957","2#1126",9,2,3,413004,0,1,888,{"$f":"_xlfn.IFNA(VLOOKUP(L337,[2]汇总!A:C,3,0),\"\")","v":"战斗中，增加5%效果命中。"},null,null,2,957,null,2,1126]
[null,54040,"无锋战矛",4,1,1,"2#998","2#1175",9,2,3,413005,0,1,888,{"$f":"_xlfn.IFNA(VLOOKUP(L338,[2]汇总!A:C,3,0),\"\")","v":"战斗中，增加10%受到的治疗效果。"},null,null,2,998,null,2,1175]
[null,54043,"御风之刃",4,4,1,"2#780","2#1084",9,2,3,null,0,1,null,{"$f":"_xlfn.IFNA(VLOOKUP(L339,[2]汇总!A:C,3,0),\"\")","v":""},null,null,2,780,null,2,1084,{"$f":"W339-T339","v":304},{"$f":"X339/T339","v":0.38974358974358975}]
[null,54044,"困雨之刃",4,4,1,"2#663","2#780",9,2,3,null,0,1,null,{"$f":"_xlfn.IFNA(VLOOKUP(L340,[2]汇总!A:C,3,0),\"\")","v":""},null,null,2,663,null,2,780,{"$f":"W340-T340","v":117},{"$f":"X340/T340","v":0.17647058823529413}]
[null,54045,"折雪之刃",4,4,1,"2#704","2#829",9,2,2,null,30,0,null,{"$f":"_xlfn.IFNA(VLOOKUP(L341,[2]汇总!A:C,3,0),\"\")","v":""},null,null,2,704,null,2,829]
[null,54046,"碎土之刃",4,4,1,"2#747","2#879",9,2,3,null,40,0,null,{"$f":"_xlfn.IFNA(VLOOKUP(L342,[2]汇总!A:C,3,0),\"\")","v":""},null,null,2,747,null,2,879]
[null,54047,"叠云之刃",4,4,1,"2#763","2#898",9,2,3,null,50,0,null,{"$f":"_xlfn.IFNA(VLOOKUP(L343,[2]汇总!A:C,3,0),\"\")","v":""},null,null,2,763,null,2,898]
[null,54048,"藏雷之刃",4,4,1,"2#797","2#938",9,2,3,null,0,1,null,{"$f":"_xlfn.IFNA(VLOOKUP(L344,[2]汇总!A:C,3,0),\"\")","v":""},null,null,2,797,null,2,938,{"$f":"W344-T344","v":141},{"$f":"X344/T344","v":0.17691342534504392}]
[null,54049,"残雾之刃",4,4,1,"2#831","2#978",9,2,3,null,0,1,null,{"$f":"_xlfn.IFNA(VLOOKUP(L345,[2]汇总!A:C,3,0),\"\")","v":""},null,null,2,831,null,2,978,{"$f":"W345-T345","v":147},{"$f":"X345/T345","v":0.17689530685920576}]
[null,54050,"踏江之刃",4,4,1,"2#851","2#1002",9,3,3,null,0,1,null,{"$f":"_xlfn.IFNA(VLOOKUP(L346,[2]汇总!A:C,3,0),\"\")","v":""},null,null,2,851,null,2,1002]
[null,54051,"悬河之刃",4,4,1,"2#893","2#1051",9,3,3,null,0,1,null,{"$f":"_xlfn.IFNA(VLOOKUP(L347,[2]汇总!A:C,3,0),\"\")","v":""},null,null,2,893,null,2,1051]
[null,54052,"镜湖之刃",4,4,1,"2#935","2#1101",9,3,3,null,0,1,null,{"$f":"_xlfn.IFNA(VLOOKUP(L348,[2]汇总!A:C,3,0),\"\")","v":""},null,null,2,935,null,2,1101]
[null,54053,"止玄之刃",4,4,1,"2#957","2#1126",9,2,3,414004,0,1,888,{"$f":"_xlfn.IFNA(VLOOKUP(L349,[2]汇总!A:C,3,0),\"\")","v":"战斗中，增加5%效果命中。"},null,null,2,957,null,2,1126]
[null,54054,"无锋之刃",4,4,1,"2#998","2#1175",9,2,3,414005,0,1,888,{"$f":"_xlfn.IFNA(VLOOKUP(L350,[2]汇总!A:C,3,0),\"\")","v":"战斗中，增加634点速度。"},null,null,2,998,null,2,1175]
[null,54057,"御风法杖",4,5,1,"2#780","2#1084",9,2,3,null,0,1,null,{"$f":"_xlfn.IFNA(VLOOKUP(L351,[2]汇总!A:C,3,0),\"\")","v":""},null,null,2,780,null,2,1084,{"$f":"W351-T351","v":304},{"$f":"X351/T351","v":0.38974358974358975}]
[null,54058,"困雨法杖",4,5,1,"2#663","2#780",9,2,3,null,0,1,null,{"$f":"_xlfn.IFNA(VLOOKUP(L352,[2]汇总!A:C,3,0),\"\")","v":""},null,null,2,663,null,2,780,{"$f":"W352-T352","v":117},{"$f":"X352/T352","v":0.17647058823529413}]
[null,54059,"折雪法杖",4,5,1,"2#704","2#829",9,2,3,null,30,0,null,{"$f":"_xlfn.IFNA(VLOOKUP(L353,[2]汇总!A:C,3,0),\"\")","v":""},null,null,2,704,null,2,829]
[null,54060,"碎土法杖",4,5,1,"2#747","2#879",9,2,3,null,40,0,null,{"$f":"_xlfn.IFNA(VLOOKUP(L354,[2]汇总!A:C,3,0),\"\")","v":""},null,null,2,747,null,2,879]
[null,54061,"叠云法杖",4,5,1,"2#763","2#898",9,2,3,null,50,0,null,{"$f":"_xlfn.IFNA(VLOOKUP(L355,[2]汇总!A:C,3,0),\"\")","v":""},null,null,2,763,null,2,898]
[null,54062,"藏雷法杖",4,5,1,"2#797","2#938",9,2,3,null,0,1,null,{"$f":"_xlfn.IFNA(VLOOKUP(L356,[2]汇总!A:C,3,0),\"\")","v":""},null,null,2,797,null,2,938,{"$f":"W356-T356","v":141},{"$f":"X356/T356","v":0.17691342534504392}]
[null,54063,"残雾法杖",4,5,1,"2#831","2#978",9,2,3,null,0,1,null,{"$f":"_xlfn.IFNA(VLOOKUP(L357,[2]汇总!A:C,3,0),\"\")","v":""},null,null,2,831,null,2,978,{"$f":"W357-T357","v":147},{"$f":"X357/T357","v":0.17689530685920576}]
[null,54064,"踏江法杖",4,5,1,"2#851","2#1002",9,3,3,null,0,1,null,{"$f":"_xlfn.IFNA(VLOOKUP(L358,[2]汇总!A:C,3,0),\"\")","v":""},null,null,2,851,null,2,1002]
[null,54065,"悬河秘录",4,5,1,"2#893","2#1051",9,3,3,null,0,1,null,{"$f":"_xlfn.IFNA(VLOOKUP(L359,[2]汇总!A:C,3,0),\"\")","v":""},null,null,2,893,null,2,1051]
[null,54066,"镜湖秘录",4,5,1,"2#935","2#1101",9,3,3,null,0,1,null,{"$f":"_xlfn.IFNA(VLOOKUP(L360,[2]汇总!A:C,3,0),\"\")","v":""},null,null,2,935,null,2,1101]
[null,54067,"止玄秘录",4,5,1,"2#957","2#1126",9,2,3,415004,0,1,888,{"$f":"_xlfn.IFNA(VLOOKUP(L361,[2]汇总!A:C,3,0),\"\")","v":"战斗中，增加10%攻击力。"},null,null,2,957,null,2,1126]
[null,54068,"无锋秘录",4,5,1,"2#998","2#1175",9,2,3,415005,0,1,888,{"$f":"_xlfn.IFNA(VLOOKUP(L362,[2]汇总!A:C,3,0),\"\")","v":"战斗中，增加10%治疗量。"},null,null,2,998,null,2,1175]
[null,54071,"神行战甲",4,0,2,"4#718","4#845",10,2,3,null,0,1,null,{"$f":"_xlfn.IFNA(VLOOKUP(L363,[2]汇总!A:C,3,0),\"\")","v":""},null,null,4,718,null,4,845,{"$f":"W363-T363","v":127},{"$f":"X363/T363","v":0.17688022284122562}]
[null,54072,"乘风战甲",4,0,2,"4#832","4#979",10,2,3,null,0,1,null,{"$f":"_xlfn.IFNA(VLOOKUP(L364,[2]汇总!A:C,3,0),\"\")","v":""},null,null,4,832,null,4,979,147,0.17668269230769232]
[null,54074,"破空战甲",4,0,2,"4#1059","4#1247",10,2,3,null,0,1,null,{"$f":"_xlfn.IFNA(VLOOKUP(L365,[2]汇总!A:C,3,0),\"\")","v":""},null,null,4,1059,null,4,1247,188,0.17752596789423986]
[null,54075,"逐光战甲",4,0,2,"4#1173","4#1381",10,2,3,null,0,1,null,{"$f":"_xlfn.IFNA(VLOOKUP(L366,[2]汇总!A:C,3,0),\"\")","v":""},null,null,4,1173,null,4,1381,208,0.1773231031543052]
[null,54076,"轻尘战甲",4,0,2,"3#718","3#845",10,2,3,null,0,1,null,{"$f":"_xlfn.IFNA(VLOOKUP(L367,[2]汇总!A:C,3,0),\"\")","v":""},null,null,3,718,null,3,845,127,0.17688022284122562]
[null,54077,"洞察战甲",4,0,2,"3#832","3#979",10,2,3,null,0,1,null,{"$f":"_xlfn.IFNA(VLOOKUP(L368,[2]汇总!A:C,3,0),\"\")","v":""},null,null,3,832,null,3,979,147,0.17668269230769232]
[null,54078,"屠戮战甲",4,0,2,"3#946","3#1113",10,2,3,null,0,1,null,{"$f":"_xlfn.IFNA(VLOOKUP(L369,[2]汇总!A:C,3,0),\"\")","v":""},null,null,3,946,null,3,1113,167,0.17653276955602537]
[null,54080,"遗迹战甲",4,0,2,"3#1173","3#1381",10,2,3,420009,0,1,null,{"$f":"_xlfn.IFNA(VLOOKUP(L370,[2]汇总!A:C,3,0),\"\")","v":""},null,null,3,1173,null,3,1381]
[null,54081,"天启战甲",4,0,2,"3#997","3#1174",11,1,1,null,0,1,null,{"$f":"_xlfn.IFNA(VLOOKUP(L371,[2]汇总!A:C,3,0),\"\")","v":""},null,null,3,997,null,3,1174,{"$f":"W371-T371","v":177},{"$f":"X371/T371","v":0.17753259779338015}]
[null,54082,"神行战盔",4,0,3,"1#6630","1#7800",12,2,3,null,0,1,null,{"$f":"_xlfn.IFNA(VLOOKUP(L372,[2]汇总!A:C,3,0),\"\")","v":""},null,null,1,6630,null,1,7800,1170,0.17647058823529413]
[null,54083,"乘风战盔",4,0,3,"1#7050","1#8295",12,2,3,null,0,1,null,{"$f":"_xlfn.IFNA(VLOOKUP(L373,[2]汇总!A:C,3,0),\"\")","v":""},null,null,1,7050,null,1,8295,1245,0.17659574468085107]
[null,54084,"光羽战盔",4,0,3,"1#7471","1#8790",12,2,3,null,0,1,null,{"$f":"_xlfn.IFNA(VLOOKUP(L374,[2]汇总!A:C,3,0),\"\")","v":""},null,null,1,7471,null,1,8790,1319,0.17654932405300494]
[null,54085,"破空战盔",4,0,3,"1#7892","1#9285",12,2,3,null,0,1,null,{"$f":"_xlfn.IFNA(VLOOKUP(L375,[2]汇总!A:C,3,0),\"\")","v":""},null,null,1,7892,null,1,9285,1393,0.17650785605676633]
[null,54086,"逐光战盔",4,0,3,"1#8313","1#9780",12,2,3,null,0,1,null,{"$f":"_xlfn.IFNA(VLOOKUP(L376,[2]汇总!A:C,3,0),\"\")","v":""},null,null,1,8313,null,1,9780,1467,0.17647058823529413]
[null,54087,"轻尘战盔",4,0,3,"1#8733","1#10275",12,2,3,null,0,1,null,{"$f":"_xlfn.IFNA(VLOOKUP(L377,[2]汇总!A:C,3,0),\"\")","v":""},null,null,1,8733,null,1,10275,1542,0.17657162487117828]
[null,54088,"洞察战盔",4,0,3,"1#9154","1#10770",12,2,3,null,0,1,null,{"$f":"_xlfn.IFNA(VLOOKUP(L378,[2]汇总!A:C,3,0),\"\")","v":""},null,null,1,9154,null,1,10770,1616,0.17653484815381254]
[null,54089,"屠戮战盔",4,0,3,"1#9575","1#11265",12,2,3,null,0,1,null,{"$f":"_xlfn.IFNA(VLOOKUP(L379,[2]汇总!A:C,3,0),\"\")","v":""},null,null,1,9575,null,1,11265,1690,0.17650130548302873]
[null,54090,"妖王战盔",4,0,3,"1#9996","1#11760",12,2,3,null,0,1,null,{"$f":"_xlfn.IFNA(VLOOKUP(L380,[2]汇总!A:C,3,0),\"\")","v":""},null,null,1,9996,null,1,11760,1764,0.17647058823529413]
[null,54091,"遗迹战盔",4,0,3,"1#10416","1#12255",12,2,3,null,0,1,null,{"$f":"_xlfn.IFNA(VLOOKUP(L381,[2]汇总!A:C,3,0),\"\")","v":""},null,null,1,10416,null,1,12255,1839,0.1765552995391705]
[null,54092,"天启战盔",4,0,3,"1#10842","1#12756",12,2,3,null,0,1,null,{"$f":"_xlfn.IFNA(VLOOKUP(L382,[2]汇总!A:C,3,0),\"\")","v":""},null,null,1,10842,null,1,12756,1914,0.17653569452130602]
[null,54093,"神行战靴",4,0,4,"5#1166","5#1372",13,2,3,null,0,1,null,{"$f":"_xlfn.IFNA(VLOOKUP(L383,[2]汇总!A:C,3,0),\"\")","v":""},null,null,5,1166,null,5,1372,206,0.17667238421955403]
[null,54094,"乘风战靴",4,0,4,"5#1241","5#1460",13,2,3,null,0,1,null,{"$f":"_xlfn.IFNA(VLOOKUP(L384,[2]汇总!A:C,3,0),\"\")","v":""},null,null,5,1241,null,5,1460,219,0.17647058823529413]
[null,54095,"光羽战靴",4,0,4,"5#1314","5#1547",13,2,3,null,0,1,null,{"$f":"_xlfn.IFNA(VLOOKUP(L385,[2]汇总!A:C,3,0),\"\")","v":""},null,null,5,1314,null,5,1547,233,0.17732115677321156]
[null,54096,"破空战靴",4,0,4,"5#1388","5#1634",13,2,3,null,0,1,null,{"$f":"_xlfn.IFNA(VLOOKUP(L386,[2]汇总!A:C,3,0),\"\")","v":""},null,null,5,1388,null,5,1634,246,0.17723342939481268]
[null,54097,"逐光战靴",4,0,4,"5#1462","5#1721",13,2,3,null,0,1,null,{"$f":"_xlfn.IFNA(VLOOKUP(L387,[2]汇总!A:C,3,0),\"\")","v":""},null,null,5,1462,null,5,1721,259,0.1771545827633379]
[null,54098,"轻尘战靴",4,0,4,"5#1536","5#1808",13,2,3,null,0,1,null,{"$f":"_xlfn.IFNA(VLOOKUP(L388,[2]汇总!A:C,3,0),\"\")","v":""},null,null,5,1536,null,5,1808,272,0.17708333333333334]
[null,54099,"洞察战靴",4,0,4,"5#1610","5#1895",13,2,3,null,0,1,null,{"$f":"_xlfn.IFNA(VLOOKUP(L389,[2]汇总!A:C,3,0),\"\")","v":""},null,null,5,1610,null,5,1895,285,0.17701863354037267]
[null,54100,"屠戮战靴",4,0,4,"5#1684","5#1982",13,2,3,null,0,1,null,{"$f":"_xlfn.IFNA(VLOOKUP(L390,[2]汇总!A:C,3,0),\"\")","v":""},null,null,5,1684,null,5,1982,298,0.17695961995249407]
[null,54101,"妖王战靴",4,0,4,"5#1758","5#2069",13,2,3,null,0,1,null,{"$f":"_xlfn.IFNA(VLOOKUP(L391,[2]汇总!A:C,3,0),\"\")","v":""},null,null,5,1758,null,5,2069,311,0.17690557451649602]
[null,54102,"遗迹战靴",4,0,4,"5#1832","5#2156",13,2,3,null,0,1,null,{"$f":"_xlfn.IFNA(VLOOKUP(L392,[2]汇总!A:C,3,0),\"\")","v":""},null,null,5,1832,null,5,2156,324,0.17685589519650655]
[null,54103,"天启战靴",4,0,4,"5#1908","5#2245",13,2,3,null,0,1,null,{"$f":"_xlfn.IFNA(VLOOKUP(L393,[2]汇总!A:C,3,0),\"\")","v":""},null,null,5,1908,null,5,2245,337,0.17662473794549266]
[null,54104,"神行戒指",4,0,5,"2#221","2#260",21,2,3,null,0,1,null,{"$f":"_xlfn.IFNA(VLOOKUP(L394,[2]汇总!A:C,3,0),\"\")","v":""},null,null,2,221,null,2,260,39,0.17647058823529413]
[null,54105,"乘风戒指",4,0,5,"2#234","2#276",21,2,3,null,0,1,null,{"$f":"_xlfn.IFNA(VLOOKUP(L395,[2]汇总!A:C,3,0),\"\")","v":""},null,null,2,234,null,2,276,42,0.1794871794871795]
[null,54106,"光羽戒指",4,0,5,"2#248","2#292",21,2,3,null,0,1,null,{"$f":"_xlfn.IFNA(VLOOKUP(L396,[2]汇总!A:C,3,0),\"\")","v":""},null,null,2,248,null,2,292,44,0.1774193548387097]
[null,54107,"破空戒指",4,0,5,"2#261","2#308",21,2,3,null,0,1,null,{"$f":"_xlfn.IFNA(VLOOKUP(L397,[2]汇总!A:C,3,0),\"\")","v":""},null,null,2,261,null,2,308,47,0.18007662835249041]
[null,54108,"逐光戒指",4,0,5,"2#275","2#324",21,2,3,null,0,1,null,{"$f":"_xlfn.IFNA(VLOOKUP(L398,[2]汇总!A:C,3,0),\"\")","v":""},null,null,2,275,null,2,324,49,0.1781818181818182]
[null,54109,"轻尘戒指",4,0,5,"2#289","2#340",21,2,3,null,0,1,null,{"$f":"_xlfn.IFNA(VLOOKUP(L399,[2]汇总!A:C,3,0),\"\")","v":""},null,null,2,289,null,2,340,51,0.17647058823529413]
[null,54110,"洞察戒指",4,0,5,"2#302","2#356",21,2,3,null,0,1,null,{"$f":"_xlfn.IFNA(VLOOKUP(L400,[2]汇总!A:C,3,0),\"\")","v":""},null,null,2,302,null,2,356,54,0.17880794701986755]
[null,54111,"屠戮戒指",4,0,5,"2#316","2#372",21,2,3,null,0,1,null,{"$f":"_xlfn.IFNA(VLOOKUP(L401,[2]汇总!A:C,3,0),\"\")","v":""},null,null,2,316,null,2,372,56,0.17721518987341772]
[null,54112,"妖王戒指",4,0,5,"2#329","2#388",21,2,3,null,0,1,null,{"$f":"_xlfn.IFNA(VLOOKUP(L402,[2]汇总!A:C,3,0),\"\")","v":""},null,null,2,329,null,2,388,59,0.17933130699088146]
[null,54113,"遗迹戒指",4,0,5,"2#343","2#404",21,2,3,null,0,1,null,{"$f":"_xlfn.IFNA(VLOOKUP(L403,[2]汇总!A:C,3,0),\"\")","v":""},null,null,2,343,null,2,404,61,0.17784256559766765]
[null,54114,"天启戒指",4,0,5,"2#361","2#425",21,2,3,null,0,1,null,{"$f":"_xlfn.IFNA(VLOOKUP(L404,[2]汇总!A:C,3,0),\"\")","v":""},null,null,2,361,null,2,425,64,0.1772853185595568]
[null,54115,"神行束带",4,0,6,"1#1768","1#2080",22,2,3,null,0,1,null,{"$f":"_xlfn.IFNA(VLOOKUP(L405,[2]汇总!A:C,3,0),\"\")","v":""},null,null,1,1768,null,1,2080,312,0.17647058823529413]
[null,54116,"乘风束带",4,0,6,"1#1880","1#2212",22,2,3,null,0,1,null,{"$f":"_xlfn.IFNA(VLOOKUP(L406,[2]汇总!A:C,3,0),\"\")","v":""},null,null,1,1880,null,1,2212,332,0.17659574468085107]
[null,54117,"光羽束带",4,0,6,"1#1992","1#2344",22,2,3,null,0,1,null,{"$f":"_xlfn.IFNA(VLOOKUP(L407,[2]汇总!A:C,3,0),\"\")","v":""},null,null,1,1992,null,1,2344,352,0.17670682730923695]
[null,54118,"破空束带",4,0,6,"1#2104","1#2476",22,2,3,null,0,1,null,{"$f":"_xlfn.IFNA(VLOOKUP(L408,[2]汇总!A:C,3,0),\"\")","v":""},null,null,1,2104,null,1,2476,372,0.17680608365019013]
[null,54119,"逐光束带",4,0,6,"1#2216","1#2608",22,2,3,null,0,1,null,{"$f":"_xlfn.IFNA(VLOOKUP(L409,[2]汇总!A:C,3,0),\"\")","v":""},null,null,1,2216,null,1,2608,392,0.17689530685920576]
[null,54120,"轻尘束带",4,0,6,"1#2329","1#2740",22,2,3,null,0,1,null,{"$f":"_xlfn.IFNA(VLOOKUP(L410,[2]汇总!A:C,3,0),\"\")","v":""},null,null,1,2329,null,1,2740,411,0.17647058823529413]
[null,54121,"洞察束带",4,0,6,"1#2441","1#2872",22,2,3,null,0,1,null,{"$f":"_xlfn.IFNA(VLOOKUP(L411,[2]汇总!A:C,3,0),\"\")","v":""},null,null,1,2441,null,1,2872,431,0.17656698074559607]
[null,54122,"屠戮束带",4,0,6,"1#2553","1#3004",22,2,3,null,0,1,null,{"$f":"_xlfn.IFNA(VLOOKUP(L412,[2]汇总!A:C,3,0),\"\")","v":""},null,null,1,2553,null,1,3004,451,0.17665491578535056]
[null,54123,"妖王腰带",4,0,6,"1#2665","1#3136",22,2,3,null,0,1,null,{"$f":"_xlfn.IFNA(VLOOKUP(L413,[2]汇总!A:C,3,0),\"\")","v":""},null,null,1,2665,null,1,3136,471,0.17673545966228893]
[null,54124,"遗迹腰带",4,0,6,"1#2777","1#3268",22,2,3,null,0,1,null,{"$f":"_xlfn.IFNA(VLOOKUP(L414,[2]汇总!A:C,3,0),\"\")","v":""},null,null,1,2777,null,1,3268,491,0.17680950666186532]
[null,54125,"天启束带",4,0,6,"1#2890","1#3401",22,2,3,null,0,1,null,{"$f":"_xlfn.IFNA(VLOOKUP(L415,[2]汇总!A:C,3,0),\"\")","v":""},null,null,1,2890,null,1,3401,511,0.17681660899653978]
[null,55001,"断念神杖",5,3,1,"2#1440","2#1836",14,2,4,null,0,1,null,{"$f":"_xlfn.IFNA(VLOOKUP(L416,[2]汇总!A:C,3,0),\"\")","v":""},null,null,2,1440,null,2,1836]
[null,55002,"斩尘神杖",5,3,1,"2#1224","2#1440",14,2,4,null,0,1,null,{"$f":"_xlfn.IFNA(VLOOKUP(L417,[2]汇总!A:C,3,0),\"\")","v":""},null,null,2,1224,null,2,1440]
[null,55003,"凝墨神杖",5,3,1,"2#1254","2#1476",14,2,4,null,0,1,null,{"$f":"_xlfn.IFNA(VLOOKUP(L418,[2]汇总!A:C,3,0),\"\")","v":""},null,null,2,1254,null,2,1476]
[null,55004,"碎弦神杖",5,3,1,"2#1285","2#1512",14,3,3,null,0,1,null,{"$f":"_xlfn.IFNA(VLOOKUP(L419,[2]汇总!A:C,3,0),\"\")","v":""},null,null,2,1285,null,2,1512]
[null,55005,"星落神杖",5,3,1,"2#1315","2#1548",14,3,3,null,0,1,null,{"$f":"_xlfn.IFNA(VLOOKUP(L420,[2]汇总!A:C,3,0),\"\")","v":""},null,null,2,1315,null,2,1548]
[null,55006,"月耀神杖",5,3,1,"2#1377","2#1620",14,2,4,null,50,0,null,{"$f":"_xlfn.IFNA(VLOOKUP(L421,[2]汇总!A:C,3,0),\"\")","v":""},null,null,2,1377,null,2,1620]
[null,55007,"赤阳神杖",5,3,1,"2#1438","2#1692",14,2,4,null,60,0,null,{"$f":"_xlfn.IFNA(VLOOKUP(L422,[2]汇总!A:C,3,0),\"\")","v":""},null,null,2,1438,null,2,1692]
[null,55008,"神华神杖",5,3,1,"2#1499","2#1764",14,2,4,null,70,0,null,{"$f":"_xlfn.IFNA(VLOOKUP(L423,[2]汇总!A:C,3,0),\"\")","v":""},null,null,2,1499,null,2,1764]
[null,55009,"弹指神杖",5,3,1,"2#1560","2#1836",14,2,4,null,80,0,null,{"$f":"_xlfn.IFNA(VLOOKUP(L424,[2]汇总!A:C,3,0),\"\")","v":""},null,null,2,1560,null,2,1836]
[null,55010,"刹那神杖",5,3,1,"2#1468","2#1728",14,2,4,511004,0,1,1500,{"$f":"_xlfn.IFNA(VLOOKUP(L425,[2]汇总!A:C,3,0),\"\")","v":"战斗中，增加10%效果抵抗。"},null,null,2,1468,null,2,1728]
[null,55011,"一念神杖",5,3,1,"2#1509","2#1776",14,2,4,511005,0,1,1500,{"$f":"_xlfn.IFNA(VLOOKUP(L426,[2]汇总!A:C,3,0),\"\")","v":"战斗中，增加20%受到的治疗效果。"},null,null,2,1509,null,2,1776]
[null,55012,"须臾神杖",5,3,1,"2#1550","2#1824",14,2,4,511006,0,1,1500,{"$f":"_xlfn.IFNA(VLOOKUP(L427,[2]汇总!A:C,3,0),\"\")","v":"战斗中，增加20%最大生命值。"},null,null,2,1550,null,2,1824]
[null,55013,"劫火神杖",5,3,1,"2#1591","2#1872",14,2,4,511007,0,1,1500,{"$f":"_xlfn.IFNA(VLOOKUP(L428,[2]汇总!A:C,3,0),\"\")","v":"战斗中，增加20%抗暴率。"},null,null,2,1591,null,2,1872]
[null,55014,"破锋神杖",5,3,1,"2#1621","2#1908",31,4,4,null,0,1,null,{"$f":"_xlfn.IFNA(VLOOKUP(L429,[2]汇总!A:C,3,0),\"\")","v":""},null,null,2,1621,null,2,1908]
[null,55015,"寂灭神杖",5,3,1,"2#1662","2#1956",32,4,4,null,0,1,null,{"$f":"_xlfn.IFNA(VLOOKUP(L430,[2]汇总!A:C,3,0),\"\")","v":""},null,null,2,1662,null,2,1956]
[null,55016,"太玄神杖",5,3,1,"2#1703","2#2004",33,4,4,null,0,1,null,{"$f":"_xlfn.IFNA(VLOOKUP(L431,[2]汇总!A:C,3,0),\"\")","v":""},null,null,2,1703,null,2,2004]
[null,55017,"离恨神杖",5,3,1,"2#1744","2#2052",14,4,4,511008,0,1,1500,{"$f":"_xlfn.IFNA(VLOOKUP(L432,[2]汇总!A:C,3,0),\"\")","v":"战斗中，增加20%攻击力。"},null,null,2,1744,null,2,2052]
[null,55019,"归凡神杖",5,3,1,"2#1805","2#2124",14,4,4,511010,0,1,1500,{"$f":"_xlfn.IFNA(VLOOKUP(L433,[2]汇总!A:C,3,0),\"\")","v":"战斗中，增加10%暴击率。"},null,null,2,1805,null,2,2124]
[null,55021,"断念神剑",5,2,1,"2#1440","2#1836",14,2,4,null,0,1,null,{"$f":"_xlfn.IFNA(VLOOKUP(L434,[2]汇总!A:C,3,0),\"\")","v":""},null,null,2,1440,null,2,1836]
[null,55022,"斩尘神剑",5,2,1,"2#1224","2#1440",14,2,4,null,0,1,null,{"$f":"_xlfn.IFNA(VLOOKUP(L435,[2]汇总!A:C,3,0),\"\")","v":""},null,null,2,1224,null,2,1440]
[null,55023,"凝墨神剑",5,2,1,"2#1254","2#1476",14,2,4,null,0,1,null,{"$f":"_xlfn.IFNA(VLOOKUP(L436,[2]汇总!A:C,3,0),\"\")","v":""},null,null,2,1254,null,2,1476]
[null,55024,"碎弦神剑",5,2,1,"2#1285","2#1512",14,3,3,null,0,1,null,{"$f":"_xlfn.IFNA(VLOOKUP(L437,[2]汇总!A:C,3,0),\"\")","v":""},null,null,2,1285,null,2,1512]
[null,55025,"星落神剑",5,2,1,"2#1315","2#1548",14,3,3,null,0,1,null,{"$f":"_xlfn.IFNA(VLOOKUP(L438,[2]汇总!A:C,3,0),\"\")","v":""},null,null,2,1315,null,2,1548]
[null,55026,"月耀神刺",5,2,1,"2#1377","2#1620",14,2,4,null,50,0,null,{"$f":"_xlfn.IFNA(VLOOKUP(L439,[2]汇总!A:C,3,0),\"\")","v":""},null,null,2,1377,null,2,1620]
[null,55027,"赤阳神刺",5,2,1,"2#1438","2#1692",14,2,4,null,60,0,null,{"$f":"_xlfn.IFNA(VLOOKUP(L440,[2]汇总!A:C,3,0),\"\")","v":""},null,null,2,1438,null,2,1692]
[null,55028,"神华神刺",5,2,1,"2#1499","2#1764",14,2,4,null,70,0,null,{"$f":"_xlfn.IFNA(VLOOKUP(L441,[2]汇总!A:C,3,0),\"\")","v":""},null,null,2,1499,null,2,1764]
[null,55029,"弹指神刺",5,2,1,"2#1560","2#1836",14,2,4,null,80,0,null,{"$f":"_xlfn.IFNA(VLOOKUP(L442,[2]汇总!A:C,3,0),\"\")","v":""},null,null,2,1560,null,2,1836]
[null,55030,"刹那神刺",5,2,1,"2#1468","2#1728",14,2,4,512004,0,1,1500,{"$f":"_xlfn.IFNA(VLOOKUP(L443,[2]汇总!A:C,3,0),\"\")","v":"战斗中，增加10%效果抵抗。"},null,null,2,1468,null,2,1728]
[null,55031,"一念神刺",5,2,1,"2#1509","2#1776",14,2,4,512005,0,1,1500,{"$f":"_xlfn.IFNA(VLOOKUP(L444,[2]汇总!A:C,3,0),\"\")","v":"战斗中，增加20%受到的治疗效果。"},null,null,2,1509,null,2,1776]
[null,55032,"须臾神刺",5,2,1,"2#1550","2#1824",14,2,4,512006,0,1,1500,{"$f":"_xlfn.IFNA(VLOOKUP(L445,[2]汇总!A:C,3,0),\"\")","v":"战斗中，增加20%伤害。"},null,null,2,1550,null,2,1824]
[null,55033,"劫火神刺",5,2,1,"2#1591","2#1872",14,2,4,512007,0,1,1500,{"$f":"_xlfn.IFNA(VLOOKUP(L446,[2]汇总!A:C,3,0),\"\")","v":"战斗中，增加20%最大生命值。"},null,null,2,1591,null,2,1872]
[null,55034,"破锋神刺",5,2,1,"2#1621","2#1908",34,4,4,null,0,1,null,{"$f":"_xlfn.IFNA(VLOOKUP(L447,[2]汇总!A:C,3,0),\"\")","v":""},null,null,2,1621,null,2,1908]
[null,55035,"寂灭神刺",5,2,1,"2#1662","2#1956",35,4,4,null,0,1,null,{"$f":"_xlfn.IFNA(VLOOKUP(L448,[2]汇总!A:C,3,0),\"\")","v":""},null,null,2,1662,null,2,1956]
[null,55036,"太玄神刺",5,2,1,"2#1703","2#2004",36,4,4,null,0,1,null,{"$f":"_xlfn.IFNA(VLOOKUP(L449,[2]汇总!A:C,3,0),\"\")","v":""},null,null,2,1703,null,2,2004]
[null,55039,"归凡神刺",5,2,1,"2#1805","2#2124",14,4,4,512010,0,1,1500,{"$f":"_xlfn.IFNA(VLOOKUP(L450,[2]汇总!A:C,3,0),\"\")","v":"战斗中，增加10%暴击率。"},null,null,2,1805,null,2,2124]
[null,55040,"道衍神刺",5,2,1,"2#1836","2#2160",14,4,4,512011,0,1,1500,{"$f":"_xlfn.IFNA(VLOOKUP(L451,[2]汇总!A:C,3,0),\"\")","v":"战斗中，增加20%攻击力。"},null,null,2,1836,null,2,2160]
[null,55041,"断念神斧",5,1,1,"2#1440","2#1836",14,2,4,null,0,1,null,{"$f":"_xlfn.IFNA(VLOOKUP(L452,[2]汇总!A:C,3,0),\"\")","v":""},null,null,2,1440,null,2,1836]
[null,55042,"斩尘神斧",5,1,1,"2#1224","2#1440",14,2,4,null,0,1,null,{"$f":"_xlfn.IFNA(VLOOKUP(L453,[2]汇总!A:C,3,0),\"\")","v":""},null,null,2,1224,null,2,1440]
[null,55043,"凝墨神斧",5,1,1,"2#1254","2#1476",14,2,4,null,0,1,null,{"$f":"_xlfn.IFNA(VLOOKUP(L454,[2]汇总!A:C,3,0),\"\")","v":""},null,null,2,1254,null,2,1476]
[null,55044,"碎弦神斧",5,1,1,"2#1285","2#1512",14,3,3,null,0,1,null,{"$f":"_xlfn.IFNA(VLOOKUP(L455,[2]汇总!A:C,3,0),\"\")","v":""},null,null,2,1285,null,2,1512]
[null,55045,"星落神戟",5,1,1,"2#1315","2#1548",14,3,3,null,0,1,null,{"$f":"_xlfn.IFNA(VLOOKUP(L456,[2]汇总!A:C,3,0),\"\")","v":""},null,null,2,1315,null,2,1548]
[null,55046,"月耀神戟",5,1,1,"2#1377","2#1620",14,2,4,null,50,0,null,{"$f":"_xlfn.IFNA(VLOOKUP(L457,[2]汇总!A:C,3,0),\"\")","v":""},null,null,2,1377,null,2,1620]
[null,55047,"赤阳神戟",5,1,1,"2#1438","2#1692",14,2,4,null,60,0,null,{"$f":"_xlfn.IFNA(VLOOKUP(L458,[2]汇总!A:C,3,0),\"\")","v":""},null,null,2,1438,null,2,1692]
[null,55048,"神华神戟",5,1,1,"2#1499","2#1764",14,2,4,null,70,0,null,{"$f":"_xlfn.IFNA(VLOOKUP(L459,[2]汇总!A:C,3,0),\"\")","v":""},null,null,2,1499,null,2,1764]
[null,55049,"弹指神矛",5,1,1,"2#1560","2#1836",14,2,4,null,80,0,null,{"$f":"_xlfn.IFNA(VLOOKUP(L460,[2]汇总!A:C,3,0),\"\")","v":""},null,null,2,1560,null,2,1836]
[null,55050,"刹那神矛",5,1,1,"2#1468","2#1728",14,2,4,513004,0,1,1500,{"$f":"_xlfn.IFNA(VLOOKUP(L461,[2]汇总!A:C,3,0),\"\")","v":"战斗中，增加20%护甲。"},null,null,2,1468,null,2,1728]
[null,55051,"一念神矛",5,1,1,"2#1509","2#1776",14,2,4,513005,0,1,1500,{"$f":"_xlfn.IFNA(VLOOKUP(L462,[2]汇总!A:C,3,0),\"\")","v":"战斗中，增加20%魔抗。"},null,null,2,1509,null,2,1776]
[null,55052,"须臾神矛",5,1,1,"2#1550","2#1824",14,2,4,513006,0,1,1500,{"$f":"_xlfn.IFNA(VLOOKUP(L463,[2]汇总!A:C,3,0),\"\")","v":"战斗中，增加20%最大生命值。"},null,null,2,1550,null,2,1824]
[null,55053,"劫火神戟",5,1,1,"2#1591","2#1872",14,2,4,513007,0,1,1500,{"$f":"_xlfn.IFNA(VLOOKUP(L464,[2]汇总!A:C,3,0),\"\")","v":"战斗中，增加20%抗暴率。"},null,null,2,1591,null,2,1872]
[null,55054,"破锋神戟",5,1,1,"2#1621","2#1908",25,4,4,null,0,1,null,{"$f":"_xlfn.IFNA(VLOOKUP(L465,[2]汇总!A:C,3,0),\"\")","v":""},null,null,2,1621,null,2,1908]
[null,55055,"寂灭神戟",5,1,1,"2#1662","2#1956",26,4,4,null,0,1,null,{"$f":"_xlfn.IFNA(VLOOKUP(L466,[2]汇总!A:C,3,0),\"\")","v":""},null,null,2,1662,null,2,1956]
[null,55056,"太玄神戟",5,1,1,"2#1703","2#2004",27,4,4,null,0,1,null,{"$f":"_xlfn.IFNA(VLOOKUP(L467,[2]汇总!A:C,3,0),\"\")","v":""},null,null,2,1703,null,2,2004]
[null,55059,"归凡神戟",5,1,1,"2#1805","2#2124",14,4,4,513010,0,1,1500,{"$f":"_xlfn.IFNA(VLOOKUP(L468,[2]汇总!A:C,3,0),\"\")","v":"战斗中，增加20%最大生命值。"},null,null,2,1805,null,2,2124]
[null,55060,"道衍神戟",5,1,1,"2#1836","2#2160",14,4,4,513011,0,1,1500,{"$f":"_xlfn.IFNA(VLOOKUP(L469,[2]汇总!A:C,3,0),\"\")","v":"战斗中，增加20%伤害减免。"},null,null,2,1836,null,2,2160]
[null,55061,"断念古剑",5,4,1,"2#1440","2#1836",14,2,4,null,0,1,null,{"$f":"_xlfn.IFNA(VLOOKUP(L470,[2]汇总!A:C,3,0),\"\")","v":""},null,null,2,1440,null,2,1836]
[null,55062,"斩尘古剑",5,4,1,"2#1224","2#1440",14,2,4,null,0,1,null,{"$f":"_xlfn.IFNA(VLOOKUP(L471,[2]汇总!A:C,3,0),\"\")","v":""},null,null,2,1224,null,2,1440]
[null,55063,"凝墨古剑",5,4,1,"2#1254","2#1476",14,2,4,null,0,1,null,{"$f":"_xlfn.IFNA(VLOOKUP(L472,[2]汇总!A:C,3,0),\"\")","v":""},null,null,2,1254,null,2,1476]
[null,55064,"碎弦古剑",5,4,1,"2#1285","2#1512",14,3,3,null,0,1,null,{"$f":"_xlfn.IFNA(VLOOKUP(L473,[2]汇总!A:C,3,0),\"\")","v":""},null,null,2,1285,null,2,1512]
[null,55065,"星落古剑",5,4,1,"2#1315","2#1548",14,3,3,null,0,1,null,{"$f":"_xlfn.IFNA(VLOOKUP(L474,[2]汇总!A:C,3,0),\"\")","v":""},null,null,2,1315,null,2,1548]
[null,55066,"月耀古剑",5,4,1,"2#1377","2#1620",14,2,4,null,50,0,null,{"$f":"_xlfn.IFNA(VLOOKUP(L475,[2]汇总!A:C,3,0),\"\")","v":""},null,null,2,1377,null,2,1620]
[null,55067,"赤阳古剑",5,4,1,"2#1438","2#1692",14,2,4,null,60,0,null,{"$f":"_xlfn.IFNA(VLOOKUP(L476,[2]汇总!A:C,3,0),\"\")","v":""},null,null,2,1438,null,2,1692]
[null,55068,"神华古剑",5,4,1,"2#1499","2#1764",14,2,4,null,70,0,null,{"$f":"_xlfn.IFNA(VLOOKUP(L477,[2]汇总!A:C,3,0),\"\")","v":""},null,null,2,1499,null,2,1764]
[null,55069,"弹指古剑",5,4,1,"2#1560","2#1836",14,2,4,null,80,0,null,{"$f":"_xlfn.IFNA(VLOOKUP(L478,[2]汇总!A:C,3,0),\"\")","v":""},null,null,2,1560,null,2,1836]
[null,55070,"刹那古剑",5,4,1,"2#1468","2#1728",14,2,4,514004,0,1,1500,{"$f":"_xlfn.IFNA(VLOOKUP(L479,[2]汇总!A:C,3,0),\"\")","v":"战斗中，增加10%效果抵抗。"},null,null,2,1468,null,2,1728]
[null,55071,"一念古剑",5,4,1,"2#1509","2#1776",14,2,4,514005,0,1,1500,{"$f":"_xlfn.IFNA(VLOOKUP(L480,[2]汇总!A:C,3,0),\"\")","v":"战斗中，增加20%受到的治疗效果。"},null,null,2,1509,null,2,1776]
[null,55072,"须臾古剑",5,4,1,"2#1550","2#1824",14,2,4,514006,0,1,1500,{"$f":"_xlfn.IFNA(VLOOKUP(L481,[2]汇总!A:C,3,0),\"\")","v":"战斗中，增加20%伤害减免。"},null,null,2,1550,null,2,1824]
[null,55073,"劫火古剑",5,4,1,"2#1591","2#1872",14,2,4,514007,0,1,1500,{"$f":"_xlfn.IFNA(VLOOKUP(L482,[2]汇总!A:C,3,0),\"\")","v":"战斗中，增加20%最大生命值。"},null,null,2,1591,null,2,1872]
[null,55074,"破锋古剑",5,4,1,"2#1621","2#1908",37,4,4,null,0,1,null,{"$f":"_xlfn.IFNA(VLOOKUP(L483,[2]汇总!A:C,3,0),\"\")","v":""},null,null,2,1621,null,2,1908]
[null,55075,"寂灭古剑",5,4,1,"2#1662","2#1956",38,4,4,null,0,1,null,{"$f":"_xlfn.IFNA(VLOOKUP(L484,[2]汇总!A:C,3,0),\"\")","v":""},null,null,2,1662,null,2,1956]
[null,55076,"太玄古剑",5,4,1,"2#1703","2#2004",39,4,4,null,0,1,null,{"$f":"_xlfn.IFNA(VLOOKUP(L485,[2]汇总!A:C,3,0),\"\")","v":""},null,null,2,1703,null,2,2004]
[null,55078,"无始古剑",5,4,1,"2#1774","2#2088",14,4,4,514009,0,1,1500,{"$f":"_xlfn.IFNA(VLOOKUP(L486,[2]汇总!A:C,3,0),\"\")","v":"战斗中，增加1056点速度。"},null,null,2,1774,null,2,2088]
[null,55080,"道衍古剑",5,4,1,"2#1836","2#2160",14,4,4,514011,0,1,1500,{"$f":"_xlfn.IFNA(VLOOKUP(L487,[2]汇总!A:C,3,0),\"\")","v":"战斗中，增加20%攻击力。"},null,null,2,1836,null,2,2160]
[null,55081,"断念钟",5,5,1,"2#1440","2#1836",14,2,4,null,0,1,null,{"$f":"_xlfn.IFNA(VLOOKUP(L488,[2]汇总!A:C,3,0),\"\")","v":""},null,null,2,1440,null,2,1836]
[null,55082,"斩尘尺",5,5,1,"2#1224","2#1440",14,2,4,null,0,1,null,{"$f":"_xlfn.IFNA(VLOOKUP(L489,[2]汇总!A:C,3,0),\"\")","v":""},null,null,2,1224,null,2,1440]
[null,55083,"凝墨瓶",5,5,1,"2#1254","2#1476",14,2,4,null,0,1,null,{"$f":"_xlfn.IFNA(VLOOKUP(L490,[2]汇总!A:C,3,0),\"\")","v":""},null,null,2,1254,null,2,1476]
[null,55084,"碎弦琴",5,5,1,"2#1285","2#1512",14,3,3,null,0,1,null,{"$f":"_xlfn.IFNA(VLOOKUP(L491,[2]汇总!A:C,3,0),\"\")","v":""},null,null,2,1285,null,2,1512]
[null,55085,"星落圣典",5,5,1,"2#1315","2#1548",14,3,3,null,0,1,null,{"$f":"_xlfn.IFNA(VLOOKUP(L492,[2]汇总!A:C,3,0),\"\")","v":""},null,null,2,1315,null,2,1548]
[null,55086,"月耀圣典",5,5,1,"2#1377","2#1620",14,2,4,null,50,0,null,{"$f":"_xlfn.IFNA(VLOOKUP(L493,[2]汇总!A:C,3,0),\"\")","v":""},null,null,2,1377,null,2,1620]
[null,55087,"赤阳圣典",5,5,1,"2#1438","2#1692",14,2,4,null,60,0,null,{"$f":"_xlfn.IFNA(VLOOKUP(L494,[2]汇总!A:C,3,0),\"\")","v":""},null,null,2,1438,null,2,1692]
[null,55088,"神华宝录",5,5,1,"2#1499","2#1764",14,2,4,null,70,0,null,{"$f":"_xlfn.IFNA(VLOOKUP(L495,[2]汇总!A:C,3,0),\"\")","v":""},null,null,2,1499,null,2,1764]
[null,55089,"弹指宝录",5,5,1,"2#1560","2#1836",14,2,4,null,80,0,null,{"$f":"_xlfn.IFNA(VLOOKUP(L496,[2]汇总!A:C,3,0),\"\")","v":""},null,null,2,1560,null,2,1836]
[null,55090,"刹那宝录",5,5,1,"2#1468","2#1728",14,2,4,515004,0,1,1500,{"$f":"_xlfn.IFNA(VLOOKUP(L497,[2]汇总!A:C,3,0),\"\")","v":"战斗中，增加10%效果抵抗。"},null,null,2,1468,null,2,1728]
[null,55091,"一念宝录",5,5,1,"2#1509","2#1776",14,2,4,515005,0,1,1500,{"$f":"_xlfn.IFNA(VLOOKUP(L498,[2]汇总!A:C,3,0),\"\")","v":"战斗中，增加10%效果命中。"},null,null,2,1509,null,2,1776]
[null,55092,"须臾宝录",5,5,1,"2#1550","2#1824",14,2,4,515006,0,1,1500,{"$f":"_xlfn.IFNA(VLOOKUP(L499,[2]汇总!A:C,3,0),\"\")","v":"战斗中，增加20%最大生命值。"},null,null,2,1550,null,2,1824]
[null,55093,"劫火宝录",5,5,1,"2#1591","2#1872",14,2,4,515007,0,1,1500,{"$f":"_xlfn.IFNA(VLOOKUP(L500,[2]汇总!A:C,3,0),\"\")","v":"战斗中，增加20%抗暴率。"},null,null,2,1591,null,2,1872]
[null,55094,"破锋宝录",5,5,1,"2#1621","2#1908",28,4,4,null,0,1,null,{"$f":"_xlfn.IFNA(VLOOKUP(L501,[2]汇总!A:C,3,0),\"\")","v":""},null,null,2,1621,null,2,1908]
[null,55095,"寂灭宝录",5,5,1,"2#1662","2#1956",29,4,4,null,0,1,null,{"$f":"_xlfn.IFNA(VLOOKUP(L502,[2]汇总!A:C,3,0),\"\")","v":""},null,null,2,1662,null,2,1956]
[null,55096,"太玄宝录",5,5,1,"2#1703","2#2004",30,4,4,null,0,1,null,{"$f":"_xlfn.IFNA(VLOOKUP(L503,[2]汇总!A:C,3,0),\"\")","v":""},null,null,2,1703,null,2,2004]
[null,55098,"无始宝录",5,5,1,"2#1774","2#2088",14,4,4,515009,0,1,1500,{"$f":"_xlfn.IFNA(VLOOKUP(L504,[2]汇总!A:C,3,0),\"\")","v":"战斗中，增加20%治疗量。"},null,null,2,1774,null,2,2088]
[null,55099,"归凡宝录",5,5,1,"2#1805","2#2124",14,4,4,515010,0,1,1500,{"$f":"_xlfn.IFNA(VLOOKUP(L505,[2]汇总!A:C,3,0),\"\")","v":"战斗中，增加10%暴击率。"},null,null,2,1805,null,2,2124]
[null,55101,"虬龙仙甲",5,0,2,"3#1326","3#1560",15,2,4,null,0,1,null,{"$f":"_xlfn.IFNA(VLOOKUP(L506,[2]汇总!A:C,3,0),\"\")","v":""},null,null,3,1326,null,3,1560]
["合成",55102,"神凰羽衣",5,0,2,"3#1436","3#1690",15,0,0,null,0,0,null,{"$f":"_xlfn.IFNA(VLOOKUP(L507,[2]汇总!A:C,3,0),\"\")","v":""},null,null,3,1436,null,3,1690]
["合成",55103,"饕餮战衣",5,0,2,"3#1547","3#1820",15,0,0,null,0,0,null,{"$f":"_xlfn.IFNA(VLOOKUP(L508,[2]汇总!A:C,3,0),\"\")","v":""},null,null,3,1547,null,3,1820]
[null,55105,"微澜羽衣",5,0,2,"3#1768","3#2080",15,2,4,null,0,1,null,{"$f":"_xlfn.IFNA(VLOOKUP(L509,[2]汇总!A:C,3,0),\"\")","v":""},null,null,3,1768,null,3,2080]
[null,55106,"无垠罩衣",5,0,2,"3#1878","3#2210",15,2,4,null,0,1,null,{"$f":"_xlfn.IFNA(VLOOKUP(L510,[2]汇总!A:C,3,0),\"\")","v":""},null,null,3,1878,null,3,2210]
[null,55107,"黑狱战甲",5,0,2,"3#1989","3#2340",15,2,4,null,0,1,null,{"$f":"_xlfn.IFNA(VLOOKUP(L511,[2]汇总!A:C,3,0),\"\")","v":""},null,null,3,1989,null,3,2340]
[null,55108,"诸天神甲",5,0,2,"4#1326","4#1560",15,2,4,null,0,1,null,{"$f":"_xlfn.IFNA(VLOOKUP(L512,[2]汇总!A:C,3,0),\"\")","v":""},null,null,4,1326,null,4,1560]
["合成",55109,"轮回羽衣",5,0,2,"4#1436","4#1690",15,0,0,null,0,0,null,{"$f":"_xlfn.IFNA(VLOOKUP(L513,[2]汇总!A:C,3,0),\"\")","v":""},null,null,4,1436,null,4,1690]
[null,55110,"盘龙战甲",5,0,2,"4#1547","4#1820",15,4,4,520004,0,1,1500,{"$f":"_xlfn.IFNA(VLOOKUP(L514,[2]汇总!A:C,3,0),\"\")","v":"死亡时，立即回复己方全体60%攻击力的血量。"},null,null,4,1547,null,4,1820]
[null,55111,"玄冥战甲",5,0,2,"4#1657","4#1950",15,2,4,null,0,1,null,{"$f":"_xlfn.IFNA(VLOOKUP(L515,[2]汇总!A:C,3,0),\"\")","v":""},null,null,4,1657,null,4,1950]
[null,55112,"千霄战甲",5,0,2,"4#1768","4#2080",15,3,3,null,0,1,null,{"$f":"_xlfn.IFNA(VLOOKUP(L516,[2]汇总!A:C,3,0),\"\")","v":""},null,null,4,1768,null,4,2080]
[null,55113,"麒麟战甲",5,0,2,"4#1878","4#2210",15,3,3,null,0,1,null,{"$f":"_xlfn.IFNA(VLOOKUP(L517,[2]汇总!A:C,3,0),\"\")","v":""},null,null,4,1878,null,4,2210]
[null,55114,"应龙战甲",5,0,2,"4#1989","4#2340",15,3,3,null,0,1,null,{"$f":"_xlfn.IFNA(VLOOKUP(L518,[2]汇总!A:C,3,0),\"\")","v":""},null,null,4,1989,null,4,2340]
[null,55115,"九霄华裳",5,0,2,"3#1690","3#1989",16,2,4,520007,0,1,1500,{"$f":"_xlfn.IFNA(VLOOKUP(L519,[2]汇总!A:C,3,0),\"\")","v":"每1秒，增加5%护甲和魔抗，最高叠加10层。"},null,null,3,1690,null,3,1989]
[null,55116,"灵犀头巾",5,0,3,"1#12240","1#14400",17,2,4,null,0,1,null,{"$f":"_xlfn.IFNA(VLOOKUP(L520,[2]汇总!A:C,3,0),\"\")","v":""},null,null,1,12240,null,1,14400]
[null,55117,"霞凤羽冠",5,0,3,"1#12676","1#14914",17,2,4,null,0,1,null,{"$f":"_xlfn.IFNA(VLOOKUP(L521,[2]汇总!A:C,3,0),\"\")","v":""},null,null,1,12676,null,1,14914]
[null,55118,"螭吻战盔",5,0,3,"1#13113","1#15428",17,2,4,null,0,1,null,{"$f":"_xlfn.IFNA(VLOOKUP(L522,[2]汇总!A:C,3,0),\"\")","v":""},null,null,1,13113,null,1,15428]
[null,55119,"白虎神盔",5,0,3,"1#13550","1#15942",17,2,4,null,0,1,null,{"$f":"_xlfn.IFNA(VLOOKUP(L523,[2]汇总!A:C,3,0),\"\")","v":""},null,null,1,13550,null,1,15942]
[null,55120,"青萍头冠",5,0,3,"1#13987","1#16456",17,2,4,null,0,1,null,{"$f":"_xlfn.IFNA(VLOOKUP(L524,[2]汇总!A:C,3,0),\"\")","v":""},null,null,1,13987,null,1,16456]
[null,55121,"若水罩帽",5,0,3,"1#14424","1#16970",17,2,4,null,0,1,null,{"$f":"_xlfn.IFNA(VLOOKUP(L525,[2]汇总!A:C,3,0),\"\")","v":""},null,null,1,14424,null,1,16970]
[null,55122,"阎罗冠冕",5,0,3,"1#14861","1#17484",17,2,4,null,0,1,null,{"$f":"_xlfn.IFNA(VLOOKUP(L526,[2]汇总!A:C,3,0),\"\")","v":""},null,null,1,14861,null,1,17484]
[null,55123,"神霄战盔",5,0,3,"1#15298","1#17998",17,2,4,530003,0,1,1500,{"$f":"_xlfn.IFNA(VLOOKUP(L527,[2]汇总!A:C,3,0),\"\")","v":"自身增益效果超过3个时，技能伤害提升50%。"},null,null,1,15298,null,1,17998]
[null,55124,"涅槃羽冠",5,0,3,"1#15735","1#18512",17,2,4,null,0,1,null,{"$f":"_xlfn.IFNA(VLOOKUP(L528,[2]汇总!A:C,3,0),\"\")","v":""},null,null,1,15735,null,1,18512]
[null,55125,"盘龙战盔",5,0,3,"1#16172","1#19026",17,3,3,null,0,1,null,{"$f":"_xlfn.IFNA(VLOOKUP(L529,[2]汇总!A:C,3,0),\"\")","v":""},null,null,1,16172,null,1,19026]
[null,55126,"玄冥战盔",5,0,3,"1#16609","1#19540",17,3,3,null,0,1,null,{"$f":"_xlfn.IFNA(VLOOKUP(L530,[2]汇总!A:C,3,0),\"\")","v":""},null,null,1,16609,null,1,19540]
[null,55127,"千霄战盔",5,0,3,"1#17045","1#20054",17,3,3,null,0,1,null,{"$f":"_xlfn.IFNA(VLOOKUP(L531,[2]汇总!A:C,3,0),\"\")","v":""},null,null,1,17045,null,1,20054]
[null,55130,"九霄华冠",5,0,3,"1#18360","1#21600",17,4,4,530006,0,1,1500,{"$f":"_xlfn.IFNA(VLOOKUP(L532,[2]汇总!A:C,3,0),\"\")","v":"免疫所有持续伤害状态。"},null,null,1,18360,null,1,21600]
[null,55131,"青麟羽鞋",5,0,4,"5#2154","5#2534",18,2,4,null,0,1,null,{"$f":"_xlfn.IFNA(VLOOKUP(L533,[2]汇总!A:C,3,0),\"\")","v":""},null,null,5,2154,null,5,2534]
[null,55132,"鸿鹄羽靴",5,0,4,"5#2230","5#2624",18,2,4,null,0,1,null,{"$f":"_xlfn.IFNA(VLOOKUP(L534,[2]汇总!A:C,3,0),\"\")","v":""},null,null,5,2230,null,5,2624]
[null,55133,"霸下战靴",5,0,4,"5#2306","5#2714",18,2,4,null,0,1,null,{"$f":"_xlfn.IFNA(VLOOKUP(L535,[2]汇总!A:C,3,0),\"\")","v":""},null,null,5,2306,null,5,2714]
[null,55134,"青龙神靴",5,0,4,"5#2383","5#2804",18,2,4,null,0,1,null,{"$f":"_xlfn.IFNA(VLOOKUP(L536,[2]汇总!A:C,3,0),\"\")","v":""},null,null,5,2383,null,5,2804]
[null,55135,"踏雪丝履",5,0,4,"5#2459","5#2894",18,2,4,null,0,1,null,{"$f":"_xlfn.IFNA(VLOOKUP(L537,[2]汇总!A:C,3,0),\"\")","v":""},null,null,5,2459,null,5,2894]
[null,55136,"潋滟轻履",5,0,4,"5#2536","5#2984",18,2,4,null,0,1,null,{"$f":"_xlfn.IFNA(VLOOKUP(L538,[2]汇总!A:C,3,0),\"\")","v":""},null,null,5,2536,null,5,2984]
[null,55137,"深渊战靴",5,0,4,"5#2612","5#3074",18,2,4,null,0,1,null,{"$f":"_xlfn.IFNA(VLOOKUP(L539,[2]汇总!A:C,3,0),\"\")","v":""},null,null,5,2612,null,5,3074]
[null,55138,"九幽战靴",5,0,4,"5#2689","5#3164",18,2,4,null,0,1,null,{"$f":"_xlfn.IFNA(VLOOKUP(L540,[2]汇总!A:C,3,0),\"\")","v":""},null,null,5,2689,null,5,3164]
[null,55139,"往生羽鞋",5,0,4,"5#2765","5#3254",18,3,3,null,0,1,null,{"$f":"_xlfn.IFNA(VLOOKUP(L541,[2]汇总!A:C,3,0),\"\")","v":""},null,null,5,2765,null,5,3254]
[null,55140,"盘龙战靴",5,0,4,"5#2842","5#3344",18,3,3,null,0,1,null,{"$f":"_xlfn.IFNA(VLOOKUP(L542,[2]汇总!A:C,3,0),\"\")","v":""},null,null,5,2842,null,5,3344]
[null,55141,"玄冥战靴",5,0,4,"5#2918","5#3434",18,3,3,null,0,1,null,{"$f":"_xlfn.IFNA(VLOOKUP(L543,[2]汇总!A:C,3,0),\"\")","v":""},null,null,5,2918,null,5,3434]
["合成",55142,"千霄战靴",5,0,4,"5#2995","5#3524",18,0,0,null,0,1,null,{"$f":"_xlfn.IFNA(VLOOKUP(L544,[2]汇总!A:C,3,0),\"\")","v":""},null,null,5,2995,null,5,3524]
["合成",55143,"麒麟战靴",5,0,4,"5#3071","5#3614",18,0,0,null,0,0,null,{"$f":"_xlfn.IFNA(VLOOKUP(L545,[2]汇总!A:C,3,0),\"\")","v":""},null,null,5,3071,null,5,3614]
["合成",55144,"应龙战靴",5,0,4,"5#3148","5#3704",18,0,0,null,0,0,null,{"$f":"_xlfn.IFNA(VLOOKUP(L546,[2]汇总!A:C,3,0),\"\")","v":""},null,null,5,3148,null,5,3704]
["合成",55145,"九霄华履",5,0,4,"5#3230","5#3801",18,0,0,null,0,0,null,{"$f":"_xlfn.IFNA(VLOOKUP(L547,[2]汇总!A:C,3,0),\"\")","v":""},null,null,5,3230,null,5,3801]
[null,55146,"瑞兽戒指",5,0,5,"2#408","2#480",23,2,4,null,0,1,null,{"$f":"_xlfn.IFNA(VLOOKUP(L548,[2]汇总!A:C,3,0),\"\")","v":""},null,null,2,408,null,2,480]
[null,55147,"神兽戒指",5,0,5,"2#422","2#497",23,2,4,null,0,1,null,{"$f":"_xlfn.IFNA(VLOOKUP(L549,[2]汇总!A:C,3,0),\"\")","v":""},null,null,2,422,null,2,497]
[null,55148,"狴犴戒指",5,0,5,"2#436","2#514",23,2,4,null,0,1,null,{"$f":"_xlfn.IFNA(VLOOKUP(L550,[2]汇总!A:C,3,0),\"\")","v":""},null,null,2,436,null,2,514]
[null,55149,"四象戒指",5,0,5,"2#451","2#531",23,2,4,null,0,1,null,{"$f":"_xlfn.IFNA(VLOOKUP(L551,[2]汇总!A:C,3,0),\"\")","v":""},null,null,2,451,null,2,531]
[null,55150,"摘星戒指",5,0,5,"2#465","2#548",23,2,4,null,0,1,null,{"$f":"_xlfn.IFNA(VLOOKUP(L552,[2]汇总!A:C,3,0),\"\")","v":""},null,null,2,465,null,2,548]
[null,55151,"若水戒指",5,0,5,"2#480","2#565",23,2,4,null,0,1,null,{"$f":"_xlfn.IFNA(VLOOKUP(L553,[2]汇总!A:C,3,0),\"\")","v":""},null,null,2,480,null,2,565]
[null,55152,"阎魔戒指",5,0,5,"2#494","2#582",23,2,4,null,0,1,null,{"$f":"_xlfn.IFNA(VLOOKUP(L554,[2]汇总!A:C,3,0),\"\")","v":""},null,null,2,494,null,2,582]
[null,55153,"诀别戒指",5,0,5,"2#509","2#599",23,3,3,null,0,1,null,{"$f":"_xlfn.IFNA(VLOOKUP(L555,[2]汇总!A:C,3,0),\"\")","v":""},null,null,2,509,null,2,599]
[null,55154,"预兆戒指",5,0,5,"2#523","2#616",23,3,3,null,0,1,null,{"$f":"_xlfn.IFNA(VLOOKUP(L556,[2]汇总!A:C,3,0),\"\")","v":""},null,null,2,523,null,2,616]
[null,55155,"盘龙戒指",5,0,5,"2#538","2#633",23,3,3,null,0,1,null,{"$f":"_xlfn.IFNA(VLOOKUP(L557,[2]汇总!A:C,3,0),\"\")","v":""},null,null,2,538,null,2,633]
[null,55156,"玄冥戒指",5,0,5,"2#552","2#650",23,4,4,null,0,1,null,{"$f":"_xlfn.IFNA(VLOOKUP(L558,[2]汇总!A:C,3,0),\"\")","v":""},null,null,2,552,null,2,650]
[null,55157,"千霄戒指",5,0,5,"2#566","2#667",23,4,4,null,0,1,null,{"$f":"_xlfn.IFNA(VLOOKUP(L559,[2]汇总!A:C,3,0),\"\")","v":""},null,null,2,566,null,2,667]
["合成",55158,"麒麟戒指",5,0,5,"2#581","2#684",23,0,0,null,0,1,null,{"$f":"_xlfn.IFNA(VLOOKUP(L560,[2]汇总!A:C,3,0),\"\")","v":""},null,null,2,581,null,2,684]
["合成",55159,"应龙戒指",5,0,5,"2#595","2#701",23,0,0,null,0,1,null,{"$f":"_xlfn.IFNA(VLOOKUP(L561,[2]汇总!A:C,3,0),\"\")","v":""},null,null,2,595,null,2,701]
["合成",55160,"九霄神戒",5,0,5,"2#612","2#720",23,0,0,null,0,1,null,{"$f":"_xlfn.IFNA(VLOOKUP(L562,[2]汇总!A:C,3,0),\"\")","v":""},null,null,2,612,null,2,720]
[null,55161,"空蝉束带",5,0,6,"1#3264","1#3840",24,2,4,null,0,1,null,{"$f":"_xlfn.IFNA(VLOOKUP(L563,[2]汇总!A:C,3,0),\"\")","v":""},null,null,1,3264,null,1,3840]
[null,55162,"鲲鹏羽带",5,0,6,"1#3380","1#3977",24,2,4,null,0,1,null,{"$f":"_xlfn.IFNA(VLOOKUP(L564,[2]汇总!A:C,3,0),\"\")","v":""},null,null,1,3380,null,1,3977]
[null,55163,"睚眦战扣",5,0,6,"1#3496","1#4114",24,2,4,null,0,1,null,{"$f":"_xlfn.IFNA(VLOOKUP(L565,[2]汇总!A:C,3,0),\"\")","v":""},null,null,1,3496,null,1,4114]
[null,55164,"玄武神扣",5,0,6,"1#3613","1#4251",24,2,4,null,0,1,null,{"$f":"_xlfn.IFNA(VLOOKUP(L566,[2]汇总!A:C,3,0),\"\")","v":""},null,null,1,3613,null,1,4251]
[null,55165,"獬豸束带",5,0,6,"1#3729","1#4388",24,2,4,null,0,1,null,{"$f":"_xlfn.IFNA(VLOOKUP(L567,[2]汇总!A:C,3,0),\"\")","v":""},null,null,1,3729,null,1,4388]
[null,55166,"流泉束带",5,0,6,"1#3846","1#4525",24,2,4,null,0,1,null,{"$f":"_xlfn.IFNA(VLOOKUP(L568,[2]汇总!A:C,3,0),\"\")","v":""},null,null,1,3846,null,1,4525]
[null,55167,"六道束带",5,0,6,"1#3962","1#4662",24,2,4,null,0,1,null,{"$f":"_xlfn.IFNA(VLOOKUP(L569,[2]汇总!A:C,3,0),\"\")","v":""},null,null,1,3962,null,1,4662]
[null,55168,"黄泉扣带",5,0,6,"1#4079","1#4799",24,3,3,null,0,1,null,{"$f":"_xlfn.IFNA(VLOOKUP(L570,[2]汇总!A:C,3,0),\"\")","v":""},null,null,1,4079,null,1,4799]
[null,55169,"神蜕束带",5,0,6,"1#4195","1#4936",24,3,3,null,0,1,null,{"$f":"_xlfn.IFNA(VLOOKUP(L571,[2]汇总!A:C,3,0),\"\")","v":""},null,null,1,4195,null,1,4936]
[null,55170,"盘龙束带",5,0,6,"1#4312","1#5073",24,3,3,null,0,1,null,{"$f":"_xlfn.IFNA(VLOOKUP(L572,[2]汇总!A:C,3,0),\"\")","v":""},null,null,1,4312,null,1,5073]
[null,55171,"玄冥束带",5,0,6,"1#4428","1#5210",24,4,4,null,0,1,null,{"$f":"_xlfn.IFNA(VLOOKUP(L573,[2]汇总!A:C,3,0),\"\")","v":""},null,null,1,4428,null,1,5210]
[null,55172,"千霄束带",5,0,6,"1#4544","1#5347",24,4,4,null,0,1,null,{"$f":"_xlfn.IFNA(VLOOKUP(L574,[2]汇总!A:C,3,0),\"\")","v":""},null,null,1,4544,null,1,5347]
["合成",55173,"麒麟束带",5,0,6,"1#4661","1#5484",24,0,0,null,0,1,null,{"$f":"_xlfn.IFNA(VLOOKUP(L575,[2]汇总!A:C,3,0),\"\")","v":""},null,null,1,4661,null,1,5484]
["合成",55174,"应龙束带",5,0,6,"1#4777","1#5621",24,0,0,null,0,1,null,{"$f":"_xlfn.IFNA(VLOOKUP(L576,[2]汇总!A:C,3,0),\"\")","v":""},null,null,1,4777,null,1,5621]
["合成",55175,"九霄玉扣",5,0,6,"1#4896","1#5760",24,0,0,null,0,1,null,{"$f":"_xlfn.IFNA(VLOOKUP(L577,[2]汇总!A:C,3,0),\"\")","v":""},null,null,1,4896,null,1,5760]
["工坊合成垃圾",63001,"乌木法杖",3,3,1,"2#408","2#480",3,0,1,null,0,0,{"$nulls":4},2,408,null,2,480]
["工坊合成垃圾",63015,"乌木短剑",3,2,1,"2#408","2#480",3,0,1,null,0,0,{"$nulls":4},2,408,null,2,480]
["工坊合成垃圾",63029,"乌木大斧",3,1,1,"2#408","2#480",3,0,1,null,0,0,{"$nulls":4},2,408,null,2,480]
["工坊合成垃圾",63043,"乌木短剑",3,4,1,"2#408","2#480",3,0,1,null,0,0,{"$nulls":4},2,408,null,2,480]
["工坊合成垃圾",63057,"乌木法杖",3,5,1,"2#408","2#480",3,0,1,null,0,0,{"$nulls":4},2,408,null,2,480]
["工坊合成垃圾",63071,"乌木战甲",3,0,2,"3#442","3#520",3,0,0,null,0,0,{"$nulls":4},3,442,null,3,520]
["工坊合成垃圾",63076,"墨玉战甲",3,0,2,"4#442","4#520",3,0,0,null,0,0,{"$nulls":4},4,442,null,4,520]
["工坊合成垃圾",63082,"乌木战盔",3,0,3,"1#4080","1#4800",7,0,0,null,0,0,{"$nulls":4},1,4080,null,1,4800]
["工坊合成垃圾",63093,"乌木战靴",3,0,4,"5#718","5#844",8,0,0,null,0,0,{"$nulls":4},5,718,null,5,844]
["工坊合成垃圾",63104,"乌木戒指",3,0,5,"2#136","2#160",19,0,0,null,0,0,{"$nulls":4},2,136,null,2,160]
["工坊合成垃圾",63115,"乌木腰带",3,0,6,"1#1088","1#1280",20,0,0,null,0,0,{"$nulls":4},1,1088,null,1,1280]
["工坊合成垃圾",64001,"御风短杖",4,3,1,"2#780","2#1084",9,2,3,null,0,0,{"$nulls":4},2,780,null,2,1084,{"$f":"W589-T589","v":304},{"$f":"X589/T589","v":0.38974358974358975}]
["工坊合成垃圾",64015,"御风短剑",4,2,1,"2#780","2#1084",9,2,3,null,0,0,{"$nulls":4},2,780,null,2,1084,304,0.38974358974358975]
["工坊合成垃圾",64029,"御风战斧",4,1,1,"2#780","2#1084",9,2,3,null,0,0,{"$nulls":4},2,780,null,2,1084,304,0.38974358974358975]
["工坊合成垃圾",64043,"御风之刃",4,4,1,"2#780","2#1084",9,2,3,null,0,0,{"$nulls":4},2,780,null,2,1084,304,0.38974358974358975]
["工坊合成垃圾",64057,"御风法杖",4,5,1,"2#780","2#1084",9,2,3,null,0,0,{"$nulls":4},2,780,null,2,1084,304,0.38974358974358975]
["工坊合成垃圾",64071,"神行战甲",4,0,2,"4#718","4#845",10,2,3,null,0,0,{"$nulls":4},4,718,null,4,845,127,0.17688022284122562]
["工坊合成垃圾",64076,"轻尘战甲",4,0,2,"3#718","3#845",10,2,3,null,0,0,{"$nulls":4},3,718,null,3,845,127,0.17688022284122562]
["工坊合成垃圾",64082,"神行战盔",4,0,3,"1#6630","1#7800",12,2,3,null,0,0,{"$nulls":4},1,6630,null,1,7800,1170,0.17647058823529413]
["工坊合成垃圾",64093,"神行战靴",4,0,4,"5#1166","5#1372",13,2,3,null,0,0,{"$nulls":4},5,1166,null,5,1372,206,0.17667238421955403]
["工坊合成垃圾",64104,"神行戒指",4,0,5,"2#221","2#260",21,2,3,null,0,0,{"$nulls":4},2,221,null,2,260,39,0.17647058823529413]
["工坊合成垃圾",64115,"神行束带",4,0,6,"1#1768","1#2080",22,2,3,null,0,0,{"$nulls":4},1,1768,null,1,2080,312,0.17647058823529413]
["工坊合成垃圾",65001,"断念神杖",5,3,1,"2#1440","2#1836",14,2,4,null,0,0,{"$nulls":4},2,1440,null,2,1836]
["工坊合成垃圾",65021,"断念神剑",5,2,1,"2#1440","2#1836",14,2,4,null,0,0,{"$nulls":4},2,1440,null,2,1836]
["工坊合成垃圾",65041,"断念神斧",5,1,1,"2#1440","2#1836",14,2,4,null,0,0,{"$nulls":4},2,1440,null,2,1836]
["工坊合成垃圾",65061,"断念古剑",5,4,1,"2#1440","2#1836",14,2,4,null,0,0,{"$nulls":4},2,1440,null,2,1836]
["工坊合成垃圾",65081,"断念钟",5,5,1,"2#1440","2#1836",14,2,4,null,0,0,{"$nulls":4},2,1440,null,2,1836]
["工坊合成垃圾",65101,"虬龙仙甲",5,0,2,"3#1326","3#1560",15,2,4,null,0,0,{"$nulls":4},3,1326,null,3,1560]
["工坊合成垃圾",65116,"灵犀头巾",5,0,3,"1#12240","1#14400",17,2,4,null,0,0,{"$nulls":4},1,12240,null,1,14400]
["工坊合成垃圾",65131,"青麟羽鞋",5,0,4,"5#2154","5#2534",18,2,4,null,0,0,{"$nulls":4},5,2154,null,5,2534]
["工坊合成垃圾",65146,"瑞兽戒指",5,0,5,"2#408","2#480",23,2,4,null,0,0,{"$nulls":4},2,408,null,2,480]
["工坊合成垃圾",65161,"空蝉束带",5,0,6,"1#3264","1#3840",24,2,4,null,0,0,{"$nulls":4},1,3264,null,1,3840]
["蓝图装备",64011,"止玄短杖",4,3,1,"2#957","2#1126",9,2,3,411004,0,0,888,"战斗中，增加10%攻击力。",null,{"$f":"C610&\"-蓝图\"","v":"止玄短杖-蓝图"},2,957,null,2,1126]
["蓝图装备",64013,"千钧短杖",4,3,1,"2#1040","2#1224",9,2,3,411006,0,0,888,"战斗中，增加5%暴击率。",null,"千钧短杖-蓝图",2,1040,null,2,1224]
["蓝图装备",64027,"千钧之刺",4,2,1,"2#1040","2#1224",9,2,3,412006,0,0,888,"战斗中，增加5%暴击率。",null,"千钧之刺-蓝图",2,1040,null,2,1224]
["蓝图装备",64028,"撼岳之刺",4,2,1,"2#1083","2#1275",9,2,3,412007,0,0,888,"战斗中，增加10%攻击力。",null,"撼岳之刺-蓝图",2,1083,null,2,1275]
["蓝图装备",64041,"千钧战矛",4,1,1,"2#1040","2#1224",9,2,3,413006,0,0,888,"战斗中，增加10%最大生命值。",null,"千钧战矛-蓝图",2,1040,null,2,1224]
["蓝图装备",64042,"撼岳战矛",4,1,1,"2#1083","2#1275",9,2,3,413007,0,0,888,"战斗中，增加10%伤害减免。",null,"撼岳战矛-蓝图",2,1083,null,2,1275]
["蓝图装备",64055,"千钧之刃",4,4,1,"2#1040","2#1224",9,2,3,414006,0,0,888,"战斗中，增加10%伤害。",null,"千钧之刃-蓝图",2,1040,null,2,1224]
["蓝图装备",64056,"撼岳之刃",4,4,1,"2#1083","2#1275",9,2,3,414007,0,0,888,"战斗中，增加10%攻击力。",null,"撼岳之刃-蓝图",2,1083,null,2,1275]
["蓝图装备",64069,"千钧秘录",4,5,1,"2#1040","2#1224",9,2,3,415006,0,0,888,"战斗中，增加5%暴击率。",null,"千钧秘录-蓝图",2,1040,null,2,1224]
["蓝图装备",64070,"撼岳秘录",4,5,1,"2#1083","2#1275",9,2,3,415007,0,0,888,"战斗中，增加634点速度。",null,"撼岳秘录-蓝图",2,1083,null,2,1275]
["蓝图装备",64073,"光羽战甲",4,0,2,"4#946","4#1113",10,2,3,420004,0,0,888,"死亡时，立即回复己方全体40%攻击力的血量。",null,"光羽战甲-蓝图",4,946,null,4,1113]
["蓝图装备",64079,"妖王战甲",4,0,2,"3#1059","3#1247",10,2,3,420006,0,0,888,"进入战斗后，每1秒回复200生命。",null,"妖王战甲-蓝图",3,1059,null,3,1247]
["蓝图装备",65018,"无始神杖",5,3,1,"2#1774","2#2088",14,0,0,511009,0,0,1500,{"$f":"_xlfn.IFNA(VLOOKUP(L622,[2]汇总!A:C,3,0),\"\")","v":"战斗中，增加20%伤害减免。"},null,"无始神杖-蓝图",2,1774,null,2,2088]
["蓝图装备",65020,"道衍神杖",5,3,1,"2#1836","2#2160",14,0,0,511011,0,0,1500,{"$f":"_xlfn.IFNA(VLOOKUP(L623,[2]汇总!A:C,3,0),\"\")","v":"战斗中，增加10%效果命中。"},null,"道衍神杖-蓝图",2,1836,null,2,2160]
["蓝图装备",65037,"离恨神刺",5,2,1,"2#1744","2#2052",14,0,0,512008,0,0,1500,{"$f":"_xlfn.IFNA(VLOOKUP(L624,[2]汇总!A:C,3,0),\"\")","v":"战斗中，增加30%暴击伤害。"},null,"离恨神刺-蓝图",2,1744,null,2,2052]
["蓝图装备",65038,"无始神刺",5,2,1,"2#1774","2#2088",14,0,0,512009,0,0,1500,{"$f":"_xlfn.IFNA(VLOOKUP(L625,[2]汇总!A:C,3,0),\"\")","v":"战斗中，增加1056点速度。"},null,"无始神刺-蓝图",2,1774,null,2,2088]
["蓝图装备",65057,"离恨神戟",5,1,1,"2#1744","2#2052",14,0,0,513008,0,0,1500,{"$f":"_xlfn.IFNA(VLOOKUP(L626,[2]汇总!A:C,3,0),\"\")","v":"战斗中，增加10%效果命中。"},null,"离恨神戟-蓝图",2,1744,null,2,2052]
["蓝图装备",65058,"无始神戟",5,1,1,"2#1774","2#2088",14,0,0,513009,0,0,1500,{"$f":"_xlfn.IFNA(VLOOKUP(L627,[2]汇总!A:C,3,0),\"\")","v":"战斗中，增加20%受到的治疗效果。"},null,"无始神戟-蓝图",2,1774,null,2,2088]
["蓝图装备",65077,"离恨古剑",5,4,1,"2#1744","2#2052",14,0,0,514008,0,0,1500,{"$f":"_xlfn.IFNA(VLOOKUP(L628,[2]汇总!A:C,3,0),\"\")","v":"战斗中，增加10%效果命中。"},null,"离恨古剑-蓝图",2,1744,null,2,2052]
["蓝图装备",65079,"归凡古剑",5,4,1,"2#1805","2#2124",14,0,0,514010,0,0,1500,{"$f":"_xlfn.IFNA(VLOOKUP(L629,[2]汇总!A:C,3,0),\"\")","v":"战斗中，增加20%伤害。"},null,"归凡古剑-蓝图",2,1805,null,2,2124]
["蓝图装备",65097,"离恨宝录",5,5,1,"2#1744","2#2052",14,0,0,515008,0,0,1500,{"$f":"_xlfn.IFNA(VLOOKUP(L630,[2]汇总!A:C,3,0),\"\")","v":"战斗中，增加20%攻击力。"},null,"离恨宝录-蓝图",2,1744,null,2,2052]
["蓝图装备",65100,"道衍宝录",5,5,1,"2#1836","2#2160",14,0,0,515011,0,0,1500,{"$f":"_xlfn.IFNA(VLOOKUP(L631,[2]汇总!A:C,3,0),\"\")","v":"战斗中，增加1056点速度。"},null,"道衍宝录-蓝图",2,1836,null,2,2160]
["蓝图装备",65104,"朱雀神甲",5,0,2,"3#1657","3#1950",15,2,4,520006,0,0,1500,{"$f":"_xlfn.IFNA(VLOOKUP(L632,[2]汇总!A:C,3,0),\"\")","v":"进入战斗后，每1秒回复500生命。"},null,"朱雀神甲-蓝图",3,1657,null,3,1950]
["蓝图装备",65128,"麒麟战盔",5,0,3,"1#17482","1#20568",17,0,0,530004,0,0,1500,{"$f":"_xlfn.IFNA(VLOOKUP(L633,[2]汇总!A:C,3,0),\"\")","v":"免疫沉默状态。"},null,"麒麟战盔-蓝图",1,17482,null,1,20568]
["蓝图装备",65129,"应龙战盔",5,0,3,"1#17919","1#21082",17,0,0,530005,0,0,1500,{"$f":"_xlfn.IFNA(VLOOKUP(L634,[2]汇总!A:C,3,0),\"\")","v":"免疫眩晕状态。"},null,"应龙战盔-蓝图",1,17919,null,1,21082]

{"sheet":"装备属性重制版辅助表","index":7,"n_rows":128,"n_cols":123,"rows_kept":128}
["大区间装备",null,null,"改动后",{"$nulls":6},"主属性重新分段",{"$nulls":6},"装备数量",{"$nulls":7},"副属性重新分段",null,null,"绿2","蓝3","紫4","橙5","合计",{"$nulls":53},5,57,{"$f":"VLOOKUP(CI1,$CO$15:$CS$42,5,FALSE)","v":66}]
[null,"2#780","2#1275",null,{"$f":"B2","v":"2#780"},{"$f":"RIGHT(C2,LEN(C2)-FIND(\"#\",C2,1))","v":"1275"},{"$f":"INT(F2*0.85)","v":1083},{"$f":"LEFT(C2,2)&G2","v":"2#1083"},null,null,"紫",{"$nulls":3},"橙",null,null,4,"低级",{"v":0.25,"d":"25%"},{"v":0.3,"d":"30%"},{"$nulls":6},"效果命中",null,20,30,50,100,{"$nulls":53},53,1800,{"$f":"VLOOKUP(CI2,$CO$15:$CS$42,5,FALSE)","v":1800}]
[null,{"$f":"B2","v":"2#780"},{"$f":"C2","v":"2#1275"},null,"2#780","1275",1083,"2#1083",null,null,"2#780","2#1275",null,null,"2#1440","2#2160",null,1,"重铸50级基础",{"v":0.35,"d":"35%"},{"v":0.4,"d":"40%"},"重铸后",{"v":0.55,"d":"55%"},{"v":0.65,"d":"65%"},{"$nulls":3},"效果抵抗",null,20,30,50,100,{"$nulls":53},54,900,900]
[null,"2#780","2#1275",null,"2#780","1275",1083,"2#1083",null,null,"3#845","3#1382",null,null,"3#1560","3#2340",null,1,"中级",{"v":0.65,"d":"65%"},{"v":0.7,"d":"70%"},{"$nulls":6},"暴击率",null,null,10,20,30,{"$nulls":53},55,450,600]
[null,"2#780","2#1275",null,"2#780","1275",1083,"2#1083",null,null,"4#845","4#1382",null,null,"4#1560","4#2340",null,3,"高级",{"v":0.9,"d":"90%"},{"v":0.95,"d":"95%"},{"$nulls":6},"暴伤",null,null,30,60,90,{"$nulls":53},56,1200,1600]
[null,"2#780","2#1275",null,"2#780","1275",1083,"2#1083",null,null,"1#7800","1#12756",null,null,"1#14400","1#21600",{"$nulls":11},"属性攻击",{"$nulls":3},1600,1600,{"$nulls":53},1,765,780]
[null,"2#780","2#1275",null,"2#780","1275",1083,"2#1083",null,null,"5#293","5#480",null,null,"5#560","5#840",{"$nulls":11},"属性抗性",{"$nulls":3},1600,1600,{"$nulls":53},2,95,144]
[null,"2#780","2#1275",null,"2#780","1275",1083,"2#1083",null,null,"2#260","2#425",null,null,"2#480","2#720",null,4,"低级",{"v":0.1,"d":"10%"},{"v":0.15,"d":"15%"},{"$nulls":6},"抗暴率",{"$nulls":3},20,20,{"$nulls":53},3,166,189]
[null,"2#780","2#1275",null,"2#780","1275",1083,"2#1083",null,null,"1#2080","1#3401",null,null,"1#3840","1#5760",null,4,"中级",{"v":0.35,"d":"35%"},{"v":0.4,"d":"40%"},"重铸后",{"v":0.6,"d":"60%"},{"v":0.7,"d":"70%"},{"$nulls":22},"紫高",{"$nulls":13},"紫低",{"$nulls":12},"紫中",{"$nulls":12},4,166,189]
[{"$nulls":86},61,150,300]
[{"$nulls":86},60,75,600]
[]
[]
[null,{"$f":"B9","v":"2#780"},{"$f":"C9","v":"2#1275"},null,{"$f":"B14","v":"2#780"},{"$f":"RIGHT(C14,LEN(C14)-FIND(\"#\",C14,1))","v":"1275"},{"$f":"INT(F14*0.85)","v":1083},{"$f":"LEFT(C14,2)&G14","v":"2#1083"},{"$nulls":9},1,"重铸50级基础",{"v":0.4,"d":"40%"},{"v":0.45,"d":"45%"},{"$nulls":7},"绿2","蓝3","紫4","橙5","合计",{"$nulls":13},"属性",{"$nulls":11},"最终",null,"属性",{"$nulls":10},"最终",null,"属性",{"$nulls":10},"最终",null,"橙下",{"$nulls":9},"最终",null,"橙中",{"$nulls":9},"最终",null,null,"橙高",{"$nulls":9},"最终"]
[null,{"$f":"B14","v":"2#780"},{"$f":"C14","v":"2#1275"},null,"2#780","1275",1083,"2#1083",4,"低级",{"v":0.25,"d":"25%"},{"v":0.3,"d":"30%"},4,"低级",{"v":0.1,"d":"10%"},{"v":0.15,"d":"15%"},null,1,"中上",{"v":0.75,"d":"75%"},{"v":0.8,"d":"80%"},{"$nulls":6},"效果命中",null,5,10,10,25,{"$nulls":13},5,86,{"$f":"AM50","v":67},{"$f":"AU15","v":5},{"$f":"AV15+AV26+AV37","v":172},{"$f":"AW15+AW26+AW37","v":133},null,5,{"$f":"AY15","v":172},133,{"$f":"VLOOKUP(BB15,$W$24:$X$42,2,FALSE)","v":"速度"},3,{"$f":"INT(BC15/$BF15)","v":57},{"$f":"INT(BD15/$BF15)","v":44},5,{"$f":"AJ50","v":48},{"$f":"AI50","v":28},{"$f":"BI15","v":5},{"$f":"BJ15+BJ26+BJ37","v":96},{"$f":"BK15+BK26+BK37","v":56},null,5,96,56,3,{"$f":"INT(BQ15/$BF15)","v":32},{"$f":"INT(BR15/$BF15)","v":18},5,67,48,{"$f":"BV15","v":5},{"$f":"BW15+BW26+BW37","v":133},{"$f":"BX15+BX26+BX37","v":96},null,5,133,96,3,{"$f":"INT(CD15/$BF15)","v":44},{"$f":"INT(CE15/$BF15)","v":32},5,{"$f":"AI82","v":100},{"$f":"AJ82","v":117},{"$f":"CI15","v":5},{"$f":"CJ15+CJ39+CJ50","v":200},{"$f":"CK15+CK39+CK50","v":233},{"$f":"CL15","v":5},{"$f":"CM15","v":200},{"$f":"CN15","v":233},3,{"$f":"INT(CP15/CR15)","v":66},{"$f":"INT(CQ15/CR15)","v":77},5,{"$f":"AK82","v":117},{"$f":"AL82","v":134},{"$f":"CU15","v":5},{"$f":"CV15+CV39+CV50","v":233},{"$f":"CW15+CW39+CW50","v":268},{"$f":"CX15","v":5},233,268,3,{"$f":"INT(DB15/$CR15)","v":77},{"$f":"INT(DC15/$CR15)","v":89},{"$f":"VLOOKUP(DA15,$W$24:$X$42,2,FALSE)","v":"速度"},5,134,168,{"$f":"DH15","v":5},{"$f":"DI15+DI39+DI50","v":268},{"$f":"DJ15+DJ39+DJ50","v":336},5,268,336,3,{"$f":"INT(DO15/$CR15)","v":89},{"$f":"INT(DP15/$CR15)","v":112}]
[null,"2#780","2#1275",null,"2#780","1275",1083,"2#1083",null,"属性","紫下","紫上",null,null,"橙下","橙上",null,3,"高级",{"v":0.9,"d":"90%"},{"v":0.95,"d":"95%"},{"$nulls":3},"基础模板",null,null,"效果抵抗",null,5,10,10,25,"紫",{"$nulls":12},53,675,{"$f":"AM51","v":525},{"$f":"AU16","v":53},{"$f":"AV16+AV22+AV27+AV38","v":3600},{"$f":"AW16+AW22+AW27+AW38","v":2800},null,53,{"$f":"AY16","v":3600},2800,{"$f":"VLOOKUP(BB16,$W$24:$X$42,2,FALSE)","v":"效果命中"},2,{"$f":"INT(BC16/$BF16)","v":1800},1400,53,{"$f":"AJ51","v":375},{"$f":"AI51","v":225},53,{"$f":"BJ16+BJ22+BJ27+BJ38","v":2000},{"$f":"BK16+BK22+BK27+BK38","v":1200},null,53,2000,1200,2,{"$f":"INT(BQ16/$BF16)","v":1000},{"$f":"INT(BR16/$BF16)","v":600},53,525,375,53,{"$f":"BW16+BW22+BW27+BW38","v":2800},{"$f":"BX16+BX22+BX27+BX38","v":2000},null,53,2800,2000,2,{"$f":"INT(CD16/$BF16)","v":1400},1000,53,{"$f":"AI83","v":750},{"$f":"AJ83","v":875},{"$f":"CI16","v":53},{"$f":"CJ16+CJ28+CJ40+CJ51","v":3600},{"$f":"CK16+CK28+CK40+CK51","v":4200},{"$f":"CL16","v":53},{"$f":"CM16","v":3600},4200,2,{"$f":"INT(CP16/CR16)","v":1800},{"$f":"INT(CQ16/CR16)","v":2100},53,{"$f":"AK83","v":875},{"$f":"AL83","v":1000},{"$f":"CU16","v":53},{"$f":"CV16+CV28+CV40+CV51","v":4200},{"$f":"CW16+CW28+CW40+CW51","v":4800},53,4200,4800,2,{"$f":"INT(DB16/$CR16)","v":2100},2400,{"$f":"VLOOKUP(DA16,$W$24:$X$42,2,FALSE)","v":"效果命中"},53,1000,1250,{"$f":"DH16","v":53},{"$f":"DI16+DI28+DI40+DI51","v":4800},{"$f":"DJ16+DJ28+DJ40+DJ51","v":6000},53,4800,6000,2,2400,3000]
[null,"2#780","2#1275",null,"2#780","1275",1083,"2#1083","武器",2,{"$f":"RIGHT(K3,LEN(K3)-FIND(\"#\",K3,1))","v":"780"},{"$f":"RIGHT(L3,LEN(L3)-FIND(\"#\",L3,1))","v":"1275"},null,null,{"$f":"RIGHT(O3,LEN(O3)-FIND(\"#\",O3,1))","v":"1440"},{"$f":"RIGHT(P3,LEN(P3)-FIND(\"#\",P3,1))","v":"2160"},{"$nulls":8},"生命",2000,null,"速度",null,211.2,374.176,633.6,1218.976,{"$nulls":13},54,675,525,54,{"$f":"AV17+AV23+AV28+AV42","v":3600},{"$f":"AW17+AW23+AW28+AW42","v":2800},null,54,3600,2800,"效果抵抗",4,{"$f":"INT(BC17/$BF17)","v":900},700,54,375,{"$f":"AI52","v":225},54,{"$f":"BJ17+BJ23+BJ28+BJ42","v":2000},{"$f":"BK17+BK23+BK28+BK42","v":1200},null,54,2000,1200,4,{"$f":"INT(BQ17/$BF17)","v":500},300,54,525,375,54,{"$f":"BW17+BW23+BW28+BW42","v":2800},{"$f":"BX17+BX23+BX28+BX42","v":2000},null,54,2800,2000,4,700,500,54,750,875,54,{"$f":"CJ17+CJ29+CJ41+CJ56","v":3600},{"$f":"CK17+CK29+CK41+CK56","v":4200},54,3600,4200,4,900,1050,54,875,1000,{"$f":"CU17","v":54},{"$f":"CV17+CV29+CV41+CV56","v":4200},{"$f":"CW17+CW29+CW41+CW56","v":4800},54,4200,4800,4,1050,1200,"效果抵抗",54,1000,1250,{"$f":"DH17","v":54},{"$f":"DI17+DI29+DI41+DI56","v":4800},{"$f":"DJ17+DJ29+DJ41+DJ56","v":6000},54,4800,6000,4,1200,1500]
[null,"2#780","2#1275",null,"2#780","1275",1083,"2#1083","甲",3,{"$f":"RIGHT(K4,LEN(K4)-FIND(\"#\",K4,1))","v":"845"},{"$f":"RIGHT(L4,LEN(L4)-FIND(\"#\",L4,1))","v":"1382"},null,null,{"$f":"RIGHT(O4,LEN(O4)-FIND(\"#\",O4,1))","v":"1560"},{"$f":"RIGHT(P4,LEN(P4)-FIND(\"#\",P4,1))","v":"2340"},{"$nulls":8},"攻击",200,null,"生命百分比",null,5,10,10,25,{"$nulls":13},55,540,420,55,{"$f":"AV18+AV29+AV35+AV39","v":1350},{"$f":"AW18+AW29+AW35+AW39","v":1050},null,55,1350,1050,"暴击率",3,450,350,55,300,{"$f":"AI53","v":180},55,{"$f":"BJ18+BJ29+BJ35+BJ39","v":750},{"$f":"BK18+BK29+BK35+BK39","v":450},null,55,750,450,3,250,150,55,420,300,55,{"$f":"BW18+BW29+BW35+BW39","v":1050},{"$f":"BX18+BX29+BX35+BX39","v":750},null,55,1050,750,3,350,250,55,720,840,55,{"$f":"CJ18+CJ42+CJ48+CJ52","v":1800},{"$f":"CK18+CK42+CK48+CK52","v":2100},55,1800,2100,3,600,700,55,840,960,{"$f":"CU18","v":55},{"$f":"CV18+CV42+CV48+CV52","v":2100},{"$f":"CW18+CW42+CW48+CW52","v":2400},55,2100,2400,3,700,800,"暴击率",55,960,1200,{"$f":"DH18","v":55},{"$f":"DI18+DI42+DI48+DI52","v":2400},{"$f":"DJ18+DJ42+DJ48+DJ52","v":3000},55,2400,3000,3,800,1000]
[null,"2#780","2#1275",null,"2#780","1275",1083,"2#1083","甲",4,"845","1382",null,null,"1560","2340",{"$nulls":8},"护甲",200,null,"暴击率",null,null,5,10,15,{"$nulls":13},56,1890,1470,56,{"$f":"AV19+AV30+AV36+AV40","v":3600},{"$f":"AW19+AW30+AW36+AW40","v":2800},null,56,3600,2800,"暴伤",3,1200,933,56,1050,630,56,{"$f":"BJ19+BJ30+BJ36+BJ40","v":2000},{"$f":"BK19+BK30+BK36+BK40","v":1200},null,56,2000,1200,3,666,400,56,1470,1050,56,{"$f":"BW19+BW30+BW36+BW40","v":2800},{"$f":"BX19+BX30+BX36+BX40","v":2000},null,56,2800,2000,3,933,666,56,2520,2940,56,{"$f":"CJ19+CJ43+CJ49+CJ53","v":4800},{"$f":"CK19+CK43+CK49+CK53","v":5600},56,4800,5600,3,1600,1866,56,2940,3360,{"$f":"CU19","v":56},{"$f":"CV19+CV43+CV49+CV53","v":5600},{"$f":"CW19+CW43+CW49+CW53","v":6400},56,5600,6400,3,1866,2133,"暴伤",56,3360,4200,{"$f":"DH19","v":56},{"$f":"DI19+DI43+DI49+DI53","v":6400},{"$f":"DJ19+DJ43+DJ49+DJ53","v":8000},56,6400,8000,3,2133,2666]
[null,"2#780","2#1275",null,"2#780","1275",1083,"2#1083","盔",1,"7800","12756",null,null,"14400","21600",{"$nulls":8},"魔抗",200,null,"暴伤",null,null,10,20,30,{"$nulls":13},1,2870,2232,1,{"$f":"AV20+AV31","v":3826},{"$f":"AW20+AW31","v":2976},null,1,3826,2976,"生命",5,765,595,1,1594,956,1,{"$f":"BJ20+BJ31","v":2125},{"$f":"BK20+BK31","v":1274},null,1,2125,1274,5,425,254,1,2232,1594,1,{"$f":"BW20+BW31","v":2976},{"$f":"BX20+BX31","v":2125},null,1,2976,2125,5,595,425,101,960,1120,101,{"$f":"CJ20","v":960},{"$f":"CK20","v":1120},101,960,1120,2,480,560,101,1120,1280,{"$f":"CU20","v":101},1120,1280,101,1120,1280,2,560,640,"火焰伤害",101,1280,1600,{"$f":"DH20","v":101},1280,1600,101,1280,1600,2,640,800]
[null,"3#845","3#1382",null,"3#845","1382",1174,"3#1174","鞋",5,"293","480",null,null,"560","840",{"$nulls":8},"速度",352,null,"抗暴率",null,null,5,10,15,{"$nulls":13},2,190,148,2,{"$f":"AV21+AV32","v":380},{"$f":"AW21+AW32","v":296},null,2,380,296,"攻击",4,95,74,2,106,63,2,{"$f":"BJ21+BJ32","v":212},{"$f":"BK21+BK32","v":126},null,2,212,126,4,53,31,2,148,106,2,{"$f":"BW21+BW32","v":296},{"$f":"BX21+BX32","v":212},null,2,296,212,4,74,53,102,960,1120,102,960,1120,102,960,1120,2,480,560,102,1120,1280,{"$f":"CU21","v":102},1120,1280,102,1120,1280,2,560,640,"狂风伤害",102,1280,1600,{"$f":"DH21","v":102},1280,1600,102,1280,1600,2,640,800]
[null,"3#845","3#1382",null,"3#845","1382",1174,"3#1174","戒",2,"260","425",null,null,"480","720",{"$nulls":11},"攻击百分比",{"$nulls":3},10,10,{"$nulls":13},53,405,315,{"$nulls":4},3,{"$f":"AY24","v":667},519,"护甲",4,166,129,53,225,135,{"$nulls":4},3,371,222,4,92,55,53,315,225,{"$nulls":4},3,519,371,4,129,92,103,960,1120,103,960,1120,103,960,1120,2,480,560,103,1120,1280,{"$f":"CU22","v":103},1120,1280,103,1120,1280,2,560,640,"碧水伤害",103,1280,1600,{"$f":"DH22","v":103},1280,1600,103,1280,1600,2,640,800]
[null,"3#845","3#1382",null,"3#845","1382",1174,"3#1174","带",1,"2080","3401",null,null,"3840","5760",{"$nulls":11},"伤害加成",{"$nulls":3},10,10,{"$nulls":13},54,405,315,{"$nulls":4},4,{"$f":"AY25","v":667},519,"魔抗",4,166,129,54,225,135,{"$nulls":4},4,371,222,4,92,55,54,315,225,{"$nulls":4},4,519,371,4,129,92,104,960,1120,104,960,1120,104,960,1120,2,480,560,104,1120,1280,{"$f":"CU23","v":104},1120,1280,104,1120,1280,2,560,640,"大地伤害",104,1280,1600,{"$f":"DH23","v":104},1280,1600,104,1280,1600,2,640,800]
[null,"4#845","4#1382",null,"4#845","1382",1174,"4#1174",4,"低级",{"v":0.25,"d":"25%"},{"v":0.3,"d":"30%"},4,"低级",{"v":0.1,"d":"10%"},{"v":0.15,"d":"15%"},{"$nulls":5},"生命",1,"生命",{"$nulls":3},"治疗",{"$nulls":3},20,20,{"$nulls":13},3,477,371,{"$f":"AU24","v":3},{"$f":"AV24+AV33","v":667},{"$f":"AW24+AW33","v":519},null,61,{"$f":"AY41","v":900},700,"生命百分比",null,{"$f":"INT(BC24/6)","v":150},{"$f":"INT(BD24/6)","v":116},3,265,159,{"$f":"BI24","v":3},{"$f":"BJ24+BJ33","v":371},{"$f":"BK24+BK33","v":222},null,61,500,300,null,{"$f":"INT(BQ24/6)","v":83},{"$f":"INT(BR24/6)","v":50},3,371,265,{"$f":"BV24","v":3},{"$f":"BW24+BW33","v":519},{"$f":"BX24+BX33","v":371},null,61,700,500,null,{"$f":"INT(CD24/6)","v":116},{"$f":"INT(CE24/6)","v":83},105,960,1120,105,960,1120,105,960,1120,2,480,560,105,1120,1280,{"$f":"CU24","v":105},1120,1280,105,1120,1280,2,560,640,"神圣伤害",105,1280,1600,{"$f":"DH24","v":105},1280,1600,105,1280,1600,2,640,800]
[null,"4#845","4#1382",null,"4#845","1382",1174,"4#1174",{"$nulls":4},"紫下","紫上",null,null,"橙下","橙上",{"$nulls":3},"攻击",2,"攻击",{"$nulls":3},"受治疗",{"$nulls":3},20,20,{"$nulls":13},4,477,371,{"$f":"AU25","v":4},{"$f":"AV25+AV34","v":667},{"$f":"AW25+AW34","v":519},null,60,{"$f":"AY43","v":450},350,"抗暴率",null,{"$f":"INT(BC25/6)","v":75},{"$f":"INT(BD25/6)","v":58},4,265,159,{"$f":"BI25","v":4},{"$f":"BJ25+BJ34","v":371},{"$f":"BK25+BK34","v":222},null,60,250,150,null,{"$f":"INT(BQ25/6)","v":41},{"$f":"INT(BR25/6)","v":25},4,371,265,{"$f":"BV25","v":4},{"$f":"BW25+BW34","v":519},{"$f":"BX25+BX34","v":371},null,60,350,250,null,{"$f":"INT(CD25/6)","v":58},{"$f":"INT(CE25/6)","v":41},106,960,1120,106,960,1120,106,960,1120,2,480,560,106,1120,1280,{"$f":"CU25","v":106},1120,1280,106,1120,1280,2,560,640,"黑暗伤害",106,1280,1600,{"$f":"DH25","v":106},1280,1600,106,1280,1600,2,640,800]
[null,"4#845","4#1382",null,"4#845","1382",1174,"4#1174","武器",2,{"$f":"INT((L17-K17)*$K$15+K17)","v":903},{"$f":"INT((L17-K17)*$L$15+K17)","v":928},{"$f":"$J26&\"#\"&K26","v":"2#903"},{"$f":"$J26&\"#\"&L26","v":"2#928"},{"$f":"INT((P17-O17)*$O$15+O17)","v":1512},{"$f":"INT((P17-O17)*$P$15+O17)","v":1548},{"$f":"$J26&\"#\"&O26","v":"2#1512"},{"$f":"$J26&\"#\"&P26","v":"2#1548"},{"$nulls":3},"护甲",3,"护甲",{"$nulls":3},"伤害减免",{"$nulls":3},10,10,{"$nulls":13},5,43,33,{"$nulls":11},5,24,14,{"$nulls":10},5,33,24,{"$nulls":10},1,3600,4200,1,{"$f":"CJ26+CJ44","v":4680},{"$f":"CK26+CK44","v":5460},1,4680,5460,6,780,910,1,4200,4800,{"$f":"CU26","v":1},{"$f":"CV26+CV44","v":5460},{"$f":"CW26+CW44","v":6240},1,5460,6240,6,910,1040,"生命",1,4800,6000,{"$f":"DH26","v":1},{"$f":"DI26+DI44","v":6240},{"$f":"DJ26+DJ44","v":7800},1,6240,7800,6,1040,1300]
[null,"1#7800","1#12756",null,"1#7800","12756",10842,"1#10842","甲",3,{"$f":"INT((L18-K18)*$K$15+K18)","v":979},{"$f":"INT((L18-K18)*$L$15+K18)","v":1006},{"$f":"$J27&\"#\"&K27","v":"3#979"},"3#1006",{"$f":"INT((P18-O18)*$O$15+O18)","v":1638},{"$f":"INT((P18-O18)*$P$15+O18)","v":1677},{"$f":"$J27&\"#\"&O27","v":"3#1638"},{"$f":"$J27&\"#\"&P27","v":"3#1677"},{"$nulls":3},"魔抗",4,"魔抗",{"$nulls":22},53,1620,1260,{"$nulls":11},53,900,540,{"$nulls":10},53,1260,900,{"$nulls":10},2,216,252,2,{"$f":"CJ27+CJ45","v":432},{"$f":"CK27+CK45","v":504},2,432,504,3,144,168,2,252,288,{"$f":"CU27","v":2},{"$f":"CV27+CV45","v":504},{"$f":"CW27+CW45","v":576},2,504,576,3,168,192,"攻击",2,288,360,{"$f":"DH27","v":2},{"$f":"DI27+DI45","v":576},{"$f":"DJ27+DJ45","v":720},2,576,720,3,192,240]
[null,"1#7800","1#12756",null,"1#7800","12756",10842,"1#10842","甲",4,979,1006,"4#979","4#1006",1638,1677,"4#1638","4#1677",{"$nulls":3},"速度",5,"速度",{"$nulls":22},54,1620,1260,{"$nulls":11},54,900,540,{"$nulls":10},54,1260,900,{"$nulls":10},53,450,525,{"$nulls":3},{"$f":"CL30","v":60},{"$f":"CM30","v":1800},{"$f":"CN30","v":2100},3,600,700,53,525,600,{"$nulls":3},{"$f":"CX30","v":60},{"$f":"CY30","v":2100},{"$f":"CZ30","v":2400},3,700,800,"抗暴率",53,600,750,{"$nulls":3},{"$f":"DK30","v":60},{"$f":"DL30","v":2400},{"$f":"DM30","v":3000},3,800,1000]
[null,"1#7800","1#12756",null,"1#7800","12756",10842,"1#10842","盔",1,9039,9286,"1#9039","1#9286",15120,15480,"1#15120","1#15480",{"$nulls":3},"伤害加成",51,"伤害加成","属性分配","武器",null,"铠甲",null,"头饰",null,"鞋子",null,null,"戒指",null,"腰带",{"$nulls":9},55,135,105,{"$nulls":11},55,75,45,{"$nulls":10},55,105,75,{"$nulls":10},54,450,525,{"$nulls":3},{"$f":"CL31","v":107},{"$f":"CM31","v":107},960,2,53,480,54,525,600,{"$nulls":3},107,107,1120,2,53,560,"火焰抗性",54,600,750,{"$nulls":3},107,{"$f":"DL31","v":107},1280,2,53,640]
[null,"5#293","5#480",null,"5#293","480",408,"5#408","鞋",5,339,349,"5#339","5#349",588,602,"5#588","5#602",{"$nulls":3},"伤害减免",52,"伤害减免",null,"攻击",60,"护甲",65,"生命",60,"速度",60,null,"攻击",20,"生命",{"$nulls":9},56,540,420,{"$nulls":11},56,300,180,{"$nulls":10},56,420,300,{"$nulls":10},60,1200,1400,{"$f":"CI30","v":60},{"$f":"CJ30+CJ57","v":1800},{"$f":"CK30+CK57","v":2100},108,108,960,2,54,480,60,1400,1600,{"$f":"CU30","v":60},{"$f":"CV30+CV57","v":2100},{"$f":"CW30+CW57","v":2400},108,108,1120,2,54,560,"狂风抗性",60,1600,2000,{"$f":"DH30","v":60},{"$f":"DI30+DI57","v":2400},{"$f":"DJ30+DJ57","v":3000},108,108,1280,2,54,640]
[null,"5#293","5#480",null,"5#293","480",408,"5#408","戒",2,301,309,"2#301","2#309",504,516,"2#504","2#516",{"$nulls":3},"效果命中",53,"效果命中",null,"速度",20,"魔抗",65,"护甲",25,"生命",5,null,"暴击率",10,"效果抵抗",{"$nulls":9},1,956,744,{"$nulls":11},1,531,318,{"$nulls":10},1,744,531,{"$nulls":10},107,960,1120,{"$f":"CI31","v":107},{"$f":"CI31","v":107},{"$f":"CJ31","v":960},109,109,960,2,54,480,107,1120,1280,107,{"$f":"CU31","v":107},{"$f":"CV31","v":1120},109,109,1120,2,54,560,"碧水抗性",107,1280,1600,107,{"$f":"DH31","v":107},{"$f":"DI31","v":1280},109,109,1280,2,54,640]
[null,"5#293","5#480",null,"5#293","480",408,"5#408","带",1,2410,2476,"1#2410","1#2476",4032,4128,"1#4032","1#4128",{"$nulls":3},"效果抵抗",54,"效果抵抗",null,"暴击率",60,"生命",15,"魔抗",25,"攻击",10,null,"暴伤",20,"生命百分比",{"$nulls":9},2,190,148,{"$nulls":11},2,106,63,{"$nulls":10},2,148,106,{"$nulls":10},108,960,1120,108,108,960,110,110,960,2,55,480,108,1120,1280,108,108,1120,110,110,1120,2,55,560,"大地抗性",108,1280,1600,108,108,1280,110,110,1280,2,55,640]
[null,"2#260","2#425",null,"2#260","425",361,"2#361",{"$nulls":13},"暴击率",55,"暴击率",null,"效果命中",25,"攻击",10,"速度",10,"护甲",10,null,"效果命中",20,"治疗",{"$nulls":9},3,190,148,{"$nulls":11},3,106,63,{"$nulls":10},3,148,106,{"$nulls":10},109,960,1120,109,109,960,111,111,960,2,55,480,109,1120,1280,109,109,1120,111,111,1120,2,55,560,"神圣抗性",109,1280,1600,109,109,1280,111,111,1280,2,55,640]
[null,"2#260","2#425",null,"2#260","425",361,"2#361",1,"重铸50级基础",{"v":0.35,"d":"35%"},{"v":0.4,"d":"40%"},4,"中级",{"v":0.35,"d":"35%"},{"v":0.4,"d":"40%"},{"$nulls":5},"暴伤",56,"暴伤",null,"效果抵抗",25,"效果命中",15,"暴击率",15,"魔抗",10,null,"攻击百分比",10,"受治疗",{"$nulls":9},4,190,148,{"$nulls":11},4,106,63,{"$nulls":10},4,148,106,{"$nulls":10},110,960,1120,110,110,960,112,112,960,2,56,480,110,1120,1280,110,110,1120,112,112,1120,2,56,560,"黑暗抗性",110,1280,1600,110,110,1280,112,112,1280,2,56,640]
[null,"2#260","2#425",null,"2#260","425",361,"2#361",{"$nulls":13},"受治疗",57,"受治疗",null,"属性攻击",100,"效果抵抗",15,"效果命中",60,"暴击率",25,null,"伤害加成",10,"伤害减免",{"$nulls":9},55,225,175,{"$nulls":11},55,125,75,{"$nulls":10},55,175,125,{"$nulls":10},111,960,1120,111,111,960,3,756,882,4,189,220,111,1120,1280,111,111,1120,3,882,1008,4,220,252,"护甲",111,1280,1600,111,111,1280,3,1008,1260,4,252,315]
[null,"1#2080","1#3401",null,"1#2080","3401",2890,"1#2890",{"$nulls":4},"紫下","紫上",null,null,"橙下","橙上",{"$nulls":3},"治疗",58,"治疗",null,"暴伤",70,"属性抗性",100,"效果抵抗",60,"暴伤",10,null,"速度",10,"抗暴率",{"$nulls":9},56,270,210,{"$nulls":11},56,150,90,{"$nulls":10},56,210,150,{"$nulls":10},112,960,1120,112,112,960,4,756,882,4,189,220,112,1120,1280,112,112,1120,4,882,1008,4,220,252,"魔抗",112,1280,1600,112,112,1280,4,1008,1260,4,252,315]
[null,"1#2080","1#3401",null,"1#2080","3401",2890,"1#2890","武器",2,{"$f":"INT((L17-K17)*$K$34+K17)","v":953},{"$f":"INT((L17-K17)*$L$34+K17)","v":978},{"$f":"$J37&\"#\"&K37","v":"2#953"},{"$f":"$J37&\"#\"&L37","v":"2#978"},{"$f":"INT((P17-O17)*$O$34+O17)","v":1692},{"$f":"INT((P17-O17)*$P$34+O17)","v":1728},{"$f":"$J37&\"#\"&O37","v":"2#1692"},{"$f":"$J37&\"#\"&P37","v":"2#1728"},{"$nulls":3},"抗暴率",60,"抗暴率",{"$nulls":3},"抗暴率",100,"暴伤",20,{"$nulls":15},5,43,33,{"$nulls":11},5,24,14,{"$nulls":10},5,33,24,{"$nulls":10},3,540,630,3,{"$f":"CJ37+CJ46","v":756},{"$f":"CK37+CK46","v":882},{"$f":"CL55","v":62},{"$f":"CM55","v":600},{"$f":"CN55","v":700},1,600,700,3,630,720,3,{"$f":"CV37+CV46","v":882},{"$f":"CW37+CW46","v":1008},{"$f":"CX55","v":62},{"$f":"CY55","v":700},{"$f":"CZ55","v":800},1,700,800,"攻击百分比",3,720,900,3,{"$f":"DI37+DI46","v":1008},{"$f":"DJ37+DJ46","v":1260},{"$f":"DK55","v":62},{"$f":"DL55","v":800},{"$f":"DM55","v":1000},1,800,1000]
[null,"1#2080","1#3401",null,"1#2080","3401",2890,"1#2890","甲",3,{"$f":"INT((L18-K18)*$K$34+K18)","v":1032},{"$f":"INT((L18-K18)*$L$34+K18)","v":1059},"3#1032","3#1059",{"$f":"INT((P18-O18)*$O$34+O18)","v":1833},{"$f":"INT((P18-O18)*$P$34+O18)","v":1872},{"$f":"$J38&\"#\"&O38","v":"3#1833"},{"$f":"$J38&\"#\"&P38","v":"3#1872"},{"$nulls":3},"生命百分比",61,"生命百分比",{"$nulls":22},53,900,700,{"$nulls":11},53,500,300,{"$nulls":10},53,700,500,{"$nulls":10},4,540,630,4,{"$f":"CJ38+CJ47","v":756},{"$f":"CK38+CK47","v":882},{"$f":"CL58","v":57},1200,1400,3,400,466,4,630,720,4,{"$f":"CV38+CV47","v":882},{"$f":"CW38+CW47","v":1008},{"$f":"CX58","v":57},1400,1600,3,466,533,"受治疗",4,720,900,4,{"$f":"DI38+DI47","v":1008},{"$f":"DJ38+DJ47","v":1260},{"$f":"DK58","v":57},1600,2000,3,533,666]
[null,"2#1440","2#2160",null,{"$f":"B39","v":"2#1440"},{"$f":"RIGHT(C39,LEN(C39)-FIND(\"#\",C39,1))","v":"2160"},{"$f":"INT(F39*0.85)","v":1836},{"$f":"LEFT(C39,2)&G39","v":"2#1836"},"甲",4,1032,1059,"4#1032","4#1059",1833,1872,"4#1833","4#1872",{"$nulls":3},"攻击百分比",62,"攻击百分比",null,{"$f":"VLOOKUP(Z30,$V$24:$W$42,2,FALSE)","v":2},{"$f":"AA30*VLOOKUP(Z30,$AB$2:$AF$8,4,FALSE)","v":{"$error":"#N/A"}},{"$f":"VLOOKUP(AB30,$V$24:$W$42,2,FALSE)","v":3},{"$error":"#N/A"},{"$f":"VLOOKUP(AD30,$V$24:$W$42,2,FALSE)","v":1},{"$error":"#N/A"},{"$f":"VLOOKUP(AF30,$V$24:$W$42,2,FALSE)","v":5},{"$f":"AG30*VLOOKUP(AF30,$AB$2:$AF$8,4,FALSE)","v":{"$error":"#N/A"}},null,{"$f":"VLOOKUP(AI30,$V$24:$W$42,2,FALSE)","v":2},null,{"$f":"VLOOKUP(AK30,$V$24:$W$42,2,FALSE)","v":1},null,"紫","低",0.3,0.5,{"$nulls":4},55,450,350,{"$nulls":11},55,250,150,{"$nulls":10},55,350,250,{"$nulls":10},5,50,58,{"$nulls":3},58,1200,1400,2,600,700,5,58,67,{"$nulls":3},58,1400,1600,2,700,800,"治疗",5,67,84,{"$nulls":3},58,1600,2000,2,800,1000]
[null,{"$f":"B39","v":"2#1440"},{"$f":"C39","v":"2#2160"},null,"2#1440","2160",1836,"2#1836","盔",1,9534,9782,"1#9534","1#9782",16920,17280,"1#16920","1#17280",{"$nulls":3},"护甲百分比",63,"护甲百分比",null,{"$f":"VLOOKUP(Z31,$V$24:$W$42,2,FALSE)","v":5},{"$f":"AA31*VLOOKUP(Z31,$AB$2:$AF$8,4,FALSE)","v":{"$error":"#N/A"}},4,{"$f":"AC31*VLOOKUP(AB31,$AB$2:$AF$8,4,FALSE)","v":{"$error":"#N/A"}},3,{"$error":"#N/A"},1,{"$error":"#N/A"},null,55,null,54,null,null,"中",0.5,0.7,{"$nulls":4},56,900,700,{"$nulls":11},56,500,300,{"$nulls":10},56,700,500,{"$nulls":10},53,1800,2100,{"$nulls":3},{"$f":"CL61","v":61},{"$f":"CM61","v":600},{"$f":"CN61","v":700},2,300,350,53,2100,2400,{"$nulls":3},{"$f":"CX61","v":61},{"$f":"CY61","v":700},{"$f":"CZ61","v":800},2,350,400,"生命百分比",53,2400,3000,{"$nulls":3},{"$f":"DK61","v":61},{"$f":"DL61","v":800},{"$f":"DM61","v":1000},2,400,500]
[null,"2#1440","2#2160",null,"2#1440","2160",1836,"2#1836","鞋",5,358,367,"5#358","5#367",658,672,"5#658","5#672",{"$nulls":3},"魔抗百分比",64,"魔抗百分比",null,55,600,1,{"$f":"AC32*VLOOKUP(AB32,$AB$2:$AF$8,4,FALSE)","v":{"$error":"#N/A"}},4,{"$error":"#N/A"},2,{"$error":"#N/A"},null,56,null,61,null,null,"高",0.7,0.9,{"$nulls":4},61,900,700,{"$f":"AU41","v":61},{"$f":"AV41","v":900},{"$f":"AW41","v":700},{"$nulls":8},61,500,300,{"$f":"BI41","v":61},500,300,{"$nulls":7},61,700,500,{"$f":"BV41","v":61},700,500,{"$nulls":7},54,1800,2100,{"$nulls":3},{"$f":"CL54","v":51},600,700,1,600,700,54,2100,2400,{"$nulls":3},{"$f":"CX54","v":51},700,800,1,700,800,"伤害加成",54,2400,3000,{"$nulls":3},{"$f":"DK54","v":51},{"$f":"DL54","v":800},{"$f":"DM54","v":1000},1,800,1000]
[null,"2#1440","2#2160",null,"2#1440","2160",1836,"2#1836","戒",2,317,326,"2#317","2#326",564,576,"2#564","2#576",{"$nulls":3},"速度百分比",65,"速度百分比",null,53,750,2,{"$f":"AC33*VLOOKUP(AB33,$AB$2:$AF$8,4,FALSE)","v":{"$error":"#N/A"}},5,{"$error":"#N/A"},3,{"$error":"#N/A"},null,53,null,58,{"$nulls":9},54,900,700,{"$nulls":11},54,500,300,{"$nulls":10},54,700,500,{"$nulls":10},55,180,210,{"$nulls":3},{"$f":"CL60","v":52},600,700,3,200,233,55,210,240,{"$nulls":3},{"$f":"CX60","v":52},700,800,3,233,266,"伤害减免",55,240,300,{"$nulls":3},{"$f":"DK60","v":52},{"$f":"DL60","v":800},{"$f":"DM60","v":1000},3,266,333]
[null,"2#1440","2#2160",null,"2#1440","2160",1836,"2#1836","带",1,2542,2608,"1#2542","1#2608",4512,4608,"1#4512","1#4608",{"$nulls":7},54,750,53,{"$f":"AC34*VLOOKUP(AB34,$AB$2:$AF$8,4,FALSE)","v":450},55,150,4,{"$error":"#N/A"},null,62,null,57,null,"橙","低",0.6,0.7,{"$nulls":4},60,450,350,{"$f":"AU43","v":60},{"$f":"AV43","v":450},{"$f":"AW43","v":350},{"$nulls":8},60,250,150,{"$f":"BI43","v":60},250,150,{"$nulls":7},60,350,250,{"$f":"BV43","v":60},350,250,{"$nulls":7},56,720,840,{"$nulls":9},56,840,960,{"$nulls":10},56,960,1200]
[null,"2#1440","2#2160",null,"2#1440","2160",1836,"2#1836",{"$nulls":17},{"$error":"#N/A"},0,54,{"$f":"AC35*VLOOKUP(AB35,$AB$2:$AF$8,4,FALSE)","v":450},53,1800,55,250,null,51,null,52,null,null,"中",0.7,0.8,{"$nulls":44},1,1080,1260,{"$nulls":9},1,1260,1440,{"$nulls":10},1,1440,1800]
[null,"2#1440","2#2160",null,"2#1440","2160",1836,"2#1836",1,"中级",{"v":0.65,"d":"65%"},{"v":0.7,"d":"70%"},1,"重铸50级基础",{"v":0.4,"d":"40%"},{"v":0.45,"d":"45%"},{"$nulls":9},56,2100,{"$error":"#N/A"},{"$f":"AC36*VLOOKUP(AB36,$AB$2:$AF$8,4,FALSE)","v":0},54,1800,56,300,null,5,null,60,null,null,"高",0.8,1,{"$nulls":44},2,216,252,{"$nulls":9},2,252,288,{"$nulls":10},2,288,360]
[null,"2#1440","2#2160",null,"2#1440","2160",1836,"2#1836",{"$nulls":4},"紫下","紫上",null,null,"橙下","橙上",{"$nulls":9},60,{"$f":"AC37*VLOOKUP(AB37,$AB$2:$AF$8,4,FALSE)","v":0},56,600,null,{"$error":"#N/A"},{"$nulls":53},3,216,252,{"$nulls":9},3,252,288,{"$nulls":10},3,288,360]
[null,"2#1440","2#2160",null,"2#1440","2160",1836,"2#1836","武器",2,{"$f":"INT((L17-K17)*$K$45+K17)","v":1101},{"$f":"INT((L17-K17)*$L$45+K17)","v":1126},{"$f":"$J47&\"#\"&K47","v":"2#1101"},{"$f":"$J47&\"#\"&L47","v":"2#1126"},{"$f":"INT((P17-O17)*$O$45+O17)","v":1728},{"$f":"INT((P17-O17)*$P$45+O17)","v":1764},{"$f":"$J47&\"#\"&O47","v":"2#1728"},{"$f":"$J47&\"#\"&P47","v":"2#1764"},{"$nulls":68},4,216,252,{"$nulls":9},4,252,288,{"$nulls":10},4,288,360]
[null,"2#1440","2#2160",null,"2#1440","2160",1836,"2#1836","甲",3,{"$f":"INT((L18-K18)*$K$45+K18)","v":1194},{"$f":"INT((L18-K18)*$L$45+K18)","v":1220},"3#1194","3#1220",{"$f":"INT((P18-O18)*$O$45+O18)","v":1872},{"$f":"INT((P18-O18)*$P$45+O18)","v":1911},"3#1872","3#1911",{"$nulls":68},55,300,350,{"$nulls":9},55,350,400,{"$nulls":10},55,400,500]
[null,"2#1440","2#2160",null,"2#1440","2160",1836,"2#1836","甲",4,1194,1220,"4#1194","4#1220",1872,1911,"4#1872","4#1911",{"$nulls":3},"紫",{"$nulls":11},"上","低下","低上","中下","中上","高下","高上","低下","低上","中下","中上","高下","高上",null,5,{"$f":"AN50","v":86},{"$nulls":37},56,360,420,{"$nulls":9},56,420,480,{"$nulls":10},56,480,600]
[null,"2#1440","2#2160",null,"2#1440","2160",1836,"2#1836","盔",1,11021,11269,"1#11021","1#11269",17280,17640,"1#17280","1#17640",{"$nulls":4},5,77,58,null,96,77,null,{"$f":"Y50","v":58},{"$f":"AA50","v":96},null,null,{"$f":"AE50","v":96},{"$f":"INT(AH50*$AO$39)","v":28},{"$f":"INT(AH50*$AP$39)","v":48},{"$f":"INT(AH50*AO$40)","v":48},{"$f":"INT(AH50*AP$40)","v":67},{"$f":"INT(AH50*$AO$41)","v":67},{"$f":"INT(AH50*$AP$41)","v":86},{"$f":"$W50&\"#\"&AI50","v":"5#28"},"5#48","5#48","5#67","5#67","5#86",null,53,{"$f":"AN51","v":675},{"$nulls":37},5,50,58,{"$nulls":9},5,58,67,{"$nulls":10},5,67,84]
[null,"2#1440","2#2160",null,"2#1440","2160",1836,"2#1836","鞋",5,414,423,"5#414","5#423",672,686,"5#672","5#686",{"$nulls":4},53,600,450,null,750,600,null,450,750,null,null,{"$f":"AE51","v":750},{"$f":"INT(AH51*$AO$39)","v":225},375,375,525,525,{"$f":"INT(AH51*$AP$41)","v":675},{"$f":"$W51&\"#\"&AI51","v":"53#225"},{"$f":"$W51&\"#\"&AJ51","v":"53#375"},{"$f":"$W51&\"#\"&AK51","v":"53#375"},{"$f":"$W51&\"#\"&AL51","v":"53#525"},{"$f":"$W51&\"#\"&AM51","v":"53#525"},{"$f":"$W51&\"#\"&AN51","v":"53#675"},null,54,675,{"$nulls":37},53,600,700,{"$nulls":9},53,700,800,{"$nulls":10},53,800,1000]
[null,"2#1440","2#2160",null,"2#1440","2160",1836,"2#1836","戒",2,367,375,"2#367","2#375",576,588,"2#576","2#588",{"$nulls":4},54,500,450,null,750,600,null,450,750,null,null,750,225,375,375,525,525,675,"54#225","54#375","54#375","54#525","54#525","54#675",null,55,540,{"$nulls":37},55,600,700,{"$nulls":9},55,700,800,{"$nulls":10},55,800,1000]
[null,"2#1440","2#2160",null,"2#1440","2160",1836,"2#1836","带",1,2938,3004,"1#2938","1#3004",4608,4704,"1#4608","1#4704",{"$nulls":4},55,480,360,null,600,480,null,360,600,null,null,600,180,300,300,420,420,540,"55#180","55#300","55#300","55#420","55#420","55#540",null,56,1890,{"$nulls":37},56,1200,1400,{"$nulls":9},56,1400,1600,{"$nulls":10},56,1600,2000]
[null,"3#1560","3#2340",null,"3#1560","2340",1989,"3#1989",{"$nulls":14},56,1680,1260,null,2100,1680,null,1260,2100,null,null,2100,630,1050,1050,1470,1470,1890,"56#630","56#1050","56#1050","56#1470","56#1470","56#1890",null,1,2870,{"$nulls":37},51,600,700,{"$f":"CI54","v":51},600,700,{"$nulls":6},51,700,800,{"$f":"CU54","v":51},700,800,{"$nulls":7},51,800,1000,{"$f":"DH54","v":51},{"$f":"DI54","v":800},{"$f":"DJ54","v":1000}]
[null,"3#1560","3#2340",null,"3#1560","2340",1989,"3#1989",3,"高级",{"v":0.9,"d":"90%"},{"v":0.95,"d":"95%"},1,"中上",{"v":0.75,"d":"75%"},{"v":0.8,"d":"80%"},{"$nulls":6},1,2570,1950,null,3189,2570,null,1950,3189,null,null,3189,956,1594,1594,2232,2232,2870,"1#956","1#1594","1#1594","1#2232","1#2232","1#2870",null,2,190,{"$nulls":37},62,600,700,{"$f":"CI55","v":62},600,700,{"$nulls":6},62,700,800,{"$f":"CU55","v":62},700,800,{"$nulls":7},62,800,1000,{"$f":"DH55","v":62},{"$f":"DI55","v":800},{"$f":"DJ55","v":1000}]
[null,"3#1560","3#2340",null,"3#1560","2340",1989,"3#1989",{"$nulls":4},"紫下","紫上",null,null,"橙下","橙上",{"$nulls":4},2,171,130,null,212,171,null,130,212,null,null,212,63,106,106,148,148,190,"2#63","2#106","2#106","2#148","2#148","2#190",null,53,405,{"$nulls":37},54,600,700,{"$nulls":9},54,700,800,{"$nulls":10},54,800,1000]
[null,"4#1560","4#2340",null,"4#1560","2340",1989,"4#1989","武器",2,{"$f":"INT((L17-K17)*$K$55+K17)","v":1225},{"$f":"INT((L17-K17)*$L$55+K17)","v":1250},{"$f":"$J57&\"#\"&K57","v":"2#1225"},{"$f":"$J57&\"#\"&L57","v":"2#1250"},{"$f":"INT((P17-O17)*$O$55+O17)","v":1980},{"$f":"INT((P17-O17)*$P$55+O17)","v":2016},{"$f":"$J57&\"#\"&O57","v":"2#1980"},{"$f":"$J57&\"#\"&P57","v":"2#2016"},{"$nulls":4},53,360,270,null,450,360,null,270,450,null,null,450,135,225,225,315,315,405,"53#135","53#225","53#225","53#315","53#315","53#405",null,54,405,{"$nulls":37},60,600,700,{"$nulls":9},60,700,800,{"$nulls":10},60,800,1000]
[null,"4#1560","4#2340",null,"4#1560","2340",1989,"4#1989","甲",3,{"$f":"INT((L18-K18)*$K$55+K18)","v":1328},{"$f":"INT((L18-K18)*$L$55+K18)","v":1355},"3#1328","3#1355",{"$f":"INT((P18-O18)*$O$55+O18)","v":2145},{"$f":"INT((P18-O18)*$P$55+O18)","v":2184},"3#2145","3#2184",{"$nulls":4},54,360,270,null,450,360,null,270,450,null,null,450,135,225,225,315,315,405,"54#135","54#225","54#225","54#315","54#315","54#405",null,3,477,{"$nulls":37},57,1200,1400,{"$f":"CI58","v":57},1200,1400,{"$nulls":6},57,1400,1600,{"$f":"CU58","v":57},1400,1600,{"$nulls":7},57,1600,2000,57,1600,2000]
[null,"4#1560","4#2340",null,"4#1560","2340",1989,"4#1989","甲",4,1328,1355,"4#1328","4#1355",2145,2184,"4#2145","4#2184",{"$nulls":4},3,428,325,null,531,428,null,325,531,null,null,531,159,265,265,371,371,477,"3#159","3#265","3#265","3#371","3#371","3#477",null,4,477,{"$nulls":37},58,1200,1400,{"$f":"CI59","v":58},1200,1400,{"$nulls":6},58,1400,1600,{"$f":"CU59","v":58},1400,1600,{"$nulls":7},58,1600,2000,58,1600,2000]
[null,"1#14400","1#21600",null,"1#14400","21600",18360,"1#18360","盔",1,12260,12508,"1#12260","1#12508",19800,20160,"1#19800","1#20160",{"$nulls":4},4,428,325,null,531,428,null,325,531,null,null,531,159,265,265,371,371,477,"4#159","4#265","4#265","4#371","4#371","4#477",null,5,43,{"$nulls":37},52,600,700,{"$f":"CI60","v":52},600,700,{"$nulls":6},52,700,800,{"$f":"CU60","v":52},700,800,{"$nulls":7},52,800,1000,52,800,1000]
[null,"1#14400","1#21600",null,"1#14400","21600",18360,"1#18360","鞋",5,461,470,"5#461","5#470",770,784,"5#770","5#784",{"$nulls":4},5,38,29,null,48,38,null,29,48,null,null,48,14,24,24,33,33,43,"5#14","5#24","5#24","5#33","5#33","5#43",null,53,1620,{"$nulls":37},61,600,700,{"$f":"CI61","v":61},600,700,{"$nulls":6},61,700,800,{"$f":"CU61","v":61},700,800,{"$nulls":7},61,800,1000,61,800,1000]
[null,"1#14400","1#21600",null,"1#14400","21600",18360,"1#18360","戒",2,408,416,"2#408","2#416",660,672,"2#660","2#672",{"$nulls":4},53,1440,1080,null,1800,1440,null,1080,1800,null,null,1800,540,900,900,1260,1260,1620,"53#540","53#900","53#900","53#1260","53#1260","53#1620",null,54,1620]
[null,"5#560","5#840",null,"5#560","840",714,"5#714","带",1,3268,3334,"1#3268","1#3334",5280,5376,"1#5280","1#5376",{"$nulls":4},54,1440,1080,null,1800,1440,null,1080,1800,null,null,1800,540,900,900,1260,1260,1620,"54#540","54#900","54#900","54#1260","54#1260","54#1620",null,55,135]
[null,"5#560","5#840",null,"5#560","840",714,"5#714",{"$nulls":14},55,120,90,null,150,120,null,90,150,null,null,150,45,75,75,105,105,135,"55#45","55#75","55#75","55#105","55#105","55#135",null,56,540]
[null,"5#560","5#840",null,"5#560","840",714,"5#714",{"$nulls":4},3,"高级",{"v":0.9,"d":"90%"},{"v":0.95,"d":"95%"},{"$nulls":6},56,480,360,null,600,480,null,360,600,null,null,600,180,300,300,420,420,540,"56#180","56#300","56#300","56#420","56#420","56#540",null,1,956]
[null,"2#480","2#720",null,"2#480","720",612,"2#612",{"$nulls":8},"橙下","橙上",{"$nulls":4},1,856,650,null,1063,856,null,650,1063,null,null,1063,318,531,531,744,744,956,"1#318","1#531","1#531","1#744","1#744","1#956",null,2,190]
[null,"2#480","2#720",null,"2#480","720",612,"2#612","武器",2,{"$nulls":4},{"$f":"INT((P17-O17)*$O$65+O17)","v":2088},{"$f":"INT((P17-O17)*$P$65+O17)","v":2124},{"$f":"$J67&\"#\"&O67","v":"2#2088"},{"$f":"$J67&\"#\"&P67","v":"2#2124"},{"$nulls":4},2,171,130,null,212,171,null,130,212,null,null,212,63,106,106,148,148,190,"2#63","2#106","2#106","2#148","2#148","2#190",null,3,190]
[null,"2#480","2#720",null,"2#480","720",612,"2#612","甲",3,{"$nulls":4},{"$f":"INT((P18-O18)*$O$65+O18)","v":2262},{"$f":"INT((P18-O18)*$P$65+O18)","v":2301},{"$f":"$J68&\"#\"&O68","v":"3#2262"},{"$f":"$J68&\"#\"&P68","v":"3#2301"},{"$nulls":4},3,171,130,null,212,171,null,130,212,null,null,212,63,106,106,148,148,190,"3#63","3#106","3#106","3#148","3#148","3#190",null,4,190]
[null,"1#3840","1#5760",null,"1#3840","5760",4896,"1#4896","甲",4,{"$nulls":4},2262,2301,"4#2262","4#2301",{"$nulls":4},4,171,130,null,212,171,null,130,212,null,null,212,63,106,106,148,148,190,"4#63","4#106","4#106","4#148","4#148","4#190",null,55,225]
[null,"1#3840","1#5760",null,"1#3840","5760",4896,"1#4896","盔",1,{"$nulls":4},20880,21240,"1#20880","1#21240",{"$nulls":4},55,200,150,null,250,200,null,150,250,null,null,250,75,125,125,175,175,225,"55#75","55#125","55#125","55#175","55#175","55#225",null,56,270]
[null,"1#3840","1#5760",null,"1#3840","5760",4896,"1#4896","鞋",5,{"$nulls":4},812,826,"5#812","5#826",{"$nulls":4},56,240,180,null,300,240,null,180,300,null,null,300,90,150,150,210,210,270,"56#90","56#150","56#150","56#210","56#210","56#270",null,5,43]
[{"$nulls":8},"戒",2,{"$nulls":4},696,708,"2#696","2#708",{"$nulls":4},5,38,29,null,48,38,null,29,48,null,null,48,14,24,24,33,33,43,"5#14","5#24","5#24","5#33","5#33","5#43",null,53,900]
[{"$nulls":8},"带",1,{"$nulls":4},5568,5664,"1#5568","1#5664",{"$nulls":4},53,800,600,null,1000,800,null,600,1000,null,null,1000,300,500,500,700,700,900,"53#300","53#500","53#500","53#700","53#700","53#900",null,55,450]
[{"$nulls":22},55,400,300,null,500,400,null,300,500,null,null,500,150,250,250,350,350,450,"55#150","55#250","55#250","55#350","55#350","55#450",null,56,900]
[{"$nulls":22},56,800,600,null,1000,800,null,600,1000,null,null,1000,300,500,500,700,700,900,"56#300","56#500","56#500","56#700","56#700","56#900",null,61,900]
[{"$nulls":22},61,800,600,null,1000,800,null,600,1000,null,null,1000,300,500,500,700,700,900,"61#300","61#500","61#500","61#700","61#700","61#900",null,54,900]
[{"$nulls":22},54,800,600,null,1000,800,null,{"$f":"Y77","v":600},{"$f":"AA77","v":1000},null,null,{"$f":"AE77","v":1000},300,500,500,700,700,900,"54#300","54#500","54#500","54#700","54#700","54#900",null,60,450]
[{"$nulls":22},60,400,300,null,500,400,null,300,500,null,null,500,150,250,250,350,350,450,"60#150","60#250","60#250","60#350","60#350","60#450"]
[]
[]
[{"$nulls":21},"橙",{"$nulls":11},"上","低下","低上","中下","中上","高下","高上","低下","低上","中下","中上","高下","高上"]
[{"$nulls":22},5,140,112,null,168,140,null,112,168,null,null,168,{"$f":"INT(AH82*$AO$43)","v":100},{"$f":"INT(AH82*$AP$43)","v":117},{"$f":"INT(AH82*AO$44)","v":117},{"$f":"INT(AH82*AP$44)","v":134},{"$f":"INT(AH82*$AO$45)","v":134},{"$f":"INT(AH82*$AP$45)","v":168},{"$f":"$W82&\"#\"&AI82","v":"5#100"},"5#117","5#117","5#134","5#134","5#168",null,5,{"$f":"AI82","v":100}]
[{"$nulls":22},53,1000,750,null,1250,1000,null,750,1250,null,null,1250,{"$f":"INT(AH83*$AO$43)","v":750},{"$f":"INT(AH83*$AP$43)","v":875},{"$f":"INT(AH83*AO$44)","v":875},{"$f":"INT(AH83*AP$44)","v":1000},{"$f":"INT(AH83*$AO$45)","v":1000},{"$f":"INT(AH83*$AP$45)","v":1250},{"$f":"$W83&\"#\"&AI83","v":"53#750"},"53#875","53#875","53#1000","53#1000","53#1250",null,53,{"$f":"AI83","v":750}]
[{"$nulls":22},54,1000,750,null,1250,1000,null,750,1250,null,null,1250,750,875,875,1000,1000,1250,{"$f":"$W84&\"#\"&AI84","v":"54#750"},"54#875","54#875","54#1000","54#1000","54#1250",null,54,750]
[{"$nulls":22},55,960,720,null,1200,960,null,720,1200,null,null,1200,720,840,840,960,960,1200,{"$f":"$W85&\"#\"&AI85","v":"55#720"},"55#840","55#840","55#960","55#960","55#1200",null,55,720]
[{"$nulls":22},56,3360,2520,null,4200,3360,null,2520,4200,null,null,4200,2520,2940,2940,3360,3360,4200,{"$f":"$W86&\"#\"&AI86","v":"56#2520"},"56#2940","56#2940","56#3360","56#3360","56#4200",null,56,2520]
[{"$nulls":22},101,1280,960,null,1600,1280,null,960,1600,null,null,1600,960,1120,1120,1280,1280,1600,{"$f":"$W87&\"#\"&AI87","v":"101#960"},"101#1120","101#1120","101#1280","101#1280","101#1600",null,101,960]
[{"$nulls":22},102,1280,960,null,1600,1280,null,960,1600,null,null,1600,960,1120,1120,1280,1280,1600,{"$f":"$W88&\"#\"&AI88","v":"102#960"},"102#1120","102#1120","102#1280","102#1280","102#1600",null,102,960]
[{"$nulls":22},103,1280,960,null,1600,1280,null,960,1600,null,null,1600,960,1120,1120,1280,1280,1600,{"$f":"$W89&\"#\"&AI89","v":"103#960"},"103#1120","103#1120","103#1280","103#1280","103#1600",null,103,960]
[{"$nulls":22},104,1280,960,null,1600,1280,null,960,1600,null,null,1600,960,1120,1120,1280,1280,1600,{"$f":"$W90&\"#\"&AI90","v":"104#960"},"104#1120","104#1120","104#1280","104#1280","104#1600",null,104,960]
[{"$nulls":22},105,1280,960,null,1600,1280,null,960,1600,null,null,1600,960,1120,1120,1280,1280,1600,{"$f":"$W91&\"#\"&AI91","v":"105#960"},"105#1120","105#1120","105#1280","105#1280","105#1600",null,105,960]
[{"$nulls":22},106,1280,960,null,1600,1280,null,960,1600,null,null,1600,960,1120,1120,1280,1280,1600,{"$f":"$W92&\"#\"&AI92","v":"106#960"},"106#1120","106#1120","106#1280","106#1280","106#1600",null,106,960]
[{"$nulls":22},1,4500,3600,null,5400,4500,null,3600,6000,null,null,6000,3600,4200,4200,4800,4800,6000,{"$f":"$W93&\"#\"&AI93","v":"1#3600"},"1#4200","1#4200","1#4800","1#4800","1#6000",null,1,3600]
[{"$nulls":22},2,300,240,null,360,300,null,240,360,null,null,360,216,252,252,288,288,360,{"$f":"$W94&\"#\"&AI94","v":"2#216"},"2#252","2#252","2#288","2#288","2#360",null,2,216]
[{"$nulls":22},53,600,450,null,750,600,null,450,750,null,null,750,450,525,525,600,600,750,{"$f":"$W95&\"#\"&AI95","v":"53#450"},"53#525","53#525","53#600","53#600","53#750",null,53,450]
[{"$nulls":22},54,600,450,null,750,600,null,450,750,null,null,750,450,525,525,600,600,750,{"$f":"$W96&\"#\"&AI96","v":"54#450"},"54#525","54#525","54#600","54#600","54#750",null,54,450]
[{"$nulls":22},60,1600,1200,null,2000,1600,null,1200,2000,null,null,2000,1200,1400,1400,1600,1600,2000,{"$f":"$W97&\"#\"&AI97","v":"60#1200"},"60#1400","60#1400","60#1600","60#1600","60#2000",null,60,1200]
[{"$nulls":22},107,1280,960,null,1600,1280,null,960,1600,null,null,1600,960,1120,1120,1280,1280,1600,{"$f":"$W98&\"#\"&AI98","v":"107#960"},"107#1120","107#1120","107#1280","107#1280","107#1600",null,107,960]
[{"$nulls":22},108,1280,960,null,1600,1280,null,960,1600,null,null,1600,960,1120,1120,1280,1280,1600,{"$f":"$W99&\"#\"&AI99","v":"108#960"},"108#1120","108#1120","108#1280","108#1280","108#1600",null,108,960]
[{"$nulls":22},109,1280,960,null,1600,1280,null,960,1600,null,null,1600,960,1120,1120,1280,1280,1600,{"$f":"$W100&\"#\"&AI100","v":"109#960"},"109#1120","109#1120","109#1280","109#1280","109#1600",null,109,960]
[{"$nulls":22},110,1280,960,null,1600,1280,null,960,1600,null,null,1600,960,1120,1120,1280,1280,1600,{"$f":"$W101&\"#\"&AI101","v":"110#960"},"110#1120","110#1120","110#1280","110#1280","110#1600",null,110,960]
[{"$nulls":22},111,1280,960,null,1600,1280,null,960,1600,null,null,1600,960,1120,1120,1280,1280,1600,{"$f":"$W102&\"#\"&AI102","v":"111#960"},"111#1120","111#1120","111#1280","111#1280","111#1600",null,111,960]
[{"$nulls":22},112,1280,960,null,1600,1280,null,960,1600,null,null,1600,960,1120,1120,1280,1280,1600,{"$f":"$W103&\"#\"&AI103","v":"112#960"},"112#1120","112#1120","112#1280","112#1280","112#1600",null,112,960]
[{"$nulls":22},3,750,600,null,900,750,null,600,900,null,null,900,540,630,630,720,720,900,{"$f":"$W104&\"#\"&AI104","v":"3#540"},"3#630","3#630","3#720","3#720","3#900",null,3,540]
[{"$nulls":22},4,750,600,null,900,750,null,600,900,null,null,900,540,630,630,720,720,900,{"$f":"$W105&\"#\"&AI105","v":"4#540"},"4#630","4#630","4#720","4#720","4#900",null,4,540]
[{"$nulls":22},5,70,56,null,84,70,null,56,84,null,null,84,50,58,58,67,67,84,{"$f":"$W106&\"#\"&AI106","v":"5#50"},"5#58","5#58","5#67","5#67","5#84",null,5,50]
[{"$nulls":22},53,2400,1800,null,3000,2400,null,1800,3000,null,null,3000,1800,2100,2100,2400,2400,3000,{"$f":"$W107&\"#\"&AI107","v":"53#1800"},"53#2100","53#2100","53#2400","53#2400","53#3000",null,53,1800]
[{"$nulls":22},54,2400,1800,null,3000,2400,null,1800,3000,null,null,3000,1800,2100,2100,2400,2400,3000,{"$f":"$W108&\"#\"&AI108","v":"54#1800"},"54#2100","54#2100","54#2400","54#2400","54#3000",null,54,1800]
[{"$nulls":22},55,240,180,null,300,240,null,180,300,null,null,300,180,210,210,240,240,300,{"$f":"$W109&\"#\"&AI109","v":"55#180"},"55#210","55#210","55#240","55#240","55#300",null,55,180]
[{"$nulls":22},56,960,720,null,1200,960,null,720,1200,null,null,1200,720,840,840,960,960,1200,{"$f":"$W110&\"#\"&AI110","v":"56#720"},"56#840","56#840","56#960","56#960","56#1200",null,56,720]
[{"$nulls":22},1,1500,1200,null,1800,1500,null,{"$f":"Y111","v":1200},{"$f":"AA111","v":1800},null,null,{"$f":"AE111","v":1800},1080,1260,1260,1440,1440,1800,{"$f":"$W111&\"#\"&AI111","v":"1#1080"},{"$f":"$W111&\"#\"&AJ111","v":"1#1260"},{"$f":"$W111&\"#\"&AK111","v":"1#1260"},{"$f":"$W111&\"#\"&AL111","v":"1#1440"},{"$f":"$W111&\"#\"&AM111","v":"1#1440"},{"$f":"$W111&\"#\"&AN111","v":"1#1800"},null,1,1080]
[{"$nulls":22},2,300,240,null,360,300,null,240,360,null,null,360,216,252,252,288,288,360,"2#216","2#252","2#252","2#288","2#288","2#360",null,2,216]
[{"$nulls":22},3,300,240,null,360,300,null,240,360,null,null,360,216,252,252,288,288,360,"3#216","3#252","3#252","3#288","3#288","3#360",null,3,216]
[{"$nulls":22},4,300,240,null,360,300,null,240,360,null,null,360,216,252,252,288,288,360,"4#216","4#252","4#252","4#288","4#288","4#360",null,4,216]
[{"$nulls":22},55,400,300,null,500,400,null,300,500,null,null,500,300,350,350,400,400,500,"55#300","55#350","55#350","55#400","55#400","55#500",null,55,300]
[{"$nulls":22},56,480,360,null,600,480,null,360,600,null,null,600,360,420,420,480,480,600,"56#360","56#420","56#420","56#480","56#480","56#600",null,56,360]
[{"$nulls":22},5,70,56,null,84,70,null,56,84,null,null,84,50,58,58,67,67,84,"5#50","5#58","5#58","5#67","5#67","5#84",null,5,50]
[{"$nulls":22},53,800,600,null,1000,800,null,600,1000,null,null,1000,600,700,700,800,800,1000,"53#600","53#700","53#700","53#800","53#800","53#1000",null,53,600]
[{"$nulls":22},55,800,600,null,1000,800,null,600,1000,null,null,1000,600,700,700,800,800,1000,"55#600","55#700","55#700","55#800","55#800","55#1000",null,55,600]
[{"$nulls":22},56,1600,1200,null,2000,1600,null,1200,2000,null,null,2000,1200,1400,1400,1600,1600,2000,"56#1200","56#1400","56#1400","56#1600","56#1600","56#2000",null,56,1200]
[{"$nulls":22},51,800,600,null,1000,800,null,600,1000,null,null,1000,600,700,700,800,800,1000,"51#600","51#700","51#700","51#800","51#800","51#1000",null,51,600]
[{"$nulls":22},62,800,600,null,1000,800,null,600,1000,null,null,1000,600,700,700,800,800,1000,"62#600","62#700","62#700","62#800","62#800","62#1000",null,62,600]
[{"$nulls":22},54,800,600,null,1000,800,null,600,1000,null,null,1000,600,700,700,800,800,1000,"54#600","54#700","54#700","54#800","54#800","54#1000",null,54,600]
[{"$nulls":22},60,800,600,null,1000,800,null,600,1000,null,null,1000,600,700,700,800,800,1000,"60#600","60#700","60#700","60#800","60#800","60#1000",null,60,600]
[{"$nulls":22},57,1600,1200,null,2000,1600,null,1200,2000,null,null,2000,1200,1400,1400,1600,1600,2000,"57#1200","57#1400","57#1400","57#1600","57#1600","57#2000",null,57,1200]
[{"$nulls":22},58,1600,1200,null,2000,1600,null,1200,2000,null,null,2000,1200,1400,1400,1600,1600,2000,"58#1200","58#1400","58#1400","58#1600","58#1600","58#2000",null,58,1200]
[{"$nulls":22},52,800,600,null,1000,800,null,600,1000,null,null,1000,600,700,700,800,800,1000,"52#600","52#700","52#700","52#800","52#800","52#1000",null,52,600]
[{"$nulls":22},61,800,600,null,1000,800,null,600,1000,null,null,1000,600,700,700,800,800,1000,"61#600","61#700","61#700","61#800","61#800","61#1000",null,61,600]