{"text_format":"3","workbook":"xlsx","n_sheets":8,"sheets":["AdventureConfig","辅助设计表","奖励组表","y异妖配件","外敌入侵","Sheet2","奖励辅助表","发现者奖励"],"not_rendered":{"external_links":2},"read":"whole","date_system":"1900"}

{"sheet":"AdventureConfig","index":0,"n_rows":15,"n_cols":16,"rows_kept":15}
[null,"Id","AreaName","OpenLevel","SystemBoss","SystemBossTime","BaseRewardGroup","RandomRewardGroup","RewardAddShow","UpgradeConsume","UpShow","InvasionBoss","InvasionBossReward","InvasionBossTime","InvasionBossRefresh","InvasionBossHolding"]
[null,"int","string","mut,int#int,1","int","int","mut,int#int,1","mut,int#int,2","mut,int#int,2","mut,int#int,2","mut,int#int,1","mut,int#int,3","mut,int#int,3","int","int","int"]
[null,2,2,2,2,2,2,2,3,2,3,4,2,2,4,2]
[null,"区域编号","区域名称","解锁等级\n1级#2级#3级","关底boss组\n只有第一次解锁区域要打boss组\n(显示默认第一个怪物的头像）","关底boss最大战斗时长(s）","基础奖励组\n显示图rewardgroup\n1级基础奖励组#2级基础奖励组#3级基础奖励组","概率获取掉落组id\n1级掉落组1#1级掉落组2|2级掉落组1#2级掉落组2","掉落新增\n2级掉落新增|3级掉落新增","进阶消耗","奖励面板上面显示道具id","外敌入侵怪物组\n怪物组id#权重|怪物组id#权重,怪物组id#权重|怪物组id#权重","外敌入侵发现者奖励\n怪物组id#奖励组id|怪物组id#奖励组id,怪物组id#奖励组id|怪物组id#奖励组id","外敌入侵最大战斗时长(s）","外敌入侵刷新时间(s)","外敌入侵保留时间(s)"]
["默认值",0,{"$f":"\"\"","v":""},0,0,0,"null","null","null","null","null",null,null,0,0,0]
["正确性校对"]
["校对值"]
[null,1,"起源之地","17#59#73",25001,300,"101#151#191","91|81|71","1511|1512","14#1000000|14#5000000","14#3","601011#400|601012#600,601021#400|601022#600,601031#400|601032#600","601011#210101|601012#210101|602011#210201|602012#210201|603011#210301|603012#210301|604011#210401|604012#210401|605011#210501|605012#210501|606011#210601|606012#210601|607011#210701|607012#210701|608011#210801|608012#210801,601021#210102|601022#210102|602021#210202|602022#210202|603021#210302|603022#210302|604021#210402|604022#210402|605021#210502|605022#210502|606021#210602|606022#210602|607021#210702|607022#210702|608021#210802|608022#210802,601031#210103|601032#210103|602031#210203|602032#210203|603031#210303|603032#210303|604031#210403|604032#210403|605031#210503|605032#210503|606031#210603|606032#210603|607031#210703|607032#210703|608031#210803|608032#210803",180,{"$f":"60*60","v":3600},{"$f":"3600*3","v":10800}]
[null,2,"遗忘之路","25#61#75",25002,300,"102#152#192","92|82|72","1511|1512","14#1500000|14#6000000","14#3","602011#400|602012#600,602021#400|602022#600,602031#400|602032#600","601011#210101|601012#210101|602011#210201|602012#210201|603011#210301|603012#210301|604011#210401|604012#210401|605011#210501|605012#210501|606011#210601|606012#210601|607011#210701|607012#210701|608011#210801|608012#210801,601021#210102|601022#210102|602021#210202|602022#210202|603021#210302|603022#210302|604021#210402|604022#210402|605021#210502|605022#210502|606021#210602|606022#210602|607021#210702|607022#210702|608021#210802|608022#210802,601031#210103|601032#210103|602031#210203|602032#210203|603031#210303|603032#210303|604031#210403|604032#210403|605031#210503|605032#210503|606031#210603|606032#210603|607031#210703|607032#210703|608031#210803|608032#210803",180,{"$f":"60*60","v":3600},{"$f":"3600*3","v":10800}]
[null,3,"后悔石室","32#63#77",25003,300,"103#153#193","93|83|73","1511|1512","14#2000000|14#7000000","14#3","603011#400|603012#600,603021#400|603022#600,603031#400|603032#600","601011#210101|601012#210101|602011#210201|602012#210201|603011#210301|603012#210301|604011#210401|604012#210401|605011#210501|605012#210501|606011#210601|606012#210601|607011#210701|607012#210701|608011#210801|608012#210801,601021#210102|601022#210102|602021#210202|602022#210202|603021#210302|603022#210302|604021#210402|604022#210402|605021#210502|605022#210502|606021#210602|606022#210602|607021#210702|607022#210702|608021#210802|608022#210802,601031#210103|601032#210103|602031#210203|602032#210203|603031#210303|603032#210303|604031#210403|604032#210403|605031#210503|605032#210503|606031#210603|606032#210603|607031#210703|607032#210703|608031#210803|608032#210803",180,3600,10800]
[null,4,"罪罚神殿","40#65#79",25004,300,"104#154#194","94|84|74","1511|1512","14#2500000|14#8000000","14#3","604011#400|604012#600,604021#400|604022#600,604031#400|604032#600","601011#210101|601012#210101|602011#210201|602012#210201|603011#210301|603012#210301|604011#210401|604012#210401|605011#210501|605012#210501|606011#210601|606012#210601|607011#210701|607012#210701|608011#210801|608012#210801,601021#210102|601022#210102|602021#210202|602022#210202|603021#210302|603022#210302|604021#210402|604022#210402|605021#210502|605022#210502|606021#210602|606022#210602|607021#210702|607022#210702|608021#210802|608022#210802,601031#210103|601032#210103|602031#210203|602032#210203|603031#210303|603032#210303|604031#210403|604032#210403|605031#210503|605032#210503|606031#210603|606032#210603|607031#210703|607032#210703|608031#210803|608032#210803",180,3600,10800]
[null,5,"祈祷圣所","46#67#81",25005,300,"105#155#195","95|85|75","1512|0","14#3000000|14#9000000","14#3","605011#400|605012#600,605021#400|605022#600,605031#400|605032#600","601011#210101|601012#210101|602011#210201|602012#210201|603011#210301|603012#210301|604011#210401|604012#210401|605011#210501|605012#210501|606011#210601|606012#210601|607011#210701|607012#210701|608011#210801|608012#210801,601021#210102|601022#210102|602021#210202|602022#210202|603021#210302|603022#210302|604021#210402|604022#210402|605021#210502|605022#210502|606021#210602|606022#210602|607021#210702|607022#210702|608021#210802|608022#210802,601031#210103|601032#210103|602031#210203|602032#210203|603031#210303|603032#210303|604031#210403|604032#210403|605031#210503|605032#210503|606031#210603|606032#210603|607031#210703|607032#210703|608031#210803|608032#210803",180,3600,10800]
[null,6,"永劫业火","50#69#83",25006,300,"106#156#196","96|86|76","1512|0","14#3500000|14#10000000","14#3","606011#400|606012#600,606021#400|606022#600,606031#400|606032#600","601011#210101|601012#210101|602011#210201|602012#210201|603011#210301|603012#210301|604011#210401|604012#210401|605011#210501|605012#210501|606011#210601|606012#210601|607011#210701|607012#210701|608011#210801|608012#210801,601021#210102|601022#210102|602021#210202|602022#210202|603021#210302|603022#210302|604021#210402|604022#210402|605021#210502|605022#210502|606021#210602|606022#210602|607021#210702|607022#210702|608021#210802|608022#210802,601031#210103|601032#210103|602031#210203|602032#210203|603031#210303|603032#210303|604031#210403|604032#210403|605031#210503|605032#210503|606031#210603|606032#210603|607031#210703|607032#210703|608031#210803|608032#210803",180,3600,10800]
[null,7,"无生密室","53#70#84",25007,300,"107#157#197","97|87|77","1512|0","14#4000000|14#11000000","14#3","607011#400|607012#600,607021#400|607022#600,607031#400|607032#600","601011#210101|601012#210101|602011#210201|602012#210201|603011#210301|603012#210301|604011#210401|604012#210401|605011#210501|605012#210501|606011#210601|606012#210601|607011#210701|607012#210701|608011#210801|608012#210801,601021#210102|601022#210102|602021#210202|602022#210202|603021#210302|603022#210302|604021#210402|604022#210402|605021#210502|605022#210502|606021#210602|606022#210602|607021#210702|607022#210702|608021#210802|608022#210802,601031#210103|601032#210103|602031#210203|602032#210203|603031#210303|603032#210303|604031#210403|604032#210403|605031#210503|605032#210503|606031#210603|606032#210603|607031#210703|607032#210703|608031#210803|608032#210803",180,3600,10800]
[null,8,"万神黄昏","56#71#90",25008,300,"108#158#198","98|88|78","1512|0","14#4500000|14#12000000","14#3","608011#400|608012#600,608021#400|608022#600,608031#400|608032#600","601011#210101|601012#210101|602011#210201|602012#210201|603011#210301|603012#210301|604011#210401|604012#210401|605011#210501|605012#210501|606011#210601|606012#210601|607011#210701|607012#210701|608011#210801|608012#210801,601021#210102|601022#210102|602021#210202|602022#210202|603021#210302|603022#210302|604021#210402|604022#210402|605021#210502|605022#210502|606021#210602|606022#210602|607021#210702|607022#210702|608021#210802|608022#210802,601031#210103|601032#210103|602031#210203|602032#210203|603031#210303|603032#210303|604031#210403|604032#210403|605031#210503|605032#210503|606031#210603|606032#210603|607031#210703|607032#210703|608031#210803|608032#210803",180,3600,10800]

{"sheet":"辅助设计表","index":1,"n_rows":38,"n_cols":33,"rows_kept":38}
["挂机玩法","好友容量"]
[null,80]
[null,"玩家好友数目",null,null,"1级（2个）","2级（2个）","3级（3个）","3级权重",null,"秘境进阶所需材料","开启等级",null,"2级","开启等级",null,"3级"]
[null,{"$f":"B2*0.7","v":56},null,"秘境1","4（1）","4（1）","4（1）4（2）",442,null,"秘境1",{"$f":"MID(AdventureConfig!D8,4,2)","v":"59"},55,{"$f":"L4*2","v":110},{"$f":"RIGHT(AdventureConfig!D8,2)","v":"73"},70,{"$f":"O4*2","v":140}]
[null,"活跃好友数目",null,"秘境2","4（1）","4（1）","4（1）4（2）",442,null,"秘境2",{"$f":"MID(AdventureConfig!D9,4,2)","v":"61"},60,{"$f":"L5*2","v":120},{"$f":"RIGHT(AdventureConfig!D9,2)","v":"75"},70,{"$f":"O5*2","v":140}]
[null,{"$f":"INT(B4*0.6)","v":33},null,"秘境3","4（1）","4（1）","4（1）4（2）",442,null,"秘境3",{"$f":"MID(AdventureConfig!D10,4,2)","v":"63"},60,120,{"$f":"RIGHT(AdventureConfig!D10,2)","v":"77"},70,140]
[null,"每个秘境怪物出现概率",null,"秘境4","4（2）","4（2）","4（2）5",442,null,"秘境4",{"$f":"MID(AdventureConfig!D11,4,2)","v":"65"},65,130,{"$f":"RIGHT(AdventureConfig!D11,2)","v":"79"},70,140]
[null,{"$f":"0.0278*6","v":0.1668},null,"秘境5","4（2）","4（2）","4（2）5",442,null,"秘境5",{"$f":"MID(AdventureConfig!D12,4,2)","v":"67"},65,130,{"$f":"RIGHT(AdventureConfig!D12,2)","v":"81"},75,150]
[null,{"$f":"B8*10000","v":1668},null,"秘境6","5（2）5（2）","5（2）5（2）","5（2）5（2）",442,null,"秘境6",{"$f":"MID(AdventureConfig!D13,4,2)","v":"69"},65,130,{"$f":"RIGHT(AdventureConfig!D13,2)","v":"83"},75,150]
[{"$nulls":3},"秘境7","5（2）5（2）","5（2）5（2）","5（2）5（2）",442,null,"秘境7",{"$f":"MID(AdventureConfig!D14,4,2)","v":"70"},70,140,{"$f":"RIGHT(AdventureConfig!D14,2)","v":"84"},75,150]
[{"$nulls":3},"秘境8","5（2）5（2）","5（2）5（2）","5（2）5（2）",442,null,"秘境8",{"$f":"MID(AdventureConfig!D15,4,2)","v":"71"},70,140,{"$f":"RIGHT(AdventureConfig!D15,2)","v":"90"},75,150]
[null,"共8个秘境"]
[null,"每人可看到秘境",{"$f":"24*8+8","v":200},{"$nulls":6},"总数",{"$f":"SUM(M4:M11,P4:P11)","v":2180}]
[]
[]
[]
["奖励",null,"发现奖励","钻石",null,"金币",null,"妖魂魔戒"]
[]
[null,null,"击杀奖励","钻石",null,"灵丹",null,"归元髓液"]
[]
[]
[null,null,"排行榜奖励","符文",null,"铁矿石",null,"妖魂魔戒"]
[{"$nulls":3},"橙"]
[{"$nulls":3},"紫"]
[]
[]
[]
[]
[null,null,"一级",{"$nulls":4},"二级",{"$nulls":4},"三级"]
[null,"秘境","怪1","怪1概率","怪2","怪2概率",0,"怪1","怪1概率","怪2","怪2概率",0,"怪1","怪1概率","怪2","怪2概率","怪3","怪3概率",0]
[20,1,601011,{"$f":"INT(2/A31/B31*10000)","v":1000},null,null,{"$f":"10000-D31-F31","v":9000},601021,{"$f":"D38*2","v":124},null,null,{"$f":"10000-I31-K31","v":9876},601031,{"$f":"INT(I31/3)","v":41},{"$f":"M31+1","v":601032},{"$f":"N31","v":41},{"$f":"O31+1","v":601033},{"$f":"P31","v":41},{"$f":"10000-P31-R31-N31","v":9877},{"$f":"_xlfn.TEXTJOIN(\"#\",TRUE,C31:D31)","v":"601011#1000"},{"$f":"_xlfn.TEXTJOIN(\"#\",TRUE,E31:F31)","v":""},{"$f":"_xlfn.TEXTJOIN(\"#\",TRUE,$G$30,G31)","v":"0#9000"},{"$f":"_xlfn.TEXTJOIN(\"#\",TRUE,H31:I31)","v":"601021#124"},{"$f":"_xlfn.TEXTJOIN(\"#\",TRUE,J31:K31)","v":""},{"$f":"_xlfn.TEXTJOIN(\"#\",TRUE,$L$30,L31)","v":"0#9876"},{"$f":"_xlfn.TEXTJOIN(\"#\",TRUE,M31:N31)","v":"601031#41"},{"$f":"_xlfn.TEXTJOIN(\"#\",TRUE,O31:P31)","v":"601032#41"},{"$f":"_xlfn.TEXTJOIN(\"#\",TRUE,Q31:R31)","v":"601033#41"},{"$f":"_xlfn.TEXTJOIN(\"#\",TRUE,$S$30,S31)","v":"0#9877"},{"$f":"_xlfn.TEXTJOIN(\"|\",TRUE,T31:V31)","v":"601011#1000|0#9000"},{"$f":"_xlfn.TEXTJOIN(\"|\",TRUE,W31:Y31)","v":"601021#124|0#9876"},{"$f":"_xlfn.TEXTJOIN(\"|\",TRUE,Z31:AC31)","v":"601031#41|601032#41|601033#41|0#9877"},{"$f":"_xlfn.TEXTJOIN(\",\",TRUE,AD31:AF31)","v":"601011#1000|0#9000,601021#124|0#9876,601031#41|601032#41|601033#41|0#9877"}]
[{"$f":"A31","v":20},{"$f":"B31+1","v":2},{"$f":"C31+1000","v":602011},{"$f":"INT(2/A32/B32*10000/2)","v":250},{"$f":"C32+1","v":602012},{"$f":"D32","v":250},{"$f":"10000-D32-F32","v":9500},{"$f":"C32+10","v":602021},{"$f":"D38","v":62},602022,{"$f":"I32","v":62},{"$f":"10000-I32-K32","v":9876},602031,{"$f":"N31","v":41},{"$f":"M32+1","v":602032},{"$f":"N32","v":41},{"$f":"O32+1","v":602033},{"$f":"P32","v":41},{"$f":"10000-P32-R32-N32","v":9877},{"$f":"_xlfn.TEXTJOIN(\"#\",TRUE,C32:D32)","v":"602011#250"},{"$f":"_xlfn.TEXTJOIN(\"#\",TRUE,E32:F32)","v":"602012#250"},{"$f":"_xlfn.TEXTJOIN(\"#\",TRUE,$G$30,G32)","v":"0#9500"},{"$f":"_xlfn.TEXTJOIN(\"#\",TRUE,H32:I32)","v":"602021#62"},{"$f":"_xlfn.TEXTJOIN(\"#\",TRUE,J32:K32)","v":"602022#62"},{"$f":"_xlfn.TEXTJOIN(\"#\",TRUE,$L$30,L32)","v":"0#9876"},{"$f":"_xlfn.TEXTJOIN(\"#\",TRUE,M32:N32)","v":"602031#41"},{"$f":"_xlfn.TEXTJOIN(\"#\",TRUE,O32:P32)","v":"602032#41"},{"$f":"_xlfn.TEXTJOIN(\"#\",TRUE,Q32:R32)","v":"602033#41"},{"$f":"_xlfn.TEXTJOIN(\"#\",TRUE,$S$30,S32)","v":"0#9877"},{"$f":"_xlfn.TEXTJOIN(\"|\",TRUE,T32:V32)","v":"602011#250|602012#250|0#9500"},{"$f":"_xlfn.TEXTJOIN(\"|\",TRUE,W32:Y32)","v":"602021#62|602022#62|0#9876"},{"$f":"_xlfn.TEXTJOIN(\"|\",TRUE,Z32:AC32)","v":"602031#41|602032#41|602033#41|0#9877"},{"$f":"_xlfn.TEXTJOIN(\",\",TRUE,AD32:AF32)","v":"602011#250|602012#250|0#9500,602021#62|602022#62|0#9876,602031#41|602032#41|602033#41|0#9877"}]
[{"$f":"A32","v":20},{"$f":"B32+1","v":3},{"$f":"C32+1000","v":603011},{"$f":"INT(2/A33/B33*10000/2)","v":166},{"$f":"C33+1","v":603012},{"$f":"D33","v":166},9668,{"$f":"C33+10","v":603021},{"$f":"I32","v":62},{"$f":"E33+10","v":603022},{"$f":"I33","v":62},9876,{"$f":"H33+10","v":603031},{"$f":"N32","v":41},{"$f":"M33+1","v":603032},41,{"$f":"O33+1","v":603033},41,9877,"603011#166","603012#166","0#9668","603021#62","603022#62","0#9876","603031#41","603032#41","603033#41","0#9877","603011#166|603012#166|0#9668","603021#62|603022#62|0#9876","603031#41|603032#41|603033#41|0#9877","603011#166|603012#166|0#9668,603021#62|603022#62|0#9876,603031#41|603032#41|603033#41|0#9877"]
[20,4,604011,125,604012,125,9750,604021,62,604022,62,9876,604031,41,604032,41,604033,41,9877,"604011#125","604012#125","0#9750","604021#62","604022#62","0#9876","604031#41","604032#41","604033#41","0#9877","604011#125|604012#125|0#9750","604021#62|604022#62|0#9876","604031#41|604032#41|604033#41|0#9877","604011#125|604012#125|0#9750,604021#62|604022#62|0#9876,604031#41|604032#41|604033#41|0#9877"]
[20,5,605011,100,605012,100,9800,605021,62,605022,62,9876,605031,41,605032,41,605033,41,9877,"605011#100","605012#100","0#9800","605021#62","605022#62","0#9876","605031#41","605032#41","605033#41","0#9877","605011#100|605012#100|0#9800","605021#62|605022#62|0#9876","605031#41|605032#41|605033#41|0#9877","605011#100|605012#100|0#9800,605021#62|605022#62|0#9876,605031#41|605032#41|605033#41|0#9877"]
[20,6,606011,83,606012,83,9834,606021,62,606022,62,9876,606031,41,606032,41,606033,41,9877,"606011#83","606012#83","0#9834","606021#62","606022#62","0#9876","606031#41","606032#41","606033#41","0#9877","606011#83|606012#83|0#9834","606021#62|606022#62|0#9876","606031#41|606032#41|606033#41|0#9877","606011#83|606012#83|0#9834,606021#62|606022#62|0#9876,606031#41|606032#41|606033#41|0#9877"]
[20,7,607011,71,607012,71,9858,607021,62,607022,62,9876,607031,41,607032,41,607033,41,9877,"607011#71","607012#71","0#9858","607021#62","607022#62","0#9876","607031#41","607032#41","607033#41","0#9877","607011#71|607012#71|0#9858","607021#62|607022#62|0#9876","607031#41|607032#41|607033#41|0#9877","607011#71|607012#71|0#9858,607021#62|607022#62|0#9876,607031#41|607032#41|607033#41|0#9877"]
[20,8,608011,62,608012,62,9876,608021,62,608022,62,9876,608031,41,608032,41,608033,41,9877,"608011#62","608012#62","0#9876","608021#62","608022#62","0#9876","608031#41","608032#41","608033#41","0#9877","608011#62|608012#62|0#9876","608021#62|608022#62|0#9876","608031#41|608032#41|608033#41|0#9877","608011#62|608012#62|0#9876,608021#62|608022#62|0#9876,608031#41|608032#41|608033#41|0#9877"]

{"sheet":"奖励组表","index":2,"n_rows":273,"n_cols":13,"rows_kept":273}
[null,"奖励id","奖励内容","获取概率","成长概率\n针对特殊处理，如果不获取，则获取概率增加","获取数量最小值","获取数量最大值","备注\n物品名称","备注","备注","校验"]
[null,100401,11001,{"$f":"ROUND(辅助设计表!#REF!/23,4)*10000","v":{"$error":"#REF!"}},1,1,1,"石御霏碎片","5星","4——5关发现者奖励",""]
[null,{"$f":"B2+1","v":100402},11002,{"$f":"ROUND(辅助设计表!#REF!/23,4)*10000","v":{"$error":"#REF!"}},1,1,1,"楚恒碎片","5星","4——5关发现者奖励"]
[null,{"$f":"B3+1","v":100403},11003,{"$f":"ROUND(辅助设计表!#REF!/23,4)*10000","v":{"$error":"#REF!"}},1,1,1,"夏侯鸿天碎片","5星","4——5关发现者奖励"]
[null,100404,11004,{"$f":"ROUND(辅助设计表!#REF!/23,4)*10000","v":{"$error":"#REF!"}},1,1,1,"应茹碎片","5星","4——5关发现者奖励"]
[null,100405,11005,{"$f":"ROUND(辅助设计表!#REF!/23,4)*10000","v":{"$error":"#REF!"}},1,1,1,"端木葵碎片","5星","4——5关发现者奖励"]
[null,100406,11006,{"$f":"ROUND(辅助设计表!#REF!/23,4)*10000","v":{"$error":"#REF!"}},1,1,1,"兰卿碎片","5星","4——5关发现者奖励"]
[null,100407,11007,{"$f":"ROUND(辅助设计表!#REF!/23,4)*10000","v":{"$error":"#REF!"}},1,1,1,"靖之碎片","5星","4——5关发现者奖励"]
[null,100408,11008,{"$f":"ROUND(辅助设计表!#REF!/23,4)*10000","v":{"$error":"#REF!"}},1,1,1,"白梦凡碎片","5星","4——5关发现者奖励"]
[null,100409,11009,{"$f":"ROUND(辅助设计表!#REF!/23,4)*10000","v":{"$error":"#REF!"}},1,1,1,"祁菲碎片","5星","4——5关发现者奖励"]
[null,100410,11010,{"$f":"ROUND(辅助设计表!#REF!/23,4)*10000","v":{"$error":"#REF!"}},1,1,1,"颜祈佳碎片","5星","4——5关发现者奖励"]
[null,100411,11011,{"$f":"ROUND(辅助设计表!#REF!/23,4)*10000","v":{"$error":"#REF!"}},1,1,1,"叶延碎片","5星","4——5关发现者奖励"]
[null,100412,11012,{"$f":"ROUND(辅助设计表!#REF!/23,4)*10000","v":{"$error":"#REF!"}},1,1,1,"慕容子期碎片","5星","4——5关发现者奖励"]
[null,100413,11013,{"$f":"ROUND(辅助设计表!#REF!/23,4)*10000","v":{"$error":"#REF!"}},1,1,1,"云灵碎片","5星","4——5关发现者奖励"]
[null,100414,11014,{"$f":"ROUND(辅助设计表!#REF!/23,4)*10000","v":{"$error":"#REF!"}},1,1,1,"耿陶碎片","5星","4——5关发现者奖励"]
[null,100415,11015,{"$f":"ROUND(辅助设计表!#REF!/23,4)*10000","v":{"$error":"#REF!"}},1,1,1,"云碎片","5星","4——5关发现者奖励"]
[null,100416,11016,{"$f":"ROUND(辅助设计表!#REF!/23,4)*10000","v":{"$error":"#REF!"}},1,1,1,"岑以航碎片","5星","4——5关发现者奖励"]
[null,100417,11017,{"$f":"ROUND(辅助设计表!#REF!/23,4)*10000","v":{"$error":"#REF!"}},1,1,1,"楚秋碎片","5星","4——5关发现者奖励"]
[null,100418,11018,{"$f":"ROUND(辅助设计表!#REF!/23,4)*10000","v":{"$error":"#REF!"}},1,1,1,"朱贺碎片","5星","4——5关发现者奖励"]
[null,100419,11019,{"$f":"ROUND(辅助设计表!#REF!/23,4)*10000","v":{"$error":"#REF!"}},1,1,1,"孔谦碎片","5星","4——5关发现者奖励"]
[null,100420,11020,{"$f":"ROUND(辅助设计表!#REF!/23,4)*10000","v":{"$error":"#REF!"}},1,1,1,"颜无雍碎片","5星","4——5关发现者奖励"]
[null,100421,11021,{"$f":"ROUND(辅助设计表!#REF!/23,4)*10000","v":{"$error":"#REF!"}},1,1,1,"岑以征碎片","5星","4——5关发现者奖励"]
[null,100422,11022,{"$f":"ROUND(辅助设计表!#REF!/23,4)*10000","v":{"$error":"#REF!"}},1,1,1,"颜无诡碎片","5星","4——5关发现者奖励"]
[null,100423,11023,{"$f":"ROUND(辅助设计表!#REF!/23,4)*10000","v":{"$error":"#REF!"}},1,1,1,"荧荧碎片","5星","4——5关发现者奖励"]
[null,100424,11024,{"$f":"ROUND(辅助设计表!$F$17/23,4)*10000","v":{"$error":"#VALUE!"}},1,1,1,"许槿然碎片","4星","4——5关发现者奖励"]
[null,100425,11025,{"$f":"ROUND(辅助设计表!$F$17/23,4)*10000","v":{"$error":"#VALUE!"}},1,1,1,"唐萱碎片","4星","4——5关发现者奖励"]
[null,100426,11026,{"$f":"ROUND(辅助设计表!$F$17/23,4)*10000","v":{"$error":"#VALUE!"}},1,1,1,"孙晴碎片","4星","4——5关发现者奖励"]
[null,100427,11027,{"$f":"ROUND(辅助设计表!$F$17/23,4)*10000","v":{"$error":"#VALUE!"}},1,1,1,"宁月碎片","4星","4——5关发现者奖励"]
[null,100428,11028,{"$f":"ROUND(辅助设计表!$F$17/23,4)*10000","v":{"$error":"#VALUE!"}},1,1,1,"紫川碎片","4星","4——5关发现者奖励"]
[null,100429,11029,{"$f":"ROUND(辅助设计表!$F$17/23,4)*10000","v":{"$error":"#VALUE!"}},1,1,1,"珺妍碎片","4星","4——5关发现者奖励"]
[null,100430,11030,{"$f":"ROUND(辅助设计表!$F$17/23,4)*10000","v":{"$error":"#VALUE!"}},1,1,1,"瑶瑶碎片","4星","4——5关发现者奖励"]
[null,100431,11031,{"$f":"ROUND(辅助设计表!$F$17/23,4)*10000","v":{"$error":"#VALUE!"}},1,1,1,"贾裴武碎片","4星","4——5关发现者奖励"]
[null,100432,11032,{"$f":"ROUND(辅助设计表!$F$17/23,4)*10000","v":{"$error":"#VALUE!"}},1,1,1,"雷燕碎片","4星","4——5关发现者奖励"]
[null,100433,11033,{"$f":"ROUND(辅助设计表!$F$17/23,4)*10000","v":{"$error":"#VALUE!"}},1,1,1,"辛夷碎片","4星","4——5关发现者奖励"]
[null,100434,11034,{"$f":"ROUND(辅助设计表!$F$17/23,4)*10000","v":{"$error":"#VALUE!"}},1,1,1,"伏冥碎片","4星","4——5关发现者奖励"]
[null,{"$f":"B35+1","v":100435},11035,{"$f":"ROUND(辅助设计表!$F$17/23,4)*10000","v":{"$error":"#VALUE!"}},1,1,1,"司空染碎片","4星","4——5关发现者奖励"]
[null,100436,11036,{"$f":"ROUND(辅助设计表!$F$17/23,4)*10000","v":{"$error":"#VALUE!"}},1,1,1,"解幽碎片","4星","4——5关发现者奖励"]
[null,100437,11037,{"$f":"ROUND(辅助设计表!$F$17/23,4)*10000","v":{"$error":"#VALUE!"}},1,1,1,"薛苓碎片","4星","4——5关发现者奖励"]
[null,100438,11038,{"$f":"ROUND(辅助设计表!$F$17/23,4)*10000","v":{"$error":"#VALUE!"}},1,1,1,"常申碎片","4星","4——5关发现者奖励"]
[null,100439,11039,{"$f":"ROUND(辅助设计表!$F$17/23,4)*10000","v":{"$error":"#VALUE!"}},1,1,1,"呼延腾碎片","4星","4——5关发现者奖励"]
[null,100440,11040,{"$f":"ROUND(辅助设计表!$F$17/23,4)*10000","v":{"$error":"#VALUE!"}},1,1,1,"冉宜碎片","4星","4——5关发现者奖励"]
[null,100441,11041,{"$f":"ROUND(辅助设计表!$F$17/23,4)*10000","v":{"$error":"#VALUE!"}},1,1,1,"孟灿碎片","4星","4——5关发现者奖励"]
[null,100442,11042,{"$f":"ROUND(辅助设计表!$F$17/23,4)*10000","v":{"$error":"#VALUE!"}},1,1,1,"叶辽碎片","4星","4——5关发现者奖励"]
[null,100443,11043,{"$f":"ROUND(辅助设计表!$F$17/23,4)*10000","v":{"$error":"#VALUE!"}},1,1,1,"乌廉碎片","4星","4——5关发现者奖励"]
[null,100444,11044,{"$f":"ROUND(辅助设计表!$F$17/23,4)*10000","v":{"$error":"#VALUE!"}},1,1,1,"苏进碎片","4星","4——5关发现者奖励"]
[null,100445,11045,{"$f":"ROUND(辅助设计表!$F$17/23,4)*10000","v":{"$error":"#VALUE!"}},1,1,1,"苏可碎片","4星","4——5关发现者奖励"]
[null,100446,11046,{"$f":"ROUND(辅助设计表!$F$17/23,4)*10000","v":{"$error":"#VALUE!"}},1,1,1,"林越碎片","4星","4——5关发现者奖励"]
[null,100447,{"$f":"y异妖配件!A1","v":6001},{"$f":"ROUND(辅助设计表!$I$17/9,4)*10000","v":0},1,1,1,{"$f":"y异妖配件!B1","v":"刀捞鬼1"},"紫色","4——5关发现者奖励"]
[null,100448,{"$f":"y异妖配件!A2","v":6002},{"$f":"ROUND(辅助设计表!$I$17/9,4)*10000","v":0},1,1,1,{"$f":"y异妖配件!B2","v":"刀捞鬼2"},"紫色","4——5关发现者奖励"]
[null,100449,{"$f":"y异妖配件!A3","v":6003},{"$f":"ROUND(辅助设计表!$I$17/9,4)*10000","v":0},1,1,1,{"$f":"y异妖配件!B3","v":"刀捞鬼3"},"紫色","4——5关发现者奖励"]
[null,100450,{"$f":"y异妖配件!A4","v":6004},{"$f":"ROUND(辅助设计表!$I$17/9,4)*10000","v":0},1,1,1,{"$f":"y异妖配件!B4","v":"蒸笼仔1"},"紫色","4——5关发现者奖励"]
[null,100451,{"$f":"y异妖配件!A5","v":6005},{"$f":"ROUND(辅助设计表!$I$17/9,4)*10000","v":0},1,1,1,{"$f":"y异妖配件!B5","v":"蒸笼仔2"},"紫色","4——5关发现者奖励"]
[null,100452,{"$f":"y异妖配件!A6","v":6006},{"$f":"ROUND(辅助设计表!$I$17/9,4)*10000","v":0},1,1,1,{"$f":"y异妖配件!B6","v":"蒸笼仔3"},"紫色","4——5关发现者奖励"]
[null,100453,{"$f":"y异妖配件!A7","v":6007},{"$f":"ROUND(辅助设计表!$I$17/9,4)*10000","v":0},1,1,1,{"$f":"y异妖配件!B7","v":"横公1"},"紫色","4——5关发现者奖励"]
[null,100454,{"$f":"y异妖配件!A8","v":6008},{"$f":"ROUND(辅助设计表!$I$17/9,4)*10000","v":0},1,1,1,{"$f":"y异妖配件!B8","v":"横公2"},"紫色","4——5关发现者奖励"]
[null,100455,{"$f":"y异妖配件!A9","v":6009},{"$f":"ROUND(辅助设计表!$I$17/9,4)*10000","v":0},1,1,1,{"$f":"y异妖配件!B9","v":"横公3"},"紫色","4——5关发现者奖励"]
[null,100456,{"$f":"y异妖配件!A10","v":6013},{"$f":"ROUND(辅助设计表!#REF!/8,4)*10000","v":{"$error":"#REF!"}},1,1,1,{"$f":"y异妖配件!B10","v":"火鼠1"},"橙色","4——5关发现者奖励"]
[null,100457,{"$f":"y异妖配件!A11","v":6014},{"$f":"ROUND(辅助设计表!#REF!/8,4)*10000","v":{"$error":"#REF!"}},1,1,1,{"$f":"y异妖配件!B11","v":"火鼠2"},"橙色","4——5关发现者奖励"]
[null,100458,{"$f":"y异妖配件!A12","v":6015},{"$f":"ROUND(辅助设计表!#REF!/8,4)*10000","v":{"$error":"#REF!"}},1,1,1,{"$f":"y异妖配件!B12","v":"火鼠3"},"橙色","4——5关发现者奖励"]
[null,100459,{"$f":"y异妖配件!A13","v":6016},{"$f":"ROUND(辅助设计表!#REF!/8,4)*10000","v":{"$error":"#REF!"}},1,1,1,{"$f":"y异妖配件!B13","v":"火鼠4"},"橙色","4——5关发现者奖励"]
[null,100460,{"$f":"y异妖配件!A14","v":6017},{"$f":"ROUND(辅助设计表!#REF!/8,4)*10000","v":{"$error":"#REF!"}},1,1,1,{"$f":"y异妖配件!B14","v":"拦面叟1"},"橙色","4——5关发现者奖励"]
[null,100461,{"$f":"y异妖配件!A15","v":6018},{"$f":"ROUND(辅助设计表!#REF!/8,4)*10000","v":{"$error":"#REF!"}},1,1,1,{"$f":"y异妖配件!B15","v":"拦面叟2"},"橙色","4——5关发现者奖励"]
[null,100462,{"$f":"y异妖配件!A16","v":6019},{"$f":"ROUND(辅助设计表!#REF!/8,4)*10000","v":{"$error":"#REF!"}},1,1,1,{"$f":"y异妖配件!B16","v":"拦面叟3"},"橙色","4——5关发现者奖励"]
[null,100463,{"$f":"y异妖配件!A17","v":6020},{"$f":"ROUND(辅助设计表!#REF!/8,4)*10000","v":{"$error":"#REF!"}},1,1,1,{"$f":"y异妖配件!B17","v":"拦面叟4"},"橙色","4——5关发现者奖励"]
[null,100101,11024,{"$f":"ROUND(辅助设计表!#REF!/23,4)*10000","v":{"$error":"#REF!"}},1,1,1,"许槿然碎片","4星","1——3关发现者奖励"]
[null,100102,11025,{"$f":"ROUND(辅助设计表!#REF!/23,4)*10000","v":{"$error":"#REF!"}},1,1,1,"唐萱碎片","4星","1——3关发现者奖励"]
[null,100103,11026,{"$f":"ROUND(辅助设计表!#REF!/23,4)*10000","v":{"$error":"#REF!"}},1,1,1,"孙晴碎片","4星","1——3关发现者奖励"]
[null,100104,11027,{"$f":"ROUND(辅助设计表!#REF!/23,4)*10000","v":{"$error":"#REF!"}},1,1,1,"宁月碎片","4星","1——3关发现者奖励"]
[null,100105,11028,{"$f":"ROUND(辅助设计表!#REF!/23,4)*10000","v":{"$error":"#REF!"}},1,1,1,"紫川碎片","4星","1——3关发现者奖励"]
[null,100106,11029,{"$f":"ROUND(辅助设计表!#REF!/23,4)*10000","v":{"$error":"#REF!"}},1,1,1,"珺妍碎片","4星","1——3关发现者奖励"]
[null,100107,11030,{"$f":"ROUND(辅助设计表!#REF!/23,4)*10000","v":{"$error":"#REF!"}},1,1,1,"瑶瑶碎片","4星","1——3关发现者奖励"]
[null,100108,11031,{"$f":"ROUND(辅助设计表!#REF!/23,4)*10000","v":{"$error":"#REF!"}},1,1,1,"贾裴武碎片","4星","1——3关发现者奖励"]
[null,100109,11032,{"$f":"ROUND(辅助设计表!#REF!/23,4)*10000","v":{"$error":"#REF!"}},1,1,1,"雷燕碎片","4星","1——3关发现者奖励"]
[null,100110,11033,{"$f":"ROUND(辅助设计表!#REF!/23,4)*10000","v":{"$error":"#REF!"}},1,1,1,"辛夷碎片","4星","1——3关发现者奖励"]
[null,100111,11034,{"$f":"ROUND(辅助设计表!#REF!/23,4)*10000","v":{"$error":"#REF!"}},1,1,1,"伏冥碎片","4星","1——3关发现者奖励"]
[null,100112,11035,{"$f":"ROUND(辅助设计表!#REF!/23,4)*10000","v":{"$error":"#REF!"}},1,1,1,"司空染碎片","4星","1——3关发现者奖励"]
[null,100113,11036,{"$f":"ROUND(辅助设计表!#REF!/23,4)*10000","v":{"$error":"#REF!"}},1,1,1,"解幽碎片","4星","1——3关发现者奖励"]
[null,100114,11037,{"$f":"ROUND(辅助设计表!#REF!/23,4)*10000","v":{"$error":"#REF!"}},1,1,1,"薛苓碎片","4星","1——3关发现者奖励"]
[null,100115,11038,{"$f":"ROUND(辅助设计表!#REF!/23,4)*10000","v":{"$error":"#REF!"}},1,1,1,"常申碎片","4星","1——3关发现者奖励"]
[null,100116,11039,{"$f":"ROUND(辅助设计表!#REF!/23,4)*10000","v":{"$error":"#REF!"}},1,1,1,"呼延腾碎片","4星","1——3关发现者奖励"]
[null,100117,11040,{"$f":"ROUND(辅助设计表!#REF!/23,4)*10000","v":{"$error":"#REF!"}},1,1,1,"冉宜碎片","4星","1——3关发现者奖励"]
[null,100118,11041,{"$f":"ROUND(辅助设计表!#REF!/23,4)*10000","v":{"$error":"#REF!"}},1,1,1,"孟灿碎片","4星","1——3关发现者奖励"]
[null,100119,11042,{"$f":"ROUND(辅助设计表!#REF!/23,4)*10000","v":{"$error":"#REF!"}},1,1,1,"叶辽碎片","4星","1——3关发现者奖励"]
[null,100120,11043,{"$f":"ROUND(辅助设计表!#REF!/23,4)*10000","v":{"$error":"#REF!"}},1,1,1,"乌廉碎片","4星","1——3关发现者奖励"]
[null,100121,11044,{"$f":"ROUND(辅助设计表!#REF!/23,4)*10000","v":{"$error":"#REF!"}},1,1,1,"苏进碎片","4星","1——3关发现者奖励"]
[null,100122,11045,{"$f":"ROUND(辅助设计表!#REF!/23,4)*10000","v":{"$error":"#REF!"}},1,1,1,"苏可碎片","4星","1——3关发现者奖励"]
[null,100123,11046,{"$f":"ROUND(辅助设计表!#REF!/23,4)*10000","v":{"$error":"#REF!"}},1,1,1,"林越碎片","4星","1——3关发现者奖励"]
[null,100124,6001,{"$f":"ROUND(辅助设计表!#REF!/9,4)*10000","v":{"$error":"#REF!"}},1,1,1,"刀捞鬼1","紫色","1——3关发现者奖励"]
[null,100125,6002,{"$f":"ROUND(辅助设计表!#REF!/9,4)*10000","v":{"$error":"#REF!"}},1,1,1,"刀捞鬼2","紫色","1——3关发现者奖励"]
[null,100126,6003,{"$f":"ROUND(辅助设计表!#REF!/9,4)*10000","v":{"$error":"#REF!"}},1,1,1,"刀捞鬼3","紫色","1——3关发现者奖励"]
[null,100127,6004,{"$f":"ROUND(辅助设计表!#REF!/9,4)*10000","v":{"$error":"#REF!"}},1,1,1,"蒸笼仔1","紫色","1——3关发现者奖励"]
[null,100128,6005,{"$f":"ROUND(辅助设计表!#REF!/9,4)*10000","v":{"$error":"#REF!"}},1,1,1,"蒸笼仔2","紫色","1——3关发现者奖励"]
[null,100129,6006,{"$f":"ROUND(辅助设计表!#REF!/9,4)*10000","v":{"$error":"#REF!"}},1,1,1,"蒸笼仔3","紫色","1——3关发现者奖励"]
[null,100130,6007,{"$f":"ROUND(辅助设计表!#REF!/9,4)*10000","v":{"$error":"#REF!"}},1,1,1,"横公1","紫色","1——3关发现者奖励"]
[null,100131,6008,{"$f":"ROUND(辅助设计表!#REF!/9,4)*10000","v":{"$error":"#REF!"}},1,1,1,"横公2","紫色","1——3关发现者奖励"]
[null,100132,6009,{"$f":"ROUND(辅助设计表!#REF!/9,4)*10000","v":{"$error":"#REF!"}},1,1,1,"横公3","紫色","1——3关发现者奖励"]
[null,100133,6013,{"$f":"ROUND(辅助设计表!#REF!/8,4)*10000","v":{"$error":"#REF!"}},1,1,1,"火鼠1","橙色","1——3关发现者奖励"]
[null,100134,6014,{"$f":"ROUND(辅助设计表!#REF!/8,4)*10000","v":{"$error":"#REF!"}},1,1,1,"火鼠2","橙色","1——3关发现者奖励"]
[null,100135,6015,{"$f":"ROUND(辅助设计表!#REF!/8,4)*10000","v":{"$error":"#REF!"}},1,1,1,"火鼠3","橙色","1——3关发现者奖励"]
[null,100136,6016,{"$f":"ROUND(辅助设计表!#REF!/8,4)*10000","v":{"$error":"#REF!"}},1,1,1,"火鼠4","橙色","1——3关发现者奖励"]
[null,100137,6017,{"$f":"ROUND(辅助设计表!#REF!/8,4)*10000","v":{"$error":"#REF!"}},1,1,1,"拦面叟1","橙色","1——3关发现者奖励"]
[null,100138,6018,{"$f":"ROUND(辅助设计表!#REF!/8,4)*10000","v":{"$error":"#REF!"}},1,1,1,"拦面叟2","橙色","1——3关发现者奖励"]
[null,100139,6019,{"$f":"ROUND(辅助设计表!#REF!/8,4)*10000","v":{"$error":"#REF!"}},1,1,1,"拦面叟3","橙色","1——3关发现者奖励"]
[null,100140,6020,{"$f":"ROUND(辅助设计表!#REF!/8,4)*10000","v":{"$error":"#REF!"}},1,1,1,"拦面叟4","橙色","1——3关发现者奖励"]
[null,100601,11001,{"$f":"ROUND(辅助设计表!#REF!/23,4)*10000","v":{"$error":"#REF!"}},1,1,1,"石御霏碎片","5星","6——8关发现者奖励"]
[null,100602,11002,{"$f":"ROUND(辅助设计表!#REF!/23,4)*10000","v":{"$error":"#REF!"}},1,1,1,"楚恒碎片","5星","6——8关发现者奖励"]
[null,100603,11003,{"$f":"ROUND(辅助设计表!#REF!/23,4)*10000","v":{"$error":"#REF!"}},1,1,1,"夏侯鸿天碎片","5星","6——8关发现者奖励"]
[null,100604,11004,{"$f":"ROUND(辅助设计表!#REF!/23,4)*10000","v":{"$error":"#REF!"}},1,1,1,"应茹碎片","5星","6——8关发现者奖励"]
[null,100605,11005,{"$f":"ROUND(辅助设计表!#REF!/23,4)*10000","v":{"$error":"#REF!"}},1,1,1,"端木葵碎片","5星","6——8关发现者奖励"]
[null,100606,11006,{"$f":"ROUND(辅助设计表!#REF!/23,4)*10000","v":{"$error":"#REF!"}},1,1,1,"兰卿碎片","5星","6——8关发现者奖励"]
[null,100607,11007,{"$f":"ROUND(辅助设计表!#REF!/23,4)*10000","v":{"$error":"#REF!"}},1,1,1,"靖之碎片","5星","6——8关发现者奖励"]
[null,100608,11008,{"$f":"ROUND(辅助设计表!#REF!/23,4)*10000","v":{"$error":"#REF!"}},1,1,1,"白梦凡碎片","5星","6——8关发现者奖励"]
[null,100609,11009,{"$f":"ROUND(辅助设计表!#REF!/23,4)*10000","v":{"$error":"#REF!"}},1,1,1,"祁菲碎片","5星","6——8关发现者奖励"]
[null,100610,11010,{"$f":"ROUND(辅助设计表!#REF!/23,4)*10000","v":{"$error":"#REF!"}},1,1,1,"颜祈佳碎片","5星","6——8关发现者奖励"]
[null,100611,11011,{"$f":"ROUND(辅助设计表!#REF!/23,4)*10000","v":{"$error":"#REF!"}},1,1,1,"叶延碎片","5星","6——8关发现者奖励"]
[null,100612,11012,{"$f":"ROUND(辅助设计表!#REF!/23,4)*10000","v":{"$error":"#REF!"}},1,1,1,"慕容子期碎片","5星","6——8关发现者奖励"]
[null,100613,11013,{"$f":"ROUND(辅助设计表!#REF!/23,4)*10000","v":{"$error":"#REF!"}},1,1,1,"云灵碎片","5星","6——8关发现者奖励"]
[null,100614,11014,{"$f":"ROUND(辅助设计表!#REF!/23,4)*10000","v":{"$error":"#REF!"}},1,1,1,"耿陶碎片","5星","6——8关发现者奖励"]
[null,100615,11015,{"$f":"ROUND(辅助设计表!#REF!/23,4)*10000","v":{"$error":"#REF!"}},1,1,1,"云碎片","5星","6——8关发现者奖励"]
[null,100616,11016,{"$f":"ROUND(辅助设计表!#REF!/23,4)*10000","v":{"$error":"#REF!"}},1,1,1,"岑以航碎片","5星","6——8关发现者奖励"]
[null,100617,11017,{"$f":"ROUND(辅助设计表!#REF!/23,4)*10000","v":{"$error":"#REF!"}},1,1,1,"楚秋碎片","5星","6——8关发现者奖励"]
[null,100618,11018,{"$f":"ROUND(辅助设计表!#REF!/23,4)*10000","v":{"$error":"#REF!"}},1,1,1,"朱贺碎片","5星","6——8关发现者奖励"]
[null,100619,11019,{"$f":"ROUND(辅助设计表!#REF!/23,4)*10000","v":{"$error":"#REF!"}},1,1,1,"孔谦碎片","5星","6——8关发现者奖励"]
[null,100620,11020,{"$f":"ROUND(辅助设计表!#REF!/23,4)*10000","v":{"$error":"#REF!"}},1,1,1,"颜无雍碎片","5星","6——8关发现者奖励"]
[null,100621,11021,{"$f":"ROUND(辅助设计表!#REF!/23,4)*10000","v":{"$error":"#REF!"}},1,1,1,"岑以征碎片","5星","6——8关发现者奖励"]
[null,100622,11022,{"$f":"ROUND(辅助设计表!#REF!/23,4)*10000","v":{"$error":"#REF!"}},1,1,1,"颜无诡碎片","5星","6——8关发现者奖励"]
[null,100623,11023,{"$f":"ROUND(辅助设计表!#REF!/23,4)*10000","v":{"$error":"#REF!"}},1,1,1,"荧荧碎片","5星","6——8关发现者奖励"]
[null,100624,6001,{"$f":"ROUND(辅助设计表!#REF!/9,4)*10000","v":{"$error":"#REF!"}},1,1,1,"刀捞鬼1","紫色","6——8关发现者奖励"]
[null,100625,6002,{"$f":"ROUND(辅助设计表!#REF!/9,4)*10000","v":{"$error":"#REF!"}},1,1,1,"刀捞鬼2","紫色","6——8关发现者奖励"]
[null,100626,6003,{"$f":"ROUND(辅助设计表!#REF!/9,4)*10000","v":{"$error":"#REF!"}},1,1,1,"刀捞鬼3","紫色","6——8关发现者奖励"]
[null,100627,6004,{"$f":"ROUND(辅助设计表!#REF!/9,4)*10000","v":{"$error":"#REF!"}},1,1,1,"蒸笼仔1","紫色","6——8关发现者奖励"]
[null,100628,6005,{"$f":"ROUND(辅助设计表!#REF!/9,4)*10000","v":{"$error":"#REF!"}},1,1,1,"蒸笼仔2","紫色","6——8关发现者奖励"]
[null,100629,6006,{"$f":"ROUND(辅助设计表!#REF!/9,4)*10000","v":{"$error":"#REF!"}},1,1,1,"蒸笼仔3","紫色","6——8关发现者奖励"]
[null,100630,6007,{"$f":"ROUND(辅助设计表!#REF!/9,4)*10000","v":{"$error":"#REF!"}},1,1,1,"横公1","紫色","6——8关发现者奖励"]
[null,100631,6008,{"$f":"ROUND(辅助设计表!#REF!/9,4)*10000","v":{"$error":"#REF!"}},1,1,1,"横公2","紫色","6——8关发现者奖励"]
[null,100632,6009,{"$f":"ROUND(辅助设计表!#REF!/9,4)*10000","v":{"$error":"#REF!"}},1,1,1,"横公3","紫色","6——8关发现者奖励"]
[null,100633,6013,{"$f":"ROUND(辅助设计表!#REF!/8,4)*10000","v":{"$error":"#REF!"}},1,1,1,"火鼠1","橙色","6——8关发现者奖励"]
[null,100634,6014,{"$f":"ROUND(辅助设计表!#REF!/8,4)*10000","v":{"$error":"#REF!"}},1,1,1,"火鼠2","橙色","6——8关发现者奖励"]
[null,100635,6015,{"$f":"ROUND(辅助设计表!#REF!/8,4)*10000","v":{"$error":"#REF!"}},1,1,1,"火鼠3","橙色","6——8关发现者奖励"]
[null,100636,6016,{"$f":"ROUND(辅助设计表!#REF!/8,4)*10000","v":{"$error":"#REF!"}},1,1,1,"火鼠4","橙色","6——8关发现者奖励"]
[null,100637,6017,{"$f":"ROUND(辅助设计表!#REF!/8,4)*10000","v":{"$error":"#REF!"}},1,1,1,"拦面叟1","橙色","6——8关发现者奖励"]
[null,100638,6018,{"$f":"ROUND(辅助设计表!#REF!/8,4)*10000","v":{"$error":"#REF!"}},1,1,1,"拦面叟2","橙色","6——8关发现者奖励"]
[null,100639,6019,{"$f":"ROUND(辅助设计表!#REF!/8,4)*10000","v":{"$error":"#REF!"}},1,1,1,"拦面叟3","橙色","6——8关发现者奖励"]
[null,100640,6020,{"$f":"ROUND(辅助设计表!#REF!/8,4)*10000","v":{"$error":"#REF!"}},1,1,1,"拦面叟4","橙色","6——8关发现者奖励"]
[null,210101,3,100,1,{"$f":"F146-400","v":-8700},{"$f":"辅助设计表!$E$19","v":0},"成长护符",null,"击杀奖励1-1"]
[null,{"$f":"B145+1","v":210102},3,100,1,{"$f":"F147-600","v":-8300},{"$f":"F146","v":-8300},"成长护符",null,"击杀奖励1-2"]
[null,{"$f":"B146+1","v":210103},3,100,1,{"$f":"F149-500","v":-7700},{"$f":"F147","v":-7700},"成长护符",null,"击杀奖励1-3"]
[null,{"$f":"B145+100","v":210201},3,100,1,{"$f":"F149-400","v":-7600},-7600,"成长护符",null,"击杀奖励2-1"]
[null,{"$f":"B146+100","v":210202},3,100,1,{"$f":"F150-600","v":-7200},-7200,"成长护符",null,"击杀奖励2-2"]
[null,210203,3,100,1,{"$f":"F152-500","v":-6600},-6600,"成长护符",null,"击杀奖励2-3"]
[null,210301,3,100,1,{"$f":"F152-400","v":-6500},-6500,"成长护符",null,"击杀奖励3-1"]
[null,210302,3,100,1,{"$f":"F153-600","v":-6100},-6100,"成长护符",null,"击杀奖励3-2"]
[null,210303,3,100,1,{"$f":"F155-500","v":-5500},-5500,"成长护符",null,"击杀奖励3-3"]
[null,210401,3,100,1,{"$f":"F155-400","v":-5400},-5400,"成长护符",null,"击杀奖励4-1"]
[null,210402,3,100,1,{"$f":"F156-600","v":-5000},-5000,"成长护符",null,"击杀奖励4-2"]
[null,210403,3,100,1,{"$f":"F158-500","v":-4400},-4400,"成长护符",null,"击杀奖励4-2"]
[null,210501,3,100,1,{"$f":"F158-400","v":-4300},-4300,"成长护符",null,"击杀奖励5-1"]
[null,210502,3,100,1,{"$f":"F159-600","v":-3900},-3900,"成长护符",null,"击杀奖励5-2"]
[null,210503,3,100,1,{"$f":"F161-500","v":-3300},-3300,"成长护符",null,"击杀奖励5-3"]
[null,210601,3,100,1,{"$f":"F161-400","v":-3200},-3200,"成长护符",null,"击杀奖励6-1"]
[null,210602,3,100,1,{"$f":"F162-600","v":-2800},-2800,"成长护符",null,"击杀奖励6-2"]
[null,210603,3,100,1,{"$f":"F164-500","v":-2200},-2200,"成长护符",null,"击杀奖励6-3"]
[null,210701,3,100,1,{"$f":"F164-400","v":-2100},-2100,"成长护符",null,"击杀奖励7-1"]
[null,210702,3,100,1,{"$f":"F165-600","v":-1700},-1700,"成长护符",null,"击杀奖励7-2"]
[null,210703,3,100,1,{"$f":"F167-500","v":-1100},-1100,"成长护符",null,"击杀奖励7-3"]
[null,210801,3,100,1,{"$f":"F167-400","v":-1000},-1000,"成长护符",null,"击杀奖励8-1"]
[null,210802,3,100,1,{"$f":"F168-600","v":-600},-600,"成长护符",null,"击杀奖励8-2"]
[null,210803,3,100,1,{"$f":"辅助设计表!E19","v":0},0,"成长护符",null,"击杀奖励8-3"]
[null,{"$f":"B145+10000","v":220101},4,100,1,{"$f":"F170-40","v":-870},-870,"梦魇妖壶",null,"击杀奖励1-1"]
[null,{"$f":"B146+10000","v":220102},4,100,1,{"$f":"F171-60","v":-830},{"$f":"F170","v":-830},"梦魇妖壶",null,"击杀奖励1-2"]
[null,220103,4,100,1,{"$f":"F173-50","v":-770},-770,"梦魇妖壶",null,"击杀奖励1-3"]
[null,220201,4,100,1,{"$f":"F173-40","v":-760},-760,"梦魇妖壶",null,"击杀奖励2-1"]
[null,220202,4,100,1,{"$f":"F174-60","v":-720},-720,"梦魇妖壶",null,"击杀奖励2-2"]
[null,220203,4,100,1,{"$f":"F176-50","v":-660},-660,"梦魇妖壶",null,"击杀奖励2-3"]
[null,220301,4,100,1,{"$f":"F176-40","v":-650},-650,"梦魇妖壶",null,"击杀奖励3-1"]
[null,220302,4,100,1,{"$f":"F177-60","v":-610},-610,"梦魇妖壶",null,"击杀奖励3-2"]
[null,220303,4,100,1,{"$f":"F179-50","v":-550},-550,"梦魇妖壶",null,"击杀奖励3-3"]
[null,220401,4,100,1,{"$f":"F179-40","v":-540},-540,"梦魇妖壶",null,"击杀奖励4-1"]
[null,220402,4,100,1,{"$f":"F180-60","v":-500},-500,"梦魇妖壶",null,"击杀奖励4-2"]
[null,220403,4,100,1,{"$f":"F182-50","v":-440},-440,"梦魇妖壶",null,"击杀奖励4-2"]
[null,220501,4,100,1,{"$f":"F182-40","v":-430},-430,"梦魇妖壶",null,"击杀奖励5-1"]
[null,220502,4,100,1,{"$f":"F183-60","v":-390},-390,"梦魇妖壶",null,"击杀奖励5-2"]
[null,220503,4,100,1,{"$f":"F185-50","v":-330},-330,"梦魇妖壶",null,"击杀奖励5-3"]
[null,220601,4,100,1,{"$f":"F185-40","v":-320},-320,"梦魇妖壶",null,"击杀奖励6-1"]
[null,220602,4,100,1,{"$f":"F186-60","v":-280},-280,"梦魇妖壶",null,"击杀奖励6-2"]
[null,220603,4,100,1,{"$f":"F188-50","v":-220},-220,"梦魇妖壶",null,"击杀奖励6-3"]
[null,220701,4,100,1,{"$f":"F188-40","v":-210},-210,"梦魇妖壶",null,"击杀奖励7-1"]
[null,220702,4,100,1,{"$f":"F189-60","v":-170},-170,"梦魇妖壶",null,"击杀奖励7-2"]
[null,220703,4,100,1,{"$f":"F191-50","v":-110},-110,"梦魇妖壶",null,"击杀奖励7-3"]
[null,220801,4,100,1,{"$f":"F191-40","v":-100},-100,"梦魇妖壶",null,"击杀奖励8-1"]
[null,220802,4,100,1,{"$f":"F192-60","v":-60},-60,"梦魇妖壶",null,"击杀奖励8-2"]
[null,220803,4,100,1,{"$f":"辅助设计表!G19","v":0},0,"梦魇妖壶",null,"击杀奖励8-3"]
[null,230101,29,100,1,{"$f":"辅助设计表!L19","v":0},0,"秘境升级材料",null,"击杀奖励1-1"]
[null,{"$f":"B170+10000","v":230102},29,100,1,{"$f":"辅助设计表!M19","v":0},{"$f":"F194","v":0},"秘境升级材料",null,"击杀奖励1-2"]
[null,230103,29,100,1,{"$f":"辅助设计表!N19","v":0},0,"秘境升级材料",null,"击杀奖励1-3"]
[null,230201,29,100,1,{"$f":"辅助设计表!L20","v":0},0,"秘境升级材料",null,"击杀奖励2-1"]
[null,230202,29,100,1,{"$f":"辅助设计表!M20","v":0},0,"秘境升级材料",null,"击杀奖励2-2"]
[null,230203,29,100,1,{"$f":"辅助设计表!N20","v":0},0,"秘境升级材料",null,"击杀奖励2-3"]
[null,230301,29,100,1,{"$f":"辅助设计表!L21","v":0},0,"秘境升级材料",null,"击杀奖励3-1"]
[null,230302,29,100,1,{"$f":"辅助设计表!M21","v":0},0,"秘境升级材料",null,"击杀奖励3-2"]
[null,230303,29,100,1,{"$f":"辅助设计表!N21","v":0},0,"秘境升级材料",null,"击杀奖励3-3"]
[null,230401,29,100,1,{"$f":"辅助设计表!L22","v":0},0,"秘境升级材料",null,"击杀奖励4-1"]
[null,230402,29,100,1,{"$f":"辅助设计表!M22","v":0},0,"秘境升级材料",null,"击杀奖励4-2"]
[null,230403,29,100,1,{"$f":"辅助设计表!N22","v":0},0,"秘境升级材料",null,"击杀奖励4-2"]
[null,230501,29,100,1,{"$f":"辅助设计表!L23","v":0},0,"秘境升级材料",null,"击杀奖励5-1"]
[null,230502,29,100,1,{"$f":"辅助设计表!M23","v":0},0,"秘境升级材料",null,"击杀奖励5-2"]
[null,230503,29,100,1,{"$f":"辅助设计表!N23","v":0},0,"秘境升级材料",null,"击杀奖励5-3"]
[null,230601,29,100,1,{"$f":"辅助设计表!L24","v":0},0,"秘境升级材料",null,"击杀奖励6-1"]
[null,230602,29,100,1,{"$f":"辅助设计表!M24","v":0},0,"秘境升级材料",null,"击杀奖励6-2"]
[null,230603,29,100,1,{"$f":"辅助设计表!N24","v":0},0,"秘境升级材料",null,"击杀奖励6-3"]
[null,230701,29,100,1,{"$f":"辅助设计表!L25","v":0},0,"秘境升级材料",null,"击杀奖励7-1"]
[null,230702,29,100,1,{"$f":"辅助设计表!M25","v":0},0,"秘境升级材料",null,"击杀奖励7-2"]
[null,230703,29,100,1,{"$f":"辅助设计表!N25","v":0},0,"秘境升级材料",null,"击杀奖励7-3"]
[null,230801,29,100,1,{"$f":"辅助设计表!L26","v":0},0,"秘境升级材料",null,"击杀奖励8-1"]
[null,230802,29,100,1,{"$f":"辅助设计表!M26","v":0},0,"秘境升级材料",null,"击杀奖励8-2"]
[null,230803,29,100,1,{"$f":"辅助设计表!N26","v":0},0,"秘境升级材料",null,"击杀奖励8-3",null,null,"奖励"]
[null,300001,14,100,1,{"$f":"辅助设计表!$G$22","v":0},{"$f":"F217","v":0},"金币",null,"排行榜奖励1",{"$f":"C217&\"#\"&F217","v":"14#0"},"排行榜奖励1",{"$f":"K217&\"|\"&K236&\"|\"&K255","v":"14#0|16#0|29#0"}]
[null,300002,14,100,1,{"$f":"F217-50000","v":-50000},-50000,"金币",null,"排行榜奖励2",{"$f":"C218&\"#\"&F218","v":"14#-50000"},"排行榜奖励2",{"$f":"K218&\"|\"&K237&\"|\"&K256","v":"14#-50000|16#-200|29#-30"}]
[null,300003,14,100,1,{"$f":"F218-30000","v":-80000},-80000,"金币",null,"排行榜奖励3","14#-80000","排行榜奖励3","14#-80000|16#-300|29#-50"]
[null,300004,14,100,1,{"$f":"F219-10000","v":-90000},-90000,"金币",null,"排行榜奖励4","14#-90000","排行榜奖励4","14#-90000|16#-350|29#-65"]
[null,300005,14,100,1,{"$f":"F220-10000","v":-100000},-100000,"金币",null,"排行榜奖励5","14#-100000","排行榜奖励5","14#-100000|16#-400|29#-80"]
[null,300006,14,100,1,-110000,-110000,"金币",null,"排行榜奖励6","14#-110000","排行榜奖励6","14#-110000|16#-450|29#-90"]
[null,300007,14,100,1,-120000,-120000,"金币",null,"排行榜奖励7","14#-120000","排行榜奖励7","14#-120000|16#-500|29#-100"]
[null,300008,14,100,1,-130000,-130000,"金币",null,"排行榜奖励8","14#-130000","排行榜奖励8","14#-130000|16#-550|29#-110"]
[null,300009,14,100,1,-140000,-140000,"金币",null,"排行榜奖励9","14#-140000","排行榜奖励9","14#-140000|16#-600|29#-120"]
[null,300010,14,100,1,-150000,-150000,"金币",null,"排行榜奖励10","14#-150000","排行榜奖励10","14#-150000|16#-650|29#-130"]
[null,300011,14,100,1,-160000,-160000,"金币",null,"排行榜奖励11","14#-160000","排行榜奖励11","14#-160000|16#-670|29#-135"]
[null,300021,14,100,1,{"$f":"F227-20000","v":-180000},-180000,"金币",null,"排行榜奖励21","14#-180000","排行榜奖励21","14#-180000|16#-690|29#-140"]
[null,300041,14,100,1,{"$f":"F228-20000","v":-200000},-200000,"金币",null,"排行榜奖励41","14#-200000","排行榜奖励41","14#-200000|16#-710|29#-145"]
[null,300051,14,100,1,{"$f":"F229-20000","v":-220000},{"$f":"F230","v":-220000},"金币",null,"排行榜奖励51","14#-220000","排行榜奖励51","14#-220000|16#-730|29#-150"]
[null,300081,14,100,1,{"$f":"F230-20000","v":-240000},-240000,"金币",null,"排行榜奖励81","14#-240000","排行榜奖励81","14#-240000|16#-750|29#-155"]
[null,300101,14,100,1,{"$f":"F231-20000","v":-260000},-260000,"金币",null,"排行榜奖励101","14#-260000","排行榜奖励101","14#-260000|16#-770|29#-160"]
[null,300301,14,100,1,{"$f":"F232-10000","v":-270000},-270000,"金币",null,"排行榜奖励301","14#-270000","排行榜奖励301","14#-270000|16#-790|29#-165"]
[null,300501,14,100,1,{"$f":"F233-10000","v":-280000},-280000,"金币",null,"排行榜奖励501","14#-280000","排行榜奖励501","14#-280000|16#-810|29#-170"]
[null,301001,14,100,1,{"$f":"F234-10000","v":-290000},-290000,"金币",null,"排行榜奖励1000","14#-290000","排行榜奖励1001","14#-290000|16#-830|29#-175"]
[null,{"$f":"B217+100000","v":400001},16,100,1,{"$f":"辅助设计表!$I$22","v":0},0,"妖晶",null,"排行榜奖励1","16#0"]
[null,{"$f":"B218+100000","v":400002},16,100,1,{"$f":"F236-200","v":-200},{"$f":"F237","v":-200},"妖晶",null,"排行榜奖励2","16#-200"]
[null,400003,16,100,1,{"$f":"F237-100","v":-300},-300,"妖晶",null,"排行榜奖励3","16#-300"]
[null,400004,16,100,1,{"$f":"F238-50","v":-350},-350,"妖晶",null,"排行榜奖励4","16#-350"]
[null,400005,16,100,1,{"$f":"F239-50","v":-400},-400,"妖晶",null,"排行榜奖励5","16#-400"]
[null,400006,16,100,1,-450,-450,"妖晶",null,"排行榜奖励6",{"$f":"C241&\"#\"&F241","v":"16#-450"}]
[null,400007,16,100,1,-500,-500,"妖晶",null,"排行榜奖励7","16#-500"]
[null,400008,16,100,1,-550,-550,"妖晶",null,"排行榜奖励8","16#-550"]
[null,400009,16,100,1,-600,-600,"妖晶",null,"排行榜奖励9","16#-600"]
[null,400010,16,100,1,-650,-650,"妖晶",null,"排行榜奖励10","16#-650"]
[null,400011,16,100,1,{"$f":"F245-20","v":-670},-670,"妖晶",null,"排行榜奖励11","16#-670"]
[null,400021,16,100,1,{"$f":"F246-20","v":-690},-690,"妖晶",null,"排行榜奖励21","16#-690"]
[null,400041,16,100,1,-710,-710,"妖晶",null,"排行榜奖励41","16#-710"]
[null,400051,16,100,1,-730,-730,"妖晶",null,"排行榜奖励51","16#-730"]
[null,400081,16,100,1,-750,-750,"妖晶",null,"排行榜奖励81","16#-750"]
[null,400101,16,100,1,-770,-770,"妖晶",null,"排行榜奖励101","16#-770"]
[null,400301,16,100,1,-790,-790,"妖晶",null,"排行榜奖励301","16#-790"]
[null,400501,16,100,1,-810,-810,"妖晶",null,"排行榜奖励501","16#-810"]
[null,401001,16,100,1,-830,-830,"妖晶",null,"排行榜奖励1000","16#-830"]
[null,500001,29,100,1,{"$f":"辅助设计表!$E$22","v":0},0,"秘境升级材料",null,"排行榜奖励1","29#0"]
[null,{"$f":"B237+100000","v":500002},29,100,1,{"$f":"F255-30","v":-30},-30,"秘境升级材料",null,"排行榜奖励2","29#-30"]
[null,500003,29,100,1,{"$f":"F256-20","v":-50},-50,"秘境升级材料",null,"排行榜奖励3","29#-50"]
[null,500004,29,100,1,{"$f":"F257-15","v":-65},{"$f":"F258","v":-65},"秘境升级材料",null,"排行榜奖励4","29#-65"]
[null,500005,29,100,1,{"$f":"F258-15","v":-80},-80,"秘境升级材料",null,"排行榜奖励5","29#-80"]
[null,500006,29,100,1,{"$f":"F259-10","v":-90},-90,"秘境升级材料",null,"排行榜奖励6","29#-90"]
[null,500007,29,100,1,{"$f":"F260-10","v":-100},-100,"秘境升级材料",null,"排行榜奖励7","29#-100"]
[null,500008,29,100,1,{"$f":"F261-10","v":-110},-110,"秘境升级材料",null,"排行榜奖励8","29#-110"]
[null,500009,29,100,1,{"$f":"F262-10","v":-120},-120,"秘境升级材料",null,"排行榜奖励9","29#-120"]
[null,500010,29,100,1,{"$f":"F263-10","v":-130},-130,"秘境升级材料",null,"排行榜奖励10",{"$f":"C264&\"#\"&F264","v":"29#-130"}]
[null,500011,29,100,1,{"$f":"F264-5","v":-135},-135,"秘境升级材料",null,"排行榜奖励11","29#-135"]
[null,500021,29,100,1,{"$f":"F265-5","v":-140},-140,"秘境升级材料",null,"排行榜奖励21","29#-140"]
[null,500041,29,100,1,-145,-145,"秘境升级材料",null,"排行榜奖励41","29#-145"]
[null,500051,29,100,1,-150,-150,"秘境升级材料",null,"排行榜奖励51","29#-150"]
[null,500081,29,100,1,-155,-155,"秘境升级材料",null,"排行榜奖励81","29#-155"]
[null,500101,29,100,1,-160,-160,"秘境升级材料",null,"排行榜奖励101","29#-160"]
[null,500301,29,100,1,-165,-165,"秘境升级材料",null,"排行榜奖励301","29#-165"]
[null,500501,29,100,1,-170,-170,"秘境升级材料",null,"排行榜奖励501","29#-170"]
[null,501001,29,100,1,-175,-175,"秘境升级材料",null,"排行榜奖励1000","29#-175"]

{"sheet":"y异妖配件","index":3,"n_rows":17,"n_cols":2,"rows_kept":17}
[6001,"刀捞鬼1"]
[6002,"刀捞鬼2"]
[6003,"刀捞鬼3"]
[6004,"蒸笼仔1"]
[6005,"蒸笼仔2"]
[6006,"蒸笼仔3"]
[6007,"横公1"]
[6008,"横公2"]
[6009,"横公3"]
[6013,"火鼠1"]
[6014,"火鼠2"]
[6015,"火鼠3"]
[6016,"火鼠4"]
[6017,"拦面叟1"]
[6018,"拦面叟2"]
[6019,"拦面叟3"]
[6020,"拦面叟4"]

{"sheet":"外敌入侵","index":4,"n_rows":8,"n_cols":2,"rows_kept":8}
["601011#278|0#9722,601021#278|0#9722,601031#111|601032#111|601033#56|0#9722",{"$f":"SUBSTITUTE(SUBSTITUTE(SUBSTITUTE(A1,\"9722\",1000,1),\"9722\",1000,1),\"9722\",1000,1)","v":"601011#278|0#1000,601021#278|0#1000,601031#111|601032#111|601033#56|0#1000"}]
["602011#139|602012#139|0#9722,602021#139|602022#139|0#9722,602031#111|602032#111|602033#56|0#9722",{"$f":"SUBSTITUTE(SUBSTITUTE(SUBSTITUTE(A2,\"9722\",1000,1),\"9722\",1000,1),\"9722\",1000,1)","v":"602011#139|602012#139|0#1000,602021#139|602022#139|0#1000,602031#111|602032#111|602033#56|0#1000"}]
["603011#139|603012#139|0#9722,603021#139|603022#139|0#9722,603031#111|603032#111|603033#56|0#9722","603011#139|603012#139|0#1000,603021#139|603022#139|0#1000,603031#111|603032#111|603033#56|0#1000"]
["604011#139|604012#139|0#9722,604021#139|604022#139|0#9722,604031#111|604032#111|604033#56|0#9722","604011#139|604012#139|0#1000,604021#139|604022#139|0#1000,604031#111|604032#111|604033#56|0#1000"]
["605011#139|605012#139|0#9722,605021#139|605022#139|0#9722,605031#111|605032#111|605033#56|0#9722","605011#139|605012#139|0#1000,605021#139|605022#139|0#1000,605031#111|605032#111|605033#56|0#1000"]
["606011#139|606012#139|0#9722,606021#139|606022#139|0#9722,606031#93|606032#93|606033#93|0#9721",{"$f":"SUBSTITUTE(SUBSTITUTE(SUBSTITUTE(A6,\"9722\",1000,1),\"9722\",1000,1),\"9721\",1000,1)","v":"606011#139|606012#139|0#1000,606021#139|606022#139|0#1000,606031#93|606032#93|606033#93|0#1000"}]
["607011#139|607012#139|0#9722,607021#139|607022#139|0#9722,607031#93|607032#93|607033#93|0#9721",{"$f":"SUBSTITUTE(SUBSTITUTE(SUBSTITUTE(A7,\"9722\",1000,1),\"9722\",1000,1),\"9721\",1000,1)","v":"607011#139|607012#139|0#1000,607021#139|607022#139|0#1000,607031#93|607032#93|607033#93|0#1000"}]
["608011#139|608012#139|0#9722,608021#139|608022#139|0#9722,608031#93|608032#93|608033#93|0#9721",{"$f":"SUBSTITUTE(SUBSTITUTE(SUBSTITUTE(A8,\"9722\",1000,1),\"9722\",1000,1),\"9721\",1000,1)","v":"608011#139|608012#139|0#1000,608021#139|608022#139|0#1000,608031#93|608032#93|608033#93|0#1000"}]

{"sheet":"Sheet2","index":5,"n_rows":25,"n_cols":20,"rows_kept":25}
[]
[]
[]
[{"$nulls":5},1,14,1000000,null,14,5000000,null,{"$f":"[1]!SUMSTRING(G4:H4,\"#\")","v":{"$error":"#NAME?"}},null,null,{"$f":"[1]!SUMSTRING(J4:K4,\"#\")","v":{"$error":"#NAME?"}},null,{"$f":"[1]!SUMSTRING(M4:P4,\"|\")","v":{"$error":"#NAME?"}}]
[{"$nulls":5},2,14,1500000,null,14,6000000,null,{"$f":"[1]!SUMSTRING(G5:H5,\"#\")","v":{"$error":"#NAME?"}},null,null,{"$f":"[1]!SUMSTRING(J5:K5,\"#\")","v":{"$error":"#NAME?"}},null,{"$f":"[1]!SUMSTRING(M5:P5,\"|\")","v":{"$error":"#NAME?"}}]
[{"$nulls":5},3,14,2000000,null,14,7000000,null,{"$f":"[1]!SUMSTRING(G6:H6,\"#\")","v":{"$error":"#NAME?"}},null,null,{"$f":"[1]!SUMSTRING(J6:K6,\"#\")","v":{"$error":"#NAME?"}},null,{"$f":"[1]!SUMSTRING(M6:P6,\"|\")","v":{"$error":"#NAME?"}}]
[{"$nulls":5},4,14,2500000,null,14,8000000,null,{"$f":"[1]!SUMSTRING(G7:H7,\"#\")","v":{"$error":"#NAME?"}},null,null,{"$f":"[1]!SUMSTRING(J7:K7,\"#\")","v":{"$error":"#NAME?"}},null,{"$f":"[1]!SUMSTRING(M7:P7,\"|\")","v":{"$error":"#NAME?"}}]
[{"$nulls":5},5,14,3000000,null,14,9000000,null,{"$f":"[1]!SUMSTRING(G8:H8,\"#\")","v":{"$error":"#NAME?"}},null,null,{"$f":"[1]!SUMSTRING(J8:K8,\"#\")","v":{"$error":"#NAME?"}},null,{"$f":"[1]!SUMSTRING(M8:P8,\"|\")","v":{"$error":"#NAME?"}}]
[{"$nulls":5},6,14,3500000,null,14,10000000,null,{"$f":"[1]!SUMSTRING(G9:H9,\"#\")","v":{"$error":"#NAME?"}},null,null,{"$f":"[1]!SUMSTRING(J9:K9,\"#\")","v":{"$error":"#NAME?"}},null,{"$f":"[1]!SUMSTRING(M9:P9,\"|\")","v":{"$error":"#NAME?"}}]
[{"$nulls":5},7,14,4000000,null,14,11000000,null,{"$f":"[1]!SUMSTRING(G10:H10,\"#\")","v":{"$error":"#NAME?"}},null,null,{"$f":"[1]!SUMSTRING(J10:K10,\"#\")","v":{"$error":"#NAME?"}},null,{"$f":"[1]!SUMSTRING(M10:P10,\"|\")","v":{"$error":"#NAME?"}}]
[{"$nulls":5},8,14,4500000,null,14,12000000,null,{"$f":"[1]!SUMSTRING(G11:H11,\"#\")","v":{"$error":"#NAME?"}},null,null,{"$f":"[1]!SUMSTRING(J11:K11,\"#\")","v":{"$error":"#NAME?"}},null,{"$f":"[1]!SUMSTRING(M11:P11,\"|\")","v":{"$error":"#NAME?"}}]
[]
[]
[]
[]
[]
[]
[{"$nulls":8},93,"93#351","93#351",{"$f":"[1]!SUMSTRING(I18:K18,\"|\")","v":{"$error":"#NAME?"}},null,null,351,{"$nulls":4},{"$f":"[1]!SUMSTRING(I18:S18,\"#\")","v":{"$error":"#NAME?"}}]
[{"$nulls":8},118,"118#352","118#352",{"$f":"[1]!SUMSTRING(I19:K19,\"|\")","v":{"$error":"#NAME?"}},{"$nulls":3},352,{"$nulls":3},{"$f":"[1]!SUMSTRING(I19:S19,\"#\")","v":{"$error":"#NAME?"}}]
[{"$nulls":8},118,"118#353","118#353",{"$f":"[1]!SUMSTRING(I20:K20,\"|\")","v":{"$error":"#NAME?"}},{"$nulls":3},353,{"$nulls":3},{"$f":"[1]!SUMSTRING(I20:S20,\"#\")","v":{"$error":"#NAME?"}}]
[{"$nulls":8},"118#123","118#123#354","118#123#354",{"$f":"[1]!SUMSTRING(I21:K21,\"|\")","v":{"$error":"#NAME?"}},{"$nulls":4},354,null,null,{"$f":"[1]!SUMSTRING(I21:S21,\"#\")","v":{"$error":"#NAME?"}}]
[{"$nulls":8},123,"123#355","123#355",{"$f":"[1]!SUMSTRING(I22:K22,\"|\")","v":{"$error":"#NAME?"}},{"$nulls":4},355,null,null,{"$f":"[1]!SUMSTRING(I22:S22,\"#\")","v":{"$error":"#NAME?"}}]
[{"$nulls":8},123,"123#356","123#356",{"$f":"[1]!SUMSTRING(I23:K23,\"|\")","v":{"$error":"#NAME?"}},{"$nulls":4},356,null,null,{"$f":"[1]!SUMSTRING(I23:S23,\"#\")","v":{"$error":"#NAME?"}}]
[{"$nulls":8},123,"123#357","123#357",{"$f":"[1]!SUMSTRING(I24:K24,\"|\")","v":{"$error":"#NAME?"}},{"$nulls":4},357,null,null,{"$f":"[1]!SUMSTRING(I24:S24,\"#\")","v":{"$error":"#NAME?"}}]
[{"$nulls":8},138,"138#358#401","138#358#401",{"$f":"[1]!SUMSTRING(I25:K25,\"|\")","v":{"$error":"#NAME?"}},{"$nulls":5},358,401,{"$f":"[1]!SUMSTRING(I25:S25,\"#\")","v":{"$error":"#NAME?"}}]

{"sheet":"奖励辅助表","index":6,"n_rows":70,"n_cols":14,"rows_kept":70}
[]
[]
[]
[null,"111#121#131#140",91,{"$f":"SUBSTITUTE(B4,\"140\",C4,1)","v":"111#121#131#91"},"161#171#181#140#231#241#251#261",81,{"$f":"SUBSTITUTE(E4,\"140\",F4,1)","v":"161#171#181#81#231#241#251#261"},"201#211#221#140#271#281#291#301#351",71,{"$f":"SUBSTITUTE(H4,\"140\",I4,1)","v":"201#211#221#71#271#281#291#301#351"},{"$f":"_xlfn.TEXTJOIN(\"|\",TRUE,D4,G4,J4)","v":"111#121#131#91|161#171#181#81#231#241#251#261|201#211#221#71#271#281#291#301#351"}]
[null,"112#122#132#140",92,{"$f":"SUBSTITUTE(B5,\"140\",C5,1)","v":"112#122#132#92"},"162#172#182#140#232#242#252#262",82,{"$f":"SUBSTITUTE(E5,\"140\",F5,1)","v":"162#172#182#82#232#242#252#262"},"202#212#222#140#272#282#292#302#352",72,"202#212#222#72#272#282#292#302#352",{"$f":"_xlfn.TEXTJOIN(\"|\",TRUE,D5,G5,J5)","v":"112#122#132#92|162#172#182#82#232#242#252#262|202#212#222#72#272#282#292#302#352"}]
[null,"113#123#133#140",93,"113#123#133#93","163#173#183#140#233#243#253#263",83,"163#173#183#83#233#243#253#263","203#213#223#140#273#283#293#303#353",73,"203#213#223#73#273#283#293#303#353","113#123#133#93|163#173#183#83#233#243#253#263|203#213#223#73#273#283#293#303#353"]
[null,"114#124#134#140",94,"114#124#134#94","164#174#184#140#234#244#254#264",84,"164#174#184#84#234#244#254#264","204#214#224#140#274#284#294#304#354",74,"204#214#224#74#274#284#294#304#354","114#124#134#94|164#174#184#84#234#244#254#264|204#214#224#74#274#284#294#304#354"]
[null,"115#125#135#140",95,"115#125#135#95","165#175#185#140#235#245#255#265",85,"165#175#185#85#235#245#255#265","205#215#225#140#275#285#295#305#355",75,"205#215#225#75#275#285#295#305#355","115#125#135#95|165#175#185#85#235#245#255#265|205#215#225#75#275#285#295#305#355"]
[null,"116#126#136#140",96,"116#126#136#96","166#176#186#140#236#246#256#266",86,"166#176#186#86#236#246#256#266","206#216#226#140#276#286#296#306#356",76,"206#216#226#76#276#286#296#306#356","116#126#136#96|166#176#186#86#236#246#256#266|206#216#226#76#276#286#296#306#356"]
[null,"117#127#137#140",97,"117#127#137#97","167#177#187#140#237#247#257#267",87,"167#177#187#87#237#247#257#267","207#217#227#140#277#287#297#307#357",77,"207#217#227#77#277#287#297#307#357","117#127#137#97|167#177#187#87#237#247#257#267|207#217#227#77#277#287#297#307#357"]
[null,"118#128#138#140#401",98,"118#128#138#98#401","168#178#188#140#238#248#258#268#401",88,"168#178#188#88#238#248#258#268#401","208#218#228#140#278#288#298#308#358#401",78,"208#218#228#78#278#288#298#308#358#401","118#128#138#98#401|168#178#188#88#238#248#258#268#401|208#218#228#78#278#288#298#308#358#401"]
[]
[]
[]
["秘境奖励"]
[null,"1级","2级","3级","2级锭","3级锭","2级符文","3级符文","2级","3级","合计"]
[null,93,93,"93#351","171#181","211#221","251#261","291#301",{"$f":"_xlfn.TEXTJOIN(\"#\",TRUE,C17,E17,G17)","v":"93#171#181#251#261"},{"$f":"_xlfn.TEXTJOIN(\"#\",TRUE,D17,F17,H17)","v":"93#351#211#221#291#301"},{"$f":"_xlfn.TEXTJOIN(\"|\",TRUE,B17,I17,J17)","v":"93|93#171#181#251#261|93#351#211#221#291#301"}]
[null,118,118,"118#352","172#182","212#222","252#262","292#302",{"$f":"_xlfn.TEXTJOIN(\"#\",TRUE,C18,E18,G18)","v":"118#172#182#252#262"},{"$f":"_xlfn.TEXTJOIN(\"#\",TRUE,D18,F18,H18)","v":"118#352#212#222#292#302"},{"$f":"_xlfn.TEXTJOIN(\"|\",TRUE,B18,I18,J18)","v":"118|118#172#182#252#262|118#352#212#222#292#302"}]
[null,118,118,"118#353","173#183","213#223","253#263","293#303","118#173#183#253#263","118#353#213#223#293#303","118|118#173#183#253#263|118#353#213#223#293#303"]
[null,"118#123","118#123","118#123#354","174#184","214#224","254#264","294#304","118#123#174#184#254#264","118#123#354#214#224#294#304","118#123|118#123#174#184#254#264|118#123#354#214#224#294#304"]
[null,123,123,"123#355","175#185","215#225","255#265","295#305","123#175#185#255#265","123#355#215#225#295#305","123|123#175#185#255#265|123#355#215#225#295#305"]
[null,123,123,"123#356","176#186","216#226","256#266","296#306","123#176#186#256#266","123#356#216#226#296#306","123|123#176#186#256#266|123#356#216#226#296#306"]
[null,123,123,"123#357","177#187","217#227","257#267","297#307","123#177#187#257#267","123#357#217#227#297#307","123|123#177#187#257#267|123#357#217#227#297#307"]
[null,138,138,"138#358#401","178#188","218#228","258#268","298#308","138#178#188#258#268","138#358#401#218#228#298#308","138|138#178#188#258#268|138#358#401#218#228#298#308"]
[]
[]
[]
[null,"1级","装备",{"$nulls":5},"每天"]
[null,"2级","装备","紫锭","橙锭","紫色符文","橙色符文",null,"2级","紫锭",{"$f":"SUM(K9:K16)","v":0},"橙锭",{"$f":"SUM(M9:M16)","v":0}]
[null,"3级","装备","紫锭","橙锭","紫色符文","橙色符文","角色碎片","3级","紫锭",{"$f":"SUM(K19:K26)","v":0},"橙锭",{"$f":"SUM(M19:M26)","v":0}]
[]
[{"$nulls":4},"每分钟概率",0.001388888889,{"$f":"0.001388889*60*24","v":2.00000016}]
[]
[]
[{"$nulls":3},2,1,2,1]
[{"$nulls":3},2,2,2,2]
[{"$nulls":3},0.001388889,{"$f":"D37/2","v":0.0006944445}]
[]
[null,null,"每天",null,"每天",null,"每天",null,"每天"]
[null,"2级",1008,"概率",1009,"概率","紫色符文",null,"橙色符文"]
[null,1,2,{"$f":"$F$32/2*C41","v":0.001388888889},1,0.0006944444445,2,{"$f":"$F$32/2*G41","v":0.001388888889},1,{"$f":"$F$32/2*I41","v":0.0006944444445},{"$f":"INT(H41/6*100000000)","v":23148},{"$f":"100000000-K41*6","v":99861112},{"$f":"INT(J41/6*100000000)","v":11574},{"$f":"100000000-M41*6","v":99930556}]
[null,2,2,{"$f":"$F$32/2*C42","v":0.001388888889},1,{"$f":"$F$32/2*E42","v":0.0006944444445},2,{"$f":"$F$32/2*G42","v":0.001388888889},1,{"$f":"$F$32/2*I42","v":0.0006944444445},23148,99861112,11574,99930556]
[null,3,2,0.001388888889,1,0.0006944444445,2,0.001388888889,1,0.0006944444445,23148,99861112,11574,99930556]
[null,4,2,0.001388888889,1,0.0006944444445,2,0.001388888889,1,0.0006944444445,23148,99861112,11574,99930556]
[null,5,3,0.0020833333335,1,0.0006944444445,3,0.0020833333335,1,0.0006944444445,34722,99791668,11574,99930556]
[null,6,3,0.0020833333335,1,0.0006944444445,3,0.0020833333335,1,0.0006944444445,34722,99791668,11574,99930556]
[null,7,3,0.0020833333335,2,0.001388888889,3,0.0020833333335,2,0.001388888889,34722,99791668,23148,99861112]
[null,8,3,0.0020833333335,2,0.001388888889,3,0.0020833333335,2,0.001388888889,34722,99791668,23148,99861112]
[]
[]
[]
[null,null,"每天",null,"每天",null,"每天",null,"每天"]
[null,"3级",1008,"概率",1009,"概率","紫色符文",null,"橙色符文"]
[null,1,2,{"$f":"$F$32/2*C54","v":0.001388888889},1,0.0006944444445,2,{"$f":"$F$32/2*G54","v":0.001388888889},1,{"$f":"$F$32/2*I54","v":0.0006944444445},{"$f":"INT(H54/6*100000000)","v":23148},{"$f":"100000000-K54*6","v":99861112},{"$f":"INT(J54/6*100000000)","v":11574},{"$f":"100000000-M54*6","v":99930556}]
[null,2,2,{"$f":"$F$32/2*C55","v":0.001388888889},1,0.0006944444445,2,0.001388888889,1,0.0006944444445,{"$f":"INT(H55/6*100000000)","v":23148},{"$f":"100000000-K55*6","v":99861112},11574,99930556]
[null,3,2,{"$f":"$F$32/2*C56","v":0.001388888889},1,0.0006944444445,2,0.001388888889,1,0.0006944444445,23148,99861112,11574,99930556]
[null,4,2,{"$f":"$F$32/2*C57","v":0.001388888889},1,0.0006944444445,2,0.001388888889,1,0.0006944444445,23148,99861112,11574,99930556]
[null,5,3,{"$f":"$F$32/2*C58","v":0.0020833333335},1,0.0006944444445,3,0.0020833333335,1,0.0006944444445,34722,99791668,11574,99930556]
[null,6,3,{"$f":"$F$32/2*C59","v":0.0020833333335},1,0.0006944444445,3,0.0020833333335,1,0.0006944444445,34722,99791668,11574,99930556]
[null,7,3,{"$f":"$F$32/2*C60","v":0.0020833333335},2,0.001388888889,3,0.0020833333335,2,0.001388888889,34722,99791668,23148,99861112]
[null,8,3,{"$f":"$F$32/2*C61","v":0.0020833333335},2,0.001388888889,3,0.0020833333335,2,0.001388888889,34722,99791668,23148,99861112]
[]
[{"$nulls":4},1,55001,{"$f":"F63+10","v":55011},{"$f":"G63+10","v":55021},55031,55041,55051,55101,{"$f":"_xlfn.TEXTJOIN(\"#\",TRUE,F63:L63)","v":"55001#55011#55021#55031#55041#55051#55101"}]
[{"$nulls":4},2,{"$f":"F63+1","v":55002},55012,55022,55032,55042,55052,55102,{"$f":"_xlfn.TEXTJOIN(\"#\",TRUE,F64:L64)","v":"55002#55012#55022#55032#55042#55052#55102"}]
[{"$nulls":4},3,{"$f":"F64+1","v":55003},55013,55023,55033,55043,55053,{"$f":"L64+1","v":55103},"55003#55013#55023#55033#55043#55053#55103"]
[{"$nulls":4},4,{"$f":"F65+1","v":55004},55014,55024,55034,55044,55054,55104,"55004#55014#55024#55034#55044#55054#55104"]
[{"$nulls":4},5,{"$f":"F66+1","v":55005},55015,55025,55035,55045,55055,55105,"55005#55015#55025#55035#55045#55055#55105"]
[{"$nulls":4},6,{"$f":"F67+1","v":55006},55016,55026,55036,55046,55056,55106,"55006#55016#55026#55036#55046#55056#55106"]
[{"$nulls":4},7,{"$f":"F68+1","v":55007},55017,55027,55037,55047,55057,55107,"55007#55017#55027#55037#55047#55057#55107"]
[{"$nulls":4},8,{"$f":"F69+1","v":55008},55018,55028,55038,55048,55058,55108,"55008#55018#55028#55038#55048#55058#55108"]

{"sheet":"发现者奖励","index":7,"n_rows":130,"n_cols":23,"rows_kept":130}
[]
[null,"发现者奖励"]
[null,21,14,16]
[null,0.2,0.4,0.4]
[]
[]
[null,601011,210101,601012,210101,{"$nulls":3},601021,{"$f":"C7+1","v":210102},601022,{"$f":"E7+1","v":210102},{"$nulls":3},601031,{"$f":"J7+1","v":210103},601032,{"$f":"L7+1","v":210103},601033,null,601034,{"$f":"Q7","v":210103}]
[null,602011,210201,602012,210201,602013,210201,null,602021,{"$f":"C8+1","v":210202},602022,210202,602023,{"$f":"G8+1","v":210202},null,602031,210203,602032,210203,602033,{"$f":"N8+1","v":210203},602034,{"$f":"Q8","v":210203}]
[null,603011,{"$f":"C8+100","v":210301},603012,{"$f":"E8+100","v":210301},603013,{"$f":"G8+100","v":210301},null,603021,210302,603022,210302,603023,210302,null,603031,210303,603032,210303,603033,210303,603034,210303]
[null,604011,210401,604012,210401,604013,210401,null,604021,210402,604022,210402,604023,210402,null,604031,210403,604032,210403,604033,210403,604034,210403]
[null,605011,210501,605012,210501,605013,210501,null,605021,210502,605022,210502,605023,210502,null,605031,210503,605032,210503,605033,210503,605034,210503]
[null,606011,210601,606012,210601,606013,210601,null,606021,210602,606022,210602,606023,210602,null,606031,210603,606032,210603,606033,210603,606034,210603]
[null,607011,210701,607012,210701,607013,210701,null,607021,210702,607022,210702,607023,210702,null,607031,210703,607032,210703,607033,210703,607034,210703]
[null,608011,210801,608012,210801,608013,210801,null,608021,210802,608022,210802,608023,210802,null,608031,210803,608032,210803,608033,210803,608034,210803]
[]
[]
[]
[null,{"$f":"_xlfn.TEXTJOIN(\"#\",TRUE,B7:C7)","v":"601011#210101"},null,{"$f":"_xlfn.TEXTJOIN(\"#\",TRUE,D7:E7)","v":"601012#210101"},null,{"$f":"_xlfn.TEXTJOIN(\"#\",TRUE,F7:G7)","v":""},{"$f":"_xlfn.TEXTJOIN(\"#\",TRUE,G7:G7)","v":""},null,{"$f":"_xlfn.TEXTJOIN(\"#\",TRUE,I7:J7)","v":"601021#210102"},null,{"$f":"_xlfn.TEXTJOIN(\"#\",TRUE,K7:L7)","v":"601022#210102"},null,"",null,null,"601031#210103",null,{"$f":"_xlfn.TEXTJOIN(\"#\",TRUE,R7:S7)","v":"601032#210103"},null,{"$f":"_xlfn.TEXTJOIN(\"#\",TRUE,T7:U7)","v":"601033"},null,{"$f":"_xlfn.TEXTJOIN(\"#\",TRUE,V7:W7)","v":"601034#210103"}]
[null,{"$f":"_xlfn.TEXTJOIN(\"#\",TRUE,B8:C8)","v":"602011#210201"},null,{"$f":"_xlfn.TEXTJOIN(\"#\",TRUE,D8:E8)","v":"602012#210201"},null,{"$f":"_xlfn.TEXTJOIN(\"#\",TRUE,F8:G8)","v":"602013#210201"},null,null,{"$f":"_xlfn.TEXTJOIN(\"#\",TRUE,I8:J8)","v":"602021#210202"},null,"602022#210202",null,"602023#210202",null,null,{"$f":"_xlfn.TEXTJOIN(\"#\",TRUE,P8:Q8)","v":"602031#210203"},null,"602032#210203",null,"602033#210203",null,{"$f":"_xlfn.TEXTJOIN(\"#\",TRUE,V8:W8)","v":"602034#210203"}]
[null,"603011#210301",null,"603012#210301",null,"603013#210301",null,null,{"$f":"_xlfn.TEXTJOIN(\"#\",TRUE,I9:J9)","v":"603021#210302"},null,"603022#210302",null,"603023#210302",null,null,{"$f":"_xlfn.TEXTJOIN(\"#\",TRUE,P9:Q9)","v":"603031#210303"},null,"603032#210303",null,"603033#210303",null,"603034#210303"]
[null,"604011#210401",null,"604012#210401",null,"604013#210401",null,null,{"$f":"_xlfn.TEXTJOIN(\"#\",TRUE,I10:J10)","v":"604021#210402"},null,"604022#210402",null,"604023#210402",null,null,{"$f":"_xlfn.TEXTJOIN(\"#\",TRUE,P10:Q10)","v":"604031#210403"},null,"604032#210403",null,"604033#210403",null,"604034#210403"]
[null,"605011#210501",null,"605012#210501",null,"605013#210501",null,null,{"$f":"_xlfn.TEXTJOIN(\"#\",TRUE,I11:J11)","v":"605021#210502"},null,"605022#210502",null,"605023#210502",null,null,{"$f":"_xlfn.TEXTJOIN(\"#\",TRUE,P11:Q11)","v":"605031#210503"},null,"605032#210503",null,"605033#210503",null,"605034#210503"]
[null,"606011#210601",null,"606012#210601",null,"606013#210601",null,null,{"$f":"_xlfn.TEXTJOIN(\"#\",TRUE,I12:J12)","v":"606021#210602"},null,"606022#210602",null,"606023#210602",null,null,{"$f":"_xlfn.TEXTJOIN(\"#\",TRUE,P12:Q12)","v":"606031#210603"},null,"606032#210603",null,"606033#210603",null,"606034#210603"]
[null,"607011#210701",null,"607012#210701",null,"607013#210701",null,null,{"$f":"_xlfn.TEXTJOIN(\"#\",TRUE,I13:J13)","v":"607021#210702"},null,"607022#210702",null,"607023#210702",null,null,{"$f":"_xlfn.TEXTJOIN(\"#\",TRUE,P13:Q13)","v":"607031#210703"},null,"607032#210703",null,"607033#210703",null,"607034#210703"]
[null,"608011#210801",null,"608012#210801",null,"608013#210801",null,null,{"$f":"_xlfn.TEXTJOIN(\"#\",TRUE,I14:J14)","v":"608021#210802"},null,"608022#210802",null,"608023#210802",null,null,{"$f":"_xlfn.TEXTJOIN(\"#\",TRUE,P14:Q14)","v":"608031#210803"},null,"608032#210803",null,"608033#210803",null,"608034#210803"]
[]
[]
[]
[]
[null,{"$f":"_xlfn.TEXTJOIN(\"|\",TRUE,B18:F18)","v":"601011#210101|601012#210101"},{"$nulls":6},{"$f":"_xlfn.TEXTJOIN(\"|\",TRUE,I18:M18)","v":"601021#210102|601022#210102"},{"$nulls":6},{"$f":"_xlfn.TEXTJOIN(\"|\",TRUE,P18:V18)","v":"601031#210103|601032#210103|601033|601034#210103"}]
[null,{"$f":"_xlfn.TEXTJOIN(\"|\",TRUE,B19:F19)","v":"602011#210201|602012#210201|602013#210201"},{"$nulls":6},"602021#210202|602022#210202|602023#210202",{"$nulls":6},{"$f":"_xlfn.TEXTJOIN(\"|\",TRUE,P19:V19)","v":"602031#210203|602032#210203|602033#210203|602034#210203"}]
[null,"603011#210301|603012#210301|603013#210301",{"$nulls":6},"603021#210302|603022#210302|603023#210302",{"$nulls":6},"603031#210303|603032#210303|603033#210303|603034#210303"]
[null,"604011#210401|604012#210401|604013#210401",{"$nulls":6},"604021#210402|604022#210402|604023#210402",{"$nulls":6},"604031#210403|604032#210403|604033#210403|604034#210403"]
[null,"605011#210501|605012#210501|605013#210501",{"$nulls":6},"605021#210502|605022#210502|605023#210502",{"$nulls":6},"605031#210503|605032#210503|605033#210503|605034#210503"]
[null,"606011#210601|606012#210601|606013#210601",{"$nulls":6},"606021#210602|606022#210602|606023#210602",{"$nulls":6},"606031#210603|606032#210603|606033#210603|606034#210603"]
[null,"607011#210701|607012#210701|607013#210701",{"$nulls":6},"607021#210702|607022#210702|607023#210702",{"$nulls":6},"607031#210703|607032#210703|607033#210703|607034#210703"]
[null,"608011#210801|608012#210801|608013#210801",{"$nulls":6},"608021#210802|608022#210802|608023#210802",{"$nulls":6},"608031#210803|608032#210803|608033#210803|608034#210803"]
[]
[]
[]
[]
[null,{"$f":"_xlfn.TEXTJOIN(\",\",TRUE,B30:P30)","v":"601011#210101|601012#210101,601021#210102|601022#210102,601031#210103|601032#210103|601033|601034#210103"}]
[null,{"$f":"_xlfn.TEXTJOIN(\",\",TRUE,B31:P31)","v":"602011#210201|602012#210201|602013#210201,602021#210202|602022#210202|602023#210202,602031#210203|602032#210203|602033#210203|602034#210203"}]
[null,"603011#210301|603012#210301|603013#210301,603021#210302|603022#210302|603023#210302,603031#210303|603032#210303|603033#210303|603034#210303"]
[null,"604011#210401|604012#210401|604013#210401,604021#210402|604022#210402|604023#210402,604031#210403|604032#210403|604033#210403|604034#210403"]
[null,"605011#210501|605012#210501|605013#210501,605021#210502|605022#210502|605023#210502,605031#210503|605032#210503|605033#210503|605034#210503"]
[null,"606011#210601|606012#210601|606013#210601,606021#210602|606022#210602|606023#210602,606031#210603|606032#210603|606033#210603|606034#210603"]
[null,"607011#210701|607012#210701|607013#210701,607021#210702|607022#210702|607023#210702,607031#210703|607032#210703|607033#210703|607034#210703"]
[null,"608011#210801|608012#210801|608013#210801,608021#210802|608022#210802|608023#210802,608031#210803|608032#210803|608033#210803|608034#210803"]
[]
[]
[]
[]
[]
[]
[null,null,110101,120101,130101,{"$f":"_xlfn.TEXTJOIN(\"#\",TRUE,C56:E56)","v":"110101#120101#130101"}]
[null,null,{"$f":"C56+1","v":110102},120102,130102,{"$f":"_xlfn.TEXTJOIN(\"#\",TRUE,C57:E57)","v":"110102#120102#130102"}]
[null,null,110103,120103,130103,"110103#120103#130103"]
[null,{"$f":"[2]RewardItemConfig!C2198&\"#\"&[2]RewardItemConfig!F2198","v":"4#20"},{"$f":"C56+100","v":110201},{"$f":"D56+100","v":120201},{"$f":"E56+100","v":130201},"110201#120201#130201"]
[null,{"$f":"[2]RewardItemConfig!C2199&\"#\"&[2]RewardItemConfig!F2199","v":"4#20"},{"$f":"C57+100","v":110202},{"$f":"D57+100","v":120202},{"$f":"E57+100","v":130202},"110202#120202#130202"]
[null,{"$f":"[2]RewardItemConfig!C2200&\"#\"&[2]RewardItemConfig!F2200","v":"4#20"},110203,120203,130203,"110203#120203#130203"]
[null,{"$f":"[2]RewardItemConfig!C2201&\"#\"&[2]RewardItemConfig!F2201","v":"4#20"},110301,120301,130301,"110301#120301#130301"]
[null,{"$f":"[2]RewardItemConfig!C2202&\"#\"&[2]RewardItemConfig!F2202","v":"4#20"},110302,120302,130302,"110302#120302#130302"]
[null,{"$f":"[2]RewardItemConfig!C2203&\"#\"&[2]RewardItemConfig!F2203","v":"4#20"},110303,120303,130303,"110303#120303#130303"]
[null,{"$f":"[2]RewardItemConfig!C2204&\"#\"&[2]RewardItemConfig!F2204","v":"4#20"},110401,120401,130401,"110401#120401#130401"]
[null,{"$f":"[2]RewardItemConfig!C2205&\"#\"&[2]RewardItemConfig!F2205","v":"4#20"},110402,120402,130402,"110402#120402#130402"]
[null,{"$f":"[2]RewardItemConfig!C2206&\"#\"&[2]RewardItemConfig!F2206","v":"4#20"},110403,120403,130403,"110403#120403#130403"]
[null,{"$f":"[2]RewardItemConfig!C2207&\"#\"&[2]RewardItemConfig!F2207","v":"4#20"},110501,120501,130501,"110501#120501#130501"]
[null,{"$f":"[2]RewardItemConfig!C2208&\"#\"&[2]RewardItemConfig!F2208","v":"4#20"},110502,120502,130502,"110502#120502#130502"]
[null,{"$f":"[2]RewardItemConfig!C2209&\"#\"&[2]RewardItemConfig!F2209","v":"4#20"},110503,120503,130503,"110503#120503#130503"]
[null,{"$f":"[2]RewardItemConfig!C2210&\"#\"&[2]RewardItemConfig!F2210","v":"4#20"},110601,120601,130601,"110601#120601#130601"]
[null,{"$f":"[2]RewardItemConfig!C2211&\"#\"&[2]RewardItemConfig!F2211","v":"4#20"},110602,120602,130602,"110602#120602#130602"]
[null,{"$f":"[2]RewardItemConfig!C2212&\"#\"&[2]RewardItemConfig!F2212","v":"4#20"},110603,120603,130603,"110603#120603#130603"]
[null,{"$f":"[2]RewardItemConfig!C2213&\"#\"&[2]RewardItemConfig!F2213","v":"4#20"},110701,120701,130701,"110701#120701#130701"]
[null,{"$f":"[2]RewardItemConfig!C2214&\"#\"&[2]RewardItemConfig!F2214","v":"4#20"},110702,120702,130702,"110702#120702#130702"]
[null,{"$f":"[2]RewardItemConfig!C2215&\"#\"&[2]RewardItemConfig!F2215","v":"4#20"},110703,120703,130703,"110703#120703#130703"]
[null,{"$f":"[2]RewardItemConfig!C2216&\"#\"&[2]RewardItemConfig!F2216","v":"4#20"},110801,120801,130801,"110801#120801#130801"]
[null,{"$f":"[2]RewardItemConfig!C2217&\"#\"&[2]RewardItemConfig!F2217","v":"4#20"},110802,120802,130802,"110802#120802#130802"]
[null,{"$f":"[2]RewardItemConfig!C2218&\"#\"&[2]RewardItemConfig!F2218","v":"4#20"},110803,120803,130803,"110803#120803#130803"]
[null,{"$f":"[2]RewardItemConfig!C2219&\"#\"&[2]RewardItemConfig!F2219","v":"4#20"}]
[null,{"$f":"[2]RewardItemConfig!C2220&\"#\"&[2]RewardItemConfig!F2220","v":"4#20"}]
[null,{"$f":"[2]RewardItemConfig!C2221&\"#\"&[2]RewardItemConfig!F2221","v":"4#20"}]
[null,{"$f":"[2]RewardItemConfig!C2231&\"#\"&[2]RewardItemConfig!F2231","v":"4#20"},{"$f":"_xlfn.TEXTJOIN(\"|\",TRUE,B59,B83,B107)","v":"4#20|4#20|10010#1"}]
[null,{"$f":"[2]RewardItemConfig!C2232&\"#\"&[2]RewardItemConfig!F2232","v":"4#20"},{"$f":"_xlfn.TEXTJOIN(\"|\",TRUE,B60,B84,B108)","v":"4#20|4#20|10011#1"}]
[null,{"$f":"[2]RewardItemConfig!C2233&\"#\"&[2]RewardItemConfig!F2233","v":"4#20"},"4#20|4#20|10012#1"]
[null,{"$f":"[2]RewardItemConfig!C2234&\"#\"&[2]RewardItemConfig!F2234","v":"4#20"},"4#20|4#20|10013#1"]
[null,{"$f":"[2]RewardItemConfig!C2235&\"#\"&[2]RewardItemConfig!F2235","v":"4#20"},"4#20|4#20|10014#1"]
[null,{"$f":"[2]RewardItemConfig!C2236&\"#\"&[2]RewardItemConfig!F2236","v":"4#20"},"4#20|4#20|10015#1"]
[null,{"$f":"[2]RewardItemConfig!C2237&\"#\"&[2]RewardItemConfig!F2237","v":"4#20"},"4#20|4#20|10016#1"]
[null,{"$f":"[2]RewardItemConfig!C2238&\"#\"&[2]RewardItemConfig!F2238","v":"4#20"},"4#20|4#20|10017#1"]
[null,{"$f":"[2]RewardItemConfig!C2239&\"#\"&[2]RewardItemConfig!F2239","v":"4#20"},"4#20|4#20|10018#1"]
[null,{"$f":"[2]RewardItemConfig!C2240&\"#\"&[2]RewardItemConfig!F2240","v":"4#20"},"4#20|4#20|10019#1"]
[null,{"$f":"[2]RewardItemConfig!C2241&\"#\"&[2]RewardItemConfig!F2241","v":"4#20"},"4#20|4#20|10020#1"]
[null,{"$f":"[2]RewardItemConfig!C2242&\"#\"&[2]RewardItemConfig!F2242","v":"4#20"},"4#20|4#20|10021#1"]
[null,{"$f":"[2]RewardItemConfig!C2243&\"#\"&[2]RewardItemConfig!F2243","v":"4#20"},"4#20|4#20|10022#1"]
[null,{"$f":"[2]RewardItemConfig!C2244&\"#\"&[2]RewardItemConfig!F2244","v":"4#20"},"4#20|4#20|10023#1"]
[null,{"$f":"[2]RewardItemConfig!C2245&\"#\"&[2]RewardItemConfig!F2245","v":"4#20"},"4#20|4#20|10024#1"]
[null,{"$f":"[2]RewardItemConfig!C2246&\"#\"&[2]RewardItemConfig!F2246","v":"10001#1"},"4#20|10001#1|10025#1"]
[null,{"$f":"[2]RewardItemConfig!C2247&\"#\"&[2]RewardItemConfig!F2247","v":"10002#1"},"4#20|10002#1|10026#1"]
[null,{"$f":"[2]RewardItemConfig!C2248&\"#\"&[2]RewardItemConfig!F2248","v":"10003#1"},"4#20|10003#1|10027#1"]
[null,{"$f":"[2]RewardItemConfig!C2249&\"#\"&[2]RewardItemConfig!F2249","v":"10004#1"},"4#20|10004#1|10028#1"]
[null,{"$f":"[2]RewardItemConfig!C2250&\"#\"&[2]RewardItemConfig!F2250","v":"10005#1"},"4#20|10005#1|10029#1"]
[null,{"$f":"[2]RewardItemConfig!C2251&\"#\"&[2]RewardItemConfig!F2251","v":"10006#1"},"4#20|10006#1|10030#1"]
[null,{"$f":"[2]RewardItemConfig!C2252&\"#\"&[2]RewardItemConfig!F2252","v":"10007#1"},"4#20|10007#1|10031#1"]
[null,{"$f":"[2]RewardItemConfig!C2253&\"#\"&[2]RewardItemConfig!F2253","v":"10008#1"},"4#20|10008#1|10032#1"]
[null,{"$f":"[2]RewardItemConfig!C2254&\"#\"&[2]RewardItemConfig!F2254","v":"10009#1"},"4#20|10009#1|10033#1"]
[null,{"$f":"[2]RewardItemConfig!C2255&\"#\"&[2]RewardItemConfig!F2255","v":"10010#1"}]
[null,{"$f":"[2]RewardItemConfig!C2256&\"#\"&[2]RewardItemConfig!F2256","v":"10011#1"}]
[null,{"$f":"[2]RewardItemConfig!C2257&\"#\"&[2]RewardItemConfig!F2257","v":"10012#1"}]
[null,{"$f":"[2]RewardItemConfig!C2258&\"#\"&[2]RewardItemConfig!F2258","v":"10013#1"}]
[null,{"$f":"[2]RewardItemConfig!C2259&\"#\"&[2]RewardItemConfig!F2259","v":"10014#1"}]
[null,{"$f":"[2]RewardItemConfig!C2260&\"#\"&[2]RewardItemConfig!F2260","v":"10015#1"}]
[null,{"$f":"[2]RewardItemConfig!C2261&\"#\"&[2]RewardItemConfig!F2261","v":"10016#1"}]
[null,{"$f":"[2]RewardItemConfig!C2262&\"#\"&[2]RewardItemConfig!F2262","v":"10017#1"}]
[null,{"$f":"[2]RewardItemConfig!C2263&\"#\"&[2]RewardItemConfig!F2263","v":"10018#1"}]
[null,{"$f":"[2]RewardItemConfig!C2264&\"#\"&[2]RewardItemConfig!F2264","v":"10019#1"}]
[null,{"$f":"[2]RewardItemConfig!C2265&\"#\"&[2]RewardItemConfig!F2265","v":"10020#1"}]
[null,{"$f":"[2]RewardItemConfig!C2266&\"#\"&[2]RewardItemConfig!F2266","v":"10021#1"}]
[null,{"$f":"[2]RewardItemConfig!C2267&\"#\"&[2]RewardItemConfig!F2267","v":"10022#1"}]
[null,{"$f":"[2]RewardItemConfig!C2268&\"#\"&[2]RewardItemConfig!F2268","v":"10023#1"}]
[null,{"$f":"[2]RewardItemConfig!C2269&\"#\"&[2]RewardItemConfig!F2269","v":"10024#1"}]
[null,{"$f":"[2]RewardItemConfig!C2270&\"#\"&[2]RewardItemConfig!F2270","v":"10025#1"}]
[null,{"$f":"[2]RewardItemConfig!C2271&\"#\"&[2]RewardItemConfig!F2271","v":"10026#1"}]
[null,{"$f":"[2]RewardItemConfig!C2272&\"#\"&[2]RewardItemConfig!F2272","v":"10027#1"}]
[null,{"$f":"[2]RewardItemConfig!C2273&\"#\"&[2]RewardItemConfig!F2273","v":"10028#1"}]
[null,{"$f":"[2]RewardItemConfig!C2274&\"#\"&[2]RewardItemConfig!F2274","v":"10029#1"}]
[null,{"$f":"[2]RewardItemConfig!C2275&\"#\"&[2]RewardItemConfig!F2275","v":"10030#1"}]
[null,{"$f":"[2]RewardItemConfig!C2276&\"#\"&[2]RewardItemConfig!F2276","v":"10031#1"}]
[null,{"$f":"[2]RewardItemConfig!C2277&\"#\"&[2]RewardItemConfig!F2277","v":"10032#1"}]
[null,{"$f":"[2]RewardItemConfig!C2278&\"#\"&[2]RewardItemConfig!F2278","v":"10033#1"}]