{"text_format":"3","workbook":"xlsx","n_sheets":5,"sheets":["GuildTechnology","Sheet1","属性辅助表","材料辅助表","工坊等级"],"not_rendered":{"external_links":2,"defined_names":1},"read":"whole","date_system":"1900"}

{"sheet":"GuildTechnology","index":0,"n_rows":2431,"n_cols":8,"rows_kept":2431}
[null,"Id","TechId","Icon","Level","Values","Profession","Consume"]
[null,"int","int","int","int","mut,int#int,1","int","mut,int#int,2"]
[null,2,2,3,2,2,2,2]
[null,"索引","科技点","图标","等级","属性","隶属定位\n1、；2、；\n3、；4，；","进阶下一级的消耗"]
["默认值"]
["正确性校对"]
["校对值"]
[null,1,1,270003,0,"61#0",1,"14#6000|65#10"]
[null,2,1,270003,1,"61#50",1,"14#18000|65#30"]
[null,3,1,270003,2,"61#100",1,"14#30000|65#50"]
[null,4,1,270003,3,"61#150",1,"14#42000|65#70"]
[null,5,1,270003,4,"61#200",1,"14#54000|65#90"]
[null,6,1,270003,5,"61#250",1,"14#66000|65#110"]
[null,7,1,270003,6,"61#300",1,"14#78000|65#130"]
[null,8,1,270003,7,"61#350",1,"14#90000|65#150"]
[null,9,1,270003,8,"61#400",1,"14#102000|65#170"]
[null,10,1,270003,9,"61#450",1,"14#114000|65#190"]
[null,11,1,270003,10,"61#500",1,"14#126000|65#210"]
[null,12,1,270003,11,"61#550",1,"14#150000|65#250"]
[null,13,1,270003,12,"61#600",1,"14#174000|65#290"]
[null,14,1,270003,13,"61#650",1,"14#198000|65#330"]
[null,15,1,270003,14,"61#700",1,"14#222000|65#370"]
[null,16,1,270003,15,"61#750",1,"14#246000|65#410"]
[null,17,1,270003,16,"61#800",1,"14#270000|65#450"]
[null,18,1,270003,17,"61#850",1,"14#294000|65#490"]
[null,19,1,270003,18,"61#900",1,"14#318000|65#530"]
[null,20,1,270003,19,"61#950",1,"14#342000|65#570"]
[null,21,1,270003,20,"61#1000",1,"14#366000|65#610"]
[null,22,1,270003,21,"61#1050",1,"14#414000|65#690"]
[null,23,1,270003,22,"61#1100",1,"14#462000|65#770"]
[null,24,1,270003,23,"61#1150",1,"14#510000|65#850"]
[null,25,1,270003,24,"61#1200",1,"14#558000|65#930"]
[null,26,1,270003,25,"61#1250",1,"14#606000|65#1010"]
[null,27,1,270003,26,"61#1300",1,"14#654000|65#1090"]
[null,28,1,270003,27,"61#1350",1,"14#702000|65#1170"]
[null,29,1,270003,28,"61#1400",1,"14#750000|65#1250"]
[null,30,1,270003,29,"61#1450",1,"14#798000|65#1330"]
[null,31,1,270003,30,"61#1500",1,"14#846000|65#1410"]
[null,32,1,270003,31,"61#1550",1,"14#942000|65#1570"]
[null,33,1,270003,32,"61#1600",1,"14#1038000|65#1730"]
[null,34,1,270003,33,"61#1650",1,"14#1134000|65#1890"]
[null,35,1,270003,34,"61#1700",1,"14#1230000|65#2050"]
[null,36,1,270003,35,"61#1750",1,"14#1326000|65#2210"]
[null,37,1,270003,36,"61#1800",1,"14#1422000|65#2370"]
[null,38,1,270003,37,"61#1850",1,"14#1518000|65#2530"]
[null,39,1,270003,38,"61#1900",1,"14#1614000|65#2690"]
[null,40,1,270003,39,"61#1950",1,"14#1710000|65#2850"]
[null,41,1,270003,40,"61#2000",1,"14#1806000|65#3010"]
[null,42,1,270003,41,"61#2050",1,"14#1998000|65#3330"]
[null,43,1,270003,42,"61#2100",1,"14#2190000|65#3650"]
[null,44,1,270003,43,"61#2150",1,"14#2382000|65#3970"]
[null,45,1,270003,44,"61#2200",1,"14#2574000|65#4290"]
[null,46,1,270003,45,"61#2250",1,"14#2766000|65#4610"]
[null,47,1,270003,46,"61#2300",1,"14#2958000|65#4930"]
[null,48,1,270003,47,"61#2350",1,"14#3150000|65#5250"]
[null,49,1,270003,48,"61#2400",1,"14#3342000|65#5570"]
[null,50,1,270003,49,"61#2450",1,"14#3534000|65#5890"]
[null,51,1,270003,50,"61#2500",1,"14#3726000|65#6210"]
[null,52,1,270003,51,"61#2550",1,"14#4110000|65#6850"]
[null,53,1,270003,52,"61#2600",1,"14#4494000|65#7490"]
[null,54,1,270003,53,"61#2650",1,"14#4878000|65#8130"]
[null,55,1,270003,54,"61#2700",1,"14#5262000|65#8770"]
[null,56,1,270003,55,"61#2750",1,"14#5646000|65#9410"]
[null,57,1,270003,56,"61#2800",1,"14#6030000|65#10050"]
[null,58,1,270003,57,"61#2850",1,"14#6414000|65#10690"]
[null,59,1,270003,58,"61#2900",1,"14#6798000|65#11330"]
[null,60,1,270003,59,"61#2950",1,"14#7182000|65#11970"]
[null,61,1,270003,60,"61#3000",1,"14#7566000|65#12610"]
[null,62,1,270003,61,"61#3050",1,"14#8334000|65#13890"]
[null,63,1,270003,62,"61#3100",1,"14#9102000|65#15170"]
[null,64,1,270003,63,"61#3150",1,"14#9870000|65#16450"]
[null,65,1,270003,64,"61#3200",1,"14#10638000|65#17730"]
[null,66,1,270003,65,"61#3250",1,"14#11406000|65#19010"]
[null,67,1,270003,66,"61#3300",1,"14#12174000|65#20290"]
[null,68,1,270003,67,"61#3350",1,"14#12942000|65#21570"]
[null,69,1,270003,68,"61#3400",1,"14#13710000|65#22850"]
[null,70,1,270003,69,"61#3450",1,"14#14478000|65#24130"]
[null,71,1,270003,70,"61#3500",1,"14#15246000|65#25410"]
[null,72,1,270003,71,"61#3550",1,"14#16782000|65#27970"]
[null,73,1,270003,72,"61#3600",1,"14#18318000|65#30530"]
[null,74,1,270003,73,"61#3650",1,"14#19854000|65#33090"]
[null,75,1,270003,74,"61#3700",1,"14#21390000|65#35650"]
[null,76,1,270003,75,"61#3750",1,"14#22926000|65#38210"]
[null,77,1,270003,76,"61#3800",1,"14#24462000|65#40770"]
[null,78,1,270003,77,"61#3850",1,"14#25998000|65#43330"]
[null,79,1,270003,78,"61#3900",1,"14#27534000|65#45890"]
[null,80,1,270003,79,"61#3950",1,"14#29070000|65#48450"]
[null,81,1,270003,80,"61#4000",1,"14#30606000|65#51010"]
[null,82,1,270003,81,"61#4050",1,"14#33678000|65#56130"]
[null,83,1,270003,82,"61#4100",1,"14#36750000|65#61250"]
[null,84,1,270003,83,"61#4150",1,"14#39822000|65#66370"]
[null,85,1,270003,84,"61#4200",1,"14#42894000|65#71490"]
[null,86,1,270003,85,"61#4250",1,"14#45966000|65#76610"]
[null,87,1,270003,86,"61#4300",1,"14#49038000|65#81730"]
[null,88,1,270003,87,"61#4350",1,"14#52110000|65#86850"]
[null,89,1,270003,88,"61#4400",1,"14#55182000|65#91970"]
[null,90,1,270003,89,"61#4450",1,"14#58254000|65#97090"]
[null,91,1,270003,90,"61#4500",1,"14#61326000|65#102210"]
[null,92,1,270003,91,"61#4550",1,"14#67470000|65#112450"]
[null,93,1,270003,92,"61#4600",1,"14#73614000|65#122690"]
[null,94,1,270003,93,"61#4650",1,"14#79758000|65#132930"]
[null,95,1,270003,94,"61#4700",1,"14#85902000|65#143170"]
[null,96,1,270003,95,"61#4750",1,"14#92046000|65#153410"]
[null,97,1,270003,96,"61#4800",1,"14#98190000|65#163650"]
[null,98,1,270003,97,"61#4850",1,"14#104334000|65#173890"]
[null,99,1,270003,98,"61#4900",1,"14#110478000|65#184130"]
[null,100,1,270003,99,"61#4950",1,"14#116622000|65#194370"]
[null,101,1,270003,100,"61#5000",1]
[null,102,2,270004,0,"62#0",1,"14#7200|65#12"]
[null,103,2,270004,1,"62#50",1,"14#21600|65#36"]
[null,104,2,270004,2,"62#100",1,"14#36000|65#60"]
[null,105,2,270004,3,"62#150",1,"14#50400|65#84"]
[null,106,2,270004,4,"62#200",1,"14#64800|65#108"]
[null,107,2,270004,5,"62#250",1,"14#79200|65#132"]
[null,108,2,270004,6,"62#300",1,"14#93600|65#156"]
[null,109,2,270004,7,"62#350",1,"14#108000|65#180"]
[null,110,2,270004,8,"62#400",1,"14#122400|65#204"]
[null,111,2,270004,9,"62#450",1,"14#136800|65#228"]
[null,112,2,270004,10,"62#500",1,"14#151200|65#252"]
[null,113,2,270004,11,"62#550",1,"14#180000|65#300"]
[null,114,2,270004,12,"62#600",1,"14#208800|65#348"]
[null,115,2,270004,13,"62#650",1,"14#237600|65#396"]
[null,116,2,270004,14,"62#700",1,"14#266400|65#444"]
[null,117,2,270004,15,"62#750",1,"14#295200|65#492"]
[null,118,2,270004,16,"62#800",1,"14#324000|65#540"]
[null,119,2,270004,17,"62#850",1,"14#352800|65#588"]
[null,120,2,270004,18,"62#900",1,"14#381600|65#636"]
[null,121,2,270004,19,"62#950",1,"14#410400|65#684"]
[null,122,2,270004,20,"62#1000",1,"14#439200|65#732"]
[null,123,2,270004,21,"62#1050",1,"14#496800|65#828"]
[null,124,2,270004,22,"62#1100",1,"14#554400|65#924"]
[null,125,2,270004,23,"62#1150",1,"14#612000|65#1020"]
[null,126,2,270004,24,"62#1200",1,"14#669600|65#1116"]
[null,127,2,270004,25,"62#1250",1,"14#727200|65#1212"]
[null,128,2,270004,26,"62#1300",1,"14#784800|65#1308"]
[null,129,2,270004,27,"62#1350",1,"14#842400|65#1404"]
[null,130,2,270004,28,"62#1400",1,"14#900000|65#1500"]
[null,131,2,270004,29,"62#1450",1,"14#957600|65#1596"]
[null,132,2,270004,30,"62#1500",1,"14#1015200|65#1692"]
[null,133,2,270004,31,"62#1550",1,"14#1130400|65#1884"]
[null,134,2,270004,32,"62#1600",1,"14#1245600|65#2076"]
[null,135,2,270004,33,"62#1650",1,"14#1360800|65#2268"]
[null,136,2,270004,34,"62#1700",1,"14#1476000|65#2460"]
[null,137,2,270004,35,"62#1750",1,"14#1591200|65#2652"]
[null,138,2,270004,36,"62#1800",1,"14#1706400|65#2844"]
[null,139,2,270004,37,"62#1850",1,"14#1821600|65#3036"]
[null,140,2,270004,38,"62#1900",1,"14#1936800|65#3228"]
[null,141,2,270004,39,"62#1950",1,"14#2052000|65#3420"]
[null,142,2,270004,40,"62#2000",1,"14#2167200|65#3612"]
[null,143,2,270004,41,"62#2050",1,"14#2397600|65#3996"]
[null,144,2,270004,42,"62#2100",1,"14#2628000|65#4380"]
[null,145,2,270004,43,"62#2150",1,"14#2858400|65#4764"]
[null,146,2,270004,44,"62#2200",1,"14#3088800|65#5148"]
[null,147,2,270004,45,"62#2250",1,"14#3319200|65#5532"]
[null,148,2,270004,46,"62#2300",1,"14#3549600|65#5916"]
[null,149,2,270004,47,"62#2350",1,"14#3780000|65#6300"]
[null,150,2,270004,48,"62#2400",1,"14#4010400|65#6684"]
[null,151,2,270004,49,"62#2450",1,"14#4240800|65#7068"]
[null,152,2,270004,50,"62#2500",1,"14#4471200|65#7452"]
[null,153,2,270004,51,"62#2550",1,"14#4932000|65#8220"]
[null,154,2,270004,52,"62#2600",1,"14#5392800|65#8988"]
[null,155,2,270004,53,"62#2650",1,"14#5853600|65#9756"]
[null,156,2,270004,54,"62#2700",1,"14#6314400|65#10524"]
[null,157,2,270004,55,"62#2750",1,"14#6775200|65#11292"]
[null,158,2,270004,56,"62#2800",1,"14#7236000|65#12060"]
[null,159,2,270004,57,"62#2850",1,"14#7696800|65#12828"]
[null,160,2,270004,58,"62#2900",1,"14#8157600|65#13596"]
[null,161,2,270004,59,"62#2950",1,"14#8618400|65#14364"]
[null,162,2,270004,60,"62#3000",1,"14#9079200|65#15132"]
[null,163,2,270004,61,"62#3050",1,"14#10000800|65#16668"]
[null,164,2,270004,62,"62#3100",1,"14#10922400|65#18204"]
[null,165,2,270004,63,"62#3150",1,"14#11844000|65#19740"]
[null,166,2,270004,64,"62#3200",1,"14#12765600|65#21276"]
[null,167,2,270004,65,"62#3250",1,"14#13687200|65#22812"]
[null,168,2,270004,66,"62#3300",1,"14#14608800|65#24348"]
[null,169,2,270004,67,"62#3350",1,"14#15530400|65#25884"]
[null,170,2,270004,68,"62#3400",1,"14#16452000|65#27420"]
[null,171,2,270004,69,"62#3450",1,"14#17373600|65#28956"]
[null,172,2,270004,70,"62#3500",1,"14#18295200|65#30492"]
[null,173,2,270004,71,"62#3550",1,"14#20138400|65#33564"]
[null,174,2,270004,72,"62#3600",1,"14#21981600|65#36636"]
[null,175,2,270004,73,"62#3650",1,"14#23824800|65#39708"]
[null,176,2,270004,74,"62#3700",1,"14#25668000|65#42780"]
[null,177,2,270004,75,"62#3750",1,"14#27511200|65#45852"]
[null,178,2,270004,76,"62#3800",1,"14#29354400|65#48924"]
[null,179,2,270004,77,"62#3850",1,"14#31197600|65#51996"]
[null,180,2,270004,78,"62#3900",1,"14#33040800|65#55068"]
[null,181,2,270004,79,"62#3950",1,"14#34884000|65#58140"]
[null,182,2,270004,80,"62#4000",1,"14#36727200|65#61212"]
[null,183,2,270004,81,"62#4050",1,"14#40413600|65#67356"]
[null,184,2,270004,82,"62#4100",1,"14#44100000|65#73500"]
[null,185,2,270004,83,"62#4150",1,"14#47786400|65#79644"]
[null,186,2,270004,84,"62#4200",1,"14#51472800|65#85788"]
[null,187,2,270004,85,"62#4250",1,"14#55159200|65#91932"]
[null,188,2,270004,86,"62#4300",1,"14#58845600|65#98076"]
[null,189,2,270004,87,"62#4350",1,"14#62532000|65#104220"]
[null,190,2,270004,88,"62#4400",1,"14#66218400|65#110364"]
[null,191,2,270004,89,"62#4450",1,"14#69904800|65#116508"]
[null,192,2,270004,90,"62#4500",1,"14#73591200|65#122652"]
[null,193,2,270004,91,"62#4550",1,"14#80964000|65#134940"]
[null,194,2,270004,92,"62#4600",1,"14#88336800|65#147228"]
[null,195,2,270004,93,"62#4650",1,"14#95709600|65#159516"]
[null,196,2,270004,94,"62#4700",1,"14#103082400|65#171804"]
[null,197,2,270004,95,"62#4750",1,"14#110455200|65#184092"]
[null,198,2,270004,96,"62#4800",1,"14#117828000|65#196380"]
[null,199,2,270004,97,"62#4850",1,"14#125200800|65#208668"]
[null,200,2,270004,98,"62#4900",1,"14#132573600|65#220956"]
[null,201,2,270004,99,"62#4950",1,"14#139946400|65#233244"]
[null,202,2,270004,100,"62#5000",1]
[null,203,3,270005,0,"51#0",1,"14#8400|65#14"]
[null,204,3,270005,1,"51#50",1,"14#25200|65#42"]
[null,205,3,270005,2,"51#100",1,"14#42000|65#70"]
[null,206,3,270005,3,"51#150",1,"14#58800|65#98"]
[null,207,3,270005,4,"51#200",1,"14#75600|65#126"]
[null,208,3,270005,5,"51#250",1,"14#92400|65#154"]
[null,209,3,270005,6,"51#300",1,"14#109200|65#182"]
[null,210,3,270005,7,"51#350",1,"14#126000|65#210"]
[null,211,3,270005,8,"51#400",1,"14#142800|65#238"]
[null,212,3,270005,9,"51#450",1,"14#159600|65#266"]
[null,213,3,270005,10,"51#500",1,"14#176400|65#294"]
[null,214,3,270005,11,"51#550",1,"14#210000|65#350"]
[null,215,3,270005,12,"51#600",1,"14#243600|65#406"]
[null,216,3,270005,13,"51#650",1,"14#277200|65#462"]
[null,217,3,270005,14,"51#700",1,"14#310800|65#518"]
[null,218,3,270005,15,"51#750",1,"14#344400|65#574"]
[null,219,3,270005,16,"51#800",1,"14#378000|65#630"]
[null,220,3,270005,17,"51#850",1,"14#411600|65#686"]
[null,221,3,270005,18,"51#900",1,"14#445200|65#742"]
[null,222,3,270005,19,"51#950",1,"14#478800|65#798"]
[null,223,3,270005,20,"51#1000",1,"14#512400|65#854"]
[null,224,3,270005,21,"51#1050",1,"14#579600|65#966"]
[null,225,3,270005,22,"51#1100",1,"14#646800|65#1078"]
[null,226,3,270005,23,"51#1150",1,"14#714000|65#1190"]
[null,227,3,270005,24,"51#1200",1,"14#781200|65#1302"]
[null,228,3,270005,25,"51#1250",1,"14#848400|65#1414"]
[null,229,3,270005,26,"51#1300",1,"14#915600|65#1526"]
[null,230,3,270005,27,"51#1350",1,"14#982800|65#1638"]
[null,231,3,270005,28,"51#1400",1,"14#1050000|65#1750"]
[null,232,3,270005,29,"51#1450",1,"14#1117200|65#1862"]
[null,233,3,270005,30,"51#1500",1,"14#1184400|65#1974"]
[null,234,3,270005,31,"51#1550",1,"14#1318800|65#2198"]
[null,235,3,270005,32,"51#1600",1,"14#1453200|65#2422"]
[null,236,3,270005,33,"51#1650",1,"14#1587600|65#2646"]
[null,237,3,270005,34,"51#1700",1,"14#1722000|65#2870"]
[null,238,3,270005,35,"51#1750",1,"14#1856400|65#3094"]
[null,239,3,270005,36,"51#1800",1,"14#1990800|65#3318"]
[null,240,3,270005,37,"51#1850",1,"14#2125200|65#3542"]
[null,241,3,270005,38,"51#1900",1,"14#2259600|65#3766"]
[null,242,3,270005,39,"51#1950",1,"14#2394000|65#3990"]
[null,243,3,270005,40,"51#2000",1,"14#2528400|65#4214"]
[null,244,3,270005,41,"51#2050",1,"14#2797200|65#4662"]
[null,245,3,270005,42,"51#2100",1,"14#3066000|65#5110"]
[null,246,3,270005,43,"51#2150",1,"14#3334800|65#5558"]
[null,247,3,270005,44,"51#2200",1,"14#3603600|65#6006"]
[null,248,3,270005,45,"51#2250",1,"14#3872400|65#6454"]
[null,249,3,270005,46,"51#2300",1,"14#4141200|65#6902"]
[null,250,3,270005,47,"51#2350",1,"14#4410000|65#7350"]
[null,251,3,270005,48,"51#2400",1,"14#4678800|65#7798"]
[null,252,3,270005,49,"51#2450",1,"14#4947600|65#8246"]
[null,253,3,270005,50,"51#2500",1,"14#5216400|65#8694"]
[null,254,3,270005,51,"51#2550",1,"14#5754000|65#9590"]
[null,255,3,270005,52,"51#2600",1,"14#6291600|65#10486"]
[null,256,3,270005,53,"51#2650",1,"14#6829200|65#11382"]
[null,257,3,270005,54,"51#2700",1,"14#7366800|65#12278"]
[null,258,3,270005,55,"51#2750",1,"14#7904400|65#13174"]
[null,259,3,270005,56,"51#2800",1,"14#8442000|65#14070"]
[null,260,3,270005,57,"51#2850",1,"14#8979600|65#14966"]
[null,261,3,270005,58,"51#2900",1,"14#9517200|65#15862"]
[null,262,3,270005,59,"51#2950",1,"14#10054800|65#16758"]
[null,263,3,270005,60,"51#3000",1,"14#10592400|65#17654"]
[null,264,3,270005,61,"51#3050",1,"14#11667600|65#19446"]
[null,265,3,270005,62,"51#3100",1,"14#12742800|65#21238"]
[null,266,3,270005,63,"51#3150",1,"14#13818000|65#23030"]
[null,267,3,270005,64,"51#3200",1,"14#14893200|65#24822"]
[null,268,3,270005,65,"51#3250",1,"14#15968400|65#26614"]
[null,269,3,270005,66,"51#3300",1,"14#17043600|65#28406"]
[null,270,3,270005,67,"51#3350",1,"14#18118800|65#30198"]
[null,271,3,270005,68,"51#3400",1,"14#19194000|65#31990"]
[null,272,3,270005,69,"51#3450",1,"14#20269200|65#33782"]
[null,273,3,270005,70,"51#3500",1,"14#21344400|65#35574"]
[null,274,3,270005,71,"51#3550",1,"14#23494800|65#39158"]
[null,275,3,270005,72,"51#3600",1,"14#25645200|65#42742"]
[null,276,3,270005,73,"51#3650",1,"14#27795600|65#46326"]
[null,277,3,270005,74,"51#3700",1,"14#29946000|65#49910"]
[null,278,3,270005,75,"51#3750",1,"14#32096400|65#53494"]
[null,279,3,270005,76,"51#3800",1,"14#34246800|65#57078"]
[null,280,3,270005,77,"51#3850",1,"14#36397200|65#60662"]
[null,281,3,270005,78,"51#3900",1,"14#38547600|65#64246"]
[null,282,3,270005,79,"51#3950",1,"14#40698000|65#67830"]
[null,283,3,270005,80,"51#4000",1,"14#42848400|65#71414"]
[null,284,3,270005,81,"51#4050",1,"14#47149200|65#78582"]
[null,285,3,270005,82,"51#4100",1,"14#51450000|65#85750"]
[null,286,3,270005,83,"51#4150",1,"14#55750800|65#92918"]
[null,287,3,270005,84,"51#4200",1,"14#60051600|65#100086"]
[null,288,3,270005,85,"51#4250",1,"14#64352400|65#107254"]
[null,289,3,270005,86,"51#4300",1,"14#68653200|65#114422"]
[null,290,3,270005,87,"51#4350",1,"14#72954000|65#121590"]
[null,291,3,270005,88,"51#4400",1,"14#77254800|65#128758"]
[null,292,3,270005,89,"51#4450",1,"14#81555600|65#135926"]
[null,293,3,270005,90,"51#4500",1,"14#85856400|65#143094"]
[null,294,3,270005,91,"51#4550",1,"14#94458000|65#157430"]
[null,295,3,270005,92,"51#4600",1,"14#103059600|65#171766"]
[null,296,3,270005,93,"51#4650",1,"14#111661200|65#186102"]
[null,297,3,270005,94,"51#4700",1,"14#120262800|65#200438"]
[null,298,3,270005,95,"51#4750",1,"14#128864400|65#214774"]
[null,299,3,270005,96,"51#4800",1,"14#137466000|65#229110"]
[null,300,3,270005,97,"51#4850",1,"14#146067600|65#243446"]
[null,301,3,270005,98,"51#4900",1,"14#154669200|65#257782"]
[null,302,3,270005,99,"51#4950",1,"14#163270800|65#272118"]
[null,303,3,270005,100,"51#5000",1]
[null,304,4,270006,0,"52#0",1,"14#9600|65#16"]
[null,305,4,270006,1,"52#50",1,"14#28800|65#48"]
[null,306,4,270006,2,"52#100",1,"14#48000|65#80"]
[null,307,4,270006,3,"52#150",1,"14#67200|65#112"]
[null,308,4,270006,4,"52#200",1,"14#86400|65#144"]
[null,309,4,270006,5,"52#250",1,"14#105600|65#176"]
[null,310,4,270006,6,"52#300",1,"14#124800|65#208"]
[null,311,4,270006,7,"52#350",1,"14#144000|65#240"]
[null,312,4,270006,8,"52#400",1,"14#163200|65#272"]
[null,313,4,270006,9,"52#450",1,"14#182400|65#304"]
[null,314,4,270006,10,"52#500",1,"14#201600|65#336"]
[null,315,4,270006,11,"52#550",1,"14#240000|65#400"]
[null,316,4,270006,12,"52#600",1,"14#278400|65#464"]
[null,317,4,270006,13,"52#650",1,"14#316800|65#528"]
[null,318,4,270006,14,"52#700",1,"14#355200|65#592"]
[null,319,4,270006,15,"52#750",1,"14#393600|65#656"]
[null,320,4,270006,16,"52#800",1,"14#432000|65#720"]
[null,321,4,270006,17,"52#850",1,"14#470400|65#784"]
[null,322,4,270006,18,"52#900",1,"14#508800|65#848"]
[null,323,4,270006,19,"52#950",1,"14#547200|65#912"]
[null,324,4,270006,20,"52#1000",1,"14#585600|65#976"]
[null,325,4,270006,21,"52#1050",1,"14#662400|65#1104"]
[null,326,4,270006,22,"52#1100",1,"14#739200|65#1232"]
[null,327,4,270006,23,"52#1150",1,"14#816000|65#1360"]
[null,328,4,270006,24,"52#1200",1,"14#892800|65#1488"]
[null,329,4,270006,25,"52#1250",1,"14#969600|65#1616"]
[null,330,4,270006,26,"52#1300",1,"14#1046400|65#1744"]
[null,331,4,270006,27,"52#1350",1,"14#1123200|65#1872"]
[null,332,4,270006,28,"52#1400",1,"14#1200000|65#2000"]
[null,333,4,270006,29,"52#1450",1,"14#1276800|65#2128"]
[null,334,4,270006,30,"52#1500",1,"14#1353600|65#2256"]
[null,335,4,270006,31,"52#1550",1,"14#1507200|65#2512"]
[null,336,4,270006,32,"52#1600",1,"14#1660800|65#2768"]
[null,337,4,270006,33,"52#1650",1,"14#1814400|65#3024"]
[null,338,4,270006,34,"52#1700",1,"14#1968000|65#3280"]
[null,339,4,270006,35,"52#1750",1,"14#2121600|65#3536"]
[null,340,4,270006,36,"52#1800",1,"14#2275200|65#3792"]
[null,341,4,270006,37,"52#1850",1,"14#2428800|65#4048"]
[null,342,4,270006,38,"52#1900",1,"14#2582400|65#4304"]
[null,343,4,270006,39,"52#1950",1,"14#2736000|65#4560"]
[null,344,4,270006,40,"52#2000",1,"14#2889600|65#4816"]
[null,345,4,270006,41,"52#2050",1,"14#3196800|65#5328"]
[null,346,4,270006,42,"52#2100",1,"14#3504000|65#5840"]
[null,347,4,270006,43,"52#2150",1,"14#3811200|65#6352"]
[null,348,4,270006,44,"52#2200",1,"14#4118400|65#6864"]
[null,349,4,270006,45,"52#2250",1,"14#4425600|65#7376"]
[null,350,4,270006,46,"52#2300",1,"14#4732800|65#7888"]
[null,351,4,270006,47,"52#2350",1,"14#5040000|65#8400"]
[null,352,4,270006,48,"52#2400",1,"14#5347200|65#8912"]
[null,353,4,270006,49,"52#2450",1,"14#5654400|65#9424"]
[null,354,4,270006,50,"52#2500",1,"14#5961600|65#9936"]
[null,355,4,270006,51,"52#2550",1,"14#6576000|65#10960"]
[null,356,4,270006,52,"52#2600",1,"14#7190400|65#11984"]
[null,357,4,270006,53,"52#2650",1,"14#7804800|65#13008"]
[null,358,4,270006,54,"52#2700",1,"14#8419200|65#14032"]
[null,359,4,270006,55,"52#2750",1,"14#9033600|65#15056"]
[null,360,4,270006,56,"52#2800",1,"14#9648000|65#16080"]
[null,361,4,270006,57,"52#2850",1,"14#10262400|65#17104"]
[null,362,4,270006,58,"52#2900",1,"14#10876800|65#18128"]
[null,363,4,270006,59,"52#2950",1,"14#11491200|65#19152"]
[null,364,4,270006,60,"52#3000",1,"14#12105600|65#20176"]
[null,365,4,270006,61,"52#3050",1,"14#13334400|65#22224"]
[null,366,4,270006,62,"52#3100",1,"14#14563200|65#24272"]
[null,367,4,270006,63,"52#3150",1,"14#15792000|65#26320"]
[null,368,4,270006,64,"52#3200",1,"14#17020800|65#28368"]
[null,369,4,270006,65,"52#3250",1,"14#18249600|65#30416"]
[null,370,4,270006,66,"52#3300",1,"14#19478400|65#32464"]
[null,371,4,270006,67,"52#3350",1,"14#20707200|65#34512"]
[null,372,4,270006,68,"52#3400",1,"14#21936000|65#36560"]
[null,373,4,270006,69,"52#3450",1,"14#23164800|65#38608"]
[null,374,4,270006,70,"52#3500",1,"14#24393600|65#40656"]
[null,375,4,270006,71,"52#3550",1,"14#26851200|65#44752"]
[null,376,4,270006,72,"52#3600",1,"14#29308800|65#48848"]
[null,377,4,270006,73,"52#3650",1,"14#31766400|65#52944"]
[null,378,4,270006,74,"52#3700",1,"14#34224000|65#57040"]
[null,379,4,270006,75,"52#3750",1,"14#36681600|65#61136"]
[null,380,4,270006,76,"52#3800",1,"14#39139200|65#65232"]
[null,381,4,270006,77,"52#3850",1,"14#41596800|65#69328"]
[null,382,4,270006,78,"52#3900",1,"14#44054400|65#73424"]
[null,383,4,270006,79,"52#3950",1,"14#46512000|65#77520"]
[null,384,4,270006,80,"52#4000",1,"14#48969600|65#81616"]
[null,385,4,270006,81,"52#4050",1,"14#53884800|65#89808"]
[null,386,4,270006,82,"52#4100",1,"14#58800000|65#98000"]
[null,387,4,270006,83,"52#4150",1,"14#63715200|65#106192"]
[null,388,4,270006,84,"52#4200",1,"14#68630400|65#114384"]
[null,389,4,270006,85,"52#4250",1,"14#73545600|65#122576"]
[null,390,4,270006,86,"52#4300",1,"14#78460800|65#130768"]
[null,391,4,270006,87,"52#4350",1,"14#83376000|65#138960"]
[null,392,4,270006,88,"52#4400",1,"14#88291200|65#147152"]
[null,393,4,270006,89,"52#4450",1,"14#93206400|65#155344"]
[null,394,4,270006,90,"52#4500",1,"14#98121600|65#163536"]
[null,395,4,270006,91,"52#4550",1,"14#107952000|65#179920"]
[null,396,4,270006,92,"52#4600",1,"14#117782400|65#196304"]
[null,397,4,270006,93,"52#4650",1,"14#127612800|65#212688"]
[null,398,4,270006,94,"52#4700",1,"14#137443200|65#229072"]
[null,399,4,270006,95,"52#4750",1,"14#147273600|65#245456"]
[null,400,4,270006,96,"52#4800",1,"14#157104000|65#261840"]
[null,401,4,270006,97,"52#4850",1,"14#166934400|65#278224"]
[null,402,4,270006,98,"52#4900",1,"14#176764800|65#294608"]
[null,403,4,270006,99,"52#4950",1,"14#186595200|65#310992"]
[null,404,4,270006,100,"52#5000",1]
[null,405,5,270007,0,"55#0",1,"14#10800|65#18"]
[null,406,5,270007,1,"55#50",1,"14#32400|65#54"]
[null,407,5,270007,2,"55#100",1,"14#54000|65#90"]
[null,408,5,270007,3,"55#150",1,"14#75600|65#126"]
[null,409,5,270007,4,"55#200",1,"14#97200|65#162"]
[null,410,5,270007,5,"55#250",1,"14#118800|65#198"]
[null,411,5,270007,6,"55#300",1,"14#140400|65#234"]
[null,412,5,270007,7,"55#350",1,"14#162000|65#270"]
[null,413,5,270007,8,"55#400",1,"14#183600|65#306"]
[null,414,5,270007,9,"55#450",1,"14#205200|65#342"]
[null,415,5,270007,10,"55#500",1,"14#226800|65#378"]
[null,416,5,270007,11,"55#550",1,"14#270000|65#450"]
[null,417,5,270007,12,"55#600",1,"14#313200|65#522"]
[null,418,5,270007,13,"55#650",1,"14#356400|65#594"]
[null,419,5,270007,14,"55#700",1,"14#399600|65#666"]
[null,420,5,270007,15,"55#750",1,"14#442800|65#738"]
[null,421,5,270007,16,"55#800",1,"14#486000|65#810"]
[null,422,5,270007,17,"55#850",1,"14#529200|65#882"]
[null,423,5,270007,18,"55#900",1,"14#572400|65#954"]
[null,424,5,270007,19,"55#950",1,"14#615600|65#1026"]
[null,425,5,270007,20,"55#1000",1,"14#658800|65#1098"]
[null,426,5,270007,21,"55#1050",1,"14#745200|65#1242"]
[null,427,5,270007,22,"55#1100",1,"14#831600|65#1386"]
[null,428,5,270007,23,"55#1150",1,"14#918000|65#1530"]
[null,429,5,270007,24,"55#1200",1,"14#1004400|65#1674"]
[null,430,5,270007,25,"55#1250",1,"14#1090800|65#1818"]
[null,431,5,270007,26,"55#1300",1,"14#1177200|65#1962"]
[null,432,5,270007,27,"55#1350",1,"14#1263600|65#2106"]
[null,433,5,270007,28,"55#1400",1,"14#1350000|65#2250"]
[null,434,5,270007,29,"55#1450",1,"14#1436400|65#2394"]
[null,435,5,270007,30,"55#1500",1,"14#1522800|65#2538"]
[null,436,5,270007,31,"55#1550",1,"14#1695600|65#2826"]
[null,437,5,270007,32,"55#1600",1,"14#1868400|65#3114"]
[null,438,5,270007,33,"55#1650",1,"14#2041200|65#3402"]
[null,439,5,270007,34,"55#1700",1,"14#2214000|65#3690"]
[null,440,5,270007,35,"55#1750",1,"14#2386800|65#3978"]
[null,441,5,270007,36,"55#1800",1,"14#2559600|65#4266"]
[null,442,5,270007,37,"55#1850",1,"14#2732400|65#4554"]
[null,443,5,270007,38,"55#1900",1,"14#2905200|65#4842"]
[null,444,5,270007,39,"55#1950",1,"14#3078000|65#5130"]
[null,445,5,270007,40,"55#2000",1,"14#3250800|65#5418"]
[null,446,5,270007,41,"55#2050",1,"14#3596400|65#5994"]
[null,447,5,270007,42,"55#2100",1,"14#3942000|65#6570"]
[null,448,5,270007,43,"55#2150",1,"14#4287600|65#7146"]
[null,449,5,270007,44,"55#2200",1,"14#4633200|65#7722"]
[null,450,5,270007,45,"55#2250",1,"14#4978800|65#8298"]
[null,451,5,270007,46,"55#2300",1,"14#5324400|65#8874"]
[null,452,5,270007,47,"55#2350",1,"14#5670000|65#9450"]
[null,453,5,270007,48,"55#2400",1,"14#6015600|65#10026"]
[null,454,5,270007,49,"55#2450",1,"14#6361200|65#10602"]
[null,455,5,270007,50,"55#2500",1,"14#6706800|65#11178"]
[null,456,5,270007,51,"55#2550",1,"14#7398000|65#12330"]
[null,457,5,270007,52,"55#2600",1,"14#8089200|65#13482"]
[null,458,5,270007,53,"55#2650",1,"14#8780400|65#14634"]
[null,459,5,270007,54,"55#2700",1,"14#9471600|65#15786"]
[null,460,5,270007,55,"55#2750",1,"14#10162800|65#16938"]
[null,461,5,270007,56,"55#2800",1,"14#10854000|65#18090"]
[null,462,5,270007,57,"55#2850",1,"14#11545200|65#19242"]
[null,463,5,270007,58,"55#2900",1,"14#12236400|65#20394"]
[null,464,5,270007,59,"55#2950",1,"14#12927600|65#21546"]
[null,465,5,270007,60,"55#3000",1,"14#13618800|65#22698"]
[null,466,5,270007,61,"55#3050",1,"14#15001200|65#25002"]
[null,467,5,270007,62,"55#3100",1,"14#16383600|65#27306"]
[null,468,5,270007,63,"55#3150",1,"14#17766000|65#29610"]
[null,469,5,270007,64,"55#3200",1,"14#19148400|65#31914"]
[null,470,5,270007,65,"55#3250",1,"14#20530800|65#34218"]
[null,471,5,270007,66,"55#3300",1,"14#21913200|65#36522"]
[null,472,5,270007,67,"55#3350",1,"14#23295600|65#38826"]
[null,473,5,270007,68,"55#3400",1,"14#24678000|65#41130"]
[null,474,5,270007,69,"55#3450",1,"14#26060400|65#43434"]
[null,475,5,270007,70,"55#3500",1,"14#27442800|65#45738"]
[null,476,5,270007,71,"55#3550",1,"14#30207600|65#50346"]
[null,477,5,270007,72,"55#3600",1,"14#32972400|65#54954"]
[null,478,5,270007,73,"55#3650",1,"14#35737200|65#59562"]
[null,479,5,270007,74,"55#3700",1,"14#38502000|65#64170"]
[null,480,5,270007,75,"55#3750",1,"14#41266800|65#68778"]
[null,481,5,270007,76,"55#3800",1,"14#44031600|65#73386"]
[null,482,5,270007,77,"55#3850",1,"14#46796400|65#77994"]
[null,483,5,270007,78,"55#3900",1,"14#49561200|65#82602"]
[null,484,5,270007,79,"55#3950",1,"14#52326000|65#87210"]
[null,485,5,270007,80,"55#4000",1,"14#55090800|65#91818"]
[null,486,5,270007,81,"55#4050",1,"14#60620400|65#101034"]
[null,487,5,270007,82,"55#4100",1,"14#66150000|65#110250"]
[null,488,5,270007,83,"55#4150",1,"14#71679600|65#119466"]
[null,489,5,270007,84,"55#4200",1,"14#77209200|65#128682"]
[null,490,5,270007,85,"55#4250",1,"14#82738800|65#137898"]
[null,491,5,270007,86,"55#4300",1,"14#88268400|65#147114"]
[null,492,5,270007,87,"55#4350",1,"14#93798000|65#156330"]
[null,493,5,270007,88,"55#4400",1,"14#99327600|65#165546"]
[null,494,5,270007,89,"55#4450",1,"14#104857200|65#174762"]
[null,495,5,270007,90,"55#4500",1,"14#110386800|65#183978"]
[null,496,5,270007,91,"55#4550",1,"14#121446000|65#202410"]
[null,497,5,270007,92,"55#4600",1,"14#132505200|65#220842"]
[null,498,5,270007,93,"55#4650",1,"14#143564400|65#239274"]
[null,499,5,270007,94,"55#4700",1,"14#154623600|65#257706"]
[null,500,5,270007,95,"55#4750",1,"14#165682800|65#276138"]
[null,501,5,270007,96,"55#4800",1,"14#176742000|65#294570"]
[null,502,5,270007,97,"55#4850",1,"14#187801200|65#313002"]
[null,503,5,270007,98,"55#4900",1,"14#198860400|65#331434"]
[null,504,5,270007,99,"55#4950",1,"14#209919600|65#349866"]
[null,505,5,270007,100,"55#5000",1]
[null,506,6,270010,0,"56#0",1,"14#12000|65#20"]
[null,507,6,270010,1,"56#50",1,"14#36000|65#60"]
[null,508,6,270010,2,"56#100",1,"14#60000|65#100"]
[null,509,6,270010,3,"56#150",1,"14#84000|65#140"]
[null,510,6,270010,4,"56#200",1,"14#108000|65#180"]
[null,511,6,270010,5,"56#250",1,"14#132000|65#220"]
[null,512,6,270010,6,"56#300",1,"14#156000|65#260"]
[null,513,6,270010,7,"56#350",1,"14#180000|65#300"]
[null,514,6,270010,8,"56#400",1,"14#204000|65#340"]
[null,515,6,270010,9,"56#450",1,"14#228000|65#380"]
[null,516,6,270010,10,"56#500",1,"14#252000|65#420"]
[null,517,6,270010,11,"56#550",1,"14#300000|65#500"]
[null,518,6,270010,12,"56#600",1,"14#348000|65#580"]
[null,519,6,270010,13,"56#650",1,"14#396000|65#660"]
[null,520,6,270010,14,"56#700",1,"14#444000|65#740"]
[null,521,6,270010,15,"56#750",1,"14#492000|65#820"]
[null,522,6,270010,16,"56#800",1,"14#540000|65#900"]
[null,523,6,270010,17,"56#850",1,"14#588000|65#980"]
[null,524,6,270010,18,"56#900",1,"14#636000|65#1060"]
[null,525,6,270010,19,"56#950",1,"14#684000|65#1140"]
[null,526,6,270010,20,"56#1000",1,"14#732000|65#1220"]
[null,527,6,270010,21,"56#1050",1,"14#828000|65#1380"]
[null,528,6,270010,22,"56#1100",1,"14#924000|65#1540"]
[null,529,6,270010,23,"56#1150",1,"14#1020000|65#1700"]
[null,530,6,270010,24,"56#1200",1,"14#1116000|65#1860"]
[null,531,6,270010,25,"56#1250",1,"14#1212000|65#2020"]
[null,532,6,270010,26,"56#1300",1,"14#1308000|65#2180"]
[null,533,6,270010,27,"56#1350",1,"14#1404000|65#2340"]
[null,534,6,270010,28,"56#1400",1,"14#1500000|65#2500"]
[null,535,6,270010,29,"56#1450",1,"14#1596000|65#2660"]
[null,536,6,270010,30,"56#1500",1,"14#1692000|65#2820"]
[null,537,6,270010,31,"56#1550",1,"14#1884000|65#3140"]
[null,538,6,270010,32,"56#1600",1,"14#2076000|65#3460"]
[null,539,6,270010,33,"56#1650",1,"14#2268000|65#3780"]
[null,540,6,270010,34,"56#1700",1,"14#2460000|65#4100"]
[null,541,6,270010,35,"56#1750",1,"14#2652000|65#4420"]
[null,542,6,270010,36,"56#1800",1,"14#2844000|65#4740"]
[null,543,6,270010,37,"56#1850",1,"14#3036000|65#5060"]
[null,544,6,270010,38,"56#1900",1,"14#3228000|65#5380"]
[null,545,6,270010,39,"56#1950",1,"14#3420000|65#5700"]
[null,546,6,270010,40,"56#2000",1,"14#3612000|65#6020"]
[null,547,6,270010,41,"56#2050",1,"14#3996000|65#6660"]
[null,548,6,270010,42,"56#2100",1,"14#4380000|65#7300"]
[null,549,6,270010,43,"56#2150",1,"14#4764000|65#7940"]
[null,550,6,270010,44,"56#2200",1,"14#5148000|65#8580"]
[null,551,6,270010,45,"56#2250",1,"14#5532000|65#9220"]
[null,552,6,270010,46,"56#2300",1,"14#5916000|65#9860"]
[null,553,6,270010,47,"56#2350",1,"14#6300000|65#10500"]
[null,554,6,270010,48,"56#2400",1,"14#6684000|65#11140"]
[null,555,6,270010,49,"56#2450",1,"14#7068000|65#11780"]
[null,556,6,270010,50,"56#2500",1,"14#7452000|65#12420"]
[null,557,6,270010,51,"56#2550",1,"14#8220000|65#13700"]
[null,558,6,270010,52,"56#2600",1,"14#8988000|65#14980"]
[null,559,6,270010,53,"56#2650",1,"14#9756000|65#16260"]
[null,560,6,270010,54,"56#2700",1,"14#10524000|65#17540"]
[null,561,6,270010,55,"56#2750",1,"14#11292000|65#18820"]
[null,562,6,270010,56,"56#2800",1,"14#12060000|65#20100"]
[null,563,6,270010,57,"56#2850",1,"14#12828000|65#21380"]
[null,564,6,270010,58,"56#2900",1,"14#13596000|65#22660"]
[null,565,6,270010,59,"56#2950",1,"14#14364000|65#23940"]
[null,566,6,270010,60,"56#3000",1,"14#15132000|65#25220"]
[null,567,6,270010,61,"56#3050",1,"14#16668000|65#27780"]
[null,568,6,270010,62,"56#3100",1,"14#18204000|65#30340"]
[null,569,6,270010,63,"56#3150",1,"14#19740000|65#32900"]
[null,570,6,270010,64,"56#3200",1,"14#21276000|65#35460"]
[null,571,6,270010,65,"56#3250",1,"14#22812000|65#38020"]
[null,572,6,270010,66,"56#3300",1,"14#24348000|65#40580"]
[null,573,6,270010,67,"56#3350",1,"14#25884000|65#43140"]
[null,574,6,270010,68,"56#3400",1,"14#27420000|65#45700"]
[null,575,6,270010,69,"56#3450",1,"14#28956000|65#48260"]
[null,576,6,270010,70,"56#3500",1,"14#30492000|65#50820"]
[null,577,6,270010,71,"56#3550",1,"14#33564000|65#55940"]
[null,578,6,270010,72,"56#3600",1,"14#36636000|65#61060"]
[null,579,6,270010,73,"56#3650",1,"14#39708000|65#66180"]
[null,580,6,270010,74,"56#3700",1,"14#42780000|65#71300"]
[null,581,6,270010,75,"56#3750",1,"14#45852000|65#76420"]
[null,582,6,270010,76,"56#3800",1,"14#48924000|65#81540"]
[null,583,6,270010,77,"56#3850",1,"14#51996000|65#86660"]
[null,584,6,270010,78,"56#3900",1,"14#55068000|65#91780"]
[null,585,6,270010,79,"56#3950",1,"14#58140000|65#96900"]
[null,586,6,270010,80,"56#4000",1,"14#61212000|65#102020"]
[null,587,6,270010,81,"56#4050",1,"14#67356000|65#112260"]
[null,588,6,270010,82,"56#4100",1,"14#73500000|65#122500"]
[null,589,6,270010,83,"56#4150",1,"14#79644000|65#132740"]
[null,590,6,270010,84,"56#4200",1,"14#85788000|65#142980"]
[null,591,6,270010,85,"56#4250",1,"14#91932000|65#153220"]
[null,592,6,270010,86,"56#4300",1,"14#98076000|65#163460"]
[null,593,6,270010,87,"56#4350",1,"14#104220000|65#173700"]
[null,594,6,270010,88,"56#4400",1,"14#110364000|65#183940"]
[null,595,6,270010,89,"56#4450",1,"14#116508000|65#194180"]
[null,596,6,270010,90,"56#4500",1,"14#122652000|65#204420"]
[null,597,6,270010,91,"56#4550",1,"14#134940000|65#224900"]
[null,598,6,270010,92,"56#4600",1,"14#147228000|65#245380"]
[null,599,6,270010,93,"56#4650",1,"14#159516000|65#265860"]
[null,600,6,270010,94,"56#4700",1,"14#171804000|65#286340"]
[null,601,6,270010,95,"56#4750",1,"14#184092000|65#306820"]
[null,602,6,270010,96,"56#4800",1,"14#196380000|65#327300"]
[null,603,6,270010,97,"56#4850",1,"14#208668000|65#347780"]
[null,604,6,270010,98,"56#4900",1,"14#220956000|65#368260"]
[null,605,6,270010,99,"56#4950",1,"14#233244000|65#388740"]
[null,606,6,270010,100,"56#5000",1]
[null,607,1,270003,0,"61#0",2,"14#6000|65#10"]
[null,608,1,270003,1,"61#50",2,"14#18000|65#30"]
[null,609,1,270003,2,"61#100",2,"14#30000|65#50"]
[null,610,1,270003,3,"61#150",2,"14#42000|65#70"]
[null,611,1,270003,4,"61#200",2,"14#54000|65#90"]
[null,612,1,270003,5,"61#250",2,"14#66000|65#110"]
[null,613,1,270003,6,"61#300",2,"14#78000|65#130"]
[null,614,1,270003,7,"61#350",2,"14#90000|65#150"]
[null,615,1,270003,8,"61#400",2,"14#102000|65#170"]
[null,616,1,270003,9,"61#450",2,"14#114000|65#190"]
[null,617,1,270003,10,"61#500",2,"14#126000|65#210"]
[null,618,1,270003,11,"61#550",2,"14#150000|65#250"]
[null,619,1,270003,12,"61#600",2,"14#174000|65#290"]
[null,620,1,270003,13,"61#650",2,"14#198000|65#330"]
[null,621,1,270003,14,"61#700",2,"14#222000|65#370"]
[null,622,1,270003,15,"61#750",2,"14#246000|65#410"]
[null,623,1,270003,16,"61#800",2,"14#270000|65#450"]
[null,624,1,270003,17,"61#850",2,"14#294000|65#490"]
[null,625,1,270003,18,"61#900",2,"14#318000|65#530"]
[null,626,1,270003,19,"61#950",2,"14#342000|65#570"]
[null,627,1,270003,20,"61#1000",2,"14#366000|65#610"]
[null,628,1,270003,21,"61#1050",2,"14#414000|65#690"]
[null,629,1,270003,22,"61#1100",2,"14#462000|65#770"]
[null,630,1,270003,23,"61#1150",2,"14#510000|65#850"]
[null,631,1,270003,24,"61#1200",2,"14#558000|65#930"]
[null,632,1,270003,25,"61#1250",2,"14#606000|65#1010"]
[null,633,1,270003,26,"61#1300",2,"14#654000|65#1090"]
[null,634,1,270003,27,"61#1350",2,"14#702000|65#1170"]
[null,635,1,270003,28,"61#1400",2,"14#750000|65#1250"]
[null,636,1,270003,29,"61#1450",2,"14#798000|65#1330"]
[null,637,1,270003,30,"61#1500",2,"14#846000|65#1410"]
[null,638,1,270003,31,"61#1550",2,"14#942000|65#1570"]
[null,639,1,270003,32,"61#1600",2,"14#1038000|65#1730"]
[null,640,1,270003,33,"61#1650",2,"14#1134000|65#1890"]
[null,641,1,270003,34,"61#1700",2,"14#1230000|65#2050"]
[null,642,1,270003,35,"61#1750",2,"14#1326000|65#2210"]
[null,643,1,270003,36,"61#1800",2,"14#1422000|65#2370"]
[null,644,1,270003,37,"61#1850",2,"14#1518000|65#2530"]
[null,645,1,270003,38,"61#1900",2,"14#1614000|65#2690"]
[null,646,1,270003,39,"61#1950",2,"14#1710000|65#2850"]
[null,647,1,270003,40,"61#2000",2,"14#1806000|65#3010"]
[null,648,1,270003,41,"61#2050",2,"14#1998000|65#3330"]
[null,649,1,270003,42,"61#2100",2,"14#2190000|65#3650"]
[null,650,1,270003,43,"61#2150",2,"14#2382000|65#3970"]
[null,651,1,270003,44,"61#2200",2,"14#2574000|65#4290"]
[null,652,1,270003,45,"61#2250",2,"14#2766000|65#4610"]
[null,653,1,270003,46,"61#2300",2,"14#2958000|65#4930"]
[null,654,1,270003,47,"61#2350",2,"14#3150000|65#5250"]
[null,655,1,270003,48,"61#2400",2,"14#3342000|65#5570"]
[null,656,1,270003,49,"61#2450",2,"14#3534000|65#5890"]
[null,657,1,270003,50,"61#2500",2,"14#3726000|65#6210"]
[null,658,1,270003,51,"61#2550",2,"14#4110000|65#6850"]
[null,659,1,270003,52,"61#2600",2,"14#4494000|65#7490"]
[null,660,1,270003,53,"61#2650",2,"14#4878000|65#8130"]
[null,661,1,270003,54,"61#2700",2,"14#5262000|65#8770"]
[null,662,1,270003,55,"61#2750",2,"14#5646000|65#9410"]
[null,663,1,270003,56,"61#2800",2,"14#6030000|65#10050"]
[null,664,1,270003,57,"61#2850",2,"14#6414000|65#10690"]
[null,665,1,270003,58,"61#2900",2,"14#6798000|65#11330"]
[null,666,1,270003,59,"61#2950",2,"14#7182000|65#11970"]
[null,667,1,270003,60,"61#3000",2,"14#7566000|65#12610"]
[null,668,1,270003,61,"61#3050",2,"14#8334000|65#13890"]
[null,669,1,270003,62,"61#3100",2,"14#9102000|65#15170"]
[null,670,1,270003,63,"61#3150",2,"14#9870000|65#16450"]
[null,671,1,270003,64,"61#3200",2,"14#10638000|65#17730"]
[null,672,1,270003,65,"61#3250",2,"14#11406000|65#19010"]
[null,673,1,270003,66,"61#3300",2,"14#12174000|65#20290"]
[null,674,1,270003,67,"61#3350",2,"14#12942000|65#21570"]
[null,675,1,270003,68,"61#3400",2,"14#13710000|65#22850"]
[null,676,1,270003,69,"61#3450",2,"14#14478000|65#24130"]
[null,677,1,270003,70,"61#3500",2,"14#15246000|65#25410"]
[null,678,1,270003,71,"61#3550",2,"14#16782000|65#27970"]
[null,679,1,270003,72,"61#3600",2,"14#18318000|65#30530"]
[null,680,1,270003,73,"61#3650",2,"14#19854000|65#33090"]
[null,681,1,270003,74,"61#3700",2,"14#21390000|65#35650"]
[null,682,1,270003,75,"61#3750",2,"14#22926000|65#38210"]
[null,683,1,270003,76,"61#3800",2,"14#24462000|65#40770"]
[null,684,1,270003,77,"61#3850",2,"14#25998000|65#43330"]
[null,685,1,270003,78,"61#3900",2,"14#27534000|65#45890"]
[null,686,1,270003,79,"61#3950",2,"14#29070000|65#48450"]
[null,687,1,270003,80,"61#4000",2,"14#30606000|65#51010"]
[null,688,1,270003,81,"61#4050",2,"14#33678000|65#56130"]
[null,689,1,270003,82,"61#4100",2,"14#36750000|65#61250"]
[null,690,1,270003,83,"61#4150",2,"14#39822000|65#66370"]
[null,691,1,270003,84,"61#4200",2,"14#42894000|65#71490"]
[null,692,1,270003,85,"61#4250",2,"14#45966000|65#76610"]
[null,693,1,270003,86,"61#4300",2,"14#49038000|65#81730"]
[null,694,1,270003,87,"61#4350",2,"14#52110000|65#86850"]
[null,695,1,270003,88,"61#4400",2,"14#55182000|65#91970"]
[null,696,1,270003,89,"61#4450",2,"14#58254000|65#97090"]
[null,697,1,270003,90,"61#4500",2,"14#61326000|65#102210"]
[null,698,1,270003,91,"61#4550",2,"14#67470000|65#112450"]
[null,699,1,270003,92,"61#4600",2,"14#73614000|65#122690"]
[null,700,1,270003,93,"61#4650",2,"14#79758000|65#132930"]
[null,701,1,270003,94,"61#4700",2,"14#85902000|65#143170"]
[null,702,1,270003,95,"61#4750",2,"14#92046000|65#153410"]
[null,703,1,270003,96,"61#4800",2,"14#98190000|65#163650"]
[null,704,1,270003,97,"61#4850",2,"14#104334000|65#173890"]
[null,705,1,270003,98,"61#4900",2,"14#110478000|65#184130"]
[null,706,1,270003,99,"61#4950",2,"14#116622000|65#194370"]
[null,707,1,270003,100,"61#5000",2]
[null,708,2,270004,0,"62#0",2,"14#7200|65#12"]
[null,709,2,270004,1,"62#50",2,"14#21600|65#36"]
[null,710,2,270004,2,"62#100",2,"14#36000|65#60"]
[null,711,2,270004,3,"62#150",2,"14#50400|65#84"]
[null,712,2,270004,4,"62#200",2,"14#64800|65#108"]
[null,713,2,270004,5,"62#250",2,"14#79200|65#132"]
[null,714,2,270004,6,"62#300",2,"14#93600|65#156"]
[null,715,2,270004,7,"62#350",2,"14#108000|65#180"]
[null,716,2,270004,8,"62#400",2,"14#122400|65#204"]
[null,717,2,270004,9,"62#450",2,"14#136800|65#228"]
[null,718,2,270004,10,"62#500",2,"14#151200|65#252"]
[null,719,2,270004,11,"62#550",2,"14#180000|65#300"]
[null,720,2,270004,12,"62#600",2,"14#208800|65#348"]
[null,721,2,270004,13,"62#650",2,"14#237600|65#396"]
[null,722,2,270004,14,"62#700",2,"14#266400|65#444"]
[null,723,2,270004,15,"62#750",2,"14#295200|65#492"]
[null,724,2,270004,16,"62#800",2,"14#324000|65#540"]
[null,725,2,270004,17,"62#850",2,"14#352800|65#588"]
[null,726,2,270004,18,"62#900",2,"14#381600|65#636"]
[null,727,2,270004,19,"62#950",2,"14#410400|65#684"]
[null,728,2,270004,20,"62#1000",2,"14#439200|65#732"]
[null,729,2,270004,21,"62#1050",2,"14#496800|65#828"]
[null,730,2,270004,22,"62#1100",2,"14#554400|65#924"]
[null,731,2,270004,23,"62#1150",2,"14#612000|65#1020"]
[null,732,2,270004,24,"62#1200",2,"14#669600|65#1116"]
[null,733,2,270004,25,"62#1250",2,"14#727200|65#1212"]
[null,734,2,270004,26,"62#1300",2,"14#784800|65#1308"]
[null,735,2,270004,27,"62#1350",2,"14#842400|65#1404"]
[null,736,2,270004,28,"62#1400",2,"14#900000|65#1500"]
[null,737,2,270004,29,"62#1450",2,"14#957600|65#1596"]
[null,738,2,270004,30,"62#1500",2,"14#1015200|65#1692"]
[null,739,2,270004,31,"62#1550",2,"14#1130400|65#1884"]
[null,740,2,270004,32,"62#1600",2,"14#1245600|65#2076"]
[null,741,2,270004,33,"62#1650",2,"14#1360800|65#2268"]
[null,742,2,270004,34,"62#1700",2,"14#1476000|65#2460"]
[null,743,2,270004,35,"62#1750",2,"14#1591200|65#2652"]
[null,744,2,270004,36,"62#1800",2,"14#1706400|65#2844"]
[null,745,2,270004,37,"62#1850",2,"14#1821600|65#3036"]
[null,746,2,270004,38,"62#1900",2,"14#1936800|65#3228"]
[null,747,2,270004,39,"62#1950",2,"14#2052000|65#3420"]
[null,748,2,270004,40,"62#2000",2,"14#2167200|65#3612"]
[null,749,2,270004,41,"62#2050",2,"14#2397600|65#3996"]
[null,750,2,270004,42,"62#2100",2,"14#2628000|65#4380"]
[null,751,2,270004,43,"62#2150",2,"14#2858400|65#4764"]
[null,752,2,270004,44,"62#2200",2,"14#3088800|65#5148"]
[null,753,2,270004,45,"62#2250",2,"14#3319200|65#5532"]
[null,754,2,270004,46,"62#2300",2,"14#3549600|65#5916"]
[null,755,2,270004,47,"62#2350",2,"14#3780000|65#6300"]
[null,756,2,270004,48,"62#2400",2,"14#4010400|65#6684"]
[null,757,2,270004,49,"62#2450",2,"14#4240800|65#7068"]
[null,758,2,270004,50,"62#2500",2,"14#4471200|65#7452"]
[null,759,2,270004,51,"62#2550",2,"14#4932000|65#8220"]
[null,760,2,270004,52,"62#2600",2,"14#5392800|65#8988"]
[null,761,2,270004,53,"62#2650",2,"14#5853600|65#9756"]
[null,762,2,270004,54,"62#2700",2,"14#6314400|65#10524"]
[null,763,2,270004,55,"62#2750",2,"14#6775200|65#11292"]
[null,764,2,270004,56,"62#2800",2,"14#7236000|65#12060"]
[null,765,2,270004,57,"62#2850",2,"14#7696800|65#12828"]
[null,766,2,270004,58,"62#2900",2,"14#8157600|65#13596"]
[null,767,2,270004,59,"62#2950",2,"14#8618400|65#14364"]
[null,768,2,270004,60,"62#3000",2,"14#9079200|65#15132"]
[null,769,2,270004,61,"62#3050",2,"14#10000800|65#16668"]
[null,770,2,270004,62,"62#3100",2,"14#10922400|65#18204"]
[null,771,2,270004,63,"62#3150",2,"14#11844000|65#19740"]
[null,772,2,270004,64,"62#3200",2,"14#12765600|65#21276"]
[null,773,2,270004,65,"62#3250",2,"14#13687200|65#22812"]
[null,774,2,270004,66,"62#3300",2,"14#14608800|65#24348"]
[null,775,2,270004,67,"62#3350",2,"14#15530400|65#25884"]
[null,776,2,270004,68,"62#3400",2,"14#16452000|65#27420"]
[null,777,2,270004,69,"62#3450",2,"14#17373600|65#28956"]
[null,778,2,270004,70,"62#3500",2,"14#18295200|65#30492"]
[null,779,2,270004,71,"62#3550",2,"14#20138400|65#33564"]
[null,780,2,270004,72,"62#3600",2,"14#21981600|65#36636"]
[null,781,2,270004,73,"62#3650",2,"14#23824800|65#39708"]
[null,782,2,270004,74,"62#3700",2,"14#25668000|65#42780"]
[null,783,2,270004,75,"62#3750",2,"14#27511200|65#45852"]
[null,784,2,270004,76,"62#3800",2,"14#29354400|65#48924"]
[null,785,2,270004,77,"62#3850",2,"14#31197600|65#51996"]
[null,786,2,270004,78,"62#3900",2,"14#33040800|65#55068"]
[null,787,2,270004,79,"62#3950",2,"14#34884000|65#58140"]
[null,788,2,270004,80,"62#4000",2,"14#36727200|65#61212"]
[null,789,2,270004,81,"62#4050",2,"14#40413600|65#67356"]
[null,790,2,270004,82,"62#4100",2,"14#44100000|65#73500"]
[null,791,2,270004,83,"62#4150",2,"14#47786400|65#79644"]
[null,792,2,270004,84,"62#4200",2,"14#51472800|65#85788"]
[null,793,2,270004,85,"62#4250",2,"14#55159200|65#91932"]
[null,794,2,270004,86,"62#4300",2,"14#58845600|65#98076"]
[null,795,2,270004,87,"62#4350",2,"14#62532000|65#104220"]
[null,796,2,270004,88,"62#4400",2,"14#66218400|65#110364"]
[null,797,2,270004,89,"62#4450",2,"14#69904800|65#116508"]
[null,798,2,270004,90,"62#4500",2,"14#73591200|65#122652"]
[null,799,2,270004,91,"62#4550",2,"14#80964000|65#134940"]
[null,800,2,270004,92,"62#4600",2,"14#88336800|65#147228"]
[null,801,2,270004,93,"62#4650",2,"14#95709600|65#159516"]
[null,802,2,270004,94,"62#4700",2,"14#103082400|65#171804"]
[null,803,2,270004,95,"62#4750",2,"14#110455200|65#184092"]
[null,804,2,270004,96,"62#4800",2,"14#117828000|65#196380"]
[null,805,2,270004,97,"62#4850",2,"14#125200800|65#208668"]
[null,806,2,270004,98,"62#4900",2,"14#132573600|65#220956"]
[null,807,2,270004,99,"62#4950",2,"14#139946400|65#233244"]
[null,808,2,270004,100,"62#5000",2]
[null,809,3,270005,0,"51#0",2,"14#8400|65#14"]
[null,810,3,270005,1,"51#50",2,"14#25200|65#42"]
[null,811,3,270005,2,"51#100",2,"14#42000|65#70"]
[null,812,3,270005,3,"51#150",2,"14#58800|65#98"]
[null,813,3,270005,4,"51#200",2,"14#75600|65#126"]
[null,814,3,270005,5,"51#250",2,"14#92400|65#154"]
[null,815,3,270005,6,"51#300",2,"14#109200|65#182"]
[null,816,3,270005,7,"51#350",2,"14#126000|65#210"]
[null,817,3,270005,8,"51#400",2,"14#142800|65#238"]
[null,818,3,270005,9,"51#450",2,"14#159600|65#266"]
[null,819,3,270005,10,"51#500",2,"14#176400|65#294"]
[null,820,3,270005,11,"51#550",2,"14#210000|65#350"]
[null,821,3,270005,12,"51#600",2,"14#243600|65#406"]
[null,822,3,270005,13,"51#650",2,"14#277200|65#462"]
[null,823,3,270005,14,"51#700",2,"14#310800|65#518"]
[null,824,3,270005,15,"51#750",2,"14#344400|65#574"]
[null,825,3,270005,16,"51#800",2,"14#378000|65#630"]
[null,826,3,270005,17,"51#850",2,"14#411600|65#686"]
[null,827,3,270005,18,"51#900",2,"14#445200|65#742"]
[null,828,3,270005,19,"51#950",2,"14#478800|65#798"]
[null,829,3,270005,20,"51#1000",2,"14#512400|65#854"]
[null,830,3,270005,21,"51#1050",2,"14#579600|65#966"]
[null,831,3,270005,22,"51#1100",2,"14#646800|65#1078"]
[null,832,3,270005,23,"51#1150",2,"14#714000|65#1190"]
[null,833,3,270005,24,"51#1200",2,"14#781200|65#1302"]
[null,834,3,270005,25,"51#1250",2,"14#848400|65#1414"]
[null,835,3,270005,26,"51#1300",2,"14#915600|65#1526"]
[null,836,3,270005,27,"51#1350",2,"14#982800|65#1638"]
[null,837,3,270005,28,"51#1400",2,"14#1050000|65#1750"]
[null,838,3,270005,29,"51#1450",2,"14#1117200|65#1862"]
[null,839,3,270005,30,"51#1500",2,"14#1184400|65#1974"]
[null,840,3,270005,31,"51#1550",2,"14#1318800|65#2198"]
[null,841,3,270005,32,"51#1600",2,"14#1453200|65#2422"]
[null,842,3,270005,33,"51#1650",2,"14#1587600|65#2646"]
[null,843,3,270005,34,"51#1700",2,"14#1722000|65#2870"]
[null,844,3,270005,35,"51#1750",2,"14#1856400|65#3094"]
[null,845,3,270005,36,"51#1800",2,"14#1990800|65#3318"]
[null,846,3,270005,37,"51#1850",2,"14#2125200|65#3542"]
[null,847,3,270005,38,"51#1900",2,"14#2259600|65#3766"]
[null,848,3,270005,39,"51#1950",2,"14#2394000|65#3990"]
[null,849,3,270005,40,"51#2000",2,"14#2528400|65#4214"]
[null,850,3,270005,41,"51#2050",2,"14#2797200|65#4662"]
[null,851,3,270005,42,"51#2100",2,"14#3066000|65#5110"]
[null,852,3,270005,43,"51#2150",2,"14#3334800|65#5558"]
[null,853,3,270005,44,"51#2200",2,"14#3603600|65#6006"]
[null,854,3,270005,45,"51#2250",2,"14#3872400|65#6454"]
[null,855,3,270005,46,"51#2300",2,"14#4141200|65#6902"]
[null,856,3,270005,47,"51#2350",2,"14#4410000|65#7350"]
[null,857,3,270005,48,"51#2400",2,"14#4678800|65#7798"]
[null,858,3,270005,49,"51#2450",2,"14#4947600|65#8246"]
[null,859,3,270005,50,"51#2500",2,"14#5216400|65#8694"]
[null,860,3,270005,51,"51#2550",2,"14#5754000|65#9590"]
[null,861,3,270005,52,"51#2600",2,"14#6291600|65#10486"]
[null,862,3,270005,53,"51#2650",2,"14#6829200|65#11382"]
[null,863,3,270005,54,"51#2700",2,"14#7366800|65#12278"]
[null,864,3,270005,55,"51#2750",2,"14#7904400|65#13174"]
[null,865,3,270005,56,"51#2800",2,"14#8442000|65#14070"]
[null,866,3,270005,57,"51#2850",2,"14#8979600|65#14966"]
[null,867,3,270005,58,"51#2900",2,"14#9517200|65#15862"]
[null,868,3,270005,59,"51#2950",2,"14#10054800|65#16758"]
[null,869,3,270005,60,"51#3000",2,"14#10592400|65#17654"]
[null,870,3,270005,61,"51#3050",2,"14#11667600|65#19446"]
[null,871,3,270005,62,"51#3100",2,"14#12742800|65#21238"]
[null,872,3,270005,63,"51#3150",2,"14#13818000|65#23030"]
[null,873,3,270005,64,"51#3200",2,"14#14893200|65#24822"]
[null,874,3,270005,65,"51#3250",2,"14#15968400|65#26614"]
[null,875,3,270005,66,"51#3300",2,"14#17043600|65#28406"]
[null,876,3,270005,67,"51#3350",2,"14#18118800|65#30198"]
[null,877,3,270005,68,"51#3400",2,"14#19194000|65#31990"]
[null,878,3,270005,69,"51#3450",2,"14#20269200|65#33782"]
[null,879,3,270005,70,"51#3500",2,"14#21344400|65#35574"]
[null,880,3,270005,71,"51#3550",2,"14#23494800|65#39158"]
[null,881,3,270005,72,"51#3600",2,"14#25645200|65#42742"]
[null,882,3,270005,73,"51#3650",2,"14#27795600|65#46326"]
[null,883,3,270005,74,"51#3700",2,"14#29946000|65#49910"]
[null,884,3,270005,75,"51#3750",2,"14#32096400|65#53494"]
[null,885,3,270005,76,"51#3800",2,"14#34246800|65#57078"]
[null,886,3,270005,77,"51#3850",2,"14#36397200|65#60662"]
[null,887,3,270005,78,"51#3900",2,"14#38547600|65#64246"]
[null,888,3,270005,79,"51#3950",2,"14#40698000|65#67830"]
[null,889,3,270005,80,"51#4000",2,"14#42848400|65#71414"]
[null,890,3,270005,81,"51#4050",2,"14#47149200|65#78582"]
[null,891,3,270005,82,"51#4100",2,"14#51450000|65#85750"]
[null,892,3,270005,83,"51#4150",2,"14#55750800|65#92918"]
[null,893,3,270005,84,"51#4200",2,"14#60051600|65#100086"]
[null,894,3,270005,85,"51#4250",2,"14#64352400|65#107254"]
[null,895,3,270005,86,"51#4300",2,"14#68653200|65#114422"]
[null,896,3,270005,87,"51#4350",2,"14#72954000|65#121590"]
[null,897,3,270005,88,"51#4400",2,"14#77254800|65#128758"]
[null,898,3,270005,89,"51#4450",2,"14#81555600|65#135926"]
[null,899,3,270005,90,"51#4500",2,"14#85856400|65#143094"]
[null,900,3,270005,91,"51#4550",2,"14#94458000|65#157430"]
[null,901,3,270005,92,"51#4600",2,"14#103059600|65#171766"]
[null,902,3,270005,93,"51#4650",2,"14#111661200|65#186102"]
[null,903,3,270005,94,"51#4700",2,"14#120262800|65#200438"]
[null,904,3,270005,95,"51#4750",2,"14#128864400|65#214774"]
[null,905,3,270005,96,"51#4800",2,"14#137466000|65#229110"]
[null,906,3,270005,97,"51#4850",2,"14#146067600|65#243446"]
[null,907,3,270005,98,"51#4900",2,"14#154669200|65#257782"]
[null,908,3,270005,99,"51#4950",2,"14#163270800|65#272118"]
[null,909,3,270005,100,"51#5000",2]
[null,910,4,270006,0,"52#0",2,"14#9600|65#16"]
[null,911,4,270006,1,"52#50",2,"14#28800|65#48"]
[null,912,4,270006,2,"52#100",2,"14#48000|65#80"]
[null,913,4,270006,3,"52#150",2,"14#67200|65#112"]
[null,914,4,270006,4,"52#200",2,"14#86400|65#144"]
[null,915,4,270006,5,"52#250",2,"14#105600|65#176"]
[null,916,4,270006,6,"52#300",2,"14#124800|65#208"]
[null,917,4,270006,7,"52#350",2,"14#144000|65#240"]
[null,918,4,270006,8,"52#400",2,"14#163200|65#272"]
[null,919,4,270006,9,"52#450",2,"14#182400|65#304"]
[null,920,4,270006,10,"52#500",2,"14#201600|65#336"]
[null,921,4,270006,11,"52#550",2,"14#240000|65#400"]
[null,922,4,270006,12,"52#600",2,"14#278400|65#464"]
[null,923,4,270006,13,"52#650",2,"14#316800|65#528"]
[null,924,4,270006,14,"52#700",2,"14#355200|65#592"]
[null,925,4,270006,15,"52#750",2,"14#393600|65#656"]
[null,926,4,270006,16,"52#800",2,"14#432000|65#720"]
[null,927,4,270006,17,"52#850",2,"14#470400|65#784"]
[null,928,4,270006,18,"52#900",2,"14#508800|65#848"]
[null,929,4,270006,19,"52#950",2,"14#547200|65#912"]
[null,930,4,270006,20,"52#1000",2,"14#585600|65#976"]
[null,931,4,270006,21,"52#1050",2,"14#662400|65#1104"]
[null,932,4,270006,22,"52#1100",2,"14#739200|65#1232"]
[null,933,4,270006,23,"52#1150",2,"14#816000|65#1360"]
[null,934,4,270006,24,"52#1200",2,"14#892800|65#1488"]
[null,935,4,270006,25,"52#1250",2,"14#969600|65#1616"]
[null,936,4,270006,26,"52#1300",2,"14#1046400|65#1744"]
[null,937,4,270006,27,"52#1350",2,"14#1123200|65#1872"]
[null,938,4,270006,28,"52#1400",2,"14#1200000|65#2000"]
[null,939,4,270006,29,"52#1450",2,"14#1276800|65#2128"]
[null,940,4,270006,30,"52#1500",2,"14#1353600|65#2256"]
[null,941,4,270006,31,"52#1550",2,"14#1507200|65#2512"]
[null,942,4,270006,32,"52#1600",2,"14#1660800|65#2768"]
[null,943,4,270006,33,"52#1650",2,"14#1814400|65#3024"]
[null,944,4,270006,34,"52#1700",2,"14#1968000|65#3280"]
[null,945,4,270006,35,"52#1750",2,"14#2121600|65#3536"]
[null,946,4,270006,36,"52#1800",2,"14#2275200|65#3792"]
[null,947,4,270006,37,"52#1850",2,"14#2428800|65#4048"]
[null,948,4,270006,38,"52#1900",2,"14#2582400|65#4304"]
[null,949,4,270006,39,"52#1950",2,"14#2736000|65#4560"]
[null,950,4,270006,40,"52#2000",2,"14#2889600|65#4816"]
[null,951,4,270006,41,"52#2050",2,"14#3196800|65#5328"]
[null,952,4,270006,42,"52#2100",2,"14#3504000|65#5840"]
[null,953,4,270006,43,"52#2150",2,"14#3811200|65#6352"]
[null,954,4,270006,44,"52#2200",2,"14#4118400|65#6864"]
[null,955,4,270006,45,"52#2250",2,"14#4425600|65#7376"]
[null,956,4,270006,46,"52#2300",2,"14#4732800|65#7888"]
[null,957,4,270006,47,"52#2350",2,"14#5040000|65#8400"]
[null,958,4,270006,48,"52#2400",2,"14#5347200|65#8912"]
[null,959,4,270006,49,"52#2450",2,"14#5654400|65#9424"]
[null,960,4,270006,50,"52#2500",2,"14#5961600|65#9936"]
[null,961,4,270006,51,"52#2550",2,"14#6576000|65#10960"]
[null,962,4,270006,52,"52#2600",2,"14#7190400|65#11984"]
[null,963,4,270006,53,"52#2650",2,"14#7804800|65#13008"]
[null,964,4,270006,54,"52#2700",2,"14#8419200|65#14032"]
[null,965,4,270006,55,"52#2750",2,"14#9033600|65#15056"]
[null,966,4,270006,56,"52#2800",2,"14#9648000|65#16080"]
[null,967,4,270006,57,"52#2850",2,"14#10262400|65#17104"]
[null,968,4,270006,58,"52#2900",2,"14#10876800|65#18128"]
[null,969,4,270006,59,"52#2950",2,"14#11491200|65#19152"]
[null,970,4,270006,60,"52#3000",2,"14#12105600|65#20176"]
[null,971,4,270006,61,"52#3050",2,"14#13334400|65#22224"]
[null,972,4,270006,62,"52#3100",2,"14#14563200|65#24272"]
[null,973,4,270006,63,"52#3150",2,"14#15792000|65#26320"]
[null,974,4,270006,64,"52#3200",2,"14#17020800|65#28368"]
[null,975,4,270006,65,"52#3250",2,"14#18249600|65#30416"]
[null,976,4,270006,66,"52#3300",2,"14#19478400|65#32464"]
[null,977,4,270006,67,"52#3350",2,"14#20707200|65#34512"]
[null,978,4,270006,68,"52#3400",2,"14#21936000|65#36560"]
[null,979,4,270006,69,"52#3450",2,"14#23164800|65#38608"]
[null,980,4,270006,70,"52#3500",2,"14#24393600|65#40656"]
[null,981,4,270006,71,"52#3550",2,"14#26851200|65#44752"]
[null,982,4,270006,72,"52#3600",2,"14#29308800|65#48848"]
[null,983,4,270006,73,"52#3650",2,"14#31766400|65#52944"]
[null,984,4,270006,74,"52#3700",2,"14#34224000|65#57040"]
[null,985,4,270006,75,"52#3750",2,"14#36681600|65#61136"]
[null,986,4,270006,76,"52#3800",2,"14#39139200|65#65232"]
[null,987,4,270006,77,"52#3850",2,"14#41596800|65#69328"]
[null,988,4,270006,78,"52#3900",2,"14#44054400|65#73424"]
[null,989,4,270006,79,"52#3950",2,"14#46512000|65#77520"]
[null,990,4,270006,80,"52#4000",2,"14#48969600|65#81616"]
[null,991,4,270006,81,"52#4050",2,"14#53884800|65#89808"]
[null,992,4,270006,82,"52#4100",2,"14#58800000|65#98000"]
[null,993,4,270006,83,"52#4150",2,"14#63715200|65#106192"]
[null,994,4,270006,84,"52#4200",2,"14#68630400|65#114384"]
[null,995,4,270006,85,"52#4250",2,"14#73545600|65#122576"]
[null,996,4,270006,86,"52#4300",2,"14#78460800|65#130768"]
[null,997,4,270006,87,"52#4350",2,"14#83376000|65#138960"]
[null,998,4,270006,88,"52#4400",2,"14#88291200|65#147152"]
[null,999,4,270006,89,"52#4450",2,"14#93206400|65#155344"]
[null,1000,4,270006,90,"52#4500",2,"14#98121600|65#163536"]
[null,1001,4,270006,91,"52#4550",2,"14#107952000|65#179920"]
[null,1002,4,270006,92,"52#4600",2,"14#117782400|65#196304"]
[null,1003,4,270006,93,"52#4650",2,"14#127612800|65#212688"]
[null,1004,4,270006,94,"52#4700",2,"14#137443200|65#229072"]
[null,1005,4,270006,95,"52#4750",2,"14#147273600|65#245456"]
[null,1006,4,270006,96,"52#4800",2,"14#157104000|65#261840"]
[null,1007,4,270006,97,"52#4850",2,"14#166934400|65#278224"]
[null,1008,4,270006,98,"52#4900",2,"14#176764800|65#294608"]
[null,1009,4,270006,99,"52#4950",2,"14#186595200|65#310992"]
[null,1010,4,270006,100,"52#5000",2]
[null,1011,5,270007,0,"55#0",2,"14#10800|65#18"]
[null,1012,5,270007,1,"55#50",2,"14#32400|65#54"]
[null,1013,5,270007,2,"55#100",2,"14#54000|65#90"]
[null,1014,5,270007,3,"55#150",2,"14#75600|65#126"]
[null,1015,5,270007,4,"55#200",2,"14#97200|65#162"]
[null,1016,5,270007,5,"55#250",2,"14#118800|65#198"]
[null,1017,5,270007,6,"55#300",2,"14#140400|65#234"]
[null,1018,5,270007,7,"55#350",2,"14#162000|65#270"]
[null,1019,5,270007,8,"55#400",2,"14#183600|65#306"]
[null,1020,5,270007,9,"55#450",2,"14#205200|65#342"]
[null,1021,5,270007,10,"55#500",2,"14#226800|65#378"]
[null,1022,5,270007,11,"55#550",2,"14#270000|65#450"]
[null,1023,5,270007,12,"55#600",2,"14#313200|65#522"]
[null,1024,5,270007,13,"55#650",2,"14#356400|65#594"]
[null,1025,5,270007,14,"55#700",2,"14#399600|65#666"]
[null,1026,5,270007,15,"55#750",2,"14#442800|65#738"]
[null,1027,5,270007,16,"55#800",2,"14#486000|65#810"]
[null,1028,5,270007,17,"55#850",2,"14#529200|65#882"]
[null,1029,5,270007,18,"55#900",2,"14#572400|65#954"]
[null,1030,5,270007,19,"55#950",2,"14#615600|65#1026"]
[null,1031,5,270007,20,"55#1000",2,"14#658800|65#1098"]
[null,1032,5,270007,21,"55#1050",2,"14#745200|65#1242"]
[null,1033,5,270007,22,"55#1100",2,"14#831600|65#1386"]
[null,1034,5,270007,23,"55#1150",2,"14#918000|65#1530"]
[null,1035,5,270007,24,"55#1200",2,"14#1004400|65#1674"]
[null,1036,5,270007,25,"55#1250",2,"14#1090800|65#1818"]
[null,1037,5,270007,26,"55#1300",2,"14#1177200|65#1962"]
[null,1038,5,270007,27,"55#1350",2,"14#1263600|65#2106"]
[null,1039,5,270007,28,"55#1400",2,"14#1350000|65#2250"]
[null,1040,5,270007,29,"55#1450",2,"14#1436400|65#2394"]
[null,1041,5,270007,30,"55#1500",2,"14#1522800|65#2538"]
[null,1042,5,270007,31,"55#1550",2,"14#1695600|65#2826"]
[null,1043,5,270007,32,"55#1600",2,"14#1868400|65#3114"]
[null,1044,5,270007,33,"55#1650",2,"14#2041200|65#3402"]
[null,1045,5,270007,34,"55#1700",2,"14#2214000|65#3690"]
[null,1046,5,270007,35,"55#1750",2,"14#2386800|65#3978"]
[null,1047,5,270007,36,"55#1800",2,"14#2559600|65#4266"]
[null,1048,5,270007,37,"55#1850",2,"14#2732400|65#4554"]
[null,1049,5,270007,38,"55#1900",2,"14#2905200|65#4842"]
[null,1050,5,270007,39,"55#1950",2,"14#3078000|65#5130"]
[null,1051,5,270007,40,"55#2000",2,"14#3250800|65#5418"]
[null,1052,5,270007,41,"55#2050",2,"14#3596400|65#5994"]
[null,1053,5,270007,42,"55#2100",2,"14#3942000|65#6570"]
[null,1054,5,270007,43,"55#2150",2,"14#4287600|65#7146"]
[null,1055,5,270007,44,"55#2200",2,"14#4633200|65#7722"]
[null,1056,5,270007,45,"55#2250",2,"14#4978800|65#8298"]
[null,1057,5,270007,46,"55#2300",2,"14#5324400|65#8874"]
[null,1058,5,270007,47,"55#2350",2,"14#5670000|65#9450"]
[null,1059,5,270007,48,"55#2400",2,"14#6015600|65#10026"]
[null,1060,5,270007,49,"55#2450",2,"14#6361200|65#10602"]
[null,1061,5,270007,50,"55#2500",2,"14#6706800|65#11178"]
[null,1062,5,270007,51,"55#2550",2,"14#7398000|65#12330"]
[null,1063,5,270007,52,"55#2600",2,"14#8089200|65#13482"]
[null,1064,5,270007,53,"55#2650",2,"14#8780400|65#14634"]
[null,1065,5,270007,54,"55#2700",2,"14#9471600|65#15786"]
[null,1066,5,270007,55,"55#2750",2,"14#10162800|65#16938"]
[null,1067,5,270007,56,"55#2800",2,"14#10854000|65#18090"]
[null,1068,5,270007,57,"55#2850",2,"14#11545200|65#19242"]
[null,1069,5,270007,58,"55#2900",2,"14#12236400|65#20394"]
[null,1070,5,270007,59,"55#2950",2,"14#12927600|65#21546"]
[null,1071,5,270007,60,"55#3000",2,"14#13618800|65#22698"]
[null,1072,5,270007,61,"55#3050",2,"14#15001200|65#25002"]
[null,1073,5,270007,62,"55#3100",2,"14#16383600|65#27306"]
[null,1074,5,270007,63,"55#3150",2,"14#17766000|65#29610"]
[null,1075,5,270007,64,"55#3200",2,"14#19148400|65#31914"]
[null,1076,5,270007,65,"55#3250",2,"14#20530800|65#34218"]
[null,1077,5,270007,66,"55#3300",2,"14#21913200|65#36522"]
[null,1078,5,270007,67,"55#3350",2,"14#23295600|65#38826"]
[null,1079,5,270007,68,"55#3400",2,"14#24678000|65#41130"]
[null,1080,5,270007,69,"55#3450",2,"14#26060400|65#43434"]
[null,1081,5,270007,70,"55#3500",2,"14#27442800|65#45738"]
[null,1082,5,270007,71,"55#3550",2,"14#30207600|65#50346"]
[null,1083,5,270007,72,"55#3600",2,"14#32972400|65#54954"]
[null,1084,5,270007,73,"55#3650",2,"14#35737200|65#59562"]
[null,1085,5,270007,74,"55#3700",2,"14#38502000|65#64170"]
[null,1086,5,270007,75,"55#3750",2,"14#41266800|65#68778"]
[null,1087,5,270007,76,"55#3800",2,"14#44031600|65#73386"]
[null,1088,5,270007,77,"55#3850",2,"14#46796400|65#77994"]
[null,1089,5,270007,78,"55#3900",2,"14#49561200|65#82602"]
[null,1090,5,270007,79,"55#3950",2,"14#52326000|65#87210"]
[null,1091,5,270007,80,"55#4000",2,"14#55090800|65#91818"]
[null,1092,5,270007,81,"55#4050",2,"14#60620400|65#101034"]
[null,1093,5,270007,82,"55#4100",2,"14#66150000|65#110250"]
[null,1094,5,270007,83,"55#4150",2,"14#71679600|65#119466"]
[null,1095,5,270007,84,"55#4200",2,"14#77209200|65#128682"]
[null,1096,5,270007,85,"55#4250",2,"14#82738800|65#137898"]
[null,1097,5,270007,86,"55#4300",2,"14#88268400|65#147114"]
[null,1098,5,270007,87,"55#4350",2,"14#93798000|65#156330"]
[null,1099,5,270007,88,"55#4400",2,"14#99327600|65#165546"]
[null,1100,5,270007,89,"55#4450",2,"14#104857200|65#174762"]
[null,1101,5,270007,90,"55#4500",2,"14#110386800|65#183978"]
[null,1102,5,270007,91,"55#4550",2,"14#121446000|65#202410"]
[null,1103,5,270007,92,"55#4600",2,"14#132505200|65#220842"]
[null,1104,5,270007,93,"55#4650",2,"14#143564400|65#239274"]
[null,1105,5,270007,94,"55#4700",2,"14#154623600|65#257706"]
[null,1106,5,270007,95,"55#4750",2,"14#165682800|65#276138"]
[null,1107,5,270007,96,"55#4800",2,"14#176742000|65#294570"]
[null,1108,5,270007,97,"55#4850",2,"14#187801200|65#313002"]
[null,1109,5,270007,98,"55#4900",2,"14#198860400|65#331434"]
[null,1110,5,270007,99,"55#4950",2,"14#209919600|65#349866"]
[null,1111,5,270007,100,"55#5000",2]
[null,1112,6,270010,0,"56#0",2,"14#12000|65#20"]
[null,1113,6,270010,1,"56#50",2,"14#36000|65#60"]
[null,1114,6,270010,2,"56#100",2,"14#60000|65#100"]
[null,1115,6,270010,3,"56#150",2,"14#84000|65#140"]
[null,1116,6,270010,4,"56#200",2,"14#108000|65#180"]
[null,1117,6,270010,5,"56#250",2,"14#132000|65#220"]
[null,1118,6,270010,6,"56#300",2,"14#156000|65#260"]
[null,1119,6,270010,7,"56#350",2,"14#180000|65#300"]
[null,1120,6,270010,8,"56#400",2,"14#204000|65#340"]
[null,1121,6,270010,9,"56#450",2,"14#228000|65#380"]
[null,1122,6,270010,10,"56#500",2,"14#252000|65#420"]
[null,1123,6,270010,11,"56#550",2,"14#300000|65#500"]
[null,1124,6,270010,12,"56#600",2,"14#348000|65#580"]
[null,1125,6,270010,13,"56#650",2,"14#396000|65#660"]
[null,1126,6,270010,14,"56#700",2,"14#444000|65#740"]
[null,1127,6,270010,15,"56#750",2,"14#492000|65#820"]
[null,1128,6,270010,16,"56#800",2,"14#540000|65#900"]
[null,1129,6,270010,17,"56#850",2,"14#588000|65#980"]
[null,1130,6,270010,18,"56#900",2,"14#636000|65#1060"]
[null,1131,6,270010,19,"56#950",2,"14#684000|65#1140"]
[null,1132,6,270010,20,"56#1000",2,"14#732000|65#1220"]
[null,1133,6,270010,21,"56#1050",2,"14#828000|65#1380"]
[null,1134,6,270010,22,"56#1100",2,"14#924000|65#1540"]
[null,1135,6,270010,23,"56#1150",2,"14#1020000|65#1700"]
[null,1136,6,270010,24,"56#1200",2,"14#1116000|65#1860"]
[null,1137,6,270010,25,"56#1250",2,"14#1212000|65#2020"]
[null,1138,6,270010,26,"56#1300",2,"14#1308000|65#2180"]
[null,1139,6,270010,27,"56#1350",2,"14#1404000|65#2340"]
[null,1140,6,270010,28,"56#1400",2,"14#1500000|65#2500"]
[null,1141,6,270010,29,"56#1450",2,"14#1596000|65#2660"]
[null,1142,6,270010,30,"56#1500",2,"14#1692000|65#2820"]
[null,1143,6,270010,31,"56#1550",2,"14#1884000|65#3140"]
[null,1144,6,270010,32,"56#1600",2,"14#2076000|65#3460"]
[null,1145,6,270010,33,"56#1650",2,"14#2268000|65#3780"]
[null,1146,6,270010,34,"56#1700",2,"14#2460000|65#4100"]
[null,1147,6,270010,35,"56#1750",2,"14#2652000|65#4420"]
[null,1148,6,270010,36,"56#1800",2,"14#2844000|65#4740"]
[null,1149,6,270010,37,"56#1850",2,"14#3036000|65#5060"]
[null,1150,6,270010,38,"56#1900",2,"14#3228000|65#5380"]
[null,1151,6,270010,39,"56#1950",2,"14#3420000|65#5700"]
[null,1152,6,270010,40,"56#2000",2,"14#3612000|65#6020"]
[null,1153,6,270010,41,"56#2050",2,"14#3996000|65#6660"]
[null,1154,6,270010,42,"56#2100",2,"14#4380000|65#7300"]
[null,1155,6,270010,43,"56#2150",2,"14#4764000|65#7940"]
[null,1156,6,270010,44,"56#2200",2,"14#5148000|65#8580"]
[null,1157,6,270010,45,"56#2250",2,"14#5532000|65#9220"]
[null,1158,6,270010,46,"56#2300",2,"14#5916000|65#9860"]
[null,1159,6,270010,47,"56#2350",2,"14#6300000|65#10500"]
[null,1160,6,270010,48,"56#2400",2,"14#6684000|65#11140"]
[null,1161,6,270010,49,"56#2450",2,"14#7068000|65#11780"]
[null,1162,6,270010,50,"56#2500",2,"14#7452000|65#12420"]
[null,1163,6,270010,51,"56#2550",2,"14#8220000|65#13700"]
[null,1164,6,270010,52,"56#2600",2,"14#8988000|65#14980"]
[null,1165,6,270010,53,"56#2650",2,"14#9756000|65#16260"]
[null,1166,6,270010,54,"56#2700",2,"14#10524000|65#17540"]
[null,1167,6,270010,55,"56#2750",2,"14#11292000|65#18820"]
[null,1168,6,270010,56,"56#2800",2,"14#12060000|65#20100"]
[null,1169,6,270010,57,"56#2850",2,"14#12828000|65#21380"]
[null,1170,6,270010,58,"56#2900",2,"14#13596000|65#22660"]
[null,1171,6,270010,59,"56#2950",2,"14#14364000|65#23940"]
[null,1172,6,270010,60,"56#3000",2,"14#15132000|65#25220"]
[null,1173,6,270010,61,"56#3050",2,"14#16668000|65#27780"]
[null,1174,6,270010,62,"56#3100",2,"14#18204000|65#30340"]
[null,1175,6,270010,63,"56#3150",2,"14#19740000|65#32900"]
[null,1176,6,270010,64,"56#3200",2,"14#21276000|65#35460"]
[null,1177,6,270010,65,"56#3250",2,"14#22812000|65#38020"]
[null,1178,6,270010,66,"56#3300",2,"14#24348000|65#40580"]
[null,1179,6,270010,67,"56#3350",2,"14#25884000|65#43140"]
[null,1180,6,270010,68,"56#3400",2,"14#27420000|65#45700"]
[null,1181,6,270010,69,"56#3450",2,"14#28956000|65#48260"]
[null,1182,6,270010,70,"56#3500",2,"14#30492000|65#50820"]
[null,1183,6,270010,71,"56#3550",2,"14#33564000|65#55940"]
[null,1184,6,270010,72,"56#3600",2,"14#36636000|65#61060"]
[null,1185,6,270010,73,"56#3650",2,"14#39708000|65#66180"]
[null,1186,6,270010,74,"56#3700",2,"14#42780000|65#71300"]
[null,1187,6,270010,75,"56#3750",2,"14#45852000|65#76420"]
[null,1188,6,270010,76,"56#3800",2,"14#48924000|65#81540"]
[null,1189,6,270010,77,"56#3850",2,"14#51996000|65#86660"]
[null,1190,6,270010,78,"56#3900",2,"14#55068000|65#91780"]
[null,1191,6,270010,79,"56#3950",2,"14#58140000|65#96900"]
[null,1192,6,270010,80,"56#4000",2,"14#61212000|65#102020"]
[null,1193,6,270010,81,"56#4050",2,"14#67356000|65#112260"]
[null,1194,6,270010,82,"56#4100",2,"14#73500000|65#122500"]
[null,1195,6,270010,83,"56#4150",2,"14#79644000|65#132740"]
[null,1196,6,270010,84,"56#4200",2,"14#85788000|65#142980"]
[null,1197,6,270010,85,"56#4250",2,"14#91932000|65#153220"]
[null,1198,6,270010,86,"56#4300",2,"14#98076000|65#163460"]
[null,1199,6,270010,87,"56#4350",2,"14#104220000|65#173700"]
[null,1200,6,270010,88,"56#4400",2,"14#110364000|65#183940"]
[null,1201,6,270010,89,"56#4450",2,"14#116508000|65#194180"]
[null,1202,6,270010,90,"56#4500",2,"14#122652000|65#204420"]
[null,1203,6,270010,91,"56#4550",2,"14#134940000|65#224900"]
[null,1204,6,270010,92,"56#4600",2,"14#147228000|65#245380"]
[null,1205,6,270010,93,"56#4650",2,"14#159516000|65#265860"]
[null,1206,6,270010,94,"56#4700",2,"14#171804000|65#286340"]
[null,1207,6,270010,95,"56#4750",2,"14#184092000|65#306820"]
[null,1208,6,270010,96,"56#4800",2,"14#196380000|65#327300"]
[null,1209,6,270010,97,"56#4850",2,"14#208668000|65#347780"]
[null,1210,6,270010,98,"56#4900",2,"14#220956000|65#368260"]
[null,1211,6,270010,99,"56#4950",2,"14#233244000|65#388740"]
[null,1212,6,270010,100,"56#5000",2]
[null,1213,1,270003,0,"61#0",3,"14#6000|65#10"]
[null,1214,1,270003,1,"61#50",3,"14#18000|65#30"]
[null,1215,1,270003,2,"61#100",3,"14#30000|65#50"]
[null,1216,1,270003,3,"61#150",3,"14#42000|65#70"]
[null,1217,1,270003,4,"61#200",3,"14#54000|65#90"]
[null,1218,1,270003,5,"61#250",3,"14#66000|65#110"]
[null,1219,1,270003,6,"61#300",3,"14#78000|65#130"]
[null,1220,1,270003,7,"61#350",3,"14#90000|65#150"]
[null,1221,1,270003,8,"61#400",3,"14#102000|65#170"]
[null,1222,1,270003,9,"61#450",3,"14#114000|65#190"]
[null,1223,1,270003,10,"61#500",3,"14#126000|65#210"]
[null,1224,1,270003,11,"61#550",3,"14#150000|65#250"]
[null,1225,1,270003,12,"61#600",3,"14#174000|65#290"]
[null,1226,1,270003,13,"61#650",3,"14#198000|65#330"]
[null,1227,1,270003,14,"61#700",3,"14#222000|65#370"]
[null,1228,1,270003,15,"61#750",3,"14#246000|65#410"]
[null,1229,1,270003,16,"61#800",3,"14#270000|65#450"]
[null,1230,1,270003,17,"61#850",3,"14#294000|65#490"]
[null,1231,1,270003,18,"61#900",3,"14#318000|65#530"]
[null,1232,1,270003,19,"61#950",3,"14#342000|65#570"]
[null,1233,1,270003,20,"61#1000",3,"14#366000|65#610"]
[null,1234,1,270003,21,"61#1050",3,"14#414000|65#690"]
[null,1235,1,270003,22,"61#1100",3,"14#462000|65#770"]
[null,1236,1,270003,23,"61#1150",3,"14#510000|65#850"]
[null,1237,1,270003,24,"61#1200",3,"14#558000|65#930"]
[null,1238,1,270003,25,"61#1250",3,"14#606000|65#1010"]
[null,1239,1,270003,26,"61#1300",3,"14#654000|65#1090"]
[null,1240,1,270003,27,"61#1350",3,"14#702000|65#1170"]
[null,1241,1,270003,28,"61#1400",3,"14#750000|65#1250"]
[null,1242,1,270003,29,"61#1450",3,"14#798000|65#1330"]
[null,1243,1,270003,30,"61#1500",3,"14#846000|65#1410"]
[null,1244,1,270003,31,"61#1550",3,"14#942000|65#1570"]
[null,1245,1,270003,32,"61#1600",3,"14#1038000|65#1730"]
[null,1246,1,270003,33,"61#1650",3,"14#1134000|65#1890"]
[null,1247,1,270003,34,"61#1700",3,"14#1230000|65#2050"]
[null,1248,1,270003,35,"61#1750",3,"14#1326000|65#2210"]
[null,1249,1,270003,36,"61#1800",3,"14#1422000|65#2370"]
[null,1250,1,270003,37,"61#1850",3,"14#1518000|65#2530"]
[null,1251,1,270003,38,"61#1900",3,"14#1614000|65#2690"]
[null,1252,1,270003,39,"61#1950",3,"14#1710000|65#2850"]
[null,1253,1,270003,40,"61#2000",3,"14#1806000|65#3010"]
[null,1254,1,270003,41,"61#2050",3,"14#1998000|65#3330"]
[null,1255,1,270003,42,"61#2100",3,"14#2190000|65#3650"]
[null,1256,1,270003,43,"61#2150",3,"14#2382000|65#3970"]
[null,1257,1,270003,44,"61#2200",3,"14#2574000|65#4290"]
[null,1258,1,270003,45,"61#2250",3,"14#2766000|65#4610"]
[null,1259,1,270003,46,"61#2300",3,"14#2958000|65#4930"]
[null,1260,1,270003,47,"61#2350",3,"14#3150000|65#5250"]
[null,1261,1,270003,48,"61#2400",3,"14#3342000|65#5570"]
[null,1262,1,270003,49,"61#2450",3,"14#3534000|65#5890"]
[null,1263,1,270003,50,"61#2500",3,"14#3726000|65#6210"]
[null,1264,1,270003,51,"61#2550",3,"14#4110000|65#6850"]
[null,1265,1,270003,52,"61#2600",3,"14#4494000|65#7490"]
[null,1266,1,270003,53,"61#2650",3,"14#4878000|65#8130"]
[null,1267,1,270003,54,"61#2700",3,"14#5262000|65#8770"]
[null,1268,1,270003,55,"61#2750",3,"14#5646000|65#9410"]
[null,1269,1,270003,56,"61#2800",3,"14#6030000|65#10050"]
[null,1270,1,270003,57,"61#2850",3,"14#6414000|65#10690"]
[null,1271,1,270003,58,"61#2900",3,"14#6798000|65#11330"]
[null,1272,1,270003,59,"61#2950",3,"14#7182000|65#11970"]
[null,1273,1,270003,60,"61#3000",3,"14#7566000|65#12610"]
[null,1274,1,270003,61,"61#3050",3,"14#8334000|65#13890"]
[null,1275,1,270003,62,"61#3100",3,"14#9102000|65#15170"]
[null,1276,1,270003,63,"61#3150",3,"14#9870000|65#16450"]
[null,1277,1,270003,64,"61#3200",3,"14#10638000|65#17730"]
[null,1278,1,270003,65,"61#3250",3,"14#11406000|65#19010"]
[null,1279,1,270003,66,"61#3300",3,"14#12174000|65#20290"]
[null,1280,1,270003,67,"61#3350",3,"14#12942000|65#21570"]
[null,1281,1,270003,68,"61#3400",3,"14#13710000|65#22850"]
[null,1282,1,270003,69,"61#3450",3,"14#14478000|65#24130"]
[null,1283,1,270003,70,"61#3500",3,"14#15246000|65#25410"]
[null,1284,1,270003,71,"61#3550",3,"14#16782000|65#27970"]
[null,1285,1,270003,72,"61#3600",3,"14#18318000|65#30530"]
[null,1286,1,270003,73,"61#3650",3,"14#19854000|65#33090"]
[null,1287,1,270003,74,"61#3700",3,"14#21390000|65#35650"]
[null,1288,1,270003,75,"61#3750",3,"14#22926000|65#38210"]
[null,1289,1,270003,76,"61#3800",3,"14#24462000|65#40770"]
[null,1290,1,270003,77,"61#3850",3,"14#25998000|65#43330"]
[null,1291,1,270003,78,"61#3900",3,"14#27534000|65#45890"]
[null,1292,1,270003,79,"61#3950",3,"14#29070000|65#48450"]
[null,1293,1,270003,80,"61#4000",3,"14#30606000|65#51010"]
[null,1294,1,270003,81,"61#4050",3,"14#33678000|65#56130"]
[null,1295,1,270003,82,"61#4100",3,"14#36750000|65#61250"]
[null,1296,1,270003,83,"61#4150",3,"14#39822000|65#66370"]
[null,1297,1,270003,84,"61#4200",3,"14#42894000|65#71490"]
[null,1298,1,270003,85,"61#4250",3,"14#45966000|65#76610"]
[null,1299,1,270003,86,"61#4300",3,"14#49038000|65#81730"]
[null,1300,1,270003,87,"61#4350",3,"14#52110000|65#86850"]
[null,1301,1,270003,88,"61#4400",3,"14#55182000|65#91970"]
[null,1302,1,270003,89,"61#4450",3,"14#58254000|65#97090"]
[null,1303,1,270003,90,"61#4500",3,"14#61326000|65#102210"]
[null,1304,1,270003,91,"61#4550",3,"14#67470000|65#112450"]
[null,1305,1,270003,92,"61#4600",3,"14#73614000|65#122690"]
[null,1306,1,270003,93,"61#4650",3,"14#79758000|65#132930"]
[null,1307,1,270003,94,"61#4700",3,"14#85902000|65#143170"]
[null,1308,1,270003,95,"61#4750",3,"14#92046000|65#153410"]
[null,1309,1,270003,96,"61#4800",3,"14#98190000|65#163650"]
[null,1310,1,270003,97,"61#4850",3,"14#104334000|65#173890"]
[null,1311,1,270003,98,"61#4900",3,"14#110478000|65#184130"]
[null,1312,1,270003,99,"61#4950",3,"14#116622000|65#194370"]
[null,1313,1,270003,100,"61#5000",3]
[null,1314,2,270004,0,"62#0",3,"14#7200|65#12"]
[null,1315,2,270004,1,"62#50",3,"14#21600|65#36"]
[null,1316,2,270004,2,"62#100",3,"14#36000|65#60"]
[null,1317,2,270004,3,"62#150",3,"14#50400|65#84"]
[null,1318,2,270004,4,"62#200",3,"14#64800|65#108"]
[null,1319,2,270004,5,"62#250",3,"14#79200|65#132"]
[null,1320,2,270004,6,"62#300",3,"14#93600|65#156"]
[null,1321,2,270004,7,"62#350",3,"14#108000|65#180"]
[null,1322,2,270004,8,"62#400",3,"14#122400|65#204"]
[null,1323,2,270004,9,"62#450",3,"14#136800|65#228"]
[null,1324,2,270004,10,"62#500",3,"14#151200|65#252"]
[null,1325,2,270004,11,"62#550",3,"14#180000|65#300"]
[null,1326,2,270004,12,"62#600",3,"14#208800|65#348"]
[null,1327,2,270004,13,"62#650",3,"14#237600|65#396"]
[null,1328,2,270004,14,"62#700",3,"14#266400|65#444"]
[null,1329,2,270004,15,"62#750",3,"14#295200|65#492"]
[null,1330,2,270004,16,"62#800",3,"14#324000|65#540"]
[null,1331,2,270004,17,"62#850",3,"14#352800|65#588"]
[null,1332,2,270004,18,"62#900",3,"14#381600|65#636"]
[null,1333,2,270004,19,"62#950",3,"14#410400|65#684"]
[null,1334,2,270004,20,"62#1000",3,"14#439200|65#732"]
[null,1335,2,270004,21,"62#1050",3,"14#496800|65#828"]
[null,1336,2,270004,22,"62#1100",3,"14#554400|65#924"]
[null,1337,2,270004,23,"62#1150",3,"14#612000|65#1020"]
[null,1338,2,270004,24,"62#1200",3,"14#669600|65#1116"]
[null,1339,2,270004,25,"62#1250",3,"14#727200|65#1212"]
[null,1340,2,270004,26,"62#1300",3,"14#784800|65#1308"]
[null,1341,2,270004,27,"62#1350",3,"14#842400|65#1404"]
[null,1342,2,270004,28,"62#1400",3,"14#900000|65#1500"]
[null,1343,2,270004,29,"62#1450",3,"14#957600|65#1596"]
[null,1344,2,270004,30,"62#1500",3,"14#1015200|65#1692"]
[null,1345,2,270004,31,"62#1550",3,"14#1130400|65#1884"]
[null,1346,2,270004,32,"62#1600",3,"14#1245600|65#2076"]
[null,1347,2,270004,33,"62#1650",3,"14#1360800|65#2268"]
[null,1348,2,270004,34,"62#1700",3,"14#1476000|65#2460"]
[null,1349,2,270004,35,"62#1750",3,"14#1591200|65#2652"]
[null,1350,2,270004,36,"62#1800",3,"14#1706400|65#2844"]
[null,1351,2,270004,37,"62#1850",3,"14#1821600|65#3036"]
[null,1352,2,270004,38,"62#1900",3,"14#1936800|65#3228"]
[null,1353,2,270004,39,"62#1950",3,"14#2052000|65#3420"]
[null,1354,2,270004,40,"62#2000",3,"14#2167200|65#3612"]
[null,1355,2,270004,41,"62#2050",3,"14#2397600|65#3996"]
[null,1356,2,270004,42,"62#2100",3,"14#2628000|65#4380"]
[null,1357,2,270004,43,"62#2150",3,"14#2858400|65#4764"]
[null,1358,2,270004,44,"62#2200",3,"14#3088800|65#5148"]
[null,1359,2,270004,45,"62#2250",3,"14#3319200|65#5532"]
[null,1360,2,270004,46,"62#2300",3,"14#3549600|65#5916"]
[null,1361,2,270004,47,"62#2350",3,"14#3780000|65#6300"]
[null,1362,2,270004,48,"62#2400",3,"14#4010400|65#6684"]
[null,1363,2,270004,49,"62#2450",3,"14#4240800|65#7068"]
[null,1364,2,270004,50,"62#2500",3,"14#4471200|65#7452"]
[null,1365,2,270004,51,"62#2550",3,"14#4932000|65#8220"]
[null,1366,2,270004,52,"62#2600",3,"14#5392800|65#8988"]
[null,1367,2,270004,53,"62#2650",3,"14#5853600|65#9756"]
[null,1368,2,270004,54,"62#2700",3,"14#6314400|65#10524"]
[null,1369,2,270004,55,"62#2750",3,"14#6775200|65#11292"]
[null,1370,2,270004,56,"62#2800",3,"14#7236000|65#12060"]
[null,1371,2,270004,57,"62#2850",3,"14#7696800|65#12828"]
[null,1372,2,270004,58,"62#2900",3,"14#8157600|65#13596"]
[null,1373,2,270004,59,"62#2950",3,"14#8618400|65#14364"]
[null,1374,2,270004,60,"62#3000",3,"14#9079200|65#15132"]
[null,1375,2,270004,61,"62#3050",3,"14#10000800|65#16668"]
[null,1376,2,270004,62,"62#3100",3,"14#10922400|65#18204"]
[null,1377,2,270004,63,"62#3150",3,"14#11844000|65#19740"]
[null,1378,2,270004,64,"62#3200",3,"14#12765600|65#21276"]
[null,1379,2,270004,65,"62#3250",3,"14#13687200|65#22812"]
[null,1380,2,270004,66,"62#3300",3,"14#14608800|65#24348"]
[null,1381,2,270004,67,"62#3350",3,"14#15530400|65#25884"]
[null,1382,2,270004,68,"62#3400",3,"14#16452000|65#27420"]
[null,1383,2,270004,69,"62#3450",3,"14#17373600|65#28956"]
[null,1384,2,270004,70,"62#3500",3,"14#18295200|65#30492"]
[null,1385,2,270004,71,"62#3550",3,"14#20138400|65#33564"]
[null,1386,2,270004,72,"62#3600",3,"14#21981600|65#36636"]
[null,1387,2,270004,73,"62#3650",3,"14#23824800|65#39708"]
[null,1388,2,270004,74,"62#3700",3,"14#25668000|65#42780"]
[null,1389,2,270004,75,"62#3750",3,"14#27511200|65#45852"]
[null,1390,2,270004,76,"62#3800",3,"14#29354400|65#48924"]
[null,1391,2,270004,77,"62#3850",3,"14#31197600|65#51996"]
[null,1392,2,270004,78,"62#3900",3,"14#33040800|65#55068"]
[null,1393,2,270004,79,"62#3950",3,"14#34884000|65#58140"]
[null,1394,2,270004,80,"62#4000",3,"14#36727200|65#61212"]
[null,1395,2,270004,81,"62#4050",3,"14#40413600|65#67356"]
[null,1396,2,270004,82,"62#4100",3,"14#44100000|65#73500"]
[null,1397,2,270004,83,"62#4150",3,"14#47786400|65#79644"]
[null,1398,2,270004,84,"62#4200",3,"14#51472800|65#85788"]
[null,1399,2,270004,85,"62#4250",3,"14#55159200|65#91932"]
[null,1400,2,270004,86,"62#4300",3,"14#58845600|65#98076"]
[null,1401,2,270004,87,"62#4350",3,"14#62532000|65#104220"]
[null,1402,2,270004,88,"62#4400",3,"14#66218400|65#110364"]
[null,1403,2,270004,89,"62#4450",3,"14#69904800|65#116508"]
[null,1404,2,270004,90,"62#4500",3,"14#73591200|65#122652"]
[null,1405,2,270004,91,"62#4550",3,"14#80964000|65#134940"]
[null,1406,2,270004,92,"62#4600",3,"14#88336800|65#147228"]
[null,1407,2,270004,93,"62#4650",3,"14#95709600|65#159516"]
[null,1408,2,270004,94,"62#4700",3,"14#103082400|65#171804"]
[null,1409,2,270004,95,"62#4750",3,"14#110455200|65#184092"]
[null,1410,2,270004,96,"62#4800",3,"14#117828000|65#196380"]
[null,1411,2,270004,97,"62#4850",3,"14#125200800|65#208668"]
[null,1412,2,270004,98,"62#4900",3,"14#132573600|65#220956"]
[null,1413,2,270004,99,"62#4950",3,"14#139946400|65#233244"]
[null,1414,2,270004,100,"62#5000",3]
[null,1415,3,270005,0,"51#0",3,"14#8400|65#14"]
[null,1416,3,270005,1,"51#50",3,"14#25200|65#42"]
[null,1417,3,270005,2,"51#100",3,"14#42000|65#70"]
[null,1418,3,270005,3,"51#150",3,"14#58800|65#98"]
[null,1419,3,270005,4,"51#200",3,"14#75600|65#126"]
[null,1420,3,270005,5,"51#250",3,"14#92400|65#154"]
[null,1421,3,270005,6,"51#300",3,"14#109200|65#182"]
[null,1422,3,270005,7,"51#350",3,"14#126000|65#210"]
[null,1423,3,270005,8,"51#400",3,"14#142800|65#238"]
[null,1424,3,270005,9,"51#450",3,"14#159600|65#266"]
[null,1425,3,270005,10,"51#500",3,"14#176400|65#294"]
[null,1426,3,270005,11,"51#550",3,"14#210000|65#350"]
[null,1427,3,270005,12,"51#600",3,"14#243600|65#406"]
[null,1428,3,270005,13,"51#650",3,"14#277200|65#462"]
[null,1429,3,270005,14,"51#700",3,"14#310800|65#518"]
[null,1430,3,270005,15,"51#750",3,"14#344400|65#574"]
[null,1431,3,270005,16,"51#800",3,"14#378000|65#630"]
[null,1432,3,270005,17,"51#850",3,"14#411600|65#686"]
[null,1433,3,270005,18,"51#900",3,"14#445200|65#742"]
[null,1434,3,270005,19,"51#950",3,"14#478800|65#798"]
[null,1435,3,270005,20,"51#1000",3,"14#512400|65#854"]
[null,1436,3,270005,21,"51#1050",3,"14#579600|65#966"]
[null,1437,3,270005,22,"51#1100",3,"14#646800|65#1078"]
[null,1438,3,270005,23,"51#1150",3,"14#714000|65#1190"]
[null,1439,3,270005,24,"51#1200",3,"14#781200|65#1302"]
[null,1440,3,270005,25,"51#1250",3,"14#848400|65#1414"]
[null,1441,3,270005,26,"51#1300",3,"14#915600|65#1526"]
[null,1442,3,270005,27,"51#1350",3,"14#982800|65#1638"]
[null,1443,3,270005,28,"51#1400",3,"14#1050000|65#1750"]
[null,1444,3,270005,29,"51#1450",3,"14#1117200|65#1862"]
[null,1445,3,270005,30,"51#1500",3,"14#1184400|65#1974"]
[null,1446,3,270005,31,"51#1550",3,"14#1318800|65#2198"]
[null,1447,3,270005,32,"51#1600",3,"14#1453200|65#2422"]
[null,1448,3,270005,33,"51#1650",3,"14#1587600|65#2646"]
[null,1449,3,270005,34,"51#1700",3,"14#1722000|65#2870"]
[null,1450,3,270005,35,"51#1750",3,"14#1856400|65#3094"]
[null,1451,3,270005,36,"51#1800",3,"14#1990800|65#3318"]
[null,1452,3,270005,37,"51#1850",3,"14#2125200|65#3542"]
[null,1453,3,270005,38,"51#1900",3,"14#2259600|65#3766"]
[null,1454,3,270005,39,"51#1950",3,"14#2394000|65#3990"]
[null,1455,3,270005,40,"51#2000",3,"14#2528400|65#4214"]
[null,1456,3,270005,41,"51#2050",3,"14#2797200|65#4662"]
[null,1457,3,270005,42,"51#2100",3,"14#3066000|65#5110"]
[null,1458,3,270005,43,"51#2150",3,"14#3334800|65#5558"]
[null,1459,3,270005,44,"51#2200",3,"14#3603600|65#6006"]
[null,1460,3,270005,45,"51#2250",3,"14#3872400|65#6454"]
[null,1461,3,270005,46,"51#2300",3,"14#4141200|65#6902"]
[null,1462,3,270005,47,"51#2350",3,"14#4410000|65#7350"]
[null,1463,3,270005,48,"51#2400",3,"14#4678800|65#7798"]
[null,1464,3,270005,49,"51#2450",3,"14#4947600|65#8246"]
[null,1465,3,270005,50,"51#2500",3,"14#5216400|65#8694"]
[null,1466,3,270005,51,"51#2550",3,"14#5754000|65#9590"]
[null,1467,3,270005,52,"51#2600",3,"14#6291600|65#10486"]
[null,1468,3,270005,53,"51#2650",3,"14#6829200|65#11382"]
[null,1469,3,270005,54,"51#2700",3,"14#7366800|65#12278"]
[null,1470,3,270005,55,"51#2750",3,"14#7904400|65#13174"]
[null,1471,3,270005,56,"51#2800",3,"14#8442000|65#14070"]
[null,1472,3,270005,57,"51#2850",3,"14#8979600|65#14966"]
[null,1473,3,270005,58,"51#2900",3,"14#9517200|65#15862"]
[null,1474,3,270005,59,"51#2950",3,"14#10054800|65#16758"]
[null,1475,3,270005,60,"51#3000",3,"14#10592400|65#17654"]
[null,1476,3,270005,61,"51#3050",3,"14#11667600|65#19446"]
[null,1477,3,270005,62,"51#3100",3,"14#12742800|65#21238"]
[null,1478,3,270005,63,"51#3150",3,"14#13818000|65#23030"]
[null,1479,3,270005,64,"51#3200",3,"14#14893200|65#24822"]
[null,1480,3,270005,65,"51#3250",3,"14#15968400|65#26614"]
[null,1481,3,270005,66,"51#3300",3,"14#17043600|65#28406"]
[null,1482,3,270005,67,"51#3350",3,"14#18118800|65#30198"]
[null,1483,3,270005,68,"51#3400",3,"14#19194000|65#31990"]
[null,1484,3,270005,69,"51#3450",3,"14#20269200|65#33782"]
[null,1485,3,270005,70,"51#3500",3,"14#21344400|65#35574"]
[null,1486,3,270005,71,"51#3550",3,"14#23494800|65#39158"]
[null,1487,3,270005,72,"51#3600",3,"14#25645200|65#42742"]
[null,1488,3,270005,73,"51#3650",3,"14#27795600|65#46326"]
[null,1489,3,270005,74,"51#3700",3,"14#29946000|65#49910"]
[null,1490,3,270005,75,"51#3750",3,"14#32096400|65#53494"]
[null,1491,3,270005,76,"51#3800",3,"14#34246800|65#57078"]
[null,1492,3,270005,77,"51#3850",3,"14#36397200|65#60662"]
[null,1493,3,270005,78,"51#3900",3,"14#38547600|65#64246"]
[null,1494,3,270005,79,"51#3950",3,"14#40698000|65#67830"]
[null,1495,3,270005,80,"51#4000",3,"14#42848400|65#71414"]
[null,1496,3,270005,81,"51#4050",3,"14#47149200|65#78582"]
[null,1497,3,270005,82,"51#4100",3,"14#51450000|65#85750"]
[null,1498,3,270005,83,"51#4150",3,"14#55750800|65#92918"]
[null,1499,3,270005,84,"51#4200",3,"14#60051600|65#100086"]
[null,1500,3,270005,85,"51#4250",3,"14#64352400|65#107254"]
[null,1501,3,270005,86,"51#4300",3,"14#68653200|65#114422"]
[null,1502,3,270005,87,"51#4350",3,"14#72954000|65#121590"]
[null,1503,3,270005,88,"51#4400",3,"14#77254800|65#128758"]
[null,1504,3,270005,89,"51#4450",3,"14#81555600|65#135926"]
[null,1505,3,270005,90,"51#4500",3,"14#85856400|65#143094"]
[null,1506,3,270005,91,"51#4550",3,"14#94458000|65#157430"]
[null,1507,3,270005,92,"51#4600",3,"14#103059600|65#171766"]
[null,1508,3,270005,93,"51#4650",3,"14#111661200|65#186102"]
[null,1509,3,270005,94,"51#4700",3,"14#120262800|65#200438"]
[null,1510,3,270005,95,"51#4750",3,"14#128864400|65#214774"]
[null,1511,3,270005,96,"51#4800",3,"14#137466000|65#229110"]
[null,1512,3,270005,97,"51#4850",3,"14#146067600|65#243446"]
[null,1513,3,270005,98,"51#4900",3,"14#154669200|65#257782"]
[null,1514,3,270005,99,"51#4950",3,"14#163270800|65#272118"]
[null,1515,3,270005,100,"51#5000",3]
[null,1516,4,270006,0,"52#0",3,"14#9600|65#16"]
[null,1517,4,270006,1,"52#50",3,"14#28800|65#48"]
[null,1518,4,270006,2,"52#100",3,"14#48000|65#80"]
[null,1519,4,270006,3,"52#150",3,"14#67200|65#112"]
[null,1520,4,270006,4,"52#200",3,"14#86400|65#144"]
[null,1521,4,270006,5,"52#250",3,"14#105600|65#176"]
[null,1522,4,270006,6,"52#300",3,"14#124800|65#208"]
[null,1523,4,270006,7,"52#350",3,"14#144000|65#240"]
[null,1524,4,270006,8,"52#400",3,"14#163200|65#272"]
[null,1525,4,270006,9,"52#450",3,"14#182400|65#304"]
[null,1526,4,270006,10,"52#500",3,"14#201600|65#336"]
[null,1527,4,270006,11,"52#550",3,"14#240000|65#400"]
[null,1528,4,270006,12,"52#600",3,"14#278400|65#464"]
[null,1529,4,270006,13,"52#650",3,"14#316800|65#528"]
[null,1530,4,270006,14,"52#700",3,"14#355200|65#592"]
[null,1531,4,270006,15,"52#750",3,"14#393600|65#656"]
[null,1532,4,270006,16,"52#800",3,"14#432000|65#720"]
[null,1533,4,270006,17,"52#850",3,"14#470400|65#784"]
[null,1534,4,270006,18,"52#900",3,"14#508800|65#848"]
[null,1535,4,270006,19,"52#950",3,"14#547200|65#912"]
[null,1536,4,270006,20,"52#1000",3,"14#585600|65#976"]
[null,1537,4,270006,21,"52#1050",3,"14#662400|65#1104"]
[null,1538,4,270006,22,"52#1100",3,"14#739200|65#1232"]
[null,1539,4,270006,23,"52#1150",3,"14#816000|65#1360"]
[null,1540,4,270006,24,"52#1200",3,"14#892800|65#1488"]
[null,1541,4,270006,25,"52#1250",3,"14#969600|65#1616"]
[null,1542,4,270006,26,"52#1300",3,"14#1046400|65#1744"]
[null,1543,4,270006,27,"52#1350",3,"14#1123200|65#1872"]
[null,1544,4,270006,28,"52#1400",3,"14#1200000|65#2000"]
[null,1545,4,270006,29,"52#1450",3,"14#1276800|65#2128"]
[null,1546,4,270006,30,"52#1500",3,"14#1353600|65#2256"]
[null,1547,4,270006,31,"52#1550",3,"14#1507200|65#2512"]
[null,1548,4,270006,32,"52#1600",3,"14#1660800|65#2768"]
[null,1549,4,270006,33,"52#1650",3,"14#1814400|65#3024"]
[null,1550,4,270006,34,"52#1700",3,"14#1968000|65#3280"]
[null,1551,4,270006,35,"52#1750",3,"14#2121600|65#3536"]
[null,1552,4,270006,36,"52#1800",3,"14#2275200|65#3792"]
[null,1553,4,270006,37,"52#1850",3,"14#2428800|65#4048"]
[null,1554,4,270006,38,"52#1900",3,"14#2582400|65#4304"]
[null,1555,4,270006,39,"52#1950",3,"14#2736000|65#4560"]
[null,1556,4,270006,40,"52#2000",3,"14#2889600|65#4816"]
[null,1557,4,270006,41,"52#2050",3,"14#3196800|65#5328"]
[null,1558,4,270006,42,"52#2100",3,"14#3504000|65#5840"]
[null,1559,4,270006,43,"52#2150",3,"14#3811200|65#6352"]
[null,1560,4,270006,44,"52#2200",3,"14#4118400|65#6864"]
[null,1561,4,270006,45,"52#2250",3,"14#4425600|65#7376"]
[null,1562,4,270006,46,"52#2300",3,"14#4732800|65#7888"]
[null,1563,4,270006,47,"52#2350",3,"14#5040000|65#8400"]
[null,1564,4,270006,48,"52#2400",3,"14#5347200|65#8912"]
[null,1565,4,270006,49,"52#2450",3,"14#5654400|65#9424"]
[null,1566,4,270006,50,"52#2500",3,"14#5961600|65#9936"]
[null,1567,4,270006,51,"52#2550",3,"14#6576000|65#10960"]
[null,1568,4,270006,52,"52#2600",3,"14#7190400|65#11984"]
[null,1569,4,270006,53,"52#2650",3,"14#7804800|65#13008"]
[null,1570,4,270006,54,"52#2700",3,"14#8419200|65#14032"]
[null,1571,4,270006,55,"52#2750",3,"14#9033600|65#15056"]
[null,1572,4,270006,56,"52#2800",3,"14#9648000|65#16080"]
[null,1573,4,270006,57,"52#2850",3,"14#10262400|65#17104"]
[null,1574,4,270006,58,"52#2900",3,"14#10876800|65#18128"]
[null,1575,4,270006,59,"52#2950",3,"14#11491200|65#19152"]
[null,1576,4,270006,60,"52#3000",3,"14#12105600|65#20176"]
[null,1577,4,270006,61,"52#3050",3,"14#13334400|65#22224"]
[null,1578,4,270006,62,"52#3100",3,"14#14563200|65#24272"]
[null,1579,4,270006,63,"52#3150",3,"14#15792000|65#26320"]
[null,1580,4,270006,64,"52#3200",3,"14#17020800|65#28368"]
[null,1581,4,270006,65,"52#3250",3,"14#18249600|65#30416"]
[null,1582,4,270006,66,"52#3300",3,"14#19478400|65#32464"]
[null,1583,4,270006,67,"52#3350",3,"14#20707200|65#34512"]
[null,1584,4,270006,68,"52#3400",3,"14#21936000|65#36560"]
[null,1585,4,270006,69,"52#3450",3,"14#23164800|65#38608"]
[null,1586,4,270006,70,"52#3500",3,"14#24393600|65#40656"]
[null,1587,4,270006,71,"52#3550",3,"14#26851200|65#44752"]
[null,1588,4,270006,72,"52#3600",3,"14#29308800|65#48848"]
[null,1589,4,270006,73,"52#3650",3,"14#31766400|65#52944"]
[null,1590,4,270006,74,"52#3700",3,"14#34224000|65#57040"]
[null,1591,4,270006,75,"52#3750",3,"14#36681600|65#61136"]
[null,1592,4,270006,76,"52#3800",3,"14#39139200|65#65232"]
[null,1593,4,270006,77,"52#3850",3,"14#41596800|65#69328"]
[null,1594,4,270006,78,"52#3900",3,"14#44054400|65#73424"]
[null,1595,4,270006,79,"52#3950",3,"14#46512000|65#77520"]
[null,1596,4,270006,80,"52#4000",3,"14#48969600|65#81616"]
[null,1597,4,270006,81,"52#4050",3,"14#53884800|65#89808"]
[null,1598,4,270006,82,"52#4100",3,"14#58800000|65#98000"]
[null,1599,4,270006,83,"52#4150",3,"14#63715200|65#106192"]
[null,1600,4,270006,84,"52#4200",3,"14#68630400|65#114384"]
[null,1601,4,270006,85,"52#4250",3,"14#73545600|65#122576"]
[null,1602,4,270006,86,"52#4300",3,"14#78460800|65#130768"]
[null,1603,4,270006,87,"52#4350",3,"14#83376000|65#138960"]
[null,1604,4,270006,88,"52#4400",3,"14#88291200|65#147152"]
[null,1605,4,270006,89,"52#4450",3,"14#93206400|65#155344"]
[null,1606,4,270006,90,"52#4500",3,"14#98121600|65#163536"]
[null,1607,4,270006,91,"52#4550",3,"14#107952000|65#179920"]
[null,1608,4,270006,92,"52#4600",3,"14#117782400|65#196304"]
[null,1609,4,270006,93,"52#4650",3,"14#127612800|65#212688"]
[null,1610,4,270006,94,"52#4700",3,"14#137443200|65#229072"]
[null,1611,4,270006,95,"52#4750",3,"14#147273600|65#245456"]
[null,1612,4,270006,96,"52#4800",3,"14#157104000|65#261840"]
[null,1613,4,270006,97,"52#4850",3,"14#166934400|65#278224"]
[null,1614,4,270006,98,"52#4900",3,"14#176764800|65#294608"]
[null,1615,4,270006,99,"52#4950",3,"14#186595200|65#310992"]
[null,1616,4,270006,100,"52#5000",3]
[null,1617,5,270007,0,"55#0",3,"14#10800|65#18"]
[null,1618,5,270007,1,"55#50",3,"14#32400|65#54"]
[null,1619,5,270007,2,"55#100",3,"14#54000|65#90"]
[null,1620,5,270007,3,"55#150",3,"14#75600|65#126"]
[null,1621,5,270007,4,"55#200",3,"14#97200|65#162"]
[null,1622,5,270007,5,"55#250",3,"14#118800|65#198"]
[null,1623,5,270007,6,"55#300",3,"14#140400|65#234"]
[null,1624,5,270007,7,"55#350",3,"14#162000|65#270"]
[null,1625,5,270007,8,"55#400",3,"14#183600|65#306"]
[null,1626,5,270007,9,"55#450",3,"14#205200|65#342"]
[null,1627,5,270007,10,"55#500",3,"14#226800|65#378"]
[null,1628,5,270007,11,"55#550",3,"14#270000|65#450"]
[null,1629,5,270007,12,"55#600",3,"14#313200|65#522"]
[null,1630,5,270007,13,"55#650",3,"14#356400|65#594"]
[null,1631,5,270007,14,"55#700",3,"14#399600|65#666"]
[null,1632,5,270007,15,"55#750",3,"14#442800|65#738"]
[null,1633,5,270007,16,"55#800",3,"14#486000|65#810"]
[null,1634,5,270007,17,"55#850",3,"14#529200|65#882"]
[null,1635,5,270007,18,"55#900",3,"14#572400|65#954"]
[null,1636,5,270007,19,"55#950",3,"14#615600|65#1026"]
[null,1637,5,270007,20,"55#1000",3,"14#658800|65#1098"]
[null,1638,5,270007,21,"55#1050",3,"14#745200|65#1242"]
[null,1639,5,270007,22,"55#1100",3,"14#831600|65#1386"]
[null,1640,5,270007,23,"55#1150",3,"14#918000|65#1530"]
[null,1641,5,270007,24,"55#1200",3,"14#1004400|65#1674"]
[null,1642,5,270007,25,"55#1250",3,"14#1090800|65#1818"]
[null,1643,5,270007,26,"55#1300",3,"14#1177200|65#1962"]
[null,1644,5,270007,27,"55#1350",3,"14#1263600|65#2106"]
[null,1645,5,270007,28,"55#1400",3,"14#1350000|65#2250"]
[null,1646,5,270007,29,"55#1450",3,"14#1436400|65#2394"]
[null,1647,5,270007,30,"55#1500",3,"14#1522800|65#2538"]
[null,1648,5,270007,31,"55#1550",3,"14#1695600|65#2826"]
[null,1649,5,270007,32,"55#1600",3,"14#1868400|65#3114"]
[null,1650,5,270007,33,"55#1650",3,"14#2041200|65#3402"]
[null,1651,5,270007,34,"55#1700",3,"14#2214000|65#3690"]
[null,1652,5,270007,35,"55#1750",3,"14#2386800|65#3978"]
[null,1653,5,270007,36,"55#1800",3,"14#2559600|65#4266"]
[null,1654,5,270007,37,"55#1850",3,"14#2732400|65#4554"]
[null,1655,5,270007,38,"55#1900",3,"14#2905200|65#4842"]
[null,1656,5,270007,39,"55#1950",3,"14#3078000|65#5130"]
[null,1657,5,270007,40,"55#2000",3,"14#3250800|65#5418"]
[null,1658,5,270007,41,"55#2050",3,"14#3596400|65#5994"]
[null,1659,5,270007,42,"55#2100",3,"14#3942000|65#6570"]
[null,1660,5,270007,43,"55#2150",3,"14#4287600|65#7146"]
[null,1661,5,270007,44,"55#2200",3,"14#4633200|65#7722"]
[null,1662,5,270007,45,"55#2250",3,"14#4978800|65#8298"]
[null,1663,5,270007,46,"55#2300",3,"14#5324400|65#8874"]
[null,1664,5,270007,47,"55#2350",3,"14#5670000|65#9450"]
[null,1665,5,270007,48,"55#2400",3,"14#6015600|65#10026"]
[null,1666,5,270007,49,"55#2450",3,"14#6361200|65#10602"]
[null,1667,5,270007,50,"55#2500",3,"14#6706800|65#11178"]
[null,1668,5,270007,51,"55#2550",3,"14#7398000|65#12330"]
[null,1669,5,270007,52,"55#2600",3,"14#8089200|65#13482"]
[null,1670,5,270007,53,"55#2650",3,"14#8780400|65#14634"]
[null,1671,5,270007,54,"55#2700",3,"14#9471600|65#15786"]
[null,1672,5,270007,55,"55#2750",3,"14#10162800|65#16938"]
[null,1673,5,270007,56,"55#2800",3,"14#10854000|65#18090"]
[null,1674,5,270007,57,"55#2850",3,"14#11545200|65#19242"]
[null,1675,5,270007,58,"55#2900",3,"14#12236400|65#20394"]
[null,1676,5,270007,59,"55#2950",3,"14#12927600|65#21546"]
[null,1677,5,270007,60,"55#3000",3,"14#13618800|65#22698"]
[null,1678,5,270007,61,"55#3050",3,"14#15001200|65#25002"]
[null,1679,5,270007,62,"55#3100",3,"14#16383600|65#27306"]
[null,1680,5,270007,63,"55#3150",3,"14#17766000|65#29610"]
[null,1681,5,270007,64,"55#3200",3,"14#19148400|65#31914"]
[null,1682,5,270007,65,"55#3250",3,"14#20530800|65#34218"]
[null,1683,5,270007,66,"55#3300",3,"14#21913200|65#36522"]
[null,1684,5,270007,67,"55#3350",3,"14#23295600|65#38826"]
[null,1685,5,270007,68,"55#3400",3,"14#24678000|65#41130"]
[null,1686,5,270007,69,"55#3450",3,"14#26060400|65#43434"]
[null,1687,5,270007,70,"55#3500",3,"14#27442800|65#45738"]
[null,1688,5,270007,71,"55#3550",3,"14#30207600|65#50346"]
[null,1689,5,270007,72,"55#3600",3,"14#32972400|65#54954"]
[null,1690,5,270007,73,"55#3650",3,"14#35737200|65#59562"]
[null,1691,5,270007,74,"55#3700",3,"14#38502000|65#64170"]
[null,1692,5,270007,75,"55#3750",3,"14#41266800|65#68778"]
[null,1693,5,270007,76,"55#3800",3,"14#44031600|65#73386"]
[null,1694,5,270007,77,"55#3850",3,"14#46796400|65#77994"]
[null,1695,5,270007,78,"55#3900",3,"14#49561200|65#82602"]
[null,1696,5,270007,79,"55#3950",3,"14#52326000|65#87210"]
[null,1697,5,270007,80,"55#4000",3,"14#55090800|65#91818"]
[null,1698,5,270007,81,"55#4050",3,"14#60620400|65#101034"]
[null,1699,5,270007,82,"55#4100",3,"14#66150000|65#110250"]
[null,1700,5,270007,83,"55#4150",3,"14#71679600|65#119466"]
[null,1701,5,270007,84,"55#4200",3,"14#77209200|65#128682"]
[null,1702,5,270007,85,"55#4250",3,"14#82738800|65#137898"]
[null,1703,5,270007,86,"55#4300",3,"14#88268400|65#147114"]
[null,1704,5,270007,87,"55#4350",3,"14#93798000|65#156330"]
[null,1705,5,270007,88,"55#4400",3,"14#99327600|65#165546"]
[null,1706,5,270007,89,"55#4450",3,"14#104857200|65#174762"]
[null,1707,5,270007,90,"55#4500",3,"14#110386800|65#183978"]
[null,1708,5,270007,91,"55#4550",3,"14#121446000|65#202410"]
[null,1709,5,270007,92,"55#4600",3,"14#132505200|65#220842"]
[null,1710,5,270007,93,"55#4650",3,"14#143564400|65#239274"]
[null,1711,5,270007,94,"55#4700",3,"14#154623600|65#257706"]
[null,1712,5,270007,95,"55#4750",3,"14#165682800|65#276138"]
[null,1713,5,270007,96,"55#4800",3,"14#176742000|65#294570"]
[null,1714,5,270007,97,"55#4850",3,"14#187801200|65#313002"]
[null,1715,5,270007,98,"55#4900",3,"14#198860400|65#331434"]
[null,1716,5,270007,99,"55#4950",3,"14#209919600|65#349866"]
[null,1717,5,270007,100,"55#5000",3]
[null,1718,6,270010,0,"56#0",3,"14#12000|65#20"]
[null,1719,6,270010,1,"56#50",3,"14#36000|65#60"]
[null,1720,6,270010,2,"56#100",3,"14#60000|65#100"]
[null,1721,6,270010,3,"56#150",3,"14#84000|65#140"]
[null,1722,6,270010,4,"56#200",3,"14#108000|65#180"]
[null,1723,6,270010,5,"56#250",3,"14#132000|65#220"]
[null,1724,6,270010,6,"56#300",3,"14#156000|65#260"]
[null,1725,6,270010,7,"56#350",3,"14#180000|65#300"]
[null,1726,6,270010,8,"56#400",3,"14#204000|65#340"]
[null,1727,6,270010,9,"56#450",3,"14#228000|65#380"]
[null,1728,6,270010,10,"56#500",3,"14#252000|65#420"]
[null,1729,6,270010,11,"56#550",3,"14#300000|65#500"]
[null,1730,6,270010,12,"56#600",3,"14#348000|65#580"]
[null,1731,6,270010,13,"56#650",3,"14#396000|65#660"]
[null,1732,6,270010,14,"56#700",3,"14#444000|65#740"]
[null,1733,6,270010,15,"56#750",3,"14#492000|65#820"]
[null,1734,6,270010,16,"56#800",3,"14#540000|65#900"]
[null,1735,6,270010,17,"56#850",3,"14#588000|65#980"]
[null,1736,6,270010,18,"56#900",3,"14#636000|65#1060"]
[null,1737,6,270010,19,"56#950",3,"14#684000|65#1140"]
[null,1738,6,270010,20,"56#1000",3,"14#732000|65#1220"]
[null,1739,6,270010,21,"56#1050",3,"14#828000|65#1380"]
[null,1740,6,270010,22,"56#1100",3,"14#924000|65#1540"]
[null,1741,6,270010,23,"56#1150",3,"14#1020000|65#1700"]
[null,1742,6,270010,24,"56#1200",3,"14#1116000|65#1860"]
[null,1743,6,270010,25,"56#1250",3,"14#1212000|65#2020"]
[null,1744,6,270010,26,"56#1300",3,"14#1308000|65#2180"]
[null,1745,6,270010,27,"56#1350",3,"14#1404000|65#2340"]
[null,1746,6,270010,28,"56#1400",3,"14#1500000|65#2500"]
[null,1747,6,270010,29,"56#1450",3,"14#1596000|65#2660"]
[null,1748,6,270010,30,"56#1500",3,"14#1692000|65#2820"]
[null,1749,6,270010,31,"56#1550",3,"14#1884000|65#3140"]
[null,1750,6,270010,32,"56#1600",3,"14#2076000|65#3460"]
[null,1751,6,270010,33,"56#1650",3,"14#2268000|65#3780"]
[null,1752,6,270010,34,"56#1700",3,"14#2460000|65#4100"]
[null,1753,6,270010,35,"56#1750",3,"14#2652000|65#4420"]
[null,1754,6,270010,36,"56#1800",3,"14#2844000|65#4740"]
[null,1755,6,270010,37,"56#1850",3,"14#3036000|65#5060"]
[null,1756,6,270010,38,"56#1900",3,"14#3228000|65#5380"]
[null,1757,6,270010,39,"56#1950",3,"14#3420000|65#5700"]
[null,1758,6,270010,40,"56#2000",3,"14#3612000|65#6020"]
[null,1759,6,270010,41,"56#2050",3,"14#3996000|65#6660"]
[null,1760,6,270010,42,"56#2100",3,"14#4380000|65#7300"]
[null,1761,6,270010,43,"56#2150",3,"14#4764000|65#7940"]
[null,1762,6,270010,44,"56#2200",3,"14#5148000|65#8580"]
[null,1763,6,270010,45,"56#2250",3,"14#5532000|65#9220"]
[null,1764,6,270010,46,"56#2300",3,"14#5916000|65#9860"]
[null,1765,6,270010,47,"56#2350",3,"14#6300000|65#10500"]
[null,1766,6,270010,48,"56#2400",3,"14#6684000|65#11140"]
[null,1767,6,270010,49,"56#2450",3,"14#7068000|65#11780"]
[null,1768,6,270010,50,"56#2500",3,"14#7452000|65#12420"]
[null,1769,6,270010,51,"56#2550",3,"14#8220000|65#13700"]
[null,1770,6,270010,52,"56#2600",3,"14#8988000|65#14980"]
[null,1771,6,270010,53,"56#2650",3,"14#9756000|65#16260"]
[null,1772,6,270010,54,"56#2700",3,"14#10524000|65#17540"]
[null,1773,6,270010,55,"56#2750",3,"14#11292000|65#18820"]
[null,1774,6,270010,56,"56#2800",3,"14#12060000|65#20100"]
[null,1775,6,270010,57,"56#2850",3,"14#12828000|65#21380"]
[null,1776,6,270010,58,"56#2900",3,"14#13596000|65#22660"]
[null,1777,6,270010,59,"56#2950",3,"14#14364000|65#23940"]
[null,1778,6,270010,60,"56#3000",3,"14#15132000|65#25220"]
[null,1779,6,270010,61,"56#3050",3,"14#16668000|65#27780"]
[null,1780,6,270010,62,"56#3100",3,"14#18204000|65#30340"]
[null,1781,6,270010,63,"56#3150",3,"14#19740000|65#32900"]
[null,1782,6,270010,64,"56#3200",3,"14#21276000|65#35460"]
[null,1783,6,270010,65,"56#3250",3,"14#22812000|65#38020"]
[null,1784,6,270010,66,"56#3300",3,"14#24348000|65#40580"]
[null,1785,6,270010,67,"56#3350",3,"14#25884000|65#43140"]
[null,1786,6,270010,68,"56#3400",3,"14#27420000|65#45700"]
[null,1787,6,270010,69,"56#3450",3,"14#28956000|65#48260"]
[null,1788,6,270010,70,"56#3500",3,"14#30492000|65#50820"]
[null,1789,6,270010,71,"56#3550",3,"14#33564000|65#55940"]
[null,1790,6,270010,72,"56#3600",3,"14#36636000|65#61060"]
[null,1791,6,270010,73,"56#3650",3,"14#39708000|65#66180"]
[null,1792,6,270010,74,"56#3700",3,"14#42780000|65#71300"]
[null,1793,6,270010,75,"56#3750",3,"14#45852000|65#76420"]
[null,1794,6,270010,76,"56#3800",3,"14#48924000|65#81540"]
[null,1795,6,270010,77,"56#3850",3,"14#51996000|65#86660"]
[null,1796,6,270010,78,"56#3900",3,"14#55068000|65#91780"]
[null,1797,6,270010,79,"56#3950",3,"14#58140000|65#96900"]
[null,1798,6,270010,80,"56#4000",3,"14#61212000|65#102020"]
[null,1799,6,270010,81,"56#4050",3,"14#67356000|65#112260"]
[null,1800,6,270010,82,"56#4100",3,"14#73500000|65#122500"]
[null,1801,6,270010,83,"56#4150",3,"14#79644000|65#132740"]
[null,1802,6,270010,84,"56#4200",3,"14#85788000|65#142980"]
[null,1803,6,270010,85,"56#4250",3,"14#91932000|65#153220"]
[null,1804,6,270010,86,"56#4300",3,"14#98076000|65#163460"]
[null,1805,6,270010,87,"56#4350",3,"14#104220000|65#173700"]
[null,1806,6,270010,88,"56#4400",3,"14#110364000|65#183940"]
[null,1807,6,270010,89,"56#4450",3,"14#116508000|65#194180"]
[null,1808,6,270010,90,"56#4500",3,"14#122652000|65#204420"]
[null,1809,6,270010,91,"56#4550",3,"14#134940000|65#224900"]
[null,1810,6,270010,92,"56#4600",3,"14#147228000|65#245380"]
[null,1811,6,270010,93,"56#4650",3,"14#159516000|65#265860"]
[null,1812,6,270010,94,"56#4700",3,"14#171804000|65#286340"]
[null,1813,6,270010,95,"56#4750",3,"14#184092000|65#306820"]
[null,1814,6,270010,96,"56#4800",3,"14#196380000|65#327300"]
[null,1815,6,270010,97,"56#4850",3,"14#208668000|65#347780"]
[null,1816,6,270010,98,"56#4900",3,"14#220956000|65#368260"]
[null,1817,6,270010,99,"56#4950",3,"14#233244000|65#388740"]
[null,1818,6,270010,100,"56#5000",3]
[null,1819,1,270003,0,"61#0",4,"14#6000|65#10"]
[null,1820,1,270003,1,"61#50",4,"14#18000|65#30"]
[null,1821,1,270003,2,"61#100",4,"14#30000|65#50"]
[null,1822,1,270003,3,"61#150",4,"14#42000|65#70"]
[null,1823,1,270003,4,"61#200",4,"14#54000|65#90"]
[null,1824,1,270003,5,"61#250",4,"14#66000|65#110"]
[null,1825,1,270003,6,"61#300",4,"14#78000|65#130"]
[null,1826,1,270003,7,"61#350",4,"14#90000|65#150"]
[null,1827,1,270003,8,"61#400",4,"14#102000|65#170"]
[null,1828,1,270003,9,"61#450",4,"14#114000|65#190"]
[null,1829,1,270003,10,"61#500",4,"14#126000|65#210"]
[null,1830,1,270003,11,"61#550",4,"14#150000|65#250"]
[null,1831,1,270003,12,"61#600",4,"14#174000|65#290"]
[null,1832,1,270003,13,"61#650",4,"14#198000|65#330"]
[null,1833,1,270003,14,"61#700",4,"14#222000|65#370"]
[null,1834,1,270003,15,"61#750",4,"14#246000|65#410"]
[null,1835,1,270003,16,"61#800",4,"14#270000|65#450"]
[null,1836,1,270003,17,"61#850",4,"14#294000|65#490"]
[null,1837,1,270003,18,"61#900",4,"14#318000|65#530"]
[null,1838,1,270003,19,"61#950",4,"14#342000|65#570"]
[null,1839,1,270003,20,"61#1000",4,"14#366000|65#610"]
[null,1840,1,270003,21,"61#1050",4,"14#414000|65#690"]
[null,1841,1,270003,22,"61#1100",4,"14#462000|65#770"]
[null,1842,1,270003,23,"61#1150",4,"14#510000|65#850"]
[null,1843,1,270003,24,"61#1200",4,"14#558000|65#930"]
[null,1844,1,270003,25,"61#1250",4,"14#606000|65#1010"]
[null,1845,1,270003,26,"61#1300",4,"14#654000|65#1090"]
[null,1846,1,270003,27,"61#1350",4,"14#702000|65#1170"]
[null,1847,1,270003,28,"61#1400",4,"14#750000|65#1250"]
[null,1848,1,270003,29,"61#1450",4,"14#798000|65#1330"]
[null,1849,1,270003,30,"61#1500",4,"14#846000|65#1410"]
[null,1850,1,270003,31,"61#1550",4,"14#942000|65#1570"]
[null,1851,1,270003,32,"61#1600",4,"14#1038000|65#1730"]
[null,1852,1,270003,33,"61#1650",4,"14#1134000|65#1890"]
[null,1853,1,270003,34,"61#1700",4,"14#1230000|65#2050"]
[null,1854,1,270003,35,"61#1750",4,"14#1326000|65#2210"]
[null,1855,1,270003,36,"61#1800",4,"14#1422000|65#2370"]
[null,1856,1,270003,37,"61#1850",4,"14#1518000|65#2530"]
[null,1857,1,270003,38,"61#1900",4,"14#1614000|65#2690"]
[null,1858,1,270003,39,"61#1950",4,"14#1710000|65#2850"]
[null,1859,1,270003,40,"61#2000",4,"14#1806000|65#3010"]
[null,1860,1,270003,41,"61#2050",4,"14#1998000|65#3330"]
[null,1861,1,270003,42,"61#2100",4,"14#2190000|65#3650"]
[null,1862,1,270003,43,"61#2150",4,"14#2382000|65#3970"]
[null,1863,1,270003,44,"61#2200",4,"14#2574000|65#4290"]
[null,1864,1,270003,45,"61#2250",4,"14#2766000|65#4610"]
[null,1865,1,270003,46,"61#2300",4,"14#2958000|65#4930"]
[null,1866,1,270003,47,"61#2350",4,"14#3150000|65#5250"]
[null,1867,1,270003,48,"61#2400",4,"14#3342000|65#5570"]
[null,1868,1,270003,49,"61#2450",4,"14#3534000|65#5890"]
[null,1869,1,270003,50,"61#2500",4,"14#3726000|65#6210"]
[null,1870,1,270003,51,"61#2550",4,"14#4110000|65#6850"]
[null,1871,1,270003,52,"61#2600",4,"14#4494000|65#7490"]
[null,1872,1,270003,53,"61#2650",4,"14#4878000|65#8130"]
[null,1873,1,270003,54,"61#2700",4,"14#5262000|65#8770"]
[null,1874,1,270003,55,"61#2750",4,"14#5646000|65#9410"]
[null,1875,1,270003,56,"61#2800",4,"14#6030000|65#10050"]
[null,1876,1,270003,57,"61#2850",4,"14#6414000|65#10690"]
[null,1877,1,270003,58,"61#2900",4,"14#6798000|65#11330"]
[null,1878,1,270003,59,"61#2950",4,"14#7182000|65#11970"]
[null,1879,1,270003,60,"61#3000",4,"14#7566000|65#12610"]
[null,1880,1,270003,61,"61#3050",4,"14#8334000|65#13890"]
[null,1881,1,270003,62,"61#3100",4,"14#9102000|65#15170"]
[null,1882,1,270003,63,"61#3150",4,"14#9870000|65#16450"]
[null,1883,1,270003,64,"61#3200",4,"14#10638000|65#17730"]
[null,1884,1,270003,65,"61#3250",4,"14#11406000|65#19010"]
[null,1885,1,270003,66,"61#3300",4,"14#12174000|65#20290"]
[null,1886,1,270003,67,"61#3350",4,"14#12942000|65#21570"]
[null,1887,1,270003,68,"61#3400",4,"14#13710000|65#22850"]
[null,1888,1,270003,69,"61#3450",4,"14#14478000|65#24130"]
[null,1889,1,270003,70,"61#3500",4,"14#15246000|65#25410"]
[null,1890,1,270003,71,"61#3550",4,"14#16782000|65#27970"]
[null,1891,1,270003,72,"61#3600",4,"14#18318000|65#30530"]
[null,1892,1,270003,73,"61#3650",4,"14#19854000|65#33090"]
[null,1893,1,270003,74,"61#3700",4,"14#21390000|65#35650"]
[null,1894,1,270003,75,"61#3750",4,"14#22926000|65#38210"]
[null,1895,1,270003,76,"61#3800",4,"14#24462000|65#40770"]
[null,1896,1,270003,77,"61#3850",4,"14#25998000|65#43330"]
[null,1897,1,270003,78,"61#3900",4,"14#27534000|65#45890"]
[null,1898,1,270003,79,"61#3950",4,"14#29070000|65#48450"]
[null,1899,1,270003,80,"61#4000",4,"14#30606000|65#51010"]
[null,1900,1,270003,81,"61#4050",4,"14#33678000|65#56130"]
[null,1901,1,270003,82,"61#4100",4,"14#36750000|65#61250"]
[null,1902,1,270003,83,"61#4150",4,"14#39822000|65#66370"]
[null,1903,1,270003,84,"61#4200",4,"14#42894000|65#71490"]
[null,1904,1,270003,85,"61#4250",4,"14#45966000|65#76610"]
[null,1905,1,270003,86,"61#4300",4,"14#49038000|65#81730"]
[null,1906,1,270003,87,"61#4350",4,"14#52110000|65#86850"]
[null,1907,1,270003,88,"61#4400",4,"14#55182000|65#91970"]
[null,1908,1,270003,89,"61#4450",4,"14#58254000|65#97090"]
[null,1909,1,270003,90,"61#4500",4,"14#61326000|65#102210"]
[null,1910,1,270003,91,"61#4550",4,"14#67470000|65#112450"]
[null,1911,1,270003,92,"61#4600",4,"14#73614000|65#122690"]
[null,1912,1,270003,93,"61#4650",4,"14#79758000|65#132930"]
[null,1913,1,270003,94,"61#4700",4,"14#85902000|65#143170"]
[null,1914,1,270003,95,"61#4750",4,"14#92046000|65#153410"]
[null,1915,1,270003,96,"61#4800",4,"14#98190000|65#163650"]
[null,1916,1,270003,97,"61#4850",4,"14#104334000|65#173890"]
[null,1917,1,270003,98,"61#4900",4,"14#110478000|65#184130"]
[null,1918,1,270003,99,"61#4950",4,"14#116622000|65#194370"]
[null,1919,1,270003,100,"61#5000",4]
[null,1920,2,270004,0,"62#0",4,"14#7200|65#12"]
[null,1921,2,270004,1,"62#50",4,"14#21600|65#36"]
[null,1922,2,270004,2,"62#100",4,"14#36000|65#60"]
[null,1923,2,270004,3,"62#150",4,"14#50400|65#84"]
[null,1924,2,270004,4,"62#200",4,"14#64800|65#108"]
[null,1925,2,270004,5,"62#250",4,"14#79200|65#132"]
[null,1926,2,270004,6,"62#300",4,"14#93600|65#156"]
[null,1927,2,270004,7,"62#350",4,"14#108000|65#180"]
[null,1928,2,270004,8,"62#400",4,"14#122400|65#204"]
[null,1929,2,270004,9,"62#450",4,"14#136800|65#228"]
[null,1930,2,270004,10,"62#500",4,"14#151200|65#252"]
[null,1931,2,270004,11,"62#550",4,"14#180000|65#300"]
[null,1932,2,270004,12,"62#600",4,"14#208800|65#348"]
[null,1933,2,270004,13,"62#650",4,"14#237600|65#396"]
[null,1934,2,270004,14,"62#700",4,"14#266400|65#444"]
[null,1935,2,270004,15,"62#750",4,"14#295200|65#492"]
[null,1936,2,270004,16,"62#800",4,"14#324000|65#540"]
[null,1937,2,270004,17,"62#850",4,"14#352800|65#588"]
[null,1938,2,270004,18,"62#900",4,"14#381600|65#636"]
[null,1939,2,270004,19,"62#950",4,"14#410400|65#684"]
[null,1940,2,270004,20,"62#1000",4,"14#439200|65#732"]
[null,1941,2,270004,21,"62#1050",4,"14#496800|65#828"]
[null,1942,2,270004,22,"62#1100",4,"14#554400|65#924"]
[null,1943,2,270004,23,"62#1150",4,"14#612000|65#1020"]
[null,1944,2,270004,24,"62#1200",4,"14#669600|65#1116"]
[null,1945,2,270004,25,"62#1250",4,"14#727200|65#1212"]
[null,1946,2,270004,26,"62#1300",4,"14#784800|65#1308"]
[null,1947,2,270004,27,"62#1350",4,"14#842400|65#1404"]
[null,1948,2,270004,28,"62#1400",4,"14#900000|65#1500"]
[null,1949,2,270004,29,"62#1450",4,"14#957600|65#1596"]
[null,1950,2,270004,30,"62#1500",4,"14#1015200|65#1692"]
[null,1951,2,270004,31,"62#1550",4,"14#1130400|65#1884"]
[null,1952,2,270004,32,"62#1600",4,"14#1245600|65#2076"]
[null,1953,2,270004,33,"62#1650",4,"14#1360800|65#2268"]
[null,1954,2,270004,34,"62#1700",4,"14#1476000|65#2460"]
[null,1955,2,270004,35,"62#1750",4,"14#1591200|65#2652"]
[null,1956,2,270004,36,"62#1800",4,"14#1706400|65#2844"]
[null,1957,2,270004,37,"62#1850",4,"14#1821600|65#3036"]
[null,1958,2,270004,38,"62#1900",4,"14#1936800|65#3228"]
[null,1959,2,270004,39,"62#1950",4,"14#2052000|65#3420"]
[null,1960,2,270004,40,"62#2000",4,"14#2167200|65#3612"]
[null,1961,2,270004,41,"62#2050",4,"14#2397600|65#3996"]
[null,1962,2,270004,42,"62#2100",4,"14#2628000|65#4380"]
[null,1963,2,270004,43,"62#2150",4,"14#2858400|65#4764"]
[null,1964,2,270004,44,"62#2200",4,"14#3088800|65#5148"]
[null,1965,2,270004,45,"62#2250",4,"14#3319200|65#5532"]
[null,1966,2,270004,46,"62#2300",4,"14#3549600|65#5916"]
[null,1967,2,270004,47,"62#2350",4,"14#3780000|65#6300"]
[null,1968,2,270004,48,"62#2400",4,"14#4010400|65#6684"]
[null,1969,2,270004,49,"62#2450",4,"14#4240800|65#7068"]
[null,1970,2,270004,50,"62#2500",4,"14#4471200|65#7452"]
[null,1971,2,270004,51,"62#2550",4,"14#4932000|65#8220"]
[null,1972,2,270004,52,"62#2600",4,"14#5392800|65#8988"]
[null,1973,2,270004,53,"62#2650",4,"14#5853600|65#9756"]
[null,1974,2,270004,54,"62#2700",4,"14#6314400|65#10524"]
[null,1975,2,270004,55,"62#2750",4,"14#6775200|65#11292"]
[null,1976,2,270004,56,"62#2800",4,"14#7236000|65#12060"]
[null,1977,2,270004,57,"62#2850",4,"14#7696800|65#12828"]
[null,1978,2,270004,58,"62#2900",4,"14#8157600|65#13596"]
[null,1979,2,270004,59,"62#2950",4,"14#8618400|65#14364"]
[null,1980,2,270004,60,"62#3000",4,"14#9079200|65#15132"]
[null,1981,2,270004,61,"62#3050",4,"14#10000800|65#16668"]
[null,1982,2,270004,62,"62#3100",4,"14#10922400|65#18204"]
[null,1983,2,270004,63,"62#3150",4,"14#11844000|65#19740"]
[null,1984,2,270004,64,"62#3200",4,"14#12765600|65#21276"]
[null,1985,2,270004,65,"62#3250",4,"14#13687200|65#22812"]
[null,1986,2,270004,66,"62#3300",4,"14#14608800|65#24348"]
[null,1987,2,270004,67,"62#3350",4,"14#15530400|65#25884"]
[null,1988,2,270004,68,"62#3400",4,"14#16452000|65#27420"]
[null,1989,2,270004,69,"62#3450",4,"14#17373600|65#28956"]
[null,1990,2,270004,70,"62#3500",4,"14#18295200|65#30492"]
[null,1991,2,270004,71,"62#3550",4,"14#20138400|65#33564"]
[null,1992,2,270004,72,"62#3600",4,"14#21981600|65#36636"]
[null,1993,2,270004,73,"62#3650",4,"14#23824800|65#39708"]
[null,1994,2,270004,74,"62#3700",4,"14#25668000|65#42780"]
[null,1995,2,270004,75,"62#3750",4,"14#27511200|65#45852"]
[null,1996,2,270004,76,"62#3800",4,"14#29354400|65#48924"]
[null,1997,2,270004,77,"62#3850",4,"14#31197600|65#51996"]
[null,1998,2,270004,78,"62#3900",4,"14#33040800|65#55068"]
[null,1999,2,270004,79,"62#3950",4,"14#34884000|65#58140"]
[null,2000,2,270004,80,"62#4000",4,"14#36727200|65#61212"]
[null,2001,2,270004,81,"62#4050",4,"14#40413600|65#67356"]
[null,2002,2,270004,82,"62#4100",4,"14#44100000|65#73500"]
[null,2003,2,270004,83,"62#4150",4,"14#47786400|65#79644"]
[null,2004,2,270004,84,"62#4200",4,"14#51472800|65#85788"]
[null,2005,2,270004,85,"62#4250",4,"14#55159200|65#91932"]
[null,2006,2,270004,86,"62#4300",4,"14#58845600|65#98076"]
[null,2007,2,270004,87,"62#4350",4,"14#62532000|65#104220"]
[null,2008,2,270004,88,"62#4400",4,"14#66218400|65#110364"]
[null,2009,2,270004,89,"62#4450",4,"14#69904800|65#116508"]
[null,2010,2,270004,90,"62#4500",4,"14#73591200|65#122652"]
[null,2011,2,270004,91,"62#4550",4,"14#80964000|65#134940"]
[null,2012,2,270004,92,"62#4600",4,"14#88336800|65#147228"]
[null,2013,2,270004,93,"62#4650",4,"14#95709600|65#159516"]
[null,2014,2,270004,94,"62#4700",4,"14#103082400|65#171804"]
[null,2015,2,270004,95,"62#4750",4,"14#110455200|65#184092"]
[null,2016,2,270004,96,"62#4800",4,"14#117828000|65#196380"]
[null,2017,2,270004,97,"62#4850",4,"14#125200800|65#208668"]
[null,2018,2,270004,98,"62#4900",4,"14#132573600|65#220956"]
[null,2019,2,270004,99,"62#4950",4,"14#139946400|65#233244"]
[null,2020,2,270004,100,"62#5000",4]
[null,2021,3,270005,0,"51#0",4,"14#8400|65#14"]
[null,2022,3,270005,1,"51#50",4,"14#25200|65#42"]
[null,2023,3,270005,2,"51#100",4,"14#42000|65#70"]
[null,2024,3,270005,3,"51#150",4,"14#58800|65#98"]
[null,2025,3,270005,4,"51#200",4,"14#75600|65#126"]
[null,2026,3,270005,5,"51#250",4,"14#92400|65#154"]
[null,2027,3,270005,6,"51#300",4,"14#109200|65#182"]
[null,2028,3,270005,7,"51#350",4,"14#126000|65#210"]
[null,2029,3,270005,8,"51#400",4,"14#142800|65#238"]
[null,2030,3,270005,9,"51#450",4,"14#159600|65#266"]
[null,2031,3,270005,10,"51#500",4,"14#176400|65#294"]
[null,2032,3,270005,11,"51#550",4,"14#210000|65#350"]
[null,2033,3,270005,12,"51#600",4,"14#243600|65#406"]
[null,2034,3,270005,13,"51#650",4,"14#277200|65#462"]
[null,2035,3,270005,14,"51#700",4,"14#310800|65#518"]
[null,2036,3,270005,15,"51#750",4,"14#344400|65#574"]
[null,2037,3,270005,16,"51#800",4,"14#378000|65#630"]
[null,2038,3,270005,17,"51#850",4,"14#411600|65#686"]
[null,2039,3,270005,18,"51#900",4,"14#445200|65#742"]
[null,2040,3,270005,19,"51#950",4,"14#478800|65#798"]
[null,2041,3,270005,20,"51#1000",4,"14#512400|65#854"]
[null,2042,3,270005,21,"51#1050",4,"14#579600|65#966"]
[null,2043,3,270005,22,"51#1100",4,"14#646800|65#1078"]
[null,2044,3,270005,23,"51#1150",4,"14#714000|65#1190"]
[null,2045,3,270005,24,"51#1200",4,"14#781200|65#1302"]
[null,2046,3,270005,25,"51#1250",4,"14#848400|65#1414"]
[null,2047,3,270005,26,"51#1300",4,"14#915600|65#1526"]
[null,2048,3,270005,27,"51#1350",4,"14#982800|65#1638"]
[null,2049,3,270005,28,"51#1400",4,"14#1050000|65#1750"]
[null,2050,3,270005,29,"51#1450",4,"14#1117200|65#1862"]
[null,2051,3,270005,30,"51#1500",4,"14#1184400|65#1974"]
[null,2052,3,270005,31,"51#1550",4,"14#1318800|65#2198"]
[null,2053,3,270005,32,"51#1600",4,"14#1453200|65#2422"]
[null,2054,3,270005,33,"51#1650",4,"14#1587600|65#2646"]
[null,2055,3,270005,34,"51#1700",4,"14#1722000|65#2870"]
[null,2056,3,270005,35,"51#1750",4,"14#1856400|65#3094"]
[null,2057,3,270005,36,"51#1800",4,"14#1990800|65#3318"]
[null,2058,3,270005,37,"51#1850",4,"14#2125200|65#3542"]
[null,2059,3,270005,38,"51#1900",4,"14#2259600|65#3766"]
[null,2060,3,270005,39,"51#1950",4,"14#2394000|65#3990"]
[null,2061,3,270005,40,"51#2000",4,"14#2528400|65#4214"]
[null,2062,3,270005,41,"51#2050",4,"14#2797200|65#4662"]
[null,2063,3,270005,42,"51#2100",4,"14#3066000|65#5110"]
[null,2064,3,270005,43,"51#2150",4,"14#3334800|65#5558"]
[null,2065,3,270005,44,"51#2200",4,"14#3603600|65#6006"]
[null,2066,3,270005,45,"51#2250",4,"14#3872400|65#6454"]
[null,2067,3,270005,46,"51#2300",4,"14#4141200|65#6902"]
[null,2068,3,270005,47,"51#2350",4,"14#4410000|65#7350"]
[null,2069,3,270005,48,"51#2400",4,"14#4678800|65#7798"]
[null,2070,3,270005,49,"51#2450",4,"14#4947600|65#8246"]
[null,2071,3,270005,50,"51#2500",4,"14#5216400|65#8694"]
[null,2072,3,270005,51,"51#2550",4,"14#5754000|65#9590"]
[null,2073,3,270005,52,"51#2600",4,"14#6291600|65#10486"]
[null,2074,3,270005,53,"51#2650",4,"14#6829200|65#11382"]
[null,2075,3,270005,54,"51#2700",4,"14#7366800|65#12278"]
[null,2076,3,270005,55,"51#2750",4,"14#7904400|65#13174"]
[null,2077,3,270005,56,"51#2800",4,"14#8442000|65#14070"]
[null,2078,3,270005,57,"51#2850",4,"14#8979600|65#14966"]
[null,2079,3,270005,58,"51#2900",4,"14#9517200|65#15862"]
[null,2080,3,270005,59,"51#2950",4,"14#10054800|65#16758"]
[null,2081,3,270005,60,"51#3000",4,"14#10592400|65#17654"]
[null,2082,3,270005,61,"51#3050",4,"14#11667600|65#19446"]
[null,2083,3,270005,62,"51#3100",4,"14#12742800|65#21238"]
[null,2084,3,270005,63,"51#3150",4,"14#13818000|65#23030"]
[null,2085,3,270005,64,"51#3200",4,"14#14893200|65#24822"]
[null,2086,3,270005,65,"51#3250",4,"14#15968400|65#26614"]
[null,2087,3,270005,66,"51#3300",4,"14#17043600|65#28406"]
[null,2088,3,270005,67,"51#3350",4,"14#18118800|65#30198"]
[null,2089,3,270005,68,"51#3400",4,"14#19194000|65#31990"]
[null,2090,3,270005,69,"51#3450",4,"14#20269200|65#33782"]
[null,2091,3,270005,70,"51#3500",4,"14#21344400|65#35574"]
[null,2092,3,270005,71,"51#3550",4,"14#23494800|65#39158"]
[null,2093,3,270005,72,"51#3600",4,"14#25645200|65#42742"]
[null,2094,3,270005,73,"51#3650",4,"14#27795600|65#46326"]
[null,2095,3,270005,74,"51#3700",4,"14#29946000|65#49910"]
[null,2096,3,270005,75,"51#3750",4,"14#32096400|65#53494"]
[null,2097,3,270005,76,"51#3800",4,"14#34246800|65#57078"]
[null,2098,3,270005,77,"51#3850",4,"14#36397200|65#60662"]
[null,2099,3,270005,78,"51#3900",4,"14#38547600|65#64246"]
[null,2100,3,270005,79,"51#3950",4,"14#40698000|65#67830"]
[null,2101,3,270005,80,"51#4000",4,"14#42848400|65#71414"]
[null,2102,3,270005,81,"51#4050",4,"14#47149200|65#78582"]
[null,2103,3,270005,82,"51#4100",4,"14#51450000|65#85750"]
[null,2104,3,270005,83,"51#4150",4,"14#55750800|65#92918"]
[null,2105,3,270005,84,"51#4200",4,"14#60051600|65#100086"]
[null,2106,3,270005,85,"51#4250",4,"14#64352400|65#107254"]
[null,2107,3,270005,86,"51#4300",4,"14#68653200|65#114422"]
[null,2108,3,270005,87,"51#4350",4,"14#72954000|65#121590"]
[null,2109,3,270005,88,"51#4400",4,"14#77254800|65#128758"]
[null,2110,3,270005,89,"51#4450",4,"14#81555600|65#135926"]
[null,2111,3,270005,90,"51#4500",4,"14#85856400|65#143094"]
[null,2112,3,270005,91,"51#4550",4,"14#94458000|65#157430"]
[null,2113,3,270005,92,"51#4600",4,"14#103059600|65#171766"]
[null,2114,3,270005,93,"51#4650",4,"14#111661200|65#186102"]
[null,2115,3,270005,94,"51#4700",4,"14#120262800|65#200438"]
[null,2116,3,270005,95,"51#4750",4,"14#128864400|65#214774"]
[null,2117,3,270005,96,"51#4800",4,"14#137466000|65#229110"]
[null,2118,3,270005,97,"51#4850",4,"14#146067600|65#243446"]
[null,2119,3,270005,98,"51#4900",4,"14#154669200|65#257782"]
[null,2120,3,270005,99,"51#4950",4,"14#163270800|65#272118"]
[null,2121,3,270005,100,"51#5000",4]
[null,2122,4,270006,0,"52#0",4,"14#9600|65#16"]
[null,2123,4,270006,1,"52#50",4,"14#28800|65#48"]
[null,2124,4,270006,2,"52#100",4,"14#48000|65#80"]
[null,2125,4,270006,3,"52#150",4,"14#67200|65#112"]
[null,2126,4,270006,4,"52#200",4,"14#86400|65#144"]
[null,2127,4,270006,5,"52#250",4,"14#105600|65#176"]
[null,2128,4,270006,6,"52#300",4,"14#124800|65#208"]
[null,2129,4,270006,7,"52#350",4,"14#144000|65#240"]
[null,2130,4,270006,8,"52#400",4,"14#163200|65#272"]
[null,2131,4,270006,9,"52#450",4,"14#182400|65#304"]
[null,2132,4,270006,10,"52#500",4,"14#201600|65#336"]
[null,2133,4,270006,11,"52#550",4,"14#240000|65#400"]
[null,2134,4,270006,12,"52#600",4,"14#278400|65#464"]
[null,2135,4,270006,13,"52#650",4,"14#316800|65#528"]
[null,2136,4,270006,14,"52#700",4,"14#355200|65#592"]
[null,2137,4,270006,15,"52#750",4,"14#393600|65#656"]
[null,2138,4,270006,16,"52#800",4,"14#432000|65#720"]
[null,2139,4,270006,17,"52#850",4,"14#470400|65#784"]
[null,2140,4,270006,18,"52#900",4,"14#508800|65#848"]
[null,2141,4,270006,19,"52#950",4,"14#547200|65#912"]
[null,2142,4,270006,20,"52#1000",4,"14#585600|65#976"]
[null,2143,4,270006,21,"52#1050",4,"14#662400|65#1104"]
[null,2144,4,270006,22,"52#1100",4,"14#739200|65#1232"]
[null,2145,4,270006,23,"52#1150",4,"14#816000|65#1360"]
[null,2146,4,270006,24,"52#1200",4,"14#892800|65#1488"]
[null,2147,4,270006,25,"52#1250",4,"14#969600|65#1616"]
[null,2148,4,270006,26,"52#1300",4,"14#1046400|65#1744"]
[null,2149,4,270006,27,"52#1350",4,"14#1123200|65#1872"]
[null,2150,4,270006,28,"52#1400",4,"14#1200000|65#2000"]
[null,2151,4,270006,29,"52#1450",4,"14#1276800|65#2128"]
[null,2152,4,270006,30,"52#1500",4,"14#1353600|65#2256"]
[null,2153,4,270006,31,"52#1550",4,"14#1507200|65#2512"]
[null,2154,4,270006,32,"52#1600",4,"14#1660800|65#2768"]
[null,2155,4,270006,33,"52#1650",4,"14#1814400|65#3024"]
[null,2156,4,270006,34,"52#1700",4,"14#1968000|65#3280"]
[null,2157,4,270006,35,"52#1750",4,"14#2121600|65#3536"]
[null,2158,4,270006,36,"52#1800",4,"14#2275200|65#3792"]
[null,2159,4,270006,37,"52#1850",4,"14#2428800|65#4048"]
[null,2160,4,270006,38,"52#1900",4,"14#2582400|65#4304"]
[null,2161,4,270006,39,"52#1950",4,"14#2736000|65#4560"]
[null,2162,4,270006,40,"52#2000",4,"14#2889600|65#4816"]
[null,2163,4,270006,41,"52#2050",4,"14#3196800|65#5328"]
[null,2164,4,270006,42,"52#2100",4,"14#3504000|65#5840"]
[null,2165,4,270006,43,"52#2150",4,"14#3811200|65#6352"]
[null,2166,4,270006,44,"52#2200",4,"14#4118400|65#6864"]
[null,2167,4,270006,45,"52#2250",4,"14#4425600|65#7376"]
[null,2168,4,270006,46,"52#2300",4,"14#4732800|65#7888"]
[null,2169,4,270006,47,"52#2350",4,"14#5040000|65#8400"]
[null,2170,4,270006,48,"52#2400",4,"14#5347200|65#8912"]
[null,2171,4,270006,49,"52#2450",4,"14#5654400|65#9424"]
[null,2172,4,270006,50,"52#2500",4,"14#5961600|65#9936"]
[null,2173,4,270006,51,"52#2550",4,"14#6576000|65#10960"]
[null,2174,4,270006,52,"52#2600",4,"14#7190400|65#11984"]
[null,2175,4,270006,53,"52#2650",4,"14#7804800|65#13008"]
[null,2176,4,270006,54,"52#2700",4,"14#8419200|65#14032"]
[null,2177,4,270006,55,"52#2750",4,"14#9033600|65#15056"]
[null,2178,4,270006,56,"52#2800",4,"14#9648000|65#16080"]
[null,2179,4,270006,57,"52#2850",4,"14#10262400|65#17104"]
[null,2180,4,270006,58,"52#2900",4,"14#10876800|65#18128"]
[null,2181,4,270006,59,"52#2950",4,"14#11491200|65#19152"]
[null,2182,4,270006,60,"52#3000",4,"14#12105600|65#20176"]
[null,2183,4,270006,61,"52#3050",4,"14#13334400|65#22224"]
[null,2184,4,270006,62,"52#3100",4,"14#14563200|65#24272"]
[null,2185,4,270006,63,"52#3150",4,"14#15792000|65#26320"]
[null,2186,4,270006,64,"52#3200",4,"14#17020800|65#28368"]
[null,2187,4,270006,65,"52#3250",4,"14#18249600|65#30416"]
[null,2188,4,270006,66,"52#3300",4,"14#19478400|65#32464"]
[null,2189,4,270006,67,"52#3350",4,"14#20707200|65#34512"]
[null,2190,4,270006,68,"52#3400",4,"14#21936000|65#36560"]
[null,2191,4,270006,69,"52#3450",4,"14#23164800|65#38608"]
[null,2192,4,270006,70,"52#3500",4,"14#24393600|65#40656"]
[null,2193,4,270006,71,"52#3550",4,"14#26851200|65#44752"]
[null,2194,4,270006,72,"52#3600",4,"14#29308800|65#48848"]
[null,2195,4,270006,73,"52#3650",4,"14#31766400|65#52944"]
[null,2196,4,270006,74,"52#3700",4,"14#34224000|65#57040"]
[null,2197,4,270006,75,"52#3750",4,"14#36681600|65#61136"]
[null,2198,4,270006,76,"52#3800",4,"14#39139200|65#65232"]
[null,2199,4,270006,77,"52#3850",4,"14#41596800|65#69328"]
[null,2200,4,270006,78,"52#3900",4,"14#44054400|65#73424"]
[null,2201,4,270006,79,"52#3950",4,"14#46512000|65#77520"]
[null,2202,4,270006,80,"52#4000",4,"14#48969600|65#81616"]
[null,2203,4,270006,81,"52#4050",4,"14#53884800|65#89808"]
[null,2204,4,270006,82,"52#4100",4,"14#58800000|65#98000"]
[null,2205,4,270006,83,"52#4150",4,"14#63715200|65#106192"]
[null,2206,4,270006,84,"52#4200",4,"14#68630400|65#114384"]
[null,2207,4,270006,85,"52#4250",4,"14#73545600|65#122576"]
[null,2208,4,270006,86,"52#4300",4,"14#78460800|65#130768"]
[null,2209,4,270006,87,"52#4350",4,"14#83376000|65#138960"]
[null,2210,4,270006,88,"52#4400",4,"14#88291200|65#147152"]
[null,2211,4,270006,89,"52#4450",4,"14#93206400|65#155344"]
[null,2212,4,270006,90,"52#4500",4,"14#98121600|65#163536"]
[null,2213,4,270006,91,"52#4550",4,"14#107952000|65#179920"]
[null,2214,4,270006,92,"52#4600",4,"14#117782400|65#196304"]
[null,2215,4,270006,93,"52#4650",4,"14#127612800|65#212688"]
[null,2216,4,270006,94,"52#4700",4,"14#137443200|65#229072"]
[null,2217,4,270006,95,"52#4750",4,"14#147273600|65#245456"]
[null,2218,4,270006,96,"52#4800",4,"14#157104000|65#261840"]
[null,2219,4,270006,97,"52#4850",4,"14#166934400|65#278224"]
[null,2220,4,270006,98,"52#4900",4,"14#176764800|65#294608"]
[null,2221,4,270006,99,"52#4950",4,"14#186595200|65#310992"]
[null,2222,4,270006,100,"52#5000",4]
[null,2223,5,270007,0,"55#0",4,"14#10800|65#18"]
[null,2224,5,270007,1,"55#50",4,"14#32400|65#54"]
[null,2225,5,270007,2,"55#100",4,"14#54000|65#90"]
[null,2226,5,270007,3,"55#150",4,"14#75600|65#126"]
[null,2227,5,270007,4,"55#200",4,"14#97200|65#162"]
[null,2228,5,270007,5,"55#250",4,"14#118800|65#198"]
[null,2229,5,270007,6,"55#300",4,"14#140400|65#234"]
[null,2230,5,270007,7,"55#350",4,"14#162000|65#270"]
[null,2231,5,270007,8,"55#400",4,"14#183600|65#306"]
[null,2232,5,270007,9,"55#450",4,"14#205200|65#342"]
[null,2233,5,270007,10,"55#500",4,"14#226800|65#378"]
[null,2234,5,270007,11,"55#550",4,"14#270000|65#450"]
[null,2235,5,270007,12,"55#600",4,"14#313200|65#522"]
[null,2236,5,270007,13,"55#650",4,"14#356400|65#594"]
[null,2237,5,270007,14,"55#700",4,"14#399600|65#666"]
[null,2238,5,270007,15,"55#750",4,"14#442800|65#738"]
[null,2239,5,270007,16,"55#800",4,"14#486000|65#810"]
[null,2240,5,270007,17,"55#850",4,"14#529200|65#882"]
[null,2241,5,270007,18,"55#900",4,"14#572400|65#954"]
[null,2242,5,270007,19,"55#950",4,"14#615600|65#1026"]
[null,2243,5,270007,20,"55#1000",4,"14#658800|65#1098"]
[null,2244,5,270007,21,"55#1050",4,"14#745200|65#1242"]
[null,2245,5,270007,22,"55#1100",4,"14#831600|65#1386"]
[null,2246,5,270007,23,"55#1150",4,"14#918000|65#1530"]
[null,2247,5,270007,24,"55#1200",4,"14#1004400|65#1674"]
[null,2248,5,270007,25,"55#1250",4,"14#1090800|65#1818"]
[null,2249,5,270007,26,"55#1300",4,"14#1177200|65#1962"]
[null,2250,5,270007,27,"55#1350",4,"14#1263600|65#2106"]
[null,2251,5,270007,28,"55#1400",4,"14#1350000|65#2250"]
[null,2252,5,270007,29,"55#1450",4,"14#1436400|65#2394"]
[null,2253,5,270007,30,"55#1500",4,"14#1522800|65#2538"]
[null,2254,5,270007,31,"55#1550",4,"14#1695600|65#2826"]
[null,2255,5,270007,32,"55#1600",4,"14#1868400|65#3114"]
[null,2256,5,270007,33,"55#1650",4,"14#2041200|65#3402"]
[null,2257,5,270007,34,"55#1700",4,"14#2214000|65#3690"]
[null,2258,5,270007,35,"55#1750",4,"14#2386800|65#3978"]
[null,2259,5,270007,36,"55#1800",4,"14#2559600|65#4266"]
[null,2260,5,270007,37,"55#1850",4,"14#2732400|65#4554"]
[null,2261,5,270007,38,"55#1900",4,"14#2905200|65#4842"]
[null,2262,5,270007,39,"55#1950",4,"14#3078000|65#5130"]
[null,2263,5,270007,40,"55#2000",4,"14#3250800|65#5418"]
[null,2264,5,270007,41,"55#2050",4,"14#3596400|65#5994"]
[null,2265,5,270007,42,"55#2100",4,"14#3942000|65#6570"]
[null,2266,5,270007,43,"55#2150",4,"14#4287600|65#7146"]
[null,2267,5,270007,44,"55#2200",4,"14#4633200|65#7722"]
[null,2268,5,270007,45,"55#2250",4,"14#4978800|65#8298"]
[null,2269,5,270007,46,"55#2300",4,"14#5324400|65#8874"]
[null,2270,5,270007,47,"55#2350",4,"14#5670000|65#9450"]
[null,2271,5,270007,48,"55#2400",4,"14#6015600|65#10026"]
[null,2272,5,270007,49,"55#2450",4,"14#6361200|65#10602"]
[null,2273,5,270007,50,"55#2500",4,"14#6706800|65#11178"]
[null,2274,5,270007,51,"55#2550",4,"14#7398000|65#12330"]
[null,2275,5,270007,52,"55#2600",4,"14#8089200|65#13482"]
[null,2276,5,270007,53,"55#2650",4,"14#8780400|65#14634"]
[null,2277,5,270007,54,"55#2700",4,"14#9471600|65#15786"]
[null,2278,5,270007,55,"55#2750",4,"14#10162800|65#16938"]
[null,2279,5,270007,56,"55#2800",4,"14#10854000|65#18090"]
[null,2280,5,270007,57,"55#2850",4,"14#11545200|65#19242"]
[null,2281,5,270007,58,"55#2900",4,"14#12236400|65#20394"]
[null,2282,5,270007,59,"55#2950",4,"14#12927600|65#21546"]
[null,2283,5,270007,60,"55#3000",4,"14#13618800|65#22698"]
[null,2284,5,270007,61,"55#3050",4,"14#15001200|65#25002"]
[null,2285,5,270007,62,"55#3100",4,"14#16383600|65#27306"]
[null,2286,5,270007,63,"55#3150",4,"14#17766000|65#29610"]
[null,2287,5,270007,64,"55#3200",4,"14#19148400|65#31914"]
[null,2288,5,270007,65,"55#3250",4,"14#20530800|65#34218"]
[null,2289,5,270007,66,"55#3300",4,"14#21913200|65#36522"]
[null,2290,5,270007,67,"55#3350",4,"14#23295600|65#38826"]
[null,2291,5,270007,68,"55#3400",4,"14#24678000|65#41130"]
[null,2292,5,270007,69,"55#3450",4,"14#26060400|65#43434"]
[null,2293,5,270007,70,"55#3500",4,"14#27442800|65#45738"]
[null,2294,5,270007,71,"55#3550",4,"14#30207600|65#50346"]
[null,2295,5,270007,72,"55#3600",4,"14#32972400|65#54954"]
[null,2296,5,270007,73,"55#3650",4,"14#35737200|65#59562"]
[null,2297,5,270007,74,"55#3700",4,"14#38502000|65#64170"]
[null,2298,5,270007,75,"55#3750",4,"14#41266800|65#68778"]
[null,2299,5,270007,76,"55#3800",4,"14#44031600|65#73386"]
[null,2300,5,270007,77,"55#3850",4,"14#46796400|65#77994"]
[null,2301,5,270007,78,"55#3900",4,"14#49561200|65#82602"]
[null,2302,5,270007,79,"55#3950",4,"14#52326000|65#87210"]
[null,2303,5,270007,80,"55#4000",4,"14#55090800|65#91818"]
[null,2304,5,270007,81,"55#4050",4,"14#60620400|65#101034"]
[null,2305,5,270007,82,"55#4100",4,"14#66150000|65#110250"]
[null,2306,5,270007,83,"55#4150",4,"14#71679600|65#119466"]
[null,2307,5,270007,84,"55#4200",4,"14#77209200|65#128682"]
[null,2308,5,270007,85,"55#4250",4,"14#82738800|65#137898"]
[null,2309,5,270007,86,"55#4300",4,"14#88268400|65#147114"]
[null,2310,5,270007,87,"55#4350",4,"14#93798000|65#156330"]
[null,2311,5,270007,88,"55#4400",4,"14#99327600|65#165546"]
[null,2312,5,270007,89,"55#4450",4,"14#104857200|65#174762"]
[null,2313,5,270007,90,"55#4500",4,"14#110386800|65#183978"]
[null,2314,5,270007,91,"55#4550",4,"14#121446000|65#202410"]
[null,2315,5,270007,92,"55#4600",4,"14#132505200|65#220842"]
[null,2316,5,270007,93,"55#4650",4,"14#143564400|65#239274"]
[null,2317,5,270007,94,"55#4700",4,"14#154623600|65#257706"]
[null,2318,5,270007,95,"55#4750",4,"14#165682800|65#276138"]
[null,2319,5,270007,96,"55#4800",4,"14#176742000|65#294570"]
[null,2320,5,270007,97,"55#4850",4,"14#187801200|65#313002"]
[null,2321,5,270007,98,"55#4900",4,"14#198860400|65#331434"]
[null,2322,5,270007,99,"55#4950",4,"14#209919600|65#349866"]
[null,2323,5,270007,100,"55#5000",4]
[null,2324,6,270010,0,"56#0",4,"14#12000|65#20"]
[null,2325,6,270010,1,"56#50",4,"14#36000|65#60"]
[null,2326,6,270010,2,"56#100",4,"14#60000|65#100"]
[null,2327,6,270010,3,"56#150",4,"14#84000|65#140"]
[null,2328,6,270010,4,"56#200",4,"14#108000|65#180"]
[null,2329,6,270010,5,"56#250",4,"14#132000|65#220"]
[null,2330,6,270010,6,"56#300",4,"14#156000|65#260"]
[null,2331,6,270010,7,"56#350",4,"14#180000|65#300"]
[null,2332,6,270010,8,"56#400",4,"14#204000|65#340"]
[null,2333,6,270010,9,"56#450",4,"14#228000|65#380"]
[null,2334,6,270010,10,"56#500",4,"14#252000|65#420"]
[null,2335,6,270010,11,"56#550",4,"14#300000|65#500"]
[null,2336,6,270010,12,"56#600",4,"14#348000|65#580"]
[null,2337,6,270010,13,"56#650",4,"14#396000|65#660"]
[null,2338,6,270010,14,"56#700",4,"14#444000|65#740"]
[null,2339,6,270010,15,"56#750",4,"14#492000|65#820"]
[null,2340,6,270010,16,"56#800",4,"14#540000|65#900"]
[null,2341,6,270010,17,"56#850",4,"14#588000|65#980"]
[null,2342,6,270010,18,"56#900",4,"14#636000|65#1060"]
[null,2343,6,270010,19,"56#950",4,"14#684000|65#1140"]
[null,2344,6,270010,20,"56#1000",4,"14#732000|65#1220"]
[null,2345,6,270010,21,"56#1050",4,"14#828000|65#1380"]
[null,2346,6,270010,22,"56#1100",4,"14#924000|65#1540"]
[null,2347,6,270010,23,"56#1150",4,"14#1020000|65#1700"]
[null,2348,6,270010,24,"56#1200",4,"14#1116000|65#1860"]
[null,2349,6,270010,25,"56#1250",4,"14#1212000|65#2020"]
[null,2350,6,270010,26,"56#1300",4,"14#1308000|65#2180"]
[null,2351,6,270010,27,"56#1350",4,"14#1404000|65#2340"]
[null,2352,6,270010,28,"56#1400",4,"14#1500000|65#2500"]
[null,2353,6,270010,29,"56#1450",4,"14#1596000|65#2660"]
[null,2354,6,270010,30,"56#1500",4,"14#1692000|65#2820"]
[null,2355,6,270010,31,"56#1550",4,"14#1884000|65#3140"]
[null,2356,6,270010,32,"56#1600",4,"14#2076000|65#3460"]
[null,2357,6,270010,33,"56#1650",4,"14#2268000|65#3780"]
[null,2358,6,270010,34,"56#1700",4,"14#2460000|65#4100"]
[null,2359,6,270010,35,"56#1750",4,"14#2652000|65#4420"]
[null,2360,6,270010,36,"56#1800",4,"14#2844000|65#4740"]
[null,2361,6,270010,37,"56#1850",4,"14#3036000|65#5060"]
[null,2362,6,270010,38,"56#1900",4,"14#3228000|65#5380"]
[null,2363,6,270010,39,"56#1950",4,"14#3420000|65#5700"]
[null,2364,6,270010,40,"56#2000",4,"14#3612000|65#6020"]
[null,2365,6,270010,41,"56#2050",4,"14#3996000|65#6660"]
[null,2366,6,270010,42,"56#2100",4,"14#4380000|65#7300"]
[null,2367,6,270010,43,"56#2150",4,"14#4764000|65#7940"]
[null,2368,6,270010,44,"56#2200",4,"14#5148000|65#8580"]
[null,2369,6,270010,45,"56#2250",4,"14#5532000|65#9220"]
[null,2370,6,270010,46,"56#2300",4,"14#5916000|65#9860"]
[null,2371,6,270010,47,"56#2350",4,"14#6300000|65#10500"]
[null,2372,6,270010,48,"56#2400",4,"14#6684000|65#11140"]
[null,2373,6,270010,49,"56#2450",4,"14#7068000|65#11780"]
[null,2374,6,270010,50,"56#2500",4,"14#7452000|65#12420"]
[null,2375,6,270010,51,"56#2550",4,"14#8220000|65#13700"]
[null,2376,6,270010,52,"56#2600",4,"14#8988000|65#14980"]
[null,2377,6,270010,53,"56#2650",4,"14#9756000|65#16260"]
[null,2378,6,270010,54,"56#2700",4,"14#10524000|65#17540"]
[null,2379,6,270010,55,"56#2750",4,"14#11292000|65#18820"]
[null,2380,6,270010,56,"56#2800",4,"14#12060000|65#20100"]
[null,2381,6,270010,57,"56#2850",4,"14#12828000|65#21380"]
[null,2382,6,270010,58,"56#2900",4,"14#13596000|65#22660"]
[null,2383,6,270010,59,"56#2950",4,"14#14364000|65#23940"]
[null,2384,6,270010,60,"56#3000",4,"14#15132000|65#25220"]
[null,2385,6,270010,61,"56#3050",4,"14#16668000|65#27780"]
[null,2386,6,270010,62,"56#3100",4,"14#18204000|65#30340"]
[null,2387,6,270010,63,"56#3150",4,"14#19740000|65#32900"]
[null,2388,6,270010,64,"56#3200",4,"14#21276000|65#35460"]
[null,2389,6,270010,65,"56#3250",4,"14#22812000|65#38020"]
[null,2390,6,270010,66,"56#3300",4,"14#24348000|65#40580"]
[null,2391,6,270010,67,"56#3350",4,"14#25884000|65#43140"]
[null,2392,6,270010,68,"56#3400",4,"14#27420000|65#45700"]
[null,2393,6,270010,69,"56#3450",4,"14#28956000|65#48260"]
[null,2394,6,270010,70,"56#3500",4,"14#30492000|65#50820"]
[null,2395,6,270010,71,"56#3550",4,"14#33564000|65#55940"]
[null,2396,6,270010,72,"56#3600",4,"14#36636000|65#61060"]
[null,2397,6,270010,73,"56#3650",4,"14#39708000|65#66180"]
[null,2398,6,270010,74,"56#3700",4,"14#42780000|65#71300"]
[null,2399,6,270010,75,"56#3750",4,"14#45852000|65#76420"]
[null,2400,6,270010,76,"56#3800",4,"14#48924000|65#81540"]
[null,2401,6,270010,77,"56#3850",4,"14#51996000|65#86660"]
[null,2402,6,270010,78,"56#3900",4,"14#55068000|65#91780"]
[null,2403,6,270010,79,"56#3950",4,"14#58140000|65#96900"]
[null,2404,6,270010,80,"56#4000",4,"14#61212000|65#102020"]
[null,2405,6,270010,81,"56#4050",4,"14#67356000|65#112260"]
[null,2406,6,270010,82,"56#4100",4,"14#73500000|65#122500"]
[null,2407,6,270010,83,"56#4150",4,"14#79644000|65#132740"]
[null,2408,6,270010,84,"56#4200",4,"14#85788000|65#142980"]
[null,2409,6,270010,85,"56#4250",4,"14#91932000|65#153220"]
[null,2410,6,270010,86,"56#4300",4,"14#98076000|65#163460"]
[null,2411,6,270010,87,"56#4350",4,"14#104220000|65#173700"]
[null,2412,6,270010,88,"56#4400",4,"14#110364000|65#183940"]
[null,2413,6,270010,89,"56#4450",4,"14#116508000|65#194180"]
[null,2414,6,270010,90,"56#4500",4,"14#122652000|65#204420"]
[null,2415,6,270010,91,"56#4550",4,"14#134940000|65#224900"]
[null,2416,6,270010,92,"56#4600",4,"14#147228000|65#245380"]
[null,2417,6,270010,93,"56#4650",4,"14#159516000|65#265860"]
[null,2418,6,270010,94,"56#4700",4,"14#171804000|65#286340"]
[null,2419,6,270010,95,"56#4750",4,"14#184092000|65#306820"]
[null,2420,6,270010,96,"56#4800",4,"14#196380000|65#327300"]
[null,2421,6,270010,97,"56#4850",4,"14#208668000|65#347780"]
[null,2422,6,270010,98,"56#4900",4,"14#220956000|65#368260"]
[null,2423,6,270010,99,"56#4950",4,"14#233244000|65#388740"]
[null,2424,6,270010,100,"56#5000",4]

{"sheet":"Sheet1","index":1,"n_rows":31,"n_cols":15,"rows_kept":31}
[]
[{"$nulls":4},4,14,null,{"$f":"[1]!SUMSTRING(E2:F2,\"#\")","v":{"$error":"#NAME?"}},{"$nulls":4},"3#14","4#14",{"$f":"[1]!SUMSTRING(M2:N2,\"|\")","v":{"$error":"#NAME?"}}]
[{"$nulls":4},4,30,null,{"$f":"[1]!SUMSTRING(E3:F3,\"#\")","v":{"$error":"#NAME?"}},{"$nulls":4},"3#30","4#30",{"$f":"[1]!SUMSTRING(M3:N3,\"|\")","v":{"$error":"#NAME?"}}]
[{"$nulls":4},4,47,null,{"$f":"[1]!SUMSTRING(E4:F4,\"#\")","v":{"$error":"#NAME?"}},{"$nulls":4},"3#47","4#47",{"$f":"[1]!SUMSTRING(M4:N4,\"|\")","v":{"$error":"#NAME?"}}]
[{"$nulls":4},4,65,null,{"$f":"[1]!SUMSTRING(E5:F5,\"#\")","v":{"$error":"#NAME?"}},{"$nulls":4},"3#65","4#65",{"$f":"[1]!SUMSTRING(M5:N5,\"|\")","v":{"$error":"#NAME?"}}]
[{"$nulls":4},4,84,null,{"$f":"[1]!SUMSTRING(E6:F6,\"#\")","v":{"$error":"#NAME?"}},{"$nulls":4},"3#84","4#84",{"$f":"[1]!SUMSTRING(M6:N6,\"|\")","v":{"$error":"#NAME?"}}]
[{"$nulls":4},4,105,null,{"$f":"[1]!SUMSTRING(E7:F7,\"#\")","v":{"$error":"#NAME?"}},{"$nulls":4},"3#105","4#105",{"$f":"[1]!SUMSTRING(M7:N7,\"|\")","v":{"$error":"#NAME?"}}]
[{"$nulls":4},4,128,null,{"$f":"[1]!SUMSTRING(E8:F8,\"#\")","v":{"$error":"#NAME?"}},{"$nulls":4},"3#128","4#128",{"$f":"[1]!SUMSTRING(M8:N8,\"|\")","v":{"$error":"#NAME?"}}]
[{"$nulls":4},4,151,null,{"$f":"[1]!SUMSTRING(E9:F9,\"#\")","v":{"$error":"#NAME?"}},{"$nulls":4},"3#151","4#151",{"$f":"[1]!SUMSTRING(M9:N9,\"|\")","v":{"$error":"#NAME?"}}]
[{"$nulls":4},4,176,null,{"$f":"[1]!SUMSTRING(E10:F10,\"#\")","v":{"$error":"#NAME?"}},{"$nulls":4},"3#176","4#176",{"$f":"[1]!SUMSTRING(M10:N10,\"|\")","v":{"$error":"#NAME?"}}]
[{"$nulls":4},4,202,null,{"$f":"[1]!SUMSTRING(E11:F11,\"#\")","v":{"$error":"#NAME?"}},{"$nulls":4},"3#202","4#202",{"$f":"[1]!SUMSTRING(M11:N11,\"|\")","v":{"$error":"#NAME?"}}]
[{"$nulls":4},4,230,null,{"$f":"[1]!SUMSTRING(E12:F12,\"#\")","v":{"$error":"#NAME?"}},{"$nulls":4},"3#230","4#230",{"$f":"[1]!SUMSTRING(M12:N12,\"|\")","v":{"$error":"#NAME?"}}]
[{"$nulls":4},4,258,null,{"$f":"[1]!SUMSTRING(E13:F13,\"#\")","v":{"$error":"#NAME?"}},{"$nulls":4},"3#258","4#258",{"$f":"[1]!SUMSTRING(M13:N13,\"|\")","v":{"$error":"#NAME?"}}]
[{"$nulls":4},4,288,null,{"$f":"[1]!SUMSTRING(E14:F14,\"#\")","v":{"$error":"#NAME?"}},{"$nulls":4},"3#288","4#288",{"$f":"[1]!SUMSTRING(M14:N14,\"|\")","v":{"$error":"#NAME?"}}]
[{"$nulls":4},4,320,null,{"$f":"[1]!SUMSTRING(E15:F15,\"#\")","v":{"$error":"#NAME?"}},{"$nulls":4},"3#320","4#320",{"$f":"[1]!SUMSTRING(M15:N15,\"|\")","v":{"$error":"#NAME?"}}]
[{"$nulls":4},4,352,null,{"$f":"[1]!SUMSTRING(E16:F16,\"#\")","v":{"$error":"#NAME?"}},{"$nulls":4},"3#352","4#352",{"$f":"[1]!SUMSTRING(M16:N16,\"|\")","v":{"$error":"#NAME?"}}]
[{"$nulls":4},4,386,null,{"$f":"[1]!SUMSTRING(E17:F17,\"#\")","v":{"$error":"#NAME?"}},{"$nulls":4},"3#386","4#386",{"$f":"[1]!SUMSTRING(M17:N17,\"|\")","v":{"$error":"#NAME?"}}]
[{"$nulls":4},4,422,null,{"$f":"[1]!SUMSTRING(E18:F18,\"#\")","v":{"$error":"#NAME?"}},{"$nulls":4},"3#422","4#422",{"$f":"[1]!SUMSTRING(M18:N18,\"|\")","v":{"$error":"#NAME?"}}]
[{"$nulls":4},4,458,null,{"$f":"[1]!SUMSTRING(E19:F19,\"#\")","v":{"$error":"#NAME?"}},{"$nulls":4},"3#458","4#458",{"$f":"[1]!SUMSTRING(M19:N19,\"|\")","v":{"$error":"#NAME?"}}]
[{"$nulls":4},4,496,null,{"$f":"[1]!SUMSTRING(E20:F20,\"#\")","v":{"$error":"#NAME?"}},{"$nulls":4},"3#496","4#496",{"$f":"[1]!SUMSTRING(M20:N20,\"|\")","v":{"$error":"#NAME?"}}]
[{"$nulls":4},4,535,null,{"$f":"[1]!SUMSTRING(E21:F21,\"#\")","v":{"$error":"#NAME?"}},{"$nulls":4},"3#535","4#535",{"$f":"[1]!SUMSTRING(M21:N21,\"|\")","v":{"$error":"#NAME?"}}]
[{"$nulls":4},4,576,null,{"$f":"[1]!SUMSTRING(E22:F22,\"#\")","v":{"$error":"#NAME?"}},{"$nulls":4},"3#576","4#576",{"$f":"[1]!SUMSTRING(M22:N22,\"|\")","v":{"$error":"#NAME?"}}]
[{"$nulls":4},4,618,null,{"$f":"[1]!SUMSTRING(E23:F23,\"#\")","v":{"$error":"#NAME?"}},{"$nulls":4},"3#618","4#618",{"$f":"[1]!SUMSTRING(M23:N23,\"|\")","v":{"$error":"#NAME?"}}]
[{"$nulls":4},4,661,null,{"$f":"[1]!SUMSTRING(E24:F24,\"#\")","v":{"$error":"#NAME?"}},{"$nulls":4},"3#661","4#661",{"$f":"[1]!SUMSTRING(M24:N24,\"|\")","v":{"$error":"#NAME?"}}]
[{"$nulls":4},4,705,null,{"$f":"[1]!SUMSTRING(E25:F25,\"#\")","v":{"$error":"#NAME?"}},{"$nulls":4},"3#705","4#705",{"$f":"[1]!SUMSTRING(M25:N25,\"|\")","v":{"$error":"#NAME?"}}]
[{"$nulls":4},4,751,null,{"$f":"[1]!SUMSTRING(E26:F26,\"#\")","v":{"$error":"#NAME?"}},{"$nulls":4},"3#751","4#751",{"$f":"[1]!SUMSTRING(M26:N26,\"|\")","v":{"$error":"#NAME?"}}]
[{"$nulls":4},4,798,null,{"$f":"[1]!SUMSTRING(E27:F27,\"#\")","v":{"$error":"#NAME?"}},{"$nulls":4},"3#798","4#798",{"$f":"[1]!SUMSTRING(M27:N27,\"|\")","v":{"$error":"#NAME?"}}]
[{"$nulls":4},4,847,null,{"$f":"[1]!SUMSTRING(E28:F28,\"#\")","v":{"$error":"#NAME?"}},{"$nulls":4},"3#847","4#847",{"$f":"[1]!SUMSTRING(M28:N28,\"|\")","v":{"$error":"#NAME?"}}]
[{"$nulls":4},4,896,null,{"$f":"[1]!SUMSTRING(E29:F29,\"#\")","v":{"$error":"#NAME?"}},{"$nulls":4},"3#896","4#896",{"$f":"[1]!SUMSTRING(M29:N29,\"|\")","v":{"$error":"#NAME?"}}]
[{"$nulls":4},4,947,null,{"$f":"[1]!SUMSTRING(E30:F30,\"#\")","v":{"$error":"#NAME?"}},{"$nulls":4},"3#947","4#947",{"$f":"[1]!SUMSTRING(M30:N30,\"|\")","v":{"$error":"#NAME?"}}]
[{"$nulls":4},4,1000,null,{"$f":"[1]!SUMSTRING(E31:F31,\"#\")","v":{"$error":"#NAME?"}},{"$nulls":4},"3#1000","4#1000",{"$f":"[1]!SUMSTRING(M31:N31,\"|\")","v":{"$error":"#NAME?"}}]

{"sheet":"属性辅助表","index":2,"n_rows":484,"n_cols":17,"rows_kept":484}
[null,"武卫"]
[null,"一层",1,3,4,54,52]
[1100,0,0,0,0,0,0,{"$nulls":5},{"$f":"$C$2&\"#\"&C3","v":"1#0"},{"$f":"$D$2&\"#\"&D3","v":"3#0"},{"$f":"$E$2&\"#\"&E3","v":"4#0"},{"$f":"$F$2&\"#\"&F3","v":"54#0"},{"$f":"$G$2&\"#\"&G3","v":"52#0"}]
[{"$f":"A3+1","v":1101},1,{"$f":"[2]科技树属性分配!AC4","v":22},{"$f":"[2]科技树属性分配!AD4","v":2},{"$f":"[2]科技树属性分配!AE4","v":2},{"$f":"[2]科技树属性分配!AF4","v":44},{"$f":"[2]科技树属性分配!AG4","v":44},{"$nulls":5},{"$f":"$C$2&\"#\"&C4","v":"1#22"},{"$f":"$D$2&\"#\"&D4","v":"3#2"},{"$f":"$E$2&\"#\"&E4","v":"4#2"},{"$f":"$F$2&\"#\"&F4","v":"54#44"},{"$f":"$G$2&\"#\"&G4","v":"52#44"}]
[{"$f":"A4+1","v":1102},2,{"$f":"[2]科技树属性分配!AC5","v":63},{"$f":"[2]科技树属性分配!AD5","v":5},{"$f":"[2]科技树属性分配!AE5","v":5},{"$f":"[2]科技树属性分配!AF5","v":109},{"$f":"[2]科技树属性分配!AG5","v":109},{"$nulls":5},"1#63","3#5","4#5",{"$f":"$F$2&\"#\"&F5","v":"54#109"},"52#109"]
[1103,3,{"$f":"[2]科技树属性分配!AC6","v":123},{"$f":"[2]科技树属性分配!AD6","v":9},{"$f":"[2]科技树属性分配!AE6","v":9},{"$f":"[2]科技树属性分配!AF6","v":196},{"$f":"[2]科技树属性分配!AG6","v":196},{"$nulls":5},"1#123","3#9","4#9","54#196","52#196"]
[1104,4,{"$f":"[2]科技树属性分配!AC7","v":202},{"$f":"[2]科技树属性分配!AD7","v":15},{"$f":"[2]科技树属性分配!AE7","v":15},{"$f":"[2]科技树属性分配!AF7","v":305},{"$f":"[2]科技树属性分配!AG7","v":305},{"$nulls":5},"1#202","3#15","4#15","54#305","52#305"]
[1105,5,{"$f":"[2]科技树属性分配!AC8","v":300},{"$f":"[2]科技树属性分配!AD8","v":23},{"$f":"[2]科技树属性分配!AE8","v":23},{"$f":"[2]科技树属性分配!AF8","v":436},{"$f":"[2]科技树属性分配!AG8","v":436},{"$nulls":5},"1#300","3#23","4#23","54#436","52#436"]
[1106,6,{"$f":"[2]科技树属性分配!AC9","v":417},{"$f":"[2]科技树属性分配!AD9","v":31},{"$f":"[2]科技树属性分配!AE9","v":31},{"$f":"[2]科技树属性分配!AF9","v":611},{"$f":"[2]科技树属性分配!AG9","v":611},{"$nulls":5},"1#417","3#31","4#31","54#611","52#611"]
[1107,7,{"$f":"[2]科技树属性分配!AC10","v":554},{"$f":"[2]科技树属性分配!AD10","v":42},{"$f":"[2]科技树属性分配!AE10","v":42},{"$f":"[2]科技树属性分配!AF10","v":829},{"$f":"[2]科技树属性分配!AG10","v":829},{"$nulls":5},"1#554","3#42","4#42","54#829","52#829"]
[1108,8,{"$f":"[2]科技树属性分配!AC11","v":709},{"$f":"[2]科技树属性分配!AD11","v":53},{"$f":"[2]科技树属性分配!AE11","v":53},{"$f":"[2]科技树属性分配!AF11","v":1091},{"$f":"[2]科技树属性分配!AG11","v":1091},{"$nulls":5},"1#709","3#53","4#53","54#1091","52#1091"]
[1109,9,{"$f":"[2]科技树属性分配!AC12","v":884},{"$f":"[2]科技树属性分配!AD12","v":66},{"$f":"[2]科技树属性分配!AE12","v":66},{"$f":"[2]科技树属性分配!AF12","v":1407},{"$f":"[2]科技树属性分配!AG12","v":1407},{"$nulls":5},"1#884","3#66","4#66","54#1407","52#1407"]
[1110,10,{"$f":"[2]科技树属性分配!AC13","v":1077},{"$f":"[2]科技树属性分配!AD13","v":81},{"$f":"[2]科技树属性分配!AE13","v":81},{"$f":"[2]科技树属性分配!AF13","v":1800},{"$f":"[2]科技树属性分配!AG13","v":1800},{"$nulls":5},"1#1077","3#81","4#81","54#1800","52#1800"]
[1111,11,{"$f":"[2]科技树属性分配!AC14","v":1290},{"$f":"[2]科技树属性分配!AD14","v":97},{"$f":"[2]科技树属性分配!AE14","v":97},{"$f":"[2]科技树属性分配!AF14","v":0},{"$f":"[2]科技树属性分配!AG14","v":0},{"$nulls":5},"1#1290","3#97","4#97","54#0","52#0"]
[1112,12,{"$f":"[2]科技树属性分配!AC15","v":1522},{"$f":"[2]科技树属性分配!AD15","v":114},{"$f":"[2]科技树属性分配!AE15","v":114},{"$f":"[2]科技树属性分配!AF15","v":0},{"$f":"[2]科技树属性分配!AG15","v":0},{"$nulls":5},"1#1522","3#114","4#114","54#0","52#0"]
[1113,13,{"$f":"[2]科技树属性分配!AC16","v":1773},{"$f":"[2]科技树属性分配!AD16","v":133},{"$f":"[2]科技树属性分配!AE16","v":133},{"$f":"[2]科技树属性分配!AF16","v":0},{"$f":"[2]科技树属性分配!AG16","v":0},{"$nulls":5},"1#1773","3#133","4#133","54#0","52#0"]
[1114,14,{"$f":"[2]科技树属性分配!AC17","v":2043},{"$f":"[2]科技树属性分配!AD17","v":153},{"$f":"[2]科技树属性分配!AE17","v":153},{"$f":"[2]科技树属性分配!AF17","v":0},{"$f":"[2]科技树属性分配!AG17","v":0},{"$nulls":5},"1#2043","3#153","4#153","54#0","52#0"]
[1115,15,{"$f":"[2]科技树属性分配!AC18","v":2332},{"$f":"[2]科技树属性分配!AD18","v":175},{"$f":"[2]科技树属性分配!AE18","v":175},{"$f":"[2]科技树属性分配!AF18","v":0},{"$f":"[2]科技树属性分配!AG18","v":0},{"$nulls":5},"1#2332","3#175","4#175","54#0","52#0"]
[1116,16,{"$f":"[2]科技树属性分配!AC19","v":2640},{"$f":"[2]科技树属性分配!AD19","v":198},{"$f":"[2]科技树属性分配!AE19","v":198},{"$f":"[2]科技树属性分配!AF19","v":0},{"$f":"[2]科技树属性分配!AG19","v":0},{"$nulls":5},"1#2640","3#198","4#198","54#0","52#0"]
[1117,17,{"$f":"[2]科技树属性分配!AC20","v":2967},{"$f":"[2]科技树属性分配!AD20","v":223},{"$f":"[2]科技树属性分配!AE20","v":223},{"$f":"[2]科技树属性分配!AF20","v":0},{"$f":"[2]科技树属性分配!AG20","v":0},{"$nulls":5},"1#2967","3#223","4#223","54#0","52#0"]
[1118,18,{"$f":"[2]科技树属性分配!AC21","v":3314},{"$f":"[2]科技树属性分配!AD21","v":249},{"$f":"[2]科技树属性分配!AE21","v":249},{"$f":"[2]科技树属性分配!AF21","v":0},{"$f":"[2]科技树属性分配!AG21","v":0},{"$nulls":5},"1#3314","3#249","4#249","54#0","52#0"]
[1119,19,{"$f":"[2]科技树属性分配!AC22","v":3679},{"$f":"[2]科技树属性分配!AD22","v":276},{"$f":"[2]科技树属性分配!AE22","v":276},{"$f":"[2]科技树属性分配!AF22","v":0},{"$f":"[2]科技树属性分配!AG22","v":0},{"$nulls":5},"1#3679","3#276","4#276","54#0","52#0"]
[1120,20,{"$f":"[2]科技树属性分配!AC23","v":4064},{"$f":"[2]科技树属性分配!AD23","v":305},{"$f":"[2]科技树属性分配!AE23","v":305},{"$f":"[2]科技树属性分配!AF23","v":0},{"$f":"[2]科技树属性分配!AG23","v":0},{"$nulls":5},"1#4064","3#305","4#305","54#0","52#0"]
[1121,21,{"$f":"[2]科技树属性分配!AC24","v":4467},{"$f":"[2]科技树属性分配!AD24","v":335},{"$f":"[2]科技树属性分配!AE24","v":335},{"$f":"[2]科技树属性分配!AF24","v":0},{"$f":"[2]科技树属性分配!AG24","v":0},{"$nulls":5},"1#4467","3#335","4#335","54#0","52#0"]
[1122,22,{"$f":"[2]科技树属性分配!AC25","v":4890},{"$f":"[2]科技树属性分配!AD25","v":367},{"$f":"[2]科技树属性分配!AE25","v":367},{"$f":"[2]科技树属性分配!AF25","v":0},{"$f":"[2]科技树属性分配!AG25","v":0},{"$nulls":5},"1#4890","3#367","4#367","54#0","52#0"]
[1123,23,{"$f":"[2]科技树属性分配!AC26","v":5332},{"$f":"[2]科技树属性分配!AD26","v":400},{"$f":"[2]科技树属性分配!AE26","v":400},{"$f":"[2]科技树属性分配!AF26","v":0},{"$f":"[2]科技树属性分配!AG26","v":0},{"$nulls":5},"1#5332","3#400","4#400","54#0","52#0"]
[1124,24,{"$f":"[2]科技树属性分配!AC27","v":5793},{"$f":"[2]科技树属性分配!AD27","v":434},{"$f":"[2]科技树属性分配!AE27","v":434},{"$f":"[2]科技树属性分配!AF27","v":0},{"$f":"[2]科技树属性分配!AG27","v":0},{"$nulls":5},"1#5793","3#434","4#434","54#0","52#0"]
[1125,25,{"$f":"[2]科技树属性分配!AC28","v":6273},{"$f":"[2]科技树属性分配!AD28","v":470},{"$f":"[2]科技树属性分配!AE28","v":470},{"$f":"[2]科技树属性分配!AF28","v":0},{"$f":"[2]科技树属性分配!AG28","v":0},{"$nulls":5},"1#6273","3#470","4#470","54#0","52#0"]
[1126,26,{"$f":"[2]科技树属性分配!AC29","v":6775},{"$f":"[2]科技树属性分配!AD29","v":508},{"$f":"[2]科技树属性分配!AE29","v":508},{"$f":"[2]科技树属性分配!AF29","v":0},{"$f":"[2]科技树属性分配!AG29","v":0},{"$nulls":5},"1#6775","3#508","4#508","54#0","52#0"]
[1127,27,{"$f":"[2]科技树属性分配!AC30","v":7298},{"$f":"[2]科技树属性分配!AD30","v":547},{"$f":"[2]科技树属性分配!AE30","v":547},{"$f":"[2]科技树属性分配!AF30","v":0},{"$f":"[2]科技树属性分配!AG30","v":0},{"$nulls":5},"1#7298","3#547","4#547","54#0","52#0"]
[1128,28,{"$f":"[2]科技树属性分配!AC31","v":7844},{"$f":"[2]科技树属性分配!AD31","v":588},{"$f":"[2]科技树属性分配!AE31","v":588},{"$f":"[2]科技树属性分配!AF31","v":0},{"$f":"[2]科技树属性分配!AG31","v":0},{"$nulls":5},"1#7844","3#588","4#588","54#0","52#0"]
[1129,29,{"$f":"[2]科技树属性分配!AC32","v":8411},{"$f":"[2]科技树属性分配!AD32","v":631},{"$f":"[2]科技树属性分配!AE32","v":631},{"$f":"[2]科技树属性分配!AF32","v":0},{"$f":"[2]科技树属性分配!AG32","v":0},{"$nulls":5},"1#8411","3#631","4#631","54#0","52#0"]
[1130,30,{"$f":"[2]科技树属性分配!AC33","v":9000},{"$f":"[2]科技树属性分配!AD33","v":675},{"$f":"[2]科技树属性分配!AE33","v":675},{"$f":"[2]科技树属性分配!AF33","v":0},{"$f":"[2]科技树属性分配!AG33","v":0},{"$nulls":5},"1#9000","3#675","4#675","54#0","52#0"]
[null,"三层",2,60,57,53,51]
[{"$f":"A3+100","v":1200},{"$f":"B3","v":0},0,0,0,0,0,{"$nulls":5},{"$f":"$C$34&\"#\"&C35","v":"2#0"},{"$f":"$D$34&\"#\"&D35","v":"60#0"},{"$f":"$E$34&\"#\"&E35","v":"57#0"},{"$f":"$F$34&\"#\"&F35","v":"53#0"},{"$f":"$G$34&\"#\"&G35","v":"51#0"}]
[{"$f":"A4+100","v":1201},{"$f":"B4","v":1},{"$f":"[2]科技树属性分配!AC35","v":2},{"$f":"[2]科技树属性分配!AD35","v":58},{"$f":"[2]科技树属性分配!AE35","v":58},{"$f":"[2]科技树属性分配!AF35","v":42},{"$f":"[2]科技树属性分配!AG35","v":42},{"$nulls":5},{"$f":"$C$34&\"#\"&C36","v":"2#2"},{"$f":"$D$34&\"#\"&D36","v":"60#58"},{"$f":"$E$34&\"#\"&E36","v":"57#58"},{"$f":"$F$34&\"#\"&F36","v":"53#42"},{"$f":"$G$34&\"#\"&G36","v":"51#42"}]
[1202,2,{"$f":"[2]科技树属性分配!AC36","v":7},{"$f":"[2]科技树属性分配!AD36","v":154},{"$f":"[2]科技树属性分配!AE36","v":154},{"$f":"[2]科技树属性分配!AF36","v":108},{"$f":"[2]科技树属性分配!AG36","v":108},{"$nulls":5},{"$f":"$C$34&\"#\"&C37","v":"2#7"},{"$f":"$D$34&\"#\"&D37","v":"60#154"},{"$f":"$E$34&\"#\"&E37","v":"57#154"},{"$f":"$F$34&\"#\"&F37","v":"53#108"},{"$f":"$G$34&\"#\"&G37","v":"51#108"}]
[1203,3,{"$f":"[2]科技树属性分配!AC37","v":14},{"$f":"[2]科技树属性分配!AD37","v":288},{"$f":"[2]科技树属性分配!AE37","v":288},{"$f":"[2]科技树属性分配!AF37","v":201},{"$f":"[2]科技树属性分配!AG37","v":201},{"$nulls":5},"2#14","60#288","57#288","53#201","51#201"]
[1204,4,{"$f":"[2]科技树属性分配!AC38","v":22},{"$f":"[2]科技树属性分配!AD38","v":462},{"$f":"[2]科技树属性分配!AE38","v":462},{"$f":"[2]科技树属性分配!AF38","v":318},{"$f":"[2]科技树属性分配!AG38","v":318},{"$nulls":5},"2#22","60#462","57#462","53#318","51#318"]
[1205,5,{"$f":"[2]科技树属性分配!AC39","v":33},{"$f":"[2]科技树属性分配!AD39","v":673},{"$f":"[2]科技树属性分配!AE39","v":673},{"$f":"[2]科技树属性分配!AF39","v":462},{"$f":"[2]科技树属性分配!AG39","v":462},{"$nulls":5},"2#33","60#673","57#673","53#462","51#462"]
[1206,6,{"$f":"[2]科技树属性分配!AC40","v":46},{"$f":"[2]科技树属性分配!AD40","v":962},{"$f":"[2]科技树属性分配!AE40","v":962},{"$f":"[2]科技树属性分配!AF40","v":646},{"$f":"[2]科技树属性分配!AG40","v":646},{"$nulls":5},"2#46","60#962","57#962","53#646","51#646"]
[1207,7,{"$f":"[2]科技树属性分配!AC41","v":61},{"$f":"[2]科技树属性分配!AD41","v":1327},{"$f":"[2]科技树属性分配!AE41","v":1327},{"$f":"[2]科技树属性分配!AF41","v":872},{"$f":"[2]科技树属性分配!AG41","v":872},{"$nulls":5},"2#61","60#1327","57#1327","53#872","51#872"]
[1208,8,{"$f":"[2]科技树属性分配!AC42","v":78},{"$f":"[2]科技树属性分配!AD42","v":1769},{"$f":"[2]科技树属性分配!AE42","v":1769},{"$f":"[2]科技树属性分配!AF42","v":1140},{"$f":"[2]科技树属性分配!AG42","v":1140},{"$nulls":5},"2#78","60#1769","57#1769","53#1140","51#1140"]
[1209,9,{"$f":"[2]科技树属性分配!AC43","v":97},{"$f":"[2]科技树属性分配!AD43","v":2327},{"$f":"[2]科技树属性分配!AE43","v":2327},{"$f":"[2]科技树属性分配!AF43","v":1449},{"$f":"[2]科技树属性分配!AG43","v":1449},{"$nulls":5},"2#97","60#2327","57#2327","53#1449","51#1449"]
[1210,10,{"$f":"[2]科技树属性分配!AC44","v":119},{"$f":"[2]科技树属性分配!AD44","v":3000},{"$f":"[2]科技树属性分配!AE44","v":3000},{"$f":"[2]科技树属性分配!AF44","v":1800},{"$f":"[2]科技树属性分配!AG44","v":1800},{"$nulls":5},"2#119","60#3000","57#3000","53#1800","51#1800"]
[1211,11,{"$f":"[2]科技树属性分配!AC45","v":142},{"$f":"[2]科技树属性分配!AD45","v":0},{"$f":"[2]科技树属性分配!AE45","v":0},{"$f":"[2]科技树属性分配!AF45","v":0},{"$f":"[2]科技树属性分配!AG45","v":0},{"$nulls":5},"2#142","60#0","57#0","53#0","51#0"]
[1212,12,{"$f":"[2]科技树属性分配!AC46","v":167},{"$f":"[2]科技树属性分配!AD46","v":0},{"$f":"[2]科技树属性分配!AE46","v":0},{"$f":"[2]科技树属性分配!AF46","v":0},{"$f":"[2]科技树属性分配!AG46","v":0},{"$nulls":5},"2#167","60#0","57#0","53#0","51#0"]
[1213,13,{"$f":"[2]科技树属性分配!AC47","v":195},{"$f":"[2]科技树属性分配!AD47","v":0},{"$f":"[2]科技树属性分配!AE47","v":0},{"$f":"[2]科技树属性分配!AF47","v":0},{"$f":"[2]科技树属性分配!AG47","v":0},{"$nulls":5},"2#195","60#0","57#0","53#0","51#0"]
[1214,14,{"$f":"[2]科技树属性分配!AC48","v":225},{"$f":"[2]科技树属性分配!AD48","v":0},{"$f":"[2]科技树属性分配!AE48","v":0},{"$f":"[2]科技树属性分配!AF48","v":0},{"$f":"[2]科技树属性分配!AG48","v":0},{"$nulls":5},"2#225","60#0","57#0","53#0","51#0"]
[1215,15,{"$f":"[2]科技树属性分配!AC49","v":257},{"$f":"[2]科技树属性分配!AD49","v":0},{"$f":"[2]科技树属性分配!AE49","v":0},{"$f":"[2]科技树属性分配!AF49","v":0},{"$f":"[2]科技树属性分配!AG49","v":0},{"$nulls":5},"2#257","60#0","57#0","53#0","51#0"]
[1216,16,{"$f":"[2]科技树属性分配!AC50","v":290},{"$f":"[2]科技树属性分配!AD50","v":0},{"$f":"[2]科技树属性分配!AE50","v":0},{"$f":"[2]科技树属性分配!AF50","v":0},{"$f":"[2]科技树属性分配!AG50","v":0},{"$nulls":5},"2#290","60#0","57#0","53#0","51#0"]
[1217,17,{"$f":"[2]科技树属性分配!AC51","v":326},{"$f":"[2]科技树属性分配!AD51","v":0},{"$f":"[2]科技树属性分配!AE51","v":0},{"$f":"[2]科技树属性分配!AF51","v":0},{"$f":"[2]科技树属性分配!AG51","v":0},{"$nulls":5},"2#326","60#0","57#0","53#0","51#0"]
[1218,18,{"$f":"[2]科技树属性分配!AC52","v":365},{"$f":"[2]科技树属性分配!AD52","v":0},{"$f":"[2]科技树属性分配!AE52","v":0},{"$f":"[2]科技树属性分配!AF52","v":0},{"$f":"[2]科技树属性分配!AG52","v":0},{"$nulls":5},"2#365","60#0","57#0","53#0","51#0"]
[1219,19,{"$f":"[2]科技树属性分配!AC53","v":405},{"$f":"[2]科技树属性分配!AD53","v":0},{"$f":"[2]科技树属性分配!AE53","v":0},{"$f":"[2]科技树属性分配!AF53","v":0},{"$f":"[2]科技树属性分配!AG53","v":0},{"$nulls":5},"2#405","60#0","57#0","53#0","51#0"]
[1220,20,{"$f":"[2]科技树属性分配!AC54","v":447},{"$f":"[2]科技树属性分配!AD54","v":0},{"$f":"[2]科技树属性分配!AE54","v":0},{"$f":"[2]科技树属性分配!AF54","v":0},{"$f":"[2]科技树属性分配!AG54","v":0},{"$nulls":5},"2#447","60#0","57#0","53#0","51#0"]
[1221,21,{"$f":"[2]科技树属性分配!AC55","v":491},{"$f":"[2]科技树属性分配!AD55","v":0},{"$f":"[2]科技树属性分配!AE55","v":0},{"$f":"[2]科技树属性分配!AF55","v":0},{"$f":"[2]科技树属性分配!AG55","v":0},{"$nulls":5},"2#491","60#0","57#0","53#0","51#0"]
[1222,22,{"$f":"[2]科技树属性分配!AC56","v":538},{"$f":"[2]科技树属性分配!AD56","v":0},{"$f":"[2]科技树属性分配!AE56","v":0},{"$f":"[2]科技树属性分配!AF56","v":0},{"$f":"[2]科技树属性分配!AG56","v":0},{"$nulls":5},"2#538","60#0","57#0","53#0","51#0"]
[1223,23,{"$f":"[2]科技树属性分配!AC57","v":587},{"$f":"[2]科技树属性分配!AD57","v":0},{"$f":"[2]科技树属性分配!AE57","v":0},{"$f":"[2]科技树属性分配!AF57","v":0},{"$f":"[2]科技树属性分配!AG57","v":0},{"$nulls":5},{"$f":"$C$34&\"#\"&C58","v":"2#587"},{"$f":"$D$34&\"#\"&D58","v":"60#0"},{"$f":"$E$34&\"#\"&E58","v":"57#0"},{"$f":"$F$34&\"#\"&F58","v":"53#0"},{"$f":"$G$34&\"#\"&G58","v":"51#0"}]
[1224,24,{"$f":"[2]科技树属性分配!AC58","v":637},{"$f":"[2]科技树属性分配!AD58","v":0},{"$f":"[2]科技树属性分配!AE58","v":0},{"$f":"[2]科技树属性分配!AF58","v":0},{"$f":"[2]科技树属性分配!AG58","v":0},{"$nulls":5},"2#637","60#0","57#0","53#0","51#0"]
[1225,25,{"$f":"[2]科技树属性分配!AC59","v":690},{"$f":"[2]科技树属性分配!AD59","v":0},{"$f":"[2]科技树属性分配!AE59","v":0},{"$f":"[2]科技树属性分配!AF59","v":0},{"$f":"[2]科技树属性分配!AG59","v":0},{"$nulls":5},"2#690","60#0","57#0","53#0","51#0"]
[1226,26,{"$f":"[2]科技树属性分配!AC60","v":745},{"$f":"[2]科技树属性分配!AD60","v":0},{"$f":"[2]科技树属性分配!AE60","v":0},{"$f":"[2]科技树属性分配!AF60","v":0},{"$f":"[2]科技树属性分配!AG60","v":0},{"$nulls":5},"2#745","60#0","57#0","53#0","51#0"]
[1227,27,{"$f":"[2]科技树属性分配!AC61","v":803},{"$f":"[2]科技树属性分配!AD61","v":0},{"$f":"[2]科技树属性分配!AE61","v":0},{"$f":"[2]科技树属性分配!AF61","v":0},{"$f":"[2]科技树属性分配!AG61","v":0},{"$nulls":5},"2#803","60#0","57#0","53#0","51#0"]
[1228,28,{"$f":"[2]科技树属性分配!AC62","v":863},{"$f":"[2]科技树属性分配!AD62","v":0},{"$f":"[2]科技树属性分配!AE62","v":0},{"$f":"[2]科技树属性分配!AF62","v":0},{"$f":"[2]科技树属性分配!AG62","v":0},{"$nulls":5},"2#863","60#0","57#0","53#0","51#0"]
[1229,29,{"$f":"[2]科技树属性分配!AC63","v":925},{"$f":"[2]科技树属性分配!AD63","v":0},{"$f":"[2]科技树属性分配!AE63","v":0},{"$f":"[2]科技树属性分配!AF63","v":0},{"$f":"[2]科技树属性分配!AG63","v":0},{"$nulls":5},"2#925","60#0","57#0","53#0","51#0"]
[1230,30,{"$f":"[2]科技树属性分配!AC64","v":990},{"$f":"[2]科技树属性分配!AD64","v":0},{"$f":"[2]科技树属性分配!AE64","v":0},{"$f":"[2]科技树属性分配!AF64","v":0},{"$f":"[2]科技树属性分配!AG64","v":0},{"$nulls":5},"2#990","60#0","57#0","53#0","51#0"]
[null,"二层",5,2,1,3,4,53,54,52,51]
[{"$f":"A35+100","v":1300},0,0,0,0,0,0,0,0,0,0,null,{"$f":"$C$66&\"#\"&C67","v":"5#0"},{"$f":"$D$66&\"#\"&D67&\"|\"&$E$66&\"#\"&E67","v":"2#0|1#0"},{"$f":"$F$66&\"#\"&F67&\"|\"&$G$66&\"#\"&G67","v":"3#0|4#0"},{"$f":"$H$66&\"#\"&H67&\"|\"&$I$66&\"#\"&I67","v":"53#0|54#0"},{"$f":"$J$66&\"#\"&J67&\"|\"&$K$66&\"#\"&K67","v":"52#0|51#0"}]
[1301,1,{"$f":"[2]科技树属性分配!AC66","v":3},{"$f":"[2]科技树属性分配!AD66","v":6},{"$f":"[2]科技树属性分配!AE66","v":86},{"$f":"[2]科技树属性分配!AF66","v":6},{"$f":"[2]科技树属性分配!AG66","v":6},{"$f":"[2]科技树属性分配!AH66","v":36},{"$f":"[2]科技树属性分配!AI66","v":36},{"$f":"[2]科技树属性分配!AJ66","v":36},{"$f":"[2]科技树属性分配!AK66","v":36},null,{"$f":"$C$66&\"#\"&C68","v":"5#3"},{"$f":"$D$66&\"#\"&D68&\"|\"&$E$66&\"#\"&E68","v":"2#6|1#86"},{"$f":"$F$66&\"#\"&F68&\"|\"&$G$66&\"#\"&G68","v":"3#6|4#6"},{"$f":"$H$66&\"#\"&H68&\"|\"&$I$66&\"#\"&I68","v":"53#36|54#36"},{"$f":"$J$66&\"#\"&J68&\"|\"&$K$66&\"#\"&K68","v":"52#36|51#36"}]
[1302,2,{"$f":"[2]科技树属性分配!AC67","v":6},{"$f":"[2]科技树属性分配!AD67","v":13},{"$f":"[2]科技树属性分配!AE67","v":182},{"$f":"[2]科技树属性分配!AF67","v":14},{"$f":"[2]科技树属性分配!AG67","v":14},{"$f":"[2]科技树属性分配!AH67","v":91},{"$f":"[2]科技树属性分配!AI67","v":91},{"$f":"[2]科技树属性分配!AJ67","v":91},{"$f":"[2]科技树属性分配!AK67","v":91},null,"5#6","2#13|1#182","3#14|4#14","53#91|54#91","52#91|51#91"]
[1303,3,{"$f":"[2]科技树属性分配!AC68","v":9},{"$f":"[2]科技树属性分配!AD68","v":20},{"$f":"[2]科技树属性分配!AE68","v":288},{"$f":"[2]科技树属性分配!AF68","v":22},{"$f":"[2]科技树属性分配!AG68","v":22},{"$f":"[2]科技树属性分配!AH68","v":163},{"$f":"[2]科技树属性分配!AI68","v":163},{"$f":"[2]科技树属性分配!AJ68","v":163},{"$f":"[2]科技树属性分配!AK68","v":163},null,"5#9","2#20|1#288","3#22|4#22","53#163|54#163","52#163|51#163"]
[1304,4,{"$f":"[2]科技树属性分配!AC69","v":13},{"$f":"[2]科技树属性分配!AD69","v":28},{"$f":"[2]科技树属性分配!AE69","v":404},{"$f":"[2]科技树属性分配!AF69","v":30},{"$f":"[2]科技树属性分配!AG69","v":30},{"$f":"[2]科技树属性分配!AH69","v":254},{"$f":"[2]科技树属性分配!AI69","v":254},{"$f":"[2]科技树属性分配!AJ69","v":254},{"$f":"[2]科技树属性分配!AK69","v":254},null,"5#13","2#28|1#404","3#30|4#30","53#254|54#254","52#254|51#254"]
[1305,5,{"$f":"[2]科技树属性分配!AC70","v":17},{"$f":"[2]科技树属性分配!AD70","v":36},{"$f":"[2]科技树属性分配!AE70","v":530},{"$f":"[2]科技树属性分配!AF70","v":40},{"$f":"[2]科技树属性分配!AG70","v":40},{"$f":"[2]科技树属性分配!AH70","v":363},{"$f":"[2]科技树属性分配!AI70","v":363},{"$f":"[2]科技树属性分配!AJ70","v":363},{"$f":"[2]科技树属性分配!AK70","v":363},null,"5#17","2#36|1#530","3#40|4#40","53#363|54#363","52#363|51#363"]
[1306,6,{"$f":"[2]科技树属性分配!AC71","v":21},{"$f":"[2]科技树属性分配!AD71","v":46},{"$f":"[2]科技树属性分配!AE71","v":668},{"$f":"[2]科技树属性分配!AF71","v":50},{"$f":"[2]科技树属性分配!AG71","v":50},{"$f":"[2]科技树属性分配!AH71","v":489},{"$f":"[2]科技树属性分配!AI71","v":489},{"$f":"[2]科技树属性分配!AJ71","v":489},{"$f":"[2]科技树属性分配!AK71","v":489},null,"5#21","2#46|1#668","3#50|4#50","53#489|54#489","52#489|51#489"]
[1307,7,{"$f":"[2]科技树属性分配!AC72","v":26},{"$f":"[2]科技树属性分配!AD72","v":56},{"$f":"[2]科技树属性分配!AE72","v":818},{"$f":"[2]科技树属性分配!AF72","v":61},{"$f":"[2]科技树属性分配!AG72","v":61},{"$f":"[2]科技树属性分配!AH72","v":634},{"$f":"[2]科技树属性分配!AI72","v":634},{"$f":"[2]科技树属性分配!AJ72","v":634},{"$f":"[2]科技树属性分配!AK72","v":634},null,"5#26","2#56|1#818","3#61|4#61","53#634|54#634","52#634|51#634"]
[1308,8,{"$f":"[2]科技树属性分配!AC73","v":31},{"$f":"[2]科技树属性分配!AD73","v":67},{"$f":"[2]科技树属性分配!AE73","v":980},{"$f":"[2]科技树属性分配!AF73","v":74},{"$f":"[2]科技树属性分配!AG73","v":74},{"$f":"[2]科技树属性分配!AH73","v":798},{"$f":"[2]科技树属性分配!AI73","v":798},{"$f":"[2]科技树属性分配!AJ73","v":798},{"$f":"[2]科技树属性分配!AK73","v":798},null,"5#31","2#67|1#980","3#74|4#74","53#798|54#798","52#798|51#798"]
[1309,9,{"$f":"[2]科技树属性分配!AC74","v":36},{"$f":"[2]科技树属性分配!AD74","v":79},{"$f":"[2]科技树属性分配!AE74","v":1155},{"$f":"[2]科技树属性分配!AF74","v":87},{"$f":"[2]科技树属性分配!AG74","v":87},{"$f":"[2]科技树属性分配!AH74","v":986},{"$f":"[2]科技树属性分配!AI74","v":986},{"$f":"[2]科技树属性分配!AJ74","v":986},{"$f":"[2]科技树属性分配!AK74","v":986},null,"5#36","2#79|1#1155","3#87|4#87","53#986|54#986","52#986|51#986"]
[1310,10,{"$f":"[2]科技树属性分配!AC75","v":42},{"$f":"[2]科技树属性分配!AD75","v":92},{"$f":"[2]科技树属性分配!AE75","v":1342},{"$f":"[2]科技树属性分配!AF75","v":101},{"$f":"[2]科技树属性分配!AG75","v":101},{"$f":"[2]科技树属性分配!AH75","v":1200},{"$f":"[2]科技树属性分配!AI75","v":1200},{"$f":"[2]科技树属性分配!AJ75","v":1200},{"$f":"[2]科技树属性分配!AK75","v":1200},null,"5#42","2#92|1#1342","3#101|4#101","53#1200|54#1200","52#1200|51#1200"]
[1311,11,{"$f":"[2]科技树属性分配!AC76","v":48},{"$f":"[2]科技树属性分配!AD76","v":106},{"$f":"[2]科技树属性分配!AE76","v":1548},{"$f":"[2]科技树属性分配!AF76","v":116},{"$f":"[2]科技树属性分配!AG76","v":116},{"$f":"[2]科技树属性分配!AH76","v":0},{"$f":"[2]科技树属性分配!AI76","v":0},{"$f":"[2]科技树属性分配!AJ76","v":0},{"$f":"[2]科技树属性分配!AK76","v":0},null,"5#48","2#106|1#1548","3#116|4#116","53#0|54#0","52#0|51#0"]
[1312,12,{"$f":"[2]科技树属性分配!AC77","v":55},{"$f":"[2]科技树属性分配!AD77","v":122},{"$f":"[2]科技树属性分配!AE77","v":1772},{"$f":"[2]科技树属性分配!AF77","v":133},{"$f":"[2]科技树属性分配!AG77","v":133},{"$f":"[2]科技树属性分配!AH77","v":0},{"$f":"[2]科技树属性分配!AI77","v":0},{"$f":"[2]科技树属性分配!AJ77","v":0},{"$f":"[2]科技树属性分配!AK77","v":0},null,"5#55","2#122|1#1772","3#133|4#133","53#0|54#0","52#0|51#0"]
[1313,13,{"$f":"[2]科技树属性分配!AC78","v":63},{"$f":"[2]科技树属性分配!AD78","v":139},{"$f":"[2]科技树属性分配!AE78","v":2015},{"$f":"[2]科技树属性分配!AF78","v":151},{"$f":"[2]科技树属性分配!AG78","v":151},{"$f":"[2]科技树属性分配!AH78","v":0},{"$f":"[2]科技树属性分配!AI78","v":0},{"$f":"[2]科技树属性分配!AJ78","v":0},{"$f":"[2]科技树属性分配!AK78","v":0},null,"5#63","2#139|1#2015","3#151|4#151","53#0|54#0","52#0|51#0"]
[1314,14,{"$f":"[2]科技树属性分配!AC79","v":71},{"$f":"[2]科技树属性分配!AD79","v":156},{"$f":"[2]科技树属性分配!AE79","v":2276},{"$f":"[2]科技树属性分配!AF79","v":171},{"$f":"[2]科技树属性分配!AG79","v":171},{"$f":"[2]科技树属性分配!AH79","v":0},{"$f":"[2]科技树属性分配!AI79","v":0},{"$f":"[2]科技树属性分配!AJ79","v":0},{"$f":"[2]科技树属性分配!AK79","v":0},null,"5#71","2#156|1#2276","3#171|4#171","53#0|54#0","52#0|51#0"]
[1315,15,{"$f":"[2]科技树属性分配!AC80","v":80},{"$f":"[2]科技树属性分配!AD80","v":176},{"$f":"[2]科技树属性分配!AE80","v":2555},{"$f":"[2]科技树属性分配!AF80","v":192},{"$f":"[2]科技树属性分配!AG80","v":192},{"$f":"[2]科技树属性分配!AH80","v":0},{"$f":"[2]科技树属性分配!AI80","v":0},{"$f":"[2]科技树属性分配!AJ80","v":0},{"$f":"[2]科技树属性分配!AK80","v":0},null,"5#80","2#176|1#2555","3#192|4#192","53#0|54#0","52#0|51#0"]
[1316,16,{"$f":"[2]科技树属性分配!AC81","v":89},{"$f":"[2]科技树属性分配!AD81","v":196},{"$f":"[2]科技树属性分配!AE81","v":2857},{"$f":"[2]科技树属性分配!AF81","v":214},{"$f":"[2]科技树属性分配!AG81","v":214},{"$f":"[2]科技树属性分配!AH81","v":0},{"$f":"[2]科技树属性分配!AI81","v":0},{"$f":"[2]科技树属性分配!AJ81","v":0},{"$f":"[2]科技树属性分配!AK81","v":0},null,"5#89","2#196|1#2857","3#214|4#214","53#0|54#0","52#0|51#0"]
[1317,17,{"$f":"[2]科技树属性分配!AC82","v":99},{"$f":"[2]科技树属性分配!AD82","v":219},{"$f":"[2]科技树属性分配!AE82","v":3181},{"$f":"[2]科技树属性分配!AF82","v":239},{"$f":"[2]科技树属性分配!AG82","v":239},{"$f":"[2]科技树属性分配!AH82","v":0},{"$f":"[2]科技树属性分配!AI82","v":0},{"$f":"[2]科技树属性分配!AJ82","v":0},{"$f":"[2]科技树属性分配!AK82","v":0},null,"5#99","2#219|1#3181","3#239|4#239","53#0|54#0","52#0|51#0"]
[1318,18,{"$f":"[2]科技树属性分配!AC83","v":110},{"$f":"[2]科技树属性分配!AD83","v":242},{"$f":"[2]科技树属性分配!AE83","v":3527},{"$f":"[2]科技树属性分配!AF83","v":265},{"$f":"[2]科技树属性分配!AG83","v":265},{"$f":"[2]科技树属性分配!AH83","v":0},{"$f":"[2]科技树属性分配!AI83","v":0},{"$f":"[2]科技树属性分配!AJ83","v":0},{"$f":"[2]科技树属性分配!AK83","v":0},null,"5#110","2#242|1#3527","3#265|4#265","53#0|54#0","52#0|51#0"]
[1319,19,{"$f":"[2]科技树属性分配!AC84","v":122},{"$f":"[2]科技树属性分配!AD84","v":268},{"$f":"[2]科技树属性分配!AE84","v":3895},{"$f":"[2]科技树属性分配!AF84","v":292},{"$f":"[2]科技树属性分配!AG84","v":292},{"$f":"[2]科技树属性分配!AH84","v":0},{"$f":"[2]科技树属性分配!AI84","v":0},{"$f":"[2]科技树属性分配!AJ84","v":0},{"$f":"[2]科技树属性分配!AK84","v":0},null,"5#122","2#268|1#3895","3#292|4#292","53#0|54#0","52#0|51#0"]
[1320,20,{"$f":"[2]科技树属性分配!AC85","v":134},{"$f":"[2]科技树属性分配!AD85","v":295},{"$f":"[2]科技树属性分配!AE85","v":4286},{"$f":"[2]科技树属性分配!AF85","v":321},{"$f":"[2]科技树属性分配!AG85","v":321},{"$f":"[2]科技树属性分配!AH85","v":0},{"$f":"[2]科技树属性分配!AI85","v":0},{"$f":"[2]科技树属性分配!AJ85","v":0},{"$f":"[2]科技树属性分配!AK85","v":0},null,"5#134","2#295|1#4286","3#321|4#321","53#0|54#0","52#0|51#0"]
[1321,21,{"$f":"[2]科技树属性分配!AC86","v":147},{"$f":"[2]科技树属性分配!AD86","v":323},{"$f":"[2]科技树属性分配!AE86","v":4701},{"$f":"[2]科技树属性分配!AF86","v":353},{"$f":"[2]科技树属性分配!AG86","v":353},{"$f":"[2]科技树属性分配!AH86","v":0},{"$f":"[2]科技树属性分配!AI86","v":0},{"$f":"[2]科技树属性分配!AJ86","v":0},{"$f":"[2]科技树属性分配!AK86","v":0},null,"5#147","2#323|1#4701","3#353|4#353","53#0|54#0","52#0|51#0"]
[1322,22,{"$f":"[2]科技树属性分配!AC87","v":161},{"$f":"[2]科技树属性分配!AD87","v":353},{"$f":"[2]科技树属性分配!AE87","v":5141},{"$f":"[2]科技树属性分配!AF87","v":386},{"$f":"[2]科技树属性分配!AG87","v":386},{"$f":"[2]科技树属性分配!AH87","v":0},{"$f":"[2]科技树属性分配!AI87","v":0},{"$f":"[2]科技树属性分配!AJ87","v":0},{"$f":"[2]科技树属性分配!AK87","v":0},null,"5#161","2#353|1#5141","3#386|4#386","53#0|54#0","52#0|51#0"]
[1323,23,{"$f":"[2]科技树属性分配!AC88","v":175},{"$f":"[2]科技树属性分配!AD88","v":385},{"$f":"[2]科技树属性分配!AE88","v":5605},{"$f":"[2]科技树属性分配!AF88","v":420},{"$f":"[2]科技树属性分配!AG88","v":420},{"$f":"[2]科技树属性分配!AH88","v":0},{"$f":"[2]科技树属性分配!AI88","v":0},{"$f":"[2]科技树属性分配!AJ88","v":0},{"$f":"[2]科技树属性分配!AK88","v":0},null,"5#175","2#385|1#5605","3#420|4#420","53#0|54#0","52#0|51#0"]
[1324,24,{"$f":"[2]科技树属性分配!AC89","v":190},{"$f":"[2]科技树属性分配!AD89","v":419},{"$f":"[2]科技树属性分配!AE89","v":6094},{"$f":"[2]科技树属性分配!AF89","v":457},{"$f":"[2]科技树属性分配!AG89","v":457},{"$f":"[2]科技树属性分配!AH89","v":0},{"$f":"[2]科技树属性分配!AI89","v":0},{"$f":"[2]科技树属性分配!AJ89","v":0},{"$f":"[2]科技树属性分配!AK89","v":0},null,"5#190","2#419|1#6094","3#457|4#457","53#0|54#0","52#0|51#0"]
[1325,25,{"$f":"[2]科技树属性分配!AC90","v":206},{"$f":"[2]科技树属性分配!AD90","v":454},{"$f":"[2]科技树属性分配!AE90","v":6607},{"$f":"[2]科技树属性分配!AF90","v":496},{"$f":"[2]科技树属性分配!AG90","v":496},{"$f":"[2]科技树属性分配!AH90","v":0},{"$f":"[2]科技树属性分配!AI90","v":0},{"$f":"[2]科技树属性分配!AJ90","v":0},{"$f":"[2]科技树属性分配!AK90","v":0},null,"5#206","2#454|1#6607","3#496|4#496","53#0|54#0","52#0|51#0"]
[1326,26,{"$f":"[2]科技树属性分配!AC91","v":223},{"$f":"[2]科技树属性分配!AD91","v":492},{"$f":"[2]科技树属性分配!AE91","v":7149},{"$f":"[2]科技树属性分配!AF91","v":536},{"$f":"[2]科技树属性分配!AG91","v":536},{"$f":"[2]科技树属性分配!AH91","v":0},{"$f":"[2]科技树属性分配!AI91","v":0},{"$f":"[2]科技树属性分配!AJ91","v":0},{"$f":"[2]科技树属性分配!AK91","v":0},null,"5#223","2#492|1#7149","3#536|4#536","53#0|54#0","52#0|51#0"]
[1327,27,{"$f":"[2]科技树属性分配!AC92","v":241},{"$f":"[2]科技树属性分配!AD92","v":531},{"$f":"[2]科技树属性分配!AE92","v":7719},{"$f":"[2]科技树属性分配!AF92","v":579},{"$f":"[2]科技树属性分配!AG92","v":579},{"$f":"[2]科技树属性分配!AH92","v":0},{"$f":"[2]科技树属性分配!AI92","v":0},{"$f":"[2]科技树属性分配!AJ92","v":0},{"$f":"[2]科技树属性分配!AK92","v":0},null,"5#241","2#531|1#7719","3#579|4#579","53#0|54#0","52#0|51#0"]
[1328,28,{"$f":"[2]科技树属性分配!AC93","v":260},{"$f":"[2]科技树属性分配!AD93","v":572},{"$f":"[2]科技树属性分配!AE93","v":8318},{"$f":"[2]科技树属性分配!AF93","v":624},{"$f":"[2]科技树属性分配!AG93","v":624},{"$f":"[2]科技树属性分配!AH93","v":0},{"$f":"[2]科技树属性分配!AI93","v":0},{"$f":"[2]科技树属性分配!AJ93","v":0},{"$f":"[2]科技树属性分配!AK93","v":0},null,"5#260","2#572|1#8318","3#624|4#624","53#0|54#0","52#0|51#0"]
[1329,29,{"$f":"[2]科技树属性分配!AC94","v":280},{"$f":"[2]科技树属性分配!AD94","v":615},{"$f":"[2]科技树属性分配!AE94","v":8945},{"$f":"[2]科技树属性分配!AF94","v":671},{"$f":"[2]科技树属性分配!AG94","v":671},{"$f":"[2]科技树属性分配!AH94","v":0},{"$f":"[2]科技树属性分配!AI94","v":0},{"$f":"[2]科技树属性分配!AJ94","v":0},{"$f":"[2]科技树属性分配!AK94","v":0},null,"5#280","2#615|1#8945","3#671|4#671","53#0|54#0","52#0|51#0"]
[1330,30,{"$f":"[2]科技树属性分配!AC95","v":300},{"$f":"[2]科技树属性分配!AD95","v":660},{"$f":"[2]科技树属性分配!AE95","v":9600},{"$f":"[2]科技树属性分配!AF95","v":720},{"$f":"[2]科技树属性分配!AG95","v":720},{"$f":"[2]科技树属性分配!AH95","v":0},{"$f":"[2]科技树属性分配!AI95","v":0},{"$f":"[2]科技树属性分配!AJ95","v":0},{"$f":"[2]科技树属性分配!AK95","v":0},null,"5#300","2#660|1#9600","3#720|4#720","53#0|54#0","52#0|51#0"]
[null,"武卫"]
[null,"一层",{"$f":"C2","v":1},{"$f":"D2","v":3},{"$f":"E2","v":4},{"$f":"F2","v":54},{"$f":"G2","v":52}]
[{"$f":"A3+1000","v":2100},{"$f":"B3","v":0},{"$f":"B100","v":0},{"$f":"C100","v":0},{"$f":"D100","v":0},{"$f":"E100","v":0},{"$f":"F100","v":0},{"$nulls":5},{"$f":"$C$2&\"#\"&C100","v":"1#0"},{"$f":"$D$2&\"#\"&D100","v":"3#0"},{"$f":"$E$2&\"#\"&E100","v":"4#0"},{"$f":"$F$2&\"#\"&F100","v":"54#0"},{"$f":"$G$2&\"#\"&G100","v":"52#0"}]
[{"$f":"A4+1000","v":2101},{"$f":"B4","v":1},{"$f":"[2]科技树属性分配!AC98","v":44},{"$f":"[2]科技树属性分配!AD98","v":2},{"$f":"[2]科技树属性分配!AE98","v":2},{"$f":"[2]科技树属性分配!AF98","v":44},{"$f":"[2]科技树属性分配!AG98","v":44},{"$nulls":5},"1#44","3#2","4#2","54#44","52#44"]
[2102,2,{"$f":"[2]科技树属性分配!AC99","v":125},{"$f":"[2]科技树属性分配!AD99","v":5},{"$f":"[2]科技树属性分配!AE99","v":5},{"$f":"[2]科技树属性分配!AF99","v":109},{"$f":"[2]科技树属性分配!AG99","v":109},{"$nulls":5},"1#125","3#5","4#5","54#109","52#109"]
[2103,3,{"$f":"[2]科技树属性分配!AC100","v":245},{"$f":"[2]科技树属性分配!AD100","v":10},{"$f":"[2]科技树属性分配!AE100","v":10},{"$f":"[2]科技树属性分配!AF100","v":196},{"$f":"[2]科技树属性分配!AG100","v":196},{"$nulls":5},"1#245","3#10","4#10","54#196","52#196"]
[2104,4,{"$f":"[2]科技树属性分配!AC101","v":404},{"$f":"[2]科技树属性分配!AD101","v":17},{"$f":"[2]科技树属性分配!AE101","v":17},{"$f":"[2]科技树属性分配!AF101","v":305},{"$f":"[2]科技树属性分配!AG101","v":305},{"$nulls":5},"1#404","3#17","4#17","54#305","52#305"]
[2105,5,{"$f":"[2]科技树属性分配!AC102","v":600},{"$f":"[2]科技树属性分配!AD102","v":26},{"$f":"[2]科技树属性分配!AE102","v":26},{"$f":"[2]科技树属性分配!AF102","v":436},{"$f":"[2]科技树属性分配!AG102","v":436},{"$nulls":5},"1#600","3#26","4#26","54#436","52#436"]
[2106,6,{"$f":"[2]科技树属性分配!AC103","v":835},{"$f":"[2]科技树属性分配!AD103","v":35},{"$f":"[2]科技树属性分配!AE103","v":35},{"$f":"[2]科技树属性分配!AF103","v":611},{"$f":"[2]科技树属性分配!AG103","v":611},{"$nulls":5},"1#835","3#35","4#35","54#611","52#611"]
[2107,7,{"$f":"[2]科技树属性分配!AC104","v":1107},{"$f":"[2]科技树属性分配!AD104","v":47},{"$f":"[2]科技树属性分配!AE104","v":47},{"$f":"[2]科技树属性分配!AF104","v":829},{"$f":"[2]科技树属性分配!AG104","v":829},{"$nulls":5},"1#1107","3#47","4#47","54#829","52#829"]
[2108,8,{"$f":"[2]科技树属性分配!AC105","v":1418},{"$f":"[2]科技树属性分配!AD105","v":60},{"$f":"[2]科技树属性分配!AE105","v":60},{"$f":"[2]科技树属性分配!AF105","v":1091},{"$f":"[2]科技树属性分配!AG105","v":1091},{"$nulls":5},"1#1418","3#60","4#60","54#1091","52#1091"]
[2109,9,{"$f":"[2]科技树属性分配!AC106","v":1767},{"$f":"[2]科技树属性分配!AD106","v":75},{"$f":"[2]科技树属性分配!AE106","v":75},{"$f":"[2]科技树属性分配!AF106","v":1407},{"$f":"[2]科技树属性分配!AG106","v":1407},{"$nulls":5},"1#1767","3#75","4#75","54#1407","52#1407"]
[2110,10,{"$f":"[2]科技树属性分配!AC107","v":2155},{"$f":"[2]科技树属性分配!AD107","v":92},{"$f":"[2]科技树属性分配!AE107","v":92},{"$f":"[2]科技树属性分配!AF107","v":1800},{"$f":"[2]科技树属性分配!AG107","v":1800},{"$nulls":5},"1#2155","3#92","4#92","54#1800","52#1800"]
[2111,11,{"$f":"[2]科技树属性分配!AC108","v":2580},{"$f":"[2]科技树属性分配!AD108","v":110},{"$f":"[2]科技树属性分配!AE108","v":110},{"$f":"[2]科技树属性分配!AF108","v":0},{"$f":"[2]科技树属性分配!AG108","v":0},{"$nulls":5},"1#2580","3#110","4#110","54#0","52#0"]
[2112,12,{"$f":"[2]科技树属性分配!AC109","v":3044},{"$f":"[2]科技树属性分配!AD109","v":129},{"$f":"[2]科技树属性分配!AE109","v":129},{"$f":"[2]科技树属性分配!AF109","v":0},{"$f":"[2]科技树属性分配!AG109","v":0},{"$nulls":5},"1#3044","3#129","4#129","54#0","52#0"]
[2113,13,{"$f":"[2]科技树属性分配!AC110","v":3545},{"$f":"[2]科技树属性分配!AD110","v":151},{"$f":"[2]科技树属性分配!AE110","v":151},{"$f":"[2]科技树属性分配!AF110","v":0},{"$f":"[2]科技树属性分配!AG110","v":0},{"$nulls":5},"1#3545","3#151","4#151","54#0","52#0"]
[2114,14,{"$f":"[2]科技树属性分配!AC111","v":4085},{"$f":"[2]科技树属性分配!AD111","v":174},{"$f":"[2]科技树属性分配!AE111","v":174},{"$f":"[2]科技树属性分配!AF111","v":0},{"$f":"[2]科技树属性分配!AG111","v":0},{"$nulls":5},"1#4085","3#174","4#174","54#0","52#0"]
[2115,15,{"$f":"[2]科技树属性分配!AC112","v":4664},{"$f":"[2]科技树属性分配!AD112","v":198},{"$f":"[2]科技树属性分配!AE112","v":198},{"$f":"[2]科技树属性分配!AF112","v":0},{"$f":"[2]科技树属性分配!AG112","v":0},{"$nulls":5},"1#4664","3#198","4#198","54#0","52#0"]
[2116,16,{"$f":"[2]科技树属性分配!AC113","v":5280},{"$f":"[2]科技树属性分配!AD113","v":224},{"$f":"[2]科技树属性分配!AE113","v":224},{"$f":"[2]科技树属性分配!AF113","v":0},{"$f":"[2]科技树属性分配!AG113","v":0},{"$nulls":5},"1#5280","3#224","4#224","54#0","52#0"]
[2117,17,{"$f":"[2]科技树属性分配!AC114","v":5935},{"$f":"[2]科技树属性分配!AD114","v":252},{"$f":"[2]科技树属性分配!AE114","v":252},{"$f":"[2]科技树属性分配!AF114","v":0},{"$f":"[2]科技树属性分配!AG114","v":0},{"$nulls":5},"1#5935","3#252","4#252","54#0","52#0"]
[2118,18,{"$f":"[2]科技树属性分配!AC115","v":6627},{"$f":"[2]科技树属性分配!AD115","v":282},{"$f":"[2]科技树属性分配!AE115","v":282},{"$f":"[2]科技树属性分配!AF115","v":0},{"$f":"[2]科技树属性分配!AG115","v":0},{"$nulls":5},"1#6627","3#282","4#282","54#0","52#0"]
[2119,19,{"$f":"[2]科技树属性分配!AC116","v":7358},{"$f":"[2]科技树属性分配!AD116","v":313},{"$f":"[2]科技树属性分配!AE116","v":313},{"$f":"[2]科技树属性分配!AF116","v":0},{"$f":"[2]科技树属性分配!AG116","v":0},{"$nulls":5},"1#7358","3#313","4#313","54#0","52#0"]
[2120,20,{"$f":"[2]科技树属性分配!AC117","v":8127},{"$f":"[2]科技树属性分配!AD117","v":345},{"$f":"[2]科技树属性分配!AE117","v":345},{"$f":"[2]科技树属性分配!AF117","v":0},{"$f":"[2]科技树属性分配!AG117","v":0},{"$nulls":5},"1#8127","3#345","4#345","54#0","52#0"]
[2121,21,{"$f":"[2]科技树属性分配!AC118","v":8935},{"$f":"[2]科技树属性分配!AD118","v":380},{"$f":"[2]科技树属性分配!AE118","v":380},{"$f":"[2]科技树属性分配!AF118","v":0},{"$f":"[2]科技树属性分配!AG118","v":0},{"$nulls":5},"1#8935","3#380","4#380","54#0","52#0"]
[2122,22,{"$f":"[2]科技树属性分配!AC119","v":9780},{"$f":"[2]科技树属性分配!AD119","v":416},{"$f":"[2]科技树属性分配!AE119","v":416},{"$f":"[2]科技树属性分配!AF119","v":0},{"$f":"[2]科技树属性分配!AG119","v":0},{"$nulls":5},"1#9780","3#416","4#416","54#0","52#0"]
[2123,23,{"$f":"[2]科技树属性分配!AC120","v":10664},{"$f":"[2]科技树属性分配!AD120","v":453},{"$f":"[2]科技树属性分配!AE120","v":453},{"$f":"[2]科技树属性分配!AF120","v":0},{"$f":"[2]科技树属性分配!AG120","v":0},{"$nulls":5},"1#10664","3#453","4#453","54#0","52#0"]
[2124,24,{"$f":"[2]科技树属性分配!AC121","v":11585},{"$f":"[2]科技树属性分配!AD121","v":492},{"$f":"[2]科技树属性分配!AE121","v":492},{"$f":"[2]科技树属性分配!AF121","v":0},{"$f":"[2]科技树属性分配!AG121","v":0},{"$nulls":5},"1#11585","3#492","4#492","54#0","52#0"]
[2125,25,{"$f":"[2]科技树属性分配!AC122","v":12545},{"$f":"[2]科技树属性分配!AD122","v":533},{"$f":"[2]科技树属性分配!AE122","v":533},{"$f":"[2]科技树属性分配!AF122","v":0},{"$f":"[2]科技树属性分配!AG122","v":0},{"$nulls":5},"1#12545","3#533","4#533","54#0","52#0"]
[2126,26,{"$f":"[2]科技树属性分配!AC123","v":13549},{"$f":"[2]科技树属性分配!AD123","v":576},{"$f":"[2]科技树属性分配!AE123","v":576},{"$f":"[2]科技树属性分配!AF123","v":0},{"$f":"[2]科技树属性分配!AG123","v":0},{"$nulls":5},"1#13549","3#576","4#576","54#0","52#0"]
[2127,27,{"$f":"[2]科技树属性分配!AC124","v":14596},{"$f":"[2]科技树属性分配!AD124","v":620},{"$f":"[2]科技树属性分配!AE124","v":620},{"$f":"[2]科技树属性分配!AF124","v":0},{"$f":"[2]科技树属性分配!AG124","v":0},{"$nulls":5},"1#14596","3#620","4#620","54#0","52#0"]
[2128,28,{"$f":"[2]科技树属性分配!AC125","v":15687},{"$f":"[2]科技树属性分配!AD125","v":667},{"$f":"[2]科技树属性分配!AE125","v":667},{"$f":"[2]科技树属性分配!AF125","v":0},{"$f":"[2]科技树属性分配!AG125","v":0},{"$nulls":5},"1#15687","3#667","4#667","54#0","52#0"]
[2129,29,{"$f":"[2]科技树属性分配!AC126","v":16822},{"$f":"[2]科技树属性分配!AD126","v":715},{"$f":"[2]科技树属性分配!AE126","v":715},{"$f":"[2]科技树属性分配!AF126","v":0},{"$f":"[2]科技树属性分配!AG126","v":0},{"$nulls":5},"1#16822","3#715","4#715","54#0","52#0"]
[2130,30,{"$f":"[2]科技树属性分配!AC127","v":18000},{"$f":"[2]科技树属性分配!AD127","v":765},{"$f":"[2]科技树属性分配!AE127","v":765},{"$f":"[2]科技树属性分配!AF127","v":0},{"$f":"[2]科技树属性分配!AG127","v":0},{"$nulls":5},"1#18000","3#765","4#765","54#0","52#0"]
[null,"三层",{"$f":"C34","v":2},55,56,{"$f":"F34","v":53},{"$f":"G34","v":51}]
[{"$f":"A35+1000","v":2200},{"$f":"B100","v":0},{"$f":"B132","v":0},{"$f":"C132","v":0},{"$f":"D132","v":0},{"$f":"E132","v":0},{"$f":"F132","v":0},{"$nulls":5},{"$f":"$C$34&\"#\"&C132","v":"2#0"},{"$f":"$D$131&\"#\"&D132","v":"55#0"},{"$f":"$E$131&\"#\"&E132","v":"56#0"},{"$f":"$F$34&\"#\"&F132","v":"53#0"},{"$f":"$G$34&\"#\"&G132","v":"51#0"}]
[2201,1,{"$f":"[2]科技树属性分配!AC129","v":2},{"$f":"[2]科技树属性分配!AD129","v":58},{"$f":"[2]科技树属性分配!AE129","v":58},{"$f":"[2]科技树属性分配!AF129","v":42},{"$f":"[2]科技树属性分配!AG129","v":42},{"$nulls":5},"2#2",{"$f":"$D$131&\"#\"&D133","v":"55#58"},{"$f":"$E$131&\"#\"&E133","v":"56#58"},"53#42","51#42"]
[2202,2,{"$f":"[2]科技树属性分配!AC130","v":5},{"$f":"[2]科技树属性分配!AD130","v":154},{"$f":"[2]科技树属性分配!AE130","v":154},{"$f":"[2]科技树属性分配!AF130","v":108},{"$f":"[2]科技树属性分配!AG130","v":108},{"$nulls":5},"2#5","55#154","56#154","53#108","51#108"]
[2203,3,{"$f":"[2]科技树属性分配!AC131","v":10},{"$f":"[2]科技树属性分配!AD131","v":288},{"$f":"[2]科技树属性分配!AE131","v":288},{"$f":"[2]科技树属性分配!AF131","v":201},{"$f":"[2]科技树属性分配!AG131","v":201},{"$nulls":5},"2#10","55#288","56#288","53#201","51#201"]
[2204,4,{"$f":"[2]科技树属性分配!AC132","v":16},{"$f":"[2]科技树属性分配!AD132","v":462},{"$f":"[2]科技树属性分配!AE132","v":462},{"$f":"[2]科技树属性分配!AF132","v":318},{"$f":"[2]科技树属性分配!AG132","v":318},{"$nulls":5},"2#16","55#462","56#462","53#318","51#318"]
[2205,5,{"$f":"[2]科技树属性分配!AC133","v":24},{"$f":"[2]科技树属性分配!AD133","v":673},{"$f":"[2]科技树属性分配!AE133","v":673},{"$f":"[2]科技树属性分配!AF133","v":462},{"$f":"[2]科技树属性分配!AG133","v":462},{"$nulls":5},"2#24","55#673","56#673","53#462","51#462"]
[2206,6,{"$f":"[2]科技树属性分配!AC134","v":33},{"$f":"[2]科技树属性分配!AD134","v":962},{"$f":"[2]科技树属性分配!AE134","v":962},{"$f":"[2]科技树属性分配!AF134","v":646},{"$f":"[2]科技树属性分配!AG134","v":646},{"$nulls":5},"2#33","55#962","56#962","53#646","51#646"]
[2207,7,{"$f":"[2]科技树属性分配!AC135","v":44},{"$f":"[2]科技树属性分配!AD135","v":1327},{"$f":"[2]科技树属性分配!AE135","v":1327},{"$f":"[2]科技树属性分配!AF135","v":872},{"$f":"[2]科技树属性分配!AG135","v":872},{"$nulls":5},"2#44","55#1327","56#1327","53#872","51#872"]
[2208,8,{"$f":"[2]科技树属性分配!AC136","v":57},{"$f":"[2]科技树属性分配!AD136","v":1769},{"$f":"[2]科技树属性分配!AE136","v":1769},{"$f":"[2]科技树属性分配!AF136","v":1140},{"$f":"[2]科技树属性分配!AG136","v":1140},{"$nulls":5},"2#57","55#1769","56#1769","53#1140","51#1140"]
[2209,9,{"$f":"[2]科技树属性分配!AC137","v":71},{"$f":"[2]科技树属性分配!AD137","v":2327},{"$f":"[2]科技树属性分配!AE137","v":2327},{"$f":"[2]科技树属性分配!AF137","v":1449},{"$f":"[2]科技树属性分配!AG137","v":1449},{"$nulls":5},"2#71","55#2327","56#2327","53#1449","51#1449"]
[2210,10,{"$f":"[2]科技树属性分配!AC138","v":86},{"$f":"[2]科技树属性分配!AD138","v":3000},{"$f":"[2]科技树属性分配!AE138","v":3000},{"$f":"[2]科技树属性分配!AF138","v":1800},{"$f":"[2]科技树属性分配!AG138","v":1800},{"$nulls":5},"2#86","55#3000","56#3000","53#1800","51#1800"]
[2211,11,{"$f":"[2]科技树属性分配!AC139","v":103},{"$f":"[2]科技树属性分配!AD139","v":0},{"$f":"[2]科技树属性分配!AE139","v":0},{"$f":"[2]科技树属性分配!AF139","v":0},{"$f":"[2]科技树属性分配!AG139","v":0},{"$nulls":5},"2#103","55#0","56#0","53#0","51#0"]
[2212,12,{"$f":"[2]科技树属性分配!AC140","v":122},{"$f":"[2]科技树属性分配!AD140","v":0},{"$f":"[2]科技树属性分配!AE140","v":0},{"$f":"[2]科技树属性分配!AF140","v":0},{"$f":"[2]科技树属性分配!AG140","v":0},{"$nulls":5},"2#122","55#0","56#0","53#0","51#0"]
[2213,13,{"$f":"[2]科技树属性分配!AC141","v":142},{"$f":"[2]科技树属性分配!AD141","v":0},{"$f":"[2]科技树属性分配!AE141","v":0},{"$f":"[2]科技树属性分配!AF141","v":0},{"$f":"[2]科技树属性分配!AG141","v":0},{"$nulls":5},"2#142","55#0","56#0","53#0","51#0"]
[2214,14,{"$f":"[2]科技树属性分配!AC142","v":163},{"$f":"[2]科技树属性分配!AD142","v":0},{"$f":"[2]科技树属性分配!AE142","v":0},{"$f":"[2]科技树属性分配!AF142","v":0},{"$f":"[2]科技树属性分配!AG142","v":0},{"$nulls":5},"2#163","55#0","56#0","53#0","51#0"]
[2215,15,{"$f":"[2]科技树属性分配!AC143","v":187},{"$f":"[2]科技树属性分配!AD143","v":0},{"$f":"[2]科技树属性分配!AE143","v":0},{"$f":"[2]科技树属性分配!AF143","v":0},{"$f":"[2]科技树属性分配!AG143","v":0},{"$nulls":5},"2#187","55#0","56#0","53#0","51#0"]
[2216,16,{"$f":"[2]科技树属性分配!AC144","v":211},{"$f":"[2]科技树属性分配!AD144","v":0},{"$f":"[2]科技树属性分配!AE144","v":0},{"$f":"[2]科技树属性分配!AF144","v":0},{"$f":"[2]科技树属性分配!AG144","v":0},{"$nulls":5},"2#211","55#0","56#0","53#0","51#0"]
[2217,17,{"$f":"[2]科技树属性分配!AC145","v":237},{"$f":"[2]科技树属性分配!AD145","v":0},{"$f":"[2]科技树属性分配!AE145","v":0},{"$f":"[2]科技树属性分配!AF145","v":0},{"$f":"[2]科技树属性分配!AG145","v":0},{"$nulls":5},"2#237","55#0","56#0","53#0","51#0"]
[2218,18,{"$f":"[2]科技树属性分配!AC146","v":265},{"$f":"[2]科技树属性分配!AD146","v":0},{"$f":"[2]科技树属性分配!AE146","v":0},{"$f":"[2]科技树属性分配!AF146","v":0},{"$f":"[2]科技树属性分配!AG146","v":0},{"$nulls":5},"2#265","55#0","56#0","53#0","51#0"]
[2219,19,{"$f":"[2]科技树属性分配!AC147","v":294},{"$f":"[2]科技树属性分配!AD147","v":0},{"$f":"[2]科技树属性分配!AE147","v":0},{"$f":"[2]科技树属性分配!AF147","v":0},{"$f":"[2]科技树属性分配!AG147","v":0},{"$nulls":5},"2#294","55#0","56#0","53#0","51#0"]
[2220,20,{"$f":"[2]科技树属性分配!AC148","v":325},{"$f":"[2]科技树属性分配!AD148","v":0},{"$f":"[2]科技树属性分配!AE148","v":0},{"$f":"[2]科技树属性分配!AF148","v":0},{"$f":"[2]科技树属性分配!AG148","v":0},{"$nulls":5},"2#325","55#0","56#0","53#0","51#0"]
[2221,21,{"$f":"[2]科技树属性分配!AC149","v":357},{"$f":"[2]科技树属性分配!AD149","v":0},{"$f":"[2]科技树属性分配!AE149","v":0},{"$f":"[2]科技树属性分配!AF149","v":0},{"$f":"[2]科技树属性分配!AG149","v":0},{"$nulls":5},"2#357","55#0","56#0","53#0","51#0"]
[2222,22,{"$f":"[2]科技树属性分配!AC150","v":391},{"$f":"[2]科技树属性分配!AD150","v":0},{"$f":"[2]科技树属性分配!AE150","v":0},{"$f":"[2]科技树属性分配!AF150","v":0},{"$f":"[2]科技树属性分配!AG150","v":0},{"$nulls":5},"2#391","55#0","56#0","53#0","51#0"]
[2223,23,{"$f":"[2]科技树属性分配!AC151","v":427},{"$f":"[2]科技树属性分配!AD151","v":0},{"$f":"[2]科技树属性分配!AE151","v":0},{"$f":"[2]科技树属性分配!AF151","v":0},{"$f":"[2]科技树属性分配!AG151","v":0},{"$nulls":5},"2#427","55#0","56#0","53#0","51#0"]
[2224,24,{"$f":"[2]科技树属性分配!AC152","v":463},{"$f":"[2]科技树属性分配!AD152","v":0},{"$f":"[2]科技树属性分配!AE152","v":0},{"$f":"[2]科技树属性分配!AF152","v":0},{"$f":"[2]科技树属性分配!AG152","v":0},{"$nulls":5},"2#463","55#0","56#0","53#0","51#0"]
[2225,25,{"$f":"[2]科技树属性分配!AC153","v":502},{"$f":"[2]科技树属性分配!AD153","v":0},{"$f":"[2]科技树属性分配!AE153","v":0},{"$f":"[2]科技树属性分配!AF153","v":0},{"$f":"[2]科技树属性分配!AG153","v":0},{"$nulls":5},{"$f":"$C$34&\"#\"&C157","v":"2#502"},"55#0","56#0",{"$f":"$F$34&\"#\"&F157","v":"53#0"},{"$f":"$G$34&\"#\"&G157","v":"51#0"}]
[2226,26,{"$f":"[2]科技树属性分配!AC154","v":542},{"$f":"[2]科技树属性分配!AD154","v":0},{"$f":"[2]科技树属性分配!AE154","v":0},{"$f":"[2]科技树属性分配!AF154","v":0},{"$f":"[2]科技树属性分配!AG154","v":0},{"$nulls":5},"2#542","55#0","56#0","53#0","51#0"]
[2227,27,{"$f":"[2]科技树属性分配!AC155","v":584},{"$f":"[2]科技树属性分配!AD155","v":0},{"$f":"[2]科技树属性分配!AE155","v":0},{"$f":"[2]科技树属性分配!AF155","v":0},{"$f":"[2]科技树属性分配!AG155","v":0},{"$nulls":5},"2#584","55#0","56#0","53#0","51#0"]
[2228,28,{"$f":"[2]科技树属性分配!AC156","v":627},{"$f":"[2]科技树属性分配!AD156","v":0},{"$f":"[2]科技树属性分配!AE156","v":0},{"$f":"[2]科技树属性分配!AF156","v":0},{"$f":"[2]科技树属性分配!AG156","v":0},{"$nulls":5},"2#627","55#0","56#0","53#0","51#0"]
[2229,29,{"$f":"[2]科技树属性分配!AC157","v":673},{"$f":"[2]科技树属性分配!AD157","v":0},{"$f":"[2]科技树属性分配!AE157","v":0},{"$f":"[2]科技树属性分配!AF157","v":0},{"$f":"[2]科技树属性分配!AG157","v":0},{"$nulls":5},"2#673","55#0","56#0","53#0","51#0"]
[2230,30,{"$f":"[2]科技树属性分配!AC158","v":720},{"$f":"[2]科技树属性分配!AD158","v":0},{"$f":"[2]科技树属性分配!AE158","v":0},{"$f":"[2]科技树属性分配!AF158","v":0},{"$f":"[2]科技树属性分配!AG158","v":0},{"$nulls":5},"2#720","55#0","56#0","53#0","51#0"]
[null,"三层",5,2,1,3,4,53,54,52,51]
[{"$f":"A67+1000","v":2300},0,0,0,0,0,0,0,0,0,0,null,{"$f":"$C$66&\"#\"&C164","v":"5#0"},{"$f":"$D$66&\"#\"&D164&\"|\"&$E$66&\"#\"&E164","v":"2#0|1#0"},{"$f":"$F$66&\"#\"&F164&\"|\"&$G$66&\"#\"&G164","v":"3#0|4#0"},{"$f":"$H$66&\"#\"&H164&\"|\"&$I$66&\"#\"&I164","v":"53#0|54#0"},{"$f":"$J$66&\"#\"&J164&\"|\"&$K$66&\"#\"&K164","v":"52#0|51#0"}]
[2301,1,{"$f":"[2]科技树属性分配!AC160","v":4},{"$f":"[2]科技树属性分配!AD160","v":4},{"$f":"[2]科技树属性分配!AE160","v":108},{"$f":"[2]科技树属性分配!AF160","v":5},{"$f":"[2]科技树属性分配!AG160","v":5},{"$f":"[2]科技树属性分配!AH160","v":36},{"$f":"[2]科技树属性分配!AI160","v":36},{"$f":"[2]科技树属性分配!AJ160","v":36},{"$f":"[2]科技树属性分配!AK160","v":36},null,"5#4","2#4|1#108","3#5|4#5","53#36|54#36","52#36|51#36"]
[2302,2,{"$f":"[2]科技树属性分配!AC161","v":8},{"$f":"[2]科技树属性分配!AD161","v":9},{"$f":"[2]科技树属性分配!AE161","v":228},{"$f":"[2]科技树属性分配!AF161","v":10},{"$f":"[2]科技树属性分配!AG161","v":10},{"$f":"[2]科技树属性分配!AH161","v":91},{"$f":"[2]科技树属性分配!AI161","v":91},{"$f":"[2]科技树属性分配!AJ161","v":91},{"$f":"[2]科技树属性分配!AK161","v":91},null,"5#8","2#9|1#228","3#10|4#10","53#91|54#91","52#91|51#91"]
[2303,3,{"$f":"[2]科技树属性分配!AC162","v":12},{"$f":"[2]科技树属性分配!AD162","v":14},{"$f":"[2]科技树属性分配!AE162","v":360},{"$f":"[2]科技树属性分配!AF162","v":15},{"$f":"[2]科技树属性分配!AG162","v":15},{"$f":"[2]科技树属性分配!AH162","v":163},{"$f":"[2]科技树属性分配!AI162","v":163},{"$f":"[2]科技树属性分配!AJ162","v":163},{"$f":"[2]科技树属性分配!AK162","v":163},null,"5#12","2#14|1#360","3#15|4#15","53#163|54#163","52#163|51#163"]
[2304,4,{"$f":"[2]科技树属性分配!AC163","v":17},{"$f":"[2]科技树属性分配!AD163","v":20},{"$f":"[2]科技树属性分配!AE163","v":505},{"$f":"[2]科技树属性分配!AF163","v":21},{"$f":"[2]科技树属性分配!AG163","v":21},{"$f":"[2]科技树属性分配!AH163","v":254},{"$f":"[2]科技树属性分配!AI163","v":254},{"$f":"[2]科技树属性分配!AJ163","v":254},{"$f":"[2]科技树属性分配!AK163","v":254},null,"5#17","2#20|1#505","3#21|4#21","53#254|54#254","52#254|51#254"]
[2305,5,{"$f":"[2]科技树属性分配!AC164","v":22},{"$f":"[2]科技树属性分配!AD164","v":26},{"$f":"[2]科技树属性分配!AE164","v":662},{"$f":"[2]科技树属性分配!AF164","v":28},{"$f":"[2]科技树属性分配!AG164","v":28},{"$f":"[2]科技树属性分配!AH164","v":363},{"$f":"[2]科技树属性分配!AI164","v":363},{"$f":"[2]科技树属性分配!AJ164","v":363},{"$f":"[2]科技树属性分配!AK164","v":363},null,"5#22","2#26|1#662","3#28|4#28","53#363|54#363","52#363|51#363"]
[2306,6,{"$f":"[2]科技树属性分配!AC165","v":28},{"$f":"[2]科技树属性分配!AD165","v":33},{"$f":"[2]科技树属性分配!AE165","v":834},{"$f":"[2]科技树属性分配!AF165","v":35},{"$f":"[2]科技树属性分配!AG165","v":35},{"$f":"[2]科技树属性分配!AH165","v":489},{"$f":"[2]科技树属性分配!AI165","v":489},{"$f":"[2]科技树属性分配!AJ165","v":489},{"$f":"[2]科技树属性分配!AK165","v":489},null,"5#28","2#33|1#834","3#35|4#35","53#489|54#489","52#489|51#489"]
[2307,7,{"$f":"[2]科技树属性分配!AC166","v":34},{"$f":"[2]科技树属性分配!AD166","v":41},{"$f":"[2]科技树属性分配!AE166","v":1022},{"$f":"[2]科技树属性分配!AF166","v":43},{"$f":"[2]科技树属性分配!AG166","v":43},{"$f":"[2]科技树属性分配!AH166","v":634},{"$f":"[2]科技树属性分配!AI166","v":634},{"$f":"[2]科技树属性分配!AJ166","v":634},{"$f":"[2]科技树属性分配!AK166","v":634},null,"5#34","2#41|1#1022","3#43|4#43","53#634|54#634","52#634|51#634"]
[2308,8,{"$f":"[2]科技树属性分配!AC167","v":41},{"$f":"[2]科技树属性分配!AD167","v":49},{"$f":"[2]科技树属性分配!AE167","v":1225},{"$f":"[2]科技树属性分配!AF167","v":52},{"$f":"[2]科技树属性分配!AG167","v":52},{"$f":"[2]科技树属性分配!AH167","v":798},{"$f":"[2]科技树属性分配!AI167","v":798},{"$f":"[2]科技树属性分配!AJ167","v":798},{"$f":"[2]科技树属性分配!AK167","v":798},null,"5#41","2#49|1#1225","3#52|4#52","53#798|54#798","52#798|51#798"]
[2309,9,{"$f":"[2]科技树属性分配!AC168","v":48},{"$f":"[2]科技树属性分配!AD168","v":58},{"$f":"[2]科技树属性分配!AE168","v":1444},{"$f":"[2]科技树属性分配!AF168","v":61},{"$f":"[2]科技树属性分配!AG168","v":61},{"$f":"[2]科技树属性分配!AH168","v":986},{"$f":"[2]科技树属性分配!AI168","v":986},{"$f":"[2]科技树属性分配!AJ168","v":986},{"$f":"[2]科技树属性分配!AK168","v":986},null,"5#48","2#58|1#1444","3#61|4#61","53#986|54#986","52#986|51#986"]
[2310,10,{"$f":"[2]科技树属性分配!AC169","v":56},{"$f":"[2]科技树属性分配!AD169","v":67},{"$f":"[2]科技树属性分配!AE169","v":1678},{"$f":"[2]科技树属性分配!AF169","v":71},{"$f":"[2]科技树属性分配!AG169","v":71},{"$f":"[2]科技树属性分配!AH169","v":1200},{"$f":"[2]科技树属性分配!AI169","v":1200},{"$f":"[2]科技树属性分配!AJ169","v":1200},{"$f":"[2]科技树属性分配!AK169","v":1200},null,"5#56","2#67|1#1678","3#71|4#71","53#1200|54#1200","52#1200|51#1200"]
[2311,11,{"$f":"[2]科技树属性分配!AC170","v":65},{"$f":"[2]科技树属性分配!AD170","v":77},{"$f":"[2]科技树属性分配!AE170","v":1935},{"$f":"[2]科技树属性分配!AF170","v":82},{"$f":"[2]科技树属性分配!AG170","v":82},{"$f":"[2]科技树属性分配!AH170","v":0},{"$f":"[2]科技树属性分配!AI170","v":0},{"$f":"[2]科技树属性分配!AJ170","v":0},{"$f":"[2]科技树属性分配!AK170","v":0},null,"5#65","2#77|1#1935","3#82|4#82","53#0|54#0","52#0|51#0"]
[2312,12,{"$f":"[2]科技树属性分配!AC171","v":74},{"$f":"[2]科技树属性分配!AD171","v":89},{"$f":"[2]科技树属性分配!AE171","v":2215},{"$f":"[2]科技树属性分配!AF171","v":94},{"$f":"[2]科技树属性分配!AG171","v":94},{"$f":"[2]科技树属性分配!AH171","v":0},{"$f":"[2]科技树属性分配!AI171","v":0},{"$f":"[2]科技树属性分配!AJ171","v":0},{"$f":"[2]科技树属性分配!AK171","v":0},null,"5#74","2#89|1#2215","3#94|4#94","53#0|54#0","52#0|51#0"]
[2313,13,{"$f":"[2]科技树属性分配!AC172","v":84},{"$f":"[2]科技树属性分配!AD172","v":101},{"$f":"[2]科技树属性分配!AE172","v":2519},{"$f":"[2]科技树属性分配!AF172","v":107},{"$f":"[2]科技树属性分配!AG172","v":107},{"$f":"[2]科技树属性分配!AH172","v":0},{"$f":"[2]科技树属性分配!AI172","v":0},{"$f":"[2]科技树属性分配!AJ172","v":0},{"$f":"[2]科技树属性分配!AK172","v":0},null,"5#84","2#101|1#2519","3#107|4#107","53#0|54#0","52#0|51#0"]
[2314,14,{"$f":"[2]科技树属性分配!AC173","v":95},{"$f":"[2]科技树属性分配!AD173","v":114},{"$f":"[2]科技树属性分配!AE173","v":2845},{"$f":"[2]科技树属性分配!AF173","v":121},{"$f":"[2]科技树属性分配!AG173","v":121},{"$f":"[2]科技树属性分配!AH173","v":0},{"$f":"[2]科技树属性分配!AI173","v":0},{"$f":"[2]科技树属性分配!AJ173","v":0},{"$f":"[2]科技树属性分配!AK173","v":0},null,"5#95","2#114|1#2845","3#121|4#121","53#0|54#0","52#0|51#0"]
[2315,15,{"$f":"[2]科技树属性分配!AC174","v":106},{"$f":"[2]科技树属性分配!AD174","v":128},{"$f":"[2]科技树属性分配!AE174","v":3194},{"$f":"[2]科技树属性分配!AF174","v":136},{"$f":"[2]科技树属性分配!AG174","v":136},{"$f":"[2]科技树属性分配!AH174","v":0},{"$f":"[2]科技树属性分配!AI174","v":0},{"$f":"[2]科技树属性分配!AJ174","v":0},{"$f":"[2]科技树属性分配!AK174","v":0},null,"5#106","2#128|1#3194","3#136|4#136","53#0|54#0","52#0|51#0"]
[2316,16,{"$f":"[2]科技树属性分配!AC175","v":119},{"$f":"[2]科技树属性分配!AD175","v":143},{"$f":"[2]科技树属性分配!AE175","v":3572},{"$f":"[2]科技树属性分配!AF175","v":152},{"$f":"[2]科技树属性分配!AG175","v":152},{"$f":"[2]科技树属性分配!AH175","v":0},{"$f":"[2]科技树属性分配!AI175","v":0},{"$f":"[2]科技树属性分配!AJ175","v":0},{"$f":"[2]科技树属性分配!AK175","v":0},null,"5#119","2#143|1#3572","3#152|4#152","53#0|54#0","52#0|51#0"]
[2317,17,{"$f":"[2]科技树属性分配!AC176","v":133},{"$f":"[2]科技树属性分配!AD176","v":159},{"$f":"[2]科技树属性分配!AE176","v":3976},{"$f":"[2]科技树属性分配!AF176","v":169},{"$f":"[2]科技树属性分配!AG176","v":169},{"$f":"[2]科技树属性分配!AH176","v":0},{"$f":"[2]科技树属性分配!AI176","v":0},{"$f":"[2]科技树属性分配!AJ176","v":0},{"$f":"[2]科技树属性分配!AK176","v":0},null,"5#133","2#159|1#3976","3#169|4#169","53#0|54#0","52#0|51#0"]
[2318,18,{"$f":"[2]科技树属性分配!AC177","v":147},{"$f":"[2]科技树属性分配!AD177","v":176},{"$f":"[2]科技树属性分配!AE177","v":4409},{"$f":"[2]科技树属性分配!AF177","v":187},{"$f":"[2]科技树属性分配!AG177","v":187},{"$f":"[2]科技树属性分配!AH177","v":0},{"$f":"[2]科技树属性分配!AI177","v":0},{"$f":"[2]科技树属性分配!AJ177","v":0},{"$f":"[2]科技树属性分配!AK177","v":0},null,"5#147","2#176|1#4409","3#187|4#187","53#0|54#0","52#0|51#0"]
[2319,19,{"$f":"[2]科技树属性分配!AC178","v":162},{"$f":"[2]科技树属性分配!AD178","v":195},{"$f":"[2]科技树属性分配!AE178","v":4869},{"$f":"[2]科技树属性分配!AF178","v":207},{"$f":"[2]科技树属性分配!AG178","v":207},{"$f":"[2]科技树属性分配!AH178","v":0},{"$f":"[2]科技树属性分配!AI178","v":0},{"$f":"[2]科技树属性分配!AJ178","v":0},{"$f":"[2]科技树属性分配!AK178","v":0},null,"5#162","2#195|1#4869","3#207|4#207","53#0|54#0","52#0|51#0"]
[2320,20,{"$f":"[2]科技树属性分配!AC179","v":179},{"$f":"[2]科技树属性分配!AD179","v":214},{"$f":"[2]科技树属性分配!AE179","v":5357},{"$f":"[2]科技树属性分配!AF179","v":228},{"$f":"[2]科技树属性分配!AG179","v":228},{"$f":"[2]科技树属性分配!AH179","v":0},{"$f":"[2]科技树属性分配!AI179","v":0},{"$f":"[2]科技树属性分配!AJ179","v":0},{"$f":"[2]科技树属性分配!AK179","v":0},null,"5#179","2#214|1#5357","3#228|4#228","53#0|54#0","52#0|51#0"]
[2321,21,{"$f":"[2]科技树属性分配!AC180","v":196},{"$f":"[2]科技树属性分配!AD180","v":235},{"$f":"[2]科技树属性分配!AE180","v":5876},{"$f":"[2]科技树属性分配!AF180","v":250},{"$f":"[2]科技树属性分配!AG180","v":250},{"$f":"[2]科技树属性分配!AH180","v":0},{"$f":"[2]科技树属性分配!AI180","v":0},{"$f":"[2]科技树属性分配!AJ180","v":0},{"$f":"[2]科技树属性分配!AK180","v":0},null,"5#196","2#235|1#5876","3#250|4#250","53#0|54#0","52#0|51#0"]
[2322,22,{"$f":"[2]科技树属性分配!AC181","v":214},{"$f":"[2]科技树属性分配!AD181","v":257},{"$f":"[2]科技树属性分配!AE181","v":6426},{"$f":"[2]科技树属性分配!AF181","v":273},{"$f":"[2]科技树属性分配!AG181","v":273},{"$f":"[2]科技树属性分配!AH181","v":0},{"$f":"[2]科技树属性分配!AI181","v":0},{"$f":"[2]科技树属性分配!AJ181","v":0},{"$f":"[2]科技树属性分配!AK181","v":0},null,"5#214","2#257|1#6426","3#273|4#273","53#0|54#0","52#0|51#0"]
[2323,23,{"$f":"[2]科技树属性分配!AC182","v":234},{"$f":"[2]科技树属性分配!AD182","v":280},{"$f":"[2]科技树属性分配!AE182","v":7006},{"$f":"[2]科技树属性分配!AF182","v":298},{"$f":"[2]科技树属性分配!AG182","v":298},{"$f":"[2]科技树属性分配!AH182","v":0},{"$f":"[2]科技树属性分配!AI182","v":0},{"$f":"[2]科技树属性分配!AJ182","v":0},{"$f":"[2]科技树属性分配!AK182","v":0},null,"5#234","2#280|1#7006","3#298|4#298","53#0|54#0","52#0|51#0"]
[2324,24,{"$f":"[2]科技树属性分配!AC183","v":254},{"$f":"[2]科技树属性分配!AD183","v":305},{"$f":"[2]科技树属性分配!AE183","v":7617},{"$f":"[2]科技树属性分配!AF183","v":324},{"$f":"[2]科技树属性分配!AG183","v":324},{"$f":"[2]科技树属性分配!AH183","v":0},{"$f":"[2]科技树属性分配!AI183","v":0},{"$f":"[2]科技树属性分配!AJ183","v":0},{"$f":"[2]科技树属性分配!AK183","v":0},null,"5#254","2#305|1#7617","3#324|4#324","53#0|54#0","52#0|51#0"]
[2325,25,{"$f":"[2]科技树属性分配!AC184","v":275},{"$f":"[2]科技树属性分配!AD184","v":330},{"$f":"[2]科技树属性分配!AE184","v":8259},{"$f":"[2]科技树属性分配!AF184","v":351},{"$f":"[2]科技树属性分配!AG184","v":351},{"$f":"[2]科技树属性分配!AH184","v":0},{"$f":"[2]科技树属性分配!AI184","v":0},{"$f":"[2]科技树属性分配!AJ184","v":0},{"$f":"[2]科技树属性分配!AK184","v":0},null,"5#275","2#330|1#8259","3#351|4#351","53#0|54#0","52#0|51#0"]
[2326,26,{"$f":"[2]科技树属性分配!AC185","v":298},{"$f":"[2]科技树属性分配!AD185","v":357},{"$f":"[2]科技树属性分配!AE185","v":8936},{"$f":"[2]科技树属性分配!AF185","v":380},{"$f":"[2]科技树属性分配!AG185","v":380},{"$f":"[2]科技树属性分配!AH185","v":0},{"$f":"[2]科技树属性分配!AI185","v":0},{"$f":"[2]科技树属性分配!AJ185","v":0},{"$f":"[2]科技树属性分配!AK185","v":0},null,"5#298","2#357|1#8936","3#380|4#380","53#0|54#0","52#0|51#0"]
[2327,27,{"$f":"[2]科技树属性分配!AC186","v":322},{"$f":"[2]科技树属性分配!AD186","v":386},{"$f":"[2]科技树属性分配!AE186","v":9649},{"$f":"[2]科技树属性分配!AF186","v":410},{"$f":"[2]科技树属性分配!AG186","v":410},{"$f":"[2]科技树属性分配!AH186","v":0},{"$f":"[2]科技树属性分配!AI186","v":0},{"$f":"[2]科技树属性分配!AJ186","v":0},{"$f":"[2]科技树属性分配!AK186","v":0},null,"5#322","2#386|1#9649","3#410|4#410","53#0|54#0","52#0|51#0"]
[2328,28,{"$f":"[2]科技树属性分配!AC187","v":347},{"$f":"[2]科技树属性分配!AD187","v":416},{"$f":"[2]科技树属性分配!AE187","v":10397},{"$f":"[2]科技树属性分配!AF187","v":442},{"$f":"[2]科技树属性分配!AG187","v":442},{"$f":"[2]科技树属性分配!AH187","v":0},{"$f":"[2]科技树属性分配!AI187","v":0},{"$f":"[2]科技树属性分配!AJ187","v":0},{"$f":"[2]科技树属性分配!AK187","v":0},null,"5#347","2#416|1#10397","3#442|4#442","53#0|54#0","52#0|51#0"]
[2329,29,{"$f":"[2]科技树属性分配!AC188","v":373},{"$f":"[2]科技树属性分配!AD188","v":447},{"$f":"[2]科技树属性分配!AE188","v":11181},{"$f":"[2]科技树属性分配!AF188","v":475},{"$f":"[2]科技树属性分配!AG188","v":475},{"$f":"[2]科技树属性分配!AH188","v":0},{"$f":"[2]科技树属性分配!AI188","v":0},{"$f":"[2]科技树属性分配!AJ188","v":0},{"$f":"[2]科技树属性分配!AK188","v":0},null,"5#373","2#447|1#11181","3#475|4#475","53#0|54#0","52#0|51#0"]
[2330,30,{"$f":"[2]科技树属性分配!AC189","v":400},{"$f":"[2]科技树属性分配!AD189","v":480},{"$f":"[2]科技树属性分配!AE189","v":12000},{"$f":"[2]科技树属性分配!AF189","v":510},{"$f":"[2]科技树属性分配!AG189","v":510},{"$f":"[2]科技树属性分配!AH189","v":0},{"$f":"[2]科技树属性分配!AI189","v":0},{"$f":"[2]科技树属性分配!AJ189","v":0},{"$f":"[2]科技树属性分配!AK189","v":0},null,"5#400","2#480|1#12000","3#510|4#510","53#0|54#0","52#0|51#0"]
[null,{"$f":"B98","v":"武卫"}]
[null,"一层"]
[{"$f":"A100+1000","v":3100},0,{"$f":"B197","v":0},{"$f":"C197","v":0},{"$f":"D197","v":0},{"$f":"E197","v":0},{"$f":"F197","v":0},{"$nulls":5},{"$f":"$C$2&\"#\"&C197","v":"1#0"},{"$f":"$D$2&\"#\"&D197","v":"3#0"},{"$f":"$E$2&\"#\"&E197","v":"4#0"},{"$f":"$F$2&\"#\"&F197","v":"54#0"},{"$f":"$G$2&\"#\"&G197","v":"52#0"}]
[3101,1,{"$f":"[2]科技树属性分配!AC192","v":52},{"$f":"[2]科技树属性分配!AD192","v":2},{"$f":"[2]科技树属性分配!AE192","v":2},{"$f":"[2]科技树属性分配!AF192","v":44},{"$f":"[2]科技树属性分配!AG192","v":44},{"$nulls":5},"1#52","3#2","4#2","54#44","52#44"]
[3102,2,{"$f":"[2]科技树属性分配!AC193","v":151},{"$f":"[2]科技树属性分配!AD193","v":4},{"$f":"[2]科技树属性分配!AE193","v":4},{"$f":"[2]科技树属性分配!AF193","v":109},{"$f":"[2]科技树属性分配!AG193","v":109},{"$nulls":5},"1#151","3#4","4#4","54#109","52#109"]
[3103,3,{"$f":"[2]科技树属性分配!AC194","v":295},{"$f":"[2]科技树属性分配!AD194","v":9},{"$f":"[2]科技树属性分配!AE194","v":9},{"$f":"[2]科技树属性分配!AF194","v":196},{"$f":"[2]科技树属性分配!AG194","v":196},{"$nulls":5},"1#295","3#9","4#9","54#196","52#196"]
[3104,4,{"$f":"[2]科技树属性分配!AC195","v":484},{"$f":"[2]科技树属性分配!AD195","v":14},{"$f":"[2]科技树属性分配!AE195","v":14},{"$f":"[2]科技树属性分配!AF195","v":305},{"$f":"[2]科技树属性分配!AG195","v":305},{"$nulls":5},"1#484","3#14","4#14","54#305","52#305"]
[3105,5,{"$f":"[2]科技树属性分配!AC196","v":720},{"$f":"[2]科技树属性分配!AD196","v":21},{"$f":"[2]科技树属性分配!AE196","v":21},{"$f":"[2]科技树属性分配!AF196","v":436},{"$f":"[2]科技树属性分配!AG196","v":436},{"$nulls":5},"1#720","3#21","4#21","54#436","52#436"]
[3106,6,{"$f":"[2]科技树属性分配!AC197","v":1001},{"$f":"[2]科技树属性分配!AD197","v":29},{"$f":"[2]科技树属性分配!AE197","v":29},{"$f":"[2]科技树属性分配!AF197","v":611},{"$f":"[2]科技树属性分配!AG197","v":611},{"$nulls":5},"1#1001","3#29","4#29","54#611","52#611"]
[3107,7,{"$f":"[2]科技树属性分配!AC198","v":1329},{"$f":"[2]科技树属性分配!AD198","v":39},{"$f":"[2]科技树属性分配!AE198","v":39},{"$f":"[2]科技树属性分配!AF198","v":829},{"$f":"[2]科技树属性分配!AG198","v":829},{"$nulls":5},"1#1329","3#39","4#39","54#829","52#829"]
[3108,8,{"$f":"[2]科技树属性分配!AC199","v":1702},{"$f":"[2]科技树属性分配!AD199","v":50},{"$f":"[2]科技树属性分配!AE199","v":50},{"$f":"[2]科技树属性分配!AF199","v":1091},{"$f":"[2]科技树属性分配!AG199","v":1091},{"$nulls":5},"1#1702","3#50","4#50","54#1091","52#1091"]
[3109,9,{"$f":"[2]科技树属性分配!AC200","v":2121},{"$f":"[2]科技树属性分配!AD200","v":62},{"$f":"[2]科技树属性分配!AE200","v":62},{"$f":"[2]科技树属性分配!AF200","v":1407},{"$f":"[2]科技树属性分配!AG200","v":1407},{"$nulls":5},"1#2121","3#62","4#62","54#1407","52#1407"]
[3110,10,{"$f":"[2]科技树属性分配!AC201","v":2585},{"$f":"[2]科技树属性分配!AD201","v":75},{"$f":"[2]科技树属性分配!AE201","v":75},{"$f":"[2]科技树属性分配!AF201","v":1800},{"$f":"[2]科技树属性分配!AG201","v":1800},{"$nulls":5},"1#2585","3#75","4#75","54#1800","52#1800"]
[3111,11,{"$f":"[2]科技树属性分配!AC202","v":3096},{"$f":"[2]科技树属性分配!AD202","v":90},{"$f":"[2]科技树属性分配!AE202","v":90},{"$f":"[2]科技树属性分配!AF202","v":0},{"$f":"[2]科技树属性分配!AG202","v":0},{"$nulls":5},"1#3096","3#90","4#90","54#0","52#0"]
[3112,12,{"$f":"[2]科技树属性分配!AC203","v":3652},{"$f":"[2]科技树属性分配!AD203","v":107},{"$f":"[2]科技树属性分配!AE203","v":107},{"$f":"[2]科技树属性分配!AF203","v":0},{"$f":"[2]科技树属性分配!AG203","v":0},{"$nulls":5},"1#3652","3#107","4#107","54#0","52#0"]
[3113,13,{"$f":"[2]科技树属性分配!AC204","v":4255},{"$f":"[2]科技树属性分配!AD204","v":124},{"$f":"[2]科技树属性分配!AE204","v":124},{"$f":"[2]科技树属性分配!AF204","v":0},{"$f":"[2]科技树属性分配!AG204","v":0},{"$nulls":5},"1#4255","3#124","4#124","54#0","52#0"]
[3114,14,{"$f":"[2]科技树属性分配!AC205","v":4903},{"$f":"[2]科技树属性分配!AD205","v":143},{"$f":"[2]科技树属性分配!AE205","v":143},{"$f":"[2]科技树属性分配!AF205","v":0},{"$f":"[2]科技树属性分配!AG205","v":0},{"$nulls":5},"1#4903","3#143","4#143","54#0","52#0"]
[3115,15,{"$f":"[2]科技树属性分配!AC206","v":5596},{"$f":"[2]科技树属性分配!AD206","v":163},{"$f":"[2]科技树属性分配!AE206","v":163},{"$f":"[2]科技树属性分配!AF206","v":0},{"$f":"[2]科技树属性分配!AG206","v":0},{"$nulls":5},"1#5596","3#163","4#163","54#0","52#0"]
[3116,16,{"$f":"[2]科技树属性分配!AC207","v":6336},{"$f":"[2]科技树属性分配!AD207","v":185},{"$f":"[2]科技树属性分配!AE207","v":185},{"$f":"[2]科技树属性分配!AF207","v":0},{"$f":"[2]科技树属性分配!AG207","v":0},{"$nulls":5},"1#6336","3#185","4#185","54#0","52#0"]
[3117,17,{"$f":"[2]科技树属性分配!AC208","v":7121},{"$f":"[2]科技树属性分配!AD208","v":208},{"$f":"[2]科技树属性分配!AE208","v":208},{"$f":"[2]科技树属性分配!AF208","v":0},{"$f":"[2]科技树属性分配!AG208","v":0},{"$nulls":5},"1#7121","3#208","4#208","54#0","52#0"]
[3118,18,{"$f":"[2]科技树属性分配!AC209","v":7953},{"$f":"[2]科技树属性分配!AD209","v":232},{"$f":"[2]科技树属性分配!AE209","v":232},{"$f":"[2]科技树属性分配!AF209","v":0},{"$f":"[2]科技树属性分配!AG209","v":0},{"$nulls":5},"1#7953","3#232","4#232","54#0","52#0"]
[3119,19,{"$f":"[2]科技树属性分配!AC210","v":8830},{"$f":"[2]科技树属性分配!AD210","v":258},{"$f":"[2]科技树属性分配!AE210","v":258},{"$f":"[2]科技树属性分配!AF210","v":0},{"$f":"[2]科技树属性分配!AG210","v":0},{"$nulls":5},"1#8830","3#258","4#258","54#0","52#0"]
[3120,20,{"$f":"[2]科技树属性分配!AC211","v":9753},{"$f":"[2]科技树属性分配!AD211","v":284},{"$f":"[2]科技树属性分配!AE211","v":284},{"$f":"[2]科技树属性分配!AF211","v":0},{"$f":"[2]科技树属性分配!AG211","v":0},{"$nulls":5},"1#9753","3#284","4#284","54#0","52#0"]
[3121,21,{"$f":"[2]科技树属性分配!AC212","v":10721},{"$f":"[2]科技树属性分配!AD212","v":313},{"$f":"[2]科技树属性分配!AE212","v":313},{"$f":"[2]科技树属性分配!AF212","v":0},{"$f":"[2]科技树属性分配!AG212","v":0},{"$nulls":5},"1#10721","3#313","4#313","54#0","52#0"]
[3122,22,{"$f":"[2]科技树属性分配!AC213","v":11736},{"$f":"[2]科技树属性分配!AD213","v":342},{"$f":"[2]科技树属性分配!AE213","v":342},{"$f":"[2]科技树属性分配!AF213","v":0},{"$f":"[2]科技树属性分配!AG213","v":0},{"$nulls":5},"1#11736","3#342","4#342","54#0","52#0"]
[3123,23,{"$f":"[2]科技树属性分配!AC214","v":12796},{"$f":"[2]科技树属性分配!AD214","v":373},{"$f":"[2]科技树属性分配!AE214","v":373},{"$f":"[2]科技树属性分配!AF214","v":0},{"$f":"[2]科技树属性分配!AG214","v":0},{"$nulls":5},"1#12796","3#373","4#373","54#0","52#0"]
[3124,24,{"$f":"[2]科技树属性分配!AC215","v":13903},{"$f":"[2]科技树属性分配!AD215","v":405},{"$f":"[2]科技树属性分配!AE215","v":405},{"$f":"[2]科技树属性分配!AF215","v":0},{"$f":"[2]科技树属性分配!AG215","v":0},{"$nulls":5},"1#13903","3#405","4#405","54#0","52#0"]
[3125,25,{"$f":"[2]科技树属性分配!AC216","v":15055},{"$f":"[2]科技树属性分配!AD216","v":439},{"$f":"[2]科技树属性分配!AE216","v":439},{"$f":"[2]科技树属性分配!AF216","v":0},{"$f":"[2]科技树属性分配!AG216","v":0},{"$nulls":5},"1#15055","3#439","4#439","54#0","52#0"]
[3126,26,{"$f":"[2]科技树属性分配!AC217","v":16259},{"$f":"[2]科技树属性分配!AD217","v":474},{"$f":"[2]科技树属性分配!AE217","v":474},{"$f":"[2]科技树属性分配!AF217","v":0},{"$f":"[2]科技树属性分配!AG217","v":0},{"$nulls":5},"1#16259","3#474","4#474","54#0","52#0"]
[3127,27,{"$f":"[2]科技树属性分配!AC218","v":17516},{"$f":"[2]科技树属性分配!AD218","v":511},{"$f":"[2]科技树属性分配!AE218","v":511},{"$f":"[2]科技树属性分配!AF218","v":0},{"$f":"[2]科技树属性分配!AG218","v":0},{"$nulls":5},"1#17516","3#511","4#511","54#0","52#0"]
[3128,28,{"$f":"[2]科技树属性分配!AC219","v":18825},{"$f":"[2]科技树属性分配!AD219","v":549},{"$f":"[2]科技树属性分配!AE219","v":549},{"$f":"[2]科技树属性分配!AF219","v":0},{"$f":"[2]科技树属性分配!AG219","v":0},{"$nulls":5},"1#18825","3#549","4#549","54#0","52#0"]
[3129,29,{"$f":"[2]科技树属性分配!AC220","v":20186},{"$f":"[2]科技树属性分配!AD220","v":589},{"$f":"[2]科技树属性分配!AE220","v":589},{"$f":"[2]科技树属性分配!AF220","v":0},{"$f":"[2]科技树属性分配!AG220","v":0},{"$nulls":5},"1#20186","3#589","4#589","54#0","52#0"]
[3130,30,{"$f":"[2]科技树属性分配!AC221","v":21600},{"$f":"[2]科技树属性分配!AD221","v":630},{"$f":"[2]科技树属性分配!AE221","v":630},{"$f":"[2]科技树属性分配!AF221","v":0},{"$f":"[2]科技树属性分配!AG221","v":0},{"$nulls":5},"1#21600","3#630","4#630","54#0","52#0"]
[null,{"$f":"B196","v":"一层"}]
[{"$f":"A132+1000","v":3200},0,{"$f":"B229","v":0},{"$f":"C229","v":0},{"$f":"D229","v":0},{"$f":"E229","v":0},{"$f":"F229","v":0},{"$nulls":5},{"$f":"$C$34&\"#\"&C229","v":"2#0"},{"$f":"$D$131&\"#\"&D229","v":"55#0"},{"$f":"$E$131&\"#\"&E229","v":"56#0"},{"$f":"$F$34&\"#\"&F229","v":"53#0"},{"$f":"$G$34&\"#\"&G229","v":"51#0"}]
[3201,1,{"$f":"[2]科技树属性分配!AC223","v":2},{"$f":"[2]科技树属性分配!AD223","v":58},{"$f":"[2]科技树属性分配!AE223","v":58},{"$f":"[2]科技树属性分配!AF223","v":42},{"$f":"[2]科技树属性分配!AG223","v":42},{"$nulls":5},"2#2","55#58","56#58","53#42","51#42"]
[3202,2,{"$f":"[2]科技树属性分配!AC224","v":4},{"$f":"[2]科技树属性分配!AD224","v":154},{"$f":"[2]科技树属性分配!AE224","v":154},{"$f":"[2]科技树属性分配!AF224","v":108},{"$f":"[2]科技树属性分配!AG224","v":108},{"$nulls":5},"2#4","55#154","56#154","53#108","51#108"]
[3203,3,{"$f":"[2]科技树属性分配!AC225","v":9},{"$f":"[2]科技树属性分配!AD225","v":288},{"$f":"[2]科技树属性分配!AE225","v":288},{"$f":"[2]科技树属性分配!AF225","v":201},{"$f":"[2]科技树属性分配!AG225","v":201},{"$nulls":5},"2#9","55#288","56#288","53#201","51#201"]
[3204,4,{"$f":"[2]科技树属性分配!AC226","v":14},{"$f":"[2]科技树属性分配!AD226","v":462},{"$f":"[2]科技树属性分配!AE226","v":462},{"$f":"[2]科技树属性分配!AF226","v":318},{"$f":"[2]科技树属性分配!AG226","v":318},{"$nulls":5},"2#14","55#462","56#462","53#318","51#318"]
[3205,5,{"$f":"[2]科技树属性分配!AC227","v":21},{"$f":"[2]科技树属性分配!AD227","v":673},{"$f":"[2]科技树属性分配!AE227","v":673},{"$f":"[2]科技树属性分配!AF227","v":462},{"$f":"[2]科技树属性分配!AG227","v":462},{"$nulls":5},"2#21","55#673","56#673","53#462","51#462"]
[3206,6,{"$f":"[2]科技树属性分配!AC228","v":29},{"$f":"[2]科技树属性分配!AD228","v":962},{"$f":"[2]科技树属性分配!AE228","v":962},{"$f":"[2]科技树属性分配!AF228","v":646},{"$f":"[2]科技树属性分配!AG228","v":646},{"$nulls":5},"2#29","55#962","56#962","53#646","51#646"]
[3207,7,{"$f":"[2]科技树属性分配!AC229","v":39},{"$f":"[2]科技树属性分配!AD229","v":1327},{"$f":"[2]科技树属性分配!AE229","v":1327},{"$f":"[2]科技树属性分配!AF229","v":872},{"$f":"[2]科技树属性分配!AG229","v":872},{"$nulls":5},"2#39","55#1327","56#1327","53#872","51#872"]
[3208,8,{"$f":"[2]科技树属性分配!AC230","v":50},{"$f":"[2]科技树属性分配!AD230","v":1769},{"$f":"[2]科技树属性分配!AE230","v":1769},{"$f":"[2]科技树属性分配!AF230","v":1140},{"$f":"[2]科技树属性分配!AG230","v":1140},{"$nulls":5},"2#50","55#1769","56#1769","53#1140","51#1140"]
[3209,9,{"$f":"[2]科技树属性分配!AC231","v":62},{"$f":"[2]科技树属性分配!AD231","v":2327},{"$f":"[2]科技树属性分配!AE231","v":2327},{"$f":"[2]科技树属性分配!AF231","v":1449},{"$f":"[2]科技树属性分配!AG231","v":1449},{"$nulls":5},"2#62","55#2327","56#2327","53#1449","51#1449"]
[3210,10,{"$f":"[2]科技树属性分配!AC232","v":75},{"$f":"[2]科技树属性分配!AD232","v":3000},{"$f":"[2]科技树属性分配!AE232","v":3000},{"$f":"[2]科技树属性分配!AF232","v":1800},{"$f":"[2]科技树属性分配!AG232","v":1800},{"$nulls":5},"2#75","55#3000","56#3000","53#1800","51#1800"]
[3211,11,{"$f":"[2]科技树属性分配!AC233","v":90},{"$f":"[2]科技树属性分配!AD233","v":0},{"$f":"[2]科技树属性分配!AE233","v":0},{"$f":"[2]科技树属性分配!AF233","v":0},{"$f":"[2]科技树属性分配!AG233","v":0},{"$nulls":5},"2#90","55#0","56#0","53#0","51#0"]
[3212,12,{"$f":"[2]科技树属性分配!AC234","v":107},{"$f":"[2]科技树属性分配!AD234","v":0},{"$f":"[2]科技树属性分配!AE234","v":0},{"$f":"[2]科技树属性分配!AF234","v":0},{"$f":"[2]科技树属性分配!AG234","v":0},{"$nulls":5},"2#107","55#0","56#0","53#0","51#0"]
[3213,13,{"$f":"[2]科技树属性分配!AC235","v":124},{"$f":"[2]科技树属性分配!AD235","v":0},{"$f":"[2]科技树属性分配!AE235","v":0},{"$f":"[2]科技树属性分配!AF235","v":0},{"$f":"[2]科技树属性分配!AG235","v":0},{"$nulls":5},"2#124","55#0","56#0","53#0","51#0"]
[3214,14,{"$f":"[2]科技树属性分配!AC236","v":143},{"$f":"[2]科技树属性分配!AD236","v":0},{"$f":"[2]科技树属性分配!AE236","v":0},{"$f":"[2]科技树属性分配!AF236","v":0},{"$f":"[2]科技树属性分配!AG236","v":0},{"$nulls":5},"2#143","55#0","56#0","53#0","51#0"]
[3215,15,{"$f":"[2]科技树属性分配!AC237","v":163},{"$f":"[2]科技树属性分配!AD237","v":0},{"$f":"[2]科技树属性分配!AE237","v":0},{"$f":"[2]科技树属性分配!AF237","v":0},{"$f":"[2]科技树属性分配!AG237","v":0},{"$nulls":5},"2#163","55#0","56#0","53#0","51#0"]
[3216,16,{"$f":"[2]科技树属性分配!AC238","v":185},{"$f":"[2]科技树属性分配!AD238","v":0},{"$f":"[2]科技树属性分配!AE238","v":0},{"$f":"[2]科技树属性分配!AF238","v":0},{"$f":"[2]科技树属性分配!AG238","v":0},{"$nulls":5},"2#185","55#0","56#0","53#0","51#0"]
[3217,17,{"$f":"[2]科技树属性分配!AC239","v":208},{"$f":"[2]科技树属性分配!AD239","v":0},{"$f":"[2]科技树属性分配!AE239","v":0},{"$f":"[2]科技树属性分配!AF239","v":0},{"$f":"[2]科技树属性分配!AG239","v":0},{"$nulls":5},"2#208","55#0","56#0","53#0","51#0"]
[3218,18,{"$f":"[2]科技树属性分配!AC240","v":232},{"$f":"[2]科技树属性分配!AD240","v":0},{"$f":"[2]科技树属性分配!AE240","v":0},{"$f":"[2]科技树属性分配!AF240","v":0},{"$f":"[2]科技树属性分配!AG240","v":0},{"$nulls":5},"2#232","55#0","56#0","53#0","51#0"]
[3219,19,{"$f":"[2]科技树属性分配!AC241","v":258},{"$f":"[2]科技树属性分配!AD241","v":0},{"$f":"[2]科技树属性分配!AE241","v":0},{"$f":"[2]科技树属性分配!AF241","v":0},{"$f":"[2]科技树属性分配!AG241","v":0},{"$nulls":5},"2#258","55#0","56#0","53#0","51#0"]
[3220,20,{"$f":"[2]科技树属性分配!AC242","v":284},{"$f":"[2]科技树属性分配!AD242","v":0},{"$f":"[2]科技树属性分配!AE242","v":0},{"$f":"[2]科技树属性分配!AF242","v":0},{"$f":"[2]科技树属性分配!AG242","v":0},{"$nulls":5},"2#284","55#0","56#0","53#0","51#0"]
[3221,21,{"$f":"[2]科技树属性分配!AC243","v":313},{"$f":"[2]科技树属性分配!AD243","v":0},{"$f":"[2]科技树属性分配!AE243","v":0},{"$f":"[2]科技树属性分配!AF243","v":0},{"$f":"[2]科技树属性分配!AG243","v":0},{"$nulls":5},"2#313","55#0","56#0","53#0","51#0"]
[3222,22,{"$f":"[2]科技树属性分配!AC244","v":342},{"$f":"[2]科技树属性分配!AD244","v":0},{"$f":"[2]科技树属性分配!AE244","v":0},{"$f":"[2]科技树属性分配!AF244","v":0},{"$f":"[2]科技树属性分配!AG244","v":0},{"$nulls":5},"2#342","55#0","56#0","53#0","51#0"]
[3223,23,{"$f":"[2]科技树属性分配!AC245","v":373},{"$f":"[2]科技树属性分配!AD245","v":0},{"$f":"[2]科技树属性分配!AE245","v":0},{"$f":"[2]科技树属性分配!AF245","v":0},{"$f":"[2]科技树属性分配!AG245","v":0},{"$nulls":5},"2#373","55#0","56#0","53#0","51#0"]
[3224,24,{"$f":"[2]科技树属性分配!AC246","v":405},{"$f":"[2]科技树属性分配!AD246","v":0},{"$f":"[2]科技树属性分配!AE246","v":0},{"$f":"[2]科技树属性分配!AF246","v":0},{"$f":"[2]科技树属性分配!AG246","v":0},{"$nulls":5},"2#405","55#0","56#0","53#0","51#0"]
[3225,25,{"$f":"[2]科技树属性分配!AC247","v":439},{"$f":"[2]科技树属性分配!AD247","v":0},{"$f":"[2]科技树属性分配!AE247","v":0},{"$f":"[2]科技树属性分配!AF247","v":0},{"$f":"[2]科技树属性分配!AG247","v":0},{"$nulls":5},"2#439","55#0","56#0","53#0","51#0"]
[3226,26,{"$f":"[2]科技树属性分配!AC248","v":474},{"$f":"[2]科技树属性分配!AD248","v":0},{"$f":"[2]科技树属性分配!AE248","v":0},{"$f":"[2]科技树属性分配!AF248","v":0},{"$f":"[2]科技树属性分配!AG248","v":0},{"$nulls":5},"2#474","55#0","56#0","53#0","51#0"]
[3227,27,{"$f":"[2]科技树属性分配!AC249","v":511},{"$f":"[2]科技树属性分配!AD249","v":0},{"$f":"[2]科技树属性分配!AE249","v":0},{"$f":"[2]科技树属性分配!AF249","v":0},{"$f":"[2]科技树属性分配!AG249","v":0},{"$nulls":5},"2#511","55#0","56#0","53#0","51#0"]
[3228,28,{"$f":"[2]科技树属性分配!AC250","v":549},{"$f":"[2]科技树属性分配!AD250","v":0},{"$f":"[2]科技树属性分配!AE250","v":0},{"$f":"[2]科技树属性分配!AF250","v":0},{"$f":"[2]科技树属性分配!AG250","v":0},{"$nulls":5},"2#549","55#0","56#0","53#0","51#0"]
[3229,29,{"$f":"[2]科技树属性分配!AC251","v":589},{"$f":"[2]科技树属性分配!AD251","v":0},{"$f":"[2]科技树属性分配!AE251","v":0},{"$f":"[2]科技树属性分配!AF251","v":0},{"$f":"[2]科技树属性分配!AG251","v":0},{"$nulls":5},"2#589","55#0","56#0","53#0","51#0"]
[3230,30,{"$f":"[2]科技树属性分配!AC252","v":630},{"$f":"[2]科技树属性分配!AD252","v":0},{"$f":"[2]科技树属性分配!AE252","v":0},{"$f":"[2]科技树属性分配!AF252","v":0},{"$f":"[2]科技树属性分配!AG252","v":0},{"$nulls":5},"2#630","55#0","56#0","53#0","51#0"]
[null,"三层",5,2,1,3,4,53,54,52,51]
[{"$f":"A164+1000","v":3300},0,0,0,0,0,0,0,0,0,0,null,{"$f":"$C$66&\"#\"&C261","v":"5#0"},{"$f":"$D$66&\"#\"&D261&\"|\"&$E$66&\"#\"&E261","v":"2#0|1#0"},{"$f":"$F$66&\"#\"&F261&\"|\"&$G$66&\"#\"&G261","v":"3#0|4#0"},{"$f":"$H$66&\"#\"&H261&\"|\"&$I$66&\"#\"&I261","v":"53#0|54#0"},{"$f":"$J$66&\"#\"&J261&\"|\"&$K$66&\"#\"&K261","v":"52#0|51#0"}]
[3301,1,{"$f":"[2]科技树属性分配!AC254","v":4},{"$f":"[2]科技树属性分配!AD254","v":4},{"$f":"[2]科技树属性分配!AE254","v":129},{"$f":"[2]科技树属性分配!AF254","v":4},{"$f":"[2]科技树属性分配!AG254","v":4},{"$f":"[2]科技树属性分配!AH254","v":36},{"$f":"[2]科技树属性分配!AI254","v":36},{"$f":"[2]科技树属性分配!AJ254","v":36},{"$f":"[2]科技树属性分配!AK254","v":36},null,"5#4","2#4|1#129","3#4|4#4","53#36|54#36","52#36|51#36"]
[3302,2,{"$f":"[2]科技树属性分配!AC255","v":8},{"$f":"[2]科技树属性分配!AD255","v":8},{"$f":"[2]科技树属性分配!AE255","v":273},{"$f":"[2]科技树属性分配!AF255","v":8},{"$f":"[2]科技树属性分配!AG255","v":8},{"$f":"[2]科技树属性分配!AH255","v":91},{"$f":"[2]科技树属性分配!AI255","v":91},{"$f":"[2]科技树属性分配!AJ255","v":91},{"$f":"[2]科技树属性分配!AK255","v":91},null,"5#8","2#8|1#273","3#8|4#8","53#91|54#91","52#91|51#91"]
[3303,3,{"$f":"[2]科技树属性分配!AC256","v":12},{"$f":"[2]科技树属性分配!AD256","v":13},{"$f":"[2]科技树属性分配!AE256","v":432},{"$f":"[2]科技树属性分配!AF256","v":13},{"$f":"[2]科技树属性分配!AG256","v":13},{"$f":"[2]科技树属性分配!AH256","v":163},{"$f":"[2]科技树属性分配!AI256","v":163},{"$f":"[2]科技树属性分配!AJ256","v":163},{"$f":"[2]科技树属性分配!AK256","v":163},null,"5#12","2#13|1#432","3#13|4#13","53#163|54#163","52#163|51#163"]
[3304,4,{"$f":"[2]科技树属性分配!AC257","v":17},{"$f":"[2]科技树属性分配!AD257","v":18},{"$f":"[2]科技树属性分配!AE257","v":606},{"$f":"[2]科技树属性分配!AF257","v":18},{"$f":"[2]科技树属性分配!AG257","v":18},{"$f":"[2]科技树属性分配!AH257","v":254},{"$f":"[2]科技树属性分配!AI257","v":254},{"$f":"[2]科技树属性分配!AJ257","v":254},{"$f":"[2]科技树属性分配!AK257","v":254},null,"5#17","2#18|1#606","3#18|4#18","53#254|54#254","52#254|51#254"]
[3305,5,{"$f":"[2]科技树属性分配!AC258","v":22},{"$f":"[2]科技树属性分配!AD258","v":23},{"$f":"[2]科技树属性分配!AE258","v":794},{"$f":"[2]科技树属性分配!AF258","v":23},{"$f":"[2]科技树属性分配!AG258","v":23},{"$f":"[2]科技树属性分配!AH258","v":363},{"$f":"[2]科技树属性分配!AI258","v":363},{"$f":"[2]科技树属性分配!AJ258","v":363},{"$f":"[2]科技树属性分配!AK258","v":363},null,"5#22","2#23|1#794","3#23|4#23","53#363|54#363","52#363|51#363"]
[3306,6,{"$f":"[2]科技树属性分配!AC259","v":28},{"$f":"[2]科技树属性分配!AD259","v":29},{"$f":"[2]科技树属性分配!AE259","v":1001},{"$f":"[2]科技树属性分配!AF259","v":29},{"$f":"[2]科技树属性分配!AG259","v":29},{"$f":"[2]科技树属性分配!AH259","v":489},{"$f":"[2]科技树属性分配!AI259","v":489},{"$f":"[2]科技树属性分配!AJ259","v":489},{"$f":"[2]科技树属性分配!AK259","v":489},null,"5#28","2#29|1#1001","3#29|4#29","53#489|54#489","52#489|51#489"]
[3307,7,{"$f":"[2]科技树属性分配!AC260","v":34},{"$f":"[2]科技树属性分配!AD260","v":36},{"$f":"[2]科技树属性分配!AE260","v":1227},{"$f":"[2]科技树属性分配!AF260","v":36},{"$f":"[2]科技树属性分配!AG260","v":36},{"$f":"[2]科技树属性分配!AH260","v":634},{"$f":"[2]科技树属性分配!AI260","v":634},{"$f":"[2]科技树属性分配!AJ260","v":634},{"$f":"[2]科技树属性分配!AK260","v":634},null,"5#34","2#36|1#1227","3#36|4#36","53#634|54#634","52#634|51#634"]
[3308,8,{"$f":"[2]科技树属性分配!AC261","v":41},{"$f":"[2]科技树属性分配!AD261","v":43},{"$f":"[2]科技树属性分配!AE261","v":1470},{"$f":"[2]科技树属性分配!AF261","v":43},{"$f":"[2]科技树属性分配!AG261","v":43},{"$f":"[2]科技树属性分配!AH261","v":798},{"$f":"[2]科技树属性分配!AI261","v":798},{"$f":"[2]科技树属性分配!AJ261","v":798},{"$f":"[2]科技树属性分配!AK261","v":798},null,"5#41","2#43|1#1470","3#43|4#43","53#798|54#798","52#798|51#798"]
[3309,9,{"$f":"[2]科技树属性分配!AC262","v":48},{"$f":"[2]科技树属性分配!AD262","v":51},{"$f":"[2]科技树属性分配!AE262","v":1733},{"$f":"[2]科技树属性分配!AF262","v":51},{"$f":"[2]科技树属性分配!AG262","v":51},{"$f":"[2]科技树属性分配!AH262","v":986},{"$f":"[2]科技树属性分配!AI262","v":986},{"$f":"[2]科技树属性分配!AJ262","v":986},{"$f":"[2]科技树属性分配!AK262","v":986},null,"5#48","2#51|1#1733","3#51|4#51","53#986|54#986","52#986|51#986"]
[3310,10,{"$f":"[2]科技树属性分配!AC263","v":56},{"$f":"[2]科技树属性分配!AD263","v":59},{"$f":"[2]科技树属性分配!AE263","v":2014},{"$f":"[2]科技树属性分配!AF263","v":59},{"$f":"[2]科技树属性分配!AG263","v":59},{"$f":"[2]科技树属性分配!AH263","v":1200},{"$f":"[2]科技树属性分配!AI263","v":1200},{"$f":"[2]科技树属性分配!AJ263","v":1200},{"$f":"[2]科技树属性分配!AK263","v":1200},null,"5#56","2#59|1#2014","3#59|4#59","53#1200|54#1200","52#1200|51#1200"]
[3311,11,{"$f":"[2]科技树属性分配!AC264","v":65},{"$f":"[2]科技树属性分配!AD264","v":68},{"$f":"[2]科技树属性分配!AE264","v":2322},{"$f":"[2]科技树属性分配!AF264","v":68},{"$f":"[2]科技树属性分配!AG264","v":68},{"$f":"[2]科技树属性分配!AH264","v":0},{"$f":"[2]科技树属性分配!AI264","v":0},{"$f":"[2]科技树属性分配!AJ264","v":0},{"$f":"[2]科技树属性分配!AK264","v":0},null,"5#65","2#68|1#2322","3#68|4#68","53#0|54#0","52#0|51#0"]
[3312,12,{"$f":"[2]科技树属性分配!AC265","v":74},{"$f":"[2]科技树属性分配!AD265","v":78},{"$f":"[2]科技树属性分配!AE265","v":2658},{"$f":"[2]科技树属性分配!AF265","v":78},{"$f":"[2]科技树属性分配!AG265","v":78},{"$f":"[2]科技树属性分配!AH265","v":0},{"$f":"[2]科技树属性分配!AI265","v":0},{"$f":"[2]科技树属性分配!AJ265","v":0},{"$f":"[2]科技树属性分配!AK265","v":0},null,"5#74","2#78|1#2658","3#78|4#78","53#0|54#0","52#0|51#0"]
[3313,13,{"$f":"[2]科技树属性分配!AC266","v":84},{"$f":"[2]科技树属性分配!AD266","v":88},{"$f":"[2]科技树属性分配!AE266","v":3022},{"$f":"[2]科技树属性分配!AF266","v":88},{"$f":"[2]科技树属性分配!AG266","v":88},{"$f":"[2]科技树属性分配!AH266","v":0},{"$f":"[2]科技树属性分配!AI266","v":0},{"$f":"[2]科技树属性分配!AJ266","v":0},{"$f":"[2]科技树属性分配!AK266","v":0},null,"5#84","2#88|1#3022","3#88|4#88","53#0|54#0","52#0|51#0"]
[3314,14,{"$f":"[2]科技树属性分配!AC267","v":95},{"$f":"[2]科技树属性分配!AD267","v":100},{"$f":"[2]科技树属性分配!AE267","v":3414},{"$f":"[2]科技树属性分配!AF267","v":100},{"$f":"[2]科技树属性分配!AG267","v":100},{"$f":"[2]科技树属性分配!AH267","v":0},{"$f":"[2]科技树属性分配!AI267","v":0},{"$f":"[2]科技树属性分配!AJ267","v":0},{"$f":"[2]科技树属性分配!AK267","v":0},null,"5#95","2#100|1#3414","3#100|4#100","53#0|54#0","52#0|51#0"]
[3315,15,{"$f":"[2]科技树属性分配!AC268","v":106},{"$f":"[2]科技树属性分配!AD268","v":112},{"$f":"[2]科技树属性分配!AE268","v":3833},{"$f":"[2]科技树属性分配!AF268","v":112},{"$f":"[2]科技树属性分配!AG268","v":112},{"$f":"[2]科技树属性分配!AH268","v":0},{"$f":"[2]科技树属性分配!AI268","v":0},{"$f":"[2]科技树属性分配!AJ268","v":0},{"$f":"[2]科技树属性分配!AK268","v":0},null,"5#106","2#112|1#3833","3#112|4#112","53#0|54#0","52#0|51#0"]
[3316,16,{"$f":"[2]科技树属性分配!AC269","v":119},{"$f":"[2]科技树属性分配!AD269","v":125},{"$f":"[2]科技树属性分配!AE269","v":4286},{"$f":"[2]科技树属性分配!AF269","v":125},{"$f":"[2]科技树属性分配!AG269","v":125},{"$f":"[2]科技树属性分配!AH269","v":0},{"$f":"[2]科技树属性分配!AI269","v":0},{"$f":"[2]科技树属性分配!AJ269","v":0},{"$f":"[2]科技树属性分配!AK269","v":0},null,"5#119","2#125|1#4286","3#125|4#125","53#0|54#0","52#0|51#0"]
[3317,17,{"$f":"[2]科技树属性分配!AC270","v":133},{"$f":"[2]科技树属性分配!AD270","v":139},{"$f":"[2]科技树属性分配!AE270","v":4772},{"$f":"[2]科技树属性分配!AF270","v":139},{"$f":"[2]科技树属性分配!AG270","v":139},{"$f":"[2]科技树属性分配!AH270","v":0},{"$f":"[2]科技树属性分配!AI270","v":0},{"$f":"[2]科技树属性分配!AJ270","v":0},{"$f":"[2]科技树属性分配!AK270","v":0},null,"5#133","2#139|1#4772","3#139|4#139","53#0|54#0","52#0|51#0"]
[3318,18,{"$f":"[2]科技树属性分配!AC271","v":147},{"$f":"[2]科技树属性分配!AD271","v":154},{"$f":"[2]科技树属性分配!AE271","v":5291},{"$f":"[2]科技树属性分配!AF271","v":154},{"$f":"[2]科技树属性分配!AG271","v":154},{"$f":"[2]科技树属性分配!AH271","v":0},{"$f":"[2]科技树属性分配!AI271","v":0},{"$f":"[2]科技树属性分配!AJ271","v":0},{"$f":"[2]科技树属性分配!AK271","v":0},null,"5#147","2#154|1#5291","3#154|4#154","53#0|54#0","52#0|51#0"]
[3319,19,{"$f":"[2]科技树属性分配!AC272","v":162},{"$f":"[2]科技树属性分配!AD272","v":170},{"$f":"[2]科技树属性分配!AE272","v":5843},{"$f":"[2]科技树属性分配!AF272","v":170},{"$f":"[2]科技树属性分配!AG272","v":170},{"$f":"[2]科技树属性分配!AH272","v":0},{"$f":"[2]科技树属性分配!AI272","v":0},{"$f":"[2]科技树属性分配!AJ272","v":0},{"$f":"[2]科技树属性分配!AK272","v":0},null,"5#162","2#170|1#5843","3#170|4#170","53#0|54#0","52#0|51#0"]
[3320,20,{"$f":"[2]科技树属性分配!AC273","v":179},{"$f":"[2]科技树属性分配!AD273","v":188},{"$f":"[2]科技树属性分配!AE273","v":6429},{"$f":"[2]科技树属性分配!AF273","v":188},{"$f":"[2]科技树属性分配!AG273","v":188},{"$f":"[2]科技树属性分配!AH273","v":0},{"$f":"[2]科技树属性分配!AI273","v":0},{"$f":"[2]科技树属性分配!AJ273","v":0},{"$f":"[2]科技树属性分配!AK273","v":0},null,"5#179","2#188|1#6429","3#188|4#188","53#0|54#0","52#0|51#0"]
[3321,21,{"$f":"[2]科技树属性分配!AC274","v":196},{"$f":"[2]科技树属性分配!AD274","v":206},{"$f":"[2]科技树属性分配!AE274","v":7051},{"$f":"[2]科技树属性分配!AF274","v":206},{"$f":"[2]科技树属性分配!AG274","v":206},{"$f":"[2]科技树属性分配!AH274","v":0},{"$f":"[2]科技树属性分配!AI274","v":0},{"$f":"[2]科技树属性分配!AJ274","v":0},{"$f":"[2]科技树属性分配!AK274","v":0},null,"5#196","2#206|1#7051","3#206|4#206","53#0|54#0","52#0|51#0"]
[3322,22,{"$f":"[2]科技树属性分配!AC275","v":214},{"$f":"[2]科技树属性分配!AD275","v":225},{"$f":"[2]科技树属性分配!AE275","v":7711},{"$f":"[2]科技树属性分配!AF275","v":225},{"$f":"[2]科技树属性分配!AG275","v":225},{"$f":"[2]科技树属性分配!AH275","v":0},{"$f":"[2]科技树属性分配!AI275","v":0},{"$f":"[2]科技树属性分配!AJ275","v":0},{"$f":"[2]科技树属性分配!AK275","v":0},null,"5#214","2#225|1#7711","3#225|4#225","53#0|54#0","52#0|51#0"]
[3323,23,{"$f":"[2]科技树属性分配!AC276","v":234},{"$f":"[2]科技树属性分配!AD276","v":245},{"$f":"[2]科技树属性分配!AE276","v":8407},{"$f":"[2]科技树属性分配!AF276","v":245},{"$f":"[2]科技树属性分配!AG276","v":245},{"$f":"[2]科技树属性分配!AH276","v":0},{"$f":"[2]科技树属性分配!AI276","v":0},{"$f":"[2]科技树属性分配!AJ276","v":0},{"$f":"[2]科技树属性分配!AK276","v":0},null,"5#234","2#245|1#8407","3#245|4#245","53#0|54#0","52#0|51#0"]
[3324,24,{"$f":"[2]科技树属性分配!AC277","v":254},{"$f":"[2]科技树属性分配!AD277","v":267},{"$f":"[2]科技树属性分配!AE277","v":9141},{"$f":"[2]科技树属性分配!AF277","v":267},{"$f":"[2]科技树属性分配!AG277","v":267},{"$f":"[2]科技树属性分配!AH277","v":0},{"$f":"[2]科技树属性分配!AI277","v":0},{"$f":"[2]科技树属性分配!AJ277","v":0},{"$f":"[2]科技树属性分配!AK277","v":0},null,"5#254","2#267|1#9141","3#267|4#267","53#0|54#0","52#0|51#0"]
[3325,25,{"$f":"[2]科技树属性分配!AC278","v":275},{"$f":"[2]科技树属性分配!AD278","v":289},{"$f":"[2]科技树属性分配!AE278","v":9911},{"$f":"[2]科技树属性分配!AF278","v":289},{"$f":"[2]科技树属性分配!AG278","v":289},{"$f":"[2]科技树属性分配!AH278","v":0},{"$f":"[2]科技树属性分配!AI278","v":0},{"$f":"[2]科技树属性分配!AJ278","v":0},{"$f":"[2]科技树属性分配!AK278","v":0},null,"5#275","2#289|1#9911","3#289|4#289","53#0|54#0","52#0|51#0"]
[3326,26,{"$f":"[2]科技树属性分配!AC279","v":298},{"$f":"[2]科技树属性分配!AD279","v":313},{"$f":"[2]科技树属性分配!AE279","v":10724},{"$f":"[2]科技树属性分配!AF279","v":313},{"$f":"[2]科技树属性分配!AG279","v":313},{"$f":"[2]科技树属性分配!AH279","v":0},{"$f":"[2]科技树属性分配!AI279","v":0},{"$f":"[2]科技树属性分配!AJ279","v":0},{"$f":"[2]科技树属性分配!AK279","v":0},null,"5#298","2#313|1#10724","3#313|4#313","53#0|54#0","52#0|51#0"]
[3327,27,{"$f":"[2]科技树属性分配!AC280","v":322},{"$f":"[2]科技树属性分配!AD280","v":338},{"$f":"[2]科技树属性分配!AE280","v":11579},{"$f":"[2]科技树属性分配!AF280","v":338},{"$f":"[2]科技树属性分配!AG280","v":338},{"$f":"[2]科技树属性分配!AH280","v":0},{"$f":"[2]科技树属性分配!AI280","v":0},{"$f":"[2]科技树属性分配!AJ280","v":0},{"$f":"[2]科技树属性分配!AK280","v":0},null,"5#322","2#338|1#11579","3#338|4#338","53#0|54#0","52#0|51#0"]
[3328,28,{"$f":"[2]科技树属性分配!AC281","v":347},{"$f":"[2]科技树属性分配!AD281","v":364},{"$f":"[2]科技树属性分配!AE281","v":12477},{"$f":"[2]科技树属性分配!AF281","v":364},{"$f":"[2]科技树属性分配!AG281","v":364},{"$f":"[2]科技树属性分配!AH281","v":0},{"$f":"[2]科技树属性分配!AI281","v":0},{"$f":"[2]科技树属性分配!AJ281","v":0},{"$f":"[2]科技树属性分配!AK281","v":0},null,"5#347","2#364|1#12477","3#364|4#364","53#0|54#0","52#0|51#0"]
[3329,29,{"$f":"[2]科技树属性分配!AC282","v":373},{"$f":"[2]科技树属性分配!AD282","v":391},{"$f":"[2]科技树属性分配!AE282","v":13417},{"$f":"[2]科技树属性分配!AF282","v":391},{"$f":"[2]科技树属性分配!AG282","v":391},{"$f":"[2]科技树属性分配!AH282","v":0},{"$f":"[2]科技树属性分配!AI282","v":0},{"$f":"[2]科技树属性分配!AJ282","v":0},{"$f":"[2]科技树属性分配!AK282","v":0},null,"5#373","2#391|1#13417","3#391|4#391","53#0|54#0","52#0|51#0"]
[3330,30,{"$f":"[2]科技树属性分配!AC283","v":400},{"$f":"[2]科技树属性分配!AD283","v":420},{"$f":"[2]科技树属性分配!AE283","v":14400},{"$f":"[2]科技树属性分配!AF283","v":420},{"$f":"[2]科技树属性分配!AG283","v":420},{"$f":"[2]科技树属性分配!AH283","v":0},{"$f":"[2]科技树属性分配!AI283","v":0},{"$f":"[2]科技树属性分配!AJ283","v":0},{"$f":"[2]科技树属性分配!AK283","v":0},null,"5#400","2#420|1#14400","3#420|4#420","53#0|54#0","52#0|51#0"]
[]
[]
[{"$f":"A197+1000","v":4100},0,0,{"$f":"C294","v":0},{"$f":"D294","v":0},{"$f":"E294","v":0},{"$f":"F294","v":0},{"$nulls":5},{"$f":"$C$2&\"#\"&C294","v":"1#0"},{"$f":"$D$2&\"#\"&D294","v":"3#0"},{"$f":"$E$2&\"#\"&E294","v":"4#0"},{"$f":"$F$2&\"#\"&F294","v":"54#0"},{"$f":"$G$2&\"#\"&G294","v":"52#0"}]
[4101,1,{"$f":"[2]科技树属性分配!AC286","v":61},{"$f":"[2]科技树属性分配!AD286","v":1},{"$f":"[2]科技树属性分配!AE286","v":1},{"$f":"[2]科技树属性分配!AF286","v":44},{"$f":"[2]科技树属性分配!AG286","v":44},{"$nulls":5},"1#61","3#1","4#1","54#44","52#44"]
[4102,2,{"$f":"[2]科技树属性分配!AC287","v":176},{"$f":"[2]科技树属性分配!AD287","v":4},{"$f":"[2]科技树属性分配!AE287","v":4},{"$f":"[2]科技树属性分配!AF287","v":109},{"$f":"[2]科技树属性分配!AG287","v":109},{"$nulls":5},"1#176","3#4","4#4","54#109","52#109"]
[4103,3,{"$f":"[2]科技树属性分配!AC288","v":344},{"$f":"[2]科技树属性分配!AD288","v":7},{"$f":"[2]科技树属性分配!AE288","v":7},{"$f":"[2]科技树属性分配!AF288","v":196},{"$f":"[2]科技树属性分配!AG288","v":196},{"$nulls":5},"1#344","3#7","4#7","54#196","52#196"]
[4104,4,{"$f":"[2]科技树属性分配!AC289","v":565},{"$f":"[2]科技树属性分配!AD289","v":12},{"$f":"[2]科技树属性分配!AE289","v":12},{"$f":"[2]科技树属性分配!AF289","v":305},{"$f":"[2]科技树属性分配!AG289","v":305},{"$nulls":5},"1#565","3#12","4#12","54#305","52#305"]
[4105,5,{"$f":"[2]科技树属性分配!AC290","v":840},{"$f":"[2]科技树属性分配!AD290","v":18},{"$f":"[2]科技树属性分配!AE290","v":18},{"$f":"[2]科技树属性分配!AF290","v":436},{"$f":"[2]科技树属性分配!AG290","v":436},{"$nulls":5},"1#840","3#18","4#18","54#436","52#436"]
[4106,6,{"$f":"[2]科技树属性分配!AC291","v":1168},{"$f":"[2]科技树属性分配!AD291","v":25},{"$f":"[2]科技树属性分配!AE291","v":25},{"$f":"[2]科技树属性分配!AF291","v":611},{"$f":"[2]科技树属性分配!AG291","v":611},{"$nulls":5},"1#1168","3#25","4#25","54#611","52#611"]
[4107,7,{"$f":"[2]科技树属性分配!AC292","v":1550},{"$f":"[2]科技树属性分配!AD292","v":33},{"$f":"[2]科技树属性分配!AE292","v":33},{"$f":"[2]科技树属性分配!AF292","v":829},{"$f":"[2]科技树属性分配!AG292","v":829},{"$nulls":5},"1#1550","3#33","4#33","54#829","52#829"]
[4108,8,{"$f":"[2]科技树属性分配!AC293","v":1985},{"$f":"[2]科技树属性分配!AD293","v":43},{"$f":"[2]科技树属性分配!AE293","v":43},{"$f":"[2]科技树属性分配!AF293","v":1091},{"$f":"[2]科技树属性分配!AG293","v":1091},{"$nulls":5},"1#1985","3#43","4#43","54#1091","52#1091"]
[4109,9,{"$f":"[2]科技树属性分配!AC294","v":2474},{"$f":"[2]科技树属性分配!AD294","v":53},{"$f":"[2]科技树属性分配!AE294","v":53},{"$f":"[2]科技树属性分配!AF294","v":1407},{"$f":"[2]科技树属性分配!AG294","v":1407},{"$nulls":5},"1#2474","3#53","4#53","54#1407","52#1407"]
[4110,10,{"$f":"[2]科技树属性分配!AC295","v":3016},{"$f":"[2]科技树属性分配!AD295","v":65},{"$f":"[2]科技树属性分配!AE295","v":65},{"$f":"[2]科技树属性分配!AF295","v":1800},{"$f":"[2]科技树属性分配!AG295","v":1800},{"$nulls":5},"1#3016","3#65","4#65","54#1800","52#1800"]
[4111,11,{"$f":"[2]科技树属性分配!AC296","v":3612},{"$f":"[2]科技树属性分配!AD296","v":77},{"$f":"[2]科技树属性分配!AE296","v":77},{"$f":"[2]科技树属性分配!AF296","v":0},{"$f":"[2]科技树属性分配!AG296","v":0},{"$nulls":5},"1#3612","3#77","4#77","54#0","52#0"]
[4112,12,{"$f":"[2]科技树属性分配!AC297","v":4261},{"$f":"[2]科技树属性分配!AD297","v":91},{"$f":"[2]科技树属性分配!AE297","v":91},{"$f":"[2]科技树属性分配!AF297","v":0},{"$f":"[2]科技树属性分配!AG297","v":0},{"$nulls":5},"1#4261","3#91","4#91","54#0","52#0"]
[4113,13,{"$f":"[2]科技树属性分配!AC298","v":4964},{"$f":"[2]科技树属性分配!AD298","v":106},{"$f":"[2]科技树属性分配!AE298","v":106},{"$f":"[2]科技树属性分配!AF298","v":0},{"$f":"[2]科技树属性分配!AG298","v":0},{"$nulls":5},"1#4964","3#106","4#106","54#0","52#0"]
[4114,14,{"$f":"[2]科技树属性分配!AC299","v":5720},{"$f":"[2]科技树属性分配!AD299","v":123},{"$f":"[2]科技树属性分配!AE299","v":123},{"$f":"[2]科技树属性分配!AF299","v":0},{"$f":"[2]科技树属性分配!AG299","v":0},{"$nulls":5},"1#5720","3#123","4#123","54#0","52#0"]
[4115,15,{"$f":"[2]科技树属性分配!AC300","v":6529},{"$f":"[2]科技树属性分配!AD300","v":140},{"$f":"[2]科技树属性分配!AE300","v":140},{"$f":"[2]科技树属性分配!AF300","v":0},{"$f":"[2]科技树属性分配!AG300","v":0},{"$nulls":5},"1#6529","3#140","4#140","54#0","52#0"]
[4116,16,{"$f":"[2]科技树属性分配!AC301","v":7392},{"$f":"[2]科技树属性分配!AD301","v":158},{"$f":"[2]科技树属性分配!AE301","v":158},{"$f":"[2]科技树属性分配!AF301","v":0},{"$f":"[2]科技树属性分配!AG301","v":0},{"$nulls":5},"1#7392","3#158","4#158","54#0","52#0"]
[4117,17,{"$f":"[2]科技树属性分配!AC302","v":8308},{"$f":"[2]科技树属性分配!AD302","v":178},{"$f":"[2]科技树属性分配!AE302","v":178},{"$f":"[2]科技树属性分配!AF302","v":0},{"$f":"[2]科技树属性分配!AG302","v":0},{"$nulls":5},"1#8308","3#178","4#178","54#0","52#0"]
[4118,18,{"$f":"[2]科技树属性分配!AC303","v":9278},{"$f":"[2]科技树属性分配!AD303","v":199},{"$f":"[2]科技树属性分配!AE303","v":199},{"$f":"[2]科技树属性分配!AF303","v":0},{"$f":"[2]科技树属性分配!AG303","v":0},{"$nulls":5},"1#9278","3#199","4#199","54#0","52#0"]
[4119,19,{"$f":"[2]科技树属性分配!AC304","v":10301},{"$f":"[2]科技树属性分配!AD304","v":221},{"$f":"[2]科技树属性分配!AE304","v":221},{"$f":"[2]科技树属性分配!AF304","v":0},{"$f":"[2]科技树属性分配!AG304","v":0},{"$nulls":5},"1#10301","3#221","4#221","54#0","52#0"]
[4120,20,{"$f":"[2]科技树属性分配!AC305","v":11378},{"$f":"[2]科技树属性分配!AD305","v":244},{"$f":"[2]科技树属性分配!AE305","v":244},{"$f":"[2]科技树属性分配!AF305","v":0},{"$f":"[2]科技树属性分配!AG305","v":0},{"$nulls":5},"1#11378","3#244","4#244","54#0","52#0"]
[4121,21,{"$f":"[2]科技树属性分配!AC306","v":12508},{"$f":"[2]科技树属性分配!AD306","v":268},{"$f":"[2]科技树属性分配!AE306","v":268},{"$f":"[2]科技树属性分配!AF306","v":0},{"$f":"[2]科技树属性分配!AG306","v":0},{"$nulls":5},"1#12508","3#268","4#268","54#0","52#0"]
[4122,22,{"$f":"[2]科技树属性分配!AC307","v":13692},{"$f":"[2]科技树属性分配!AD307","v":293},{"$f":"[2]科技树属性分配!AE307","v":293},{"$f":"[2]科技树属性分配!AF307","v":0},{"$f":"[2]科技树属性分配!AG307","v":0},{"$nulls":5},"1#13692","3#293","4#293","54#0","52#0"]
[4123,23,{"$f":"[2]科技树属性分配!AC308","v":14929},{"$f":"[2]科技树属性分配!AD308","v":320},{"$f":"[2]科技树属性分配!AE308","v":320},{"$f":"[2]科技树属性分配!AF308","v":0},{"$f":"[2]科技树属性分配!AG308","v":0},{"$nulls":5},"1#14929","3#320","4#320","54#0","52#0"]
[4124,24,{"$f":"[2]科技树属性分配!AC309","v":16220},{"$f":"[2]科技树属性分配!AD309","v":348},{"$f":"[2]科技树属性分配!AE309","v":348},{"$f":"[2]科技树属性分配!AF309","v":0},{"$f":"[2]科技树属性分配!AG309","v":0},{"$nulls":5},"1#16220","3#348","4#348","54#0","52#0"]
[4125,25,{"$f":"[2]科技树属性分配!AC310","v":17564},{"$f":"[2]科技树属性分配!AD310","v":376},{"$f":"[2]科技树属性分配!AE310","v":376},{"$f":"[2]科技树属性分配!AF310","v":0},{"$f":"[2]科技树属性分配!AG310","v":0},{"$nulls":5},"1#17564","3#376","4#376","54#0","52#0"]
[4126,26,{"$f":"[2]科技树属性分配!AC311","v":18969},{"$f":"[2]科技树属性分配!AD311","v":406},{"$f":"[2]科技树属性分配!AE311","v":406},{"$f":"[2]科技树属性分配!AF311","v":0},{"$f":"[2]科技树属性分配!AG311","v":0},{"$nulls":5},"1#18969","3#406","4#406","54#0","52#0"]
[4127,27,{"$f":"[2]科技树属性分配!AC312","v":20435},{"$f":"[2]科技树属性分配!AD312","v":438},{"$f":"[2]科技树属性分配!AE312","v":438},{"$f":"[2]科技树属性分配!AF312","v":0},{"$f":"[2]科技树属性分配!AG312","v":0},{"$nulls":5},"1#20435","3#438","4#438","54#0","52#0"]
[4128,28,{"$f":"[2]科技树属性分配!AC313","v":21962},{"$f":"[2]科技树属性分配!AD313","v":471},{"$f":"[2]科技树属性分配!AE313","v":471},{"$f":"[2]科技树属性分配!AF313","v":0},{"$f":"[2]科技树属性分配!AG313","v":0},{"$nulls":5},"1#21962","3#471","4#471","54#0","52#0"]
[4129,29,{"$f":"[2]科技树属性分配!AC314","v":23551},{"$f":"[2]科技树属性分配!AD314","v":505},{"$f":"[2]科技树属性分配!AE314","v":505},{"$f":"[2]科技树属性分配!AF314","v":0},{"$f":"[2]科技树属性分配!AG314","v":0},{"$nulls":5},"1#23551","3#505","4#505","54#0","52#0"]
[4130,30,{"$f":"[2]科技树属性分配!AC315","v":25200},{"$f":"[2]科技树属性分配!AD315","v":540},{"$f":"[2]科技树属性分配!AE315","v":540},{"$f":"[2]科技树属性分配!AF315","v":0},{"$f":"[2]科技树属性分配!AG315","v":0},{"$nulls":5},"1#25200","3#540","4#540","54#0","52#0"]
[]
[{"$f":"A229+1000","v":4200},{"$f":"B294","v":0},0,0,0,0,0,{"$nulls":5},{"$f":"$C$34&\"#\"&C326","v":"2#0"},{"$f":"$D$131&\"#\"&D326","v":"55#0"},{"$f":"$E$131&\"#\"&E326","v":"56#0"},{"$f":"$F$34&\"#\"&F326","v":"53#0"},{"$f":"$G$34&\"#\"&G326","v":"51#0"}]
[4201,{"$f":"B295","v":1},{"$f":"[2]科技树属性分配!AC317","v":1},{"$f":"[2]科技树属性分配!AD317","v":58},{"$f":"[2]科技树属性分配!AE317","v":58},{"$f":"[2]科技树属性分配!AF317","v":42},{"$f":"[2]科技树属性分配!AG317","v":42},{"$nulls":5},"2#1","55#58","56#58","53#42","51#42"]
[4202,2,{"$f":"[2]科技树属性分配!AC318","v":4},{"$f":"[2]科技树属性分配!AD318","v":154},{"$f":"[2]科技树属性分配!AE318","v":154},{"$f":"[2]科技树属性分配!AF318","v":111},{"$f":"[2]科技树属性分配!AG318","v":111},{"$nulls":5},"2#4","55#154","56#154","53#111","51#111"]
[4203,3,{"$f":"[2]科技树属性分配!AC319","v":7},{"$f":"[2]科技树属性分配!AD319","v":288},{"$f":"[2]科技树属性分配!AE319","v":288},{"$f":"[2]科技树属性分配!AF319","v":208},{"$f":"[2]科技树属性分配!AG319","v":208},{"$nulls":5},"2#7","55#288","56#288","53#208","51#208"]
[4204,4,{"$f":"[2]科技树属性分配!AC320","v":12},{"$f":"[2]科技树属性分配!AD320","v":462},{"$f":"[2]科技树属性分配!AE320","v":462},{"$f":"[2]科技树属性分配!AF320","v":332},{"$f":"[2]科技树属性分配!AG320","v":332},{"$nulls":5},"2#12","55#462","56#462","53#332","51#332"]
[4205,5,{"$f":"[2]科技树属性分配!AC321","v":18},{"$f":"[2]科技树属性分配!AD321","v":673},{"$f":"[2]科技树属性分配!AE321","v":673},{"$f":"[2]科技树属性分配!AF321","v":485},{"$f":"[2]科技树属性分配!AG321","v":485},{"$nulls":5},"2#18","55#673","56#673","53#485","51#485"]
[4206,6,{"$f":"[2]科技树属性分配!AC322","v":25},{"$f":"[2]科技树属性分配!AD322","v":962},{"$f":"[2]科技树属性分配!AE322","v":962},{"$f":"[2]科技树属性分配!AF322","v":674},{"$f":"[2]科技树属性分配!AG322","v":674},{"$nulls":5},"2#25","55#962","56#962","53#674","51#674"]
[4207,7,{"$f":"[2]科技树属性分配!AC323","v":33},{"$f":"[2]科技树属性分配!AD323","v":1327},{"$f":"[2]科技树属性分配!AE323","v":1327},{"$f":"[2]科技树属性分配!AF323","v":900},{"$f":"[2]科技树属性分配!AG323","v":900},{"$nulls":5},"2#33","55#1327","56#1327","53#900","51#900"]
[4208,8,{"$f":"[2]科技树属性分配!AC324","v":43},{"$f":"[2]科技树属性分配!AD324","v":1769},{"$f":"[2]科技树属性分配!AE324","v":1769},{"$f":"[2]科技树属性分配!AF324","v":1163},{"$f":"[2]科技树属性分配!AG324","v":1163},{"$nulls":5},"2#43","55#1769","56#1769","53#1163","51#1163"]
[4209,9,{"$f":"[2]科技树属性分配!AC325","v":53},{"$f":"[2]科技树属性分配!AD325","v":2327},{"$f":"[2]科技树属性分配!AE325","v":2327},{"$f":"[2]科技树属性分配!AF325","v":1463},{"$f":"[2]科技树属性分配!AG325","v":1463},{"$nulls":5},"2#53","55#2327","56#2327","53#1463","51#1463"]
[4210,10,{"$f":"[2]科技树属性分配!AC326","v":65},{"$f":"[2]科技树属性分配!AD326","v":3000},{"$f":"[2]科技树属性分配!AE326","v":3000},{"$f":"[2]科技树属性分配!AF326","v":1800},{"$f":"[2]科技树属性分配!AG326","v":1800},{"$nulls":5},"2#65","55#3000","56#3000","53#1800","51#1800"]
[4211,11,{"$f":"[2]科技树属性分配!AC327","v":77},{"$f":"[2]科技树属性分配!AD327","v":0},{"$f":"[2]科技树属性分配!AE327","v":0},{"$f":"[2]科技树属性分配!AF327","v":0},{"$f":"[2]科技树属性分配!AG327","v":0},{"$nulls":5},"2#77","55#0","56#0","53#0","51#0"]
[4212,12,{"$f":"[2]科技树属性分配!AC328","v":91},{"$f":"[2]科技树属性分配!AD328","v":0},{"$f":"[2]科技树属性分配!AE328","v":0},{"$f":"[2]科技树属性分配!AF328","v":0},{"$f":"[2]科技树属性分配!AG328","v":0},{"$nulls":5},"2#91","55#0","56#0","53#0","51#0"]
[4213,13,{"$f":"[2]科技树属性分配!AC329","v":106},{"$f":"[2]科技树属性分配!AD329","v":0},{"$f":"[2]科技树属性分配!AE329","v":0},{"$f":"[2]科技树属性分配!AF329","v":0},{"$f":"[2]科技树属性分配!AG329","v":0},{"$nulls":5},"2#106","55#0","56#0","53#0","51#0"]
[4214,14,{"$f":"[2]科技树属性分配!AC330","v":123},{"$f":"[2]科技树属性分配!AD330","v":0},{"$f":"[2]科技树属性分配!AE330","v":0},{"$f":"[2]科技树属性分配!AF330","v":0},{"$f":"[2]科技树属性分配!AG330","v":0},{"$nulls":5},"2#123","55#0","56#0","53#0","51#0"]
[4215,15,{"$f":"[2]科技树属性分配!AC331","v":140},{"$f":"[2]科技树属性分配!AD331","v":0},{"$f":"[2]科技树属性分配!AE331","v":0},{"$f":"[2]科技树属性分配!AF331","v":0},{"$f":"[2]科技树属性分配!AG331","v":0},{"$nulls":5},"2#140","55#0","56#0","53#0","51#0"]
[4216,16,{"$f":"[2]科技树属性分配!AC332","v":158},{"$f":"[2]科技树属性分配!AD332","v":0},{"$f":"[2]科技树属性分配!AE332","v":0},{"$f":"[2]科技树属性分配!AF332","v":0},{"$f":"[2]科技树属性分配!AG332","v":0},{"$nulls":5},"2#158","55#0","56#0","53#0","51#0"]
[4217,17,{"$f":"[2]科技树属性分配!AC333","v":178},{"$f":"[2]科技树属性分配!AD333","v":0},{"$f":"[2]科技树属性分配!AE333","v":0},{"$f":"[2]科技树属性分配!AF333","v":0},{"$f":"[2]科技树属性分配!AG333","v":0},{"$nulls":5},"2#178","55#0","56#0","53#0","51#0"]
[4218,18,{"$f":"[2]科技树属性分配!AC334","v":199},{"$f":"[2]科技树属性分配!AD334","v":0},{"$f":"[2]科技树属性分配!AE334","v":0},{"$f":"[2]科技树属性分配!AF334","v":0},{"$f":"[2]科技树属性分配!AG334","v":0},{"$nulls":5},"2#199","55#0","56#0","53#0","51#0"]
[4219,19,{"$f":"[2]科技树属性分配!AC335","v":221},{"$f":"[2]科技树属性分配!AD335","v":0},{"$f":"[2]科技树属性分配!AE335","v":0},{"$f":"[2]科技树属性分配!AF335","v":0},{"$f":"[2]科技树属性分配!AG335","v":0},{"$nulls":5},"2#221","55#0","56#0","53#0","51#0"]
[4220,20,{"$f":"[2]科技树属性分配!AC336","v":244},{"$f":"[2]科技树属性分配!AD336","v":0},{"$f":"[2]科技树属性分配!AE336","v":0},{"$f":"[2]科技树属性分配!AF336","v":0},{"$f":"[2]科技树属性分配!AG336","v":0},{"$nulls":5},"2#244","55#0","56#0","53#0","51#0"]
[4221,21,{"$f":"[2]科技树属性分配!AC337","v":268},{"$f":"[2]科技树属性分配!AD337","v":0},{"$f":"[2]科技树属性分配!AE337","v":0},{"$f":"[2]科技树属性分配!AF337","v":0},{"$f":"[2]科技树属性分配!AG337","v":0},{"$nulls":5},"2#268","55#0","56#0","53#0","51#0"]
[4222,22,{"$f":"[2]科技树属性分配!AC338","v":293},{"$f":"[2]科技树属性分配!AD338","v":0},{"$f":"[2]科技树属性分配!AE338","v":0},{"$f":"[2]科技树属性分配!AF338","v":0},{"$f":"[2]科技树属性分配!AG338","v":0},{"$nulls":5},"2#293","55#0","56#0","53#0","51#0"]
[4223,23,{"$f":"[2]科技树属性分配!AC339","v":320},{"$f":"[2]科技树属性分配!AD339","v":0},{"$f":"[2]科技树属性分配!AE339","v":0},{"$f":"[2]科技树属性分配!AF339","v":0},{"$f":"[2]科技树属性分配!AG339","v":0},{"$nulls":5},"2#320","55#0","56#0","53#0","51#0"]
[4224,24,{"$f":"[2]科技树属性分配!AC340","v":348},{"$f":"[2]科技树属性分配!AD340","v":0},{"$f":"[2]科技树属性分配!AE340","v":0},{"$f":"[2]科技树属性分配!AF340","v":0},{"$f":"[2]科技树属性分配!AG340","v":0},{"$nulls":5},"2#348","55#0","56#0","53#0","51#0"]
[4225,25,{"$f":"[2]科技树属性分配!AC341","v":376},{"$f":"[2]科技树属性分配!AD341","v":0},{"$f":"[2]科技树属性分配!AE341","v":0},{"$f":"[2]科技树属性分配!AF341","v":0},{"$f":"[2]科技树属性分配!AG341","v":0},{"$nulls":5},"2#376","55#0","56#0","53#0","51#0"]
[4226,26,{"$f":"[2]科技树属性分配!AC342","v":406},{"$f":"[2]科技树属性分配!AD342","v":0},{"$f":"[2]科技树属性分配!AE342","v":0},{"$f":"[2]科技树属性分配!AF342","v":0},{"$f":"[2]科技树属性分配!AG342","v":0},{"$nulls":5},"2#406","55#0","56#0","53#0","51#0"]
[4227,27,{"$f":"[2]科技树属性分配!AC343","v":438},{"$f":"[2]科技树属性分配!AD343","v":0},{"$f":"[2]科技树属性分配!AE343","v":0},{"$f":"[2]科技树属性分配!AF343","v":0},{"$f":"[2]科技树属性分配!AG343","v":0},{"$nulls":5},"2#438","55#0","56#0","53#0","51#0"]
[4228,28,{"$f":"[2]科技树属性分配!AC344","v":471},{"$f":"[2]科技树属性分配!AD344","v":0},{"$f":"[2]科技树属性分配!AE344","v":0},{"$f":"[2]科技树属性分配!AF344","v":0},{"$f":"[2]科技树属性分配!AG344","v":0},{"$nulls":5},"2#471","55#0","56#0","53#0","51#0"]
[4229,29,{"$f":"[2]科技树属性分配!AC345","v":505},{"$f":"[2]科技树属性分配!AD345","v":0},{"$f":"[2]科技树属性分配!AE345","v":0},{"$f":"[2]科技树属性分配!AF345","v":0},{"$f":"[2]科技树属性分配!AG345","v":0},{"$nulls":5},"2#505","55#0","56#0","53#0","51#0"]
[4230,30,{"$f":"[2]科技树属性分配!AC346","v":540},{"$f":"[2]科技树属性分配!AD346","v":0},{"$f":"[2]科技树属性分配!AE346","v":0},{"$f":"[2]科技树属性分配!AF346","v":0},{"$f":"[2]科技树属性分配!AG346","v":0},{"$nulls":5},"2#540","55#0","56#0","53#0","51#0"]
[]
[{"$f":"A261+1000","v":4300},{"$f":"B326","v":0},{"$f":"B358","v":0},{"$f":"C358","v":0},0,0,0,0,0,0,0,null,{"$f":"$C$66&\"#\"&C358","v":"5#0"},{"$f":"$D$66&\"#\"&D358&\"|\"&$E$66&\"#\"&E358","v":"2#0|1#0"},{"$f":"$F$66&\"#\"&F358&\"|\"&$G$66&\"#\"&G358","v":"3#0|4#0"},{"$f":"$H$66&\"#\"&H358&\"|\"&$I$66&\"#\"&I358","v":"53#0|54#0"},{"$f":"$J$66&\"#\"&J358&\"|\"&$K$66&\"#\"&K358","v":"52#0|51#0"}]
[4301,{"$f":"B327","v":1},{"$f":"[2]科技树属性分配!AC348","v":4},{"$f":"[2]科技树属性分配!AD348","v":3},{"$f":"[2]科技树属性分配!AE348","v":151},{"$f":"[2]科技树属性分配!AF348","v":3},{"$f":"[2]科技树属性分配!AG348","v":3},{"$f":"[2]科技树属性分配!AH348","v":36},{"$f":"[2]科技树属性分配!AI348","v":36},{"$f":"[2]科技树属性分配!AJ348","v":36},{"$f":"[2]科技树属性分配!AK348","v":36},null,"5#4","2#3|1#151","3#3|4#3","53#36|54#36","52#36|51#36"]
[4302,2,{"$f":"[2]科技树属性分配!AC349","v":8},{"$f":"[2]科技树属性分配!AD349","v":7},{"$f":"[2]科技树属性分配!AE349","v":319},{"$f":"[2]科技树属性分配!AF349","v":7},{"$f":"[2]科技树属性分配!AG349","v":7},{"$f":"[2]科技树属性分配!AH349","v":91},{"$f":"[2]科技树属性分配!AI349","v":91},{"$f":"[2]科技树属性分配!AJ349","v":91},{"$f":"[2]科技树属性分配!AK349","v":91},null,"5#8","2#7|1#319","3#7|4#7","53#91|54#91","52#91|51#91"]
[4303,3,{"$f":"[2]科技树属性分配!AC350","v":12},{"$f":"[2]科技树属性分配!AD350","v":11},{"$f":"[2]科技树属性分配!AE350","v":504},{"$f":"[2]科技树属性分配!AF350","v":11},{"$f":"[2]科技树属性分配!AG350","v":11},{"$f":"[2]科技树属性分配!AH350","v":163},{"$f":"[2]科技树属性分配!AI350","v":163},{"$f":"[2]科技树属性分配!AJ350","v":163},{"$f":"[2]科技树属性分配!AK350","v":163},null,"5#12","2#11|1#504","3#11|4#11","53#163|54#163","52#163|51#163"]
[4304,4,{"$f":"[2]科技树属性分配!AC351","v":17},{"$f":"[2]科技树属性分配!AD351","v":15},{"$f":"[2]科技树属性分配!AE351","v":707},{"$f":"[2]科技树属性分配!AF351","v":15},{"$f":"[2]科技树属性分配!AG351","v":15},{"$f":"[2]科技树属性分配!AH351","v":254},{"$f":"[2]科技树属性分配!AI351","v":254},{"$f":"[2]科技树属性分配!AJ351","v":254},{"$f":"[2]科技树属性分配!AK351","v":254},null,"5#17","2#15|1#707","3#15|4#15","53#254|54#254","52#254|51#254"]
[4305,5,{"$f":"[2]科技树属性分配!AC352","v":22},{"$f":"[2]科技树属性分配!AD352","v":20},{"$f":"[2]科技树属性分配!AE352","v":927},{"$f":"[2]科技树属性分配!AF352","v":20},{"$f":"[2]科技树属性分配!AG352","v":20},{"$f":"[2]科技树属性分配!AH352","v":363},{"$f":"[2]科技树属性分配!AI352","v":363},{"$f":"[2]科技树属性分配!AJ352","v":363},{"$f":"[2]科技树属性分配!AK352","v":363},null,"5#22","2#20|1#927","3#20|4#20","53#363|54#363","52#363|51#363"]
[4306,6,{"$f":"[2]科技树属性分配!AC353","v":28},{"$f":"[2]科技树属性分配!AD353","v":25},{"$f":"[2]科技树属性分配!AE353","v":1168},{"$f":"[2]科技树属性分配!AF353","v":25},{"$f":"[2]科技树属性分配!AG353","v":25},{"$f":"[2]科技树属性分配!AH353","v":489},{"$f":"[2]科技树属性分配!AI353","v":489},{"$f":"[2]科技树属性分配!AJ353","v":489},{"$f":"[2]科技树属性分配!AK353","v":489},null,"5#28","2#25|1#1168","3#25|4#25","53#489|54#489","52#489|51#489"]
[4307,7,{"$f":"[2]科技树属性分配!AC354","v":34},{"$f":"[2]科技树属性分配!AD354","v":31},{"$f":"[2]科技树属性分配!AE354","v":1431},{"$f":"[2]科技树属性分配!AF354","v":31},{"$f":"[2]科技树属性分配!AG354","v":31},{"$f":"[2]科技树属性分配!AH354","v":634},{"$f":"[2]科技树属性分配!AI354","v":634},{"$f":"[2]科技树属性分配!AJ354","v":634},{"$f":"[2]科技树属性分配!AK354","v":634},null,"5#34","2#31|1#1431","3#31|4#31","53#634|54#634","52#634|51#634"]
[4308,8,{"$f":"[2]科技树属性分配!AC355","v":41},{"$f":"[2]科技树属性分配!AD355","v":37},{"$f":"[2]科技树属性分配!AE355","v":1716},{"$f":"[2]科技树属性分配!AF355","v":37},{"$f":"[2]科技树属性分配!AG355","v":37},{"$f":"[2]科技树属性分配!AH355","v":798},{"$f":"[2]科技树属性分配!AI355","v":798},{"$f":"[2]科技树属性分配!AJ355","v":798},{"$f":"[2]科技树属性分配!AK355","v":798},null,"5#41","2#37|1#1716","3#37|4#37","53#798|54#798","52#798|51#798"]
[4309,9,{"$f":"[2]科技树属性分配!AC356","v":48},{"$f":"[2]科技树属性分配!AD356","v":43},{"$f":"[2]科技树属性分配!AE356","v":2022},{"$f":"[2]科技树属性分配!AF356","v":43},{"$f":"[2]科技树属性分配!AG356","v":43},{"$f":"[2]科技树属性分配!AH356","v":986},{"$f":"[2]科技树属性分配!AI356","v":986},{"$f":"[2]科技树属性分配!AJ356","v":986},{"$f":"[2]科技树属性分配!AK356","v":986},null,"5#48","2#43|1#2022","3#43|4#43","53#986|54#986","52#986|51#986"]
[4310,10,{"$f":"[2]科技树属性分配!AC357","v":56},{"$f":"[2]科技树属性分配!AD357","v":50},{"$f":"[2]科技树属性分配!AE357","v":2349},{"$f":"[2]科技树属性分配!AF357","v":50},{"$f":"[2]科技树属性分配!AG357","v":50},{"$f":"[2]科技树属性分配!AH357","v":1200},{"$f":"[2]科技树属性分配!AI357","v":1200},{"$f":"[2]科技树属性分配!AJ357","v":1200},{"$f":"[2]科技树属性分配!AK357","v":1200},null,"5#56","2#50|1#2349","3#50|4#50","53#1200|54#1200","52#1200|51#1200"]
[4311,11,{"$f":"[2]科技树属性分配!AC358","v":65},{"$f":"[2]科技树属性分配!AD358","v":58},{"$f":"[2]科技树属性分配!AE358","v":2709},{"$f":"[2]科技树属性分配!AF358","v":58},{"$f":"[2]科技树属性分配!AG358","v":58},{"$f":"[2]科技树属性分配!AH358","v":0},{"$f":"[2]科技树属性分配!AI358","v":0},{"$f":"[2]科技树属性分配!AJ358","v":0},{"$f":"[2]科技树属性分配!AK358","v":0},null,"5#65","2#58|1#2709","3#58|4#58","53#0|54#0","52#0|51#0"]
[4312,12,{"$f":"[2]科技树属性分配!AC359","v":74},{"$f":"[2]科技树属性分配!AD359","v":66},{"$f":"[2]科技树属性分配!AE359","v":3101},{"$f":"[2]科技树属性分配!AF359","v":66},{"$f":"[2]科技树属性分配!AG359","v":66},{"$f":"[2]科技树属性分配!AH359","v":0},{"$f":"[2]科技树属性分配!AI359","v":0},{"$f":"[2]科技树属性分配!AJ359","v":0},{"$f":"[2]科技树属性分配!AK359","v":0},null,"5#74","2#66|1#3101","3#66|4#66","53#0|54#0","52#0|51#0"]
[4313,13,{"$f":"[2]科技树属性分配!AC360","v":84},{"$f":"[2]科技树属性分配!AD360","v":76},{"$f":"[2]科技树属性分配!AE360","v":3526},{"$f":"[2]科技树属性分配!AF360","v":76},{"$f":"[2]科技树属性分配!AG360","v":76},{"$f":"[2]科技树属性分配!AH360","v":0},{"$f":"[2]科技树属性分配!AI360","v":0},{"$f":"[2]科技树属性分配!AJ360","v":0},{"$f":"[2]科技树属性分配!AK360","v":0},null,"5#84","2#76|1#3526","3#76|4#76","53#0|54#0","52#0|51#0"]
[4314,14,{"$f":"[2]科技树属性分配!AC361","v":95},{"$f":"[2]科技树属性分配!AD361","v":85},{"$f":"[2]科技树属性分配!AE361","v":3983},{"$f":"[2]科技树属性分配!AF361","v":85},{"$f":"[2]科技树属性分配!AG361","v":85},{"$f":"[2]科技树属性分配!AH361","v":0},{"$f":"[2]科技树属性分配!AI361","v":0},{"$f":"[2]科技树属性分配!AJ361","v":0},{"$f":"[2]科技树属性分配!AK361","v":0},null,"5#95","2#85|1#3983","3#85|4#85","53#0|54#0","52#0|51#0"]
[4315,15,{"$f":"[2]科技树属性分配!AC362","v":106},{"$f":"[2]科技树属性分配!AD362","v":96},{"$f":"[2]科技树属性分配!AE362","v":4472},{"$f":"[2]科技树属性分配!AF362","v":96},{"$f":"[2]科技树属性分配!AG362","v":96},{"$f":"[2]科技树属性分配!AH362","v":0},{"$f":"[2]科技树属性分配!AI362","v":0},{"$f":"[2]科技树属性分配!AJ362","v":0},{"$f":"[2]科技树属性分配!AK362","v":0},null,"5#106","2#96|1#4472","3#96|4#96","53#0|54#0","52#0|51#0"]
[4316,16,{"$f":"[2]科技树属性分配!AC363","v":119},{"$f":"[2]科技树属性分配!AD363","v":107},{"$f":"[2]科技树属性分配!AE363","v":5000},{"$f":"[2]科技树属性分配!AF363","v":107},{"$f":"[2]科技树属性分配!AG363","v":107},{"$f":"[2]科技树属性分配!AH363","v":0},{"$f":"[2]科技树属性分配!AI363","v":0},{"$f":"[2]科技树属性分配!AJ363","v":0},{"$f":"[2]科技树属性分配!AK363","v":0},null,"5#119","2#107|1#5000","3#107|4#107","53#0|54#0","52#0|51#0"]
[4317,17,{"$f":"[2]科技树属性分配!AC364","v":133},{"$f":"[2]科技树属性分配!AD364","v":119},{"$f":"[2]科技树属性分配!AE364","v":5567},{"$f":"[2]科技树属性分配!AF364","v":119},{"$f":"[2]科技树属性分配!AG364","v":119},{"$f":"[2]科技树属性分配!AH364","v":0},{"$f":"[2]科技树属性分配!AI364","v":0},{"$f":"[2]科技树属性分配!AJ364","v":0},{"$f":"[2]科技树属性分配!AK364","v":0},null,"5#133","2#119|1#5567","3#119|4#119","53#0|54#0","52#0|51#0"]
[4318,18,{"$f":"[2]科技树属性分配!AC365","v":147},{"$f":"[2]科技树属性分配!AD365","v":132},{"$f":"[2]科技树属性分配!AE365","v":6173},{"$f":"[2]科技树属性分配!AF365","v":132},{"$f":"[2]科技树属性分配!AG365","v":132},{"$f":"[2]科技树属性分配!AH365","v":0},{"$f":"[2]科技树属性分配!AI365","v":0},{"$f":"[2]科技树属性分配!AJ365","v":0},{"$f":"[2]科技树属性分配!AK365","v":0},null,"5#147","2#132|1#6173","3#132|4#132","53#0|54#0","52#0|51#0"]
[4319,19,{"$f":"[2]科技树属性分配!AC366","v":162},{"$f":"[2]科技树属性分配!AD366","v":146},{"$f":"[2]科技树属性分配!AE366","v":6817},{"$f":"[2]科技树属性分配!AF366","v":146},{"$f":"[2]科技树属性分配!AG366","v":146},{"$f":"[2]科技树属性分配!AH366","v":0},{"$f":"[2]科技树属性分配!AI366","v":0},{"$f":"[2]科技树属性分配!AJ366","v":0},{"$f":"[2]科技树属性分配!AK366","v":0},null,"5#162","2#146|1#6817","3#146|4#146","53#0|54#0","52#0|51#0"]
[4320,20,{"$f":"[2]科技树属性分配!AC367","v":179},{"$f":"[2]科技树属性分配!AD367","v":161},{"$f":"[2]科技树属性分配!AE367","v":7500},{"$f":"[2]科技树属性分配!AF367","v":161},{"$f":"[2]科技树属性分配!AG367","v":161},{"$f":"[2]科技树属性分配!AH367","v":0},{"$f":"[2]科技树属性分配!AI367","v":0},{"$f":"[2]科技树属性分配!AJ367","v":0},{"$f":"[2]科技树属性分配!AK367","v":0},null,"5#179","2#161|1#7500","3#161|4#161","53#0|54#0","52#0|51#0"]
[4321,21,{"$f":"[2]科技树属性分配!AC368","v":196},{"$f":"[2]科技树属性分配!AD368","v":176},{"$f":"[2]科技树属性分配!AE368","v":8227},{"$f":"[2]科技树属性分配!AF368","v":176},{"$f":"[2]科技树属性分配!AG368","v":176},{"$f":"[2]科技树属性分配!AH368","v":0},{"$f":"[2]科技树属性分配!AI368","v":0},{"$f":"[2]科技树属性分配!AJ368","v":0},{"$f":"[2]科技树属性分配!AK368","v":0},null,"5#196","2#176|1#8227","3#176|4#176","53#0|54#0","52#0|51#0"]
[4322,22,{"$f":"[2]科技树属性分配!AC369","v":214},{"$f":"[2]科技树属性分配!AD369","v":193},{"$f":"[2]科技树属性分配!AE369","v":8996},{"$f":"[2]科技树属性分配!AF369","v":193},{"$f":"[2]科技树属性分配!AG369","v":193},{"$f":"[2]科技树属性分配!AH369","v":0},{"$f":"[2]科技树属性分配!AI369","v":0},{"$f":"[2]科技树属性分配!AJ369","v":0},{"$f":"[2]科技树属性分配!AK369","v":0},null,"5#214","2#193|1#8996","3#193|4#193","53#0|54#0","52#0|51#0"]
[4323,23,{"$f":"[2]科技树属性分配!AC370","v":234},{"$f":"[2]科技树属性分配!AD370","v":210},{"$f":"[2]科技树属性分配!AE370","v":9808},{"$f":"[2]科技树属性分配!AF370","v":210},{"$f":"[2]科技树属性分配!AG370","v":210},{"$f":"[2]科技树属性分配!AH370","v":0},{"$f":"[2]科技树属性分配!AI370","v":0},{"$f":"[2]科技树属性分配!AJ370","v":0},{"$f":"[2]科技树属性分配!AK370","v":0},null,"5#234","2#210|1#9808","3#210|4#210","53#0|54#0","52#0|51#0"]
[4324,24,{"$f":"[2]科技树属性分配!AC371","v":254},{"$f":"[2]科技树属性分配!AD371","v":229},{"$f":"[2]科技树属性分配!AE371","v":10664},{"$f":"[2]科技树属性分配!AF371","v":229},{"$f":"[2]科技树属性分配!AG371","v":229},{"$f":"[2]科技树属性分配!AH371","v":0},{"$f":"[2]科技树属性分配!AI371","v":0},{"$f":"[2]科技树属性分配!AJ371","v":0},{"$f":"[2]科技树属性分配!AK371","v":0},null,"5#254","2#229|1#10664","3#229|4#229","53#0|54#0","52#0|51#0"]
[4325,25,{"$f":"[2]科技树属性分配!AC372","v":275},{"$f":"[2]科技树属性分配!AD372","v":248},{"$f":"[2]科技树属性分配!AE372","v":11563},{"$f":"[2]科技树属性分配!AF372","v":248},{"$f":"[2]科技树属性分配!AG372","v":248},{"$f":"[2]科技树属性分配!AH372","v":0},{"$f":"[2]科技树属性分配!AI372","v":0},{"$f":"[2]科技树属性分配!AJ372","v":0},{"$f":"[2]科技树属性分配!AK372","v":0},null,"5#275","2#248|1#11563","3#248|4#248","53#0|54#0","52#0|51#0"]
[4326,26,{"$f":"[2]科技树属性分配!AC373","v":298},{"$f":"[2]科技树属性分配!AD373","v":268},{"$f":"[2]科技树属性分配!AE373","v":12511},{"$f":"[2]科技树属性分配!AF373","v":268},{"$f":"[2]科技树属性分配!AG373","v":268},{"$f":"[2]科技树属性分配!AH373","v":0},{"$f":"[2]科技树属性分配!AI373","v":0},{"$f":"[2]科技树属性分配!AJ373","v":0},{"$f":"[2]科技树属性分配!AK373","v":0},null,"5#298","2#268|1#12511","3#268|4#268","53#0|54#0","52#0|51#0"]
[4327,27,{"$f":"[2]科技树属性分配!AC374","v":322},{"$f":"[2]科技树属性分配!AD374","v":289},{"$f":"[2]科技树属性分配!AE374","v":13509},{"$f":"[2]科技树属性分配!AF374","v":289},{"$f":"[2]科技树属性分配!AG374","v":289},{"$f":"[2]科技树属性分配!AH374","v":0},{"$f":"[2]科技树属性分配!AI374","v":0},{"$f":"[2]科技树属性分配!AJ374","v":0},{"$f":"[2]科技树属性分配!AK374","v":0},null,"5#322","2#289|1#13509","3#289|4#289","53#0|54#0","52#0|51#0"]
[4328,28,{"$f":"[2]科技树属性分配!AC375","v":347},{"$f":"[2]科技树属性分配!AD375","v":312},{"$f":"[2]科技树属性分配!AE375","v":14556},{"$f":"[2]科技树属性分配!AF375","v":312},{"$f":"[2]科技树属性分配!AG375","v":312},{"$f":"[2]科技树属性分配!AH375","v":0},{"$f":"[2]科技树属性分配!AI375","v":0},{"$f":"[2]科技树属性分配!AJ375","v":0},{"$f":"[2]科技树属性分配!AK375","v":0},null,"5#347","2#312|1#14556","3#312|4#312","53#0|54#0","52#0|51#0"]
[4329,29,{"$f":"[2]科技树属性分配!AC376","v":373},{"$f":"[2]科技树属性分配!AD376","v":335},{"$f":"[2]科技树属性分配!AE376","v":15653},{"$f":"[2]科技树属性分配!AF376","v":335},{"$f":"[2]科技树属性分配!AG376","v":335},{"$f":"[2]科技树属性分配!AH376","v":0},{"$f":"[2]科技树属性分配!AI376","v":0},{"$f":"[2]科技树属性分配!AJ376","v":0},{"$f":"[2]科技树属性分配!AK376","v":0},null,"5#373","2#335|1#15653","3#335|4#335","53#0|54#0","52#0|51#0"]
[4330,30,{"$f":"[2]科技树属性分配!AC377","v":400},{"$f":"[2]科技树属性分配!AD377","v":360},{"$f":"[2]科技树属性分配!AE377","v":16800},{"$f":"[2]科技树属性分配!AF377","v":360},{"$f":"[2]科技树属性分配!AG377","v":360},{"$f":"[2]科技树属性分配!AH377","v":0},{"$f":"[2]科技树属性分配!AI377","v":0},{"$f":"[2]科技树属性分配!AJ377","v":0},{"$f":"[2]科技树属性分配!AK377","v":0},null,"5#400","2#360|1#16800","3#360|4#360","53#0|54#0","52#0|51#0"]
[]
[{"$f":"A294+1000","v":5100},{"$f":"B358","v":0},{"$f":"B390","v":0},{"$f":"C390","v":0},{"$f":"D390","v":0},{"$f":"E390","v":0},{"$f":"F390","v":0},{"$nulls":5},{"$f":"$C$2&\"#\"&C390","v":"1#0"},{"$f":"$D$2&\"#\"&D390","v":"3#0"},{"$f":"$E$2&\"#\"&E390","v":"4#0"},{"$f":"$F$2&\"#\"&F390","v":"54#0"},{"$f":"$G$2&\"#\"&G390","v":"52#0"}]
[{"$f":"A295+1000","v":5101},1,{"$f":"[2]科技树属性分配!AC380","v":37},{"$f":"[2]科技树属性分配!AD380","v":2},{"$f":"[2]科技树属性分配!AE380","v":2},{"$f":"[2]科技树属性分配!AF380","v":44},{"$f":"[2]科技树属性分配!AG380","v":44},{"$nulls":5},"1#37","3#2","4#2","54#44","52#44"]
[5102,2,{"$f":"[2]科技树属性分配!AC381","v":107},{"$f":"[2]科技树属性分配!AD381","v":6},{"$f":"[2]科技树属性分配!AE381","v":6},{"$f":"[2]科技树属性分配!AF381","v":109},{"$f":"[2]科技树属性分配!AG381","v":109},{"$nulls":5},"1#107","3#6","4#6","54#109","52#109"]
[5103,3,{"$f":"[2]科技树属性分配!AC382","v":209},{"$f":"[2]科技树属性分配!AD382","v":12},{"$f":"[2]科技树属性分配!AE382","v":12},{"$f":"[2]科技树属性分配!AF382","v":196},{"$f":"[2]科技树属性分配!AG382","v":196},{"$nulls":5},"1#209","3#12","4#12","54#196","52#196"]
[5104,4,{"$f":"[2]科技树属性分配!AC383","v":343},{"$f":"[2]科技树属性分配!AD383","v":19},{"$f":"[2]科技树属性分配!AE383","v":19},{"$f":"[2]科技树属性分配!AF383","v":305},{"$f":"[2]科技树属性分配!AG383","v":305},{"$nulls":5},"1#343","3#19","4#19","54#305","52#305"]
[5105,5,{"$f":"[2]科技树属性分配!AC384","v":510},{"$f":"[2]科技树属性分配!AD384","v":29},{"$f":"[2]科技树属性分配!AE384","v":29},{"$f":"[2]科技树属性分配!AF384","v":436},{"$f":"[2]科技树属性分配!AG384","v":436},{"$nulls":5},"1#510","3#29","4#29","54#436","52#436"]
[5106,6,{"$f":"[2]科技树属性分配!AC385","v":709},{"$f":"[2]科技树属性分配!AD385","v":40},{"$f":"[2]科技树属性分配!AE385","v":40},{"$f":"[2]科技树属性分配!AF385","v":611},{"$f":"[2]科技树属性分配!AG385","v":611},{"$nulls":5},"1#709","3#40","4#40","54#611","52#611"]
[5107,7,{"$f":"[2]科技树属性分配!AC386","v":941},{"$f":"[2]科技树属性分配!AD386","v":53},{"$f":"[2]科技树属性分配!AE386","v":53},{"$f":"[2]科技树属性分配!AF386","v":829},{"$f":"[2]科技树属性分配!AG386","v":829},{"$nulls":5},"1#941","3#53","4#53","54#829","52#829"]
[5108,8,{"$f":"[2]科技树属性分配!AC387","v":1205},{"$f":"[2]科技树属性分配!AD387","v":67},{"$f":"[2]科技树属性分配!AE387","v":67},{"$f":"[2]科技树属性分配!AF387","v":1091},{"$f":"[2]科技树属性分配!AG387","v":1091},{"$nulls":5},"1#1205","3#67","4#67","54#1091","52#1091"]
[5109,9,{"$f":"[2]科技树属性分配!AC388","v":1502},{"$f":"[2]科技树属性分配!AD388","v":84},{"$f":"[2]科技树属性分配!AE388","v":84},{"$f":"[2]科技树属性分配!AF388","v":1407},{"$f":"[2]科技树属性分配!AG388","v":1407},{"$nulls":5},"1#1502","3#84","4#84","54#1407","52#1407"]
[5110,10,{"$f":"[2]科技树属性分配!AC389","v":1831},{"$f":"[2]科技树属性分配!AD389","v":102},{"$f":"[2]科技树属性分配!AE389","v":102},{"$f":"[2]科技树属性分配!AF389","v":1800},{"$f":"[2]科技树属性分配!AG389","v":1800},{"$nulls":5},"1#1831","3#102","4#102","54#1800","52#1800"]
[5111,11,{"$f":"[2]科技树属性分配!AC390","v":2193},{"$f":"[2]科技树属性分配!AD390","v":123},{"$f":"[2]科技树属性分配!AE390","v":123},{"$f":"[2]科技树属性分配!AF390","v":0},{"$f":"[2]科技树属性分配!AG390","v":0},{"$nulls":5},"1#2193","3#123","4#123","54#0","52#0"]
[5112,12,{"$f":"[2]科技树属性分配!AC391","v":2587},{"$f":"[2]科技树属性分配!AD391","v":145},{"$f":"[2]科技树属性分配!AE391","v":145},{"$f":"[2]科技树属性分配!AF391","v":0},{"$f":"[2]科技树属性分配!AG391","v":0},{"$nulls":5},"1#2587","3#145","4#145","54#0","52#0"]
[5113,13,{"$f":"[2]科技树属性分配!AC392","v":3014},{"$f":"[2]科技树属性分配!AD392","v":168},{"$f":"[2]科技树属性分配!AE392","v":168},{"$f":"[2]科技树属性分配!AF392","v":0},{"$f":"[2]科技树属性分配!AG392","v":0},{"$nulls":5},"1#3014","3#168","4#168","54#0","52#0"]
[5114,14,{"$f":"[2]科技树属性分配!AC393","v":3473},{"$f":"[2]科技树属性分配!AD393","v":194},{"$f":"[2]科技树属性分配!AE393","v":194},{"$f":"[2]科技树属性分配!AF393","v":0},{"$f":"[2]科技树属性分配!AG393","v":0},{"$nulls":5},"1#3473","3#194","4#194","54#0","52#0"]
[5115,15,{"$f":"[2]科技树属性分配!AC394","v":3964},{"$f":"[2]科技树属性分配!AD394","v":222},{"$f":"[2]科技树属性分配!AE394","v":222},{"$f":"[2]科技树属性分配!AF394","v":0},{"$f":"[2]科技树属性分配!AG394","v":0},{"$nulls":5},"1#3964","3#222","4#222","54#0","52#0"]
[5116,16,{"$f":"[2]科技树属性分配!AC395","v":4488},{"$f":"[2]科技树属性分配!AD395","v":251},{"$f":"[2]科技树属性分配!AE395","v":251},{"$f":"[2]科技树属性分配!AF395","v":0},{"$f":"[2]科技树属性分配!AG395","v":0},{"$nulls":5},"1#4488","3#251","4#251","54#0","52#0"]
[5117,17,{"$f":"[2]科技树属性分配!AC396","v":5044},{"$f":"[2]科技树属性分配!AD396","v":282},{"$f":"[2]科技树属性分配!AE396","v":282},{"$f":"[2]科技树属性分配!AF396","v":0},{"$f":"[2]科技树属性分配!AG396","v":0},{"$nulls":5},"1#5044","3#282","4#282","54#0","52#0"]
[5118,18,{"$f":"[2]科技树属性分配!AC397","v":5633},{"$f":"[2]科技树属性分配!AD397","v":315},{"$f":"[2]科技树属性分配!AE397","v":315},{"$f":"[2]科技树属性分配!AF397","v":0},{"$f":"[2]科技树属性分配!AG397","v":0},{"$nulls":5},"1#5633","3#315","4#315","54#0","52#0"]
[5119,19,{"$f":"[2]科技树属性分配!AC398","v":6254},{"$f":"[2]科技树属性分配!AD398","v":350},{"$f":"[2]科技树属性分配!AE398","v":350},{"$f":"[2]科技树属性分配!AF398","v":0},{"$f":"[2]科技树属性分配!AG398","v":0},{"$nulls":5},"1#6254","3#350","4#350","54#0","52#0"]
[5120,20,{"$f":"[2]科技树属性分配!AC399","v":6908},{"$f":"[2]科技树属性分配!AD399","v":386},{"$f":"[2]科技树属性分配!AE399","v":386},{"$f":"[2]科技树属性分配!AF399","v":0},{"$f":"[2]科技树属性分配!AG399","v":0},{"$nulls":5},"1#6908","3#386","4#386","54#0","52#0"]
[5121,21,{"$f":"[2]科技树属性分配!AC400","v":7594},{"$f":"[2]科技树属性分配!AD400","v":424},{"$f":"[2]科技树属性分配!AE400","v":424},{"$f":"[2]科技树属性分配!AF400","v":0},{"$f":"[2]科技树属性分配!AG400","v":0},{"$nulls":5},"1#7594","3#424","4#424","54#0","52#0"]
[5122,22,{"$f":"[2]科技树属性分配!AC401","v":8313},{"$f":"[2]科技树属性分配!AD401","v":465},{"$f":"[2]科技树属性分配!AE401","v":465},{"$f":"[2]科技树属性分配!AF401","v":0},{"$f":"[2]科技树属性分配!AG401","v":0},{"$nulls":5},"1#8313","3#465","4#465","54#0","52#0"]
[5123,23,{"$f":"[2]科技树属性分配!AC402","v":9064},{"$f":"[2]科技树属性分配!AD402","v":507},{"$f":"[2]科技树属性分配!AE402","v":507},{"$f":"[2]科技树属性分配!AF402","v":0},{"$f":"[2]科技树属性分配!AG402","v":0},{"$nulls":5},"1#9064","3#507","4#507","54#0","52#0"]
[5124,24,{"$f":"[2]科技树属性分配!AC403","v":9848},{"$f":"[2]科技树属性分配!AD403","v":550},{"$f":"[2]科技树属性分配!AE403","v":550},{"$f":"[2]科技树属性分配!AF403","v":0},{"$f":"[2]科技树属性分配!AG403","v":0},{"$nulls":5},"1#9848","3#550","4#550","54#0","52#0"]
[5125,25,{"$f":"[2]科技树属性分配!AC404","v":10664},{"$f":"[2]科技树属性分配!AD404","v":596},{"$f":"[2]科技树属性分配!AE404","v":596},{"$f":"[2]科技树属性分配!AF404","v":0},{"$f":"[2]科技树属性分配!AG404","v":0},{"$nulls":5},"1#10664","3#596","4#596","54#0","52#0"]
[5126,26,{"$f":"[2]科技树属性分配!AC405","v":11517},{"$f":"[2]科技树属性分配!AD405","v":644},{"$f":"[2]科技树属性分配!AE405","v":644},{"$f":"[2]科技树属性分配!AF405","v":0},{"$f":"[2]科技树属性分配!AG405","v":0},{"$nulls":5},"1#11517","3#644","4#644","54#0","52#0"]
[5127,27,{"$f":"[2]科技树属性分配!AC406","v":12407},{"$f":"[2]科技树属性分配!AD406","v":693},{"$f":"[2]科技树属性分配!AE406","v":693},{"$f":"[2]科技树属性分配!AF406","v":0},{"$f":"[2]科技树属性分配!AG406","v":0},{"$nulls":5},"1#12407","3#693","4#693","54#0","52#0"]
[5128,28,{"$f":"[2]科技树属性分配!AC407","v":13334},{"$f":"[2]科技树属性分配!AD407","v":745},{"$f":"[2]科技树属性分配!AE407","v":745},{"$f":"[2]科技树属性分配!AF407","v":0},{"$f":"[2]科技树属性分配!AG407","v":0},{"$nulls":5},"1#13334","3#745","4#745","54#0","52#0"]
[5129,29,{"$f":"[2]科技树属性分配!AC408","v":14299},{"$f":"[2]科技树属性分配!AD408","v":799},{"$f":"[2]科技树属性分配!AE408","v":799},{"$f":"[2]科技树属性分配!AF408","v":0},{"$f":"[2]科技树属性分配!AG408","v":0},{"$nulls":5},"1#14299","3#799","4#799","54#0","52#0"]
[5130,30,{"$f":"[2]科技树属性分配!AC409","v":15300},{"$f":"[2]科技树属性分配!AD409","v":855},{"$f":"[2]科技树属性分配!AE409","v":855},{"$f":"[2]科技树属性分配!AF409","v":0},{"$f":"[2]科技树属性分配!AG409","v":0},{"$nulls":5},"1#15300","3#855","4#855","54#0","52#0"]
[{"$nulls":3},60,58]
[{"$f":"A326+1000","v":5200},{"$f":"B390","v":0},{"$f":"B422","v":0},{"$f":"C422","v":0},{"$f":"D422","v":0},{"$f":"E422","v":0},{"$f":"F422","v":0},{"$nulls":5},{"$f":"$C$34&\"#\"&C422","v":"2#0"},{"$f":"$D$421&\"#\"&D422","v":"60#0"},{"$f":"$E$421&\"#\"&E422","v":"58#0"},{"$f":"$F$34&\"#\"&F422","v":"53#0"},{"$f":"$G$34&\"#\"&G422","v":"51#0"}]
[5201,1,{"$f":"[2]科技树属性分配!AC411","v":2},{"$f":"[2]科技树属性分配!AD411","v":58},{"$f":"[2]科技树属性分配!AE411","v":58},{"$f":"[2]科技树属性分配!AF411","v":42},{"$f":"[2]科技树属性分配!AG411","v":42},{"$nulls":5},{"$f":"$C$34&\"#\"&C423","v":"2#2"},{"$f":"$D$421&\"#\"&D423","v":"60#58"},{"$f":"$E$421&\"#\"&E423","v":"58#58"},{"$f":"$F$34&\"#\"&F423","v":"53#42"},{"$f":"$G$34&\"#\"&G423","v":"51#42"}]
[5202,2,{"$f":"[2]科技树属性分配!AC412","v":6},{"$f":"[2]科技树属性分配!AD412","v":154},{"$f":"[2]科技树属性分配!AE412","v":154},{"$f":"[2]科技树属性分配!AF412","v":111},{"$f":"[2]科技树属性分配!AG412","v":111},{"$nulls":5},"2#6","60#154","58#154","53#111","51#111"]
[5203,3,{"$f":"[2]科技树属性分配!AC413","v":11},{"$f":"[2]科技树属性分配!AD413","v":288},{"$f":"[2]科技树属性分配!AE413","v":288},{"$f":"[2]科技树属性分配!AF413","v":208},{"$f":"[2]科技树属性分配!AG413","v":208},{"$nulls":5},"2#11","60#288","58#288","53#208","51#208"]
[5204,4,{"$f":"[2]科技树属性分配!AC414","v":18},{"$f":"[2]科技树属性分配!AD414","v":462},{"$f":"[2]科技树属性分配!AE414","v":462},{"$f":"[2]科技树属性分配!AF414","v":332},{"$f":"[2]科技树属性分配!AG414","v":332},{"$nulls":5},"2#18","60#462","58#462","53#332","51#332"]
[5205,5,{"$f":"[2]科技树属性分配!AC415","v":27},{"$f":"[2]科技树属性分配!AD415","v":673},{"$f":"[2]科技树属性分配!AE415","v":673},{"$f":"[2]科技树属性分配!AF415","v":485},{"$f":"[2]科技树属性分配!AG415","v":485},{"$nulls":5},"2#27","60#673","58#673","53#485","51#485"]
[5206,6,{"$f":"[2]科技树属性分配!AC416","v":38},{"$f":"[2]科技树属性分配!AD416","v":962},{"$f":"[2]科技树属性分配!AE416","v":962},{"$f":"[2]科技树属性分配!AF416","v":674},{"$f":"[2]科技树属性分配!AG416","v":674},{"$nulls":5},"2#38","60#962","58#962","53#674","51#674"]
[5207,7,{"$f":"[2]科技树属性分配!AC417","v":50},{"$f":"[2]科技树属性分配!AD417","v":1327},{"$f":"[2]科技树属性分配!AE417","v":1327},{"$f":"[2]科技树属性分配!AF417","v":900},{"$f":"[2]科技树属性分配!AG417","v":900},{"$nulls":5},"2#50","60#1327","58#1327","53#900","51#900"]
[5208,8,{"$f":"[2]科技树属性分配!AC418","v":64},{"$f":"[2]科技树属性分配!AD418","v":1769},{"$f":"[2]科技树属性分配!AE418","v":1769},{"$f":"[2]科技树属性分配!AF418","v":1163},{"$f":"[2]科技树属性分配!AG418","v":1163},{"$nulls":5},"2#64","60#1769","58#1769","53#1163","51#1163"]
[5209,9,{"$f":"[2]科技树属性分配!AC419","v":80},{"$f":"[2]科技树属性分配!AD419","v":2327},{"$f":"[2]科技树属性分配!AE419","v":2327},{"$f":"[2]科技树属性分配!AF419","v":1463},{"$f":"[2]科技树属性分配!AG419","v":1463},{"$nulls":5},"2#80","60#2327","58#2327","53#1463","51#1463"]
[5210,10,{"$f":"[2]科技树属性分配!AC420","v":97},{"$f":"[2]科技树属性分配!AD420","v":3000},{"$f":"[2]科技树属性分配!AE420","v":3000},{"$f":"[2]科技树属性分配!AF420","v":1800},{"$f":"[2]科技树属性分配!AG420","v":1800},{"$nulls":5},"2#97","60#3000","58#3000","53#1800","51#1800"]
[5211,11,{"$f":"[2]科技树属性分配!AC421","v":116},{"$f":"[2]科技树属性分配!AD421","v":0},{"$f":"[2]科技树属性分配!AE421","v":0},{"$f":"[2]科技树属性分配!AF421","v":0},{"$f":"[2]科技树属性分配!AG421","v":0},{"$nulls":5},"2#116","60#0","58#0","53#0","51#0"]
[5212,12,{"$f":"[2]科技树属性分配!AC422","v":137},{"$f":"[2]科技树属性分配!AD422","v":0},{"$f":"[2]科技树属性分配!AE422","v":0},{"$f":"[2]科技树属性分配!AF422","v":0},{"$f":"[2]科技树属性分配!AG422","v":0},{"$nulls":5},"2#137","60#0","58#0","53#0","51#0"]
[5213,{"$f":"B403","v":13},{"$f":"[2]科技树属性分配!AC423","v":160},{"$f":"[2]科技树属性分配!AD423","v":0},{"$f":"[2]科技树属性分配!AE423","v":0},{"$f":"[2]科技树属性分配!AF423","v":0},{"$f":"[2]科技树属性分配!AG423","v":0},{"$nulls":5},"2#160","60#0","58#0","53#0","51#0"]
[5214,14,{"$f":"[2]科技树属性分配!AC424","v":184},{"$f":"[2]科技树属性分配!AD424","v":0},{"$f":"[2]科技树属性分配!AE424","v":0},{"$f":"[2]科技树属性分配!AF424","v":0},{"$f":"[2]科技树属性分配!AG424","v":0},{"$nulls":5},"2#184","60#0","58#0","53#0","51#0"]
[5215,15,{"$f":"[2]科技树属性分配!AC425","v":210},{"$f":"[2]科技树属性分配!AD425","v":0},{"$f":"[2]科技树属性分配!AE425","v":0},{"$f":"[2]科技树属性分配!AF425","v":0},{"$f":"[2]科技树属性分配!AG425","v":0},{"$nulls":5},"2#210","60#0","58#0","53#0","51#0"]
[5216,16,{"$f":"[2]科技树属性分配!AC426","v":238},{"$f":"[2]科技树属性分配!AD426","v":0},{"$f":"[2]科技树属性分配!AE426","v":0},{"$f":"[2]科技树属性分配!AF426","v":0},{"$f":"[2]科技树属性分配!AG426","v":0},{"$nulls":5},"2#238","60#0","58#0","53#0","51#0"]
[5217,17,{"$f":"[2]科技树属性分配!AC427","v":267},{"$f":"[2]科技树属性分配!AD427","v":0},{"$f":"[2]科技树属性分配!AE427","v":0},{"$f":"[2]科技树属性分配!AF427","v":0},{"$f":"[2]科技树属性分配!AG427","v":0},{"$nulls":5},"2#267","60#0","58#0","53#0","51#0"]
[5218,18,{"$f":"[2]科技树属性分配!AC428","v":298},{"$f":"[2]科技树属性分配!AD428","v":0},{"$f":"[2]科技树属性分配!AE428","v":0},{"$f":"[2]科技树属性分配!AF428","v":0},{"$f":"[2]科技树属性分配!AG428","v":0},{"$nulls":5},"2#298","60#0","58#0","53#0","51#0"]
[5219,19,{"$f":"[2]科技树属性分配!AC429","v":331},{"$f":"[2]科技树属性分配!AD429","v":0},{"$f":"[2]科技树属性分配!AE429","v":0},{"$f":"[2]科技树属性分配!AF429","v":0},{"$f":"[2]科技树属性分配!AG429","v":0},{"$nulls":5},"2#331","60#0","58#0","53#0","51#0"]
[5220,20,{"$f":"[2]科技树属性分配!AC430","v":366},{"$f":"[2]科技树属性分配!AD430","v":0},{"$f":"[2]科技树属性分配!AE430","v":0},{"$f":"[2]科技树属性分配!AF430","v":0},{"$f":"[2]科技树属性分配!AG430","v":0},{"$nulls":5},"2#366","60#0","58#0","53#0","51#0"]
[5221,21,{"$f":"[2]科技树属性分配!AC431","v":402},{"$f":"[2]科技树属性分配!AD431","v":0},{"$f":"[2]科技树属性分配!AE431","v":0},{"$f":"[2]科技树属性分配!AF431","v":0},{"$f":"[2]科技树属性分配!AG431","v":0},{"$nulls":5},"2#402","60#0","58#0","53#0","51#0"]
[5222,22,{"$f":"[2]科技树属性分配!AC432","v":440},{"$f":"[2]科技树属性分配!AD432","v":0},{"$f":"[2]科技树属性分配!AE432","v":0},{"$f":"[2]科技树属性分配!AF432","v":0},{"$f":"[2]科技树属性分配!AG432","v":0},{"$nulls":5},"2#440","60#0","58#0","53#0","51#0"]
[5223,23,{"$f":"[2]科技树属性分配!AC433","v":480},{"$f":"[2]科技树属性分配!AD433","v":0},{"$f":"[2]科技树属性分配!AE433","v":0},{"$f":"[2]科技树属性分配!AF433","v":0},{"$f":"[2]科技树属性分配!AG433","v":0},{"$nulls":5},"2#480","60#0","58#0","53#0","51#0"]
[5224,24,{"$f":"[2]科技树属性分配!AC434","v":521},{"$f":"[2]科技树属性分配!AD434","v":0},{"$f":"[2]科技树属性分配!AE434","v":0},{"$f":"[2]科技树属性分配!AF434","v":0},{"$f":"[2]科技树属性分配!AG434","v":0},{"$nulls":5},"2#521","60#0","58#0","53#0","51#0"]
[5225,25,{"$f":"[2]科技树属性分配!AC435","v":565},{"$f":"[2]科技树属性分配!AD435","v":0},{"$f":"[2]科技树属性分配!AE435","v":0},{"$f":"[2]科技树属性分配!AF435","v":0},{"$f":"[2]科技树属性分配!AG435","v":0},{"$nulls":5},"2#565","60#0","58#0","53#0","51#0"]
[5226,26,{"$f":"[2]科技树属性分配!AC436","v":610},{"$f":"[2]科技树属性分配!AD436","v":0},{"$f":"[2]科技树属性分配!AE436","v":0},{"$f":"[2]科技树属性分配!AF436","v":0},{"$f":"[2]科技树属性分配!AG436","v":0},{"$nulls":5},"2#610","60#0","58#0","53#0","51#0"]
[5227,27,{"$f":"[2]科技树属性分配!AC437","v":657},{"$f":"[2]科技树属性分配!AD437","v":0},{"$f":"[2]科技树属性分配!AE437","v":0},{"$f":"[2]科技树属性分配!AF437","v":0},{"$f":"[2]科技树属性分配!AG437","v":0},{"$nulls":5},"2#657","60#0","58#0","53#0","51#0"]
[5228,28,{"$f":"[2]科技树属性分配!AC438","v":706},{"$f":"[2]科技树属性分配!AD438","v":0},{"$f":"[2]科技树属性分配!AE438","v":0},{"$f":"[2]科技树属性分配!AF438","v":0},{"$f":"[2]科技树属性分配!AG438","v":0},{"$nulls":5},"2#706","60#0","58#0","53#0","51#0"]
[5229,29,{"$f":"[2]科技树属性分配!AC439","v":757},{"$f":"[2]科技树属性分配!AD439","v":0},{"$f":"[2]科技树属性分配!AE439","v":0},{"$f":"[2]科技树属性分配!AF439","v":0},{"$f":"[2]科技树属性分配!AG439","v":0},{"$nulls":5},"2#757","60#0","58#0","53#0","51#0"]
[5230,30,{"$f":"[2]科技树属性分配!AC440","v":810},{"$f":"[2]科技树属性分配!AD440","v":0},{"$f":"[2]科技树属性分配!AE440","v":0},{"$f":"[2]科技树属性分配!AF440","v":0},{"$f":"[2]科技树属性分配!AG440","v":0},{"$nulls":5},"2#810","60#0","58#0","53#0","51#0"]
[]
[{"$f":"A358+1000","v":5300},{"$f":"B422","v":0},{"$f":"B454","v":0},0,0,0,0,0,0,0,0,null,{"$f":"$C$66&\"#\"&C454","v":"5#0"},{"$f":"$D$66&\"#\"&D454&\"|\"&$E$66&\"#\"&E454","v":"2#0|1#0"},{"$f":"$F$66&\"#\"&F454&\"|\"&$G$66&\"#\"&G454","v":"3#0|4#0"},{"$f":"$H$66&\"#\"&H454&\"|\"&$I$66&\"#\"&I454","v":"53#0|54#0"},{"$f":"$J$66&\"#\"&J454&\"|\"&$K$66&\"#\"&K454","v":"52#0|51#0"}]
[5301,1,{"$f":"[2]科技树属性分配!AC442","v":3},{"$f":"[2]科技树属性分配!AD442","v":5},{"$f":"[2]科技树属性分配!AE442","v":92},{"$f":"[2]科技树属性分配!AF442","v":5},{"$f":"[2]科技树属性分配!AG442","v":5},{"$f":"[2]科技树属性分配!AH442","v":36},{"$f":"[2]科技树属性分配!AI442","v":36},{"$f":"[2]科技树属性分配!AJ442","v":36},{"$f":"[2]科技树属性分配!AK442","v":36},null,"5#3","2#5|1#92","3#5|4#5","53#36|54#36","52#36|51#36"]
[5302,2,{"$f":"[2]科技树属性分配!AC443","v":6},{"$f":"[2]科技树属性分配!AD443","v":10},{"$f":"[2]科技树属性分配!AE443","v":194},{"$f":"[2]科技树属性分配!AF443","v":11},{"$f":"[2]科技树属性分配!AG443","v":11},{"$f":"[2]科技树属性分配!AH443","v":91},{"$f":"[2]科技树属性分配!AI443","v":91},{"$f":"[2]科技树属性分配!AJ443","v":91},{"$f":"[2]科技树属性分配!AK443","v":91},null,"5#6","2#10|1#194","3#11|4#11","53#91|54#91","52#91|51#91"]
[5303,3,{"$f":"[2]科技树属性分配!AC444","v":9},{"$f":"[2]科技树属性分配!AD444","v":16},{"$f":"[2]科技树属性分配!AE444","v":306},{"$f":"[2]科技树属性分配!AF444","v":17},{"$f":"[2]科技树属性分配!AG444","v":17},{"$f":"[2]科技树属性分配!AH444","v":163},{"$f":"[2]科技树属性分配!AI444","v":163},{"$f":"[2]科技树属性分配!AJ444","v":163},{"$f":"[2]科技树属性分配!AK444","v":163},null,"5#9","2#16|1#306","3#17|4#17","53#163|54#163","52#163|51#163"]
[5304,4,{"$f":"[2]科技树属性分配!AC445","v":13},{"$f":"[2]科技树属性分配!AD445","v":23},{"$f":"[2]科技树属性分配!AE445","v":429},{"$f":"[2]科技树属性分配!AF445","v":24},{"$f":"[2]科技树属性分配!AG445","v":24},{"$f":"[2]科技树属性分配!AH445","v":254},{"$f":"[2]科技树属性分配!AI445","v":254},{"$f":"[2]科技树属性分配!AJ445","v":254},{"$f":"[2]科技树属性分配!AK445","v":254},null,"5#13","2#23|1#429","3#24|4#24","53#254|54#254","52#254|51#254"]
[5305,5,{"$f":"[2]科技树属性分配!AC446","v":17},{"$f":"[2]科技树属性分配!AD446","v":30},{"$f":"[2]科技树属性分配!AE446","v":563},{"$f":"[2]科技树属性分配!AF446","v":31},{"$f":"[2]科技树属性分配!AG446","v":31},{"$f":"[2]科技树属性分配!AH446","v":363},{"$f":"[2]科技树属性分配!AI446","v":363},{"$f":"[2]科技树属性分配!AJ446","v":363},{"$f":"[2]科技树属性分配!AK446","v":363},null,"5#17","2#30|1#563","3#31|4#31","53#363|54#363","52#363|51#363"]
[5306,6,{"$f":"[2]科技树属性分配!AC447","v":21},{"$f":"[2]科技树属性分配!AD447","v":38},{"$f":"[2]科技树属性分配!AE447","v":709},{"$f":"[2]科技树属性分配!AF447","v":40},{"$f":"[2]科技树属性分配!AG447","v":40},{"$f":"[2]科技树属性分配!AH447","v":489},{"$f":"[2]科技树属性分配!AI447","v":489},{"$f":"[2]科技树属性分配!AJ447","v":489},{"$f":"[2]科技树属性分配!AK447","v":489},null,"5#21","2#38|1#709","3#40|4#40","53#489|54#489","52#489|51#489"]
[5307,7,{"$f":"[2]科技树属性分配!AC448","v":26},{"$f":"[2]科技树属性分配!AD448","v":46},{"$f":"[2]科技树属性分配!AE448","v":869},{"$f":"[2]科技树属性分配!AF448","v":49},{"$f":"[2]科技树属性分配!AG448","v":49},{"$f":"[2]科技树属性分配!AH448","v":634},{"$f":"[2]科技树属性分配!AI448","v":634},{"$f":"[2]科技树属性分配!AJ448","v":634},{"$f":"[2]科技树属性分配!AK448","v":634},null,"5#26","2#46|1#869","3#49|4#49","53#634|54#634","52#634|51#634"]
[5308,8,{"$f":"[2]科技树属性分配!AC449","v":31},{"$f":"[2]科技树属性分配!AD449","v":55},{"$f":"[2]科技树属性分配!AE449","v":1042},{"$f":"[2]科技树属性分配!AF449","v":58},{"$f":"[2]科技树属性分配!AG449","v":58},{"$f":"[2]科技树属性分配!AH449","v":798},{"$f":"[2]科技树属性分配!AI449","v":798},{"$f":"[2]科技树属性分配!AJ449","v":798},{"$f":"[2]科技树属性分配!AK449","v":798},null,"5#31","2#55|1#1042","3#58|4#58","53#798|54#798","52#798|51#798"]
[5309,9,{"$f":"[2]科技树属性分配!AC450","v":36},{"$f":"[2]科技树属性分配!AD450","v":65},{"$f":"[2]科技树属性分配!AE450","v":1227},{"$f":"[2]科技树属性分配!AF450","v":69},{"$f":"[2]科技树属性分配!AG450","v":69},{"$f":"[2]科技树属性分配!AH450","v":986},{"$f":"[2]科技树属性分配!AI450","v":986},{"$f":"[2]科技树属性分配!AJ450","v":986},{"$f":"[2]科技树属性分配!AK450","v":986},null,"5#36","2#65|1#1227","3#69|4#69","53#986|54#986","52#986|51#986"]
[5310,10,{"$f":"[2]科技树属性分配!AC451","v":42},{"$f":"[2]科技树属性分配!AD451","v":76},{"$f":"[2]科技树属性分配!AE451","v":1426},{"$f":"[2]科技树属性分配!AF451","v":80},{"$f":"[2]科技树属性分配!AG451","v":80},{"$f":"[2]科技树属性分配!AH451","v":1200},{"$f":"[2]科技树属性分配!AI451","v":1200},{"$f":"[2]科技树属性分配!AJ451","v":1200},{"$f":"[2]科技树属性分配!AK451","v":1200},null,"5#42","2#76|1#1426","3#80|4#80","53#1200|54#1200","52#1200|51#1200"]
[5311,11,{"$f":"[2]科技树属性分配!AC452","v":48},{"$f":"[2]科技树属性分配!AD452","v":87},{"$f":"[2]科技树属性分配!AE452","v":1645},{"$f":"[2]科技树属性分配!AF452","v":92},{"$f":"[2]科技树属性分配!AG452","v":92},{"$f":"[2]科技树属性分配!AH452","v":0},{"$f":"[2]科技树属性分配!AI452","v":0},{"$f":"[2]科技树属性分配!AJ452","v":0},{"$f":"[2]科技树属性分配!AK452","v":0},null,"5#48","2#87|1#1645","3#92|4#92","53#0|54#0","52#0|51#0"]
[5312,12,{"$f":"[2]科技树属性分配!AC453","v":55},{"$f":"[2]科技树属性分配!AD453","v":100},{"$f":"[2]科技树属性分配!AE453","v":1883},{"$f":"[2]科技树属性分配!AF453","v":105},{"$f":"[2]科技树属性分配!AG453","v":105},{"$f":"[2]科技树属性分配!AH453","v":0},{"$f":"[2]科技树属性分配!AI453","v":0},{"$f":"[2]科技树属性分配!AJ453","v":0},{"$f":"[2]科技树属性分配!AK453","v":0},null,"5#55","2#100|1#1883","3#105|4#105","53#0|54#0","52#0|51#0"]
[5313,13,{"$f":"[2]科技树属性分配!AC454","v":63},{"$f":"[2]科技树属性分配!AD454","v":113},{"$f":"[2]科技树属性分配!AE454","v":2141},{"$f":"[2]科技树属性分配!AF454","v":120},{"$f":"[2]科技树属性分配!AG454","v":120},{"$f":"[2]科技树属性分配!AH454","v":0},{"$f":"[2]科技树属性分配!AI454","v":0},{"$f":"[2]科技树属性分配!AJ454","v":0},{"$f":"[2]科技树属性分配!AK454","v":0},null,"5#63","2#113|1#2141","3#120|4#120","53#0|54#0","52#0|51#0"]
[5314,14,{"$f":"[2]科技树属性分配!AC455","v":71},{"$f":"[2]科技树属性分配!AD455","v":128},{"$f":"[2]科技树属性分配!AE455","v":2418},{"$f":"[2]科技树属性分配!AF455","v":135},{"$f":"[2]科技树属性分配!AG455","v":135},{"$f":"[2]科技树属性分配!AH455","v":0},{"$f":"[2]科技树属性分配!AI455","v":0},{"$f":"[2]科技树属性分配!AJ455","v":0},{"$f":"[2]科技树属性分配!AK455","v":0},null,"5#71","2#128|1#2418","3#135|4#135","53#0|54#0","52#0|51#0"]
[5315,15,{"$f":"[2]科技树属性分配!AC456","v":80},{"$f":"[2]科技树属性分配!AD456","v":144},{"$f":"[2]科技树属性分配!AE456","v":2715},{"$f":"[2]科技树属性分配!AF456","v":152},{"$f":"[2]科技树属性分配!AG456","v":152},{"$f":"[2]科技树属性分配!AH456","v":0},{"$f":"[2]科技树属性分配!AI456","v":0},{"$f":"[2]科技树属性分配!AJ456","v":0},{"$f":"[2]科技树属性分配!AK456","v":0},null,"5#80","2#144|1#2715","3#152|4#152","53#0|54#0","52#0|51#0"]
[5316,16,{"$f":"[2]科技树属性分配!AC457","v":89},{"$f":"[2]科技树属性分配!AD457","v":161},{"$f":"[2]科技树属性分配!AE457","v":3036},{"$f":"[2]科技树属性分配!AF457","v":170},{"$f":"[2]科技树属性分配!AG457","v":170},{"$f":"[2]科技树属性分配!AH457","v":0},{"$f":"[2]科技树属性分配!AI457","v":0},{"$f":"[2]科技树属性分配!AJ457","v":0},{"$f":"[2]科技树属性分配!AK457","v":0},null,"5#89","2#161|1#3036","3#170|4#170","53#0|54#0","52#0|51#0"]
[5317,17,{"$f":"[2]科技树属性分配!AC458","v":99},{"$f":"[2]科技树属性分配!AD458","v":179},{"$f":"[2]科技树属性分配!AE458","v":3380},{"$f":"[2]科技树属性分配!AF458","v":189},{"$f":"[2]科技树属性分配!AG458","v":189},{"$f":"[2]科技树属性分配!AH458","v":0},{"$f":"[2]科技树属性分配!AI458","v":0},{"$f":"[2]科技树属性分配!AJ458","v":0},{"$f":"[2]科技树属性分配!AK458","v":0},null,"5#99","2#179|1#3380","3#189|4#189","53#0|54#0","52#0|51#0"]
[5318,18,{"$f":"[2]科技树属性分配!AC459","v":110},{"$f":"[2]科技树属性分配!AD459","v":198},{"$f":"[2]科技树属性分配!AE459","v":3748},{"$f":"[2]科技树属性分配!AF459","v":209},{"$f":"[2]科技树属性分配!AG459","v":209},{"$f":"[2]科技树属性分配!AH459","v":0},{"$f":"[2]科技树属性分配!AI459","v":0},{"$f":"[2]科技树属性分配!AJ459","v":0},{"$f":"[2]科技树属性分配!AK459","v":0},null,"5#110","2#198|1#3748","3#209|4#209","53#0|54#0","52#0|51#0"]
[5319,19,{"$f":"[2]科技树属性分配!AC460","v":122},{"$f":"[2]科技树属性分配!AD460","v":219},{"$f":"[2]科技树属性分配!AE460","v":4139},{"$f":"[2]科技树属性分配!AF460","v":231},{"$f":"[2]科技树属性分配!AG460","v":231},{"$f":"[2]科技树属性分配!AH460","v":0},{"$f":"[2]科技树属性分配!AI460","v":0},{"$f":"[2]科技树属性分配!AJ460","v":0},{"$f":"[2]科技树属性分配!AK460","v":0},null,"5#122","2#219|1#4139","3#231|4#231","53#0|54#0","52#0|51#0"]
[5320,20,{"$f":"[2]科技树属性分配!AC461","v":134},{"$f":"[2]科技树属性分配!AD461","v":241},{"$f":"[2]科技树属性分配!AE461","v":4554},{"$f":"[2]科技树属性分配!AF461","v":254},{"$f":"[2]科技树属性分配!AG461","v":254},{"$f":"[2]科技树属性分配!AH461","v":0},{"$f":"[2]科技树属性分配!AI461","v":0},{"$f":"[2]科技树属性分配!AJ461","v":0},{"$f":"[2]科技树属性分配!AK461","v":0},null,"5#134","2#241|1#4554","3#254|4#254","53#0|54#0","52#0|51#0"]
[5321,21,{"$f":"[2]科技树属性分配!AC462","v":147},{"$f":"[2]科技树属性分配!AD462","v":264},{"$f":"[2]科技树属性分配!AE462","v":4995},{"$f":"[2]科技树属性分配!AF462","v":279},{"$f":"[2]科技树属性分配!AG462","v":279},{"$f":"[2]科技树属性分配!AH462","v":0},{"$f":"[2]科技树属性分配!AI462","v":0},{"$f":"[2]科技树属性分配!AJ462","v":0},{"$f":"[2]科技树属性分配!AK462","v":0},null,"5#147","2#264|1#4995","3#279|4#279","53#0|54#0","52#0|51#0"]
[5322,22,{"$f":"[2]科技树属性分配!AC463","v":161},{"$f":"[2]科技树属性分配!AD463","v":289},{"$f":"[2]科技树属性分配!AE463","v":5462},{"$f":"[2]科技树属性分配!AF463","v":305},{"$f":"[2]科技树属性分配!AG463","v":305},{"$f":"[2]科技树属性分配!AH463","v":0},{"$f":"[2]科技树属性分配!AI463","v":0},{"$f":"[2]科技树属性分配!AJ463","v":0},{"$f":"[2]科技树属性分配!AK463","v":0},null,"5#161","2#289|1#5462","3#305|4#305","53#0|54#0","52#0|51#0"]
[5323,23,{"$f":"[2]科技树属性分配!AC464","v":175},{"$f":"[2]科技树属性分配!AD464","v":315},{"$f":"[2]科技树属性分配!AE464","v":5955},{"$f":"[2]科技树属性分配!AF464","v":333},{"$f":"[2]科技树属性分配!AG464","v":333},{"$f":"[2]科技树属性分配!AH464","v":0},{"$f":"[2]科技树属性分配!AI464","v":0},{"$f":"[2]科技树属性分配!AJ464","v":0},{"$f":"[2]科技树属性分配!AK464","v":0},null,"5#175","2#315|1#5955","3#333|4#333","53#0|54#0","52#0|51#0"]
[5324,24,{"$f":"[2]科技树属性分配!AC465","v":190},{"$f":"[2]科技树属性分配!AD465","v":343},{"$f":"[2]科技树属性分配!AE465","v":6475},{"$f":"[2]科技树属性分配!AF465","v":362},{"$f":"[2]科技树属性分配!AG465","v":362},{"$f":"[2]科技树属性分配!AH465","v":0},{"$f":"[2]科技树属性分配!AI465","v":0},{"$f":"[2]科技树属性分配!AJ465","v":0},{"$f":"[2]科技树属性分配!AK465","v":0},null,"5#190","2#343|1#6475","3#362|4#362","53#0|54#0","52#0|51#0"]
[5325,25,{"$f":"[2]科技树属性分配!AC466","v":206},{"$f":"[2]科技树属性分配!AD466","v":372},{"$f":"[2]科技树属性分配!AE466","v":7020},{"$f":"[2]科技树属性分配!AF466","v":392},{"$f":"[2]科技树属性分配!AG466","v":392},{"$f":"[2]科技树属性分配!AH466","v":0},{"$f":"[2]科技树属性分配!AI466","v":0},{"$f":"[2]科技树属性分配!AJ466","v":0},{"$f":"[2]科技树属性分配!AK466","v":0},null,"5#206","2#372|1#7020","3#392|4#392","53#0|54#0","52#0|51#0"]
[5326,26,{"$f":"[2]科技树属性分配!AC467","v":223},{"$f":"[2]科技树属性分配!AD467","v":402},{"$f":"[2]科技树属性分配!AE467","v":7596},{"$f":"[2]科技树属性分配!AF467","v":424},{"$f":"[2]科技树属性分配!AG467","v":424},{"$f":"[2]科技树属性分配!AH467","v":0},{"$f":"[2]科技树属性分配!AI467","v":0},{"$f":"[2]科技树属性分配!AJ467","v":0},{"$f":"[2]科技树属性分配!AK467","v":0},null,"5#223","2#402|1#7596","3#424|4#424","53#0|54#0","52#0|51#0"]
[5327,27,{"$f":"[2]科技树属性分配!AC468","v":241},{"$f":"[2]科技树属性分配!AD468","v":434},{"$f":"[2]科技树属性分配!AE468","v":8202},{"$f":"[2]科技树属性分配!AF468","v":458},{"$f":"[2]科技树属性分配!AG468","v":458},{"$f":"[2]科技树属性分配!AH468","v":0},{"$f":"[2]科技树属性分配!AI468","v":0},{"$f":"[2]科技树属性分配!AJ468","v":0},{"$f":"[2]科技树属性分配!AK468","v":0},null,"5#241","2#434|1#8202","3#458|4#458","53#0|54#0","52#0|51#0"]
[5328,28,{"$f":"[2]科技树属性分配!AC469","v":260},{"$f":"[2]科技树属性分配!AD469","v":468},{"$f":"[2]科技树属性分配!AE469","v":8838},{"$f":"[2]科技树属性分配!AF469","v":494},{"$f":"[2]科技树属性分配!AG469","v":494},{"$f":"[2]科技树属性分配!AH469","v":0},{"$f":"[2]科技树属性分配!AI469","v":0},{"$f":"[2]科技树属性分配!AJ469","v":0},{"$f":"[2]科技树属性分配!AK469","v":0},null,"5#260","2#468|1#8838","3#494|4#494","53#0|54#0","52#0|51#0"]
[5329,29,{"$f":"[2]科技树属性分配!AC470","v":280},{"$f":"[2]科技树属性分配!AD470","v":503},{"$f":"[2]科技树属性分配!AE470","v":9504},{"$f":"[2]科技树属性分配!AF470","v":531},{"$f":"[2]科技树属性分配!AG470","v":531},{"$f":"[2]科技树属性分配!AH470","v":0},{"$f":"[2]科技树属性分配!AI470","v":0},{"$f":"[2]科技树属性分配!AJ470","v":0},{"$f":"[2]科技树属性分配!AK470","v":0},null,"5#280","2#503|1#9504","3#531|4#531","53#0|54#0","52#0|51#0"]
[5330,30,{"$f":"[2]科技树属性分配!AC471","v":300},{"$f":"[2]科技树属性分配!AD471","v":540},{"$f":"[2]科技树属性分配!AE471","v":10200},{"$f":"[2]科技树属性分配!AF471","v":570},{"$f":"[2]科技树属性分配!AG471","v":570},{"$f":"[2]科技树属性分配!AH471","v":0},{"$f":"[2]科技树属性分配!AI471","v":0},{"$f":"[2]科技树属性分配!AJ471","v":0},{"$f":"[2]科技树属性分配!AK471","v":0},null,"5#300","2#540|1#10200","3#570|4#570","53#0|54#0","52#0|51#0"]

{"sheet":"材料辅助表","index":3,"n_rows":93,"n_cols":26,"rows_kept":93}
[]
[]
[{"$nulls":3},"序号","层数","等级","铁矿石","消耗1","消耗2","消耗3",{"$nulls":3},"比例","累计比例",null,"累计耗铁","五职业耗铁",null,"小数科技消耗2","比例",null,null,"小数科技消耗3","比例"]
[{"$nulls":3},1,1,1,1001,40,{"$f":"T4","v":400},{"$f":"X4","v":400},{"$f":"$G$4&\"#\"&H4","v":"1001#40"},{"$f":"$G$4&\"#\"&I4","v":"1001#400"},{"$f":"$G$4&\"#\"&J4","v":"1001#400"},{"$f":"H4/SUM($H$4:$H$33)","v":2.4242424242424242E-3},{"$f":"N4","v":2.4242424242424242E-3},{"$f":"H4*5","v":200},{"$f":"SUM(OFFSET($P$4:$P$93,0,0,D4,1))","v":200},{"$f":"Q4*5","v":1000},1,400,{"$f":"T4/$T$14","v":0.024242424242424242},{"$f":"U4","v":0.024242424242424242},1,400,{"$f":"X4/$X$14","v":0.024242424242424242},{"$f":"Y4","v":0.024242424242424242}]
[{"$nulls":3},2,{"$f":"E4","v":1},2,{"$f":"G4","v":1001},{"$f":"H4+35","v":75},{"$f":"T5","v":600},{"$f":"X5","v":600},{"$f":"$G$4&\"#\"&H5","v":"1001#75"},{"$f":"$G$4&\"#\"&I5","v":"1001#600"},{"$f":"$G$4&\"#\"&J5","v":"1001#600"},{"$f":"H5/SUM($H$4:$H$33)","v":0.004545454545454545},{"$f":"N5+O4","v":6.9696969696969695E-3},{"$f":"H5*5","v":375},{"$f":"SUM(OFFSET($P$4:$P$93,0,0,D5,1))","v":575},{"$f":"Q5*5","v":2875},2,{"$f":"T4+200","v":600},0.03636363636363636,{"$f":"U5+V4","v":0.06060606060606061},2,{"$f":"X4+200","v":600},0.03636363636363636,{"$f":"Y5+Z4","v":0.06060606060606061}]
[{"$nulls":3},3,{"$f":"E5","v":1},3,{"$f":"G5","v":1001},{"$f":"H5+35","v":110},800,800,"1001#110","1001#800","1001#800",0.006666666666666667,{"$f":"N6+O5","v":0.013636363636363637},550,1125,5625,3,{"$f":"T5+200","v":800},0.048484848484848485,0.1090909090909091,3,800,0.048484848484848485,0.1090909090909091]
[{"$nulls":3},4,1,4,1001,145,1000,1000,"1001#145","1001#1000","1001#1000",0.008787878787878787,0.022424242424242423,725,1850,9250,4,{"$f":"T6+200","v":1000},0.06060606060606061,0.1696969696969697,4,1000,0.06060606060606061,0.1696969696969697]
[{"$nulls":3},5,1,5,1001,180,1200,1200,"1001#180","1001#1200","1001#1200",0.01090909090909091,0.03333333333333333,900,2750,13750,5,{"$f":"T7+200","v":1200},0.07272727272727272,0.24242424242424243,5,1200,0.07272727272727272,0.24242424242424243]
[{"$nulls":3},6,1,6,1001,215,1600,1600,"1001#215","1001#1600","1001#1600",0.013030303030303031,0.046363636363636364,1075,3825,19125,6,{"$f":"T8+400","v":1600},0.09696969696969697,0.3393939393939394,6,{"$f":"X8+400","v":1600},0.09696969696969697,0.3393939393939394]
[{"$nulls":3},7,1,7,1001,250,2000,2000,"1001#250","1001#2000","1001#2000",0.015151515151515152,0.061515151515151516,1250,5075,25375,7,{"$f":"T9+400","v":2000},0.12121212121212122,0.46060606060606063,7,2000,0.12121212121212122,0.46060606060606063]
[{"$nulls":3},8,1,8,1001,285,2400,2400,"1001#285","1001#2400","1001#2400",0.017272727272727273,0.0787878787878788,1425,6500,32500,8,{"$f":"T10+400","v":2400},0.14545454545454545,0.6060606060606061,8,2400,0.14545454545454545,0.6060606060606061]
[{"$nulls":3},9,1,9,1001,320,2900,2900,"1001#320","1001#2900","1001#2900",0.019393939393939394,0.09818181818181819,1600,8100,40500,9,{"$f":"T11+500","v":2900},0.17575757575757575,0.7818181818181819,9,{"$f":"X11+500","v":2900},0.17575757575757575,0.7818181818181819]
[{"$nulls":3},10,1,10,1001,355,3600,3600,"1001#355","1001#3600","1001#3600",0.021515151515151515,0.1196969696969697,1775,9875,49375,10,{"$f":"T12+700","v":3600},0.21818181818181817,1,10,{"$f":"X12+700","v":3600},0.21818181818181817,1]
[{"$nulls":3},11,1,11,1001,390,null,null,{"$f":"G14&\"#\"&H14","v":"1001#390"},null,null,0.023636363636363636,0.14333333333333334,1950,11825,59125,null,{"$f":"SUM(T4:T13)","v":16500},{"$nulls":3},{"$f":"SUM(X4:X13)","v":16500}]
[{"$nulls":3},12,1,12,1001,425,null,null,"1001#425",null,null,0.025757575757575757,0.1690909090909091,2125,13950,69750]
[{"$nulls":3},13,1,13,1001,460,null,null,"1001#460",null,null,0.027878787878787878,0.19696969696969696,2300,16250,81250]
[{"$nulls":3},14,1,14,1001,495,null,null,"1001#495",null,null,0.03,0.22696969696969696,2475,18725,93625]
[{"$nulls":3},15,1,15,1001,530,null,null,"1001#530",null,null,0.03212121212121212,0.2590909090909091,2650,21375,106875]
[{"$nulls":3},16,1,16,1001,565,null,null,"1001#565",null,null,0.03424242424242424,0.29333333333333333,2825,24200,121000]
[{"$nulls":3},17,1,17,1001,600,null,null,"1001#600",null,null,0.03636363636363636,0.3296969696969697,3000,27200,136000]
[{"$nulls":3},18,1,18,1001,635,null,null,"1001#635",null,null,0.03848484848484848,0.36818181818181817,3175,30375,151875,null,{"$f":"SUM(H4:H33)","v":16500}]
[{"$nulls":3},19,1,19,1001,670,null,null,"1001#670",null,null,0.040606060606060604,0.40878787878787876,3350,33725,168625]
[{"$nulls":3},20,1,20,1001,705,null,null,"1001#705",null,null,0.042727272727272725,0.4515151515151515,3525,37250,186250]
[{"$nulls":3},21,1,21,1001,740,null,null,"1001#740",null,null,0.044848484848484846,0.49636363636363634,3700,40950,204750]
[{"$nulls":3},22,1,22,1001,775,null,null,"1001#775",null,null,0.04696969696969697,0.5433333333333333,3875,44825,224125]
[{"$nulls":3},23,1,23,1001,810,null,null,"1001#810",null,null,0.04909090909090909,0.5924242424242424,4050,48875,244375]
[{"$nulls":3},24,1,24,1001,845,null,null,"1001#845",null,null,0.05121212121212121,0.6436363636363636,4225,53100,265500]
[{"$nulls":3},25,1,25,1001,880,null,null,"1001#880",null,null,0.05333333333333334,0.6969696969696969,4400,57500,287500]
[{"$nulls":3},26,1,26,1001,{"$f":"H28+40","v":920},null,null,"1001#920",null,null,0.055757575757575756,0.7527272727272727,4600,62100,310500]
[{"$nulls":3},27,1,27,1001,{"$f":"H29+40","v":960},null,null,"1001#960",null,null,0.05818181818181818,0.8109090909090909,4800,66900,334500]
[{"$nulls":3},28,1,28,1001,{"$f":"H30+40","v":1000},null,null,"1001#1000",null,null,0.06060606060606061,0.8715151515151516,5000,71900,359500]
[{"$nulls":3},29,1,29,1001,{"$f":"H31+40","v":1040},null,null,"1001#1040",null,null,0.06303030303030303,0.9345454545454546,5200,77100,385500]
[{"$nulls":3},30,1,30,1001,{"$f":"H32+40","v":1080},"消耗2","消耗3","1001#1080",null,null,0.06545454545454546,1,5400,82500,412500,null,"小数科技消耗2","比例",null,null,"小数科技消耗3","比例"]
[null,null,"整数科技点",{"$f":"D33+1","v":31},{"$f":"E4+1","v":2},{"$f":"F4","v":1},{"$f":"G4","v":1001},600,{"$f":"T34","v":1000},{"$f":"X34","v":1000},{"$f":"$G$4&\"#\"&H34","v":"1001#600"},"1001#1000","1001#1000",{"$f":"H34/SUM($H$34:$H$63)","v":0.018176310209027567},{"$f":"N34","v":0.018176310209027567},3000,85500,427500,1,1000,{"$f":"T34/$T$44","v":0.030211480362537766},{"$f":"U34","v":0.030211480362537766},1,1000,{"$f":"X34/$X$44","v":0.030211480362537766},{"$f":"Y34","v":0.030211480362537766}]
[{"$nulls":3},{"$f":"D34+1","v":32},2,2,1001,{"$f":"H34+30","v":630},{"$f":"T35","v":1500},1500,{"$f":"$G$4&\"#\"&H35","v":"1001#630"},"1001#1500","1001#1500",{"$f":"H35/SUM($H$34:$H$63)","v":0.019085125719478947},{"$f":"N35+O34","v":0.03726143592850652},3150,88650,443250,2,{"$f":"T34+500","v":1500},{"$f":"T35/$T$44","v":0.045317220543806644},{"$f":"U35+V34","v":0.0755287009063444},2,{"$f":"X34+500","v":1500},{"$f":"X35/$X$44","v":0.045317220543806644},{"$f":"Y35+Z34","v":0.0755287009063444}]
[{"$nulls":3},33,2,3,1001,660,2000,2000,{"$f":"$G$4&\"#\"&H36","v":"1001#660"},"1001#2000","1001#2000",0.019993941229930322,0.05725537715843684,3300,91950,459750,3,2000,0.06042296072507553,0.13595166163141995,3,2000,0.06042296072507553,0.13595166163141995]
[{"$nulls":3},34,2,4,1001,690,2500,2500,{"$f":"$G$4&\"#\"&H37","v":"1001#690"},"1001#2500","1001#2500",0.020902756740381702,0.07815813389881854,3450,95400,477000,4,2500,0.0755287009063444,0.21148036253776437,4,2500,0.0755287009063444,0.21148036253776437]
[{"$nulls":3},35,2,5,1001,720,3000,3000,{"$f":"$G$4&\"#\"&H38","v":"1001#720"},"1001#3000","1001#3000",0.02181157225083308,0.09996970614965162,3600,99000,495000,5,3000,0.09063444108761329,0.3021148036253777,5,3000,0.09063444108761329,0.3021148036253777]
[{"$nulls":3},36,2,6,1001,750,3500,3500,{"$f":"$G$4&\"#\"&H39","v":"1001#750"},"1001#3500","1001#3500",0.02272038776128446,0.12269009391093608,3750,102750,513750,6,3500,0.10574018126888217,0.40785498489425986,6,3500,0.10574018126888217,0.40785498489425986]
[{"$nulls":3},37,2,7,1001,780,4000,4000,{"$f":"$G$4&\"#\"&H40","v":"1001#780"},"1001#4000","1001#4000",0.023629203271735837,0.14631929718267192,3900,106650,533250,7,4000,0.12084592145015106,0.5287009063444109,7,4000,0.12084592145015106,0.5287009063444109]
[{"$nulls":3},38,2,8,1001,810,4500,4500,{"$f":"$G$4&\"#\"&H41","v":"1001#810"},"1001#4500","1001#4500",0.024538018782187216,0.17085731596485915,4050,110700,553500,8,4500,0.13595166163141995,0.6646525679758308,8,4500,0.13595166163141995,0.6646525679758308]
[{"$nulls":3},39,2,9,1001,840,5200,5200,{"$f":"$G$4&\"#\"&H42","v":"1001#840"},"1001#5200","1001#5200",0.025446834292638595,0.19630415025749776,4200,114900,574500,9,{"$f":"T41+700","v":5200},0.15709969788519637,0.8217522658610272,9,{"$f":"X41+700","v":5200},0.15709969788519637,0.8217522658610272]
[{"$nulls":3},40,2,10,1001,870,5900,5900,{"$f":"$G$4&\"#\"&H43","v":"1001#870"},"1001#5900","1001#5900",0.02635564980308997,0.22265980006058772,4350,119250,596250,10,{"$f":"T42+700","v":5900},0.1782477341389728,1,10,{"$f":"X42+700","v":5900},0.1782477341389728,1]
[{"$nulls":3},41,2,11,1001,900,null,null,{"$f":"G44&\"#\"&H44","v":"1001#900"},null,null,0.02726446531354135,0.24992426537412907,4500,123750,618750,null,{"$f":"SUM(T34:T43)","v":33100},{"$nulls":3},{"$f":"SUM(X34:X43)","v":33100}]
[{"$nulls":3},42,2,12,1001,{"$f":"H44+40","v":940},null,null,"1001#940",null,null,0.028476219327476522,0.2784004847016056,4700,128450,642250]
[{"$nulls":3},43,2,13,1001,980,null,null,"1001#980",null,null,0.029687973341411694,0.3080884580430173,4900,133350,666750]
[{"$nulls":3},44,2,14,1001,1020,null,null,"1001#1020",null,null,0.030899727355346865,0.3389881853983642,5100,138450,692250]
[{"$nulls":3},45,2,15,1001,1060,null,null,"1001#1060",null,null,0.03211148136928203,0.3710996667676462,5300,143750,718750]
[{"$nulls":3},46,2,16,1001,1100,null,null,"1001#1100",null,null,0.03332323538321721,0.4044229021508634,5500,149250,746250]
[{"$nulls":3},47,2,17,1001,1140,null,null,"1001#1140",null,null,0.034534989397152376,0.4389578915480158,5700,154950,774750,{"$f":"SUM(H34:H63)","v":33010}]
[{"$nulls":3},48,2,18,1001,1180,null,null,"1001#1180",null,null,0.03574674341108755,0.4747046349591033,5900,160850,804250]
[{"$nulls":3},49,2,19,1001,1220,null,null,"1001#1220",null,null,0.03695849742502272,0.5116631323841261,6100,166950,834750]
[{"$nulls":3},50,2,20,1001,1260,null,null,"1001#1260",null,null,0.03817025143895789,0.549833383823084,6300,173250,866250]
[{"$nulls":3},51,2,21,1001,1300,null,null,"1001#1300",null,null,0.03938200545289306,0.589215389275977,6500,179750,898750]
[{"$nulls":3},52,2,22,1001,1340,null,null,"1001#1340",null,null,0.040593759466828236,0.6298091487428052,6700,186450,932250]
[{"$nulls":3},53,2,23,1001,1380,null,null,"1001#1380",null,null,0.041805513480763404,0.6716146622235687,6900,193350,966750]
[{"$nulls":3},54,2,24,1001,1420,null,null,"1001#1420",null,null,0.04301726749469858,0.7146319297182673,7100,200450,1002250]
[{"$nulls":3},55,2,25,1001,1460,null,null,"1001#1460",null,null,0.04422902150863375,0.758860951226901,7300,207750,1038750]
[{"$nulls":3},56,2,26,1001,1500,null,null,"1001#1500",null,null,0.04544077552256892,0.8043017267494699,7500,215250,1076250]
[{"$nulls":3},57,2,27,1001,1540,null,null,"1001#1540",null,null,0.04665252953650409,0.850954256285974,7700,222950,1114750]
[{"$nulls":3},58,2,28,1001,{"$f":"H60+50","v":1590},null,null,"1001#1590",null,null,0.048167222053923056,0.8991214783398971,7950,230900,1154500]
[{"$nulls":3},59,2,29,1001,1640,null,null,"1001#1640",null,null,0.049681914571342016,0.948803392911239,8200,239100,1195500]
[{"$nulls":3},60,2,30,1001,1690,"消耗2","消耗3","1001#1690",null,null,0.05119660708876098,1,8450,247550,1237750,null,"小数科技消耗2","比例",null,null,"小数科技消耗3","比例"]
[null,null,"整数科技点",61,3,1,{"$f":"G34","v":1001},700,{"$f":"T64","v":1500},{"$f":"X64","v":1800},{"$f":"$G$4&\"#\"&H64","v":"1001#700"},"1001#1500","1001#1800",{"$f":"H64/SUM($H$64:$H$93)","v":0.008980115458627326},{"$f":"N64","v":0.008980115458627326},3500,251050,1255250,1,1500,{"$f":"T64/$T$74","v":0.019230769230769232},{"$f":"U64","v":0.019230769230769232},1,1800,{"$f":"X64/$T$74","v":0.023076923076923078},{"$f":"Y64","v":0.023076923076923078}]
[{"$nulls":3},62,{"$f":"E35+1","v":3},{"$f":"F35","v":2},1001,{"$f":"H64+80","v":780},2500,2900,{"$f":"$G$4&\"#\"&H65","v":"1001#780"},"1001#2500","1001#2900",{"$f":"H65/SUM($H$64:$H$93)","v":0.010006414368184734},{"$f":"N65+O64","v":0.01898652982681206},3900,254950,1274750,2,{"$f":"T64+1000","v":2500},{"$f":"T65/$T$74","v":0.03205128205128205},{"$f":"U65+V64","v":0.05128205128205128},2,{"$f":"X64+1100","v":2900},0.03717948717948718,{"$f":"Y65+Z64","v":0.06025641025641026}]
[{"$nulls":3},63,3,3,1001,{"$f":"H65+80","v":860},3500,4000,{"$f":"$G$4&\"#\"&H66","v":"1001#860"},"1001#3500","1001#4000",0.011032713277742143,{"$f":"N66+O65","v":0.0300192431045542},4300,259250,1296250,3,{"$f":"T65+1000","v":3500},0.04487179487179487,{"$f":"U66+V65","v":0.09615384615384615},3,{"$f":"X65+1100","v":4000},0.05128205128205128,0.11153846153846153]
[{"$nulls":3},{"$f":"D66+1","v":64},3,4,1001,{"$f":"H66+80","v":940},4500,5100,{"$f":"$G$4&\"#\"&H67","v":"1001#940"},"1001#4500","1001#5100",0.012059012187299552,0.04207825529185375,4700,263950,1319750,4,{"$f":"T66+1000","v":4500},0.057692307692307696,0.15384615384615385,4,{"$f":"X66+1100","v":5100},0.06538461538461539,0.1769230769230769]
[{"$nulls":3},65,3,5,1001,{"$f":"H67+80","v":1020},5500,6200,{"$f":"$G$4&\"#\"&H68","v":"1001#1020"},"1001#5500","1001#6200",0.013085311096856959,0.055163566388710714,5100,269050,1345250,5,{"$f":"T67+1000","v":5500},0.07051282051282051,0.22435897435897437,5,{"$f":"X67+1100","v":6200},0.07948717948717948,0.2564102564102564]
[{"$nulls":3},66,3,6,1001,{"$f":"H68+100","v":1120},7500,8000,{"$f":"$G$4&\"#\"&H69","v":"1001#1120"},"1001#7500","1001#8000",0.01436818473380372,0.06953175112251443,{"$f":"H69*5","v":5600},{"$f":"SUM(OFFSET($P$4:$P$93,0,0,D69,1))","v":274650},{"$f":"Q69*5","v":1373250},6,{"$f":"T68+2000","v":7500},0.09615384615384616,0.32051282051282054,6,{"$f":"X68+1800","v":8000},0.10256410256410256,0.3589743589743589]
[{"$nulls":3},67,3,7,1001,{"$f":"H69+100","v":1220},9500,9800,{"$f":"$G$4&\"#\"&H70","v":"1001#1220"},"1001#9500","1001#9800",0.01565105837075048,0.08518280949326491,6100,280750,1403750,7,{"$f":"T69+2000","v":9500},0.12179487179487179,0.44230769230769235,7,{"$f":"X69+1800","v":9800},0.12564102564102564,0.48461538461538456]
[{"$nulls":3},68,3,8,1001,{"$f":"H70+100","v":1320},11500,11600,{"$f":"$G$4&\"#\"&H71","v":"1001#1320"},"1001#11500","1001#11600",0.01693393200769724,0.10211674150096216,6600,287350,1436750,8,{"$f":"T70+2000","v":11500},0.14743589743589744,0.5897435897435898,8,{"$f":"X70+1800","v":11600},0.14871794871794872,0.6333333333333333]
[{"$nulls":3},69,3,9,1001,{"$f":"H71+100","v":1420},14500,13400,{"$f":"$G$4&\"#\"&H72","v":"1001#1420"},"1001#14500","1001#13400",0.018216805644644004,0.12033354714560617,7100,294450,1472250,9,{"$f":"T71+3000","v":14500},0.1858974358974359,0.7756410256410257,9,{"$f":"X71+1800","v":13400},0.1717948717948718,0.8051282051282052]
[{"$nulls":3},70,3,10,1001,{"$f":"H72+100","v":1520},17500,15200,{"$f":"$G$4&\"#\"&H73","v":"1001#1520"},"1001#17500","1001#15200",0.019499679281590764,0.13983322642719692,7600,302050,1510250,10,{"$f":"T72+3000","v":17500},0.22435897435897437,1,10,{"$f":"X72+1800","v":15200},0.19487179487179487,1]
[{"$nulls":3},71,3,11,1001,{"$f":"H73+150","v":1670},null,null,{"$f":"G74&\"#\"&H74","v":"1001#1670"},null,null,0.021423989737010905,0.16125721616420782,8350,310400,1552000,null,{"$f":"SUM(T64:T73)","v":78000},{"$nulls":3},{"$f":"SUM(X64:X73)","v":78000}]
[{"$nulls":3},72,3,12,1001,{"$f":"H74+150","v":1820},null,null,"1001#1820",null,null,0.023348300192431046,0.18460551635663885,9100,319500,1597500]
[{"$nulls":3},73,3,13,1001,{"$f":"H75+150","v":1970},null,null,"1001#1970",null,null,0.025272610647851187,0.20987812700449004,9850,329350,1646750]
[{"$nulls":3},74,3,14,1001,{"$f":"H76+150","v":2120},null,null,"1001#2120",null,null,0.027196921103271328,0.23707504810776137,10600,339950,1699750]
[{"$nulls":3},75,3,15,1001,{"$f":"H77+150","v":2270},null,null,"1001#2270",null,null,0.02912123155869147,0.2661962796664528,11350,351300,1756500,{"$f":"SUM(H64:H93)","v":77950}]
[{"$nulls":3},76,3,16,1001,{"$f":"H78+180","v":2450},null,null,"1001#2450",null,null,0.03143040410519564,0.29762668377164847,12250,363550,1817750]
[{"$nulls":3},77,3,17,1001,{"$f":"H79+180","v":2630},null,null,"1001#2630",null,null,0.033739576651699806,0.33136626042334827,13150,376700,1883500]
[{"$nulls":3},78,3,18,1001,{"$f":"H80+180","v":2810},null,null,"1001#2810",null,null,0.03604874919820398,0.36741500962155227,14050,390750,1953750]
[{"$nulls":3},79,3,19,1001,{"$f":"H81+180","v":2990},null,null,"1001#2990",null,null,0.038357921744708146,0.4057729313662604,14950,405700,2028500]
[{"$nulls":3},80,3,20,1001,{"$f":"H82+180","v":3170},null,null,"1001#3170",null,null,0.04066709429121232,0.44644002565747276,15850,421550,2107750]
[{"$nulls":3},81,3,21,1001,{"$f":"H83+200","v":3370},null,null,"1001#3370",null,null,0.04323284156510584,0.4896728672225786,16850,438400,2192000]
[{"$nulls":3},82,3,22,1001,{"$f":"H84+200","v":3570},null,null,"1001#3570",null,null,0.04579858883899936,0.535471456061578,17850,456250,2281250]
[{"$nulls":3},83,3,23,1001,{"$f":"H85+200","v":3770},null,null,"1001#3770",null,null,0.04836433611289288,0.5838357921744709,18850,475100,2375500]
[{"$nulls":3},84,3,24,1001,{"$f":"H86+200","v":3970},null,null,"1001#3970",null,null,0.0509300833867864,0.6347658755612573,19850,494950,2474750]
[{"$nulls":3},85,3,25,1001,{"$f":"H87+200","v":4170},null,null,"1001#4170",null,null,0.05349583066067992,0.6882617062219372,20850,515800,2579000]
[{"$nulls":3},86,3,26,1001,{"$f":"H88+230","v":4400},null,null,"1001#4400",null,null,0.05644644002565747,0.7447081462475946,22000,537800,2689000]
[{"$nulls":3},87,3,27,1001,{"$f":"H89+230","v":4630},null,null,"1001#4630",null,null,0.059397049390635025,0.8041051956382297,23150,560950,2804750]
[{"$nulls":3},88,3,28,1001,{"$f":"H90+230","v":4860},null,null,"1001#4860",null,null,0.06234765875561257,0.8664528543938422,24300,585250,2926250]
[{"$nulls":3},89,3,29,1001,{"$f":"H91+230","v":5090},null,null,"1001#5090",null,null,0.06529826812059013,0.9317511225144324,25450,610700,3053500]
[{"$nulls":3},90,3,30,1001,{"$f":"H92+230","v":5320},null,null,"1001#5320",null,null,0.06824887748556767,1,26600,637300,3186500]

{"sheet":"工坊等级","index":4,"n_rows":19,"n_cols":7,"rows_kept":19}
[]
[]
[]
[]
[]
[]
[null,null,"工坊等级","铁矿石","开放科技点层数","开放科技点个数","开放科技点等级上限"]
[null,null,1,50,0,{"$f":"E8*5","v":0},0]
[null,null,2,100,1,5,10]
[null,null,{"$f":"C9+2","v":4},{"$f":"D9+100","v":200},1,5,20]
[null,null,6,300,1,5,30]
[null,null,8,400,2,10,10]
[null,null,10,500,2,10,20]
[null,null,12,600,2,10,30]
[null,null,14,700,3,15,10]
[null,null,16,800,3,15,15]
[null,null,18,900,3,15,20]
[null,null,20,1000,3,15,25]
[null,null,22,1100,3,15,30]