{"text_format":"3","workbook":"xlsx","n_sheets":8,"sheets":["HeroConfig","角色技能","角色升星配方","数组","Sheet1","Sheet2","Sheet3","Sheet4"],"not_rendered":{"external_links":2,"defined_names":4,"comments":1},"read":"whole","date_system":"1900"}

{"sheet":"HeroConfig","index":0,"n_rows":91,"n_cols":41,"rows_kept":91}
[null,"Id","Description","ReadingName","Painting","Live","Icon","PiecesId","PiecesCount","Star","Quality","Natural","Profession","Scale","Position","PositionView","PropertyName","MaxRank","Hp","Attack","PhysicalDefence","MagicDefence","Speed","SecondaryFactor","ActionPower","RankupConsumeMaterial","OpenSkillRules","OpenPassiveSkillRules","EquipTalismana","HeroStage","HeroLocation","AttackScale","DefenseScale","AssistScale","HeroStory","GrowthSwitch","Heroadornlevel","HeroLocationDesc1","HeroLocationDesc2","RecommendTeamId","ShowHeroLocation"]
[null,"int","int","string","int","int","int","int","int","int","int","int","int","float","mut,float#float,1","mut,float#float,1","int","int","float","float","float","float","float","mut,int#int,2","int","mut,int#int,2","mut,int#int,2","mut,int#int,2","mut,int#int,1","int","string","int","int","int","string","mut,int#int,1","mut.int#int,1","String","String","mut,int#int,1","int"]
[null,2,3,2,3,3,3,2,2,2,2,2,2,3,3,3,2,2,2,2,2,2,2,2,2,2,2,2,2,3,3,3,3,3,3,2,3,3,3,3,3]
[null,"角色ID","角色简单介绍","角色名（辨识用）","角色静态立绘ID","角色动态立绘ID","角色小头像","角色解锁需要碎片ID--对应物品表","角色解锁需要碎片数量（若为0则不通过碎片解锁）\n10000临时值","初始星级","角色品质-","角色资质\n","角色职业\n1、肉盾；2、输出；\n3、控制；4，辅助；","角色缩放值","位置","妖灵师预览界面位置","角色属性（1、人；2、佛；3、妖；4、道；5.光；6.暗）","角色最高星级\n10星","生命值","攻击力","护甲","魔抗","速度","二级属性中初始默认不为0都要在这边备注出来\n属性id#num|","初始行动力","升至下一星级需要材料\n升至星级#槽位#卡组#数量","技能开放规则\n星级#技能id","技能开放规则\n突破/升星#突破/升星id#技能id                                1突破  2升星                                                        突破/升星id去HeroRankupConfig表找                      技能id去PassiveSkillLogicConfig表找    ","角色专属法宝\n星级#id","角色阶段","角色定位","攻（满值100）","防（满值100）","辅（满值100）","角色传记","妖灵师能不能升级进阶回溯\n1、升级\n2、进阶\n3、回溯","英雄佩戴魂印等级","英雄定位描述\n若未配置则详情界面不显示定位按钮","英雄定位描述补充文字，多行之间以|分割","读取的推荐队伍ID，多个ID之间以#分割","猎妖师详情是否显示定位按钮"]
["默认值",0,0,{"$f":"\"\"","v":""},0,0,0,0,0,null,0,null,0,null,"null","null",0,0,0,0,0,0,null,null,0,{"$nulls":14},0,0]
["正确性校对"]
["校对值"]
[null,10001,10501,"伏羲",1001,2001,3001,11001,50,5,5,5,2,0.6,"0#280","0#150",1,10,4000,600,200,200,268,"53#10000|57#10000|58#10000",30,"6#1#3#1|6#2#22#1|6#3#17#3|7#1#17#4|8#1#18#1|8#2#17#3|9#1#3#1|9#2#18#1|9#3#17#2|10#1#3#2|10#2#18#1|10#3#14#1","5#1271|5#1272|6#1271|6#1272|7#1271|7#1272|8#1271|8#1272|9#1271|9#1272|10#1271|10#1272|11#1271|11#1272","1#1#127101|1#2#127102|1#3#127103|1#3#127104|1#4#127105|1#5#127106|2#7#127107|2#8#127108|2#9#127109|2#10#127110|2#11#127111","6#90027",4,"灼烧队输出",64,60,81,"上古时代，华胥国有个叫“华胥氏”的姑娘，到一个叫雷泽的地方去游玩，偶尔看到了一个巨大的脚印，便好奇地踩了一下，于是就有了身孕，怀孕十二年后生下一个儿子，这个儿子有蛇的身体人的脑袋，取名为伏羲。\\n伏羲以一拟太极，然后一画开天，世间万物的创造，世界生命的诞生全靠这一画。\\n有谓之天根者，以其混沌世界，黑暗无光，忽焉一画开天，而阴阳动静迭为升降，天地定位，日月运行，万物之生生不息。伏羲一画开天，岂非以一拟太极哉？则凡卦爻，莫非自此一来，固莫非太极之象。\\n《易经》云：保世滋大，概群藉而罗万有者，悉在此一画开天，人文肇始之。",null,null,"增伤 追击 高暴","<color=#2C8B1C>六星：</color>释放技能后追加1次普攻|<color=#2C8B1C>九星：</color>敌方每阵亡一人伤害+15%|<color=#2C8B1C>法宝+25：</color>攻击时对灼烧目标暴击率额外+80%","12#13",1]
[null,10002,10502,"洛神",1002,2002,3002,11002,50,5,5,5,2,0.5,"0#350","0#200",3,10,4000,600,200,200,396,"53#10000|57#10000|58#10000",30,"6#1#3#1|6#2#23#1|6#3#17#3|7#1#17#4|8#1#18#1|8#2#17#3|9#1#3#1|9#2#18#1|9#3#17#2|10#1#3#2|10#2#18#1|10#3#14#1","5#1031|5#1032|6#1031|6#1032|7#1031|7#1032|8#1031|8#1032|9#1031|9#1032|10#1031|10#1032|11#1031|11#1032","1#1#103101|1#2#103102|1#3#103103|1#3#103104|1#4#103105|1#5#103106|2#7#103107|2#8#103108|2#9#103109|2#10#103110|2#11#103111","6#90003",3,"永动队输出",64,74,82,"洛神最初叫做“宓妃”，这一名称源于屈原《天问》：“帝降夷羿，革孽夏民。胡射夫河伯，而妻彼雒嫔？”意是“天帝降下后羿，（让后羿）改变夏民的灾祸。为何射河伯，娶洛川妃为妻？”宓妃的身份，是河伯之妻，被夏朝的有穷国君夷羿所霸占。\\n“吾令丰隆乘云兮， 求宓妃之所在。解佩纕以结言兮，吾令蹇修以为理。纷总总其离合兮，忽纬繣其难迁。夕归次于穷石兮，朝濯发乎洧盤。保厥美以骄傲兮，日康娱以淫游。虽信美而无礼兮，来违弃而改求。”\\n——屈原",null,null,"爆发 追击 增伤","<color=#2C8B1C>六星：</color>技能伤害+25%|<color=#2C8B1C>九星：</color>释放技能后追加1次普攻（不回怒气）|<color=#2C8B1C>法宝+25：</color>行动后回1点怒气","1#5",1]
[null,10003,10503,"猪八戒",1003,2003,3003,11003,50,5,5,5,1,0.7,"45#-400","45#-330",3,10,4000,600,200,200,260,"53#10000|57#10000|58#10000",30,"6#1#3#1|6#2#24#1|6#3#17#3|7#1#17#4|8#1#18#1|8#2#17#3|9#1#3#1|9#2#18#1|9#3#17#2|10#1#3#2|10#2#18#1|10#3#14#1","5#1061|5#1062|6#1061|6#1062|7#1061|7#1062|8#1061|8#1062|9#1061|9#1062|10#1061|10#1062|11#1061|11#1062","1#1#106101|1#2#106102|1#3#106103|1#3#106104|1#4#106105|1#5#106106|2#7#106107|2#8#106108|2#9#106109|2#10#106110|2#11#106111","6#90006",4,"永动队肉盾",70,81,64,"猪八戒前世为执掌天河八万水军的“天蓬元帅”，一直倾慕容貌过人的霓裳仙子（属于嫦娥中的一员，《西游记》中各路神仙基本借鉴了正统道教神仙录，由高老庄一集猪八戒提及可见，猪八戒的前世天蓬元帅即是水神天河宪节）。因调戏嫦娥并且惹来纠察灵官后，又拱倒斗牛宫被贬下凡尘，却错投猪胎，在福陵山落草。后受观音菩萨点化，入赘高老庄务农，等待取经人。后成为唐僧的弟子之一，与孙悟空、沙悟净一同保护唐僧去西天取经，几经九九八十一劫难，因保护唐僧有功，成了正果，最后被如来佛祖亲封为“净坛使者”。",null,null,"吸血 反伤","<color=#2C8B1C>六星：</color>受到技能或普攻直接伤害的50%反弹|<color=#2C8B1C>九星：</color>生命+30%|<color=#2C8B1C>法宝+25：</color>受到普攻直接伤害时回1点怒气",1,1]
[null,10004,10504,"慈航道人",1004,2004,3004,11004,50,5,5,5,4,0.65,"10#240","10#140",1,10,4000,600,200,200,325,"53#10000|57#10000|58#10000",30,"6#1#3#1|6#2#25#1|6#3#17#3|7#1#17#4|8#1#18#1|8#2#17#3|9#1#3#1|9#2#18#1|9#3#17#2|10#1#3#2|10#2#18#1|10#3#14#1","5#1291|5#1292|6#1291|6#1292|7#1291|7#1292|8#1291|8#1292|9#1291|9#1292|10#1291|10#1292|11#1291|11#1292","1#1#129101|1#2#129102|1#3#129103|1#3#129104|1#4#129105|1#5#129106|2#7#129107|2#8#129108|2#9#129109|2#10#129110|2#11#129111","6#90029",1,"灼烧队辅助",70,82,90,"慈航道人本来是民间的一名普通的人类女子，封神大战之时，为了搭救自己的母亲，被妲己所害，女娲娘娘感念她至孝纯真，将她安置于玄都洞八景宫太上老君处，并传她千手千眼之术，之后她与太上老君相处几月之后，她决定向女娲娘娘提出要拜玉虚宫的元始天尊为师，故元始天尊传授给她一本属于阐教、截教共修的神通哲理《道德真经》，随即被元始天尊封为十二金仙之一。",null,null,"治疗 群体 缓回","<color=#2C8B1C>六星：</color>释放技能后给目标附加持续治疗效果每回合回复大乔最大攻击20%生命持续2回合|<color=#2C8B1C>九星：</color>普攻后给目标附加持续治疗效果每回合回复慈航道人32%最大攻击生命2回合|<color=#2C8B1C>法宝+25：</color>释放技能时为队友附加持续治疗效果增大至32%攻击力",13,1]
[null,10005,10505,"妲己",1005,2005,3005,11005,50,5,5,5,3,0.55,"0#270","-11#134",3,10,4000,600,200,200,343,"53#10000|57#10000|58#10000",30,"6#1#3#1|6#2#23#1|6#3#17#3|7#1#17#4|8#1#18#1|8#2#17#3|9#1#3#1|9#2#18#1|9#3#17#2|10#1#3#2|10#2#18#1|10#3#14#1","5#1071|5#1072|6#1071|6#1072|7#1071|7#1072|8#1071|8#1072|9#1071|9#1072|10#1071|10#1072|11#1071|11#1072","1#1#107101|1#2#107102|1#3#107103|1#3#107104|1#4#107105|1#5#107106|2#7#107107|2#8#107108|2#9#107109|2#10#107110|2#11#107111","6#90007",3,"永动队控制",72,74,68,"妲己，本是商朝冀州侯苏护之女，苏全忠之妹，乃倾国倾城、美艳娇媚、闭月羞花的绝色美女。后其父亲献女于商纣王为妃，路上却惨遭九尾狐狸精害死噬魂并夺身附体，被利用来迷惑纣王，败殷商气运，断送商汤基业之辉。\\n最终被女娲娘娘活捉，当场判了死罪，交给西周一方斩首示众而亡，死于陆压道人送给姜子牙的“斩仙飞刀”之下。",null,null,"沉默 无消耗","<color=#2C8B1C>六星：</color>释放技能后回1点怒气|<color=#2C8B1C>九星：</color>沉默概率提升至65%|<color=#2C8B1C>法宝+25：</color>释放技能后额外回1点怒气",4,1]
[null,10006,10506,"共工",1006,2006,3006,11006,50,5,5,5,4,0.5,"-25#210","-25#50",3,10,4000,600,200,200,311,"53#10000|57#10000|58#10000",30,"6#1#3#1|6#2#27#1|6#3#17#3|7#1#17#4|8#1#18#1|8#2#17#3|9#1#3#1|9#2#18#1|9#3#17#2|10#1#3#2|10#2#18#1|10#3#14#1","5#1041|5#1042|6#1041|6#1042|7#1041|7#1042|8#1041|8#1042|9#1041|9#1042|10#1041|10#1042|11#1041|11#1042","1#1#104101|1#2#104102|1#3#104103|1#3#104104|1#4#104105|1#5#104106|2#7#104107|2#8#104108|2#9#104109|2#10#104110|2#11#104111","6#90004",3,"永动队辅助",81,70,64,"共工是上古神话里的水神，脾气暴躁，与火神祝融是一对冤家。共工曾与祝融大战连天，输掉以后以头撞向不周山，将不周山这根撑天的柱子撞断了。一时间天河之水倾泻而下，人间变成一片泽国。女娲不忍人间受苦，炼制五彩石将天大的窟窿堵住了。\\n后来共工不满女娲受人们爱戴，发动洪水淹没大地。大禹请出应龙等隐居的神兽，打的共工求饶，最后才解决了水患。传说共工是太阳神炎帝的后人，炎帝长于姜水，因而姓姜，共工也姓姜。",null,null," 无敌 回怒 光环","<color=#2C8B1C>六星：</color>释放技能后给除自己外己方生命最少的神将附加无敌盾2回合|<color=#2C8B1C>九星：</color>全体攻击+20%|<color=#2C8B1C>法宝+25：</color>全体暴击率+20%","1#2#3",1]
[null,10007,10507,"唐僧",1007,2007,3007,11007,50,5,5,5,4,0.65,"-9#340","30#200",2,10,4000,600,200,200,343,"53#10000|57#10000|58#10000",30,"6#1#3#1|6#2#28#1|6#3#17#3|7#1#17#4|8#1#18#1|8#2#17#3|9#1#3#1|9#2#18#1|9#3#17#2|10#1#3#2|10#2#18#1|10#3#14#1","5#1161|5#1162|6#1161|6#1162|7#1161|7#1162|8#1161|8#1162|9#1161|9#1162|10#1161|10#1162|11#1161|11#1162","1#1#116101|1#2#116102|1#3#116103|1#3#116104|1#4#116105|1#5#116106|2#7#116107|2#8#116108|2#8#116112|2#9#116109|2#10#116110|2#11#116111","6#90016",4,"暴力队辅助",64,81,82,"唐僧，俗名陈祎，小名江流儿，法号玄奘，号三藏，被唐太宗赐姓为唐。为如来佛祖座下二弟子金蝉长老投胎。他是遗腹子，由于父母凄惨、离奇的经历，自幼在寺庙中出家、长大，在金山寺出家，最终迁移到京城的著名寺院中落户、修行。\\n唐僧勤敏好学，悟性极高，在寺庙僧人中脱颖而出。唐太宗请他开“水陆大会”，又被观音菩萨选定为取经人，与唐太宗结拜并前往西天取经。\\n在取经路上，唐僧带领徒弟们经历九九八十一难，终于将真经带回东土大唐。",null,null,"治疗 群体","<color=#2C8B1C>六星：</color>受到伤害12%治疗己方全体|<color=#2C8B1C>九星：</color>释放普攻后回1点怒气|<color=#2C8B1C>法宝+25：</color>受到伤害18%治疗己方全体","6#10",1]
[null,10008,10508,"精卫",1008,2008,3008,11008,50,5,5,5,4,0.6,"0#290","0#180",3,10,4000,600,200,200,220,"53#10000|57#10000|58#10000",30,"6#1#3#1|6#2#24#1|6#3#17#3|7#1#17#4|8#1#18#1|8#2#17#3|9#1#3#1|9#2#18#1|9#3#17#2|10#1#3#2|10#2#18#1|10#3#14#1","5#1021|5#1022|6#1021|6#1022|7#1021|7#1022|8#1021|8#1022|9#1021|9#1022|10#1021|10#1022|11#1021|11#1022","1#1#102101|1#2#102102|1#3#102103|1#3#102104|1#4#102105|1#5#102106|2#7#102107|2#8#102108|2#9#102109|2#10#102110|2#11#102111","6#90002",1,"永动队辅助",81,60,64,"女娃，炎帝最小的女儿，后化作精卫，精卫填海典故的主人公就是女娃。女娃化为精卫后住在发鸠山，形状和乌鸦相似，但头部有花纹，嘴是白色的，足是红色的，她的鸣叫就是自呼其名，她常常用嘴夹着西山上的小树枝和碎石，去填东海。\\n发鸠之山，其上多柘木，有鸟焉，其状如乌，文首，白喙，赤足，名曰：“精卫”，其鸣自詨。是炎帝之少女，名曰女娃。女娃游于东海，溺而不返，故为精卫，常衔西山之木石，以堙于东海。漳水出焉，东流注于河。\\n——《山海经》",null,null,"回怒 无消耗 治疗","<color=#2C8B1C>六星：</color>释放技能40%概率不消耗怒气|<color=#2C8B1C>九星：</color>技能直接伤害40%转化为生命治疗生命最少的队员|<color=#2C8B1C>法宝+25：</color>全体暴击率+30%","1#5",1]
[null,10009,10509,"龙吉公主",1009,2009,3009,11009,50,5,5,5,4,0.65,"0#260","0#160",1,10,4000,600,200,200,310,"53#10000|57#10000|58#10000",30,"6#1#3#1|6#2#22#1|6#3#17#3|7#1#17#4|8#1#18#1|8#2#17#3|9#1#3#1|9#2#18#1|9#3#17#2|10#1#3#2|10#2#18#1|10#3#14#1","5#1311|5#1312|6#1311|6#1312|7#1311|7#1312|8#1311|8#1312|9#1311|9#1312|10#1311|10#1312|11#1311|11#1312","1#1#131101|1#2#131102|1#3#131103|1#3#131104|1#4#131105|1#5#131106|2#7#131107|2#8#131108|2#8#131112|2#9#131109|2#10#131110|2#11#131111","6#90031",3,"灼烧队辅助",82,70,65,"龙吉公主原为天仙，乃昊天上帝之女，瑶池金母所生，有思凡之心，曾居于天宫，当年蟠桃会上失了礼数，被贬在凤凰山青鸾斗阙，因罗宣火焚西岐城，为此下山助武王伐纣，将功补过，并希望有朝一日恢复仙籍重回天庭。因符元仙翁称她与洪锦有姻缘，月下老人下凡牵线，嫁于手下败将洪锦。在攻打万仙阵之时，龙吉公主被金灵圣母用四象塔打落马下，被截教众仙所杀，其丈夫洪锦也被金灵圣母以龙虎如意打杀。后被姜子牙封神，成为红鸾星。",null,null,"光环 回怒 无敌","<color=#2C8B1C>六星：</color>全体攻击+20%|<color=#2C8B1C>九星：</color>释放技能后全体回1点怒气|<color=#2C8B1C>法宝+25：</color>释放技能后给两名血量最少队友附加无敌吸血盾1回合","12#13#14",1]
[null,10010,10510,"孔雀明王",1010,2010,3010,11010,50,5,5,5,1,0.8,"10#250","0#200",2,10,4000,600,200,200,300,"53#10000|57#10000|58#10000",30,"6#1#3#1|6#2#31#1|6#3#17#3|7#1#17#4|8#1#18#1|8#2#17#3|9#1#3#1|9#2#18#1|9#3#17#2|10#1#3#2|10#2#18#1|10#3#14#1","5#1171|5#1172|6#1171|6#1172|7#1171|7#1172|8#1171|8#1172|9#1171|9#1172|10#1171|10#1172|11#1171|11#1172","1#1#117101|1#2#117102|1#3#117103|1#3#117104|1#4#117105|1#5#117106|2#7#117107|2#8#117108|2#9#117109|2#10#117110|2#11#117111","6#90017",3,"暴力队肉盾",90,61,71,"孔雀明王汉译有摩诃摩瑜利罗阇、佛母大孔雀明王等。此尊相传为毗卢遮那佛或释迦牟尼佛的等流身。密号为佛母金刚、护世金刚。在密教修法中，以孔雀明王为本尊而修者，称为孔雀明王经法，又称孔雀经法。为密教四大法之一。根据《孔雀明王经》记载，佛陀在世时，有一位莎底比丘遭到毒蛇咬螫，不胜其苦，当阿难向佛陀禀告之后，佛陀于是教导一个可以消除鬼魅、毒害、恶疾的修持法门，这就是《孔雀明王经》的主要内容。",null,null,"减伤 增疗","<color=#2C8B1C>六星：</color>减伤盾持续时间变为2回合|<color=#2C8B1C>九星：</color>生命+30%|<color=#2C8B1C>法宝+25：</color>受到治疗量增加50%",10,1]
[null,10011,10511,"雷震子",1011,2011,3011,11011,50,5,5,5,2,0.6,"-60#230","0#120",3,10,4000,600,200,200,292,"53#10000|57#10000|58#10000",30,"6#1#3#1|6#2#32#1|6#3#17#3|7#1#17#4|8#1#18#1|8#2#17#3|9#1#3#1|9#2#18#1|9#3#17#2|10#1#3#2|10#2#18#1|10#3#14#1","5#1011|5#1012|6#1011|6#1012|7#1011|7#1012|8#1011|8#1012|9#1011|9#1012|10#1011|10#1012|11#1011|11#1012","1#1#101101|1#2#101102|1#3#101103|1#3#101104|1#4#101105|1#5#101106|2#7#101107|2#8#101108|2#9#101109|2#10#101110|2#11#101111","6#90001",1,"永动队输出",90,71,72,"雷震子乃天雷将星下世，身份神秘，商末年间诞生于燕山，周文王姬昌避雨时相遇后，并收养为义子。因其现身时霹雳交加，电闪雷鸣，所以取名雷震子。自幼修行学艺，拜在阐教门下福德真仙云中子为师。\\n雷震子身长二丈，全身水合色，背肋下生出一对“风雷双翅”。手使一条黄金棍，力大无穷，武艺高强，展开羽翼飞行时风生雷动，且速度奇快，可日行万里。\\n在封神之战后，因封神榜上无名，最终肉身成圣。",null,null,"群体 爆发 追技","<color=#2C8B1C>六星：</color>直接伤害击杀目标回2点怒气|<color=#2C8B1C>九星：</color>技能伤害增加30%|<color=#2C8B1C>法宝+25：</color>释放技能40%概率追加1次技能对敌方全体造成41%法术伤害不触发特性","1#2#3",1]
[null,10012,10512,"降龙罗汉",1012,2012,3012,11012,50,5,5,5,2,0.5,"40#380","0#250",2,10,4000,600,200,200,286,"53#10000|57#10000|58#10000",30,"6#1#3#1|6#2#31#1|6#3#17#3|7#1#17#4|8#1#18#1|8#2#17#3|9#1#3#1|9#2#18#1|9#3#17#2|10#1#3#2|10#2#18#1|10#3#14#1","5#1211|5#1212|6#1211|6#1212|7#1211|7#1212|8#1211|8#1212|9#1211|9#1212|10#1211|10#1212|11#1211|11#1212","1#1#121101|1#2#121102|1#3#121103|1#3#121104|1#4#121105|1#5#121106|2#7#121107|2#8#121108|2#9#121109|2#10#121110|2#11#121111","6#90021",1,"暴力队输出",90,60,71,"传说古印度有龙王用洪水淹那竭国，将佛经藏于龙宫。后来降龙尊者降服了龙王取回佛经，立了大功，故称他为「降龙尊者」。降龙罗汉乃佛祖座下弟子，法力无边，助佛祖降龙伏妖，立下不少奇功。降龙修炼1420年却始终不能得成正果，求教观音，得知七世尘缘未了，便下凡普渡众生，了结未了尘缘。",null,null,"追击 增伤 增暴","<color=#2C8B1C>六星：</color>战斗中生命每降10%伤害+5%|<color=#2C8B1C>九星：</color>战斗中生命每降10%暴击率+5%|<color=#2C8B1C>法宝+25：</color>生命降低10%攻击增加5%","6#11",1]
[null,10013,10532,"吕洞宾",1013,2013,3013,11013,50,5,5,5,3,0.65,"-35#267","-35#137",4,10,4000,600,200,200,264,"53#10000|57#10000|58#10000",30,"6#1#3#1|6#2#34#1|6#3#17#3|7#1#17#4|8#1#18#1|8#2#17#3|9#1#3#1|9#2#18#1|9#3#17#2|10#1#3#2|10#2#18#1|10#3#14#1","5#1461|5#1462|6#1461|6#1462|7#1461|7#1462|8#1461|8#1462|9#1461|9#1462|10#1461|10#1462|11#1461|11#1462","1#1#146101|1#2#146102|1#3#146103|1#3#146104|1#4#146105|1#5#146106|2#7#146107|2#8#146108|2#9#146109|2#10#146110|2#11#146111","6#90046",3,"减怒队控制",71,65,68,"唐朝时，在一个叫永乐乡的地方，住着一户吕姓人家。这吕家世代都是读书人，并且都在朝廷上当过官。吕洞宾就出生在这样的人家。\\n吕洞宾母亲在要生吕洞宾的时候，屋里异香扑鼻，空中仙乐阵阵，一只白鹤自天而下，飞入他母亲的帐中就消失。生下吕洞宾果然气度不凡，自小聪明过人，日记万言，过目成诵，出口成章。\\n长安应考，在酒肆中遇见上天仙使钟离权。钟离权让他做了一个建功树名、出将入相、封妻荫子的美梦，醒后方知功名利禄均为梦幻，遂大彻大悟，拜钟离权为师，赴终南山中修道，改名喦，字洞宾。",null,null,"群体 麻痹 减怒","<color=#2C8B1C>六星：</color>释放技能回1点怒气|<color=#2C8B1C>九星：</color>技能伤害+25%|<color=#2C8B1C>法宝+25：</color>技能麻痹几率提升至50%",17,1]
[null,10014,10514,"哪吒",1014,2014,3014,11014,50,5,5,5,4,0.8,"-30#295","-30#145",1,10,4000,600,200,200,313,"53#10000|57#10000|58#10000",30,"6#1#3#1|6#2#35#1|6#3#17#3|7#1#17#4|8#1#18#1|8#2#17#3|9#1#3#1|9#2#18#1|9#3#17#2|10#1#3#2|10#2#18#1|10#3#14#1","5#1281|5#1282|6#1281|6#1282|7#1281|7#1282|8#1281|8#1282|9#1281|9#1282|10#1281|10#1282|11#1281|11#1282","1#1#128101|1#2#128102|1#3#128103|1#3#128104|1#4#128105|1#5#128106|2#7#128107|2#8#128108|2#9#128109|2#10#128110|2#11#128111","6#90028",3,"灼烧队辅助",90,73,72,"哪吒是陈塘关总兵李靖的第三个儿子，金吒、木吒的三弟，本是镇阐教之宝灵珠子投胎转世；奉元始天尊法旨下凡，母亲殷夫人怀胎三年零六个月 生出一个肉球，李靖以为是妖物就用剑切开，里面跳出一个手戴金镯、肚缠红绫的男婴。太乙真人登门道贺，收徒取名“哪吒”。\\n在与东海龙王发生冲突后，哪吒挺身自刎保下百姓。事后太乙真人以莲花为哪吒做出了崭新的身躯，并在讨伐纣王的战斗中立下赫赫功劳，最终肉身成圣。",null,null,"群体 灼烧","<color=#2C8B1C>六星：</color>技能灼烧概率提升至65%|<color=#2C8B1C>九星：</color>普攻有40%概率使攻击者灼烧2回合|<color=#2C8B1C>法宝+25：</color>受到普攻有80%概率使攻击者灼烧2回合","12#13#14",1]
[null,10015,10515,"伏虎罗汉",1015,2015,3015,11015,50,5,5,5,2,0.65,"0#350","0#200",2,10,4000,600,200,200,300,"53#10000|57#10000|58#10000",30,"6#1#3#1|6#2#28#1|6#3#17#3|7#1#17#4|8#1#18#1|8#2#17#3|9#1#3#1|9#2#18#1|9#3#17#2|10#1#3#2|10#2#18#1|10#3#14#1","5#1201|5#1202|6#1201|6#1202|7#1201|7#1202|8#1201|8#1202|9#1201|9#1202|10#1201|10#1202|11#1201|11#1202","1#1#120101|1#2#120102|1#3#120103|1#3#120104|1#4#120105|1#5#120106|2#7#120107|2#8#120108|2#9#120109|2#10#120110|2#11#120111","6#90020",1,"暴力队输出",89,61,71,"传说伏虎尊者所住的寺庙外，经常有猛虎因肚子饿长哮，伏虎尊者把自己的饭食分给这只老虎，时间一长了猛虎就被他降服了，常和他一起玩耍，故又称他为「伏虎罗汉」。",null,null,"单体 爆发 必暴","<color=#2C8B1C>六星：</color>战斗第一回合必定暴击|<color=#2C8B1C>九星：</color>技能伤害+25%|<color=#2C8B1C>法宝+25：</color>直接伤害击杀目标回1点怒气",6,1]
[null,10016,10516,"蚩尤",1016,2016,3016,11016,50,5,5,5,1,0.6,"0#235","0#100",1,10,4000,600,200,200,288,"53#10000|57#10000|58#10000",30,"6#1#3#1|6#2#37#1|6#3#17#3|7#1#17#4|8#1#18#1|8#2#17#3|9#1#3#1|9#2#18#1|9#3#17#2|10#1#3#2|10#2#18#1|10#3#14#1","5#1301|5#1302|6#1301|6#1302|7#1301|7#1302|8#1301|8#1302|9#1301|9#1302|10#1301|10#1302|11#1301|11#1302","1#1#130101|1#2#130102|1#3#130103|1#3#130104|1#4#130105|1#5#130106|2#7#130107|2#8#130108|2#8#130112|2#9#130109|2#10#130110|2#11#130111","6#90030",3,"灼烧队肉盾",70,67,67,"传说蚩尤有八只脚，三头六臂，铜头铁额，刀枪不入。善于使用刀、斧、戈作战，不死不休，勇猛无比。黄帝不能力敌，请天神助其破之。杀得天昏地暗，血流成河。蚩尤被黄帝所杀，帝斩其首葬之，首级化为血枫林。后黄帝尊蚩尤为“兵主”，即战争之神。\\n“食铁石”，“人身牛蹄，四目六手，耳鬓如剑戟，头有角”。\\n——《述异记》",null,null,"吸血 减伤 无敌","<color=#2C8B1C>六星：</color>受到灼烧状态敌人攻击时受到伤害减少40%|<color=#2C8B1C>九星：</color>战斗第一回合无敌（不会被清除）|<color=#2C8B1C>法宝+25：</color>受到灼烧状态敌人攻击所受伤害额外再降低25%","12#13",1]
[null,10017,10517,"嫦娥",1017,2017,3017,11017,50,5,5,5,2,0.65,"62.45#227.81","62.45#100",1,10,4000,600,200,200,264,"53#10000|57#10000|58#10000",30,"6#1#3#1|6#2#25#1|6#3#17#3|7#1#17#4|8#1#18#1|8#2#17#3|9#1#3#1|9#2#18#1|9#3#17#2|10#1#3#2|10#2#18#1|10#3#14#1","5#1331|5#1332|6#1331|6#1332|7#1331|7#1332|8#1331|8#1332|9#1331|9#1332|10#1331|10#1332|11#1331|11#1332","1#1#133101|1#2#133102|1#3#133103|1#3#133104|1#4#133105|1#5#133106|2#7#133107|2#8#133108|2#9#133109|2#10#133110|2#11#133111","6#90033",1,"灼烧队输出",64,72,81,"嫦娥是后裔的妻子，两人在一起生活着。后羿射下九个太阳，受到百姓的尊敬和爱戴，不少志士慕名前来投师学艺。奸诈刁钻、心术不正的逢蒙也混了进来。后羿向西王母求得一包不死药，交予嫦娥保管。逢蒙趁后羿外出，逼迫嫦娥交出不死药，嫦娥危急之时吞下不死药，不多时便飘离地面，飞落月亮上成了仙。\\n后羿回家寻妻不得，捶胸顿足，仰望月亮千呼万唤地呼唤嫦娥名字。月母被羿的真情所打动，允许嫦娥在月圆之日与羿在月桂树下相会。",null,null,"单体 追击 爆发","<color=#2C8B1C>六星：</color>技能对灼烧目标伤害额外增加50%|<color=#2C8B1C>九星：</color>直接伤害击杀目标回1点怒气|<color=#2C8B1C>法宝+25：</color>普攻对灼烧目标伤害额外+80%",12,1]
[null,10018,10518,"九命猫",1018,2018,3018,11018,50,5,5,5,4,0.2,"30#300","30#200",3,10,4000,600,200,200,264,"53#10000|57#10000|58#10000",30,"6#1#3#1|6#2#32#1|6#3#17#3|7#1#17#4|8#1#18#1|8#2#17#3|9#1#3#1|9#2#18#1|9#3#17#2|10#1#3#2|10#2#18#1|10#3#14#1","5#1051|5#1052|6#1051|6#1052|7#1051|7#1052|8#1051|8#1052|9#1051|9#1052|10#1051|10#1052|11#1051|11#1052","1#1#105101|1#2#105102|1#3#105103|1#3#105104|1#4#105105|1#5#105106|2#7#105107|2#8#105108|2#9#105109|2#10#105110|2#11#105111","6#90005",1,"永动队辅助",64,72,82,"传说世间的一切生灵皆可修炼成仙，而猫自然在其中。每修炼一百年，猫就会多长出一条尾巴，等到有九条尾巴的时候，就算功德圆满了，连天上的神仙都要敬让三分。/n可是，这第九条尾巴却是极难修到的，当猫修炼到第八条尾巴时，会得到一个提示，帮助它的主人实现一个愿望，心愿完成后，会长出一条新的尾巴，但是从前的尾巴也会脱落一条，仍是八尾。这看起来是个奇怪的死循环，无论怎样都不可能修炼到九条尾巴。/n但是这只猫因为独特的机缘，而修成了九尾，被称为九命猫。",null,null,"治疗","<color=#2C8B1C>六星：</color>受到直接伤害16%治疗己方三个生命最少单位|<color=#2C8B1C>九星：</color>释放技能后回1点怒气|<color=#2C8B1C>法宝+25：</color>技能治疗量+25%","1#4#5",1]
[null,10019,10519,"巨灵神",1019,2019,3019,11019,50,5,5,5,1,0.2,"0#250","0#150",4,10,4000,600,200,200,350,"53#10000|57#10000|58#10000",30,"6#1#3#1|6#2#40#1|6#3#17#3|7#1#17#4|8#1#18#1|8#2#17#3|9#1#3#1|9#2#18#1|9#3#17#2|10#1#3#2|10#2#18#1|10#3#14#1","5#1431|5#1432|6#1431|6#1432|7#1431|7#1432|8#1431|8#1432|9#1431|9#1432|10#1431|10#1432|11#1431|11#1432","1#1#143101|1#2#143102|1#3#143103|1#3#143104|1#4#143105|1#5#143106|2#7#143107|2#8#143108|2#9#143109|2#10#143110|2#11#143111","6#90043",4,"减怒队肉盾",72,74,68,"巨灵神，是托塔天王帐下的一员战将，使用的兵器是件宣花板斧，舞动起沉重的宣花板斧，就象凤凰穿花，灵巧无比。\\n二华之山，本一山也，当河，河水过之，而曲行；河神巨灵，以手擘开其上，以足蹈离其下，中分为两。以利河流。今观手迹于华岳上，指掌之形具在；脚迹在首阳山下，至今犹存。\\n——《搜神记》",null,null,"减伤 减怒","<color=#2C8B1C>六星：</color>受到普攻降低攻击自己的神将1点怒气|<color=#2C8B1C>九星：</color>受到治疗量+50%|<color=#2C8B1C>法宝+25：</color>减伤盾减伤比例提升至50%","17#19",1]
[null,10020,10520,"姑获鸟",1020,2020,3020,11020,50,5,5,5,3,0.65,"20#220","20#120",3,10,4000,600,200,200,376,"53#10000|57#10000|58#10000",30,"6#1#3#1|6#2#27#1|6#3#17#3|7#1#17#4|8#1#18#1|8#2#17#3|9#1#3#1|9#2#18#1|9#3#17#2|10#1#3#2|10#2#18#1|10#3#14#1","5#1081|5#1082|6#1081|6#1082|7#1081|7#1082|8#1081|8#1082|9#1081|9#1082|10#1081|10#1082|11#1081|11#1082","1#1#108101|1#2#108102|1#3#108103|1#3#108104|1#4#108105|1#5#108106|2#7#108107|2#8#108108|2#9#108109|2#10#108110|2#11#108111","6#90008",4,"永动队控制",64,72,82,"姑获鸟就是来自中国古代神话传说的妖怪，有时以九头的样子显形。\\n明代《本草纲目》里提到了它的由来，说是死去的产妇的执念所化，抱着婴儿在夜里行走，怀抱里婴儿的哭声就化成了姑获鸟的叫声。\\n晋代《玄中记》。姑获鸟有时会变成夏获鸟，姑获鸟抱走孩子，而夏获鸟收养孩子。",null,null,"眩晕 减怒","<color=#2C8B1C>六星：</color>释放技能后回1点怒气|<color=#2C8B1C>九星：</color>释放技能后降低目标1点怒气|<color=#2C8B1C>法宝+25：</color>直接伤害导致死亡时100%眩晕攻击自己的神将",4,1]
[null,10021,10521,"东陵圣母",1021,2021,3021,11021,50,5,5,5,3,0.6,"-26.79#328.55","-26.79#150",1,10,4000,600,200,200,326,"53#10000|57#10000|58#10000",30,"6#1#3#1|6#2#35#1|6#3#17#3|7#1#17#4|8#1#18#1|8#2#17#3|9#1#3#1|9#2#18#1|9#3#17#2|10#1#3#2|10#2#18#1|10#3#14#1","5#1321|5#1322|6#1321|6#1322|7#1321|7#1322|8#1321|8#1322|9#1321|9#1322|10#1321|10#1322|11#1321|11#1322","1#1#132101|1#2#132102|1#3#132103|1#3#132104|1#4#132105|1#5#132106|2#7#132107|2#8#132108|2#9#132109|2#10#132110|2#11#132111","6#90032",3,"灼烧队控制",70,71,67,"东陵圣母，广陵府海陵县人，嫁于杜氏，拜刘纲为师学道，能够易形变化，时隐时现没有定准。她的丈夫杜氏不信道，常常因此生她的气。东陵圣母治病救人，有时前往有病的人家，她的丈夫气愤得更加厉害，把她告到官府，理由是：“东陵圣母是邪恶伪诈的妖人，不理家务。”官府就把东陵圣母抓起来投进监狱。不久，东陵圣母已经从监狱的天窗中飞出去，众人都望见她越来越高直入云中，只留下她所穿的一双鞋在窗下。\\n于是远近的人盖庙宇祭祀她，老百姓求告的事，向她祷告立刻见效。经常有一只青色的鸟在祭祀的地方，有人丢失了东西，向她乞问在哪里，青鸟就飞去落在偷东西那个人的头上，因此，那里路不拾遗。岁月稍长，也就不再这样了。至今海陵县人不得做奸盗之事。如果做了，罪过大的，不是被风浪吞没淹死，就是被虎狼吃掉，罪过小的就一再生病。",null,null,"群体 眩晕 终曲","<color=#2C8B1C>六星：</color>释放技能时如目标处于灼烧状态眩晕概率提升至50%|<color=#2C8B1C>九星：</color>死亡时释放一次技能|<color=#2C8B1C>法宝+25：</color>释放技能时如目标处于灼烧状态眩晕率提升至80%",13,1]
[null,10022,10522,"达摩",1022,2022,3022,11022,50,5,5,5,3,0.7,"-42.7#-439.8","-42.7#-300",2,10,4000,600,200,200,325,"53#10000|57#10000|58#10000",30,"6#1#3#1|6#2#43#1|6#3#17#3|7#1#17#4|8#1#18#1|8#2#17#3|9#1#3#1|9#2#18#1|9#3#17#2|10#1#3#2|10#2#18#1|10#3#14#1","5#1151|5#1152|6#1151|6#1152|7#1151|7#1152|8#1151|8#1152|9#1151|9#1152|10#1151|10#1152|11#1151|11#1152","1#1#115101|1#2#115102|1#3#115103|1#3#115104|1#4#115105|1#5#115106|2#7#115107|2#8#115108|2#9#115109|2#10#115110|2#11#115111","6#90015",1,"暴力队控制",81,61,65,"文殊菩萨，音译作文殊师利、曼殊室利、满祖室哩，意译为妙德、妙吉祥、妙乐、法王子。又称文殊师利童真、孺童文殊菩萨。为佛教四大菩萨之一。与般若经典关系甚深，故称为大智文殊师利菩萨。\\n文殊菩萨是佛陀怙恃之一。文殊菩萨又称法王子，为智慧之象征，身紫金色，形如童子，五髻冠其项，右手持金刚宝剑(表示智能之利)，能斩群魔，断一切烦恼，左手持青莲花，花上有金刚般若经卷宝，象征所具无上智慧，坐骑为一狮子(表示智能威猛)。\\n一般称文殊师利菩萨，与普贤菩萨同为释迦佛之胁侍，分别表示佛智、佛慧之别德。所乘之狮子，象征其威猛。",null,null,"眩晕 追技 减怒","<color=#2C8B1C>六星：</color>释放技能后回2点怒气|<color=#2C8B1C>九星：</color>释放技能眩晕概率提升至70%|<color=#2C8B1C>法宝+25：</color>释放技能后降低目标1点怒气","6#9#10",1]
[null,10023,10523,"孙悟空",1023,2023,3023,11023,50,5,5,5,2,0.8,"-2.5#-590.7","-2.5#-450",2,10,4000,600,200,200,295,"53#10000|57#10000|58#10000",30,"6#1#3#1|6#2#44#1|6#3#17#3|7#1#17#4|8#1#18#1|8#2#17#3|9#1#3#1|9#2#18#1|9#3#17#2|10#1#3#2|10#2#18#1|10#3#14#1","5#1141|5#1142|6#1141|6#1142|7#1141|7#1142|8#1141|8#1142|9#1141|9#1142|10#1141|10#1142|11#1141|11#1142","1#1#114101|1#2#114102|1#3#114103|1#3#114104|1#4#114105|1#5#114106|2#7#114107|2#8#114108|2#9#114109|2#10#114110|2#11#114111","6#90014",1,"暴力队输出",81,58,64,"孙悟空出生于娑婆世界东胜神洲傲来国花果山，自开辟以来的仙石孕育而生。仙石处于十洲三岛的祖脉上，其高围按二十四气，其上窍孔对应九宫八卦。一天仙石迸裂，产一石卵， 经风一吹，化作一石猴，石猴出世后，眼里冒出两道神光，射冲斗府，惊动的天上的玉皇大帝。之后因为成功闯入水帘洞，被花果山诸猴拜为“美猴王”。后自称“齐天大圣”，西天取经经历九九八十一难后被封为“斗战胜佛”。",null,null,"增伤 爆发 追击","<color=#2C8B1C>六星：</color>普攻后自身伤害+10%持续7回合效果可叠加|<color=#2C8B1C>九星：</color>释放技能后回2点怒气|<color=#2C8B1C>法宝+25：</color>直接伤害击杀目标追加一次普攻 （追加普攻不回怒气）","6#7#8",1]
[null,10024,10524,"姜子牙",1024,2024,3024,11024,50,5,5,5,4,0.75,"0#250","0#100",4,10,4000,600,200,200,306,"53#10000|57#10000|58#10000",30,"6#1#3#1|6#2#34#1|6#3#17#3|7#1#17#4|8#1#18#1|8#2#17#3|9#1#3#1|9#2#18#1|9#3#17#2|10#1#3#2|10#2#18#1|10#3#14#1","5#1421|5#1422|6#1421|6#1422|7#1421|7#1422|8#1421|8#1422|9#1421|9#1422|10#1421|10#1422|11#1421|11#1422","1#1#142101|1#2#142102|1#3#142103|1#3#142104|1#4#142105|1#5#142106|2#7#142107|2#8#142108|2#9#142109|2#10#142110|2#11#142111","6#90042",3,"减怒队辅助",55,60,69,"姜子牙是昆仑山玉虚宫元始天尊门下的阐教弟子之一，后被派下山辅佐明君周武王姬发反商伐纣，代理封神，推翻恶君商纣王后，奉法旨敕封三百六十五路正神，自己无福成正果，只能得享人间富贵。\\n姜子牙代理封神榜、执掌打神鞭，有法宝杏黄旗护体，骑着神兽坐骑四不相。封神完毕之后，元始天尊赠予姜子牙打神鞭，并特许他可云游众神部，每去一处，该部正神暂时让位，就是所谓的“太公在此，诸神回避”。",null,null,"治疗 群体 复活","<color=#2C8B1C>六星：</color>技能治疗量+25%|<color=#2C8B1C>九星：</color>死亡时释放一次技能|<color=#2C8B1C>法宝+25：</color>目标血量每减少10%对其造成治疗量增加5%","15#17",1]
[null,10025,10525,"道德天尊",1025,2025,3025,11025,50,5,5,5,2,0.65,"0#278.43","0#130",4,9,4000,600,200,200,288,"53#10000|57#10000|58#10000",30,"6#1#3#1|6#2#46#1|6#3#17#3|7#1#17#4|8#1#18#1|8#2#17#3|9#1#3#1|9#2#18#1|9#3#17#2","5#1481|5#1482|6#1481|6#1482|7#1481|7#1482|8#1481|8#1482|9#1481|9#1482|10#1481|10#1482|11#1481|11#1482","1#1#148101|1#2#148102|1#3#148103|1#3#148104|1#4#148105|1#5#148106|2#7#148107|2#8#148108|2#9#148109|2#10#148110","6#90048",1,"减怒队输出",69,54,55,"太上老君尊号：一气化三清太清居大赤天仙登太清境玄气所成日神宝君道德天尊混元上帝，简称太上老君。太上老君为道教创始人，道祖，据《史记》记载，老君又称老子，姓“李” ，名“耳”，字“伯阳”，谥号“聃”。许多道教宗师都自称得到老君显灵的启示与教诲，如汉朝的张道陵、南北朝的寇谦之等。唐朝皇室更尊奉老君为其始祖。",null,null,"追击 减怒","<color=#2C8B1C>六星：</color>追加普攻必定暴击（追加普攻不回怒气）|<color=#2C8B1C>九星：</color>释放技能后降低目标1点怒气|<color=#2C8B1C>法宝+25：</color>直接伤害击杀目标回1点怒气"]
[null,10026,10526,"东华帝君",1026,2026,3026,11026,50,5,5,5,2,1,"0#-517","0#-400",4,10,4000,600,200,200,356,"53#10000|57#10000|58#10000",30,"6#1#3#1|6#2#47#1|6#3#17#3|7#1#17#4|8#1#18#1|8#2#17#3|9#1#3#1|9#2#18#1|9#3#17#2|10#1#3#2|10#2#18#1|10#3#14#1","5#1411|5#1412|6#1411|6#1412|7#1411|7#1412|8#1411|8#1412|9#1411|9#1412|10#1411|10#1412|11#1411|11#1412","1#1#141101|1#2#141102|1#3#141103|1#3#141104|1#4#141105|1#5#141106|2#7#141107|2#8#141108|2#9#141109|2#10#141110|2#11#141111","6#90041",3,"减怒队输出",55,66,69,"东华帝君管理一切登仙得道的男子，掌管仙籍。\\n东荒山中有大石室，东王公居焉。长一丈，头发皓白，人形鸟面而虎尾，载一黑熊，左右顾望。恒与一玉女投壶，每投千二百矫，设有入不出者，天为之嘘；矫出而脱悟不接者，天为之笑。\\n——《东荒经》",null,null,"群体 减怒 追加","<color=#2C8B1C>六星：</color>技能目标每减少一个技能伤害增加15%|<color=#2C8B1C>九星：</color>技能释放后降低目标1点怒气|<color=#2C8B1C>法宝+25：</color>直接伤害击杀目标回2点怒气","15#17",1]
[null,10027,10527,"孟婆",1027,2027,3027,11027,50,5,5,5,3,0.3,"105#226","105#126",4,9,4000,600,200,200,305,"53#10000|57#10000|58#10000",30,"6#1#3#1|6#2#48#1|6#3#17#3|7#1#17#4|8#1#18#1|8#2#17#3|9#1#3#1|9#2#18#1|9#3#17#2","5#1501|5#1502|6#1501|6#1502|7#1501|7#1502|8#1501|8#1502|9#1501|9#1502|10#1501|10#1502|11#1501|11#1502","1#1#150101|1#2#150102|1#3#150103|1#3#150104|1#4#150105|1#5#150106|2#7#150107|2#8#150108|2#9#150109|2#10#150110","6#90050",4,"减怒队控制",55,70,69,"孟婆从三界分开时便已在世上，她本为天界的一个散官。后因看到世人恩怨情仇无数，即便死了也不肯放下，就来到了阴曹地府的忘川河边，在奈何桥的桥头立起一口大锅，将世人放不下的思绪炼化成了孟婆汤让阴魂喝下，便忘记了生前的爱恨情仇，卸下了生前的包袱，走入下一个轮回。",null,null,"沉默 减怒","<color=#2C8B1C>六星：</color>普通攻击降低目标1点怒气|<color=#2C8B1C>九星：</color>普攻后额外回1点怒气|<color=#2C8B1C>法宝+25：</color>释放技能后降低目标1点怒气"]
[null,10028,10528,"石矶娘娘",1028,2028,3028,11028,50,5,5,5,2,0.6,"-60#360","-60#200",3,9,4000,600,200,200,284,"53#10000|57#10000|58#10000",30,"6#1#3#1|6#2#49#1|6#3#17#3|7#1#17#4|8#1#18#1|8#2#17#3|9#1#3#1|9#2#18#1|9#3#17#2","5#1111|5#1112|6#1111|6#1112|7#1111|7#1112|8#1111|8#1112|9#1111|9#1112|10#1111|10#1112|11#1111|11#1112","1#1#111101|1#2#111102|1#3#111103|1#3#111104|1#4#111105|1#5#111106|2#7#111107|2#8#111108|2#9#111109|2#10#111110","6#90011",3,"永动队输出",69,61,55,"石矶娘娘住在骷髅山白骨洞，是得道数万年的妖仙，原形为石头，玄黄时期诞生，其为截教通天教主的徒弟，武器为太阿剑、八卦云光帕（可召唤黄巾力士）、八卦龙须帕，座骑是青鸾，座下弟子碧云童子和彩云童子。石矶娘娘为被哪吒射死的徒弟之一报仇，被太乙真人用九龙神火罩烧死。后被计入封神榜，被姜子牙封为“月游星”。",null,null,"回血 增伤 回怒","<color=#2C8B1C>六星：</color>战斗第一回合伤害+50%|<color=#2C8B1C>九星：</color>直接伤害击杀目标回复生命上限10%|<color=#2C8B1C>法宝+25：</color>技能目标每减少一个伤害+10%"]
[null,10029,10529,"月光菩萨",1029,2029,3029,11029,50,5,5,5,3,0.8,"0#185","0#85",2,9,4000,600,200,200,312,"53#10000|57#10000|58#10000",30,"6#1#3#1|6#2#50#1|6#3#17#3|7#1#17#4|8#1#18#1|8#2#17#3|9#1#3#1|9#2#18#1|9#3#17#2","5#1241|5#1242|6#1241|6#1242|7#1241|7#1242|8#1241|8#1242|9#1241|9#1242|10#1241|10#1242|11#1241|11#1242","1#1#124101|1#2#124102|1#3#124103|1#3#124104|1#4#124105|1#5#124106|2#7#124107|2#8#124108|2#9#124109|2#10#124110","6#90024",4,"暴力队控制",60,65,57,"《觉禅钞》曾引《药师经疏》卷一而言，过去世电光如来时，有一梵士医王，养育日照、月照二子，发心愿利乐众生，二子亦发愿供养。梵士医王即今之药师如来，二子即日光、月光二菩萨。依《药师仪轨布坛法》所载，月光菩萨身呈白色，手持月轮，坐鹅座上；但此像与历代相传者颇为不同，历来所造皆为立像，而月光菩萨即立于药师如来之右侧。如同日光菩萨一样，月光菩萨与观世音菩萨的大悲咒也有密切的关系。凡是至心持诵大悲咒的修行者，月光菩萨也会与无量神人来增益其持咒效验。修行者在持诵大悲咒过后，如果能再加诵月光菩萨陀罗尼，则月光菩萨当会来加庇护，使持咒者除去一切障难与病痛，并成就一切善法、远离各种怖畏。",null,null,"眩晕 减怒 回怒","<color=#2C8B1C>六星：</color>普攻后回1点怒气|<color=#2C8B1C>九星：</color>释放技能后降低目标1点怒气|<color=#2C8B1C>法宝+25：</color>眩晕率提升至65%"]
[null,10030,10530,"梵天",1030,2030,3030,11030,50,5,5,5,3,0.65,"35#300","35#150",2,9,4000,600,200,200,289,"53#10000|57#10000|58#10000",30,"6#1#3#1|6#2#51#1|6#3#17#3|7#1#17#4|8#1#18#1|8#2#17#3|9#1#3#1|9#2#18#1|9#3#17#2","5#1251|5#1252|6#1251|6#1252|7#1251|7#1252|8#1251|8#1252|9#1251|9#1252|10#1251|10#1252|11#1251|11#1252","1#1#125101|1#2#125102|1#3#125103|1#3#125104|1#4#125105|1#5#125106|2#7#125107|2#8#125108|2#9#125109|2#10#125110","6#90025",3,"暴力队控制",54,68,69,"梵天，是指印度教的创造之神。梵天亦称造书天、婆罗贺摩天、净天，华人地区俗称四面佛（印度佛教中的大梵天王诸神众，特指色界初禅天之主，又称大梵天王），是印度婆罗门教的创造之神，梵文字母的创制者。与毗湿奴、湿婆并称三主神。",null,null,"眩晕 减怒","<color=#2C8B1C>六星：</color>普攻后降低目标1点怒气|<color=#2C8B1C>九星：</color>释放技能后减低目标1点怒气|<color=#2C8B1C>法宝+25：</color>释放技能后额外回1点怒气"]
[null,10031,10531,"红孩儿",1031,2031,3031,11031,50,5,5,5,2,0.8,"-54.62#300","-54.62#200",3,9,4000,600,200,200,300,"53#10000|57#10000|58#10000",30,"6#1#3#1|6#2#52#1|6#3#17#3|7#1#17#4|8#1#18#1|8#2#17#3|9#1#3#1|9#2#18#1|9#3#17#2","5#1101|5#1102|6#1101|6#1102|7#1101|7#1102|8#1101|8#1102|9#1101|9#1102|10#1101|10#1102|11#1101|11#1102","1#1#110101|1#2#110102|1#3#110103|1#3#110104|1#4#110105|1#5#110106|2#7#110107|2#8#110108|2#9#110109|2#10#110110","6#90010",1,"永动队输出",55,59,69,"红孩儿出生于魔道，自幼起就上山学道，在火焰山修炼后得道，得到了三昧真火的法力，具有三百年的道行和功力，同时也有三百多岁的岁数，但他的外形依旧是个婴孩般的模样，心性亦如孩童一般，喜欢赤身赤脚。\\n他听说吃了唐僧的肉就能长生不老，便变作一个赤条条的男孩儿吊在树上引唐僧师徒搭救，趁机兴风抓走唐僧。孙悟空鏖战不敌，请来观音后收伏红孩儿为门下弟子，封为善财童子。",null,null,"追击 必暴","<color=#2C8B1C>六星：</color>追加普攻必定暴击 （追加普攻不回怒气）|<color=#2C8B1C>九星：</color>直接伤害击杀目标追加一次普攻 （追加普攻不回怒气）|<color=#2C8B1C>法宝+25：</color>直接伤害击杀目标回1点怒气"]
[null,10032,10513,"吴刚",1032,2032,3032,11032,50,5,5,5,2,0.8,"-50#180","-31#160",1,9,4000,600,200,200,355,"53#10000|57#10000|58#10000",30,"6#1#3#1|6#2#53#1|6#3#17#3|7#1#17#4|8#1#18#1|8#2#17#3|9#1#3#1|9#2#18#1|9#3#17#2","5#1361|5#1362|6#1361|6#1362|7#1361|7#1362|8#1361|8#1362|9#1361|9#1362|10#1361|10#1362|11#1361|11#1362","1#1#136101|1#2#136102|1#3#136103|1#3#136104|1#4#136105|1#5#136106|2#7#136107|2#8#136108|2#9#136109|2#10#136110","6#90036",3,"灼烧队输出",69,61,55,"传说月亮里有一棵高五百丈的桂树。汉朝时有个叫吴刚的人，学仙过程中有过错，因此天帝龙颜大怒，把他拘留在月宫，令他在月宫伐桂树，并说：“如果你砍倒桂树，就可获仙术。”但吴刚每砍一斧，斧起而树创伤就马上愈合。日复一日，吴刚伐桂的愿望仍未达成。因此吴刚在月宫常年伐桂，始终砍不倒这棵树。",null,null,"增伤 回怒","<color=#2C8B1C>六星：</color>普攻对灼烧目标伤害额外增加80%|<color=#2C8B1C>九星：</color>释放技能后回1点怒气|<color=#2C8B1C>法宝+25：</color>直接伤害击杀灼烧目标回50%生命"]
[null,10033,10533,"净光天女",1033,2033,3033,11033,50,5,5,5,4,0.75,"-30#340","-30#200",2,10,4000,600,200,200,308,"53#10000|57#10000|58#10000",30,"6#1#3#1|6#2#43#1|6#3#17#3|7#1#17#4|8#1#18#1|8#2#17#3|9#1#3#1|9#2#18#1|9#3#17#2|10#1#3#2|10#2#18#1|10#3#14#1","5#1191|5#1192|6#1191|6#1192|7#1191|7#1192|8#1191|8#1192|9#1191|9#1192|10#1191|10#1192|11#1191|11#1192","1#1#119101|1#2#119102|1#3#119103|1#3#119104|1#4#119105|1#5#119106|2#7#119107|2#8#119108|2#9#119109|2#10#119110|2#11#119111","6#90019",4,"暴力队辅助",60,64,58,"净光天女曾在灯佛那里听过大涅盘经，由此因缘释迦佛在世时生为净光天女，再次听闻佛法深义。/n后世舍天身生为女人成为国王，得到转轮王统领疆土的四分之一，得大自在，受持五戒，成为优婆夷，教化所属的城乡男女老少受持五戒、守护正法，摧伏外道的各种邪见异见，作菩萨事业。",null,null,"治疗 光环 回怒","<color=#2C8B1C>六星：</color>全体免伤+20%|<color=#2C8B1C>九星：</color>技能伤害50%治疗己方生命最低队友|<color=#2C8B1C>法宝+25：</color>释放技能后全体回1点怒气","8#9#10",1]
[null,10034,10534,"帝释天",1034,2034,3034,11034,50,5,5,5,2,0.25,"0#400","0#300",2,9,4000,600,200,200,321,"53#10000|57#10000|58#10000",30,"6#1#3#1|6#2#55#1|6#3#17#3|7#1#17#4|8#1#18#1|8#2#17#3|9#1#3#1|9#2#18#1|9#3#17#2","5#1221|5#1222|6#1221|6#1222|7#1221|7#1222|8#1221|8#1222|9#1221|9#1222|10#1221|10#1222|11#1221|11#1222","1#1#122101|1#2#122102|1#3#122103|1#3#122104|1#4#122105|1#5#122106|2#7#122107|2#8#122108|2#9#122109|2#10#122110","6#90022",3,"暴力队输出",60,66,58,"佛经上说，释尊下生时，他化现七宝金阶，让释尊从忉利天一级一级地下来。下来时，帝释天在释尊的左前方，手执宝盖，和右前方的大梵天，一起侍候着释尊，为释尊引路。释尊成道后佛教产生，因陀罗成为释尊之守护神，称为帝释天。佛陀升于忉利天为母说法时，帝释天手持宝盖，任佛陀之侍从。",null,null,"回怒 追击","<color=#2C8B1C>六星：</color>释放技能后追加一次普攻 （追加普攻不回怒气）|<color=#2C8B1C>九星：</color>普攻伤害+50%|<color=#2C8B1C>法宝+25：</color>直接伤害击杀目标追加一次普攻 （追加普攻不回怒气）"]
[null,10035,10535,"妈祖",1035,2035,3035,11035,50,5,5,5,2,0.55,"0#150","0#120",1,9,4000,600,200,200,283,"53#10000|57#10000|58#10000",30,"6#1#3#1|6#2#56#1|6#3#17#3|7#1#17#4|8#1#18#1|8#2#17#3|9#1#3#1|9#2#18#1|9#3#17#2","5#1371|5#1372|6#1371|6#1372|7#1371|7#1372|8#1371|8#1372|9#1371|9#1372|10#1371|10#1372|11#1371|11#1372","1#1#137101|1#2#137102|1#3#137103|1#3#137104|1#4#137105|1#5#137106|2#7#137107|2#8#137108|2#9#137109|2#10#137110","6#90037",1,"灼烧队输出",69,61,55,"妈祖，以中国东南沿海为中心的海神信仰，又称天妃、天后、天上圣母、娘妈等等，是历、现代船工、海员、旅客、商人和渔民共同信奉的神祗。妈祖，原名林默，宋建隆元年（960年）农历三月二十三日诞生于莆田湄洲岛 ，因救助海难于宋太宗雍熙四年（987年）九月初九逝世。",null,null,"回怒 增伤 暴击","<color=#2C8B1C>六星：</color>技能对灼烧目标造成伤害额外增加50%|<color=#2C8B1C>九星：</color>释放技能后回1点怒气|<color=#2C8B1C>法宝+25：</color>释放技能后追加1次普攻 （追加普攻不回怒气）"]
[null,10036,10536,"赵公明",1036,2036,3036,11036,50,5,5,5,3,0.9,"50#300","50#150",1,9,4000,600,200,200,271,"53#10000|57#10000|58#10000",30,"6#1#3#1|6#2#57#1|6#3#17#3|7#1#17#4|8#1#18#1|8#2#17#3|9#1#3#1|9#2#18#1|9#3#17#2","5#1381|5#1382|6#1381|6#1382|7#1381|7#1382|8#1381|8#1382|9#1381|9#1382|10#1381|10#1382|11#1381|11#1382","1#1#138101|1#2#138102|1#3#138103|1#3#138104|1#4#138105|1#5#138106|2#7#138107|2#8#138108|2#9#138109|2#10#138110","6#90038",3,"灼烧队控制",69,60,55,"赵公明修道有成，还有三个妹妹，她们分别是云霄、琼霄与碧霄。主要法宝二十四颗定海神珠。武王克殷时，赵公明原是居于峨嵋山罗浮洞的截教高人，受殷商太师闻仲礼请，辅佐殷纣王，艺高术强，周朝阐教的仙人及将领们都不是对手，接连败阵，姜子牙只好请陆压以法术将之暗杀。\\n殷商灭亡后，赵公明被封为“金龙如意正一龙虎玄坛真君”。因赵公明部下为四名与负责财富的神，其分别是“招宝”、“纳珍”、“招财”和“利市”，而成为正财神。",null,null,"眩晕 减怒 回怒","<color=#2C8B1C>六星：</color>释放普攻后降低对方1点怒气|<color=#2C8B1C>九星：</color>释放技能后回1点怒气|<color=#2C8B1C>法宝+25：</color>普攻后额外降低目标1点怒气"]
[null,10037,10537,"罗刹",1037,2037,3037,11037,50,5,5,5,3,0.5,"0#275","0#125",4,9,4000,600,200,200,276,"53#10000|57#10000|58#10000",30,"6#1#3#1|6#2#58#1|6#3#17#3|7#1#17#4|8#1#18#1|8#2#17#3|9#1#3#1|9#2#18#1|9#3#17#2","5#1491|5#1492|6#1491|6#1492|7#1491|7#1492|8#1491|8#1492|9#1491|9#1492|10#1491|10#1492|11#1491|11#1492","1#1#149101|1#2#149102|1#3#149103|1#3#149104|1#4#149105|1#5#149106|2#7#149107|2#8#149108|2#9#149109|2#10#149110","6#90049",1,"减怒队控制",69,52,55,"罗刹为恶鬼之名。男罗刹黑身、朱发、绿眼，女罗刹则如绝美妇人，富有魅人之力，专食人之血肉。相传在楞伽岛中，即有罗刹女国。罗刹具神通力，可于空际疾飞，或速行地面，为暴恶可畏之鬼。\\n罗刹誓愿守护佛法及正法行人，往往成为佛教的守护神，而常常参与法会，随佛闻法欢喜奉行。罗刹亦为地狱之狱卒，职司呵责罪人。",null,null,"眩晕 减怒","<color=#2C8B1C>六星：</color>释放技能有80%概率附加眩晕1回合|<color=#2C8B1C>九星：</color>释放技能后降低目标2点怒气|<color=#2C8B1C>法宝+25：</color>释放技能后回1点怒气"]
[null,10038,10538,"夜叉",1038,2038,3038,11038,50,5,5,5,2,0.6,"0#245","0#145",4,9,4000,600,200,200,325,"53#10000|57#10000|58#10000",30,"6#1#3#1|6#2#59#1|6#3#17#3|7#1#17#4|8#1#18#1|8#2#17#3|9#1#3#1|9#2#18#1|9#3#17#2","5#1511|5#1512|6#1511|6#1512|7#1511|7#1512|8#1511|8#1512|9#1511|9#1512|10#1511|10#1512|11#1511|11#1512","1#1#151101|1#2#151102|1#3#151103|1#3#151104|1#4#151105|1#5#151106|2#7#151107|2#8#151108|2#9#151109|2#10#151110","6#90051",3,"减怒队输出",60,66,58,"东海龙王敖光手下的巡海夜叉是天庭钦点的水府正神，名叫“李艮”.因哪吒在九湾河边洗澡，而用法宝混天绫搅动东海海水。龙宫闹地震，老龙王派出海夜叉上岸巡视，上前查看情况时，与哪吒发生口角，二者大战，哪吒用乾坤圈把夜叉砸死，脑浆迸流而亡，夜叉被杀后魂归封神台；最终武王伐纣成功，封神大战结束后，姜子牙归国封神，将夜叉李艮册封为“大祸星”的神位后入职天宫。",null,null,"中毒 回怒","<color=#2C8B1C>六星：</color>释放技能后回1点怒气|<color=#2C8B1C>九星：</color>重度伤害由80%提升至125%|<color=#2C8B1C>法宝+25：</color>释放技能后降低目标1点怒气"]
[null,10039,10539,"普贤菩萨",1039,2039,3039,11039,50,5,5,5,2,0.7,"0#240","0#120",2,9,4000,600,200,200,285,"53#10000|57#10000|58#10000",30,"6#1#3#1|6#2#60#1|6#3#17#3|7#1#17#4|8#1#18#1|8#2#17#3|9#1#3#1|9#2#18#1|9#3#17#2","5#1231|5#1232|6#1231|6#1232|7#1231|7#1232|8#1231|8#1232|9#1231|9#1232|10#1231|10#1232|11#1231|11#1232","1#1#123101|1#2#123102|1#3#123103|1#3#123104|1#4#123105|1#5#123106|2#7#123107|2#8#123108|2#9#123109|2#10#123110","6#90023",1,"暴力队输出",69,53,55,"普贤菩萨，世称为十大愿王，《法华经》指出：只要能虔诚信奉，普贤菩萨将与诸大菩萨一起出现守护此人，使他身心安稳，不受一切烦恼魔障之侵。《普贤延命经记》指出：普贤菩萨具有延命益寿之不可思议的力量。普贤菩萨是理德和大行愿的象征，象征真理。他以智导行，以行证智，解行并进，完成求佛者的志愿，所以又称“大行普贤菩萨”。",null,null,"追击 增伤","<color=#2C8B1C>六星：</color>技能伤害+25%|<color=#2C8B1C>九星：</color>战斗第一回合伤害+50%|<color=#2C8B1C>法宝+25：</color>行动后攻击+8%"]
[null,10040,10540,"杨戬",1040,2040,3040,11040,50,5,5,5,2,0.75,"0#350","0#180",1,10,4000,600,200,200,323,"53#10000|57#10000|58#10000",30,"6#1#3#1|6#2#25#1|6#3#17#3|7#1#17#4|8#1#18#1|8#2#17#3|9#1#3#1|9#2#18#1|9#3#17#2|10#1#3#2|10#2#18#1|10#3#14#1","5#1391|5#1392|6#1391|6#1392|7#1391|7#1392|8#1391|8#1392|9#1391|9#1392|10#1391|10#1392|11#1391|11#1392","1#1#139101|1#2#139102|1#3#139103|1#3#139104|1#4#139105|1#5#139106|2#7#139107|2#8#139108|2#9#139109|2#10#139110|2#11#139111","6#90039",1,"灼烧队输出",54,62,70,"杨戬是神与人通婚的后代，他的母亲被玉帝关在桃山之下。杨戬在人间长大，自幼拜在玉泉山金霞洞玉鼎真人门下，潜心修炼。在玉鼎真人的悉心教导下，杨戬习得了远超一般的神通。后来，杨戬寻来了开山斧力劈桃山救母，其母却被玉帝迫害而死。\\n姜子牙伐纣时，二郎神随军立下了大量功劳，最后肉身成圣。",null,null,"复仇 斩杀","<color=#2C8B1C>六星：</color>技能对灼烧目标额外增加50%伤害|<color=#2C8B1C>九星：</color>技能攻击目标如在当前回合直接攻击过杨戬则本回合杨戬技能对其伤害增加30%，如目标灼烧则增加50%|<color=#2C8B1C>法宝+25：</color>释放普通攻击后如果该目标处于灼烧状态且血量低于20%将有50%概率直接秒杀目标",14,1]
[null,10041,10541,"通天教主",1041,2041,3041,11041,50,5,5,5,2,0.7,"0#-460","0#-435",4,10,4000,600,200,200,266,"53#10000|57#10000|58#10000",30,"6#1#3#1|6#2#40#1|6#3#17#3|7#1#17#4|8#1#18#1|8#2#17#3|9#1#3#1|9#2#18#1|9#3#17#2|10#1#3#2|10#2#18#1|10#3#14#1","5#1471|5#1472|6#1471|6#1472|7#1471|7#1472|8#1471|8#1472|9#1471|9#1472|10#1471|10#1472|11#1471|11#1472","1#1#147101|1#2#147102|1#3#147103|1#3#147104|1#4#147105|1#5#147106|2#7#147107|2#8#147108|2#9#147109|2#10#147110|2#11#147111","6#90047",1,"减怒队输出",54,55,69,"通天教主，为截教教主，为鸿钧道人点化收为弟子，在三友中排行第三，大师兄太上老君，二师兄元始天尊。\\n通天教主居于碧游宫，乃仙之极致，称混元大罗金仙，是为圣人。被鸿钧老祖赐下诛仙四剑及诛仙阵图，掌杀伐之事，又在分宝崖上得到混元金斗等先天灵宝。然于封神一战失势，被其师带回紫霄宫。",null,null,"中毒 减怒","<color=#2C8B1C>六星：</color>每回合中毒伤害提升至攻击力的160%|<color=#2C8B1C>九星：</color>受到普攻有50%概率使攻击者中毒|<color=#2C8B1C>法宝+25：</color>释放技能附加中毒效果提升至96%","15#17#18",1]
[null,10042,10542,"九天玄女",1042,2042,3042,11042,50,5,5,5,4,0.6,"45#245","45#145",4,10,4000,600,200,200,388,"53#10000|57#10000|58#10000",30,"6#1#3#1|6#2#63#1|6#3#17#3|7#1#17#4|8#1#18#1|8#2#17#3|9#1#3#1|9#2#18#1|9#3#17#2|10#1#3#2|10#2#18#1|10#3#14#1","5#1441|5#1442|6#1441|6#1442|7#1441|7#1442|8#1441|8#1442|9#1441|9#1442|10#1441|10#1442|11#1441|11#1442","1#1#144101|1#2#144102|1#3#144103|1#3#144104|1#4#144105|1#5#144106|2#7#144107|2#8#144108|2#9#144109|2#10#144110|2#11#144111","6#90044",4,"减怒队辅助",55,69,70,"九天玄女，简称玄女，俗称九天娘娘、玄牝氏、九天玄女娘娘、九天玄母天尊、九天玄阳元女圣母大帝玄牝氏。原是中国上古神话中的传授过兵法的女神，后经道教奉为高阶女仙与术数神。 \\n恭行天律，部领雷兵。如有下界精邪，北阴午酉，出没岩穴，蟠踞山林，窥阚家庭，损伤人命，神威所到，一切扫除，福佑生人，肃清魔魅。",null,null,"减怒 回怒","<color=#2C8B1C>六星：</color>释放技能后降低目标1点怒气|<color=#2C8B1C>九星：</color>释放技能后回复全体1点怒气|<color=#2C8B1C>法宝+25：</color>释放技能后额外回复自身1点怒气","15#17#19",1]
[null,10043,10543,"太阴星君",1043,2043,3043,11043,50,5,5,5,4,0.75,"54#-632","54#-500",4,10,4000,600,200,200,354,"53#10000|57#10000|58#10000",30,"6#1#3#1|6#2#47#1|6#3#17#3|7#1#17#4|8#1#18#1|8#2#17#3|9#1#3#1|9#2#18#1|9#3#17#2|10#1#3#2|10#2#18#1|10#3#14#1","5#1451|5#1452|6#1451|6#1452|7#1451|7#1452|8#1451|8#1452|9#1451|9#1452|10#1451|10#1452|11#1451|11#1452","1#1#145101|1#2#145102|1#3#145103|1#3#145104|1#4#145105|1#5#145106|2#7#145107|2#8#145108|2#9#145109|2#10#145110|2#11#145111","6#90045",3,"减怒队辅助",60,69,57,"骊山老母乃斗姥所化，为上八洞古仙女也。斗姥者，乃先天元始阴神，因其形相象征道体，故又称先天道姥天尊。斗姥上灵光圆大天宝月，号曰九灵太妙中天梵斗姥元君，因沐浴於九曲华池中，涌出白玉龟台、神獬宝座，斗姥登宝座之上，放无极光明，化生九苞金莲，应现九皇道体，为北斗众星之母，综领七元星君、功沾三界，德润群生，故又称无极大天尊。\\n她在唐僧师徒的取经路上，伙同观音、文殊、普贤几位菩萨弄了个莫家庄出来，自己扮寡妇妈妈贾莫氏，三位菩萨则化作三个美貌的女儿真真、爱爱、怜怜，把猪八戒迷得七荤八素，把唐长老调戏得面红耳赤。",null,null,"治疗 减怒 回怒","<color=#2C8B1C>六星：</color>普攻后降低目标1点怒气|<color=#2C8B1C>九星：</color>全体神将攻击+20%|<color=#2C8B1C>法宝+25：</color>技能伤害50%治疗己方生命最少队友",15,1]
[null,10044,10544,"混世魔王",1044,2044,3044,11044,50,5,5,5,2,0.6,"-48.17#367.57","-48.17#180",3,9,4000,600,200,200,268,"53#10000|57#10000|58#10000",30,"6#1#3#1|6#2#65#1|6#3#17#3|7#1#17#4|8#1#18#1|8#2#17#3|9#1#3#1|9#2#18#1|9#3#17#2","5#1091|5#1092|6#1091|6#1092|7#1091|7#1092|8#1091|8#1092|9#1091|9#1092|10#1091|10#1092|11#1091|11#1092","1#1#109101|1#2#109102|1#3#109103|1#3#109104|1#4#109105|1#5#109106|2#7#109107|2#8#109108|2#9#109109|2#10#109110","6#90009",1,"永动队输出",69,51,55,"混世魔王，《西游记》中的角色。长的“ 头戴乌金盔，映日光明；身挂皂罗袍，迎风飘荡。下穿着黑铁甲，紧勒皮条；足踏着花褶靴，雄如上将。腰广十围，身高三丈”，手持一把大刀。混世魔王原居坎源山水脏洞，趁孙悟空不在时抓走许多小猴子，险些霸占水帘洞，但后来被学艺归来的孙悟空用法术身外身法击败，然后孙悟空夺过他的大刀照顶门将他砍为两段。",null,null,"回怒 必暴","<color=#2C8B1C>六星：</color>战斗第一回合造成伤害必定暴击|<color=#2C8B1C>九星：</color>直接伤害每击杀一个目标暴击率+20%可叠加持续至战斗结束|<color=#2C8B1C>法宝+25：</color>技能伤害+25%"]
[null,10045,10505,"百花仙子",1045,2045,3045,11045,50,5,5,5,4,0.55,"40#200","0#150",3,9,4000,600,200,200,276,"53#10000|57#10000|58#10000",30,"6#1#3#1|6#2#66#1|6#3#17#3|7#1#17#4|8#1#18#1|8#2#17#3|9#1#3#1|9#2#18#1|9#3#17#2","5#1121|5#1122|6#1121|6#1122|7#1121|7#1122|8#1121|8#1122|9#1121|9#1122|10#1121|10#1122|11#1121|11#1122","1#1#112101|1#2#112102|1#3#112103|1#3#112104|1#4#112105|1#5#112106|2#7#112107|2#8#112108|2#9#112109|2#10#112110","6#90012",3,"永动队辅助",55,67,69,"百花仙子是古代中国神话传说中的一个神仙，她担任的是最美丽的任务，管理天上人间的花卉，并统领百花之主。负责百花的开放，衰败，颜色，香味，生长地点，各类百花相关事务。《镜花缘》里称她的名字是“唐闺臣”。后因人间帝王武则天之令，百花在寒冬齐放而被玉帝贬至凡间，经历数次劫难后，终重修正果，回返天庭。主要故事出现在小说《镜花缘》以及戏曲《天女散花》中。",null,null,"治疗 回怒","<color=#2C8B1C>六星：</color>释放技能后全体回1点怒气|<color=#2C8B1C>九星：</color>释放技能后回1点怒气|<color=#2C8B1C>法宝+25：</color>技能直接伤害50%治疗己方生命最低队友"]
[null,10046,10546,"女英",1046,2046,3046,11046,50,5,5,5,4,0.8,"55#280","55#150",1,9,4000,600,200,200,378,"53#10000|57#10000|58#10000",30,"6#1#3#1|6#2#67#1|6#3#17#3|7#1#17#4|8#1#18#1|8#2#17#3|9#1#3#1|9#2#18#1|9#3#17#2","5#1351|5#1352|6#1351|6#1352|7#1351|7#1352|8#1351|8#1352|9#1351|9#1352|10#1351|10#1352|11#1351|11#1352","1#1#135101|1#2#135102|1#3#135103|1#3#135104|1#4#135105|1#5#135106|2#7#135107|2#8#135108|2#9#135109|2#10#135110","6#90035",1,"灼烧队辅助",69,64,55,"女英是尧的女儿，和姐姐娥皇一同嫁给了舜。两人帮助舜多次躲过后母的迫害，并最终成为部落的首领。后来尧帝了解了舜的贤能，将王位禅让给舜。数十年后，舜禅让给禹，娥皇女英也随着尧避位南巡。最终舜死在了极南的苍梧之野，娥皇女英在湘江边落泪，化为了湘江竹。\\n“舜陟方，死于苍梧，二妃死于江、湘之闲，俗谓之湘君、湘夫人也。”\\n——《列女传》",null,null,"前排 点火辅助","<color=#2C8B1C>六星：</color>技能攻击目标灼烧概率提升至96%|<color=#2C8B1C>九星：</color>普攻80%概率给目标附加灼烧状态2回合|<color=#2C8B1C>法宝+25：</color>受到普通攻击有50%概率使攻击者灼烧2回合"]
[null,10047,10547,"大火妖",1047,2047,3047,11047,20,3,3,3,2,0.4,"0#200","0#150",3,3,2400,360,120,120,280,"53#10000|57#10000|58#10000",30,"","3#100471|3#100472",null,null,4,"输出",82,58,65,"火焰山中土生土长的小妖，喜欢群聚而行。其中大火妖是这些小妖的头头。"]
[null,10048,10548,"雪女",1048,2048,3048,11048,20,3,3,3,2,0.5,"44.4#226.5","44.4#100",3,3,2400,360,120,120,326,"53#10000|57#10000|58#10000",30,"","3#100481|3#100482",null,null,4,"输出",54,59,47,"雪女集天地灵气而复生，不死不灭，游荡在各处观察着人世。"]
[null,10049,10549,"娜迦王",1049,2049,3049,11049,20,3,3,3,2,0.35,"0#200","0#150",2,3,2400,360,120,120,378,"53#10000|57#10000|58#10000",30,"","3#100491|3#100492",null,null,4,"输出",35,57,36,"娜迦是天龙八部之一， 其中娜迦王统领整个娜迦族。"]
[null,10050,10550,"摩呼",1050,2050,3050,11050,20,3,3,3,2,0.4,"0#200","0#150",2,3,2400,360,120,120,264,"53#10000|57#10000|58#10000",30,"","3#100501|3#100502",null,null,4,"输出",38,52,42,"摩呼是天龙八部之一，全称为摩呼罗迦。"]
[null,10051,10551,"半仙",1051,2051,3051,11051,20,3,3,3,2,0.4,"0#200","0#150",1,3,2400,360,120,120,343,"53#10000|57#10000|58#10000",30,"","3#100511|3#100512",null,null,4,"输出",51,68,48,"修道之人，因为道行深厚被尊称为半仙。"]
[null,10052,10552,"荷莲",1052,2052,3052,11052,20,3,3,3,2,0.45,"0#150","0#80",1,3,2400,360,120,120,396,"53#10000|57#10000|58#10000",30,"","3#100521|3#100522",null,null,4,"输出",47,72,46,"被人使御用来给人下咒的稻草人。"]
[null,10053,10547,"鬼差头子",1053,2053,3053,11053,20,3,3,3,2,0.4,"0#200","0#150",4,3,2400,360,120,120,280,"53#10000|57#10000|58#10000",30,"","3#100531|3#100532",null,null,4,"输出",82,58,65,"阴曹地府里鬼差的职责是抓捕恶鬼，其中鬼差头子是鬼差的首领。"]
[null,10054,10548,"仙灵",1054,2054,3054,11054,20,3,3,3,2,0.5,"0#200","0#150",4,3,2400,360,120,120,326,"53#10000|57#10000|58#10000",30,"","3#100541|3#100542",null,null,4,"输出",54,59,47,"传达上天诏谕的使者。"]
[null,10057,10551,"聂小倩",1057,2057,3057,11057,30,4,4,4,2,0.75,"9.4#268","9.4#120",3,5,3000,450,150,150,343,"53#10000|57#10000|58#10000",30,"5#1#2#2|5#2#16#5|5#3#15#4","4#100571|4#100572|5#100571|5#100572","1#13#10057101|1#14#10057102|1#15#10057103|1#15#10057104|1#16#10057105|1#17#10057106",null,4,"永动队输出",51,68,48,"聂小倩是一个美貌的女鬼，生前只活到十八岁，死后葬在浙江金华城北的荒凉古寺旁，不幸被妖怪夜叉胁迫害人。后浙江人宁采臣暂居寺院，小倩受妖怪指使，前来谋害，却被采臣的正气打动，便以实相告，助采臣转危为安。",null,null,"前排 回怒"]
[null,10058,10552,"九婴",1058,2058,3058,11058,30,4,4,4,4,0.65,"0#289","0#130",3,5,3000,450,150,150,396,"53#10000|57#10000|58#10000",30,"5#1#2#2|5#2#16#5|5#3#15#4","4#100581|4#100582|5#100581|5#100582","1#13#10058101|1#14#10058102|1#15#10058103|1#15#10058104|1#16#10058105|1#17#10058106",null,4,"永动队辅助",47,72,46,"九婴是古代中国神话传说中的凶兽之一。出自《淮南子·本经训》。它是水火之怪，能喷水吐火，它的叫声如婴儿啼哭，有九头，故称九婴。尧时出，作害人间，被羿射杀于北狄凶水之中。\\n北方有一条大河，水深千丈，波浪汹涌，人称凶水。凶水中有一只九头怪物，名叫九婴，既能喷水，又能喷火。十日并出时，凶水也沸腾了，九婴嫌水中太热，就跳上岸来，见人就吃，吃的时候，必须有9样食品同时供它吃，因此成为大羿第3个斩杀目标。",null,null,"纵排 输出"]
[null,10059,10547,"怨鬼灵",1059,2059,3059,11059,30,4,4,4,4,0.95,"34#267","34#130",3,5,3000,450,150,150,280,"53#10000|57#10000|58#10000",30,"5#1#2#2|5#2#16#5|5#3#15#4","4#100591|4#100592|5#100591|5#100592","1#13#10059101|1#14#10059102|1#15#10059103|1#15#10059104|1#16#10059105|1#17#10059106",null,4,"永动队辅助",82,58,65,"幽灵指的是人或其他生物离世之后，由灵魂所化的生物，是一种架空的生命存在形式。怨灵鬼生前带有怨恨，随后化为了怨灵鬼。",null,null,"随机 输出"]
[null,10060,10548,"幽魂姬",1060,2060,3060,11060,30,4,4,4,4,0.9,"37.7#168.9","37.7#50",3,5,3000,450,150,150,326,"53#10000|57#10000|58#10000",30,"5#1#2#2|5#2#16#5|5#3#15#4","4#100601|4#100602|5#100601|5#100602","1#13#10060101|1#14#10060102|1#15#10060103|1#15#10060104|1#16#10060105|1#17#10060106",null,4,"永动队辅助",54,59,47,"因为意外而离世的某位公主，没有人知道她的具体身份，只有各种纷乱的传言。",null,null,"单体 治疗"]
[null,10061,10549,"地藏",1061,2061,3061,11061,30,4,4,4,2,0.7,"40#297","40#150",2,5,3000,450,150,150,378,"53#10000|57#10000|58#10000",30,"5#1#2#2|5#2#16#5|5#3#15#4","4#100611|4#100612|5#100611|5#100612","1#13#10061101|1#14#10061102|1#15#10061103|1#15#10061104|1#16#10061105|1#17#10061106",null,4,"暴力队输出",35,57,36,"地藏菩萨，因其“安忍不动，犹如大地，静虑深密，犹如秘藏”，所以得名。佛典载，地藏菩萨在过去世中，曾经几度救出自己在地狱受苦的母亲；并在久远劫以来就不断发愿要救度一切罪苦众生尤其是地狱众生。所以这位菩萨同时以“大孝”和“大愿”的德业被佛教广为弘传。也因此被普遍尊称为“大愿地藏王菩萨”，并且成为了汉传佛教的四大菩萨之一。",null,null,"单体 输出"]
[null,10062,10550,"迦楼罗",1062,2062,3062,11062,30,4,4,4,2,0.7,"0#262","0#120",2,5,3000,450,150,150,264,"53#10000|57#10000|58#10000",30,"5#1#2#2|5#2#16#5|5#3#15#4","4#100621|4#100622|5#100621|5#100622","1#13#10062101|1#14#10062102|1#15#10062103|1#15#10062104|1#16#10062105|1#17#10062106",null,4,"暴力队输出",38,52,42,"迦楼罗是护持佛的天龙八部之一，有种种庄严宝像，金身，头生如意珠，鸣声悲苦，每天吞食一条娜迦和五百条毒蛇，随着体内毒气聚集，迦楼罗最后无法进食，上下翻飞七次后，飞往金刚轮山，毒气发作，全身自焚，只剩一个纯青琉璃心。",null,null,"纵排 眩晕"]
[null,10063,10551,"伽罗尊者",1063,2063,3063,11063,30,4,4,4,2,0.35,"48.64#271.8","48.64#140",2,5,3000,450,150,150,343,"53#10000|57#10000|58#10000",30,"5#1#2#2|5#2#16#5|5#3#15#4","4#100631|4#100632|5#100631|5#100632","1#13#10063101|1#14#10063102|1#15#10063103|1#15#10063104|1#16#10063105|1#17#10063106",null,4,"暴力队输出",51,68,48,"迦罗加伐蹉尊者的标志念珠串，据说是尊者到龙国化缘时，龙送给他的礼物。到了龙国后，尊者使众多的龙皈依了佛法。通过尊者的说法，很多的愿意为了所有的众生有情而进故佛籍成为僧人。龙送给尊者一串用宝石镶成的项链，用它可以满足各种愿望。尊者收下了项链，进行加持后作为自己的标志。",null,null,"纵排 增伤"]
[null,10064,10552,"阿修罗",1064,2064,3064,11064,30,4,4,4,3,0.65,"19#194","19#80",2,5,3000,450,150,150,396,"53#10000|57#10000|58#10000",30,"5#1#2#2|5#2#16#5|5#3#15#4","4#100641|4#100642|5#100641|5#100642","1#13#10064101|1#14#10064102|1#15#10064103|1#15#10064104|1#16#10064105|1#17#10064106",null,4,"暴力队控制",47,72,46,"阿修罗原是印度远古诸神之一，被视为恶神，属于凶猛好斗的鬼神，经常与帝释天争斗不休。如同阿修罗的梵文翻译意指「非天」，他的果报殊胜，能生活得犹如天人般享福，但却没有天人的德性，性好争斗。阿修罗另被称为不饮酒神，则有段典故。据说居住在海底的阿修罗原本是很爱喝酒的，但是因为他喝的是由海水酿成的酒，总是味道咸苦，所以一气之下就发誓再也不喝酒。",null,null,"单体 回怒"]
[null,10065,10552,"木吒",1065,2065,3065,11065,30,4,4,4,4,0.6,"17#168","17#80",1,5,3000,450,150,150,396,"53#10000|57#10000|58#10000",30,"5#1#2#2|5#2#16#5|5#3#15#4","4#100651|4#100652|5#100651|5#100652","1#13#10065101|1#14#10065102|1#15#10065103|1#15#10065104|1#16#10065105|1#17#10065106",null,4,"灼烧队辅助",47,72,46,"木吒拜昆仑阐教十二仙中的普贤真人为师，为玉虚仙派第三代传人之一，有师传的镇洞之宝“吴钩剑”，可在阵前斩人。也是辅佐姜子牙的武将之一，曾下山助武王伐纣，打仗杀敌有功，推翻了殷商王朝，封神榜上无名，最终肉身成圣。",null,null,"单体 灼烧"]
[null,10066,10552,"孟姜女",1066,2066,3066,11066,30,4,4,4,2,0.7,"0#189","0#89",1,5,3000,450,150,150,396,"53#10000|57#10000|58#10000",30,"5#1#2#2|5#2#16#5|5#3#15#4","4#100661|4#100662|5#100661|5#100662","1#13#10066101|1#14#10066102|1#15#10066103|1#15#10066104|1#16#10066105|1#17#10066106",null,4,"灼烧队输出",47,72,46,"相传秦始皇建长城时，劳役繁重，青年男女（范喜良）、孟姜女新婚三天，新郎就被迫出发修筑长城，不久因饥寒劳累而死，尸骨被埋在长城墙下。孟姜女身背寒衣，历尽艰辛，万里寻夫来到长城边，得到的却是丈夫死亡的噩耗。她痛哭城下，七天七夜不止，这段长城就此坍塌，露出范喜良尸骸，孟姜女安葬范喜良后于绝望之中投海而亡。",null,null,"单体 输出"]
[null,10067,10552,"梦蝶",1067,2067,3067,11067,30,4,4,4,4,0.6,"25.6#368","25.6#200",1,5,3000,450,150,150,396,"53#10000|57#10000|58#10000",30,"5#1#2#2|5#2#16#5|5#3#15#4","4#100671|4#100672|5#100671|5#100672","1#13#10067101|1#14#10067102|1#15#10067103|1#15#10067104|1#16#10067105|1#17#10067106",null,4,"灼烧队辅助",47,72,46,"庄周梦见自己变成一只蝴蝶，飘飘荡荡，十分轻松惬意。他这时完全忘记了自己原本是庄周。\\n过一会儿，他醒来了，惊惶不定之间，对自己还是庄周感到十分惊奇疑惑。他认真地想了又想，不知道是庄周做梦变成蝴蝶呢，还是蝴蝶做梦变成了庄周。",null,null,"随机 灼烧"]
[null,10068,10552,"金吒",1068,2068,3068,11068,30,4,4,4,4,1.2,"34.6#-270","34.6#-270",1,5,3000,450,150,150,396,"53#10000|57#10000|58#10000",30,"5#1#2#2|5#2#16#5|5#3#15#4","4#100681|4#100682|5#100681|5#100682","1#13#10068101|1#14#10068102|1#15#10068103|1#15#10068104|1#16#10068105|1#17#10068106",null,4,"灼烧队辅助",47,72,46,"金吒是玉虚仙派的三代传人，助周伐纣的阐教弟子之一，玉虚十二仙之中文殊广法天尊的爱徒，修行于五龙山云霄洞，有师传法宝“遁龙桩”，又叫七宝金莲，乃云霄洞的镇洞之宝，设有三个铁圈的金色柱子，可阵前锁人。与师父一起斩杀九龙岛四圣之一王魔，后独自斩杨森，还曾智取游魂关，擒杀守将窦荣，常随军征战，屡有表现，多次在一旁协助姜子牙打仗杀敌立功，之后成功推翻殷商，辅佐武王大军消灭了恶君纣王，最终成为肉身成圣的七人之一。",null,null,"随机 麻痹"]
[null,10069,10552,"火德星君",1069,2069,3069,11069,30,4,4,4,2,0.75,"32.6#232","32.6#100",4,5,3000,450,150,150,396,"53#10000|57#10000|58#10000",30,"5#1#2#2|5#2#16#5|5#3#15#4","4#100691|4#100692|5#100691|5#100692","1#13#10069101|1#14#10069102|1#15#10069103|1#15#10069104|1#16#10069105|1#17#10069106",null,4,"减怒队输出",47,72,46,"火德星君，为炎帝神农氏之灵，祀之为火神，以禳火灾。\\n南方火德星君，主长养万物，烛幽洞微，如世人运炁逢遇，多有灾厄疾病之尤，宜弘善以迎之。其真君，戴星冠，蹑朱履，衣朱霞寿鹤之衣，手执玉简，悬七星金剑，垂白玉环佩。宜图形供养，以异花珍果，浄水名香，灯烛清醴，虔心瞻敬，至心而咒曰：\\n火星真君，主张诸恶。去邪护真，慎勿交错。",null,null,"前排 增伤"]
[null,10070,10552,"水德星君",1070,2070,3070,11070,30,4,4,4,2,0.25,"0#286","0#130",4,5,3000,450,150,150,396,"53#10000|57#10000|58#10000",30,"5#1#2#2|5#2#16#5|5#3#15#4","4#100701|4#100702|5#100701|5#100702","1#13#10070101|1#14#10070102|1#15#10070103|1#15#10070104|1#16#10070105|1#17#10070106",null,4,"减怒队输出",47,72,46,"水德星君又称水神，中国民间信奉的神仙之一。《太上洞真五星秘授经》则径直以木、金、火、水、土称五星君，并对水德星君的服饰、职掌作了如下描述：“北方水德真君，通利万物，含真娠灵，如世人运气逢遇，多有种劾掠之苦。宜弘善以迎之。”在古代中国神话系统中，水神是传承最广影响最大的神祇。",null,null,"单体 输出"]
[null,10071,10552,"九河神女",1071,2071,3071,11071,30,4,4,4,2,0.28,"31#326","31#200",4,5,3000,450,150,150,396,"53#10000|57#10000|58#10000",30,"5#1#2#2|5#2#16#5|5#3#15#4","4#100711|4#100712|5#100711|5#100712","1#13#10071101|1#14#10071102|1#15#10071103|1#15#10071104|1#16#10071105|1#17#10071106",null,4,"减怒队输出",47,72,46,"九河神女是中国上古时期母系氏族社会杰出的部落女首领，相传她踩雷神脚印，感应受孕，生伏羲和女娲 ，传嗣炎帝黄帝，从而成为中华民族的始祖母。",null,null,"随机 增伤"]
[null,10072,10552,"灵扇仙",1072,2072,3072,11072,30,4,4,4,4,0.65,"0#326","0#200",4,5,3000,450,150,150,396,"53#10000|57#10000|58#10000",30,"5#1#2#2|5#2#16#5|5#3#15#4","4#100721|4#100722|5#100721|5#100722","1#13#10072101|1#14#10072102|1#15#10072103|1#15#10072104|1#16#10072105|1#17#10072106",null,4,"减怒队辅助",47,72,46,"经年累月被使用着的折扇，被寄予了主人的意志和灵魂，最终成仙。",null,null,"单体 治疗"]
[null,10073,10552,"火妖",1073,2073,3073,null,0,2,2,2,2,0.55,"0#123","0#80",1,2,2000,300,100,100,396,"53#10000|57#10000|58#10000",30,"","2#100731|2#100732",null,null,4,"输出",47,72,46,"火焰山中土生土长的小妖，喜欢群聚而行。其中火妖是这些小妖的最常见的。"]
[null,10074,10552,"迦奴",1074,2074,3074,null,0,2,2,2,2,0.48,"0#140","0#60",2,2,2000,300,100,100,396,"53#10000|57#10000|58#10000",30,"","2#100741|2#100742",null,null,4,"输出",47,72,46,"娜迦是天龙八部之一， 娜迦族的主要成员。"]
[null,10075,10552,"方士",1075,2075,3075,null,0,2,2,2,2,0.6,"0#160","0#50",3,2,2000,300,100,100,396,"53#10000|57#10000|58#10000",30,"","2#100751|2#100752",null,null,4,"输出",47,72,46,"修道之人，被称为方士。"]
[null,10076,10552,"鬼差",1076,2076,3076,null,0,2,2,2,2,0.55,"-13#123","-13#80",4,2,2000,300,100,100,396,"53#10000|57#10000|58#10000",30,"","2#100761|2#100762",null,null,4,"输出",47,72,46,"阴曹地府里鬼差的职责是抓捕恶鬼，听从鬼差头子的命令。"]
[null,10079,10552,"小妖灵",1079,2079,3079,null,0,1,1,1,2,0.5,"0#164","0#80",1,1,1600,240,80,80,396,"53#10000|57#10000|58#10000",30,"","1#100791|1#100792",null,null,4,"输出",47,72,46,"火焰山中土生土长的小妖，喜欢群聚而行。其中小火妖是还未长大的火妖。"]
[null,10080,10552,"幼娜灵",1080,2080,3080,null,0,1,1,1,2,0.5,"0#137.4","0#80",2,1,1600,240,80,80,396,"53#10000|57#10000|58#10000",30,"","1#100801|1#100802",null,null,4,"输出",47,72,46,"娜迦是天龙八部之一， 幼小的娜迦。"]
[null,10081,10552,"方术灵",1081,2081,3081,null,0,1,1,1,2,0.5,"0#120","0#60",3,1,1600,240,80,80,396,"53#10000|57#10000|58#10000",30,"","1#100811|1#100812",null,null,4,"输出",47,72,46,"修道之人，刚开始跟随师父进行学习。"]
[null,10082,10552,"小道灵",1082,2082,3082,null,0,1,1,1,2,0.5,"0#115","0#50",4,1,1600,240,80,80,396,"53#10000|57#10000|58#10000",30,"","1#100821|1#100822",null,null,4,"输出",47,72,46,"阴曹地府里鬼差的职责是抓捕恶鬼，最低等的小喽啰。"]
[null,10085,10552,"敖丙",1085,2085,3085,11073,50,5,5,5,2,0.45,"0#340","0#200",3,10,4000,600,200,200,396,"53#10000|57#10000|58#10000",30,"6#1#3#1|6#2#27#1|6#3#17#3|7#1#17#4|8#1#18#1|8#2#17#3|9#1#3#1|9#2#18#1|9#3#17#2|10#1#3#2|10#2#18#1|10#3#14#1","5#1131|5#1132|6#1131|6#1132|7#1131|7#1132|8#1131|8#1132|9#1131|9#1132|10#1131|10#1132|11#1131|11#1132","1#1#113101|1#2#113102|1#3#113103|1#3#113104|1#4#113105|1#5#113106|2#7#113107|2#8#113108|2#9#113109|2#10#113110|2#11#113111","6#90013",4,"永动队输出",47,72,46,"敖丙，是明代神怪小说《封神演义》中的虚拟角色，即东海龙宫三太子。父亲为东海龙王敖光，兵器为一杆方天画戟，坐骑为逼水兽。\\n因哪吒闹海一事，前去问罪，被哪吒打死并扒皮抽筋，同巡海夜叉（李艮）都是哪吒所杀；后魂归封神台。最终姜子牙归国封神，敖丙被封神为“华盖星”之职。是封神全文之中被封过两次神的角色之一，其次是他的手下巡海夜叉“李艮”。",null,null,"爆发 追击 收割","<color=#2C8B1C>六星：</color>战斗第一回合造成伤害必定暴击|<color=#2C8B1C>九星：</color>击杀目标后回2点怒气|<color=#2C8B1C>法宝+25：</color>击杀目标后追加一次技能对敌方血量最低的二人造成89%法术伤害（不触发特性）","3#5",1]
[null,10086,10552,"金翅大鹏",1086,2086,3086,11074,50,5,5,5,2,0.7,"-112#294","-60#144",2,10,4000,600,200,200,396,"53#10000|57#10000|58#10000",30,"6#1#3#1|6#2#44#1|6#3#17#3|7#1#17#4|8#1#18#1|8#2#17#3|9#1#3#1|9#2#18#1|9#3#17#2|10#1#3#2|10#2#18#1|10#3#14#1","5#1261|5#1262|6#1261|6#1262|7#1261|7#1262|8#1261|8#1262|9#1261|9#1262|10#1261|10#1262|11#1261|11#1262","1#1#126101|1#2#126102|1#3#126103|1#3#126104|1#4#126105|1#5#126106|2#7#126107|2#8#126108|2#9#126109|2#10#126110|2#11#126111","6#90026",4,"暴力队输出",47,72,46,"金翅大鹏雕，也称大鹏金翅鸟。在古典名著 《西游记》里面介绍了金翅大鹏雕的来历。据如来佛祖所说：“自那混沌分时，天开于子，地辟于丑，人生于寅，天地再交合，万物尽皆生。万物有走兽飞禽，走兽以麒麟为之长，飞禽以凤凰为之长。那凤凰又得交合之气，育生孔雀、大鹏。孔雀出世之时最恶，能吃人，四十五里路把人一口吸之。我在雪山顶上，修成丈六金身，早被他也把我吸下肚去。我欲从他便门而出，恐污真身；是我剖开他脊背，跨上灵山。欲伤他命，当被诸佛劝解，伤孔雀如伤我母，故此留他在灵山会上，封他做佛母孔雀大明王菩萨。大鹏与他是一母所生，故此有些亲处。”",null,null,"追击 濒死爆发","<color=#2C8B1C>六星：</color>自身生命每降低10%造成伤害增加5%|<color=#2C8B1C>九星：</color>直接伤害击杀目标后回1点怒气|<color=#2C8B1C>法宝+25：</color>生命降低10%暴击伤害增加4%",8,1]
[null,10087,10552,"娥皇",1087,2087,3087,11075,50,5,5,5,4,0.5,"28.86#343.3","28.86#200",1,10,4000,600,200,200,396,"53#10000|57#10000|58#10000",30,"6#1#3#1|6#2#37#1|6#3#17#3|7#1#17#4|8#1#18#1|8#2#17#3|9#1#3#1|9#2#18#1|9#3#17#2|10#1#3#2|10#2#18#1|10#3#14#1","5#1341|5#1342|6#1341|6#1342|7#1341|7#1342|8#1341|8#1342|9#1341|9#1342|10#1341|10#1342|11#1341|11#1342","1#1#134101|1#2#134102|1#3#134103|1#3#134104|1#4#134105|1#5#134106|2#7#134107|2#8#134108|2#9#134109|2#10#134110|2#11#134111","6#90034",4,"灼烧队辅助",47,72,46,"娥皇又称娥肓、娥娙，姓伊祁氏，中国上古人物。因出生于伊祁山（今河北保定顺平），而姓伊祁氏，是五帝之一帝喾的孙女、唐尧伊祁放勋的长女，和妹妹女英同时嫁给了虞舜姚重华。她们有一个共同的亲生儿子商均。\\n舜父顽，母嚣，弟劣，曾多次欲置舜于死地，因娥皇女英的帮助而脱险。后舜帝南巡苍梧而死，崩葬九嶷山。二妃千里寻夫，知舜已死，抱竹痛哭，竹上生斑，泪尽而死，因称“潇湘竹”或“湘妃竹”。",null,null,"灼烧","<color=#2C8B1C>六星：</color>释放技能回1点怒气|<color=#2C8B1C>九星：</color>受击35%概率使攻击者灼烧2回合|<color=#2C8B1C>法宝+25：</color>释放技能附加灼烧概率增加至96%",12,1]
[null,10088,10552,"申公豹",1088,2088,3088,11076,50,5,5,5,3,0.65,"0#145","0#45",4,10,4000,600,200,200,396,"53#10000|57#10000|58#10000",30,"6#1#3#1|6#2#63#1|6#3#17#3|7#1#17#4|8#1#18#1|8#2#17#3|9#1#3#1|9#2#18#1|9#3#17#2|10#1#3#2|10#2#18#1|10#3#14#1","5#1401|5#1402|6#1401|6#1402|7#1401|7#1402|8#1401|8#1402|9#1401|9#1402|10#1401|10#1402|11#1401|11#1402","1#1#140101|1#2#140102|1#3#140103|1#3#140104|1#4#140105|1#5#140106|2#7#140107|2#8#140108|2#9#140109|2#10#140110|2#11#140111","6#90040",4,"减怒队控制",47,72,46,"申公豹曾经是阐教弟子，因为感觉元始天尊偏袒姜子牙，嫉妒姜子牙手掌封神大权在西岐位居相位，故此也在殷商担任国师，全力维护商朝的统治与子牙作对。并挑动大批仙家高人对付姜子牙，给西岐方面造成巨大困难。其意图将无数同门修士送上封神榜。因计划屡被姜子牙破坏，后来为了报复追杀姜子牙时，被惧留孙以捆仙绳所擒，被黄巾力士压去麒麟崖，最后遭到元始天尊惩罚，命黄巾力士将申公豹的肉身填堵北海之眼。武王伐纣成功之后，申公豹在封神台上被姜子牙封为“东海分水将军”。",null,null,"眩晕 减怒","<color=#2C8B1C>六星：</color>释放技能有45%概率使目标眩晕1回合|<color=#2C8B1C>九星：</color>普攻后降低目标1点怒气|<color=#2C8B1C>法宝+25：</color>释放技能附带眩晕效果概率提升至70%","15#16",1]
[null,10089,10552,"燃灯",1089,2089,3089,11077,50,5,5,5,4,0.75,"24#254","24#104",2,10,4000,600,200,200,396,"53#10000|57#10000|58#10000",30,"6#1#3#1|6#2#44#1|6#3#17#3|7#1#17#4|8#1#18#1|8#2#17#3|9#1#3#1|9#2#18#1|9#3#17#2|10#1#3#2|10#2#18#1|10#3#14#1","5#1181|5#1182|6#1181|6#1182|7#1181|7#1182|8#1181|8#1182|9#1181|9#1182|10#1181|10#1182|11#1181|11#1182","1#1#118101|1#2#118102|1#3#118103|1#3#118104|1#4#118105|1#5#118106|2#7#118107|2#8#118108|2#9#118109|2#10#118110|2#11#118111","6#90018",4,"暴力队辅助",47,72,46,"燃灯佛义曰：锭光。为释迦牟尼佛之前的佛。因其出生时身边一切光明如灯，故称为燃灯佛。传说释迦牟尼过去世曾以五茎莲花供养燃灯佛，而被预言，将在九十一劫后的贤劫成佛。在佛经中所记载的许多佛、菩萨都曾是他座下的弟子。或称为锭光佛。\\n三世佛指过去、现在、未来三世的一切佛。谓过去佛为迦叶诸佛，或特指燃灯佛，现在佛是释迦牟尼佛，未来佛为弥勒佛三者。在《封神》中燃灯被称做燃灯道人，后在《西游》中称燃灯上古佛。",null,null,"光环 回怒","<color=#2C8B1C>六星：</color>全体攻击+20%|<color=#2C8B1C>九星：</color>释放技能后回复己方后排1点怒气|<color=#2C8B1C>法宝+25：</color>全体暴击率+20%","7#8#10",1]
[null,10090,10552,"阎罗王",1090,2090,3090,11078,50,5,5,5,2,0.6,"0#150","0#100",4,10,4000,600,200,200,396,"53#10000|57#10000|58#10000",30,"6#1#3#1|6#2#63#1|6#3#17#3|7#1#17#4|8#1#18#1|8#2#17#3|9#1#3#1|9#2#18#1|9#3#17#2|10#1#3#2|10#2#18#1|10#3#14#1","5#1521|5#1522|6#1521|6#1522|7#1521|7#1522|8#1521|8#1522|9#1521|9#1522|10#1521|10#1522|11#1521|11#1522","1#1#152101|1#2#152102|1#3#152103|1#3#152104|1#4#152105|1#5#152106|2#7#152107|2#8#152108|2#9#152109|2#10#152110|2#11#152111","6#90052",4,"减怒队输出",47,72,46,"阎罗王，亦称“阎王”、“阎罗”、“阎王爷”、“阎魔王”、“阎罗大王”，为阴曹地府中第五殿的殿主冥王，是中国古代宗教神话信仰中的一尊阴间神祇，传说为掌管人间地狱众生灵寿命生死的鬼王，半神半鬼，为民间家喻户晓的著名冥神，在阴间常以“黑白无常”、“牛头马面”两对鬼使差为左膀右臂。《问地狱经》的记载称阎罗王生前是毗沙国的国王",null,null,"输出 连锁伤害 减怒","<color=#2C8B1C>六星：</color>技能伤害+18%|<color=#2C8B1C>九星：</color>阎罗王攻击时目标身上每种异常状态（麻痹、眩晕、灼烧、沉默、中毒）都会使直接伤害提升25%|<color=#2C8B1C>法宝+25：</color>每当敌方有链接效果目标死亡己方输出型神将技能伤害+10%（道阵营+20%）",19,1]

{"sheet":"角色技能","index":1,"n_rows":60,"n_cols":51,"rows_kept":60}
["角色id","属性","初始星级","初始技能","初始星级","初始技能","升星1","技能1","升星1","技能1","升星2","技能2","升星2","技能2","升星3","技能3","升星3","技能3","升星4","技能4","升星4","技能4","升星5","技能5","升星5","技能5"]
[10001,2,5,1000111,5,"1000121",{"$f":"E2+1","v":6},{"$f":"D2+1","v":1000112},{"$f":"G2","v":6},"1000121",{"$f":"I2+1","v":7},{"$f":"H2","v":1000112},{"$f":"K2","v":7},{"$f":"IF(M2=7,J2+1,J2)","v":1000122},{"$f":"K2+1","v":8},{"$f":"IF(O2=8,L2+1,L2)","v":1000113},{"$f":"M2+1","v":8},1000122,{"$f":"O2+1","v":9},1000113,{"$f":"S2","v":9},{"$f":"R2+1","v":1000123},{"$f":"S2+1","v":10},{"$f":"T2+1","v":1000114},10,{"$f":"V2+1","v":1000124},{"$f":"[2]!SUMSTRING(C2:D2,\"#\")","v":{"$error":"#NAME?"}},null,{"$f":"[2]!SUMSTRING(E2:F2,\"#\")","v":{"$error":"#NAME?"}},null,{"$f":"[2]!SUMSTRING(G2:H2,\"#\")","v":{"$error":"#NAME?"}},null,{"$f":"[2]!SUMSTRING(I2:J2,\"#\")","v":{"$error":"#NAME?"}},null,{"$f":"[2]!SUMSTRING(K2:L2,\"#\")","v":{"$error":"#NAME?"}},null,{"$f":"[2]!SUMSTRING(M2:N2,\"#\")","v":{"$error":"#NAME?"}},null,{"$f":"[2]!SUMSTRING(O2:P2,\"#\")","v":{"$error":"#NAME?"}},null,{"$f":"[2]!SUMSTRING(Q2:R2,\"#\")","v":{"$error":"#NAME?"}},null,{"$f":"[2]!SUMSTRING(S2:T2,\"#\")","v":{"$error":"#NAME?"}},null,{"$f":"[2]!SUMSTRING(U2:V2,\"#\")","v":{"$error":"#NAME?"}},null,{"$f":"[2]!SUMSTRING(W2:X2,\"#\")","v":{"$error":"#NAME?"}},null,{"$f":"[2]!SUMSTRING(Y2:Z2,\"#\")","v":{"$error":"#NAME?"}},null,{"$f":"[2]!SUMSTRING(AA2:AW2,\"|\")","v":{"$error":"#NAME?"}}]
[10002,3,5,{"$f":"D2+100","v":1000211},5,"1000221",{"$f":"E3+1","v":6},{"$f":"D3+1","v":1000212},{"$f":"G3","v":6},"1000221",{"$f":"I3+1","v":7},{"$f":"H3","v":1000212},{"$f":"K3","v":7},{"$f":"IF(M3=7,J3+1,J3)","v":1000222},{"$f":"K3+1","v":8},{"$f":"IF(O3=8,L3+1,L3)","v":1000213},8,1000222,{"$f":"O3+1","v":9},1000213,{"$f":"S3","v":9},{"$f":"R3+1","v":1000223},{"$f":"S3+1","v":10},{"$f":"T3+1","v":1000214},10,{"$f":"V3+1","v":1000224},{"$f":"[2]!SUMSTRING(C3:D3,\"#\")","v":{"$error":"#NAME?"}},null,{"$f":"[2]!SUMSTRING(E3:F3,\"#\")","v":{"$error":"#NAME?"}},null,{"$f":"[2]!SUMSTRING(G3:H3,\"#\")","v":{"$error":"#NAME?"}},null,{"$f":"[2]!SUMSTRING(I3:J3,\"#\")","v":{"$error":"#NAME?"}},null,{"$f":"[2]!SUMSTRING(K3:L3,\"#\")","v":{"$error":"#NAME?"}},null,{"$f":"[2]!SUMSTRING(M3:N3,\"#\")","v":{"$error":"#NAME?"}},null,{"$f":"[2]!SUMSTRING(O3:P3,\"#\")","v":{"$error":"#NAME?"}},null,{"$f":"[2]!SUMSTRING(Q3:R3,\"#\")","v":{"$error":"#NAME?"}},null,{"$f":"[2]!SUMSTRING(S3:T3,\"#\")","v":{"$error":"#NAME?"}},null,{"$f":"[2]!SUMSTRING(U3:V3,\"#\")","v":{"$error":"#NAME?"}},null,{"$f":"[2]!SUMSTRING(W3:X3,\"#\")","v":{"$error":"#NAME?"}},null,{"$f":"[2]!SUMSTRING(Y3:Z3,\"#\")","v":{"$error":"#NAME?"}},null,{"$f":"[2]!SUMSTRING(AA3:AW3,\"|\")","v":{"$error":"#NAME?"}}]
[10003,4,5,{"$f":"D3+100","v":1000311},5,"1000321",6,1000312,6,"1000321",7,1000312,7,1000322,8,1000313,8,1000322,9,1000313,9,1000323,10,1000314,10,1000324,{"$f":"[2]!SUMSTRING(C4:D4,\"#\")","v":{"$error":"#NAME?"}},null,{"$f":"[2]!SUMSTRING(E4:F4,\"#\")","v":{"$error":"#NAME?"}},null,{"$f":"[2]!SUMSTRING(G4:H4,\"#\")","v":{"$error":"#NAME?"}},null,{"$f":"[2]!SUMSTRING(I4:J4,\"#\")","v":{"$error":"#NAME?"}},null,{"$f":"[2]!SUMSTRING(K4:L4,\"#\")","v":{"$error":"#NAME?"}},null,{"$f":"[2]!SUMSTRING(M4:N4,\"#\")","v":{"$error":"#NAME?"}},null,{"$f":"[2]!SUMSTRING(O4:P4,\"#\")","v":{"$error":"#NAME?"}},null,{"$f":"[2]!SUMSTRING(Q4:R4,\"#\")","v":{"$error":"#NAME?"}},null,{"$f":"[2]!SUMSTRING(S4:T4,\"#\")","v":{"$error":"#NAME?"}},null,{"$f":"[2]!SUMSTRING(U4:V4,\"#\")","v":{"$error":"#NAME?"}},null,{"$f":"[2]!SUMSTRING(W4:X4,\"#\")","v":{"$error":"#NAME?"}},null,{"$f":"[2]!SUMSTRING(Y4:Z4,\"#\")","v":{"$error":"#NAME?"}},null,{"$f":"[2]!SUMSTRING(AA4:AW4,\"|\")","v":{"$error":"#NAME?"}}]
[10004,3,5,1000411,5,"1000421",6,1000412,6,"1000421",7,1000412,7,1000422,8,1000413,8,1000422,9,1000413,9,1000423,10,1000414,10,1000424,{"$f":"[2]!SUMSTRING(C5:D5,\"#\")","v":{"$error":"#NAME?"}},null,{"$f":"[2]!SUMSTRING(E5:F5,\"#\")","v":{"$error":"#NAME?"}},null,{"$f":"[2]!SUMSTRING(G5:H5,\"#\")","v":{"$error":"#NAME?"}},null,{"$f":"[2]!SUMSTRING(I5:J5,\"#\")","v":{"$error":"#NAME?"}},null,{"$f":"[2]!SUMSTRING(K5:L5,\"#\")","v":{"$error":"#NAME?"}},null,{"$f":"[2]!SUMSTRING(M5:N5,\"#\")","v":{"$error":"#NAME?"}},null,{"$f":"[2]!SUMSTRING(O5:P5,\"#\")","v":{"$error":"#NAME?"}},null,{"$f":"[2]!SUMSTRING(Q5:R5,\"#\")","v":{"$error":"#NAME?"}},null,{"$f":"[2]!SUMSTRING(S5:T5,\"#\")","v":{"$error":"#NAME?"}},null,{"$f":"[2]!SUMSTRING(U5:V5,\"#\")","v":{"$error":"#NAME?"}},null,{"$f":"[2]!SUMSTRING(W5:X5,\"#\")","v":{"$error":"#NAME?"}},null,{"$f":"[2]!SUMSTRING(Y5:Z5,\"#\")","v":{"$error":"#NAME?"}},null,{"$f":"[2]!SUMSTRING(AA5:AW5,\"|\")","v":{"$error":"#NAME?"}}]
[10005,4,5,1000511,5,"1000521",6,1000512,6,"1000521",7,1000512,7,1000522,8,1000513,8,1000522,9,1000513,9,1000523,10,1000514,10,1000524,{"$f":"[2]!SUMSTRING(C6:D6,\"#\")","v":{"$error":"#NAME?"}},null,{"$f":"[2]!SUMSTRING(E6:F6,\"#\")","v":{"$error":"#NAME?"}},null,{"$f":"[2]!SUMSTRING(G6:H6,\"#\")","v":{"$error":"#NAME?"}},null,{"$f":"[2]!SUMSTRING(I6:J6,\"#\")","v":{"$error":"#NAME?"}},null,{"$f":"[2]!SUMSTRING(K6:L6,\"#\")","v":{"$error":"#NAME?"}},null,{"$f":"[2]!SUMSTRING(M6:N6,\"#\")","v":{"$error":"#NAME?"}},null,{"$f":"[2]!SUMSTRING(O6:P6,\"#\")","v":{"$error":"#NAME?"}},null,{"$f":"[2]!SUMSTRING(Q6:R6,\"#\")","v":{"$error":"#NAME?"}},null,{"$f":"[2]!SUMSTRING(S6:T6,\"#\")","v":{"$error":"#NAME?"}},null,{"$f":"[2]!SUMSTRING(U6:V6,\"#\")","v":{"$error":"#NAME?"}},null,{"$f":"[2]!SUMSTRING(W6:X6,\"#\")","v":{"$error":"#NAME?"}},null,{"$f":"[2]!SUMSTRING(Y6:Z6,\"#\")","v":{"$error":"#NAME?"}},null,{"$f":"[2]!SUMSTRING(AA6:AW6,\"|\")","v":{"$error":"#NAME?"}}]
[10006,1,5,1000611,5,"1000621",6,1000612,6,"1000621",7,1000612,7,1000622,8,1000613,8,1000622,9,1000613,9,1000623,10,1000614,10,1000624,{"$f":"[2]!SUMSTRING(C7:D7,\"#\")","v":{"$error":"#NAME?"}},null,{"$f":"[2]!SUMSTRING(E7:F7,\"#\")","v":{"$error":"#NAME?"}},null,{"$f":"[2]!SUMSTRING(G7:H7,\"#\")","v":{"$error":"#NAME?"}},null,{"$f":"[2]!SUMSTRING(I7:J7,\"#\")","v":{"$error":"#NAME?"}},null,{"$f":"[2]!SUMSTRING(K7:L7,\"#\")","v":{"$error":"#NAME?"}},null,{"$f":"[2]!SUMSTRING(M7:N7,\"#\")","v":{"$error":"#NAME?"}},null,{"$f":"[2]!SUMSTRING(O7:P7,\"#\")","v":{"$error":"#NAME?"}},null,{"$f":"[2]!SUMSTRING(Q7:R7,\"#\")","v":{"$error":"#NAME?"}},null,{"$f":"[2]!SUMSTRING(S7:T7,\"#\")","v":{"$error":"#NAME?"}},null,{"$f":"[2]!SUMSTRING(U7:V7,\"#\")","v":{"$error":"#NAME?"}},null,{"$f":"[2]!SUMSTRING(W7:X7,\"#\")","v":{"$error":"#NAME?"}},null,{"$f":"[2]!SUMSTRING(Y7:Z7,\"#\")","v":{"$error":"#NAME?"}},null,{"$f":"[2]!SUMSTRING(AA7:AW7,\"|\")","v":{"$error":"#NAME?"}}]
[10007,2,5,1000711,5,"1000721",6,1000712,6,"1000721",7,1000712,7,1000722,8,1000713,8,1000722,9,1000713,9,1000723,10,1000714,10,1000724,{"$f":"[2]!SUMSTRING(C8:D8,\"#\")","v":{"$error":"#NAME?"}},null,{"$f":"[2]!SUMSTRING(E8:F8,\"#\")","v":{"$error":"#NAME?"}},null,{"$f":"[2]!SUMSTRING(G8:H8,\"#\")","v":{"$error":"#NAME?"}},null,{"$f":"[2]!SUMSTRING(I8:J8,\"#\")","v":{"$error":"#NAME?"}},null,{"$f":"[2]!SUMSTRING(K8:L8,\"#\")","v":{"$error":"#NAME?"}},null,{"$f":"[2]!SUMSTRING(M8:N8,\"#\")","v":{"$error":"#NAME?"}},null,{"$f":"[2]!SUMSTRING(O8:P8,\"#\")","v":{"$error":"#NAME?"}},null,{"$f":"[2]!SUMSTRING(Q8:R8,\"#\")","v":{"$error":"#NAME?"}},null,{"$f":"[2]!SUMSTRING(S8:T8,\"#\")","v":{"$error":"#NAME?"}},null,{"$f":"[2]!SUMSTRING(U8:V8,\"#\")","v":{"$error":"#NAME?"}},null,{"$f":"[2]!SUMSTRING(W8:X8,\"#\")","v":{"$error":"#NAME?"}},null,{"$f":"[2]!SUMSTRING(Y8:Z8,\"#\")","v":{"$error":"#NAME?"}},null,{"$f":"[2]!SUMSTRING(AA8:AW8,\"|\")","v":{"$error":"#NAME?"}}]
[10008,5,5,1000811,5,"1000821",6,1000812,6,"1000821",7,1000812,7,1000822,8,1000813,8,1000822,9,1000813,9,1000823,10,1000814,10,1000824,{"$f":"[2]!SUMSTRING(C9:D9,\"#\")","v":{"$error":"#NAME?"}},null,{"$f":"[2]!SUMSTRING(E9:F9,\"#\")","v":{"$error":"#NAME?"}},null,{"$f":"[2]!SUMSTRING(G9:H9,\"#\")","v":{"$error":"#NAME?"}},null,{"$f":"[2]!SUMSTRING(I9:J9,\"#\")","v":{"$error":"#NAME?"}},null,{"$f":"[2]!SUMSTRING(K9:L9,\"#\")","v":{"$error":"#NAME?"}},null,{"$f":"[2]!SUMSTRING(M9:N9,\"#\")","v":{"$error":"#NAME?"}},null,{"$f":"[2]!SUMSTRING(O9:P9,\"#\")","v":{"$error":"#NAME?"}},null,{"$f":"[2]!SUMSTRING(Q9:R9,\"#\")","v":{"$error":"#NAME?"}},null,{"$f":"[2]!SUMSTRING(S9:T9,\"#\")","v":{"$error":"#NAME?"}},null,{"$f":"[2]!SUMSTRING(U9:V9,\"#\")","v":{"$error":"#NAME?"}},null,{"$f":"[2]!SUMSTRING(W9:X9,\"#\")","v":{"$error":"#NAME?"}},null,{"$f":"[2]!SUMSTRING(Y9:Z9,\"#\")","v":{"$error":"#NAME?"}},null,{"$f":"[2]!SUMSTRING(AA9:AW9,\"|\")","v":{"$error":"#NAME?"}}]
[10009,6,5,1000911,5,"1000921",6,1000912,6,"1000921",7,1000912,7,1000922,8,1000913,8,1000922,9,1000913,9,1000923,10,1000914,10,1000924,{"$f":"[2]!SUMSTRING(C10:D10,\"#\")","v":{"$error":"#NAME?"}},null,{"$f":"[2]!SUMSTRING(E10:F10,\"#\")","v":{"$error":"#NAME?"}},null,{"$f":"[2]!SUMSTRING(G10:H10,\"#\")","v":{"$error":"#NAME?"}},null,{"$f":"[2]!SUMSTRING(I10:J10,\"#\")","v":{"$error":"#NAME?"}},null,{"$f":"[2]!SUMSTRING(K10:L10,\"#\")","v":{"$error":"#NAME?"}},null,{"$f":"[2]!SUMSTRING(M10:N10,\"#\")","v":{"$error":"#NAME?"}},null,{"$f":"[2]!SUMSTRING(O10:P10,\"#\")","v":{"$error":"#NAME?"}},null,{"$f":"[2]!SUMSTRING(Q10:R10,\"#\")","v":{"$error":"#NAME?"}},null,{"$f":"[2]!SUMSTRING(S10:T10,\"#\")","v":{"$error":"#NAME?"}},null,{"$f":"[2]!SUMSTRING(U10:V10,\"#\")","v":{"$error":"#NAME?"}},null,{"$f":"[2]!SUMSTRING(W10:X10,\"#\")","v":{"$error":"#NAME?"}},null,{"$f":"[2]!SUMSTRING(Y10:Z10,\"#\")","v":{"$error":"#NAME?"}},null,{"$f":"[2]!SUMSTRING(AA10:AW10,\"|\")","v":{"$error":"#NAME?"}}]
[10010,2,5,1001011,5,"1001021",6,1001012,6,"1001021",7,1001012,7,1001022,8,1001013,8,1001022,9,1001013,9,1001023,10,1001014,10,1001024,{"$f":"[2]!SUMSTRING(C11:D11,\"#\")","v":{"$error":"#NAME?"}},null,{"$f":"[2]!SUMSTRING(E11:F11,\"#\")","v":{"$error":"#NAME?"}},null,{"$f":"[2]!SUMSTRING(G11:H11,\"#\")","v":{"$error":"#NAME?"}},null,{"$f":"[2]!SUMSTRING(I11:J11,\"#\")","v":{"$error":"#NAME?"}},null,{"$f":"[2]!SUMSTRING(K11:L11,\"#\")","v":{"$error":"#NAME?"}},null,{"$f":"[2]!SUMSTRING(M11:N11,\"#\")","v":{"$error":"#NAME?"}},null,{"$f":"[2]!SUMSTRING(O11:P11,\"#\")","v":{"$error":"#NAME?"}},null,{"$f":"[2]!SUMSTRING(Q11:R11,\"#\")","v":{"$error":"#NAME?"}},null,{"$f":"[2]!SUMSTRING(S11:T11,\"#\")","v":{"$error":"#NAME?"}},null,{"$f":"[2]!SUMSTRING(U11:V11,\"#\")","v":{"$error":"#NAME?"}},null,{"$f":"[2]!SUMSTRING(W11:X11,\"#\")","v":{"$error":"#NAME?"}},null,{"$f":"[2]!SUMSTRING(Y11:Z11,\"#\")","v":{"$error":"#NAME?"}},null,{"$f":"[2]!SUMSTRING(AA11:AW11,\"|\")","v":{"$error":"#NAME?"}}]
[10011,4,5,1001111,5,"1001121",6,1001112,6,"1001121",7,1001112,7,1001122,8,1001113,8,1001122,9,1001113,9,1001123,10,1001114,10,1001124,{"$f":"[2]!SUMSTRING(C12:D12,\"#\")","v":{"$error":"#NAME?"}},null,{"$f":"[2]!SUMSTRING(E12:F12,\"#\")","v":{"$error":"#NAME?"}},null,{"$f":"[2]!SUMSTRING(G12:H12,\"#\")","v":{"$error":"#NAME?"}},null,{"$f":"[2]!SUMSTRING(I12:J12,\"#\")","v":{"$error":"#NAME?"}},null,{"$f":"[2]!SUMSTRING(K12:L12,\"#\")","v":{"$error":"#NAME?"}},null,{"$f":"[2]!SUMSTRING(M12:N12,\"#\")","v":{"$error":"#NAME?"}},null,{"$f":"[2]!SUMSTRING(O12:P12,\"#\")","v":{"$error":"#NAME?"}},null,{"$f":"[2]!SUMSTRING(Q12:R12,\"#\")","v":{"$error":"#NAME?"}},null,{"$f":"[2]!SUMSTRING(S12:T12,\"#\")","v":{"$error":"#NAME?"}},null,{"$f":"[2]!SUMSTRING(U12:V12,\"#\")","v":{"$error":"#NAME?"}},null,{"$f":"[2]!SUMSTRING(W12:X12,\"#\")","v":{"$error":"#NAME?"}},null,{"$f":"[2]!SUMSTRING(Y12:Z12,\"#\")","v":{"$error":"#NAME?"}},null,{"$f":"[2]!SUMSTRING(AA12:AW12,\"|\")","v":{"$error":"#NAME?"}}]
[10012,1,5,1001211,5,"1001221",6,1001212,6,"1001221",7,1001212,7,1001222,8,1001213,8,1001222,9,1001213,9,1001223,10,1001214,10,1001224,{"$f":"[2]!SUMSTRING(C13:D13,\"#\")","v":{"$error":"#NAME?"}},null,{"$f":"[2]!SUMSTRING(E13:F13,\"#\")","v":{"$error":"#NAME?"}},null,{"$f":"[2]!SUMSTRING(G13:H13,\"#\")","v":{"$error":"#NAME?"}},null,{"$f":"[2]!SUMSTRING(I13:J13,\"#\")","v":{"$error":"#NAME?"}},null,{"$f":"[2]!SUMSTRING(K13:L13,\"#\")","v":{"$error":"#NAME?"}},null,{"$f":"[2]!SUMSTRING(M13:N13,\"#\")","v":{"$error":"#NAME?"}},null,{"$f":"[2]!SUMSTRING(O13:P13,\"#\")","v":{"$error":"#NAME?"}},null,{"$f":"[2]!SUMSTRING(Q13:R13,\"#\")","v":{"$error":"#NAME?"}},null,{"$f":"[2]!SUMSTRING(S13:T13,\"#\")","v":{"$error":"#NAME?"}},null,{"$f":"[2]!SUMSTRING(U13:V13,\"#\")","v":{"$error":"#NAME?"}},null,{"$f":"[2]!SUMSTRING(W13:X13,\"#\")","v":{"$error":"#NAME?"}},null,{"$f":"[2]!SUMSTRING(Y13:Z13,\"#\")","v":{"$error":"#NAME?"}},null,{"$f":"[2]!SUMSTRING(AA13:AW13,\"|\")","v":{"$error":"#NAME?"}}]
[10013,4,5,1001311,5,"1001321",6,1001312,6,"1001321",7,1001312,7,1001322,8,1001313,8,1001322,9,1001313,9,1001323,10,1001314,10,1001324,{"$f":"[2]!SUMSTRING(C14:D14,\"#\")","v":{"$error":"#NAME?"}},null,{"$f":"[2]!SUMSTRING(E14:F14,\"#\")","v":{"$error":"#NAME?"}},null,{"$f":"[2]!SUMSTRING(G14:H14,\"#\")","v":{"$error":"#NAME?"}},null,{"$f":"[2]!SUMSTRING(I14:J14,\"#\")","v":{"$error":"#NAME?"}},null,{"$f":"[2]!SUMSTRING(K14:L14,\"#\")","v":{"$error":"#NAME?"}},null,{"$f":"[2]!SUMSTRING(M14:N14,\"#\")","v":{"$error":"#NAME?"}},null,{"$f":"[2]!SUMSTRING(O14:P14,\"#\")","v":{"$error":"#NAME?"}},null,{"$f":"[2]!SUMSTRING(Q14:R14,\"#\")","v":{"$error":"#NAME?"}},null,{"$f":"[2]!SUMSTRING(S14:T14,\"#\")","v":{"$error":"#NAME?"}},null,{"$f":"[2]!SUMSTRING(U14:V14,\"#\")","v":{"$error":"#NAME?"}},null,{"$f":"[2]!SUMSTRING(W14:X14,\"#\")","v":{"$error":"#NAME?"}},null,{"$f":"[2]!SUMSTRING(Y14:Z14,\"#\")","v":{"$error":"#NAME?"}},null,{"$f":"[2]!SUMSTRING(AA14:AW14,\"|\")","v":{"$error":"#NAME?"}}]
[10014,6,5,1001411,5,"1001421",6,1001412,6,"1001421",7,1001412,7,1001422,8,1001413,8,1001422,9,1001413,9,1001423,10,1001414,10,1001424,{"$f":"[2]!SUMSTRING(C15:D15,\"#\")","v":{"$error":"#NAME?"}},null,{"$f":"[2]!SUMSTRING(E15:F15,\"#\")","v":{"$error":"#NAME?"}},null,{"$f":"[2]!SUMSTRING(G15:H15,\"#\")","v":{"$error":"#NAME?"}},null,{"$f":"[2]!SUMSTRING(I15:J15,\"#\")","v":{"$error":"#NAME?"}},null,{"$f":"[2]!SUMSTRING(K15:L15,\"#\")","v":{"$error":"#NAME?"}},null,{"$f":"[2]!SUMSTRING(M15:N15,\"#\")","v":{"$error":"#NAME?"}},null,{"$f":"[2]!SUMSTRING(O15:P15,\"#\")","v":{"$error":"#NAME?"}},null,{"$f":"[2]!SUMSTRING(Q15:R15,\"#\")","v":{"$error":"#NAME?"}},null,{"$f":"[2]!SUMSTRING(S15:T15,\"#\")","v":{"$error":"#NAME?"}},null,{"$f":"[2]!SUMSTRING(U15:V15,\"#\")","v":{"$error":"#NAME?"}},null,{"$f":"[2]!SUMSTRING(W15:X15,\"#\")","v":{"$error":"#NAME?"}},null,{"$f":"[2]!SUMSTRING(Y15:Z15,\"#\")","v":{"$error":"#NAME?"}},null,{"$f":"[2]!SUMSTRING(AA15:AW15,\"|\")","v":{"$error":"#NAME?"}}]
[10015,5,5,1001511,5,"1001521",6,1001512,6,"1001521",7,1001512,7,1001522,8,1001513,8,1001522,9,1001513,9,1001523,10,1001514,10,1001524,{"$f":"[2]!SUMSTRING(C16:D16,\"#\")","v":{"$error":"#NAME?"}},null,{"$f":"[2]!SUMSTRING(E16:F16,\"#\")","v":{"$error":"#NAME?"}},null,{"$f":"[2]!SUMSTRING(G16:H16,\"#\")","v":{"$error":"#NAME?"}},null,{"$f":"[2]!SUMSTRING(I16:J16,\"#\")","v":{"$error":"#NAME?"}},null,{"$f":"[2]!SUMSTRING(K16:L16,\"#\")","v":{"$error":"#NAME?"}},null,{"$f":"[2]!SUMSTRING(M16:N16,\"#\")","v":{"$error":"#NAME?"}},null,{"$f":"[2]!SUMSTRING(O16:P16,\"#\")","v":{"$error":"#NAME?"}},null,{"$f":"[2]!SUMSTRING(Q16:R16,\"#\")","v":{"$error":"#NAME?"}},null,{"$f":"[2]!SUMSTRING(S16:T16,\"#\")","v":{"$error":"#NAME?"}},null,{"$f":"[2]!SUMSTRING(U16:V16,\"#\")","v":{"$error":"#NAME?"}},null,{"$f":"[2]!SUMSTRING(W16:X16,\"#\")","v":{"$error":"#NAME?"}},null,{"$f":"[2]!SUMSTRING(Y16:Z16,\"#\")","v":{"$error":"#NAME?"}},null,{"$f":"[2]!SUMSTRING(AA16:AW16,\"|\")","v":{"$error":"#NAME?"}}]
[10016,1,5,1001611,5,"1001621",6,1001612,6,"1001621",7,1001612,7,1001622,8,1001613,8,1001622,9,1001613,9,1001623,10,1001614,10,1001624,{"$f":"[2]!SUMSTRING(C17:D17,\"#\")","v":{"$error":"#NAME?"}},null,{"$f":"[2]!SUMSTRING(E17:F17,\"#\")","v":{"$error":"#NAME?"}},null,{"$f":"[2]!SUMSTRING(G17:H17,\"#\")","v":{"$error":"#NAME?"}},null,{"$f":"[2]!SUMSTRING(I17:J17,\"#\")","v":{"$error":"#NAME?"}},null,{"$f":"[2]!SUMSTRING(K17:L17,\"#\")","v":{"$error":"#NAME?"}},null,{"$f":"[2]!SUMSTRING(M17:N17,\"#\")","v":{"$error":"#NAME?"}},null,{"$f":"[2]!SUMSTRING(O17:P17,\"#\")","v":{"$error":"#NAME?"}},null,{"$f":"[2]!SUMSTRING(Q17:R17,\"#\")","v":{"$error":"#NAME?"}},null,{"$f":"[2]!SUMSTRING(S17:T17,\"#\")","v":{"$error":"#NAME?"}},null,{"$f":"[2]!SUMSTRING(U17:V17,\"#\")","v":{"$error":"#NAME?"}},null,{"$f":"[2]!SUMSTRING(W17:X17,\"#\")","v":{"$error":"#NAME?"}},null,{"$f":"[2]!SUMSTRING(Y17:Z17,\"#\")","v":{"$error":"#NAME?"}},null,{"$f":"[2]!SUMSTRING(AA17:AW17,\"|\")","v":{"$error":"#NAME?"}}]
[10017,6,5,1001711,5,"1001721",6,1001712,6,"1001721",7,1001712,7,1001722,8,1001713,8,1001722,9,1001713,9,1001723,10,1001714,10,1001724,{"$f":"[2]!SUMSTRING(C18:D18,\"#\")","v":{"$error":"#NAME?"}},null,{"$f":"[2]!SUMSTRING(E18:F18,\"#\")","v":{"$error":"#NAME?"}},null,{"$f":"[2]!SUMSTRING(G18:H18,\"#\")","v":{"$error":"#NAME?"}},null,{"$f":"[2]!SUMSTRING(I18:J18,\"#\")","v":{"$error":"#NAME?"}},null,{"$f":"[2]!SUMSTRING(K18:L18,\"#\")","v":{"$error":"#NAME?"}},null,{"$f":"[2]!SUMSTRING(M18:N18,\"#\")","v":{"$error":"#NAME?"}},null,{"$f":"[2]!SUMSTRING(O18:P18,\"#\")","v":{"$error":"#NAME?"}},null,{"$f":"[2]!SUMSTRING(Q18:R18,\"#\")","v":{"$error":"#NAME?"}},null,{"$f":"[2]!SUMSTRING(S18:T18,\"#\")","v":{"$error":"#NAME?"}},null,{"$f":"[2]!SUMSTRING(U18:V18,\"#\")","v":{"$error":"#NAME?"}},null,{"$f":"[2]!SUMSTRING(W18:X18,\"#\")","v":{"$error":"#NAME?"}},null,{"$f":"[2]!SUMSTRING(Y18:Z18,\"#\")","v":{"$error":"#NAME?"}},null,{"$f":"[2]!SUMSTRING(AA18:AW18,\"|\")","v":{"$error":"#NAME?"}}]
[10018,5,5,1001811,5,"1001821",6,1001812,6,"1001821",7,1001812,7,1001822,8,1001813,8,1001822,9,1001813,9,1001823,10,1001814,10,1001824,{"$f":"[2]!SUMSTRING(C19:D19,\"#\")","v":{"$error":"#NAME?"}},null,{"$f":"[2]!SUMSTRING(E19:F19,\"#\")","v":{"$error":"#NAME?"}},null,{"$f":"[2]!SUMSTRING(G19:H19,\"#\")","v":{"$error":"#NAME?"}},null,{"$f":"[2]!SUMSTRING(I19:J19,\"#\")","v":{"$error":"#NAME?"}},null,{"$f":"[2]!SUMSTRING(K19:L19,\"#\")","v":{"$error":"#NAME?"}},null,{"$f":"[2]!SUMSTRING(M19:N19,\"#\")","v":{"$error":"#NAME?"}},null,{"$f":"[2]!SUMSTRING(O19:P19,\"#\")","v":{"$error":"#NAME?"}},null,{"$f":"[2]!SUMSTRING(Q19:R19,\"#\")","v":{"$error":"#NAME?"}},null,{"$f":"[2]!SUMSTRING(S19:T19,\"#\")","v":{"$error":"#NAME?"}},null,{"$f":"[2]!SUMSTRING(U19:V19,\"#\")","v":{"$error":"#NAME?"}},null,{"$f":"[2]!SUMSTRING(W19:X19,\"#\")","v":{"$error":"#NAME?"}},null,{"$f":"[2]!SUMSTRING(Y19:Z19,\"#\")","v":{"$error":"#NAME?"}},null,{"$f":"[2]!SUMSTRING(AA19:AW19,\"|\")","v":{"$error":"#NAME?"}}]
[10019,3,5,1001911,5,"1001921",6,1001912,6,"1001921",7,1001912,7,1001922,8,1001913,8,1001922,9,1001913,9,1001923,10,1001914,10,1001924,{"$f":"[2]!SUMSTRING(C20:D20,\"#\")","v":{"$error":"#NAME?"}},null,{"$f":"[2]!SUMSTRING(E20:F20,\"#\")","v":{"$error":"#NAME?"}},null,{"$f":"[2]!SUMSTRING(G20:H20,\"#\")","v":{"$error":"#NAME?"}},null,{"$f":"[2]!SUMSTRING(I20:J20,\"#\")","v":{"$error":"#NAME?"}},null,{"$f":"[2]!SUMSTRING(K20:L20,\"#\")","v":{"$error":"#NAME?"}},null,{"$f":"[2]!SUMSTRING(M20:N20,\"#\")","v":{"$error":"#NAME?"}},null,{"$f":"[2]!SUMSTRING(O20:P20,\"#\")","v":{"$error":"#NAME?"}},null,{"$f":"[2]!SUMSTRING(Q20:R20,\"#\")","v":{"$error":"#NAME?"}},null,{"$f":"[2]!SUMSTRING(S20:T20,\"#\")","v":{"$error":"#NAME?"}},null,{"$f":"[2]!SUMSTRING(U20:V20,\"#\")","v":{"$error":"#NAME?"}},null,{"$f":"[2]!SUMSTRING(W20:X20,\"#\")","v":{"$error":"#NAME?"}},null,{"$f":"[2]!SUMSTRING(Y20:Z20,\"#\")","v":{"$error":"#NAME?"}},null,{"$f":"[2]!SUMSTRING(AA20:AW20,\"|\")","v":{"$error":"#NAME?"}}]
[10020,1,5,1002011,5,"1002021",6,1002012,6,"1002021",7,1002012,7,1002022,8,1002013,8,1002022,9,1002013,9,1002023,10,1002014,10,1002024,{"$f":"[2]!SUMSTRING(C21:D21,\"#\")","v":{"$error":"#NAME?"}},null,{"$f":"[2]!SUMSTRING(E21:F21,\"#\")","v":{"$error":"#NAME?"}},null,{"$f":"[2]!SUMSTRING(G21:H21,\"#\")","v":{"$error":"#NAME?"}},null,{"$f":"[2]!SUMSTRING(I21:J21,\"#\")","v":{"$error":"#NAME?"}},null,{"$f":"[2]!SUMSTRING(K21:L21,\"#\")","v":{"$error":"#NAME?"}},null,{"$f":"[2]!SUMSTRING(M21:N21,\"#\")","v":{"$error":"#NAME?"}},null,{"$f":"[2]!SUMSTRING(O21:P21,\"#\")","v":{"$error":"#NAME?"}},null,{"$f":"[2]!SUMSTRING(Q21:R21,\"#\")","v":{"$error":"#NAME?"}},null,{"$f":"[2]!SUMSTRING(S21:T21,\"#\")","v":{"$error":"#NAME?"}},null,{"$f":"[2]!SUMSTRING(U21:V21,\"#\")","v":{"$error":"#NAME?"}},null,{"$f":"[2]!SUMSTRING(W21:X21,\"#\")","v":{"$error":"#NAME?"}},null,{"$f":"[2]!SUMSTRING(Y21:Z21,\"#\")","v":{"$error":"#NAME?"}},null,{"$f":"[2]!SUMSTRING(AA21:AW21,\"|\")","v":{"$error":"#NAME?"}}]
[10021,2,5,1002111,5,"1002121",6,1002112,6,"1002121",7,1002112,7,1002122,8,1002113,8,1002122,9,1002113,9,1002123,10,1002114,10,1002124,{"$f":"[2]!SUMSTRING(C22:D22,\"#\")","v":{"$error":"#NAME?"}},null,{"$f":"[2]!SUMSTRING(E22:F22,\"#\")","v":{"$error":"#NAME?"}},null,{"$f":"[2]!SUMSTRING(G22:H22,\"#\")","v":{"$error":"#NAME?"}},null,{"$f":"[2]!SUMSTRING(I22:J22,\"#\")","v":{"$error":"#NAME?"}},null,{"$f":"[2]!SUMSTRING(K22:L22,\"#\")","v":{"$error":"#NAME?"}},null,{"$f":"[2]!SUMSTRING(M22:N22,\"#\")","v":{"$error":"#NAME?"}},null,{"$f":"[2]!SUMSTRING(O22:P22,\"#\")","v":{"$error":"#NAME?"}},null,{"$f":"[2]!SUMSTRING(Q22:R22,\"#\")","v":{"$error":"#NAME?"}},null,{"$f":"[2]!SUMSTRING(S22:T22,\"#\")","v":{"$error":"#NAME?"}},null,{"$f":"[2]!SUMSTRING(U22:V22,\"#\")","v":{"$error":"#NAME?"}},null,{"$f":"[2]!SUMSTRING(W22:X22,\"#\")","v":{"$error":"#NAME?"}},null,{"$f":"[2]!SUMSTRING(Y22:Z22,\"#\")","v":{"$error":"#NAME?"}},null,{"$f":"[2]!SUMSTRING(AA22:AW22,\"|\")","v":{"$error":"#NAME?"}}]
[10022,3,5,1002211,5,"1002221",6,1002212,6,"1002221",7,1002212,7,1002222,8,1002213,8,1002222,9,1002213,9,1002223,10,1002214,10,1002224,{"$f":"[2]!SUMSTRING(C23:D23,\"#\")","v":{"$error":"#NAME?"}},null,{"$f":"[2]!SUMSTRING(E23:F23,\"#\")","v":{"$error":"#NAME?"}},null,{"$f":"[2]!SUMSTRING(G23:H23,\"#\")","v":{"$error":"#NAME?"}},null,{"$f":"[2]!SUMSTRING(I23:J23,\"#\")","v":{"$error":"#NAME?"}},null,{"$f":"[2]!SUMSTRING(K23:L23,\"#\")","v":{"$error":"#NAME?"}},null,{"$f":"[2]!SUMSTRING(M23:N23,\"#\")","v":{"$error":"#NAME?"}},null,{"$f":"[2]!SUMSTRING(O23:P23,\"#\")","v":{"$error":"#NAME?"}},null,{"$f":"[2]!SUMSTRING(Q23:R23,\"#\")","v":{"$error":"#NAME?"}},null,{"$f":"[2]!SUMSTRING(S23:T23,\"#\")","v":{"$error":"#NAME?"}},null,{"$f":"[2]!SUMSTRING(U23:V23,\"#\")","v":{"$error":"#NAME?"}},null,{"$f":"[2]!SUMSTRING(W23:X23,\"#\")","v":{"$error":"#NAME?"}},null,{"$f":"[2]!SUMSTRING(Y23:Z23,\"#\")","v":{"$error":"#NAME?"}},null,{"$f":"[2]!SUMSTRING(AA23:AW23,\"|\")","v":{"$error":"#NAME?"}}]
[10023,5,5,1002311,5,"1002321",6,1002312,6,"1002321",7,1002312,7,1002322,8,1002313,8,1002322,9,1002313,9,1002323,10,1002314,10,1002324,{"$f":"[2]!SUMSTRING(C24:D24,\"#\")","v":{"$error":"#NAME?"}},null,{"$f":"[2]!SUMSTRING(E24:F24,\"#\")","v":{"$error":"#NAME?"}},null,{"$f":"[2]!SUMSTRING(G24:H24,\"#\")","v":{"$error":"#NAME?"}},null,{"$f":"[2]!SUMSTRING(I24:J24,\"#\")","v":{"$error":"#NAME?"}},null,{"$f":"[2]!SUMSTRING(K24:L24,\"#\")","v":{"$error":"#NAME?"}},null,{"$f":"[2]!SUMSTRING(M24:N24,\"#\")","v":{"$error":"#NAME?"}},null,{"$f":"[2]!SUMSTRING(O24:P24,\"#\")","v":{"$error":"#NAME?"}},null,{"$f":"[2]!SUMSTRING(Q24:R24,\"#\")","v":{"$error":"#NAME?"}},null,{"$f":"[2]!SUMSTRING(S24:T24,\"#\")","v":{"$error":"#NAME?"}},null,{"$f":"[2]!SUMSTRING(U24:V24,\"#\")","v":{"$error":"#NAME?"}},null,{"$f":"[2]!SUMSTRING(W24:X24,\"#\")","v":{"$error":"#NAME?"}},null,{"$f":"[2]!SUMSTRING(Y24:Z24,\"#\")","v":{"$error":"#NAME?"}},null,{"$f":"[2]!SUMSTRING(AA24:AW24,\"|\")","v":{"$error":"#NAME?"}}]
[10024,3,4,1002411,null,null,5,1002411,5,"1002421",6,{"$f":"H25+1","v":1002412},6,"1002421",{"$nulls":12},{"$f":"[2]!SUMSTRING(C25:D25,\"#\")","v":{"$error":"#NAME?"}},null,{"$f":"[2]!SUMSTRING(E25:F25,\"#\")","v":{"$error":"#NAME?"}},null,{"$f":"[2]!SUMSTRING(G25:H25,\"#\")","v":{"$error":"#NAME?"}},null,{"$f":"[2]!SUMSTRING(I25:J25,\"#\")","v":{"$error":"#NAME?"}},null,{"$f":"[2]!SUMSTRING(K25:L25,\"#\")","v":{"$error":"#NAME?"}},null,{"$f":"[2]!SUMSTRING(M25:N25,\"#\")","v":{"$error":"#NAME?"}},null,{"$f":"[2]!SUMSTRING(O25:P25,\"#\")","v":{"$error":"#NAME?"}},null,{"$f":"[2]!SUMSTRING(Q25:R25,\"#\")","v":{"$error":"#NAME?"}},null,{"$f":"[2]!SUMSTRING(S25:T25,\"#\")","v":{"$error":"#NAME?"}},null,{"$f":"[2]!SUMSTRING(U25:V25,\"#\")","v":{"$error":"#NAME?"}},null,{"$f":"[2]!SUMSTRING(W25:X25,\"#\")","v":{"$error":"#NAME?"}},null,{"$f":"[2]!SUMSTRING(Y25:Z25,\"#\")","v":{"$error":"#NAME?"}},null,{"$f":"[2]!SUMSTRING(AA25:AW25,\"|\")","v":{"$error":"#NAME?"}}]
[10025,1,4,1002511,null,null,5,1002511,5,"1002521",6,{"$f":"H26+1","v":1002512},6,"1002521",{"$nulls":12},{"$f":"[2]!SUMSTRING(C26:D26,\"#\")","v":{"$error":"#NAME?"}},null,{"$f":"[2]!SUMSTRING(E26:F26,\"#\")","v":{"$error":"#NAME?"}},null,{"$f":"[2]!SUMSTRING(G26:H26,\"#\")","v":{"$error":"#NAME?"}},null,{"$f":"[2]!SUMSTRING(I26:J26,\"#\")","v":{"$error":"#NAME?"}},null,{"$f":"[2]!SUMSTRING(K26:L26,\"#\")","v":{"$error":"#NAME?"}},null,{"$f":"[2]!SUMSTRING(M26:N26,\"#\")","v":{"$error":"#NAME?"}},null,{"$f":"[2]!SUMSTRING(O26:P26,\"#\")","v":{"$error":"#NAME?"}},null,{"$f":"[2]!SUMSTRING(Q26:R26,\"#\")","v":{"$error":"#NAME?"}},null,{"$f":"[2]!SUMSTRING(S26:T26,\"#\")","v":{"$error":"#NAME?"}},null,{"$f":"[2]!SUMSTRING(U26:V26,\"#\")","v":{"$error":"#NAME?"}},null,{"$f":"[2]!SUMSTRING(W26:X26,\"#\")","v":{"$error":"#NAME?"}},null,{"$f":"[2]!SUMSTRING(Y26:Z26,\"#\")","v":{"$error":"#NAME?"}},null,{"$f":"[2]!SUMSTRING(AA26:AW26,\"|\")","v":{"$error":"#NAME?"}}]
[10026,5,4,1002611,null,null,5,1002611,5,"1002621",6,1002612,6,"1002621",7,{"$f":"L27","v":1002612},7,{"$f":"N27+1","v":1002622},8,{"$f":"P27+1","v":1002613},8,{"$f":"R27","v":1002622},9,{"$f":"T27","v":1002613},9,{"$f":"V27+1","v":1002623},{"$f":"[2]!SUMSTRING(C27:D27,\"#\")","v":{"$error":"#NAME?"}},null,{"$f":"[2]!SUMSTRING(E27:F27,\"#\")","v":{"$error":"#NAME?"}},null,{"$f":"[2]!SUMSTRING(G27:H27,\"#\")","v":{"$error":"#NAME?"}},null,{"$f":"[2]!SUMSTRING(I27:J27,\"#\")","v":{"$error":"#NAME?"}},null,{"$f":"[2]!SUMSTRING(K27:L27,\"#\")","v":{"$error":"#NAME?"}},null,{"$f":"[2]!SUMSTRING(M27:N27,\"#\")","v":{"$error":"#NAME?"}},null,{"$f":"[2]!SUMSTRING(O27:P27,\"#\")","v":{"$error":"#NAME?"}},null,{"$f":"[2]!SUMSTRING(Q27:R27,\"#\")","v":{"$error":"#NAME?"}},null,{"$f":"[2]!SUMSTRING(S27:T27,\"#\")","v":{"$error":"#NAME?"}},null,{"$f":"[2]!SUMSTRING(U27:V27,\"#\")","v":{"$error":"#NAME?"}},null,{"$f":"[2]!SUMSTRING(W27:X27,\"#\")","v":{"$error":"#NAME?"}},null,{"$f":"[2]!SUMSTRING(Y27:Z27,\"#\")","v":{"$error":"#NAME?"}},null,{"$f":"[2]!SUMSTRING(AA27:AW27,\"|\")","v":{"$error":"#NAME?"}}]
[10027,5,4,1002711,null,null,5,1002711,5,"1002721",6,1002712,6,"1002721",{"$f":"K28+1","v":7},{"$f":"L28","v":1002712},{"$f":"M28+1","v":7},{"$f":"N28+1","v":1002722},{"$f":"O28+1","v":8},{"$f":"P28+1","v":1002713},{"$f":"S28","v":8},{"$f":"R28","v":1002722},{"$f":"S28+1","v":9},{"$f":"T28","v":1002713},9,{"$f":"V28+1","v":1002723},{"$f":"[2]!SUMSTRING(C28:D28,\"#\")","v":{"$error":"#NAME?"}},null,{"$f":"[2]!SUMSTRING(E28:F28,\"#\")","v":{"$error":"#NAME?"}},null,{"$f":"[2]!SUMSTRING(G28:H28,\"#\")","v":{"$error":"#NAME?"}},null,{"$f":"[2]!SUMSTRING(I28:J28,\"#\")","v":{"$error":"#NAME?"}},null,{"$f":"[2]!SUMSTRING(K28:L28,\"#\")","v":{"$error":"#NAME?"}},null,{"$f":"[2]!SUMSTRING(M28:N28,\"#\")","v":{"$error":"#NAME?"}},null,{"$f":"[2]!SUMSTRING(O28:P28,\"#\")","v":{"$error":"#NAME?"}},null,{"$f":"[2]!SUMSTRING(Q28:R28,\"#\")","v":{"$error":"#NAME?"}},null,{"$f":"[2]!SUMSTRING(S28:T28,\"#\")","v":{"$error":"#NAME?"}},null,{"$f":"[2]!SUMSTRING(U28:V28,\"#\")","v":{"$error":"#NAME?"}},null,{"$f":"[2]!SUMSTRING(W28:X28,\"#\")","v":{"$error":"#NAME?"}},null,{"$f":"[2]!SUMSTRING(Y28:Z28,\"#\")","v":{"$error":"#NAME?"}},null,{"$f":"[2]!SUMSTRING(AA28:AW28,\"|\")","v":{"$error":"#NAME?"}}]
[10028,5,4,1002811,null,null,5,1002811,5,"1002821",6,1002812,6,"1002821",{"$f":"K29+1","v":7},{"$f":"L29","v":1002812},{"$f":"M29+1","v":7},{"$f":"N29+1","v":1002822},8,1002813,8,1002822,9,1002813,9,1002823,{"$f":"[2]!SUMSTRING(C29:D29,\"#\")","v":{"$error":"#NAME?"}},null,{"$f":"[2]!SUMSTRING(E29:F29,\"#\")","v":{"$error":"#NAME?"}},null,{"$f":"[2]!SUMSTRING(G29:H29,\"#\")","v":{"$error":"#NAME?"}},null,{"$f":"[2]!SUMSTRING(I29:J29,\"#\")","v":{"$error":"#NAME?"}},null,{"$f":"[2]!SUMSTRING(K29:L29,\"#\")","v":{"$error":"#NAME?"}},null,{"$f":"[2]!SUMSTRING(M29:N29,\"#\")","v":{"$error":"#NAME?"}},null,{"$f":"[2]!SUMSTRING(O29:P29,\"#\")","v":{"$error":"#NAME?"}},null,{"$f":"[2]!SUMSTRING(Q29:R29,\"#\")","v":{"$error":"#NAME?"}},null,{"$f":"[2]!SUMSTRING(S29:T29,\"#\")","v":{"$error":"#NAME?"}},null,{"$f":"[2]!SUMSTRING(U29:V29,\"#\")","v":{"$error":"#NAME?"}},null,{"$f":"[2]!SUMSTRING(W29:X29,\"#\")","v":{"$error":"#NAME?"}},null,{"$f":"[2]!SUMSTRING(Y29:Z29,\"#\")","v":{"$error":"#NAME?"}},null,{"$f":"[2]!SUMSTRING(AA29:AW29,\"|\")","v":{"$error":"#NAME?"}}]
[10029,4,4,1002911,null,null,5,1002911,5,"1002921",6,1002912,6,"1002921",{"$nulls":12},{"$f":"[2]!SUMSTRING(C30:D30,\"#\")","v":{"$error":"#NAME?"}},null,{"$f":"[2]!SUMSTRING(E30:F30,\"#\")","v":{"$error":"#NAME?"}},null,{"$f":"[2]!SUMSTRING(G30:H30,\"#\")","v":{"$error":"#NAME?"}},null,{"$f":"[2]!SUMSTRING(I30:J30,\"#\")","v":{"$error":"#NAME?"}},null,{"$f":"[2]!SUMSTRING(K30:L30,\"#\")","v":{"$error":"#NAME?"}},null,{"$f":"[2]!SUMSTRING(M30:N30,\"#\")","v":{"$error":"#NAME?"}},null,{"$f":"[2]!SUMSTRING(O30:P30,\"#\")","v":{"$error":"#NAME?"}},null,{"$f":"[2]!SUMSTRING(Q30:R30,\"#\")","v":{"$error":"#NAME?"}},null,{"$f":"[2]!SUMSTRING(S30:T30,\"#\")","v":{"$error":"#NAME?"}},null,{"$f":"[2]!SUMSTRING(U30:V30,\"#\")","v":{"$error":"#NAME?"}},null,{"$f":"[2]!SUMSTRING(W30:X30,\"#\")","v":{"$error":"#NAME?"}},null,{"$f":"[2]!SUMSTRING(Y30:Z30,\"#\")","v":{"$error":"#NAME?"}},null,{"$f":"[2]!SUMSTRING(AA30:AW30,\"|\")","v":{"$error":"#NAME?"}}]
[10030,3,4,1003011,null,null,5,1003011,5,"1003021",6,1003012,6,"1003021",{"$nulls":12},{"$f":"[2]!SUMSTRING(C31:D31,\"#\")","v":{"$error":"#NAME?"}},null,{"$f":"[2]!SUMSTRING(E31:F31,\"#\")","v":{"$error":"#NAME?"}},null,{"$f":"[2]!SUMSTRING(G31:H31,\"#\")","v":{"$error":"#NAME?"}},null,{"$f":"[2]!SUMSTRING(I31:J31,\"#\")","v":{"$error":"#NAME?"}},null,{"$f":"[2]!SUMSTRING(K31:L31,\"#\")","v":{"$error":"#NAME?"}},null,{"$f":"[2]!SUMSTRING(M31:N31,\"#\")","v":{"$error":"#NAME?"}},null,{"$f":"[2]!SUMSTRING(O31:P31,\"#\")","v":{"$error":"#NAME?"}},null,{"$f":"[2]!SUMSTRING(Q31:R31,\"#\")","v":{"$error":"#NAME?"}},null,{"$f":"[2]!SUMSTRING(S31:T31,\"#\")","v":{"$error":"#NAME?"}},null,{"$f":"[2]!SUMSTRING(U31:V31,\"#\")","v":{"$error":"#NAME?"}},null,{"$f":"[2]!SUMSTRING(W31:X31,\"#\")","v":{"$error":"#NAME?"}},null,{"$f":"[2]!SUMSTRING(Y31:Z31,\"#\")","v":{"$error":"#NAME?"}},null,{"$f":"[2]!SUMSTRING(AA31:AW31,\"|\")","v":{"$error":"#NAME?"}}]
[10031,4,4,1003111,null,null,5,1003111,5,"1003121",6,1003112,6,"1003121",{"$nulls":12},{"$f":"[2]!SUMSTRING(C32:D32,\"#\")","v":{"$error":"#NAME?"}},null,{"$f":"[2]!SUMSTRING(E32:F32,\"#\")","v":{"$error":"#NAME?"}},null,{"$f":"[2]!SUMSTRING(G32:H32,\"#\")","v":{"$error":"#NAME?"}},null,{"$f":"[2]!SUMSTRING(I32:J32,\"#\")","v":{"$error":"#NAME?"}},null,{"$f":"[2]!SUMSTRING(K32:L32,\"#\")","v":{"$error":"#NAME?"}},null,{"$f":"[2]!SUMSTRING(M32:N32,\"#\")","v":{"$error":"#NAME?"}},null,{"$f":"[2]!SUMSTRING(O32:P32,\"#\")","v":{"$error":"#NAME?"}},null,{"$f":"[2]!SUMSTRING(Q32:R32,\"#\")","v":{"$error":"#NAME?"}},null,{"$f":"[2]!SUMSTRING(S32:T32,\"#\")","v":{"$error":"#NAME?"}},null,{"$f":"[2]!SUMSTRING(U32:V32,\"#\")","v":{"$error":"#NAME?"}},null,{"$f":"[2]!SUMSTRING(W32:X32,\"#\")","v":{"$error":"#NAME?"}},null,{"$f":"[2]!SUMSTRING(Y32:Z32,\"#\")","v":{"$error":"#NAME?"}},null,{"$f":"[2]!SUMSTRING(AA32:AW32,\"|\")","v":{"$error":"#NAME?"}}]
[10032,4,4,1003211,null,null,5,1003211,5,"1003221",6,1003212,6,"1003221",{"$nulls":12},{"$f":"[2]!SUMSTRING(C33:D33,\"#\")","v":{"$error":"#NAME?"}},null,{"$f":"[2]!SUMSTRING(E33:F33,\"#\")","v":{"$error":"#NAME?"}},null,{"$f":"[2]!SUMSTRING(G33:H33,\"#\")","v":{"$error":"#NAME?"}},null,{"$f":"[2]!SUMSTRING(I33:J33,\"#\")","v":{"$error":"#NAME?"}},null,{"$f":"[2]!SUMSTRING(K33:L33,\"#\")","v":{"$error":"#NAME?"}},null,{"$f":"[2]!SUMSTRING(M33:N33,\"#\")","v":{"$error":"#NAME?"}},null,{"$f":"[2]!SUMSTRING(O33:P33,\"#\")","v":{"$error":"#NAME?"}},null,{"$f":"[2]!SUMSTRING(Q33:R33,\"#\")","v":{"$error":"#NAME?"}},null,{"$f":"[2]!SUMSTRING(S33:T33,\"#\")","v":{"$error":"#NAME?"}},null,{"$f":"[2]!SUMSTRING(U33:V33,\"#\")","v":{"$error":"#NAME?"}},null,{"$f":"[2]!SUMSTRING(W33:X33,\"#\")","v":{"$error":"#NAME?"}},null,{"$f":"[2]!SUMSTRING(Y33:Z33,\"#\")","v":{"$error":"#NAME?"}},null,{"$f":"[2]!SUMSTRING(AA33:AW33,\"|\")","v":{"$error":"#NAME?"}}]
[10033,4,4,1003311,null,null,5,1003311,5,"1003321",6,1003312,6,"1003321",{"$nulls":12},{"$f":"[2]!SUMSTRING(C34:D34,\"#\")","v":{"$error":"#NAME?"}},null,{"$f":"[2]!SUMSTRING(E34:F34,\"#\")","v":{"$error":"#NAME?"}},null,{"$f":"[2]!SUMSTRING(G34:H34,\"#\")","v":{"$error":"#NAME?"}},null,{"$f":"[2]!SUMSTRING(I34:J34,\"#\")","v":{"$error":"#NAME?"}},null,{"$f":"[2]!SUMSTRING(K34:L34,\"#\")","v":{"$error":"#NAME?"}},null,{"$f":"[2]!SUMSTRING(M34:N34,\"#\")","v":{"$error":"#NAME?"}},null,{"$f":"[2]!SUMSTRING(O34:P34,\"#\")","v":{"$error":"#NAME?"}},null,{"$f":"[2]!SUMSTRING(Q34:R34,\"#\")","v":{"$error":"#NAME?"}},null,{"$f":"[2]!SUMSTRING(S34:T34,\"#\")","v":{"$error":"#NAME?"}},null,{"$f":"[2]!SUMSTRING(U34:V34,\"#\")","v":{"$error":"#NAME?"}},null,{"$f":"[2]!SUMSTRING(W34:X34,\"#\")","v":{"$error":"#NAME?"}},null,{"$f":"[2]!SUMSTRING(Y34:Z34,\"#\")","v":{"$error":"#NAME?"}},null,{"$f":"[2]!SUMSTRING(AA34:AW34,\"|\")","v":{"$error":"#NAME?"}}]
[10034,6,4,1003411,null,null,5,1003411,5,"1003421",6,1003412,6,"1003421",{"$f":"K35+1","v":7},{"$f":"L35","v":1003412},{"$f":"M35+1","v":7},{"$f":"N35+1","v":1003422},{"$f":"O35+1","v":8},{"$f":"P35+1","v":1003413},{"$f":"S35","v":8},{"$f":"R35","v":1003422},{"$f":"S35+1","v":9},{"$f":"T35","v":1003413},9,{"$f":"V35+1","v":1003423},{"$f":"[2]!SUMSTRING(C35:D35,\"#\")","v":{"$error":"#NAME?"}},null,{"$f":"[2]!SUMSTRING(E35:F35,\"#\")","v":{"$error":"#NAME?"}},null,{"$f":"[2]!SUMSTRING(G35:H35,\"#\")","v":{"$error":"#NAME?"}},null,{"$f":"[2]!SUMSTRING(I35:J35,\"#\")","v":{"$error":"#NAME?"}},null,{"$f":"[2]!SUMSTRING(K35:L35,\"#\")","v":{"$error":"#NAME?"}},null,{"$f":"[2]!SUMSTRING(M35:N35,\"#\")","v":{"$error":"#NAME?"}},null,{"$f":"[2]!SUMSTRING(O35:P35,\"#\")","v":{"$error":"#NAME?"}},null,{"$f":"[2]!SUMSTRING(Q35:R35,\"#\")","v":{"$error":"#NAME?"}},null,{"$f":"[2]!SUMSTRING(S35:T35,\"#\")","v":{"$error":"#NAME?"}},null,{"$f":"[2]!SUMSTRING(U35:V35,\"#\")","v":{"$error":"#NAME?"}},null,{"$f":"[2]!SUMSTRING(W35:X35,\"#\")","v":{"$error":"#NAME?"}},null,{"$f":"[2]!SUMSTRING(Y35:Z35,\"#\")","v":{"$error":"#NAME?"}},null,{"$f":"[2]!SUMSTRING(AA35:AW35,\"|\")","v":{"$error":"#NAME?"}}]
[10035,6,4,1003511,null,null,5,1003511,5,"1003521",6,1003512,6,"1003521",{"$f":"K36+1","v":7},{"$f":"L36","v":1003512},{"$f":"M36+1","v":7},{"$f":"N36+1","v":1003522},{"$f":"O36+1","v":8},{"$f":"P36+1","v":1003513},{"$f":"S36","v":8},{"$f":"R36","v":1003522},{"$f":"S36+1","v":9},{"$f":"T36","v":1003513},9,{"$f":"V36+1","v":1003523},{"$f":"[2]!SUMSTRING(C36:D36,\"#\")","v":{"$error":"#NAME?"}},null,{"$f":"[2]!SUMSTRING(E36:F36,\"#\")","v":{"$error":"#NAME?"}},null,{"$f":"[2]!SUMSTRING(G36:H36,\"#\")","v":{"$error":"#NAME?"}},null,{"$f":"[2]!SUMSTRING(I36:J36,\"#\")","v":{"$error":"#NAME?"}},null,{"$f":"[2]!SUMSTRING(K36:L36,\"#\")","v":{"$error":"#NAME?"}},null,{"$f":"[2]!SUMSTRING(M36:N36,\"#\")","v":{"$error":"#NAME?"}},null,{"$f":"[2]!SUMSTRING(O36:P36,\"#\")","v":{"$error":"#NAME?"}},null,{"$f":"[2]!SUMSTRING(Q36:R36,\"#\")","v":{"$error":"#NAME?"}},null,{"$f":"[2]!SUMSTRING(S36:T36,\"#\")","v":{"$error":"#NAME?"}},null,{"$f":"[2]!SUMSTRING(U36:V36,\"#\")","v":{"$error":"#NAME?"}},null,{"$f":"[2]!SUMSTRING(W36:X36,\"#\")","v":{"$error":"#NAME?"}},null,{"$f":"[2]!SUMSTRING(Y36:Z36,\"#\")","v":{"$error":"#NAME?"}},null,{"$f":"[2]!SUMSTRING(AA36:AW36,\"|\")","v":{"$error":"#NAME?"}}]
[10036,2,4,1003611,null,null,5,1003611,5,"1003621",6,1003612,6,"1003621",{"$nulls":12},{"$f":"[2]!SUMSTRING(C37:D37,\"#\")","v":{"$error":"#NAME?"}},null,{"$f":"[2]!SUMSTRING(E37:F37,\"#\")","v":{"$error":"#NAME?"}},null,{"$f":"[2]!SUMSTRING(G37:H37,\"#\")","v":{"$error":"#NAME?"}},null,{"$f":"[2]!SUMSTRING(I37:J37,\"#\")","v":{"$error":"#NAME?"}},null,{"$f":"[2]!SUMSTRING(K37:L37,\"#\")","v":{"$error":"#NAME?"}},null,{"$f":"[2]!SUMSTRING(M37:N37,\"#\")","v":{"$error":"#NAME?"}},null,{"$f":"[2]!SUMSTRING(O37:P37,\"#\")","v":{"$error":"#NAME?"}},null,{"$f":"[2]!SUMSTRING(Q37:R37,\"#\")","v":{"$error":"#NAME?"}},null,{"$f":"[2]!SUMSTRING(S37:T37,\"#\")","v":{"$error":"#NAME?"}},null,{"$f":"[2]!SUMSTRING(U37:V37,\"#\")","v":{"$error":"#NAME?"}},null,{"$f":"[2]!SUMSTRING(W37:X37,\"#\")","v":{"$error":"#NAME?"}},null,{"$f":"[2]!SUMSTRING(Y37:Z37,\"#\")","v":{"$error":"#NAME?"}},null,{"$f":"[2]!SUMSTRING(AA37:AW37,\"|\")","v":{"$error":"#NAME?"}}]
[10037,2,4,1003711,null,null,5,1003711,5,"1003721",6,1003712,6,"1003721",{"$nulls":12},{"$f":"[2]!SUMSTRING(C38:D38,\"#\")","v":{"$error":"#NAME?"}},null,{"$f":"[2]!SUMSTRING(E38:F38,\"#\")","v":{"$error":"#NAME?"}},null,{"$f":"[2]!SUMSTRING(G38:H38,\"#\")","v":{"$error":"#NAME?"}},null,{"$f":"[2]!SUMSTRING(I38:J38,\"#\")","v":{"$error":"#NAME?"}},null,{"$f":"[2]!SUMSTRING(K38:L38,\"#\")","v":{"$error":"#NAME?"}},null,{"$f":"[2]!SUMSTRING(M38:N38,\"#\")","v":{"$error":"#NAME?"}},null,{"$f":"[2]!SUMSTRING(O38:P38,\"#\")","v":{"$error":"#NAME?"}},null,{"$f":"[2]!SUMSTRING(Q38:R38,\"#\")","v":{"$error":"#NAME?"}},null,{"$f":"[2]!SUMSTRING(S38:T38,\"#\")","v":{"$error":"#NAME?"}},null,{"$f":"[2]!SUMSTRING(U38:V38,\"#\")","v":{"$error":"#NAME?"}},null,{"$f":"[2]!SUMSTRING(W38:X38,\"#\")","v":{"$error":"#NAME?"}},null,{"$f":"[2]!SUMSTRING(Y38:Z38,\"#\")","v":{"$error":"#NAME?"}},null,{"$f":"[2]!SUMSTRING(AA38:AW38,\"|\")","v":{"$error":"#NAME?"}}]
[10038,1,4,1003811,null,null,5,1003811,5,"1003821",6,1003812,6,"1003821",{"$nulls":12},{"$f":"[2]!SUMSTRING(C39:D39,\"#\")","v":{"$error":"#NAME?"}},null,{"$f":"[2]!SUMSTRING(E39:F39,\"#\")","v":{"$error":"#NAME?"}},null,{"$f":"[2]!SUMSTRING(G39:H39,\"#\")","v":{"$error":"#NAME?"}},null,{"$f":"[2]!SUMSTRING(I39:J39,\"#\")","v":{"$error":"#NAME?"}},null,{"$f":"[2]!SUMSTRING(K39:L39,\"#\")","v":{"$error":"#NAME?"}},null,{"$f":"[2]!SUMSTRING(M39:N39,\"#\")","v":{"$error":"#NAME?"}},null,{"$f":"[2]!SUMSTRING(O39:P39,\"#\")","v":{"$error":"#NAME?"}},null,{"$f":"[2]!SUMSTRING(Q39:R39,\"#\")","v":{"$error":"#NAME?"}},null,{"$f":"[2]!SUMSTRING(S39:T39,\"#\")","v":{"$error":"#NAME?"}},null,{"$f":"[2]!SUMSTRING(U39:V39,\"#\")","v":{"$error":"#NAME?"}},null,{"$f":"[2]!SUMSTRING(W39:X39,\"#\")","v":{"$error":"#NAME?"}},null,{"$f":"[2]!SUMSTRING(Y39:Z39,\"#\")","v":{"$error":"#NAME?"}},null,{"$f":"[2]!SUMSTRING(AA39:AW39,\"|\")","v":{"$error":"#NAME?"}}]
[10039,2,4,1003911,null,null,5,1003911,5,"1003921",6,1003912,6,"1003921",{"$nulls":12},{"$f":"[2]!SUMSTRING(C40:D40,\"#\")","v":{"$error":"#NAME?"}},null,{"$f":"[2]!SUMSTRING(E40:F40,\"#\")","v":{"$error":"#NAME?"}},null,{"$f":"[2]!SUMSTRING(G40:H40,\"#\")","v":{"$error":"#NAME?"}},null,{"$f":"[2]!SUMSTRING(I40:J40,\"#\")","v":{"$error":"#NAME?"}},null,{"$f":"[2]!SUMSTRING(K40:L40,\"#\")","v":{"$error":"#NAME?"}},null,{"$f":"[2]!SUMSTRING(M40:N40,\"#\")","v":{"$error":"#NAME?"}},null,{"$f":"[2]!SUMSTRING(O40:P40,\"#\")","v":{"$error":"#NAME?"}},null,{"$f":"[2]!SUMSTRING(Q40:R40,\"#\")","v":{"$error":"#NAME?"}},null,{"$f":"[2]!SUMSTRING(S40:T40,\"#\")","v":{"$error":"#NAME?"}},null,{"$f":"[2]!SUMSTRING(U40:V40,\"#\")","v":{"$error":"#NAME?"}},null,{"$f":"[2]!SUMSTRING(W40:X40,\"#\")","v":{"$error":"#NAME?"}},null,{"$f":"[2]!SUMSTRING(Y40:Z40,\"#\")","v":{"$error":"#NAME?"}},null,{"$f":"[2]!SUMSTRING(AA40:AW40,\"|\")","v":{"$error":"#NAME?"}}]
[10040,1,4,1004011,null,null,5,1004011,5,"1004021",6,1004012,6,"1004021",{"$nulls":12},{"$f":"[2]!SUMSTRING(C41:D41,\"#\")","v":{"$error":"#NAME?"}},null,{"$f":"[2]!SUMSTRING(E41:F41,\"#\")","v":{"$error":"#NAME?"}},null,{"$f":"[2]!SUMSTRING(G41:H41,\"#\")","v":{"$error":"#NAME?"}},null,{"$f":"[2]!SUMSTRING(I41:J41,\"#\")","v":{"$error":"#NAME?"}},null,{"$f":"[2]!SUMSTRING(K41:L41,\"#\")","v":{"$error":"#NAME?"}},null,{"$f":"[2]!SUMSTRING(M41:N41,\"#\")","v":{"$error":"#NAME?"}},null,{"$f":"[2]!SUMSTRING(O41:P41,\"#\")","v":{"$error":"#NAME?"}},null,{"$f":"[2]!SUMSTRING(Q41:R41,\"#\")","v":{"$error":"#NAME?"}},null,{"$f":"[2]!SUMSTRING(S41:T41,\"#\")","v":{"$error":"#NAME?"}},null,{"$f":"[2]!SUMSTRING(U41:V41,\"#\")","v":{"$error":"#NAME?"}},null,{"$f":"[2]!SUMSTRING(W41:X41,\"#\")","v":{"$error":"#NAME?"}},null,{"$f":"[2]!SUMSTRING(Y41:Z41,\"#\")","v":{"$error":"#NAME?"}},null,{"$f":"[2]!SUMSTRING(AA41:AW41,\"|\")","v":{"$error":"#NAME?"}}]
[10041,1,4,1004111,null,null,5,{"$f":"D42","v":1004111},5,{"$f":"H42+10","v":1004121},{"$f":"I42+1","v":6},{"$f":"H42+1","v":1004112},{"$f":"K42","v":6},{"$f":"IF(M42=7,J42+1,J42)","v":1004121},{"$nulls":12},{"$f":"[2]!SUMSTRING(C42:D42,\"#\")","v":{"$error":"#NAME?"}},null,{"$f":"[2]!SUMSTRING(E42:F42,\"#\")","v":{"$error":"#NAME?"}},null,{"$f":"[2]!SUMSTRING(G42:H42,\"#\")","v":{"$error":"#NAME?"}},null,{"$f":"[2]!SUMSTRING(I42:J42,\"#\")","v":{"$error":"#NAME?"}},null,{"$f":"[2]!SUMSTRING(K42:L42,\"#\")","v":{"$error":"#NAME?"}},null,{"$f":"[2]!SUMSTRING(M42:N42,\"#\")","v":{"$error":"#NAME?"}},null,{"$f":"[2]!SUMSTRING(O42:P42,\"#\")","v":{"$error":"#NAME?"}},null,{"$f":"[2]!SUMSTRING(Q42:R42,\"#\")","v":{"$error":"#NAME?"}},null,{"$f":"[2]!SUMSTRING(S42:T42,\"#\")","v":{"$error":"#NAME?"}},null,{"$f":"[2]!SUMSTRING(U42:V42,\"#\")","v":{"$error":"#NAME?"}},null,{"$f":"[2]!SUMSTRING(W42:X42,\"#\")","v":{"$error":"#NAME?"}},null,{"$f":"[2]!SUMSTRING(Y42:Z42,\"#\")","v":{"$error":"#NAME?"}},null,{"$f":"[2]!SUMSTRING(AA42:AW42,\"|\")","v":{"$error":"#NAME?"}}]
[10042,3,4,1004211,null,null,5,1004211,5,"1004221",6,1004212,6,"1004221",{"$nulls":12},{"$f":"[2]!SUMSTRING(C43:D43,\"#\")","v":{"$error":"#NAME?"}},null,{"$f":"[2]!SUMSTRING(E43:F43,\"#\")","v":{"$error":"#NAME?"}},null,{"$f":"[2]!SUMSTRING(G43:H43,\"#\")","v":{"$error":"#NAME?"}},null,{"$f":"[2]!SUMSTRING(I43:J43,\"#\")","v":{"$error":"#NAME?"}},null,{"$f":"[2]!SUMSTRING(K43:L43,\"#\")","v":{"$error":"#NAME?"}},null,{"$f":"[2]!SUMSTRING(M43:N43,\"#\")","v":{"$error":"#NAME?"}},null,{"$f":"[2]!SUMSTRING(O43:P43,\"#\")","v":{"$error":"#NAME?"}},null,{"$f":"[2]!SUMSTRING(Q43:R43,\"#\")","v":{"$error":"#NAME?"}},null,{"$f":"[2]!SUMSTRING(S43:T43,\"#\")","v":{"$error":"#NAME?"}},null,{"$f":"[2]!SUMSTRING(U43:V43,\"#\")","v":{"$error":"#NAME?"}},null,{"$f":"[2]!SUMSTRING(W43:X43,\"#\")","v":{"$error":"#NAME?"}},null,{"$f":"[2]!SUMSTRING(Y43:Z43,\"#\")","v":{"$error":"#NAME?"}},null,{"$f":"[2]!SUMSTRING(AA43:AW43,\"|\")","v":{"$error":"#NAME?"}}]
[10043,2,4,1004311,null,null,5,{"$f":"D44","v":1004311},5,{"$f":"H44+10","v":1004321},{"$f":"I44+1","v":6},{"$f":"H44+1","v":1004312},{"$f":"K44","v":6},{"$f":"IF(M44=7,J44+1,J44)","v":1004321},{"$nulls":12},{"$f":"[2]!SUMSTRING(C44:D44,\"#\")","v":{"$error":"#NAME?"}},null,{"$f":"[2]!SUMSTRING(E44:F44,\"#\")","v":{"$error":"#NAME?"}},null,{"$f":"[2]!SUMSTRING(G44:H44,\"#\")","v":{"$error":"#NAME?"}},null,{"$f":"[2]!SUMSTRING(I44:J44,\"#\")","v":{"$error":"#NAME?"}},null,{"$f":"[2]!SUMSTRING(K44:L44,\"#\")","v":{"$error":"#NAME?"}},null,{"$f":"[2]!SUMSTRING(M44:N44,\"#\")","v":{"$error":"#NAME?"}},null,{"$f":"[2]!SUMSTRING(O44:P44,\"#\")","v":{"$error":"#NAME?"}},null,{"$f":"[2]!SUMSTRING(Q44:R44,\"#\")","v":{"$error":"#NAME?"}},null,{"$f":"[2]!SUMSTRING(S44:T44,\"#\")","v":{"$error":"#NAME?"}},null,{"$f":"[2]!SUMSTRING(U44:V44,\"#\")","v":{"$error":"#NAME?"}},null,{"$f":"[2]!SUMSTRING(W44:X44,\"#\")","v":{"$error":"#NAME?"}},null,{"$f":"[2]!SUMSTRING(Y44:Z44,\"#\")","v":{"$error":"#NAME?"}},null,{"$f":"[2]!SUMSTRING(AA44:AW44,\"|\")","v":{"$error":"#NAME?"}}]
[10044,6,4,1004411,null,null,5,{"$f":"D45","v":1004411},5,{"$f":"H45+10","v":1004421},6,1004412,6,1004421,{"$f":"K45+1","v":7},{"$f":"L45","v":1004412},{"$f":"M45+1","v":7},{"$f":"N45+1","v":1004422},{"$f":"O45+1","v":8},{"$f":"P45+1","v":1004413},{"$f":"S45","v":8},{"$f":"R45","v":1004422},{"$f":"S45+1","v":9},{"$f":"T45","v":1004413},9,{"$f":"V45+1","v":1004423},{"$f":"[2]!SUMSTRING(C45:D45,\"#\")","v":{"$error":"#NAME?"}},null,{"$f":"[2]!SUMSTRING(E45:F45,\"#\")","v":{"$error":"#NAME?"}},null,{"$f":"[2]!SUMSTRING(G45:H45,\"#\")","v":{"$error":"#NAME?"}},null,{"$f":"[2]!SUMSTRING(I45:J45,\"#\")","v":{"$error":"#NAME?"}},null,{"$f":"[2]!SUMSTRING(K45:L45,\"#\")","v":{"$error":"#NAME?"}},null,{"$f":"[2]!SUMSTRING(M45:N45,\"#\")","v":{"$error":"#NAME?"}},null,{"$f":"[2]!SUMSTRING(O45:P45,\"#\")","v":{"$error":"#NAME?"}},null,{"$f":"[2]!SUMSTRING(Q45:R45,\"#\")","v":{"$error":"#NAME?"}},null,{"$f":"[2]!SUMSTRING(S45:T45,\"#\")","v":{"$error":"#NAME?"}},null,{"$f":"[2]!SUMSTRING(U45:V45,\"#\")","v":{"$error":"#NAME?"}},null,{"$f":"[2]!SUMSTRING(W45:X45,\"#\")","v":{"$error":"#NAME?"}},null,{"$f":"[2]!SUMSTRING(Y45:Z45,\"#\")","v":{"$error":"#NAME?"}},null,{"$f":"[2]!SUMSTRING(AA45:AW45,\"|\")","v":{"$error":"#NAME?"}}]
[10045,3,4,1004511,null,null,5,1004511,5,{"$f":"H46+10","v":1004521},6,1004512,6,1004521,{"$nulls":12},{"$f":"[2]!SUMSTRING(C46:D46,\"#\")","v":{"$error":"#NAME?"}},null,{"$f":"[2]!SUMSTRING(E46:F46,\"#\")","v":{"$error":"#NAME?"}},null,{"$f":"[2]!SUMSTRING(G46:H46,\"#\")","v":{"$error":"#NAME?"}},null,{"$f":"[2]!SUMSTRING(I46:J46,\"#\")","v":{"$error":"#NAME?"}},null,{"$f":"[2]!SUMSTRING(K46:L46,\"#\")","v":{"$error":"#NAME?"}},null,{"$f":"[2]!SUMSTRING(M46:N46,\"#\")","v":{"$error":"#NAME?"}},null,{"$f":"[2]!SUMSTRING(O46:P46,\"#\")","v":{"$error":"#NAME?"}},null,{"$f":"[2]!SUMSTRING(Q46:R46,\"#\")","v":{"$error":"#NAME?"}},null,{"$f":"[2]!SUMSTRING(S46:T46,\"#\")","v":{"$error":"#NAME?"}},null,{"$f":"[2]!SUMSTRING(U46:V46,\"#\")","v":{"$error":"#NAME?"}},null,{"$f":"[2]!SUMSTRING(W46:X46,\"#\")","v":{"$error":"#NAME?"}},null,{"$f":"[2]!SUMSTRING(Y46:Z46,\"#\")","v":{"$error":"#NAME?"}},null,{"$f":"[2]!SUMSTRING(AA46:AW46,\"|\")","v":{"$error":"#NAME?"}}]
[10046,5,4,1004611,null,null,5,1004611,5,{"$f":"H47+10","v":1004621},6,1004612,6,1004621,{"$f":"K47+1","v":7},{"$f":"L47","v":1004612},{"$f":"M47+1","v":7},{"$f":"N47+1","v":1004622},{"$f":"O47+1","v":8},{"$f":"P47+1","v":1004613},{"$f":"S47","v":8},{"$f":"R47","v":1004622},{"$f":"S47+1","v":9},{"$f":"T47","v":1004613},9,{"$f":"V47+1","v":1004623},{"$f":"[2]!SUMSTRING(C47:D47,\"#\")","v":{"$error":"#NAME?"}},null,{"$f":"[2]!SUMSTRING(E47:F47,\"#\")","v":{"$error":"#NAME?"}},null,{"$f":"[2]!SUMSTRING(G47:H47,\"#\")","v":{"$error":"#NAME?"}},null,{"$f":"[2]!SUMSTRING(I47:J47,\"#\")","v":{"$error":"#NAME?"}},null,{"$f":"[2]!SUMSTRING(K47:L47,\"#\")","v":{"$error":"#NAME?"}},null,{"$f":"[2]!SUMSTRING(M47:N47,\"#\")","v":{"$error":"#NAME?"}},null,{"$f":"[2]!SUMSTRING(O47:P47,\"#\")","v":{"$error":"#NAME?"}},null,{"$f":"[2]!SUMSTRING(Q47:R47,\"#\")","v":{"$error":"#NAME?"}},null,{"$f":"[2]!SUMSTRING(S47:T47,\"#\")","v":{"$error":"#NAME?"}},null,{"$f":"[2]!SUMSTRING(U47:V47,\"#\")","v":{"$error":"#NAME?"}},null,{"$f":"[2]!SUMSTRING(W47:X47,\"#\")","v":{"$error":"#NAME?"}},null,{"$f":"[2]!SUMSTRING(Y47:Z47,\"#\")","v":{"$error":"#NAME?"}},null,{"$f":"[2]!SUMSTRING(AA47:AW47,\"|\")","v":{"$error":"#NAME?"}}]
[10047,1,3,1004711,{"$nulls":22},{"$f":"[2]!SUMSTRING(C48:D48,\"#\")","v":{"$error":"#NAME?"}},null,{"$f":"[2]!SUMSTRING(E48:F48,\"#\")","v":{"$error":"#NAME?"}},null,{"$f":"[2]!SUMSTRING(G48:H48,\"#\")","v":{"$error":"#NAME?"}},null,{"$f":"[2]!SUMSTRING(I48:J48,\"#\")","v":{"$error":"#NAME?"}},null,{"$f":"[2]!SUMSTRING(K48:L48,\"#\")","v":{"$error":"#NAME?"}},null,{"$f":"[2]!SUMSTRING(M48:N48,\"#\")","v":{"$error":"#NAME?"}},null,{"$f":"[2]!SUMSTRING(O48:P48,\"#\")","v":{"$error":"#NAME?"}},null,{"$f":"[2]!SUMSTRING(Q48:R48,\"#\")","v":{"$error":"#NAME?"}},null,{"$f":"[2]!SUMSTRING(S48:T48,\"#\")","v":{"$error":"#NAME?"}},null,{"$f":"[2]!SUMSTRING(U48:V48,\"#\")","v":{"$error":"#NAME?"}},null,{"$f":"[2]!SUMSTRING(W48:X48,\"#\")","v":{"$error":"#NAME?"}},null,{"$f":"[2]!SUMSTRING(Y48:Z48,\"#\")","v":{"$error":"#NAME?"}},null,{"$f":"[2]!SUMSTRING(AA48:AW48,\"|\")","v":{"$error":"#NAME?"}}]
[10048,3,3,1004811,{"$nulls":22},{"$f":"[2]!SUMSTRING(C49:D49,\"#\")","v":{"$error":"#NAME?"}},null,{"$f":"[2]!SUMSTRING(E49:F49,\"#\")","v":{"$error":"#NAME?"}},null,{"$f":"[2]!SUMSTRING(G49:H49,\"#\")","v":{"$error":"#NAME?"}},null,{"$f":"[2]!SUMSTRING(I49:J49,\"#\")","v":{"$error":"#NAME?"}},null,{"$f":"[2]!SUMSTRING(K49:L49,\"#\")","v":{"$error":"#NAME?"}},null,{"$f":"[2]!SUMSTRING(M49:N49,\"#\")","v":{"$error":"#NAME?"}},null,{"$f":"[2]!SUMSTRING(O49:P49,\"#\")","v":{"$error":"#NAME?"}},null,{"$f":"[2]!SUMSTRING(Q49:R49,\"#\")","v":{"$error":"#NAME?"}},null,{"$f":"[2]!SUMSTRING(S49:T49,\"#\")","v":{"$error":"#NAME?"}},null,{"$f":"[2]!SUMSTRING(U49:V49,\"#\")","v":{"$error":"#NAME?"}},null,{"$f":"[2]!SUMSTRING(W49:X49,\"#\")","v":{"$error":"#NAME?"}},null,{"$f":"[2]!SUMSTRING(Y49:Z49,\"#\")","v":{"$error":"#NAME?"}},null,{"$f":"[2]!SUMSTRING(AA49:AW49,\"|\")","v":{"$error":"#NAME?"}}]
[10049,2,3,1004911,{"$nulls":22},{"$f":"[2]!SUMSTRING(C50:D50,\"#\")","v":{"$error":"#NAME?"}},null,{"$f":"[2]!SUMSTRING(E50:F50,\"#\")","v":{"$error":"#NAME?"}},null,{"$f":"[2]!SUMSTRING(G50:H50,\"#\")","v":{"$error":"#NAME?"}},null,{"$f":"[2]!SUMSTRING(I50:J50,\"#\")","v":{"$error":"#NAME?"}},null,{"$f":"[2]!SUMSTRING(K50:L50,\"#\")","v":{"$error":"#NAME?"}},null,{"$f":"[2]!SUMSTRING(M50:N50,\"#\")","v":{"$error":"#NAME?"}},null,{"$f":"[2]!SUMSTRING(O50:P50,\"#\")","v":{"$error":"#NAME?"}},null,{"$f":"[2]!SUMSTRING(Q50:R50,\"#\")","v":{"$error":"#NAME?"}},null,{"$f":"[2]!SUMSTRING(S50:T50,\"#\")","v":{"$error":"#NAME?"}},null,{"$f":"[2]!SUMSTRING(U50:V50,\"#\")","v":{"$error":"#NAME?"}},null,{"$f":"[2]!SUMSTRING(W50:X50,\"#\")","v":{"$error":"#NAME?"}},null,{"$f":"[2]!SUMSTRING(Y50:Z50,\"#\")","v":{"$error":"#NAME?"}},null,{"$f":"[2]!SUMSTRING(AA50:AW50,\"|\")","v":{"$error":"#NAME?"}}]
[10050,4,3,1005011,{"$nulls":22},{"$f":"[2]!SUMSTRING(C51:D51,\"#\")","v":{"$error":"#NAME?"}},null,{"$f":"[2]!SUMSTRING(E51:F51,\"#\")","v":{"$error":"#NAME?"}},null,{"$f":"[2]!SUMSTRING(G51:H51,\"#\")","v":{"$error":"#NAME?"}},null,{"$f":"[2]!SUMSTRING(I51:J51,\"#\")","v":{"$error":"#NAME?"}},null,{"$f":"[2]!SUMSTRING(K51:L51,\"#\")","v":{"$error":"#NAME?"}},null,{"$f":"[2]!SUMSTRING(M51:N51,\"#\")","v":{"$error":"#NAME?"}},null,{"$f":"[2]!SUMSTRING(O51:P51,\"#\")","v":{"$error":"#NAME?"}},null,{"$f":"[2]!SUMSTRING(Q51:R51,\"#\")","v":{"$error":"#NAME?"}},null,{"$f":"[2]!SUMSTRING(S51:T51,\"#\")","v":{"$error":"#NAME?"}},null,{"$f":"[2]!SUMSTRING(U51:V51,\"#\")","v":{"$error":"#NAME?"}},null,{"$f":"[2]!SUMSTRING(W51:X51,\"#\")","v":{"$error":"#NAME?"}},null,{"$f":"[2]!SUMSTRING(Y51:Z51,\"#\")","v":{"$error":"#NAME?"}},null,{"$f":"[2]!SUMSTRING(AA51:AW51,\"|\")","v":{"$error":"#NAME?"}}]
[10051,5,3,1005111,{"$nulls":22},{"$f":"[2]!SUMSTRING(C52:D52,\"#\")","v":{"$error":"#NAME?"}},null,{"$f":"[2]!SUMSTRING(E52:F52,\"#\")","v":{"$error":"#NAME?"}},null,{"$f":"[2]!SUMSTRING(G52:H52,\"#\")","v":{"$error":"#NAME?"}},null,{"$f":"[2]!SUMSTRING(I52:J52,\"#\")","v":{"$error":"#NAME?"}},null,{"$f":"[2]!SUMSTRING(K52:L52,\"#\")","v":{"$error":"#NAME?"}},null,{"$f":"[2]!SUMSTRING(M52:N52,\"#\")","v":{"$error":"#NAME?"}},null,{"$f":"[2]!SUMSTRING(O52:P52,\"#\")","v":{"$error":"#NAME?"}},null,{"$f":"[2]!SUMSTRING(Q52:R52,\"#\")","v":{"$error":"#NAME?"}},null,{"$f":"[2]!SUMSTRING(S52:T52,\"#\")","v":{"$error":"#NAME?"}},null,{"$f":"[2]!SUMSTRING(U52:V52,\"#\")","v":{"$error":"#NAME?"}},null,{"$f":"[2]!SUMSTRING(W52:X52,\"#\")","v":{"$error":"#NAME?"}},null,{"$f":"[2]!SUMSTRING(Y52:Z52,\"#\")","v":{"$error":"#NAME?"}},null,{"$f":"[2]!SUMSTRING(AA52:AW52,\"|\")","v":{"$error":"#NAME?"}}]
[10052,6,3,1005211,{"$nulls":22},{"$f":"[2]!SUMSTRING(C53:D53,\"#\")","v":{"$error":"#NAME?"}},null,{"$f":"[2]!SUMSTRING(E53:F53,\"#\")","v":{"$error":"#NAME?"}},null,{"$f":"[2]!SUMSTRING(G53:H53,\"#\")","v":{"$error":"#NAME?"}},null,{"$f":"[2]!SUMSTRING(I53:J53,\"#\")","v":{"$error":"#NAME?"}},null,{"$f":"[2]!SUMSTRING(K53:L53,\"#\")","v":{"$error":"#NAME?"}},null,{"$f":"[2]!SUMSTRING(M53:N53,\"#\")","v":{"$error":"#NAME?"}},null,{"$f":"[2]!SUMSTRING(O53:P53,\"#\")","v":{"$error":"#NAME?"}},null,{"$f":"[2]!SUMSTRING(Q53:R53,\"#\")","v":{"$error":"#NAME?"}},null,{"$f":"[2]!SUMSTRING(S53:T53,\"#\")","v":{"$error":"#NAME?"}},null,{"$f":"[2]!SUMSTRING(U53:V53,\"#\")","v":{"$error":"#NAME?"}},null,{"$f":"[2]!SUMSTRING(W53:X53,\"#\")","v":{"$error":"#NAME?"}},null,{"$f":"[2]!SUMSTRING(Y53:Z53,\"#\")","v":{"$error":"#NAME?"}},null,{"$f":"[2]!SUMSTRING(AA53:AW53,\"|\")","v":{"$error":"#NAME?"}}]
[]
[]
[]
[]
[{"$nulls":28},"5#1411|5#1412|6#1411|6#1412|7#1411|7#1412|8#1411|8#1412|9#1411|9#1412|10#1411|10#1412|11#1411|11#1412"]
[]
[{"$nulls":28},0.7,"0#200","25#37"]

{"sheet":"角色升星配方","index":2,"n_rows":58,"n_cols":118,"rows_kept":58}
[null,"角色id","角色属性","角色星级","升星","槽位1","消耗1","num","升星","槽位2","消耗2","num","升星","槽位","消耗3","num","升星","槽位1","消耗1","num","升星","槽位1","消耗1","num","升星","槽位2","消耗2","num","升星","槽位","消耗1","num","升星","槽位","消耗2","num","升星","槽位3","消耗3","num","升星","槽位","消耗1","num","升星","槽位","消耗2","num","升星","槽位","消耗3","num"]
[3,10001,3,5,6,1,"5星同名",1,6,2,"5星10036",1,6,3,"5星同系",3,7,1,"5星同系",4,8,1,"5星同系",3,8,2,"6星同系",1,9,1,"5星同名",1,9,2,"6星同系",1,9,3,"5星同系",2,10,1,"5星同名",2,10,2,"6星同系",1,10,3,"9星任意",1,{"$nulls":12},{"$f":"_xlfn.IFNA(E2&\"#\"&F2&\"#\"&VLOOKUP(G2,数组!$B:$C,2,0)&\"#\"&角色升星配方!H2,\"\")","v":"6#1#3#1"},{"$f":"_xlfn.IFNA(F2&\"#\"&G2&\"#\"&VLOOKUP(H2,数组!$B:$C,2,0)&\"#\"&角色升星配方!I2,\"\")","v":""},{"$f":"_xlfn.IFNA(G2&\"#\"&H2&\"#\"&VLOOKUP(I2,数组!$B:$C,2,0)&\"#\"&角色升星配方!J2,\"\")","v":""},{"$f":"_xlfn.IFNA(H2&\"#\"&I2&\"#\"&VLOOKUP(J2,数组!$B:$C,2,0)&\"#\"&角色升星配方!K2,\"\")","v":""},{"$f":"_xlfn.IFNA(I2&\"#\"&J2&\"#\"&VLOOKUP(K2,数组!$B:$C,2,0)&\"#\"&角色升星配方!L2,\"\")","v":"6#2#34#1"},{"$f":"_xlfn.IFNA(J2&\"#\"&K2&\"#\"&VLOOKUP(L2,数组!$B:$C,2,0)&\"#\"&角色升星配方!M2,\"\")","v":""},{"$f":"_xlfn.IFNA(K2&\"#\"&L2&\"#\"&VLOOKUP(M2,数组!$B:$C,2,0)&\"#\"&角色升星配方!N2,\"\")","v":""},{"$f":"_xlfn.IFNA(L2&\"#\"&M2&\"#\"&VLOOKUP(N2,数组!$B:$C,2,0)&\"#\"&角色升星配方!O2,\"\")","v":""},{"$f":"_xlfn.IFNA(M2&\"#\"&N2&\"#\"&VLOOKUP(O2,数组!$B:$C,2,0)&\"#\"&角色升星配方!P2,\"\")","v":"6#3#17#3"},{"$f":"_xlfn.IFNA(N2&\"#\"&O2&\"#\"&VLOOKUP(P2,数组!$B:$C,2,0)&\"#\"&角色升星配方!Q2,\"\")","v":""},{"$f":"_xlfn.IFNA(O2&\"#\"&P2&\"#\"&VLOOKUP(Q2,数组!$B:$C,2,0)&\"#\"&角色升星配方!R2,\"\")","v":""},{"$f":"_xlfn.IFNA(P2&\"#\"&Q2&\"#\"&VLOOKUP(R2,数组!$B:$C,2,0)&\"#\"&角色升星配方!S2,\"\")","v":""},{"$f":"_xlfn.IFNA(Q2&\"#\"&R2&\"#\"&VLOOKUP(S2,数组!$B:$C,2,0)&\"#\"&角色升星配方!T2,\"\")","v":"7#1#17#4"},{"$f":"_xlfn.IFNA(R2&\"#\"&S2&\"#\"&VLOOKUP(T2,数组!$B:$C,2,0)&\"#\"&角色升星配方!U2,\"\")","v":""},{"$f":"_xlfn.IFNA(S2&\"#\"&T2&\"#\"&VLOOKUP(U2,数组!$B:$C,2,0)&\"#\"&角色升星配方!V2,\"\")","v":""},{"$f":"_xlfn.IFNA(T2&\"#\"&U2&\"#\"&VLOOKUP(V2,数组!$B:$C,2,0)&\"#\"&角色升星配方!W2,\"\")","v":""},{"$f":"_xlfn.IFNA(U2&\"#\"&V2&\"#\"&VLOOKUP(W2,数组!$B:$C,2,0)&\"#\"&角色升星配方!X2,\"\")","v":"8#1#17#3"},{"$f":"_xlfn.IFNA(V2&\"#\"&W2&\"#\"&VLOOKUP(X2,数组!$B:$C,2,0)&\"#\"&角色升星配方!AC2,\"\")","v":""},{"$f":"_xlfn.IFNA(W2&\"#\"&X2&\"#\"&VLOOKUP(AC2,数组!$B:$C,2,0)&\"#\"&角色升星配方!AD2,\"\")","v":""},{"$f":"_xlfn.IFNA(X2&\"#\"&AC2&\"#\"&VLOOKUP(AD2,数组!$B:$C,2,0)&\"#\"&角色升星配方!AE2,\"\")","v":""},{"$f":"_xlfn.IFNA(Y2&\"#\"&Z2&\"#\"&VLOOKUP(AA2,数组!$B:$C,2,0)&\"#\"&角色升星配方!AB2,\"\")","v":"8#2#18#1"},{"$f":"_xlfn.IFNA(AD2&\"#\"&AE2&\"#\"&VLOOKUP(AF2,数组!$B:$C,2,0)&\"#\"&角色升星配方!AG2,\"\")","v":""},{"$f":"_xlfn.IFNA(AE2&\"#\"&AF2&\"#\"&VLOOKUP(AG2,数组!$B:$C,2,0)&\"#\"&角色升星配方!AH2,\"\")","v":""},{"$f":"_xlfn.IFNA(AF2&\"#\"&AG2&\"#\"&VLOOKUP(AH2,数组!$B:$C,2,0)&\"#\"&角色升星配方!AI2,\"\")","v":""},{"$f":"_xlfn.IFNA(AC2&\"#\"&AD2&\"#\"&VLOOKUP(AE2,数组!$B:$C,2,0)&\"#\"&角色升星配方!AF2,\"\")","v":"9#1#3#1"},{"$f":"_xlfn.IFNA(AH2&\"#\"&AI2&\"#\"&VLOOKUP(AJ2,数组!$B:$C,2,0)&\"#\"&角色升星配方!AK2,\"\")","v":""},{"$f":"_xlfn.IFNA(AI2&\"#\"&AJ2&\"#\"&VLOOKUP(AK2,数组!$B:$C,2,0)&\"#\"&角色升星配方!AL2,\"\")","v":""},{"$f":"_xlfn.IFNA(AJ2&\"#\"&AK2&\"#\"&VLOOKUP(AL2,数组!$B:$C,2,0)&\"#\"&角色升星配方!AM2,\"\")","v":""},{"$f":"_xlfn.IFNA(AG2&\"#\"&AH2&\"#\"&VLOOKUP(AI2,数组!$B:$C,2,0)&\"#\"&角色升星配方!AJ2,\"\")","v":"9#2#18#1"},{"$f":"_xlfn.IFNA(AL2&\"#\"&AM2&\"#\"&VLOOKUP(AN2,数组!$B:$C,2,0)&\"#\"&角色升星配方!AO2,\"\")","v":""},{"$f":"_xlfn.IFNA(AM2&\"#\"&AN2&\"#\"&VLOOKUP(AO2,数组!$B:$C,2,0)&\"#\"&角色升星配方!AP2,\"\")","v":""},{"$f":"_xlfn.IFNA(AN2&\"#\"&AO2&\"#\"&VLOOKUP(AP2,数组!$B:$C,2,0)&\"#\"&角色升星配方!AQ2,\"\")","v":""},{"$f":"_xlfn.IFNA(AK2&\"#\"&AL2&\"#\"&VLOOKUP(AM2,数组!$B:$C,2,0)&\"#\"&角色升星配方!AN2,\"\")","v":"9#3#17#2"},{"$f":"_xlfn.IFNA(AP2&\"#\"&AQ2&\"#\"&VLOOKUP(AR2,数组!$B:$C,2,0)&\"#\"&角色升星配方!AS2,\"\")","v":""},{"$f":"_xlfn.IFNA(AQ2&\"#\"&AR2&\"#\"&VLOOKUP(AS2,数组!$B:$C,2,0)&\"#\"&角色升星配方!AT2,\"\")","v":""},{"$f":"_xlfn.IFNA(AR2&\"#\"&AS2&\"#\"&VLOOKUP(AT2,数组!$B:$C,2,0)&\"#\"&角色升星配方!AU2,\"\")","v":""},{"$f":"_xlfn.IFNA(AO2&\"#\"&AP2&\"#\"&VLOOKUP(AQ2,数组!$B:$C,2,0)&\"#\"&角色升星配方!AR2,\"\")","v":"10#1#3#2"},{"$f":"_xlfn.IFNA(AT2&\"#\"&AU2&\"#\"&VLOOKUP(AV2,数组!$B:$C,2,0)&\"#\"&角色升星配方!AW2,\"\")","v":""},{"$f":"_xlfn.IFNA(AU2&\"#\"&AV2&\"#\"&VLOOKUP(AW2,数组!$B:$C,2,0)&\"#\"&角色升星配方!AX2,\"\")","v":""},{"$f":"_xlfn.IFNA(AV2&\"#\"&AW2&\"#\"&VLOOKUP(AX2,数组!$B:$C,2,0)&\"#\"&角色升星配方!AY2,\"\")","v":""},{"$f":"_xlfn.IFNA(AS2&\"#\"&AT2&\"#\"&VLOOKUP(AU2,数组!$B:$C,2,0)&\"#\"&角色升星配方!AV2,\"\")","v":"10#2#18#1"},{"$f":"_xlfn.IFNA(AX2&\"#\"&AY2&\"#\"&VLOOKUP(AZ2,数组!$B:$C,2,0)&\"#\"&角色升星配方!BM2,\"\")","v":""},{"$f":"_xlfn.IFNA(AY2&\"#\"&AZ2&\"#\"&VLOOKUP(BM2,数组!$B:$C,2,0)&\"#\"&角色升星配方!BN2,\"\")","v":""},null,{"$f":"_xlfn.IFNA(AW2&\"#\"&AX2&\"#\"&VLOOKUP(AY2,数组!$B:$C,2,0)&\"#\"&角色升星配方!AZ2,\"\")","v":"10#3#14#1"},{"$nulls":3},{"$f":"_xlfn.IFNA(BE2&\"#\"&BF2&\"#\"&VLOOKUP(BG2,数组!$B:$C,2,0)&\"#\"&角色升星配方!BH2,\"\")","v":""},{"$nulls":3},{"$f":"_xlfn.IFNA(BI2&\"#\"&BJ2&\"#\"&VLOOKUP(BK2,数组!$B:$C,2,0)&\"#\"&角色升星配方!BL2,\"\")","v":""},{"$f":"[2]!SUMSTRING(BM2:DM2,\"|\")","v":{"$error":"#NAME?"}}]
[2,10002,2,5,6,1,"5星同名",1,6,2,"5星10024",1,6,3,"5星同系",3,7,1,"5星同系",4,8,1,"5星同系",3,8,2,"6星同系",1,9,1,"5星同名",1,9,2,"6星同系",1,9,3,"5星同系",2,10,1,"5星同名",2,10,2,"6星同系",1,10,3,"9星任意",1,{"$nulls":12},{"$f":"_xlfn.IFNA(E3&\"#\"&F3&\"#\"&VLOOKUP(G3,数组!$B:$C,2,0)&\"#\"&角色升星配方!H3,\"\")","v":"6#1#3#1"},{"$f":"_xlfn.IFNA(F3&\"#\"&G3&\"#\"&VLOOKUP(H3,数组!$B:$C,2,0)&\"#\"&角色升星配方!I3,\"\")","v":""},{"$f":"_xlfn.IFNA(G3&\"#\"&H3&\"#\"&VLOOKUP(I3,数组!$B:$C,2,0)&\"#\"&角色升星配方!J3,\"\")","v":""},{"$f":"_xlfn.IFNA(H3&\"#\"&I3&\"#\"&VLOOKUP(J3,数组!$B:$C,2,0)&\"#\"&角色升星配方!K3,\"\")","v":""},{"$f":"_xlfn.IFNA(I3&\"#\"&J3&\"#\"&VLOOKUP(K3,数组!$B:$C,2,0)&\"#\"&角色升星配方!L3,\"\")","v":"6#2#22#1"},{"$f":"_xlfn.IFNA(J3&\"#\"&K3&\"#\"&VLOOKUP(L3,数组!$B:$C,2,0)&\"#\"&角色升星配方!M3,\"\")","v":""},{"$f":"_xlfn.IFNA(K3&\"#\"&L3&\"#\"&VLOOKUP(M3,数组!$B:$C,2,0)&\"#\"&角色升星配方!N3,\"\")","v":""},{"$f":"_xlfn.IFNA(L3&\"#\"&M3&\"#\"&VLOOKUP(N3,数组!$B:$C,2,0)&\"#\"&角色升星配方!O3,\"\")","v":""},{"$f":"_xlfn.IFNA(M3&\"#\"&N3&\"#\"&VLOOKUP(O3,数组!$B:$C,2,0)&\"#\"&角色升星配方!P3,\"\")","v":"6#3#17#3"},{"$f":"_xlfn.IFNA(N3&\"#\"&O3&\"#\"&VLOOKUP(P3,数组!$B:$C,2,0)&\"#\"&角色升星配方!Q3,\"\")","v":""},{"$f":"_xlfn.IFNA(O3&\"#\"&P3&\"#\"&VLOOKUP(Q3,数组!$B:$C,2,0)&\"#\"&角色升星配方!R3,\"\")","v":""},{"$f":"_xlfn.IFNA(P3&\"#\"&Q3&\"#\"&VLOOKUP(R3,数组!$B:$C,2,0)&\"#\"&角色升星配方!S3,\"\")","v":""},{"$f":"_xlfn.IFNA(Q3&\"#\"&R3&\"#\"&VLOOKUP(S3,数组!$B:$C,2,0)&\"#\"&角色升星配方!T3,\"\")","v":"7#1#17#4"},{"$f":"_xlfn.IFNA(R3&\"#\"&S3&\"#\"&VLOOKUP(T3,数组!$B:$C,2,0)&\"#\"&角色升星配方!U3,\"\")","v":""},{"$f":"_xlfn.IFNA(S3&\"#\"&T3&\"#\"&VLOOKUP(U3,数组!$B:$C,2,0)&\"#\"&角色升星配方!V3,\"\")","v":""},{"$f":"_xlfn.IFNA(T3&\"#\"&U3&\"#\"&VLOOKUP(V3,数组!$B:$C,2,0)&\"#\"&角色升星配方!W3,\"\")","v":""},{"$f":"_xlfn.IFNA(U3&\"#\"&V3&\"#\"&VLOOKUP(W3,数组!$B:$C,2,0)&\"#\"&角色升星配方!X3,\"\")","v":"8#1#17#3"},{"$f":"_xlfn.IFNA(V3&\"#\"&W3&\"#\"&VLOOKUP(X3,数组!$B:$C,2,0)&\"#\"&角色升星配方!AC3,\"\")","v":""},{"$f":"_xlfn.IFNA(W3&\"#\"&X3&\"#\"&VLOOKUP(AC3,数组!$B:$C,2,0)&\"#\"&角色升星配方!AD3,\"\")","v":""},{"$f":"_xlfn.IFNA(X3&\"#\"&AC3&\"#\"&VLOOKUP(AD3,数组!$B:$C,2,0)&\"#\"&角色升星配方!AE3,\"\")","v":""},{"$f":"_xlfn.IFNA(Y3&\"#\"&Z3&\"#\"&VLOOKUP(AA3,数组!$B:$C,2,0)&\"#\"&角色升星配方!AB3,\"\")","v":"8#2#18#1"},{"$f":"_xlfn.IFNA(AD3&\"#\"&AE3&\"#\"&VLOOKUP(AF3,数组!$B:$C,2,0)&\"#\"&角色升星配方!AG3,\"\")","v":""},{"$f":"_xlfn.IFNA(AE3&\"#\"&AF3&\"#\"&VLOOKUP(AG3,数组!$B:$C,2,0)&\"#\"&角色升星配方!AH3,\"\")","v":""},{"$f":"_xlfn.IFNA(AF3&\"#\"&AG3&\"#\"&VLOOKUP(AH3,数组!$B:$C,2,0)&\"#\"&角色升星配方!AI3,\"\")","v":""},{"$f":"_xlfn.IFNA(AC3&\"#\"&AD3&\"#\"&VLOOKUP(AE3,数组!$B:$C,2,0)&\"#\"&角色升星配方!AF3,\"\")","v":"9#1#3#1"},{"$f":"_xlfn.IFNA(AH3&\"#\"&AI3&\"#\"&VLOOKUP(AJ3,数组!$B:$C,2,0)&\"#\"&角色升星配方!AK3,\"\")","v":""},{"$f":"_xlfn.IFNA(AI3&\"#\"&AJ3&\"#\"&VLOOKUP(AK3,数组!$B:$C,2,0)&\"#\"&角色升星配方!AL3,\"\")","v":""},{"$f":"_xlfn.IFNA(AJ3&\"#\"&AK3&\"#\"&VLOOKUP(AL3,数组!$B:$C,2,0)&\"#\"&角色升星配方!AM3,\"\")","v":""},{"$f":"_xlfn.IFNA(AG3&\"#\"&AH3&\"#\"&VLOOKUP(AI3,数组!$B:$C,2,0)&\"#\"&角色升星配方!AJ3,\"\")","v":"9#2#18#1"},{"$f":"_xlfn.IFNA(AL3&\"#\"&AM3&\"#\"&VLOOKUP(AN3,数组!$B:$C,2,0)&\"#\"&角色升星配方!AO3,\"\")","v":""},{"$f":"_xlfn.IFNA(AM3&\"#\"&AN3&\"#\"&VLOOKUP(AO3,数组!$B:$C,2,0)&\"#\"&角色升星配方!AP3,\"\")","v":""},{"$f":"_xlfn.IFNA(AN3&\"#\"&AO3&\"#\"&VLOOKUP(AP3,数组!$B:$C,2,0)&\"#\"&角色升星配方!AQ3,\"\")","v":""},{"$f":"_xlfn.IFNA(AK3&\"#\"&AL3&\"#\"&VLOOKUP(AM3,数组!$B:$C,2,0)&\"#\"&角色升星配方!AN3,\"\")","v":"9#3#17#2"},{"$f":"_xlfn.IFNA(AP3&\"#\"&AQ3&\"#\"&VLOOKUP(AR3,数组!$B:$C,2,0)&\"#\"&角色升星配方!AS3,\"\")","v":""},{"$f":"_xlfn.IFNA(AQ3&\"#\"&AR3&\"#\"&VLOOKUP(AS3,数组!$B:$C,2,0)&\"#\"&角色升星配方!AT3,\"\")","v":""},{"$f":"_xlfn.IFNA(AR3&\"#\"&AS3&\"#\"&VLOOKUP(AT3,数组!$B:$C,2,0)&\"#\"&角色升星配方!AU3,\"\")","v":""},{"$f":"_xlfn.IFNA(AO3&\"#\"&AP3&\"#\"&VLOOKUP(AQ3,数组!$B:$C,2,0)&\"#\"&角色升星配方!AR3,\"\")","v":"10#1#3#2"},{"$f":"_xlfn.IFNA(AT3&\"#\"&AU3&\"#\"&VLOOKUP(AV3,数组!$B:$C,2,0)&\"#\"&角色升星配方!AW3,\"\")","v":""},{"$f":"_xlfn.IFNA(AU3&\"#\"&AV3&\"#\"&VLOOKUP(AW3,数组!$B:$C,2,0)&\"#\"&角色升星配方!AX3,\"\")","v":""},{"$f":"_xlfn.IFNA(AV3&\"#\"&AW3&\"#\"&VLOOKUP(AX3,数组!$B:$C,2,0)&\"#\"&角色升星配方!AY3,\"\")","v":""},{"$f":"_xlfn.IFNA(AS3&\"#\"&AT3&\"#\"&VLOOKUP(AU3,数组!$B:$C,2,0)&\"#\"&角色升星配方!AV3,\"\")","v":"10#2#18#1"},{"$f":"_xlfn.IFNA(AX3&\"#\"&AY3&\"#\"&VLOOKUP(AZ3,数组!$B:$C,2,0)&\"#\"&角色升星配方!BM3,\"\")","v":""},null,null,{"$f":"_xlfn.IFNA(AW3&\"#\"&AX3&\"#\"&VLOOKUP(AY3,数组!$B:$C,2,0)&\"#\"&角色升星配方!AZ3,\"\")","v":"10#3#14#1"},{"$nulls":3},{"$f":"_xlfn.IFNA(BE3&\"#\"&BF3&\"#\"&VLOOKUP(BG3,数组!$B:$C,2,0)&\"#\"&角色升星配方!BH3,\"\")","v":""},{"$nulls":3},{"$f":"_xlfn.IFNA(BI3&\"#\"&BJ3&\"#\"&VLOOKUP(BK3,数组!$B:$C,2,0)&\"#\"&角色升星配方!BL3,\"\")","v":""},{"$f":"[2]!SUMSTRING(BM3:DM3,\"|\")","v":{"$error":"#NAME?"}}]
[4,10003,4,5,6,1,"5星同名",1,6,2,"5星10029",1,6,3,"5星同系",3,7,1,"5星同系",4,8,1,"5星同系",3,8,2,"6星同系",1,9,1,"5星同名",1,9,2,"6星同系",1,9,3,"5星同系",2,10,1,"5星同名",2,10,2,"6星同系",1,10,3,"9星任意",1,{"$nulls":12},{"$f":"_xlfn.IFNA(E4&\"#\"&F4&\"#\"&VLOOKUP(G4,数组!$B:$C,2,0)&\"#\"&角色升星配方!H4,\"\")","v":"6#1#3#1"},{"$f":"_xlfn.IFNA(F4&\"#\"&G4&\"#\"&VLOOKUP(H4,数组!$B:$C,2,0)&\"#\"&角色升星配方!I4,\"\")","v":""},{"$f":"_xlfn.IFNA(G4&\"#\"&H4&\"#\"&VLOOKUP(I4,数组!$B:$C,2,0)&\"#\"&角色升星配方!J4,\"\")","v":""},{"$f":"_xlfn.IFNA(H4&\"#\"&I4&\"#\"&VLOOKUP(J4,数组!$B:$C,2,0)&\"#\"&角色升星配方!K4,\"\")","v":""},{"$f":"_xlfn.IFNA(I4&\"#\"&J4&\"#\"&VLOOKUP(K4,数组!$B:$C,2,0)&\"#\"&角色升星配方!L4,\"\")","v":"6#2#27#1"},{"$f":"_xlfn.IFNA(J4&\"#\"&K4&\"#\"&VLOOKUP(L4,数组!$B:$C,2,0)&\"#\"&角色升星配方!M4,\"\")","v":""},{"$f":"_xlfn.IFNA(K4&\"#\"&L4&\"#\"&VLOOKUP(M4,数组!$B:$C,2,0)&\"#\"&角色升星配方!N4,\"\")","v":""},{"$f":"_xlfn.IFNA(L4&\"#\"&M4&\"#\"&VLOOKUP(N4,数组!$B:$C,2,0)&\"#\"&角色升星配方!O4,\"\")","v":""},{"$f":"_xlfn.IFNA(M4&\"#\"&N4&\"#\"&VLOOKUP(O4,数组!$B:$C,2,0)&\"#\"&角色升星配方!P4,\"\")","v":"6#3#17#3"},{"$f":"_xlfn.IFNA(N4&\"#\"&O4&\"#\"&VLOOKUP(P4,数组!$B:$C,2,0)&\"#\"&角色升星配方!Q4,\"\")","v":""},{"$f":"_xlfn.IFNA(O4&\"#\"&P4&\"#\"&VLOOKUP(Q4,数组!$B:$C,2,0)&\"#\"&角色升星配方!R4,\"\")","v":""},{"$f":"_xlfn.IFNA(P4&\"#\"&Q4&\"#\"&VLOOKUP(R4,数组!$B:$C,2,0)&\"#\"&角色升星配方!S4,\"\")","v":""},{"$f":"_xlfn.IFNA(Q4&\"#\"&R4&\"#\"&VLOOKUP(S4,数组!$B:$C,2,0)&\"#\"&角色升星配方!T4,\"\")","v":"7#1#17#4"},{"$f":"_xlfn.IFNA(R4&\"#\"&S4&\"#\"&VLOOKUP(T4,数组!$B:$C,2,0)&\"#\"&角色升星配方!U4,\"\")","v":""},{"$f":"_xlfn.IFNA(S4&\"#\"&T4&\"#\"&VLOOKUP(U4,数组!$B:$C,2,0)&\"#\"&角色升星配方!V4,\"\")","v":""},{"$f":"_xlfn.IFNA(T4&\"#\"&U4&\"#\"&VLOOKUP(V4,数组!$B:$C,2,0)&\"#\"&角色升星配方!W4,\"\")","v":""},{"$f":"_xlfn.IFNA(U4&\"#\"&V4&\"#\"&VLOOKUP(W4,数组!$B:$C,2,0)&\"#\"&角色升星配方!X4,\"\")","v":"8#1#17#3"},{"$f":"_xlfn.IFNA(V4&\"#\"&W4&\"#\"&VLOOKUP(X4,数组!$B:$C,2,0)&\"#\"&角色升星配方!AC4,\"\")","v":""},{"$f":"_xlfn.IFNA(W4&\"#\"&X4&\"#\"&VLOOKUP(AC4,数组!$B:$C,2,0)&\"#\"&角色升星配方!AD4,\"\")","v":""},{"$f":"_xlfn.IFNA(X4&\"#\"&AC4&\"#\"&VLOOKUP(AD4,数组!$B:$C,2,0)&\"#\"&角色升星配方!AE4,\"\")","v":""},{"$f":"_xlfn.IFNA(Y4&\"#\"&Z4&\"#\"&VLOOKUP(AA4,数组!$B:$C,2,0)&\"#\"&角色升星配方!AB4,\"\")","v":"8#2#18#1"},{"$f":"_xlfn.IFNA(AD4&\"#\"&AE4&\"#\"&VLOOKUP(AF4,数组!$B:$C,2,0)&\"#\"&角色升星配方!AG4,\"\")","v":""},{"$f":"_xlfn.IFNA(AE4&\"#\"&AF4&\"#\"&VLOOKUP(AG4,数组!$B:$C,2,0)&\"#\"&角色升星配方!AH4,\"\")","v":""},{"$f":"_xlfn.IFNA(AF4&\"#\"&AG4&\"#\"&VLOOKUP(AH4,数组!$B:$C,2,0)&\"#\"&角色升星配方!AI4,\"\")","v":""},{"$f":"_xlfn.IFNA(AC4&\"#\"&AD4&\"#\"&VLOOKUP(AE4,数组!$B:$C,2,0)&\"#\"&角色升星配方!AF4,\"\")","v":"9#1#3#1"},{"$f":"_xlfn.IFNA(AH4&\"#\"&AI4&\"#\"&VLOOKUP(AJ4,数组!$B:$C,2,0)&\"#\"&角色升星配方!AK4,\"\")","v":""},{"$f":"_xlfn.IFNA(AI4&\"#\"&AJ4&\"#\"&VLOOKUP(AK4,数组!$B:$C,2,0)&\"#\"&角色升星配方!AL4,\"\")","v":""},{"$f":"_xlfn.IFNA(AJ4&\"#\"&AK4&\"#\"&VLOOKUP(AL4,数组!$B:$C,2,0)&\"#\"&角色升星配方!AM4,\"\")","v":""},{"$f":"_xlfn.IFNA(AG4&\"#\"&AH4&\"#\"&VLOOKUP(AI4,数组!$B:$C,2,0)&\"#\"&角色升星配方!AJ4,\"\")","v":"9#2#18#1"},{"$f":"_xlfn.IFNA(AL4&\"#\"&AM4&\"#\"&VLOOKUP(AN4,数组!$B:$C,2,0)&\"#\"&角色升星配方!AO4,\"\")","v":""},{"$f":"_xlfn.IFNA(AM4&\"#\"&AN4&\"#\"&VLOOKUP(AO4,数组!$B:$C,2,0)&\"#\"&角色升星配方!AP4,\"\")","v":""},{"$f":"_xlfn.IFNA(AN4&\"#\"&AO4&\"#\"&VLOOKUP(AP4,数组!$B:$C,2,0)&\"#\"&角色升星配方!AQ4,\"\")","v":""},{"$f":"_xlfn.IFNA(AK4&\"#\"&AL4&\"#\"&VLOOKUP(AM4,数组!$B:$C,2,0)&\"#\"&角色升星配方!AN4,\"\")","v":"9#3#17#2"},{"$f":"_xlfn.IFNA(AP4&\"#\"&AQ4&\"#\"&VLOOKUP(AR4,数组!$B:$C,2,0)&\"#\"&角色升星配方!AS4,\"\")","v":""},{"$f":"_xlfn.IFNA(AQ4&\"#\"&AR4&\"#\"&VLOOKUP(AS4,数组!$B:$C,2,0)&\"#\"&角色升星配方!AT4,\"\")","v":""},{"$f":"_xlfn.IFNA(AR4&\"#\"&AS4&\"#\"&VLOOKUP(AT4,数组!$B:$C,2,0)&\"#\"&角色升星配方!AU4,\"\")","v":""},{"$f":"_xlfn.IFNA(AO4&\"#\"&AP4&\"#\"&VLOOKUP(AQ4,数组!$B:$C,2,0)&\"#\"&角色升星配方!AR4,\"\")","v":"10#1#3#2"},{"$f":"_xlfn.IFNA(AT4&\"#\"&AU4&\"#\"&VLOOKUP(AV4,数组!$B:$C,2,0)&\"#\"&角色升星配方!AW4,\"\")","v":""},{"$f":"_xlfn.IFNA(AU4&\"#\"&AV4&\"#\"&VLOOKUP(AW4,数组!$B:$C,2,0)&\"#\"&角色升星配方!AX4,\"\")","v":""},{"$f":"_xlfn.IFNA(AV4&\"#\"&AW4&\"#\"&VLOOKUP(AX4,数组!$B:$C,2,0)&\"#\"&角色升星配方!AY4,\"\")","v":""},{"$f":"_xlfn.IFNA(AS4&\"#\"&AT4&\"#\"&VLOOKUP(AU4,数组!$B:$C,2,0)&\"#\"&角色升星配方!AV4,\"\")","v":"10#2#18#1"},{"$f":"_xlfn.IFNA(AX4&\"#\"&AY4&\"#\"&VLOOKUP(AZ4,数组!$B:$C,2,0)&\"#\"&角色升星配方!BM4,\"\")","v":""},null,null,{"$f":"_xlfn.IFNA(AW4&\"#\"&AX4&\"#\"&VLOOKUP(AY4,数组!$B:$C,2,0)&\"#\"&角色升星配方!AZ4,\"\")","v":"10#3#14#1"},{"$nulls":3},{"$f":"_xlfn.IFNA(BE4&\"#\"&BF4&\"#\"&VLOOKUP(BG4,数组!$B:$C,2,0)&\"#\"&角色升星配方!BH4,\"\")","v":""},{"$nulls":3},{"$f":"_xlfn.IFNA(BI4&\"#\"&BJ4&\"#\"&VLOOKUP(BK4,数组!$B:$C,2,0)&\"#\"&角色升星配方!BL4,\"\")","v":""},{"$f":"[2]!SUMSTRING(BM4:DM4,\"|\")","v":{"$error":"#NAME?"}}]
[2,10004,2,5,6,1,"5星同名",1,6,2,"5星10030",1,6,3,"5星同系",3,7,1,"5星同系",4,8,1,"5星同系",3,8,2,"6星同系",1,9,1,"5星同名",1,9,2,"6星同系",1,9,3,"5星同系",2,10,1,"5星同名",2,10,2,"6星同系",1,10,3,"9星任意",1,{"$nulls":12},{"$f":"_xlfn.IFNA(E5&\"#\"&F5&\"#\"&VLOOKUP(G5,数组!$B:$C,2,0)&\"#\"&角色升星配方!H5,\"\")","v":"6#1#3#1"},{"$f":"_xlfn.IFNA(F5&\"#\"&G5&\"#\"&VLOOKUP(H5,数组!$B:$C,2,0)&\"#\"&角色升星配方!I5,\"\")","v":""},{"$f":"_xlfn.IFNA(G5&\"#\"&H5&\"#\"&VLOOKUP(I5,数组!$B:$C,2,0)&\"#\"&角色升星配方!J5,\"\")","v":""},{"$f":"_xlfn.IFNA(H5&\"#\"&I5&\"#\"&VLOOKUP(J5,数组!$B:$C,2,0)&\"#\"&角色升星配方!K5,\"\")","v":""},{"$f":"_xlfn.IFNA(I5&\"#\"&J5&\"#\"&VLOOKUP(K5,数组!$B:$C,2,0)&\"#\"&角色升星配方!L5,\"\")","v":"6#2#28#1"},{"$f":"_xlfn.IFNA(J5&\"#\"&K5&\"#\"&VLOOKUP(L5,数组!$B:$C,2,0)&\"#\"&角色升星配方!M5,\"\")","v":""},{"$f":"_xlfn.IFNA(K5&\"#\"&L5&\"#\"&VLOOKUP(M5,数组!$B:$C,2,0)&\"#\"&角色升星配方!N5,\"\")","v":""},{"$f":"_xlfn.IFNA(L5&\"#\"&M5&\"#\"&VLOOKUP(N5,数组!$B:$C,2,0)&\"#\"&角色升星配方!O5,\"\")","v":""},{"$f":"_xlfn.IFNA(M5&\"#\"&N5&\"#\"&VLOOKUP(O5,数组!$B:$C,2,0)&\"#\"&角色升星配方!P5,\"\")","v":"6#3#17#3"},{"$f":"_xlfn.IFNA(N5&\"#\"&O5&\"#\"&VLOOKUP(P5,数组!$B:$C,2,0)&\"#\"&角色升星配方!Q5,\"\")","v":""},{"$f":"_xlfn.IFNA(O5&\"#\"&P5&\"#\"&VLOOKUP(Q5,数组!$B:$C,2,0)&\"#\"&角色升星配方!R5,\"\")","v":""},{"$f":"_xlfn.IFNA(P5&\"#\"&Q5&\"#\"&VLOOKUP(R5,数组!$B:$C,2,0)&\"#\"&角色升星配方!S5,\"\")","v":""},{"$f":"_xlfn.IFNA(Q5&\"#\"&R5&\"#\"&VLOOKUP(S5,数组!$B:$C,2,0)&\"#\"&角色升星配方!T5,\"\")","v":"7#1#17#4"},{"$f":"_xlfn.IFNA(R5&\"#\"&S5&\"#\"&VLOOKUP(T5,数组!$B:$C,2,0)&\"#\"&角色升星配方!U5,\"\")","v":""},{"$f":"_xlfn.IFNA(S5&\"#\"&T5&\"#\"&VLOOKUP(U5,数组!$B:$C,2,0)&\"#\"&角色升星配方!V5,\"\")","v":""},{"$f":"_xlfn.IFNA(T5&\"#\"&U5&\"#\"&VLOOKUP(V5,数组!$B:$C,2,0)&\"#\"&角色升星配方!W5,\"\")","v":""},{"$f":"_xlfn.IFNA(U5&\"#\"&V5&\"#\"&VLOOKUP(W5,数组!$B:$C,2,0)&\"#\"&角色升星配方!X5,\"\")","v":"8#1#17#3"},{"$f":"_xlfn.IFNA(V5&\"#\"&W5&\"#\"&VLOOKUP(X5,数组!$B:$C,2,0)&\"#\"&角色升星配方!AC5,\"\")","v":""},{"$f":"_xlfn.IFNA(W5&\"#\"&X5&\"#\"&VLOOKUP(AC5,数组!$B:$C,2,0)&\"#\"&角色升星配方!AD5,\"\")","v":""},{"$f":"_xlfn.IFNA(X5&\"#\"&AC5&\"#\"&VLOOKUP(AD5,数组!$B:$C,2,0)&\"#\"&角色升星配方!AE5,\"\")","v":""},{"$f":"_xlfn.IFNA(Y5&\"#\"&Z5&\"#\"&VLOOKUP(AA5,数组!$B:$C,2,0)&\"#\"&角色升星配方!AB5,\"\")","v":"8#2#18#1"},{"$f":"_xlfn.IFNA(AD5&\"#\"&AE5&\"#\"&VLOOKUP(AF5,数组!$B:$C,2,0)&\"#\"&角色升星配方!AG5,\"\")","v":""},{"$f":"_xlfn.IFNA(AE5&\"#\"&AF5&\"#\"&VLOOKUP(AG5,数组!$B:$C,2,0)&\"#\"&角色升星配方!AH5,\"\")","v":""},{"$f":"_xlfn.IFNA(AF5&\"#\"&AG5&\"#\"&VLOOKUP(AH5,数组!$B:$C,2,0)&\"#\"&角色升星配方!AI5,\"\")","v":""},{"$f":"_xlfn.IFNA(AC5&\"#\"&AD5&\"#\"&VLOOKUP(AE5,数组!$B:$C,2,0)&\"#\"&角色升星配方!AF5,\"\")","v":"9#1#3#1"},{"$f":"_xlfn.IFNA(AH5&\"#\"&AI5&\"#\"&VLOOKUP(AJ5,数组!$B:$C,2,0)&\"#\"&角色升星配方!AK5,\"\")","v":""},{"$f":"_xlfn.IFNA(AI5&\"#\"&AJ5&\"#\"&VLOOKUP(AK5,数组!$B:$C,2,0)&\"#\"&角色升星配方!AL5,\"\")","v":""},{"$f":"_xlfn.IFNA(AJ5&\"#\"&AK5&\"#\"&VLOOKUP(AL5,数组!$B:$C,2,0)&\"#\"&角色升星配方!AM5,\"\")","v":""},{"$f":"_xlfn.IFNA(AG5&\"#\"&AH5&\"#\"&VLOOKUP(AI5,数组!$B:$C,2,0)&\"#\"&角色升星配方!AJ5,\"\")","v":"9#2#18#1"},{"$f":"_xlfn.IFNA(AL5&\"#\"&AM5&\"#\"&VLOOKUP(AN5,数组!$B:$C,2,0)&\"#\"&角色升星配方!AO5,\"\")","v":""},{"$f":"_xlfn.IFNA(AM5&\"#\"&AN5&\"#\"&VLOOKUP(AO5,数组!$B:$C,2,0)&\"#\"&角色升星配方!AP5,\"\")","v":""},{"$f":"_xlfn.IFNA(AN5&\"#\"&AO5&\"#\"&VLOOKUP(AP5,数组!$B:$C,2,0)&\"#\"&角色升星配方!AQ5,\"\")","v":""},{"$f":"_xlfn.IFNA(AK5&\"#\"&AL5&\"#\"&VLOOKUP(AM5,数组!$B:$C,2,0)&\"#\"&角色升星配方!AN5,\"\")","v":"9#3#17#2"},{"$f":"_xlfn.IFNA(AP5&\"#\"&AQ5&\"#\"&VLOOKUP(AR5,数组!$B:$C,2,0)&\"#\"&角色升星配方!AS5,\"\")","v":""},{"$f":"_xlfn.IFNA(AQ5&\"#\"&AR5&\"#\"&VLOOKUP(AS5,数组!$B:$C,2,0)&\"#\"&角色升星配方!AT5,\"\")","v":""},{"$f":"_xlfn.IFNA(AR5&\"#\"&AS5&\"#\"&VLOOKUP(AT5,数组!$B:$C,2,0)&\"#\"&角色升星配方!AU5,\"\")","v":""},{"$f":"_xlfn.IFNA(AO5&\"#\"&AP5&\"#\"&VLOOKUP(AQ5,数组!$B:$C,2,0)&\"#\"&角色升星配方!AR5,\"\")","v":"10#1#3#2"},{"$f":"_xlfn.IFNA(AT5&\"#\"&AU5&\"#\"&VLOOKUP(AV5,数组!$B:$C,2,0)&\"#\"&角色升星配方!AW5,\"\")","v":""},{"$f":"_xlfn.IFNA(AU5&\"#\"&AV5&\"#\"&VLOOKUP(AW5,数组!$B:$C,2,0)&\"#\"&角色升星配方!AX5,\"\")","v":""},{"$f":"_xlfn.IFNA(AV5&\"#\"&AW5&\"#\"&VLOOKUP(AX5,数组!$B:$C,2,0)&\"#\"&角色升星配方!AY5,\"\")","v":""},{"$f":"_xlfn.IFNA(AS5&\"#\"&AT5&\"#\"&VLOOKUP(AU5,数组!$B:$C,2,0)&\"#\"&角色升星配方!AV5,\"\")","v":"10#2#18#1"},{"$f":"_xlfn.IFNA(AX5&\"#\"&AY5&\"#\"&VLOOKUP(AZ5,数组!$B:$C,2,0)&\"#\"&角色升星配方!BM5,\"\")","v":""},null,null,{"$f":"_xlfn.IFNA(AW5&\"#\"&AX5&\"#\"&VLOOKUP(AY5,数组!$B:$C,2,0)&\"#\"&角色升星配方!AZ5,\"\")","v":"10#3#14#1"},{"$nulls":3},{"$f":"_xlfn.IFNA(BE5&\"#\"&BF5&\"#\"&VLOOKUP(BG5,数组!$B:$C,2,0)&\"#\"&角色升星配方!BH5,\"\")","v":""},{"$nulls":3},{"$f":"_xlfn.IFNA(BI5&\"#\"&BJ5&\"#\"&VLOOKUP(BK5,数组!$B:$C,2,0)&\"#\"&角色升星配方!BL5,\"\")","v":""},{"$f":"[2]!SUMSTRING(BM5:DM5,\"|\")","v":{"$error":"#NAME?"}}]
[4,10005,4,5,6,1,"5星同名",1,6,2,"5星10031",1,6,3,"5星同系",3,7,1,"5星同系",4,8,1,"5星同系",3,8,2,"6星同系",1,9,1,"5星同名",1,9,2,"6星同系",1,9,3,"5星同系",2,10,1,"5星同名",2,10,2,"6星同系",1,10,3,"9星任意",1,{"$nulls":12},{"$f":"_xlfn.IFNA(E6&\"#\"&F6&\"#\"&VLOOKUP(G6,数组!$B:$C,2,0)&\"#\"&角色升星配方!H6,\"\")","v":"6#1#3#1"},{"$f":"_xlfn.IFNA(F6&\"#\"&G6&\"#\"&VLOOKUP(H6,数组!$B:$C,2,0)&\"#\"&角色升星配方!I6,\"\")","v":""},{"$f":"_xlfn.IFNA(G6&\"#\"&H6&\"#\"&VLOOKUP(I6,数组!$B:$C,2,0)&\"#\"&角色升星配方!J6,\"\")","v":""},{"$f":"_xlfn.IFNA(H6&\"#\"&I6&\"#\"&VLOOKUP(J6,数组!$B:$C,2,0)&\"#\"&角色升星配方!K6,\"\")","v":""},{"$f":"_xlfn.IFNA(I6&\"#\"&J6&\"#\"&VLOOKUP(K6,数组!$B:$C,2,0)&\"#\"&角色升星配方!L6,\"\")","v":"6#2#29#1"},{"$f":"_xlfn.IFNA(J6&\"#\"&K6&\"#\"&VLOOKUP(L6,数组!$B:$C,2,0)&\"#\"&角色升星配方!M6,\"\")","v":""},{"$f":"_xlfn.IFNA(K6&\"#\"&L6&\"#\"&VLOOKUP(M6,数组!$B:$C,2,0)&\"#\"&角色升星配方!N6,\"\")","v":""},{"$f":"_xlfn.IFNA(L6&\"#\"&M6&\"#\"&VLOOKUP(N6,数组!$B:$C,2,0)&\"#\"&角色升星配方!O6,\"\")","v":""},{"$f":"_xlfn.IFNA(M6&\"#\"&N6&\"#\"&VLOOKUP(O6,数组!$B:$C,2,0)&\"#\"&角色升星配方!P6,\"\")","v":"6#3#17#3"},{"$f":"_xlfn.IFNA(N6&\"#\"&O6&\"#\"&VLOOKUP(P6,数组!$B:$C,2,0)&\"#\"&角色升星配方!Q6,\"\")","v":""},{"$f":"_xlfn.IFNA(O6&\"#\"&P6&\"#\"&VLOOKUP(Q6,数组!$B:$C,2,0)&\"#\"&角色升星配方!R6,\"\")","v":""},{"$f":"_xlfn.IFNA(P6&\"#\"&Q6&\"#\"&VLOOKUP(R6,数组!$B:$C,2,0)&\"#\"&角色升星配方!S6,\"\")","v":""},{"$f":"_xlfn.IFNA(Q6&\"#\"&R6&\"#\"&VLOOKUP(S6,数组!$B:$C,2,0)&\"#\"&角色升星配方!T6,\"\")","v":"7#1#17#4"},{"$f":"_xlfn.IFNA(R6&\"#\"&S6&\"#\"&VLOOKUP(T6,数组!$B:$C,2,0)&\"#\"&角色升星配方!U6,\"\")","v":""},{"$f":"_xlfn.IFNA(S6&\"#\"&T6&\"#\"&VLOOKUP(U6,数组!$B:$C,2,0)&\"#\"&角色升星配方!V6,\"\")","v":""},{"$f":"_xlfn.IFNA(T6&\"#\"&U6&\"#\"&VLOOKUP(V6,数组!$B:$C,2,0)&\"#\"&角色升星配方!W6,\"\")","v":""},{"$f":"_xlfn.IFNA(U6&\"#\"&V6&\"#\"&VLOOKUP(W6,数组!$B:$C,2,0)&\"#\"&角色升星配方!X6,\"\")","v":"8#1#17#3"},{"$f":"_xlfn.IFNA(V6&\"#\"&W6&\"#\"&VLOOKUP(X6,数组!$B:$C,2,0)&\"#\"&角色升星配方!AC6,\"\")","v":""},{"$f":"_xlfn.IFNA(W6&\"#\"&X6&\"#\"&VLOOKUP(AC6,数组!$B:$C,2,0)&\"#\"&角色升星配方!AD6,\"\")","v":""},{"$f":"_xlfn.IFNA(X6&\"#\"&AC6&\"#\"&VLOOKUP(AD6,数组!$B:$C,2,0)&\"#\"&角色升星配方!AE6,\"\")","v":""},{"$f":"_xlfn.IFNA(Y6&\"#\"&Z6&\"#\"&VLOOKUP(AA6,数组!$B:$C,2,0)&\"#\"&角色升星配方!AB6,\"\")","v":"8#2#18#1"},{"$f":"_xlfn.IFNA(AD6&\"#\"&AE6&\"#\"&VLOOKUP(AF6,数组!$B:$C,2,0)&\"#\"&角色升星配方!AG6,\"\")","v":""},{"$f":"_xlfn.IFNA(AE6&\"#\"&AF6&\"#\"&VLOOKUP(AG6,数组!$B:$C,2,0)&\"#\"&角色升星配方!AH6,\"\")","v":""},{"$f":"_xlfn.IFNA(AF6&\"#\"&AG6&\"#\"&VLOOKUP(AH6,数组!$B:$C,2,0)&\"#\"&角色升星配方!AI6,\"\")","v":""},{"$f":"_xlfn.IFNA(AC6&\"#\"&AD6&\"#\"&VLOOKUP(AE6,数组!$B:$C,2,0)&\"#\"&角色升星配方!AF6,\"\")","v":"9#1#3#1"},{"$f":"_xlfn.IFNA(AH6&\"#\"&AI6&\"#\"&VLOOKUP(AJ6,数组!$B:$C,2,0)&\"#\"&角色升星配方!AK6,\"\")","v":""},{"$f":"_xlfn.IFNA(AI6&\"#\"&AJ6&\"#\"&VLOOKUP(AK6,数组!$B:$C,2,0)&\"#\"&角色升星配方!AL6,\"\")","v":""},{"$f":"_xlfn.IFNA(AJ6&\"#\"&AK6&\"#\"&VLOOKUP(AL6,数组!$B:$C,2,0)&\"#\"&角色升星配方!AM6,\"\")","v":""},{"$f":"_xlfn.IFNA(AG6&\"#\"&AH6&\"#\"&VLOOKUP(AI6,数组!$B:$C,2,0)&\"#\"&角色升星配方!AJ6,\"\")","v":"9#2#18#1"},{"$f":"_xlfn.IFNA(AL6&\"#\"&AM6&\"#\"&VLOOKUP(AN6,数组!$B:$C,2,0)&\"#\"&角色升星配方!AO6,\"\")","v":""},{"$f":"_xlfn.IFNA(AM6&\"#\"&AN6&\"#\"&VLOOKUP(AO6,数组!$B:$C,2,0)&\"#\"&角色升星配方!AP6,\"\")","v":""},{"$f":"_xlfn.IFNA(AN6&\"#\"&AO6&\"#\"&VLOOKUP(AP6,数组!$B:$C,2,0)&\"#\"&角色升星配方!AQ6,\"\")","v":""},{"$f":"_xlfn.IFNA(AK6&\"#\"&AL6&\"#\"&VLOOKUP(AM6,数组!$B:$C,2,0)&\"#\"&角色升星配方!AN6,\"\")","v":"9#3#17#2"},{"$f":"_xlfn.IFNA(AP6&\"#\"&AQ6&\"#\"&VLOOKUP(AR6,数组!$B:$C,2,0)&\"#\"&角色升星配方!AS6,\"\")","v":""},{"$f":"_xlfn.IFNA(AQ6&\"#\"&AR6&\"#\"&VLOOKUP(AS6,数组!$B:$C,2,0)&\"#\"&角色升星配方!AT6,\"\")","v":""},{"$f":"_xlfn.IFNA(AR6&\"#\"&AS6&\"#\"&VLOOKUP(AT6,数组!$B:$C,2,0)&\"#\"&角色升星配方!AU6,\"\")","v":""},{"$f":"_xlfn.IFNA(AO6&\"#\"&AP6&\"#\"&VLOOKUP(AQ6,数组!$B:$C,2,0)&\"#\"&角色升星配方!AR6,\"\")","v":"10#1#3#2"},{"$f":"_xlfn.IFNA(AT6&\"#\"&AU6&\"#\"&VLOOKUP(AV6,数组!$B:$C,2,0)&\"#\"&角色升星配方!AW6,\"\")","v":""},{"$f":"_xlfn.IFNA(AU6&\"#\"&AV6&\"#\"&VLOOKUP(AW6,数组!$B:$C,2,0)&\"#\"&角色升星配方!AX6,\"\")","v":""},{"$f":"_xlfn.IFNA(AV6&\"#\"&AW6&\"#\"&VLOOKUP(AX6,数组!$B:$C,2,0)&\"#\"&角色升星配方!AY6,\"\")","v":""},{"$f":"_xlfn.IFNA(AS6&\"#\"&AT6&\"#\"&VLOOKUP(AU6,数组!$B:$C,2,0)&\"#\"&角色升星配方!AV6,\"\")","v":"10#2#18#1"},{"$f":"_xlfn.IFNA(AX6&\"#\"&AY6&\"#\"&VLOOKUP(AZ6,数组!$B:$C,2,0)&\"#\"&角色升星配方!BM6,\"\")","v":""},null,null,{"$f":"_xlfn.IFNA(AW6&\"#\"&AX6&\"#\"&VLOOKUP(AY6,数组!$B:$C,2,0)&\"#\"&角色升星配方!AZ6,\"\")","v":"10#3#14#1"},{"$nulls":3},{"$f":"_xlfn.IFNA(BE6&\"#\"&BF6&\"#\"&VLOOKUP(BG6,数组!$B:$C,2,0)&\"#\"&角色升星配方!BH6,\"\")","v":""},{"$nulls":3},{"$f":"_xlfn.IFNA(BI6&\"#\"&BJ6&\"#\"&VLOOKUP(BK6,数组!$B:$C,2,0)&\"#\"&角色升星配方!BL6,\"\")","v":""},{"$f":"[2]!SUMSTRING(BM6:DM6,\"|\")","v":{"$error":"#NAME?"}}]
[1,10006,1,5,6,1,"5星同名",1,6,2,"5星10025",1,6,3,"5星同系",3,7,1,"5星同系",4,8,1,"5星同系",3,8,2,"6星同系",1,9,1,"5星同名",1,9,2,"6星同系",1,9,3,"5星同系",2,10,1,"5星同名",2,10,2,"6星同系",1,10,3,"9星任意",1,{"$nulls":12},{"$f":"_xlfn.IFNA(E7&\"#\"&F7&\"#\"&VLOOKUP(G7,数组!$B:$C,2,0)&\"#\"&角色升星配方!H7,\"\")","v":"6#1#3#1"},{"$f":"_xlfn.IFNA(F7&\"#\"&G7&\"#\"&VLOOKUP(H7,数组!$B:$C,2,0)&\"#\"&角色升星配方!I7,\"\")","v":""},{"$f":"_xlfn.IFNA(G7&\"#\"&H7&\"#\"&VLOOKUP(I7,数组!$B:$C,2,0)&\"#\"&角色升星配方!J7,\"\")","v":""},{"$f":"_xlfn.IFNA(H7&\"#\"&I7&\"#\"&VLOOKUP(J7,数组!$B:$C,2,0)&\"#\"&角色升星配方!K7,\"\")","v":""},{"$f":"_xlfn.IFNA(I7&\"#\"&J7&\"#\"&VLOOKUP(K7,数组!$B:$C,2,0)&\"#\"&角色升星配方!L7,\"\")","v":"6#2#23#1"},{"$f":"_xlfn.IFNA(J7&\"#\"&K7&\"#\"&VLOOKUP(L7,数组!$B:$C,2,0)&\"#\"&角色升星配方!M7,\"\")","v":""},{"$f":"_xlfn.IFNA(K7&\"#\"&L7&\"#\"&VLOOKUP(M7,数组!$B:$C,2,0)&\"#\"&角色升星配方!N7,\"\")","v":""},{"$f":"_xlfn.IFNA(L7&\"#\"&M7&\"#\"&VLOOKUP(N7,数组!$B:$C,2,0)&\"#\"&角色升星配方!O7,\"\")","v":""},{"$f":"_xlfn.IFNA(M7&\"#\"&N7&\"#\"&VLOOKUP(O7,数组!$B:$C,2,0)&\"#\"&角色升星配方!P7,\"\")","v":"6#3#17#3"},{"$f":"_xlfn.IFNA(N7&\"#\"&O7&\"#\"&VLOOKUP(P7,数组!$B:$C,2,0)&\"#\"&角色升星配方!Q7,\"\")","v":""},{"$f":"_xlfn.IFNA(O7&\"#\"&P7&\"#\"&VLOOKUP(Q7,数组!$B:$C,2,0)&\"#\"&角色升星配方!R7,\"\")","v":""},{"$f":"_xlfn.IFNA(P7&\"#\"&Q7&\"#\"&VLOOKUP(R7,数组!$B:$C,2,0)&\"#\"&角色升星配方!S7,\"\")","v":""},{"$f":"_xlfn.IFNA(Q7&\"#\"&R7&\"#\"&VLOOKUP(S7,数组!$B:$C,2,0)&\"#\"&角色升星配方!T7,\"\")","v":"7#1#17#4"},{"$f":"_xlfn.IFNA(R7&\"#\"&S7&\"#\"&VLOOKUP(T7,数组!$B:$C,2,0)&\"#\"&角色升星配方!U7,\"\")","v":""},{"$f":"_xlfn.IFNA(S7&\"#\"&T7&\"#\"&VLOOKUP(U7,数组!$B:$C,2,0)&\"#\"&角色升星配方!V7,\"\")","v":""},{"$f":"_xlfn.IFNA(T7&\"#\"&U7&\"#\"&VLOOKUP(V7,数组!$B:$C,2,0)&\"#\"&角色升星配方!W7,\"\")","v":""},{"$f":"_xlfn.IFNA(U7&\"#\"&V7&\"#\"&VLOOKUP(W7,数组!$B:$C,2,0)&\"#\"&角色升星配方!X7,\"\")","v":"8#1#17#3"},{"$f":"_xlfn.IFNA(V7&\"#\"&W7&\"#\"&VLOOKUP(X7,数组!$B:$C,2,0)&\"#\"&角色升星配方!AC7,\"\")","v":""},{"$f":"_xlfn.IFNA(W7&\"#\"&X7&\"#\"&VLOOKUP(AC7,数组!$B:$C,2,0)&\"#\"&角色升星配方!AD7,\"\")","v":""},{"$f":"_xlfn.IFNA(X7&\"#\"&AC7&\"#\"&VLOOKUP(AD7,数组!$B:$C,2,0)&\"#\"&角色升星配方!AE7,\"\")","v":""},{"$f":"_xlfn.IFNA(Y7&\"#\"&Z7&\"#\"&VLOOKUP(AA7,数组!$B:$C,2,0)&\"#\"&角色升星配方!AB7,\"\")","v":"8#2#18#1"},{"$f":"_xlfn.IFNA(AD7&\"#\"&AE7&\"#\"&VLOOKUP(AF7,数组!$B:$C,2,0)&\"#\"&角色升星配方!AG7,\"\")","v":""},{"$f":"_xlfn.IFNA(AE7&\"#\"&AF7&\"#\"&VLOOKUP(AG7,数组!$B:$C,2,0)&\"#\"&角色升星配方!AH7,\"\")","v":""},{"$f":"_xlfn.IFNA(AF7&\"#\"&AG7&\"#\"&VLOOKUP(AH7,数组!$B:$C,2,0)&\"#\"&角色升星配方!AI7,\"\")","v":""},{"$f":"_xlfn.IFNA(AC7&\"#\"&AD7&\"#\"&VLOOKUP(AE7,数组!$B:$C,2,0)&\"#\"&角色升星配方!AF7,\"\")","v":"9#1#3#1"},{"$f":"_xlfn.IFNA(AH7&\"#\"&AI7&\"#\"&VLOOKUP(AJ7,数组!$B:$C,2,0)&\"#\"&角色升星配方!AK7,\"\")","v":""},{"$f":"_xlfn.IFNA(AI7&\"#\"&AJ7&\"#\"&VLOOKUP(AK7,数组!$B:$C,2,0)&\"#\"&角色升星配方!AL7,\"\")","v":""},{"$f":"_xlfn.IFNA(AJ7&\"#\"&AK7&\"#\"&VLOOKUP(AL7,数组!$B:$C,2,0)&\"#\"&角色升星配方!AM7,\"\")","v":""},{"$f":"_xlfn.IFNA(AG7&\"#\"&AH7&\"#\"&VLOOKUP(AI7,数组!$B:$C,2,0)&\"#\"&角色升星配方!AJ7,\"\")","v":"9#2#18#1"},{"$f":"_xlfn.IFNA(AL7&\"#\"&AM7&\"#\"&VLOOKUP(AN7,数组!$B:$C,2,0)&\"#\"&角色升星配方!AO7,\"\")","v":""},{"$f":"_xlfn.IFNA(AM7&\"#\"&AN7&\"#\"&VLOOKUP(AO7,数组!$B:$C,2,0)&\"#\"&角色升星配方!AP7,\"\")","v":""},{"$f":"_xlfn.IFNA(AN7&\"#\"&AO7&\"#\"&VLOOKUP(AP7,数组!$B:$C,2,0)&\"#\"&角色升星配方!AQ7,\"\")","v":""},{"$f":"_xlfn.IFNA(AK7&\"#\"&AL7&\"#\"&VLOOKUP(AM7,数组!$B:$C,2,0)&\"#\"&角色升星配方!AN7,\"\")","v":"9#3#17#2"},{"$f":"_xlfn.IFNA(AP7&\"#\"&AQ7&\"#\"&VLOOKUP(AR7,数组!$B:$C,2,0)&\"#\"&角色升星配方!AS7,\"\")","v":""},{"$f":"_xlfn.IFNA(AQ7&\"#\"&AR7&\"#\"&VLOOKUP(AS7,数组!$B:$C,2,0)&\"#\"&角色升星配方!AT7,\"\")","v":""},{"$f":"_xlfn.IFNA(AR7&\"#\"&AS7&\"#\"&VLOOKUP(AT7,数组!$B:$C,2,0)&\"#\"&角色升星配方!AU7,\"\")","v":""},{"$f":"_xlfn.IFNA(AO7&\"#\"&AP7&\"#\"&VLOOKUP(AQ7,数组!$B:$C,2,0)&\"#\"&角色升星配方!AR7,\"\")","v":"10#1#3#2"},{"$f":"_xlfn.IFNA(AT7&\"#\"&AU7&\"#\"&VLOOKUP(AV7,数组!$B:$C,2,0)&\"#\"&角色升星配方!AW7,\"\")","v":""},{"$f":"_xlfn.IFNA(AU7&\"#\"&AV7&\"#\"&VLOOKUP(AW7,数组!$B:$C,2,0)&\"#\"&角色升星配方!AX7,\"\")","v":""},{"$f":"_xlfn.IFNA(AV7&\"#\"&AW7&\"#\"&VLOOKUP(AX7,数组!$B:$C,2,0)&\"#\"&角色升星配方!AY7,\"\")","v":""},{"$f":"_xlfn.IFNA(AS7&\"#\"&AT7&\"#\"&VLOOKUP(AU7,数组!$B:$C,2,0)&\"#\"&角色升星配方!AV7,\"\")","v":"10#2#18#1"},{"$f":"_xlfn.IFNA(AX7&\"#\"&AY7&\"#\"&VLOOKUP(AZ7,数组!$B:$C,2,0)&\"#\"&角色升星配方!BM7,\"\")","v":""},null,null,{"$f":"_xlfn.IFNA(AW7&\"#\"&AX7&\"#\"&VLOOKUP(AY7,数组!$B:$C,2,0)&\"#\"&角色升星配方!AZ7,\"\")","v":"10#3#14#1"},{"$nulls":3},{"$f":"_xlfn.IFNA(BE7&\"#\"&BF7&\"#\"&VLOOKUP(BG7,数组!$B:$C,2,0)&\"#\"&角色升星配方!BH7,\"\")","v":""},{"$nulls":3},{"$f":"_xlfn.IFNA(BI7&\"#\"&BJ7&\"#\"&VLOOKUP(BK7,数组!$B:$C,2,0)&\"#\"&角色升星配方!BL7,\"\")","v":""},{"$f":"[2]!SUMSTRING(BM7:DM7,\"|\")","v":{"$error":"#NAME?"}}]
[2,10007,3,5,6,1,"5星同名",1,6,2,"5星10037",1,6,3,"5星同系",3,7,1,"5星同系",4,8,1,"5星同系",3,8,2,"6星同系",1,9,1,"5星同名",1,9,2,"6星同系",1,9,3,"5星同系",2,10,1,"5星同名",2,10,2,"6星同系",1,10,3,"9星任意",1,{"$nulls":12},{"$f":"_xlfn.IFNA(E8&\"#\"&F8&\"#\"&VLOOKUP(G8,数组!$B:$C,2,0)&\"#\"&角色升星配方!H8,\"\")","v":"6#1#3#1"},{"$f":"_xlfn.IFNA(F8&\"#\"&G8&\"#\"&VLOOKUP(H8,数组!$B:$C,2,0)&\"#\"&角色升星配方!I8,\"\")","v":""},{"$f":"_xlfn.IFNA(G8&\"#\"&H8&\"#\"&VLOOKUP(I8,数组!$B:$C,2,0)&\"#\"&角色升星配方!J8,\"\")","v":""},{"$f":"_xlfn.IFNA(H8&\"#\"&I8&\"#\"&VLOOKUP(J8,数组!$B:$C,2,0)&\"#\"&角色升星配方!K8,\"\")","v":""},{"$f":"_xlfn.IFNA(I8&\"#\"&J8&\"#\"&VLOOKUP(K8,数组!$B:$C,2,0)&\"#\"&角色升星配方!L8,\"\")","v":"6#2#35#1"},{"$f":"_xlfn.IFNA(J8&\"#\"&K8&\"#\"&VLOOKUP(L8,数组!$B:$C,2,0)&\"#\"&角色升星配方!M8,\"\")","v":""},{"$f":"_xlfn.IFNA(K8&\"#\"&L8&\"#\"&VLOOKUP(M8,数组!$B:$C,2,0)&\"#\"&角色升星配方!N8,\"\")","v":""},{"$f":"_xlfn.IFNA(L8&\"#\"&M8&\"#\"&VLOOKUP(N8,数组!$B:$C,2,0)&\"#\"&角色升星配方!O8,\"\")","v":""},{"$f":"_xlfn.IFNA(M8&\"#\"&N8&\"#\"&VLOOKUP(O8,数组!$B:$C,2,0)&\"#\"&角色升星配方!P8,\"\")","v":"6#3#17#3"},{"$f":"_xlfn.IFNA(N8&\"#\"&O8&\"#\"&VLOOKUP(P8,数组!$B:$C,2,0)&\"#\"&角色升星配方!Q8,\"\")","v":""},{"$f":"_xlfn.IFNA(O8&\"#\"&P8&\"#\"&VLOOKUP(Q8,数组!$B:$C,2,0)&\"#\"&角色升星配方!R8,\"\")","v":""},{"$f":"_xlfn.IFNA(P8&\"#\"&Q8&\"#\"&VLOOKUP(R8,数组!$B:$C,2,0)&\"#\"&角色升星配方!S8,\"\")","v":""},{"$f":"_xlfn.IFNA(Q8&\"#\"&R8&\"#\"&VLOOKUP(S8,数组!$B:$C,2,0)&\"#\"&角色升星配方!T8,\"\")","v":"7#1#17#4"},{"$f":"_xlfn.IFNA(R8&\"#\"&S8&\"#\"&VLOOKUP(T8,数组!$B:$C,2,0)&\"#\"&角色升星配方!U8,\"\")","v":""},{"$f":"_xlfn.IFNA(S8&\"#\"&T8&\"#\"&VLOOKUP(U8,数组!$B:$C,2,0)&\"#\"&角色升星配方!V8,\"\")","v":""},{"$f":"_xlfn.IFNA(T8&\"#\"&U8&\"#\"&VLOOKUP(V8,数组!$B:$C,2,0)&\"#\"&角色升星配方!W8,\"\")","v":""},{"$f":"_xlfn.IFNA(U8&\"#\"&V8&\"#\"&VLOOKUP(W8,数组!$B:$C,2,0)&\"#\"&角色升星配方!X8,\"\")","v":"8#1#17#3"},{"$f":"_xlfn.IFNA(V8&\"#\"&W8&\"#\"&VLOOKUP(X8,数组!$B:$C,2,0)&\"#\"&角色升星配方!AC8,\"\")","v":""},{"$f":"_xlfn.IFNA(W8&\"#\"&X8&\"#\"&VLOOKUP(AC8,数组!$B:$C,2,0)&\"#\"&角色升星配方!AD8,\"\")","v":""},{"$f":"_xlfn.IFNA(X8&\"#\"&AC8&\"#\"&VLOOKUP(AD8,数组!$B:$C,2,0)&\"#\"&角色升星配方!AE8,\"\")","v":""},{"$f":"_xlfn.IFNA(Y8&\"#\"&Z8&\"#\"&VLOOKUP(AA8,数组!$B:$C,2,0)&\"#\"&角色升星配方!AB8,\"\")","v":"8#2#18#1"},{"$f":"_xlfn.IFNA(AD8&\"#\"&AE8&\"#\"&VLOOKUP(AF8,数组!$B:$C,2,0)&\"#\"&角色升星配方!AG8,\"\")","v":""},{"$f":"_xlfn.IFNA(AE8&\"#\"&AF8&\"#\"&VLOOKUP(AG8,数组!$B:$C,2,0)&\"#\"&角色升星配方!AH8,\"\")","v":""},{"$f":"_xlfn.IFNA(AF8&\"#\"&AG8&\"#\"&VLOOKUP(AH8,数组!$B:$C,2,0)&\"#\"&角色升星配方!AI8,\"\")","v":""},{"$f":"_xlfn.IFNA(AC8&\"#\"&AD8&\"#\"&VLOOKUP(AE8,数组!$B:$C,2,0)&\"#\"&角色升星配方!AF8,\"\")","v":"9#1#3#1"},{"$f":"_xlfn.IFNA(AH8&\"#\"&AI8&\"#\"&VLOOKUP(AJ8,数组!$B:$C,2,0)&\"#\"&角色升星配方!AK8,\"\")","v":""},{"$f":"_xlfn.IFNA(AI8&\"#\"&AJ8&\"#\"&VLOOKUP(AK8,数组!$B:$C,2,0)&\"#\"&角色升星配方!AL8,\"\")","v":""},{"$f":"_xlfn.IFNA(AJ8&\"#\"&AK8&\"#\"&VLOOKUP(AL8,数组!$B:$C,2,0)&\"#\"&角色升星配方!AM8,\"\")","v":""},{"$f":"_xlfn.IFNA(AG8&\"#\"&AH8&\"#\"&VLOOKUP(AI8,数组!$B:$C,2,0)&\"#\"&角色升星配方!AJ8,\"\")","v":"9#2#18#1"},{"$f":"_xlfn.IFNA(AL8&\"#\"&AM8&\"#\"&VLOOKUP(AN8,数组!$B:$C,2,0)&\"#\"&角色升星配方!AO8,\"\")","v":""},{"$f":"_xlfn.IFNA(AM8&\"#\"&AN8&\"#\"&VLOOKUP(AO8,数组!$B:$C,2,0)&\"#\"&角色升星配方!AP8,\"\")","v":""},{"$f":"_xlfn.IFNA(AN8&\"#\"&AO8&\"#\"&VLOOKUP(AP8,数组!$B:$C,2,0)&\"#\"&角色升星配方!AQ8,\"\")","v":""},{"$f":"_xlfn.IFNA(AK8&\"#\"&AL8&\"#\"&VLOOKUP(AM8,数组!$B:$C,2,0)&\"#\"&角色升星配方!AN8,\"\")","v":"9#3#17#2"},{"$f":"_xlfn.IFNA(AP8&\"#\"&AQ8&\"#\"&VLOOKUP(AR8,数组!$B:$C,2,0)&\"#\"&角色升星配方!AS8,\"\")","v":""},{"$f":"_xlfn.IFNA(AQ8&\"#\"&AR8&\"#\"&VLOOKUP(AS8,数组!$B:$C,2,0)&\"#\"&角色升星配方!AT8,\"\")","v":""},{"$f":"_xlfn.IFNA(AR8&\"#\"&AS8&\"#\"&VLOOKUP(AT8,数组!$B:$C,2,0)&\"#\"&角色升星配方!AU8,\"\")","v":""},{"$f":"_xlfn.IFNA(AO8&\"#\"&AP8&\"#\"&VLOOKUP(AQ8,数组!$B:$C,2,0)&\"#\"&角色升星配方!AR8,\"\")","v":"10#1#3#2"},{"$f":"_xlfn.IFNA(AT8&\"#\"&AU8&\"#\"&VLOOKUP(AV8,数组!$B:$C,2,0)&\"#\"&角色升星配方!AW8,\"\")","v":""},{"$f":"_xlfn.IFNA(AU8&\"#\"&AV8&\"#\"&VLOOKUP(AW8,数组!$B:$C,2,0)&\"#\"&角色升星配方!AX8,\"\")","v":""},{"$f":"_xlfn.IFNA(AV8&\"#\"&AW8&\"#\"&VLOOKUP(AX8,数组!$B:$C,2,0)&\"#\"&角色升星配方!AY8,\"\")","v":""},{"$f":"_xlfn.IFNA(AS8&\"#\"&AT8&\"#\"&VLOOKUP(AU8,数组!$B:$C,2,0)&\"#\"&角色升星配方!AV8,\"\")","v":"10#2#18#1"},{"$f":"_xlfn.IFNA(AX8&\"#\"&AY8&\"#\"&VLOOKUP(AZ8,数组!$B:$C,2,0)&\"#\"&角色升星配方!BA8,\"\")","v":""},{"$f":"_xlfn.IFNA(AY8&\"#\"&AZ8&\"#\"&VLOOKUP(BA8,数组!$B:$C,2,0)&\"#\"&角色升星配方!BB8,\"\")","v":""},{"$f":"_xlfn.IFNA(AZ8&\"#\"&BA8&\"#\"&VLOOKUP(BB8,数组!$B:$C,2,0)&\"#\"&角色升星配方!BC8,\"\")","v":""},{"$f":"_xlfn.IFNA(AW8&\"#\"&AX8&\"#\"&VLOOKUP(AY8,数组!$B:$C,2,0)&\"#\"&角色升星配方!AZ8,\"\")","v":"10#3#14#1"},{"$nulls":3},{"$f":"_xlfn.IFNA(BE8&\"#\"&BF8&\"#\"&VLOOKUP(BG8,数组!$B:$C,2,0)&\"#\"&角色升星配方!BH8,\"\")","v":""},{"$nulls":3},{"$f":"_xlfn.IFNA(BI8&\"#\"&BJ8&\"#\"&VLOOKUP(BK8,数组!$B:$C,2,0)&\"#\"&角色升星配方!BL8,\"\")","v":""},{"$f":"[2]!SUMSTRING(BM8:DM8,\"|\")","v":{"$error":"#NAME?"}}]
[2,10008,2,5,6,1,"5星同名",1,6,2,"5星10024",1,6,3,"5星同系",3,7,1,"5星同系",4,8,1,"5星同系",3,8,2,"6星同系",1,9,1,"5星同名",1,9,2,"6星同系",1,9,3,"5星同系",2,10,1,"5星同名",2,10,2,"6星同系",1,10,3,"9星任意",1,{"$nulls":12},{"$f":"_xlfn.IFNA(E9&\"#\"&F9&\"#\"&VLOOKUP(G9,数组!$B:$C,2,0)&\"#\"&角色升星配方!H9,\"\")","v":"6#1#3#1"},{"$f":"_xlfn.IFNA(F9&\"#\"&G9&\"#\"&VLOOKUP(H9,数组!$B:$C,2,0)&\"#\"&角色升星配方!I9,\"\")","v":""},{"$f":"_xlfn.IFNA(G9&\"#\"&H9&\"#\"&VLOOKUP(I9,数组!$B:$C,2,0)&\"#\"&角色升星配方!J9,\"\")","v":""},{"$f":"_xlfn.IFNA(H9&\"#\"&I9&\"#\"&VLOOKUP(J9,数组!$B:$C,2,0)&\"#\"&角色升星配方!K9,\"\")","v":""},{"$f":"_xlfn.IFNA(I9&\"#\"&J9&\"#\"&VLOOKUP(K9,数组!$B:$C,2,0)&\"#\"&角色升星配方!L9,\"\")","v":"6#2#22#1"},{"$f":"_xlfn.IFNA(J9&\"#\"&K9&\"#\"&VLOOKUP(L9,数组!$B:$C,2,0)&\"#\"&角色升星配方!M9,\"\")","v":""},{"$f":"_xlfn.IFNA(K9&\"#\"&L9&\"#\"&VLOOKUP(M9,数组!$B:$C,2,0)&\"#\"&角色升星配方!N9,\"\")","v":""},{"$f":"_xlfn.IFNA(L9&\"#\"&M9&\"#\"&VLOOKUP(N9,数组!$B:$C,2,0)&\"#\"&角色升星配方!O9,\"\")","v":""},{"$f":"_xlfn.IFNA(M9&\"#\"&N9&\"#\"&VLOOKUP(O9,数组!$B:$C,2,0)&\"#\"&角色升星配方!P9,\"\")","v":"6#3#17#3"},{"$f":"_xlfn.IFNA(N9&\"#\"&O9&\"#\"&VLOOKUP(P9,数组!$B:$C,2,0)&\"#\"&角色升星配方!Q9,\"\")","v":""},{"$f":"_xlfn.IFNA(O9&\"#\"&P9&\"#\"&VLOOKUP(Q9,数组!$B:$C,2,0)&\"#\"&角色升星配方!R9,\"\")","v":""},{"$f":"_xlfn.IFNA(P9&\"#\"&Q9&\"#\"&VLOOKUP(R9,数组!$B:$C,2,0)&\"#\"&角色升星配方!S9,\"\")","v":""},{"$f":"_xlfn.IFNA(Q9&\"#\"&R9&\"#\"&VLOOKUP(S9,数组!$B:$C,2,0)&\"#\"&角色升星配方!T9,\"\")","v":"7#1#17#4"},{"$f":"_xlfn.IFNA(R9&\"#\"&S9&\"#\"&VLOOKUP(T9,数组!$B:$C,2,0)&\"#\"&角色升星配方!U9,\"\")","v":""},{"$f":"_xlfn.IFNA(S9&\"#\"&T9&\"#\"&VLOOKUP(U9,数组!$B:$C,2,0)&\"#\"&角色升星配方!V9,\"\")","v":""},{"$f":"_xlfn.IFNA(T9&\"#\"&U9&\"#\"&VLOOKUP(V9,数组!$B:$C,2,0)&\"#\"&角色升星配方!W9,\"\")","v":""},{"$f":"_xlfn.IFNA(U9&\"#\"&V9&\"#\"&VLOOKUP(W9,数组!$B:$C,2,0)&\"#\"&角色升星配方!X9,\"\")","v":"8#1#17#3"},{"$f":"_xlfn.IFNA(V9&\"#\"&W9&\"#\"&VLOOKUP(X9,数组!$B:$C,2,0)&\"#\"&角色升星配方!AC9,\"\")","v":""},{"$f":"_xlfn.IFNA(W9&\"#\"&X9&\"#\"&VLOOKUP(AC9,数组!$B:$C,2,0)&\"#\"&角色升星配方!AD9,\"\")","v":""},{"$f":"_xlfn.IFNA(X9&\"#\"&AC9&\"#\"&VLOOKUP(AD9,数组!$B:$C,2,0)&\"#\"&角色升星配方!AE9,\"\")","v":""},{"$f":"_xlfn.IFNA(Y9&\"#\"&Z9&\"#\"&VLOOKUP(AA9,数组!$B:$C,2,0)&\"#\"&角色升星配方!AB9,\"\")","v":"8#2#18#1"},{"$f":"_xlfn.IFNA(AD9&\"#\"&AE9&\"#\"&VLOOKUP(AF9,数组!$B:$C,2,0)&\"#\"&角色升星配方!AG9,\"\")","v":""},{"$f":"_xlfn.IFNA(AE9&\"#\"&AF9&\"#\"&VLOOKUP(AG9,数组!$B:$C,2,0)&\"#\"&角色升星配方!AH9,\"\")","v":""},{"$f":"_xlfn.IFNA(AF9&\"#\"&AG9&\"#\"&VLOOKUP(AH9,数组!$B:$C,2,0)&\"#\"&角色升星配方!AI9,\"\")","v":""},{"$f":"_xlfn.IFNA(AC9&\"#\"&AD9&\"#\"&VLOOKUP(AE9,数组!$B:$C,2,0)&\"#\"&角色升星配方!AF9,\"\")","v":"9#1#3#1"},{"$f":"_xlfn.IFNA(AH9&\"#\"&AI9&\"#\"&VLOOKUP(AJ9,数组!$B:$C,2,0)&\"#\"&角色升星配方!AK9,\"\")","v":""},{"$f":"_xlfn.IFNA(AI9&\"#\"&AJ9&\"#\"&VLOOKUP(AK9,数组!$B:$C,2,0)&\"#\"&角色升星配方!AL9,\"\")","v":""},{"$f":"_xlfn.IFNA(AJ9&\"#\"&AK9&\"#\"&VLOOKUP(AL9,数组!$B:$C,2,0)&\"#\"&角色升星配方!AM9,\"\")","v":""},{"$f":"_xlfn.IFNA(AG9&\"#\"&AH9&\"#\"&VLOOKUP(AI9,数组!$B:$C,2,0)&\"#\"&角色升星配方!AJ9,\"\")","v":"9#2#18#1"},{"$f":"_xlfn.IFNA(AL9&\"#\"&AM9&\"#\"&VLOOKUP(AN9,数组!$B:$C,2,0)&\"#\"&角色升星配方!AO9,\"\")","v":""},{"$f":"_xlfn.IFNA(AM9&\"#\"&AN9&\"#\"&VLOOKUP(AO9,数组!$B:$C,2,0)&\"#\"&角色升星配方!AP9,\"\")","v":""},{"$f":"_xlfn.IFNA(AN9&\"#\"&AO9&\"#\"&VLOOKUP(AP9,数组!$B:$C,2,0)&\"#\"&角色升星配方!AQ9,\"\")","v":""},{"$f":"_xlfn.IFNA(AK9&\"#\"&AL9&\"#\"&VLOOKUP(AM9,数组!$B:$C,2,0)&\"#\"&角色升星配方!AN9,\"\")","v":"9#3#17#2"},{"$f":"_xlfn.IFNA(AP9&\"#\"&AQ9&\"#\"&VLOOKUP(AR9,数组!$B:$C,2,0)&\"#\"&角色升星配方!AS9,\"\")","v":""},{"$f":"_xlfn.IFNA(AQ9&\"#\"&AR9&\"#\"&VLOOKUP(AS9,数组!$B:$C,2,0)&\"#\"&角色升星配方!AT9,\"\")","v":""},{"$f":"_xlfn.IFNA(AR9&\"#\"&AS9&\"#\"&VLOOKUP(AT9,数组!$B:$C,2,0)&\"#\"&角色升星配方!AU9,\"\")","v":""},{"$f":"_xlfn.IFNA(AO9&\"#\"&AP9&\"#\"&VLOOKUP(AQ9,数组!$B:$C,2,0)&\"#\"&角色升星配方!AR9,\"\")","v":"10#1#3#2"},{"$f":"_xlfn.IFNA(AT9&\"#\"&AU9&\"#\"&VLOOKUP(AV9,数组!$B:$C,2,0)&\"#\"&角色升星配方!AW9,\"\")","v":""},{"$f":"_xlfn.IFNA(AU9&\"#\"&AV9&\"#\"&VLOOKUP(AW9,数组!$B:$C,2,0)&\"#\"&角色升星配方!AX9,\"\")","v":""},{"$f":"_xlfn.IFNA(AV9&\"#\"&AW9&\"#\"&VLOOKUP(AX9,数组!$B:$C,2,0)&\"#\"&角色升星配方!AY9,\"\")","v":""},{"$f":"_xlfn.IFNA(AS9&\"#\"&AT9&\"#\"&VLOOKUP(AU9,数组!$B:$C,2,0)&\"#\"&角色升星配方!AV9,\"\")","v":"10#2#18#1"},{"$f":"_xlfn.IFNA(AX9&\"#\"&AY9&\"#\"&VLOOKUP(AZ9,数组!$B:$C,2,0)&\"#\"&角色升星配方!BM9,\"\")","v":""},null,null,{"$f":"_xlfn.IFNA(AW9&\"#\"&AX9&\"#\"&VLOOKUP(AY9,数组!$B:$C,2,0)&\"#\"&角色升星配方!AZ9,\"\")","v":"10#3#14#1"},{"$nulls":3},{"$f":"_xlfn.IFNA(BE9&\"#\"&BF9&\"#\"&VLOOKUP(BG9,数组!$B:$C,2,0)&\"#\"&角色升星配方!BH9,\"\")","v":""},{"$nulls":3},{"$f":"_xlfn.IFNA(BI9&\"#\"&BJ9&\"#\"&VLOOKUP(BK9,数组!$B:$C,2,0)&\"#\"&角色升星配方!BL9,\"\")","v":""},{"$f":"[2]!SUMSTRING(BM9:DM9,\"|\")","v":{"$error":"#NAME?"}}]
[6,10009,6,5,6,1,"5星同名",1,6,2,"5星10034",1,6,3,"5星同系",3,7,1,"5星同系",4,8,1,"5星同系",3,8,2,"6星同系",1,9,1,"5星同名",1,9,2,"6星同系",1,9,3,"5星同系",2,10,1,"5星同名",2,10,2,"6星同系",1,10,3,"9星任意",1,{"$nulls":12},{"$f":"_xlfn.IFNA(E10&\"#\"&F10&\"#\"&VLOOKUP(G10,数组!$B:$C,2,0)&\"#\"&角色升星配方!H10,\"\")","v":"6#1#3#1"},{"$f":"_xlfn.IFNA(F10&\"#\"&G10&\"#\"&VLOOKUP(H10,数组!$B:$C,2,0)&\"#\"&角色升星配方!I10,\"\")","v":""},{"$f":"_xlfn.IFNA(G10&\"#\"&H10&\"#\"&VLOOKUP(I10,数组!$B:$C,2,0)&\"#\"&角色升星配方!J10,\"\")","v":""},{"$f":"_xlfn.IFNA(H10&\"#\"&I10&\"#\"&VLOOKUP(J10,数组!$B:$C,2,0)&\"#\"&角色升星配方!K10,\"\")","v":""},{"$f":"_xlfn.IFNA(I10&\"#\"&J10&\"#\"&VLOOKUP(K10,数组!$B:$C,2,0)&\"#\"&角色升星配方!L10,\"\")","v":"6#2#32#1"},{"$f":"_xlfn.IFNA(J10&\"#\"&K10&\"#\"&VLOOKUP(L10,数组!$B:$C,2,0)&\"#\"&角色升星配方!M10,\"\")","v":""},{"$f":"_xlfn.IFNA(K10&\"#\"&L10&\"#\"&VLOOKUP(M10,数组!$B:$C,2,0)&\"#\"&角色升星配方!N10,\"\")","v":""},{"$f":"_xlfn.IFNA(L10&\"#\"&M10&\"#\"&VLOOKUP(N10,数组!$B:$C,2,0)&\"#\"&角色升星配方!O10,\"\")","v":""},{"$f":"_xlfn.IFNA(M10&\"#\"&N10&\"#\"&VLOOKUP(O10,数组!$B:$C,2,0)&\"#\"&角色升星配方!P10,\"\")","v":"6#3#17#3"},{"$f":"_xlfn.IFNA(N10&\"#\"&O10&\"#\"&VLOOKUP(P10,数组!$B:$C,2,0)&\"#\"&角色升星配方!Q10,\"\")","v":""},{"$f":"_xlfn.IFNA(O10&\"#\"&P10&\"#\"&VLOOKUP(Q10,数组!$B:$C,2,0)&\"#\"&角色升星配方!R10,\"\")","v":""},{"$f":"_xlfn.IFNA(P10&\"#\"&Q10&\"#\"&VLOOKUP(R10,数组!$B:$C,2,0)&\"#\"&角色升星配方!S10,\"\")","v":""},{"$f":"_xlfn.IFNA(Q10&\"#\"&R10&\"#\"&VLOOKUP(S10,数组!$B:$C,2,0)&\"#\"&角色升星配方!T10,\"\")","v":"7#1#17#4"},{"$f":"_xlfn.IFNA(R10&\"#\"&S10&\"#\"&VLOOKUP(T10,数组!$B:$C,2,0)&\"#\"&角色升星配方!U10,\"\")","v":""},{"$f":"_xlfn.IFNA(S10&\"#\"&T10&\"#\"&VLOOKUP(U10,数组!$B:$C,2,0)&\"#\"&角色升星配方!V10,\"\")","v":""},{"$f":"_xlfn.IFNA(T10&\"#\"&U10&\"#\"&VLOOKUP(V10,数组!$B:$C,2,0)&\"#\"&角色升星配方!W10,\"\")","v":""},{"$f":"_xlfn.IFNA(U10&\"#\"&V10&\"#\"&VLOOKUP(W10,数组!$B:$C,2,0)&\"#\"&角色升星配方!X10,\"\")","v":"8#1#17#3"},{"$f":"_xlfn.IFNA(V10&\"#\"&W10&\"#\"&VLOOKUP(X10,数组!$B:$C,2,0)&\"#\"&角色升星配方!AC10,\"\")","v":""},{"$f":"_xlfn.IFNA(W10&\"#\"&X10&\"#\"&VLOOKUP(AC10,数组!$B:$C,2,0)&\"#\"&角色升星配方!AD10,\"\")","v":""},{"$f":"_xlfn.IFNA(X10&\"#\"&AC10&\"#\"&VLOOKUP(AD10,数组!$B:$C,2,0)&\"#\"&角色升星配方!AE10,\"\")","v":""},{"$f":"_xlfn.IFNA(Y10&\"#\"&Z10&\"#\"&VLOOKUP(AA10,数组!$B:$C,2,0)&\"#\"&角色升星配方!AB10,\"\")","v":"8#2#18#1"},{"$f":"_xlfn.IFNA(AD10&\"#\"&AE10&\"#\"&VLOOKUP(AF10,数组!$B:$C,2,0)&\"#\"&角色升星配方!AG10,\"\")","v":""},{"$f":"_xlfn.IFNA(AE10&\"#\"&AF10&\"#\"&VLOOKUP(AG10,数组!$B:$C,2,0)&\"#\"&角色升星配方!AH10,\"\")","v":""},{"$f":"_xlfn.IFNA(AF10&\"#\"&AG10&\"#\"&VLOOKUP(AH10,数组!$B:$C,2,0)&\"#\"&角色升星配方!AI10,\"\")","v":""},{"$f":"_xlfn.IFNA(AC10&\"#\"&AD10&\"#\"&VLOOKUP(AE10,数组!$B:$C,2,0)&\"#\"&角色升星配方!AF10,\"\")","v":"9#1#3#1"},{"$f":"_xlfn.IFNA(AH10&\"#\"&AI10&\"#\"&VLOOKUP(AJ10,数组!$B:$C,2,0)&\"#\"&角色升星配方!AK10,\"\")","v":""},{"$f":"_xlfn.IFNA(AI10&\"#\"&AJ10&\"#\"&VLOOKUP(AK10,数组!$B:$C,2,0)&\"#\"&角色升星配方!AL10,\"\")","v":""},{"$f":"_xlfn.IFNA(AJ10&\"#\"&AK10&\"#\"&VLOOKUP(AL10,数组!$B:$C,2,0)&\"#\"&角色升星配方!AM10,\"\")","v":""},{"$f":"_xlfn.IFNA(AG10&\"#\"&AH10&\"#\"&VLOOKUP(AI10,数组!$B:$C,2,0)&\"#\"&角色升星配方!AJ10,\"\")","v":"9#2#18#1"},{"$f":"_xlfn.IFNA(AL10&\"#\"&AM10&\"#\"&VLOOKUP(AN10,数组!$B:$C,2,0)&\"#\"&角色升星配方!AO10,\"\")","v":""},{"$f":"_xlfn.IFNA(AM10&\"#\"&AN10&\"#\"&VLOOKUP(AO10,数组!$B:$C,2,0)&\"#\"&角色升星配方!AP10,\"\")","v":""},{"$f":"_xlfn.IFNA(AN10&\"#\"&AO10&\"#\"&VLOOKUP(AP10,数组!$B:$C,2,0)&\"#\"&角色升星配方!AQ10,\"\")","v":""},{"$f":"_xlfn.IFNA(AK10&\"#\"&AL10&\"#\"&VLOOKUP(AM10,数组!$B:$C,2,0)&\"#\"&角色升星配方!AN10,\"\")","v":"9#3#17#2"},{"$f":"_xlfn.IFNA(AP10&\"#\"&AQ10&\"#\"&VLOOKUP(AR10,数组!$B:$C,2,0)&\"#\"&角色升星配方!AS10,\"\")","v":""},{"$f":"_xlfn.IFNA(AQ10&\"#\"&AR10&\"#\"&VLOOKUP(AS10,数组!$B:$C,2,0)&\"#\"&角色升星配方!AT10,\"\")","v":""},{"$f":"_xlfn.IFNA(AR10&\"#\"&AS10&\"#\"&VLOOKUP(AT10,数组!$B:$C,2,0)&\"#\"&角色升星配方!AU10,\"\")","v":""},{"$f":"_xlfn.IFNA(AO10&\"#\"&AP10&\"#\"&VLOOKUP(AQ10,数组!$B:$C,2,0)&\"#\"&角色升星配方!AR10,\"\")","v":"10#1#3#2"},{"$f":"_xlfn.IFNA(AT10&\"#\"&AU10&\"#\"&VLOOKUP(AV10,数组!$B:$C,2,0)&\"#\"&角色升星配方!AW10,\"\")","v":""},{"$f":"_xlfn.IFNA(AU10&\"#\"&AV10&\"#\"&VLOOKUP(AW10,数组!$B:$C,2,0)&\"#\"&角色升星配方!AX10,\"\")","v":""},{"$f":"_xlfn.IFNA(AV10&\"#\"&AW10&\"#\"&VLOOKUP(AX10,数组!$B:$C,2,0)&\"#\"&角色升星配方!AY10,\"\")","v":""},{"$f":"_xlfn.IFNA(AS10&\"#\"&AT10&\"#\"&VLOOKUP(AU10,数组!$B:$C,2,0)&\"#\"&角色升星配方!AV10,\"\")","v":"10#2#18#1"},{"$f":"_xlfn.IFNA(AX10&\"#\"&AY10&\"#\"&VLOOKUP(AZ10,数组!$B:$C,2,0)&\"#\"&角色升星配方!BM10,\"\")","v":""},null,null,{"$f":"_xlfn.IFNA(AW10&\"#\"&AX10&\"#\"&VLOOKUP(AY10,数组!$B:$C,2,0)&\"#\"&角色升星配方!AZ10,\"\")","v":"10#3#14#1"},{"$nulls":3},{"$f":"_xlfn.IFNA(BE10&\"#\"&BF10&\"#\"&VLOOKUP(BG10,数组!$B:$C,2,0)&\"#\"&角色升星配方!BH10,\"\")","v":""},{"$nulls":3},{"$f":"_xlfn.IFNA(BI10&\"#\"&BJ10&\"#\"&VLOOKUP(BK10,数组!$B:$C,2,0)&\"#\"&角色升星配方!BL10,\"\")","v":""},{"$f":"[2]!SUMSTRING(BM10:DM10,\"|\")","v":{"$error":"#NAME?"}}]
[3,10010,3,5,6,1,"5星同名",1,6,2,"5星10039",1,6,3,"5星同系",3,7,1,"5星同系",4,8,1,"5星同系",3,8,2,"6星同系",1,9,1,"5星同名",1,9,2,"6星同系",1,9,3,"5星同系",2,10,1,"5星同名",2,10,2,"6星同系",1,10,3,"9星任意",1,{"$nulls":12},{"$f":"_xlfn.IFNA(E11&\"#\"&F11&\"#\"&VLOOKUP(G11,数组!$B:$C,2,0)&\"#\"&角色升星配方!H11,\"\")","v":"6#1#3#1"},{"$f":"_xlfn.IFNA(F11&\"#\"&G11&\"#\"&VLOOKUP(H11,数组!$B:$C,2,0)&\"#\"&角色升星配方!I11,\"\")","v":""},{"$f":"_xlfn.IFNA(G11&\"#\"&H11&\"#\"&VLOOKUP(I11,数组!$B:$C,2,0)&\"#\"&角色升星配方!J11,\"\")","v":""},{"$f":"_xlfn.IFNA(H11&\"#\"&I11&\"#\"&VLOOKUP(J11,数组!$B:$C,2,0)&\"#\"&角色升星配方!K11,\"\")","v":""},{"$f":"_xlfn.IFNA(I11&\"#\"&J11&\"#\"&VLOOKUP(K11,数组!$B:$C,2,0)&\"#\"&角色升星配方!L11,\"\")","v":"6#2#37#1"},{"$f":"_xlfn.IFNA(J11&\"#\"&K11&\"#\"&VLOOKUP(L11,数组!$B:$C,2,0)&\"#\"&角色升星配方!M11,\"\")","v":""},{"$f":"_xlfn.IFNA(K11&\"#\"&L11&\"#\"&VLOOKUP(M11,数组!$B:$C,2,0)&\"#\"&角色升星配方!N11,\"\")","v":""},{"$f":"_xlfn.IFNA(L11&\"#\"&M11&\"#\"&VLOOKUP(N11,数组!$B:$C,2,0)&\"#\"&角色升星配方!O11,\"\")","v":""},{"$f":"_xlfn.IFNA(M11&\"#\"&N11&\"#\"&VLOOKUP(O11,数组!$B:$C,2,0)&\"#\"&角色升星配方!P11,\"\")","v":"6#3#17#3"},{"$f":"_xlfn.IFNA(N11&\"#\"&O11&\"#\"&VLOOKUP(P11,数组!$B:$C,2,0)&\"#\"&角色升星配方!Q11,\"\")","v":""},{"$f":"_xlfn.IFNA(O11&\"#\"&P11&\"#\"&VLOOKUP(Q11,数组!$B:$C,2,0)&\"#\"&角色升星配方!R11,\"\")","v":""},{"$f":"_xlfn.IFNA(P11&\"#\"&Q11&\"#\"&VLOOKUP(R11,数组!$B:$C,2,0)&\"#\"&角色升星配方!S11,\"\")","v":""},{"$f":"_xlfn.IFNA(Q11&\"#\"&R11&\"#\"&VLOOKUP(S11,数组!$B:$C,2,0)&\"#\"&角色升星配方!T11,\"\")","v":"7#1#17#4"},{"$f":"_xlfn.IFNA(R11&\"#\"&S11&\"#\"&VLOOKUP(T11,数组!$B:$C,2,0)&\"#\"&角色升星配方!U11,\"\")","v":""},{"$f":"_xlfn.IFNA(S11&\"#\"&T11&\"#\"&VLOOKUP(U11,数组!$B:$C,2,0)&\"#\"&角色升星配方!V11,\"\")","v":""},{"$f":"_xlfn.IFNA(T11&\"#\"&U11&\"#\"&VLOOKUP(V11,数组!$B:$C,2,0)&\"#\"&角色升星配方!W11,\"\")","v":""},{"$f":"_xlfn.IFNA(U11&\"#\"&V11&\"#\"&VLOOKUP(W11,数组!$B:$C,2,0)&\"#\"&角色升星配方!X11,\"\")","v":"8#1#17#3"},{"$f":"_xlfn.IFNA(V11&\"#\"&W11&\"#\"&VLOOKUP(X11,数组!$B:$C,2,0)&\"#\"&角色升星配方!AC11,\"\")","v":""},{"$f":"_xlfn.IFNA(W11&\"#\"&X11&\"#\"&VLOOKUP(AC11,数组!$B:$C,2,0)&\"#\"&角色升星配方!AD11,\"\")","v":""},{"$f":"_xlfn.IFNA(X11&\"#\"&AC11&\"#\"&VLOOKUP(AD11,数组!$B:$C,2,0)&\"#\"&角色升星配方!AE11,\"\")","v":""},{"$f":"_xlfn.IFNA(Y11&\"#\"&Z11&\"#\"&VLOOKUP(AA11,数组!$B:$C,2,0)&\"#\"&角色升星配方!AB11,\"\")","v":"8#2#18#1"},{"$f":"_xlfn.IFNA(AD11&\"#\"&AE11&\"#\"&VLOOKUP(AF11,数组!$B:$C,2,0)&\"#\"&角色升星配方!AG11,\"\")","v":""},{"$f":"_xlfn.IFNA(AE11&\"#\"&AF11&\"#\"&VLOOKUP(AG11,数组!$B:$C,2,0)&\"#\"&角色升星配方!AH11,\"\")","v":""},{"$f":"_xlfn.IFNA(AF11&\"#\"&AG11&\"#\"&VLOOKUP(AH11,数组!$B:$C,2,0)&\"#\"&角色升星配方!AI11,\"\")","v":""},{"$f":"_xlfn.IFNA(AC11&\"#\"&AD11&\"#\"&VLOOKUP(AE11,数组!$B:$C,2,0)&\"#\"&角色升星配方!AF11,\"\")","v":"9#1#3#1"},{"$f":"_xlfn.IFNA(AH11&\"#\"&AI11&\"#\"&VLOOKUP(AJ11,数组!$B:$C,2,0)&\"#\"&角色升星配方!AK11,\"\")","v":""},{"$f":"_xlfn.IFNA(AI11&\"#\"&AJ11&\"#\"&VLOOKUP(AK11,数组!$B:$C,2,0)&\"#\"&角色升星配方!AL11,\"\")","v":""},{"$f":"_xlfn.IFNA(AJ11&\"#\"&AK11&\"#\"&VLOOKUP(AL11,数组!$B:$C,2,0)&\"#\"&角色升星配方!AM11,\"\")","v":""},{"$f":"_xlfn.IFNA(AG11&\"#\"&AH11&\"#\"&VLOOKUP(AI11,数组!$B:$C,2,0)&\"#\"&角色升星配方!AJ11,\"\")","v":"9#2#18#1"},{"$f":"_xlfn.IFNA(AL11&\"#\"&AM11&\"#\"&VLOOKUP(AN11,数组!$B:$C,2,0)&\"#\"&角色升星配方!AO11,\"\")","v":""},{"$f":"_xlfn.IFNA(AM11&\"#\"&AN11&\"#\"&VLOOKUP(AO11,数组!$B:$C,2,0)&\"#\"&角色升星配方!AP11,\"\")","v":""},{"$f":"_xlfn.IFNA(AN11&\"#\"&AO11&\"#\"&VLOOKUP(AP11,数组!$B:$C,2,0)&\"#\"&角色升星配方!AQ11,\"\")","v":""},{"$f":"_xlfn.IFNA(AK11&\"#\"&AL11&\"#\"&VLOOKUP(AM11,数组!$B:$C,2,0)&\"#\"&角色升星配方!AN11,\"\")","v":"9#3#17#2"},{"$f":"_xlfn.IFNA(AP11&\"#\"&AQ11&\"#\"&VLOOKUP(AR11,数组!$B:$C,2,0)&\"#\"&角色升星配方!AS11,\"\")","v":""},{"$f":"_xlfn.IFNA(AQ11&\"#\"&AR11&\"#\"&VLOOKUP(AS11,数组!$B:$C,2,0)&\"#\"&角色升星配方!AT11,\"\")","v":""},{"$f":"_xlfn.IFNA(AR11&\"#\"&AS11&\"#\"&VLOOKUP(AT11,数组!$B:$C,2,0)&\"#\"&角色升星配方!AU11,\"\")","v":""},{"$f":"_xlfn.IFNA(AO11&\"#\"&AP11&\"#\"&VLOOKUP(AQ11,数组!$B:$C,2,0)&\"#\"&角色升星配方!AR11,\"\")","v":"10#1#3#2"},{"$f":"_xlfn.IFNA(AT11&\"#\"&AU11&\"#\"&VLOOKUP(AV11,数组!$B:$C,2,0)&\"#\"&角色升星配方!AW11,\"\")","v":""},{"$f":"_xlfn.IFNA(AU11&\"#\"&AV11&\"#\"&VLOOKUP(AW11,数组!$B:$C,2,0)&\"#\"&角色升星配方!AX11,\"\")","v":""},{"$f":"_xlfn.IFNA(AV11&\"#\"&AW11&\"#\"&VLOOKUP(AX11,数组!$B:$C,2,0)&\"#\"&角色升星配方!AY11,\"\")","v":""},{"$f":"_xlfn.IFNA(AS11&\"#\"&AT11&\"#\"&VLOOKUP(AU11,数组!$B:$C,2,0)&\"#\"&角色升星配方!AV11,\"\")","v":"10#2#18#1"},{"$f":"_xlfn.IFNA(AX11&\"#\"&AY11&\"#\"&VLOOKUP(AZ11,数组!$B:$C,2,0)&\"#\"&角色升星配方!BM11,\"\")","v":""},null,null,{"$f":"_xlfn.IFNA(AW11&\"#\"&AX11&\"#\"&VLOOKUP(AY11,数组!$B:$C,2,0)&\"#\"&角色升星配方!AZ11,\"\")","v":"10#3#14#1"},{"$nulls":3},{"$f":"_xlfn.IFNA(BE11&\"#\"&BF11&\"#\"&VLOOKUP(BG11,数组!$B:$C,2,0)&\"#\"&角色升星配方!BH11,\"\")","v":""},{"$nulls":3},{"$f":"_xlfn.IFNA(BI11&\"#\"&BJ11&\"#\"&VLOOKUP(BK11,数组!$B:$C,2,0)&\"#\"&角色升星配方!BL11,\"\")","v":""},{"$f":"[2]!SUMSTRING(BM11:DM11,\"|\")","v":{"$error":"#NAME?"}}]
[4,10011,4,5,6,1,"5星同名",1,6,2,"5星10032",1,6,3,"5星同系",3,7,1,"5星同系",4,8,1,"5星同系",3,8,2,"6星同系",1,9,1,"5星同名",1,9,2,"6星同系",1,9,3,"5星同系",2,10,1,"5星同名",2,10,2,"6星同系",1,10,3,"9星任意",1,{"$nulls":12},{"$f":"_xlfn.IFNA(E12&\"#\"&F12&\"#\"&VLOOKUP(G12,数组!$B:$C,2,0)&\"#\"&角色升星配方!H12,\"\")","v":"6#1#3#1"},{"$f":"_xlfn.IFNA(F12&\"#\"&G12&\"#\"&VLOOKUP(H12,数组!$B:$C,2,0)&\"#\"&角色升星配方!I12,\"\")","v":""},{"$f":"_xlfn.IFNA(G12&\"#\"&H12&\"#\"&VLOOKUP(I12,数组!$B:$C,2,0)&\"#\"&角色升星配方!J12,\"\")","v":""},{"$f":"_xlfn.IFNA(H12&\"#\"&I12&\"#\"&VLOOKUP(J12,数组!$B:$C,2,0)&\"#\"&角色升星配方!K12,\"\")","v":""},{"$f":"_xlfn.IFNA(I12&\"#\"&J12&\"#\"&VLOOKUP(K12,数组!$B:$C,2,0)&\"#\"&角色升星配方!L12,\"\")","v":"6#2#30#1"},{"$f":"_xlfn.IFNA(J12&\"#\"&K12&\"#\"&VLOOKUP(L12,数组!$B:$C,2,0)&\"#\"&角色升星配方!M12,\"\")","v":""},{"$f":"_xlfn.IFNA(K12&\"#\"&L12&\"#\"&VLOOKUP(M12,数组!$B:$C,2,0)&\"#\"&角色升星配方!N12,\"\")","v":""},{"$f":"_xlfn.IFNA(L12&\"#\"&M12&\"#\"&VLOOKUP(N12,数组!$B:$C,2,0)&\"#\"&角色升星配方!O12,\"\")","v":""},{"$f":"_xlfn.IFNA(M12&\"#\"&N12&\"#\"&VLOOKUP(O12,数组!$B:$C,2,0)&\"#\"&角色升星配方!P12,\"\")","v":"6#3#17#3"},{"$f":"_xlfn.IFNA(N12&\"#\"&O12&\"#\"&VLOOKUP(P12,数组!$B:$C,2,0)&\"#\"&角色升星配方!Q12,\"\")","v":""},{"$f":"_xlfn.IFNA(O12&\"#\"&P12&\"#\"&VLOOKUP(Q12,数组!$B:$C,2,0)&\"#\"&角色升星配方!R12,\"\")","v":""},{"$f":"_xlfn.IFNA(P12&\"#\"&Q12&\"#\"&VLOOKUP(R12,数组!$B:$C,2,0)&\"#\"&角色升星配方!S12,\"\")","v":""},{"$f":"_xlfn.IFNA(Q12&\"#\"&R12&\"#\"&VLOOKUP(S12,数组!$B:$C,2,0)&\"#\"&角色升星配方!T12,\"\")","v":"7#1#17#4"},{"$f":"_xlfn.IFNA(R12&\"#\"&S12&\"#\"&VLOOKUP(T12,数组!$B:$C,2,0)&\"#\"&角色升星配方!U12,\"\")","v":""},{"$f":"_xlfn.IFNA(S12&\"#\"&T12&\"#\"&VLOOKUP(U12,数组!$B:$C,2,0)&\"#\"&角色升星配方!V12,\"\")","v":""},{"$f":"_xlfn.IFNA(T12&\"#\"&U12&\"#\"&VLOOKUP(V12,数组!$B:$C,2,0)&\"#\"&角色升星配方!W12,\"\")","v":""},{"$f":"_xlfn.IFNA(U12&\"#\"&V12&\"#\"&VLOOKUP(W12,数组!$B:$C,2,0)&\"#\"&角色升星配方!X12,\"\")","v":"8#1#17#3"},{"$f":"_xlfn.IFNA(V12&\"#\"&W12&\"#\"&VLOOKUP(X12,数组!$B:$C,2,0)&\"#\"&角色升星配方!AC12,\"\")","v":""},{"$f":"_xlfn.IFNA(W12&\"#\"&X12&\"#\"&VLOOKUP(AC12,数组!$B:$C,2,0)&\"#\"&角色升星配方!AD12,\"\")","v":""},{"$f":"_xlfn.IFNA(X12&\"#\"&AC12&\"#\"&VLOOKUP(AD12,数组!$B:$C,2,0)&\"#\"&角色升星配方!AE12,\"\")","v":""},{"$f":"_xlfn.IFNA(Y12&\"#\"&Z12&\"#\"&VLOOKUP(AA12,数组!$B:$C,2,0)&\"#\"&角色升星配方!AB12,\"\")","v":"8#2#18#1"},{"$f":"_xlfn.IFNA(AD12&\"#\"&AE12&\"#\"&VLOOKUP(AF12,数组!$B:$C,2,0)&\"#\"&角色升星配方!AG12,\"\")","v":""},{"$f":"_xlfn.IFNA(AE12&\"#\"&AF12&\"#\"&VLOOKUP(AG12,数组!$B:$C,2,0)&\"#\"&角色升星配方!AH12,\"\")","v":""},{"$f":"_xlfn.IFNA(AF12&\"#\"&AG12&\"#\"&VLOOKUP(AH12,数组!$B:$C,2,0)&\"#\"&角色升星配方!AI12,\"\")","v":""},{"$f":"_xlfn.IFNA(AC12&\"#\"&AD12&\"#\"&VLOOKUP(AE12,数组!$B:$C,2,0)&\"#\"&角色升星配方!AF12,\"\")","v":"9#1#3#1"},{"$f":"_xlfn.IFNA(AH12&\"#\"&AI12&\"#\"&VLOOKUP(AJ12,数组!$B:$C,2,0)&\"#\"&角色升星配方!AK12,\"\")","v":""},{"$f":"_xlfn.IFNA(AI12&\"#\"&AJ12&\"#\"&VLOOKUP(AK12,数组!$B:$C,2,0)&\"#\"&角色升星配方!AL12,\"\")","v":""},{"$f":"_xlfn.IFNA(AJ12&\"#\"&AK12&\"#\"&VLOOKUP(AL12,数组!$B:$C,2,0)&\"#\"&角色升星配方!AM12,\"\")","v":""},{"$f":"_xlfn.IFNA(AG12&\"#\"&AH12&\"#\"&VLOOKUP(AI12,数组!$B:$C,2,0)&\"#\"&角色升星配方!AJ12,\"\")","v":"9#2#18#1"},{"$f":"_xlfn.IFNA(AL12&\"#\"&AM12&\"#\"&VLOOKUP(AN12,数组!$B:$C,2,0)&\"#\"&角色升星配方!AO12,\"\")","v":""},{"$f":"_xlfn.IFNA(AM12&\"#\"&AN12&\"#\"&VLOOKUP(AO12,数组!$B:$C,2,0)&\"#\"&角色升星配方!AP12,\"\")","v":""},{"$f":"_xlfn.IFNA(AN12&\"#\"&AO12&\"#\"&VLOOKUP(AP12,数组!$B:$C,2,0)&\"#\"&角色升星配方!AQ12,\"\")","v":""},{"$f":"_xlfn.IFNA(AK12&\"#\"&AL12&\"#\"&VLOOKUP(AM12,数组!$B:$C,2,0)&\"#\"&角色升星配方!AN12,\"\")","v":"9#3#17#2"},{"$f":"_xlfn.IFNA(AP12&\"#\"&AQ12&\"#\"&VLOOKUP(AR12,数组!$B:$C,2,0)&\"#\"&角色升星配方!AS12,\"\")","v":""},{"$f":"_xlfn.IFNA(AQ12&\"#\"&AR12&\"#\"&VLOOKUP(AS12,数组!$B:$C,2,0)&\"#\"&角色升星配方!AT12,\"\")","v":""},{"$f":"_xlfn.IFNA(AR12&\"#\"&AS12&\"#\"&VLOOKUP(AT12,数组!$B:$C,2,0)&\"#\"&角色升星配方!AU12,\"\")","v":""},{"$f":"_xlfn.IFNA(AO12&\"#\"&AP12&\"#\"&VLOOKUP(AQ12,数组!$B:$C,2,0)&\"#\"&角色升星配方!AR12,\"\")","v":"10#1#3#2"},{"$f":"_xlfn.IFNA(AT12&\"#\"&AU12&\"#\"&VLOOKUP(AV12,数组!$B:$C,2,0)&\"#\"&角色升星配方!AW12,\"\")","v":""},{"$f":"_xlfn.IFNA(AU12&\"#\"&AV12&\"#\"&VLOOKUP(AW12,数组!$B:$C,2,0)&\"#\"&角色升星配方!AX12,\"\")","v":""},{"$f":"_xlfn.IFNA(AV12&\"#\"&AW12&\"#\"&VLOOKUP(AX12,数组!$B:$C,2,0)&\"#\"&角色升星配方!AY12,\"\")","v":""},{"$f":"_xlfn.IFNA(AS12&\"#\"&AT12&\"#\"&VLOOKUP(AU12,数组!$B:$C,2,0)&\"#\"&角色升星配方!AV12,\"\")","v":"10#2#18#1"},{"$f":"_xlfn.IFNA(AX12&\"#\"&AY12&\"#\"&VLOOKUP(AZ12,数组!$B:$C,2,0)&\"#\"&角色升星配方!BM12,\"\")","v":""},null,null,{"$f":"_xlfn.IFNA(AW12&\"#\"&AX12&\"#\"&VLOOKUP(AY12,数组!$B:$C,2,0)&\"#\"&角色升星配方!AZ12,\"\")","v":"10#3#14#1"},{"$nulls":3},{"$f":"_xlfn.IFNA(BE12&\"#\"&BF12&\"#\"&VLOOKUP(BG12,数组!$B:$C,2,0)&\"#\"&角色升星配方!BH12,\"\")","v":""},{"$nulls":3},{"$f":"_xlfn.IFNA(BI12&\"#\"&BJ12&\"#\"&VLOOKUP(BK12,数组!$B:$C,2,0)&\"#\"&角色升星配方!BL12,\"\")","v":""},{"$f":"[2]!SUMSTRING(BM12:DM12,\"|\")","v":{"$error":"#NAME?"}}]
[1,10012,1,5,6,1,"5星同名",1,6,2,"5星10038",1,6,3,"5星同系",3,7,1,"5星同系",4,8,1,"5星同系",3,8,2,"6星同系",1,9,1,"5星同名",1,9,2,"6星同系",1,9,3,"5星同系",2,10,1,"5星同名",2,10,2,"6星同系",1,10,3,"9星任意",1,{"$nulls":12},{"$f":"_xlfn.IFNA(E13&\"#\"&F13&\"#\"&VLOOKUP(G13,数组!$B:$C,2,0)&\"#\"&角色升星配方!H13,\"\")","v":"6#1#3#1"},{"$f":"_xlfn.IFNA(F13&\"#\"&G13&\"#\"&VLOOKUP(H13,数组!$B:$C,2,0)&\"#\"&角色升星配方!I13,\"\")","v":""},{"$f":"_xlfn.IFNA(G13&\"#\"&H13&\"#\"&VLOOKUP(I13,数组!$B:$C,2,0)&\"#\"&角色升星配方!J13,\"\")","v":""},{"$f":"_xlfn.IFNA(H13&\"#\"&I13&\"#\"&VLOOKUP(J13,数组!$B:$C,2,0)&\"#\"&角色升星配方!K13,\"\")","v":""},{"$f":"_xlfn.IFNA(I13&\"#\"&J13&\"#\"&VLOOKUP(K13,数组!$B:$C,2,0)&\"#\"&角色升星配方!L13,\"\")","v":"6#2#36#1"},{"$f":"_xlfn.IFNA(J13&\"#\"&K13&\"#\"&VLOOKUP(L13,数组!$B:$C,2,0)&\"#\"&角色升星配方!M13,\"\")","v":""},{"$f":"_xlfn.IFNA(K13&\"#\"&L13&\"#\"&VLOOKUP(M13,数组!$B:$C,2,0)&\"#\"&角色升星配方!N13,\"\")","v":""},{"$f":"_xlfn.IFNA(L13&\"#\"&M13&\"#\"&VLOOKUP(N13,数组!$B:$C,2,0)&\"#\"&角色升星配方!O13,\"\")","v":""},{"$f":"_xlfn.IFNA(M13&\"#\"&N13&\"#\"&VLOOKUP(O13,数组!$B:$C,2,0)&\"#\"&角色升星配方!P13,\"\")","v":"6#3#17#3"},{"$f":"_xlfn.IFNA(N13&\"#\"&O13&\"#\"&VLOOKUP(P13,数组!$B:$C,2,0)&\"#\"&角色升星配方!Q13,\"\")","v":""},{"$f":"_xlfn.IFNA(O13&\"#\"&P13&\"#\"&VLOOKUP(Q13,数组!$B:$C,2,0)&\"#\"&角色升星配方!R13,\"\")","v":""},{"$f":"_xlfn.IFNA(P13&\"#\"&Q13&\"#\"&VLOOKUP(R13,数组!$B:$C,2,0)&\"#\"&角色升星配方!S13,\"\")","v":""},{"$f":"_xlfn.IFNA(Q13&\"#\"&R13&\"#\"&VLOOKUP(S13,数组!$B:$C,2,0)&\"#\"&角色升星配方!T13,\"\")","v":"7#1#17#4"},{"$f":"_xlfn.IFNA(R13&\"#\"&S13&\"#\"&VLOOKUP(T13,数组!$B:$C,2,0)&\"#\"&角色升星配方!U13,\"\")","v":""},{"$f":"_xlfn.IFNA(S13&\"#\"&T13&\"#\"&VLOOKUP(U13,数组!$B:$C,2,0)&\"#\"&角色升星配方!V13,\"\")","v":""},{"$f":"_xlfn.IFNA(T13&\"#\"&U13&\"#\"&VLOOKUP(V13,数组!$B:$C,2,0)&\"#\"&角色升星配方!W13,\"\")","v":""},{"$f":"_xlfn.IFNA(U13&\"#\"&V13&\"#\"&VLOOKUP(W13,数组!$B:$C,2,0)&\"#\"&角色升星配方!X13,\"\")","v":"8#1#17#3"},{"$f":"_xlfn.IFNA(V13&\"#\"&W13&\"#\"&VLOOKUP(X13,数组!$B:$C,2,0)&\"#\"&角色升星配方!AC13,\"\")","v":""},{"$f":"_xlfn.IFNA(W13&\"#\"&X13&\"#\"&VLOOKUP(AC13,数组!$B:$C,2,0)&\"#\"&角色升星配方!AD13,\"\")","v":""},{"$f":"_xlfn.IFNA(X13&\"#\"&AC13&\"#\"&VLOOKUP(AD13,数组!$B:$C,2,0)&\"#\"&角色升星配方!AE13,\"\")","v":""},{"$f":"_xlfn.IFNA(Y13&\"#\"&Z13&\"#\"&VLOOKUP(AA13,数组!$B:$C,2,0)&\"#\"&角色升星配方!AB13,\"\")","v":"8#2#18#1"},{"$f":"_xlfn.IFNA(AD13&\"#\"&AE13&\"#\"&VLOOKUP(AF13,数组!$B:$C,2,0)&\"#\"&角色升星配方!AG13,\"\")","v":""},{"$f":"_xlfn.IFNA(AE13&\"#\"&AF13&\"#\"&VLOOKUP(AG13,数组!$B:$C,2,0)&\"#\"&角色升星配方!AH13,\"\")","v":""},{"$f":"_xlfn.IFNA(AF13&\"#\"&AG13&\"#\"&VLOOKUP(AH13,数组!$B:$C,2,0)&\"#\"&角色升星配方!AI13,\"\")","v":""},{"$f":"_xlfn.IFNA(AC13&\"#\"&AD13&\"#\"&VLOOKUP(AE13,数组!$B:$C,2,0)&\"#\"&角色升星配方!AF13,\"\")","v":"9#1#3#1"},{"$f":"_xlfn.IFNA(AH13&\"#\"&AI13&\"#\"&VLOOKUP(AJ13,数组!$B:$C,2,0)&\"#\"&角色升星配方!AK13,\"\")","v":""},{"$f":"_xlfn.IFNA(AI13&\"#\"&AJ13&\"#\"&VLOOKUP(AK13,数组!$B:$C,2,0)&\"#\"&角色升星配方!AL13,\"\")","v":""},{"$f":"_xlfn.IFNA(AJ13&\"#\"&AK13&\"#\"&VLOOKUP(AL13,数组!$B:$C,2,0)&\"#\"&角色升星配方!AM13,\"\")","v":""},{"$f":"_xlfn.IFNA(AG13&\"#\"&AH13&\"#\"&VLOOKUP(AI13,数组!$B:$C,2,0)&\"#\"&角色升星配方!AJ13,\"\")","v":"9#2#18#1"},{"$f":"_xlfn.IFNA(AL13&\"#\"&AM13&\"#\"&VLOOKUP(AN13,数组!$B:$C,2,0)&\"#\"&角色升星配方!AO13,\"\")","v":""},{"$f":"_xlfn.IFNA(AM13&\"#\"&AN13&\"#\"&VLOOKUP(AO13,数组!$B:$C,2,0)&\"#\"&角色升星配方!AP13,\"\")","v":""},{"$f":"_xlfn.IFNA(AN13&\"#\"&AO13&\"#\"&VLOOKUP(AP13,数组!$B:$C,2,0)&\"#\"&角色升星配方!AQ13,\"\")","v":""},{"$f":"_xlfn.IFNA(AK13&\"#\"&AL13&\"#\"&VLOOKUP(AM13,数组!$B:$C,2,0)&\"#\"&角色升星配方!AN13,\"\")","v":"9#3#17#2"},{"$f":"_xlfn.IFNA(AP13&\"#\"&AQ13&\"#\"&VLOOKUP(AR13,数组!$B:$C,2,0)&\"#\"&角色升星配方!AS13,\"\")","v":""},{"$f":"_xlfn.IFNA(AQ13&\"#\"&AR13&\"#\"&VLOOKUP(AS13,数组!$B:$C,2,0)&\"#\"&角色升星配方!AT13,\"\")","v":""},{"$f":"_xlfn.IFNA(AR13&\"#\"&AS13&\"#\"&VLOOKUP(AT13,数组!$B:$C,2,0)&\"#\"&角色升星配方!AU13,\"\")","v":""},{"$f":"_xlfn.IFNA(AO13&\"#\"&AP13&\"#\"&VLOOKUP(AQ13,数组!$B:$C,2,0)&\"#\"&角色升星配方!AR13,\"\")","v":"10#1#3#2"},{"$f":"_xlfn.IFNA(AT13&\"#\"&AU13&\"#\"&VLOOKUP(AV13,数组!$B:$C,2,0)&\"#\"&角色升星配方!AW13,\"\")","v":""},{"$f":"_xlfn.IFNA(AU13&\"#\"&AV13&\"#\"&VLOOKUP(AW13,数组!$B:$C,2,0)&\"#\"&角色升星配方!AX13,\"\")","v":""},{"$f":"_xlfn.IFNA(AV13&\"#\"&AW13&\"#\"&VLOOKUP(AX13,数组!$B:$C,2,0)&\"#\"&角色升星配方!AY13,\"\")","v":""},{"$f":"_xlfn.IFNA(AS13&\"#\"&AT13&\"#\"&VLOOKUP(AU13,数组!$B:$C,2,0)&\"#\"&角色升星配方!AV13,\"\")","v":"10#2#18#1"},{"$f":"_xlfn.IFNA(AX13&\"#\"&AY13&\"#\"&VLOOKUP(AZ13,数组!$B:$C,2,0)&\"#\"&角色升星配方!BM13,\"\")","v":""},null,null,{"$f":"_xlfn.IFNA(AW13&\"#\"&AX13&\"#\"&VLOOKUP(AY13,数组!$B:$C,2,0)&\"#\"&角色升星配方!AZ13,\"\")","v":"10#3#14#1"},{"$nulls":3},{"$f":"_xlfn.IFNA(BE13&\"#\"&BF13&\"#\"&VLOOKUP(BG13,数组!$B:$C,2,0)&\"#\"&角色升星配方!BH13,\"\")","v":""},{"$nulls":3},{"$f":"_xlfn.IFNA(BI13&\"#\"&BJ13&\"#\"&VLOOKUP(BK13,数组!$B:$C,2,0)&\"#\"&角色升星配方!BL13,\"\")","v":""},{"$f":"[2]!SUMSTRING(BM13:DM13,\"|\")","v":{"$error":"#NAME?"}}]
[4,10013,4,5,6,1,"5星同名",1,6,2,"5星10033",1,6,3,"5星同系",3,7,1,"5星同系",4,8,1,"5星同系",3,8,2,"6星同系",1,9,1,"5星同名",1,9,2,"6星同系",1,9,3,"5星同系",2,10,1,"5星同名",2,10,2,"6星同系",1,10,3,"9星任意",1,{"$nulls":12},{"$f":"_xlfn.IFNA(E14&\"#\"&F14&\"#\"&VLOOKUP(G14,数组!$B:$C,2,0)&\"#\"&角色升星配方!H14,\"\")","v":"6#1#3#1"},{"$f":"_xlfn.IFNA(F14&\"#\"&G14&\"#\"&VLOOKUP(H14,数组!$B:$C,2,0)&\"#\"&角色升星配方!I14,\"\")","v":""},{"$f":"_xlfn.IFNA(G14&\"#\"&H14&\"#\"&VLOOKUP(I14,数组!$B:$C,2,0)&\"#\"&角色升星配方!J14,\"\")","v":""},{"$f":"_xlfn.IFNA(H14&\"#\"&I14&\"#\"&VLOOKUP(J14,数组!$B:$C,2,0)&\"#\"&角色升星配方!K14,\"\")","v":""},{"$f":"_xlfn.IFNA(I14&\"#\"&J14&\"#\"&VLOOKUP(K14,数组!$B:$C,2,0)&\"#\"&角色升星配方!L14,\"\")","v":"6#2#31#1"},{"$f":"_xlfn.IFNA(J14&\"#\"&K14&\"#\"&VLOOKUP(L14,数组!$B:$C,2,0)&\"#\"&角色升星配方!M14,\"\")","v":""},{"$f":"_xlfn.IFNA(K14&\"#\"&L14&\"#\"&VLOOKUP(M14,数组!$B:$C,2,0)&\"#\"&角色升星配方!N14,\"\")","v":""},{"$f":"_xlfn.IFNA(L14&\"#\"&M14&\"#\"&VLOOKUP(N14,数组!$B:$C,2,0)&\"#\"&角色升星配方!O14,\"\")","v":""},{"$f":"_xlfn.IFNA(M14&\"#\"&N14&\"#\"&VLOOKUP(O14,数组!$B:$C,2,0)&\"#\"&角色升星配方!P14,\"\")","v":"6#3#17#3"},{"$f":"_xlfn.IFNA(N14&\"#\"&O14&\"#\"&VLOOKUP(P14,数组!$B:$C,2,0)&\"#\"&角色升星配方!Q14,\"\")","v":""},{"$f":"_xlfn.IFNA(O14&\"#\"&P14&\"#\"&VLOOKUP(Q14,数组!$B:$C,2,0)&\"#\"&角色升星配方!R14,\"\")","v":""},{"$f":"_xlfn.IFNA(P14&\"#\"&Q14&\"#\"&VLOOKUP(R14,数组!$B:$C,2,0)&\"#\"&角色升星配方!S14,\"\")","v":""},{"$f":"_xlfn.IFNA(Q14&\"#\"&R14&\"#\"&VLOOKUP(S14,数组!$B:$C,2,0)&\"#\"&角色升星配方!T14,\"\")","v":"7#1#17#4"},{"$f":"_xlfn.IFNA(R14&\"#\"&S14&\"#\"&VLOOKUP(T14,数组!$B:$C,2,0)&\"#\"&角色升星配方!U14,\"\")","v":""},{"$f":"_xlfn.IFNA(S14&\"#\"&T14&\"#\"&VLOOKUP(U14,数组!$B:$C,2,0)&\"#\"&角色升星配方!V14,\"\")","v":""},{"$f":"_xlfn.IFNA(T14&\"#\"&U14&\"#\"&VLOOKUP(V14,数组!$B:$C,2,0)&\"#\"&角色升星配方!W14,\"\")","v":""},{"$f":"_xlfn.IFNA(U14&\"#\"&V14&\"#\"&VLOOKUP(W14,数组!$B:$C,2,0)&\"#\"&角色升星配方!X14,\"\")","v":"8#1#17#3"},{"$f":"_xlfn.IFNA(V14&\"#\"&W14&\"#\"&VLOOKUP(X14,数组!$B:$C,2,0)&\"#\"&角色升星配方!AC14,\"\")","v":""},{"$f":"_xlfn.IFNA(W14&\"#\"&X14&\"#\"&VLOOKUP(AC14,数组!$B:$C,2,0)&\"#\"&角色升星配方!AD14,\"\")","v":""},{"$f":"_xlfn.IFNA(X14&\"#\"&AC14&\"#\"&VLOOKUP(AD14,数组!$B:$C,2,0)&\"#\"&角色升星配方!AE14,\"\")","v":""},{"$f":"_xlfn.IFNA(Y14&\"#\"&Z14&\"#\"&VLOOKUP(AA14,数组!$B:$C,2,0)&\"#\"&角色升星配方!AB14,\"\")","v":"8#2#18#1"},{"$f":"_xlfn.IFNA(AD14&\"#\"&AE14&\"#\"&VLOOKUP(AF14,数组!$B:$C,2,0)&\"#\"&角色升星配方!AG14,\"\")","v":""},{"$f":"_xlfn.IFNA(AE14&\"#\"&AF14&\"#\"&VLOOKUP(AG14,数组!$B:$C,2,0)&\"#\"&角色升星配方!AH14,\"\")","v":""},{"$f":"_xlfn.IFNA(AF14&\"#\"&AG14&\"#\"&VLOOKUP(AH14,数组!$B:$C,2,0)&\"#\"&角色升星配方!AI14,\"\")","v":""},{"$f":"_xlfn.IFNA(AC14&\"#\"&AD14&\"#\"&VLOOKUP(AE14,数组!$B:$C,2,0)&\"#\"&角色升星配方!AF14,\"\")","v":"9#1#3#1"},{"$f":"_xlfn.IFNA(AH14&\"#\"&AI14&\"#\"&VLOOKUP(AJ14,数组!$B:$C,2,0)&\"#\"&角色升星配方!AK14,\"\")","v":""},{"$f":"_xlfn.IFNA(AI14&\"#\"&AJ14&\"#\"&VLOOKUP(AK14,数组!$B:$C,2,0)&\"#\"&角色升星配方!AL14,\"\")","v":""},{"$f":"_xlfn.IFNA(AJ14&\"#\"&AK14&\"#\"&VLOOKUP(AL14,数组!$B:$C,2,0)&\"#\"&角色升星配方!AM14,\"\")","v":""},{"$f":"_xlfn.IFNA(AG14&\"#\"&AH14&\"#\"&VLOOKUP(AI14,数组!$B:$C,2,0)&\"#\"&角色升星配方!AJ14,\"\")","v":"9#2#18#1"},{"$f":"_xlfn.IFNA(AL14&\"#\"&AM14&\"#\"&VLOOKUP(AN14,数组!$B:$C,2,0)&\"#\"&角色升星配方!AO14,\"\")","v":""},{"$f":"_xlfn.IFNA(AM14&\"#\"&AN14&\"#\"&VLOOKUP(AO14,数组!$B:$C,2,0)&\"#\"&角色升星配方!AP14,\"\")","v":""},{"$f":"_xlfn.IFNA(AN14&\"#\"&AO14&\"#\"&VLOOKUP(AP14,数组!$B:$C,2,0)&\"#\"&角色升星配方!AQ14,\"\")","v":""},{"$f":"_xlfn.IFNA(AK14&\"#\"&AL14&\"#\"&VLOOKUP(AM14,数组!$B:$C,2,0)&\"#\"&角色升星配方!AN14,\"\")","v":"9#3#17#2"},{"$f":"_xlfn.IFNA(AP14&\"#\"&AQ14&\"#\"&VLOOKUP(AR14,数组!$B:$C,2,0)&\"#\"&角色升星配方!AS14,\"\")","v":""},{"$f":"_xlfn.IFNA(AQ14&\"#\"&AR14&\"#\"&VLOOKUP(AS14,数组!$B:$C,2,0)&\"#\"&角色升星配方!AT14,\"\")","v":""},{"$f":"_xlfn.IFNA(AR14&\"#\"&AS14&\"#\"&VLOOKUP(AT14,数组!$B:$C,2,0)&\"#\"&角色升星配方!AU14,\"\")","v":""},{"$f":"_xlfn.IFNA(AO14&\"#\"&AP14&\"#\"&VLOOKUP(AQ14,数组!$B:$C,2,0)&\"#\"&角色升星配方!AR14,\"\")","v":"10#1#3#2"},{"$f":"_xlfn.IFNA(AT14&\"#\"&AU14&\"#\"&VLOOKUP(AV14,数组!$B:$C,2,0)&\"#\"&角色升星配方!AW14,\"\")","v":""},{"$f":"_xlfn.IFNA(AU14&\"#\"&AV14&\"#\"&VLOOKUP(AW14,数组!$B:$C,2,0)&\"#\"&角色升星配方!AX14,\"\")","v":""},{"$f":"_xlfn.IFNA(AV14&\"#\"&AW14&\"#\"&VLOOKUP(AX14,数组!$B:$C,2,0)&\"#\"&角色升星配方!AY14,\"\")","v":""},{"$f":"_xlfn.IFNA(AS14&\"#\"&AT14&\"#\"&VLOOKUP(AU14,数组!$B:$C,2,0)&\"#\"&角色升星配方!AV14,\"\")","v":"10#2#18#1"},{"$f":"_xlfn.IFNA(AX14&\"#\"&AY14&\"#\"&VLOOKUP(AZ14,数组!$B:$C,2,0)&\"#\"&角色升星配方!BM14,\"\")","v":""},null,null,{"$f":"_xlfn.IFNA(AW14&\"#\"&AX14&\"#\"&VLOOKUP(AY14,数组!$B:$C,2,0)&\"#\"&角色升星配方!AZ14,\"\")","v":"10#3#14#1"},{"$nulls":3},{"$f":"_xlfn.IFNA(BE14&\"#\"&BF14&\"#\"&VLOOKUP(BG14,数组!$B:$C,2,0)&\"#\"&角色升星配方!BH14,\"\")","v":""},{"$nulls":3},{"$f":"_xlfn.IFNA(BI14&\"#\"&BJ14&\"#\"&VLOOKUP(BK14,数组!$B:$C,2,0)&\"#\"&角色升星配方!BL14,\"\")","v":""},{"$f":"[2]!SUMSTRING(BM14:DM14,\"|\")","v":{"$error":"#NAME?"}}]
[6,10014,6,5,6,1,"5星同名",1,6,2,"5星10035",1,6,3,"5星同系",3,7,1,"5星同系",4,8,1,"5星同系",3,8,2,"6星同系",1,9,1,"5星同名",1,9,2,"6星同系",1,9,3,"5星同系",2,10,1,"5星同名",2,10,2,"6星同系",1,10,3,"9星任意",1,{"$nulls":12},{"$f":"_xlfn.IFNA(E15&\"#\"&F15&\"#\"&VLOOKUP(G15,数组!$B:$C,2,0)&\"#\"&角色升星配方!H15,\"\")","v":"6#1#3#1"},{"$f":"_xlfn.IFNA(F15&\"#\"&G15&\"#\"&VLOOKUP(H15,数组!$B:$C,2,0)&\"#\"&角色升星配方!I15,\"\")","v":""},{"$f":"_xlfn.IFNA(G15&\"#\"&H15&\"#\"&VLOOKUP(I15,数组!$B:$C,2,0)&\"#\"&角色升星配方!J15,\"\")","v":""},{"$f":"_xlfn.IFNA(H15&\"#\"&I15&\"#\"&VLOOKUP(J15,数组!$B:$C,2,0)&\"#\"&角色升星配方!K15,\"\")","v":""},{"$f":"_xlfn.IFNA(I15&\"#\"&J15&\"#\"&VLOOKUP(K15,数组!$B:$C,2,0)&\"#\"&角色升星配方!L15,\"\")","v":"6#2#33#1"},{"$f":"_xlfn.IFNA(J15&\"#\"&K15&\"#\"&VLOOKUP(L15,数组!$B:$C,2,0)&\"#\"&角色升星配方!M15,\"\")","v":""},{"$f":"_xlfn.IFNA(K15&\"#\"&L15&\"#\"&VLOOKUP(M15,数组!$B:$C,2,0)&\"#\"&角色升星配方!N15,\"\")","v":""},{"$f":"_xlfn.IFNA(L15&\"#\"&M15&\"#\"&VLOOKUP(N15,数组!$B:$C,2,0)&\"#\"&角色升星配方!O15,\"\")","v":""},{"$f":"_xlfn.IFNA(M15&\"#\"&N15&\"#\"&VLOOKUP(O15,数组!$B:$C,2,0)&\"#\"&角色升星配方!P15,\"\")","v":"6#3#17#3"},{"$f":"_xlfn.IFNA(N15&\"#\"&O15&\"#\"&VLOOKUP(P15,数组!$B:$C,2,0)&\"#\"&角色升星配方!Q15,\"\")","v":""},{"$f":"_xlfn.IFNA(O15&\"#\"&P15&\"#\"&VLOOKUP(Q15,数组!$B:$C,2,0)&\"#\"&角色升星配方!R15,\"\")","v":""},{"$f":"_xlfn.IFNA(P15&\"#\"&Q15&\"#\"&VLOOKUP(R15,数组!$B:$C,2,0)&\"#\"&角色升星配方!S15,\"\")","v":""},{"$f":"_xlfn.IFNA(Q15&\"#\"&R15&\"#\"&VLOOKUP(S15,数组!$B:$C,2,0)&\"#\"&角色升星配方!T15,\"\")","v":"7#1#17#4"},{"$f":"_xlfn.IFNA(R15&\"#\"&S15&\"#\"&VLOOKUP(T15,数组!$B:$C,2,0)&\"#\"&角色升星配方!U15,\"\")","v":""},{"$f":"_xlfn.IFNA(S15&\"#\"&T15&\"#\"&VLOOKUP(U15,数组!$B:$C,2,0)&\"#\"&角色升星配方!V15,\"\")","v":""},{"$f":"_xlfn.IFNA(T15&\"#\"&U15&\"#\"&VLOOKUP(V15,数组!$B:$C,2,0)&\"#\"&角色升星配方!W15,\"\")","v":""},{"$f":"_xlfn.IFNA(U15&\"#\"&V15&\"#\"&VLOOKUP(W15,数组!$B:$C,2,0)&\"#\"&角色升星配方!X15,\"\")","v":"8#1#17#3"},{"$f":"_xlfn.IFNA(V15&\"#\"&W15&\"#\"&VLOOKUP(X15,数组!$B:$C,2,0)&\"#\"&角色升星配方!AC15,\"\")","v":""},{"$f":"_xlfn.IFNA(W15&\"#\"&X15&\"#\"&VLOOKUP(AC15,数组!$B:$C,2,0)&\"#\"&角色升星配方!AD15,\"\")","v":""},{"$f":"_xlfn.IFNA(X15&\"#\"&AC15&\"#\"&VLOOKUP(AD15,数组!$B:$C,2,0)&\"#\"&角色升星配方!AE15,\"\")","v":""},{"$f":"_xlfn.IFNA(Y15&\"#\"&Z15&\"#\"&VLOOKUP(AA15,数组!$B:$C,2,0)&\"#\"&角色升星配方!AB15,\"\")","v":"8#2#18#1"},{"$f":"_xlfn.IFNA(AD15&\"#\"&AE15&\"#\"&VLOOKUP(AF15,数组!$B:$C,2,0)&\"#\"&角色升星配方!AG15,\"\")","v":""},{"$f":"_xlfn.IFNA(AE15&\"#\"&AF15&\"#\"&VLOOKUP(AG15,数组!$B:$C,2,0)&\"#\"&角色升星配方!AH15,\"\")","v":""},{"$f":"_xlfn.IFNA(AF15&\"#\"&AG15&\"#\"&VLOOKUP(AH15,数组!$B:$C,2,0)&\"#\"&角色升星配方!AI15,\"\")","v":""},{"$f":"_xlfn.IFNA(AC15&\"#\"&AD15&\"#\"&VLOOKUP(AE15,数组!$B:$C,2,0)&\"#\"&角色升星配方!AF15,\"\")","v":"9#1#3#1"},{"$f":"_xlfn.IFNA(AH15&\"#\"&AI15&\"#\"&VLOOKUP(AJ15,数组!$B:$C,2,0)&\"#\"&角色升星配方!AK15,\"\")","v":""},{"$f":"_xlfn.IFNA(AI15&\"#\"&AJ15&\"#\"&VLOOKUP(AK15,数组!$B:$C,2,0)&\"#\"&角色升星配方!AL15,\"\")","v":""},{"$f":"_xlfn.IFNA(AJ15&\"#\"&AK15&\"#\"&VLOOKUP(AL15,数组!$B:$C,2,0)&\"#\"&角色升星配方!AM15,\"\")","v":""},{"$f":"_xlfn.IFNA(AG15&\"#\"&AH15&\"#\"&VLOOKUP(AI15,数组!$B:$C,2,0)&\"#\"&角色升星配方!AJ15,\"\")","v":"9#2#18#1"},{"$f":"_xlfn.IFNA(AL15&\"#\"&AM15&\"#\"&VLOOKUP(AN15,数组!$B:$C,2,0)&\"#\"&角色升星配方!AO15,\"\")","v":""},{"$f":"_xlfn.IFNA(AM15&\"#\"&AN15&\"#\"&VLOOKUP(AO15,数组!$B:$C,2,0)&\"#\"&角色升星配方!AP15,\"\")","v":""},{"$f":"_xlfn.IFNA(AN15&\"#\"&AO15&\"#\"&VLOOKUP(AP15,数组!$B:$C,2,0)&\"#\"&角色升星配方!AQ15,\"\")","v":""},{"$f":"_xlfn.IFNA(AK15&\"#\"&AL15&\"#\"&VLOOKUP(AM15,数组!$B:$C,2,0)&\"#\"&角色升星配方!AN15,\"\")","v":"9#3#17#2"},{"$f":"_xlfn.IFNA(AP15&\"#\"&AQ15&\"#\"&VLOOKUP(AR15,数组!$B:$C,2,0)&\"#\"&角色升星配方!AS15,\"\")","v":""},{"$f":"_xlfn.IFNA(AQ15&\"#\"&AR15&\"#\"&VLOOKUP(AS15,数组!$B:$C,2,0)&\"#\"&角色升星配方!AT15,\"\")","v":""},{"$f":"_xlfn.IFNA(AR15&\"#\"&AS15&\"#\"&VLOOKUP(AT15,数组!$B:$C,2,0)&\"#\"&角色升星配方!AU15,\"\")","v":""},{"$f":"_xlfn.IFNA(AO15&\"#\"&AP15&\"#\"&VLOOKUP(AQ15,数组!$B:$C,2,0)&\"#\"&角色升星配方!AR15,\"\")","v":"10#1#3#2"},{"$f":"_xlfn.IFNA(AT15&\"#\"&AU15&\"#\"&VLOOKUP(AV15,数组!$B:$C,2,0)&\"#\"&角色升星配方!AW15,\"\")","v":""},{"$f":"_xlfn.IFNA(AU15&\"#\"&AV15&\"#\"&VLOOKUP(AW15,数组!$B:$C,2,0)&\"#\"&角色升星配方!AX15,\"\")","v":""},{"$f":"_xlfn.IFNA(AV15&\"#\"&AW15&\"#\"&VLOOKUP(AX15,数组!$B:$C,2,0)&\"#\"&角色升星配方!AY15,\"\")","v":""},{"$f":"_xlfn.IFNA(AS15&\"#\"&AT15&\"#\"&VLOOKUP(AU15,数组!$B:$C,2,0)&\"#\"&角色升星配方!AV15,\"\")","v":"10#2#18#1"},{"$f":"_xlfn.IFNA(AX15&\"#\"&AY15&\"#\"&VLOOKUP(AZ15,数组!$B:$C,2,0)&\"#\"&角色升星配方!BM15,\"\")","v":""},null,null,{"$f":"_xlfn.IFNA(AW15&\"#\"&AX15&\"#\"&VLOOKUP(AY15,数组!$B:$C,2,0)&\"#\"&角色升星配方!AZ15,\"\")","v":"10#3#14#1"},{"$nulls":3},{"$f":"_xlfn.IFNA(BE15&\"#\"&BF15&\"#\"&VLOOKUP(BG15,数组!$B:$C,2,0)&\"#\"&角色升星配方!BH15,\"\")","v":""},{"$nulls":3},{"$f":"_xlfn.IFNA(BI15&\"#\"&BJ15&\"#\"&VLOOKUP(BK15,数组!$B:$C,2,0)&\"#\"&角色升星配方!BL15,\"\")","v":""},{"$f":"[2]!SUMSTRING(BM15:DM15,\"|\")","v":{"$error":"#NAME?"}}]
[5,10015,5,5,6,1,"5星同名",1,6,2,"5星10027",1,6,3,"5星同系",3,7,1,"5星同系",4,8,1,"5星同系",3,8,2,"6星同系",1,9,1,"5星同名",1,9,2,"6星同系",1,9,3,"5星同系",2,10,1,"5星同名",2,10,2,"6星同系",1,10,3,"9星任意",1,{"$nulls":12},{"$f":"_xlfn.IFNA(E16&\"#\"&F16&\"#\"&VLOOKUP(G16,数组!$B:$C,2,0)&\"#\"&角色升星配方!H16,\"\")","v":"6#1#3#1"},{"$f":"_xlfn.IFNA(F16&\"#\"&G16&\"#\"&VLOOKUP(H16,数组!$B:$C,2,0)&\"#\"&角色升星配方!I16,\"\")","v":""},{"$f":"_xlfn.IFNA(G16&\"#\"&H16&\"#\"&VLOOKUP(I16,数组!$B:$C,2,0)&\"#\"&角色升星配方!J16,\"\")","v":""},{"$f":"_xlfn.IFNA(H16&\"#\"&I16&\"#\"&VLOOKUP(J16,数组!$B:$C,2,0)&\"#\"&角色升星配方!K16,\"\")","v":""},{"$f":"_xlfn.IFNA(I16&\"#\"&J16&\"#\"&VLOOKUP(K16,数组!$B:$C,2,0)&\"#\"&角色升星配方!L16,\"\")","v":"6#2#25#1"},{"$f":"_xlfn.IFNA(J16&\"#\"&K16&\"#\"&VLOOKUP(L16,数组!$B:$C,2,0)&\"#\"&角色升星配方!M16,\"\")","v":""},{"$f":"_xlfn.IFNA(K16&\"#\"&L16&\"#\"&VLOOKUP(M16,数组!$B:$C,2,0)&\"#\"&角色升星配方!N16,\"\")","v":""},{"$f":"_xlfn.IFNA(L16&\"#\"&M16&\"#\"&VLOOKUP(N16,数组!$B:$C,2,0)&\"#\"&角色升星配方!O16,\"\")","v":""},{"$f":"_xlfn.IFNA(M16&\"#\"&N16&\"#\"&VLOOKUP(O16,数组!$B:$C,2,0)&\"#\"&角色升星配方!P16,\"\")","v":"6#3#17#3"},{"$f":"_xlfn.IFNA(N16&\"#\"&O16&\"#\"&VLOOKUP(P16,数组!$B:$C,2,0)&\"#\"&角色升星配方!Q16,\"\")","v":""},{"$f":"_xlfn.IFNA(O16&\"#\"&P16&\"#\"&VLOOKUP(Q16,数组!$B:$C,2,0)&\"#\"&角色升星配方!R16,\"\")","v":""},{"$f":"_xlfn.IFNA(P16&\"#\"&Q16&\"#\"&VLOOKUP(R16,数组!$B:$C,2,0)&\"#\"&角色升星配方!S16,\"\")","v":""},{"$f":"_xlfn.IFNA(Q16&\"#\"&R16&\"#\"&VLOOKUP(S16,数组!$B:$C,2,0)&\"#\"&角色升星配方!T16,\"\")","v":"7#1#17#4"},{"$f":"_xlfn.IFNA(R16&\"#\"&S16&\"#\"&VLOOKUP(T16,数组!$B:$C,2,0)&\"#\"&角色升星配方!U16,\"\")","v":""},{"$f":"_xlfn.IFNA(S16&\"#\"&T16&\"#\"&VLOOKUP(U16,数组!$B:$C,2,0)&\"#\"&角色升星配方!V16,\"\")","v":""},{"$f":"_xlfn.IFNA(T16&\"#\"&U16&\"#\"&VLOOKUP(V16,数组!$B:$C,2,0)&\"#\"&角色升星配方!W16,\"\")","v":""},{"$f":"_xlfn.IFNA(U16&\"#\"&V16&\"#\"&VLOOKUP(W16,数组!$B:$C,2,0)&\"#\"&角色升星配方!X16,\"\")","v":"8#1#17#3"},{"$f":"_xlfn.IFNA(V16&\"#\"&W16&\"#\"&VLOOKUP(X16,数组!$B:$C,2,0)&\"#\"&角色升星配方!AC16,\"\")","v":""},{"$f":"_xlfn.IFNA(W16&\"#\"&X16&\"#\"&VLOOKUP(AC16,数组!$B:$C,2,0)&\"#\"&角色升星配方!AD16,\"\")","v":""},{"$f":"_xlfn.IFNA(X16&\"#\"&AC16&\"#\"&VLOOKUP(AD16,数组!$B:$C,2,0)&\"#\"&角色升星配方!AE16,\"\")","v":""},{"$f":"_xlfn.IFNA(Y16&\"#\"&Z16&\"#\"&VLOOKUP(AA16,数组!$B:$C,2,0)&\"#\"&角色升星配方!AB16,\"\")","v":"8#2#18#1"},{"$f":"_xlfn.IFNA(AD16&\"#\"&AE16&\"#\"&VLOOKUP(AF16,数组!$B:$C,2,0)&\"#\"&角色升星配方!AG16,\"\")","v":""},{"$f":"_xlfn.IFNA(AE16&\"#\"&AF16&\"#\"&VLOOKUP(AG16,数组!$B:$C,2,0)&\"#\"&角色升星配方!AH16,\"\")","v":""},{"$f":"_xlfn.IFNA(AF16&\"#\"&AG16&\"#\"&VLOOKUP(AH16,数组!$B:$C,2,0)&\"#\"&角色升星配方!AI16,\"\")","v":""},{"$f":"_xlfn.IFNA(AC16&\"#\"&AD16&\"#\"&VLOOKUP(AE16,数组!$B:$C,2,0)&\"#\"&角色升星配方!AF16,\"\")","v":"9#1#3#1"},{"$f":"_xlfn.IFNA(AH16&\"#\"&AI16&\"#\"&VLOOKUP(AJ16,数组!$B:$C,2,0)&\"#\"&角色升星配方!AK16,\"\")","v":""},{"$f":"_xlfn.IFNA(AI16&\"#\"&AJ16&\"#\"&VLOOKUP(AK16,数组!$B:$C,2,0)&\"#\"&角色升星配方!AL16,\"\")","v":""},{"$f":"_xlfn.IFNA(AJ16&\"#\"&AK16&\"#\"&VLOOKUP(AL16,数组!$B:$C,2,0)&\"#\"&角色升星配方!AM16,\"\")","v":""},{"$f":"_xlfn.IFNA(AG16&\"#\"&AH16&\"#\"&VLOOKUP(AI16,数组!$B:$C,2,0)&\"#\"&角色升星配方!AJ16,\"\")","v":"9#2#18#1"},{"$f":"_xlfn.IFNA(AL16&\"#\"&AM16&\"#\"&VLOOKUP(AN16,数组!$B:$C,2,0)&\"#\"&角色升星配方!AO16,\"\")","v":""},{"$f":"_xlfn.IFNA(AM16&\"#\"&AN16&\"#\"&VLOOKUP(AO16,数组!$B:$C,2,0)&\"#\"&角色升星配方!AP16,\"\")","v":""},{"$f":"_xlfn.IFNA(AN16&\"#\"&AO16&\"#\"&VLOOKUP(AP16,数组!$B:$C,2,0)&\"#\"&角色升星配方!AQ16,\"\")","v":""},{"$f":"_xlfn.IFNA(AK16&\"#\"&AL16&\"#\"&VLOOKUP(AM16,数组!$B:$C,2,0)&\"#\"&角色升星配方!AN16,\"\")","v":"9#3#17#2"},{"$f":"_xlfn.IFNA(AP16&\"#\"&AQ16&\"#\"&VLOOKUP(AR16,数组!$B:$C,2,0)&\"#\"&角色升星配方!AS16,\"\")","v":""},{"$f":"_xlfn.IFNA(AQ16&\"#\"&AR16&\"#\"&VLOOKUP(AS16,数组!$B:$C,2,0)&\"#\"&角色升星配方!AT16,\"\")","v":""},{"$f":"_xlfn.IFNA(AR16&\"#\"&AS16&\"#\"&VLOOKUP(AT16,数组!$B:$C,2,0)&\"#\"&角色升星配方!AU16,\"\")","v":""},{"$f":"_xlfn.IFNA(AO16&\"#\"&AP16&\"#\"&VLOOKUP(AQ16,数组!$B:$C,2,0)&\"#\"&角色升星配方!AR16,\"\")","v":"10#1#3#2"},{"$f":"_xlfn.IFNA(AT16&\"#\"&AU16&\"#\"&VLOOKUP(AV16,数组!$B:$C,2,0)&\"#\"&角色升星配方!AW16,\"\")","v":""},{"$f":"_xlfn.IFNA(AU16&\"#\"&AV16&\"#\"&VLOOKUP(AW16,数组!$B:$C,2,0)&\"#\"&角色升星配方!AX16,\"\")","v":""},{"$f":"_xlfn.IFNA(AV16&\"#\"&AW16&\"#\"&VLOOKUP(AX16,数组!$B:$C,2,0)&\"#\"&角色升星配方!AY16,\"\")","v":""},{"$f":"_xlfn.IFNA(AS16&\"#\"&AT16&\"#\"&VLOOKUP(AU16,数组!$B:$C,2,0)&\"#\"&角色升星配方!AV16,\"\")","v":"10#2#18#1"},{"$f":"_xlfn.IFNA(AX16&\"#\"&AY16&\"#\"&VLOOKUP(AZ16,数组!$B:$C,2,0)&\"#\"&角色升星配方!BM16,\"\")","v":""},null,null,{"$f":"_xlfn.IFNA(AW16&\"#\"&AX16&\"#\"&VLOOKUP(AY16,数组!$B:$C,2,0)&\"#\"&角色升星配方!AZ16,\"\")","v":"10#3#14#1"},{"$nulls":3},{"$f":"_xlfn.IFNA(BE16&\"#\"&BF16&\"#\"&VLOOKUP(BG16,数组!$B:$C,2,0)&\"#\"&角色升星配方!BH16,\"\")","v":""},{"$nulls":3},{"$f":"_xlfn.IFNA(BI16&\"#\"&BJ16&\"#\"&VLOOKUP(BK16,数组!$B:$C,2,0)&\"#\"&角色升星配方!BL16,\"\")","v":""},{"$f":"[2]!SUMSTRING(BM16:DM16,\"|\")","v":{"$error":"#NAME?"}}]
[1,10016,1,5,6,1,"5星同名",1,6,2,"5星10040",1,6,3,"5星同系",3,7,1,"5星同系",4,8,1,"5星同系",3,8,2,"6星同系",1,9,1,"5星同名",1,9,2,"6星同系",1,9,3,"5星同系",2,10,1,"5星同名",2,10,2,"6星同系",1,10,3,"9星任意",1,{"$nulls":12},{"$f":"_xlfn.IFNA(E17&\"#\"&F17&\"#\"&VLOOKUP(G17,数组!$B:$C,2,0)&\"#\"&角色升星配方!H17,\"\")","v":"6#1#3#1"},{"$f":"_xlfn.IFNA(F17&\"#\"&G17&\"#\"&VLOOKUP(H17,数组!$B:$C,2,0)&\"#\"&角色升星配方!I17,\"\")","v":""},{"$f":"_xlfn.IFNA(G17&\"#\"&H17&\"#\"&VLOOKUP(I17,数组!$B:$C,2,0)&\"#\"&角色升星配方!J17,\"\")","v":""},{"$f":"_xlfn.IFNA(H17&\"#\"&I17&\"#\"&VLOOKUP(J17,数组!$B:$C,2,0)&\"#\"&角色升星配方!K17,\"\")","v":""},{"$f":"_xlfn.IFNA(I17&\"#\"&J17&\"#\"&VLOOKUP(K17,数组!$B:$C,2,0)&\"#\"&角色升星配方!L17,\"\")","v":"6#2#38#1"},{"$f":"_xlfn.IFNA(J17&\"#\"&K17&\"#\"&VLOOKUP(L17,数组!$B:$C,2,0)&\"#\"&角色升星配方!M17,\"\")","v":""},{"$f":"_xlfn.IFNA(K17&\"#\"&L17&\"#\"&VLOOKUP(M17,数组!$B:$C,2,0)&\"#\"&角色升星配方!N17,\"\")","v":""},{"$f":"_xlfn.IFNA(L17&\"#\"&M17&\"#\"&VLOOKUP(N17,数组!$B:$C,2,0)&\"#\"&角色升星配方!O17,\"\")","v":""},{"$f":"_xlfn.IFNA(M17&\"#\"&N17&\"#\"&VLOOKUP(O17,数组!$B:$C,2,0)&\"#\"&角色升星配方!P17,\"\")","v":"6#3#17#3"},{"$f":"_xlfn.IFNA(N17&\"#\"&O17&\"#\"&VLOOKUP(P17,数组!$B:$C,2,0)&\"#\"&角色升星配方!Q17,\"\")","v":""},{"$f":"_xlfn.IFNA(O17&\"#\"&P17&\"#\"&VLOOKUP(Q17,数组!$B:$C,2,0)&\"#\"&角色升星配方!R17,\"\")","v":""},{"$f":"_xlfn.IFNA(P17&\"#\"&Q17&\"#\"&VLOOKUP(R17,数组!$B:$C,2,0)&\"#\"&角色升星配方!S17,\"\")","v":""},{"$f":"_xlfn.IFNA(Q17&\"#\"&R17&\"#\"&VLOOKUP(S17,数组!$B:$C,2,0)&\"#\"&角色升星配方!T17,\"\")","v":"7#1#17#4"},{"$f":"_xlfn.IFNA(R17&\"#\"&S17&\"#\"&VLOOKUP(T17,数组!$B:$C,2,0)&\"#\"&角色升星配方!U17,\"\")","v":""},{"$f":"_xlfn.IFNA(S17&\"#\"&T17&\"#\"&VLOOKUP(U17,数组!$B:$C,2,0)&\"#\"&角色升星配方!V17,\"\")","v":""},{"$f":"_xlfn.IFNA(T17&\"#\"&U17&\"#\"&VLOOKUP(V17,数组!$B:$C,2,0)&\"#\"&角色升星配方!W17,\"\")","v":""},{"$f":"_xlfn.IFNA(U17&\"#\"&V17&\"#\"&VLOOKUP(W17,数组!$B:$C,2,0)&\"#\"&角色升星配方!X17,\"\")","v":"8#1#17#3"},{"$f":"_xlfn.IFNA(V17&\"#\"&W17&\"#\"&VLOOKUP(X17,数组!$B:$C,2,0)&\"#\"&角色升星配方!AC17,\"\")","v":""},{"$f":"_xlfn.IFNA(W17&\"#\"&X17&\"#\"&VLOOKUP(AC17,数组!$B:$C,2,0)&\"#\"&角色升星配方!AD17,\"\")","v":""},{"$f":"_xlfn.IFNA(X17&\"#\"&AC17&\"#\"&VLOOKUP(AD17,数组!$B:$C,2,0)&\"#\"&角色升星配方!AE17,\"\")","v":""},{"$f":"_xlfn.IFNA(Y17&\"#\"&Z17&\"#\"&VLOOKUP(AA17,数组!$B:$C,2,0)&\"#\"&角色升星配方!AB17,\"\")","v":"8#2#18#1"},{"$f":"_xlfn.IFNA(AD17&\"#\"&AE17&\"#\"&VLOOKUP(AF17,数组!$B:$C,2,0)&\"#\"&角色升星配方!AG17,\"\")","v":""},{"$f":"_xlfn.IFNA(AE17&\"#\"&AF17&\"#\"&VLOOKUP(AG17,数组!$B:$C,2,0)&\"#\"&角色升星配方!AH17,\"\")","v":""},{"$f":"_xlfn.IFNA(AF17&\"#\"&AG17&\"#\"&VLOOKUP(AH17,数组!$B:$C,2,0)&\"#\"&角色升星配方!AI17,\"\")","v":""},{"$f":"_xlfn.IFNA(AC17&\"#\"&AD17&\"#\"&VLOOKUP(AE17,数组!$B:$C,2,0)&\"#\"&角色升星配方!AF17,\"\")","v":"9#1#3#1"},{"$f":"_xlfn.IFNA(AH17&\"#\"&AI17&\"#\"&VLOOKUP(AJ17,数组!$B:$C,2,0)&\"#\"&角色升星配方!AK17,\"\")","v":""},{"$f":"_xlfn.IFNA(AI17&\"#\"&AJ17&\"#\"&VLOOKUP(AK17,数组!$B:$C,2,0)&\"#\"&角色升星配方!AL17,\"\")","v":""},{"$f":"_xlfn.IFNA(AJ17&\"#\"&AK17&\"#\"&VLOOKUP(AL17,数组!$B:$C,2,0)&\"#\"&角色升星配方!AM17,\"\")","v":""},{"$f":"_xlfn.IFNA(AG17&\"#\"&AH17&\"#\"&VLOOKUP(AI17,数组!$B:$C,2,0)&\"#\"&角色升星配方!AJ17,\"\")","v":"9#2#18#1"},{"$f":"_xlfn.IFNA(AL17&\"#\"&AM17&\"#\"&VLOOKUP(AN17,数组!$B:$C,2,0)&\"#\"&角色升星配方!AO17,\"\")","v":""},{"$f":"_xlfn.IFNA(AM17&\"#\"&AN17&\"#\"&VLOOKUP(AO17,数组!$B:$C,2,0)&\"#\"&角色升星配方!AP17,\"\")","v":""},{"$f":"_xlfn.IFNA(AN17&\"#\"&AO17&\"#\"&VLOOKUP(AP17,数组!$B:$C,2,0)&\"#\"&角色升星配方!AQ17,\"\")","v":""},{"$f":"_xlfn.IFNA(AK17&\"#\"&AL17&\"#\"&VLOOKUP(AM17,数组!$B:$C,2,0)&\"#\"&角色升星配方!AN17,\"\")","v":"9#3#17#2"},{"$f":"_xlfn.IFNA(AP17&\"#\"&AQ17&\"#\"&VLOOKUP(AR17,数组!$B:$C,2,0)&\"#\"&角色升星配方!AS17,\"\")","v":""},{"$f":"_xlfn.IFNA(AQ17&\"#\"&AR17&\"#\"&VLOOKUP(AS17,数组!$B:$C,2,0)&\"#\"&角色升星配方!AT17,\"\")","v":""},{"$f":"_xlfn.IFNA(AR17&\"#\"&AS17&\"#\"&VLOOKUP(AT17,数组!$B:$C,2,0)&\"#\"&角色升星配方!AU17,\"\")","v":""},{"$f":"_xlfn.IFNA(AO17&\"#\"&AP17&\"#\"&VLOOKUP(AQ17,数组!$B:$C,2,0)&\"#\"&角色升星配方!AR17,\"\")","v":"10#1#3#2"},{"$f":"_xlfn.IFNA(AT17&\"#\"&AU17&\"#\"&VLOOKUP(AV17,数组!$B:$C,2,0)&\"#\"&角色升星配方!AW17,\"\")","v":""},{"$f":"_xlfn.IFNA(AU17&\"#\"&AV17&\"#\"&VLOOKUP(AW17,数组!$B:$C,2,0)&\"#\"&角色升星配方!AX17,\"\")","v":""},{"$f":"_xlfn.IFNA(AV17&\"#\"&AW17&\"#\"&VLOOKUP(AX17,数组!$B:$C,2,0)&\"#\"&角色升星配方!AY17,\"\")","v":""},{"$f":"_xlfn.IFNA(AS17&\"#\"&AT17&\"#\"&VLOOKUP(AU17,数组!$B:$C,2,0)&\"#\"&角色升星配方!AV17,\"\")","v":"10#2#18#1"},{"$f":"_xlfn.IFNA(AX17&\"#\"&AY17&\"#\"&VLOOKUP(AZ17,数组!$B:$C,2,0)&\"#\"&角色升星配方!BM17,\"\")","v":""},null,null,{"$f":"_xlfn.IFNA(AW17&\"#\"&AX17&\"#\"&VLOOKUP(AY17,数组!$B:$C,2,0)&\"#\"&角色升星配方!AZ17,\"\")","v":"10#3#14#1"},{"$nulls":3},{"$f":"_xlfn.IFNA(BE17&\"#\"&BF17&\"#\"&VLOOKUP(BG17,数组!$B:$C,2,0)&\"#\"&角色升星配方!BH17,\"\")","v":""},{"$nulls":3},{"$f":"_xlfn.IFNA(BI17&\"#\"&BJ17&\"#\"&VLOOKUP(BK17,数组!$B:$C,2,0)&\"#\"&角色升星配方!BL17,\"\")","v":""},{"$f":"[2]!SUMSTRING(BM17:DM17,\"|\")","v":{"$error":"#NAME?"}}]
[6,10017,6,5,6,1,"5星同名",1,6,2,"5星10044",1,6,3,"5星同系",3,7,1,"5星同系",4,8,1,"5星同系",3,8,2,"6星同系",1,9,1,"5星同名",1,9,2,"6星同系",1,9,3,"5星同系",2,10,1,"5星同名",2,10,2,"6星同系",1,10,3,"9星任意",1,{"$nulls":12},{"$f":"_xlfn.IFNA(E18&\"#\"&F18&\"#\"&VLOOKUP(G18,数组!$B:$C,2,0)&\"#\"&角色升星配方!H18,\"\")","v":"6#1#3#1"},{"$f":"_xlfn.IFNA(F18&\"#\"&G18&\"#\"&VLOOKUP(H18,数组!$B:$C,2,0)&\"#\"&角色升星配方!I18,\"\")","v":""},{"$f":"_xlfn.IFNA(G18&\"#\"&H18&\"#\"&VLOOKUP(I18,数组!$B:$C,2,0)&\"#\"&角色升星配方!J18,\"\")","v":""},{"$f":"_xlfn.IFNA(H18&\"#\"&I18&\"#\"&VLOOKUP(J18,数组!$B:$C,2,0)&\"#\"&角色升星配方!K18,\"\")","v":""},{"$f":"_xlfn.IFNA(I18&\"#\"&J18&\"#\"&VLOOKUP(K18,数组!$B:$C,2,0)&\"#\"&角色升星配方!L18,\"\")","v":"6#2#42#1"},{"$f":"_xlfn.IFNA(J18&\"#\"&K18&\"#\"&VLOOKUP(L18,数组!$B:$C,2,0)&\"#\"&角色升星配方!M18,\"\")","v":""},{"$f":"_xlfn.IFNA(K18&\"#\"&L18&\"#\"&VLOOKUP(M18,数组!$B:$C,2,0)&\"#\"&角色升星配方!N18,\"\")","v":""},{"$f":"_xlfn.IFNA(L18&\"#\"&M18&\"#\"&VLOOKUP(N18,数组!$B:$C,2,0)&\"#\"&角色升星配方!O18,\"\")","v":""},{"$f":"_xlfn.IFNA(M18&\"#\"&N18&\"#\"&VLOOKUP(O18,数组!$B:$C,2,0)&\"#\"&角色升星配方!P18,\"\")","v":"6#3#17#3"},{"$f":"_xlfn.IFNA(N18&\"#\"&O18&\"#\"&VLOOKUP(P18,数组!$B:$C,2,0)&\"#\"&角色升星配方!Q18,\"\")","v":""},{"$f":"_xlfn.IFNA(O18&\"#\"&P18&\"#\"&VLOOKUP(Q18,数组!$B:$C,2,0)&\"#\"&角色升星配方!R18,\"\")","v":""},{"$f":"_xlfn.IFNA(P18&\"#\"&Q18&\"#\"&VLOOKUP(R18,数组!$B:$C,2,0)&\"#\"&角色升星配方!S18,\"\")","v":""},{"$f":"_xlfn.IFNA(Q18&\"#\"&R18&\"#\"&VLOOKUP(S18,数组!$B:$C,2,0)&\"#\"&角色升星配方!T18,\"\")","v":"7#1#17#4"},{"$f":"_xlfn.IFNA(R18&\"#\"&S18&\"#\"&VLOOKUP(T18,数组!$B:$C,2,0)&\"#\"&角色升星配方!U18,\"\")","v":""},{"$f":"_xlfn.IFNA(S18&\"#\"&T18&\"#\"&VLOOKUP(U18,数组!$B:$C,2,0)&\"#\"&角色升星配方!V18,\"\")","v":""},{"$f":"_xlfn.IFNA(T18&\"#\"&U18&\"#\"&VLOOKUP(V18,数组!$B:$C,2,0)&\"#\"&角色升星配方!W18,\"\")","v":""},{"$f":"_xlfn.IFNA(U18&\"#\"&V18&\"#\"&VLOOKUP(W18,数组!$B:$C,2,0)&\"#\"&角色升星配方!X18,\"\")","v":"8#1#17#3"},{"$f":"_xlfn.IFNA(V18&\"#\"&W18&\"#\"&VLOOKUP(X18,数组!$B:$C,2,0)&\"#\"&角色升星配方!AC18,\"\")","v":""},{"$f":"_xlfn.IFNA(W18&\"#\"&X18&\"#\"&VLOOKUP(AC18,数组!$B:$C,2,0)&\"#\"&角色升星配方!AD18,\"\")","v":""},{"$f":"_xlfn.IFNA(X18&\"#\"&AC18&\"#\"&VLOOKUP(AD18,数组!$B:$C,2,0)&\"#\"&角色升星配方!AE18,\"\")","v":""},{"$f":"_xlfn.IFNA(Y18&\"#\"&Z18&\"#\"&VLOOKUP(AA18,数组!$B:$C,2,0)&\"#\"&角色升星配方!AB18,\"\")","v":"8#2#18#1"},{"$f":"_xlfn.IFNA(AD18&\"#\"&AE18&\"#\"&VLOOKUP(AF18,数组!$B:$C,2,0)&\"#\"&角色升星配方!AG18,\"\")","v":""},{"$f":"_xlfn.IFNA(AE18&\"#\"&AF18&\"#\"&VLOOKUP(AG18,数组!$B:$C,2,0)&\"#\"&角色升星配方!AH18,\"\")","v":""},{"$f":"_xlfn.IFNA(AF18&\"#\"&AG18&\"#\"&VLOOKUP(AH18,数组!$B:$C,2,0)&\"#\"&角色升星配方!AI18,\"\")","v":""},{"$f":"_xlfn.IFNA(AC18&\"#\"&AD18&\"#\"&VLOOKUP(AE18,数组!$B:$C,2,0)&\"#\"&角色升星配方!AF18,\"\")","v":"9#1#3#1"},{"$f":"_xlfn.IFNA(AH18&\"#\"&AI18&\"#\"&VLOOKUP(AJ18,数组!$B:$C,2,0)&\"#\"&角色升星配方!AK18,\"\")","v":""},{"$f":"_xlfn.IFNA(AI18&\"#\"&AJ18&\"#\"&VLOOKUP(AK18,数组!$B:$C,2,0)&\"#\"&角色升星配方!AL18,\"\")","v":""},{"$f":"_xlfn.IFNA(AJ18&\"#\"&AK18&\"#\"&VLOOKUP(AL18,数组!$B:$C,2,0)&\"#\"&角色升星配方!AM18,\"\")","v":""},{"$f":"_xlfn.IFNA(AG18&\"#\"&AH18&\"#\"&VLOOKUP(AI18,数组!$B:$C,2,0)&\"#\"&角色升星配方!AJ18,\"\")","v":"9#2#18#1"},{"$f":"_xlfn.IFNA(AL18&\"#\"&AM18&\"#\"&VLOOKUP(AN18,数组!$B:$C,2,0)&\"#\"&角色升星配方!AO18,\"\")","v":""},{"$f":"_xlfn.IFNA(AM18&\"#\"&AN18&\"#\"&VLOOKUP(AO18,数组!$B:$C,2,0)&\"#\"&角色升星配方!AP18,\"\")","v":""},{"$f":"_xlfn.IFNA(AN18&\"#\"&AO18&\"#\"&VLOOKUP(AP18,数组!$B:$C,2,0)&\"#\"&角色升星配方!AQ18,\"\")","v":""},{"$f":"_xlfn.IFNA(AK18&\"#\"&AL18&\"#\"&VLOOKUP(AM18,数组!$B:$C,2,0)&\"#\"&角色升星配方!AN18,\"\")","v":"9#3#17#2"},{"$f":"_xlfn.IFNA(AP18&\"#\"&AQ18&\"#\"&VLOOKUP(AR18,数组!$B:$C,2,0)&\"#\"&角色升星配方!AS18,\"\")","v":""},{"$f":"_xlfn.IFNA(AQ18&\"#\"&AR18&\"#\"&VLOOKUP(AS18,数组!$B:$C,2,0)&\"#\"&角色升星配方!AT18,\"\")","v":""},{"$f":"_xlfn.IFNA(AR18&\"#\"&AS18&\"#\"&VLOOKUP(AT18,数组!$B:$C,2,0)&\"#\"&角色升星配方!AU18,\"\")","v":""},{"$f":"_xlfn.IFNA(AO18&\"#\"&AP18&\"#\"&VLOOKUP(AQ18,数组!$B:$C,2,0)&\"#\"&角色升星配方!AR18,\"\")","v":"10#1#3#2"},{"$f":"_xlfn.IFNA(AT18&\"#\"&AU18&\"#\"&VLOOKUP(AV18,数组!$B:$C,2,0)&\"#\"&角色升星配方!AW18,\"\")","v":""},{"$f":"_xlfn.IFNA(AU18&\"#\"&AV18&\"#\"&VLOOKUP(AW18,数组!$B:$C,2,0)&\"#\"&角色升星配方!AX18,\"\")","v":""},{"$f":"_xlfn.IFNA(AV18&\"#\"&AW18&\"#\"&VLOOKUP(AX18,数组!$B:$C,2,0)&\"#\"&角色升星配方!AY18,\"\")","v":""},{"$f":"_xlfn.IFNA(AS18&\"#\"&AT18&\"#\"&VLOOKUP(AU18,数组!$B:$C,2,0)&\"#\"&角色升星配方!AV18,\"\")","v":"10#2#18#1"},{"$f":"_xlfn.IFNA(AX18&\"#\"&AY18&\"#\"&VLOOKUP(AZ18,数组!$B:$C,2,0)&\"#\"&角色升星配方!BM18,\"\")","v":""},null,null,{"$f":"_xlfn.IFNA(AW18&\"#\"&AX18&\"#\"&VLOOKUP(AY18,数组!$B:$C,2,0)&\"#\"&角色升星配方!AZ18,\"\")","v":"10#3#14#1"},{"$nulls":3},{"$f":"_xlfn.IFNA(BE18&\"#\"&BF18&\"#\"&VLOOKUP(BG18,数组!$B:$C,2,0)&\"#\"&角色升星配方!BH18,\"\")","v":""},{"$nulls":3},{"$f":"_xlfn.IFNA(BI18&\"#\"&BJ18&\"#\"&VLOOKUP(BK18,数组!$B:$C,2,0)&\"#\"&角色升星配方!BL18,\"\")","v":""},{"$f":"[2]!SUMSTRING(BM18:DM18,\"|\")","v":{"$error":"#NAME?"}}]
[4,10018,4,5,6,1,"5星同名",1,6,2,"5星10029",1,6,3,"5星同系",3,7,1,"5星同系",4,8,1,"5星同系",3,8,2,"6星同系",1,9,1,"5星同名",1,9,2,"6星同系",1,9,3,"5星同系",2,10,1,"5星同名",2,10,2,"6星同系",1,10,3,"9星任意",1,{"$nulls":12},{"$f":"_xlfn.IFNA(E19&\"#\"&F19&\"#\"&VLOOKUP(G19,数组!$B:$C,2,0)&\"#\"&角色升星配方!H19,\"\")","v":"6#1#3#1"},{"$f":"_xlfn.IFNA(F19&\"#\"&G19&\"#\"&VLOOKUP(H19,数组!$B:$C,2,0)&\"#\"&角色升星配方!I19,\"\")","v":""},{"$f":"_xlfn.IFNA(G19&\"#\"&H19&\"#\"&VLOOKUP(I19,数组!$B:$C,2,0)&\"#\"&角色升星配方!J19,\"\")","v":""},{"$f":"_xlfn.IFNA(H19&\"#\"&I19&\"#\"&VLOOKUP(J19,数组!$B:$C,2,0)&\"#\"&角色升星配方!K19,\"\")","v":""},{"$f":"_xlfn.IFNA(I19&\"#\"&J19&\"#\"&VLOOKUP(K19,数组!$B:$C,2,0)&\"#\"&角色升星配方!L19,\"\")","v":"6#2#27#1"},{"$f":"_xlfn.IFNA(J19&\"#\"&K19&\"#\"&VLOOKUP(L19,数组!$B:$C,2,0)&\"#\"&角色升星配方!M19,\"\")","v":""},{"$f":"_xlfn.IFNA(K19&\"#\"&L19&\"#\"&VLOOKUP(M19,数组!$B:$C,2,0)&\"#\"&角色升星配方!N19,\"\")","v":""},{"$f":"_xlfn.IFNA(L19&\"#\"&M19&\"#\"&VLOOKUP(N19,数组!$B:$C,2,0)&\"#\"&角色升星配方!O19,\"\")","v":""},{"$f":"_xlfn.IFNA(M19&\"#\"&N19&\"#\"&VLOOKUP(O19,数组!$B:$C,2,0)&\"#\"&角色升星配方!P19,\"\")","v":"6#3#17#3"},{"$f":"_xlfn.IFNA(N19&\"#\"&O19&\"#\"&VLOOKUP(P19,数组!$B:$C,2,0)&\"#\"&角色升星配方!Q19,\"\")","v":""},{"$f":"_xlfn.IFNA(O19&\"#\"&P19&\"#\"&VLOOKUP(Q19,数组!$B:$C,2,0)&\"#\"&角色升星配方!R19,\"\")","v":""},{"$f":"_xlfn.IFNA(P19&\"#\"&Q19&\"#\"&VLOOKUP(R19,数组!$B:$C,2,0)&\"#\"&角色升星配方!S19,\"\")","v":""},{"$f":"_xlfn.IFNA(Q19&\"#\"&R19&\"#\"&VLOOKUP(S19,数组!$B:$C,2,0)&\"#\"&角色升星配方!T19,\"\")","v":"7#1#17#4"},{"$f":"_xlfn.IFNA(R19&\"#\"&S19&\"#\"&VLOOKUP(T19,数组!$B:$C,2,0)&\"#\"&角色升星配方!U19,\"\")","v":""},{"$f":"_xlfn.IFNA(S19&\"#\"&T19&\"#\"&VLOOKUP(U19,数组!$B:$C,2,0)&\"#\"&角色升星配方!V19,\"\")","v":""},{"$f":"_xlfn.IFNA(T19&\"#\"&U19&\"#\"&VLOOKUP(V19,数组!$B:$C,2,0)&\"#\"&角色升星配方!W19,\"\")","v":""},{"$f":"_xlfn.IFNA(U19&\"#\"&V19&\"#\"&VLOOKUP(W19,数组!$B:$C,2,0)&\"#\"&角色升星配方!X19,\"\")","v":"8#1#17#3"},{"$f":"_xlfn.IFNA(V19&\"#\"&W19&\"#\"&VLOOKUP(X19,数组!$B:$C,2,0)&\"#\"&角色升星配方!AC19,\"\")","v":""},{"$f":"_xlfn.IFNA(W19&\"#\"&X19&\"#\"&VLOOKUP(AC19,数组!$B:$C,2,0)&\"#\"&角色升星配方!AD19,\"\")","v":""},{"$f":"_xlfn.IFNA(X19&\"#\"&AC19&\"#\"&VLOOKUP(AD19,数组!$B:$C,2,0)&\"#\"&角色升星配方!AE19,\"\")","v":""},{"$f":"_xlfn.IFNA(Y19&\"#\"&Z19&\"#\"&VLOOKUP(AA19,数组!$B:$C,2,0)&\"#\"&角色升星配方!AB19,\"\")","v":"8#2#18#1"},{"$f":"_xlfn.IFNA(AD19&\"#\"&AE19&\"#\"&VLOOKUP(AF19,数组!$B:$C,2,0)&\"#\"&角色升星配方!AG19,\"\")","v":""},{"$f":"_xlfn.IFNA(AE19&\"#\"&AF19&\"#\"&VLOOKUP(AG19,数组!$B:$C,2,0)&\"#\"&角色升星配方!AH19,\"\")","v":""},{"$f":"_xlfn.IFNA(AF19&\"#\"&AG19&\"#\"&VLOOKUP(AH19,数组!$B:$C,2,0)&\"#\"&角色升星配方!AI19,\"\")","v":""},{"$f":"_xlfn.IFNA(AC19&\"#\"&AD19&\"#\"&VLOOKUP(AE19,数组!$B:$C,2,0)&\"#\"&角色升星配方!AF19,\"\")","v":"9#1#3#1"},{"$f":"_xlfn.IFNA(AH19&\"#\"&AI19&\"#\"&VLOOKUP(AJ19,数组!$B:$C,2,0)&\"#\"&角色升星配方!AK19,\"\")","v":""},{"$f":"_xlfn.IFNA(AI19&\"#\"&AJ19&\"#\"&VLOOKUP(AK19,数组!$B:$C,2,0)&\"#\"&角色升星配方!AL19,\"\")","v":""},{"$f":"_xlfn.IFNA(AJ19&\"#\"&AK19&\"#\"&VLOOKUP(AL19,数组!$B:$C,2,0)&\"#\"&角色升星配方!AM19,\"\")","v":""},{"$f":"_xlfn.IFNA(AG19&\"#\"&AH19&\"#\"&VLOOKUP(AI19,数组!$B:$C,2,0)&\"#\"&角色升星配方!AJ19,\"\")","v":"9#2#18#1"},{"$f":"_xlfn.IFNA(AL19&\"#\"&AM19&\"#\"&VLOOKUP(AN19,数组!$B:$C,2,0)&\"#\"&角色升星配方!AO19,\"\")","v":""},{"$f":"_xlfn.IFNA(AM19&\"#\"&AN19&\"#\"&VLOOKUP(AO19,数组!$B:$C,2,0)&\"#\"&角色升星配方!AP19,\"\")","v":""},{"$f":"_xlfn.IFNA(AN19&\"#\"&AO19&\"#\"&VLOOKUP(AP19,数组!$B:$C,2,0)&\"#\"&角色升星配方!AQ19,\"\")","v":""},{"$f":"_xlfn.IFNA(AK19&\"#\"&AL19&\"#\"&VLOOKUP(AM19,数组!$B:$C,2,0)&\"#\"&角色升星配方!AN19,\"\")","v":"9#3#17#2"},{"$f":"_xlfn.IFNA(AP19&\"#\"&AQ19&\"#\"&VLOOKUP(AR19,数组!$B:$C,2,0)&\"#\"&角色升星配方!AS19,\"\")","v":""},{"$f":"_xlfn.IFNA(AQ19&\"#\"&AR19&\"#\"&VLOOKUP(AS19,数组!$B:$C,2,0)&\"#\"&角色升星配方!AT19,\"\")","v":""},{"$f":"_xlfn.IFNA(AR19&\"#\"&AS19&\"#\"&VLOOKUP(AT19,数组!$B:$C,2,0)&\"#\"&角色升星配方!AU19,\"\")","v":""},{"$f":"_xlfn.IFNA(AO19&\"#\"&AP19&\"#\"&VLOOKUP(AQ19,数组!$B:$C,2,0)&\"#\"&角色升星配方!AR19,\"\")","v":"10#1#3#2"},{"$f":"_xlfn.IFNA(AT19&\"#\"&AU19&\"#\"&VLOOKUP(AV19,数组!$B:$C,2,0)&\"#\"&角色升星配方!AW19,\"\")","v":""},{"$f":"_xlfn.IFNA(AU19&\"#\"&AV19&\"#\"&VLOOKUP(AW19,数组!$B:$C,2,0)&\"#\"&角色升星配方!AX19,\"\")","v":""},{"$f":"_xlfn.IFNA(AV19&\"#\"&AW19&\"#\"&VLOOKUP(AX19,数组!$B:$C,2,0)&\"#\"&角色升星配方!AY19,\"\")","v":""},{"$f":"_xlfn.IFNA(AS19&\"#\"&AT19&\"#\"&VLOOKUP(AU19,数组!$B:$C,2,0)&\"#\"&角色升星配方!AV19,\"\")","v":"10#2#18#1"},{"$f":"_xlfn.IFNA(AX19&\"#\"&AY19&\"#\"&VLOOKUP(AZ19,数组!$B:$C,2,0)&\"#\"&角色升星配方!BM19,\"\")","v":""},null,null,{"$f":"_xlfn.IFNA(AW19&\"#\"&AX19&\"#\"&VLOOKUP(AY19,数组!$B:$C,2,0)&\"#\"&角色升星配方!AZ19,\"\")","v":"10#3#14#1"},{"$nulls":3},{"$f":"_xlfn.IFNA(BE19&\"#\"&BF19&\"#\"&VLOOKUP(BG19,数组!$B:$C,2,0)&\"#\"&角色升星配方!BH19,\"\")","v":""},{"$nulls":3},{"$f":"_xlfn.IFNA(BI19&\"#\"&BJ19&\"#\"&VLOOKUP(BK19,数组!$B:$C,2,0)&\"#\"&角色升星配方!BL19,\"\")","v":""},{"$f":"[2]!SUMSTRING(BM19:DM19,\"|\")","v":{"$error":"#NAME?"}}]
[2,10019,2,5,6,1,"5星同名",1,6,2,"5星10042",1,6,3,"5星同系",3,7,1,"5星同系",4,8,1,"5星同系",3,8,2,"6星同系",1,9,1,"5星同名",1,9,2,"6星同系",1,9,3,"5星同系",2,10,1,"5星同名",2,10,2,"6星同系",1,10,3,"9星任意",1,{"$nulls":12},{"$f":"_xlfn.IFNA(E20&\"#\"&F20&\"#\"&VLOOKUP(G20,数组!$B:$C,2,0)&\"#\"&角色升星配方!H20,\"\")","v":"6#1#3#1"},{"$f":"_xlfn.IFNA(F20&\"#\"&G20&\"#\"&VLOOKUP(H20,数组!$B:$C,2,0)&\"#\"&角色升星配方!I20,\"\")","v":""},{"$f":"_xlfn.IFNA(G20&\"#\"&H20&\"#\"&VLOOKUP(I20,数组!$B:$C,2,0)&\"#\"&角色升星配方!J20,\"\")","v":""},{"$f":"_xlfn.IFNA(H20&\"#\"&I20&\"#\"&VLOOKUP(J20,数组!$B:$C,2,0)&\"#\"&角色升星配方!K20,\"\")","v":""},{"$f":"_xlfn.IFNA(I20&\"#\"&J20&\"#\"&VLOOKUP(K20,数组!$B:$C,2,0)&\"#\"&角色升星配方!L20,\"\")","v":"6#2#40#1"},{"$f":"_xlfn.IFNA(J20&\"#\"&K20&\"#\"&VLOOKUP(L20,数组!$B:$C,2,0)&\"#\"&角色升星配方!M20,\"\")","v":""},{"$f":"_xlfn.IFNA(K20&\"#\"&L20&\"#\"&VLOOKUP(M20,数组!$B:$C,2,0)&\"#\"&角色升星配方!N20,\"\")","v":""},{"$f":"_xlfn.IFNA(L20&\"#\"&M20&\"#\"&VLOOKUP(N20,数组!$B:$C,2,0)&\"#\"&角色升星配方!O20,\"\")","v":""},{"$f":"_xlfn.IFNA(M20&\"#\"&N20&\"#\"&VLOOKUP(O20,数组!$B:$C,2,0)&\"#\"&角色升星配方!P20,\"\")","v":"6#3#17#3"},{"$f":"_xlfn.IFNA(N20&\"#\"&O20&\"#\"&VLOOKUP(P20,数组!$B:$C,2,0)&\"#\"&角色升星配方!Q20,\"\")","v":""},{"$f":"_xlfn.IFNA(O20&\"#\"&P20&\"#\"&VLOOKUP(Q20,数组!$B:$C,2,0)&\"#\"&角色升星配方!R20,\"\")","v":""},{"$f":"_xlfn.IFNA(P20&\"#\"&Q20&\"#\"&VLOOKUP(R20,数组!$B:$C,2,0)&\"#\"&角色升星配方!S20,\"\")","v":""},{"$f":"_xlfn.IFNA(Q20&\"#\"&R20&\"#\"&VLOOKUP(S20,数组!$B:$C,2,0)&\"#\"&角色升星配方!T20,\"\")","v":"7#1#17#4"},{"$f":"_xlfn.IFNA(R20&\"#\"&S20&\"#\"&VLOOKUP(T20,数组!$B:$C,2,0)&\"#\"&角色升星配方!U20,\"\")","v":""},{"$f":"_xlfn.IFNA(S20&\"#\"&T20&\"#\"&VLOOKUP(U20,数组!$B:$C,2,0)&\"#\"&角色升星配方!V20,\"\")","v":""},{"$f":"_xlfn.IFNA(T20&\"#\"&U20&\"#\"&VLOOKUP(V20,数组!$B:$C,2,0)&\"#\"&角色升星配方!W20,\"\")","v":""},{"$f":"_xlfn.IFNA(U20&\"#\"&V20&\"#\"&VLOOKUP(W20,数组!$B:$C,2,0)&\"#\"&角色升星配方!X20,\"\")","v":"8#1#17#3"},{"$f":"_xlfn.IFNA(V20&\"#\"&W20&\"#\"&VLOOKUP(X20,数组!$B:$C,2,0)&\"#\"&角色升星配方!AC20,\"\")","v":""},{"$f":"_xlfn.IFNA(W20&\"#\"&X20&\"#\"&VLOOKUP(AC20,数组!$B:$C,2,0)&\"#\"&角色升星配方!AD20,\"\")","v":""},{"$f":"_xlfn.IFNA(X20&\"#\"&AC20&\"#\"&VLOOKUP(AD20,数组!$B:$C,2,0)&\"#\"&角色升星配方!AE20,\"\")","v":""},{"$f":"_xlfn.IFNA(Y20&\"#\"&Z20&\"#\"&VLOOKUP(AA20,数组!$B:$C,2,0)&\"#\"&角色升星配方!AB20,\"\")","v":"8#2#18#1"},{"$f":"_xlfn.IFNA(AD20&\"#\"&AE20&\"#\"&VLOOKUP(AF20,数组!$B:$C,2,0)&\"#\"&角色升星配方!AG20,\"\")","v":""},{"$f":"_xlfn.IFNA(AE20&\"#\"&AF20&\"#\"&VLOOKUP(AG20,数组!$B:$C,2,0)&\"#\"&角色升星配方!AH20,\"\")","v":""},{"$f":"_xlfn.IFNA(AF20&\"#\"&AG20&\"#\"&VLOOKUP(AH20,数组!$B:$C,2,0)&\"#\"&角色升星配方!AI20,\"\")","v":""},{"$f":"_xlfn.IFNA(AC20&\"#\"&AD20&\"#\"&VLOOKUP(AE20,数组!$B:$C,2,0)&\"#\"&角色升星配方!AF20,\"\")","v":"9#1#3#1"},{"$f":"_xlfn.IFNA(AH20&\"#\"&AI20&\"#\"&VLOOKUP(AJ20,数组!$B:$C,2,0)&\"#\"&角色升星配方!AK20,\"\")","v":""},{"$f":"_xlfn.IFNA(AI20&\"#\"&AJ20&\"#\"&VLOOKUP(AK20,数组!$B:$C,2,0)&\"#\"&角色升星配方!AL20,\"\")","v":""},{"$f":"_xlfn.IFNA(AJ20&\"#\"&AK20&\"#\"&VLOOKUP(AL20,数组!$B:$C,2,0)&\"#\"&角色升星配方!AM20,\"\")","v":""},{"$f":"_xlfn.IFNA(AG20&\"#\"&AH20&\"#\"&VLOOKUP(AI20,数组!$B:$C,2,0)&\"#\"&角色升星配方!AJ20,\"\")","v":"9#2#18#1"},{"$f":"_xlfn.IFNA(AL20&\"#\"&AM20&\"#\"&VLOOKUP(AN20,数组!$B:$C,2,0)&\"#\"&角色升星配方!AO20,\"\")","v":""},{"$f":"_xlfn.IFNA(AM20&\"#\"&AN20&\"#\"&VLOOKUP(AO20,数组!$B:$C,2,0)&\"#\"&角色升星配方!AP20,\"\")","v":""},{"$f":"_xlfn.IFNA(AN20&\"#\"&AO20&\"#\"&VLOOKUP(AP20,数组!$B:$C,2,0)&\"#\"&角色升星配方!AQ20,\"\")","v":""},{"$f":"_xlfn.IFNA(AK20&\"#\"&AL20&\"#\"&VLOOKUP(AM20,数组!$B:$C,2,0)&\"#\"&角色升星配方!AN20,\"\")","v":"9#3#17#2"},{"$f":"_xlfn.IFNA(AP20&\"#\"&AQ20&\"#\"&VLOOKUP(AR20,数组!$B:$C,2,0)&\"#\"&角色升星配方!AS20,\"\")","v":""},{"$f":"_xlfn.IFNA(AQ20&\"#\"&AR20&\"#\"&VLOOKUP(AS20,数组!$B:$C,2,0)&\"#\"&角色升星配方!AT20,\"\")","v":""},{"$f":"_xlfn.IFNA(AR20&\"#\"&AS20&\"#\"&VLOOKUP(AT20,数组!$B:$C,2,0)&\"#\"&角色升星配方!AU20,\"\")","v":""},{"$f":"_xlfn.IFNA(AO20&\"#\"&AP20&\"#\"&VLOOKUP(AQ20,数组!$B:$C,2,0)&\"#\"&角色升星配方!AR20,\"\")","v":"10#1#3#2"},{"$f":"_xlfn.IFNA(AT20&\"#\"&AU20&\"#\"&VLOOKUP(AV20,数组!$B:$C,2,0)&\"#\"&角色升星配方!AW20,\"\")","v":""},{"$f":"_xlfn.IFNA(AU20&\"#\"&AV20&\"#\"&VLOOKUP(AW20,数组!$B:$C,2,0)&\"#\"&角色升星配方!AX20,\"\")","v":""},{"$f":"_xlfn.IFNA(AV20&\"#\"&AW20&\"#\"&VLOOKUP(AX20,数组!$B:$C,2,0)&\"#\"&角色升星配方!AY20,\"\")","v":""},{"$f":"_xlfn.IFNA(AS20&\"#\"&AT20&\"#\"&VLOOKUP(AU20,数组!$B:$C,2,0)&\"#\"&角色升星配方!AV20,\"\")","v":"10#2#18#1"},{"$f":"_xlfn.IFNA(AX20&\"#\"&AY20&\"#\"&VLOOKUP(AZ20,数组!$B:$C,2,0)&\"#\"&角色升星配方!BM20,\"\")","v":""},null,null,{"$f":"_xlfn.IFNA(AW20&\"#\"&AX20&\"#\"&VLOOKUP(AY20,数组!$B:$C,2,0)&\"#\"&角色升星配方!AZ20,\"\")","v":"10#3#14#1"},{"$nulls":3},{"$f":"_xlfn.IFNA(BE20&\"#\"&BF20&\"#\"&VLOOKUP(BG20,数组!$B:$C,2,0)&\"#\"&角色升星配方!BH20,\"\")","v":""},{"$nulls":3},{"$f":"_xlfn.IFNA(BI20&\"#\"&BJ20&\"#\"&VLOOKUP(BK20,数组!$B:$C,2,0)&\"#\"&角色升星配方!BL20,\"\")","v":""},{"$f":"[2]!SUMSTRING(BM20:DM20,\"|\")","v":{"$error":"#NAME?"}}]
[1,10020,1,5,6,1,"5星同名",1,6,2,"5星10041",1,6,3,"5星同系",3,7,1,"5星同系",4,8,1,"5星同系",3,8,2,"6星同系",1,9,1,"5星同名",1,9,2,"6星同系",1,9,3,"5星同系",2,10,1,"5星同名",2,10,2,"6星同系",1,10,3,"9星任意",1,{"$nulls":12},{"$f":"_xlfn.IFNA(E21&\"#\"&F21&\"#\"&VLOOKUP(G21,数组!$B:$C,2,0)&\"#\"&角色升星配方!H21,\"\")","v":"6#1#3#1"},{"$f":"_xlfn.IFNA(F21&\"#\"&G21&\"#\"&VLOOKUP(H21,数组!$B:$C,2,0)&\"#\"&角色升星配方!I21,\"\")","v":""},{"$f":"_xlfn.IFNA(G21&\"#\"&H21&\"#\"&VLOOKUP(I21,数组!$B:$C,2,0)&\"#\"&角色升星配方!J21,\"\")","v":""},{"$f":"_xlfn.IFNA(H21&\"#\"&I21&\"#\"&VLOOKUP(J21,数组!$B:$C,2,0)&\"#\"&角色升星配方!K21,\"\")","v":""},{"$f":"_xlfn.IFNA(I21&\"#\"&J21&\"#\"&VLOOKUP(K21,数组!$B:$C,2,0)&\"#\"&角色升星配方!L21,\"\")","v":"6#2#39#1"},{"$f":"_xlfn.IFNA(J21&\"#\"&K21&\"#\"&VLOOKUP(L21,数组!$B:$C,2,0)&\"#\"&角色升星配方!M21,\"\")","v":""},{"$f":"_xlfn.IFNA(K21&\"#\"&L21&\"#\"&VLOOKUP(M21,数组!$B:$C,2,0)&\"#\"&角色升星配方!N21,\"\")","v":""},{"$f":"_xlfn.IFNA(L21&\"#\"&M21&\"#\"&VLOOKUP(N21,数组!$B:$C,2,0)&\"#\"&角色升星配方!O21,\"\")","v":""},{"$f":"_xlfn.IFNA(M21&\"#\"&N21&\"#\"&VLOOKUP(O21,数组!$B:$C,2,0)&\"#\"&角色升星配方!P21,\"\")","v":"6#3#17#3"},{"$f":"_xlfn.IFNA(N21&\"#\"&O21&\"#\"&VLOOKUP(P21,数组!$B:$C,2,0)&\"#\"&角色升星配方!Q21,\"\")","v":""},{"$f":"_xlfn.IFNA(O21&\"#\"&P21&\"#\"&VLOOKUP(Q21,数组!$B:$C,2,0)&\"#\"&角色升星配方!R21,\"\")","v":""},{"$f":"_xlfn.IFNA(P21&\"#\"&Q21&\"#\"&VLOOKUP(R21,数组!$B:$C,2,0)&\"#\"&角色升星配方!S21,\"\")","v":""},{"$f":"_xlfn.IFNA(Q21&\"#\"&R21&\"#\"&VLOOKUP(S21,数组!$B:$C,2,0)&\"#\"&角色升星配方!T21,\"\")","v":"7#1#17#4"},{"$f":"_xlfn.IFNA(R21&\"#\"&S21&\"#\"&VLOOKUP(T21,数组!$B:$C,2,0)&\"#\"&角色升星配方!U21,\"\")","v":""},{"$f":"_xlfn.IFNA(S21&\"#\"&T21&\"#\"&VLOOKUP(U21,数组!$B:$C,2,0)&\"#\"&角色升星配方!V21,\"\")","v":""},{"$f":"_xlfn.IFNA(T21&\"#\"&U21&\"#\"&VLOOKUP(V21,数组!$B:$C,2,0)&\"#\"&角色升星配方!W21,\"\")","v":""},{"$f":"_xlfn.IFNA(U21&\"#\"&V21&\"#\"&VLOOKUP(W21,数组!$B:$C,2,0)&\"#\"&角色升星配方!X21,\"\")","v":"8#1#17#3"},{"$f":"_xlfn.IFNA(V21&\"#\"&W21&\"#\"&VLOOKUP(X21,数组!$B:$C,2,0)&\"#\"&角色升星配方!AC21,\"\")","v":""},{"$f":"_xlfn.IFNA(W21&\"#\"&X21&\"#\"&VLOOKUP(AC21,数组!$B:$C,2,0)&\"#\"&角色升星配方!AD21,\"\")","v":""},{"$f":"_xlfn.IFNA(X21&\"#\"&AC21&\"#\"&VLOOKUP(AD21,数组!$B:$C,2,0)&\"#\"&角色升星配方!AE21,\"\")","v":""},{"$f":"_xlfn.IFNA(Y21&\"#\"&Z21&\"#\"&VLOOKUP(AA21,数组!$B:$C,2,0)&\"#\"&角色升星配方!AB21,\"\")","v":"8#2#18#1"},{"$f":"_xlfn.IFNA(AD21&\"#\"&AE21&\"#\"&VLOOKUP(AF21,数组!$B:$C,2,0)&\"#\"&角色升星配方!AG21,\"\")","v":""},{"$f":"_xlfn.IFNA(AE21&\"#\"&AF21&\"#\"&VLOOKUP(AG21,数组!$B:$C,2,0)&\"#\"&角色升星配方!AH21,\"\")","v":""},{"$f":"_xlfn.IFNA(AF21&\"#\"&AG21&\"#\"&VLOOKUP(AH21,数组!$B:$C,2,0)&\"#\"&角色升星配方!AI21,\"\")","v":""},{"$f":"_xlfn.IFNA(AC21&\"#\"&AD21&\"#\"&VLOOKUP(AE21,数组!$B:$C,2,0)&\"#\"&角色升星配方!AF21,\"\")","v":"9#1#3#1"},{"$f":"_xlfn.IFNA(AH21&\"#\"&AI21&\"#\"&VLOOKUP(AJ21,数组!$B:$C,2,0)&\"#\"&角色升星配方!AK21,\"\")","v":""},{"$f":"_xlfn.IFNA(AI21&\"#\"&AJ21&\"#\"&VLOOKUP(AK21,数组!$B:$C,2,0)&\"#\"&角色升星配方!AL21,\"\")","v":""},{"$f":"_xlfn.IFNA(AJ21&\"#\"&AK21&\"#\"&VLOOKUP(AL21,数组!$B:$C,2,0)&\"#\"&角色升星配方!AM21,\"\")","v":""},{"$f":"_xlfn.IFNA(AG21&\"#\"&AH21&\"#\"&VLOOKUP(AI21,数组!$B:$C,2,0)&\"#\"&角色升星配方!AJ21,\"\")","v":"9#2#18#1"},{"$f":"_xlfn.IFNA(AL21&\"#\"&AM21&\"#\"&VLOOKUP(AN21,数组!$B:$C,2,0)&\"#\"&角色升星配方!AO21,\"\")","v":""},{"$f":"_xlfn.IFNA(AM21&\"#\"&AN21&\"#\"&VLOOKUP(AO21,数组!$B:$C,2,0)&\"#\"&角色升星配方!AP21,\"\")","v":""},{"$f":"_xlfn.IFNA(AN21&\"#\"&AO21&\"#\"&VLOOKUP(AP21,数组!$B:$C,2,0)&\"#\"&角色升星配方!AQ21,\"\")","v":""},{"$f":"_xlfn.IFNA(AK21&\"#\"&AL21&\"#\"&VLOOKUP(AM21,数组!$B:$C,2,0)&\"#\"&角色升星配方!AN21,\"\")","v":"9#3#17#2"},{"$f":"_xlfn.IFNA(AP21&\"#\"&AQ21&\"#\"&VLOOKUP(AR21,数组!$B:$C,2,0)&\"#\"&角色升星配方!AS21,\"\")","v":""},{"$f":"_xlfn.IFNA(AQ21&\"#\"&AR21&\"#\"&VLOOKUP(AS21,数组!$B:$C,2,0)&\"#\"&角色升星配方!AT21,\"\")","v":""},{"$f":"_xlfn.IFNA(AR21&\"#\"&AS21&\"#\"&VLOOKUP(AT21,数组!$B:$C,2,0)&\"#\"&角色升星配方!AU21,\"\")","v":""},{"$f":"_xlfn.IFNA(AO21&\"#\"&AP21&\"#\"&VLOOKUP(AQ21,数组!$B:$C,2,0)&\"#\"&角色升星配方!AR21,\"\")","v":"10#1#3#2"},{"$f":"_xlfn.IFNA(AT21&\"#\"&AU21&\"#\"&VLOOKUP(AV21,数组!$B:$C,2,0)&\"#\"&角色升星配方!AW21,\"\")","v":""},{"$f":"_xlfn.IFNA(AU21&\"#\"&AV21&\"#\"&VLOOKUP(AW21,数组!$B:$C,2,0)&\"#\"&角色升星配方!AX21,\"\")","v":""},{"$f":"_xlfn.IFNA(AV21&\"#\"&AW21&\"#\"&VLOOKUP(AX21,数组!$B:$C,2,0)&\"#\"&角色升星配方!AY21,\"\")","v":""},{"$f":"_xlfn.IFNA(AS21&\"#\"&AT21&\"#\"&VLOOKUP(AU21,数组!$B:$C,2,0)&\"#\"&角色升星配方!AV21,\"\")","v":"10#2#18#1"},{"$f":"_xlfn.IFNA(AX21&\"#\"&AY21&\"#\"&VLOOKUP(AZ21,数组!$B:$C,2,0)&\"#\"&角色升星配方!BM21,\"\")","v":""},null,null,{"$f":"_xlfn.IFNA(AW21&\"#\"&AX21&\"#\"&VLOOKUP(AY21,数组!$B:$C,2,0)&\"#\"&角色升星配方!AZ21,\"\")","v":"10#3#14#1"},{"$nulls":3},{"$f":"_xlfn.IFNA(BE21&\"#\"&BF21&\"#\"&VLOOKUP(BG21,数组!$B:$C,2,0)&\"#\"&角色升星配方!BH21,\"\")","v":""},{"$nulls":3},{"$f":"_xlfn.IFNA(BI21&\"#\"&BJ21&\"#\"&VLOOKUP(BK21,数组!$B:$C,2,0)&\"#\"&角色升星配方!BL21,\"\")","v":""},{"$f":"[2]!SUMSTRING(BM21:DM21,\"|\")","v":{"$error":"#NAME?"}}]
[3,10021,3,5,6,1,"5星同名",1,6,2,"5星10043",1,6,3,"5星同系",3,7,1,"5星同系",4,8,1,"5星同系",3,8,2,"6星同系",1,9,1,"5星同名",1,9,2,"6星同系",1,9,3,"5星同系",2,10,1,"5星同名",2,10,2,"6星同系",1,10,3,"9星任意",1,{"$nulls":12},{"$f":"_xlfn.IFNA(E22&\"#\"&F22&\"#\"&VLOOKUP(G22,数组!$B:$C,2,0)&\"#\"&角色升星配方!H22,\"\")","v":"6#1#3#1"},{"$f":"_xlfn.IFNA(F22&\"#\"&G22&\"#\"&VLOOKUP(H22,数组!$B:$C,2,0)&\"#\"&角色升星配方!I22,\"\")","v":""},{"$f":"_xlfn.IFNA(G22&\"#\"&H22&\"#\"&VLOOKUP(I22,数组!$B:$C,2,0)&\"#\"&角色升星配方!J22,\"\")","v":""},{"$f":"_xlfn.IFNA(H22&\"#\"&I22&\"#\"&VLOOKUP(J22,数组!$B:$C,2,0)&\"#\"&角色升星配方!K22,\"\")","v":""},{"$f":"_xlfn.IFNA(I22&\"#\"&J22&\"#\"&VLOOKUP(K22,数组!$B:$C,2,0)&\"#\"&角色升星配方!L22,\"\")","v":"6#2#41#1"},{"$f":"_xlfn.IFNA(J22&\"#\"&K22&\"#\"&VLOOKUP(L22,数组!$B:$C,2,0)&\"#\"&角色升星配方!M22,\"\")","v":""},{"$f":"_xlfn.IFNA(K22&\"#\"&L22&\"#\"&VLOOKUP(M22,数组!$B:$C,2,0)&\"#\"&角色升星配方!N22,\"\")","v":""},{"$f":"_xlfn.IFNA(L22&\"#\"&M22&\"#\"&VLOOKUP(N22,数组!$B:$C,2,0)&\"#\"&角色升星配方!O22,\"\")","v":""},{"$f":"_xlfn.IFNA(M22&\"#\"&N22&\"#\"&VLOOKUP(O22,数组!$B:$C,2,0)&\"#\"&角色升星配方!P22,\"\")","v":"6#3#17#3"},{"$f":"_xlfn.IFNA(N22&\"#\"&O22&\"#\"&VLOOKUP(P22,数组!$B:$C,2,0)&\"#\"&角色升星配方!Q22,\"\")","v":""},{"$f":"_xlfn.IFNA(O22&\"#\"&P22&\"#\"&VLOOKUP(Q22,数组!$B:$C,2,0)&\"#\"&角色升星配方!R22,\"\")","v":""},{"$f":"_xlfn.IFNA(P22&\"#\"&Q22&\"#\"&VLOOKUP(R22,数组!$B:$C,2,0)&\"#\"&角色升星配方!S22,\"\")","v":""},{"$f":"_xlfn.IFNA(Q22&\"#\"&R22&\"#\"&VLOOKUP(S22,数组!$B:$C,2,0)&\"#\"&角色升星配方!T22,\"\")","v":"7#1#17#4"},{"$f":"_xlfn.IFNA(R22&\"#\"&S22&\"#\"&VLOOKUP(T22,数组!$B:$C,2,0)&\"#\"&角色升星配方!U22,\"\")","v":""},{"$f":"_xlfn.IFNA(S22&\"#\"&T22&\"#\"&VLOOKUP(U22,数组!$B:$C,2,0)&\"#\"&角色升星配方!V22,\"\")","v":""},{"$f":"_xlfn.IFNA(T22&\"#\"&U22&\"#\"&VLOOKUP(V22,数组!$B:$C,2,0)&\"#\"&角色升星配方!W22,\"\")","v":""},{"$f":"_xlfn.IFNA(U22&\"#\"&V22&\"#\"&VLOOKUP(W22,数组!$B:$C,2,0)&\"#\"&角色升星配方!X22,\"\")","v":"8#1#17#3"},{"$f":"_xlfn.IFNA(V22&\"#\"&W22&\"#\"&VLOOKUP(X22,数组!$B:$C,2,0)&\"#\"&角色升星配方!AC22,\"\")","v":""},{"$f":"_xlfn.IFNA(W22&\"#\"&X22&\"#\"&VLOOKUP(AC22,数组!$B:$C,2,0)&\"#\"&角色升星配方!AD22,\"\")","v":""},{"$f":"_xlfn.IFNA(X22&\"#\"&AC22&\"#\"&VLOOKUP(AD22,数组!$B:$C,2,0)&\"#\"&角色升星配方!AE22,\"\")","v":""},{"$f":"_xlfn.IFNA(Y22&\"#\"&Z22&\"#\"&VLOOKUP(AA22,数组!$B:$C,2,0)&\"#\"&角色升星配方!AB22,\"\")","v":"8#2#18#1"},{"$f":"_xlfn.IFNA(AD22&\"#\"&AE22&\"#\"&VLOOKUP(AF22,数组!$B:$C,2,0)&\"#\"&角色升星配方!AG22,\"\")","v":""},{"$f":"_xlfn.IFNA(AE22&\"#\"&AF22&\"#\"&VLOOKUP(AG22,数组!$B:$C,2,0)&\"#\"&角色升星配方!AH22,\"\")","v":""},{"$f":"_xlfn.IFNA(AF22&\"#\"&AG22&\"#\"&VLOOKUP(AH22,数组!$B:$C,2,0)&\"#\"&角色升星配方!AI22,\"\")","v":""},{"$f":"_xlfn.IFNA(AC22&\"#\"&AD22&\"#\"&VLOOKUP(AE22,数组!$B:$C,2,0)&\"#\"&角色升星配方!AF22,\"\")","v":"9#1#3#1"},{"$f":"_xlfn.IFNA(AH22&\"#\"&AI22&\"#\"&VLOOKUP(AJ22,数组!$B:$C,2,0)&\"#\"&角色升星配方!AK22,\"\")","v":""},{"$f":"_xlfn.IFNA(AI22&\"#\"&AJ22&\"#\"&VLOOKUP(AK22,数组!$B:$C,2,0)&\"#\"&角色升星配方!AL22,\"\")","v":""},{"$f":"_xlfn.IFNA(AJ22&\"#\"&AK22&\"#\"&VLOOKUP(AL22,数组!$B:$C,2,0)&\"#\"&角色升星配方!AM22,\"\")","v":""},{"$f":"_xlfn.IFNA(AG22&\"#\"&AH22&\"#\"&VLOOKUP(AI22,数组!$B:$C,2,0)&\"#\"&角色升星配方!AJ22,\"\")","v":"9#2#18#1"},{"$f":"_xlfn.IFNA(AL22&\"#\"&AM22&\"#\"&VLOOKUP(AN22,数组!$B:$C,2,0)&\"#\"&角色升星配方!AO22,\"\")","v":""},{"$f":"_xlfn.IFNA(AM22&\"#\"&AN22&\"#\"&VLOOKUP(AO22,数组!$B:$C,2,0)&\"#\"&角色升星配方!AP22,\"\")","v":""},{"$f":"_xlfn.IFNA(AN22&\"#\"&AO22&\"#\"&VLOOKUP(AP22,数组!$B:$C,2,0)&\"#\"&角色升星配方!AQ22,\"\")","v":""},{"$f":"_xlfn.IFNA(AK22&\"#\"&AL22&\"#\"&VLOOKUP(AM22,数组!$B:$C,2,0)&\"#\"&角色升星配方!AN22,\"\")","v":"9#3#17#2"},{"$f":"_xlfn.IFNA(AP22&\"#\"&AQ22&\"#\"&VLOOKUP(AR22,数组!$B:$C,2,0)&\"#\"&角色升星配方!AS22,\"\")","v":""},{"$f":"_xlfn.IFNA(AQ22&\"#\"&AR22&\"#\"&VLOOKUP(AS22,数组!$B:$C,2,0)&\"#\"&角色升星配方!AT22,\"\")","v":""},{"$f":"_xlfn.IFNA(AR22&\"#\"&AS22&\"#\"&VLOOKUP(AT22,数组!$B:$C,2,0)&\"#\"&角色升星配方!AU22,\"\")","v":""},{"$f":"_xlfn.IFNA(AO22&\"#\"&AP22&\"#\"&VLOOKUP(AQ22,数组!$B:$C,2,0)&\"#\"&角色升星配方!AR22,\"\")","v":"10#1#3#2"},{"$f":"_xlfn.IFNA(AT22&\"#\"&AU22&\"#\"&VLOOKUP(AV22,数组!$B:$C,2,0)&\"#\"&角色升星配方!AW22,\"\")","v":""},{"$f":"_xlfn.IFNA(AU22&\"#\"&AV22&\"#\"&VLOOKUP(AW22,数组!$B:$C,2,0)&\"#\"&角色升星配方!AX22,\"\")","v":""},{"$f":"_xlfn.IFNA(AV22&\"#\"&AW22&\"#\"&VLOOKUP(AX22,数组!$B:$C,2,0)&\"#\"&角色升星配方!AY22,\"\")","v":""},{"$f":"_xlfn.IFNA(AS22&\"#\"&AT22&\"#\"&VLOOKUP(AU22,数组!$B:$C,2,0)&\"#\"&角色升星配方!AV22,\"\")","v":"10#2#18#1"},{"$f":"_xlfn.IFNA(AX22&\"#\"&AY22&\"#\"&VLOOKUP(AZ22,数组!$B:$C,2,0)&\"#\"&角色升星配方!BM22,\"\")","v":""},null,null,{"$f":"_xlfn.IFNA(AW22&\"#\"&AX22&\"#\"&VLOOKUP(AY22,数组!$B:$C,2,0)&\"#\"&角色升星配方!AZ22,\"\")","v":"10#3#14#1"},{"$nulls":3},{"$f":"_xlfn.IFNA(BE22&\"#\"&BF22&\"#\"&VLOOKUP(BG22,数组!$B:$C,2,0)&\"#\"&角色升星配方!BH22,\"\")","v":""},{"$nulls":3},{"$f":"_xlfn.IFNA(BI22&\"#\"&BJ22&\"#\"&VLOOKUP(BK22,数组!$B:$C,2,0)&\"#\"&角色升星配方!BL22,\"\")","v":""},{"$f":"[2]!SUMSTRING(BM22:DM22,\"|\")","v":{"$error":"#NAME?"}}]
[2,10022,2,5,6,1,"5星同名",1,6,2,"5星10045",1,6,3,"5星同系",3,7,1,"5星同系",4,8,1,"5星同系",3,8,2,"6星同系",1,9,1,"5星同名",1,9,2,"6星同系",1,9,3,"5星同系",2,10,1,"5星同名",2,10,2,"6星同系",1,10,3,"9星任意",1,{"$nulls":12},{"$f":"_xlfn.IFNA(E23&\"#\"&F23&\"#\"&VLOOKUP(G23,数组!$B:$C,2,0)&\"#\"&角色升星配方!H23,\"\")","v":"6#1#3#1"},{"$f":"_xlfn.IFNA(F23&\"#\"&G23&\"#\"&VLOOKUP(H23,数组!$B:$C,2,0)&\"#\"&角色升星配方!I23,\"\")","v":""},{"$f":"_xlfn.IFNA(G23&\"#\"&H23&\"#\"&VLOOKUP(I23,数组!$B:$C,2,0)&\"#\"&角色升星配方!J23,\"\")","v":""},{"$f":"_xlfn.IFNA(H23&\"#\"&I23&\"#\"&VLOOKUP(J23,数组!$B:$C,2,0)&\"#\"&角色升星配方!K23,\"\")","v":""},{"$f":"_xlfn.IFNA(I23&\"#\"&J23&\"#\"&VLOOKUP(K23,数组!$B:$C,2,0)&\"#\"&角色升星配方!L23,\"\")","v":"6#2#43#1"},{"$f":"_xlfn.IFNA(J23&\"#\"&K23&\"#\"&VLOOKUP(L23,数组!$B:$C,2,0)&\"#\"&角色升星配方!M23,\"\")","v":""},{"$f":"_xlfn.IFNA(K23&\"#\"&L23&\"#\"&VLOOKUP(M23,数组!$B:$C,2,0)&\"#\"&角色升星配方!N23,\"\")","v":""},{"$f":"_xlfn.IFNA(L23&\"#\"&M23&\"#\"&VLOOKUP(N23,数组!$B:$C,2,0)&\"#\"&角色升星配方!O23,\"\")","v":""},{"$f":"_xlfn.IFNA(M23&\"#\"&N23&\"#\"&VLOOKUP(O23,数组!$B:$C,2,0)&\"#\"&角色升星配方!P23,\"\")","v":"6#3#17#3"},{"$f":"_xlfn.IFNA(N23&\"#\"&O23&\"#\"&VLOOKUP(P23,数组!$B:$C,2,0)&\"#\"&角色升星配方!Q23,\"\")","v":""},{"$f":"_xlfn.IFNA(O23&\"#\"&P23&\"#\"&VLOOKUP(Q23,数组!$B:$C,2,0)&\"#\"&角色升星配方!R23,\"\")","v":""},{"$f":"_xlfn.IFNA(P23&\"#\"&Q23&\"#\"&VLOOKUP(R23,数组!$B:$C,2,0)&\"#\"&角色升星配方!S23,\"\")","v":""},{"$f":"_xlfn.IFNA(Q23&\"#\"&R23&\"#\"&VLOOKUP(S23,数组!$B:$C,2,0)&\"#\"&角色升星配方!T23,\"\")","v":"7#1#17#4"},{"$f":"_xlfn.IFNA(R23&\"#\"&S23&\"#\"&VLOOKUP(T23,数组!$B:$C,2,0)&\"#\"&角色升星配方!U23,\"\")","v":""},{"$f":"_xlfn.IFNA(S23&\"#\"&T23&\"#\"&VLOOKUP(U23,数组!$B:$C,2,0)&\"#\"&角色升星配方!V23,\"\")","v":""},{"$f":"_xlfn.IFNA(T23&\"#\"&U23&\"#\"&VLOOKUP(V23,数组!$B:$C,2,0)&\"#\"&角色升星配方!W23,\"\")","v":""},{"$f":"_xlfn.IFNA(U23&\"#\"&V23&\"#\"&VLOOKUP(W23,数组!$B:$C,2,0)&\"#\"&角色升星配方!X23,\"\")","v":"8#1#17#3"},{"$f":"_xlfn.IFNA(V23&\"#\"&W23&\"#\"&VLOOKUP(X23,数组!$B:$C,2,0)&\"#\"&角色升星配方!AC23,\"\")","v":""},{"$f":"_xlfn.IFNA(W23&\"#\"&X23&\"#\"&VLOOKUP(AC23,数组!$B:$C,2,0)&\"#\"&角色升星配方!AD23,\"\")","v":""},{"$f":"_xlfn.IFNA(X23&\"#\"&AC23&\"#\"&VLOOKUP(AD23,数组!$B:$C,2,0)&\"#\"&角色升星配方!AE23,\"\")","v":""},{"$f":"_xlfn.IFNA(Y23&\"#\"&Z23&\"#\"&VLOOKUP(AA23,数组!$B:$C,2,0)&\"#\"&角色升星配方!AB23,\"\")","v":"8#2#18#1"},{"$f":"_xlfn.IFNA(AD23&\"#\"&AE23&\"#\"&VLOOKUP(AF23,数组!$B:$C,2,0)&\"#\"&角色升星配方!AG23,\"\")","v":""},{"$f":"_xlfn.IFNA(AE23&\"#\"&AF23&\"#\"&VLOOKUP(AG23,数组!$B:$C,2,0)&\"#\"&角色升星配方!AH23,\"\")","v":""},{"$f":"_xlfn.IFNA(AF23&\"#\"&AG23&\"#\"&VLOOKUP(AH23,数组!$B:$C,2,0)&\"#\"&角色升星配方!AI23,\"\")","v":""},{"$f":"_xlfn.IFNA(AC23&\"#\"&AD23&\"#\"&VLOOKUP(AE23,数组!$B:$C,2,0)&\"#\"&角色升星配方!AF23,\"\")","v":"9#1#3#1"},{"$f":"_xlfn.IFNA(AH23&\"#\"&AI23&\"#\"&VLOOKUP(AJ23,数组!$B:$C,2,0)&\"#\"&角色升星配方!AK23,\"\")","v":""},{"$f":"_xlfn.IFNA(AI23&\"#\"&AJ23&\"#\"&VLOOKUP(AK23,数组!$B:$C,2,0)&\"#\"&角色升星配方!AL23,\"\")","v":""},{"$f":"_xlfn.IFNA(AJ23&\"#\"&AK23&\"#\"&VLOOKUP(AL23,数组!$B:$C,2,0)&\"#\"&角色升星配方!AM23,\"\")","v":""},{"$f":"_xlfn.IFNA(AG23&\"#\"&AH23&\"#\"&VLOOKUP(AI23,数组!$B:$C,2,0)&\"#\"&角色升星配方!AJ23,\"\")","v":"9#2#18#1"},{"$f":"_xlfn.IFNA(AL23&\"#\"&AM23&\"#\"&VLOOKUP(AN23,数组!$B:$C,2,0)&\"#\"&角色升星配方!AO23,\"\")","v":""},{"$f":"_xlfn.IFNA(AM23&\"#\"&AN23&\"#\"&VLOOKUP(AO23,数组!$B:$C,2,0)&\"#\"&角色升星配方!AP23,\"\")","v":""},{"$f":"_xlfn.IFNA(AN23&\"#\"&AO23&\"#\"&VLOOKUP(AP23,数组!$B:$C,2,0)&\"#\"&角色升星配方!AQ23,\"\")","v":""},{"$f":"_xlfn.IFNA(AK23&\"#\"&AL23&\"#\"&VLOOKUP(AM23,数组!$B:$C,2,0)&\"#\"&角色升星配方!AN23,\"\")","v":"9#3#17#2"},{"$f":"_xlfn.IFNA(AP23&\"#\"&AQ23&\"#\"&VLOOKUP(AR23,数组!$B:$C,2,0)&\"#\"&角色升星配方!AS23,\"\")","v":""},{"$f":"_xlfn.IFNA(AQ23&\"#\"&AR23&\"#\"&VLOOKUP(AS23,数组!$B:$C,2,0)&\"#\"&角色升星配方!AT23,\"\")","v":""},{"$f":"_xlfn.IFNA(AR23&\"#\"&AS23&\"#\"&VLOOKUP(AT23,数组!$B:$C,2,0)&\"#\"&角色升星配方!AU23,\"\")","v":""},{"$f":"_xlfn.IFNA(AO23&\"#\"&AP23&\"#\"&VLOOKUP(AQ23,数组!$B:$C,2,0)&\"#\"&角色升星配方!AR23,\"\")","v":"10#1#3#2"},{"$f":"_xlfn.IFNA(AT23&\"#\"&AU23&\"#\"&VLOOKUP(AV23,数组!$B:$C,2,0)&\"#\"&角色升星配方!AW23,\"\")","v":""},{"$f":"_xlfn.IFNA(AU23&\"#\"&AV23&\"#\"&VLOOKUP(AW23,数组!$B:$C,2,0)&\"#\"&角色升星配方!AX23,\"\")","v":""},{"$f":"_xlfn.IFNA(AV23&\"#\"&AW23&\"#\"&VLOOKUP(AX23,数组!$B:$C,2,0)&\"#\"&角色升星配方!AY23,\"\")","v":""},{"$f":"_xlfn.IFNA(AS23&\"#\"&AT23&\"#\"&VLOOKUP(AU23,数组!$B:$C,2,0)&\"#\"&角色升星配方!AV23,\"\")","v":"10#2#18#1"},{"$f":"_xlfn.IFNA(AX23&\"#\"&AY23&\"#\"&VLOOKUP(AZ23,数组!$B:$C,2,0)&\"#\"&角色升星配方!BM23,\"\")","v":""},null,null,{"$f":"_xlfn.IFNA(AW23&\"#\"&AX23&\"#\"&VLOOKUP(AY23,数组!$B:$C,2,0)&\"#\"&角色升星配方!AZ23,\"\")","v":"10#3#14#1"},{"$nulls":3},{"$f":"_xlfn.IFNA(BE23&\"#\"&BF23&\"#\"&VLOOKUP(BG23,数组!$B:$C,2,0)&\"#\"&角色升星配方!BH23,\"\")","v":""},{"$nulls":3},{"$f":"_xlfn.IFNA(BI23&\"#\"&BJ23&\"#\"&VLOOKUP(BK23,数组!$B:$C,2,0)&\"#\"&角色升星配方!BL23,\"\")","v":""},{"$f":"[2]!SUMSTRING(BM23:DM23,\"|\")","v":{"$error":"#NAME?"}}]
[5,10023,5,5,6,1,"5星同名",1,6,2,"5星10046",1,6,3,"5星同系",3,7,1,"5星同系",4,8,1,"5星同系",3,8,2,"6星同系",1,9,1,"5星同名",1,9,2,"6星同系",1,9,3,"5星同系",2,10,1,"5星同名",2,10,2,"6星同系",1,10,3,"9星任意",1,{"$nulls":12},{"$f":"_xlfn.IFNA(E24&\"#\"&F24&\"#\"&VLOOKUP(G24,数组!$B:$C,2,0)&\"#\"&角色升星配方!H24,\"\")","v":"6#1#3#1"},{"$f":"_xlfn.IFNA(F24&\"#\"&G24&\"#\"&VLOOKUP(H24,数组!$B:$C,2,0)&\"#\"&角色升星配方!I24,\"\")","v":""},{"$f":"_xlfn.IFNA(G24&\"#\"&H24&\"#\"&VLOOKUP(I24,数组!$B:$C,2,0)&\"#\"&角色升星配方!J24,\"\")","v":""},{"$f":"_xlfn.IFNA(H24&\"#\"&I24&\"#\"&VLOOKUP(J24,数组!$B:$C,2,0)&\"#\"&角色升星配方!K24,\"\")","v":""},{"$f":"_xlfn.IFNA(I24&\"#\"&J24&\"#\"&VLOOKUP(K24,数组!$B:$C,2,0)&\"#\"&角色升星配方!L24,\"\")","v":"6#2#44#1"},{"$f":"_xlfn.IFNA(J24&\"#\"&K24&\"#\"&VLOOKUP(L24,数组!$B:$C,2,0)&\"#\"&角色升星配方!M24,\"\")","v":""},{"$f":"_xlfn.IFNA(K24&\"#\"&L24&\"#\"&VLOOKUP(M24,数组!$B:$C,2,0)&\"#\"&角色升星配方!N24,\"\")","v":""},{"$f":"_xlfn.IFNA(L24&\"#\"&M24&\"#\"&VLOOKUP(N24,数组!$B:$C,2,0)&\"#\"&角色升星配方!O24,\"\")","v":""},{"$f":"_xlfn.IFNA(M24&\"#\"&N24&\"#\"&VLOOKUP(O24,数组!$B:$C,2,0)&\"#\"&角色升星配方!P24,\"\")","v":"6#3#17#3"},{"$f":"_xlfn.IFNA(N24&\"#\"&O24&\"#\"&VLOOKUP(P24,数组!$B:$C,2,0)&\"#\"&角色升星配方!Q24,\"\")","v":""},{"$f":"_xlfn.IFNA(O24&\"#\"&P24&\"#\"&VLOOKUP(Q24,数组!$B:$C,2,0)&\"#\"&角色升星配方!R24,\"\")","v":""},{"$f":"_xlfn.IFNA(P24&\"#\"&Q24&\"#\"&VLOOKUP(R24,数组!$B:$C,2,0)&\"#\"&角色升星配方!S24,\"\")","v":""},{"$f":"_xlfn.IFNA(Q24&\"#\"&R24&\"#\"&VLOOKUP(S24,数组!$B:$C,2,0)&\"#\"&角色升星配方!T24,\"\")","v":"7#1#17#4"},{"$f":"_xlfn.IFNA(R24&\"#\"&S24&\"#\"&VLOOKUP(T24,数组!$B:$C,2,0)&\"#\"&角色升星配方!U24,\"\")","v":""},{"$f":"_xlfn.IFNA(S24&\"#\"&T24&\"#\"&VLOOKUP(U24,数组!$B:$C,2,0)&\"#\"&角色升星配方!V24,\"\")","v":""},{"$f":"_xlfn.IFNA(T24&\"#\"&U24&\"#\"&VLOOKUP(V24,数组!$B:$C,2,0)&\"#\"&角色升星配方!W24,\"\")","v":""},{"$f":"_xlfn.IFNA(U24&\"#\"&V24&\"#\"&VLOOKUP(W24,数组!$B:$C,2,0)&\"#\"&角色升星配方!X24,\"\")","v":"8#1#17#3"},{"$f":"_xlfn.IFNA(V24&\"#\"&W24&\"#\"&VLOOKUP(X24,数组!$B:$C,2,0)&\"#\"&角色升星配方!AC24,\"\")","v":""},{"$f":"_xlfn.IFNA(W24&\"#\"&X24&\"#\"&VLOOKUP(AC24,数组!$B:$C,2,0)&\"#\"&角色升星配方!AD24,\"\")","v":""},{"$f":"_xlfn.IFNA(X24&\"#\"&AC24&\"#\"&VLOOKUP(AD24,数组!$B:$C,2,0)&\"#\"&角色升星配方!AE24,\"\")","v":""},{"$f":"_xlfn.IFNA(Y24&\"#\"&Z24&\"#\"&VLOOKUP(AA24,数组!$B:$C,2,0)&\"#\"&角色升星配方!AB24,\"\")","v":"8#2#18#1"},{"$f":"_xlfn.IFNA(AD24&\"#\"&AE24&\"#\"&VLOOKUP(AF24,数组!$B:$C,2,0)&\"#\"&角色升星配方!AG24,\"\")","v":""},{"$f":"_xlfn.IFNA(AE24&\"#\"&AF24&\"#\"&VLOOKUP(AG24,数组!$B:$C,2,0)&\"#\"&角色升星配方!AH24,\"\")","v":""},{"$f":"_xlfn.IFNA(AF24&\"#\"&AG24&\"#\"&VLOOKUP(AH24,数组!$B:$C,2,0)&\"#\"&角色升星配方!AI24,\"\")","v":""},{"$f":"_xlfn.IFNA(AC24&\"#\"&AD24&\"#\"&VLOOKUP(AE24,数组!$B:$C,2,0)&\"#\"&角色升星配方!AF24,\"\")","v":"9#1#3#1"},{"$f":"_xlfn.IFNA(AH24&\"#\"&AI24&\"#\"&VLOOKUP(AJ24,数组!$B:$C,2,0)&\"#\"&角色升星配方!AK24,\"\")","v":""},{"$f":"_xlfn.IFNA(AI24&\"#\"&AJ24&\"#\"&VLOOKUP(AK24,数组!$B:$C,2,0)&\"#\"&角色升星配方!AL24,\"\")","v":""},{"$f":"_xlfn.IFNA(AJ24&\"#\"&AK24&\"#\"&VLOOKUP(AL24,数组!$B:$C,2,0)&\"#\"&角色升星配方!AM24,\"\")","v":""},{"$f":"_xlfn.IFNA(AG24&\"#\"&AH24&\"#\"&VLOOKUP(AI24,数组!$B:$C,2,0)&\"#\"&角色升星配方!AJ24,\"\")","v":"9#2#18#1"},{"$f":"_xlfn.IFNA(AL24&\"#\"&AM24&\"#\"&VLOOKUP(AN24,数组!$B:$C,2,0)&\"#\"&角色升星配方!AO24,\"\")","v":""},{"$f":"_xlfn.IFNA(AM24&\"#\"&AN24&\"#\"&VLOOKUP(AO24,数组!$B:$C,2,0)&\"#\"&角色升星配方!AP24,\"\")","v":""},{"$f":"_xlfn.IFNA(AN24&\"#\"&AO24&\"#\"&VLOOKUP(AP24,数组!$B:$C,2,0)&\"#\"&角色升星配方!AQ24,\"\")","v":""},{"$f":"_xlfn.IFNA(AK24&\"#\"&AL24&\"#\"&VLOOKUP(AM24,数组!$B:$C,2,0)&\"#\"&角色升星配方!AN24,\"\")","v":"9#3#17#2"},{"$f":"_xlfn.IFNA(AP24&\"#\"&AQ24&\"#\"&VLOOKUP(AR24,数组!$B:$C,2,0)&\"#\"&角色升星配方!AS24,\"\")","v":""},{"$f":"_xlfn.IFNA(AQ24&\"#\"&AR24&\"#\"&VLOOKUP(AS24,数组!$B:$C,2,0)&\"#\"&角色升星配方!AT24,\"\")","v":""},{"$f":"_xlfn.IFNA(AR24&\"#\"&AS24&\"#\"&VLOOKUP(AT24,数组!$B:$C,2,0)&\"#\"&角色升星配方!AU24,\"\")","v":""},{"$f":"_xlfn.IFNA(AO24&\"#\"&AP24&\"#\"&VLOOKUP(AQ24,数组!$B:$C,2,0)&\"#\"&角色升星配方!AR24,\"\")","v":"10#1#3#2"},{"$f":"_xlfn.IFNA(AT24&\"#\"&AU24&\"#\"&VLOOKUP(AV24,数组!$B:$C,2,0)&\"#\"&角色升星配方!AW24,\"\")","v":""},{"$f":"_xlfn.IFNA(AU24&\"#\"&AV24&\"#\"&VLOOKUP(AW24,数组!$B:$C,2,0)&\"#\"&角色升星配方!AX24,\"\")","v":""},{"$f":"_xlfn.IFNA(AV24&\"#\"&AW24&\"#\"&VLOOKUP(AX24,数组!$B:$C,2,0)&\"#\"&角色升星配方!AY24,\"\")","v":""},{"$f":"_xlfn.IFNA(AS24&\"#\"&AT24&\"#\"&VLOOKUP(AU24,数组!$B:$C,2,0)&\"#\"&角色升星配方!AV24,\"\")","v":"10#2#18#1"},{"$f":"_xlfn.IFNA(AX24&\"#\"&AY24&\"#\"&VLOOKUP(AZ24,数组!$B:$C,2,0)&\"#\"&角色升星配方!BM24,\"\")","v":""},null,null,{"$f":"_xlfn.IFNA(AW24&\"#\"&AX24&\"#\"&VLOOKUP(AY24,数组!$B:$C,2,0)&\"#\"&角色升星配方!AZ24,\"\")","v":"10#3#14#1"},{"$nulls":3},{"$f":"_xlfn.IFNA(BE24&\"#\"&BF24&\"#\"&VLOOKUP(BG24,数组!$B:$C,2,0)&\"#\"&角色升星配方!BH24,\"\")","v":""},{"$nulls":3},{"$f":"_xlfn.IFNA(BI24&\"#\"&BJ24&\"#\"&VLOOKUP(BK24,数组!$B:$C,2,0)&\"#\"&角色升星配方!BL24,\"\")","v":""},{"$f":"[2]!SUMSTRING(BM24:DM24,\"|\")","v":{"$error":"#NAME?"}}]
[2,10024,2,4,5,1,"4星同名",3,5,2,"3星同系",4,5,3,"4星同系",4,{"$nulls":12},6,1,"5星同名",1,6,2,"5星10045",1,6,3,"5星同系",3,{"$nulls":24},{"$f":"_xlfn.IFNA(E25&\"#\"&F25&\"#\"&VLOOKUP(G25,数组!$B:$C,2,0)&\"#\"&角色升星配方!H25,\"\")","v":"5#1#2#3"},{"$f":"_xlfn.IFNA(F25&\"#\"&G25&\"#\"&VLOOKUP(H25,数组!$B:$C,2,0)&\"#\"&角色升星配方!I25,\"\")","v":""},{"$f":"_xlfn.IFNA(G25&\"#\"&H25&\"#\"&VLOOKUP(I25,数组!$B:$C,2,0)&\"#\"&角色升星配方!J25,\"\")","v":""},{"$f":"_xlfn.IFNA(H25&\"#\"&I25&\"#\"&VLOOKUP(J25,数组!$B:$C,2,0)&\"#\"&角色升星配方!K25,\"\")","v":""},{"$f":"_xlfn.IFNA(I25&\"#\"&J25&\"#\"&VLOOKUP(K25,数组!$B:$C,2,0)&\"#\"&角色升星配方!L25,\"\")","v":"5#2#15#4"},{"$f":"_xlfn.IFNA(J25&\"#\"&K25&\"#\"&VLOOKUP(L25,数组!$B:$C,2,0)&\"#\"&角色升星配方!M25,\"\")","v":""},{"$f":"_xlfn.IFNA(K25&\"#\"&L25&\"#\"&VLOOKUP(M25,数组!$B:$C,2,0)&\"#\"&角色升星配方!N25,\"\")","v":""},{"$f":"_xlfn.IFNA(L25&\"#\"&M25&\"#\"&VLOOKUP(N25,数组!$B:$C,2,0)&\"#\"&角色升星配方!O25,\"\")","v":""},{"$f":"_xlfn.IFNA(M25&\"#\"&N25&\"#\"&VLOOKUP(O25,数组!$B:$C,2,0)&\"#\"&角色升星配方!P25,\"\")","v":"5#3#16#4"},{"$f":"_xlfn.IFNA(N25&\"#\"&O25&\"#\"&VLOOKUP(P25,数组!$B:$C,2,0)&\"#\"&角色升星配方!Q25,\"\")","v":""},{"$f":"_xlfn.IFNA(O25&\"#\"&P25&\"#\"&VLOOKUP(Q25,数组!$B:$C,2,0)&\"#\"&角色升星配方!R25,\"\")","v":""},{"$f":"_xlfn.IFNA(P25&\"#\"&Q25&\"#\"&VLOOKUP(R25,数组!$B:$C,2,0)&\"#\"&角色升星配方!S25,\"\")","v":""},{"$f":"_xlfn.IFNA(Q25&\"#\"&R25&\"#\"&VLOOKUP(S25,数组!$B:$C,2,0)&\"#\"&角色升星配方!T25,\"\")","v":""},{"$f":"_xlfn.IFNA(R25&\"#\"&S25&\"#\"&VLOOKUP(T25,数组!$B:$C,2,0)&\"#\"&角色升星配方!U25,\"\")","v":""},{"$f":"_xlfn.IFNA(S25&\"#\"&T25&\"#\"&VLOOKUP(U25,数组!$B:$C,2,0)&\"#\"&角色升星配方!V25,\"\")","v":""},{"$f":"_xlfn.IFNA(T25&\"#\"&U25&\"#\"&VLOOKUP(V25,数组!$B:$C,2,0)&\"#\"&角色升星配方!W25,\"\")","v":""},{"$f":"_xlfn.IFNA(U25&\"#\"&V25&\"#\"&VLOOKUP(W25,数组!$B:$C,2,0)&\"#\"&角色升星配方!X25,\"\")","v":""},{"$f":"_xlfn.IFNA(V25&\"#\"&W25&\"#\"&VLOOKUP(X25,数组!$B:$C,2,0)&\"#\"&角色升星配方!AC25,\"\")","v":""},{"$f":"_xlfn.IFNA(W25&\"#\"&X25&\"#\"&VLOOKUP(AC25,数组!$B:$C,2,0)&\"#\"&角色升星配方!AD25,\"\")","v":""},{"$f":"_xlfn.IFNA(X25&\"#\"&AC25&\"#\"&VLOOKUP(AD25,数组!$B:$C,2,0)&\"#\"&角色升星配方!AE25,\"\")","v":""},{"$f":"_xlfn.IFNA(AC25&\"#\"&AD25&\"#\"&VLOOKUP(AE25,数组!$B:$C,2,0)&\"#\"&角色升星配方!AF25,\"\")","v":"6#1#3#1"},{"$f":"_xlfn.IFNA(AD25&\"#\"&AE25&\"#\"&VLOOKUP(AF25,数组!$B:$C,2,0)&\"#\"&角色升星配方!AG25,\"\")","v":""},{"$f":"_xlfn.IFNA(AE25&\"#\"&AF25&\"#\"&VLOOKUP(AG25,数组!$B:$C,2,0)&\"#\"&角色升星配方!AH25,\"\")","v":""},{"$f":"_xlfn.IFNA(AF25&\"#\"&AG25&\"#\"&VLOOKUP(AH25,数组!$B:$C,2,0)&\"#\"&角色升星配方!AI25,\"\")","v":""},{"$f":"_xlfn.IFNA(AG25&\"#\"&AH25&\"#\"&VLOOKUP(AI25,数组!$B:$C,2,0)&\"#\"&角色升星配方!AJ25,\"\")","v":"6#2#43#1"},{"$f":"_xlfn.IFNA(AH25&\"#\"&AI25&\"#\"&VLOOKUP(AJ25,数组!$B:$C,2,0)&\"#\"&角色升星配方!AK25,\"\")","v":""},{"$f":"_xlfn.IFNA(AI25&\"#\"&AJ25&\"#\"&VLOOKUP(AK25,数组!$B:$C,2,0)&\"#\"&角色升星配方!AL25,\"\")","v":""},{"$f":"_xlfn.IFNA(AJ25&\"#\"&AK25&\"#\"&VLOOKUP(AL25,数组!$B:$C,2,0)&\"#\"&角色升星配方!AM25,\"\")","v":""},{"$f":"_xlfn.IFNA(AK25&\"#\"&AL25&\"#\"&VLOOKUP(AM25,数组!$B:$C,2,0)&\"#\"&角色升星配方!AN25,\"\")","v":"6#3#17#3"},{"$f":"_xlfn.IFNA(AL25&\"#\"&AM25&\"#\"&VLOOKUP(AN25,数组!$B:$C,2,0)&\"#\"&角色升星配方!AO25,\"\")","v":""},{"$f":"_xlfn.IFNA(AM25&\"#\"&AN25&\"#\"&VLOOKUP(AO25,数组!$B:$C,2,0)&\"#\"&角色升星配方!AP25,\"\")","v":""},{"$f":"_xlfn.IFNA(AN25&\"#\"&AO25&\"#\"&VLOOKUP(AP25,数组!$B:$C,2,0)&\"#\"&角色升星配方!AQ25,\"\")","v":""},{"$f":"_xlfn.IFNA(AO25&\"#\"&AP25&\"#\"&VLOOKUP(AQ25,数组!$B:$C,2,0)&\"#\"&角色升星配方!AR25,\"\")","v":""},{"$f":"_xlfn.IFNA(AP25&\"#\"&AQ25&\"#\"&VLOOKUP(AR25,数组!$B:$C,2,0)&\"#\"&角色升星配方!AS25,\"\")","v":""},{"$f":"_xlfn.IFNA(AQ25&\"#\"&AR25&\"#\"&VLOOKUP(AS25,数组!$B:$C,2,0)&\"#\"&角色升星配方!AT25,\"\")","v":""},{"$f":"_xlfn.IFNA(AR25&\"#\"&AS25&\"#\"&VLOOKUP(AT25,数组!$B:$C,2,0)&\"#\"&角色升星配方!AU25,\"\")","v":""},{"$f":"_xlfn.IFNA(AS25&\"#\"&AT25&\"#\"&VLOOKUP(AU25,数组!$B:$C,2,0)&\"#\"&角色升星配方!AV25,\"\")","v":""},{"$f":"_xlfn.IFNA(AT25&\"#\"&AU25&\"#\"&VLOOKUP(AV25,数组!$B:$C,2,0)&\"#\"&角色升星配方!AW25,\"\")","v":""},{"$f":"_xlfn.IFNA(AU25&\"#\"&AV25&\"#\"&VLOOKUP(AW25,数组!$B:$C,2,0)&\"#\"&角色升星配方!AX25,\"\")","v":""},{"$f":"_xlfn.IFNA(AV25&\"#\"&AW25&\"#\"&VLOOKUP(AX25,数组!$B:$C,2,0)&\"#\"&角色升星配方!AY25,\"\")","v":""},{"$f":"_xlfn.IFNA(AW25&\"#\"&AX25&\"#\"&VLOOKUP(AY25,数组!$B:$C,2,0)&\"#\"&角色升星配方!AZ25,\"\")","v":""},{"$f":"_xlfn.IFNA(AX25&\"#\"&AY25&\"#\"&VLOOKUP(AZ25,数组!$B:$C,2,0)&\"#\"&角色升星配方!BM25,\"\")","v":""},null,null,{"$f":"_xlfn.IFNA(BA25&\"#\"&BB25&\"#\"&VLOOKUP(BC25,数组!$B:$C,2,0)&\"#\"&角色升星配方!BD25,\"\")","v":""},{"$nulls":3},{"$f":"_xlfn.IFNA(BE25&\"#\"&BF25&\"#\"&VLOOKUP(BG25,数组!$B:$C,2,0)&\"#\"&角色升星配方!BH25,\"\")","v":""},{"$nulls":3},{"$f":"_xlfn.IFNA(BI25&\"#\"&BJ25&\"#\"&VLOOKUP(BK25,数组!$B:$C,2,0)&\"#\"&角色升星配方!BL25,\"\")","v":""},{"$f":"[2]!SUMSTRING(BM25:DM25,\"|\")","v":{"$error":"#NAME?"}}]
[1,10025,1,4,5,1,"4星同名",3,5,2,"3星同系",4,5,3,"4星同系",4,{"$nulls":12},6,1,"5星同名",1,6,2,"5星10041",1,6,3,"5星同系",3,{"$nulls":24},{"$f":"_xlfn.IFNA(E26&\"#\"&F26&\"#\"&VLOOKUP(G26,数组!$B:$C,2,0)&\"#\"&角色升星配方!H26,\"\")","v":"5#1#2#3"},{"$f":"_xlfn.IFNA(F26&\"#\"&G26&\"#\"&VLOOKUP(H26,数组!$B:$C,2,0)&\"#\"&角色升星配方!I26,\"\")","v":""},{"$f":"_xlfn.IFNA(G26&\"#\"&H26&\"#\"&VLOOKUP(I26,数组!$B:$C,2,0)&\"#\"&角色升星配方!J26,\"\")","v":""},{"$f":"_xlfn.IFNA(H26&\"#\"&I26&\"#\"&VLOOKUP(J26,数组!$B:$C,2,0)&\"#\"&角色升星配方!K26,\"\")","v":""},{"$f":"_xlfn.IFNA(I26&\"#\"&J26&\"#\"&VLOOKUP(K26,数组!$B:$C,2,0)&\"#\"&角色升星配方!L26,\"\")","v":"5#2#15#4"},{"$f":"_xlfn.IFNA(J26&\"#\"&K26&\"#\"&VLOOKUP(L26,数组!$B:$C,2,0)&\"#\"&角色升星配方!M26,\"\")","v":""},{"$f":"_xlfn.IFNA(K26&\"#\"&L26&\"#\"&VLOOKUP(M26,数组!$B:$C,2,0)&\"#\"&角色升星配方!N26,\"\")","v":""},{"$f":"_xlfn.IFNA(L26&\"#\"&M26&\"#\"&VLOOKUP(N26,数组!$B:$C,2,0)&\"#\"&角色升星配方!O26,\"\")","v":""},{"$f":"_xlfn.IFNA(M26&\"#\"&N26&\"#\"&VLOOKUP(O26,数组!$B:$C,2,0)&\"#\"&角色升星配方!P26,\"\")","v":"5#3#16#4"},{"$f":"_xlfn.IFNA(N26&\"#\"&O26&\"#\"&VLOOKUP(P26,数组!$B:$C,2,0)&\"#\"&角色升星配方!Q26,\"\")","v":""},{"$f":"_xlfn.IFNA(O26&\"#\"&P26&\"#\"&VLOOKUP(Q26,数组!$B:$C,2,0)&\"#\"&角色升星配方!R26,\"\")","v":""},{"$f":"_xlfn.IFNA(P26&\"#\"&Q26&\"#\"&VLOOKUP(R26,数组!$B:$C,2,0)&\"#\"&角色升星配方!S26,\"\")","v":""},{"$f":"_xlfn.IFNA(Q26&\"#\"&R26&\"#\"&VLOOKUP(S26,数组!$B:$C,2,0)&\"#\"&角色升星配方!T26,\"\")","v":""},{"$f":"_xlfn.IFNA(R26&\"#\"&S26&\"#\"&VLOOKUP(T26,数组!$B:$C,2,0)&\"#\"&角色升星配方!U26,\"\")","v":""},{"$f":"_xlfn.IFNA(S26&\"#\"&T26&\"#\"&VLOOKUP(U26,数组!$B:$C,2,0)&\"#\"&角色升星配方!V26,\"\")","v":""},{"$f":"_xlfn.IFNA(T26&\"#\"&U26&\"#\"&VLOOKUP(V26,数组!$B:$C,2,0)&\"#\"&角色升星配方!W26,\"\")","v":""},{"$f":"_xlfn.IFNA(U26&\"#\"&V26&\"#\"&VLOOKUP(W26,数组!$B:$C,2,0)&\"#\"&角色升星配方!X26,\"\")","v":""},{"$f":"_xlfn.IFNA(V26&\"#\"&W26&\"#\"&VLOOKUP(X26,数组!$B:$C,2,0)&\"#\"&角色升星配方!AC26,\"\")","v":""},{"$f":"_xlfn.IFNA(W26&\"#\"&X26&\"#\"&VLOOKUP(AC26,数组!$B:$C,2,0)&\"#\"&角色升星配方!AD26,\"\")","v":""},{"$f":"_xlfn.IFNA(X26&\"#\"&AC26&\"#\"&VLOOKUP(AD26,数组!$B:$C,2,0)&\"#\"&角色升星配方!AE26,\"\")","v":""},{"$f":"_xlfn.IFNA(AC26&\"#\"&AD26&\"#\"&VLOOKUP(AE26,数组!$B:$C,2,0)&\"#\"&角色升星配方!AF26,\"\")","v":"6#1#3#1"},{"$f":"_xlfn.IFNA(AD26&\"#\"&AE26&\"#\"&VLOOKUP(AF26,数组!$B:$C,2,0)&\"#\"&角色升星配方!AG26,\"\")","v":""},{"$f":"_xlfn.IFNA(AE26&\"#\"&AF26&\"#\"&VLOOKUP(AG26,数组!$B:$C,2,0)&\"#\"&角色升星配方!AH26,\"\")","v":""},{"$f":"_xlfn.IFNA(AF26&\"#\"&AG26&\"#\"&VLOOKUP(AH26,数组!$B:$C,2,0)&\"#\"&角色升星配方!AI26,\"\")","v":""},{"$f":"_xlfn.IFNA(AG26&\"#\"&AH26&\"#\"&VLOOKUP(AI26,数组!$B:$C,2,0)&\"#\"&角色升星配方!AJ26,\"\")","v":"6#2#39#1"},{"$f":"_xlfn.IFNA(AH26&\"#\"&AI26&\"#\"&VLOOKUP(AJ26,数组!$B:$C,2,0)&\"#\"&角色升星配方!AK26,\"\")","v":""},{"$f":"_xlfn.IFNA(AI26&\"#\"&AJ26&\"#\"&VLOOKUP(AK26,数组!$B:$C,2,0)&\"#\"&角色升星配方!AL26,\"\")","v":""},{"$f":"_xlfn.IFNA(AJ26&\"#\"&AK26&\"#\"&VLOOKUP(AL26,数组!$B:$C,2,0)&\"#\"&角色升星配方!AM26,\"\")","v":""},{"$f":"_xlfn.IFNA(AK26&\"#\"&AL26&\"#\"&VLOOKUP(AM26,数组!$B:$C,2,0)&\"#\"&角色升星配方!AN26,\"\")","v":"6#3#17#3"},{"$f":"_xlfn.IFNA(AL26&\"#\"&AM26&\"#\"&VLOOKUP(AN26,数组!$B:$C,2,0)&\"#\"&角色升星配方!AO26,\"\")","v":""},{"$f":"_xlfn.IFNA(AM26&\"#\"&AN26&\"#\"&VLOOKUP(AO26,数组!$B:$C,2,0)&\"#\"&角色升星配方!AP26,\"\")","v":""},{"$f":"_xlfn.IFNA(AN26&\"#\"&AO26&\"#\"&VLOOKUP(AP26,数组!$B:$C,2,0)&\"#\"&角色升星配方!AQ26,\"\")","v":""},{"$f":"_xlfn.IFNA(AO26&\"#\"&AP26&\"#\"&VLOOKUP(AQ26,数组!$B:$C,2,0)&\"#\"&角色升星配方!AR26,\"\")","v":""},{"$f":"_xlfn.IFNA(AP26&\"#\"&AQ26&\"#\"&VLOOKUP(AR26,数组!$B:$C,2,0)&\"#\"&角色升星配方!AS26,\"\")","v":""},{"$f":"_xlfn.IFNA(AQ26&\"#\"&AR26&\"#\"&VLOOKUP(AS26,数组!$B:$C,2,0)&\"#\"&角色升星配方!AT26,\"\")","v":""},{"$f":"_xlfn.IFNA(AR26&\"#\"&AS26&\"#\"&VLOOKUP(AT26,数组!$B:$C,2,0)&\"#\"&角色升星配方!AU26,\"\")","v":""},{"$f":"_xlfn.IFNA(AS26&\"#\"&AT26&\"#\"&VLOOKUP(AU26,数组!$B:$C,2,0)&\"#\"&角色升星配方!AV26,\"\")","v":""},{"$f":"_xlfn.IFNA(AT26&\"#\"&AU26&\"#\"&VLOOKUP(AV26,数组!$B:$C,2,0)&\"#\"&角色升星配方!AW26,\"\")","v":""},{"$f":"_xlfn.IFNA(AU26&\"#\"&AV26&\"#\"&VLOOKUP(AW26,数组!$B:$C,2,0)&\"#\"&角色升星配方!AX26,\"\")","v":""},{"$f":"_xlfn.IFNA(AV26&\"#\"&AW26&\"#\"&VLOOKUP(AX26,数组!$B:$C,2,0)&\"#\"&角色升星配方!AY26,\"\")","v":""},{"$f":"_xlfn.IFNA(AW26&\"#\"&AX26&\"#\"&VLOOKUP(AY26,数组!$B:$C,2,0)&\"#\"&角色升星配方!AZ26,\"\")","v":""},{"$f":"_xlfn.IFNA(AX26&\"#\"&AY26&\"#\"&VLOOKUP(AZ26,数组!$B:$C,2,0)&\"#\"&角色升星配方!BM26,\"\")","v":""},null,null,{"$f":"_xlfn.IFNA(BA26&\"#\"&BB26&\"#\"&VLOOKUP(BC26,数组!$B:$C,2,0)&\"#\"&角色升星配方!BD26,\"\")","v":""},{"$nulls":3},{"$f":"_xlfn.IFNA(BE26&\"#\"&BF26&\"#\"&VLOOKUP(BG26,数组!$B:$C,2,0)&\"#\"&角色升星配方!BH26,\"\")","v":""},{"$nulls":3},{"$f":"_xlfn.IFNA(BI26&\"#\"&BJ26&\"#\"&VLOOKUP(BK26,数组!$B:$C,2,0)&\"#\"&角色升星配方!BL26,\"\")","v":""},{"$f":"[2]!SUMSTRING(BM26:DM26,\"|\")","v":{"$error":"#NAME?"}}]
[5,10026,5,4,5,1,"4星同名",3,5,2,"3星同系",4,5,3,"4星同系",4,{"$nulls":12},6,1,"5星同名",1,6,2,"5星10046",1,6,3,"5星同系",3,7,1,"5星同系",4,8,1,"5星同系",3,8,2,"6星同系",1,9,1,"5星同名",1,9,2,"6星同系",1,9,3,"5星同系",2,{"$f":"_xlfn.IFNA(E27&\"#\"&F27&\"#\"&VLOOKUP(G27,数组!$B:$C,2,0)&\"#\"&角色升星配方!H27,\"\")","v":"5#1#2#3"},{"$f":"_xlfn.IFNA(F27&\"#\"&G27&\"#\"&VLOOKUP(H27,数组!$B:$C,2,0)&\"#\"&角色升星配方!I27,\"\")","v":""},{"$f":"_xlfn.IFNA(G27&\"#\"&H27&\"#\"&VLOOKUP(I27,数组!$B:$C,2,0)&\"#\"&角色升星配方!J27,\"\")","v":""},{"$f":"_xlfn.IFNA(H27&\"#\"&I27&\"#\"&VLOOKUP(J27,数组!$B:$C,2,0)&\"#\"&角色升星配方!K27,\"\")","v":""},{"$f":"_xlfn.IFNA(I27&\"#\"&J27&\"#\"&VLOOKUP(K27,数组!$B:$C,2,0)&\"#\"&角色升星配方!L27,\"\")","v":"5#2#15#4"},{"$f":"_xlfn.IFNA(J27&\"#\"&K27&\"#\"&VLOOKUP(L27,数组!$B:$C,2,0)&\"#\"&角色升星配方!M27,\"\")","v":""},{"$f":"_xlfn.IFNA(K27&\"#\"&L27&\"#\"&VLOOKUP(M27,数组!$B:$C,2,0)&\"#\"&角色升星配方!N27,\"\")","v":""},{"$f":"_xlfn.IFNA(L27&\"#\"&M27&\"#\"&VLOOKUP(N27,数组!$B:$C,2,0)&\"#\"&角色升星配方!O27,\"\")","v":""},{"$f":"_xlfn.IFNA(M27&\"#\"&N27&\"#\"&VLOOKUP(O27,数组!$B:$C,2,0)&\"#\"&角色升星配方!P27,\"\")","v":"5#3#16#4"},{"$f":"_xlfn.IFNA(N27&\"#\"&O27&\"#\"&VLOOKUP(P27,数组!$B:$C,2,0)&\"#\"&角色升星配方!Q27,\"\")","v":""},{"$f":"_xlfn.IFNA(O27&\"#\"&P27&\"#\"&VLOOKUP(Q27,数组!$B:$C,2,0)&\"#\"&角色升星配方!R27,\"\")","v":""},{"$f":"_xlfn.IFNA(P27&\"#\"&Q27&\"#\"&VLOOKUP(R27,数组!$B:$C,2,0)&\"#\"&角色升星配方!S27,\"\")","v":""},{"$f":"_xlfn.IFNA(Q27&\"#\"&R27&\"#\"&VLOOKUP(S27,数组!$B:$C,2,0)&\"#\"&角色升星配方!T27,\"\")","v":""},{"$f":"_xlfn.IFNA(R27&\"#\"&S27&\"#\"&VLOOKUP(T27,数组!$B:$C,2,0)&\"#\"&角色升星配方!U27,\"\")","v":""},{"$f":"_xlfn.IFNA(S27&\"#\"&T27&\"#\"&VLOOKUP(U27,数组!$B:$C,2,0)&\"#\"&角色升星配方!V27,\"\")","v":""},{"$f":"_xlfn.IFNA(T27&\"#\"&U27&\"#\"&VLOOKUP(V27,数组!$B:$C,2,0)&\"#\"&角色升星配方!W27,\"\")","v":""},{"$f":"_xlfn.IFNA(U27&\"#\"&V27&\"#\"&VLOOKUP(W27,数组!$B:$C,2,0)&\"#\"&角色升星配方!X27,\"\")","v":""},{"$f":"_xlfn.IFNA(V27&\"#\"&W27&\"#\"&VLOOKUP(X27,数组!$B:$C,2,0)&\"#\"&角色升星配方!AC27,\"\")","v":""},{"$f":"_xlfn.IFNA(W27&\"#\"&X27&\"#\"&VLOOKUP(AC27,数组!$B:$C,2,0)&\"#\"&角色升星配方!AD27,\"\")","v":""},{"$f":"_xlfn.IFNA(X27&\"#\"&AC27&\"#\"&VLOOKUP(AD27,数组!$B:$C,2,0)&\"#\"&角色升星配方!AE27,\"\")","v":""},{"$f":"_xlfn.IFNA(AC27&\"#\"&AD27&\"#\"&VLOOKUP(AE27,数组!$B:$C,2,0)&\"#\"&角色升星配方!AF27,\"\")","v":"6#1#3#1"},{"$f":"_xlfn.IFNA(AD27&\"#\"&AE27&\"#\"&VLOOKUP(AF27,数组!$B:$C,2,0)&\"#\"&角色升星配方!AG27,\"\")","v":""},{"$f":"_xlfn.IFNA(AE27&\"#\"&AF27&\"#\"&VLOOKUP(AG27,数组!$B:$C,2,0)&\"#\"&角色升星配方!AH27,\"\")","v":""},{"$f":"_xlfn.IFNA(AF27&\"#\"&AG27&\"#\"&VLOOKUP(AH27,数组!$B:$C,2,0)&\"#\"&角色升星配方!AI27,\"\")","v":""},{"$f":"_xlfn.IFNA(AG27&\"#\"&AH27&\"#\"&VLOOKUP(AI27,数组!$B:$C,2,0)&\"#\"&角色升星配方!AJ27,\"\")","v":"6#2#44#1"},{"$f":"_xlfn.IFNA(AH27&\"#\"&AI27&\"#\"&VLOOKUP(AJ27,数组!$B:$C,2,0)&\"#\"&角色升星配方!AK27,\"\")","v":""},{"$f":"_xlfn.IFNA(AI27&\"#\"&AJ27&\"#\"&VLOOKUP(AK27,数组!$B:$C,2,0)&\"#\"&角色升星配方!AL27,\"\")","v":""},{"$f":"_xlfn.IFNA(AJ27&\"#\"&AK27&\"#\"&VLOOKUP(AL27,数组!$B:$C,2,0)&\"#\"&角色升星配方!AM27,\"\")","v":""},{"$f":"_xlfn.IFNA(AK27&\"#\"&AL27&\"#\"&VLOOKUP(AM27,数组!$B:$C,2,0)&\"#\"&角色升星配方!AN27,\"\")","v":"6#3#17#3"},{"$f":"_xlfn.IFNA(AL27&\"#\"&AM27&\"#\"&VLOOKUP(AN27,数组!$B:$C,2,0)&\"#\"&角色升星配方!AO27,\"\")","v":""},{"$f":"_xlfn.IFNA(AM27&\"#\"&AN27&\"#\"&VLOOKUP(AO27,数组!$B:$C,2,0)&\"#\"&角色升星配方!AP27,\"\")","v":""},{"$f":"_xlfn.IFNA(AN27&\"#\"&AO27&\"#\"&VLOOKUP(AP27,数组!$B:$C,2,0)&\"#\"&角色升星配方!AQ27,\"\")","v":""},{"$f":"_xlfn.IFNA(AO27&\"#\"&AP27&\"#\"&VLOOKUP(AQ27,数组!$B:$C,2,0)&\"#\"&角色升星配方!AR27,\"\")","v":"7#1#17#4"},{"$f":"_xlfn.IFNA(AP27&\"#\"&AQ27&\"#\"&VLOOKUP(AR27,数组!$B:$C,2,0)&\"#\"&角色升星配方!AS27,\"\")","v":""},{"$f":"_xlfn.IFNA(AQ27&\"#\"&AR27&\"#\"&VLOOKUP(AS27,数组!$B:$C,2,0)&\"#\"&角色升星配方!AT27,\"\")","v":""},{"$f":"_xlfn.IFNA(AR27&\"#\"&AS27&\"#\"&VLOOKUP(AT27,数组!$B:$C,2,0)&\"#\"&角色升星配方!AU27,\"\")","v":""},{"$f":"_xlfn.IFNA(AS27&\"#\"&AT27&\"#\"&VLOOKUP(AU27,数组!$B:$C,2,0)&\"#\"&角色升星配方!AV27,\"\")","v":"8#1#17#3"},{"$f":"_xlfn.IFNA(AT27&\"#\"&AU27&\"#\"&VLOOKUP(AV27,数组!$B:$C,2,0)&\"#\"&角色升星配方!AW27,\"\")","v":""},{"$f":"_xlfn.IFNA(AU27&\"#\"&AV27&\"#\"&VLOOKUP(AW27,数组!$B:$C,2,0)&\"#\"&角色升星配方!AX27,\"\")","v":""},{"$f":"_xlfn.IFNA(AV27&\"#\"&AW27&\"#\"&VLOOKUP(AX27,数组!$B:$C,2,0)&\"#\"&角色升星配方!AY27,\"\")","v":""},{"$f":"_xlfn.IFNA(AW27&\"#\"&AX27&\"#\"&VLOOKUP(AY27,数组!$B:$C,2,0)&\"#\"&角色升星配方!AZ27,\"\")","v":"8#2#18#1"},{"$f":"_xlfn.IFNA(AX27&\"#\"&AY27&\"#\"&VLOOKUP(AZ27,数组!$B:$C,2,0)&\"#\"&角色升星配方!BM27,\"\")","v":""},null,null,{"$f":"_xlfn.IFNA(BA27&\"#\"&BB27&\"#\"&VLOOKUP(BC27,数组!$B:$C,2,0)&\"#\"&角色升星配方!BD27,\"\")","v":"9#1#3#1"},{"$nulls":3},{"$f":"_xlfn.IFNA(BE27&\"#\"&BF27&\"#\"&VLOOKUP(BG27,数组!$B:$C,2,0)&\"#\"&角色升星配方!BH27,\"\")","v":"9#2#18#1"},{"$nulls":3},{"$f":"_xlfn.IFNA(BI27&\"#\"&BJ27&\"#\"&VLOOKUP(BK27,数组!$B:$C,2,0)&\"#\"&角色升星配方!BL27,\"\")","v":"9#3#17#2"},{"$f":"[2]!SUMSTRING(BM27:DM27,\"|\")","v":{"$error":"#NAME?"}}]
[5,10027,5,4,5,1,"4星同名",3,5,2,"3星同系",4,5,3,"4星同系",4,{"$nulls":12},6,1,"5星同名",1,6,2,"5星10026",1,6,3,"5星同系",3,7,1,"5星同系",4,8,1,"5星同系",3,8,2,"6星同系",1,9,1,"5星同名",1,9,2,"6星同系",1,9,3,"5星同系",2,{"$f":"_xlfn.IFNA(E28&\"#\"&F28&\"#\"&VLOOKUP(G28,数组!$B:$C,2,0)&\"#\"&角色升星配方!H28,\"\")","v":"5#1#2#3"},{"$f":"_xlfn.IFNA(F28&\"#\"&G28&\"#\"&VLOOKUP(H28,数组!$B:$C,2,0)&\"#\"&角色升星配方!I28,\"\")","v":""},{"$f":"_xlfn.IFNA(G28&\"#\"&H28&\"#\"&VLOOKUP(I28,数组!$B:$C,2,0)&\"#\"&角色升星配方!J28,\"\")","v":""},{"$f":"_xlfn.IFNA(H28&\"#\"&I28&\"#\"&VLOOKUP(J28,数组!$B:$C,2,0)&\"#\"&角色升星配方!K28,\"\")","v":""},{"$f":"_xlfn.IFNA(I28&\"#\"&J28&\"#\"&VLOOKUP(K28,数组!$B:$C,2,0)&\"#\"&角色升星配方!L28,\"\")","v":"5#2#15#4"},{"$f":"_xlfn.IFNA(J28&\"#\"&K28&\"#\"&VLOOKUP(L28,数组!$B:$C,2,0)&\"#\"&角色升星配方!M28,\"\")","v":""},{"$f":"_xlfn.IFNA(K28&\"#\"&L28&\"#\"&VLOOKUP(M28,数组!$B:$C,2,0)&\"#\"&角色升星配方!N28,\"\")","v":""},{"$f":"_xlfn.IFNA(L28&\"#\"&M28&\"#\"&VLOOKUP(N28,数组!$B:$C,2,0)&\"#\"&角色升星配方!O28,\"\")","v":""},{"$f":"_xlfn.IFNA(M28&\"#\"&N28&\"#\"&VLOOKUP(O28,数组!$B:$C,2,0)&\"#\"&角色升星配方!P28,\"\")","v":"5#3#16#4"},{"$f":"_xlfn.IFNA(N28&\"#\"&O28&\"#\"&VLOOKUP(P28,数组!$B:$C,2,0)&\"#\"&角色升星配方!Q28,\"\")","v":""},{"$f":"_xlfn.IFNA(O28&\"#\"&P28&\"#\"&VLOOKUP(Q28,数组!$B:$C,2,0)&\"#\"&角色升星配方!R28,\"\")","v":""},{"$f":"_xlfn.IFNA(P28&\"#\"&Q28&\"#\"&VLOOKUP(R28,数组!$B:$C,2,0)&\"#\"&角色升星配方!S28,\"\")","v":""},{"$f":"_xlfn.IFNA(Q28&\"#\"&R28&\"#\"&VLOOKUP(S28,数组!$B:$C,2,0)&\"#\"&角色升星配方!T28,\"\")","v":""},{"$f":"_xlfn.IFNA(R28&\"#\"&S28&\"#\"&VLOOKUP(T28,数组!$B:$C,2,0)&\"#\"&角色升星配方!U28,\"\")","v":""},{"$f":"_xlfn.IFNA(S28&\"#\"&T28&\"#\"&VLOOKUP(U28,数组!$B:$C,2,0)&\"#\"&角色升星配方!V28,\"\")","v":""},{"$f":"_xlfn.IFNA(T28&\"#\"&U28&\"#\"&VLOOKUP(V28,数组!$B:$C,2,0)&\"#\"&角色升星配方!W28,\"\")","v":""},{"$f":"_xlfn.IFNA(U28&\"#\"&V28&\"#\"&VLOOKUP(W28,数组!$B:$C,2,0)&\"#\"&角色升星配方!X28,\"\")","v":""},{"$f":"_xlfn.IFNA(V28&\"#\"&W28&\"#\"&VLOOKUP(X28,数组!$B:$C,2,0)&\"#\"&角色升星配方!AC28,\"\")","v":""},{"$f":"_xlfn.IFNA(W28&\"#\"&X28&\"#\"&VLOOKUP(AC28,数组!$B:$C,2,0)&\"#\"&角色升星配方!AD28,\"\")","v":""},{"$f":"_xlfn.IFNA(X28&\"#\"&AC28&\"#\"&VLOOKUP(AD28,数组!$B:$C,2,0)&\"#\"&角色升星配方!AE28,\"\")","v":""},{"$f":"_xlfn.IFNA(AC28&\"#\"&AD28&\"#\"&VLOOKUP(AE28,数组!$B:$C,2,0)&\"#\"&角色升星配方!AF28,\"\")","v":"6#1#3#1"},{"$f":"_xlfn.IFNA(AD28&\"#\"&AE28&\"#\"&VLOOKUP(AF28,数组!$B:$C,2,0)&\"#\"&角色升星配方!AG28,\"\")","v":""},{"$f":"_xlfn.IFNA(AE28&\"#\"&AF28&\"#\"&VLOOKUP(AG28,数组!$B:$C,2,0)&\"#\"&角色升星配方!AH28,\"\")","v":""},{"$f":"_xlfn.IFNA(AF28&\"#\"&AG28&\"#\"&VLOOKUP(AH28,数组!$B:$C,2,0)&\"#\"&角色升星配方!AI28,\"\")","v":""},{"$f":"_xlfn.IFNA(AG28&\"#\"&AH28&\"#\"&VLOOKUP(AI28,数组!$B:$C,2,0)&\"#\"&角色升星配方!AJ28,\"\")","v":"6#2#24#1"},{"$f":"_xlfn.IFNA(AH28&\"#\"&AI28&\"#\"&VLOOKUP(AJ28,数组!$B:$C,2,0)&\"#\"&角色升星配方!AK28,\"\")","v":""},{"$f":"_xlfn.IFNA(AI28&\"#\"&AJ28&\"#\"&VLOOKUP(AK28,数组!$B:$C,2,0)&\"#\"&角色升星配方!AL28,\"\")","v":""},{"$f":"_xlfn.IFNA(AJ28&\"#\"&AK28&\"#\"&VLOOKUP(AL28,数组!$B:$C,2,0)&\"#\"&角色升星配方!AM28,\"\")","v":""},{"$f":"_xlfn.IFNA(AK28&\"#\"&AL28&\"#\"&VLOOKUP(AM28,数组!$B:$C,2,0)&\"#\"&角色升星配方!AN28,\"\")","v":"6#3#17#3"},{"$f":"_xlfn.IFNA(AL28&\"#\"&AM28&\"#\"&VLOOKUP(AN28,数组!$B:$C,2,0)&\"#\"&角色升星配方!AO28,\"\")","v":""},{"$f":"_xlfn.IFNA(AM28&\"#\"&AN28&\"#\"&VLOOKUP(AO28,数组!$B:$C,2,0)&\"#\"&角色升星配方!AP28,\"\")","v":""},{"$f":"_xlfn.IFNA(AN28&\"#\"&AO28&\"#\"&VLOOKUP(AP28,数组!$B:$C,2,0)&\"#\"&角色升星配方!AQ28,\"\")","v":""},{"$f":"_xlfn.IFNA(AO28&\"#\"&AP28&\"#\"&VLOOKUP(AQ28,数组!$B:$C,2,0)&\"#\"&角色升星配方!AR28,\"\")","v":"7#1#17#4"},{"$f":"_xlfn.IFNA(AP28&\"#\"&AQ28&\"#\"&VLOOKUP(AR28,数组!$B:$C,2,0)&\"#\"&角色升星配方!AS28,\"\")","v":""},{"$f":"_xlfn.IFNA(AQ28&\"#\"&AR28&\"#\"&VLOOKUP(AS28,数组!$B:$C,2,0)&\"#\"&角色升星配方!AT28,\"\")","v":""},{"$f":"_xlfn.IFNA(AR28&\"#\"&AS28&\"#\"&VLOOKUP(AT28,数组!$B:$C,2,0)&\"#\"&角色升星配方!AU28,\"\")","v":""},{"$f":"_xlfn.IFNA(AS28&\"#\"&AT28&\"#\"&VLOOKUP(AU28,数组!$B:$C,2,0)&\"#\"&角色升星配方!AV28,\"\")","v":"8#1#17#3"},{"$f":"_xlfn.IFNA(AT28&\"#\"&AU28&\"#\"&VLOOKUP(AV28,数组!$B:$C,2,0)&\"#\"&角色升星配方!AW28,\"\")","v":""},{"$f":"_xlfn.IFNA(AU28&\"#\"&AV28&\"#\"&VLOOKUP(AW28,数组!$B:$C,2,0)&\"#\"&角色升星配方!AX28,\"\")","v":""},{"$f":"_xlfn.IFNA(AV28&\"#\"&AW28&\"#\"&VLOOKUP(AX28,数组!$B:$C,2,0)&\"#\"&角色升星配方!AY28,\"\")","v":""},{"$f":"_xlfn.IFNA(AW28&\"#\"&AX28&\"#\"&VLOOKUP(AY28,数组!$B:$C,2,0)&\"#\"&角色升星配方!AZ28,\"\")","v":"8#2#18#1"},{"$f":"_xlfn.IFNA(AX28&\"#\"&AY28&\"#\"&VLOOKUP(AZ28,数组!$B:$C,2,0)&\"#\"&角色升星配方!BM28,\"\")","v":""},null,null,{"$f":"_xlfn.IFNA(BA28&\"#\"&BB28&\"#\"&VLOOKUP(BC28,数组!$B:$C,2,0)&\"#\"&角色升星配方!BD28,\"\")","v":"9#1#3#1"},{"$nulls":3},{"$f":"_xlfn.IFNA(BE28&\"#\"&BF28&\"#\"&VLOOKUP(BG28,数组!$B:$C,2,0)&\"#\"&角色升星配方!BH28,\"\")","v":"9#2#18#1"},{"$nulls":3},{"$f":"_xlfn.IFNA(BI28&\"#\"&BJ28&\"#\"&VLOOKUP(BK28,数组!$B:$C,2,0)&\"#\"&角色升星配方!BL28,\"\")","v":"9#3#17#2"},{"$f":"[2]!SUMSTRING(BM28:DM28,\"|\")","v":{"$error":"#NAME?"}}]
[5,10028,5,4,5,1,"4星同名",3,5,2,"3星同系",4,5,3,"4星同系",4,{"$nulls":12},6,1,"5星同名",1,6,2,"5星10027",1,6,3,"5星同系",3,7,1,"5星同系",4,8,1,"5星同系",3,8,2,"6星同系",1,9,1,"5星同名",1,9,2,"6星同系",1,9,3,"5星同系",2,{"$f":"_xlfn.IFNA(E29&\"#\"&F29&\"#\"&VLOOKUP(G29,数组!$B:$C,2,0)&\"#\"&角色升星配方!H29,\"\")","v":"5#1#2#3"},{"$f":"_xlfn.IFNA(F29&\"#\"&G29&\"#\"&VLOOKUP(H29,数组!$B:$C,2,0)&\"#\"&角色升星配方!I29,\"\")","v":""},{"$f":"_xlfn.IFNA(G29&\"#\"&H29&\"#\"&VLOOKUP(I29,数组!$B:$C,2,0)&\"#\"&角色升星配方!J29,\"\")","v":""},{"$f":"_xlfn.IFNA(H29&\"#\"&I29&\"#\"&VLOOKUP(J29,数组!$B:$C,2,0)&\"#\"&角色升星配方!K29,\"\")","v":""},{"$f":"_xlfn.IFNA(I29&\"#\"&J29&\"#\"&VLOOKUP(K29,数组!$B:$C,2,0)&\"#\"&角色升星配方!L29,\"\")","v":"5#2#15#4"},{"$f":"_xlfn.IFNA(J29&\"#\"&K29&\"#\"&VLOOKUP(L29,数组!$B:$C,2,0)&\"#\"&角色升星配方!M29,\"\")","v":""},{"$f":"_xlfn.IFNA(K29&\"#\"&L29&\"#\"&VLOOKUP(M29,数组!$B:$C,2,0)&\"#\"&角色升星配方!N29,\"\")","v":""},{"$f":"_xlfn.IFNA(L29&\"#\"&M29&\"#\"&VLOOKUP(N29,数组!$B:$C,2,0)&\"#\"&角色升星配方!O29,\"\")","v":""},{"$f":"_xlfn.IFNA(M29&\"#\"&N29&\"#\"&VLOOKUP(O29,数组!$B:$C,2,0)&\"#\"&角色升星配方!P29,\"\")","v":"5#3#16#4"},{"$f":"_xlfn.IFNA(N29&\"#\"&O29&\"#\"&VLOOKUP(P29,数组!$B:$C,2,0)&\"#\"&角色升星配方!Q29,\"\")","v":""},{"$f":"_xlfn.IFNA(O29&\"#\"&P29&\"#\"&VLOOKUP(Q29,数组!$B:$C,2,0)&\"#\"&角色升星配方!R29,\"\")","v":""},{"$f":"_xlfn.IFNA(P29&\"#\"&Q29&\"#\"&VLOOKUP(R29,数组!$B:$C,2,0)&\"#\"&角色升星配方!S29,\"\")","v":""},{"$f":"_xlfn.IFNA(Q29&\"#\"&R29&\"#\"&VLOOKUP(S29,数组!$B:$C,2,0)&\"#\"&角色升星配方!T29,\"\")","v":""},{"$f":"_xlfn.IFNA(R29&\"#\"&S29&\"#\"&VLOOKUP(T29,数组!$B:$C,2,0)&\"#\"&角色升星配方!U29,\"\")","v":""},{"$f":"_xlfn.IFNA(S29&\"#\"&T29&\"#\"&VLOOKUP(U29,数组!$B:$C,2,0)&\"#\"&角色升星配方!V29,\"\")","v":""},{"$f":"_xlfn.IFNA(T29&\"#\"&U29&\"#\"&VLOOKUP(V29,数组!$B:$C,2,0)&\"#\"&角色升星配方!W29,\"\")","v":""},{"$f":"_xlfn.IFNA(U29&\"#\"&V29&\"#\"&VLOOKUP(W29,数组!$B:$C,2,0)&\"#\"&角色升星配方!X29,\"\")","v":""},{"$f":"_xlfn.IFNA(V29&\"#\"&W29&\"#\"&VLOOKUP(X29,数组!$B:$C,2,0)&\"#\"&角色升星配方!AC29,\"\")","v":""},{"$f":"_xlfn.IFNA(W29&\"#\"&X29&\"#\"&VLOOKUP(AC29,数组!$B:$C,2,0)&\"#\"&角色升星配方!AD29,\"\")","v":""},{"$f":"_xlfn.IFNA(X29&\"#\"&AC29&\"#\"&VLOOKUP(AD29,数组!$B:$C,2,0)&\"#\"&角色升星配方!AE29,\"\")","v":""},{"$f":"_xlfn.IFNA(AC29&\"#\"&AD29&\"#\"&VLOOKUP(AE29,数组!$B:$C,2,0)&\"#\"&角色升星配方!AF29,\"\")","v":"6#1#3#1"},{"$f":"_xlfn.IFNA(AD29&\"#\"&AE29&\"#\"&VLOOKUP(AF29,数组!$B:$C,2,0)&\"#\"&角色升星配方!AG29,\"\")","v":""},{"$f":"_xlfn.IFNA(AE29&\"#\"&AF29&\"#\"&VLOOKUP(AG29,数组!$B:$C,2,0)&\"#\"&角色升星配方!AH29,\"\")","v":""},{"$f":"_xlfn.IFNA(AF29&\"#\"&AG29&\"#\"&VLOOKUP(AH29,数组!$B:$C,2,0)&\"#\"&角色升星配方!AI29,\"\")","v":""},{"$f":"_xlfn.IFNA(AG29&\"#\"&AH29&\"#\"&VLOOKUP(AI29,数组!$B:$C,2,0)&\"#\"&角色升星配方!AJ29,\"\")","v":"6#2#25#1"},{"$f":"_xlfn.IFNA(AH29&\"#\"&AI29&\"#\"&VLOOKUP(AJ29,数组!$B:$C,2,0)&\"#\"&角色升星配方!AK29,\"\")","v":""},{"$f":"_xlfn.IFNA(AI29&\"#\"&AJ29&\"#\"&VLOOKUP(AK29,数组!$B:$C,2,0)&\"#\"&角色升星配方!AL29,\"\")","v":""},{"$f":"_xlfn.IFNA(AJ29&\"#\"&AK29&\"#\"&VLOOKUP(AL29,数组!$B:$C,2,0)&\"#\"&角色升星配方!AM29,\"\")","v":""},{"$f":"_xlfn.IFNA(AK29&\"#\"&AL29&\"#\"&VLOOKUP(AM29,数组!$B:$C,2,0)&\"#\"&角色升星配方!AN29,\"\")","v":"6#3#17#3"},{"$f":"_xlfn.IFNA(AL29&\"#\"&AM29&\"#\"&VLOOKUP(AN29,数组!$B:$C,2,0)&\"#\"&角色升星配方!AO29,\"\")","v":""},{"$f":"_xlfn.IFNA(AM29&\"#\"&AN29&\"#\"&VLOOKUP(AO29,数组!$B:$C,2,0)&\"#\"&角色升星配方!AP29,\"\")","v":""},{"$f":"_xlfn.IFNA(AN29&\"#\"&AO29&\"#\"&VLOOKUP(AP29,数组!$B:$C,2,0)&\"#\"&角色升星配方!AQ29,\"\")","v":""},{"$f":"_xlfn.IFNA(AO29&\"#\"&AP29&\"#\"&VLOOKUP(AQ29,数组!$B:$C,2,0)&\"#\"&角色升星配方!AR29,\"\")","v":"7#1#17#4"},{"$f":"_xlfn.IFNA(AP29&\"#\"&AQ29&\"#\"&VLOOKUP(AR29,数组!$B:$C,2,0)&\"#\"&角色升星配方!AS29,\"\")","v":""},{"$f":"_xlfn.IFNA(AQ29&\"#\"&AR29&\"#\"&VLOOKUP(AS29,数组!$B:$C,2,0)&\"#\"&角色升星配方!AT29,\"\")","v":""},{"$f":"_xlfn.IFNA(AR29&\"#\"&AS29&\"#\"&VLOOKUP(AT29,数组!$B:$C,2,0)&\"#\"&角色升星配方!AU29,\"\")","v":""},{"$f":"_xlfn.IFNA(AS29&\"#\"&AT29&\"#\"&VLOOKUP(AU29,数组!$B:$C,2,0)&\"#\"&角色升星配方!AV29,\"\")","v":"8#1#17#3"},{"$f":"_xlfn.IFNA(AT29&\"#\"&AU29&\"#\"&VLOOKUP(AV29,数组!$B:$C,2,0)&\"#\"&角色升星配方!AW29,\"\")","v":""},{"$f":"_xlfn.IFNA(AU29&\"#\"&AV29&\"#\"&VLOOKUP(AW29,数组!$B:$C,2,0)&\"#\"&角色升星配方!AX29,\"\")","v":""},{"$f":"_xlfn.IFNA(AV29&\"#\"&AW29&\"#\"&VLOOKUP(AX29,数组!$B:$C,2,0)&\"#\"&角色升星配方!AY29,\"\")","v":""},{"$f":"_xlfn.IFNA(AW29&\"#\"&AX29&\"#\"&VLOOKUP(AY29,数组!$B:$C,2,0)&\"#\"&角色升星配方!AZ29,\"\")","v":"8#2#18#1"},{"$f":"_xlfn.IFNA(AX29&\"#\"&AY29&\"#\"&VLOOKUP(AZ29,数组!$B:$C,2,0)&\"#\"&角色升星配方!BM29,\"\")","v":""},null,null,{"$f":"_xlfn.IFNA(BA29&\"#\"&BB29&\"#\"&VLOOKUP(BC29,数组!$B:$C,2,0)&\"#\"&角色升星配方!BD29,\"\")","v":"9#1#3#1"},{"$nulls":3},{"$f":"_xlfn.IFNA(BE29&\"#\"&BF29&\"#\"&VLOOKUP(BG29,数组!$B:$C,2,0)&\"#\"&角色升星配方!BH29,\"\")","v":"9#2#18#1"},{"$nulls":3},{"$f":"_xlfn.IFNA(BI29&\"#\"&BJ29&\"#\"&VLOOKUP(BK29,数组!$B:$C,2,0)&\"#\"&角色升星配方!BL29,\"\")","v":"9#3#17#2"},{"$f":"[2]!SUMSTRING(BM29:DM29,\"|\")","v":{"$error":"#NAME?"}}]
[4,10029,4,4,5,1,"4星同名",3,5,2,"3星同系",4,5,3,"4星同系",4,{"$nulls":12},6,1,"5星同名",1,6,2,"5星10032",1,6,3,"5星同系",3,{"$nulls":24},{"$f":"_xlfn.IFNA(E30&\"#\"&F30&\"#\"&VLOOKUP(G30,数组!$B:$C,2,0)&\"#\"&角色升星配方!H30,\"\")","v":"5#1#2#3"},{"$f":"_xlfn.IFNA(F30&\"#\"&G30&\"#\"&VLOOKUP(H30,数组!$B:$C,2,0)&\"#\"&角色升星配方!I30,\"\")","v":""},{"$f":"_xlfn.IFNA(G30&\"#\"&H30&\"#\"&VLOOKUP(I30,数组!$B:$C,2,0)&\"#\"&角色升星配方!J30,\"\")","v":""},{"$f":"_xlfn.IFNA(H30&\"#\"&I30&\"#\"&VLOOKUP(J30,数组!$B:$C,2,0)&\"#\"&角色升星配方!K30,\"\")","v":""},{"$f":"_xlfn.IFNA(I30&\"#\"&J30&\"#\"&VLOOKUP(K30,数组!$B:$C,2,0)&\"#\"&角色升星配方!L30,\"\")","v":"5#2#15#4"},{"$f":"_xlfn.IFNA(J30&\"#\"&K30&\"#\"&VLOOKUP(L30,数组!$B:$C,2,0)&\"#\"&角色升星配方!M30,\"\")","v":""},{"$f":"_xlfn.IFNA(K30&\"#\"&L30&\"#\"&VLOOKUP(M30,数组!$B:$C,2,0)&\"#\"&角色升星配方!N30,\"\")","v":""},{"$f":"_xlfn.IFNA(L30&\"#\"&M30&\"#\"&VLOOKUP(N30,数组!$B:$C,2,0)&\"#\"&角色升星配方!O30,\"\")","v":""},{"$f":"_xlfn.IFNA(M30&\"#\"&N30&\"#\"&VLOOKUP(O30,数组!$B:$C,2,0)&\"#\"&角色升星配方!P30,\"\")","v":"5#3#16#4"},{"$f":"_xlfn.IFNA(N30&\"#\"&O30&\"#\"&VLOOKUP(P30,数组!$B:$C,2,0)&\"#\"&角色升星配方!Q30,\"\")","v":""},{"$f":"_xlfn.IFNA(O30&\"#\"&P30&\"#\"&VLOOKUP(Q30,数组!$B:$C,2,0)&\"#\"&角色升星配方!R30,\"\")","v":""},{"$f":"_xlfn.IFNA(P30&\"#\"&Q30&\"#\"&VLOOKUP(R30,数组!$B:$C,2,0)&\"#\"&角色升星配方!S30,\"\")","v":""},{"$f":"_xlfn.IFNA(Q30&\"#\"&R30&\"#\"&VLOOKUP(S30,数组!$B:$C,2,0)&\"#\"&角色升星配方!T30,\"\")","v":""},{"$f":"_xlfn.IFNA(R30&\"#\"&S30&\"#\"&VLOOKUP(T30,数组!$B:$C,2,0)&\"#\"&角色升星配方!U30,\"\")","v":""},{"$f":"_xlfn.IFNA(S30&\"#\"&T30&\"#\"&VLOOKUP(U30,数组!$B:$C,2,0)&\"#\"&角色升星配方!V30,\"\")","v":""},{"$f":"_xlfn.IFNA(T30&\"#\"&U30&\"#\"&VLOOKUP(V30,数组!$B:$C,2,0)&\"#\"&角色升星配方!W30,\"\")","v":""},{"$f":"_xlfn.IFNA(U30&\"#\"&V30&\"#\"&VLOOKUP(W30,数组!$B:$C,2,0)&\"#\"&角色升星配方!X30,\"\")","v":""},{"$f":"_xlfn.IFNA(V30&\"#\"&W30&\"#\"&VLOOKUP(X30,数组!$B:$C,2,0)&\"#\"&角色升星配方!AC30,\"\")","v":""},{"$f":"_xlfn.IFNA(W30&\"#\"&X30&\"#\"&VLOOKUP(AC30,数组!$B:$C,2,0)&\"#\"&角色升星配方!AD30,\"\")","v":""},{"$f":"_xlfn.IFNA(X30&\"#\"&AC30&\"#\"&VLOOKUP(AD30,数组!$B:$C,2,0)&\"#\"&角色升星配方!AE30,\"\")","v":""},{"$f":"_xlfn.IFNA(AC30&\"#\"&AD30&\"#\"&VLOOKUP(AE30,数组!$B:$C,2,0)&\"#\"&角色升星配方!AF30,\"\")","v":"6#1#3#1"},{"$f":"_xlfn.IFNA(AD30&\"#\"&AE30&\"#\"&VLOOKUP(AF30,数组!$B:$C,2,0)&\"#\"&角色升星配方!AG30,\"\")","v":""},{"$f":"_xlfn.IFNA(AE30&\"#\"&AF30&\"#\"&VLOOKUP(AG30,数组!$B:$C,2,0)&\"#\"&角色升星配方!AH30,\"\")","v":""},{"$f":"_xlfn.IFNA(AF30&\"#\"&AG30&\"#\"&VLOOKUP(AH30,数组!$B:$C,2,0)&\"#\"&角色升星配方!AI30,\"\")","v":""},{"$f":"_xlfn.IFNA(AG30&\"#\"&AH30&\"#\"&VLOOKUP(AI30,数组!$B:$C,2,0)&\"#\"&角色升星配方!AJ30,\"\")","v":"6#2#30#1"},{"$f":"_xlfn.IFNA(AH30&\"#\"&AI30&\"#\"&VLOOKUP(AJ30,数组!$B:$C,2,0)&\"#\"&角色升星配方!AK30,\"\")","v":""},{"$f":"_xlfn.IFNA(AI30&\"#\"&AJ30&\"#\"&VLOOKUP(AK30,数组!$B:$C,2,0)&\"#\"&角色升星配方!AL30,\"\")","v":""},{"$f":"_xlfn.IFNA(AJ30&\"#\"&AK30&\"#\"&VLOOKUP(AL30,数组!$B:$C,2,0)&\"#\"&角色升星配方!AM30,\"\")","v":""},{"$f":"_xlfn.IFNA(AK30&\"#\"&AL30&\"#\"&VLOOKUP(AM30,数组!$B:$C,2,0)&\"#\"&角色升星配方!AN30,\"\")","v":"6#3#17#3"},{"$f":"_xlfn.IFNA(AL30&\"#\"&AM30&\"#\"&VLOOKUP(AN30,数组!$B:$C,2,0)&\"#\"&角色升星配方!AO30,\"\")","v":""},{"$f":"_xlfn.IFNA(AM30&\"#\"&AN30&\"#\"&VLOOKUP(AO30,数组!$B:$C,2,0)&\"#\"&角色升星配方!AP30,\"\")","v":""},{"$f":"_xlfn.IFNA(AN30&\"#\"&AO30&\"#\"&VLOOKUP(AP30,数组!$B:$C,2,0)&\"#\"&角色升星配方!AQ30,\"\")","v":""},{"$f":"_xlfn.IFNA(AO30&\"#\"&AP30&\"#\"&VLOOKUP(AQ30,数组!$B:$C,2,0)&\"#\"&角色升星配方!AR30,\"\")","v":""},{"$f":"_xlfn.IFNA(AP30&\"#\"&AQ30&\"#\"&VLOOKUP(AR30,数组!$B:$C,2,0)&\"#\"&角色升星配方!AS30,\"\")","v":""},{"$f":"_xlfn.IFNA(AQ30&\"#\"&AR30&\"#\"&VLOOKUP(AS30,数组!$B:$C,2,0)&\"#\"&角色升星配方!AT30,\"\")","v":""},{"$f":"_xlfn.IFNA(AR30&\"#\"&AS30&\"#\"&VLOOKUP(AT30,数组!$B:$C,2,0)&\"#\"&角色升星配方!AU30,\"\")","v":""},{"$f":"_xlfn.IFNA(AS30&\"#\"&AT30&\"#\"&VLOOKUP(AU30,数组!$B:$C,2,0)&\"#\"&角色升星配方!AV30,\"\")","v":""},{"$f":"_xlfn.IFNA(AT30&\"#\"&AU30&\"#\"&VLOOKUP(AV30,数组!$B:$C,2,0)&\"#\"&角色升星配方!AW30,\"\")","v":""},{"$f":"_xlfn.IFNA(AU30&\"#\"&AV30&\"#\"&VLOOKUP(AW30,数组!$B:$C,2,0)&\"#\"&角色升星配方!AX30,\"\")","v":""},{"$f":"_xlfn.IFNA(AV30&\"#\"&AW30&\"#\"&VLOOKUP(AX30,数组!$B:$C,2,0)&\"#\"&角色升星配方!AY30,\"\")","v":""},{"$f":"_xlfn.IFNA(AW30&\"#\"&AX30&\"#\"&VLOOKUP(AY30,数组!$B:$C,2,0)&\"#\"&角色升星配方!AZ30,\"\")","v":""},{"$f":"_xlfn.IFNA(AX30&\"#\"&AY30&\"#\"&VLOOKUP(AZ30,数组!$B:$C,2,0)&\"#\"&角色升星配方!BM30,\"\")","v":""},null,null,{"$f":"_xlfn.IFNA(BA30&\"#\"&BB30&\"#\"&VLOOKUP(BC30,数组!$B:$C,2,0)&\"#\"&角色升星配方!BD30,\"\")","v":""},{"$nulls":3},{"$f":"_xlfn.IFNA(BE30&\"#\"&BF30&\"#\"&VLOOKUP(BG30,数组!$B:$C,2,0)&\"#\"&角色升星配方!BH30,\"\")","v":""},{"$nulls":3},{"$f":"_xlfn.IFNA(BI30&\"#\"&BJ30&\"#\"&VLOOKUP(BK30,数组!$B:$C,2,0)&\"#\"&角色升星配方!BL30,\"\")","v":""},{"$f":"[2]!SUMSTRING(BM30:DM30,\"|\")","v":{"$error":"#NAME?"}}]
[2,10030,2,4,5,1,"4星同名",3,5,2,"3星同系",4,5,3,"4星同系",4,{"$nulls":12},6,1,"5星同名",1,6,2,"5星10024",1,6,3,"5星同系",3,{"$nulls":24},{"$f":"_xlfn.IFNA(E31&\"#\"&F31&\"#\"&VLOOKUP(G31,数组!$B:$C,2,0)&\"#\"&角色升星配方!H31,\"\")","v":"5#1#2#3"},{"$f":"_xlfn.IFNA(F31&\"#\"&G31&\"#\"&VLOOKUP(H31,数组!$B:$C,2,0)&\"#\"&角色升星配方!I31,\"\")","v":""},{"$f":"_xlfn.IFNA(G31&\"#\"&H31&\"#\"&VLOOKUP(I31,数组!$B:$C,2,0)&\"#\"&角色升星配方!J31,\"\")","v":""},{"$f":"_xlfn.IFNA(H31&\"#\"&I31&\"#\"&VLOOKUP(J31,数组!$B:$C,2,0)&\"#\"&角色升星配方!K31,\"\")","v":""},{"$f":"_xlfn.IFNA(I31&\"#\"&J31&\"#\"&VLOOKUP(K31,数组!$B:$C,2,0)&\"#\"&角色升星配方!L31,\"\")","v":"5#2#15#4"},{"$f":"_xlfn.IFNA(J31&\"#\"&K31&\"#\"&VLOOKUP(L31,数组!$B:$C,2,0)&\"#\"&角色升星配方!M31,\"\")","v":""},{"$f":"_xlfn.IFNA(K31&\"#\"&L31&\"#\"&VLOOKUP(M31,数组!$B:$C,2,0)&\"#\"&角色升星配方!N31,\"\")","v":""},{"$f":"_xlfn.IFNA(L31&\"#\"&M31&\"#\"&VLOOKUP(N31,数组!$B:$C,2,0)&\"#\"&角色升星配方!O31,\"\")","v":""},{"$f":"_xlfn.IFNA(M31&\"#\"&N31&\"#\"&VLOOKUP(O31,数组!$B:$C,2,0)&\"#\"&角色升星配方!P31,\"\")","v":"5#3#16#4"},{"$f":"_xlfn.IFNA(N31&\"#\"&O31&\"#\"&VLOOKUP(P31,数组!$B:$C,2,0)&\"#\"&角色升星配方!Q31,\"\")","v":""},{"$f":"_xlfn.IFNA(O31&\"#\"&P31&\"#\"&VLOOKUP(Q31,数组!$B:$C,2,0)&\"#\"&角色升星配方!R31,\"\")","v":""},{"$f":"_xlfn.IFNA(P31&\"#\"&Q31&\"#\"&VLOOKUP(R31,数组!$B:$C,2,0)&\"#\"&角色升星配方!S31,\"\")","v":""},{"$f":"_xlfn.IFNA(Q31&\"#\"&R31&\"#\"&VLOOKUP(S31,数组!$B:$C,2,0)&\"#\"&角色升星配方!T31,\"\")","v":""},{"$f":"_xlfn.IFNA(R31&\"#\"&S31&\"#\"&VLOOKUP(T31,数组!$B:$C,2,0)&\"#\"&角色升星配方!U31,\"\")","v":""},{"$f":"_xlfn.IFNA(S31&\"#\"&T31&\"#\"&VLOOKUP(U31,数组!$B:$C,2,0)&\"#\"&角色升星配方!V31,\"\")","v":""},{"$f":"_xlfn.IFNA(T31&\"#\"&U31&\"#\"&VLOOKUP(V31,数组!$B:$C,2,0)&\"#\"&角色升星配方!W31,\"\")","v":""},{"$f":"_xlfn.IFNA(U31&\"#\"&V31&\"#\"&VLOOKUP(W31,数组!$B:$C,2,0)&\"#\"&角色升星配方!X31,\"\")","v":""},{"$f":"_xlfn.IFNA(V31&\"#\"&W31&\"#\"&VLOOKUP(X31,数组!$B:$C,2,0)&\"#\"&角色升星配方!AC31,\"\")","v":""},{"$f":"_xlfn.IFNA(W31&\"#\"&X31&\"#\"&VLOOKUP(AC31,数组!$B:$C,2,0)&\"#\"&角色升星配方!AD31,\"\")","v":""},{"$f":"_xlfn.IFNA(X31&\"#\"&AC31&\"#\"&VLOOKUP(AD31,数组!$B:$C,2,0)&\"#\"&角色升星配方!AE31,\"\")","v":""},{"$f":"_xlfn.IFNA(AC31&\"#\"&AD31&\"#\"&VLOOKUP(AE31,数组!$B:$C,2,0)&\"#\"&角色升星配方!AF31,\"\")","v":"6#1#3#1"},{"$f":"_xlfn.IFNA(AD31&\"#\"&AE31&\"#\"&VLOOKUP(AF31,数组!$B:$C,2,0)&\"#\"&角色升星配方!AG31,\"\")","v":""},{"$f":"_xlfn.IFNA(AE31&\"#\"&AF31&\"#\"&VLOOKUP(AG31,数组!$B:$C,2,0)&\"#\"&角色升星配方!AH31,\"\")","v":""},{"$f":"_xlfn.IFNA(AF31&\"#\"&AG31&\"#\"&VLOOKUP(AH31,数组!$B:$C,2,0)&\"#\"&角色升星配方!AI31,\"\")","v":""},{"$f":"_xlfn.IFNA(AG31&\"#\"&AH31&\"#\"&VLOOKUP(AI31,数组!$B:$C,2,0)&\"#\"&角色升星配方!AJ31,\"\")","v":"6#2#22#1"},{"$f":"_xlfn.IFNA(AH31&\"#\"&AI31&\"#\"&VLOOKUP(AJ31,数组!$B:$C,2,0)&\"#\"&角色升星配方!AK31,\"\")","v":""},{"$f":"_xlfn.IFNA(AI31&\"#\"&AJ31&\"#\"&VLOOKUP(AK31,数组!$B:$C,2,0)&\"#\"&角色升星配方!AL31,\"\")","v":""},{"$f":"_xlfn.IFNA(AJ31&\"#\"&AK31&\"#\"&VLOOKUP(AL31,数组!$B:$C,2,0)&\"#\"&角色升星配方!AM31,\"\")","v":""},{"$f":"_xlfn.IFNA(AK31&\"#\"&AL31&\"#\"&VLOOKUP(AM31,数组!$B:$C,2,0)&\"#\"&角色升星配方!AN31,\"\")","v":"6#3#17#3"},{"$f":"_xlfn.IFNA(AL31&\"#\"&AM31&\"#\"&VLOOKUP(AN31,数组!$B:$C,2,0)&\"#\"&角色升星配方!AO31,\"\")","v":""},{"$f":"_xlfn.IFNA(AM31&\"#\"&AN31&\"#\"&VLOOKUP(AO31,数组!$B:$C,2,0)&\"#\"&角色升星配方!AP31,\"\")","v":""},{"$f":"_xlfn.IFNA(AN31&\"#\"&AO31&\"#\"&VLOOKUP(AP31,数组!$B:$C,2,0)&\"#\"&角色升星配方!AQ31,\"\")","v":""},{"$f":"_xlfn.IFNA(AO31&\"#\"&AP31&\"#\"&VLOOKUP(AQ31,数组!$B:$C,2,0)&\"#\"&角色升星配方!AR31,\"\")","v":""},{"$f":"_xlfn.IFNA(AP31&\"#\"&AQ31&\"#\"&VLOOKUP(AR31,数组!$B:$C,2,0)&\"#\"&角色升星配方!AS31,\"\")","v":""},{"$f":"_xlfn.IFNA(AQ31&\"#\"&AR31&\"#\"&VLOOKUP(AS31,数组!$B:$C,2,0)&\"#\"&角色升星配方!AT31,\"\")","v":""},{"$f":"_xlfn.IFNA(AR31&\"#\"&AS31&\"#\"&VLOOKUP(AT31,数组!$B:$C,2,0)&\"#\"&角色升星配方!AU31,\"\")","v":""},{"$f":"_xlfn.IFNA(AS31&\"#\"&AT31&\"#\"&VLOOKUP(AU31,数组!$B:$C,2,0)&\"#\"&角色升星配方!AV31,\"\")","v":""},{"$f":"_xlfn.IFNA(AT31&\"#\"&AU31&\"#\"&VLOOKUP(AV31,数组!$B:$C,2,0)&\"#\"&角色升星配方!AW31,\"\")","v":""},{"$f":"_xlfn.IFNA(AU31&\"#\"&AV31&\"#\"&VLOOKUP(AW31,数组!$B:$C,2,0)&\"#\"&角色升星配方!AX31,\"\")","v":""},{"$f":"_xlfn.IFNA(AV31&\"#\"&AW31&\"#\"&VLOOKUP(AX31,数组!$B:$C,2,0)&\"#\"&角色升星配方!AY31,\"\")","v":""},{"$f":"_xlfn.IFNA(AW31&\"#\"&AX31&\"#\"&VLOOKUP(AY31,数组!$B:$C,2,0)&\"#\"&角色升星配方!AZ31,\"\")","v":""},{"$f":"_xlfn.IFNA(AX31&\"#\"&AY31&\"#\"&VLOOKUP(AZ31,数组!$B:$C,2,0)&\"#\"&角色升星配方!BM31,\"\")","v":""},null,null,{"$f":"_xlfn.IFNA(BA31&\"#\"&BB31&\"#\"&VLOOKUP(BC31,数组!$B:$C,2,0)&\"#\"&角色升星配方!BD31,\"\")","v":""},{"$nulls":3},{"$f":"_xlfn.IFNA(BE31&\"#\"&BF31&\"#\"&VLOOKUP(BG31,数组!$B:$C,2,0)&\"#\"&角色升星配方!BH31,\"\")","v":""},{"$nulls":3},{"$f":"_xlfn.IFNA(BI31&\"#\"&BJ31&\"#\"&VLOOKUP(BK31,数组!$B:$C,2,0)&\"#\"&角色升星配方!BL31,\"\")","v":""},{"$f":"[2]!SUMSTRING(BM31:DM31,\"|\")","v":{"$error":"#NAME?"}}]
[4,10031,4,4,5,1,"4星同名",3,5,2,"3星同系",4,5,3,"4星同系",4,{"$nulls":12},6,1,"5星同名",1,6,2,"5星10029",1,6,3,"5星同系",3,{"$nulls":24},{"$f":"_xlfn.IFNA(E32&\"#\"&F32&\"#\"&VLOOKUP(G32,数组!$B:$C,2,0)&\"#\"&角色升星配方!H32,\"\")","v":"5#1#2#3"},{"$f":"_xlfn.IFNA(F32&\"#\"&G32&\"#\"&VLOOKUP(H32,数组!$B:$C,2,0)&\"#\"&角色升星配方!I32,\"\")","v":""},{"$f":"_xlfn.IFNA(G32&\"#\"&H32&\"#\"&VLOOKUP(I32,数组!$B:$C,2,0)&\"#\"&角色升星配方!J32,\"\")","v":""},{"$f":"_xlfn.IFNA(H32&\"#\"&I32&\"#\"&VLOOKUP(J32,数组!$B:$C,2,0)&\"#\"&角色升星配方!K32,\"\")","v":""},{"$f":"_xlfn.IFNA(I32&\"#\"&J32&\"#\"&VLOOKUP(K32,数组!$B:$C,2,0)&\"#\"&角色升星配方!L32,\"\")","v":"5#2#15#4"},{"$f":"_xlfn.IFNA(J32&\"#\"&K32&\"#\"&VLOOKUP(L32,数组!$B:$C,2,0)&\"#\"&角色升星配方!M32,\"\")","v":""},{"$f":"_xlfn.IFNA(K32&\"#\"&L32&\"#\"&VLOOKUP(M32,数组!$B:$C,2,0)&\"#\"&角色升星配方!N32,\"\")","v":""},{"$f":"_xlfn.IFNA(L32&\"#\"&M32&\"#\"&VLOOKUP(N32,数组!$B:$C,2,0)&\"#\"&角色升星配方!O32,\"\")","v":""},{"$f":"_xlfn.IFNA(M32&\"#\"&N32&\"#\"&VLOOKUP(O32,数组!$B:$C,2,0)&\"#\"&角色升星配方!P32,\"\")","v":"5#3#16#4"},{"$f":"_xlfn.IFNA(N32&\"#\"&O32&\"#\"&VLOOKUP(P32,数组!$B:$C,2,0)&\"#\"&角色升星配方!Q32,\"\")","v":""},{"$f":"_xlfn.IFNA(O32&\"#\"&P32&\"#\"&VLOOKUP(Q32,数组!$B:$C,2,0)&\"#\"&角色升星配方!R32,\"\")","v":""},{"$f":"_xlfn.IFNA(P32&\"#\"&Q32&\"#\"&VLOOKUP(R32,数组!$B:$C,2,0)&\"#\"&角色升星配方!S32,\"\")","v":""},{"$f":"_xlfn.IFNA(Q32&\"#\"&R32&\"#\"&VLOOKUP(S32,数组!$B:$C,2,0)&\"#\"&角色升星配方!T32,\"\")","v":""},{"$f":"_xlfn.IFNA(R32&\"#\"&S32&\"#\"&VLOOKUP(T32,数组!$B:$C,2,0)&\"#\"&角色升星配方!U32,\"\")","v":""},{"$f":"_xlfn.IFNA(S32&\"#\"&T32&\"#\"&VLOOKUP(U32,数组!$B:$C,2,0)&\"#\"&角色升星配方!V32,\"\")","v":""},{"$f":"_xlfn.IFNA(T32&\"#\"&U32&\"#\"&VLOOKUP(V32,数组!$B:$C,2,0)&\"#\"&角色升星配方!W32,\"\")","v":""},{"$f":"_xlfn.IFNA(U32&\"#\"&V32&\"#\"&VLOOKUP(W32,数组!$B:$C,2,0)&\"#\"&角色升星配方!X32,\"\")","v":""},{"$f":"_xlfn.IFNA(V32&\"#\"&W32&\"#\"&VLOOKUP(X32,数组!$B:$C,2,0)&\"#\"&角色升星配方!AC32,\"\")","v":""},{"$f":"_xlfn.IFNA(W32&\"#\"&X32&\"#\"&VLOOKUP(AC32,数组!$B:$C,2,0)&\"#\"&角色升星配方!AD32,\"\")","v":""},{"$f":"_xlfn.IFNA(X32&\"#\"&AC32&\"#\"&VLOOKUP(AD32,数组!$B:$C,2,0)&\"#\"&角色升星配方!AE32,\"\")","v":""},{"$f":"_xlfn.IFNA(AC32&\"#\"&AD32&\"#\"&VLOOKUP(AE32,数组!$B:$C,2,0)&\"#\"&角色升星配方!AF32,\"\")","v":"6#1#3#1"},{"$f":"_xlfn.IFNA(AD32&\"#\"&AE32&\"#\"&VLOOKUP(AF32,数组!$B:$C,2,0)&\"#\"&角色升星配方!AG32,\"\")","v":""},{"$f":"_xlfn.IFNA(AE32&\"#\"&AF32&\"#\"&VLOOKUP(AG32,数组!$B:$C,2,0)&\"#\"&角色升星配方!AH32,\"\")","v":""},{"$f":"_xlfn.IFNA(AF32&\"#\"&AG32&\"#\"&VLOOKUP(AH32,数组!$B:$C,2,0)&\"#\"&角色升星配方!AI32,\"\")","v":""},{"$f":"_xlfn.IFNA(AG32&\"#\"&AH32&\"#\"&VLOOKUP(AI32,数组!$B:$C,2,0)&\"#\"&角色升星配方!AJ32,\"\")","v":"6#2#27#1"},{"$f":"_xlfn.IFNA(AH32&\"#\"&AI32&\"#\"&VLOOKUP(AJ32,数组!$B:$C,2,0)&\"#\"&角色升星配方!AK32,\"\")","v":""},{"$f":"_xlfn.IFNA(AI32&\"#\"&AJ32&\"#\"&VLOOKUP(AK32,数组!$B:$C,2,0)&\"#\"&角色升星配方!AL32,\"\")","v":""},{"$f":"_xlfn.IFNA(AJ32&\"#\"&AK32&\"#\"&VLOOKUP(AL32,数组!$B:$C,2,0)&\"#\"&角色升星配方!AM32,\"\")","v":""},{"$f":"_xlfn.IFNA(AK32&\"#\"&AL32&\"#\"&VLOOKUP(AM32,数组!$B:$C,2,0)&\"#\"&角色升星配方!AN32,\"\")","v":"6#3#17#3"},{"$f":"_xlfn.IFNA(AL32&\"#\"&AM32&\"#\"&VLOOKUP(AN32,数组!$B:$C,2,0)&\"#\"&角色升星配方!AO32,\"\")","v":""},{"$f":"_xlfn.IFNA(AM32&\"#\"&AN32&\"#\"&VLOOKUP(AO32,数组!$B:$C,2,0)&\"#\"&角色升星配方!AP32,\"\")","v":""},{"$f":"_xlfn.IFNA(AN32&\"#\"&AO32&\"#\"&VLOOKUP(AP32,数组!$B:$C,2,0)&\"#\"&角色升星配方!AQ32,\"\")","v":""},{"$f":"_xlfn.IFNA(AO32&\"#\"&AP32&\"#\"&VLOOKUP(AQ32,数组!$B:$C,2,0)&\"#\"&角色升星配方!AR32,\"\")","v":""},{"$f":"_xlfn.IFNA(AP32&\"#\"&AQ32&\"#\"&VLOOKUP(AR32,数组!$B:$C,2,0)&\"#\"&角色升星配方!AS32,\"\")","v":""},{"$f":"_xlfn.IFNA(AQ32&\"#\"&AR32&\"#\"&VLOOKUP(AS32,数组!$B:$C,2,0)&\"#\"&角色升星配方!AT32,\"\")","v":""},{"$f":"_xlfn.IFNA(AR32&\"#\"&AS32&\"#\"&VLOOKUP(AT32,数组!$B:$C,2,0)&\"#\"&角色升星配方!AU32,\"\")","v":""},{"$f":"_xlfn.IFNA(AS32&\"#\"&AT32&\"#\"&VLOOKUP(AU32,数组!$B:$C,2,0)&\"#\"&角色升星配方!AV32,\"\")","v":""},{"$f":"_xlfn.IFNA(AT32&\"#\"&AU32&\"#\"&VLOOKUP(AV32,数组!$B:$C,2,0)&\"#\"&角色升星配方!AW32,\"\")","v":""},{"$f":"_xlfn.IFNA(AU32&\"#\"&AV32&\"#\"&VLOOKUP(AW32,数组!$B:$C,2,0)&\"#\"&角色升星配方!AX32,\"\")","v":""},{"$f":"_xlfn.IFNA(AV32&\"#\"&AW32&\"#\"&VLOOKUP(AX32,数组!$B:$C,2,0)&\"#\"&角色升星配方!AY32,\"\")","v":""},{"$f":"_xlfn.IFNA(AW32&\"#\"&AX32&\"#\"&VLOOKUP(AY32,数组!$B:$C,2,0)&\"#\"&角色升星配方!AZ32,\"\")","v":""},{"$f":"_xlfn.IFNA(AX32&\"#\"&AY32&\"#\"&VLOOKUP(AZ32,数组!$B:$C,2,0)&\"#\"&角色升星配方!BM32,\"\")","v":""},null,null,{"$f":"_xlfn.IFNA(BA32&\"#\"&BB32&\"#\"&VLOOKUP(BC32,数组!$B:$C,2,0)&\"#\"&角色升星配方!BD32,\"\")","v":""},{"$nulls":3},{"$f":"_xlfn.IFNA(BE32&\"#\"&BF32&\"#\"&VLOOKUP(BG32,数组!$B:$C,2,0)&\"#\"&角色升星配方!BH32,\"\")","v":""},{"$nulls":3},{"$f":"_xlfn.IFNA(BI32&\"#\"&BJ32&\"#\"&VLOOKUP(BK32,数组!$B:$C,2,0)&\"#\"&角色升星配方!BL32,\"\")","v":""},{"$f":"[2]!SUMSTRING(BM32:DM32,\"|\")","v":{"$error":"#NAME?"}}]
[4,10032,4,4,5,1,"4星同名",3,5,2,"3星同系",4,5,3,"4星同系",4,{"$nulls":12},6,1,"5星同名",1,6,2,"5星10033",1,6,3,"5星同系",3,{"$nulls":24},{"$f":"_xlfn.IFNA(E33&\"#\"&F33&\"#\"&VLOOKUP(G33,数组!$B:$C,2,0)&\"#\"&角色升星配方!H33,\"\")","v":"5#1#2#3"},{"$f":"_xlfn.IFNA(F33&\"#\"&G33&\"#\"&VLOOKUP(H33,数组!$B:$C,2,0)&\"#\"&角色升星配方!I33,\"\")","v":""},{"$f":"_xlfn.IFNA(G33&\"#\"&H33&\"#\"&VLOOKUP(I33,数组!$B:$C,2,0)&\"#\"&角色升星配方!J33,\"\")","v":""},{"$f":"_xlfn.IFNA(H33&\"#\"&I33&\"#\"&VLOOKUP(J33,数组!$B:$C,2,0)&\"#\"&角色升星配方!K33,\"\")","v":""},{"$f":"_xlfn.IFNA(I33&\"#\"&J33&\"#\"&VLOOKUP(K33,数组!$B:$C,2,0)&\"#\"&角色升星配方!L33,\"\")","v":"5#2#15#4"},{"$f":"_xlfn.IFNA(J33&\"#\"&K33&\"#\"&VLOOKUP(L33,数组!$B:$C,2,0)&\"#\"&角色升星配方!M33,\"\")","v":""},{"$f":"_xlfn.IFNA(K33&\"#\"&L33&\"#\"&VLOOKUP(M33,数组!$B:$C,2,0)&\"#\"&角色升星配方!N33,\"\")","v":""},{"$f":"_xlfn.IFNA(L33&\"#\"&M33&\"#\"&VLOOKUP(N33,数组!$B:$C,2,0)&\"#\"&角色升星配方!O33,\"\")","v":""},{"$f":"_xlfn.IFNA(M33&\"#\"&N33&\"#\"&VLOOKUP(O33,数组!$B:$C,2,0)&\"#\"&角色升星配方!P33,\"\")","v":"5#3#16#4"},{"$f":"_xlfn.IFNA(N33&\"#\"&O33&\"#\"&VLOOKUP(P33,数组!$B:$C,2,0)&\"#\"&角色升星配方!Q33,\"\")","v":""},{"$f":"_xlfn.IFNA(O33&\"#\"&P33&\"#\"&VLOOKUP(Q33,数组!$B:$C,2,0)&\"#\"&角色升星配方!R33,\"\")","v":""},{"$f":"_xlfn.IFNA(P33&\"#\"&Q33&\"#\"&VLOOKUP(R33,数组!$B:$C,2,0)&\"#\"&角色升星配方!S33,\"\")","v":""},{"$f":"_xlfn.IFNA(Q33&\"#\"&R33&\"#\"&VLOOKUP(S33,数组!$B:$C,2,0)&\"#\"&角色升星配方!T33,\"\")","v":""},{"$f":"_xlfn.IFNA(R33&\"#\"&S33&\"#\"&VLOOKUP(T33,数组!$B:$C,2,0)&\"#\"&角色升星配方!U33,\"\")","v":""},{"$f":"_xlfn.IFNA(S33&\"#\"&T33&\"#\"&VLOOKUP(U33,数组!$B:$C,2,0)&\"#\"&角色升星配方!V33,\"\")","v":""},{"$f":"_xlfn.IFNA(T33&\"#\"&U33&\"#\"&VLOOKUP(V33,数组!$B:$C,2,0)&\"#\"&角色升星配方!W33,\"\")","v":""},{"$f":"_xlfn.IFNA(U33&\"#\"&V33&\"#\"&VLOOKUP(W33,数组!$B:$C,2,0)&\"#\"&角色升星配方!X33,\"\")","v":""},{"$f":"_xlfn.IFNA(V33&\"#\"&W33&\"#\"&VLOOKUP(X33,数组!$B:$C,2,0)&\"#\"&角色升星配方!AC33,\"\")","v":""},{"$f":"_xlfn.IFNA(W33&\"#\"&X33&\"#\"&VLOOKUP(AC33,数组!$B:$C,2,0)&\"#\"&角色升星配方!AD33,\"\")","v":""},{"$f":"_xlfn.IFNA(X33&\"#\"&AC33&\"#\"&VLOOKUP(AD33,数组!$B:$C,2,0)&\"#\"&角色升星配方!AE33,\"\")","v":""},{"$f":"_xlfn.IFNA(AC33&\"#\"&AD33&\"#\"&VLOOKUP(AE33,数组!$B:$C,2,0)&\"#\"&角色升星配方!AF33,\"\")","v":"6#1#3#1"},{"$f":"_xlfn.IFNA(AD33&\"#\"&AE33&\"#\"&VLOOKUP(AF33,数组!$B:$C,2,0)&\"#\"&角色升星配方!AG33,\"\")","v":""},{"$f":"_xlfn.IFNA(AE33&\"#\"&AF33&\"#\"&VLOOKUP(AG33,数组!$B:$C,2,0)&\"#\"&角色升星配方!AH33,\"\")","v":""},{"$f":"_xlfn.IFNA(AF33&\"#\"&AG33&\"#\"&VLOOKUP(AH33,数组!$B:$C,2,0)&\"#\"&角色升星配方!AI33,\"\")","v":""},{"$f":"_xlfn.IFNA(AG33&\"#\"&AH33&\"#\"&VLOOKUP(AI33,数组!$B:$C,2,0)&\"#\"&角色升星配方!AJ33,\"\")","v":"6#2#31#1"},{"$f":"_xlfn.IFNA(AH33&\"#\"&AI33&\"#\"&VLOOKUP(AJ33,数组!$B:$C,2,0)&\"#\"&角色升星配方!AK33,\"\")","v":""},{"$f":"_xlfn.IFNA(AI33&\"#\"&AJ33&\"#\"&VLOOKUP(AK33,数组!$B:$C,2,0)&\"#\"&角色升星配方!AL33,\"\")","v":""},{"$f":"_xlfn.IFNA(AJ33&\"#\"&AK33&\"#\"&VLOOKUP(AL33,数组!$B:$C,2,0)&\"#\"&角色升星配方!AM33,\"\")","v":""},{"$f":"_xlfn.IFNA(AK33&\"#\"&AL33&\"#\"&VLOOKUP(AM33,数组!$B:$C,2,0)&\"#\"&角色升星配方!AN33,\"\")","v":"6#3#17#3"},{"$f":"_xlfn.IFNA(AL33&\"#\"&AM33&\"#\"&VLOOKUP(AN33,数组!$B:$C,2,0)&\"#\"&角色升星配方!AO33,\"\")","v":""},{"$f":"_xlfn.IFNA(AM33&\"#\"&AN33&\"#\"&VLOOKUP(AO33,数组!$B:$C,2,0)&\"#\"&角色升星配方!AP33,\"\")","v":""},{"$f":"_xlfn.IFNA(AN33&\"#\"&AO33&\"#\"&VLOOKUP(AP33,数组!$B:$C,2,0)&\"#\"&角色升星配方!AQ33,\"\")","v":""},{"$f":"_xlfn.IFNA(AO33&\"#\"&AP33&\"#\"&VLOOKUP(AQ33,数组!$B:$C,2,0)&\"#\"&角色升星配方!AR33,\"\")","v":""},{"$f":"_xlfn.IFNA(AP33&\"#\"&AQ33&\"#\"&VLOOKUP(AR33,数组!$B:$C,2,0)&\"#\"&角色升星配方!AS33,\"\")","v":""},{"$f":"_xlfn.IFNA(AQ33&\"#\"&AR33&\"#\"&VLOOKUP(AS33,数组!$B:$C,2,0)&\"#\"&角色升星配方!AT33,\"\")","v":""},{"$f":"_xlfn.IFNA(AR33&\"#\"&AS33&\"#\"&VLOOKUP(AT33,数组!$B:$C,2,0)&\"#\"&角色升星配方!AU33,\"\")","v":""},{"$f":"_xlfn.IFNA(AS33&\"#\"&AT33&\"#\"&VLOOKUP(AU33,数组!$B:$C,2,0)&\"#\"&角色升星配方!AV33,\"\")","v":""},{"$f":"_xlfn.IFNA(AT33&\"#\"&AU33&\"#\"&VLOOKUP(AV33,数组!$B:$C,2,0)&\"#\"&角色升星配方!AW33,\"\")","v":""},{"$f":"_xlfn.IFNA(AU33&\"#\"&AV33&\"#\"&VLOOKUP(AW33,数组!$B:$C,2,0)&\"#\"&角色升星配方!AX33,\"\")","v":""},{"$f":"_xlfn.IFNA(AV33&\"#\"&AW33&\"#\"&VLOOKUP(AX33,数组!$B:$C,2,0)&\"#\"&角色升星配方!AY33,\"\")","v":""},{"$f":"_xlfn.IFNA(AW33&\"#\"&AX33&\"#\"&VLOOKUP(AY33,数组!$B:$C,2,0)&\"#\"&角色升星配方!AZ33,\"\")","v":""},{"$f":"_xlfn.IFNA(AX33&\"#\"&AY33&\"#\"&VLOOKUP(AZ33,数组!$B:$C,2,0)&\"#\"&角色升星配方!BM33,\"\")","v":""},null,null,{"$f":"_xlfn.IFNA(BA33&\"#\"&BB33&\"#\"&VLOOKUP(BC33,数组!$B:$C,2,0)&\"#\"&角色升星配方!BD33,\"\")","v":""},{"$nulls":3},{"$f":"_xlfn.IFNA(BE33&\"#\"&BF33&\"#\"&VLOOKUP(BG33,数组!$B:$C,2,0)&\"#\"&角色升星配方!BH33,\"\")","v":""},{"$nulls":3},{"$f":"_xlfn.IFNA(BI33&\"#\"&BJ33&\"#\"&VLOOKUP(BK33,数组!$B:$C,2,0)&\"#\"&角色升星配方!BL33,\"\")","v":""},{"$f":"[2]!SUMSTRING(BM33:DM33,\"|\")","v":{"$error":"#NAME?"}}]
[4,10033,4,4,5,1,"4星同名",3,5,2,"3星同系",4,5,3,"4星同系",4,{"$nulls":12},6,1,"5星同名",1,6,2,"5星10031",1,6,3,"5星同系",3,{"$nulls":24},{"$f":"_xlfn.IFNA(E34&\"#\"&F34&\"#\"&VLOOKUP(G34,数组!$B:$C,2,0)&\"#\"&角色升星配方!H34,\"\")","v":"5#1#2#3"},{"$f":"_xlfn.IFNA(F34&\"#\"&G34&\"#\"&VLOOKUP(H34,数组!$B:$C,2,0)&\"#\"&角色升星配方!I34,\"\")","v":""},{"$f":"_xlfn.IFNA(G34&\"#\"&H34&\"#\"&VLOOKUP(I34,数组!$B:$C,2,0)&\"#\"&角色升星配方!J34,\"\")","v":""},{"$f":"_xlfn.IFNA(H34&\"#\"&I34&\"#\"&VLOOKUP(J34,数组!$B:$C,2,0)&\"#\"&角色升星配方!K34,\"\")","v":""},{"$f":"_xlfn.IFNA(I34&\"#\"&J34&\"#\"&VLOOKUP(K34,数组!$B:$C,2,0)&\"#\"&角色升星配方!L34,\"\")","v":"5#2#15#4"},{"$f":"_xlfn.IFNA(J34&\"#\"&K34&\"#\"&VLOOKUP(L34,数组!$B:$C,2,0)&\"#\"&角色升星配方!M34,\"\")","v":""},{"$f":"_xlfn.IFNA(K34&\"#\"&L34&\"#\"&VLOOKUP(M34,数组!$B:$C,2,0)&\"#\"&角色升星配方!N34,\"\")","v":""},{"$f":"_xlfn.IFNA(L34&\"#\"&M34&\"#\"&VLOOKUP(N34,数组!$B:$C,2,0)&\"#\"&角色升星配方!O34,\"\")","v":""},{"$f":"_xlfn.IFNA(M34&\"#\"&N34&\"#\"&VLOOKUP(O34,数组!$B:$C,2,0)&\"#\"&角色升星配方!P34,\"\")","v":"5#3#16#4"},{"$f":"_xlfn.IFNA(N34&\"#\"&O34&\"#\"&VLOOKUP(P34,数组!$B:$C,2,0)&\"#\"&角色升星配方!Q34,\"\")","v":""},{"$f":"_xlfn.IFNA(O34&\"#\"&P34&\"#\"&VLOOKUP(Q34,数组!$B:$C,2,0)&\"#\"&角色升星配方!R34,\"\")","v":""},{"$f":"_xlfn.IFNA(P34&\"#\"&Q34&\"#\"&VLOOKUP(R34,数组!$B:$C,2,0)&\"#\"&角色升星配方!S34,\"\")","v":""},{"$f":"_xlfn.IFNA(Q34&\"#\"&R34&\"#\"&VLOOKUP(S34,数组!$B:$C,2,0)&\"#\"&角色升星配方!T34,\"\")","v":""},{"$f":"_xlfn.IFNA(R34&\"#\"&S34&\"#\"&VLOOKUP(T34,数组!$B:$C,2,0)&\"#\"&角色升星配方!U34,\"\")","v":""},{"$f":"_xlfn.IFNA(S34&\"#\"&T34&\"#\"&VLOOKUP(U34,数组!$B:$C,2,0)&\"#\"&角色升星配方!V34,\"\")","v":""},{"$f":"_xlfn.IFNA(T34&\"#\"&U34&\"#\"&VLOOKUP(V34,数组!$B:$C,2,0)&\"#\"&角色升星配方!W34,\"\")","v":""},{"$f":"_xlfn.IFNA(U34&\"#\"&V34&\"#\"&VLOOKUP(W34,数组!$B:$C,2,0)&\"#\"&角色升星配方!X34,\"\")","v":""},{"$f":"_xlfn.IFNA(V34&\"#\"&W34&\"#\"&VLOOKUP(X34,数组!$B:$C,2,0)&\"#\"&角色升星配方!AC34,\"\")","v":""},{"$f":"_xlfn.IFNA(W34&\"#\"&X34&\"#\"&VLOOKUP(AC34,数组!$B:$C,2,0)&\"#\"&角色升星配方!AD34,\"\")","v":""},{"$f":"_xlfn.IFNA(X34&\"#\"&AC34&\"#\"&VLOOKUP(AD34,数组!$B:$C,2,0)&\"#\"&角色升星配方!AE34,\"\")","v":""},{"$f":"_xlfn.IFNA(AC34&\"#\"&AD34&\"#\"&VLOOKUP(AE34,数组!$B:$C,2,0)&\"#\"&角色升星配方!AF34,\"\")","v":"6#1#3#1"},{"$f":"_xlfn.IFNA(AD34&\"#\"&AE34&\"#\"&VLOOKUP(AF34,数组!$B:$C,2,0)&\"#\"&角色升星配方!AG34,\"\")","v":""},{"$f":"_xlfn.IFNA(AE34&\"#\"&AF34&\"#\"&VLOOKUP(AG34,数组!$B:$C,2,0)&\"#\"&角色升星配方!AH34,\"\")","v":""},{"$f":"_xlfn.IFNA(AF34&\"#\"&AG34&\"#\"&VLOOKUP(AH34,数组!$B:$C,2,0)&\"#\"&角色升星配方!AI34,\"\")","v":""},{"$f":"_xlfn.IFNA(AG34&\"#\"&AH34&\"#\"&VLOOKUP(AI34,数组!$B:$C,2,0)&\"#\"&角色升星配方!AJ34,\"\")","v":"6#2#29#1"},{"$f":"_xlfn.IFNA(AH34&\"#\"&AI34&\"#\"&VLOOKUP(AJ34,数组!$B:$C,2,0)&\"#\"&角色升星配方!AK34,\"\")","v":""},{"$f":"_xlfn.IFNA(AI34&\"#\"&AJ34&\"#\"&VLOOKUP(AK34,数组!$B:$C,2,0)&\"#\"&角色升星配方!AL34,\"\")","v":""},{"$f":"_xlfn.IFNA(AJ34&\"#\"&AK34&\"#\"&VLOOKUP(AL34,数组!$B:$C,2,0)&\"#\"&角色升星配方!AM34,\"\")","v":""},{"$f":"_xlfn.IFNA(AK34&\"#\"&AL34&\"#\"&VLOOKUP(AM34,数组!$B:$C,2,0)&\"#\"&角色升星配方!AN34,\"\")","v":"6#3#17#3"},{"$f":"_xlfn.IFNA(AL34&\"#\"&AM34&\"#\"&VLOOKUP(AN34,数组!$B:$C,2,0)&\"#\"&角色升星配方!AO34,\"\")","v":""},{"$f":"_xlfn.IFNA(AM34&\"#\"&AN34&\"#\"&VLOOKUP(AO34,数组!$B:$C,2,0)&\"#\"&角色升星配方!AP34,\"\")","v":""},{"$f":"_xlfn.IFNA(AN34&\"#\"&AO34&\"#\"&VLOOKUP(AP34,数组!$B:$C,2,0)&\"#\"&角色升星配方!AQ34,\"\")","v":""},{"$f":"_xlfn.IFNA(AO34&\"#\"&AP34&\"#\"&VLOOKUP(AQ34,数组!$B:$C,2,0)&\"#\"&角色升星配方!AR34,\"\")","v":""},{"$f":"_xlfn.IFNA(AP34&\"#\"&AQ34&\"#\"&VLOOKUP(AR34,数组!$B:$C,2,0)&\"#\"&角色升星配方!AS34,\"\")","v":""},{"$f":"_xlfn.IFNA(AQ34&\"#\"&AR34&\"#\"&VLOOKUP(AS34,数组!$B:$C,2,0)&\"#\"&角色升星配方!AT34,\"\")","v":""},{"$f":"_xlfn.IFNA(AR34&\"#\"&AS34&\"#\"&VLOOKUP(AT34,数组!$B:$C,2,0)&\"#\"&角色升星配方!AU34,\"\")","v":""},{"$f":"_xlfn.IFNA(AS34&\"#\"&AT34&\"#\"&VLOOKUP(AU34,数组!$B:$C,2,0)&\"#\"&角色升星配方!AV34,\"\")","v":""},{"$f":"_xlfn.IFNA(AT34&\"#\"&AU34&\"#\"&VLOOKUP(AV34,数组!$B:$C,2,0)&\"#\"&角色升星配方!AW34,\"\")","v":""},{"$f":"_xlfn.IFNA(AU34&\"#\"&AV34&\"#\"&VLOOKUP(AW34,数组!$B:$C,2,0)&\"#\"&角色升星配方!AX34,\"\")","v":""},{"$f":"_xlfn.IFNA(AV34&\"#\"&AW34&\"#\"&VLOOKUP(AX34,数组!$B:$C,2,0)&\"#\"&角色升星配方!AY34,\"\")","v":""},{"$f":"_xlfn.IFNA(AW34&\"#\"&AX34&\"#\"&VLOOKUP(AY34,数组!$B:$C,2,0)&\"#\"&角色升星配方!AZ34,\"\")","v":""},{"$f":"_xlfn.IFNA(AX34&\"#\"&AY34&\"#\"&VLOOKUP(AZ34,数组!$B:$C,2,0)&\"#\"&角色升星配方!BM34,\"\")","v":""},null,null,{"$f":"_xlfn.IFNA(BA34&\"#\"&BB34&\"#\"&VLOOKUP(BC34,数组!$B:$C,2,0)&\"#\"&角色升星配方!BD34,\"\")","v":""},{"$nulls":3},{"$f":"_xlfn.IFNA(BE34&\"#\"&BF34&\"#\"&VLOOKUP(BG34,数组!$B:$C,2,0)&\"#\"&角色升星配方!BH34,\"\")","v":""},{"$nulls":3},{"$f":"_xlfn.IFNA(BI34&\"#\"&BJ34&\"#\"&VLOOKUP(BK34,数组!$B:$C,2,0)&\"#\"&角色升星配方!BL34,\"\")","v":""},{"$f":"[2]!SUMSTRING(BM34:DM34,\"|\")","v":{"$error":"#NAME?"}}]
[6,10034,6,4,5,1,"4星同名",3,5,2,"3星同系",4,5,3,"4星同系",4,{"$nulls":12},6,1,"5星同名",1,6,2,"5星10044",1,6,3,"5星同系",3,7,1,"5星同系",4,8,1,"5星同系",3,8,2,"6星同系",1,9,1,"5星同名",1,9,2,"6星同系",1,9,3,"5星同系",2,{"$f":"_xlfn.IFNA(E35&\"#\"&F35&\"#\"&VLOOKUP(G35,数组!$B:$C,2,0)&\"#\"&角色升星配方!H35,\"\")","v":"5#1#2#3"},{"$f":"_xlfn.IFNA(F35&\"#\"&G35&\"#\"&VLOOKUP(H35,数组!$B:$C,2,0)&\"#\"&角色升星配方!I35,\"\")","v":""},{"$f":"_xlfn.IFNA(G35&\"#\"&H35&\"#\"&VLOOKUP(I35,数组!$B:$C,2,0)&\"#\"&角色升星配方!J35,\"\")","v":""},{"$f":"_xlfn.IFNA(H35&\"#\"&I35&\"#\"&VLOOKUP(J35,数组!$B:$C,2,0)&\"#\"&角色升星配方!K35,\"\")","v":""},{"$f":"_xlfn.IFNA(I35&\"#\"&J35&\"#\"&VLOOKUP(K35,数组!$B:$C,2,0)&\"#\"&角色升星配方!L35,\"\")","v":"5#2#15#4"},{"$f":"_xlfn.IFNA(J35&\"#\"&K35&\"#\"&VLOOKUP(L35,数组!$B:$C,2,0)&\"#\"&角色升星配方!M35,\"\")","v":""},{"$f":"_xlfn.IFNA(K35&\"#\"&L35&\"#\"&VLOOKUP(M35,数组!$B:$C,2,0)&\"#\"&角色升星配方!N35,\"\")","v":""},{"$f":"_xlfn.IFNA(L35&\"#\"&M35&\"#\"&VLOOKUP(N35,数组!$B:$C,2,0)&\"#\"&角色升星配方!O35,\"\")","v":""},{"$f":"_xlfn.IFNA(M35&\"#\"&N35&\"#\"&VLOOKUP(O35,数组!$B:$C,2,0)&\"#\"&角色升星配方!P35,\"\")","v":"5#3#16#4"},{"$f":"_xlfn.IFNA(N35&\"#\"&O35&\"#\"&VLOOKUP(P35,数组!$B:$C,2,0)&\"#\"&角色升星配方!Q35,\"\")","v":""},{"$f":"_xlfn.IFNA(O35&\"#\"&P35&\"#\"&VLOOKUP(Q35,数组!$B:$C,2,0)&\"#\"&角色升星配方!R35,\"\")","v":""},{"$f":"_xlfn.IFNA(P35&\"#\"&Q35&\"#\"&VLOOKUP(R35,数组!$B:$C,2,0)&\"#\"&角色升星配方!S35,\"\")","v":""},{"$f":"_xlfn.IFNA(Q35&\"#\"&R35&\"#\"&VLOOKUP(S35,数组!$B:$C,2,0)&\"#\"&角色升星配方!T35,\"\")","v":""},{"$f":"_xlfn.IFNA(R35&\"#\"&S35&\"#\"&VLOOKUP(T35,数组!$B:$C,2,0)&\"#\"&角色升星配方!U35,\"\")","v":""},{"$f":"_xlfn.IFNA(S35&\"#\"&T35&\"#\"&VLOOKUP(U35,数组!$B:$C,2,0)&\"#\"&角色升星配方!V35,\"\")","v":""},{"$f":"_xlfn.IFNA(T35&\"#\"&U35&\"#\"&VLOOKUP(V35,数组!$B:$C,2,0)&\"#\"&角色升星配方!W35,\"\")","v":""},{"$f":"_xlfn.IFNA(U35&\"#\"&V35&\"#\"&VLOOKUP(W35,数组!$B:$C,2,0)&\"#\"&角色升星配方!X35,\"\")","v":""},{"$f":"_xlfn.IFNA(V35&\"#\"&W35&\"#\"&VLOOKUP(X35,数组!$B:$C,2,0)&\"#\"&角色升星配方!AC35,\"\")","v":""},{"$f":"_xlfn.IFNA(W35&\"#\"&X35&\"#\"&VLOOKUP(AC35,数组!$B:$C,2,0)&\"#\"&角色升星配方!AD35,\"\")","v":""},{"$f":"_xlfn.IFNA(X35&\"#\"&AC35&\"#\"&VLOOKUP(AD35,数组!$B:$C,2,0)&\"#\"&角色升星配方!AE35,\"\")","v":""},{"$f":"_xlfn.IFNA(AC35&\"#\"&AD35&\"#\"&VLOOKUP(AE35,数组!$B:$C,2,0)&\"#\"&角色升星配方!AF35,\"\")","v":"6#1#3#1"},{"$f":"_xlfn.IFNA(AD35&\"#\"&AE35&\"#\"&VLOOKUP(AF35,数组!$B:$C,2,0)&\"#\"&角色升星配方!AG35,\"\")","v":""},{"$f":"_xlfn.IFNA(AE35&\"#\"&AF35&\"#\"&VLOOKUP(AG35,数组!$B:$C,2,0)&\"#\"&角色升星配方!AH35,\"\")","v":""},{"$f":"_xlfn.IFNA(AF35&\"#\"&AG35&\"#\"&VLOOKUP(AH35,数组!$B:$C,2,0)&\"#\"&角色升星配方!AI35,\"\")","v":""},{"$f":"_xlfn.IFNA(AG35&\"#\"&AH35&\"#\"&VLOOKUP(AI35,数组!$B:$C,2,0)&\"#\"&角色升星配方!AJ35,\"\")","v":"6#2#42#1"},{"$f":"_xlfn.IFNA(AH35&\"#\"&AI35&\"#\"&VLOOKUP(AJ35,数组!$B:$C,2,0)&\"#\"&角色升星配方!AK35,\"\")","v":""},{"$f":"_xlfn.IFNA(AI35&\"#\"&AJ35&\"#\"&VLOOKUP(AK35,数组!$B:$C,2,0)&\"#\"&角色升星配方!AL35,\"\")","v":""},{"$f":"_xlfn.IFNA(AJ35&\"#\"&AK35&\"#\"&VLOOKUP(AL35,数组!$B:$C,2,0)&\"#\"&角色升星配方!AM35,\"\")","v":""},{"$f":"_xlfn.IFNA(AK35&\"#\"&AL35&\"#\"&VLOOKUP(AM35,数组!$B:$C,2,0)&\"#\"&角色升星配方!AN35,\"\")","v":"6#3#17#3"},{"$f":"_xlfn.IFNA(AL35&\"#\"&AM35&\"#\"&VLOOKUP(AN35,数组!$B:$C,2,0)&\"#\"&角色升星配方!AO35,\"\")","v":""},{"$f":"_xlfn.IFNA(AM35&\"#\"&AN35&\"#\"&VLOOKUP(AO35,数组!$B:$C,2,0)&\"#\"&角色升星配方!AP35,\"\")","v":""},{"$f":"_xlfn.IFNA(AN35&\"#\"&AO35&\"#\"&VLOOKUP(AP35,数组!$B:$C,2,0)&\"#\"&角色升星配方!AQ35,\"\")","v":""},{"$f":"_xlfn.IFNA(AO35&\"#\"&AP35&\"#\"&VLOOKUP(AQ35,数组!$B:$C,2,0)&\"#\"&角色升星配方!AR35,\"\")","v":"7#1#17#4"},{"$f":"_xlfn.IFNA(AP35&\"#\"&AQ35&\"#\"&VLOOKUP(AR35,数组!$B:$C,2,0)&\"#\"&角色升星配方!AS35,\"\")","v":""},{"$f":"_xlfn.IFNA(AQ35&\"#\"&AR35&\"#\"&VLOOKUP(AS35,数组!$B:$C,2,0)&\"#\"&角色升星配方!AT35,\"\")","v":""},{"$f":"_xlfn.IFNA(AR35&\"#\"&AS35&\"#\"&VLOOKUP(AT35,数组!$B:$C,2,0)&\"#\"&角色升星配方!AU35,\"\")","v":""},{"$f":"_xlfn.IFNA(AS35&\"#\"&AT35&\"#\"&VLOOKUP(AU35,数组!$B:$C,2,0)&\"#\"&角色升星配方!AV35,\"\")","v":"8#1#17#3"},{"$f":"_xlfn.IFNA(AT35&\"#\"&AU35&\"#\"&VLOOKUP(AV35,数组!$B:$C,2,0)&\"#\"&角色升星配方!AW35,\"\")","v":""},{"$f":"_xlfn.IFNA(AU35&\"#\"&AV35&\"#\"&VLOOKUP(AW35,数组!$B:$C,2,0)&\"#\"&角色升星配方!AX35,\"\")","v":""},{"$f":"_xlfn.IFNA(AV35&\"#\"&AW35&\"#\"&VLOOKUP(AX35,数组!$B:$C,2,0)&\"#\"&角色升星配方!AY35,\"\")","v":""},{"$f":"_xlfn.IFNA(AW35&\"#\"&AX35&\"#\"&VLOOKUP(AY35,数组!$B:$C,2,0)&\"#\"&角色升星配方!AZ35,\"\")","v":"8#2#18#1"},{"$f":"_xlfn.IFNA(AX35&\"#\"&AY35&\"#\"&VLOOKUP(AZ35,数组!$B:$C,2,0)&\"#\"&角色升星配方!BM35,\"\")","v":""},null,null,{"$f":"_xlfn.IFNA(BA35&\"#\"&BB35&\"#\"&VLOOKUP(BC35,数组!$B:$C,2,0)&\"#\"&角色升星配方!BD35,\"\")","v":"9#1#3#1"},{"$nulls":3},{"$f":"_xlfn.IFNA(BE35&\"#\"&BF35&\"#\"&VLOOKUP(BG35,数组!$B:$C,2,0)&\"#\"&角色升星配方!BH35,\"\")","v":"9#2#18#1"},{"$nulls":3},{"$f":"_xlfn.IFNA(BI35&\"#\"&BJ35&\"#\"&VLOOKUP(BK35,数组!$B:$C,2,0)&\"#\"&角色升星配方!BL35,\"\")","v":"9#3#17#2"},{"$f":"[2]!SUMSTRING(BM35:DM35,\"|\")","v":{"$error":"#NAME?"}}]
[6,10035,6,4,5,1,"4星同名",3,5,2,"3星同系",4,5,3,"4星同系",4,{"$nulls":12},6,1,"5星同名",1,6,2,"5星10034",1,6,3,"5星同系",3,7,1,"5星同系",4,8,1,"5星同系",3,8,2,"6星同系",1,9,1,"5星同名",1,9,2,"6星同系",1,9,3,"5星同系",2,{"$f":"_xlfn.IFNA(E36&\"#\"&F36&\"#\"&VLOOKUP(G36,数组!$B:$C,2,0)&\"#\"&角色升星配方!H36,\"\")","v":"5#1#2#3"},{"$f":"_xlfn.IFNA(F36&\"#\"&G36&\"#\"&VLOOKUP(H36,数组!$B:$C,2,0)&\"#\"&角色升星配方!I36,\"\")","v":""},{"$f":"_xlfn.IFNA(G36&\"#\"&H36&\"#\"&VLOOKUP(I36,数组!$B:$C,2,0)&\"#\"&角色升星配方!J36,\"\")","v":""},{"$f":"_xlfn.IFNA(H36&\"#\"&I36&\"#\"&VLOOKUP(J36,数组!$B:$C,2,0)&\"#\"&角色升星配方!K36,\"\")","v":""},{"$f":"_xlfn.IFNA(I36&\"#\"&J36&\"#\"&VLOOKUP(K36,数组!$B:$C,2,0)&\"#\"&角色升星配方!L36,\"\")","v":"5#2#15#4"},{"$f":"_xlfn.IFNA(J36&\"#\"&K36&\"#\"&VLOOKUP(L36,数组!$B:$C,2,0)&\"#\"&角色升星配方!M36,\"\")","v":""},{"$f":"_xlfn.IFNA(K36&\"#\"&L36&\"#\"&VLOOKUP(M36,数组!$B:$C,2,0)&\"#\"&角色升星配方!N36,\"\")","v":""},{"$f":"_xlfn.IFNA(L36&\"#\"&M36&\"#\"&VLOOKUP(N36,数组!$B:$C,2,0)&\"#\"&角色升星配方!O36,\"\")","v":""},{"$f":"_xlfn.IFNA(M36&\"#\"&N36&\"#\"&VLOOKUP(O36,数组!$B:$C,2,0)&\"#\"&角色升星配方!P36,\"\")","v":"5#3#16#4"},{"$f":"_xlfn.IFNA(N36&\"#\"&O36&\"#\"&VLOOKUP(P36,数组!$B:$C,2,0)&\"#\"&角色升星配方!Q36,\"\")","v":""},{"$f":"_xlfn.IFNA(O36&\"#\"&P36&\"#\"&VLOOKUP(Q36,数组!$B:$C,2,0)&\"#\"&角色升星配方!R36,\"\")","v":""},{"$f":"_xlfn.IFNA(P36&\"#\"&Q36&\"#\"&VLOOKUP(R36,数组!$B:$C,2,0)&\"#\"&角色升星配方!S36,\"\")","v":""},{"$f":"_xlfn.IFNA(Q36&\"#\"&R36&\"#\"&VLOOKUP(S36,数组!$B:$C,2,0)&\"#\"&角色升星配方!T36,\"\")","v":""},{"$f":"_xlfn.IFNA(R36&\"#\"&S36&\"#\"&VLOOKUP(T36,数组!$B:$C,2,0)&\"#\"&角色升星配方!U36,\"\")","v":""},{"$f":"_xlfn.IFNA(S36&\"#\"&T36&\"#\"&VLOOKUP(U36,数组!$B:$C,2,0)&\"#\"&角色升星配方!V36,\"\")","v":""},{"$f":"_xlfn.IFNA(T36&\"#\"&U36&\"#\"&VLOOKUP(V36,数组!$B:$C,2,0)&\"#\"&角色升星配方!W36,\"\")","v":""},{"$f":"_xlfn.IFNA(U36&\"#\"&V36&\"#\"&VLOOKUP(W36,数组!$B:$C,2,0)&\"#\"&角色升星配方!X36,\"\")","v":""},{"$f":"_xlfn.IFNA(V36&\"#\"&W36&\"#\"&VLOOKUP(X36,数组!$B:$C,2,0)&\"#\"&角色升星配方!AC36,\"\")","v":""},{"$f":"_xlfn.IFNA(W36&\"#\"&X36&\"#\"&VLOOKUP(AC36,数组!$B:$C,2,0)&\"#\"&角色升星配方!AD36,\"\")","v":""},{"$f":"_xlfn.IFNA(X36&\"#\"&AC36&\"#\"&VLOOKUP(AD36,数组!$B:$C,2,0)&\"#\"&角色升星配方!AE36,\"\")","v":""},{"$f":"_xlfn.IFNA(AC36&\"#\"&AD36&\"#\"&VLOOKUP(AE36,数组!$B:$C,2,0)&\"#\"&角色升星配方!AF36,\"\")","v":"6#1#3#1"},{"$f":"_xlfn.IFNA(AD36&\"#\"&AE36&\"#\"&VLOOKUP(AF36,数组!$B:$C,2,0)&\"#\"&角色升星配方!AG36,\"\")","v":""},{"$f":"_xlfn.IFNA(AE36&\"#\"&AF36&\"#\"&VLOOKUP(AG36,数组!$B:$C,2,0)&\"#\"&角色升星配方!AH36,\"\")","v":""},{"$f":"_xlfn.IFNA(AF36&\"#\"&AG36&\"#\"&VLOOKUP(AH36,数组!$B:$C,2,0)&\"#\"&角色升星配方!AI36,\"\")","v":""},{"$f":"_xlfn.IFNA(AG36&\"#\"&AH36&\"#\"&VLOOKUP(AI36,数组!$B:$C,2,0)&\"#\"&角色升星配方!AJ36,\"\")","v":"6#2#32#1"},{"$f":"_xlfn.IFNA(AH36&\"#\"&AI36&\"#\"&VLOOKUP(AJ36,数组!$B:$C,2,0)&\"#\"&角色升星配方!AK36,\"\")","v":""},{"$f":"_xlfn.IFNA(AI36&\"#\"&AJ36&\"#\"&VLOOKUP(AK36,数组!$B:$C,2,0)&\"#\"&角色升星配方!AL36,\"\")","v":""},{"$f":"_xlfn.IFNA(AJ36&\"#\"&AK36&\"#\"&VLOOKUP(AL36,数组!$B:$C,2,0)&\"#\"&角色升星配方!AM36,\"\")","v":""},{"$f":"_xlfn.IFNA(AK36&\"#\"&AL36&\"#\"&VLOOKUP(AM36,数组!$B:$C,2,0)&\"#\"&角色升星配方!AN36,\"\")","v":"6#3#17#3"},{"$f":"_xlfn.IFNA(AL36&\"#\"&AM36&\"#\"&VLOOKUP(AN36,数组!$B:$C,2,0)&\"#\"&角色升星配方!AO36,\"\")","v":""},{"$f":"_xlfn.IFNA(AM36&\"#\"&AN36&\"#\"&VLOOKUP(AO36,数组!$B:$C,2,0)&\"#\"&角色升星配方!AP36,\"\")","v":""},{"$f":"_xlfn.IFNA(AN36&\"#\"&AO36&\"#\"&VLOOKUP(AP36,数组!$B:$C,2,0)&\"#\"&角色升星配方!AQ36,\"\")","v":""},{"$f":"_xlfn.IFNA(AO36&\"#\"&AP36&\"#\"&VLOOKUP(AQ36,数组!$B:$C,2,0)&\"#\"&角色升星配方!AR36,\"\")","v":"7#1#17#4"},{"$f":"_xlfn.IFNA(AP36&\"#\"&AQ36&\"#\"&VLOOKUP(AR36,数组!$B:$C,2,0)&\"#\"&角色升星配方!AS36,\"\")","v":""},{"$f":"_xlfn.IFNA(AQ36&\"#\"&AR36&\"#\"&VLOOKUP(AS36,数组!$B:$C,2,0)&\"#\"&角色升星配方!AT36,\"\")","v":""},{"$f":"_xlfn.IFNA(AR36&\"#\"&AS36&\"#\"&VLOOKUP(AT36,数组!$B:$C,2,0)&\"#\"&角色升星配方!AU36,\"\")","v":""},{"$f":"_xlfn.IFNA(AS36&\"#\"&AT36&\"#\"&VLOOKUP(AU36,数组!$B:$C,2,0)&\"#\"&角色升星配方!AV36,\"\")","v":"8#1#17#3"},{"$f":"_xlfn.IFNA(AT36&\"#\"&AU36&\"#\"&VLOOKUP(AV36,数组!$B:$C,2,0)&\"#\"&角色升星配方!AW36,\"\")","v":""},{"$f":"_xlfn.IFNA(AU36&\"#\"&AV36&\"#\"&VLOOKUP(AW36,数组!$B:$C,2,0)&\"#\"&角色升星配方!AX36,\"\")","v":""},{"$f":"_xlfn.IFNA(AV36&\"#\"&AW36&\"#\"&VLOOKUP(AX36,数组!$B:$C,2,0)&\"#\"&角色升星配方!AY36,\"\")","v":""},{"$f":"_xlfn.IFNA(AW36&\"#\"&AX36&\"#\"&VLOOKUP(AY36,数组!$B:$C,2,0)&\"#\"&角色升星配方!AZ36,\"\")","v":"8#2#18#1"},{"$f":"_xlfn.IFNA(AX36&\"#\"&AY36&\"#\"&VLOOKUP(AZ36,数组!$B:$C,2,0)&\"#\"&角色升星配方!BM36,\"\")","v":""},null,null,{"$f":"_xlfn.IFNA(BA36&\"#\"&BB36&\"#\"&VLOOKUP(BC36,数组!$B:$C,2,0)&\"#\"&角色升星配方!BD36,\"\")","v":"9#1#3#1"},{"$nulls":3},{"$f":"_xlfn.IFNA(BE36&\"#\"&BF36&\"#\"&VLOOKUP(BG36,数组!$B:$C,2,0)&\"#\"&角色升星配方!BH36,\"\")","v":"9#2#18#1"},{"$nulls":3},{"$f":"_xlfn.IFNA(BI36&\"#\"&BJ36&\"#\"&VLOOKUP(BK36,数组!$B:$C,2,0)&\"#\"&角色升星配方!BL36,\"\")","v":"9#3#17#2"},{"$f":"[2]!SUMSTRING(BM36:DM36,\"|\")","v":{"$error":"#NAME?"}}]
[3,10036,3,4,5,1,"4星同名",3,5,2,"3星同系",4,5,3,"4星同系",4,{"$nulls":12},6,1,"5星同名",1,6,2,"5星10039",1,6,3,"5星同系",3,{"$nulls":24},{"$f":"_xlfn.IFNA(E37&\"#\"&F37&\"#\"&VLOOKUP(G37,数组!$B:$C,2,0)&\"#\"&角色升星配方!H37,\"\")","v":"5#1#2#3"},{"$f":"_xlfn.IFNA(F37&\"#\"&G37&\"#\"&VLOOKUP(H37,数组!$B:$C,2,0)&\"#\"&角色升星配方!I37,\"\")","v":""},{"$f":"_xlfn.IFNA(G37&\"#\"&H37&\"#\"&VLOOKUP(I37,数组!$B:$C,2,0)&\"#\"&角色升星配方!J37,\"\")","v":""},{"$f":"_xlfn.IFNA(H37&\"#\"&I37&\"#\"&VLOOKUP(J37,数组!$B:$C,2,0)&\"#\"&角色升星配方!K37,\"\")","v":""},{"$f":"_xlfn.IFNA(I37&\"#\"&J37&\"#\"&VLOOKUP(K37,数组!$B:$C,2,0)&\"#\"&角色升星配方!L37,\"\")","v":"5#2#15#4"},{"$f":"_xlfn.IFNA(J37&\"#\"&K37&\"#\"&VLOOKUP(L37,数组!$B:$C,2,0)&\"#\"&角色升星配方!M37,\"\")","v":""},{"$f":"_xlfn.IFNA(K37&\"#\"&L37&\"#\"&VLOOKUP(M37,数组!$B:$C,2,0)&\"#\"&角色升星配方!N37,\"\")","v":""},{"$f":"_xlfn.IFNA(L37&\"#\"&M37&\"#\"&VLOOKUP(N37,数组!$B:$C,2,0)&\"#\"&角色升星配方!O37,\"\")","v":""},{"$f":"_xlfn.IFNA(M37&\"#\"&N37&\"#\"&VLOOKUP(O37,数组!$B:$C,2,0)&\"#\"&角色升星配方!P37,\"\")","v":"5#3#16#4"},{"$f":"_xlfn.IFNA(N37&\"#\"&O37&\"#\"&VLOOKUP(P37,数组!$B:$C,2,0)&\"#\"&角色升星配方!Q37,\"\")","v":""},{"$f":"_xlfn.IFNA(O37&\"#\"&P37&\"#\"&VLOOKUP(Q37,数组!$B:$C,2,0)&\"#\"&角色升星配方!R37,\"\")","v":""},{"$f":"_xlfn.IFNA(P37&\"#\"&Q37&\"#\"&VLOOKUP(R37,数组!$B:$C,2,0)&\"#\"&角色升星配方!S37,\"\")","v":""},{"$f":"_xlfn.IFNA(Q37&\"#\"&R37&\"#\"&VLOOKUP(S37,数组!$B:$C,2,0)&\"#\"&角色升星配方!T37,\"\")","v":""},{"$f":"_xlfn.IFNA(R37&\"#\"&S37&\"#\"&VLOOKUP(T37,数组!$B:$C,2,0)&\"#\"&角色升星配方!U37,\"\")","v":""},{"$f":"_xlfn.IFNA(S37&\"#\"&T37&\"#\"&VLOOKUP(U37,数组!$B:$C,2,0)&\"#\"&角色升星配方!V37,\"\")","v":""},{"$f":"_xlfn.IFNA(T37&\"#\"&U37&\"#\"&VLOOKUP(V37,数组!$B:$C,2,0)&\"#\"&角色升星配方!W37,\"\")","v":""},{"$f":"_xlfn.IFNA(U37&\"#\"&V37&\"#\"&VLOOKUP(W37,数组!$B:$C,2,0)&\"#\"&角色升星配方!X37,\"\")","v":""},{"$f":"_xlfn.IFNA(V37&\"#\"&W37&\"#\"&VLOOKUP(X37,数组!$B:$C,2,0)&\"#\"&角色升星配方!AC37,\"\")","v":""},{"$f":"_xlfn.IFNA(W37&\"#\"&X37&\"#\"&VLOOKUP(AC37,数组!$B:$C,2,0)&\"#\"&角色升星配方!AD37,\"\")","v":""},{"$f":"_xlfn.IFNA(X37&\"#\"&AC37&\"#\"&VLOOKUP(AD37,数组!$B:$C,2,0)&\"#\"&角色升星配方!AE37,\"\")","v":""},{"$f":"_xlfn.IFNA(AC37&\"#\"&AD37&\"#\"&VLOOKUP(AE37,数组!$B:$C,2,0)&\"#\"&角色升星配方!AF37,\"\")","v":"6#1#3#1"},{"$f":"_xlfn.IFNA(AD37&\"#\"&AE37&\"#\"&VLOOKUP(AF37,数组!$B:$C,2,0)&\"#\"&角色升星配方!AG37,\"\")","v":""},{"$f":"_xlfn.IFNA(AE37&\"#\"&AF37&\"#\"&VLOOKUP(AG37,数组!$B:$C,2,0)&\"#\"&角色升星配方!AH37,\"\")","v":""},{"$f":"_xlfn.IFNA(AF37&\"#\"&AG37&\"#\"&VLOOKUP(AH37,数组!$B:$C,2,0)&\"#\"&角色升星配方!AI37,\"\")","v":""},{"$f":"_xlfn.IFNA(AG37&\"#\"&AH37&\"#\"&VLOOKUP(AI37,数组!$B:$C,2,0)&\"#\"&角色升星配方!AJ37,\"\")","v":"6#2#37#1"},{"$f":"_xlfn.IFNA(AH37&\"#\"&AI37&\"#\"&VLOOKUP(AJ37,数组!$B:$C,2,0)&\"#\"&角色升星配方!AK37,\"\")","v":""},{"$f":"_xlfn.IFNA(AI37&\"#\"&AJ37&\"#\"&VLOOKUP(AK37,数组!$B:$C,2,0)&\"#\"&角色升星配方!AL37,\"\")","v":""},{"$f":"_xlfn.IFNA(AJ37&\"#\"&AK37&\"#\"&VLOOKUP(AL37,数组!$B:$C,2,0)&\"#\"&角色升星配方!AM37,\"\")","v":""},{"$f":"_xlfn.IFNA(AK37&\"#\"&AL37&\"#\"&VLOOKUP(AM37,数组!$B:$C,2,0)&\"#\"&角色升星配方!AN37,\"\")","v":"6#3#17#3"},{"$f":"_xlfn.IFNA(AL37&\"#\"&AM37&\"#\"&VLOOKUP(AN37,数组!$B:$C,2,0)&\"#\"&角色升星配方!AO37,\"\")","v":""},{"$f":"_xlfn.IFNA(AM37&\"#\"&AN37&\"#\"&VLOOKUP(AO37,数组!$B:$C,2,0)&\"#\"&角色升星配方!AP37,\"\")","v":""},{"$f":"_xlfn.IFNA(AN37&\"#\"&AO37&\"#\"&VLOOKUP(AP37,数组!$B:$C,2,0)&\"#\"&角色升星配方!AQ37,\"\")","v":""},{"$f":"_xlfn.IFNA(AO37&\"#\"&AP37&\"#\"&VLOOKUP(AQ37,数组!$B:$C,2,0)&\"#\"&角色升星配方!AR37,\"\")","v":""},{"$f":"_xlfn.IFNA(AP37&\"#\"&AQ37&\"#\"&VLOOKUP(AR37,数组!$B:$C,2,0)&\"#\"&角色升星配方!AS37,\"\")","v":""},{"$f":"_xlfn.IFNA(AQ37&\"#\"&AR37&\"#\"&VLOOKUP(AS37,数组!$B:$C,2,0)&\"#\"&角色升星配方!AT37,\"\")","v":""},{"$f":"_xlfn.IFNA(AR37&\"#\"&AS37&\"#\"&VLOOKUP(AT37,数组!$B:$C,2,0)&\"#\"&角色升星配方!AU37,\"\")","v":""},{"$f":"_xlfn.IFNA(AS37&\"#\"&AT37&\"#\"&VLOOKUP(AU37,数组!$B:$C,2,0)&\"#\"&角色升星配方!AV37,\"\")","v":""},{"$f":"_xlfn.IFNA(AT37&\"#\"&AU37&\"#\"&VLOOKUP(AV37,数组!$B:$C,2,0)&\"#\"&角色升星配方!AW37,\"\")","v":""},{"$f":"_xlfn.IFNA(AU37&\"#\"&AV37&\"#\"&VLOOKUP(AW37,数组!$B:$C,2,0)&\"#\"&角色升星配方!AX37,\"\")","v":""},{"$f":"_xlfn.IFNA(AV37&\"#\"&AW37&\"#\"&VLOOKUP(AX37,数组!$B:$C,2,0)&\"#\"&角色升星配方!AY37,\"\")","v":""},{"$f":"_xlfn.IFNA(AW37&\"#\"&AX37&\"#\"&VLOOKUP(AY37,数组!$B:$C,2,0)&\"#\"&角色升星配方!AZ37,\"\")","v":""},{"$f":"_xlfn.IFNA(AX37&\"#\"&AY37&\"#\"&VLOOKUP(AZ37,数组!$B:$C,2,0)&\"#\"&角色升星配方!BM37,\"\")","v":""},null,null,{"$f":"_xlfn.IFNA(BA37&\"#\"&BB37&\"#\"&VLOOKUP(BC37,数组!$B:$C,2,0)&\"#\"&角色升星配方!BD37,\"\")","v":""},{"$nulls":3},{"$f":"_xlfn.IFNA(BE37&\"#\"&BF37&\"#\"&VLOOKUP(BG37,数组!$B:$C,2,0)&\"#\"&角色升星配方!BH37,\"\")","v":""},{"$nulls":3},{"$f":"_xlfn.IFNA(BI37&\"#\"&BJ37&\"#\"&VLOOKUP(BK37,数组!$B:$C,2,0)&\"#\"&角色升星配方!BL37,\"\")","v":""},{"$f":"[2]!SUMSTRING(BM37:DM37,\"|\")","v":{"$error":"#NAME?"}}]
[3,10037,3,4,5,1,"4星同名",3,5,2,"3星同系",4,5,3,"4星同系",4,{"$nulls":12},6,1,"5星同名",1,6,2,"5星10043",1,6,3,"5星同系",3,{"$nulls":24},{"$f":"_xlfn.IFNA(E38&\"#\"&F38&\"#\"&VLOOKUP(G38,数组!$B:$C,2,0)&\"#\"&角色升星配方!H38,\"\")","v":"5#1#2#3"},{"$f":"_xlfn.IFNA(F38&\"#\"&G38&\"#\"&VLOOKUP(H38,数组!$B:$C,2,0)&\"#\"&角色升星配方!I38,\"\")","v":""},{"$f":"_xlfn.IFNA(G38&\"#\"&H38&\"#\"&VLOOKUP(I38,数组!$B:$C,2,0)&\"#\"&角色升星配方!J38,\"\")","v":""},{"$f":"_xlfn.IFNA(H38&\"#\"&I38&\"#\"&VLOOKUP(J38,数组!$B:$C,2,0)&\"#\"&角色升星配方!K38,\"\")","v":""},{"$f":"_xlfn.IFNA(I38&\"#\"&J38&\"#\"&VLOOKUP(K38,数组!$B:$C,2,0)&\"#\"&角色升星配方!L38,\"\")","v":"5#2#15#4"},{"$f":"_xlfn.IFNA(J38&\"#\"&K38&\"#\"&VLOOKUP(L38,数组!$B:$C,2,0)&\"#\"&角色升星配方!M38,\"\")","v":""},{"$f":"_xlfn.IFNA(K38&\"#\"&L38&\"#\"&VLOOKUP(M38,数组!$B:$C,2,0)&\"#\"&角色升星配方!N38,\"\")","v":""},{"$f":"_xlfn.IFNA(L38&\"#\"&M38&\"#\"&VLOOKUP(N38,数组!$B:$C,2,0)&\"#\"&角色升星配方!O38,\"\")","v":""},{"$f":"_xlfn.IFNA(M38&\"#\"&N38&\"#\"&VLOOKUP(O38,数组!$B:$C,2,0)&\"#\"&角色升星配方!P38,\"\")","v":"5#3#16#4"},{"$f":"_xlfn.IFNA(N38&\"#\"&O38&\"#\"&VLOOKUP(P38,数组!$B:$C,2,0)&\"#\"&角色升星配方!Q38,\"\")","v":""},{"$f":"_xlfn.IFNA(O38&\"#\"&P38&\"#\"&VLOOKUP(Q38,数组!$B:$C,2,0)&\"#\"&角色升星配方!R38,\"\")","v":""},{"$f":"_xlfn.IFNA(P38&\"#\"&Q38&\"#\"&VLOOKUP(R38,数组!$B:$C,2,0)&\"#\"&角色升星配方!S38,\"\")","v":""},{"$f":"_xlfn.IFNA(Q38&\"#\"&R38&\"#\"&VLOOKUP(S38,数组!$B:$C,2,0)&\"#\"&角色升星配方!T38,\"\")","v":""},{"$f":"_xlfn.IFNA(R38&\"#\"&S38&\"#\"&VLOOKUP(T38,数组!$B:$C,2,0)&\"#\"&角色升星配方!U38,\"\")","v":""},{"$f":"_xlfn.IFNA(S38&\"#\"&T38&\"#\"&VLOOKUP(U38,数组!$B:$C,2,0)&\"#\"&角色升星配方!V38,\"\")","v":""},{"$f":"_xlfn.IFNA(T38&\"#\"&U38&\"#\"&VLOOKUP(V38,数组!$B:$C,2,0)&\"#\"&角色升星配方!W38,\"\")","v":""},{"$f":"_xlfn.IFNA(U38&\"#\"&V38&\"#\"&VLOOKUP(W38,数组!$B:$C,2,0)&\"#\"&角色升星配方!X38,\"\")","v":""},{"$f":"_xlfn.IFNA(V38&\"#\"&W38&\"#\"&VLOOKUP(X38,数组!$B:$C,2,0)&\"#\"&角色升星配方!AC38,\"\")","v":""},{"$f":"_xlfn.IFNA(W38&\"#\"&X38&\"#\"&VLOOKUP(AC38,数组!$B:$C,2,0)&\"#\"&角色升星配方!AD38,\"\")","v":""},{"$f":"_xlfn.IFNA(X38&\"#\"&AC38&\"#\"&VLOOKUP(AD38,数组!$B:$C,2,0)&\"#\"&角色升星配方!AE38,\"\")","v":""},{"$f":"_xlfn.IFNA(AC38&\"#\"&AD38&\"#\"&VLOOKUP(AE38,数组!$B:$C,2,0)&\"#\"&角色升星配方!AF38,\"\")","v":"6#1#3#1"},{"$f":"_xlfn.IFNA(AD38&\"#\"&AE38&\"#\"&VLOOKUP(AF38,数组!$B:$C,2,0)&\"#\"&角色升星配方!AG38,\"\")","v":""},{"$f":"_xlfn.IFNA(AE38&\"#\"&AF38&\"#\"&VLOOKUP(AG38,数组!$B:$C,2,0)&\"#\"&角色升星配方!AH38,\"\")","v":""},{"$f":"_xlfn.IFNA(AF38&\"#\"&AG38&\"#\"&VLOOKUP(AH38,数组!$B:$C,2,0)&\"#\"&角色升星配方!AI38,\"\")","v":""},{"$f":"_xlfn.IFNA(AG38&\"#\"&AH38&\"#\"&VLOOKUP(AI38,数组!$B:$C,2,0)&\"#\"&角色升星配方!AJ38,\"\")","v":"6#2#41#1"},{"$f":"_xlfn.IFNA(AH38&\"#\"&AI38&\"#\"&VLOOKUP(AJ38,数组!$B:$C,2,0)&\"#\"&角色升星配方!AK38,\"\")","v":""},{"$f":"_xlfn.IFNA(AI38&\"#\"&AJ38&\"#\"&VLOOKUP(AK38,数组!$B:$C,2,0)&\"#\"&角色升星配方!AL38,\"\")","v":""},{"$f":"_xlfn.IFNA(AJ38&\"#\"&AK38&\"#\"&VLOOKUP(AL38,数组!$B:$C,2,0)&\"#\"&角色升星配方!AM38,\"\")","v":""},{"$f":"_xlfn.IFNA(AK38&\"#\"&AL38&\"#\"&VLOOKUP(AM38,数组!$B:$C,2,0)&\"#\"&角色升星配方!AN38,\"\")","v":"6#3#17#3"},{"$f":"_xlfn.IFNA(AL38&\"#\"&AM38&\"#\"&VLOOKUP(AN38,数组!$B:$C,2,0)&\"#\"&角色升星配方!AO38,\"\")","v":""},{"$f":"_xlfn.IFNA(AM38&\"#\"&AN38&\"#\"&VLOOKUP(AO38,数组!$B:$C,2,0)&\"#\"&角色升星配方!AP38,\"\")","v":""},{"$f":"_xlfn.IFNA(AN38&\"#\"&AO38&\"#\"&VLOOKUP(AP38,数组!$B:$C,2,0)&\"#\"&角色升星配方!AQ38,\"\")","v":""},{"$f":"_xlfn.IFNA(AO38&\"#\"&AP38&\"#\"&VLOOKUP(AQ38,数组!$B:$C,2,0)&\"#\"&角色升星配方!AR38,\"\")","v":""},{"$f":"_xlfn.IFNA(AP38&\"#\"&AQ38&\"#\"&VLOOKUP(AR38,数组!$B:$C,2,0)&\"#\"&角色升星配方!AS38,\"\")","v":""},{"$f":"_xlfn.IFNA(AQ38&\"#\"&AR38&\"#\"&VLOOKUP(AS38,数组!$B:$C,2,0)&\"#\"&角色升星配方!AT38,\"\")","v":""},{"$f":"_xlfn.IFNA(AR38&\"#\"&AS38&\"#\"&VLOOKUP(AT38,数组!$B:$C,2,0)&\"#\"&角色升星配方!AU38,\"\")","v":""},{"$f":"_xlfn.IFNA(AS38&\"#\"&AT38&\"#\"&VLOOKUP(AU38,数组!$B:$C,2,0)&\"#\"&角色升星配方!AV38,\"\")","v":""},{"$f":"_xlfn.IFNA(AT38&\"#\"&AU38&\"#\"&VLOOKUP(AV38,数组!$B:$C,2,0)&\"#\"&角色升星配方!AW38,\"\")","v":""},{"$f":"_xlfn.IFNA(AU38&\"#\"&AV38&\"#\"&VLOOKUP(AW38,数组!$B:$C,2,0)&\"#\"&角色升星配方!AX38,\"\")","v":""},{"$f":"_xlfn.IFNA(AV38&\"#\"&AW38&\"#\"&VLOOKUP(AX38,数组!$B:$C,2,0)&\"#\"&角色升星配方!AY38,\"\")","v":""},{"$f":"_xlfn.IFNA(AW38&\"#\"&AX38&\"#\"&VLOOKUP(AY38,数组!$B:$C,2,0)&\"#\"&角色升星配方!AZ38,\"\")","v":""},{"$f":"_xlfn.IFNA(AX38&\"#\"&AY38&\"#\"&VLOOKUP(AZ38,数组!$B:$C,2,0)&\"#\"&角色升星配方!BM38,\"\")","v":""},null,null,{"$f":"_xlfn.IFNA(BA38&\"#\"&BB38&\"#\"&VLOOKUP(BC38,数组!$B:$C,2,0)&\"#\"&角色升星配方!BD38,\"\")","v":""},{"$nulls":3},{"$f":"_xlfn.IFNA(BE38&\"#\"&BF38&\"#\"&VLOOKUP(BG38,数组!$B:$C,2,0)&\"#\"&角色升星配方!BH38,\"\")","v":""},{"$nulls":3},{"$f":"_xlfn.IFNA(BI38&\"#\"&BJ38&\"#\"&VLOOKUP(BK38,数组!$B:$C,2,0)&\"#\"&角色升星配方!BL38,\"\")","v":""},{"$f":"[2]!SUMSTRING(BM38:DM38,\"|\")","v":{"$error":"#NAME?"}}]
[1,10038,1,4,5,1,"4星同名",3,5,2,"3星同系",4,5,3,"4星同系",4,{"$nulls":12},6,1,"5星同名",1,6,2,"5星10038",1,6,3,"5星同系",3,{"$nulls":24},{"$f":"_xlfn.IFNA(E39&\"#\"&F39&\"#\"&VLOOKUP(G39,数组!$B:$C,2,0)&\"#\"&角色升星配方!H39,\"\")","v":"5#1#2#3"},{"$f":"_xlfn.IFNA(F39&\"#\"&G39&\"#\"&VLOOKUP(H39,数组!$B:$C,2,0)&\"#\"&角色升星配方!I39,\"\")","v":""},{"$f":"_xlfn.IFNA(G39&\"#\"&H39&\"#\"&VLOOKUP(I39,数组!$B:$C,2,0)&\"#\"&角色升星配方!J39,\"\")","v":""},{"$f":"_xlfn.IFNA(H39&\"#\"&I39&\"#\"&VLOOKUP(J39,数组!$B:$C,2,0)&\"#\"&角色升星配方!K39,\"\")","v":""},{"$f":"_xlfn.IFNA(I39&\"#\"&J39&\"#\"&VLOOKUP(K39,数组!$B:$C,2,0)&\"#\"&角色升星配方!L39,\"\")","v":"5#2#15#4"},{"$f":"_xlfn.IFNA(J39&\"#\"&K39&\"#\"&VLOOKUP(L39,数组!$B:$C,2,0)&\"#\"&角色升星配方!M39,\"\")","v":""},{"$f":"_xlfn.IFNA(K39&\"#\"&L39&\"#\"&VLOOKUP(M39,数组!$B:$C,2,0)&\"#\"&角色升星配方!N39,\"\")","v":""},{"$f":"_xlfn.IFNA(L39&\"#\"&M39&\"#\"&VLOOKUP(N39,数组!$B:$C,2,0)&\"#\"&角色升星配方!O39,\"\")","v":""},{"$f":"_xlfn.IFNA(M39&\"#\"&N39&\"#\"&VLOOKUP(O39,数组!$B:$C,2,0)&\"#\"&角色升星配方!P39,\"\")","v":"5#3#16#4"},{"$f":"_xlfn.IFNA(N39&\"#\"&O39&\"#\"&VLOOKUP(P39,数组!$B:$C,2,0)&\"#\"&角色升星配方!Q39,\"\")","v":""},{"$f":"_xlfn.IFNA(O39&\"#\"&P39&\"#\"&VLOOKUP(Q39,数组!$B:$C,2,0)&\"#\"&角色升星配方!R39,\"\")","v":""},{"$f":"_xlfn.IFNA(P39&\"#\"&Q39&\"#\"&VLOOKUP(R39,数组!$B:$C,2,0)&\"#\"&角色升星配方!S39,\"\")","v":""},{"$f":"_xlfn.IFNA(Q39&\"#\"&R39&\"#\"&VLOOKUP(S39,数组!$B:$C,2,0)&\"#\"&角色升星配方!T39,\"\")","v":""},{"$f":"_xlfn.IFNA(R39&\"#\"&S39&\"#\"&VLOOKUP(T39,数组!$B:$C,2,0)&\"#\"&角色升星配方!U39,\"\")","v":""},{"$f":"_xlfn.IFNA(S39&\"#\"&T39&\"#\"&VLOOKUP(U39,数组!$B:$C,2,0)&\"#\"&角色升星配方!V39,\"\")","v":""},{"$f":"_xlfn.IFNA(T39&\"#\"&U39&\"#\"&VLOOKUP(V39,数组!$B:$C,2,0)&\"#\"&角色升星配方!W39,\"\")","v":""},{"$f":"_xlfn.IFNA(U39&\"#\"&V39&\"#\"&VLOOKUP(W39,数组!$B:$C,2,0)&\"#\"&角色升星配方!X39,\"\")","v":""},{"$f":"_xlfn.IFNA(V39&\"#\"&W39&\"#\"&VLOOKUP(X39,数组!$B:$C,2,0)&\"#\"&角色升星配方!AC39,\"\")","v":""},{"$f":"_xlfn.IFNA(W39&\"#\"&X39&\"#\"&VLOOKUP(AC39,数组!$B:$C,2,0)&\"#\"&角色升星配方!AD39,\"\")","v":""},{"$f":"_xlfn.IFNA(X39&\"#\"&AC39&\"#\"&VLOOKUP(AD39,数组!$B:$C,2,0)&\"#\"&角色升星配方!AE39,\"\")","v":""},{"$f":"_xlfn.IFNA(AC39&\"#\"&AD39&\"#\"&VLOOKUP(AE39,数组!$B:$C,2,0)&\"#\"&角色升星配方!AF39,\"\")","v":"6#1#3#1"},{"$f":"_xlfn.IFNA(AD39&\"#\"&AE39&\"#\"&VLOOKUP(AF39,数组!$B:$C,2,0)&\"#\"&角色升星配方!AG39,\"\")","v":""},{"$f":"_xlfn.IFNA(AE39&\"#\"&AF39&\"#\"&VLOOKUP(AG39,数组!$B:$C,2,0)&\"#\"&角色升星配方!AH39,\"\")","v":""},{"$f":"_xlfn.IFNA(AF39&\"#\"&AG39&\"#\"&VLOOKUP(AH39,数组!$B:$C,2,0)&\"#\"&角色升星配方!AI39,\"\")","v":""},{"$f":"_xlfn.IFNA(AG39&\"#\"&AH39&\"#\"&VLOOKUP(AI39,数组!$B:$C,2,0)&\"#\"&角色升星配方!AJ39,\"\")","v":"6#2#36#1"},{"$f":"_xlfn.IFNA(AH39&\"#\"&AI39&\"#\"&VLOOKUP(AJ39,数组!$B:$C,2,0)&\"#\"&角色升星配方!AK39,\"\")","v":""},{"$f":"_xlfn.IFNA(AI39&\"#\"&AJ39&\"#\"&VLOOKUP(AK39,数组!$B:$C,2,0)&\"#\"&角色升星配方!AL39,\"\")","v":""},{"$f":"_xlfn.IFNA(AJ39&\"#\"&AK39&\"#\"&VLOOKUP(AL39,数组!$B:$C,2,0)&\"#\"&角色升星配方!AM39,\"\")","v":""},{"$f":"_xlfn.IFNA(AK39&\"#\"&AL39&\"#\"&VLOOKUP(AM39,数组!$B:$C,2,0)&\"#\"&角色升星配方!AN39,\"\")","v":"6#3#17#3"},{"$f":"_xlfn.IFNA(AL39&\"#\"&AM39&\"#\"&VLOOKUP(AN39,数组!$B:$C,2,0)&\"#\"&角色升星配方!AO39,\"\")","v":""},{"$f":"_xlfn.IFNA(AM39&\"#\"&AN39&\"#\"&VLOOKUP(AO39,数组!$B:$C,2,0)&\"#\"&角色升星配方!AP39,\"\")","v":""},{"$f":"_xlfn.IFNA(AN39&\"#\"&AO39&\"#\"&VLOOKUP(AP39,数组!$B:$C,2,0)&\"#\"&角色升星配方!AQ39,\"\")","v":""},{"$f":"_xlfn.IFNA(AO39&\"#\"&AP39&\"#\"&VLOOKUP(AQ39,数组!$B:$C,2,0)&\"#\"&角色升星配方!AR39,\"\")","v":""},{"$f":"_xlfn.IFNA(AP39&\"#\"&AQ39&\"#\"&VLOOKUP(AR39,数组!$B:$C,2,0)&\"#\"&角色升星配方!AS39,\"\")","v":""},{"$f":"_xlfn.IFNA(AQ39&\"#\"&AR39&\"#\"&VLOOKUP(AS39,数组!$B:$C,2,0)&\"#\"&角色升星配方!AT39,\"\")","v":""},{"$f":"_xlfn.IFNA(AR39&\"#\"&AS39&\"#\"&VLOOKUP(AT39,数组!$B:$C,2,0)&\"#\"&角色升星配方!AU39,\"\")","v":""},{"$f":"_xlfn.IFNA(AS39&\"#\"&AT39&\"#\"&VLOOKUP(AU39,数组!$B:$C,2,0)&\"#\"&角色升星配方!AV39,\"\")","v":""},{"$f":"_xlfn.IFNA(AT39&\"#\"&AU39&\"#\"&VLOOKUP(AV39,数组!$B:$C,2,0)&\"#\"&角色升星配方!AW39,\"\")","v":""},{"$f":"_xlfn.IFNA(AU39&\"#\"&AV39&\"#\"&VLOOKUP(AW39,数组!$B:$C,2,0)&\"#\"&角色升星配方!AX39,\"\")","v":""},{"$f":"_xlfn.IFNA(AV39&\"#\"&AW39&\"#\"&VLOOKUP(AX39,数组!$B:$C,2,0)&\"#\"&角色升星配方!AY39,\"\")","v":""},{"$f":"_xlfn.IFNA(AW39&\"#\"&AX39&\"#\"&VLOOKUP(AY39,数组!$B:$C,2,0)&\"#\"&角色升星配方!AZ39,\"\")","v":""},{"$f":"_xlfn.IFNA(AX39&\"#\"&AY39&\"#\"&VLOOKUP(AZ39,数组!$B:$C,2,0)&\"#\"&角色升星配方!BM39,\"\")","v":""},null,null,{"$f":"_xlfn.IFNA(BA39&\"#\"&BB39&\"#\"&VLOOKUP(BC39,数组!$B:$C,2,0)&\"#\"&角色升星配方!BD39,\"\")","v":""},{"$nulls":3},{"$f":"_xlfn.IFNA(BE39&\"#\"&BF39&\"#\"&VLOOKUP(BG39,数组!$B:$C,2,0)&\"#\"&角色升星配方!BH39,\"\")","v":""},{"$nulls":3},{"$f":"_xlfn.IFNA(BI39&\"#\"&BJ39&\"#\"&VLOOKUP(BK39,数组!$B:$C,2,0)&\"#\"&角色升星配方!BL39,\"\")","v":""},{"$f":"[2]!SUMSTRING(BM39:DM39,\"|\")","v":{"$error":"#NAME?"}}]
[3,10039,3,4,5,1,"4星同名",3,5,2,"3星同系",4,5,3,"4星同系",4,{"$nulls":12},6,1,"5星同名",1,6,2,"5星10037",1,6,3,"5星同系",3,{"$nulls":24},{"$f":"_xlfn.IFNA(E40&\"#\"&F40&\"#\"&VLOOKUP(G40,数组!$B:$C,2,0)&\"#\"&角色升星配方!H40,\"\")","v":"5#1#2#3"},{"$f":"_xlfn.IFNA(F40&\"#\"&G40&\"#\"&VLOOKUP(H40,数组!$B:$C,2,0)&\"#\"&角色升星配方!I40,\"\")","v":""},{"$f":"_xlfn.IFNA(G40&\"#\"&H40&\"#\"&VLOOKUP(I40,数组!$B:$C,2,0)&\"#\"&角色升星配方!J40,\"\")","v":""},{"$f":"_xlfn.IFNA(H40&\"#\"&I40&\"#\"&VLOOKUP(J40,数组!$B:$C,2,0)&\"#\"&角色升星配方!K40,\"\")","v":""},{"$f":"_xlfn.IFNA(I40&\"#\"&J40&\"#\"&VLOOKUP(K40,数组!$B:$C,2,0)&\"#\"&角色升星配方!L40,\"\")","v":"5#2#15#4"},{"$f":"_xlfn.IFNA(J40&\"#\"&K40&\"#\"&VLOOKUP(L40,数组!$B:$C,2,0)&\"#\"&角色升星配方!M40,\"\")","v":""},{"$f":"_xlfn.IFNA(K40&\"#\"&L40&\"#\"&VLOOKUP(M40,数组!$B:$C,2,0)&\"#\"&角色升星配方!N40,\"\")","v":""},{"$f":"_xlfn.IFNA(L40&\"#\"&M40&\"#\"&VLOOKUP(N40,数组!$B:$C,2,0)&\"#\"&角色升星配方!O40,\"\")","v":""},{"$f":"_xlfn.IFNA(M40&\"#\"&N40&\"#\"&VLOOKUP(O40,数组!$B:$C,2,0)&\"#\"&角色升星配方!P40,\"\")","v":"5#3#16#4"},{"$f":"_xlfn.IFNA(N40&\"#\"&O40&\"#\"&VLOOKUP(P40,数组!$B:$C,2,0)&\"#\"&角色升星配方!Q40,\"\")","v":""},{"$f":"_xlfn.IFNA(O40&\"#\"&P40&\"#\"&VLOOKUP(Q40,数组!$B:$C,2,0)&\"#\"&角色升星配方!R40,\"\")","v":""},{"$f":"_xlfn.IFNA(P40&\"#\"&Q40&\"#\"&VLOOKUP(R40,数组!$B:$C,2,0)&\"#\"&角色升星配方!S40,\"\")","v":""},{"$f":"_xlfn.IFNA(Q40&\"#\"&R40&\"#\"&VLOOKUP(S40,数组!$B:$C,2,0)&\"#\"&角色升星配方!T40,\"\")","v":""},{"$f":"_xlfn.IFNA(R40&\"#\"&S40&\"#\"&VLOOKUP(T40,数组!$B:$C,2,0)&\"#\"&角色升星配方!U40,\"\")","v":""},{"$f":"_xlfn.IFNA(S40&\"#\"&T40&\"#\"&VLOOKUP(U40,数组!$B:$C,2,0)&\"#\"&角色升星配方!V40,\"\")","v":""},{"$f":"_xlfn.IFNA(T40&\"#\"&U40&\"#\"&VLOOKUP(V40,数组!$B:$C,2,0)&\"#\"&角色升星配方!W40,\"\")","v":""},{"$f":"_xlfn.IFNA(U40&\"#\"&V40&\"#\"&VLOOKUP(W40,数组!$B:$C,2,0)&\"#\"&角色升星配方!X40,\"\")","v":""},{"$f":"_xlfn.IFNA(V40&\"#\"&W40&\"#\"&VLOOKUP(X40,数组!$B:$C,2,0)&\"#\"&角色升星配方!AC40,\"\")","v":""},{"$f":"_xlfn.IFNA(W40&\"#\"&X40&\"#\"&VLOOKUP(AC40,数组!$B:$C,2,0)&\"#\"&角色升星配方!AD40,\"\")","v":""},{"$f":"_xlfn.IFNA(X40&\"#\"&AC40&\"#\"&VLOOKUP(AD40,数组!$B:$C,2,0)&\"#\"&角色升星配方!AE40,\"\")","v":""},{"$f":"_xlfn.IFNA(AC40&\"#\"&AD40&\"#\"&VLOOKUP(AE40,数组!$B:$C,2,0)&\"#\"&角色升星配方!AF40,\"\")","v":"6#1#3#1"},{"$f":"_xlfn.IFNA(AD40&\"#\"&AE40&\"#\"&VLOOKUP(AF40,数组!$B:$C,2,0)&\"#\"&角色升星配方!AG40,\"\")","v":""},{"$f":"_xlfn.IFNA(AE40&\"#\"&AF40&\"#\"&VLOOKUP(AG40,数组!$B:$C,2,0)&\"#\"&角色升星配方!AH40,\"\")","v":""},{"$f":"_xlfn.IFNA(AF40&\"#\"&AG40&\"#\"&VLOOKUP(AH40,数组!$B:$C,2,0)&\"#\"&角色升星配方!AI40,\"\")","v":""},{"$f":"_xlfn.IFNA(AG40&\"#\"&AH40&\"#\"&VLOOKUP(AI40,数组!$B:$C,2,0)&\"#\"&角色升星配方!AJ40,\"\")","v":"6#2#35#1"},{"$f":"_xlfn.IFNA(AH40&\"#\"&AI40&\"#\"&VLOOKUP(AJ40,数组!$B:$C,2,0)&\"#\"&角色升星配方!AK40,\"\")","v":""},{"$f":"_xlfn.IFNA(AI40&\"#\"&AJ40&\"#\"&VLOOKUP(AK40,数组!$B:$C,2,0)&\"#\"&角色升星配方!AL40,\"\")","v":""},{"$f":"_xlfn.IFNA(AJ40&\"#\"&AK40&\"#\"&VLOOKUP(AL40,数组!$B:$C,2,0)&\"#\"&角色升星配方!AM40,\"\")","v":""},{"$f":"_xlfn.IFNA(AK40&\"#\"&AL40&\"#\"&VLOOKUP(AM40,数组!$B:$C,2,0)&\"#\"&角色升星配方!AN40,\"\")","v":"6#3#17#3"},{"$f":"_xlfn.IFNA(AL40&\"#\"&AM40&\"#\"&VLOOKUP(AN40,数组!$B:$C,2,0)&\"#\"&角色升星配方!AO40,\"\")","v":""},{"$f":"_xlfn.IFNA(AM40&\"#\"&AN40&\"#\"&VLOOKUP(AO40,数组!$B:$C,2,0)&\"#\"&角色升星配方!AP40,\"\")","v":""},{"$f":"_xlfn.IFNA(AN40&\"#\"&AO40&\"#\"&VLOOKUP(AP40,数组!$B:$C,2,0)&\"#\"&角色升星配方!AQ40,\"\")","v":""},{"$f":"_xlfn.IFNA(AO40&\"#\"&AP40&\"#\"&VLOOKUP(AQ40,数组!$B:$C,2,0)&\"#\"&角色升星配方!AR40,\"\")","v":""},{"$f":"_xlfn.IFNA(AP40&\"#\"&AQ40&\"#\"&VLOOKUP(AR40,数组!$B:$C,2,0)&\"#\"&角色升星配方!AS40,\"\")","v":""},{"$f":"_xlfn.IFNA(AQ40&\"#\"&AR40&\"#\"&VLOOKUP(AS40,数组!$B:$C,2,0)&\"#\"&角色升星配方!AT40,\"\")","v":""},{"$f":"_xlfn.IFNA(AR40&\"#\"&AS40&\"#\"&VLOOKUP(AT40,数组!$B:$C,2,0)&\"#\"&角色升星配方!AU40,\"\")","v":""},{"$f":"_xlfn.IFNA(AS40&\"#\"&AT40&\"#\"&VLOOKUP(AU40,数组!$B:$C,2,0)&\"#\"&角色升星配方!AV40,\"\")","v":""},{"$f":"_xlfn.IFNA(AT40&\"#\"&AU40&\"#\"&VLOOKUP(AV40,数组!$B:$C,2,0)&\"#\"&角色升星配方!AW40,\"\")","v":""},{"$f":"_xlfn.IFNA(AU40&\"#\"&AV40&\"#\"&VLOOKUP(AW40,数组!$B:$C,2,0)&\"#\"&角色升星配方!AX40,\"\")","v":""},{"$f":"_xlfn.IFNA(AV40&\"#\"&AW40&\"#\"&VLOOKUP(AX40,数组!$B:$C,2,0)&\"#\"&角色升星配方!AY40,\"\")","v":""},{"$f":"_xlfn.IFNA(AW40&\"#\"&AX40&\"#\"&VLOOKUP(AY40,数组!$B:$C,2,0)&\"#\"&角色升星配方!AZ40,\"\")","v":""},{"$f":"_xlfn.IFNA(AX40&\"#\"&AY40&\"#\"&VLOOKUP(AZ40,数组!$B:$C,2,0)&\"#\"&角色升星配方!BM40,\"\")","v":""},null,null,{"$f":"_xlfn.IFNA(BA40&\"#\"&BB40&\"#\"&VLOOKUP(BC40,数组!$B:$C,2,0)&\"#\"&角色升星配方!BD40,\"\")","v":""},{"$nulls":3},{"$f":"_xlfn.IFNA(BE40&\"#\"&BF40&\"#\"&VLOOKUP(BG40,数组!$B:$C,2,0)&\"#\"&角色升星配方!BH40,\"\")","v":""},{"$nulls":3},{"$f":"_xlfn.IFNA(BI40&\"#\"&BJ40&\"#\"&VLOOKUP(BK40,数组!$B:$C,2,0)&\"#\"&角色升星配方!BL40,\"\")","v":""},{"$f":"[2]!SUMSTRING(BM40:DM40,\"|\")","v":{"$error":"#NAME?"}}]
[1,10040,1,4,5,1,"4星同名",3,5,2,"3星同系",4,5,3,"4星同系",4,{"$nulls":12},6,1,"5星同名",1,6,2,"5星10025",1,6,3,"5星同系",3,{"$nulls":24},{"$f":"_xlfn.IFNA(E41&\"#\"&F41&\"#\"&VLOOKUP(G41,数组!$B:$C,2,0)&\"#\"&角色升星配方!H41,\"\")","v":"5#1#2#3"},{"$f":"_xlfn.IFNA(F41&\"#\"&G41&\"#\"&VLOOKUP(H41,数组!$B:$C,2,0)&\"#\"&角色升星配方!I41,\"\")","v":""},{"$f":"_xlfn.IFNA(G41&\"#\"&H41&\"#\"&VLOOKUP(I41,数组!$B:$C,2,0)&\"#\"&角色升星配方!J41,\"\")","v":""},{"$f":"_xlfn.IFNA(H41&\"#\"&I41&\"#\"&VLOOKUP(J41,数组!$B:$C,2,0)&\"#\"&角色升星配方!K41,\"\")","v":""},{"$f":"_xlfn.IFNA(I41&\"#\"&J41&\"#\"&VLOOKUP(K41,数组!$B:$C,2,0)&\"#\"&角色升星配方!L41,\"\")","v":"5#2#15#4"},{"$f":"_xlfn.IFNA(J41&\"#\"&K41&\"#\"&VLOOKUP(L41,数组!$B:$C,2,0)&\"#\"&角色升星配方!M41,\"\")","v":""},{"$f":"_xlfn.IFNA(K41&\"#\"&L41&\"#\"&VLOOKUP(M41,数组!$B:$C,2,0)&\"#\"&角色升星配方!N41,\"\")","v":""},{"$f":"_xlfn.IFNA(L41&\"#\"&M41&\"#\"&VLOOKUP(N41,数组!$B:$C,2,0)&\"#\"&角色升星配方!O41,\"\")","v":""},{"$f":"_xlfn.IFNA(M41&\"#\"&N41&\"#\"&VLOOKUP(O41,数组!$B:$C,2,0)&\"#\"&角色升星配方!P41,\"\")","v":"5#3#16#4"},{"$f":"_xlfn.IFNA(N41&\"#\"&O41&\"#\"&VLOOKUP(P41,数组!$B:$C,2,0)&\"#\"&角色升星配方!Q41,\"\")","v":""},{"$f":"_xlfn.IFNA(O41&\"#\"&P41&\"#\"&VLOOKUP(Q41,数组!$B:$C,2,0)&\"#\"&角色升星配方!R41,\"\")","v":""},{"$f":"_xlfn.IFNA(P41&\"#\"&Q41&\"#\"&VLOOKUP(R41,数组!$B:$C,2,0)&\"#\"&角色升星配方!S41,\"\")","v":""},{"$f":"_xlfn.IFNA(Q41&\"#\"&R41&\"#\"&VLOOKUP(S41,数组!$B:$C,2,0)&\"#\"&角色升星配方!T41,\"\")","v":""},{"$f":"_xlfn.IFNA(R41&\"#\"&S41&\"#\"&VLOOKUP(T41,数组!$B:$C,2,0)&\"#\"&角色升星配方!U41,\"\")","v":""},{"$f":"_xlfn.IFNA(S41&\"#\"&T41&\"#\"&VLOOKUP(U41,数组!$B:$C,2,0)&\"#\"&角色升星配方!V41,\"\")","v":""},{"$f":"_xlfn.IFNA(T41&\"#\"&U41&\"#\"&VLOOKUP(V41,数组!$B:$C,2,0)&\"#\"&角色升星配方!W41,\"\")","v":""},{"$f":"_xlfn.IFNA(U41&\"#\"&V41&\"#\"&VLOOKUP(W41,数组!$B:$C,2,0)&\"#\"&角色升星配方!X41,\"\")","v":""},{"$f":"_xlfn.IFNA(V41&\"#\"&W41&\"#\"&VLOOKUP(X41,数组!$B:$C,2,0)&\"#\"&角色升星配方!AC41,\"\")","v":""},{"$f":"_xlfn.IFNA(W41&\"#\"&X41&\"#\"&VLOOKUP(AC41,数组!$B:$C,2,0)&\"#\"&角色升星配方!AD41,\"\")","v":""},{"$f":"_xlfn.IFNA(X41&\"#\"&AC41&\"#\"&VLOOKUP(AD41,数组!$B:$C,2,0)&\"#\"&角色升星配方!AE41,\"\")","v":""},{"$f":"_xlfn.IFNA(AC41&\"#\"&AD41&\"#\"&VLOOKUP(AE41,数组!$B:$C,2,0)&\"#\"&角色升星配方!AF41,\"\")","v":"6#1#3#1"},{"$f":"_xlfn.IFNA(AD41&\"#\"&AE41&\"#\"&VLOOKUP(AF41,数组!$B:$C,2,0)&\"#\"&角色升星配方!AG41,\"\")","v":""},{"$f":"_xlfn.IFNA(AE41&\"#\"&AF41&\"#\"&VLOOKUP(AG41,数组!$B:$C,2,0)&\"#\"&角色升星配方!AH41,\"\")","v":""},{"$f":"_xlfn.IFNA(AF41&\"#\"&AG41&\"#\"&VLOOKUP(AH41,数组!$B:$C,2,0)&\"#\"&角色升星配方!AI41,\"\")","v":""},{"$f":"_xlfn.IFNA(AG41&\"#\"&AH41&\"#\"&VLOOKUP(AI41,数组!$B:$C,2,0)&\"#\"&角色升星配方!AJ41,\"\")","v":"6#2#23#1"},{"$f":"_xlfn.IFNA(AH41&\"#\"&AI41&\"#\"&VLOOKUP(AJ41,数组!$B:$C,2,0)&\"#\"&角色升星配方!AK41,\"\")","v":""},{"$f":"_xlfn.IFNA(AI41&\"#\"&AJ41&\"#\"&VLOOKUP(AK41,数组!$B:$C,2,0)&\"#\"&角色升星配方!AL41,\"\")","v":""},{"$f":"_xlfn.IFNA(AJ41&\"#\"&AK41&\"#\"&VLOOKUP(AL41,数组!$B:$C,2,0)&\"#\"&角色升星配方!AM41,\"\")","v":""},{"$f":"_xlfn.IFNA(AK41&\"#\"&AL41&\"#\"&VLOOKUP(AM41,数组!$B:$C,2,0)&\"#\"&角色升星配方!AN41,\"\")","v":"6#3#17#3"},{"$f":"_xlfn.IFNA(AL41&\"#\"&AM41&\"#\"&VLOOKUP(AN41,数组!$B:$C,2,0)&\"#\"&角色升星配方!AO41,\"\")","v":""},{"$f":"_xlfn.IFNA(AM41&\"#\"&AN41&\"#\"&VLOOKUP(AO41,数组!$B:$C,2,0)&\"#\"&角色升星配方!AP41,\"\")","v":""},{"$f":"_xlfn.IFNA(AN41&\"#\"&AO41&\"#\"&VLOOKUP(AP41,数组!$B:$C,2,0)&\"#\"&角色升星配方!AQ41,\"\")","v":""},{"$f":"_xlfn.IFNA(AO41&\"#\"&AP41&\"#\"&VLOOKUP(AQ41,数组!$B:$C,2,0)&\"#\"&角色升星配方!AR41,\"\")","v":""},{"$f":"_xlfn.IFNA(AP41&\"#\"&AQ41&\"#\"&VLOOKUP(AR41,数组!$B:$C,2,0)&\"#\"&角色升星配方!AS41,\"\")","v":""},{"$f":"_xlfn.IFNA(AQ41&\"#\"&AR41&\"#\"&VLOOKUP(AS41,数组!$B:$C,2,0)&\"#\"&角色升星配方!AT41,\"\")","v":""},{"$f":"_xlfn.IFNA(AR41&\"#\"&AS41&\"#\"&VLOOKUP(AT41,数组!$B:$C,2,0)&\"#\"&角色升星配方!AU41,\"\")","v":""},{"$f":"_xlfn.IFNA(AS41&\"#\"&AT41&\"#\"&VLOOKUP(AU41,数组!$B:$C,2,0)&\"#\"&角色升星配方!AV41,\"\")","v":""},{"$f":"_xlfn.IFNA(AT41&\"#\"&AU41&\"#\"&VLOOKUP(AV41,数组!$B:$C,2,0)&\"#\"&角色升星配方!AW41,\"\")","v":""},{"$f":"_xlfn.IFNA(AU41&\"#\"&AV41&\"#\"&VLOOKUP(AW41,数组!$B:$C,2,0)&\"#\"&角色升星配方!AX41,\"\")","v":""},{"$f":"_xlfn.IFNA(AV41&\"#\"&AW41&\"#\"&VLOOKUP(AX41,数组!$B:$C,2,0)&\"#\"&角色升星配方!AY41,\"\")","v":""},{"$f":"_xlfn.IFNA(AW41&\"#\"&AX41&\"#\"&VLOOKUP(AY41,数组!$B:$C,2,0)&\"#\"&角色升星配方!AZ41,\"\")","v":""},{"$f":"_xlfn.IFNA(AX41&\"#\"&AY41&\"#\"&VLOOKUP(AZ41,数组!$B:$C,2,0)&\"#\"&角色升星配方!BM41,\"\")","v":""},null,null,{"$f":"_xlfn.IFNA(BA41&\"#\"&BB41&\"#\"&VLOOKUP(BC41,数组!$B:$C,2,0)&\"#\"&角色升星配方!BD41,\"\")","v":""},{"$nulls":3},{"$f":"_xlfn.IFNA(BE41&\"#\"&BF41&\"#\"&VLOOKUP(BG41,数组!$B:$C,2,0)&\"#\"&角色升星配方!BH41,\"\")","v":""},{"$nulls":3},{"$f":"_xlfn.IFNA(BI41&\"#\"&BJ41&\"#\"&VLOOKUP(BK41,数组!$B:$C,2,0)&\"#\"&角色升星配方!BL41,\"\")","v":""},{"$f":"[2]!SUMSTRING(BM41:DM41,\"|\")","v":{"$error":"#NAME?"}}]
[1,10041,1,4,5,1,"4星同名",3,5,2,"3星同系",4,5,3,"4星同系",4,{"$nulls":12},6,1,"5星同名",1,6,2,"5星10040",1,6,3,"5星同系",3,{"$nulls":24},{"$f":"_xlfn.IFNA(E42&\"#\"&F42&\"#\"&VLOOKUP(G42,数组!$B:$C,2,0)&\"#\"&角色升星配方!H42,\"\")","v":"5#1#2#3"},{"$f":"_xlfn.IFNA(F42&\"#\"&G42&\"#\"&VLOOKUP(H42,数组!$B:$C,2,0)&\"#\"&角色升星配方!I42,\"\")","v":""},{"$f":"_xlfn.IFNA(G42&\"#\"&H42&\"#\"&VLOOKUP(I42,数组!$B:$C,2,0)&\"#\"&角色升星配方!J42,\"\")","v":""},{"$f":"_xlfn.IFNA(H42&\"#\"&I42&\"#\"&VLOOKUP(J42,数组!$B:$C,2,0)&\"#\"&角色升星配方!K42,\"\")","v":""},{"$f":"_xlfn.IFNA(I42&\"#\"&J42&\"#\"&VLOOKUP(K42,数组!$B:$C,2,0)&\"#\"&角色升星配方!L42,\"\")","v":"5#2#15#4"},{"$f":"_xlfn.IFNA(J42&\"#\"&K42&\"#\"&VLOOKUP(L42,数组!$B:$C,2,0)&\"#\"&角色升星配方!M42,\"\")","v":""},{"$f":"_xlfn.IFNA(K42&\"#\"&L42&\"#\"&VLOOKUP(M42,数组!$B:$C,2,0)&\"#\"&角色升星配方!N42,\"\")","v":""},{"$f":"_xlfn.IFNA(L42&\"#\"&M42&\"#\"&VLOOKUP(N42,数组!$B:$C,2,0)&\"#\"&角色升星配方!O42,\"\")","v":""},{"$f":"_xlfn.IFNA(M42&\"#\"&N42&\"#\"&VLOOKUP(O42,数组!$B:$C,2,0)&\"#\"&角色升星配方!P42,\"\")","v":"5#3#16#4"},{"$f":"_xlfn.IFNA(N42&\"#\"&O42&\"#\"&VLOOKUP(P42,数组!$B:$C,2,0)&\"#\"&角色升星配方!Q42,\"\")","v":""},{"$f":"_xlfn.IFNA(O42&\"#\"&P42&\"#\"&VLOOKUP(Q42,数组!$B:$C,2,0)&\"#\"&角色升星配方!R42,\"\")","v":""},{"$f":"_xlfn.IFNA(P42&\"#\"&Q42&\"#\"&VLOOKUP(R42,数组!$B:$C,2,0)&\"#\"&角色升星配方!S42,\"\")","v":""},{"$f":"_xlfn.IFNA(Q42&\"#\"&R42&\"#\"&VLOOKUP(S42,数组!$B:$C,2,0)&\"#\"&角色升星配方!T42,\"\")","v":""},{"$f":"_xlfn.IFNA(R42&\"#\"&S42&\"#\"&VLOOKUP(T42,数组!$B:$C,2,0)&\"#\"&角色升星配方!U42,\"\")","v":""},{"$f":"_xlfn.IFNA(S42&\"#\"&T42&\"#\"&VLOOKUP(U42,数组!$B:$C,2,0)&\"#\"&角色升星配方!V42,\"\")","v":""},{"$f":"_xlfn.IFNA(T42&\"#\"&U42&\"#\"&VLOOKUP(V42,数组!$B:$C,2,0)&\"#\"&角色升星配方!W42,\"\")","v":""},{"$f":"_xlfn.IFNA(U42&\"#\"&V42&\"#\"&VLOOKUP(W42,数组!$B:$C,2,0)&\"#\"&角色升星配方!X42,\"\")","v":""},{"$f":"_xlfn.IFNA(V42&\"#\"&W42&\"#\"&VLOOKUP(X42,数组!$B:$C,2,0)&\"#\"&角色升星配方!AC42,\"\")","v":""},{"$f":"_xlfn.IFNA(W42&\"#\"&X42&\"#\"&VLOOKUP(AC42,数组!$B:$C,2,0)&\"#\"&角色升星配方!AD42,\"\")","v":""},{"$f":"_xlfn.IFNA(X42&\"#\"&AC42&\"#\"&VLOOKUP(AD42,数组!$B:$C,2,0)&\"#\"&角色升星配方!AE42,\"\")","v":""},{"$f":"_xlfn.IFNA(AC42&\"#\"&AD42&\"#\"&VLOOKUP(AE42,数组!$B:$C,2,0)&\"#\"&角色升星配方!AF42,\"\")","v":"6#1#3#1"},{"$f":"_xlfn.IFNA(AD42&\"#\"&AE42&\"#\"&VLOOKUP(AF42,数组!$B:$C,2,0)&\"#\"&角色升星配方!AG42,\"\")","v":""},{"$f":"_xlfn.IFNA(AE42&\"#\"&AF42&\"#\"&VLOOKUP(AG42,数组!$B:$C,2,0)&\"#\"&角色升星配方!AH42,\"\")","v":""},{"$f":"_xlfn.IFNA(AF42&\"#\"&AG42&\"#\"&VLOOKUP(AH42,数组!$B:$C,2,0)&\"#\"&角色升星配方!AI42,\"\")","v":""},{"$f":"_xlfn.IFNA(AG42&\"#\"&AH42&\"#\"&VLOOKUP(AI42,数组!$B:$C,2,0)&\"#\"&角色升星配方!AJ42,\"\")","v":"6#2#38#1"},{"$f":"_xlfn.IFNA(AH42&\"#\"&AI42&\"#\"&VLOOKUP(AJ42,数组!$B:$C,2,0)&\"#\"&角色升星配方!AK42,\"\")","v":""},{"$f":"_xlfn.IFNA(AI42&\"#\"&AJ42&\"#\"&VLOOKUP(AK42,数组!$B:$C,2,0)&\"#\"&角色升星配方!AL42,\"\")","v":""},{"$f":"_xlfn.IFNA(AJ42&\"#\"&AK42&\"#\"&VLOOKUP(AL42,数组!$B:$C,2,0)&\"#\"&角色升星配方!AM42,\"\")","v":""},{"$f":"_xlfn.IFNA(AK42&\"#\"&AL42&\"#\"&VLOOKUP(AM42,数组!$B:$C,2,0)&\"#\"&角色升星配方!AN42,\"\")","v":"6#3#17#3"},{"$f":"_xlfn.IFNA(AL42&\"#\"&AM42&\"#\"&VLOOKUP(AN42,数组!$B:$C,2,0)&\"#\"&角色升星配方!AO42,\"\")","v":""},{"$f":"_xlfn.IFNA(AM42&\"#\"&AN42&\"#\"&VLOOKUP(AO42,数组!$B:$C,2,0)&\"#\"&角色升星配方!AP42,\"\")","v":""},{"$f":"_xlfn.IFNA(AN42&\"#\"&AO42&\"#\"&VLOOKUP(AP42,数组!$B:$C,2,0)&\"#\"&角色升星配方!AQ42,\"\")","v":""},{"$f":"_xlfn.IFNA(AO42&\"#\"&AP42&\"#\"&VLOOKUP(AQ42,数组!$B:$C,2,0)&\"#\"&角色升星配方!AR42,\"\")","v":""},{"$f":"_xlfn.IFNA(AP42&\"#\"&AQ42&\"#\"&VLOOKUP(AR42,数组!$B:$C,2,0)&\"#\"&角色升星配方!AS42,\"\")","v":""},{"$f":"_xlfn.IFNA(AQ42&\"#\"&AR42&\"#\"&VLOOKUP(AS42,数组!$B:$C,2,0)&\"#\"&角色升星配方!AT42,\"\")","v":""},{"$f":"_xlfn.IFNA(AR42&\"#\"&AS42&\"#\"&VLOOKUP(AT42,数组!$B:$C,2,0)&\"#\"&角色升星配方!AU42,\"\")","v":""},{"$f":"_xlfn.IFNA(AS42&\"#\"&AT42&\"#\"&VLOOKUP(AU42,数组!$B:$C,2,0)&\"#\"&角色升星配方!AV42,\"\")","v":""},{"$f":"_xlfn.IFNA(AT42&\"#\"&AU42&\"#\"&VLOOKUP(AV42,数组!$B:$C,2,0)&\"#\"&角色升星配方!AW42,\"\")","v":""},{"$f":"_xlfn.IFNA(AU42&\"#\"&AV42&\"#\"&VLOOKUP(AW42,数组!$B:$C,2,0)&\"#\"&角色升星配方!AX42,\"\")","v":""},{"$f":"_xlfn.IFNA(AV42&\"#\"&AW42&\"#\"&VLOOKUP(AX42,数组!$B:$C,2,0)&\"#\"&角色升星配方!AY42,\"\")","v":""},{"$f":"_xlfn.IFNA(AW42&\"#\"&AX42&\"#\"&VLOOKUP(AY42,数组!$B:$C,2,0)&\"#\"&角色升星配方!AZ42,\"\")","v":""},{"$f":"_xlfn.IFNA(AX42&\"#\"&AY42&\"#\"&VLOOKUP(AZ42,数组!$B:$C,2,0)&\"#\"&角色升星配方!BM42,\"\")","v":""},null,null,{"$f":"_xlfn.IFNA(BA42&\"#\"&BB42&\"#\"&VLOOKUP(BC42,数组!$B:$C,2,0)&\"#\"&角色升星配方!BD42,\"\")","v":""},{"$nulls":3},{"$f":"_xlfn.IFNA(BE42&\"#\"&BF42&\"#\"&VLOOKUP(BG42,数组!$B:$C,2,0)&\"#\"&角色升星配方!BH42,\"\")","v":""},{"$nulls":3},{"$f":"_xlfn.IFNA(BI42&\"#\"&BJ42&\"#\"&VLOOKUP(BK42,数组!$B:$C,2,0)&\"#\"&角色升星配方!BL42,\"\")","v":""},{"$f":"[2]!SUMSTRING(BM42:DM42,\"|\")","v":{"$error":"#NAME?"}}]
[2,10042,2,4,5,1,"4星同名",3,5,2,"3星同系",4,5,3,"4星同系",4,{"$nulls":12},6,1,"5星同名",1,6,2,"5星10030",1,6,3,"5星同系",3,{"$nulls":24},{"$f":"_xlfn.IFNA(E43&\"#\"&F43&\"#\"&VLOOKUP(G43,数组!$B:$C,2,0)&\"#\"&角色升星配方!H43,\"\")","v":"5#1#2#3"},{"$f":"_xlfn.IFNA(F43&\"#\"&G43&\"#\"&VLOOKUP(H43,数组!$B:$C,2,0)&\"#\"&角色升星配方!I43,\"\")","v":""},{"$f":"_xlfn.IFNA(G43&\"#\"&H43&\"#\"&VLOOKUP(I43,数组!$B:$C,2,0)&\"#\"&角色升星配方!J43,\"\")","v":""},{"$f":"_xlfn.IFNA(H43&\"#\"&I43&\"#\"&VLOOKUP(J43,数组!$B:$C,2,0)&\"#\"&角色升星配方!K43,\"\")","v":""},{"$f":"_xlfn.IFNA(I43&\"#\"&J43&\"#\"&VLOOKUP(K43,数组!$B:$C,2,0)&\"#\"&角色升星配方!L43,\"\")","v":"5#2#15#4"},{"$f":"_xlfn.IFNA(J43&\"#\"&K43&\"#\"&VLOOKUP(L43,数组!$B:$C,2,0)&\"#\"&角色升星配方!M43,\"\")","v":""},{"$f":"_xlfn.IFNA(K43&\"#\"&L43&\"#\"&VLOOKUP(M43,数组!$B:$C,2,0)&\"#\"&角色升星配方!N43,\"\")","v":""},{"$f":"_xlfn.IFNA(L43&\"#\"&M43&\"#\"&VLOOKUP(N43,数组!$B:$C,2,0)&\"#\"&角色升星配方!O43,\"\")","v":""},{"$f":"_xlfn.IFNA(M43&\"#\"&N43&\"#\"&VLOOKUP(O43,数组!$B:$C,2,0)&\"#\"&角色升星配方!P43,\"\")","v":"5#3#16#4"},{"$f":"_xlfn.IFNA(N43&\"#\"&O43&\"#\"&VLOOKUP(P43,数组!$B:$C,2,0)&\"#\"&角色升星配方!Q43,\"\")","v":""},{"$f":"_xlfn.IFNA(O43&\"#\"&P43&\"#\"&VLOOKUP(Q43,数组!$B:$C,2,0)&\"#\"&角色升星配方!R43,\"\")","v":""},{"$f":"_xlfn.IFNA(P43&\"#\"&Q43&\"#\"&VLOOKUP(R43,数组!$B:$C,2,0)&\"#\"&角色升星配方!S43,\"\")","v":""},{"$f":"_xlfn.IFNA(Q43&\"#\"&R43&\"#\"&VLOOKUP(S43,数组!$B:$C,2,0)&\"#\"&角色升星配方!T43,\"\")","v":""},{"$f":"_xlfn.IFNA(R43&\"#\"&S43&\"#\"&VLOOKUP(T43,数组!$B:$C,2,0)&\"#\"&角色升星配方!U43,\"\")","v":""},{"$f":"_xlfn.IFNA(S43&\"#\"&T43&\"#\"&VLOOKUP(U43,数组!$B:$C,2,0)&\"#\"&角色升星配方!V43,\"\")","v":""},{"$f":"_xlfn.IFNA(T43&\"#\"&U43&\"#\"&VLOOKUP(V43,数组!$B:$C,2,0)&\"#\"&角色升星配方!W43,\"\")","v":""},{"$f":"_xlfn.IFNA(U43&\"#\"&V43&\"#\"&VLOOKUP(W43,数组!$B:$C,2,0)&\"#\"&角色升星配方!X43,\"\")","v":""},{"$f":"_xlfn.IFNA(V43&\"#\"&W43&\"#\"&VLOOKUP(X43,数组!$B:$C,2,0)&\"#\"&角色升星配方!AC43,\"\")","v":""},{"$f":"_xlfn.IFNA(W43&\"#\"&X43&\"#\"&VLOOKUP(AC43,数组!$B:$C,2,0)&\"#\"&角色升星配方!AD43,\"\")","v":""},{"$f":"_xlfn.IFNA(X43&\"#\"&AC43&\"#\"&VLOOKUP(AD43,数组!$B:$C,2,0)&\"#\"&角色升星配方!AE43,\"\")","v":""},{"$f":"_xlfn.IFNA(AC43&\"#\"&AD43&\"#\"&VLOOKUP(AE43,数组!$B:$C,2,0)&\"#\"&角色升星配方!AF43,\"\")","v":"6#1#3#1"},{"$f":"_xlfn.IFNA(AD43&\"#\"&AE43&\"#\"&VLOOKUP(AF43,数组!$B:$C,2,0)&\"#\"&角色升星配方!AG43,\"\")","v":""},{"$f":"_xlfn.IFNA(AE43&\"#\"&AF43&\"#\"&VLOOKUP(AG43,数组!$B:$C,2,0)&\"#\"&角色升星配方!AH43,\"\")","v":""},{"$f":"_xlfn.IFNA(AF43&\"#\"&AG43&\"#\"&VLOOKUP(AH43,数组!$B:$C,2,0)&\"#\"&角色升星配方!AI43,\"\")","v":""},{"$f":"_xlfn.IFNA(AG43&\"#\"&AH43&\"#\"&VLOOKUP(AI43,数组!$B:$C,2,0)&\"#\"&角色升星配方!AJ43,\"\")","v":"6#2#28#1"},{"$f":"_xlfn.IFNA(AH43&\"#\"&AI43&\"#\"&VLOOKUP(AJ43,数组!$B:$C,2,0)&\"#\"&角色升星配方!AK43,\"\")","v":""},{"$f":"_xlfn.IFNA(AI43&\"#\"&AJ43&\"#\"&VLOOKUP(AK43,数组!$B:$C,2,0)&\"#\"&角色升星配方!AL43,\"\")","v":""},{"$f":"_xlfn.IFNA(AJ43&\"#\"&AK43&\"#\"&VLOOKUP(AL43,数组!$B:$C,2,0)&\"#\"&角色升星配方!AM43,\"\")","v":""},{"$f":"_xlfn.IFNA(AK43&\"#\"&AL43&\"#\"&VLOOKUP(AM43,数组!$B:$C,2,0)&\"#\"&角色升星配方!AN43,\"\")","v":"6#3#17#3"},{"$f":"_xlfn.IFNA(AL43&\"#\"&AM43&\"#\"&VLOOKUP(AN43,数组!$B:$C,2,0)&\"#\"&角色升星配方!AO43,\"\")","v":""},{"$f":"_xlfn.IFNA(AM43&\"#\"&AN43&\"#\"&VLOOKUP(AO43,数组!$B:$C,2,0)&\"#\"&角色升星配方!AP43,\"\")","v":""},{"$f":"_xlfn.IFNA(AN43&\"#\"&AO43&\"#\"&VLOOKUP(AP43,数组!$B:$C,2,0)&\"#\"&角色升星配方!AQ43,\"\")","v":""},{"$f":"_xlfn.IFNA(AO43&\"#\"&AP43&\"#\"&VLOOKUP(AQ43,数组!$B:$C,2,0)&\"#\"&角色升星配方!AR43,\"\")","v":""},{"$f":"_xlfn.IFNA(AP43&\"#\"&AQ43&\"#\"&VLOOKUP(AR43,数组!$B:$C,2,0)&\"#\"&角色升星配方!AS43,\"\")","v":""},{"$f":"_xlfn.IFNA(AQ43&\"#\"&AR43&\"#\"&VLOOKUP(AS43,数组!$B:$C,2,0)&\"#\"&角色升星配方!AT43,\"\")","v":""},{"$f":"_xlfn.IFNA(AR43&\"#\"&AS43&\"#\"&VLOOKUP(AT43,数组!$B:$C,2,0)&\"#\"&角色升星配方!AU43,\"\")","v":""},{"$f":"_xlfn.IFNA(AS43&\"#\"&AT43&\"#\"&VLOOKUP(AU43,数组!$B:$C,2,0)&\"#\"&角色升星配方!AV43,\"\")","v":""},{"$f":"_xlfn.IFNA(AT43&\"#\"&AU43&\"#\"&VLOOKUP(AV43,数组!$B:$C,2,0)&\"#\"&角色升星配方!AW43,\"\")","v":""},{"$f":"_xlfn.IFNA(AU43&\"#\"&AV43&\"#\"&VLOOKUP(AW43,数组!$B:$C,2,0)&\"#\"&角色升星配方!AX43,\"\")","v":""},{"$f":"_xlfn.IFNA(AV43&\"#\"&AW43&\"#\"&VLOOKUP(AX43,数组!$B:$C,2,0)&\"#\"&角色升星配方!AY43,\"\")","v":""},{"$f":"_xlfn.IFNA(AW43&\"#\"&AX43&\"#\"&VLOOKUP(AY43,数组!$B:$C,2,0)&\"#\"&角色升星配方!AZ43,\"\")","v":""},{"$f":"_xlfn.IFNA(AX43&\"#\"&AY43&\"#\"&VLOOKUP(AZ43,数组!$B:$C,2,0)&\"#\"&角色升星配方!BM43,\"\")","v":""},null,null,{"$f":"_xlfn.IFNA(BA43&\"#\"&BB43&\"#\"&VLOOKUP(BC43,数组!$B:$C,2,0)&\"#\"&角色升星配方!BD43,\"\")","v":""},{"$nulls":3},{"$f":"_xlfn.IFNA(BE43&\"#\"&BF43&\"#\"&VLOOKUP(BG43,数组!$B:$C,2,0)&\"#\"&角色升星配方!BH43,\"\")","v":""},{"$nulls":3},{"$f":"_xlfn.IFNA(BI43&\"#\"&BJ43&\"#\"&VLOOKUP(BK43,数组!$B:$C,2,0)&\"#\"&角色升星配方!BL43,\"\")","v":""},{"$f":"[2]!SUMSTRING(BM43:DM43,\"|\")","v":{"$error":"#NAME?"}}]
[3,10043,3,4,5,1,"4星同名",3,5,2,"3星同系",4,5,3,"4星同系",4,{"$nulls":12},6,1,"5星同名",1,6,2,"5星10036",1,6,3,"5星同系",3,{"$nulls":24},{"$f":"_xlfn.IFNA(E44&\"#\"&F44&\"#\"&VLOOKUP(G44,数组!$B:$C,2,0)&\"#\"&角色升星配方!H44,\"\")","v":"5#1#2#3"},{"$f":"_xlfn.IFNA(F44&\"#\"&G44&\"#\"&VLOOKUP(H44,数组!$B:$C,2,0)&\"#\"&角色升星配方!I44,\"\")","v":""},{"$f":"_xlfn.IFNA(G44&\"#\"&H44&\"#\"&VLOOKUP(I44,数组!$B:$C,2,0)&\"#\"&角色升星配方!J44,\"\")","v":""},{"$f":"_xlfn.IFNA(H44&\"#\"&I44&\"#\"&VLOOKUP(J44,数组!$B:$C,2,0)&\"#\"&角色升星配方!K44,\"\")","v":""},{"$f":"_xlfn.IFNA(I44&\"#\"&J44&\"#\"&VLOOKUP(K44,数组!$B:$C,2,0)&\"#\"&角色升星配方!L44,\"\")","v":"5#2#15#4"},{"$f":"_xlfn.IFNA(J44&\"#\"&K44&\"#\"&VLOOKUP(L44,数组!$B:$C,2,0)&\"#\"&角色升星配方!M44,\"\")","v":""},{"$f":"_xlfn.IFNA(K44&\"#\"&L44&\"#\"&VLOOKUP(M44,数组!$B:$C,2,0)&\"#\"&角色升星配方!N44,\"\")","v":""},{"$f":"_xlfn.IFNA(L44&\"#\"&M44&\"#\"&VLOOKUP(N44,数组!$B:$C,2,0)&\"#\"&角色升星配方!O44,\"\")","v":""},{"$f":"_xlfn.IFNA(M44&\"#\"&N44&\"#\"&VLOOKUP(O44,数组!$B:$C,2,0)&\"#\"&角色升星配方!P44,\"\")","v":"5#3#16#4"},{"$f":"_xlfn.IFNA(N44&\"#\"&O44&\"#\"&VLOOKUP(P44,数组!$B:$C,2,0)&\"#\"&角色升星配方!Q44,\"\")","v":""},{"$f":"_xlfn.IFNA(O44&\"#\"&P44&\"#\"&VLOOKUP(Q44,数组!$B:$C,2,0)&\"#\"&角色升星配方!R44,\"\")","v":""},{"$f":"_xlfn.IFNA(P44&\"#\"&Q44&\"#\"&VLOOKUP(R44,数组!$B:$C,2,0)&\"#\"&角色升星配方!S44,\"\")","v":""},{"$f":"_xlfn.IFNA(Q44&\"#\"&R44&\"#\"&VLOOKUP(S44,数组!$B:$C,2,0)&\"#\"&角色升星配方!T44,\"\")","v":""},{"$f":"_xlfn.IFNA(R44&\"#\"&S44&\"#\"&VLOOKUP(T44,数组!$B:$C,2,0)&\"#\"&角色升星配方!U44,\"\")","v":""},{"$f":"_xlfn.IFNA(S44&\"#\"&T44&\"#\"&VLOOKUP(U44,数组!$B:$C,2,0)&\"#\"&角色升星配方!V44,\"\")","v":""},{"$f":"_xlfn.IFNA(T44&\"#\"&U44&\"#\"&VLOOKUP(V44,数组!$B:$C,2,0)&\"#\"&角色升星配方!W44,\"\")","v":""},{"$f":"_xlfn.IFNA(U44&\"#\"&V44&\"#\"&VLOOKUP(W44,数组!$B:$C,2,0)&\"#\"&角色升星配方!X44,\"\")","v":""},{"$f":"_xlfn.IFNA(V44&\"#\"&W44&\"#\"&VLOOKUP(X44,数组!$B:$C,2,0)&\"#\"&角色升星配方!AC44,\"\")","v":""},{"$f":"_xlfn.IFNA(W44&\"#\"&X44&\"#\"&VLOOKUP(AC44,数组!$B:$C,2,0)&\"#\"&角色升星配方!AD44,\"\")","v":""},{"$f":"_xlfn.IFNA(X44&\"#\"&AC44&\"#\"&VLOOKUP(AD44,数组!$B:$C,2,0)&\"#\"&角色升星配方!AE44,\"\")","v":""},{"$f":"_xlfn.IFNA(AC44&\"#\"&AD44&\"#\"&VLOOKUP(AE44,数组!$B:$C,2,0)&\"#\"&角色升星配方!AF44,\"\")","v":"6#1#3#1"},{"$f":"_xlfn.IFNA(AD44&\"#\"&AE44&\"#\"&VLOOKUP(AF44,数组!$B:$C,2,0)&\"#\"&角色升星配方!AG44,\"\")","v":""},{"$f":"_xlfn.IFNA(AE44&\"#\"&AF44&\"#\"&VLOOKUP(AG44,数组!$B:$C,2,0)&\"#\"&角色升星配方!AH44,\"\")","v":""},{"$f":"_xlfn.IFNA(AF44&\"#\"&AG44&\"#\"&VLOOKUP(AH44,数组!$B:$C,2,0)&\"#\"&角色升星配方!AI44,\"\")","v":""},{"$f":"_xlfn.IFNA(AG44&\"#\"&AH44&\"#\"&VLOOKUP(AI44,数组!$B:$C,2,0)&\"#\"&角色升星配方!AJ44,\"\")","v":"6#2#34#1"},{"$f":"_xlfn.IFNA(AH44&\"#\"&AI44&\"#\"&VLOOKUP(AJ44,数组!$B:$C,2,0)&\"#\"&角色升星配方!AK44,\"\")","v":""},{"$f":"_xlfn.IFNA(AI44&\"#\"&AJ44&\"#\"&VLOOKUP(AK44,数组!$B:$C,2,0)&\"#\"&角色升星配方!AL44,\"\")","v":""},{"$f":"_xlfn.IFNA(AJ44&\"#\"&AK44&\"#\"&VLOOKUP(AL44,数组!$B:$C,2,0)&\"#\"&角色升星配方!AM44,\"\")","v":""},{"$f":"_xlfn.IFNA(AK44&\"#\"&AL44&\"#\"&VLOOKUP(AM44,数组!$B:$C,2,0)&\"#\"&角色升星配方!AN44,\"\")","v":"6#3#17#3"},{"$f":"_xlfn.IFNA(AL44&\"#\"&AM44&\"#\"&VLOOKUP(AN44,数组!$B:$C,2,0)&\"#\"&角色升星配方!AO44,\"\")","v":""},{"$f":"_xlfn.IFNA(AM44&\"#\"&AN44&\"#\"&VLOOKUP(AO44,数组!$B:$C,2,0)&\"#\"&角色升星配方!AP44,\"\")","v":""},{"$f":"_xlfn.IFNA(AN44&\"#\"&AO44&\"#\"&VLOOKUP(AP44,数组!$B:$C,2,0)&\"#\"&角色升星配方!AQ44,\"\")","v":""},{"$f":"_xlfn.IFNA(AO44&\"#\"&AP44&\"#\"&VLOOKUP(AQ44,数组!$B:$C,2,0)&\"#\"&角色升星配方!AR44,\"\")","v":""},{"$f":"_xlfn.IFNA(AP44&\"#\"&AQ44&\"#\"&VLOOKUP(AR44,数组!$B:$C,2,0)&\"#\"&角色升星配方!AS44,\"\")","v":""},{"$f":"_xlfn.IFNA(AQ44&\"#\"&AR44&\"#\"&VLOOKUP(AS44,数组!$B:$C,2,0)&\"#\"&角色升星配方!AT44,\"\")","v":""},{"$f":"_xlfn.IFNA(AR44&\"#\"&AS44&\"#\"&VLOOKUP(AT44,数组!$B:$C,2,0)&\"#\"&角色升星配方!AU44,\"\")","v":""},{"$f":"_xlfn.IFNA(AS44&\"#\"&AT44&\"#\"&VLOOKUP(AU44,数组!$B:$C,2,0)&\"#\"&角色升星配方!AV44,\"\")","v":""},{"$f":"_xlfn.IFNA(AT44&\"#\"&AU44&\"#\"&VLOOKUP(AV44,数组!$B:$C,2,0)&\"#\"&角色升星配方!AW44,\"\")","v":""},{"$f":"_xlfn.IFNA(AU44&\"#\"&AV44&\"#\"&VLOOKUP(AW44,数组!$B:$C,2,0)&\"#\"&角色升星配方!AX44,\"\")","v":""},{"$f":"_xlfn.IFNA(AV44&\"#\"&AW44&\"#\"&VLOOKUP(AX44,数组!$B:$C,2,0)&\"#\"&角色升星配方!AY44,\"\")","v":""},{"$f":"_xlfn.IFNA(AW44&\"#\"&AX44&\"#\"&VLOOKUP(AY44,数组!$B:$C,2,0)&\"#\"&角色升星配方!AZ44,\"\")","v":""},{"$f":"_xlfn.IFNA(AX44&\"#\"&AY44&\"#\"&VLOOKUP(AZ44,数组!$B:$C,2,0)&\"#\"&角色升星配方!BM44,\"\")","v":""},null,null,{"$f":"_xlfn.IFNA(BA44&\"#\"&BB44&\"#\"&VLOOKUP(BC44,数组!$B:$C,2,0)&\"#\"&角色升星配方!BD44,\"\")","v":""},{"$nulls":3},{"$f":"_xlfn.IFNA(BE44&\"#\"&BF44&\"#\"&VLOOKUP(BG44,数组!$B:$C,2,0)&\"#\"&角色升星配方!BH44,\"\")","v":""},{"$nulls":3},{"$f":"_xlfn.IFNA(BI44&\"#\"&BJ44&\"#\"&VLOOKUP(BK44,数组!$B:$C,2,0)&\"#\"&角色升星配方!BL44,\"\")","v":""},{"$f":"[2]!SUMSTRING(BM44:DM44,\"|\")","v":{"$error":"#NAME?"}}]
[6,10044,6,4,5,1,"4星同名",3,5,2,"3星同系",4,5,3,"4星同系",4,{"$nulls":12},6,1,"5星同名",1,6,2,"5星10035",1,6,3,"5星同系",3,7,1,"5星同系",4,8,1,"5星同系",3,8,2,"6星同系",1,9,1,"5星同名",1,9,2,"6星同系",1,9,3,"5星同系",2,{"$f":"_xlfn.IFNA(E45&\"#\"&F45&\"#\"&VLOOKUP(G45,数组!$B:$C,2,0)&\"#\"&角色升星配方!H45,\"\")","v":"5#1#2#3"},{"$f":"_xlfn.IFNA(F45&\"#\"&G45&\"#\"&VLOOKUP(H45,数组!$B:$C,2,0)&\"#\"&角色升星配方!I45,\"\")","v":""},{"$f":"_xlfn.IFNA(G45&\"#\"&H45&\"#\"&VLOOKUP(I45,数组!$B:$C,2,0)&\"#\"&角色升星配方!J45,\"\")","v":""},{"$f":"_xlfn.IFNA(H45&\"#\"&I45&\"#\"&VLOOKUP(J45,数组!$B:$C,2,0)&\"#\"&角色升星配方!K45,\"\")","v":""},{"$f":"_xlfn.IFNA(I45&\"#\"&J45&\"#\"&VLOOKUP(K45,数组!$B:$C,2,0)&\"#\"&角色升星配方!L45,\"\")","v":"5#2#15#4"},{"$f":"_xlfn.IFNA(J45&\"#\"&K45&\"#\"&VLOOKUP(L45,数组!$B:$C,2,0)&\"#\"&角色升星配方!M45,\"\")","v":""},{"$f":"_xlfn.IFNA(K45&\"#\"&L45&\"#\"&VLOOKUP(M45,数组!$B:$C,2,0)&\"#\"&角色升星配方!N45,\"\")","v":""},{"$f":"_xlfn.IFNA(L45&\"#\"&M45&\"#\"&VLOOKUP(N45,数组!$B:$C,2,0)&\"#\"&角色升星配方!O45,\"\")","v":""},{"$f":"_xlfn.IFNA(M45&\"#\"&N45&\"#\"&VLOOKUP(O45,数组!$B:$C,2,0)&\"#\"&角色升星配方!P45,\"\")","v":"5#3#16#4"},{"$f":"_xlfn.IFNA(N45&\"#\"&O45&\"#\"&VLOOKUP(P45,数组!$B:$C,2,0)&\"#\"&角色升星配方!Q45,\"\")","v":""},{"$f":"_xlfn.IFNA(O45&\"#\"&P45&\"#\"&VLOOKUP(Q45,数组!$B:$C,2,0)&\"#\"&角色升星配方!R45,\"\")","v":""},{"$f":"_xlfn.IFNA(P45&\"#\"&Q45&\"#\"&VLOOKUP(R45,数组!$B:$C,2,0)&\"#\"&角色升星配方!S45,\"\")","v":""},{"$f":"_xlfn.IFNA(Q45&\"#\"&R45&\"#\"&VLOOKUP(S45,数组!$B:$C,2,0)&\"#\"&角色升星配方!T45,\"\")","v":""},{"$f":"_xlfn.IFNA(R45&\"#\"&S45&\"#\"&VLOOKUP(T45,数组!$B:$C,2,0)&\"#\"&角色升星配方!U45,\"\")","v":""},{"$f":"_xlfn.IFNA(S45&\"#\"&T45&\"#\"&VLOOKUP(U45,数组!$B:$C,2,0)&\"#\"&角色升星配方!V45,\"\")","v":""},{"$f":"_xlfn.IFNA(T45&\"#\"&U45&\"#\"&VLOOKUP(V45,数组!$B:$C,2,0)&\"#\"&角色升星配方!W45,\"\")","v":""},{"$f":"_xlfn.IFNA(U45&\"#\"&V45&\"#\"&VLOOKUP(W45,数组!$B:$C,2,0)&\"#\"&角色升星配方!X45,\"\")","v":""},{"$f":"_xlfn.IFNA(V45&\"#\"&W45&\"#\"&VLOOKUP(X45,数组!$B:$C,2,0)&\"#\"&角色升星配方!AC45,\"\")","v":""},{"$f":"_xlfn.IFNA(W45&\"#\"&X45&\"#\"&VLOOKUP(AC45,数组!$B:$C,2,0)&\"#\"&角色升星配方!AD45,\"\")","v":""},{"$f":"_xlfn.IFNA(X45&\"#\"&AC45&\"#\"&VLOOKUP(AD45,数组!$B:$C,2,0)&\"#\"&角色升星配方!AE45,\"\")","v":""},{"$f":"_xlfn.IFNA(AC45&\"#\"&AD45&\"#\"&VLOOKUP(AE45,数组!$B:$C,2,0)&\"#\"&角色升星配方!AF45,\"\")","v":"6#1#3#1"},{"$f":"_xlfn.IFNA(AD45&\"#\"&AE45&\"#\"&VLOOKUP(AF45,数组!$B:$C,2,0)&\"#\"&角色升星配方!AG45,\"\")","v":""},{"$f":"_xlfn.IFNA(AE45&\"#\"&AF45&\"#\"&VLOOKUP(AG45,数组!$B:$C,2,0)&\"#\"&角色升星配方!AH45,\"\")","v":""},{"$f":"_xlfn.IFNA(AF45&\"#\"&AG45&\"#\"&VLOOKUP(AH45,数组!$B:$C,2,0)&\"#\"&角色升星配方!AI45,\"\")","v":""},{"$f":"_xlfn.IFNA(AG45&\"#\"&AH45&\"#\"&VLOOKUP(AI45,数组!$B:$C,2,0)&\"#\"&角色升星配方!AJ45,\"\")","v":"6#2#33#1"},{"$f":"_xlfn.IFNA(AH45&\"#\"&AI45&\"#\"&VLOOKUP(AJ45,数组!$B:$C,2,0)&\"#\"&角色升星配方!AK45,\"\")","v":""},{"$f":"_xlfn.IFNA(AI45&\"#\"&AJ45&\"#\"&VLOOKUP(AK45,数组!$B:$C,2,0)&\"#\"&角色升星配方!AL45,\"\")","v":""},{"$f":"_xlfn.IFNA(AJ45&\"#\"&AK45&\"#\"&VLOOKUP(AL45,数组!$B:$C,2,0)&\"#\"&角色升星配方!AM45,\"\")","v":""},{"$f":"_xlfn.IFNA(AK45&\"#\"&AL45&\"#\"&VLOOKUP(AM45,数组!$B:$C,2,0)&\"#\"&角色升星配方!AN45,\"\")","v":"6#3#17#3"},{"$f":"_xlfn.IFNA(AL45&\"#\"&AM45&\"#\"&VLOOKUP(AN45,数组!$B:$C,2,0)&\"#\"&角色升星配方!AO45,\"\")","v":""},{"$f":"_xlfn.IFNA(AM45&\"#\"&AN45&\"#\"&VLOOKUP(AO45,数组!$B:$C,2,0)&\"#\"&角色升星配方!AP45,\"\")","v":""},{"$f":"_xlfn.IFNA(AN45&\"#\"&AO45&\"#\"&VLOOKUP(AP45,数组!$B:$C,2,0)&\"#\"&角色升星配方!AQ45,\"\")","v":""},{"$f":"_xlfn.IFNA(AO45&\"#\"&AP45&\"#\"&VLOOKUP(AQ45,数组!$B:$C,2,0)&\"#\"&角色升星配方!AR45,\"\")","v":"7#1#17#4"},{"$f":"_xlfn.IFNA(AP45&\"#\"&AQ45&\"#\"&VLOOKUP(AR45,数组!$B:$C,2,0)&\"#\"&角色升星配方!AS45,\"\")","v":""},{"$f":"_xlfn.IFNA(AQ45&\"#\"&AR45&\"#\"&VLOOKUP(AS45,数组!$B:$C,2,0)&\"#\"&角色升星配方!AT45,\"\")","v":""},{"$f":"_xlfn.IFNA(AR45&\"#\"&AS45&\"#\"&VLOOKUP(AT45,数组!$B:$C,2,0)&\"#\"&角色升星配方!AU45,\"\")","v":""},{"$f":"_xlfn.IFNA(AS45&\"#\"&AT45&\"#\"&VLOOKUP(AU45,数组!$B:$C,2,0)&\"#\"&角色升星配方!AV45,\"\")","v":"8#1#17#3"},{"$f":"_xlfn.IFNA(AT45&\"#\"&AU45&\"#\"&VLOOKUP(AV45,数组!$B:$C,2,0)&\"#\"&角色升星配方!AW45,\"\")","v":""},{"$f":"_xlfn.IFNA(AU45&\"#\"&AV45&\"#\"&VLOOKUP(AW45,数组!$B:$C,2,0)&\"#\"&角色升星配方!AX45,\"\")","v":""},{"$f":"_xlfn.IFNA(AV45&\"#\"&AW45&\"#\"&VLOOKUP(AX45,数组!$B:$C,2,0)&\"#\"&角色升星配方!AY45,\"\")","v":""},{"$f":"_xlfn.IFNA(AW45&\"#\"&AX45&\"#\"&VLOOKUP(AY45,数组!$B:$C,2,0)&\"#\"&角色升星配方!AZ45,\"\")","v":"8#2#18#1"},{"$f":"_xlfn.IFNA(AX45&\"#\"&AY45&\"#\"&VLOOKUP(AZ45,数组!$B:$C,2,0)&\"#\"&角色升星配方!BM45,\"\")","v":""},null,null,{"$f":"_xlfn.IFNA(BA45&\"#\"&BB45&\"#\"&VLOOKUP(BC45,数组!$B:$C,2,0)&\"#\"&角色升星配方!BD45,\"\")","v":"9#1#3#1"},{"$nulls":3},{"$f":"_xlfn.IFNA(BE45&\"#\"&BF45&\"#\"&VLOOKUP(BG45,数组!$B:$C,2,0)&\"#\"&角色升星配方!BH45,\"\")","v":"9#2#18#1"},{"$nulls":3},{"$f":"_xlfn.IFNA(BI45&\"#\"&BJ45&\"#\"&VLOOKUP(BK45,数组!$B:$C,2,0)&\"#\"&角色升星配方!BL45,\"\")","v":"9#3#17#2"},{"$f":"[2]!SUMSTRING(BM45:DM45,\"|\")","v":{"$error":"#NAME?"}}]
[2,10045,2,4,5,1,"4星同名",3,5,2,"3星同系",4,5,3,"4星同系",4,{"$nulls":12},6,1,"5星同名",1,6,2,"5星10042",1,6,3,"5星同系",3,{"$nulls":24},{"$f":"_xlfn.IFNA(E46&\"#\"&F46&\"#\"&VLOOKUP(G46,数组!$B:$C,2,0)&\"#\"&角色升星配方!H46,\"\")","v":"5#1#2#3"},{"$f":"_xlfn.IFNA(F46&\"#\"&G46&\"#\"&VLOOKUP(H46,数组!$B:$C,2,0)&\"#\"&角色升星配方!I46,\"\")","v":""},{"$f":"_xlfn.IFNA(G46&\"#\"&H46&\"#\"&VLOOKUP(I46,数组!$B:$C,2,0)&\"#\"&角色升星配方!J46,\"\")","v":""},{"$f":"_xlfn.IFNA(H46&\"#\"&I46&\"#\"&VLOOKUP(J46,数组!$B:$C,2,0)&\"#\"&角色升星配方!K46,\"\")","v":""},{"$f":"_xlfn.IFNA(I46&\"#\"&J46&\"#\"&VLOOKUP(K46,数组!$B:$C,2,0)&\"#\"&角色升星配方!L46,\"\")","v":"5#2#15#4"},{"$f":"_xlfn.IFNA(J46&\"#\"&K46&\"#\"&VLOOKUP(L46,数组!$B:$C,2,0)&\"#\"&角色升星配方!M46,\"\")","v":""},{"$f":"_xlfn.IFNA(K46&\"#\"&L46&\"#\"&VLOOKUP(M46,数组!$B:$C,2,0)&\"#\"&角色升星配方!N46,\"\")","v":""},{"$f":"_xlfn.IFNA(L46&\"#\"&M46&\"#\"&VLOOKUP(N46,数组!$B:$C,2,0)&\"#\"&角色升星配方!O46,\"\")","v":""},{"$f":"_xlfn.IFNA(M46&\"#\"&N46&\"#\"&VLOOKUP(O46,数组!$B:$C,2,0)&\"#\"&角色升星配方!P46,\"\")","v":"5#3#16#4"},{"$f":"_xlfn.IFNA(N46&\"#\"&O46&\"#\"&VLOOKUP(P46,数组!$B:$C,2,0)&\"#\"&角色升星配方!Q46,\"\")","v":""},{"$f":"_xlfn.IFNA(O46&\"#\"&P46&\"#\"&VLOOKUP(Q46,数组!$B:$C,2,0)&\"#\"&角色升星配方!R46,\"\")","v":""},{"$f":"_xlfn.IFNA(P46&\"#\"&Q46&\"#\"&VLOOKUP(R46,数组!$B:$C,2,0)&\"#\"&角色升星配方!S46,\"\")","v":""},{"$f":"_xlfn.IFNA(Q46&\"#\"&R46&\"#\"&VLOOKUP(S46,数组!$B:$C,2,0)&\"#\"&角色升星配方!T46,\"\")","v":""},{"$f":"_xlfn.IFNA(R46&\"#\"&S46&\"#\"&VLOOKUP(T46,数组!$B:$C,2,0)&\"#\"&角色升星配方!U46,\"\")","v":""},{"$f":"_xlfn.IFNA(S46&\"#\"&T46&\"#\"&VLOOKUP(U46,数组!$B:$C,2,0)&\"#\"&角色升星配方!V46,\"\")","v":""},{"$f":"_xlfn.IFNA(T46&\"#\"&U46&\"#\"&VLOOKUP(V46,数组!$B:$C,2,0)&\"#\"&角色升星配方!W46,\"\")","v":""},{"$f":"_xlfn.IFNA(U46&\"#\"&V46&\"#\"&VLOOKUP(W46,数组!$B:$C,2,0)&\"#\"&角色升星配方!X46,\"\")","v":""},{"$f":"_xlfn.IFNA(V46&\"#\"&W46&\"#\"&VLOOKUP(X46,数组!$B:$C,2,0)&\"#\"&角色升星配方!AC46,\"\")","v":""},{"$f":"_xlfn.IFNA(W46&\"#\"&X46&\"#\"&VLOOKUP(AC46,数组!$B:$C,2,0)&\"#\"&角色升星配方!AD46,\"\")","v":""},{"$f":"_xlfn.IFNA(X46&\"#\"&AC46&\"#\"&VLOOKUP(AD46,数组!$B:$C,2,0)&\"#\"&角色升星配方!AE46,\"\")","v":""},{"$f":"_xlfn.IFNA(AC46&\"#\"&AD46&\"#\"&VLOOKUP(AE46,数组!$B:$C,2,0)&\"#\"&角色升星配方!AF46,\"\")","v":"6#1#3#1"},{"$f":"_xlfn.IFNA(AD46&\"#\"&AE46&\"#\"&VLOOKUP(AF46,数组!$B:$C,2,0)&\"#\"&角色升星配方!AG46,\"\")","v":""},{"$f":"_xlfn.IFNA(AE46&\"#\"&AF46&\"#\"&VLOOKUP(AG46,数组!$B:$C,2,0)&\"#\"&角色升星配方!AH46,\"\")","v":""},{"$f":"_xlfn.IFNA(AF46&\"#\"&AG46&\"#\"&VLOOKUP(AH46,数组!$B:$C,2,0)&\"#\"&角色升星配方!AI46,\"\")","v":""},{"$f":"_xlfn.IFNA(AG46&\"#\"&AH46&\"#\"&VLOOKUP(AI46,数组!$B:$C,2,0)&\"#\"&角色升星配方!AJ46,\"\")","v":"6#2#40#1"},{"$f":"_xlfn.IFNA(AH46&\"#\"&AI46&\"#\"&VLOOKUP(AJ46,数组!$B:$C,2,0)&\"#\"&角色升星配方!AK46,\"\")","v":""},{"$f":"_xlfn.IFNA(AI46&\"#\"&AJ46&\"#\"&VLOOKUP(AK46,数组!$B:$C,2,0)&\"#\"&角色升星配方!AL46,\"\")","v":""},{"$f":"_xlfn.IFNA(AJ46&\"#\"&AK46&\"#\"&VLOOKUP(AL46,数组!$B:$C,2,0)&\"#\"&角色升星配方!AM46,\"\")","v":""},{"$f":"_xlfn.IFNA(AK46&\"#\"&AL46&\"#\"&VLOOKUP(AM46,数组!$B:$C,2,0)&\"#\"&角色升星配方!AN46,\"\")","v":"6#3#17#3"},{"$f":"_xlfn.IFNA(AL46&\"#\"&AM46&\"#\"&VLOOKUP(AN46,数组!$B:$C,2,0)&\"#\"&角色升星配方!AO46,\"\")","v":""},{"$f":"_xlfn.IFNA(AM46&\"#\"&AN46&\"#\"&VLOOKUP(AO46,数组!$B:$C,2,0)&\"#\"&角色升星配方!AP46,\"\")","v":""},{"$f":"_xlfn.IFNA(AN46&\"#\"&AO46&\"#\"&VLOOKUP(AP46,数组!$B:$C,2,0)&\"#\"&角色升星配方!AQ46,\"\")","v":""},{"$f":"_xlfn.IFNA(AO46&\"#\"&AP46&\"#\"&VLOOKUP(AQ46,数组!$B:$C,2,0)&\"#\"&角色升星配方!AR46,\"\")","v":""},{"$f":"_xlfn.IFNA(AP46&\"#\"&AQ46&\"#\"&VLOOKUP(AR46,数组!$B:$C,2,0)&\"#\"&角色升星配方!AS46,\"\")","v":""},{"$f":"_xlfn.IFNA(AQ46&\"#\"&AR46&\"#\"&VLOOKUP(AS46,数组!$B:$C,2,0)&\"#\"&角色升星配方!AT46,\"\")","v":""},{"$f":"_xlfn.IFNA(AR46&\"#\"&AS46&\"#\"&VLOOKUP(AT46,数组!$B:$C,2,0)&\"#\"&角色升星配方!AU46,\"\")","v":""},{"$f":"_xlfn.IFNA(AS46&\"#\"&AT46&\"#\"&VLOOKUP(AU46,数组!$B:$C,2,0)&\"#\"&角色升星配方!AV46,\"\")","v":""},{"$f":"_xlfn.IFNA(AT46&\"#\"&AU46&\"#\"&VLOOKUP(AV46,数组!$B:$C,2,0)&\"#\"&角色升星配方!AW46,\"\")","v":""},{"$f":"_xlfn.IFNA(AU46&\"#\"&AV46&\"#\"&VLOOKUP(AW46,数组!$B:$C,2,0)&\"#\"&角色升星配方!AX46,\"\")","v":""},{"$f":"_xlfn.IFNA(AV46&\"#\"&AW46&\"#\"&VLOOKUP(AX46,数组!$B:$C,2,0)&\"#\"&角色升星配方!AY46,\"\")","v":""},{"$f":"_xlfn.IFNA(AW46&\"#\"&AX46&\"#\"&VLOOKUP(AY46,数组!$B:$C,2,0)&\"#\"&角色升星配方!AZ46,\"\")","v":""},{"$f":"_xlfn.IFNA(AX46&\"#\"&AY46&\"#\"&VLOOKUP(AZ46,数组!$B:$C,2,0)&\"#\"&角色升星配方!BM46,\"\")","v":""},null,null,{"$f":"_xlfn.IFNA(BA46&\"#\"&BB46&\"#\"&VLOOKUP(BC46,数组!$B:$C,2,0)&\"#\"&角色升星配方!BD46,\"\")","v":""},{"$nulls":3},{"$f":"_xlfn.IFNA(BE46&\"#\"&BF46&\"#\"&VLOOKUP(BG46,数组!$B:$C,2,0)&\"#\"&角色升星配方!BH46,\"\")","v":""},{"$nulls":3},{"$f":"_xlfn.IFNA(BI46&\"#\"&BJ46&\"#\"&VLOOKUP(BK46,数组!$B:$C,2,0)&\"#\"&角色升星配方!BL46,\"\")","v":""},{"$f":"[2]!SUMSTRING(BM46:DM46,\"|\")","v":{"$error":"#NAME?"}}]
[5,10046,5,4,5,1,"4星同名",3,5,2,"3星同系",4,5,3,"4星同系",4,{"$nulls":12},6,1,"5星同名",1,6,2,"5星10028",1,6,3,"5星同系",3,7,1,"5星同系",4,8,1,"5星同系",3,8,2,"6星同系",1,9,1,"5星同名",1,9,2,"6星同系",1,9,3,"5星同系",2,{"$f":"_xlfn.IFNA(E47&\"#\"&F47&\"#\"&VLOOKUP(G47,数组!$B:$C,2,0)&\"#\"&角色升星配方!H47,\"\")","v":"5#1#2#3"},{"$f":"_xlfn.IFNA(F47&\"#\"&G47&\"#\"&VLOOKUP(H47,数组!$B:$C,2,0)&\"#\"&角色升星配方!I47,\"\")","v":""},{"$f":"_xlfn.IFNA(G47&\"#\"&H47&\"#\"&VLOOKUP(I47,数组!$B:$C,2,0)&\"#\"&角色升星配方!J47,\"\")","v":""},{"$f":"_xlfn.IFNA(H47&\"#\"&I47&\"#\"&VLOOKUP(J47,数组!$B:$C,2,0)&\"#\"&角色升星配方!K47,\"\")","v":""},{"$f":"_xlfn.IFNA(I47&\"#\"&J47&\"#\"&VLOOKUP(K47,数组!$B:$C,2,0)&\"#\"&角色升星配方!L47,\"\")","v":"5#2#15#4"},{"$f":"_xlfn.IFNA(J47&\"#\"&K47&\"#\"&VLOOKUP(L47,数组!$B:$C,2,0)&\"#\"&角色升星配方!M47,\"\")","v":""},{"$f":"_xlfn.IFNA(K47&\"#\"&L47&\"#\"&VLOOKUP(M47,数组!$B:$C,2,0)&\"#\"&角色升星配方!N47,\"\")","v":""},{"$f":"_xlfn.IFNA(L47&\"#\"&M47&\"#\"&VLOOKUP(N47,数组!$B:$C,2,0)&\"#\"&角色升星配方!O47,\"\")","v":""},{"$f":"_xlfn.IFNA(M47&\"#\"&N47&\"#\"&VLOOKUP(O47,数组!$B:$C,2,0)&\"#\"&角色升星配方!P47,\"\")","v":"5#3#16#4"},{"$f":"_xlfn.IFNA(N47&\"#\"&O47&\"#\"&VLOOKUP(P47,数组!$B:$C,2,0)&\"#\"&角色升星配方!Q47,\"\")","v":""},{"$f":"_xlfn.IFNA(O47&\"#\"&P47&\"#\"&VLOOKUP(Q47,数组!$B:$C,2,0)&\"#\"&角色升星配方!R47,\"\")","v":""},{"$f":"_xlfn.IFNA(P47&\"#\"&Q47&\"#\"&VLOOKUP(R47,数组!$B:$C,2,0)&\"#\"&角色升星配方!S47,\"\")","v":""},{"$f":"_xlfn.IFNA(Q47&\"#\"&R47&\"#\"&VLOOKUP(S47,数组!$B:$C,2,0)&\"#\"&角色升星配方!T47,\"\")","v":""},{"$f":"_xlfn.IFNA(R47&\"#\"&S47&\"#\"&VLOOKUP(T47,数组!$B:$C,2,0)&\"#\"&角色升星配方!U47,\"\")","v":""},{"$f":"_xlfn.IFNA(S47&\"#\"&T47&\"#\"&VLOOKUP(U47,数组!$B:$C,2,0)&\"#\"&角色升星配方!V47,\"\")","v":""},{"$f":"_xlfn.IFNA(T47&\"#\"&U47&\"#\"&VLOOKUP(V47,数组!$B:$C,2,0)&\"#\"&角色升星配方!W47,\"\")","v":""},{"$f":"_xlfn.IFNA(U47&\"#\"&V47&\"#\"&VLOOKUP(W47,数组!$B:$C,2,0)&\"#\"&角色升星配方!X47,\"\")","v":""},{"$f":"_xlfn.IFNA(V47&\"#\"&W47&\"#\"&VLOOKUP(X47,数组!$B:$C,2,0)&\"#\"&角色升星配方!AC47,\"\")","v":""},{"$f":"_xlfn.IFNA(W47&\"#\"&X47&\"#\"&VLOOKUP(AC47,数组!$B:$C,2,0)&\"#\"&角色升星配方!AD47,\"\")","v":""},{"$f":"_xlfn.IFNA(X47&\"#\"&AC47&\"#\"&VLOOKUP(AD47,数组!$B:$C,2,0)&\"#\"&角色升星配方!AE47,\"\")","v":""},{"$f":"_xlfn.IFNA(AC47&\"#\"&AD47&\"#\"&VLOOKUP(AE47,数组!$B:$C,2,0)&\"#\"&角色升星配方!AF47,\"\")","v":"6#1#3#1"},{"$f":"_xlfn.IFNA(AD47&\"#\"&AE47&\"#\"&VLOOKUP(AF47,数组!$B:$C,2,0)&\"#\"&角色升星配方!AG47,\"\")","v":""},{"$f":"_xlfn.IFNA(AE47&\"#\"&AF47&\"#\"&VLOOKUP(AG47,数组!$B:$C,2,0)&\"#\"&角色升星配方!AH47,\"\")","v":""},{"$f":"_xlfn.IFNA(AF47&\"#\"&AG47&\"#\"&VLOOKUP(AH47,数组!$B:$C,2,0)&\"#\"&角色升星配方!AI47,\"\")","v":""},{"$f":"_xlfn.IFNA(AG47&\"#\"&AH47&\"#\"&VLOOKUP(AI47,数组!$B:$C,2,0)&\"#\"&角色升星配方!AJ47,\"\")","v":"6#2#26#1"},{"$f":"_xlfn.IFNA(AH47&\"#\"&AI47&\"#\"&VLOOKUP(AJ47,数组!$B:$C,2,0)&\"#\"&角色升星配方!AK47,\"\")","v":""},{"$f":"_xlfn.IFNA(AI47&\"#\"&AJ47&\"#\"&VLOOKUP(AK47,数组!$B:$C,2,0)&\"#\"&角色升星配方!AL47,\"\")","v":""},{"$f":"_xlfn.IFNA(AJ47&\"#\"&AK47&\"#\"&VLOOKUP(AL47,数组!$B:$C,2,0)&\"#\"&角色升星配方!AM47,\"\")","v":""},{"$f":"_xlfn.IFNA(AK47&\"#\"&AL47&\"#\"&VLOOKUP(AM47,数组!$B:$C,2,0)&\"#\"&角色升星配方!AN47,\"\")","v":"6#3#17#3"},{"$f":"_xlfn.IFNA(AL47&\"#\"&AM47&\"#\"&VLOOKUP(AN47,数组!$B:$C,2,0)&\"#\"&角色升星配方!AO47,\"\")","v":""},{"$f":"_xlfn.IFNA(AM47&\"#\"&AN47&\"#\"&VLOOKUP(AO47,数组!$B:$C,2,0)&\"#\"&角色升星配方!AP47,\"\")","v":""},{"$f":"_xlfn.IFNA(AN47&\"#\"&AO47&\"#\"&VLOOKUP(AP47,数组!$B:$C,2,0)&\"#\"&角色升星配方!AQ47,\"\")","v":""},{"$f":"_xlfn.IFNA(AO47&\"#\"&AP47&\"#\"&VLOOKUP(AQ47,数组!$B:$C,2,0)&\"#\"&角色升星配方!AR47,\"\")","v":"7#1#17#4"},{"$f":"_xlfn.IFNA(AP47&\"#\"&AQ47&\"#\"&VLOOKUP(AR47,数组!$B:$C,2,0)&\"#\"&角色升星配方!AS47,\"\")","v":""},{"$f":"_xlfn.IFNA(AQ47&\"#\"&AR47&\"#\"&VLOOKUP(AS47,数组!$B:$C,2,0)&\"#\"&角色升星配方!AT47,\"\")","v":""},{"$f":"_xlfn.IFNA(AR47&\"#\"&AS47&\"#\"&VLOOKUP(AT47,数组!$B:$C,2,0)&\"#\"&角色升星配方!AU47,\"\")","v":""},{"$f":"_xlfn.IFNA(AS47&\"#\"&AT47&\"#\"&VLOOKUP(AU47,数组!$B:$C,2,0)&\"#\"&角色升星配方!AV47,\"\")","v":"8#1#17#3"},{"$f":"_xlfn.IFNA(AT47&\"#\"&AU47&\"#\"&VLOOKUP(AV47,数组!$B:$C,2,0)&\"#\"&角色升星配方!AW47,\"\")","v":""},{"$f":"_xlfn.IFNA(AU47&\"#\"&AV47&\"#\"&VLOOKUP(AW47,数组!$B:$C,2,0)&\"#\"&角色升星配方!AX47,\"\")","v":""},{"$f":"_xlfn.IFNA(AV47&\"#\"&AW47&\"#\"&VLOOKUP(AX47,数组!$B:$C,2,0)&\"#\"&角色升星配方!AY47,\"\")","v":""},{"$f":"_xlfn.IFNA(AW47&\"#\"&AX47&\"#\"&VLOOKUP(AY47,数组!$B:$C,2,0)&\"#\"&角色升星配方!AZ47,\"\")","v":"8#2#18#1"},{"$f":"_xlfn.IFNA(AX47&\"#\"&AY47&\"#\"&VLOOKUP(AZ47,数组!$B:$C,2,0)&\"#\"&角色升星配方!BM47,\"\")","v":""},null,null,{"$f":"_xlfn.IFNA(BA47&\"#\"&BB47&\"#\"&VLOOKUP(BC47,数组!$B:$C,2,0)&\"#\"&角色升星配方!BD47,\"\")","v":"9#1#3#1"},{"$nulls":3},{"$f":"_xlfn.IFNA(BE47&\"#\"&BF47&\"#\"&VLOOKUP(BG47,数组!$B:$C,2,0)&\"#\"&角色升星配方!BH47,\"\")","v":"9#2#18#1"},{"$nulls":3},{"$f":"_xlfn.IFNA(BI47&\"#\"&BJ47&\"#\"&VLOOKUP(BK47,数组!$B:$C,2,0)&\"#\"&角色升星配方!BL47,\"\")","v":"9#3#17#2"},{"$f":"[2]!SUMSTRING(BM47:DM47,\"|\")","v":{"$error":"#NAME?"}}]
[1,10047,1,3,{"$nulls":60},{"$f":"_xlfn.IFNA(E48&\"#\"&F48&\"#\"&VLOOKUP(G48,数组!$B:$C,2,0)&\"#\"&角色升星配方!H48,\"\")","v":""},{"$f":"_xlfn.IFNA(F48&\"#\"&G48&\"#\"&VLOOKUP(H48,数组!$B:$C,2,0)&\"#\"&角色升星配方!I48,\"\")","v":""},{"$f":"_xlfn.IFNA(G48&\"#\"&H48&\"#\"&VLOOKUP(I48,数组!$B:$C,2,0)&\"#\"&角色升星配方!J48,\"\")","v":""},{"$f":"_xlfn.IFNA(H48&\"#\"&I48&\"#\"&VLOOKUP(J48,数组!$B:$C,2,0)&\"#\"&角色升星配方!K48,\"\")","v":""},{"$f":"_xlfn.IFNA(I48&\"#\"&J48&\"#\"&VLOOKUP(K48,数组!$B:$C,2,0)&\"#\"&角色升星配方!L48,\"\")","v":""},{"$f":"_xlfn.IFNA(J48&\"#\"&K48&\"#\"&VLOOKUP(L48,数组!$B:$C,2,0)&\"#\"&角色升星配方!M48,\"\")","v":""},{"$f":"_xlfn.IFNA(K48&\"#\"&L48&\"#\"&VLOOKUP(M48,数组!$B:$C,2,0)&\"#\"&角色升星配方!N48,\"\")","v":""},{"$f":"_xlfn.IFNA(L48&\"#\"&M48&\"#\"&VLOOKUP(N48,数组!$B:$C,2,0)&\"#\"&角色升星配方!O48,\"\")","v":""},{"$f":"_xlfn.IFNA(M48&\"#\"&N48&\"#\"&VLOOKUP(O48,数组!$B:$C,2,0)&\"#\"&角色升星配方!P48,\"\")","v":""},{"$f":"_xlfn.IFNA(N48&\"#\"&O48&\"#\"&VLOOKUP(P48,数组!$B:$C,2,0)&\"#\"&角色升星配方!Q48,\"\")","v":""},{"$f":"_xlfn.IFNA(O48&\"#\"&P48&\"#\"&VLOOKUP(Q48,数组!$B:$C,2,0)&\"#\"&角色升星配方!R48,\"\")","v":""},{"$f":"_xlfn.IFNA(P48&\"#\"&Q48&\"#\"&VLOOKUP(R48,数组!$B:$C,2,0)&\"#\"&角色升星配方!S48,\"\")","v":""},{"$f":"_xlfn.IFNA(Q48&\"#\"&R48&\"#\"&VLOOKUP(S48,数组!$B:$C,2,0)&\"#\"&角色升星配方!T48,\"\")","v":""},{"$f":"_xlfn.IFNA(R48&\"#\"&S48&\"#\"&VLOOKUP(T48,数组!$B:$C,2,0)&\"#\"&角色升星配方!U48,\"\")","v":""},{"$f":"_xlfn.IFNA(S48&\"#\"&T48&\"#\"&VLOOKUP(U48,数组!$B:$C,2,0)&\"#\"&角色升星配方!V48,\"\")","v":""},{"$f":"_xlfn.IFNA(T48&\"#\"&U48&\"#\"&VLOOKUP(V48,数组!$B:$C,2,0)&\"#\"&角色升星配方!W48,\"\")","v":""},{"$f":"_xlfn.IFNA(U48&\"#\"&V48&\"#\"&VLOOKUP(W48,数组!$B:$C,2,0)&\"#\"&角色升星配方!X48,\"\")","v":""},{"$f":"_xlfn.IFNA(V48&\"#\"&W48&\"#\"&VLOOKUP(X48,数组!$B:$C,2,0)&\"#\"&角色升星配方!AC48,\"\")","v":""},{"$f":"_xlfn.IFNA(W48&\"#\"&X48&\"#\"&VLOOKUP(AC48,数组!$B:$C,2,0)&\"#\"&角色升星配方!AD48,\"\")","v":""},{"$f":"_xlfn.IFNA(X48&\"#\"&AC48&\"#\"&VLOOKUP(AD48,数组!$B:$C,2,0)&\"#\"&角色升星配方!AE48,\"\")","v":""},{"$f":"_xlfn.IFNA(AC48&\"#\"&AD48&\"#\"&VLOOKUP(AE48,数组!$B:$C,2,0)&\"#\"&角色升星配方!AF48,\"\")","v":""},{"$f":"_xlfn.IFNA(AD48&\"#\"&AE48&\"#\"&VLOOKUP(AF48,数组!$B:$C,2,0)&\"#\"&角色升星配方!AG48,\"\")","v":""},{"$f":"_xlfn.IFNA(AE48&\"#\"&AF48&\"#\"&VLOOKUP(AG48,数组!$B:$C,2,0)&\"#\"&角色升星配方!AH48,\"\")","v":""},{"$f":"_xlfn.IFNA(AF48&\"#\"&AG48&\"#\"&VLOOKUP(AH48,数组!$B:$C,2,0)&\"#\"&角色升星配方!AI48,\"\")","v":""},{"$f":"_xlfn.IFNA(AG48&\"#\"&AH48&\"#\"&VLOOKUP(AI48,数组!$B:$C,2,0)&\"#\"&角色升星配方!AJ48,\"\")","v":""},{"$f":"_xlfn.IFNA(AH48&\"#\"&AI48&\"#\"&VLOOKUP(AJ48,数组!$B:$C,2,0)&\"#\"&角色升星配方!AK48,\"\")","v":""},{"$f":"_xlfn.IFNA(AI48&\"#\"&AJ48&\"#\"&VLOOKUP(AK48,数组!$B:$C,2,0)&\"#\"&角色升星配方!AL48,\"\")","v":""},{"$f":"_xlfn.IFNA(AJ48&\"#\"&AK48&\"#\"&VLOOKUP(AL48,数组!$B:$C,2,0)&\"#\"&角色升星配方!AM48,\"\")","v":""},{"$f":"_xlfn.IFNA(AK48&\"#\"&AL48&\"#\"&VLOOKUP(AM48,数组!$B:$C,2,0)&\"#\"&角色升星配方!AN48,\"\")","v":""},{"$f":"_xlfn.IFNA(AL48&\"#\"&AM48&\"#\"&VLOOKUP(AN48,数组!$B:$C,2,0)&\"#\"&角色升星配方!AO48,\"\")","v":""},{"$f":"_xlfn.IFNA(AM48&\"#\"&AN48&\"#\"&VLOOKUP(AO48,数组!$B:$C,2,0)&\"#\"&角色升星配方!AP48,\"\")","v":""},{"$f":"_xlfn.IFNA(AN48&\"#\"&AO48&\"#\"&VLOOKUP(AP48,数组!$B:$C,2,0)&\"#\"&角色升星配方!AQ48,\"\")","v":""},{"$f":"_xlfn.IFNA(AO48&\"#\"&AP48&\"#\"&VLOOKUP(AQ48,数组!$B:$C,2,0)&\"#\"&角色升星配方!AR48,\"\")","v":""},{"$f":"_xlfn.IFNA(AP48&\"#\"&AQ48&\"#\"&VLOOKUP(AR48,数组!$B:$C,2,0)&\"#\"&角色升星配方!AS48,\"\")","v":""},{"$f":"_xlfn.IFNA(AQ48&\"#\"&AR48&\"#\"&VLOOKUP(AS48,数组!$B:$C,2,0)&\"#\"&角色升星配方!AT48,\"\")","v":""},{"$f":"_xlfn.IFNA(AR48&\"#\"&AS48&\"#\"&VLOOKUP(AT48,数组!$B:$C,2,0)&\"#\"&角色升星配方!AU48,\"\")","v":""},{"$f":"_xlfn.IFNA(AS48&\"#\"&AT48&\"#\"&VLOOKUP(AU48,数组!$B:$C,2,0)&\"#\"&角色升星配方!AV48,\"\")","v":""},{"$f":"_xlfn.IFNA(AT48&\"#\"&AU48&\"#\"&VLOOKUP(AV48,数组!$B:$C,2,0)&\"#\"&角色升星配方!AW48,\"\")","v":""},{"$f":"_xlfn.IFNA(AU48&\"#\"&AV48&\"#\"&VLOOKUP(AW48,数组!$B:$C,2,0)&\"#\"&角色升星配方!AX48,\"\")","v":""},{"$f":"_xlfn.IFNA(AV48&\"#\"&AW48&\"#\"&VLOOKUP(AX48,数组!$B:$C,2,0)&\"#\"&角色升星配方!AY48,\"\")","v":""},{"$f":"_xlfn.IFNA(AW48&\"#\"&AX48&\"#\"&VLOOKUP(AY48,数组!$B:$C,2,0)&\"#\"&角色升星配方!AZ48,\"\")","v":""},{"$f":"_xlfn.IFNA(AX48&\"#\"&AY48&\"#\"&VLOOKUP(AZ48,数组!$B:$C,2,0)&\"#\"&角色升星配方!BM48,\"\")","v":""},{"$nulls":6},{"$f":"_xlfn.IFNA(BE48&\"#\"&BF48&\"#\"&VLOOKUP(BG48,数组!$B:$C,2,0)&\"#\"&角色升星配方!BH48,\"\")","v":""},{"$nulls":4},{"$f":"[2]!SUMSTRING(BM48:DM48,\"|\")","v":{"$error":"#NAME?"}}]
[2,10048,2,3,{"$nulls":60},{"$f":"_xlfn.IFNA(E49&\"#\"&F49&\"#\"&VLOOKUP(G49,数组!$B:$C,2,0)&\"#\"&角色升星配方!H49,\"\")","v":""},{"$f":"_xlfn.IFNA(F49&\"#\"&G49&\"#\"&VLOOKUP(H49,数组!$B:$C,2,0)&\"#\"&角色升星配方!I49,\"\")","v":""},{"$f":"_xlfn.IFNA(G49&\"#\"&H49&\"#\"&VLOOKUP(I49,数组!$B:$C,2,0)&\"#\"&角色升星配方!J49,\"\")","v":""},{"$f":"_xlfn.IFNA(H49&\"#\"&I49&\"#\"&VLOOKUP(J49,数组!$B:$C,2,0)&\"#\"&角色升星配方!K49,\"\")","v":""},{"$f":"_xlfn.IFNA(I49&\"#\"&J49&\"#\"&VLOOKUP(K49,数组!$B:$C,2,0)&\"#\"&角色升星配方!L49,\"\")","v":""},{"$f":"_xlfn.IFNA(J49&\"#\"&K49&\"#\"&VLOOKUP(L49,数组!$B:$C,2,0)&\"#\"&角色升星配方!M49,\"\")","v":""},{"$f":"_xlfn.IFNA(K49&\"#\"&L49&\"#\"&VLOOKUP(M49,数组!$B:$C,2,0)&\"#\"&角色升星配方!N49,\"\")","v":""},{"$f":"_xlfn.IFNA(L49&\"#\"&M49&\"#\"&VLOOKUP(N49,数组!$B:$C,2,0)&\"#\"&角色升星配方!O49,\"\")","v":""},{"$f":"_xlfn.IFNA(M49&\"#\"&N49&\"#\"&VLOOKUP(O49,数组!$B:$C,2,0)&\"#\"&角色升星配方!P49,\"\")","v":""},{"$f":"_xlfn.IFNA(N49&\"#\"&O49&\"#\"&VLOOKUP(P49,数组!$B:$C,2,0)&\"#\"&角色升星配方!Q49,\"\")","v":""},{"$f":"_xlfn.IFNA(O49&\"#\"&P49&\"#\"&VLOOKUP(Q49,数组!$B:$C,2,0)&\"#\"&角色升星配方!R49,\"\")","v":""},{"$f":"_xlfn.IFNA(P49&\"#\"&Q49&\"#\"&VLOOKUP(R49,数组!$B:$C,2,0)&\"#\"&角色升星配方!S49,\"\")","v":""},{"$f":"_xlfn.IFNA(Q49&\"#\"&R49&\"#\"&VLOOKUP(S49,数组!$B:$C,2,0)&\"#\"&角色升星配方!T49,\"\")","v":""},{"$f":"_xlfn.IFNA(R49&\"#\"&S49&\"#\"&VLOOKUP(T49,数组!$B:$C,2,0)&\"#\"&角色升星配方!U49,\"\")","v":""},{"$f":"_xlfn.IFNA(S49&\"#\"&T49&\"#\"&VLOOKUP(U49,数组!$B:$C,2,0)&\"#\"&角色升星配方!V49,\"\")","v":""},{"$f":"_xlfn.IFNA(T49&\"#\"&U49&\"#\"&VLOOKUP(V49,数组!$B:$C,2,0)&\"#\"&角色升星配方!W49,\"\")","v":""},{"$f":"_xlfn.IFNA(U49&\"#\"&V49&\"#\"&VLOOKUP(W49,数组!$B:$C,2,0)&\"#\"&角色升星配方!X49,\"\")","v":""},{"$f":"_xlfn.IFNA(V49&\"#\"&W49&\"#\"&VLOOKUP(X49,数组!$B:$C,2,0)&\"#\"&角色升星配方!AC49,\"\")","v":""},{"$f":"_xlfn.IFNA(W49&\"#\"&X49&\"#\"&VLOOKUP(AC49,数组!$B:$C,2,0)&\"#\"&角色升星配方!AD49,\"\")","v":""},{"$f":"_xlfn.IFNA(X49&\"#\"&AC49&\"#\"&VLOOKUP(AD49,数组!$B:$C,2,0)&\"#\"&角色升星配方!AE49,\"\")","v":""},{"$f":"_xlfn.IFNA(AC49&\"#\"&AD49&\"#\"&VLOOKUP(AE49,数组!$B:$C,2,0)&\"#\"&角色升星配方!AF49,\"\")","v":""},{"$f":"_xlfn.IFNA(AD49&\"#\"&AE49&\"#\"&VLOOKUP(AF49,数组!$B:$C,2,0)&\"#\"&角色升星配方!AG49,\"\")","v":""},{"$f":"_xlfn.IFNA(AE49&\"#\"&AF49&\"#\"&VLOOKUP(AG49,数组!$B:$C,2,0)&\"#\"&角色升星配方!AH49,\"\")","v":""},{"$f":"_xlfn.IFNA(AF49&\"#\"&AG49&\"#\"&VLOOKUP(AH49,数组!$B:$C,2,0)&\"#\"&角色升星配方!AI49,\"\")","v":""},{"$f":"_xlfn.IFNA(AG49&\"#\"&AH49&\"#\"&VLOOKUP(AI49,数组!$B:$C,2,0)&\"#\"&角色升星配方!AJ49,\"\")","v":""},{"$f":"_xlfn.IFNA(AH49&\"#\"&AI49&\"#\"&VLOOKUP(AJ49,数组!$B:$C,2,0)&\"#\"&角色升星配方!AK49,\"\")","v":""},{"$f":"_xlfn.IFNA(AI49&\"#\"&AJ49&\"#\"&VLOOKUP(AK49,数组!$B:$C,2,0)&\"#\"&角色升星配方!AL49,\"\")","v":""},{"$f":"_xlfn.IFNA(AJ49&\"#\"&AK49&\"#\"&VLOOKUP(AL49,数组!$B:$C,2,0)&\"#\"&角色升星配方!AM49,\"\")","v":""},{"$f":"_xlfn.IFNA(AK49&\"#\"&AL49&\"#\"&VLOOKUP(AM49,数组!$B:$C,2,0)&\"#\"&角色升星配方!AN49,\"\")","v":""},{"$f":"_xlfn.IFNA(AL49&\"#\"&AM49&\"#\"&VLOOKUP(AN49,数组!$B:$C,2,0)&\"#\"&角色升星配方!AO49,\"\")","v":""},{"$f":"_xlfn.IFNA(AM49&\"#\"&AN49&\"#\"&VLOOKUP(AO49,数组!$B:$C,2,0)&\"#\"&角色升星配方!AP49,\"\")","v":""},{"$f":"_xlfn.IFNA(AN49&\"#\"&AO49&\"#\"&VLOOKUP(AP49,数组!$B:$C,2,0)&\"#\"&角色升星配方!AQ49,\"\")","v":""},{"$f":"_xlfn.IFNA(AO49&\"#\"&AP49&\"#\"&VLOOKUP(AQ49,数组!$B:$C,2,0)&\"#\"&角色升星配方!AR49,\"\")","v":""},{"$f":"_xlfn.IFNA(AP49&\"#\"&AQ49&\"#\"&VLOOKUP(AR49,数组!$B:$C,2,0)&\"#\"&角色升星配方!AS49,\"\")","v":""},{"$f":"_xlfn.IFNA(AQ49&\"#\"&AR49&\"#\"&VLOOKUP(AS49,数组!$B:$C,2,0)&\"#\"&角色升星配方!AT49,\"\")","v":""},{"$f":"_xlfn.IFNA(AR49&\"#\"&AS49&\"#\"&VLOOKUP(AT49,数组!$B:$C,2,0)&\"#\"&角色升星配方!AU49,\"\")","v":""},{"$f":"_xlfn.IFNA(AS49&\"#\"&AT49&\"#\"&VLOOKUP(AU49,数组!$B:$C,2,0)&\"#\"&角色升星配方!AV49,\"\")","v":""},{"$f":"_xlfn.IFNA(AT49&\"#\"&AU49&\"#\"&VLOOKUP(AV49,数组!$B:$C,2,0)&\"#\"&角色升星配方!AW49,\"\")","v":""},{"$f":"_xlfn.IFNA(AU49&\"#\"&AV49&\"#\"&VLOOKUP(AW49,数组!$B:$C,2,0)&\"#\"&角色升星配方!AX49,\"\")","v":""},{"$f":"_xlfn.IFNA(AV49&\"#\"&AW49&\"#\"&VLOOKUP(AX49,数组!$B:$C,2,0)&\"#\"&角色升星配方!AY49,\"\")","v":""},{"$f":"_xlfn.IFNA(AW49&\"#\"&AX49&\"#\"&VLOOKUP(AY49,数组!$B:$C,2,0)&\"#\"&角色升星配方!AZ49,\"\")","v":""},{"$f":"_xlfn.IFNA(AX49&\"#\"&AY49&\"#\"&VLOOKUP(AZ49,数组!$B:$C,2,0)&\"#\"&角色升星配方!BM49,\"\")","v":""},{"$nulls":6},{"$f":"_xlfn.IFNA(BE49&\"#\"&BF49&\"#\"&VLOOKUP(BG49,数组!$B:$C,2,0)&\"#\"&角色升星配方!BH49,\"\")","v":""},{"$nulls":4},{"$f":"[2]!SUMSTRING(BM49:DM49,\"|\")","v":{"$error":"#NAME?"}}]
[3,10049,3,3,{"$nulls":60},{"$f":"_xlfn.IFNA(E50&\"#\"&F50&\"#\"&VLOOKUP(G50,数组!$B:$C,2,0)&\"#\"&角色升星配方!H50,\"\")","v":""},{"$f":"_xlfn.IFNA(F50&\"#\"&G50&\"#\"&VLOOKUP(H50,数组!$B:$C,2,0)&\"#\"&角色升星配方!I50,\"\")","v":""},{"$f":"_xlfn.IFNA(G50&\"#\"&H50&\"#\"&VLOOKUP(I50,数组!$B:$C,2,0)&\"#\"&角色升星配方!J50,\"\")","v":""},{"$f":"_xlfn.IFNA(H50&\"#\"&I50&\"#\"&VLOOKUP(J50,数组!$B:$C,2,0)&\"#\"&角色升星配方!K50,\"\")","v":""},{"$f":"_xlfn.IFNA(I50&\"#\"&J50&\"#\"&VLOOKUP(K50,数组!$B:$C,2,0)&\"#\"&角色升星配方!L50,\"\")","v":""},{"$f":"_xlfn.IFNA(J50&\"#\"&K50&\"#\"&VLOOKUP(L50,数组!$B:$C,2,0)&\"#\"&角色升星配方!M50,\"\")","v":""},{"$f":"_xlfn.IFNA(K50&\"#\"&L50&\"#\"&VLOOKUP(M50,数组!$B:$C,2,0)&\"#\"&角色升星配方!N50,\"\")","v":""},{"$f":"_xlfn.IFNA(L50&\"#\"&M50&\"#\"&VLOOKUP(N50,数组!$B:$C,2,0)&\"#\"&角色升星配方!O50,\"\")","v":""},{"$f":"_xlfn.IFNA(M50&\"#\"&N50&\"#\"&VLOOKUP(O50,数组!$B:$C,2,0)&\"#\"&角色升星配方!P50,\"\")","v":""},{"$f":"_xlfn.IFNA(N50&\"#\"&O50&\"#\"&VLOOKUP(P50,数组!$B:$C,2,0)&\"#\"&角色升星配方!Q50,\"\")","v":""},{"$f":"_xlfn.IFNA(O50&\"#\"&P50&\"#\"&VLOOKUP(Q50,数组!$B:$C,2,0)&\"#\"&角色升星配方!R50,\"\")","v":""},{"$f":"_xlfn.IFNA(P50&\"#\"&Q50&\"#\"&VLOOKUP(R50,数组!$B:$C,2,0)&\"#\"&角色升星配方!S50,\"\")","v":""},{"$f":"_xlfn.IFNA(Q50&\"#\"&R50&\"#\"&VLOOKUP(S50,数组!$B:$C,2,0)&\"#\"&角色升星配方!T50,\"\")","v":""},{"$f":"_xlfn.IFNA(R50&\"#\"&S50&\"#\"&VLOOKUP(T50,数组!$B:$C,2,0)&\"#\"&角色升星配方!U50,\"\")","v":""},{"$f":"_xlfn.IFNA(S50&\"#\"&T50&\"#\"&VLOOKUP(U50,数组!$B:$C,2,0)&\"#\"&角色升星配方!V50,\"\")","v":""},{"$f":"_xlfn.IFNA(T50&\"#\"&U50&\"#\"&VLOOKUP(V50,数组!$B:$C,2,0)&\"#\"&角色升星配方!W50,\"\")","v":""},{"$f":"_xlfn.IFNA(U50&\"#\"&V50&\"#\"&VLOOKUP(W50,数组!$B:$C,2,0)&\"#\"&角色升星配方!X50,\"\")","v":""},{"$f":"_xlfn.IFNA(V50&\"#\"&W50&\"#\"&VLOOKUP(X50,数组!$B:$C,2,0)&\"#\"&角色升星配方!AC50,\"\")","v":""},{"$f":"_xlfn.IFNA(W50&\"#\"&X50&\"#\"&VLOOKUP(AC50,数组!$B:$C,2,0)&\"#\"&角色升星配方!AD50,\"\")","v":""},{"$f":"_xlfn.IFNA(X50&\"#\"&AC50&\"#\"&VLOOKUP(AD50,数组!$B:$C,2,0)&\"#\"&角色升星配方!AE50,\"\")","v":""},{"$f":"_xlfn.IFNA(AC50&\"#\"&AD50&\"#\"&VLOOKUP(AE50,数组!$B:$C,2,0)&\"#\"&角色升星配方!AF50,\"\")","v":""},{"$f":"_xlfn.IFNA(AD50&\"#\"&AE50&\"#\"&VLOOKUP(AF50,数组!$B:$C,2,0)&\"#\"&角色升星配方!AG50,\"\")","v":""},{"$f":"_xlfn.IFNA(AE50&\"#\"&AF50&\"#\"&VLOOKUP(AG50,数组!$B:$C,2,0)&\"#\"&角色升星配方!AH50,\"\")","v":""},{"$f":"_xlfn.IFNA(AF50&\"#\"&AG50&\"#\"&VLOOKUP(AH50,数组!$B:$C,2,0)&\"#\"&角色升星配方!AI50,\"\")","v":""},{"$f":"_xlfn.IFNA(AG50&\"#\"&AH50&\"#\"&VLOOKUP(AI50,数组!$B:$C,2,0)&\"#\"&角色升星配方!AJ50,\"\")","v":""},{"$f":"_xlfn.IFNA(AH50&\"#\"&AI50&\"#\"&VLOOKUP(AJ50,数组!$B:$C,2,0)&\"#\"&角色升星配方!AK50,\"\")","v":""},{"$f":"_xlfn.IFNA(AI50&\"#\"&AJ50&\"#\"&VLOOKUP(AK50,数组!$B:$C,2,0)&\"#\"&角色升星配方!AL50,\"\")","v":""},{"$f":"_xlfn.IFNA(AJ50&\"#\"&AK50&\"#\"&VLOOKUP(AL50,数组!$B:$C,2,0)&\"#\"&角色升星配方!AM50,\"\")","v":""},{"$f":"_xlfn.IFNA(AK50&\"#\"&AL50&\"#\"&VLOOKUP(AM50,数组!$B:$C,2,0)&\"#\"&角色升星配方!AN50,\"\")","v":""},{"$f":"_xlfn.IFNA(AL50&\"#\"&AM50&\"#\"&VLOOKUP(AN50,数组!$B:$C,2,0)&\"#\"&角色升星配方!AO50,\"\")","v":""},{"$f":"_xlfn.IFNA(AM50&\"#\"&AN50&\"#\"&VLOOKUP(AO50,数组!$B:$C,2,0)&\"#\"&角色升星配方!AP50,\"\")","v":""},{"$f":"_xlfn.IFNA(AN50&\"#\"&AO50&\"#\"&VLOOKUP(AP50,数组!$B:$C,2,0)&\"#\"&角色升星配方!AQ50,\"\")","v":""},{"$f":"_xlfn.IFNA(AO50&\"#\"&AP50&\"#\"&VLOOKUP(AQ50,数组!$B:$C,2,0)&\"#\"&角色升星配方!AR50,\"\")","v":""},{"$f":"_xlfn.IFNA(AP50&\"#\"&AQ50&\"#\"&VLOOKUP(AR50,数组!$B:$C,2,0)&\"#\"&角色升星配方!AS50,\"\")","v":""},{"$f":"_xlfn.IFNA(AQ50&\"#\"&AR50&\"#\"&VLOOKUP(AS50,数组!$B:$C,2,0)&\"#\"&角色升星配方!AT50,\"\")","v":""},{"$f":"_xlfn.IFNA(AR50&\"#\"&AS50&\"#\"&VLOOKUP(AT50,数组!$B:$C,2,0)&\"#\"&角色升星配方!AU50,\"\")","v":""},{"$f":"_xlfn.IFNA(AS50&\"#\"&AT50&\"#\"&VLOOKUP(AU50,数组!$B:$C,2,0)&\"#\"&角色升星配方!AV50,\"\")","v":""},{"$f":"_xlfn.IFNA(AT50&\"#\"&AU50&\"#\"&VLOOKUP(AV50,数组!$B:$C,2,0)&\"#\"&角色升星配方!AW50,\"\")","v":""},{"$f":"_xlfn.IFNA(AU50&\"#\"&AV50&\"#\"&VLOOKUP(AW50,数组!$B:$C,2,0)&\"#\"&角色升星配方!AX50,\"\")","v":""},{"$f":"_xlfn.IFNA(AV50&\"#\"&AW50&\"#\"&VLOOKUP(AX50,数组!$B:$C,2,0)&\"#\"&角色升星配方!AY50,\"\")","v":""},{"$f":"_xlfn.IFNA(AW50&\"#\"&AX50&\"#\"&VLOOKUP(AY50,数组!$B:$C,2,0)&\"#\"&角色升星配方!AZ50,\"\")","v":""},{"$f":"_xlfn.IFNA(AX50&\"#\"&AY50&\"#\"&VLOOKUP(AZ50,数组!$B:$C,2,0)&\"#\"&角色升星配方!BM50,\"\")","v":""},{"$nulls":6},{"$f":"_xlfn.IFNA(BE50&\"#\"&BF50&\"#\"&VLOOKUP(BG50,数组!$B:$C,2,0)&\"#\"&角色升星配方!BH50,\"\")","v":""},{"$nulls":4},{"$f":"[2]!SUMSTRING(BM50:DM50,\"|\")","v":{"$error":"#NAME?"}}]
[4,10050,4,3,{"$nulls":60},{"$f":"_xlfn.IFNA(E51&\"#\"&F51&\"#\"&VLOOKUP(G51,数组!$B:$C,2,0)&\"#\"&角色升星配方!H51,\"\")","v":""},{"$f":"_xlfn.IFNA(F51&\"#\"&G51&\"#\"&VLOOKUP(H51,数组!$B:$C,2,0)&\"#\"&角色升星配方!I51,\"\")","v":""},{"$f":"_xlfn.IFNA(G51&\"#\"&H51&\"#\"&VLOOKUP(I51,数组!$B:$C,2,0)&\"#\"&角色升星配方!J51,\"\")","v":""},{"$f":"_xlfn.IFNA(H51&\"#\"&I51&\"#\"&VLOOKUP(J51,数组!$B:$C,2,0)&\"#\"&角色升星配方!K51,\"\")","v":""},{"$f":"_xlfn.IFNA(I51&\"#\"&J51&\"#\"&VLOOKUP(K51,数组!$B:$C,2,0)&\"#\"&角色升星配方!L51,\"\")","v":""},{"$f":"_xlfn.IFNA(J51&\"#\"&K51&\"#\"&VLOOKUP(L51,数组!$B:$C,2,0)&\"#\"&角色升星配方!M51,\"\")","v":""},{"$f":"_xlfn.IFNA(K51&\"#\"&L51&\"#\"&VLOOKUP(M51,数组!$B:$C,2,0)&\"#\"&角色升星配方!N51,\"\")","v":""},{"$f":"_xlfn.IFNA(L51&\"#\"&M51&\"#\"&VLOOKUP(N51,数组!$B:$C,2,0)&\"#\"&角色升星配方!O51,\"\")","v":""},{"$f":"_xlfn.IFNA(M51&\"#\"&N51&\"#\"&VLOOKUP(O51,数组!$B:$C,2,0)&\"#\"&角色升星配方!P51,\"\")","v":""},{"$f":"_xlfn.IFNA(N51&\"#\"&O51&\"#\"&VLOOKUP(P51,数组!$B:$C,2,0)&\"#\"&角色升星配方!Q51,\"\")","v":""},{"$f":"_xlfn.IFNA(O51&\"#\"&P51&\"#\"&VLOOKUP(Q51,数组!$B:$C,2,0)&\"#\"&角色升星配方!R51,\"\")","v":""},{"$f":"_xlfn.IFNA(P51&\"#\"&Q51&\"#\"&VLOOKUP(R51,数组!$B:$C,2,0)&\"#\"&角色升星配方!S51,\"\")","v":""},{"$f":"_xlfn.IFNA(Q51&\"#\"&R51&\"#\"&VLOOKUP(S51,数组!$B:$C,2,0)&\"#\"&角色升星配方!T51,\"\")","v":""},{"$f":"_xlfn.IFNA(R51&\"#\"&S51&\"#\"&VLOOKUP(T51,数组!$B:$C,2,0)&\"#\"&角色升星配方!U51,\"\")","v":""},{"$f":"_xlfn.IFNA(S51&\"#\"&T51&\"#\"&VLOOKUP(U51,数组!$B:$C,2,0)&\"#\"&角色升星配方!V51,\"\")","v":""},{"$f":"_xlfn.IFNA(T51&\"#\"&U51&\"#\"&VLOOKUP(V51,数组!$B:$C,2,0)&\"#\"&角色升星配方!W51,\"\")","v":""},{"$f":"_xlfn.IFNA(U51&\"#\"&V51&\"#\"&VLOOKUP(W51,数组!$B:$C,2,0)&\"#\"&角色升星配方!X51,\"\")","v":""},{"$f":"_xlfn.IFNA(V51&\"#\"&W51&\"#\"&VLOOKUP(X51,数组!$B:$C,2,0)&\"#\"&角色升星配方!AC51,\"\")","v":""},{"$f":"_xlfn.IFNA(W51&\"#\"&X51&\"#\"&VLOOKUP(AC51,数组!$B:$C,2,0)&\"#\"&角色升星配方!AD51,\"\")","v":""},{"$f":"_xlfn.IFNA(X51&\"#\"&AC51&\"#\"&VLOOKUP(AD51,数组!$B:$C,2,0)&\"#\"&角色升星配方!AE51,\"\")","v":""},{"$f":"_xlfn.IFNA(AC51&\"#\"&AD51&\"#\"&VLOOKUP(AE51,数组!$B:$C,2,0)&\"#\"&角色升星配方!AF51,\"\")","v":""},{"$f":"_xlfn.IFNA(AD51&\"#\"&AE51&\"#\"&VLOOKUP(AF51,数组!$B:$C,2,0)&\"#\"&角色升星配方!AG51,\"\")","v":""},{"$f":"_xlfn.IFNA(AE51&\"#\"&AF51&\"#\"&VLOOKUP(AG51,数组!$B:$C,2,0)&\"#\"&角色升星配方!AH51,\"\")","v":""},{"$f":"_xlfn.IFNA(AF51&\"#\"&AG51&\"#\"&VLOOKUP(AH51,数组!$B:$C,2,0)&\"#\"&角色升星配方!AI51,\"\")","v":""},{"$f":"_xlfn.IFNA(AG51&\"#\"&AH51&\"#\"&VLOOKUP(AI51,数组!$B:$C,2,0)&\"#\"&角色升星配方!AJ51,\"\")","v":""},{"$f":"_xlfn.IFNA(AH51&\"#\"&AI51&\"#\"&VLOOKUP(AJ51,数组!$B:$C,2,0)&\"#\"&角色升星配方!AK51,\"\")","v":""},{"$f":"_xlfn.IFNA(AI51&\"#\"&AJ51&\"#\"&VLOOKUP(AK51,数组!$B:$C,2,0)&\"#\"&角色升星配方!AL51,\"\")","v":""},{"$f":"_xlfn.IFNA(AJ51&\"#\"&AK51&\"#\"&VLOOKUP(AL51,数组!$B:$C,2,0)&\"#\"&角色升星配方!AM51,\"\")","v":""},{"$f":"_xlfn.IFNA(AK51&\"#\"&AL51&\"#\"&VLOOKUP(AM51,数组!$B:$C,2,0)&\"#\"&角色升星配方!AN51,\"\")","v":""},{"$f":"_xlfn.IFNA(AL51&\"#\"&AM51&\"#\"&VLOOKUP(AN51,数组!$B:$C,2,0)&\"#\"&角色升星配方!AO51,\"\")","v":""},{"$f":"_xlfn.IFNA(AM51&\"#\"&AN51&\"#\"&VLOOKUP(AO51,数组!$B:$C,2,0)&\"#\"&角色升星配方!AP51,\"\")","v":""},{"$f":"_xlfn.IFNA(AN51&\"#\"&AO51&\"#\"&VLOOKUP(AP51,数组!$B:$C,2,0)&\"#\"&角色升星配方!AQ51,\"\")","v":""},{"$f":"_xlfn.IFNA(AO51&\"#\"&AP51&\"#\"&VLOOKUP(AQ51,数组!$B:$C,2,0)&\"#\"&角色升星配方!AR51,\"\")","v":""},{"$f":"_xlfn.IFNA(AP51&\"#\"&AQ51&\"#\"&VLOOKUP(AR51,数组!$B:$C,2,0)&\"#\"&角色升星配方!AS51,\"\")","v":""},{"$f":"_xlfn.IFNA(AQ51&\"#\"&AR51&\"#\"&VLOOKUP(AS51,数组!$B:$C,2,0)&\"#\"&角色升星配方!AT51,\"\")","v":""},{"$f":"_xlfn.IFNA(AR51&\"#\"&AS51&\"#\"&VLOOKUP(AT51,数组!$B:$C,2,0)&\"#\"&角色升星配方!AU51,\"\")","v":""},{"$f":"_xlfn.IFNA(AS51&\"#\"&AT51&\"#\"&VLOOKUP(AU51,数组!$B:$C,2,0)&\"#\"&角色升星配方!AV51,\"\")","v":""},{"$f":"_xlfn.IFNA(AT51&\"#\"&AU51&\"#\"&VLOOKUP(AV51,数组!$B:$C,2,0)&\"#\"&角色升星配方!AW51,\"\")","v":""},{"$f":"_xlfn.IFNA(AU51&\"#\"&AV51&\"#\"&VLOOKUP(AW51,数组!$B:$C,2,0)&\"#\"&角色升星配方!AX51,\"\")","v":""},{"$f":"_xlfn.IFNA(AV51&\"#\"&AW51&\"#\"&VLOOKUP(AX51,数组!$B:$C,2,0)&\"#\"&角色升星配方!AY51,\"\")","v":""},{"$f":"_xlfn.IFNA(AW51&\"#\"&AX51&\"#\"&VLOOKUP(AY51,数组!$B:$C,2,0)&\"#\"&角色升星配方!AZ51,\"\")","v":""},{"$f":"_xlfn.IFNA(AX51&\"#\"&AY51&\"#\"&VLOOKUP(AZ51,数组!$B:$C,2,0)&\"#\"&角色升星配方!BM51,\"\")","v":""},{"$nulls":6},{"$f":"_xlfn.IFNA(BE51&\"#\"&BF51&\"#\"&VLOOKUP(BG51,数组!$B:$C,2,0)&\"#\"&角色升星配方!BH51,\"\")","v":""},{"$nulls":4},{"$f":"[2]!SUMSTRING(BM51:DM51,\"|\")","v":{"$error":"#NAME?"}}]
[5,10051,5,3,{"$nulls":60},{"$f":"_xlfn.IFNA(E52&\"#\"&F52&\"#\"&VLOOKUP(G52,数组!$B:$C,2,0)&\"#\"&角色升星配方!H52,\"\")","v":""},{"$f":"_xlfn.IFNA(F52&\"#\"&G52&\"#\"&VLOOKUP(H52,数组!$B:$C,2,0)&\"#\"&角色升星配方!I52,\"\")","v":""},{"$f":"_xlfn.IFNA(G52&\"#\"&H52&\"#\"&VLOOKUP(I52,数组!$B:$C,2,0)&\"#\"&角色升星配方!J52,\"\")","v":""},{"$f":"_xlfn.IFNA(H52&\"#\"&I52&\"#\"&VLOOKUP(J52,数组!$B:$C,2,0)&\"#\"&角色升星配方!K52,\"\")","v":""},{"$f":"_xlfn.IFNA(I52&\"#\"&J52&\"#\"&VLOOKUP(K52,数组!$B:$C,2,0)&\"#\"&角色升星配方!L52,\"\")","v":""},{"$f":"_xlfn.IFNA(J52&\"#\"&K52&\"#\"&VLOOKUP(L52,数组!$B:$C,2,0)&\"#\"&角色升星配方!M52,\"\")","v":""},{"$f":"_xlfn.IFNA(K52&\"#\"&L52&\"#\"&VLOOKUP(M52,数组!$B:$C,2,0)&\"#\"&角色升星配方!N52,\"\")","v":""},{"$f":"_xlfn.IFNA(L52&\"#\"&M52&\"#\"&VLOOKUP(N52,数组!$B:$C,2,0)&\"#\"&角色升星配方!O52,\"\")","v":""},{"$f":"_xlfn.IFNA(M52&\"#\"&N52&\"#\"&VLOOKUP(O52,数组!$B:$C,2,0)&\"#\"&角色升星配方!P52,\"\")","v":""},{"$f":"_xlfn.IFNA(N52&\"#\"&O52&\"#\"&VLOOKUP(P52,数组!$B:$C,2,0)&\"#\"&角色升星配方!Q52,\"\")","v":""},{"$f":"_xlfn.IFNA(O52&\"#\"&P52&\"#\"&VLOOKUP(Q52,数组!$B:$C,2,0)&\"#\"&角色升星配方!R52,\"\")","v":""},{"$f":"_xlfn.IFNA(P52&\"#\"&Q52&\"#\"&VLOOKUP(R52,数组!$B:$C,2,0)&\"#\"&角色升星配方!S52,\"\")","v":""},{"$f":"_xlfn.IFNA(Q52&\"#\"&R52&\"#\"&VLOOKUP(S52,数组!$B:$C,2,0)&\"#\"&角色升星配方!T52,\"\")","v":""},{"$f":"_xlfn.IFNA(R52&\"#\"&S52&\"#\"&VLOOKUP(T52,数组!$B:$C,2,0)&\"#\"&角色升星配方!U52,\"\")","v":""},{"$f":"_xlfn.IFNA(S52&\"#\"&T52&\"#\"&VLOOKUP(U52,数组!$B:$C,2,0)&\"#\"&角色升星配方!V52,\"\")","v":""},{"$f":"_xlfn.IFNA(T52&\"#\"&U52&\"#\"&VLOOKUP(V52,数组!$B:$C,2,0)&\"#\"&角色升星配方!W52,\"\")","v":""},{"$f":"_xlfn.IFNA(U52&\"#\"&V52&\"#\"&VLOOKUP(W52,数组!$B:$C,2,0)&\"#\"&角色升星配方!X52,\"\")","v":""},{"$f":"_xlfn.IFNA(V52&\"#\"&W52&\"#\"&VLOOKUP(X52,数组!$B:$C,2,0)&\"#\"&角色升星配方!AC52,\"\")","v":""},{"$f":"_xlfn.IFNA(W52&\"#\"&X52&\"#\"&VLOOKUP(AC52,数组!$B:$C,2,0)&\"#\"&角色升星配方!AD52,\"\")","v":""},{"$f":"_xlfn.IFNA(X52&\"#\"&AC52&\"#\"&VLOOKUP(AD52,数组!$B:$C,2,0)&\"#\"&角色升星配方!AE52,\"\")","v":""},{"$f":"_xlfn.IFNA(AC52&\"#\"&AD52&\"#\"&VLOOKUP(AE52,数组!$B:$C,2,0)&\"#\"&角色升星配方!AF52,\"\")","v":""},{"$f":"_xlfn.IFNA(AD52&\"#\"&AE52&\"#\"&VLOOKUP(AF52,数组!$B:$C,2,0)&\"#\"&角色升星配方!AG52,\"\")","v":""},{"$f":"_xlfn.IFNA(AE52&\"#\"&AF52&\"#\"&VLOOKUP(AG52,数组!$B:$C,2,0)&\"#\"&角色升星配方!AH52,\"\")","v":""},{"$f":"_xlfn.IFNA(AF52&\"#\"&AG52&\"#\"&VLOOKUP(AH52,数组!$B:$C,2,0)&\"#\"&角色升星配方!AI52,\"\")","v":""},{"$f":"_xlfn.IFNA(AG52&\"#\"&AH52&\"#\"&VLOOKUP(AI52,数组!$B:$C,2,0)&\"#\"&角色升星配方!AJ52,\"\")","v":""},{"$f":"_xlfn.IFNA(AH52&\"#\"&AI52&\"#\"&VLOOKUP(AJ52,数组!$B:$C,2,0)&\"#\"&角色升星配方!AK52,\"\")","v":""},{"$f":"_xlfn.IFNA(AI52&\"#\"&AJ52&\"#\"&VLOOKUP(AK52,数组!$B:$C,2,0)&\"#\"&角色升星配方!AL52,\"\")","v":""},{"$f":"_xlfn.IFNA(AJ52&\"#\"&AK52&\"#\"&VLOOKUP(AL52,数组!$B:$C,2,0)&\"#\"&角色升星配方!AM52,\"\")","v":""},{"$f":"_xlfn.IFNA(AK52&\"#\"&AL52&\"#\"&VLOOKUP(AM52,数组!$B:$C,2,0)&\"#\"&角色升星配方!AN52,\"\")","v":""},{"$f":"_xlfn.IFNA(AL52&\"#\"&AM52&\"#\"&VLOOKUP(AN52,数组!$B:$C,2,0)&\"#\"&角色升星配方!AO52,\"\")","v":""},{"$f":"_xlfn.IFNA(AM52&\"#\"&AN52&\"#\"&VLOOKUP(AO52,数组!$B:$C,2,0)&\"#\"&角色升星配方!AP52,\"\")","v":""},{"$f":"_xlfn.IFNA(AN52&\"#\"&AO52&\"#\"&VLOOKUP(AP52,数组!$B:$C,2,0)&\"#\"&角色升星配方!AQ52,\"\")","v":""},{"$f":"_xlfn.IFNA(AO52&\"#\"&AP52&\"#\"&VLOOKUP(AQ52,数组!$B:$C,2,0)&\"#\"&角色升星配方!AR52,\"\")","v":""},{"$f":"_xlfn.IFNA(AP52&\"#\"&AQ52&\"#\"&VLOOKUP(AR52,数组!$B:$C,2,0)&\"#\"&角色升星配方!AS52,\"\")","v":""},{"$f":"_xlfn.IFNA(AQ52&\"#\"&AR52&\"#\"&VLOOKUP(AS52,数组!$B:$C,2,0)&\"#\"&角色升星配方!AT52,\"\")","v":""},{"$f":"_xlfn.IFNA(AR52&\"#\"&AS52&\"#\"&VLOOKUP(AT52,数组!$B:$C,2,0)&\"#\"&角色升星配方!AU52,\"\")","v":""},{"$f":"_xlfn.IFNA(AS52&\"#\"&AT52&\"#\"&VLOOKUP(AU52,数组!$B:$C,2,0)&\"#\"&角色升星配方!AV52,\"\")","v":""},{"$f":"_xlfn.IFNA(AT52&\"#\"&AU52&\"#\"&VLOOKUP(AV52,数组!$B:$C,2,0)&\"#\"&角色升星配方!AW52,\"\")","v":""},{"$f":"_xlfn.IFNA(AU52&\"#\"&AV52&\"#\"&VLOOKUP(AW52,数组!$B:$C,2,0)&\"#\"&角色升星配方!AX52,\"\")","v":""},{"$f":"_xlfn.IFNA(AV52&\"#\"&AW52&\"#\"&VLOOKUP(AX52,数组!$B:$C,2,0)&\"#\"&角色升星配方!AY52,\"\")","v":""},{"$f":"_xlfn.IFNA(AW52&\"#\"&AX52&\"#\"&VLOOKUP(AY52,数组!$B:$C,2,0)&\"#\"&角色升星配方!AZ52,\"\")","v":""},{"$f":"_xlfn.IFNA(AX52&\"#\"&AY52&\"#\"&VLOOKUP(AZ52,数组!$B:$C,2,0)&\"#\"&角色升星配方!BM52,\"\")","v":""},{"$nulls":6},{"$f":"_xlfn.IFNA(BE52&\"#\"&BF52&\"#\"&VLOOKUP(BG52,数组!$B:$C,2,0)&\"#\"&角色升星配方!BH52,\"\")","v":""},{"$nulls":4},{"$f":"[2]!SUMSTRING(BM52:DM52,\"|\")","v":{"$error":"#NAME?"}}]
[6,10052,6,3,{"$nulls":60},{"$f":"_xlfn.IFNA(E53&\"#\"&F53&\"#\"&VLOOKUP(G53,数组!$B:$C,2,0)&\"#\"&角色升星配方!H53,\"\")","v":""},{"$f":"_xlfn.IFNA(F53&\"#\"&G53&\"#\"&VLOOKUP(H53,数组!$B:$C,2,0)&\"#\"&角色升星配方!I53,\"\")","v":""},{"$f":"_xlfn.IFNA(G53&\"#\"&H53&\"#\"&VLOOKUP(I53,数组!$B:$C,2,0)&\"#\"&角色升星配方!J53,\"\")","v":""},{"$f":"_xlfn.IFNA(H53&\"#\"&I53&\"#\"&VLOOKUP(J53,数组!$B:$C,2,0)&\"#\"&角色升星配方!K53,\"\")","v":""},{"$f":"_xlfn.IFNA(I53&\"#\"&J53&\"#\"&VLOOKUP(K53,数组!$B:$C,2,0)&\"#\"&角色升星配方!L53,\"\")","v":""},{"$f":"_xlfn.IFNA(J53&\"#\"&K53&\"#\"&VLOOKUP(L53,数组!$B:$C,2,0)&\"#\"&角色升星配方!M53,\"\")","v":""},{"$f":"_xlfn.IFNA(K53&\"#\"&L53&\"#\"&VLOOKUP(M53,数组!$B:$C,2,0)&\"#\"&角色升星配方!N53,\"\")","v":""},{"$f":"_xlfn.IFNA(L53&\"#\"&M53&\"#\"&VLOOKUP(N53,数组!$B:$C,2,0)&\"#\"&角色升星配方!O53,\"\")","v":""},{"$f":"_xlfn.IFNA(M53&\"#\"&N53&\"#\"&VLOOKUP(O53,数组!$B:$C,2,0)&\"#\"&角色升星配方!P53,\"\")","v":""},{"$f":"_xlfn.IFNA(N53&\"#\"&O53&\"#\"&VLOOKUP(P53,数组!$B:$C,2,0)&\"#\"&角色升星配方!Q53,\"\")","v":""},{"$f":"_xlfn.IFNA(O53&\"#\"&P53&\"#\"&VLOOKUP(Q53,数组!$B:$C,2,0)&\"#\"&角色升星配方!R53,\"\")","v":""},{"$f":"_xlfn.IFNA(P53&\"#\"&Q53&\"#\"&VLOOKUP(R53,数组!$B:$C,2,0)&\"#\"&角色升星配方!S53,\"\")","v":""},{"$f":"_xlfn.IFNA(Q53&\"#\"&R53&\"#\"&VLOOKUP(S53,数组!$B:$C,2,0)&\"#\"&角色升星配方!T53,\"\")","v":""},{"$f":"_xlfn.IFNA(R53&\"#\"&S53&\"#\"&VLOOKUP(T53,数组!$B:$C,2,0)&\"#\"&角色升星配方!U53,\"\")","v":""},{"$f":"_xlfn.IFNA(S53&\"#\"&T53&\"#\"&VLOOKUP(U53,数组!$B:$C,2,0)&\"#\"&角色升星配方!V53,\"\")","v":""},{"$f":"_xlfn.IFNA(T53&\"#\"&U53&\"#\"&VLOOKUP(V53,数组!$B:$C,2,0)&\"#\"&角色升星配方!W53,\"\")","v":""},{"$f":"_xlfn.IFNA(U53&\"#\"&V53&\"#\"&VLOOKUP(W53,数组!$B:$C,2,0)&\"#\"&角色升星配方!X53,\"\")","v":""},{"$f":"_xlfn.IFNA(V53&\"#\"&W53&\"#\"&VLOOKUP(X53,数组!$B:$C,2,0)&\"#\"&角色升星配方!AC53,\"\")","v":""},{"$f":"_xlfn.IFNA(W53&\"#\"&X53&\"#\"&VLOOKUP(AC53,数组!$B:$C,2,0)&\"#\"&角色升星配方!AD53,\"\")","v":""},{"$f":"_xlfn.IFNA(X53&\"#\"&AC53&\"#\"&VLOOKUP(AD53,数组!$B:$C,2,0)&\"#\"&角色升星配方!AE53,\"\")","v":""},{"$f":"_xlfn.IFNA(AC53&\"#\"&AD53&\"#\"&VLOOKUP(AE53,数组!$B:$C,2,0)&\"#\"&角色升星配方!AF53,\"\")","v":""},{"$f":"_xlfn.IFNA(AD53&\"#\"&AE53&\"#\"&VLOOKUP(AF53,数组!$B:$C,2,0)&\"#\"&角色升星配方!AG53,\"\")","v":""},{"$f":"_xlfn.IFNA(AE53&\"#\"&AF53&\"#\"&VLOOKUP(AG53,数组!$B:$C,2,0)&\"#\"&角色升星配方!AH53,\"\")","v":""},{"$f":"_xlfn.IFNA(AF53&\"#\"&AG53&\"#\"&VLOOKUP(AH53,数组!$B:$C,2,0)&\"#\"&角色升星配方!AI53,\"\")","v":""},{"$f":"_xlfn.IFNA(AG53&\"#\"&AH53&\"#\"&VLOOKUP(AI53,数组!$B:$C,2,0)&\"#\"&角色升星配方!AJ53,\"\")","v":""},{"$f":"_xlfn.IFNA(AH53&\"#\"&AI53&\"#\"&VLOOKUP(AJ53,数组!$B:$C,2,0)&\"#\"&角色升星配方!AK53,\"\")","v":""},{"$f":"_xlfn.IFNA(AI53&\"#\"&AJ53&\"#\"&VLOOKUP(AK53,数组!$B:$C,2,0)&\"#\"&角色升星配方!AL53,\"\")","v":""},{"$f":"_xlfn.IFNA(AJ53&\"#\"&AK53&\"#\"&VLOOKUP(AL53,数组!$B:$C,2,0)&\"#\"&角色升星配方!AM53,\"\")","v":""},{"$f":"_xlfn.IFNA(AK53&\"#\"&AL53&\"#\"&VLOOKUP(AM53,数组!$B:$C,2,0)&\"#\"&角色升星配方!AN53,\"\")","v":""},{"$f":"_xlfn.IFNA(AL53&\"#\"&AM53&\"#\"&VLOOKUP(AN53,数组!$B:$C,2,0)&\"#\"&角色升星配方!AO53,\"\")","v":""},{"$f":"_xlfn.IFNA(AM53&\"#\"&AN53&\"#\"&VLOOKUP(AO53,数组!$B:$C,2,0)&\"#\"&角色升星配方!AP53,\"\")","v":""},{"$f":"_xlfn.IFNA(AN53&\"#\"&AO53&\"#\"&VLOOKUP(AP53,数组!$B:$C,2,0)&\"#\"&角色升星配方!AQ53,\"\")","v":""},{"$f":"_xlfn.IFNA(AO53&\"#\"&AP53&\"#\"&VLOOKUP(AQ53,数组!$B:$C,2,0)&\"#\"&角色升星配方!AR53,\"\")","v":""},{"$f":"_xlfn.IFNA(AP53&\"#\"&AQ53&\"#\"&VLOOKUP(AR53,数组!$B:$C,2,0)&\"#\"&角色升星配方!AS53,\"\")","v":""},{"$f":"_xlfn.IFNA(AQ53&\"#\"&AR53&\"#\"&VLOOKUP(AS53,数组!$B:$C,2,0)&\"#\"&角色升星配方!AT53,\"\")","v":""},{"$f":"_xlfn.IFNA(AR53&\"#\"&AS53&\"#\"&VLOOKUP(AT53,数组!$B:$C,2,0)&\"#\"&角色升星配方!AU53,\"\")","v":""},{"$f":"_xlfn.IFNA(AS53&\"#\"&AT53&\"#\"&VLOOKUP(AU53,数组!$B:$C,2,0)&\"#\"&角色升星配方!AV53,\"\")","v":""},{"$f":"_xlfn.IFNA(AT53&\"#\"&AU53&\"#\"&VLOOKUP(AV53,数组!$B:$C,2,0)&\"#\"&角色升星配方!AW53,\"\")","v":""},{"$f":"_xlfn.IFNA(AU53&\"#\"&AV53&\"#\"&VLOOKUP(AW53,数组!$B:$C,2,0)&\"#\"&角色升星配方!AX53,\"\")","v":""},{"$f":"_xlfn.IFNA(AV53&\"#\"&AW53&\"#\"&VLOOKUP(AX53,数组!$B:$C,2,0)&\"#\"&角色升星配方!AY53,\"\")","v":""},{"$f":"_xlfn.IFNA(AW53&\"#\"&AX53&\"#\"&VLOOKUP(AY53,数组!$B:$C,2,0)&\"#\"&角色升星配方!AZ53,\"\")","v":""},{"$f":"_xlfn.IFNA(AX53&\"#\"&AY53&\"#\"&VLOOKUP(AZ53,数组!$B:$C,2,0)&\"#\"&角色升星配方!BM53,\"\")","v":""},{"$nulls":6},{"$f":"_xlfn.IFNA(BE53&\"#\"&BF53&\"#\"&VLOOKUP(BG53,数组!$B:$C,2,0)&\"#\"&角色升星配方!BH53,\"\")","v":""},{"$nulls":4},{"$f":"[2]!SUMSTRING(BM53:DM53,\"|\")","v":{"$error":"#NAME?"}}]
[{"$nulls":64},{"$f":"_xlfn.IFNA(E54&\"#\"&F54&\"#\"&VLOOKUP(G54,数组!$B:$C,2,0)&\"#\"&角色升星配方!H54,\"\")","v":""},{"$f":"_xlfn.IFNA(F54&\"#\"&G54&\"#\"&VLOOKUP(H54,数组!$B:$C,2,0)&\"#\"&角色升星配方!I54,\"\")","v":""},{"$f":"_xlfn.IFNA(G54&\"#\"&H54&\"#\"&VLOOKUP(I54,数组!$B:$C,2,0)&\"#\"&角色升星配方!J54,\"\")","v":""},{"$f":"_xlfn.IFNA(H54&\"#\"&I54&\"#\"&VLOOKUP(J54,数组!$B:$C,2,0)&\"#\"&角色升星配方!K54,\"\")","v":""},{"$f":"_xlfn.IFNA(I54&\"#\"&J54&\"#\"&VLOOKUP(K54,数组!$B:$C,2,0)&\"#\"&角色升星配方!L54,\"\")","v":""},{"$f":"_xlfn.IFNA(J54&\"#\"&K54&\"#\"&VLOOKUP(L54,数组!$B:$C,2,0)&\"#\"&角色升星配方!M54,\"\")","v":""},{"$f":"_xlfn.IFNA(K54&\"#\"&L54&\"#\"&VLOOKUP(M54,数组!$B:$C,2,0)&\"#\"&角色升星配方!N54,\"\")","v":""},{"$f":"_xlfn.IFNA(L54&\"#\"&M54&\"#\"&VLOOKUP(N54,数组!$B:$C,2,0)&\"#\"&角色升星配方!O54,\"\")","v":""},{"$f":"_xlfn.IFNA(M54&\"#\"&N54&\"#\"&VLOOKUP(O54,数组!$B:$C,2,0)&\"#\"&角色升星配方!P54,\"\")","v":""},{"$f":"_xlfn.IFNA(N54&\"#\"&O54&\"#\"&VLOOKUP(P54,数组!$B:$C,2,0)&\"#\"&角色升星配方!Q54,\"\")","v":""},{"$f":"_xlfn.IFNA(O54&\"#\"&P54&\"#\"&VLOOKUP(Q54,数组!$B:$C,2,0)&\"#\"&角色升星配方!R54,\"\")","v":""},{"$f":"_xlfn.IFNA(P54&\"#\"&Q54&\"#\"&VLOOKUP(R54,数组!$B:$C,2,0)&\"#\"&角色升星配方!S54,\"\")","v":""},{"$f":"_xlfn.IFNA(Q54&\"#\"&R54&\"#\"&VLOOKUP(S54,数组!$B:$C,2,0)&\"#\"&角色升星配方!T54,\"\")","v":""},{"$f":"_xlfn.IFNA(R54&\"#\"&S54&\"#\"&VLOOKUP(T54,数组!$B:$C,2,0)&\"#\"&角色升星配方!U54,\"\")","v":""},{"$f":"_xlfn.IFNA(S54&\"#\"&T54&\"#\"&VLOOKUP(U54,数组!$B:$C,2,0)&\"#\"&角色升星配方!V54,\"\")","v":""},{"$f":"_xlfn.IFNA(T54&\"#\"&U54&\"#\"&VLOOKUP(V54,数组!$B:$C,2,0)&\"#\"&角色升星配方!W54,\"\")","v":""},{"$f":"_xlfn.IFNA(U54&\"#\"&V54&\"#\"&VLOOKUP(W54,数组!$B:$C,2,0)&\"#\"&角色升星配方!X54,\"\")","v":""},{"$f":"_xlfn.IFNA(V54&\"#\"&W54&\"#\"&VLOOKUP(X54,数组!$B:$C,2,0)&\"#\"&角色升星配方!AC54,\"\")","v":""},{"$f":"_xlfn.IFNA(W54&\"#\"&X54&\"#\"&VLOOKUP(AC54,数组!$B:$C,2,0)&\"#\"&角色升星配方!AD54,\"\")","v":""},{"$f":"_xlfn.IFNA(X54&\"#\"&AC54&\"#\"&VLOOKUP(AD54,数组!$B:$C,2,0)&\"#\"&角色升星配方!AE54,\"\")","v":""},{"$f":"_xlfn.IFNA(AC54&\"#\"&AD54&\"#\"&VLOOKUP(AE54,数组!$B:$C,2,0)&\"#\"&角色升星配方!AF54,\"\")","v":""},{"$f":"_xlfn.IFNA(AD54&\"#\"&AE54&\"#\"&VLOOKUP(AF54,数组!$B:$C,2,0)&\"#\"&角色升星配方!AG54,\"\")","v":""},{"$f":"_xlfn.IFNA(AE54&\"#\"&AF54&\"#\"&VLOOKUP(AG54,数组!$B:$C,2,0)&\"#\"&角色升星配方!AH54,\"\")","v":""},{"$f":"_xlfn.IFNA(AF54&\"#\"&AG54&\"#\"&VLOOKUP(AH54,数组!$B:$C,2,0)&\"#\"&角色升星配方!AI54,\"\")","v":""},{"$f":"_xlfn.IFNA(AG54&\"#\"&AH54&\"#\"&VLOOKUP(AI54,数组!$B:$C,2,0)&\"#\"&角色升星配方!AJ54,\"\")","v":""},{"$f":"_xlfn.IFNA(AH54&\"#\"&AI54&\"#\"&VLOOKUP(AJ54,数组!$B:$C,2,0)&\"#\"&角色升星配方!AK54,\"\")","v":""},{"$f":"_xlfn.IFNA(AI54&\"#\"&AJ54&\"#\"&VLOOKUP(AK54,数组!$B:$C,2,0)&\"#\"&角色升星配方!AL54,\"\")","v":""},{"$f":"_xlfn.IFNA(AJ54&\"#\"&AK54&\"#\"&VLOOKUP(AL54,数组!$B:$C,2,0)&\"#\"&角色升星配方!AM54,\"\")","v":""},{"$f":"_xlfn.IFNA(AK54&\"#\"&AL54&\"#\"&VLOOKUP(AM54,数组!$B:$C,2,0)&\"#\"&角色升星配方!AN54,\"\")","v":""},{"$f":"_xlfn.IFNA(AL54&\"#\"&AM54&\"#\"&VLOOKUP(AN54,数组!$B:$C,2,0)&\"#\"&角色升星配方!AO54,\"\")","v":""},{"$f":"_xlfn.IFNA(AM54&\"#\"&AN54&\"#\"&VLOOKUP(AO54,数组!$B:$C,2,0)&\"#\"&角色升星配方!AP54,\"\")","v":""},{"$f":"_xlfn.IFNA(AN54&\"#\"&AO54&\"#\"&VLOOKUP(AP54,数组!$B:$C,2,0)&\"#\"&角色升星配方!AQ54,\"\")","v":""},{"$f":"_xlfn.IFNA(AO54&\"#\"&AP54&\"#\"&VLOOKUP(AQ54,数组!$B:$C,2,0)&\"#\"&角色升星配方!AR54,\"\")","v":""},{"$f":"_xlfn.IFNA(AP54&\"#\"&AQ54&\"#\"&VLOOKUP(AR54,数组!$B:$C,2,0)&\"#\"&角色升星配方!AS54,\"\")","v":""},{"$f":"_xlfn.IFNA(AQ54&\"#\"&AR54&\"#\"&VLOOKUP(AS54,数组!$B:$C,2,0)&\"#\"&角色升星配方!AT54,\"\")","v":""},{"$f":"_xlfn.IFNA(AR54&\"#\"&AS54&\"#\"&VLOOKUP(AT54,数组!$B:$C,2,0)&\"#\"&角色升星配方!AU54,\"\")","v":""},{"$f":"_xlfn.IFNA(AS54&\"#\"&AT54&\"#\"&VLOOKUP(AU54,数组!$B:$C,2,0)&\"#\"&角色升星配方!AV54,\"\")","v":""},{"$f":"_xlfn.IFNA(AT54&\"#\"&AU54&\"#\"&VLOOKUP(AV54,数组!$B:$C,2,0)&\"#\"&角色升星配方!AW54,\"\")","v":""},{"$f":"_xlfn.IFNA(AU54&\"#\"&AV54&\"#\"&VLOOKUP(AW54,数组!$B:$C,2,0)&\"#\"&角色升星配方!AX54,\"\")","v":""},{"$f":"_xlfn.IFNA(AV54&\"#\"&AW54&\"#\"&VLOOKUP(AX54,数组!$B:$C,2,0)&\"#\"&角色升星配方!AY54,\"\")","v":""},{"$f":"_xlfn.IFNA(AW54&\"#\"&AX54&\"#\"&VLOOKUP(AY54,数组!$B:$C,2,0)&\"#\"&角色升星配方!AZ54,\"\")","v":""},{"$f":"_xlfn.IFNA(AX54&\"#\"&AY54&\"#\"&VLOOKUP(AZ54,数组!$B:$C,2,0)&\"#\"&角色升星配方!BM54,\"\")","v":""},{"$nulls":6},{"$f":"_xlfn.IFNA(BE54&\"#\"&BF54&\"#\"&VLOOKUP(BG54,数组!$B:$C,2,0)&\"#\"&角色升星配方!BH54,\"\")","v":""},{"$nulls":4},{"$f":"[2]!SUMSTRING(BM54:DM54,\"|\")","v":{"$error":"#NAME?"}}]
[{"$nulls":64},{"$f":"_xlfn.IFNA(E55&\"#\"&F55&\"#\"&VLOOKUP(G55,数组!$B:$C,2,0)&\"#\"&角色升星配方!H55,\"\")","v":""},{"$f":"_xlfn.IFNA(F55&\"#\"&G55&\"#\"&VLOOKUP(H55,数组!$B:$C,2,0)&\"#\"&角色升星配方!I55,\"\")","v":""},{"$f":"_xlfn.IFNA(G55&\"#\"&H55&\"#\"&VLOOKUP(I55,数组!$B:$C,2,0)&\"#\"&角色升星配方!J55,\"\")","v":""},{"$f":"_xlfn.IFNA(H55&\"#\"&I55&\"#\"&VLOOKUP(J55,数组!$B:$C,2,0)&\"#\"&角色升星配方!K55,\"\")","v":""},{"$f":"_xlfn.IFNA(I55&\"#\"&J55&\"#\"&VLOOKUP(K55,数组!$B:$C,2,0)&\"#\"&角色升星配方!L55,\"\")","v":""},{"$f":"_xlfn.IFNA(J55&\"#\"&K55&\"#\"&VLOOKUP(L55,数组!$B:$C,2,0)&\"#\"&角色升星配方!M55,\"\")","v":""},{"$f":"_xlfn.IFNA(K55&\"#\"&L55&\"#\"&VLOOKUP(M55,数组!$B:$C,2,0)&\"#\"&角色升星配方!N55,\"\")","v":""},{"$f":"_xlfn.IFNA(L55&\"#\"&M55&\"#\"&VLOOKUP(N55,数组!$B:$C,2,0)&\"#\"&角色升星配方!O55,\"\")","v":""},{"$f":"_xlfn.IFNA(M55&\"#\"&N55&\"#\"&VLOOKUP(O55,数组!$B:$C,2,0)&\"#\"&角色升星配方!P55,\"\")","v":""},{"$f":"_xlfn.IFNA(N55&\"#\"&O55&\"#\"&VLOOKUP(P55,数组!$B:$C,2,0)&\"#\"&角色升星配方!Q55,\"\")","v":""},{"$f":"_xlfn.IFNA(O55&\"#\"&P55&\"#\"&VLOOKUP(Q55,数组!$B:$C,2,0)&\"#\"&角色升星配方!R55,\"\")","v":""},{"$f":"_xlfn.IFNA(P55&\"#\"&Q55&\"#\"&VLOOKUP(R55,数组!$B:$C,2,0)&\"#\"&角色升星配方!S55,\"\")","v":""},{"$f":"_xlfn.IFNA(Q55&\"#\"&R55&\"#\"&VLOOKUP(S55,数组!$B:$C,2,0)&\"#\"&角色升星配方!T55,\"\")","v":""},{"$f":"_xlfn.IFNA(R55&\"#\"&S55&\"#\"&VLOOKUP(T55,数组!$B:$C,2,0)&\"#\"&角色升星配方!U55,\"\")","v":""},{"$f":"_xlfn.IFNA(S55&\"#\"&T55&\"#\"&VLOOKUP(U55,数组!$B:$C,2,0)&\"#\"&角色升星配方!V55,\"\")","v":""},{"$f":"_xlfn.IFNA(T55&\"#\"&U55&\"#\"&VLOOKUP(V55,数组!$B:$C,2,0)&\"#\"&角色升星配方!W55,\"\")","v":""},{"$f":"_xlfn.IFNA(U55&\"#\"&V55&\"#\"&VLOOKUP(W55,数组!$B:$C,2,0)&\"#\"&角色升星配方!X55,\"\")","v":""},{"$f":"_xlfn.IFNA(V55&\"#\"&W55&\"#\"&VLOOKUP(X55,数组!$B:$C,2,0)&\"#\"&角色升星配方!AC55,\"\")","v":""},{"$f":"_xlfn.IFNA(W55&\"#\"&X55&\"#\"&VLOOKUP(AC55,数组!$B:$C,2,0)&\"#\"&角色升星配方!AD55,\"\")","v":""},{"$f":"_xlfn.IFNA(X55&\"#\"&AC55&\"#\"&VLOOKUP(AD55,数组!$B:$C,2,0)&\"#\"&角色升星配方!AE55,\"\")","v":""},{"$f":"_xlfn.IFNA(AC55&\"#\"&AD55&\"#\"&VLOOKUP(AE55,数组!$B:$C,2,0)&\"#\"&角色升星配方!AF55,\"\")","v":""},{"$f":"_xlfn.IFNA(AD55&\"#\"&AE55&\"#\"&VLOOKUP(AF55,数组!$B:$C,2,0)&\"#\"&角色升星配方!AG55,\"\")","v":""},{"$f":"_xlfn.IFNA(AE55&\"#\"&AF55&\"#\"&VLOOKUP(AG55,数组!$B:$C,2,0)&\"#\"&角色升星配方!AH55,\"\")","v":""},{"$f":"_xlfn.IFNA(AF55&\"#\"&AG55&\"#\"&VLOOKUP(AH55,数组!$B:$C,2,0)&\"#\"&角色升星配方!AI55,\"\")","v":""},{"$f":"_xlfn.IFNA(AG55&\"#\"&AH55&\"#\"&VLOOKUP(AI55,数组!$B:$C,2,0)&\"#\"&角色升星配方!AJ55,\"\")","v":""},{"$f":"_xlfn.IFNA(AH55&\"#\"&AI55&\"#\"&VLOOKUP(AJ55,数组!$B:$C,2,0)&\"#\"&角色升星配方!AK55,\"\")","v":""},{"$f":"_xlfn.IFNA(AI55&\"#\"&AJ55&\"#\"&VLOOKUP(AK55,数组!$B:$C,2,0)&\"#\"&角色升星配方!AL55,\"\")","v":""},{"$f":"_xlfn.IFNA(AJ55&\"#\"&AK55&\"#\"&VLOOKUP(AL55,数组!$B:$C,2,0)&\"#\"&角色升星配方!AM55,\"\")","v":""},{"$f":"_xlfn.IFNA(AK55&\"#\"&AL55&\"#\"&VLOOKUP(AM55,数组!$B:$C,2,0)&\"#\"&角色升星配方!AN55,\"\")","v":""},{"$f":"_xlfn.IFNA(AL55&\"#\"&AM55&\"#\"&VLOOKUP(AN55,数组!$B:$C,2,0)&\"#\"&角色升星配方!AO55,\"\")","v":""},{"$f":"_xlfn.IFNA(AM55&\"#\"&AN55&\"#\"&VLOOKUP(AO55,数组!$B:$C,2,0)&\"#\"&角色升星配方!AP55,\"\")","v":""},{"$f":"_xlfn.IFNA(AN55&\"#\"&AO55&\"#\"&VLOOKUP(AP55,数组!$B:$C,2,0)&\"#\"&角色升星配方!AQ55,\"\")","v":""},{"$f":"_xlfn.IFNA(AO55&\"#\"&AP55&\"#\"&VLOOKUP(AQ55,数组!$B:$C,2,0)&\"#\"&角色升星配方!AR55,\"\")","v":""},{"$f":"_xlfn.IFNA(AP55&\"#\"&AQ55&\"#\"&VLOOKUP(AR55,数组!$B:$C,2,0)&\"#\"&角色升星配方!AS55,\"\")","v":""},{"$f":"_xlfn.IFNA(AQ55&\"#\"&AR55&\"#\"&VLOOKUP(AS55,数组!$B:$C,2,0)&\"#\"&角色升星配方!AT55,\"\")","v":""},{"$f":"_xlfn.IFNA(AR55&\"#\"&AS55&\"#\"&VLOOKUP(AT55,数组!$B:$C,2,0)&\"#\"&角色升星配方!AU55,\"\")","v":""},{"$f":"_xlfn.IFNA(AS55&\"#\"&AT55&\"#\"&VLOOKUP(AU55,数组!$B:$C,2,0)&\"#\"&角色升星配方!AV55,\"\")","v":""},{"$f":"_xlfn.IFNA(AT55&\"#\"&AU55&\"#\"&VLOOKUP(AV55,数组!$B:$C,2,0)&\"#\"&角色升星配方!AW55,\"\")","v":""},{"$f":"_xlfn.IFNA(AU55&\"#\"&AV55&\"#\"&VLOOKUP(AW55,数组!$B:$C,2,0)&\"#\"&角色升星配方!AX55,\"\")","v":""},{"$f":"_xlfn.IFNA(AV55&\"#\"&AW55&\"#\"&VLOOKUP(AX55,数组!$B:$C,2,0)&\"#\"&角色升星配方!AY55,\"\")","v":""},{"$f":"_xlfn.IFNA(AW55&\"#\"&AX55&\"#\"&VLOOKUP(AY55,数组!$B:$C,2,0)&\"#\"&角色升星配方!AZ55,\"\")","v":""},{"$f":"_xlfn.IFNA(AX55&\"#\"&AY55&\"#\"&VLOOKUP(AZ55,数组!$B:$C,2,0)&\"#\"&角色升星配方!BM55,\"\")","v":""},{"$nulls":6},{"$f":"_xlfn.IFNA(BE55&\"#\"&BF55&\"#\"&VLOOKUP(BG55,数组!$B:$C,2,0)&\"#\"&角色升星配方!BH55,\"\")","v":""},{"$nulls":4},{"$f":"[2]!SUMSTRING(BM55:DM55,\"|\")","v":{"$error":"#NAME?"}}]
[{"$nulls":64},{"$f":"_xlfn.IFNA(E56&\"#\"&F56&\"#\"&VLOOKUP(G56,数组!$B:$C,2,0)&\"#\"&角色升星配方!H56,\"\")","v":""},{"$f":"_xlfn.IFNA(F56&\"#\"&G56&\"#\"&VLOOKUP(H56,数组!$B:$C,2,0)&\"#\"&角色升星配方!I56,\"\")","v":""},{"$f":"_xlfn.IFNA(G56&\"#\"&H56&\"#\"&VLOOKUP(I56,数组!$B:$C,2,0)&\"#\"&角色升星配方!J56,\"\")","v":""},{"$f":"_xlfn.IFNA(H56&\"#\"&I56&\"#\"&VLOOKUP(J56,数组!$B:$C,2,0)&\"#\"&角色升星配方!K56,\"\")","v":""},{"$f":"_xlfn.IFNA(I56&\"#\"&J56&\"#\"&VLOOKUP(K56,数组!$B:$C,2,0)&\"#\"&角色升星配方!L56,\"\")","v":""},{"$f":"_xlfn.IFNA(J56&\"#\"&K56&\"#\"&VLOOKUP(L56,数组!$B:$C,2,0)&\"#\"&角色升星配方!M56,\"\")","v":""},{"$f":"_xlfn.IFNA(K56&\"#\"&L56&\"#\"&VLOOKUP(M56,数组!$B:$C,2,0)&\"#\"&角色升星配方!N56,\"\")","v":""},{"$f":"_xlfn.IFNA(L56&\"#\"&M56&\"#\"&VLOOKUP(N56,数组!$B:$C,2,0)&\"#\"&角色升星配方!O56,\"\")","v":""},{"$f":"_xlfn.IFNA(M56&\"#\"&N56&\"#\"&VLOOKUP(O56,数组!$B:$C,2,0)&\"#\"&角色升星配方!P56,\"\")","v":""},{"$f":"_xlfn.IFNA(N56&\"#\"&O56&\"#\"&VLOOKUP(P56,数组!$B:$C,2,0)&\"#\"&角色升星配方!Q56,\"\")","v":""},{"$f":"_xlfn.IFNA(O56&\"#\"&P56&\"#\"&VLOOKUP(Q56,数组!$B:$C,2,0)&\"#\"&角色升星配方!R56,\"\")","v":""},{"$f":"_xlfn.IFNA(P56&\"#\"&Q56&\"#\"&VLOOKUP(R56,数组!$B:$C,2,0)&\"#\"&角色升星配方!S56,\"\")","v":""},{"$f":"_xlfn.IFNA(Q56&\"#\"&R56&\"#\"&VLOOKUP(S56,数组!$B:$C,2,0)&\"#\"&角色升星配方!T56,\"\")","v":""},{"$f":"_xlfn.IFNA(R56&\"#\"&S56&\"#\"&VLOOKUP(T56,数组!$B:$C,2,0)&\"#\"&角色升星配方!U56,\"\")","v":""},{"$f":"_xlfn.IFNA(S56&\"#\"&T56&\"#\"&VLOOKUP(U56,数组!$B:$C,2,0)&\"#\"&角色升星配方!V56,\"\")","v":""},{"$f":"_xlfn.IFNA(T56&\"#\"&U56&\"#\"&VLOOKUP(V56,数组!$B:$C,2,0)&\"#\"&角色升星配方!W56,\"\")","v":""},{"$f":"_xlfn.IFNA(U56&\"#\"&V56&\"#\"&VLOOKUP(W56,数组!$B:$C,2,0)&\"#\"&角色升星配方!X56,\"\")","v":""},{"$f":"_xlfn.IFNA(V56&\"#\"&W56&\"#\"&VLOOKUP(X56,数组!$B:$C,2,0)&\"#\"&角色升星配方!AC56,\"\")","v":""},{"$f":"_xlfn.IFNA(W56&\"#\"&X56&\"#\"&VLOOKUP(AC56,数组!$B:$C,2,0)&\"#\"&角色升星配方!AD56,\"\")","v":""},{"$f":"_xlfn.IFNA(X56&\"#\"&AC56&\"#\"&VLOOKUP(AD56,数组!$B:$C,2,0)&\"#\"&角色升星配方!AE56,\"\")","v":""},{"$f":"_xlfn.IFNA(AC56&\"#\"&AD56&\"#\"&VLOOKUP(AE56,数组!$B:$C,2,0)&\"#\"&角色升星配方!AF56,\"\")","v":""},{"$f":"_xlfn.IFNA(AD56&\"#\"&AE56&\"#\"&VLOOKUP(AF56,数组!$B:$C,2,0)&\"#\"&角色升星配方!AG56,\"\")","v":""},{"$f":"_xlfn.IFNA(AE56&\"#\"&AF56&\"#\"&VLOOKUP(AG56,数组!$B:$C,2,0)&\"#\"&角色升星配方!AH56,\"\")","v":""},{"$f":"_xlfn.IFNA(AF56&\"#\"&AG56&\"#\"&VLOOKUP(AH56,数组!$B:$C,2,0)&\"#\"&角色升星配方!AI56,\"\")","v":""},{"$f":"_xlfn.IFNA(AG56&\"#\"&AH56&\"#\"&VLOOKUP(AI56,数组!$B:$C,2,0)&\"#\"&角色升星配方!AJ56,\"\")","v":""},{"$f":"_xlfn.IFNA(AH56&\"#\"&AI56&\"#\"&VLOOKUP(AJ56,数组!$B:$C,2,0)&\"#\"&角色升星配方!AK56,\"\")","v":""},{"$f":"_xlfn.IFNA(AI56&\"#\"&AJ56&\"#\"&VLOOKUP(AK56,数组!$B:$C,2,0)&\"#\"&角色升星配方!AL56,\"\")","v":""},{"$f":"_xlfn.IFNA(AJ56&\"#\"&AK56&\"#\"&VLOOKUP(AL56,数组!$B:$C,2,0)&\"#\"&角色升星配方!AM56,\"\")","v":""},{"$f":"_xlfn.IFNA(AK56&\"#\"&AL56&\"#\"&VLOOKUP(AM56,数组!$B:$C,2,0)&\"#\"&角色升星配方!AN56,\"\")","v":""},{"$f":"_xlfn.IFNA(AL56&\"#\"&AM56&\"#\"&VLOOKUP(AN56,数组!$B:$C,2,0)&\"#\"&角色升星配方!AO56,\"\")","v":""},{"$f":"_xlfn.IFNA(AM56&\"#\"&AN56&\"#\"&VLOOKUP(AO56,数组!$B:$C,2,0)&\"#\"&角色升星配方!AP56,\"\")","v":""},{"$f":"_xlfn.IFNA(AN56&\"#\"&AO56&\"#\"&VLOOKUP(AP56,数组!$B:$C,2,0)&\"#\"&角色升星配方!AQ56,\"\")","v":""},{"$f":"_xlfn.IFNA(AO56&\"#\"&AP56&\"#\"&VLOOKUP(AQ56,数组!$B:$C,2,0)&\"#\"&角色升星配方!AR56,\"\")","v":""},{"$f":"_xlfn.IFNA(AP56&\"#\"&AQ56&\"#\"&VLOOKUP(AR56,数组!$B:$C,2,0)&\"#\"&角色升星配方!AS56,\"\")","v":""},{"$f":"_xlfn.IFNA(AQ56&\"#\"&AR56&\"#\"&VLOOKUP(AS56,数组!$B:$C,2,0)&\"#\"&角色升星配方!AT56,\"\")","v":""},{"$f":"_xlfn.IFNA(AR56&\"#\"&AS56&\"#\"&VLOOKUP(AT56,数组!$B:$C,2,0)&\"#\"&角色升星配方!AU56,\"\")","v":""},{"$f":"_xlfn.IFNA(AS56&\"#\"&AT56&\"#\"&VLOOKUP(AU56,数组!$B:$C,2,0)&\"#\"&角色升星配方!AV56,\"\")","v":""},{"$f":"_xlfn.IFNA(AT56&\"#\"&AU56&\"#\"&VLOOKUP(AV56,数组!$B:$C,2,0)&\"#\"&角色升星配方!AW56,\"\")","v":""},{"$f":"_xlfn.IFNA(AU56&\"#\"&AV56&\"#\"&VLOOKUP(AW56,数组!$B:$C,2,0)&\"#\"&角色升星配方!AX56,\"\")","v":""},{"$f":"_xlfn.IFNA(AV56&\"#\"&AW56&\"#\"&VLOOKUP(AX56,数组!$B:$C,2,0)&\"#\"&角色升星配方!AY56,\"\")","v":""},{"$f":"_xlfn.IFNA(AW56&\"#\"&AX56&\"#\"&VLOOKUP(AY56,数组!$B:$C,2,0)&\"#\"&角色升星配方!AZ56,\"\")","v":""},{"$f":"_xlfn.IFNA(AX56&\"#\"&AY56&\"#\"&VLOOKUP(AZ56,数组!$B:$C,2,0)&\"#\"&角色升星配方!BM56,\"\")","v":""},{"$nulls":6},{"$f":"_xlfn.IFNA(BE56&\"#\"&BF56&\"#\"&VLOOKUP(BG56,数组!$B:$C,2,0)&\"#\"&角色升星配方!BH56,\"\")","v":""},{"$nulls":4},{"$f":"[2]!SUMSTRING(BM56:DM56,\"|\")","v":{"$error":"#NAME?"}}]
[{"$nulls":64},{"$f":"_xlfn.IFNA(E57&\"#\"&F57&\"#\"&VLOOKUP(G57,数组!$B:$C,2,0)&\"#\"&角色升星配方!H57,\"\")","v":""},{"$f":"_xlfn.IFNA(F57&\"#\"&G57&\"#\"&VLOOKUP(H57,数组!$B:$C,2,0)&\"#\"&角色升星配方!I57,\"\")","v":""},{"$f":"_xlfn.IFNA(G57&\"#\"&H57&\"#\"&VLOOKUP(I57,数组!$B:$C,2,0)&\"#\"&角色升星配方!J57,\"\")","v":""},{"$f":"_xlfn.IFNA(H57&\"#\"&I57&\"#\"&VLOOKUP(J57,数组!$B:$C,2,0)&\"#\"&角色升星配方!K57,\"\")","v":""},{"$f":"_xlfn.IFNA(I57&\"#\"&J57&\"#\"&VLOOKUP(K57,数组!$B:$C,2,0)&\"#\"&角色升星配方!L57,\"\")","v":""},{"$f":"_xlfn.IFNA(J57&\"#\"&K57&\"#\"&VLOOKUP(L57,数组!$B:$C,2,0)&\"#\"&角色升星配方!M57,\"\")","v":""},{"$f":"_xlfn.IFNA(K57&\"#\"&L57&\"#\"&VLOOKUP(M57,数组!$B:$C,2,0)&\"#\"&角色升星配方!N57,\"\")","v":""},{"$f":"_xlfn.IFNA(L57&\"#\"&M57&\"#\"&VLOOKUP(N57,数组!$B:$C,2,0)&\"#\"&角色升星配方!O57,\"\")","v":""},{"$f":"_xlfn.IFNA(M57&\"#\"&N57&\"#\"&VLOOKUP(O57,数组!$B:$C,2,0)&\"#\"&角色升星配方!P57,\"\")","v":""},{"$f":"_xlfn.IFNA(N57&\"#\"&O57&\"#\"&VLOOKUP(P57,数组!$B:$C,2,0)&\"#\"&角色升星配方!Q57,\"\")","v":""},{"$f":"_xlfn.IFNA(O57&\"#\"&P57&\"#\"&VLOOKUP(Q57,数组!$B:$C,2,0)&\"#\"&角色升星配方!R57,\"\")","v":""},{"$f":"_xlfn.IFNA(P57&\"#\"&Q57&\"#\"&VLOOKUP(R57,数组!$B:$C,2,0)&\"#\"&角色升星配方!S57,\"\")","v":""},{"$f":"_xlfn.IFNA(Q57&\"#\"&R57&\"#\"&VLOOKUP(S57,数组!$B:$C,2,0)&\"#\"&角色升星配方!T57,\"\")","v":""},{"$f":"_xlfn.IFNA(R57&\"#\"&S57&\"#\"&VLOOKUP(T57,数组!$B:$C,2,0)&\"#\"&角色升星配方!U57,\"\")","v":""},{"$f":"_xlfn.IFNA(S57&\"#\"&T57&\"#\"&VLOOKUP(U57,数组!$B:$C,2,0)&\"#\"&角色升星配方!V57,\"\")","v":""},{"$f":"_xlfn.IFNA(T57&\"#\"&U57&\"#\"&VLOOKUP(V57,数组!$B:$C,2,0)&\"#\"&角色升星配方!W57,\"\")","v":""},{"$f":"_xlfn.IFNA(U57&\"#\"&V57&\"#\"&VLOOKUP(W57,数组!$B:$C,2,0)&\"#\"&角色升星配方!X57,\"\")","v":""},{"$f":"_xlfn.IFNA(V57&\"#\"&W57&\"#\"&VLOOKUP(X57,数组!$B:$C,2,0)&\"#\"&角色升星配方!AC57,\"\")","v":""},{"$f":"_xlfn.IFNA(W57&\"#\"&X57&\"#\"&VLOOKUP(AC57,数组!$B:$C,2,0)&\"#\"&角色升星配方!AD57,\"\")","v":""},{"$f":"_xlfn.IFNA(X57&\"#\"&AC57&\"#\"&VLOOKUP(AD57,数组!$B:$C,2,0)&\"#\"&角色升星配方!AE57,\"\")","v":""},{"$f":"_xlfn.IFNA(AC57&\"#\"&AD57&\"#\"&VLOOKUP(AE57,数组!$B:$C,2,0)&\"#\"&角色升星配方!AF57,\"\")","v":""},{"$f":"_xlfn.IFNA(AD57&\"#\"&AE57&\"#\"&VLOOKUP(AF57,数组!$B:$C,2,0)&\"#\"&角色升星配方!AG57,\"\")","v":""},{"$f":"_xlfn.IFNA(AE57&\"#\"&AF57&\"#\"&VLOOKUP(AG57,数组!$B:$C,2,0)&\"#\"&角色升星配方!AH57,\"\")","v":""},{"$f":"_xlfn.IFNA(AF57&\"#\"&AG57&\"#\"&VLOOKUP(AH57,数组!$B:$C,2,0)&\"#\"&角色升星配方!AI57,\"\")","v":""},{"$f":"_xlfn.IFNA(AG57&\"#\"&AH57&\"#\"&VLOOKUP(AI57,数组!$B:$C,2,0)&\"#\"&角色升星配方!AJ57,\"\")","v":""},{"$f":"_xlfn.IFNA(AH57&\"#\"&AI57&\"#\"&VLOOKUP(AJ57,数组!$B:$C,2,0)&\"#\"&角色升星配方!AK57,\"\")","v":""},{"$f":"_xlfn.IFNA(AI57&\"#\"&AJ57&\"#\"&VLOOKUP(AK57,数组!$B:$C,2,0)&\"#\"&角色升星配方!AL57,\"\")","v":""},{"$f":"_xlfn.IFNA(AJ57&\"#\"&AK57&\"#\"&VLOOKUP(AL57,数组!$B:$C,2,0)&\"#\"&角色升星配方!AM57,\"\")","v":""},{"$f":"_xlfn.IFNA(AK57&\"#\"&AL57&\"#\"&VLOOKUP(AM57,数组!$B:$C,2,0)&\"#\"&角色升星配方!AN57,\"\")","v":""},{"$f":"_xlfn.IFNA(AL57&\"#\"&AM57&\"#\"&VLOOKUP(AN57,数组!$B:$C,2,0)&\"#\"&角色升星配方!AO57,\"\")","v":""},{"$f":"_xlfn.IFNA(AM57&\"#\"&AN57&\"#\"&VLOOKUP(AO57,数组!$B:$C,2,0)&\"#\"&角色升星配方!AP57,\"\")","v":""},{"$f":"_xlfn.IFNA(AN57&\"#\"&AO57&\"#\"&VLOOKUP(AP57,数组!$B:$C,2,0)&\"#\"&角色升星配方!AQ57,\"\")","v":""},{"$f":"_xlfn.IFNA(AO57&\"#\"&AP57&\"#\"&VLOOKUP(AQ57,数组!$B:$C,2,0)&\"#\"&角色升星配方!AR57,\"\")","v":""},{"$f":"_xlfn.IFNA(AP57&\"#\"&AQ57&\"#\"&VLOOKUP(AR57,数组!$B:$C,2,0)&\"#\"&角色升星配方!AS57,\"\")","v":""},{"$f":"_xlfn.IFNA(AQ57&\"#\"&AR57&\"#\"&VLOOKUP(AS57,数组!$B:$C,2,0)&\"#\"&角色升星配方!AT57,\"\")","v":""},{"$f":"_xlfn.IFNA(AR57&\"#\"&AS57&\"#\"&VLOOKUP(AT57,数组!$B:$C,2,0)&\"#\"&角色升星配方!AU57,\"\")","v":""},{"$f":"_xlfn.IFNA(AS57&\"#\"&AT57&\"#\"&VLOOKUP(AU57,数组!$B:$C,2,0)&\"#\"&角色升星配方!AV57,\"\")","v":""},{"$f":"_xlfn.IFNA(AT57&\"#\"&AU57&\"#\"&VLOOKUP(AV57,数组!$B:$C,2,0)&\"#\"&角色升星配方!AW57,\"\")","v":""},{"$f":"_xlfn.IFNA(AU57&\"#\"&AV57&\"#\"&VLOOKUP(AW57,数组!$B:$C,2,0)&\"#\"&角色升星配方!AX57,\"\")","v":""},{"$f":"_xlfn.IFNA(AV57&\"#\"&AW57&\"#\"&VLOOKUP(AX57,数组!$B:$C,2,0)&\"#\"&角色升星配方!AY57,\"\")","v":""},{"$f":"_xlfn.IFNA(AW57&\"#\"&AX57&\"#\"&VLOOKUP(AY57,数组!$B:$C,2,0)&\"#\"&角色升星配方!AZ57,\"\")","v":""},{"$f":"_xlfn.IFNA(AX57&\"#\"&AY57&\"#\"&VLOOKUP(AZ57,数组!$B:$C,2,0)&\"#\"&角色升星配方!BM57,\"\")","v":""},{"$nulls":6},{"$f":"_xlfn.IFNA(BE57&\"#\"&BF57&\"#\"&VLOOKUP(BG57,数组!$B:$C,2,0)&\"#\"&角色升星配方!BH57,\"\")","v":""},{"$nulls":4},{"$f":"[2]!SUMSTRING(BM57:DM57,\"|\")","v":{"$error":"#NAME?"}}]
[{"$nulls":64},{"$f":"_xlfn.IFNA(E58&\"#\"&F58&\"#\"&VLOOKUP(G58,数组!$B:$C,2,0)&\"#\"&角色升星配方!H58,\"\")","v":""},{"$f":"_xlfn.IFNA(F58&\"#\"&G58&\"#\"&VLOOKUP(H58,数组!$B:$C,2,0)&\"#\"&角色升星配方!I58,\"\")","v":""},{"$f":"_xlfn.IFNA(G58&\"#\"&H58&\"#\"&VLOOKUP(I58,数组!$B:$C,2,0)&\"#\"&角色升星配方!J58,\"\")","v":""},{"$f":"_xlfn.IFNA(H58&\"#\"&I58&\"#\"&VLOOKUP(J58,数组!$B:$C,2,0)&\"#\"&角色升星配方!K58,\"\")","v":""},{"$f":"_xlfn.IFNA(I58&\"#\"&J58&\"#\"&VLOOKUP(K58,数组!$B:$C,2,0)&\"#\"&角色升星配方!L58,\"\")","v":""},{"$f":"_xlfn.IFNA(J58&\"#\"&K58&\"#\"&VLOOKUP(L58,数组!$B:$C,2,0)&\"#\"&角色升星配方!M58,\"\")","v":""},{"$f":"_xlfn.IFNA(K58&\"#\"&L58&\"#\"&VLOOKUP(M58,数组!$B:$C,2,0)&\"#\"&角色升星配方!N58,\"\")","v":""},{"$f":"_xlfn.IFNA(L58&\"#\"&M58&\"#\"&VLOOKUP(N58,数组!$B:$C,2,0)&\"#\"&角色升星配方!O58,\"\")","v":""},{"$f":"_xlfn.IFNA(M58&\"#\"&N58&\"#\"&VLOOKUP(O58,数组!$B:$C,2,0)&\"#\"&角色升星配方!P58,\"\")","v":""},{"$f":"_xlfn.IFNA(N58&\"#\"&O58&\"#\"&VLOOKUP(P58,数组!$B:$C,2,0)&\"#\"&角色升星配方!Q58,\"\")","v":""},{"$f":"_xlfn.IFNA(O58&\"#\"&P58&\"#\"&VLOOKUP(Q58,数组!$B:$C,2,0)&\"#\"&角色升星配方!R58,\"\")","v":""},{"$f":"_xlfn.IFNA(P58&\"#\"&Q58&\"#\"&VLOOKUP(R58,数组!$B:$C,2,0)&\"#\"&角色升星配方!S58,\"\")","v":""},{"$f":"_xlfn.IFNA(Q58&\"#\"&R58&\"#\"&VLOOKUP(S58,数组!$B:$C,2,0)&\"#\"&角色升星配方!T58,\"\")","v":""},{"$f":"_xlfn.IFNA(R58&\"#\"&S58&\"#\"&VLOOKUP(T58,数组!$B:$C,2,0)&\"#\"&角色升星配方!U58,\"\")","v":""},{"$f":"_xlfn.IFNA(S58&\"#\"&T58&\"#\"&VLOOKUP(U58,数组!$B:$C,2,0)&\"#\"&角色升星配方!V58,\"\")","v":""},{"$f":"_xlfn.IFNA(T58&\"#\"&U58&\"#\"&VLOOKUP(V58,数组!$B:$C,2,0)&\"#\"&角色升星配方!W58,\"\")","v":""},{"$f":"_xlfn.IFNA(U58&\"#\"&V58&\"#\"&VLOOKUP(W58,数组!$B:$C,2,0)&\"#\"&角色升星配方!X58,\"\")","v":""},{"$f":"_xlfn.IFNA(V58&\"#\"&W58&\"#\"&VLOOKUP(X58,数组!$B:$C,2,0)&\"#\"&角色升星配方!AC58,\"\")","v":""},{"$f":"_xlfn.IFNA(W58&\"#\"&X58&\"#\"&VLOOKUP(AC58,数组!$B:$C,2,0)&\"#\"&角色升星配方!AD58,\"\")","v":""},{"$f":"_xlfn.IFNA(X58&\"#\"&AC58&\"#\"&VLOOKUP(AD58,数组!$B:$C,2,0)&\"#\"&角色升星配方!AE58,\"\")","v":""},{"$f":"_xlfn.IFNA(AC58&\"#\"&AD58&\"#\"&VLOOKUP(AE58,数组!$B:$C,2,0)&\"#\"&角色升星配方!AF58,\"\")","v":""},{"$f":"_xlfn.IFNA(AD58&\"#\"&AE58&\"#\"&VLOOKUP(AF58,数组!$B:$C,2,0)&\"#\"&角色升星配方!AG58,\"\")","v":""},{"$f":"_xlfn.IFNA(AE58&\"#\"&AF58&\"#\"&VLOOKUP(AG58,数组!$B:$C,2,0)&\"#\"&角色升星配方!AH58,\"\")","v":""},{"$f":"_xlfn.IFNA(AF58&\"#\"&AG58&\"#\"&VLOOKUP(AH58,数组!$B:$C,2,0)&\"#\"&角色升星配方!AI58,\"\")","v":""},{"$f":"_xlfn.IFNA(AG58&\"#\"&AH58&\"#\"&VLOOKUP(AI58,数组!$B:$C,2,0)&\"#\"&角色升星配方!AJ58,\"\")","v":""},{"$f":"_xlfn.IFNA(AH58&\"#\"&AI58&\"#\"&VLOOKUP(AJ58,数组!$B:$C,2,0)&\"#\"&角色升星配方!AK58,\"\")","v":""},{"$f":"_xlfn.IFNA(AI58&\"#\"&AJ58&\"#\"&VLOOKUP(AK58,数组!$B:$C,2,0)&\"#\"&角色升星配方!AL58,\"\")","v":""},{"$f":"_xlfn.IFNA(AJ58&\"#\"&AK58&\"#\"&VLOOKUP(AL58,数组!$B:$C,2,0)&\"#\"&角色升星配方!AM58,\"\")","v":""},{"$f":"_xlfn.IFNA(AK58&\"#\"&AL58&\"#\"&VLOOKUP(AM58,数组!$B:$C,2,0)&\"#\"&角色升星配方!AN58,\"\")","v":""},{"$f":"_xlfn.IFNA(AL58&\"#\"&AM58&\"#\"&VLOOKUP(AN58,数组!$B:$C,2,0)&\"#\"&角色升星配方!AO58,\"\")","v":""},{"$f":"_xlfn.IFNA(AM58&\"#\"&AN58&\"#\"&VLOOKUP(AO58,数组!$B:$C,2,0)&\"#\"&角色升星配方!AP58,\"\")","v":""},{"$f":"_xlfn.IFNA(AN58&\"#\"&AO58&\"#\"&VLOOKUP(AP58,数组!$B:$C,2,0)&\"#\"&角色升星配方!AQ58,\"\")","v":""},{"$f":"_xlfn.IFNA(AO58&\"#\"&AP58&\"#\"&VLOOKUP(AQ58,数组!$B:$C,2,0)&\"#\"&角色升星配方!AR58,\"\")","v":""},{"$f":"_xlfn.IFNA(AP58&\"#\"&AQ58&\"#\"&VLOOKUP(AR58,数组!$B:$C,2,0)&\"#\"&角色升星配方!AS58,\"\")","v":""},{"$f":"_xlfn.IFNA(AQ58&\"#\"&AR58&\"#\"&VLOOKUP(AS58,数组!$B:$C,2,0)&\"#\"&角色升星配方!AT58,\"\")","v":""},{"$f":"_xlfn.IFNA(AR58&\"#\"&AS58&\"#\"&VLOOKUP(AT58,数组!$B:$C,2,0)&\"#\"&角色升星配方!AU58,\"\")","v":""},{"$f":"_xlfn.IFNA(AS58&\"#\"&AT58&\"#\"&VLOOKUP(AU58,数组!$B:$C,2,0)&\"#\"&角色升星配方!AV58,\"\")","v":""},{"$f":"_xlfn.IFNA(AT58&\"#\"&AU58&\"#\"&VLOOKUP(AV58,数组!$B:$C,2,0)&\"#\"&角色升星配方!AW58,\"\")","v":""},{"$f":"_xlfn.IFNA(AU58&\"#\"&AV58&\"#\"&VLOOKUP(AW58,数组!$B:$C,2,0)&\"#\"&角色升星配方!AX58,\"\")","v":""},{"$f":"_xlfn.IFNA(AV58&\"#\"&AW58&\"#\"&VLOOKUP(AX58,数组!$B:$C,2,0)&\"#\"&角色升星配方!AY58,\"\")","v":""},{"$f":"_xlfn.IFNA(AW58&\"#\"&AX58&\"#\"&VLOOKUP(AY58,数组!$B:$C,2,0)&\"#\"&角色升星配方!AZ58,\"\")","v":""},{"$f":"_xlfn.IFNA(AX58&\"#\"&AY58&\"#\"&VLOOKUP(AZ58,数组!$B:$C,2,0)&\"#\"&角色升星配方!BM58,\"\")","v":""},{"$nulls":6},{"$f":"_xlfn.IFNA(BE58&\"#\"&BF58&\"#\"&VLOOKUP(BG58,数组!$B:$C,2,0)&\"#\"&角色升星配方!BH58,\"\")","v":""}]

{"sheet":"数组","index":3,"n_rows":73,"n_cols":3,"rows_kept":73}
[null,"3星同名",1]
[null,"4星同名",2]
[null,"5星同名",3]
[null,"6星同名",4]
[null,"7星同名",5]
[null,"8星同名",6]
[null,"9星同名",7]
[null,"3星任意",8]
[null,"4星任意",9]
[null,"5星任意",10]
[null,"6星任意",11]
[null,"7星任意",12]
[null,"8星任意",13]
[null,"9星任意",14]
[null,"3星同系",15]
[null,"4星同系",16]
[null,"5星同系",17]
[null,"6星同系",18]
[null,"7星同系",19]
[null,"8星同系",20]
[null,"9星同系",21]
[null,"5星10024",22]
[null,"5星10025",23]
[null,"5星10026",24]
[null,"5星10027",25]
[null,"5星10028",26]
[null,"5星10029",27]
[null,"5星10030",28]
[null,"5星10031",29]
[null,"5星10032",30]
[null,"5星10033",31]
[null,"5星10034",32]
[null,"5星10035",33]
[null,"5星10036",34]
[null,"5星10037",35]
[null,"5星10038",36]
[null,"5星10039",37]
[null,"5星10040",38]
[null,"5星10041",39]
[null,"5星10042",40]
[null,"5星10043",41]
[null,"5星10044",42]
[null,"5星10045",43]
[null,"5星10046",44]
[null,"4星10024",45]
[null,"4星10025",46]
[null,"4星10026",47]
[null,"4星10027",48]
[null,"4星10028",49]
[null,"4星10029",50]
[null,"4星10030",51]
[null,"4星10031",52]
[null,"4星10032",53]
[null,"4星10033",54]
[null,"4星10034",55]
[null,"4星10035",56]
[null,"4星10036",57]
[null,"4星10037",58]
[null,"4星10038",59]
[null,"4星10039",60]
[null,"4星10040",61]
[null,"4星10041",62]
[null,"4星10042",63]
[null,"4星10043",64]
[null,"4星10044",65]
[null,"4星10045",66]
[null,"4星10046",67]
[null,"3星10047",68]
[null,"3星10048",69]
[null,"3星10049",70]
[null,"3星10050",71]
[null,"3星10051",72]
[null,"3星10052",73]

{"sheet":"Sheet1","index":4,"n_rows":59,"n_cols":24,"rows_kept":59}
[{"$nulls":6},"Id","Description","ReadingName","Scale","Position",{"$nulls":5},"Hp","Attack","PhysicalDefence","MagicDefence"]
[{"$nulls":6},"int","int","string","float","mut,float#float,1",{"$nulls":5},"float","float","float","float"]
[{"$nulls":6},2,3,2,3,3,{"$nulls":5},2,2,2,2]
[{"$nulls":6},"角色ID","角色简单介绍","角色名（辨识用）","角色缩放值","位置",{"$nulls":5},"生命值","攻击力","护甲","魔抗","防","攻","防","辅"]
[{"$nulls":6},0,0,{"$f":"\"\"","v":""},null,"null",{"$nulls":5},0,0,0,0]
[]
[{"$nulls":12},"0.7倍","0.6倍",{"$nulls":7},270,150,3400]
[{"$nulls":6},10001,10501,"夏侯鸿天",0.75,"0#100","-25#92",{"$f":"J8*0.7","v":0.5249999999999999},{"$f":"J8*0.6","v":0.44999999999999996},null,null,3118,109,156,130,{"$f":"(T8+S8)/2","v":143},{"$f":"INT(R8/$V$7*100)","v":40},{"$f":"INT(U8/$W$7*100)","v":95},{"$f":"INT(Q8/$X$7*100)","v":91}]
[{"$nulls":6},10002,10502,"石御霏",0.5,"0#100","0#116",{"$f":"J9*0.7","v":0.35},{"$f":"J9*0.6","v":0.3},null,null,2400,84,117,98,{"$f":"(T9+S9)/2","v":107.5},{"$f":"INT(R9/$V$7*100)","v":31},{"$f":"INT(U9/$W$7*100)","v":71},{"$f":"INT(Q9/$X$7*100)","v":70}]
[{"$nulls":6},10003,10503,"叶辽",0.55,"0#60","0#60",0.385,0.33,null,null,2399,81,116,97,106.5,30,71,70]
[{"$nulls":6},10004,10504,"孔谦",1.3,"80#250","93#154",0.9099999999999999,0.78,null,null,3383,121,103,124,113.5,44,75,99]
[{"$nulls":6},10005,10505,"兰卿",0.55,"0#50","47#16",0.385,0.33,null,null,2596,95,77,92,84.5,35,56,76]
[{"$nulls":6},10006,10506,"朱贺",0.65,"0#49","0#27",0.45499999999999996,0.39,null,null,2596,91,81,97,89,33,59,76]
[{"$nulls":6},10007,10507,"应茹",0.6,"-15#34","-11#134",0.42,0.36,null,null,2595,94,93,78,85.5,34,57,76]
[{"$nulls":6},10008,10508,"颜无雍",0.6,"0#70","0#27",0.42,0.36,null,null,1799,149,75,90,82.5,55,55,52]
[{"$nulls":6},10009,10509,"祁菲",0.6,"0#20","0#58",0.42,0.36,null,null,2430,193,110,92,101,71,67,71]
[{"$nulls":6},10010,10510,"颜祈佳",0.55,"0#0","0#0",0.385,0.33,null,null,1797,154,69,83,76,57,50,52]
[{"$nulls":6},10011,10511,"尹正霄",0.65,"0#145","64#123",0.45499999999999996,0.39,null,null,1804,145,68,81,74.5,53,49,53]
[{"$nulls":6},10012,10512,"慕容子期",0.85,"54#185","-7#96",0.595,0.51,null,null,1815,257,75,63,69,95,46,53]
[{"$nulls":6},10013,10513,"白梦凡",0.7,"-15#85","-27#24",0.48999999999999994,0.42,null,null,1398,199,60,50,55,73,36,41]
[{"$nulls":6},10014,10514,"颜无诡",0.65,"0#20","0#29",0.45499999999999996,0.39,null,null,1892,264,83,69,76,97,50,55]
[{"$nulls":6},10015,10515,"凝儿",0.2,"0#220","0#154",0.13999999999999999,0.12,null,null,1888,259,62,74,68,95,45,55]
[{"$nulls":6},10016,10516,"枫元正",0.7,"0#35","0#23",0.48999999999999994,0.42,null,null,1605,180,63,75,69,66,46,47]
[{"$nulls":6},10017,10517,"解幽",0.55,"0#80","0#65",0.385,0.33,null,null,2165,245,73,87,80,90,53,63]
[{"$nulls":6},10018,10518,"紫苏",0.65,"0#50","0#50",0.45499999999999996,0.39,null,null,1599,190,57,68,62.5,70,41,47]
[{"$nulls":6},10019,10519,"云",0.9,"0#60","0#23",0.63,0.54,null,null,2077,237,92,77,84.5,87,56,61]
[{"$nulls":6},10020,10520,"司空染",0.58,"0#80","0#71",0.40599999999999997,0.348,null,null,2402,81,122,102,112,30,74,70]
[{"$nulls":6},10021,10521,"清然",0.25,"0#150","0#90",0.175,0.15,null,null,1796,151,68,82,75,55,50,52]
[{"$nulls":6},10022,10522,"云灵",0.65,"31#35","31#35",0.45499999999999996,0.39,null,null,1405,201,47,56,51.5,74,34,41]
[{"$nulls":6},10023,10523,"荧荧",0.5,"16.5#160.2","16.5#78",0.35,0.3,null,null,2159,241,73,88,80.5,89,53,63]
[{"$nulls":6},10024,10524,"许槿然",0.65,"40#120","40#65",0.45499999999999996,0.39,null,null,2039,73,98,82,90,27,60,59]
[{"$nulls":6},10025,10525,"炎琪儿",0.65,"0#120","0#24",0.45499999999999996,0.39,null,null,1535,130,62,74,68,48,45,45]
[{"$nulls":6},10026,10526,"楚恒",1.2,"0#-450","0#-295",0.84,0.72,null,null,2163,73,104,87,95.5,27,63,63]
[{"$nulls":6},10027,10527,"柳月",0.75,"0#120","0#70",0.5249999999999999,0.44999999999999996,null,null,2340,81,76,63,69.5,30,46,68]
[{"$nulls":6},10028,10528,"岑以航",0.8,"0#110","0#63",0.5599999999999999,0.48,null,null,1444,153,53,63,58,56,38,42]
[{"$nulls":6},10029,10529,"姜燧",0.9,"0#150","0#61",0.63,0.54,null,null,1361,156,47,56,51.5,57,34,40]
[{"$nulls":6},10030,10530,"晏息",0.3,"0#120","0#105",0.21,0.18,null,null,2214,74,69,83,76,27,50,65]
[{"$nulls":6},10031,10531,"冉宜",0.6,"0#100","0#100",0.42,0.36,null,null,2039,73,100,83,91.5,27,61,59]
[{"$nulls":6},10032,10532,"孙晴",0.55,"30#92","30#101",0.385,0.33,null,null,1187,169,48,40,44,62,29,34]
[{"$nulls":6},10033,10533,"艾欣",0.65,"0#136.1","0#136.1",0.45499999999999996,0.39,null,null,1365,161,63,53,58,59,38,40]
[{"$nulls":6},10034,10534,"影蓟",0.3,"0#150","0#83",{"$f":"J41*0.7","v":0.21},{"$f":"J41*0.6","v":0.18},null,null,1442,155,48,57,{"$f":"(T41+S41)/2","v":52.5},{"$f":"INT(R41/$V$7*100)","v":57},{"$f":"INT(U41/$W$7*100)","v":35},{"$f":"INT(Q41/$X$7*100)","v":42}]
[{"$nulls":6},10035,10535,"辛夷",0.6,"0#160","0#90",0.42,0.36,null,null,1621,130,77,64,70.5,48,47,47]
[{"$nulls":6},10036,10536,"岑以璇",0.9,{"$f":"K37","v":"0#120"},"0#63",0.63,0.54,null,null,1529,129,64,77,70.5,47,47,44]
[{"$nulls":6},10037,10537,"薛苓",0.65,"19#63","19#0",0.45499999999999996,0.39,null,null,1191,172,48,40,44,63,29,35]
[{"$nulls":6},10038,10538,"伏冥",0.8,"0#150","0#40",0.5599999999999999,0.48,null,null,1364,157,51,61,56,58,37,40]
[{"$nulls":6},10039,10539,"呼延腾",0.24,"0#268","0#233",0.16799999999999998,0.144,null,null,1191,168,46,38,42,62,28,35]
[{"$nulls":6},10040,10540,"贾裴武",0.6,"31#35","31#3",0.42,0.36,null,null,2040,68,99,83,91,25,60,60]
[{"$nulls":6},10041,10541,"孟灿",0.65,"54.4#72.8","25#123",0.45499999999999996,0.39,null,null,2040,70,98,82,90,25,60,60]
[{"$nulls":6},10042,10542,"白木",0.3,"0#120","0#77",0.21,0.18,null,null,2038,65,105,88,96.5,24,64,59]
[{"$nulls":6},10043,10543,"紫川",0.3,"0#200","0#136",0.21,0.18,null,null,1361,158,62,52,57,58,38,40]
[{"$nulls":6},10044,10544,"靖之",0.9,"38#200","38#113",0.63,0.54,null,null,1256,173,38,46,42,64,28,36]
[{"$nulls":6},10045,10505,"殷婉儿",0.55,"0#180","-31#128",0.385,0.33,null,null,2205,81,64,77,70.5,30,47,64]
[{"$nulls":6},10046,10546,"林越",0.9,"0#162","0#64",0.63,0.54,null,null,1257,171,44,53,48.5,63,32,36]
[{"$nulls":6},10047,10547,"赤肥肥",0.3,"3#-93","3#112",0.21,0.18,null,null,2038,65,106,88,97,24,64,59]
[{"$nulls":6},10048,10548,"银肥肥",0.3,"3#-93","3#112",0.21,0.18,null,null,1535,130,76,63,69.5,48,46,45]
[{"$nulls":6},10049,10549,"苍肥肥",0.3,"3#-93","3#112",0.21,0.18,null,null,1189,175,49,41,45,64,30,34]
[{"$nulls":6},10050,10550,"金肥肥",0.3,"3#-93","3#112",0.21,0.18,null,null,1362,162,53,64,58.5,60,39,40]
[{"$nulls":6},10051,10551,"阳魔",0.5,"-37#43","-37#43",0.35,0.3,null,null,2338,72,70,84,77,26,51,68]
[{"$nulls":6},10052,10552,"阴魔",0.65,"1#15","1#-45",0.45499999999999996,0.39,null,null,2163,67,89,107,98,24,65,63]

{"sheet":"Sheet2","index":5,"n_rows":52,"n_cols":3,"rows_kept":52}
["雷震子","魏","1"]
["精卫","魏","1"]
["洛神","魏","1"]
["跃门鲤","魏","1"]
["彩衣","魏","1"]
["猪八戒","魏","1"]
["文曲星","魏","1"]
["九天玄女","魏","1"]
["混世魔王","魏","1"]
["黄风","魏","1"]
["吕洞宾","魏","1"]
["百花仙子","魏","1"]
["三足金乌","魏","1"]
["孙悟空","蜀","2"]
["何仙姑","蜀","2"]
["妲己","蜀","2"]
["尉迟敬德","蜀","2"]
["羲和","蜀","2"]
["织女","蜀","2"]
["黄天化","蜀","2"]
["黄飞虎","蜀","2"]
["小白龙","蜀","2"]
["女英","蜀","2"]
["梦蝶","蜀","2"]
["韩湘子","蜀","2"]
["金翅大鹏","蜀","2"]
["敖丙","吴","3"]
["哪吒","吴","3"]
["青鸾","吴","3"]
["应龙","吴","3"]
["九头鸟","吴","3"]
["娥皇","吴","3"]
["白骨精","吴","3"]
["骊山老母","吴","3"]
["涂山狐","吴","3"]
["石矶娘娘","吴","3"]
["喵铃","吴","3"]
["赵公明","吴","3"]
["东华帝君","吴","3"]
["千里眼","群","4"]
["杨戬","群","4"]
["姜子牙","群","4"]
["电母","群","4"]
["玉面公主","群","4"]
["啸天","群","4"]
["奎木狼","群","4"]
["朱雀","群","4"]
["吴刚","群","4"]
["影莉","群","4"]
["伏冥","群","4"]
["夜游神","群","4"]
["阎罗王","群","4"]

{"sheet":"Sheet3","index":6,"n_rows":68,"n_cols":21,"rows_kept":68}
["1#1#",null,"|1#2#",null,"|1#3#",null,"|1#3#",null,"|1#4#",null,"|1#5#",null,"|2#7#",null,"|2#8#",null,"|2#9#",null,"|2#10#",null,"|2#11#"]
[]
[113,101,113101,null,113101,113102,113103,113104,113105,113106,113107,113108,113109,113110,113111]
[113,102,113102,null,126101,126102,126103,126104,126105,126106,126107,126108,126109,126110,126111]
[113,103,113103,null,134101,134102,134103,134104,134105,134106,134107,134108,134109,134110,134111]
[113,104,113104,null,140101,140102,140103,140104,140105,140106,140107,140108,140109,140110,140111]
[113,105,113105]
[113,106,113106]
[113,107,113107]
[113,108,113108]
[113,109,113109]
[113,110,113110]
[113,111,113111]
[126,101,126101]
[126,102,126102]
[126,103,126103]
[126,104,126104]
[126,105,126105]
[126,106,126106]
[126,107,126107]
[126,108,126108]
[126,109,126109]
[126,110,126110]
[126,111,126111]
[134,101,134101]
[134,102,134102]
[134,103,134103]
[134,104,134104]
[134,105,134105]
[134,106,134106]
[134,107,134107]
[134,108,134108]
[134,109,134109]
[134,110,134110]
[134,111,134111]
[140,101,140101]
[140,102,140102]
[140,103,140103]
[140,104,140104]
[140,105,140105]
[140,106,140106]
[140,107,140107]
[140,108,140108]
[140,109,140109]
[140,110,140110]
[140,111,140111]
[118,101,118101]
[118,102,118102]
[118,103,118103]
[118,104,118104]
[118,105,118105]
[118,106,118106]
[118,107,118107]
[118,108,118108]
[118,109,118109]
[118,110,118110]
[118,111,118111]
[152,101,152101]
[152,102,152102]
[152,103,152103]
[152,104,152104]
[152,105,152105]
[152,106,152106]
[152,107,152107]
[152,108,152108]
[152,109,152109]
[152,110,152110]
[152,111,152111]

{"sheet":"Sheet4","index":7,"n_rows":52,"n_cols":4,"rows_kept":52}
["雷震子","魏","水",3]
["精卫","魏","水",3]
["洛神","魏","水",3]
["共工","魏","水",3]
["嫦娥","魏","水",3]
["猪八戒","魏","水",3]
["文曲星","魏","水",3]
["九天玄女","魏","水",3]
["混世魔王","魏","水",3]
["黄风姬","魏","水",3]
["通天教主","魏","水",3]
["百花仙子","魏","水",3]
["敖丙","魏","水",3]
["孙悟空","蜀","风",2]
["女娲","魏","风",2]
["唐僧","蜀","风",2]
["地藏","蜀","风",2]
["妲己","蜀","风",2]
["织女","蜀","风",2]
["黄天化","蜀","风",2]
["黄飞虎","蜀","风",2]
["小白龙","蜀","风",2]
["女英","蜀","风",2]
["梦蝶","蜀","风",2]
["韩湘子","蜀","风",2]
["金翅大鹏","蜀","风",2]
["伏羲","吴","火",1]
["哪吒","吴","火",1]
["火德星君","吴","火",1]
["蚩尤","吴","火",1]
["东皇太一","吴","火",1]
["铁扇公主","吴","火",1]
["九命猫","吴","火",1]
["祝融","吴","火",1]
["涂山狐","吴","火",1]
["石矶娘娘","吴","火",1]
["白骨精","吴","火",1]
["赵公明","吴","火",1]
["东华帝君","吴","火",1]
["申公豹","群","地",4]
["杨戬","群","地",4]
["姜子牙","群","地",4]
["巨灵神","群","地",4]
["玉面公主","群","地",4]
["啸天","群","地",4]
["吕洞宾","群","地",4]
["神农","群","地",4]
["吴刚","群","地",4]
["罗刹","群","地",4]
["孟婆","群","地",4]
["夜叉","群","地",4]
["阎罗王","群","地",4]