{"text_format":"3","workbook":"xlsx","n_sheets":8,"sheets":["StoreConfig","Sheet1","Sheet2","竞技场商店","商店","Sheet3","商店表查询","Sheet4"],"not_rendered":{"external_links":3,"defined_names":5},"read":"whole","date_system":"1900"}

{"sheet":"StoreConfig","index":0,"n_rows":1980,"n_cols":22,"rows_kept":1980}
[null,"Id","GoodsName","StoreId","Sort","Weight","OpenLv","Goods","PremiumType","Cost","RelatedtoVIP","Limit","IsDiscount","DiscountDegree","NoUse1","ExtraAdd","OpenPrivilege","Rebate","ShowRule","BuyRule"]
[null,"int","string","int","int","int","mut,int#int,1","mut,int#int,2","int","mut,int#int,2","int","int","int","int","string","mut,int#int,2","mut,int#int,1","int","mut,int#int,1","mut,int#int,1"]
[null,2,2,2,2,4,4,2,2,2,2,2,2,2,0,2,2,3,3,2]
[null,"id","商品名称","商店id","排序\n（栏位显示顺序）","权重","等级开启区间","物品id#数量","购买溢价类型\n1走公式\n2走配置数量（第X次购买价格#第X+1次购买价格）","购买道具|价格公式（ax^3+bx^2+cx+d)\n（abcd为配置参数，x为购买次数）","限购次是否和vip关联\n0不关联\n1关联","限购次数\n0则为不限购\n当限购次数，该列填特权id","是否折扣\n0没有折扣\n1折扣","折扣力度\n5折就写5","备注","额外加成\n1等级控制\n2#特权id\n","解锁特权id","礼包价值","商品显示条件\n1累充额度达到xx元","商品可购买条件\n1累充额度达到xx元"]
["默认值",0," ",0,0,0,"null","null",null,"null",0,0,0,0," "]
["正确性校对"]
["校对值"]
[null,1,"雷震子碎片",1,1,100,"1#200","11011#50",1,"26|0#0#0#5000",null,1,0,0,"契魂商店"]
[null,2,"孙悟空碎片",1,2,100,"1#201","11023#50",1,"26|0#0#0#5000",null,1,0,0,"契魂商店"]
[null,3,"伏羲碎片",1,3,100,"1#202","11001#50",1,"26|0#0#0#5000",null,1,0,0,"契魂商店"]
[null,4,"东华帝君碎片",1,4,100,"1#203","11026#50",1,"26|0#0#0#5000",null,1,0,0,"契魂商店"]
[null,5,"洛神碎片",1,5,100,"1#204","11002#50",1,"26|0#0#0#4000",null,1,0,0,"契魂商店"]
[null,6,"伏虎罗汉碎片",1,6,100,"1#205","11015#50",1,"26|0#0#0#4000",null,1,0,0,"契魂商店"]
[null,7,"嫦娥碎片",1,7,100,"1#206","11017#50",1,"26|0#0#0#4000",null,1,0,0,"契魂商店"]
[null,8,"九天玄女碎片",1,8,100,"1#207","11042#50",1,"26|0#0#0#4000",null,1,0,0,"契魂商店"]
[null,9,"百花仙子碎片",1,9,100,"1#208","11045#50",1,"26|0#0#0#2500",null,1,0,0,"契魂商店"]
[null,10,"焚天碎片",1,10,100,"1#209","11030#50",1,"26|0#0#0#2500",null,1,0,0,"契魂商店"]
[null,11,"赵公明碎片",1,11,100,"1#210","11036#50",1,"26|0#0#0#2500",null,1,0,0,"契魂商店"]
[null,12,"夜叉碎片",1,12,100,"1#211","11038#50",1,"26|0#0#0#2500",null,1,0,0,"契魂商店"]
[null,51,"量天尺",3,1,100,"1#235","90001#1",1,"25|0#0#0#200",null,1,0,0,"云游商店"]
[null,52,"山河扇",3,1,100,"1#236","90002#1",1,"25|0#0#0#200",null,1,0,0,"云游商店"]
[null,53,"八卦镜",3,2,100,"1#237","90003#1",1,"25|0#0#0#200",null,1,0,0,"云游商店"]
[null,54,"道经残卷",3,2,100,"1#238","90004#1",1,"25|0#0#0#200",null,1,0,0,"云游商店"]
[null,55,"南山砚",3,2,100,"1#239","90005#1",1,"25|0#0#0#200",null,1,0,0,"云游商店"]
[null,56,"量天尺",3,3,100,"1#240","90001#1",1,"25|0#0#0#200",null,1,0,0,"云游商店"]
[null,57,"山河扇",3,3,100,"1#241","90002#1",1,"25|0#0#0#200",null,1,0,0,"云游商店"]
[null,58,"八卦镜",3,3,100,"1#242","90003#1",1,"25|0#0#0#200",null,1,0,0,"云游商店"]
[null,59,"道经残卷",3,3,100,"1#243","90004#1",1,"25|0#0#0#200",null,1,0,0,"云游商店"]
[null,60,"南山砚",3,3,100,"1#242","90005#1",1,"25|0#0#0#200",null,1,0,0,"云游商店"]
[null,61,"破煞金刚杵",3,3,100,"1#243","90201#1",1,"25|0#0#0#1500",null,1,0,0,"云游商店"]
[null,62,"紫金铃",3,3,100,"1#246","90202#1",1,"25|0#0#0#1500",null,1,0,0,"云游商店"]
[null,63,"蟠龙令",3,3,100,"1#247","90203#1",1,"25|0#0#0#1500",null,1,0,0,"云游商店"]
[null,64,"摩尼符",3,3,100,"1#248","90204#1",1,"25|0#0#0#1500",null,1,0,0,"云游商店"]
[null,65,"无魔金轮",3,3,100,"1#249","90205#1",1,"25|0#0#0#1500",null,1,0,0,"云游商店"]
[null,66,"破煞金刚杵",3,4,100,"1#250","90201#1",1,"25|0#0#0#1500",null,1,0,0,"云游商店"]
[null,67,"紫金铃",3,4,100,"1#251","90202#1",1,"25|0#0#0#1500",null,1,0,0,"云游商店"]
[null,68,"蟠龙令",3,5,100,"1#252","90203#1",1,"25|0#0#0#1500",null,1,0,0,"云游商店"]
[null,69,"摩尼符",3,5,100,"1#253","90204#1",1,"25|0#0#0#1500",null,1,0,0,"云游商店"]
[null,70,"无魔金轮",3,6,100,"1#254","90205#1",1,"25|0#0#0#1500",null,1,0,0,"云游商店"]
[null,71,"乘风戒指",3,4,0,"1#255","60095#1",1,"25|0#0#0#600",null,1,0,0,"云游商店"]
[null,72,"乘风束带",3,4,0,"1#256","60098#1",1,"25|0#0#0#600",null,1,0,0,"云游商店"]
[null,73,"斩尘神斧",3,5,0,"1#257","60101#1",1,"25|0#0#0#2400",null,1,0,0,"云游商店"]
[null,74,"斩尘神剑",3,5,0,"1#258","60106#1",1,"25|0#0#0#2400",null,1,0,0,"云游商店"]
[null,75,"斩尘神杖",3,5,0,"1#259","60111#1",1,"25|0#0#0#2400",null,1,0,0,"云游商店"]
[null,76,"斩尘古剑",3,5,0,"1#260","60116#1",1,"25|0#0#0#2400",null,1,0,0,"云游商店"]
[null,77,"斩尘圣铃",3,5,0,"1#261","60121#1",1,"25|0#0#0#2400",null,1,0,0,"云游商店"]
[null,78,"神凰羽衣",3,6,0,"1#290","60126#1",1,"25|0#0#0#2400",null,1,0,0,"云游商店"]
[null,79,"盘龙战甲",3,7,0,"1#291","60131#1",1,"25|0#0#0#2400",null,1,0,0,"云游商店"]
[null,80,"神凰战盔",3,7,0,"1#292","60136#1",1,"25|0#0#0#2400",null,1,0,0,"云游商店"]
[null,81,"神凰战靴",3,8,0,"1#293","60141#1",1,"25|0#0#0#2400",null,1,0,0,"云游商店"]
[null,82,"神凰神戒",3,6,0,"1#294","60146#1",1,"25|0#0#0#2400",null,1,0,0,"云游商店"]
[null,83,"神凰束带",3,6,0,"1#295","60151#1",1,"25|0#0#0#2400",null,1,0,0,"云游商店"]
[null,84,"戮魔之刃-蓝图",3,5,0,"1#296","3007#1",1,"25|0#0#0#2400",null,1,0,0,"云游商店"]
[null,85,"天武之刃-蓝图",3,5,0,"1#297","3008#1",1,"25|0#0#0#2400",null,1,0,0,"云游商店"]
[null,86,"戮魔法铃-蓝图",3,5,0,"1#298","3009#1",1,"25|0#0#0#2400",null,1,0,0,"云游商店"]
[null,87,"天武法铃-蓝图",3,5,0,"1#299","3010#1",1,"25|0#0#0#2400",null,1,0,0,"云游商店"]
[null,88,"修罗战甲-蓝图",3,6,0,"1#300","3011#1",1,"25|0#0#0#2400",null,1,0,0,"云游商店"]
[null,89,"修罗战甲-蓝图",3,6,0,"1#301","3012#1",1,"25|0#0#0#2400",null,1,0,0,"云游商店"]
[null,90,"红莲战甲-蓝图",3,6,0,"1#301","3013#1",1,"25|0#0#0#2400",null,1,0,0,"云游商店"]
[null,91,"红莲战甲-蓝图",3,6,0,"1#301","3014#1",1,"25|0#0#0#2400",null,1,0,0,"云游商店"]
[null,92,"修罗战盔-蓝图",3,6,0,"1#301","3015#1",1,"25|0#0#0#2400",null,1,0,0,"云游商店"]
[null,93,"红莲战盔-蓝图",3,6,0,"1#301","3016#1",1,"25|0#0#0#2400",null,1,0,0,"云游商店"]
[null,94,"修罗战靴-蓝图",3,6,0,"1#301","3017#1",1,"25|0#0#0#2400",null,1,0,0,"云游商店"]
[null,95,"红莲战靴-蓝图",3,6,0,"1#301","3018#1",1,"25|0#0#0#2400",null,1,0,0,"云游商店"]
[null,1005,"朔方铃",5,1,100,"1#333","6001#1",1,"24|0#0#0#60",null,1,0,0,"魂晶商店"]
[null,1006,"狱魔角",5,1,100,"1#334","6002#1",1,"24|0#0#0#60",null,1,0,0,"魂晶商店"]
[null,1007,"荒之息",5,1,100,"1#335","6003#1",1,"24|0#0#0#60",null,1,0,0,"魂晶商店"]
[null,1008,"桃竹笼",5,2,100,"1#336","6004#1",1,"24|0#0#0#60",null,1,0,0,"魂晶商店"]
[null,1009,"玄蒲叶",5,2,100,"1#337","6005#1",1,"24|0#0#0#60",null,1,0,0,"魂晶商店"]
[null,1010,"灵隐螭",5,2,100,"1#338","6006#1",1,"24|0#0#0#60",null,1,0,0,"魂晶商店"]
[null,1011,"移命杖",5,3,100,"1#339","6007#1",1,"24|0#0#0#60",null,1,0,0,"魂晶商店"]
[null,1012,"吉钱冠",5,3,100,"1#340","6008#1",1,"24|0#0#0#60",null,1,0,0,"魂晶商店"]
[null,1013,"聚宝坠",5,3,100,"1#341","6009#1",1,"24|0#0#0#60",null,1,0,0,"魂晶商店"]
[null,1014,"玲玉笛",5,4,100,"1#342","6010#1",1,"24|0#0#0#60",null,1,0,0,"魂晶商店"]
[null,1015,"宿元镜",5,4,100,"1#343","6011#1",1,"24|0#0#0#60",null,1,0,0,"魂晶商店"]
[null,1016,"天宁栓",5,4,100,"1#344","6012#1",1,"24|0#0#0#60",null,1,0,0,"魂晶商店"]
[null,1017,"九阴刃",5,5,100,"1#345","6025#1",1,"24|0#0#0#180",null,1,0,0,"魂晶商店"]
[null,1018,"武藏卷",5,5,100,"1#346","6026#1",1,"24|0#0#0#180",null,1,0,0,"魂晶商店"]
[null,1019,"战鬼血",5,5,100,"1#347","6027#1",1,"24|0#0#0#180",null,1,0,0,"魂晶商店"]
[null,1020,"四臂骸",5,5,100,"1#348","6028#1",1,"24|0#0#0#180",null,1,0,0,"魂晶商店"]
[null,1021,"熠风刀",5,5,100,"1#349","6029#1",1,"24|0#0#0#180",null,1,0,0,"魂晶商店"]
[null,1022,"镇魂酒",5,5,100,"1#350","6030#1",1,"24|0#0#0#180",null,1,0,0,"魂晶商店"]
[null,1023,"扶桑鼬",5,5,100,"1#351","6031#1",1,"24|0#0#0#180",null,1,0,0,"魂晶商店"]
[null,1024,"舞阳纹",5,5,100,"1#352","6032#1",1,"24|0#0#0#180",null,1,0,0,"魂晶商店"]
[null,1025,"灵丹",5,6,100,"1#353","5#150",1,"24|0#0#0#15",null,1,0,0,"魂晶商店"]
[null,2001,"朔方铃",6,2,100,"1#355","6001#1",1,"22|0#0#0#55",null,1,0,0,"秘盒商店"]
[null,2002,"狱魔角",6,2,100,"1#356","6002#1",1,"22|0#0#0#55",null,1,0,0,"秘盒商店"]
[null,2003,"荒之息",6,2,100,"1#357","6003#1",1,"22|0#0#0#55",null,1,0,0,"秘盒商店"]
[null,2004,"桃竹笼",6,3,100,"1#358","6004#1",1,"22|0#0#0#55",null,1,0,0,"秘盒商店"]
[null,2005,"玄蒲叶",6,3,100,"1#359","6005#1",1,"22|0#0#0#55",null,1,0,0,"秘盒商店"]
[null,2006,"灵隐螭",6,3,100,"1#360","6006#1",1,"22|0#0#0#55",null,1,0,0,"秘盒商店"]
[null,2007,"移命杖",6,4,100,"1#361","6007#1",1,"22|0#0#0#55",null,1,0,0,"秘盒商店"]
[null,2008,"吉钱冠",6,4,100,"1#362","6008#1",1,"22|0#0#0#55",null,1,0,0,"秘盒商店"]
[null,2009,"聚宝坠",6,4,100,"1#363","6009#1",1,"22|0#0#0#55",null,1,0,0,"秘盒商店"]
[null,2010,"玲玉笛",6,5,100,"1#364","6010#1",1,"22|0#0#0#55",null,1,0,0,"秘盒商店"]
[null,2011,"宿元镜",6,5,100,"1#365","6011#1",1,"22|0#0#0#55",null,1,0,0,"秘盒商店"]
[null,2012,"天宁栓",6,5,100,"1#366","6012#1",1,"22|0#0#0#55",null,1,0,0,"秘盒商店"]
[null,2013,"通灵火",6,6,100,"1#367","6013#1",1,"22|0#0#0#180",null,1,0,0,"秘盒商店"]
[null,2014,"化形绫",6,6,100,"1#368","6014#1",1,"22|0#0#0#180",null,1,0,0,"秘盒商店"]
[null,2015,"缚鼠皮",6,6,100,"1#369","6015#1",1,"22|0#0#0#180",null,1,0,0,"秘盒商店"]
[null,2016,"无忌鬃",6,6,100,"1#370","6016#1",1,"22|0#0#0#180",null,1,0,0,"秘盒商店"]
[null,2017,"镔烟锅",6,7,100,"1#371","6017#1",1,"22|0#0#0#180",null,1,0,0,"秘盒商店"]
[null,2018,"天竺笠",6,7,100,"1#372","6018#1",1,"22|0#0#0#180",null,1,0,0,"秘盒商店"]
[null,2019,"那迦珠",6,7,100,"1#373","6019#1",1,"22|0#0#0#180",null,1,0,0,"秘盒商店"]
[null,2020,"凝云符",6,7,100,"1#374","6020#1",1,"22|0#0#0#180",null,1,0,0,"秘盒商店"]
[null,2021,"笑面谱",6,8,100,"1#375","6021#1",1,"22|0#0#0#180",null,1,0,0,"秘盒商店"]
[null,2022,"映心剑",6,8,100,"1#376","6022#1",1,"22|0#0#0#180",null,1,0,0,"秘盒商店"]
[null,2023,"渴魂刀",6,8,100,"1#377","6023#1",1,"22|0#0#0#180",null,1,0,0,"秘盒商店"]
[null,2024,"魔烟罗",6,8,100,"1#378","6024#1",1,"22|0#0#0#180",null,1,0,0,"秘盒商店"]
[null,2025,"九阴刃",6,9,100,"1#379","6025#1",1,"22|0#0#0#180",null,1,0,0,"秘盒商店"]
[null,2026,"武藏卷",6,9,100,"1#380","6026#1",1,"22|0#0#0#180",null,1,0,0,"秘盒商店"]
[null,2027,"战鬼血",6,9,100,"1#381","6027#1",1,"22|0#0#0#180",null,1,0,0,"秘盒商店"]
[null,2028,"四臂骸",6,9,100,"1#382","6028#1",1,"22|0#0#0#180",null,1,0,0,"秘盒商店"]
[null,2029,"熠风刀",6,9,100,"1#383","6029#1",1,"22|0#0#0#180",null,1,0,0,"秘盒商店"]
[null,2030,"镇魂酒",6,9,100,"1#384","6030#1",1,"22|0#0#0#180",null,1,0,0,"秘盒商店"]
[null,2031,"扶桑鼬",6,9,100,"1#385","6031#1",1,"22|0#0#0#180",null,1,0,0,"秘盒商店"]
[null,2032,"舞阳纹",6,9,100,"1#386","6032#1",1,"22|0#0#0#180",null,1,0,0,"秘盒商店"]
[null,2033,"灵丹",6,1,100,"1#386","5#100",1,"22|0#0#0#10",null,1,0,0,"秘盒商店"]
[null,10001,"群英招募单抽",7,1,100,"1#383","19#1",1,"16|0#0#0#250",null,0,0,0,"功能商店"]
[null,10002,"群英招募十连抽",7,2,100,"1#384","19#10",1,"16|0#0#0#2500",null,0,1,9,"功能商店"]
[null,10003,"幸运探宝券2",7,3,100,"1#385","60#2",1,"16|0#0#0#100",1,6,0,0,"功能商店"]
[null,10004,"幸运探宝券5",7,4,100,"1#386","60#5",1,"16|0#0#0#250",1,6,0,0,"功能商店"]
[null,10005,"购买金币",57,1,100,"1#387","14#25000",2,"16|0#0#0#0",1,12,0,0,"点金功能商店","1#0|2#21"]
[null,10006,"购买体力",7,5,100,"1#388","2#100",2,"16|50#50#100#100#150#200#300#400#500",1,5,0,0,"功能商店"]
[null,10007,"购买竞技场挑战券",7,6,100,"1#389","23#1",1,"16|0#0#0#20",0,0,0,0,"功能商店"]
[null,10008,"时光沙漏花费",7,7,100,"1#390","0#0",1,"47|0#0#0#1",1,0,0,0,"功能商店"]
[null,10009,"普通副本次数购买",7,8,100,"1#391","27#1",1,"16|0#0#20#20",1,7,0,0,"功能商店"]
[null,10010,"英雄副本次数购买",7,9,100,"1#392","28#1",1,"16|0#0#150#100",1,8,0,0,"功能商店"]
[null,10011,"天赋树重置花费",7,10,100,"1#393","0#0",2,"16|0#200#400#400#600#600#1000",0,0,0,0,"功能商店"]
[null,10012,"外敌挑战券购买",7,11,100,"1#393","44#1",2,"16|20#20#40#40#60#80#100#120#160#200",0,0,0,0,"功能商店"]
[null,10013,"魂晶妖晶兑换",7,12,100,"1#393","16#10",1,"16|0#0#0#1",0,0,0,0,"功能商店"]
[null,10014,"云梦华羽购买",7,13,100,"1#393","46#1",1,"16|0#0#0#30",0,0,0,0,"功能商店"]
[null,10015,"冒险极速探索妖晶花费",7,14,100,"1#390","0#0",2,"16|50#100#200#200#200#200#200#200#200#200#200",1,33,0,0,"功能商店"]
[null,10016,"行动力",7,15,100,"1#390","1#100",1,"16|0#0#100#150",0,2,0,0,"功能商店"]
[null,10017,"兽潮来袭兽首道具",7,16,100,"1#388","53#1",1,"16|0#0#0#20",0,0,0,0,"功能商店"]
[null,10018,"购买改名卡",7,17,100,"1#388","64#1",1,"16|0#0#0#500",0,0,0,0,"功能商店"]
[null,10019,"魂印占星强制召唤",7,18,100,"1#388","0#0",1,"16|0#0#0#100",0,0,0,0,"功能商店"]
[null,10020,"备用",7,19,100,"1#388","0#0",1,"16|0#0#10#10",0,0,0,0,"功能商店"]
[null,10021,"每日金币副本购买次数",7,20,100,"1#400","90#0",1,"16|0#0#0#50",1,101,0,0,"功能商店",null,111]
[null,10022,"每日经验副本购买次数",7,21,100,"1#400","90#0",1,"16|0#0#0#50",1,102,0,0,"功能商店",null,112]
[null,10023,"每日角色碎片副本购买次数",7,22,100,"1#400","90#0",1,"16|0#0#0#50",1,103,0,0,"功能商店",null,113]
[null,10024,"每日法宝副本购买次数",7,23,100,"1#400","90#0",1,"16|0#0#0#50",1,104,0,0,"功能商店",null,114]
[null,10025,"每日魂印副本购买次数",7,24,100,"1#400","90#0",1,"16|0#0#0#50",1,105,0,0,"功能商店",null,115]
[null,10026,"中等购买金币",57,2,100,"1#400","14#50000",1,"16|0#0#0#20",1,51,0,0,"点金功能商店","1#0|2#21"]
[null,10027,"高等购买金币",57,3,100,"1#400","14#125000",1,"16|0#0#0#50",1,52,0,0,"点金功能商店","1#0|2#21"]
[null,10028,"公会技能重置",7,25,100,"1#400","0#0",2,"16|300#500#800#1000",0,0,0,0,"功能商店"]
[null,10029,"回春散购买",7,26,100,"1#400","31#1",2,"16|0#0#0#100",0,0,0,0,"功能商店"]
[null,10030,"每日轩辕秘境购买次数",7,27,100,"1#400","71#0",2,"16|50#100#200#200#200#200#200#200",1,116,0,0,"功能商店",null,118]
[null,10031,"公会副本挑战价格",7,28,100,"1#400","72#0",2,"16|20#30#40#60",1,3012,0,0,"功能商店",null,3011]
[null,501,"武将经验*100000",8,1,1,"1#400","3#100000",1,"16|0#0#0#100",0,1,1,5,"试炼商店1"]
[null,502,"武将经验*200000",8,1,1,"1#400","3#200000",1,"16|0#0#0#200",0,1,1,5,"试炼商店1"]
[null,503,"武将经验*400000",8,1,1,"1#400","3#400000",1,"16|0#0#0#400",0,1,1,5,"试炼商店1"]
[null,510,"阵营抽*1",8,1,1,"1#400","20#1",1,"16|0#0#0#2500",0,1,1,4,"试炼商店1"]
[null,511,"阵营抽*1",8,1,1,"1#400","20#1",1,"16|0#0#0#2500",0,1,1,2,"试炼商店1"]
[null,512,"高抽*1",8,1,1,"1#400","19#1",1,"16|0#0#0#250",0,1,1,6,"试炼商店1"]
[null,513,"高抽*3",8,1,1,"1#400","19#3",1,"16|0#0#0#750",0,1,1,6,"试炼商店1"]
[null,518,"高抽*5",8,1,1,"1#400","19#5",1,"16|0#0#0#1250",0,1,1,6,"试炼商店1"]
[null,519,"寻宝图*3",8,1,1,"1#400","60#3",1,"16|0#0#0#150",0,1,1,6,"试炼商店1"]
[null,520,"寻宝图*5",8,1,1,"1#400","60#5",1,"16|0#0#0#250",0,1,1,6,"试炼商店1"]
[null,521,"寻宝图*10",8,1,1,"1#400","60#10",1,"16|0#0#0#500",0,1,1,6,"试炼商店1"]
[null,522,"进阶丹*500",8,1,1,"1#400","4#500",1,"16|0#0#0#500",0,1,1,5,"试炼商店1"]
[null,523,"进阶丹*1000",8,1,1,"1#400","4#1000",1,"16|0#0#0#1000",0,1,1,5,"试炼商店1"]
[null,524,"竞技次数*3",8,1,1,"1#400","23#3",1,"16|0#0#0#60",0,1,1,6,"试炼商店1"]
[null,525,"竞技次数*5",8,1,1,"1#400","23#5",1,"16|0#0#0#100",0,1,1,6,"试炼商店1"]
[null,526,"竞技次数*10",8,1,1,"1#400","23#10",1,"16|0#0#0#200",0,1,1,6,"试炼商店1"]
[null,527,"人系5星碎片*50",8,1,1,"1#400","12009#50",1,"16|0#0#0#6000",0,1,1,5,"试炼商店1"]
[null,528,"佛系5星碎片*50",8,1,1,"1#400","12011#50",1,"16|0#0#0#6000",0,1,1,5,"试炼商店1"]
[null,529,"妖系5星碎片*50",8,1,1,"1#400","12008#50",1,"16|0#0#0#6000",0,1,1,5,"试炼商店1"]
[null,530,"道系5星碎片*50",8,1,1,"1#400","12010#50",1,"16|0#0#0#6000",0,1,1,5,"试炼商店1"]
[null,531,"5星碎片*50",8,1,1,"1#400","12013#50",1,"16|0#0#0#6000",0,1,1,5,"试炼商店1"]
[null,532,"武将经验*100000",8,1,1,"1#400","3#100000",1,"14|0#0#0#500000",0,1,1,5,"试炼商店2"]
[null,533,"武将经验*200000",8,1,1,"1#400","3#200000",1,"14|0#0#0#1000000",0,1,1,5,"试炼商店2"]
[null,534,"武将经验*400000",8,1,1,"1#400","3#400000",1,"14|0#0#0#2000000",0,1,1,5,"试炼商店2"]
[null,535,"竞技次数*3",8,1,1,"1#400","23#3",1,"14|0#0#0#300000",0,1,1,5,"试炼商店2"]
[null,536,"竞技次数*5",8,1,1,"1#400","23#5",1,"14|0#0#0#500000",0,1,1,5,"试炼商店2"]
[null,537,"竞技次数*10",8,1,1,"1#400","23#10",1,"14|0#0#0#1000000",0,1,1,5,"试炼商店2"]
[null,541,"进阶丹*500",8,1,1,"1#400","4#500",1,"14|0#0#0#2500000",0,1,1,5,"试炼商店2"]
[null,542,"进阶丹*1000",8,1,1,"1#400","4#1000",1,"14|0#0#0#5000000",0,1,1,5,"试炼商店2"]
[null,547,"武将经验*100000",8,2,1,"1#400","3#100000",1,"16|0#0#0#100",0,1,1,5,"试炼商店1"]
[null,548,"武将经验*200000",8,2,1,"1#400","3#200000",1,"16|0#0#0#200",0,1,1,5,"试炼商店1"]
[null,549,"武将经验*400000",8,2,1,"1#400","3#400000",1,"16|0#0#0#400",0,1,1,5,"试炼商店1"]
[null,550,"阵营抽*1",8,2,1,"1#400","20#1",1,"16|0#0#0#2500",0,1,1,4,"试炼商店1"]
[null,551,"阵营抽*1",8,2,1,"1#400","20#1",1,"16|0#0#0#2500",0,1,1,2,"试炼商店1"]
[null,552,"高抽*1",8,2,1,"1#400","19#1",1,"16|0#0#0#250",0,1,1,6,"试炼商店1"]
[null,553,"高抽*3",8,2,1,"1#400","19#3",1,"16|0#0#0#750",0,1,1,6,"试炼商店1"]
[null,554,"高抽*5",8,2,1,"1#400","19#5",1,"16|0#0#0#1250",0,1,1,6,"试炼商店1"]
[null,555,"寻宝图*3",8,2,1,"1#400","60#3",1,"16|0#0#0#150",0,1,1,6,"试炼商店1"]
[null,556,"寻宝图*5",8,2,1,"1#400","60#5",1,"16|0#0#0#250",0,1,1,6,"试炼商店1"]
[null,557,"寻宝图*10",8,2,1,"1#400","60#10",1,"16|0#0#0#500",0,1,1,6,"试炼商店1"]
[null,558,"进阶丹*500",8,2,1,"1#400","4#500",1,"16|0#0#0#500",0,1,1,5,"试炼商店1"]
[null,559,"进阶丹*1000",8,2,1,"1#400","4#1000",1,"16|0#0#0#1000",0,1,1,5,"试炼商店1"]
[null,560,"竞技次数*3",8,2,1,"1#400","23#3",1,"16|0#0#0#60",0,1,1,6,"试炼商店1"]
[null,561,"竞技次数*5",8,2,1,"1#400","23#5",1,"16|0#0#0#100",0,1,1,6,"试炼商店1"]
[null,562,"竞技次数*10",8,2,1,"1#400","23#10",1,"16|0#0#0#200",0,1,1,6,"试炼商店1"]
[null,563,"1阵营5星碎片*50",8,2,1,"1#400","12009#50",1,"16|0#0#0#6000",0,1,1,5,"试炼商店1"]
[null,564,"2阵营5星碎片*50",8,2,1,"1#400","12011#50",1,"16|0#0#0#6000",0,1,1,5,"试炼商店1"]
[null,565,"3阵营5星碎片*50",8,2,1,"1#400","12008#50",1,"16|0#0#0#6000",0,1,1,5,"试炼商店1"]
[null,566,"4阵营5星碎片*50",8,2,1,"1#400","12010#50",1,"16|0#0#0#6000",0,1,1,5,"试炼商店1"]
[null,567,"5星碎片*50",8,2,1,"1#400","12013#50",1,"16|0#0#0#6000",0,1,1,5,"试炼商店1"]
[null,568,"武将经验*100000",8,2,1,"1#400","3#100000",1,"14|0#0#0#500000",0,1,1,5,"试炼商店2"]
[null,569,"武将经验*200000",8,2,1,"1#400","3#200000",1,"14|0#0#0#1000000",0,1,1,5,"试炼商店2"]
[null,570,"武将经验*400000",8,2,1,"1#400","3#400000",1,"14|0#0#0#2000000",0,1,1,5,"试炼商店2"]
[null,571,"竞技次数*3",8,2,1,"1#400","23#3",1,"14|0#0#0#300000",0,1,1,5,"试炼商店2"]
[null,572,"竞技次数*5",8,2,1,"1#400","23#5",1,"14|0#0#0#500000",0,1,1,5,"试炼商店2"]
[null,573,"竞技次数*10",8,2,1,"1#400","23#10",1,"14|0#0#0#1000000",0,1,1,5,"试炼商店2"]
[null,574,"进阶丹*500",8,2,1,"1#400","4#500",1,"14|0#0#0#2500000",0,1,1,5,"试炼商店2"]
[null,575,"进阶丹*1000",8,2,1,"1#400","4#1000",1,"14|0#0#0#5000000",0,1,1,5,"试炼商店2"]
[null,576,"武将经验*100000",8,3,1,"1#400","3#100000",1,"16|0#0#0#100",0,1,1,5,"试炼商店1"]
[null,577,"武将经验*200000",8,3,1,"1#400","3#200000",1,"16|0#0#0#200",0,1,1,5,"试炼商店1"]
[null,578,"武将经验*400000",8,3,1,"1#400","3#400000",1,"16|0#0#0#400",0,1,1,5,"试炼商店1"]
[null,579,"阵营抽*1",8,3,1,"1#400","20#1",1,"16|0#0#0#2500",0,1,1,4,"试炼商店1"]
[null,580,"阵营抽*1",8,3,1,"1#400","20#1",1,"16|0#0#0#2500",0,1,1,2,"试炼商店1"]
[null,581,"高抽*1",8,3,1,"1#400","19#1",1,"16|0#0#0#250",0,1,1,6,"试炼商店1"]
[null,582,"高抽*3",8,3,1,"1#400","19#3",1,"16|0#0#0#750",0,1,1,6,"试炼商店1"]
[null,583,"高抽*5",8,3,1,"1#400","19#5",1,"16|0#0#0#1250",0,1,1,6,"试炼商店1"]
[null,584,"寻宝图*3",8,3,1,"1#400","60#3",1,"16|0#0#0#150",0,1,1,6,"试炼商店1"]
[null,585,"寻宝图*5",8,3,1,"1#400","60#5",1,"16|0#0#0#250",0,1,1,6,"试炼商店1"]
[null,586,"寻宝图*10",8,3,1,"1#400","60#10",1,"16|0#0#0#500",0,1,1,6,"试炼商店1"]
[null,587,"进阶丹*500",8,3,1,"1#400","4#500",1,"16|0#0#0#500",0,1,1,5,"试炼商店1"]
[null,588,"进阶丹*1000",8,3,1,"1#400","4#1000",1,"16|0#0#0#1000",0,1,1,5,"试炼商店1"]
[null,589,"竞技次数*3",8,3,1,"1#400","23#3",1,"16|0#0#0#60",0,1,1,6,"试炼商店1"]
[null,590,"竞技次数*5",8,3,1,"1#400","23#5",1,"16|0#0#0#100",0,1,1,6,"试炼商店1"]
[null,591,"竞技次数*10",8,3,1,"1#400","23#10",1,"16|0#0#0#200",0,1,1,6,"试炼商店1"]
[null,592,"1阵营5星碎片*50",8,3,1,"1#400","12009#50",1,"16|0#0#0#6000",0,1,1,5,"试炼商店1"]
[null,593,"2阵营5星碎片*50",8,3,1,"1#400","12011#50",1,"16|0#0#0#6000",0,1,1,5,"试炼商店1"]
[null,594,"3阵营5星碎片*50",8,3,1,"1#400","12008#50",1,"16|0#0#0#6000",0,1,1,5,"试炼商店1"]
[null,595,"4阵营5星碎片*50",8,3,1,"1#400","12010#50",1,"16|0#0#0#6000",0,1,1,5,"试炼商店1"]
[null,596,"5星碎片*50",8,3,1,"1#400","12013#50",1,"16|0#0#0#6000",0,1,1,5,"试炼商店1"]
[null,597,"武将经验*100000",8,3,1,"1#400","3#100000",1,"14|0#0#0#500000",0,1,1,5,"试炼商店2"]
[null,598,"武将经验*200000",8,3,1,"1#400","3#200000",1,"14|0#0#0#1000000",0,1,1,5,"试炼商店2"]
[null,599,"武将经验*400000",8,3,1,"1#400","3#400000",1,"14|0#0#0#2000000",0,1,1,5,"试炼商店2"]
[null,600,"竞技次数*3",8,3,1,"1#400","23#3",1,"14|0#0#0#300000",0,1,1,5,"试炼商店2"]
[null,601,"竞技次数*5",8,3,1,"1#400","23#5",1,"14|0#0#0#500000",0,1,1,5,"试炼商店2"]
[null,602,"竞技次数*10",8,3,1,"1#400","23#10",1,"14|0#0#0#1000000",0,1,1,5,"试炼商店2"]
[null,603,"进阶丹*500",8,3,1,"1#400","4#500",1,"14|0#0#0#2500000",0,1,1,5,"试炼商店2"]
[null,604,"进阶丹*1000",8,3,1,"1#400","4#1000",1,"14|0#0#0#5000000",0,1,1,5,"试炼商店2"]
[null,201,"水系5星碎片",4,1,100,"1#494","12008#10",1,"24|0#0#0#3500",0,0,0,0,"竞技场商店"]
[null,202,"风系5星碎片",4,2,100,"1#494","12011#10",1,"24|0#0#0#3500",0,0,0,0,"竞技场商店"]
[null,203,"火系5星碎片",4,3,100,"1#494","12009#10",1,"24|0#0#0#3500",0,0,0,0,"竞技场商店"]
[null,204,"地系5星碎片",4,4,100,"1#494","12010#10",1,"24|0#0#0#3500",0,0,0,0,"竞技场商店"]
[null,205,"元素神符",4,5,100,"1#224","20#1",1,"24|0#0#0#2000",0,0,0,0,"竞技场商店"]
[null,206,"九转金丹*100",4,6,100,"1#225","4#100",1,"24|0#0#0#80",0,0,0,0,"竞技场商店"]
[null,207,"共工碎片",4,7,100,"1#226","11006#10",1,"24|0#0#0#4000",0,0,0,0,"竞技场商店"]
[null,208,"燃灯碎片",4,8,100,"1#227","11077#10",1,"24|0#0#0#4000",0,0,0,0,"竞技场商店"]
[null,209,"龙吉公主碎片",4,9,100,"1#228","11009#10",1,"24|0#0#0#4000",0,0,0,0,"竞技场商店"]
[null,210,"通天教主碎片",4,10,100,"1#497","11041#10",1,"24|0#0#0#4000",0,0,0,0,"竞技场商店"]
[null,211,"判官笔",4,11,100,"1#497","48#1",1,"24|0#0#0#1000",0,1,0,0,"竞技场商店"]
[null,222,"水系4星碎片",21,1,100,"1#497","12002#40",1,"86|0#0#0#100",0,1,0,null,"巅峰赛商店"]
[null,223,"火系4星碎片",21,1,100,"1#497","12003#40",1,"86|0#0#0#100",0,1,0,null,"巅峰赛商店"]
[null,224,"地系4星碎片",21,1,100,"1#497","12004#40",1,"86|0#0#0#100",0,1,0,null,"巅峰赛商店"]
[null,225,"风系4星碎片",21,1,100,"1#497","12005#40",1,"86|0#0#0#100",0,1,0,null,"巅峰赛商店"]
[null,226,"5星万能碎片",21,2,100,"1#497","12013#50",1,"86|0#0#0#800",0,1,0,null,"巅峰赛商店"]
[null,227,"水系5星碎片",21,3,100,"1#497","12008#50",1,"86|0#0#0#800",0,1,0,null,"巅峰赛商店"]
[null,228,"火系5星碎片",21,4,100,"1#497","12009#50",1,"86|0#0#0#800",0,1,0,null,"巅峰赛商店"]
[null,229,"地系5星碎片",21,5,100,"1#497","12010#50",1,"86|0#0#0#800",0,1,0,null,"巅峰赛商店"]
[null,230,"风系5星碎片",21,6,100,"1#497","12011#50",1,"86|0#0#0#800",0,1,0,null,"巅峰赛商店"]
[null,231,"小乔碎片",21,7,100,"1#497","11022#50",1,"86|0#0#0#1000",0,1,0,null,"巅峰赛商店"]
[null,232,"燃灯碎片",21,8,100,"1#497","11004#50",1,"86|0#0#0#2000",0,1,0,null,"巅峰赛商店"]
[null,233,"东华帝君碎片",21,9,100,"1#497","11015#50",1,"86|0#0#0#3000",0,1,0,null,"巅峰赛商店"]
[null,701,"破煞金刚杵",9,1,100,"1#235","90201#1",1,"25|0#0#0#1500",null,1,0,0,"云游商店"]
[null,702,"紫金铃",9,1,100,"1#237","90202#1",1,"25|0#0#0#1500",null,1,0,0,"云游商店"]
[null,703,"蟠龙令",9,2,100,"1#239","90203#1",1,"25|0#0#0#1500",null,1,0,0,"云游商店"]
[null,704,"摩尼符",9,2,100,"1#240","90204#1",1,"25|0#0#0#1500",null,1,0,0,"云游商店"]
[null,705,"无魔金轮",9,3,100,"1#241","90205#1",1,"25|0#0#0#1500",null,1,0,0,"云游商店"]
[null,706,"破煞金刚杵",9,4,100,"1#242","90201#1",1,"25|0#0#0#1500",null,1,0,0,"云游商店"]
[null,707,"紫金铃",9,4,100,"1#243","90202#1",1,"25|0#0#0#1500",null,1,0,0,"云游商店"]
[null,708,"蟠龙令",9,4,100,"1#244","90203#1",1,"25|0#0#0#1500",null,1,0,0,"云游商店"]
[null,709,"摩尼符",9,4,100,"1#245","90204#1",1,"25|0#0#0#1500",null,1,0,0,"云游商店"]
[null,710,"无魔金轮",9,4,100,"1#246","90205#1",1,"25|0#0#0#1500",null,1,0,0,"云游商店"]
[null,711,"破煞金刚杵",9,5,100,"1#247","90201#1",1,"25|0#0#0#1500",null,1,0,0,"云游商店"]
[null,712,"紫金铃",9,5,100,"1#248","90202#1",1,"25|0#0#0#1500",null,1,0,0,"云游商店"]
[null,713,"蟠龙令",9,5,100,"1#249","90203#1",1,"25|0#0#0#1500",null,1,0,0,"云游商店"]
[null,714,"摩尼符",9,5,100,"1#250","90204#1",1,"25|0#0#0#1500",null,1,0,0,"云游商店"]
[null,715,"无魔金轮",9,5,100,"1#251","90205#1",1,"25|0#0#0#1500",null,1,0,0,"云游商店"]
[null,716,"青衫引",9,5,80,"1#252","90401#1",1,"25|0#0#0#12000",null,1,0,0,"云游商店"]
[null,717,"梦回还",9,5,80,"1#253","90402#1",1,"25|0#0#0#12000",null,1,0,0,"云游商店"]
[null,718,"混元金斗",9,5,80,"1#257","90403#1",1,"25|0#0#0#12000",null,1,0,0,"云游商店"]
[null,719,"紫金葫芦",9,5,80,"1#258","90404#1",1,"25|0#0#0#12000",null,1,0,0,"云游商店"]
[null,720,"番天印",9,5,80,"1#260","90405#1",1,"25|0#0#0#12000",null,1,0,0,"云游商店"]
[null,721,"九龙神火罩",9,5,80,"1#261","90406#1",1,"25|0#0#0#12000",null,1,0,0,"云游商店"]
[null,722,"青衫引",9,6,100,"1#262","90401#1",1,"25|0#0#0#12000",null,1,0,0,"云游商店"]
[null,723,"梦回还",9,6,100,"1#263","90402#1",1,"25|0#0#0#12000",null,1,0,0,"云游商店"]
[null,724,"混元金斗",9,6,100,"1#264","90403#1",1,"25|0#0#0#12000",null,1,0,0,"云游商店"]
[null,725,"紫金葫芦",9,6,100,"1#265","90404#1",1,"25|0#0#0#12000",null,1,0,0,"云游商店"]
[null,726,"番天印",9,6,100,"1#266","90405#1",1,"25|0#0#0#12000",null,1,0,0,"云游商店"]
[null,727,"九龙神火罩",9,6,100,"1#267","90406#1",1,"25|0#0#0#12000",null,1,0,0,"云游商店"]
[null,728,"混元金斗",9,5,0,"1#268","90403#1",1,"25|0#0#0#12000",null,1,0,0,"云游商店"]
[null,729,"紫金葫芦",9,5,0,"1#269","90404#1",1,"25|0#0#0#12000",null,1,0,0,"云游商店"]
[null,730,"番天印",9,5,0,"1#270","90405#1",1,"25|0#0#0#12000",null,1,0,0,"云游商店"]
[null,731,"九龙神火罩",9,5,0,"1#271","90406#1",1,"25|0#0#0#12000",null,1,0,0,"云游商店"]
[null,732,"青衫引",9,6,0,"1#272","90401#1",1,"25|0#0#0#12000",null,1,0,0,"云游商店"]
[null,733,"梦回还",9,6,0,"1#273","90402#1",1,"25|0#0#0#12000",null,1,0,0,"云游商店"]
[null,734,"混元金斗",9,6,0,"1#274","90403#1",1,"25|0#0#0#12000",null,1,0,0,"云游商店"]
[null,735,"紫金葫芦",9,6,0,"1#275","90404#1",1,"25|0#0#0#12000",null,1,0,0,"云游商店"]
[null,736,"番天印",9,6,0,"1#276","90405#1",1,"25|0#0#0#12000",null,1,0,0,"云游商店"]
[null,737,"九龙神火罩",9,6,0,"1#277","90406#1",1,"25|0#0#0#12000",null,1,0,0,"云游商店"]
[null,738,"凝墨圣铃",9,1,0,"1#278","60122#1",1,"25|0#0#0#2700",null,1,0,0,"云游商店"]
[null,739,"饕餮战衣",9,1,0,"1#279","60127#1",1,"25|0#0#0#2700",null,1,0,0,"云游商店"]
[null,740,"玄冥战甲",9,1,0,"1#280","60132#1",1,"25|0#0#0#2700",null,1,0,0,"云游商店"]
[null,741,"饕餮战盔",9,1,0,"1#281","60137#1",1,"25|0#0#0#2700",null,1,0,0,"云游商店"]
[null,742,"饕餮战靴",9,1,0,"1#282","60142#1",1,"25|0#0#0#2700",null,1,0,0,"云游商店"]
[null,743,"饕餮神戒",9,1,0,"1#283","60147#1",1,"25|0#0#0#2700",null,1,0,0,"云游商店"]
[null,744,"饕餮束带",9,1,0,"1#284","60152#1",1,"25|0#0#0#2700",null,1,0,0,"云游商店"]
[null,745,"碎弦神斧",9,1,0,"1#285","60103#1",1,"25|0#0#0#2700",null,1,0,0,"云游商店"]
[null,746,"碎弦神剑",9,1,0,"1#286","60108#1",1,"25|0#0#0#2700",null,1,0,0,"云游商店"]
[null,747,"碎弦神杖",9,1,0,"1#287","60113#1",1,"25|0#0#0#2700",null,1,0,0,"云游商店"]
[null,748,"碎弦古剑",9,1,0,"1#288","60118#1",1,"25|0#0#0#2700",null,1,0,0,"云游商店"]
[null,749,"碎弦圣铃",9,1,0,"1#289","60123#1",1,"25|0#0#0#2700",null,1,0,0,"云游商店"]
[null,750,"碎弦神斧",9,1,0,"1#289","60103#1",1,"25|0#0#0#2700",null,1,0,0,"云游商店"]
[null,751,"碎弦神剑",9,1,0,"1#289","60108#1",1,"25|0#0#0#2700",null,1,0,0,"云游商店"]
[null,752,"碎弦神杖",9,1,0,"1#289","60113#1",1,"25|0#0#0#2700",null,1,0,0,"云游商店"]
[null,753,"碎弦古剑",9,1,0,"1#289","60118#1",1,"25|0#0#0#2700",null,1,0,0,"云游商店"]
[null,754,"碎弦圣铃",9,1,0,"1#289","60123#1",1,"25|0#0#0#2700",null,1,0,0,"云游商店"]
[null,755,"碎弦神斧",9,1,0,"1#289","60103#1",1,"25|0#0#0#2700",null,1,0,0,"云游商店"]
[null,756,"碎弦神剑",9,1,0,"1#289","60108#1",1,"25|0#0#0#2700",null,1,0,0,"云游商店"]
[null,757,"碎弦神杖",9,1,0,"1#289","60113#1",1,"25|0#0#0#2700",null,1,0,0,"云游商店"]
[null,758,"碎弦古剑",9,1,0,"1#289","60118#1",1,"25|0#0#0#2700",null,1,0,0,"云游商店"]
[null,759,"碎弦圣铃",9,1,0,"1#289","60123#1",1,"25|0#0#0#2700",null,1,0,0,"云游商店"]
[null,760,"碎弦神斧",9,1,0,"1#289","60103#1",1,"25|0#0#0#2700",null,1,0,0,"云游商店"]
[null,761,"碎弦神剑",9,1,0,"1#289","60108#1",1,"25|0#0#0#2700",null,1,0,0,"云游商店"]
[null,762,"碎弦神杖",9,1,0,"1#289","60113#1",1,"25|0#0#0#2700",null,1,0,0,"云游商店"]
[null,763,"碎弦古剑",9,1,0,"1#289","60118#1",1,"25|0#0#0#2700",null,1,0,0,"云游商店"]
[null,764,"碎弦圣铃",9,1,0,"1#289","60123#1",1,"25|0#0#0#2700",null,1,0,0,"云游商店"]
[null,765,"碎弦圣铃",9,1,0,"1#289","60123#1",1,"25|0#0#0#2700",null,1,0,0,"云游商店"]
[null,766,"无为神杖-蓝图",9,1,0,"1#290","3023#1",1,"25|0#0#0#8000",null,1,0,0,"云游商店"]
[null,767,"悯生神杖-蓝图",9,1,0,"1#291","3024#1",1,"25|0#0#0#8000",null,1,0,0,"云游商店"]
[null,768,"无为神剑-蓝图",9,1,0,"1#292","3025#1",1,"25|0#0#0#8000",null,1,0,0,"云游商店"]
[null,769,"悯生神剑-蓝图",9,1,0,"1#293","3026#1",1,"25|0#0#0#8000",null,1,0,0,"云游商店"]
[null,770,"无为神斧-蓝图",9,1,0,"1#294","3027#1",1,"25|0#0#0#8000",null,1,0,0,"云游商店"]
[null,771,"悯生神斧-蓝图",9,1,0,"1#295","3028#1",1,"25|0#0#0#8000",null,1,0,0,"云游商店"]
[null,772,"无为之刃-蓝图",9,1,0,"1#296","3029#1",1,"25|0#0#0#8000",null,1,0,0,"云游商店"]
[null,773,"悯生之刃-蓝图",9,1,0,"1#297","3030#1",1,"25|0#0#0#8000",null,1,0,0,"云游商店"]
[null,774,"无为圣铃-蓝图",9,1,0,"1#298","3031#1",1,"25|0#0#0#8000",null,1,0,0,"云游商店"]
[null,775,"悯生圣铃-蓝图",9,1,0,"1#299","3032#1",1,"25|0#0#0#8000",null,1,0,0,"云游商店"]
[null,776,"七星神甲-蓝图",9,1,0,"1#300","3033#1",1,"25|0#0#0#8000",null,1,0,0,"云游商店"]
[null,777,"七星神甲-蓝图",9,1,0,"1#301","3034#1",1,"25|0#0#0#8000",null,1,0,0,"云游商店"]
[null,778,"紫微神甲-蓝图",9,1,0,"1#301","3035#1",1,"25|0#0#0#8000",null,1,0,0,"云游商店"]
[null,779,"紫微神甲-蓝图",9,1,0,"1#301","3036#1",1,"25|0#0#0#8000",null,1,0,0,"云游商店"]
[null,780,"七星战盔-蓝图",9,1,0,"1#301","3037#1",1,"25|0#0#0#8000",null,1,0,0,"云游商店"]
[null,781,"紫微战盔-蓝图",9,1,0,"1#301","3038#1",1,"25|0#0#0#8000",null,1,0,0,"云游商店"]
[null,782,"七星战靴-蓝图",9,1,0,"1#301","3039#1",1,"25|0#0#0#8000",null,1,0,0,"云游商店"]
[null,783,"紫微战靴-蓝图",9,1,0,"1#301","3040#1",1,"25|0#0#0#8000",null,1,0,0,"云游商店"]
[null,20001,"金币礼包",27,1,100,"1#301","14#25000",2,"16|50#50#50#50",0,3,0,0,"活动礼包"]
[null,20002,"金币礼包",27,1,100,"1#301","14#50000",2,"16|100#100#100#100",0,3,0,0,"活动礼包"]
[null,20003,"金币礼包",27,1,100,"1#301","14#100000",2,"16|200#200#200#200",0,3,0,0,"活动礼包"]
[null,20004,"装备礼包",27,2,100,"1#301","60128#1",2,"16|50#50#50#50",0,3,0,0,"活动礼包"]
[null,20005,"装备礼包",27,2,100,"1#301","60148#1",2,"16|100#100#100#100",0,3,0,0,"活动礼包"]
[null,20006,"装备礼包",27,2,100,"1#301","60153#1",2,"16|200#200#200#200",0,3,0,0,"活动礼包"]
[null,20007,"异妖礼包",27,3,100,"1#301","6001#1",2,"16|50#50#50#50",0,3,0,0,"活动礼包"]
[null,20008,"异妖礼包",27,3,100,"1#301","6002#1",2,"16|100#100#100#100",0,3,0,0,"活动礼包"]
[null,20009,"异妖礼包",27,3,100,"1#301","6003#1",2,"16|200#200#200#200",0,3,0,0,"活动礼包"]
[null,20010,"元素神符礼包",27,4,100,"1#301","20#5|16#100",2,"16|50#50#50#50",0,3,0,0,"活动礼包"]
[null,20011,"元素神符礼包",27,4,100,"1#301","20#10|16#200",2,"16|100#100#100#100",0,3,0,0,"活动礼包"]
[null,20012,"元素神符礼包",27,4,100,"1#301","20#20|16#400",2,"16|200#200#200#200",0,3,0,0,"活动礼包"]
[null,20013,"妖魂魔符礼包",27,5,100,"1#301","21#5|16#100",2,"16|50#50#50#50",0,3,0,0,"活动礼包"]
[null,20014,"妖魂魔符礼包",27,5,100,"1#301","21#10|16#200",2,"16|100#100#100#100",0,3,0,0,"活动礼包"]
[null,20015,"妖魂魔符礼包",27,5,100,"1#301","21#20|16#400",2,"16|200#200#200#200",0,3,0,0,"活动礼包"]
[null,20016,"金币礼包",27,6,100,"1#301","14#25000",2,"16|50#50#50#50",0,3,0,0,"活动礼包"]
[null,20017,"金币礼包",27,6,100,"1#301","14#50000",2,"16|100#100#100#100",0,3,0,0,"活动礼包"]
[null,20018,"金币礼包",27,6,100,"1#301","14#100000",2,"16|200#200#200#200",0,3,0,0,"活动礼包"]
[null,20019,"金币礼包",28,1,100,"1#301","14#25000",2,"16|50#50#50#50",0,3,0,0,"活动礼包"]
[null,20020,"金币礼包",28,1,100,"1#301","14#50000",2,"16|100#100#100#100",0,3,0,0,"活动礼包"]
[null,20021,"金币礼包",28,1,100,"1#301","14#100000",2,"16|200#200#200#200",0,3,0,0,"活动礼包"]
[null,20022,"装备礼包",28,2,100,"1#301","60128#1",2,"16|50#50#50#50",0,3,0,0,"活动礼包"]
[null,20023,"装备礼包",28,2,100,"1#301","60148#1",2,"16|100#100#100#100",0,3,0,0,"活动礼包"]
[null,20024,"装备礼包",28,2,100,"1#301","60153#1",2,"16|200#200#200#200",0,3,0,0,"活动礼包"]
[null,20025,"异妖礼包",28,3,100,"1#301","6001#1",2,"16|50#50#50#50",0,3,0,0,"活动礼包"]
[null,20026,"异妖礼包",28,3,100,"1#301","6002#1",2,"16|100#100#100#100",0,3,0,0,"活动礼包"]
[null,20027,"异妖礼包",28,3,100,"1#301","6003#1",2,"16|200#200#200#200",0,3,0,0,"活动礼包"]
[null,20028,"元素神符礼包",28,4,100,"1#301","20#5|16#100",2,"16|50#50#50#50",0,3,0,0,"活动礼包"]
[null,20029,"元素神符礼包",28,4,100,"1#301","20#10|16#200",2,"16|100#100#100#100",0,3,0,0,"活动礼包"]
[null,20030,"元素神符礼包",28,4,100,"1#301","20#20|16#400",2,"16|200#200#200#200",0,3,0,0,"活动礼包"]
[null,20031,"妖魂魔符礼包",28,5,100,"1#301","21#5|16#100",2,"16|50#50#50#50",0,3,0,0,"活动礼包"]
[null,20032,"妖魂魔符礼包",28,5,100,"1#301","21#10|16#200",2,"16|100#100#100#100",0,3,0,0,"活动礼包"]
[null,20033,"妖魂魔符礼包",28,5,100,"1#301","21#20|16#400",2,"16|200#200#200#200",0,3,0,0,"活动礼包"]
[null,20034,"金币礼包",28,6,100,"1#301","14#25000",2,"16|50#50#50#50",0,3,0,0,"活动礼包"]
[null,20035,"金币礼包",28,6,100,"1#301","14#50000",2,"16|100#100#100#100",0,3,0,0,"活动礼包"]
[null,20036,"金币礼包",28,6,100,"1#301","14#100000",2,"16|200#200#200#200",0,3,0,0,"活动礼包"]
[null,20037,"金币礼包",29,1,100,"1#301","14#25000",2,"16|50#50#50#50",0,3,0,0,"活动礼包"]
[null,20038,"金币礼包",29,1,100,"1#301","14#50000",2,"16|100#100#100#100",0,3,0,0,"活动礼包"]
[null,20039,"金币礼包",29,1,100,"1#301","14#100000",2,"16|200#200#200#200",0,3,0,0,"活动礼包"]
[null,20040,"装备礼包",29,2,100,"1#301","60128#1",2,"16|50#50#50#50",0,3,0,0,"活动礼包"]
[null,20041,"装备礼包",29,2,100,"1#301","60148#1",2,"16|100#100#100#100",0,3,0,0,"活动礼包"]
[null,20042,"装备礼包",29,2,100,"1#301","60153#1",2,"16|200#200#200#200",0,3,0,0,"活动礼包"]
[null,20043,"异妖礼包",29,3,100,"1#301","6001#1",2,"16|50#50#50#50",0,3,0,0,"活动礼包"]
[null,20044,"异妖礼包",29,3,100,"1#301","6002#1",2,"16|100#100#100#100",0,3,0,0,"活动礼包"]
[null,20045,"异妖礼包",29,3,100,"1#301","6003#1",2,"16|200#200#200#200",0,3,0,0,"活动礼包"]
[null,20049,"妖魂魔符礼包",29,5,100,"1#301","21#5|16#100",2,"16|50#50#50#50",0,3,0,0,"活动礼包"]
[null,20050,"妖魂魔符礼包",29,5,100,"1#301","21#10|16#200",2,"16|100#100#100#100",0,3,0,0,"活动礼包"]
[null,20051,"妖魂魔符礼包",29,5,100,"1#301","21#20|16#400",2,"16|200#200#200#200",0,3,0,0,"活动礼包"]
[null,20052,"金币礼包",29,6,100,"1#301","14#25000",2,"16|50#50#50#50",0,3,0,0,"活动礼包"]
[null,20053,"金币礼包",29,6,100,"1#301","14#50000",2,"16|100#100#100#100",0,3,0,0,"活动礼包"]
[null,20054,"金币礼包",29,6,100,"1#301","14#100000",2,"16|200#200#200#200",0,3,0,0,"活动礼包"]
[null,20061,"碎片礼包",29,2,0,"1#301","11006#1|14#5000|3#200",1,"16|0#0#0#88",0,1,0,0,"活动礼包"]
[null,20062,"每日福利",33,1,100,"1#301","60#1",2,"16|0#0#0#0",0,1,0,0,"每日超值"]
[null,20091,"高级寻宝特权",34,1,100,"1#301","81#1|19#5|4#200",1,"16|0#0#0#980",0,1,0,0,"特权商城",null,30,3888]
[null,20092,"豪华寻宝特权",34,2,100,"1#301","82#1|20#1|19#10",1,"16|0#0#0#1980",0,1,0,0,"特权商城",null,31,6888]
[null,20101,"全民福利礼包",10,1,100,"1#301","4#20",1,"16|0#0#0#20",0,1,1,0,"七日狂欢商店"]
[null,20102,"全民超值小礼包",10,2,100,"1#301","4#300",1,"16|0#0#0#300",0,1,1,5,"七日狂欢商店"]
[null,20103,"全民超值大礼包",10,3,100,"1#301","11071#30",1,"16|0#0#0#600",0,1,1,5,"七日狂欢商店"]
[null,20104,"全民福利礼包",50,1,100,"1#301","23#1",1,"16|0#0#0#50",0,1,1,0,"七日狂欢商店"]
[null,20105,"全民超值小礼包",50,2,100,"1#301","12012#30",1,"16|0#0#0#600",0,1,1,5,"七日狂欢商店"]
[null,20106,"全民超值大礼包",50,3,100,"1#301","20#4",1,"16|0#0#0#10000",0,1,1,2,"七日狂欢商店"]
[null,20107,"全民福利礼包",51,1,100,"1#301","80#1",1,"16|0#0#0#20",0,1,1,0,"七日狂欢商店"]
[null,20108,"全民超值小礼包",51,2,100,"1#301","19#4",1,"16|0#0#0#1000",0,1,1,5,"七日狂欢商店"]
[null,20109,"全民超值大礼包",51,3,100,"1#301","12013#50",1,"16|0#0#0#6250",0,1,1,4,"七日狂欢商店"]
[null,20110,"全民福利礼包",52,1,100,"1#301","24#50",1,"16|0#0#0#50",0,1,1,0,"七日狂欢商店"]
[null,20111,"全民超值小礼包",52,2,100,"1#301","1001#20000",1,"16|0#0#0#2000",0,1,1,5,"七日狂欢商店"]
[null,20112,"全民超值大礼包",52,3,100,"1#301","1001#50000",1,"16|0#0#0#5000",0,1,1,5,"七日狂欢商店"]
[null,20113,"全民福利礼包",53,1,100,"1#301","60#1",1,"16|0#0#0#50",0,1,1,0,"七日狂欢商店"]
[null,20114,"全民超值小礼包",53,2,100,"1#301","19#4",1,"16|0#0#0#1000",0,1,1,5,"七日狂欢商店"]
[null,20115,"全民超值大礼包",53,3,100,"1#301","60#40",1,"16|0#0#0#2000",0,1,1,5,"七日狂欢商店"]
[null,20116,"全民福利礼包",54,1,100,"1#301","14#100000",1,"16|0#0#0#20",0,1,1,0,"七日狂欢商店"]
[null,20117,"全民超值小礼包",54,2,100,"1#301","5000016#1",1,"16|0#0#0#3000",0,1,1,5,"七日狂欢商店"]
[null,20118,"全民超值大礼包",54,3,100,"1#301","61#5",1,"16|0#0#0#5000",0,1,1,5,"七日狂欢商店"]
[null,20119,"全民福利礼包",55,1,100,"1#301","19#1",1,"16|0#0#0#150",0,1,1,0,"七日狂欢商店"]
[null,20120,"全民超值小礼包",55,2,100,"1#301","12013#50",1,"16|0#0#0#6250",0,1,1,4,"七日狂欢商店"]
[null,20121,"全民超值大礼包",55,3,100,"1#301","81128#1",1,"16|0#0#0#7500",0,1,1,4,"七日狂欢商店"]
[null,20501,"曹操碎片*50",11,1,100,"1#301","11013#50",1,"67|0#0#0#1250",0,1,1,2,"活动商店2"]
[null,20502,"阵营抽*1",11,2,100,"1#301","20#1",1,"67|0#0#0#250",0,1,1,4,"活动商店2"]
[null,20503,"高抽*1",11,3,100,"1#301","19#1",1,"67|0#0#0#25",0,10,1,4,"活动商店2"]
[null,20504,"5星碎片*50",11,4,100,"1#301","12013#50",1,"67|0#0#0#1000",0,1,1,2,"活动商店2"]
[null,20505,"高级寻宝图*1",11,5,100,"1#301","61#1",1,"67|0#0#0#125",0,1,1,4,"活动商店2"]
[null,20506,"高抽*1",11,6,100,"1#301","19#1",1,"67|0#0#0#30",0,10,0,0,"活动商店2"]
[null,20507,"兵魂*1000",11,7,100,"1#301","1001#1000",1,"67|0#0#0#10",0,20,0,0,"活动商店2"]
[null,20508,"进阶丹*10",11,8,100,"1#301","4#10",1,"67|0#0#0#1",0,99,0,0,"活动商店2"]
[null,20509,"金币*50000",11,9,100,"1#301","14#50000",1,"67|0#0#0#1",0,99,0,0,"活动商店2"]
[null,20510,"武将经验*10000",11,10,100,"1#301","3#10000",1,"67|0#0#0#1",0,99,0,0,"活动商店2"]
[null,20511,"寻宝图*10",11,11,100,"1#301","60#10",1,"67|0#0#0#62",0,25,0,0,"活动商店2"]
[null,20515,"曹操碎片*50",22,1,100,"1#301","11008#50",1,"67|0#0#0#1250",0,1,1,2,"活动商店2"]
[null,20516,"阵营抽*1",22,2,100,"1#301","20#1",1,"67|0#0#0#250",0,1,1,4,"活动商店2"]
[null,20517,"高抽*1",22,3,100,"1#301","19#1",1,"67|0#0#0#25",0,10,1,4,"活动商店2"]
[null,20518,"5星碎片*50",22,4,100,"1#301","12013#50",1,"67|0#0#0#1000",0,1,1,2,"活动商店2"]
[null,20519,"高级寻宝图*1",22,5,100,"1#301","61#1",1,"67|0#0#0#125",0,1,1,4,"活动商店2"]
[null,20520,"高抽*1",22,6,100,"1#301","19#1",1,"67|0#0#0#30",0,10,0,0,"活动商店2"]
[null,20521,"兵魂*1000",22,7,100,"1#301","1001#1000",1,"67|0#0#0#12",0,20,1,8,"活动商店2"]
[null,20522,"进阶丹*10",22,8,100,"1#301","4#10",1,"67|0#0#0#1",0,99,0,0,"活动商店2"]
[null,20523,"金币*50000",22,9,100,"1#301","14#50000",1,"67|0#0#0#1",0,99,0,0,"活动商店2"]
[null,20524,"武将经验*10000",22,10,100,"1#301","3#10000",1,"67|0#0#0#1",0,99,0,0,"活动商店2"]
[null,20525,"寻宝图*10",22,11,100,"1#301","60#10",1,"67|0#0#0#60",0,25,1,1,"活动商店2"]
[null,20529,"孔雀明王碎片",23,1,100,"1#301","11016#50",1,"67|0#0#0#1000",0,1,1,3,"活动商店3"]
[null,20530,"元素神符",23,2,100,"1#301","20#1",1,"67|0#0#0#300",0,1,1,1,"活动商店3"]
[null,20531,"高级探宝券",23,3,100,"1#301","61#1",1,"67|0#0#0#175",0,1,1,2,"活动商店3"]
[null,20532,"5星随机碎片",23,4,100,"1#301","12013#50",1,"67|0#0#0#600",0,1,1,4,"活动商店3"]
[null,20533,"点将神符",23,5,100,"1#301","19#1",1,"67|0#0#0#30",0,10,1,5,"活动商店3"]
[null,20534,"幸运探宝券4",23,6,100,"1#301","60#4",1,"67|0#0#0#25",0,10,0,0,"活动商店3"]
[null,20535,"幸运探宝券",23,7,100,"1#301","60#1",1,"67|0#0#0#6",0,25,0,0,"活动商店3"]
[null,20536,"4星随机碎片",23,8,100,"1#301","12012#10",1,"67|0#0#0#20",0,4,1,3,"活动商店3"]
[null,20537,"灵丹",23,9,100,"1#301","5#50",1,"67|0#0#0#3",0,15,0,0,"活动商店3"]
[null,20538,"九转金丹",23,10,100,"1#301","4#50",1,"67|0#0#0#5",0,50,1,4,"活动商店3"]
[null,20539,"金币",23,11,100,"1#301","14#30000",1,"67|0#0#0#3",0,100,0,0,"活动商店3"]
[null,20543,"夜叉碎片",24,1,100,"1#301","11009#50",1,"67|0#0#0#1000",0,1,1,3,"活动商店4"]
[null,20544,"元素神符",24,2,100,"1#301","20#1",1,"67|0#0#0#300",0,1,1,1,"活动商店4"]
[null,20545,"高级探宝券",24,3,100,"1#301","61#1",1,"67|0#0#0#175",0,1,1,2,"活动商店4"]
[null,20546,"5星随机碎片",24,4,100,"1#301","12013#50",1,"67|0#0#0#600",0,1,1,4,"活动商店4"]
[null,20547,"点将神符",24,5,100,"1#301","19#1",1,"67|0#0#0#30",0,10,1,5,"活动商店4"]
[null,20548,"幸运探宝券10",24,6,100,"1#301","60#10",1,"67|0#0#0#62",0,10,0,0,"活动商店4"]
[null,20549,"幸运探宝券",24,7,100,"1#301","60#1",1,"67|0#0#0#6",0,25,0,0,"活动商店4"]
[null,20550,"4星随机碎片",24,8,100,"1#301","12012#10",1,"67|0#0#0#20",0,4,1,3,"活动商店4"]
[null,20551,"灵丹",24,9,100,"1#301","5#50",1,"67|0#0#0#3",0,15,0,0,"活动商店4"]
[null,20552,"九转金丹",24,10,100,"1#301","4#50",1,"67|0#0#0#5",0,50,1,4,"活动商店4"]
[null,20553,"金币",24,11,100,"1#301","14#30000",1,"67|0#0#0#3",0,100,0,0,"活动商店4"]
[null,21001,"聂小倩碎片",12,1,100,"1#301","11057#30",1,"65|0#0#0#1500",0,2,0,0,"公会商店"]
[null,21002,"地藏碎片",12,2,100,"1#301","11061#30",1,"65|0#0#0#1500",0,2,0,0,"公会商店"]
[null,21003,"木吒碎片",12,3,100,"1#301","11065#30",1,"65|0#0#0#1500",0,2,0,0,"公会商店"]
[null,21004,"火德星君碎片",12,4,100,"1#301","11069#30",1,"65|0#0#0#1500",0,2,0,0,"公会商店"]
[null,21005,"猪八戒碎片",12,5,100,"1#301","11003#50",1,"65|0#0#0#15000",0,1,0,0,"公会商店"]
[null,21006,"孔雀明王碎片",12,6,100,"1#301","11010#50",1,"65|0#0#0#15000",0,1,0,0,"公会商店"]
[null,21007,"蚩尤碎片",12,7,100,"1#301","11016#50",1,"65|0#0#0#15000",0,1,0,0,"公会商店"]
[null,21008,"巨灵神碎片",12,8,100,"1#301","11019#50",1,"65|0#0#0#15000",0,1,0,0,"公会商店"]
[null,21009,"5星随机碎片",12,9,100,"1#301","12013#10",1,"65|0#0#0#2500",0,1,0,0,"公会商店"]
[null,21010,"一念神戟",12,10,100,"1#301","60157#1",1,"65|0#0#0#20000",0,1,0,0,"公会商店"]
[null,21011,"云龙战甲",12,11,100,"1#301","60182#1",1,"65|0#0#0#20000",0,1,0,0,"公会商店"]
[null,21012,"八荒战盔",12,12,100,"1#301","60191#1",1,"65|0#0#0#20000",0,1,0,0,"公会商店"]
[null,21013,"太初战靴",12,13,100,"1#301","60197#1",1,"65|0#0#0#20000",0,1,0,0,"公会商店"]
[null,21014,"召唤神符",12,14,100,"1#301","91#1",1,"65|0#0#0#50",0,5,0,0,"公会商店"]
[null,60001,"洛神碎片",13,1,100,"1#300","11002#50",1,"1201|0#0#0#20000",null,1,0,0,"寻宝商店"]
[null,60002,"猪八戒碎片",13,1,100,"1#300","11003#50",1,"1201|0#0#0#20000",null,1,0,0,"寻宝商店"]
[null,60003,"慈航道人碎片",13,1,100,"1#300","11004#50",1,"1201|0#0#0#20000",null,1,0,0,"寻宝商店"]
[null,60004,"妲己碎片",13,1,100,"1#300","11005#50",1,"1201|0#0#0#20000",null,1,0,0,"寻宝商店"]
[null,60005,"唐僧碎片",13,1,100,"1#300","11007#50",1,"1201|0#0#0#20000",null,1,0,0,"寻宝商店"]
[null,60006,"孔雀明王碎片",13,1,100,"1#300","11010#50",1,"1201|0#0#0#20000",null,1,0,0,"寻宝商店"]
[null,60007,"降龙罗汉碎片",13,1,100,"1#300","11012#50",1,"1201|0#0#0#20000",null,1,0,0,"寻宝商店"]
[null,60008,"吕洞宾碎片",13,1,100,"1#300","11013#50",1,"1201|0#0#0#20000",null,1,0,0,"寻宝商店"]
[null,60009,"伏虎罗汉碎片",13,1,100,"1#300","11015#50",1,"1201|0#0#0#20000",null,1,0,0,"寻宝商店"]
[null,60010,"蚩尤碎片",13,1,100,"1#300","11016#50",1,"1201|0#0#0#20000",null,1,0,0,"寻宝商店"]
[null,60011,"嫦娥碎片",13,1,100,"1#300","11017#50",1,"1201|0#0#0#20000",null,1,0,0,"寻宝商店"]
[null,60012,"九命猫碎片",13,1,100,"1#300","11018#50",1,"1201|0#0#0#20000",null,1,0,0,"寻宝商店"]
[null,60013,"巨灵神碎片",13,1,100,"1#300","11019#50",1,"1201|0#0#0#20000",null,1,0,0,"寻宝商店"]
[null,60014,"姑获鸟碎片",13,1,100,"1#300","11020#50",1,"1201|0#0#0#20000",null,1,0,0,"寻宝商店"]
[null,60015,"东陵圣母碎片",13,1,100,"1#300","11021#50",1,"1201|0#0#0#20000",null,1,0,0,"寻宝商店"]
[null,60016,"姜子牙碎片",13,1,100,"1#300","11024#50",1,"1201|0#0#0#20000",null,1,0,0,"寻宝商店"]
[null,60017,"罗刹碎片",13,1,100,"1#300","11037#50",1,"1201|0#0#0#20000",null,1,0,0,"寻宝商店"]
[null,60018,"九天玄女碎片",13,1,100,"1#300","11042#50",1,"1201|0#0#0#20000",null,1,0,0,"寻宝商店"]
[null,60019,"骊山老祖碎片",13,1,100,"1#300","11043#50",1,"1201|0#0#0#20000",null,1,0,0,"寻宝商店"]
[null,60020,"娥皇碎片",13,1,100,"1#300","11075#50",1,"1201|0#0#0#20000",null,1,0,0,"寻宝商店"]
[null,60021,"净光天女碎片",13,1,100,"1#300","11033#50",1,"1201|0#0#0#20000",null,1,0,0,"寻宝商店"]
[null,60022,"混世魔王碎片",13,1,100,"1#300","11044#50",1,"1201|0#0#0#12500",null,1,0,0,"寻宝商店"]
[null,60023,"百花仙子碎片",13,1,100,"1#300","11045#50",1,"1201|0#0#0#12500",null,1,0,0,"寻宝商店"]
[null,60024,"女英碎片",13,1,100,"1#300","11046#50",1,"1201|0#0#0#12500",null,1,0,0,"寻宝商店"]
[null,60025,"道德天尊碎片",13,1,100,"1#300","11025#50",1,"1201|0#0#0#12500",null,1,0,0,"寻宝商店"]
[null,60026,"孟婆碎片",13,1,100,"1#300","11027#50",1,"1201|0#0#0#12500",null,1,0,0,"寻宝商店"]
[null,60027,"石矶娘娘碎片",13,1,100,"1#300","11028#50",1,"1201|0#0#0#12500",null,1,0,0,"寻宝商店"]
[null,60028,"月光菩萨碎片",13,1,100,"1#300","11029#50",1,"1201|0#0#0#12500",null,1,0,0,"寻宝商店"]
[null,60029,"梵天碎片",13,1,100,"1#300","11030#50",1,"1201|0#0#0#12500",null,1,0,0,"寻宝商店"]
[null,60030,"红孩儿碎片",13,1,100,"1#300","11031#50",1,"1201|0#0#0#12500",null,1,0,0,"寻宝商店"]
[null,60031,"吴刚碎片",13,1,100,"1#300","11032#50",1,"1201|0#0#0#12500",null,1,0,0,"寻宝商店"]
[null,60032,"帝释天碎片",13,1,100,"1#300","11034#50",1,"1201|0#0#0#12500",null,1,0,0,"寻宝商店"]
[null,60033,"妈祖碎片",13,1,100,"1#300","11035#50",1,"1201|0#0#0#12500",null,1,0,0,"寻宝商店"]
[null,60034,"赵公明碎片",13,1,100,"1#300","11036#50",1,"1201|0#0#0#12500",null,1,0,0,"寻宝商店"]
[null,60035,"夜叉碎片",13,1,100,"1#300","11038#50",1,"1201|0#0#0#12500",null,1,0,0,"寻宝商店"]
[null,60036,"普贤菩萨碎片",13,1,100,"1#300","11039#50",1,"1201|0#0#0#12500",null,1,0,0,"寻宝商店"]
[null,60037,"兽骨大斧",13,2,100,"1#60","60002#1",1,"1201|0#0#0#45",null,1,0,0,"寻宝商店"]
[null,60038,"硬木战甲",13,2,100,"1#60","60017#1",1,"1201|0#0#0#45",null,1,0,0,"寻宝商店"]
[null,60039,"兽皮兜帽",13,2,100,"1#60","60023#1",1,"1201|0#0#0#45",null,1,0,0,"寻宝商店"]
[null,60040,"兽皮皮靴",13,2,100,"1#60","60026#1",1,"1201|0#0#0#45",null,1,0,0,"寻宝商店"]
[null,60041,"乌木大斧",13,2,100,"11#80","60034#1",1,"1201|0#0#0#75",null,1,0,0,"寻宝商店"]
[null,60042,"乌木战甲",13,2,100,"11#80","60049#1",1,"1201|0#0#0#75",null,1,0,0,"寻宝商店"]
[null,60043,"乌木战盔",13,2,100,"11#80","60055#1",1,"1201|0#0#0#75",null,1,0,0,"寻宝商店"]
[null,60044,"乌木战靴",13,2,100,"11#80","60058#1",1,"1201|0#0#0#75",null,1,0,0,"寻宝商店"]
[null,60045,"陨铁大斧",13,2,100,"21#100","60035#1",1,"1201|0#0#0#125",null,1,0,0,"寻宝商店"]
[null,60046,"陨铁战甲",13,2,100,"21#100","60050#1",1,"1201|0#0#0#125",null,1,0,0,"寻宝商店"]
[null,60047,"陨铁战盔",13,2,100,"21#100","60056#1",1,"1201|0#0#0#125",null,1,0,0,"寻宝商店"]
[null,60048,"陨铁战靴",13,2,100,"21#100","60059#1",1,"1201|0#0#0#125",null,1,0,0,"寻宝商店"]
[null,60049,"御风战斧",13,2,100,"31#120","60067#1",1,"1201|0#0#0#215",null,1,0,0,"寻宝商店"]
[null,60050,"屠戮战甲",13,2,100,"31#120","60082#1",1,"1201|0#0#0#215",null,1,0,0,"寻宝商店"]
[null,60051,"神行战盔",13,2,100,"31#120","60088#1",1,"1201|0#0#0#215",null,1,0,0,"寻宝商店"]
[null,60052,"神行战靴",13,2,100,"31#120","60091#1",1,"1201|0#0#0#215",null,1,0,0,"寻宝商店"]
[null,60053,"困雨战斧",13,2,100,"41#140","60068#1",1,"1201|0#0#0#365",null,1,0,0,"寻宝商店"]
[null,60054,"明光战甲",13,2,100,"41#140","60083#1",1,"1201|0#0#0#365",null,1,0,0,"寻宝商店"]
[null,60055,"乘风战盔",13,2,100,"41#140","60089#1",1,"1201|0#0#0#365",null,1,0,0,"寻宝商店"]
[null,60056,"乘风战靴",13,2,100,"41#140","60092#1",1,"1201|0#0#0#365",null,1,0,0,"寻宝商店"]
[null,60057,"折雪战斧",13,2,100,"61#999","60069#1",1,"1201|0#0#0#625",null,1,0,0,"寻宝商店"]
[null,60058,"冥魂战甲",13,2,100,"61#999","60084#1",1,"1201|0#0#0#625",null,1,0,0,"寻宝商店"]
[null,60059,"破空战盔",13,2,100,"61#999","60090#1",1,"1201|0#0#0#625",null,1,0,0,"寻宝商店"]
[null,60060,"破空战靴",13,2,100,"61#999","60093#1",1,"1201|0#0#0#625",null,1,0,0,"寻宝商店"]
[null,60061,"断念神斧",13,2,100,"81#999","60100#1",1,"1201|0#0#0#1075",null,1,0,0,"寻宝商店"]
[null,60062,"虬龙仙甲",13,2,100,"81#999","60125#1",1,"1201|0#0#0#1075",null,1,0,0,"寻宝商店"]
[null,60063,"虬龙战盔",13,2,100,"81#999","60135#1",1,"1201|0#0#0#1075",null,1,0,0,"寻宝商店"]
[null,60064,"虬龙战靴",13,2,100,"81#999","60140#1",1,"1201|0#0#0#1075",null,1,0,0,"寻宝商店"]
[null,60065,"斩尘神斧",13,2,100,"101#999","60101#1",1,"1201|0#0#0#1825",null,1,0,0,"寻宝商店"]
[null,60066,"神凰羽衣",13,2,100,"101#999","60126#1",1,"1201|0#0#0#1825",null,1,0,0,"寻宝商店"]
[null,60067,"神凰战盔",13,2,100,"101#999","60136#1",1,"1201|0#0#0#1825",null,1,0,0,"寻宝商店"]
[null,60068,"神凰战靴",13,2,100,"101#999","60141#1",1,"1201|0#0#0#1825",null,1,0,0,"寻宝商店"]
[null,60069,"凝墨神斧",13,2,100,"121#999","60102#1",1,"1201|0#0#0#3125",null,1,0,0,"寻宝商店"]
[null,60070,"饕餮战衣",13,2,100,"121#999","60127#1",1,"1201|0#0#0#3125",null,1,0,0,"寻宝商店"]
[null,60071,"饕餮战盔",13,2,100,"121#999","60137#1",1,"1201|0#0#0#3125",null,1,0,0,"寻宝商店"]
[null,60072,"饕餮战靴",13,2,100,"121#999","60142#1",1,"1201|0#0#0#3125",null,1,0,0,"寻宝商店"]
[null,60073,"碎弦神斧",13,2,100,"141#999","60103#1",1,"1201|0#0#0#5375",null,1,0,0,"寻宝商店"]
[null,60074,"微澜羽衣",13,2,100,"141#999","60128#1",1,"1201|0#0#0#5375",null,1,0,0,"寻宝商店"]
[null,60075,"微澜战盔",13,2,100,"141#999","60138#1",1,"1201|0#0#0#5375",null,1,0,0,"寻宝商店"]
[null,60076,"无垠战靴",13,2,100,"141#999","60144#1",1,"1201|0#0#0#5375",null,1,0,0,"寻宝商店"]
[null,60077,"兽骨大斧",13,{"$f":"E513+1","v":3},100,"1#60","60002#1",1,"1201|0#0#0#45",null,1,0,0,"寻宝商店"]
[null,60078,"硬木战甲",13,{"$f":"E514+1","v":3},100,"1#60","60017#1",1,"1201|0#0#0#45",null,1,0,0,"寻宝商店"]
[null,60079,"兽皮兜帽",13,3,100,"1#60","60023#1",1,"1201|0#0#0#45",null,1,0,0,"寻宝商店"]
[null,60080,"兽皮皮靴",13,3,100,"1#60","60026#1",1,"1201|0#0#0#45",null,1,0,0,"寻宝商店"]
[null,60081,"乌木大斧",13,3,100,"11#80","60034#1",1,"1201|0#0#0#75",null,1,0,0,"寻宝商店"]
[null,60082,"乌木战甲",13,3,100,"11#80","60049#1",1,"1201|0#0#0#75",null,1,0,0,"寻宝商店"]
[null,60083,"乌木战盔",13,3,100,"11#80","60055#1",1,"1201|0#0#0#75",null,1,0,0,"寻宝商店"]
[null,60084,"乌木战靴",13,3,100,"11#80","60058#1",1,"1201|0#0#0#75",null,1,0,0,"寻宝商店"]
[null,60085,"陨铁大斧",13,3,100,"21#100","60035#1",1,"1201|0#0#0#125",null,1,0,0,"寻宝商店"]
[null,60086,"陨铁战甲",13,3,100,"21#100","60050#1",1,"1201|0#0#0#125",null,1,0,0,"寻宝商店"]
[null,60087,"陨铁战盔",13,3,100,"21#100","60056#1",1,"1201|0#0#0#125",null,1,0,0,"寻宝商店"]
[null,60088,"陨铁战靴",13,3,100,"21#100","60059#1",1,"1201|0#0#0#125",null,1,0,0,"寻宝商店"]
[null,60089,"御风战斧",13,3,100,"31#120","60067#1",1,"1201|0#0#0#215",null,1,0,0,"寻宝商店"]
[null,60090,"屠戮战甲",13,3,100,"31#120","60082#1",1,"1201|0#0#0#215",null,1,0,0,"寻宝商店"]
[null,60091,"神行战盔",13,3,100,"31#120","60088#1",1,"1201|0#0#0#215",null,1,0,0,"寻宝商店"]
[null,60092,"神行战靴",13,3,100,"31#120","60091#1",1,"1201|0#0#0#215",null,1,0,0,"寻宝商店"]
[null,60093,"困雨战斧",13,3,100,"41#140","60068#1",1,"1201|0#0#0#365",null,1,0,0,"寻宝商店"]
[null,60094,"明光战甲",13,3,100,"41#140","60083#1",1,"1201|0#0#0#365",null,1,0,0,"寻宝商店"]
[null,60095,"乘风战盔",13,3,100,"41#140","60089#1",1,"1201|0#0#0#365",null,1,0,0,"寻宝商店"]
[null,60096,"乘风战靴",13,3,100,"41#140","60092#1",1,"1201|0#0#0#365",null,1,0,0,"寻宝商店"]
[null,60097,"折雪战斧",13,3,100,"61#999","60069#1",1,"1201|0#0#0#625",null,1,0,0,"寻宝商店"]
[null,60098,"冥魂战甲",13,3,100,"61#999","60084#1",1,"1201|0#0#0#625",null,1,0,0,"寻宝商店"]
[null,60099,"破空战盔",13,3,100,"61#999","60090#1",1,"1201|0#0#0#625",null,1,0,0,"寻宝商店"]
[null,60100,"破空战靴",13,3,100,"61#999","60093#1",1,"1201|0#0#0#625",null,1,0,0,"寻宝商店"]
[null,60101,"断念神斧",13,3,100,"81#999","60100#1",1,"1201|0#0#0#1075",null,1,0,0,"寻宝商店"]
[null,60102,"虬龙仙甲",13,3,100,"81#999","60125#1",1,"1201|0#0#0#1075",null,1,0,0,"寻宝商店"]
[null,60103,"虬龙战盔",13,3,100,"81#999","60135#1",1,"1201|0#0#0#1075",null,1,0,0,"寻宝商店"]
[null,60104,"虬龙战靴",13,3,100,"81#999","60140#1",1,"1201|0#0#0#1075",null,1,0,0,"寻宝商店"]
[null,60105,"斩尘神斧",13,3,100,"101#999","60101#1",1,"1201|0#0#0#1825",null,1,0,0,"寻宝商店"]
[null,60106,"神凰羽衣",13,3,100,"101#999","60126#1",1,"1201|0#0#0#1825",null,1,0,0,"寻宝商店"]
[null,60107,"神凰战盔",13,3,100,"101#999","60136#1",1,"1201|0#0#0#1825",null,1,0,0,"寻宝商店"]
[null,60108,"神凰战靴",13,3,100,"101#999","60141#1",1,"1201|0#0#0#1825",null,1,0,0,"寻宝商店"]
[null,60109,"凝墨神斧",13,3,100,"121#999","60102#1",1,"1201|0#0#0#3125",null,1,0,0,"寻宝商店"]
[null,60110,"饕餮战衣",13,3,100,"121#999","60127#1",1,"1201|0#0#0#3125",null,1,0,0,"寻宝商店"]
[null,60111,"饕餮战盔",13,3,100,"121#999","60137#1",1,"1201|0#0#0#3125",null,1,0,0,"寻宝商店"]
[null,60112,"饕餮战靴",13,3,100,"121#999","60142#1",1,"1201|0#0#0#3125",null,1,0,0,"寻宝商店"]
[null,60113,"碎弦神斧",13,3,100,"141#999","60103#1",1,"1201|0#0#0#5375",null,1,0,0,"寻宝商店"]
[null,60114,"微澜羽衣",13,3,100,"141#999","60128#1",1,"1201|0#0#0#5375",null,1,0,0,"寻宝商店"]
[null,60115,"微澜战盔",13,3,100,"141#999","60138#1",1,"1201|0#0#0#5375",null,1,0,0,"寻宝商店"]
[null,60116,"无垠战靴",13,3,100,"141#999","60144#1",1,"1201|0#0#0#5375",null,1,0,0,"寻宝商店"]
[null,60117,"兽骨大斧",13,{"$f":"E553+1","v":4},100,"1#60","60002#1",1,"1201|0#0#0#45",null,1,0,0,"寻宝商店"]
[null,60118,"硬木战甲",13,4,100,"1#60","60017#1",1,"1201|0#0#0#45",null,1,0,0,"寻宝商店"]
[null,60119,"兽皮兜帽",13,4,100,"1#60","60023#1",1,"1201|0#0#0#45",null,1,0,0,"寻宝商店"]
[null,60120,"兽皮皮靴",13,4,100,"1#60","60026#1",1,"1201|0#0#0#45",null,1,0,0,"寻宝商店"]
[null,60121,"乌木大斧",13,4,100,"11#80","60034#1",1,"1201|0#0#0#75",null,1,0,0,"寻宝商店"]
[null,60122,"乌木战甲",13,4,100,"11#80","60049#1",1,"1201|0#0#0#75",null,1,0,0,"寻宝商店"]
[null,60123,"乌木战盔",13,4,100,"11#80","60055#1",1,"1201|0#0#0#75",null,1,0,0,"寻宝商店"]
[null,60124,"乌木战靴",13,4,100,"11#80","60058#1",1,"1201|0#0#0#75",null,1,0,0,"寻宝商店"]
[null,60125,"陨铁大斧",13,4,100,"21#100","60035#1",1,"1201|0#0#0#125",null,1,0,0,"寻宝商店"]
[null,60126,"陨铁战甲",13,4,100,"21#100","60050#1",1,"1201|0#0#0#125",null,1,0,0,"寻宝商店"]
[null,60127,"陨铁战盔",13,4,100,"21#100","60056#1",1,"1201|0#0#0#125",null,1,0,0,"寻宝商店"]
[null,60128,"陨铁战靴",13,4,100,"21#100","60059#1",1,"1201|0#0#0#125",null,1,0,0,"寻宝商店"]
[null,60129,"御风战斧",13,4,100,"31#120","60067#1",1,"1201|0#0#0#215",null,1,0,0,"寻宝商店"]
[null,60130,"屠戮战甲",13,4,100,"31#120","60082#1",1,"1201|0#0#0#215",null,1,0,0,"寻宝商店"]
[null,60131,"神行战盔",13,4,100,"31#120","60088#1",1,"1201|0#0#0#215",null,1,0,0,"寻宝商店"]
[null,60132,"神行战靴",13,4,100,"31#120","60091#1",1,"1201|0#0#0#215",null,1,0,0,"寻宝商店"]
[null,60133,"困雨战斧",13,4,100,"41#140","60068#1",1,"1201|0#0#0#365",null,1,0,0,"寻宝商店"]
[null,60134,"明光战甲",13,4,100,"41#140","60083#1",1,"1201|0#0#0#365",null,1,0,0,"寻宝商店"]
[null,60135,"乘风战盔",13,4,100,"41#140","60089#1",1,"1201|0#0#0#365",null,1,0,0,"寻宝商店"]
[null,60136,"乘风战靴",13,4,100,"41#140","60092#1",1,"1201|0#0#0#365",null,1,0,0,"寻宝商店"]
[null,60137,"折雪战斧",13,4,100,"61#999","60069#1",1,"1201|0#0#0#625",null,1,0,0,"寻宝商店"]
[null,60138,"冥魂战甲",13,4,100,"61#999","60084#1",1,"1201|0#0#0#625",null,1,0,0,"寻宝商店"]
[null,60139,"破空战盔",13,4,100,"61#999","60090#1",1,"1201|0#0#0#625",null,1,0,0,"寻宝商店"]
[null,60140,"破空战靴",13,4,100,"61#999","60093#1",1,"1201|0#0#0#625",null,1,0,0,"寻宝商店"]
[null,60141,"断念神斧",13,4,100,"81#999","60100#1",1,"1201|0#0#0#1075",null,1,0,0,"寻宝商店"]
[null,60142,"虬龙仙甲",13,{"$f":"E578+1","v":4},100,"81#999","60125#1",1,"1201|0#0#0#1075",null,1,0,0,"寻宝商店"]
[null,60143,"虬龙战盔",13,4,100,"81#999","60135#1",1,"1201|0#0#0#1075",null,1,0,0,"寻宝商店"]
[null,60144,"虬龙战靴",13,4,100,"81#999","60140#1",1,"1201|0#0#0#1075",null,1,0,0,"寻宝商店"]
[null,60145,"斩尘神斧",13,4,100,"101#999","60101#1",1,"1201|0#0#0#1825",null,1,0,0,"寻宝商店"]
[null,60146,"神凰羽衣",13,4,100,"101#999","60126#1",1,"1201|0#0#0#1825",null,1,0,0,"寻宝商店"]
[null,60147,"神凰战盔",13,4,100,"101#999","60136#1",1,"1201|0#0#0#1825",null,1,0,0,"寻宝商店"]
[null,60148,"神凰战靴",13,4,100,"101#999","60141#1",1,"1201|0#0#0#1825",null,1,0,0,"寻宝商店"]
[null,60149,"凝墨神斧",13,4,100,"121#999","60102#1",1,"1201|0#0#0#3125",null,1,0,0,"寻宝商店"]
[null,60150,"饕餮战衣",13,4,100,"121#999","60127#1",1,"1201|0#0#0#3125",null,1,0,0,"寻宝商店"]
[null,60151,"饕餮战盔",13,4,100,"121#999","60137#1",1,"1201|0#0#0#3125",null,1,0,0,"寻宝商店"]
[null,60152,"饕餮战靴",13,4,100,"121#999","60142#1",1,"1201|0#0#0#3125",null,1,0,0,"寻宝商店"]
[null,60153,"碎弦神斧",13,4,100,"141#999","60103#1",1,"1201|0#0#0#5375",null,1,0,0,"寻宝商店"]
[null,60154,"微澜羽衣",13,4,100,"141#999","60128#1",1,"1201|0#0#0#5375",null,1,0,0,"寻宝商店"]
[null,60155,"微澜战盔",13,4,100,"141#999","60138#1",1,"1201|0#0#0#5375",null,1,0,0,"寻宝商店"]
[null,60156,"无垠战靴",13,4,100,"141#999","60144#1",1,"1201|0#0#0#5375",null,1,0,0,"寻宝商店"]
[null,60157,"兽骨大斧",13,{"$f":"E593+1","v":5},100,"1#60","60002#1",1,"1201|0#0#0#45",null,1,0,0,"寻宝商店"]
[null,60158,"硬木战甲",13,{"$f":"E594+1","v":5},100,"1#60","60017#1",1,"1201|0#0#0#45",null,1,0,0,"寻宝商店"]
[null,60159,"兽皮兜帽",13,5,100,"1#60","60023#1",1,"1201|0#0#0#45",null,1,0,0,"寻宝商店"]
[null,60160,"兽皮皮靴",13,5,100,"1#60","60026#1",1,"1201|0#0#0#45",null,1,0,0,"寻宝商店"]
[null,60161,"乌木大斧",13,5,100,"11#80","60034#1",1,"1201|0#0#0#75",null,1,0,0,"寻宝商店"]
[null,60162,"乌木战甲",13,5,100,"11#80","60049#1",1,"1201|0#0#0#75",null,1,0,0,"寻宝商店"]
[null,60163,"乌木战盔",13,5,100,"11#80","60055#1",1,"1201|0#0#0#75",null,1,0,0,"寻宝商店"]
[null,60164,"乌木战靴",13,5,100,"11#80","60058#1",1,"1201|0#0#0#75",null,1,0,0,"寻宝商店"]
[null,60165,"陨铁大斧",13,5,100,"21#100","60035#1",1,"1201|0#0#0#125",null,1,0,0,"寻宝商店"]
[null,60166,"陨铁战甲",13,5,100,"21#100","60050#1",1,"1201|0#0#0#125",null,1,0,0,"寻宝商店"]
[null,60167,"陨铁战盔",13,5,100,"21#100","60056#1",1,"1201|0#0#0#125",null,1,0,0,"寻宝商店"]
[null,60168,"陨铁战靴",13,5,100,"21#100","60059#1",1,"1201|0#0#0#125",null,1,0,0,"寻宝商店"]
[null,60169,"御风战斧",13,5,100,"31#120","60067#1",1,"1201|0#0#0#215",null,1,0,0,"寻宝商店"]
[null,60170,"屠戮战甲",13,5,100,"31#120","60082#1",1,"1201|0#0#0#215",null,1,0,0,"寻宝商店"]
[null,60171,"神行战盔",13,5,100,"31#120","60088#1",1,"1201|0#0#0#215",null,1,0,0,"寻宝商店"]
[null,60172,"神行战靴",13,5,100,"31#120","60091#1",1,"1201|0#0#0#215",null,1,0,0,"寻宝商店"]
[null,60173,"困雨战斧",13,5,100,"41#140","60068#1",1,"1201|0#0#0#365",null,1,0,0,"寻宝商店"]
[null,60174,"明光战甲",13,5,100,"41#140","60083#1",1,"1201|0#0#0#365",null,1,0,0,"寻宝商店"]
[null,60175,"乘风战盔",13,5,100,"41#140","60089#1",1,"1201|0#0#0#365",null,1,0,0,"寻宝商店"]
[null,60176,"乘风战靴",13,5,100,"41#140","60092#1",1,"1201|0#0#0#365",null,1,0,0,"寻宝商店"]
[null,60177,"折雪战斧",13,5,100,"61#999","60069#1",1,"1201|0#0#0#625",null,1,0,0,"寻宝商店"]
[null,60178,"冥魂战甲",13,5,100,"61#999","60084#1",1,"1201|0#0#0#625",null,1,0,0,"寻宝商店"]
[null,60179,"破空战盔",13,5,100,"61#999","60090#1",1,"1201|0#0#0#625",null,1,0,0,"寻宝商店"]
[null,60180,"破空战靴",13,5,100,"61#999","60093#1",1,"1201|0#0#0#625",null,1,0,0,"寻宝商店"]
[null,60181,"断念神斧",13,5,100,"81#999","60100#1",1,"1201|0#0#0#1075",null,1,0,0,"寻宝商店"]
[null,60182,"虬龙仙甲",13,5,100,"81#999","60125#1",1,"1201|0#0#0#1075",null,1,0,0,"寻宝商店"]
[null,60183,"虬龙战盔",13,5,100,"81#999","60135#1",1,"1201|0#0#0#1075",null,1,0,0,"寻宝商店"]
[null,60184,"虬龙战靴",13,5,100,"81#999","60140#1",1,"1201|0#0#0#1075",null,1,0,0,"寻宝商店"]
[null,60185,"斩尘神斧",13,5,100,"101#999","60101#1",1,"1201|0#0#0#1825",null,1,0,0,"寻宝商店"]
[null,60186,"神凰羽衣",13,5,100,"101#999","60126#1",1,"1201|0#0#0#1825",null,1,0,0,"寻宝商店"]
[null,60187,"神凰战盔",13,5,100,"101#999","60136#1",1,"1201|0#0#0#1825",null,1,0,0,"寻宝商店"]
[null,60188,"神凰战靴",13,5,100,"101#999","60141#1",1,"1201|0#0#0#1825",null,1,0,0,"寻宝商店"]
[null,60189,"凝墨神斧",13,5,100,"121#999","60102#1",1,"1201|0#0#0#3125",null,1,0,0,"寻宝商店"]
[null,60190,"饕餮战衣",13,5,100,"121#999","60127#1",1,"1201|0#0#0#3125",null,1,0,0,"寻宝商店"]
[null,60191,"饕餮战盔",13,5,100,"121#999","60137#1",1,"1201|0#0#0#3125",null,1,0,0,"寻宝商店"]
[null,60192,"饕餮战靴",13,5,100,"121#999","60142#1",1,"1201|0#0#0#3125",null,1,0,0,"寻宝商店"]
[null,60193,"碎弦神斧",13,5,100,"141#999","60103#1",1,"1201|0#0#0#5375",null,1,0,0,"寻宝商店"]
[null,60194,"微澜羽衣",13,5,100,"141#999","60128#1",1,"1201|0#0#0#5375",null,1,0,0,"寻宝商店"]
[null,60195,"微澜战盔",13,5,100,"141#999","60138#1",1,"1201|0#0#0#5375",null,1,0,0,"寻宝商店"]
[null,60196,"无垠战靴",13,5,100,"141#999","60144#1",1,"1201|0#0#0#5375",null,1,0,0,"寻宝商店"]
[null,60197,"兽骨大斧",13,{"$f":"E633+1","v":6},100,"1#60","60002#1",1,"1201|0#0#0#45",null,1,0,0,"寻宝商店"]
[null,60198,"硬木战甲",13,6,100,"1#60","60017#1",1,"1201|0#0#0#45",null,1,0,0,"寻宝商店"]
[null,60199,"兽皮兜帽",13,6,100,"1#60","60023#1",1,"1201|0#0#0#45",null,1,0,0,"寻宝商店"]
[null,60200,"兽皮皮靴",13,6,100,"1#60","60026#1",1,"1201|0#0#0#45",null,1,0,0,"寻宝商店"]
[null,60201,"乌木大斧",13,6,100,"11#80","60034#1",1,"1201|0#0#0#75",null,1,0,0,"寻宝商店"]
[null,60202,"乌木战甲",13,6,100,"11#80","60049#1",1,"1201|0#0#0#75",null,1,0,0,"寻宝商店"]
[null,60203,"乌木战盔",13,6,100,"11#80","60055#1",1,"1201|0#0#0#75",null,1,0,0,"寻宝商店"]
[null,60204,"乌木战靴",13,6,100,"11#80","60058#1",1,"1201|0#0#0#75",null,1,0,0,"寻宝商店"]
[null,60205,"陨铁大斧",13,6,100,"21#100","60035#1",1,"1201|0#0#0#125",null,1,0,0,"寻宝商店"]
[null,60206,"陨铁战甲",13,6,100,"21#100","60050#1",1,"1201|0#0#0#125",null,1,0,0,"寻宝商店"]
[null,60207,"陨铁战盔",13,6,100,"21#100","60056#1",1,"1201|0#0#0#125",null,1,0,0,"寻宝商店"]
[null,60208,"陨铁战靴",13,6,100,"21#100","60059#1",1,"1201|0#0#0#125",null,1,0,0,"寻宝商店"]
[null,60209,"御风战斧",13,6,100,"31#120","60067#1",1,"1201|0#0#0#215",null,1,0,0,"寻宝商店"]
[null,60210,"屠戮战甲",13,6,100,"31#120","60082#1",1,"1201|0#0#0#215",null,1,0,0,"寻宝商店"]
[null,60211,"神行战盔",13,6,100,"31#120","60088#1",1,"1201|0#0#0#215",null,1,0,0,"寻宝商店"]
[null,60212,"神行战靴",13,6,100,"31#120","60091#1",1,"1201|0#0#0#215",null,1,0,0,"寻宝商店"]
[null,60213,"困雨战斧",13,6,100,"41#140","60068#1",1,"1201|0#0#0#365",null,1,0,0,"寻宝商店"]
[null,60214,"明光战甲",13,6,100,"41#140","60083#1",1,"1201|0#0#0#365",null,1,0,0,"寻宝商店"]
[null,60215,"乘风战盔",13,6,100,"41#140","60089#1",1,"1201|0#0#0#365",null,1,0,0,"寻宝商店"]
[null,60216,"乘风战靴",13,6,100,"41#140","60092#1",1,"1201|0#0#0#365",null,1,0,0,"寻宝商店"]
[null,60217,"折雪战斧",13,6,100,"61#999","60069#1",1,"1201|0#0#0#625",null,1,0,0,"寻宝商店"]
[null,60218,"冥魂战甲",13,6,100,"61#999","60084#1",1,"1201|0#0#0#625",null,1,0,0,"寻宝商店"]
[null,60219,"破空战盔",13,6,100,"61#999","60090#1",1,"1201|0#0#0#625",null,1,0,0,"寻宝商店"]
[null,60220,"破空战靴",13,6,100,"61#999","60093#1",1,"1201|0#0#0#625",null,1,0,0,"寻宝商店"]
[null,60221,"断念神斧",13,6,100,"81#999","60100#1",1,"1201|0#0#0#1075",null,1,0,0,"寻宝商店"]
[null,60222,"虬龙仙甲",13,{"$f":"E658+1","v":6},100,"81#999","60125#1",1,"1201|0#0#0#1075",null,1,0,0,"寻宝商店"]
[null,60223,"虬龙战盔",13,6,100,"81#999","60135#1",1,"1201|0#0#0#1075",null,1,0,0,"寻宝商店"]
[null,60224,"虬龙战靴",13,6,100,"81#999","60140#1",1,"1201|0#0#0#1075",null,1,0,0,"寻宝商店"]
[null,60225,"斩尘神斧",13,6,100,"101#999","60101#1",1,"1201|0#0#0#1825",null,1,0,0,"寻宝商店"]
[null,60226,"神凰羽衣",13,6,100,"101#999","60126#1",1,"1201|0#0#0#1825",null,1,0,0,"寻宝商店"]
[null,60227,"神凰战盔",13,6,100,"101#999","60136#1",1,"1201|0#0#0#1825",null,1,0,0,"寻宝商店"]
[null,60228,"神凰战靴",13,6,100,"101#999","60141#1",1,"1201|0#0#0#1825",null,1,0,0,"寻宝商店"]
[null,60229,"凝墨神斧",13,6,100,"121#999","60102#1",1,"1201|0#0#0#3125",null,1,0,0,"寻宝商店"]
[null,60230,"饕餮战衣",13,6,100,"121#999","60127#1",1,"1201|0#0#0#3125",null,1,0,0,"寻宝商店"]
[null,60231,"饕餮战盔",13,6,100,"121#999","60137#1",1,"1201|0#0#0#3125",null,1,0,0,"寻宝商店"]
[null,60232,"饕餮战靴",13,6,100,"121#999","60142#1",1,"1201|0#0#0#3125",null,1,0,0,"寻宝商店"]
[null,60233,"碎弦神斧",13,6,100,"141#999","60103#1",1,"1201|0#0#0#5375",null,1,0,0,"寻宝商店"]
[null,60234,"微澜羽衣",13,6,100,"141#999","60128#1",1,"1201|0#0#0#5375",null,1,0,0,"寻宝商店"]
[null,60235,"微澜战盔",13,6,100,"141#999","60138#1",1,"1201|0#0#0#5375",null,1,0,0,"寻宝商店"]
[null,60236,"无垠战靴",13,6,100,"141#999","60144#1",1,"1201|0#0#0#5375",null,1,0,0,"寻宝商店"]
[null,60237,"兽骨大斧",13,{"$f":"E673+1","v":7},100,"1#60","60002#1",1,"1201|0#0#0#45",null,1,0,0,"寻宝商店"]
[null,60238,"硬木战甲",13,{"$f":"E674+1","v":7},100,"1#60","60017#1",1,"1201|0#0#0#45",null,1,0,0,"寻宝商店"]
[null,60239,"兽皮兜帽",13,7,100,"1#60","60023#1",1,"1201|0#0#0#45",null,1,0,0,"寻宝商店"]
[null,60240,"兽皮皮靴",13,7,100,"1#60","60026#1",1,"1201|0#0#0#45",null,1,0,0,"寻宝商店"]
[null,60241,"乌木大斧",13,7,100,"11#80","60034#1",1,"1201|0#0#0#75",null,1,0,0,"寻宝商店"]
[null,60242,"乌木战甲",13,7,100,"11#80","60049#1",1,"1201|0#0#0#75",null,1,0,0,"寻宝商店"]
[null,60243,"乌木战盔",13,7,100,"11#80","60055#1",1,"1201|0#0#0#75",null,1,0,0,"寻宝商店"]
[null,60244,"乌木战靴",13,7,100,"11#80","60058#1",1,"1201|0#0#0#75",null,1,0,0,"寻宝商店"]
[null,60245,"陨铁大斧",13,7,100,"21#100","60035#1",1,"1201|0#0#0#125",null,1,0,0,"寻宝商店"]
[null,60246,"陨铁战甲",13,7,100,"21#100","60050#1",1,"1201|0#0#0#125",null,1,0,0,"寻宝商店"]
[null,60247,"陨铁战盔",13,7,100,"21#100","60056#1",1,"1201|0#0#0#125",null,1,0,0,"寻宝商店"]
[null,60248,"陨铁战靴",13,7,100,"21#100","60059#1",1,"1201|0#0#0#125",null,1,0,0,"寻宝商店"]
[null,60249,"御风战斧",13,7,100,"31#120","60067#1",1,"1201|0#0#0#215",null,1,0,0,"寻宝商店"]
[null,60250,"屠戮战甲",13,7,100,"31#120","60082#1",1,"1201|0#0#0#215",null,1,0,0,"寻宝商店"]
[null,60251,"神行战盔",13,7,100,"31#120","60088#1",1,"1201|0#0#0#215",null,1,0,0,"寻宝商店"]
[null,60252,"神行战靴",13,7,100,"31#120","60091#1",1,"1201|0#0#0#215",null,1,0,0,"寻宝商店"]
[null,60253,"困雨战斧",13,7,100,"41#140","60068#1",1,"1201|0#0#0#365",null,1,0,0,"寻宝商店"]
[null,60254,"明光战甲",13,7,100,"41#140","60083#1",1,"1201|0#0#0#365",null,1,0,0,"寻宝商店"]
[null,60255,"乘风战盔",13,7,100,"41#140","60089#1",1,"1201|0#0#0#365",null,1,0,0,"寻宝商店"]
[null,60256,"乘风战靴",13,7,100,"41#140","60092#1",1,"1201|0#0#0#365",null,1,0,0,"寻宝商店"]
[null,60257,"折雪战斧",13,7,100,"61#999","60069#1",1,"1201|0#0#0#625",null,1,0,0,"寻宝商店"]
[null,60258,"冥魂战甲",13,7,100,"61#999","60084#1",1,"1201|0#0#0#625",null,1,0,0,"寻宝商店"]
[null,60259,"破空战盔",13,7,100,"61#999","60090#1",1,"1201|0#0#0#625",null,1,0,0,"寻宝商店"]
[null,60260,"破空战靴",13,7,100,"61#999","60093#1",1,"1201|0#0#0#625",null,1,0,0,"寻宝商店"]
[null,60261,"断念神斧",13,7,100,"81#999","60100#1",1,"1201|0#0#0#1075",null,1,0,0,"寻宝商店"]
[null,60262,"虬龙仙甲",13,7,100,"81#999","60125#1",1,"1201|0#0#0#1075",null,1,0,0,"寻宝商店"]
[null,60263,"虬龙战盔",13,7,100,"81#999","60135#1",1,"1201|0#0#0#1075",null,1,0,0,"寻宝商店"]
[null,60264,"虬龙战靴",13,7,100,"81#999","60140#1",1,"1201|0#0#0#1075",null,1,0,0,"寻宝商店"]
[null,60265,"斩尘神斧",13,7,100,"101#999","60101#1",1,"1201|0#0#0#1825",null,1,0,0,"寻宝商店"]
[null,60266,"神凰羽衣",13,7,100,"101#999","60126#1",1,"1201|0#0#0#1825",null,1,0,0,"寻宝商店"]
[null,60267,"神凰战盔",13,7,100,"101#999","60136#1",1,"1201|0#0#0#1825",null,1,0,0,"寻宝商店"]
[null,60268,"神凰战靴",13,7,100,"101#999","60141#1",1,"1201|0#0#0#1825",null,1,0,0,"寻宝商店"]
[null,60269,"凝墨神斧",13,7,100,"121#999","60102#1",1,"1201|0#0#0#3125",null,1,0,0,"寻宝商店"]
[null,60270,"饕餮战衣",13,7,100,"121#999","60127#1",1,"1201|0#0#0#3125",null,1,0,0,"寻宝商店"]
[null,60271,"饕餮战盔",13,7,100,"121#999","60137#1",1,"1201|0#0#0#3125",null,1,0,0,"寻宝商店"]
[null,60272,"饕餮战靴",13,7,100,"121#999","60142#1",1,"1201|0#0#0#3125",null,1,0,0,"寻宝商店"]
[null,60273,"碎弦神斧",13,7,100,"141#999","60103#1",1,"1201|0#0#0#5375",null,1,0,0,"寻宝商店"]
[null,60274,"微澜羽衣",13,7,100,"141#999","60128#1",1,"1201|0#0#0#5375",null,1,0,0,"寻宝商店"]
[null,60275,"微澜战盔",13,7,100,"141#999","60138#1",1,"1201|0#0#0#5375",null,1,0,0,"寻宝商店"]
[null,60276,"无垠战靴",13,7,100,"141#999","60144#1",1,"1201|0#0#0#5375",null,1,0,0,"寻宝商店"]
[null,60277,"兽骨大斧",13,{"$f":"E713+1","v":8},100,"1#60","60002#1",1,"1201|0#0#0#45",null,1,0,0,"寻宝商店"]
[null,60278,"硬木战甲",13,8,100,"1#60","60017#1",1,"1201|0#0#0#45",null,1,0,0,"寻宝商店"]
[null,60279,"兽皮兜帽",13,8,100,"1#60","60023#1",1,"1201|0#0#0#45",null,1,0,0,"寻宝商店"]
[null,60280,"兽皮皮靴",13,8,100,"1#60","60026#1",1,"1201|0#0#0#45",null,1,0,0,"寻宝商店"]
[null,60281,"乌木大斧",13,8,100,"11#80","60034#1",1,"1201|0#0#0#75",null,1,0,0,"寻宝商店"]
[null,60282,"乌木战甲",13,8,100,"11#80","60049#1",1,"1201|0#0#0#75",null,1,0,0,"寻宝商店"]
[null,60283,"乌木战盔",13,8,100,"11#80","60055#1",1,"1201|0#0#0#75",null,1,0,0,"寻宝商店"]
[null,60284,"乌木战靴",13,8,100,"11#80","60058#1",1,"1201|0#0#0#75",null,1,0,0,"寻宝商店"]
[null,60285,"陨铁大斧",13,8,100,"21#100","60035#1",1,"1201|0#0#0#125",null,1,0,0,"寻宝商店"]
[null,60286,"陨铁战甲",13,8,100,"21#100","60050#1",1,"1201|0#0#0#125",null,1,0,0,"寻宝商店"]
[null,60287,"陨铁战盔",13,8,100,"21#100","60056#1",1,"1201|0#0#0#125",null,1,0,0,"寻宝商店"]
[null,60288,"陨铁战靴",13,8,100,"21#100","60059#1",1,"1201|0#0#0#125",null,1,0,0,"寻宝商店"]
[null,60289,"御风战斧",13,8,100,"31#120","60067#1",1,"1201|0#0#0#215",null,1,0,0,"寻宝商店"]
[null,60290,"屠戮战甲",13,8,100,"31#120","60082#1",1,"1201|0#0#0#215",null,1,0,0,"寻宝商店"]
[null,60291,"神行战盔",13,8,100,"31#120","60088#1",1,"1201|0#0#0#215",null,1,0,0,"寻宝商店"]
[null,60292,"神行战靴",13,8,100,"31#120","60091#1",1,"1201|0#0#0#215",null,1,0,0,"寻宝商店"]
[null,60293,"困雨战斧",13,8,100,"41#140","60068#1",1,"1201|0#0#0#365",null,1,0,0,"寻宝商店"]
[null,60294,"明光战甲",13,8,100,"41#140","60083#1",1,"1201|0#0#0#365",null,1,0,0,"寻宝商店"]
[null,60295,"乘风战盔",13,8,100,"41#140","60089#1",1,"1201|0#0#0#365",null,1,0,0,"寻宝商店"]
[null,60296,"乘风战靴",13,8,100,"41#140","60092#1",1,"1201|0#0#0#365",null,1,0,0,"寻宝商店"]
[null,60297,"折雪战斧",13,8,100,"61#999","60069#1",1,"1201|0#0#0#625",null,1,0,0,"寻宝商店"]
[null,60298,"冥魂战甲",13,8,100,"61#999","60084#1",1,"1201|0#0#0#625",null,1,0,0,"寻宝商店"]
[null,60299,"破空战盔",13,8,100,"61#999","60090#1",1,"1201|0#0#0#625",null,1,0,0,"寻宝商店"]
[null,60300,"破空战靴",13,8,100,"61#999","60093#1",1,"1201|0#0#0#625",null,1,0,0,"寻宝商店"]
[null,60301,"断念神斧",13,8,100,"81#999","60100#1",1,"1201|0#0#0#1075",null,1,0,0,"寻宝商店"]
[null,60302,"虬龙仙甲",13,{"$f":"E738+1","v":8},100,"81#999","60125#1",1,"1201|0#0#0#1075",null,1,0,0,"寻宝商店"]
[null,60303,"虬龙战盔",13,8,100,"81#999","60135#1",1,"1201|0#0#0#1075",null,1,0,0,"寻宝商店"]
[null,60304,"虬龙战靴",13,8,100,"81#999","60140#1",1,"1201|0#0#0#1075",null,1,0,0,"寻宝商店"]
[null,60305,"斩尘神斧",13,8,100,"101#999","60101#1",1,"1201|0#0#0#1825",null,1,0,0,"寻宝商店"]
[null,60306,"神凰羽衣",13,8,100,"101#999","60126#1",1,"1201|0#0#0#1825",null,1,0,0,"寻宝商店"]
[null,60307,"神凰战盔",13,8,100,"101#999","60136#1",1,"1201|0#0#0#1825",null,1,0,0,"寻宝商店"]
[null,60308,"神凰战靴",13,8,100,"101#999","60141#1",1,"1201|0#0#0#1825",null,1,0,0,"寻宝商店"]
[null,60309,"凝墨神斧",13,8,100,"121#999","60102#1",1,"1201|0#0#0#3125",null,1,0,0,"寻宝商店"]
[null,60310,"饕餮战衣",13,8,100,"121#999","60127#1",1,"1201|0#0#0#3125",null,1,0,0,"寻宝商店"]
[null,60311,"饕餮战盔",13,8,100,"121#999","60137#1",1,"1201|0#0#0#3125",null,1,0,0,"寻宝商店"]
[null,60312,"饕餮战靴",13,8,100,"121#999","60142#1",1,"1201|0#0#0#3125",null,1,0,0,"寻宝商店"]
[null,60313,"碎弦神斧",13,8,100,"141#999","60103#1",1,"1201|0#0#0#5375",null,1,0,0,"寻宝商店"]
[null,60314,"微澜羽衣",13,8,100,"141#999","60128#1",1,"1201|0#0#0#5375",null,1,0,0,"寻宝商店"]
[null,60315,"微澜战盔",13,8,100,"141#999","60138#1",1,"1201|0#0#0#5375",null,1,0,0,"寻宝商店"]
[null,60316,"无垠战靴",13,8,100,"141#999","60144#1",1,"1201|0#0#0#5375",null,1,0,0,"寻宝商店"]
[null,60317,"兽骨大斧",13,{"$f":"E753+1","v":9},100,"1#60","60002#1",1,"1201|0#0#0#45",null,1,0,0,"寻宝商店"]
[null,60318,"硬木战甲",13,{"$f":"E754+1","v":9},100,"1#60","60017#1",1,"1201|0#0#0#45",null,1,0,0,"寻宝商店"]
[null,60319,"兽皮兜帽",13,9,100,"1#60","60023#1",1,"1201|0#0#0#45",null,1,0,0,"寻宝商店"]
[null,60320,"兽皮皮靴",13,9,100,"1#60","60026#1",1,"1201|0#0#0#45",null,1,0,0,"寻宝商店"]
[null,60321,"乌木大斧",13,9,100,"11#80","60034#1",1,"1201|0#0#0#75",null,1,0,0,"寻宝商店"]
[null,60322,"乌木战甲",13,9,100,"11#80","60049#1",1,"1201|0#0#0#75",null,1,0,0,"寻宝商店"]
[null,60323,"乌木战盔",13,9,100,"11#80","60055#1",1,"1201|0#0#0#75",null,1,0,0,"寻宝商店"]
[null,60324,"乌木战靴",13,9,100,"11#80","60058#1",1,"1201|0#0#0#75",null,1,0,0,"寻宝商店"]
[null,60325,"陨铁大斧",13,9,100,"21#100","60035#1",1,"1201|0#0#0#125",null,1,0,0,"寻宝商店"]
[null,60326,"陨铁战甲",13,9,100,"21#100","60050#1",1,"1201|0#0#0#125",null,1,0,0,"寻宝商店"]
[null,60327,"陨铁战盔",13,9,100,"21#100","60056#1",1,"1201|0#0#0#125",null,1,0,0,"寻宝商店"]
[null,60328,"陨铁战靴",13,9,100,"21#100","60059#1",1,"1201|0#0#0#125",null,1,0,0,"寻宝商店"]
[null,60329,"御风战斧",13,9,100,"31#120","60067#1",1,"1201|0#0#0#215",null,1,0,0,"寻宝商店"]
[null,60330,"屠戮战甲",13,9,100,"31#120","60082#1",1,"1201|0#0#0#215",null,1,0,0,"寻宝商店"]
[null,60331,"神行战盔",13,9,100,"31#120","60088#1",1,"1201|0#0#0#215",null,1,0,0,"寻宝商店"]
[null,60332,"神行战靴",13,9,100,"31#120","60091#1",1,"1201|0#0#0#215",null,1,0,0,"寻宝商店"]
[null,60333,"困雨战斧",13,9,100,"41#140","60068#1",1,"1201|0#0#0#365",null,1,0,0,"寻宝商店"]
[null,60334,"明光战甲",13,9,100,"41#140","60083#1",1,"1201|0#0#0#365",null,1,0,0,"寻宝商店"]
[null,60335,"乘风战盔",13,9,100,"41#140","60089#1",1,"1201|0#0#0#365",null,1,0,0,"寻宝商店"]
[null,60336,"乘风战靴",13,9,100,"41#140","60092#1",1,"1201|0#0#0#365",null,1,0,0,"寻宝商店"]
[null,60337,"折雪战斧",13,9,100,"61#999","60069#1",1,"1201|0#0#0#625",null,1,0,0,"寻宝商店"]
[null,60338,"冥魂战甲",13,9,100,"61#999","60084#1",1,"1201|0#0#0#625",null,1,0,0,"寻宝商店"]
[null,60339,"破空战盔",13,9,100,"61#999","60090#1",1,"1201|0#0#0#625",null,1,0,0,"寻宝商店"]
[null,60340,"破空战靴",13,9,100,"61#999","60093#1",1,"1201|0#0#0#625",null,1,0,0,"寻宝商店"]
[null,60341,"断念神斧",13,9,100,"81#999","60100#1",1,"1201|0#0#0#1075",null,1,0,0,"寻宝商店"]
[null,60342,"虬龙仙甲",13,9,100,"81#999","60125#1",1,"1201|0#0#0#1075",null,1,0,0,"寻宝商店"]
[null,60343,"虬龙战盔",13,9,100,"81#999","60135#1",1,"1201|0#0#0#1075",null,1,0,0,"寻宝商店"]
[null,60344,"虬龙战靴",13,9,100,"81#999","60140#1",1,"1201|0#0#0#1075",null,1,0,0,"寻宝商店"]
[null,60345,"斩尘神斧",13,9,100,"101#999","60101#1",1,"1201|0#0#0#1825",null,1,0,0,"寻宝商店"]
[null,60346,"神凰羽衣",13,9,100,"101#999","60126#1",1,"1201|0#0#0#1825",null,1,0,0,"寻宝商店"]
[null,60347,"神凰战盔",13,9,100,"101#999","60136#1",1,"1201|0#0#0#1825",null,1,0,0,"寻宝商店"]
[null,60348,"神凰战靴",13,9,100,"101#999","60141#1",1,"1201|0#0#0#1825",null,1,0,0,"寻宝商店"]
[null,60349,"凝墨神斧",13,9,100,"121#999","60102#1",1,"1201|0#0#0#3125",null,1,0,0,"寻宝商店"]
[null,60350,"饕餮战衣",13,9,100,"121#999","60127#1",1,"1201|0#0#0#3125",null,1,0,0,"寻宝商店"]
[null,60351,"饕餮战盔",13,9,100,"121#999","60137#1",1,"1201|0#0#0#3125",null,1,0,0,"寻宝商店"]
[null,60352,"饕餮战靴",13,9,100,"121#999","60142#1",1,"1201|0#0#0#3125",null,1,0,0,"寻宝商店"]
[null,60353,"碎弦神斧",13,9,100,"141#999","60103#1",1,"1201|0#0#0#5375",null,1,0,0,"寻宝商店"]
[null,60354,"微澜羽衣",13,9,100,"141#999","60128#1",1,"1201|0#0#0#5375",null,1,0,0,"寻宝商店"]
[null,60355,"微澜战盔",13,9,100,"141#999","60138#1",1,"1201|0#0#0#5375",null,1,0,0,"寻宝商店"]
[null,60356,"无垠战靴",13,9,100,"141#999","60144#1",1,"1201|0#0#0#5375",null,1,0,0,"寻宝商店"]
[null,913,"九转金丹",15,1,100,"1#301","4#1000",1,"16|0#0#0#1100",0,1,1,3,"七日狂欢商店"]
[null,914,"点将神符",15,2,100,"1#301","19#10",1,"16|0#0#0#2500",0,1,1,5,"七日狂欢商店"]
[null,915,"幸运探宝券2",15,3,100,"1#301","60#2",1,"16|0#0#0#100",0,1,1,5,"七日狂欢商店"]
[null,916,"挑战券",15,4,100,"1#301","23#30",1,"16|0#0#0#600",0,1,1,5,"七日狂欢商店"]
[null,917,"元素招募",15,5,100,"1#301","20#5",1,"16|0#0#0#12500",0,1,1,1,"七日狂欢商店"]
[null,918,"5星随机碎片",15,6,100,"1#301","12013#50",1,"16|0#0#0#7500",0,1,1,2,"七日狂欢商店"]
[null,919,"橙装礼包",15,7,100,"1#301","19#6",1,"16|0#0#0#1600",0,1,1,5,"七日狂欢商店"]
[null,840,"雷震子碎片",16,1,100,"1#300","11014#10",1,"1201|0#0#0#20000",null,0,0,0,"无尽商店"]
[null,841,"姜子牙碎片",16,2,100,"1#300","11007#10",1,"1201|0#0#0#5000",null,0,0,0,"无尽商店"]
[null,842,"张飞碎片",16,3,100,"1#300","11006#10",1,"1201|0#0#0#5000",null,0,0,0,"无尽商店"]
[null,843,"降龙罗汉碎片",16,4,100,"1#300","11003#10",1,"1201|0#0#0#5000",null,0,0,0,"无尽商店2"]
[null,844,"小乔碎片",16,5,100,"1#300","11022#10",1,"1201|0#0#0#5000",null,0,0,0,"无尽商店2"]
[null,845,"罗刹碎片",16,6,100,"1#300","11025#1",1,"1201|0#0#0#150",null,0,0,0,"无尽商店2"]
[null,846,"大乔碎片",16,7,100,"1#300","11030#1",1,"1201|0#0#0#150",null,0,0,0,"无尽商店2"]
[null,847,"步练师碎片",16,8,100,"1#300","11036#1",1,"1201|0#0#0#150",null,0,0,0,"无尽商店2"]
[null,848,"英招碎片",16,9,100,"1#300","11045#1",1,"1201|0#0#0#150",null,0,0,0,"无尽商店2"]
[null,849,"幸运探宝券5",16,0,1000,"1#300","60#5",1,"1201|0#0#0#20",null,1,0,0,"无尽商店2"]
[null,850,"元素神符",16,9,0,"1#300","20#1",1,"1201|0#0#0#500",null,1,0,0,"无尽商店2"]
[null,851,"蒸笼仔妖魂箱",16,9,0,"1#300","33#1",1,"1201|0#0#0#600",null,1,0,0,"无尽商店2"]
[null,852,"传说魂印箱",16,9,0,"1#300","81106#1",1,"1201|0#0#0#1500",null,1,0,0,"无尽商店2"]
[null,853,"5星碎片*10",17,1,100000,"1#999","12013#10",1,"93|0#0#0#6250",0,0,1,8,"天宫商店"]
[null,854,"1阵营4星碎片*10",17,2,100000,"1#999","12003#10",1,"93|0#0#0#1000",0,0,0,0,"天宫商店"]
[null,855,"2阵营4星碎片*10",17,3,100000,"1#999","12002#10",1,"93|0#0#0#1000",0,0,0,0,"天宫商店"]
[null,856,"3阵营4星碎片*10",17,4,100000,"1#999","12004#10",1,"93|0#0#0#1000",0,0,0,0,"天宫商店"]
[null,857,"4阵营4星碎片*10",17,5,100000,"1#999","12005#10",1,"93|0#0#0#1000",0,0,0,0,"天宫商店"]
[null,858,"曹操碎片*50",17,6,100000,"1#999","11008#50",1,"93|0#0#0#50000",0,0,1,9,"天宫商店"]
[null,859,"诸葛亮碎片*50",17,7,100000,"1#999","11022#50",1,"93|0#0#0#50000",0,0,1,9,"天宫商店"]
[null,860,"周瑜碎片*50",17,8,100000,"1#999","11014#50",1,"93|0#0#0#50000",0,0,1,9,"天宫商店"]
[null,861,"左慈碎片*50",17,9,100000,"1#999","11076#50",1,"93|0#0#0#50000",0,0,1,9,"天宫商店"]
[null,951,"萌新礼包",18,1,100,"1#301","16#60|19#1|47#2|14#100000",1,"16|0#0#0#6",0,1,0,0,"新手礼包",null,null,888]
[null,952,"元气礼包",18,2,100,"1#301","16#300|19#5|47#2|3#5000",1,"16|0#0#0#30",0,1,0,0,"新手礼包",null,null,2888]
[null,953,"成长礼包",18,3,100,"1#301","16#700|81002#2|47#2|4#1000",1,"16|0#0#0#70",0,1,0,0,"新手礼包",null,null,5888]
[null,954,"无双礼包",18,4,100,"1#301","16#1980|10007#1|47#4|19#10",1,"16|0#0#0#198",0,1,0,0,"新手礼包",null,null,10888]
[null,955,"荣耀礼包",18,5,100,"1#301","16#3980|49#1|47#6|21#40",1,"16|0#0#0#398",0,1,0,0,"新手礼包",null,null,18888]
[null,956,"登峰礼包",18,6,100,"1#301","16#6500|10015#1|47#8|20#10",1,"16|0#0#0#650",0,1,0,0,"新手礼包",null,null,38888]
[null,957,"新手进阶礼包",18,5,0,"1#301","48#1|19#6",1,"16|0#0#0#300",0,1,0,0,"新手礼包"]
[null,958,"新手豪华礼包",18,5,0,"1#301","19#6|10004#1",1,"16|0#0#0#500",0,1,0,0,"新手礼包"]
[null,959,"新手豪华礼包",18,5,0,"1#301","10004#1|39#1",1,"16|0#0#0#500",0,1,0,0,"新手礼包"]
[null,960,"新手豪华礼包",18,5,0,"1#301","39#1|19#10",1,"16|0#0#0#500",0,1,0,0,"新手礼包"]
[null,1101,"金币*200000、武将经验*100000、寻宝图*2、",20,1,100,"1#300","14#200000|3#100000|60#2",1,"16|0#0#0#0",0,1,0,0,"成长礼包",{"$nulls":3},"1#0","1#0"]
[null,1102,"进阶丹*300、寻宝图*3、金币*2000000、",20,2,100,"1#300","4#300|60#3|14#2000000",1,"16|0#0#0#238",0,1,0,0,"成长礼包",{"$nulls":3},"1#0","1#6"]
[null,1103,"4星碎片*30、进阶丹*300、武将经验*2000000、",20,3,100,"1#300","12012#30|4#300|3#2000000",1,"16|0#0#0#688",0,1,0,0,"成长礼包",{"$nulls":3},"1#0","1#30",null,{"$f":"3440*0.2","v":688}]
[null,1104,"高级寻宝图*1、阵营抽*1、金币*4000000、",20,4,100,"1#300","61#1|20#1|14#4000000",1,"16|0#0#0#988",0,1,0,0,"成长礼包",{"$nulls":3},"1#0","1#100"]
[null,1105,"5星碎片*50、阵营抽*1、武将经验*4000000、",20,5,100,"1#300","12013#50|20#1|3#4000000",1,"16|0#0#0#1888",0,1,0,0,"成长礼包",{"$nulls":3},"1#0","1#200"]
[null,1106,"5星碎片*50、阵营抽*1、金币*6000000、",20,6,100,"1#300","12010#50|20#1|14#6000000",1,"16|0#0#0#2288",0,1,0,0,"成长礼包",{"$nulls":3},"1#0","1#500"]
[null,1107,"吕布碎片*50、阵营抽*2、武将经验*6000000、",20,7,100,"1#300","11026#50|20#2|3#6000000",1,"16|0#0#0#3888",0,1,0,0,"成长礼包",{"$nulls":3},"1#0","1#1000"]
[null,1108,"吕布碎片*50、阵营抽*3、金币*8000000、",20,8,100,"1#300","11026#50|20#3|14#8000000",1,"16|0#0#0#4188",0,1,0,0,"成长礼包",{"$nulls":3},"1#0","1#1500"]
[null,1109,"周瑜碎片*50、阵营抽*5、武将经验*8000000、红1星武器*1、",20,9,100,"1#300","11014#50|20#5|3#8000000|60155#1",1,"16|0#0#0#5888",0,1,0,0,"成长礼包",{"$nulls":3},"1#1000","1#2000"]
[null,1110,"诸葛亮碎片*50、阵营抽*5、金币*10000000、红1星鞋*1、兵魂*50000、",20,10,100,"1#300","11022#50|20#5|14#10000000|60195#1|1001#50000",1,"16|0#0#0#6388",0,1,0,0,"成长礼包",{"$nulls":3},"1#1000","1#3000"]
[null,1111,"周瑜碎片*50、武将经验*10000000、红1星衣服*1、兵魂*100000、",20,11,100,"1#300","11014#50|3#10000000|81129#1|60180#1|1001#100000",1,"16|0#0#0#9888",0,1,0,0,"成长礼包",{"$nulls":3},"1#2000","1#5000"]
[null,1112,"诸葛亮碎片*50、金币*15000000、红1星裤子*1、兵魂*200000、",20,12,100,"1#300","11022#50|14#15000000|81129#1|60190#1|1001#200000",1,"16|0#0#0#10888",0,1,0,0,"成长礼包",{"$nulls":3},"1#5000","1#10000"]
[null,1113,"司马懿碎片*50、武将经验*15000000、阵营抽*10、兵魂*300000、",20,13,100,"1#300","11011#50|3#15000000|81129#1|20#10|1001#300000",1,"16|0#0#0#15888",0,1,0,0,"成长礼包",{"$nulls":3},"1#10000","1#15000"]
[null,1114,"司马懿碎片*50、金币*20000000、阵营抽*10、兵魂*400000、",20,14,100,"1#300","11011#50|14#20000000|81129#2|20#10|1001#400000",1,"16|0#0#0#16888",0,1,0,0,"成长礼包",{"$nulls":3},"1#15000","1#30000"]
[null,30001,"聂小倩碎片",2,1,100,"1#400","11057#30",1,"16|0#0#0#600",0,1,0,0,"杂货商店"]
[null,30002,"九婴碎片",2,1,100,"1#400","11058#30",1,"16|0#0#0#600",0,1,0,0,"杂货商店"]
[null,30003,"怨鬼灵碎片",2,1,100,"1#400","11059#30",1,"16|0#0#0#600",0,1,0,0,"杂货商店"]
[null,30004,"幽魂姬碎片",2,1,100,"1#400","11060#30",1,"16|0#0#0#600",0,1,0,0,"杂货商店"]
[null,30005,"地藏碎片",2,1,100,"1#400","11061#30",1,"16|0#0#0#600",0,1,0,0,"杂货商店"]
[null,30006,"迦楼罗碎片",2,1,100,"1#400","11062#30",1,"16|0#0#0#600",0,1,0,0,"杂货商店"]
[null,30007,"伽罗尊者碎片",2,1,100,"1#400","11063#30",1,"16|0#0#0#600",0,1,0,0,"杂货商店"]
[null,30008,"阿修罗碎片",2,1,100,"1#400","11064#30",1,"16|0#0#0#600",0,1,0,0,"杂货商店"]
[null,30009,"木吒碎片",2,1,100,"1#400","11065#30",1,"16|0#0#0#600",0,1,0,0,"杂货商店"]
[null,30010,"孟姜女碎片",2,1,100,"1#400","11066#30",1,"16|0#0#0#600",0,1,0,0,"杂货商店"]
[null,30011,"梦蝶碎片",2,1,100,"1#400","11067#30",1,"16|0#0#0#600",0,1,0,0,"杂货商店"]
[null,30012,"金吒碎片",2,1,100,"1#400","11068#30",1,"16|0#0#0#600",0,1,0,0,"杂货商店"]
[null,30013,"火德星君碎片",2,1,100,"1#400","11069#30",1,"16|0#0#0#600",0,1,0,0,"杂货商店"]
[null,30014,"水德星君碎片",2,1,100,"1#400","11070#30",1,"16|0#0#0#600",0,1,0,0,"杂货商店"]
[null,30015,"九河神女碎片",2,1,100,"1#400","11071#30",1,"16|0#0#0#600",0,1,0,0,"杂货商店"]
[null,30016,"灵扇仙碎片",2,1,100,"1#400","11072#30",1,"16|0#0#0#600",0,1,0,0,"杂货商店"]
[null,30017,"聂小倩碎片",2,1,80,"1#400","11057#30",1,"14|0#0#0#3000000",0,1,1,6,"杂货商店"]
[null,30018,"九婴碎片",2,1,80,"1#400","11058#30",1,"14|0#0#0#3000000",0,1,1,6,"杂货商店"]
[null,30019,"怨鬼灵碎片",2,1,80,"1#400","11059#30",1,"14|0#0#0#3000000",0,1,1,6,"杂货商店"]
[null,30020,"幽魂姬碎片",2,1,80,"1#400","11060#30",1,"14|0#0#0#3000000",0,1,1,6,"杂货商店"]
[null,30021,"地藏碎片",2,1,80,"1#400","11061#30",1,"14|0#0#0#3000000",0,1,1,6,"杂货商店"]
[null,30022,"迦楼罗碎片",2,1,80,"1#400","11062#30",1,"14|0#0#0#3000000",0,1,1,6,"杂货商店"]
[null,30023,"伽罗尊者碎片",2,1,80,"1#400","11063#30",1,"14|0#0#0#3000000",0,1,1,6,"杂货商店"]
[null,30024,"阿修罗碎片",2,1,80,"1#400","11064#30",1,"14|0#0#0#3000000",0,1,1,6,"杂货商店"]
[null,30025,"木吒碎片",2,1,80,"1#400","11065#30",1,"14|0#0#0#3000000",0,1,1,6,"杂货商店"]
[null,30026,"孟姜女碎片",2,1,80,"1#400","11066#30",1,"14|0#0#0#3000000",0,1,1,6,"杂货商店"]
[null,30027,"梦蝶碎片",2,1,80,"1#400","11067#30",1,"14|0#0#0#3000000",0,1,1,6,"杂货商店"]
[null,30028,"金吒碎片",2,1,80,"1#400","11068#30",1,"14|0#0#0#3000000",0,1,1,6,"杂货商店"]
[null,30029,"火德星君碎片",2,1,80,"1#400","11069#30",1,"14|0#0#0#3000000",0,1,1,6,"杂货商店"]
[null,30030,"水德星君碎片",2,1,80,"1#400","11070#30",1,"14|0#0#0#3000000",0,1,1,6,"杂货商店"]
[null,30031,"九河神女碎片",2,1,80,"1#400","11071#30",1,"14|0#0#0#3000000",0,1,1,6,"杂货商店"]
[null,30032,"灵扇仙碎片",2,1,80,"1#400","11072#30",1,"14|0#0#0#3000000",0,1,1,6,"杂货商店"]
[null,30033,"大火妖碎片",2,1,100,"1#400","11047#20",1,"16|0#0#0#400",0,1,1,2,"杂货商店"]
[null,30034,"雪女碎片",2,1,100,"1#400","11048#20",1,"16|0#0#0#400",0,1,1,2,"杂货商店"]
[null,30035,"娜迦王碎片",2,1,100,"1#400","11049#20",1,"16|0#0#0#400",0,1,1,2,"杂货商店"]
[null,30036,"摩呼碎片",2,1,100,"1#400","11050#20",1,"16|0#0#0#400",0,1,1,2,"杂货商店"]
[null,30037,"半仙碎片",2,1,100,"1#400","11051#20",1,"16|0#0#0#100",0,1,0,0,"杂货商店"]
[null,30038,"荷莲碎片",2,1,100,"1#400","11052#20",1,"16|0#0#0#100",0,1,0,0,"杂货商店"]
[null,30039,"鬼差头子碎片",2,1,100,"1#400","11053#20",1,"16|0#0#0#100",0,1,0,0,"杂货商店"]
[null,30040,"仙灵碎片",2,1,100,"1#400","11054#20",1,"16|0#0#0#100",0,1,0,0,"杂货商店"]
[null,30041,"大火妖碎片",2,1,80,"1#400","11047#20",1,"14|0#0#0#1750000",0,1,1,2,"杂货商店"]
[null,30042,"雪女碎片",2,1,80,"1#400","11048#20",1,"14|0#0#0#1750000",0,1,1,2,"杂货商店"]
[null,30043,"娜迦王碎片",2,1,80,"1#400","11049#20",1,"14|0#0#0#1750000",0,1,1,2,"杂货商店"]
[null,30044,"摩呼碎片",2,1,80,"1#400","11050#20",1,"14|0#0#0#1750000",0,1,1,2,"杂货商店"]
[null,30045,"半仙碎片",2,1,80,"1#400","11051#20",1,"14|0#0#0#500000",0,1,1,7,"杂货商店"]
[null,30046,"荷莲碎片",2,1,80,"1#400","11052#20",1,"14|0#0#0#500000",0,1,1,7,"杂货商店"]
[null,30047,"鬼差头子碎片",2,1,80,"1#400","11053#20",1,"14|0#0#0#500000",0,1,1,7,"杂货商店"]
[null,30048,"仙灵碎片",2,1,80,"1#400","11054#20",1,"14|0#0#0#500000",0,1,1,7,"杂货商店"]
[null,30057,"兽骨大斧",2,2,80,"1#10","60002#1",1,"16|0#0#0#20",0,1,0,0,"杂货商店"]
[null,30058,"硬木战甲",2,2,80,"1#10","60017#1",1,"16|0#0#0#20",0,1,0,0,"杂货商店"]
[null,30059,"兽皮兜帽",2,2,80,"1#10","60023#1",1,"16|0#0#0#20",0,1,0,0,"杂货商店"]
[null,30060,"兽皮皮靴",2,2,80,"1#10","60026#1",1,"16|0#0#0#20",0,1,0,0,"杂货商店"]
[null,30061,"兽骨大斧",2,2,80,"1#10","60002#1",1,"14|0#0#0#100000",0,1,0,0,"杂货商店"]
[null,30062,"硬木战甲",2,2,80,"1#10","60017#1",1,"14|0#0#0#100000",0,1,0,0,"杂货商店"]
[null,30063,"兽皮兜帽",2,2,80,"1#10","60023#1",1,"14|0#0#0#100000",0,1,0,0,"杂货商店"]
[null,30064,"兽皮皮靴",2,2,80,"1#10","60026#1",1,"14|0#0#0#100000",0,1,0,0,"杂货商店"]
[null,30065,"乌木大斧",2,2,80,"11#20","60034#1",1,"16|0#0#0#30",0,1,0,0,"杂货商店"]
[null,30066,"乌木战甲",2,2,80,"11#20","60049#1",1,"16|0#0#0#30",0,1,0,0,"杂货商店"]
[null,30067,"乌木战盔",2,2,80,"11#20","60055#1",1,"16|0#0#0#30",0,1,0,0,"杂货商店"]
[null,30068,"乌木战靴",2,2,80,"11#20","60058#1",1,"16|0#0#0#30",0,1,0,0,"杂货商店"]
[null,30069,"乌木大斧",2,2,80,"11#20","60034#1",1,"14|0#0#0#150000",0,1,0,0,"杂货商店"]
[null,30070,"乌木战甲",2,2,80,"11#20","60049#1",1,"14|0#0#0#150000",0,1,0,0,"杂货商店"]
[null,30071,"乌木战盔",2,2,80,"11#20","60055#1",1,"14|0#0#0#150000",0,1,0,0,"杂货商店"]
[null,30072,"乌木战靴",2,2,80,"11#20","60058#1",1,"14|0#0#0#150000",0,1,0,0,"杂货商店"]
[null,30073,"陨铁大斧",2,2,80,"21#30","60035#1",1,"16|0#0#0#50",0,1,0,0,"杂货商店"]
[null,30074,"陨铁战甲",2,2,80,"21#30","60050#1",1,"16|0#0#0#50",0,1,0,0,"杂货商店"]
[null,30075,"陨铁战盔",2,2,80,"21#30","60056#1",1,"16|0#0#0#50",0,1,0,0,"杂货商店"]
[null,30076,"陨铁战靴",2,2,80,"21#30","60059#1",1,"16|0#0#0#50",0,1,0,0,"杂货商店"]
[null,30077,"陨铁大斧",2,2,80,"21#30","60035#1",1,"14|0#0#0#250000",0,1,0,0,"杂货商店"]
[null,30078,"陨铁战甲",2,2,80,"21#30","60050#1",1,"14|0#0#0#250000",0,1,0,0,"杂货商店"]
[null,30079,"陨铁战盔",2,2,80,"21#30","60056#1",1,"14|0#0#0#250000",0,1,0,0,"杂货商店"]
[null,30080,"陨铁战靴",2,2,80,"21#30","60059#1",1,"14|0#0#0#250000",0,1,0,0,"杂货商店"]
[null,30081,"御风战斧",2,2,80,"31#40","60067#1",1,"16|0#0#0#85",0,1,0,0,"杂货商店"]
[null,30082,"屠戮战甲",2,2,80,"31#40","60082#1",1,"16|0#0#0#85",0,1,0,0,"杂货商店"]
[null,30083,"神行战盔",2,2,80,"31#40","60088#1",1,"16|0#0#0#85",0,1,0,0,"杂货商店"]
[null,30084,"神行战靴",2,2,80,"31#40","60091#1",1,"16|0#0#0#85",0,1,0,0,"杂货商店"]
[null,30085,"御风战斧",2,2,80,"31#40","60067#1",1,"14|0#0#0#425000",0,1,0,0,"杂货商店"]
[null,30086,"屠戮战甲",2,2,80,"31#40","60082#1",1,"14|0#0#0#425000",0,1,0,0,"杂货商店"]
[null,30087,"神行战盔",2,2,80,"31#40","60088#1",1,"14|0#0#0#425000",0,1,0,0,"杂货商店"]
[null,30088,"神行战靴",2,2,80,"31#40","60091#1",1,"14|0#0#0#425000",0,1,0,0,"杂货商店"]
[null,30089,"困雨战斧",2,2,80,"41#60","60068#1",1,"16|0#0#0#145",0,1,0,0,"杂货商店"]
[null,30090,"明光战甲",2,2,80,"41#60","60083#1",1,"16|0#0#0#145",0,1,0,0,"杂货商店"]
[null,30091,"乘风战盔",2,2,80,"41#60","60089#1",1,"16|0#0#0#145",0,1,0,0,"杂货商店"]
[null,30092,"乘风战靴",2,2,80,"41#60","60092#1",1,"16|0#0#0#145",0,1,0,0,"杂货商店"]
[null,30093,"困雨战斧",2,2,80,"41#60","60068#1",1,"14|0#0#0#725000",0,1,0,0,"杂货商店"]
[null,30094,"明光战甲",2,2,80,"41#60","60083#1",1,"14|0#0#0#725000",0,1,0,0,"杂货商店"]
[null,30095,"乘风战盔",2,2,80,"41#60","60089#1",1,"14|0#0#0#725000",0,1,0,0,"杂货商店"]
[null,30096,"乘风战靴",2,2,80,"41#60","60092#1",1,"14|0#0#0#725000",0,1,0,0,"杂货商店"]
[null,30097,"折雪战斧",2,2,80,"61#80","60069#1",1,"16|0#0#0#250",0,1,0,0,"杂货商店"]
[null,30098,"冥魂战甲",2,2,80,"61#80","60084#1",1,"16|0#0#0#250",0,1,0,0,"杂货商店"]
[null,30099,"破空战盔",2,2,80,"61#80","60090#1",1,"16|0#0#0#250",0,1,0,0,"杂货商店"]
[null,30100,"破空战靴",2,2,80,"61#80","60093#1",1,"16|0#0#0#250",0,1,0,0,"杂货商店"]
[null,30101,"折雪战斧",2,2,80,"61#80","60069#1",1,"14|0#0#0#1250000",0,1,0,0,"杂货商店"]
[null,30102,"冥魂战甲",2,2,80,"61#80","60084#1",1,"14|0#0#0#1250000",0,1,0,0,"杂货商店"]
[null,30103,"破空战盔",2,2,80,"61#80","60090#1",1,"14|0#0#0#1250000",0,1,0,0,"杂货商店"]
[null,30104,"破空战靴",2,2,80,"61#80","60093#1",1,"14|0#0#0#1250000",0,1,0,0,"杂货商店"]
[null,30105,"断念神斧",2,2,80,"81#100","60100#1",1,"16|0#0#0#430",0,1,0,0,"杂货商店"]
[null,30106,"虬龙仙甲",2,2,80,"81#100","60125#1",1,"16|0#0#0#430",0,1,0,0,"杂货商店"]
[null,30107,"虬龙战盔",2,2,80,"81#100","60135#1",1,"16|0#0#0#430",0,1,0,0,"杂货商店"]
[null,30108,"虬龙战靴",2,2,80,"81#100","60140#1",1,"16|0#0#0#430",0,1,0,0,"杂货商店"]
[null,30109,"断念神斧",2,2,80,"81#100","60100#1",1,"14|0#0#0#2150000",0,1,0,0,"杂货商店"]
[null,30110,"虬龙仙甲",2,2,80,"81#100","60125#1",1,"14|0#0#0#2150000",0,1,0,0,"杂货商店"]
[null,30111,"虬龙战盔",2,2,80,"81#100","60135#1",1,"14|0#0#0#2150000",0,1,0,0,"杂货商店"]
[null,30112,"虬龙战靴",2,2,80,"81#100","60140#1",1,"14|0#0#0#2150000",0,1,0,0,"杂货商店"]
[null,30113,"斩尘神斧",2,2,80,"101#120","60101#1",1,"16|0#0#0#730",0,1,0,0,"杂货商店"]
[null,30114,"神凰羽衣",2,2,80,"101#120","60126#1",1,"16|0#0#0#730",0,1,0,0,"杂货商店"]
[null,30115,"神凰战盔",2,2,80,"101#120","60136#1",1,"16|0#0#0#730",0,1,0,0,"杂货商店"]
[null,30116,"神凰战靴",2,2,80,"101#120","60141#1",1,"16|0#0#0#730",0,1,0,0,"杂货商店"]
[null,30117,"斩尘神斧",2,2,80,"101#120","60101#1",1,"14|0#0#0#3650000",0,1,0,0,"杂货商店"]
[null,30118,"神凰羽衣",2,2,80,"101#120","60126#1",1,"14|0#0#0#3650000",0,1,0,0,"杂货商店"]
[null,30119,"神凰战盔",2,2,80,"101#120","60136#1",1,"14|0#0#0#3650000",0,1,0,0,"杂货商店"]
[null,30120,"神凰战靴",2,2,80,"101#120","60141#1",1,"14|0#0#0#3650000",0,1,0,0,"杂货商店"]
[null,30121,"凝墨神斧",2,2,80,"121#140","60102#1",1,"16|0#0#0#1250",0,1,0,0,"杂货商店"]
[null,30122,"饕餮战衣",2,2,80,"121#140","60127#1",1,"16|0#0#0#1250",0,1,0,0,"杂货商店"]
[null,30123,"饕餮战盔",2,2,80,"121#140","60137#1",1,"16|0#0#0#1250",0,1,0,0,"杂货商店"]
[null,30124,"饕餮战靴",2,2,80,"121#140","60142#1",1,"16|0#0#0#1250",0,1,0,0,"杂货商店"]
[null,30125,"凝墨神斧",2,2,80,"121#140","60102#1",1,"14|0#0#0#6250000",0,1,0,0,"杂货商店"]
[null,30126,"饕餮战衣",2,2,80,"121#140","60127#1",1,"14|0#0#0#6250000",0,1,0,0,"杂货商店"]
[null,30127,"饕餮战盔",2,2,80,"121#140","60137#1",1,"14|0#0#0#6250000",0,1,0,0,"杂货商店"]
[null,30128,"饕餮战靴",2,2,80,"121#140","60142#1",1,"14|0#0#0#6250000",0,1,0,0,"杂货商店"]
[null,30129,"碎弦神斧",2,2,80,"141#999","60103#1",1,"16|0#0#0#2150",0,1,0,0,"杂货商店"]
[null,30130,"微澜羽衣",2,2,80,"141#999","60128#1",1,"16|0#0#0#2150",0,1,0,0,"杂货商店"]
[null,30131,"微澜战盔",2,2,80,"141#999","60138#1",1,"16|0#0#0#2150",0,1,0,0,"杂货商店"]
[null,30132,"无垠战靴",2,2,80,"141#999","60144#1",1,"16|0#0#0#2150",0,1,0,0,"杂货商店"]
[null,30153,"挑战券",2,3,80,"5#441","23#1",1,"14|0#0#0#100000",0,1,1,1,"杂货商店"]
[null,30154,"挑战券",2,3,100,"5#442","23#1",1,"16|0#0#0#20",0,1,1,7,"杂货商店"]
[null,30155,"普通抽",2,3,100,"5#443","91#1",1,"14|0#0#0#250000",0,1,1,1,"杂货商店"]
[null,30156,"九转金丹",2,3,100,"5#444","4#100",1,"16|0#0#0#100",0,1,0,0,"杂货商店"]
[null,30157,"九转金丹",2,3,80,"5#445","4#100",1,"14|0#0#0#500000",0,1,1,2,"杂货商店"]
[null,30158,"点将神符",2,3,100,"1#5","19#1",1,"16|0#0#0#250",0,1,1,6,"杂货商店"]
[null,30159,"幸运探宝券",2,3,100,"5#447","60#1",1,"14|0#0#0#250000",0,1,1,1,"杂货商店"]
[null,30160,"幸运探宝券",2,3,100,"5#447","60#10",1,"16|0#0#0#500",0,1,1,6,"杂货商店"]
[null,30161,"成长护符",2,3,100,"5#447","3#100000",1,"16|0#0#0#100",0,1,0,0,"杂货商店"]
[null,30162,"成长护符",2,3,100,"5#447","3#50000",1,"16|0#0#0#50",0,1,0,0,"杂货商店"]
[null,30163,"成长护符",2,3,80,"5#447","3#100000",1,"14|0#0#0#500000",0,1,0,0,"杂货商店"]
[null,30164,"成长护符",2,3,100,"5#447","3#20000",1,"16|0#0#0#20",0,1,0,0,"杂货商店"]
[null,30165,"成长护符",2,3,80,"5#447","3#50000",1,"14|0#0#0#250000",0,1,0,0,"杂货商店"]
[null,30166,"成长护符",2,3,80,"5#447","3#20000",1,"14|0#0#0#100000",0,1,0,0,"杂货商店"]
[null,30167,"聂小倩碎片",2,4,100,"1#394","11057#30",1,"16|0#0#0#600",0,1,0,0,"杂货商店"]
[null,30168,"九婴碎片",2,4,100,"1#398","11058#30",1,"16|0#0#0#600",0,1,0,0,"杂货商店"]
[null,30169,"怨鬼灵碎片",2,4,100,"1#399","11059#30",1,"16|0#0#0#600",0,1,0,0,"杂货商店"]
[null,30170,"幽魂姬碎片",2,4,100,"1#400","11060#30",1,"16|0#0#0#600",0,1,0,0,"杂货商店"]
[null,30171,"地藏碎片",2,4,100,"1#401","11061#30",1,"16|0#0#0#600",0,1,0,0,"杂货商店"]
[null,30172,"迦楼罗碎片",2,4,100,"1#402","11062#30",1,"16|0#0#0#600",0,1,0,0,"杂货商店"]
[null,30173,"伽罗尊者碎片",2,4,100,"1#403","11063#30",1,"16|0#0#0#600",0,1,0,0,"杂货商店"]
[null,30174,"阿修罗碎片",2,4,100,"1#404","11064#30",1,"16|0#0#0#600",0,1,0,0,"杂货商店"]
[null,30175,"木吒碎片",2,4,100,"1#405","11065#30",1,"16|0#0#0#600",0,1,0,0,"杂货商店"]
[null,30176,"孟姜女碎片",2,4,100,"1#406","11066#30",1,"16|0#0#0#600",0,1,0,0,"杂货商店"]
[null,30177,"梦蝶碎片",2,4,100,"1#407","11067#30",1,"16|0#0#0#600",0,1,0,0,"杂货商店"]
[null,30178,"金吒碎片",2,4,100,"1#408","11068#30",1,"16|0#0#0#600",0,1,0,0,"杂货商店"]
[null,30179,"火德星君碎片",2,4,100,"1#409","11069#30",1,"16|0#0#0#600",0,1,0,0,"杂货商店"]
[null,30180,"水德星君碎片",2,4,100,"1#410","11070#30",1,"16|0#0#0#600",0,1,0,0,"杂货商店"]
[null,30181,"九河神女碎片",2,4,100,"1#411","11071#30",1,"16|0#0#0#600",0,1,0,0,"杂货商店"]
[null,30182,"灵扇仙碎片",2,4,100,"1#412","11072#30",1,"16|0#0#0#600",0,1,0,0,"杂货商店"]
[null,30183,"聂小倩碎片",2,4,80,"1#413","11057#30",1,"14|0#0#0#3000000",0,1,1,6,"杂货商店"]
[null,30184,"九婴碎片",2,4,80,"1#414","11058#30",1,"14|0#0#0#3000000",0,1,1,6,"杂货商店"]
[null,30185,"怨鬼灵碎片",2,4,80,"1#415","11059#30",1,"14|0#0#0#3000000",0,1,1,6,"杂货商店"]
[null,30186,"幽魂姬碎片",2,4,80,"1#416","11060#30",1,"14|0#0#0#3000000",0,1,1,6,"杂货商店"]
[null,30187,"地藏碎片",2,4,80,"1#417","11061#30",1,"14|0#0#0#3000000",0,1,1,6,"杂货商店"]
[null,30188,"迦楼罗碎片",2,4,80,"1#418","11062#30",1,"14|0#0#0#3000000",0,1,1,6,"杂货商店"]
[null,30189,"伽罗尊者碎片",2,4,80,"1#419","11063#30",1,"14|0#0#0#3000000",0,1,1,6,"杂货商店"]
[null,30190,"阿修罗碎片",2,4,80,"1#420","11064#30",1,"14|0#0#0#3000000",0,1,1,6,"杂货商店"]
[null,30191,"木吒碎片",2,4,80,"1#421","11065#30",1,"14|0#0#0#3000000",0,1,1,6,"杂货商店"]
[null,30192,"孟姜女碎片",2,4,80,"1#422","11066#30",1,"14|0#0#0#3000000",0,1,1,6,"杂货商店"]
[null,30193,"梦蝶碎片",2,4,80,"1#423","11067#30",1,"14|0#0#0#3000000",0,1,1,6,"杂货商店"]
[null,30194,"金吒碎片",2,4,80,"1#424","11068#30",1,"14|0#0#0#3000000",0,1,1,6,"杂货商店"]
[null,30195,"火德星君碎片",2,4,80,"1#425","11069#30",1,"14|0#0#0#3000000",0,1,1,6,"杂货商店"]
[null,30196,"水德星君碎片",2,4,80,"1#426","11070#30",1,"14|0#0#0#3000000",0,1,1,6,"杂货商店"]
[null,30197,"九河神女碎片",2,4,80,"1#427","11071#30",1,"14|0#0#0#3000000",0,1,1,6,"杂货商店"]
[null,30198,"灵扇仙碎片",2,4,80,"1#428","11072#30",1,"14|0#0#0#3000000",0,1,1,6,"杂货商店"]
[null,30199,"大火妖碎片",2,4,100,"1#429","11047#20",1,"16|0#0#0#400",0,1,1,2,"杂货商店"]
[null,30200,"雪女碎片",2,4,100,"1#430","11048#20",1,"16|0#0#0#400",0,1,1,2,"杂货商店"]
[null,30201,"娜迦王碎片",2,4,100,"1#431","11049#20",1,"16|0#0#0#400",0,1,1,2,"杂货商店"]
[null,30202,"摩呼碎片",2,4,100,"1#432","11050#20",1,"16|0#0#0#400",0,1,1,2,"杂货商店"]
[null,30203,"半仙碎片",2,4,100,"1#421","11051#20",1,"16|0#0#0#100",0,1,0,0,"杂货商店"]
[null,30204,"荷莲碎片",2,4,100,"1#422","11052#20",1,"16|0#0#0#100",0,1,0,0,"杂货商店"]
[null,30205,"鬼差头子碎片",2,4,100,"1#423","11053#20",1,"16|0#0#0#100",0,1,0,0,"杂货商店"]
[null,30206,"仙灵碎片",2,4,100,"1#424","11054#20",1,"16|0#0#0#100",0,1,0,0,"杂货商店"]
[null,30207,"大火妖碎片",2,4,80,"1#425","11047#20",1,"14|0#0#0#1750000",0,1,1,2,"杂货商店"]
[null,30208,"雪女碎片",2,4,80,"1#426","11048#20",1,"14|0#0#0#1750000",0,1,1,2,"杂货商店"]
[null,30209,"娜迦王碎片",2,4,80,"1#427","11049#20",1,"14|0#0#0#1750000",0,1,1,2,"杂货商店"]
[null,30210,"摩呼碎片",2,4,80,"1#428","11050#20",1,"14|0#0#0#1750000",0,1,1,2,"杂货商店"]
[null,30211,"半仙碎片",2,4,80,"1#429","11051#20",1,"14|0#0#0#500000",0,1,1,7,"杂货商店"]
[null,30212,"荷莲碎片",2,4,80,"1#430","11052#20",1,"14|0#0#0#500000",0,1,1,7,"杂货商店"]
[null,30213,"鬼差头子碎片",2,4,80,"1#431","11053#20",1,"14|0#0#0#500000",0,1,1,7,"杂货商店"]
[null,30214,"仙灵碎片",2,4,80,"1#432","11054#20",1,"14|0#0#0#500000",0,1,1,7,"杂货商店"]
[null,30215,"兽骨大斧",2,5,80,"1#10","60002#1",1,"16|0#0#0#20",0,1,0,0,"杂货商店"]
[null,30216,"硬木战甲",2,5,80,"1#10","60017#1",1,"16|0#0#0#20",0,1,0,0,"杂货商店"]
[null,30217,"兽皮兜帽",2,5,80,"1#10","60023#1",1,"16|0#0#0#20",0,1,0,0,"杂货商店"]
[null,30218,"兽皮皮靴",2,5,80,"1#10","60026#1",1,"16|0#0#0#20",0,1,0,0,"杂货商店"]
[null,30219,"兽骨大斧",2,5,80,"1#10","60002#1",1,"14|0#0#0#100000",0,1,0,0,"杂货商店"]
[null,30220,"硬木战甲",2,5,80,"1#10","60017#1",1,"14|0#0#0#100000",0,1,0,0,"杂货商店"]
[null,30221,"兽皮兜帽",2,5,80,"1#10","60023#1",1,"14|0#0#0#100000",0,1,0,0,"杂货商店"]
[null,30222,"兽皮皮靴",2,5,80,"1#10","60026#1",1,"14|0#0#0#100000",0,1,0,0,"杂货商店"]
[null,30223,"乌木大斧",2,5,80,"11#20","60034#1",1,"16|0#0#0#30",0,1,0,0,"杂货商店"]
[null,30224,"乌木战甲",2,5,80,"11#20","60049#1",1,"16|0#0#0#30",0,1,0,0,"杂货商店"]
[null,30225,"乌木战盔",2,5,80,"11#20","60055#1",1,"16|0#0#0#30",0,1,0,0,"杂货商店"]
[null,30226,"乌木战靴",2,5,80,"11#20","60058#1",1,"16|0#0#0#30",0,1,0,0,"杂货商店"]
[null,30227,"乌木大斧",2,5,80,"11#20","60034#1",1,"14|0#0#0#150000",0,1,0,0,"杂货商店"]
[null,30228,"乌木战甲",2,5,80,"11#20","60049#1",1,"14|0#0#0#150000",0,1,0,0,"杂货商店"]
[null,30229,"乌木战盔",2,5,80,"11#20","60055#1",1,"14|0#0#0#150000",0,1,0,0,"杂货商店"]
[null,30230,"乌木战靴",2,5,80,"11#20","60058#1",1,"14|0#0#0#150000",0,1,0,0,"杂货商店"]
[null,30231,"陨铁大斧",2,5,80,"21#30","60035#1",1,"16|0#0#0#50",0,1,0,0,"杂货商店"]
[null,30232,"陨铁战甲",2,5,80,"21#30","60050#1",1,"16|0#0#0#50",0,1,0,0,"杂货商店"]
[null,30233,"陨铁战盔",2,5,80,"21#30","60056#1",1,"16|0#0#0#50",0,1,0,0,"杂货商店"]
[null,30234,"陨铁战靴",2,5,80,"21#30","60059#1",1,"16|0#0#0#50",0,1,0,0,"杂货商店"]
[null,30235,"陨铁大斧",2,5,80,"21#30","60035#1",1,"14|0#0#0#250000",0,1,0,0,"杂货商店"]
[null,30236,"陨铁战甲",2,5,80,"21#30","60050#1",1,"14|0#0#0#250000",0,1,0,0,"杂货商店"]
[null,30237,"陨铁战盔",2,5,80,"21#30","60056#1",1,"14|0#0#0#250000",0,1,0,0,"杂货商店"]
[null,30238,"陨铁战靴",2,5,80,"21#30","60059#1",1,"14|0#0#0#250000",0,1,0,0,"杂货商店"]
[null,30239,"御风战斧",2,5,80,"31#40","60067#1",1,"16|0#0#0#85",0,1,0,0,"杂货商店"]
[null,30240,"屠戮战甲",2,5,80,"31#40","60082#1",1,"16|0#0#0#85",0,1,0,0,"杂货商店"]
[null,30241,"神行战盔",2,5,80,"31#40","60088#1",1,"16|0#0#0#85",0,1,0,0,"杂货商店"]
[null,30242,"神行战靴",2,5,80,"31#40","60091#1",1,"16|0#0#0#85",0,1,0,0,"杂货商店"]
[null,30243,"御风战斧",2,5,80,"31#40","60067#1",1,"14|0#0#0#425000",0,1,0,0,"杂货商店"]
[null,30244,"屠戮战甲",2,5,80,"31#40","60082#1",1,"14|0#0#0#425000",0,1,0,0,"杂货商店"]
[null,30245,"神行战盔",2,5,80,"31#40","60088#1",1,"14|0#0#0#425000",0,1,0,0,"杂货商店"]
[null,30246,"神行战靴",2,5,80,"31#40","60091#1",1,"14|0#0#0#425000",0,1,0,0,"杂货商店"]
[null,30247,"困雨战斧",2,5,80,"41#60","60068#1",1,"16|0#0#0#145",0,1,0,0,"杂货商店"]
[null,30248,"明光战甲",2,5,80,"41#60","60083#1",1,"16|0#0#0#145",0,1,0,0,"杂货商店"]
[null,30249,"乘风战盔",2,5,80,"41#60","60089#1",1,"16|0#0#0#145",0,1,0,0,"杂货商店"]
[null,30250,"乘风战靴",2,5,80,"41#60","60092#1",1,"16|0#0#0#145",0,1,0,0,"杂货商店"]
[null,30251,"困雨战斧",2,5,80,"41#60","60068#1",1,"14|0#0#0#725000",0,1,0,0,"杂货商店"]
[null,30252,"明光战甲",2,5,80,"41#60","60083#1",1,"14|0#0#0#725000",0,1,0,0,"杂货商店"]
[null,30253,"乘风战盔",2,5,80,"41#60","60089#1",1,"14|0#0#0#725000",0,1,0,0,"杂货商店"]
[null,30254,"乘风战靴",2,5,80,"41#60","60092#1",1,"14|0#0#0#725000",0,1,0,0,"杂货商店"]
[null,30255,"折雪战斧",2,5,80,"61#80","60069#1",1,"16|0#0#0#250",0,1,0,0,"杂货商店"]
[null,30256,"冥魂战甲",2,5,80,"61#80","60084#1",1,"16|0#0#0#250",0,1,0,0,"杂货商店"]
[null,30257,"破空战盔",2,5,80,"61#80","60090#1",1,"16|0#0#0#250",0,1,0,0,"杂货商店"]
[null,30258,"破空战靴",2,5,80,"61#80","60093#1",1,"16|0#0#0#250",0,1,0,0,"杂货商店"]
[null,30259,"折雪战斧",2,5,80,"61#80","60069#1",1,"14|0#0#0#1250000",0,1,0,0,"杂货商店"]
[null,30260,"冥魂战甲",2,5,80,"61#80","60084#1",1,"14|0#0#0#1250000",0,1,0,0,"杂货商店"]
[null,30261,"破空战盔",2,5,80,"61#80","60090#1",1,"14|0#0#0#1250000",0,1,0,0,"杂货商店"]
[null,30262,"破空战靴",2,5,80,"61#80","60093#1",1,"14|0#0#0#1250000",0,1,0,0,"杂货商店"]
[null,30263,"断念神斧",2,5,80,"81#100","60100#1",1,"16|0#0#0#430",0,1,0,0,"杂货商店"]
[null,30264,"虬龙仙甲",2,5,80,"81#100","60125#1",1,"16|0#0#0#430",0,1,0,0,"杂货商店"]
[null,30265,"虬龙战盔",2,5,80,"81#100","60135#1",1,"16|0#0#0#430",0,1,0,0,"杂货商店"]
[null,30266,"虬龙战靴",2,5,80,"81#100","60140#1",1,"16|0#0#0#430",0,1,0,0,"杂货商店"]
[null,30267,"断念神斧",2,5,80,"81#100","60100#1",1,"14|0#0#0#2150000",0,1,0,0,"杂货商店"]
[null,30268,"虬龙仙甲",2,5,80,"81#100","60125#1",1,"14|0#0#0#2150000",0,1,0,0,"杂货商店"]
[null,30269,"虬龙战盔",2,5,80,"81#100","60135#1",1,"14|0#0#0#2150000",0,1,0,0,"杂货商店"]
[null,30270,"虬龙战靴",2,5,80,"81#100","60140#1",1,"14|0#0#0#2150000",0,1,0,0,"杂货商店"]
[null,30271,"斩尘神斧",2,5,80,"101#120","60101#1",1,"16|0#0#0#730",0,1,0,0,"杂货商店"]
[null,30272,"神凰羽衣",2,5,80,"101#120","60126#1",1,"16|0#0#0#730",0,1,0,0,"杂货商店"]
[null,30273,"神凰战盔",2,5,80,"101#120","60136#1",1,"16|0#0#0#730",0,1,0,0,"杂货商店"]
[null,30274,"神凰战靴",2,5,80,"101#120","60141#1",1,"16|0#0#0#730",0,1,0,0,"杂货商店"]
[null,30275,"斩尘神斧",2,5,80,"101#120","60101#1",1,"14|0#0#0#3650000",0,1,0,0,"杂货商店"]
[null,30276,"神凰羽衣",2,5,80,"101#120","60126#1",1,"14|0#0#0#3650000",0,1,0,0,"杂货商店"]
[null,30277,"神凰战盔",2,5,80,"101#120","60136#1",1,"14|0#0#0#3650000",0,1,0,0,"杂货商店"]
[null,30278,"神凰战靴",2,5,80,"101#120","60141#1",1,"14|0#0#0#3650000",0,1,0,0,"杂货商店"]
[null,30279,"凝墨神斧",2,5,80,"121#140","60102#1",1,"16|0#0#0#1250",0,1,0,0,"杂货商店"]
[null,30280,"饕餮战衣",2,5,80,"121#140","60127#1",1,"16|0#0#0#1250",0,1,0,0,"杂货商店"]
[null,30281,"饕餮战盔",2,5,80,"121#140","60137#1",1,"16|0#0#0#1250",0,1,0,0,"杂货商店"]
[null,30282,"饕餮战靴",2,5,80,"121#140","60142#1",1,"16|0#0#0#1250",0,1,0,0,"杂货商店"]
[null,30283,"凝墨神斧",2,5,80,"121#140","60102#1",1,"14|0#0#0#6250000",0,1,0,0,"杂货商店"]
[null,30284,"饕餮战衣",2,5,80,"121#140","60127#1",1,"14|0#0#0#6250000",0,1,0,0,"杂货商店"]
[null,30285,"饕餮战盔",2,5,80,"121#140","60137#1",1,"14|0#0#0#6250000",0,1,0,0,"杂货商店"]
[null,30286,"饕餮战靴",2,5,80,"121#140","60142#1",1,"14|0#0#0#6250000",0,1,0,0,"杂货商店"]
[null,30287,"碎弦神斧",2,5,80,"141#999","60103#1",1,"16|0#0#0#2150",0,1,0,0,"杂货商店"]
[null,30288,"微澜羽衣",2,5,80,"141#999","60128#1",1,"16|0#0#0#2150",0,1,0,0,"杂货商店"]
[null,30289,"微澜战盔",2,5,80,"141#999","60138#1",1,"16|0#0#0#2150",0,1,0,0,"杂货商店"]
[null,30290,"无垠战靴",2,5,80,"141#999","60144#1",1,"16|0#0#0#2150",0,1,0,0,"杂货商店"]
[null,30319,"挑战券",2,6,80,"1#441","23#1",1,"14|0#0#0#100000",0,1,1,1,"杂货商店"]
[null,30320,"挑战券",2,6,100,"1#442","23#1",1,"16|0#0#0#20",0,1,1,7,"杂货商店"]
[null,30321,"普通抽",2,6,100,"1#443","91#1",1,"14|0#0#0#250000",0,1,1,1,"杂货商店"]
[null,30322,"九转金丹",2,6,100,"1#444","4#100",1,"16|0#0#0#100",0,1,0,0,"杂货商店"]
[null,30323,"九转金丹",2,6,80,"1#445","4#100",1,"14|0#0#0#500000",0,1,1,2,"杂货商店"]
[null,30324,"点将神符",2,6,100,"1#446","19#1",1,"16|0#0#0#250",0,1,1,6,"杂货商店"]
[null,30325,"幸运探宝券",2,6,100,"1#447","60#1",1,"14|0#0#0#250000",0,1,1,1,"杂货商店"]
[null,30326,"幸运探宝券",2,6,100,"1#448","60#10",1,"16|0#0#0#500",0,1,1,6,"杂货商店"]
[null,30327,"成长护符",2,6,100,"1#449","3#100000",1,"16|0#0#0#100",0,1,0,0,"杂货商店"]
[null,30328,"成长护符",2,6,100,"1#450","3#50000",1,"16|0#0#0#50",0,1,0,0,"杂货商店"]
[null,30329,"成长护符",2,6,80,"1#451","3#100000",1,"14|0#0#0#500000",0,1,0,0,"杂货商店"]
[null,30330,"成长护符",2,6,100,"1#452","3#20000",1,"16|0#0#0#20",0,1,0,0,"杂货商店"]
[null,30331,"成长护符",2,6,80,"1#453","3#50000",1,"14|0#0#0#250000",0,1,0,0,"杂货商店"]
[null,30332,"成长护符",2,6,80,"1#454","3#20000",1,"14|0#0#0#100000",0,1,0,0,"杂货商店"]
[null,40001,"嫦娥魂印",14,1,100,"1#300","5000001#1",1,"66|0#0#0#800",null,1,0,0,"魂印商店"]
[null,40002,"申公豹魂印",14,1,100,"1#300","5000002#1",1,"66|0#0#0#800",null,1,0,0,"魂印商店"]
[null,40003,"普贤菩萨魂印",14,1,100,"1#300","5000003#1",1,"66|0#0#0#800",null,1,0,0,"魂印商店"]
[null,40004,"达摩魂印",14,1,100,"1#300","5000004#1",1,"66|0#0#0#800",null,1,0,0,"魂印商店"]
[null,40005,"红孩儿魂印",14,1,100,"1#300","5000005#1",1,"66|0#0#0#800",null,1,0,0,"魂印商店"]
[null,40006,"混世魔王魂印",14,1,100,"1#300","5000006#1",1,"66|0#0#0#800",null,1,0,0,"魂印商店"]
[null,40007,"吴刚魂印",14,1,100,"1#300","5000007#1",1,"66|0#0#0#800",null,1,0,0,"魂印商店"]
[null,40008,"金翅大鹏魂印",14,1,100,"1#300","5000008#1",1,"66|0#0#0#800",null,1,0,0,"魂印商店"]
[null,40009,"妲己魂印",14,1,20,"1#300","5000009#1",1,"66|0#0#0#3000",null,1,0,0,"魂印商店"]
[null,40010,"猪八戒魂印",14,1,20,"1#300","5000010#1",1,"66|0#0#0#3000",null,1,0,0,"魂印商店"]
[null,40011,"伏羲魂印",14,1,20,"1#300","5000011#1",1,"66|0#0#0#3000",null,1,0,0,"魂印商店"]
[null,40012,"精卫魂印",14,1,20,"1#300","5000012#1",1,"66|0#0#0#3000",null,1,0,0,"魂印商店"]
[null,40013,"百花仙子魂印",14,1,20,"1#300","5000013#1",1,"66|0#0#0#3000",null,1,0,0,"魂印商店"]
[null,40014,"唐僧魂印",14,1,20,"1#300","5000014#1",1,"66|0#0#0#3000",null,1,0,0,"魂印商店"]
[null,40015,"九天玄女魂印",14,1,20,"1#300","5000015#1",1,"66|0#0#0#3000",null,1,0,0,"魂印商店"]
[null,40016,"孙悟空魂印",14,1,20,"1#300","5000016#1",1,"66|0#0#0#3000",null,1,0,0,"魂印商店"]
[null,40017,"降龙罗汉魂印",14,1,20,"1#300","5000017#1",1,"66|0#0#0#3000",null,1,0,0,"魂印商店"]
[null,40018,"孔雀明王魂印",14,1,20,"1#300","5000018#1",1,"66|0#0#0#3000",null,1,0,0,"魂印商店"]
[null,40019,"燃灯魂印",14,1,20,"1#300","5000019#1",1,"66|0#0#0#3000",null,1,0,0,"魂印商店"]
[null,40020,"月光菩萨魂印",14,1,20,"1#300","5000020#1",1,"66|0#0#0#3000",null,1,0,0,"魂印商店"]
[null,40021,"龙吉公主魂印",14,1,20,"1#300","5000021#1",1,"66|0#0#0#3000",null,1,0,0,"魂印商店"]
[null,40022,"九命猫魂印",14,1,20,"1#300","5000022#1",1,"66|0#0#0#3000",null,1,0,0,"魂印商店"]
[null,40023,"蚩尤魂印",14,1,20,"1#300","5000023#1",1,"66|0#0#0#3000",null,1,0,0,"魂印商店"]
[null,40024,"妈祖魂印",14,1,20,"1#300","5000024#1",1,"66|0#0#0#3000",null,1,0,0,"魂印商店"]
[null,40025,"娥皇魂印",14,1,20,"1#300","5000025#1",1,"66|0#0#0#3000",null,1,0,0,"魂印商店"]
[null,40026,"冥毒邪宴魂印",14,1,20,"1#300","5000026#1",1,"66|0#0#0#3000",null,1,0,0,"魂印商店"]
[null,40027,"太阴星君魂印",14,1,20,"1#300","5000027#1",1,"66|0#0#0#3000",null,1,0,0,"魂印商店"]
[null,40028,"巨灵神魂印",14,1,20,"1#300","5000028#1",1,"66|0#0#0#3000",null,1,0,0,"魂印商店"]
[null,40029,"通天教主魂印",14,1,20,"1#300","5000029#1",1,"66|0#0#0#3000",null,1,0,0,"魂印商店"]
[null,40030,"罗刹魂印",14,1,20,"1#300","5000030#1",1,"66|0#0#0#3000",null,1,0,0,"魂印商店"]
[null,40031,"夜叉魂印",14,1,20,"1#300","5000031#1",1,"66|0#0#0#3000",null,1,0,0,"魂印商店"]
[null,40032,"帝释天魂印",14,1,20,"1#300","5000032#1",1,"66|0#0#0#3000",null,1,0,0,"魂印商店"]
[null,40033,"瘟癀疫病魂印",14,1,3,"1#300","5000033#1",1,"66|0#0#0#10000",null,1,0,0,"魂印商店"]
[null,40034,"蚀骨火毒魂印",14,1,3,"1#300","5000034#1",1,"66|0#0#0#10000",null,1,0,0,"魂印商店"]
[null,40035,"神女庇佑魂印",14,1,3,"1#300","5000035#1",1,"66|0#0#0#10000",null,1,0,0,"魂印商店"]
[null,40036,"姑获鸟魂印",14,1,3,"1#300","5000036#1",1,"66|0#0#0#10000",null,1,0,0,"魂印商店"]
[null,40037,"敖丙魂印",14,1,3,"1#300","5000037#1",1,"66|0#0#0#10000",null,1,0,0,"魂印商店"]
[null,40038,"义结金兰魂印",14,1,3,"1#300","5000038#1",1,"66|0#0#0#10000",null,1,0,0,"魂印商店"]
[null,40039,"青鸟传信魂印",14,1,3,"1#300","5000039#1",1,"66|0#0#0#10000",null,1,0,0,"魂印商店"]
[null,40040,"火烧连城魂印",14,1,3,"1#300","5000040#1",1,"66|0#0#0#10000",null,1,0,0,"魂印商店"]
[null,40041,"破邪怒斩魂印",14,1,3,"1#300","5000041#1",1,"66|0#0#0#10000",null,1,0,0,"魂印商店"]
[null,40042,"狂噬戮兽魂印",14,1,3,"1#300","5000042#1",1,"66|0#0#0#10000",null,1,0,0,"魂印商店"]
[null,40043,"哪吒魂印",14,1,3,"1#300","5000043#1",1,"66|0#0#0#10000",null,1,0,0,"魂印商店"]
[null,40044,"失心暴怒魂印",14,1,3,"1#300","5000044#1",1,"66|0#0#0#10000",null,1,0,0,"魂印商店"]
[null,40045,"起死回生魂印",14,1,3,"1#300","5000045#1",1,"66|0#0#0#10000",null,1,0,0,"魂印商店"]
[null,40046,"破军魂印",14,1,3,"1#300","5000046#1",1,"66|0#0#0#10000",null,1,0,0,"魂印商店"]
[null,40047,"辟邪守护魂印",14,1,3,"1#300","5000047#1",1,"66|0#0#0#10000",null,1,0,0,"魂印商店"]
[null,40048,"嫦娥魂印",14,1,100,"1#300","5000001#1",1,"16|0#0#0#800",null,1,1,8,"魂印商店"]
[null,40049,"申公豹魂印",14,1,100,"1#300","5000002#1",1,"16|0#0#0#800",null,1,1,8,"魂印商店"]
[null,40050,"普贤菩萨魂印",14,1,100,"1#300","5000003#1",1,"16|0#0#0#800",null,1,1,8,"魂印商店"]
[null,40051,"达摩魂印",14,1,100,"1#300","5000004#1",1,"16|0#0#0#800",null,1,1,8,"魂印商店"]
[null,40052,"红孩儿魂印",14,1,100,"1#300","5000005#1",1,"16|0#0#0#800",null,1,1,8,"魂印商店"]
[null,40053,"混世魔王魂印",14,1,100,"1#300","5000006#1",1,"16|0#0#0#800",null,1,1,8,"魂印商店"]
[null,40054,"吴刚魂印",14,1,100,"1#300","5000007#1",1,"16|0#0#0#800",null,1,1,8,"魂印商店"]
[null,40055,"金翅大鹏魂印",14,1,100,"1#300","5000008#1",1,"16|0#0#0#800",null,1,1,8,"魂印商店"]
[null,40056,"妲己魂印",14,1,20,"1#300","5000009#1",1,"16|0#0#0#3000",null,1,1,8,"魂印商店"]
[null,40057,"猪八戒魂印",14,1,20,"1#300","5000010#1",1,"16|0#0#0#3000",null,1,1,8,"魂印商店"]
[null,40058,"伏羲魂印",14,1,20,"1#300","5000011#1",1,"16|0#0#0#3000",null,1,1,8,"魂印商店"]
[null,40059,"精卫魂印",14,1,20,"1#300","5000012#1",1,"16|0#0#0#3000",null,1,1,8,"魂印商店"]
[null,40060,"百花仙子魂印",14,1,20,"1#300","5000013#1",1,"16|0#0#0#3000",null,1,1,8,"魂印商店"]
[null,40061,"唐僧魂印",14,1,20,"1#300","5000014#1",1,"16|0#0#0#3000",null,1,1,8,"魂印商店"]
[null,40062,"九天玄女魂印",14,1,20,"1#300","5000015#1",1,"16|0#0#0#3000",null,1,1,8,"魂印商店"]
[null,40063,"孙悟空魂印",14,1,20,"1#300","5000016#1",1,"16|0#0#0#3000",null,1,1,8,"魂印商店"]
[null,40064,"降龙罗汉魂印",14,1,20,"1#300","5000017#1",1,"16|0#0#0#3000",null,1,1,8,"魂印商店"]
[null,40065,"孔雀明王魂印",14,1,20,"1#300","5000018#1",1,"16|0#0#0#3000",null,1,1,8,"魂印商店"]
[null,40066,"燃灯魂印",14,1,20,"1#300","5000019#1",1,"16|0#0#0#3000",null,1,1,8,"魂印商店"]
[null,40067,"月光菩萨魂印",14,1,20,"1#300","5000020#1",1,"16|0#0#0#3000",null,1,1,8,"魂印商店"]
[null,40068,"龙吉公主魂印",14,1,20,"1#300","5000021#1",1,"16|0#0#0#3000",null,1,1,8,"魂印商店"]
[null,40069,"九命猫魂印",14,1,20,"1#300","5000022#1",1,"16|0#0#0#3000",null,1,1,8,"魂印商店"]
[null,40070,"蚩尤魂印",14,1,20,"1#300","5000023#1",1,"16|0#0#0#3000",null,1,1,8,"魂印商店"]
[null,40071,"妈祖魂印",14,1,20,"1#300","5000024#1",1,"16|0#0#0#3000",null,1,1,8,"魂印商店"]
[null,40072,"娥皇魂印",14,1,20,"1#300","5000025#1",1,"16|0#0#0#3000",null,1,1,8,"魂印商店"]
[null,40073,"冥毒邪宴魂印",14,1,20,"1#300","5000026#1",1,"16|0#0#0#3000",null,1,1,8,"魂印商店"]
[null,40074,"太阴星君魂印",14,1,20,"1#300","5000027#1",1,"16|0#0#0#3000",null,1,1,8,"魂印商店"]
[null,40075,"巨灵神魂印",14,1,20,"1#300","5000028#1",1,"16|0#0#0#3000",null,1,1,8,"魂印商店"]
[null,40076,"通天教主魂印",14,1,20,"1#300","5000029#1",1,"16|0#0#0#3000",null,1,1,8,"魂印商店"]
[null,40077,"罗刹魂印",14,1,20,"1#300","5000030#1",1,"16|0#0#0#3000",null,1,1,8,"魂印商店"]
[null,40078,"夜叉魂印",14,1,20,"1#300","5000031#1",1,"16|0#0#0#3000",null,1,1,8,"魂印商店"]
[null,40079,"帝释天魂印",14,1,20,"1#300","5000032#1",1,"16|0#0#0#3000",null,1,1,8,"魂印商店"]
[null,40080,"瘟癀疫病魂印",14,1,2,"1#300","5000033#1",1,"16|0#0#0#10000",null,1,1,8,"魂印商店"]
[null,40081,"蚀骨火毒魂印",14,1,2,"1#300","5000034#1",1,"16|0#0#0#10000",null,1,1,8,"魂印商店"]
[null,40082,"神女庇佑魂印",14,1,2,"1#300","5000035#1",1,"16|0#0#0#10000",null,1,1,8,"魂印商店"]
[null,40083,"姑获鸟魂印",14,1,2,"1#300","5000036#1",1,"16|0#0#0#10000",null,1,1,8,"魂印商店"]
[null,40084,"敖丙魂印",14,1,2,"1#300","5000037#1",1,"16|0#0#0#10000",null,1,1,8,"魂印商店"]
[null,40085,"义结金兰魂印",14,1,2,"1#300","5000038#1",1,"16|0#0#0#10000",null,1,1,8,"魂印商店"]
[null,40086,"青鸟传信魂印",14,1,2,"1#300","5000039#1",1,"16|0#0#0#10000",null,1,1,8,"魂印商店"]
[null,40087,"火烧连城魂印",14,1,2,"1#300","5000040#1",1,"16|0#0#0#10000",null,1,1,8,"魂印商店"]
[null,40088,"破邪怒斩魂印",14,1,2,"1#300","5000041#1",1,"16|0#0#0#10000",null,1,1,8,"魂印商店"]
[null,40089,"狂噬戮兽魂印",14,1,2,"1#300","5000042#1",1,"16|0#0#0#10000",null,1,1,8,"魂印商店"]
[null,40090,"哪吒魂印",14,1,2,"1#300","5000043#1",1,"16|0#0#0#10000",null,1,1,8,"魂印商店"]
[null,40091,"失心暴怒魂印",14,1,2,"1#300","5000044#1",1,"16|0#0#0#10000",null,1,1,8,"魂印商店"]
[null,40092,"起死回生魂印",14,1,2,"1#300","5000045#1",1,"16|0#0#0#10000",null,1,1,8,"魂印商店"]
[null,40093,"破军魂印",14,1,2,"1#300","5000046#1",1,"16|0#0#0#10000",null,1,1,8,"魂印商店"]
[null,40094,"辟邪守护魂印",14,1,2,"1#300","5000047#1",1,"16|0#0#0#10000",null,1,1,8,"魂印商店"]
[null,40095,"嫦娥魂印",14,2,100,"1#300","5000001#1",1,"66|0#0#0#800",null,1,0,0,"魂印商店"]
[null,40096,"申公豹魂印",14,2,100,"1#300","5000002#1",1,"66|0#0#0#800",null,1,0,0,"魂印商店"]
[null,40097,"普贤菩萨魂印",14,2,100,"1#300","5000003#1",1,"66|0#0#0#800",null,1,0,0,"魂印商店"]
[null,40098,"达摩魂印",14,2,100,"1#300","5000004#1",1,"66|0#0#0#800",null,1,0,0,"魂印商店"]
[null,40099,"红孩儿魂印",14,2,100,"1#300","5000005#1",1,"66|0#0#0#800",null,1,0,0,"魂印商店"]
[null,40100,"混世魔王魂印",14,2,100,"1#300","5000006#1",1,"66|0#0#0#800",null,1,0,0,"魂印商店"]
[null,40101,"吴刚魂印",14,2,100,"1#300","5000007#1",1,"66|0#0#0#800",null,1,0,0,"魂印商店"]
[null,40102,"金翅大鹏魂印",14,2,100,"1#300","5000008#1",1,"66|0#0#0#800",null,1,0,0,"魂印商店"]
[null,40103,"妲己魂印",14,2,20,"1#300","5000009#1",1,"66|0#0#0#3000",null,1,0,0,"魂印商店"]
[null,40104,"猪八戒魂印",14,2,20,"1#300","5000010#1",1,"66|0#0#0#3000",null,1,0,0,"魂印商店"]
[null,40105,"伏羲魂印",14,2,20,"1#300","5000011#1",1,"66|0#0#0#3000",null,1,0,0,"魂印商店"]
[null,40106,"精卫魂印",14,2,20,"1#300","5000012#1",1,"66|0#0#0#3000",null,1,0,0,"魂印商店"]
[null,40107,"百花仙子魂印",14,2,20,"1#300","5000013#1",1,"66|0#0#0#3000",null,1,0,0,"魂印商店"]
[null,40108,"唐僧魂印",14,2,20,"1#300","5000014#1",1,"66|0#0#0#3000",null,1,0,0,"魂印商店"]
[null,40109,"九天玄女魂印",14,2,20,"1#300","5000015#1",1,"66|0#0#0#3000",null,1,0,0,"魂印商店"]
[null,40110,"孙悟空魂印",14,2,20,"1#300","5000016#1",1,"66|0#0#0#3000",null,1,0,0,"魂印商店"]
[null,40111,"降龙罗汉魂印",14,2,20,"1#300","5000017#1",1,"66|0#0#0#3000",null,1,0,0,"魂印商店"]
[null,40112,"孔雀明王魂印",14,2,20,"1#300","5000018#1",1,"66|0#0#0#3000",null,1,0,0,"魂印商店"]
[null,40113,"燃灯魂印",14,2,20,"1#300","5000019#1",1,"66|0#0#0#3000",null,1,0,0,"魂印商店"]
[null,40114,"月光菩萨魂印",14,2,20,"1#300","5000020#1",1,"66|0#0#0#3000",null,1,0,0,"魂印商店"]
[null,40115,"龙吉公主魂印",14,2,20,"1#300","5000021#1",1,"66|0#0#0#3000",null,1,0,0,"魂印商店"]
[null,40116,"九命猫魂印",14,2,20,"1#300","5000022#1",1,"66|0#0#0#3000",null,1,0,0,"魂印商店"]
[null,40117,"蚩尤魂印",14,2,20,"1#300","5000023#1",1,"66|0#0#0#3000",null,1,0,0,"魂印商店"]
[null,40118,"妈祖魂印",14,2,20,"1#300","5000024#1",1,"66|0#0#0#3000",null,1,0,0,"魂印商店"]
[null,40119,"娥皇魂印",14,2,20,"1#300","5000025#1",1,"66|0#0#0#3000",null,1,0,0,"魂印商店"]
[null,40120,"冥毒邪宴魂印",14,2,20,"1#300","5000026#1",1,"66|0#0#0#3000",null,1,0,0,"魂印商店"]
[null,40121,"太阴星君魂印",14,2,20,"1#300","5000027#1",1,"66|0#0#0#3000",null,1,0,0,"魂印商店"]
[null,40122,"巨灵神魂印",14,2,20,"1#300","5000028#1",1,"66|0#0#0#3000",null,1,0,0,"魂印商店"]
[null,40123,"通天教主魂印",14,2,20,"1#300","5000029#1",1,"66|0#0#0#3000",null,1,0,0,"魂印商店"]
[null,40124,"罗刹魂印",14,2,20,"1#300","5000030#1",1,"66|0#0#0#3000",null,1,0,0,"魂印商店"]
[null,40125,"夜叉魂印",14,2,20,"1#300","5000031#1",1,"66|0#0#0#3000",null,1,0,0,"魂印商店"]
[null,40126,"帝释天魂印",14,2,20,"1#300","5000032#1",1,"66|0#0#0#3000",null,1,0,0,"魂印商店"]
[null,40127,"瘟癀疫病魂印",14,2,3,"1#300","5000033#1",1,"66|0#0#0#10000",null,1,0,0,"魂印商店"]
[null,40128,"蚀骨火毒魂印",14,2,3,"1#300","5000034#1",1,"66|0#0#0#10000",null,1,0,0,"魂印商店"]
[null,40129,"神女庇佑魂印",14,2,3,"1#300","5000035#1",1,"66|0#0#0#10000",null,1,0,0,"魂印商店"]
[null,40130,"姑获鸟魂印",14,2,3,"1#300","5000036#1",1,"66|0#0#0#10000",null,1,0,0,"魂印商店"]
[null,40131,"敖丙魂印",14,2,3,"1#300","5000037#1",1,"66|0#0#0#10000",null,1,0,0,"魂印商店"]
[null,40132,"义结金兰魂印",14,2,3,"1#300","5000038#1",1,"66|0#0#0#10000",null,1,0,0,"魂印商店"]
[null,40133,"青鸟传信魂印",14,2,3,"1#300","5000039#1",1,"66|0#0#0#10000",null,1,0,0,"魂印商店"]
[null,40134,"火烧连城魂印",14,2,3,"1#300","5000040#1",1,"66|0#0#0#10000",null,1,0,0,"魂印商店"]
[null,40135,"破邪怒斩魂印",14,2,3,"1#300","5000041#1",1,"66|0#0#0#10000",null,1,0,0,"魂印商店"]
[null,40136,"狂噬戮兽魂印",14,2,3,"1#300","5000042#1",1,"66|0#0#0#10000",null,1,0,0,"魂印商店"]
[null,40137,"哪吒魂印",14,2,3,"1#300","5000043#1",1,"66|0#0#0#10000",null,1,0,0,"魂印商店"]
[null,40138,"失心暴怒魂印",14,2,3,"1#300","5000044#1",1,"66|0#0#0#10000",null,1,0,0,"魂印商店"]
[null,40139,"起死回生魂印",14,2,3,"1#300","5000045#1",1,"66|0#0#0#10000",null,1,0,0,"魂印商店"]
[null,40140,"破军魂印",14,2,3,"1#300","5000046#1",1,"66|0#0#0#10000",null,1,0,0,"魂印商店"]
[null,40141,"辟邪守护魂印",14,2,3,"1#300","5000047#1",1,"66|0#0#0#10000",null,1,0,0,"魂印商店"]
[null,40142,"嫦娥魂印",14,2,100,"1#300","5000001#1",1,"16|0#0#0#800",null,1,1,8,"魂印商店"]
[null,40143,"申公豹魂印",14,2,100,"1#300","5000002#1",1,"16|0#0#0#800",null,1,1,8,"魂印商店"]
[null,40144,"普贤菩萨魂印",14,2,100,"1#300","5000003#1",1,"16|0#0#0#800",null,1,1,8,"魂印商店"]
[null,40145,"达摩魂印",14,2,100,"1#300","5000004#1",1,"16|0#0#0#800",null,1,1,8,"魂印商店"]
[null,40146,"红孩儿魂印",14,2,100,"1#300","5000005#1",1,"16|0#0#0#800",null,1,1,8,"魂印商店"]
[null,40147,"混世魔王魂印",14,2,100,"1#300","5000006#1",1,"16|0#0#0#800",null,1,1,8,"魂印商店"]
[null,40148,"吴刚魂印",14,2,100,"1#300","5000007#1",1,"16|0#0#0#800",null,1,1,8,"魂印商店"]
[null,40149,"金翅大鹏魂印",14,2,100,"1#300","5000008#1",1,"16|0#0#0#800",null,1,1,8,"魂印商店"]
[null,40150,"妲己魂印",14,2,20,"1#300","5000009#1",1,"16|0#0#0#3000",null,1,1,8,"魂印商店"]
[null,40151,"猪八戒魂印",14,2,20,"1#300","5000010#1",1,"16|0#0#0#3000",null,1,1,8,"魂印商店"]
[null,40152,"伏羲魂印",14,2,20,"1#300","5000011#1",1,"16|0#0#0#3000",null,1,1,8,"魂印商店"]
[null,40153,"精卫魂印",14,2,20,"1#300","5000012#1",1,"16|0#0#0#3000",null,1,1,8,"魂印商店"]
[null,40154,"百花仙子魂印",14,2,20,"1#300","5000013#1",1,"16|0#0#0#3000",null,1,1,8,"魂印商店"]
[null,40155,"唐僧魂印",14,2,20,"1#300","5000014#1",1,"16|0#0#0#3000",null,1,1,8,"魂印商店"]
[null,40156,"九天玄女魂印",14,2,20,"1#300","5000015#1",1,"16|0#0#0#3000",null,1,1,8,"魂印商店"]
[null,40157,"孙悟空魂印",14,2,20,"1#300","5000016#1",1,"16|0#0#0#3000",null,1,1,8,"魂印商店"]
[null,40158,"降龙罗汉魂印",14,2,20,"1#300","5000017#1",1,"16|0#0#0#3000",null,1,1,8,"魂印商店"]
[null,40159,"孔雀明王魂印",14,2,20,"1#300","5000018#1",1,"16|0#0#0#3000",null,1,1,8,"魂印商店"]
[null,40160,"燃灯魂印",14,2,20,"1#300","5000019#1",1,"16|0#0#0#3000",null,1,1,8,"魂印商店"]
[null,40161,"月光菩萨魂印",14,2,20,"1#300","5000020#1",1,"16|0#0#0#3000",null,1,1,8,"魂印商店"]
[null,40162,"龙吉公主魂印",14,2,20,"1#300","5000021#1",1,"16|0#0#0#3000",null,1,1,8,"魂印商店"]
[null,40163,"九命猫魂印",14,2,20,"1#300","5000022#1",1,"16|0#0#0#3000",null,1,1,8,"魂印商店"]
[null,40164,"蚩尤魂印",14,2,20,"1#300","5000023#1",1,"16|0#0#0#3000",null,1,1,8,"魂印商店"]
[null,40165,"妈祖魂印",14,2,20,"1#300","5000024#1",1,"16|0#0#0#3000",null,1,1,8,"魂印商店"]
[null,40166,"娥皇魂印",14,2,20,"1#300","5000025#1",1,"16|0#0#0#3000",null,1,1,8,"魂印商店"]
[null,40167,"冥毒邪宴魂印",14,2,20,"1#300","5000026#1",1,"16|0#0#0#3000",null,1,1,8,"魂印商店"]
[null,40168,"太阴星君魂印",14,2,20,"1#300","5000027#1",1,"16|0#0#0#3000",null,1,1,8,"魂印商店"]
[null,40169,"巨灵神魂印",14,2,20,"1#300","5000028#1",1,"16|0#0#0#3000",null,1,1,8,"魂印商店"]
[null,40170,"通天教主魂印",14,2,20,"1#300","5000029#1",1,"16|0#0#0#3000",null,1,1,8,"魂印商店"]
[null,40171,"罗刹魂印",14,2,20,"1#300","5000030#1",1,"16|0#0#0#3000",null,1,1,8,"魂印商店"]
[null,40172,"夜叉魂印",14,2,20,"1#300","5000031#1",1,"16|0#0#0#3000",null,1,1,8,"魂印商店"]
[null,40173,"帝释天魂印",14,2,20,"1#300","5000032#1",1,"16|0#0#0#3000",null,1,1,8,"魂印商店"]
[null,40174,"瘟癀疫病魂印",14,2,2,"1#300","5000033#1",1,"16|0#0#0#10000",null,1,1,8,"魂印商店"]
[null,40175,"蚀骨火毒魂印",14,2,2,"1#300","5000034#1",1,"16|0#0#0#10000",null,1,1,8,"魂印商店"]
[null,40176,"神女庇佑魂印",14,2,2,"1#300","5000035#1",1,"16|0#0#0#10000",null,1,1,8,"魂印商店"]
[null,40177,"姑获鸟魂印",14,2,2,"1#300","5000036#1",1,"16|0#0#0#10000",null,1,1,8,"魂印商店"]
[null,40178,"敖丙魂印",14,2,2,"1#300","5000037#1",1,"16|0#0#0#10000",null,1,1,8,"魂印商店"]
[null,40179,"义结金兰魂印",14,2,2,"1#300","5000038#1",1,"16|0#0#0#10000",null,1,1,8,"魂印商店"]
[null,40180,"青鸟传信魂印",14,2,2,"1#300","5000039#1",1,"16|0#0#0#10000",null,1,1,8,"魂印商店"]
[null,40181,"火烧连城魂印",14,2,2,"1#300","5000040#1",1,"16|0#0#0#10000",null,1,1,8,"魂印商店"]
[null,40182,"破邪怒斩魂印",14,2,2,"1#300","5000041#1",1,"16|0#0#0#10000",null,1,1,8,"魂印商店"]
[null,40183,"狂噬戮兽魂印",14,2,2,"1#300","5000042#1",1,"16|0#0#0#10000",null,1,1,8,"魂印商店"]
[null,40184,"哪吒魂印",14,2,2,"1#300","5000043#1",1,"16|0#0#0#10000",null,1,1,8,"魂印商店"]
[null,40185,"失心暴怒魂印",14,2,2,"1#300","5000044#1",1,"16|0#0#0#10000",null,1,1,8,"魂印商店"]
[null,40186,"起死回生魂印",14,2,2,"1#300","5000045#1",1,"16|0#0#0#10000",null,1,1,8,"魂印商店"]
[null,40187,"破军魂印",14,2,2,"1#300","5000046#1",1,"16|0#0#0#10000",null,1,1,8,"魂印商店"]
[null,40188,"辟邪守护魂印",14,2,2,"1#300","5000047#1",1,"16|0#0#0#10000",null,1,1,8,"魂印商店"]
[null,40189,"嫦娥魂印",14,3,100,"1#300","5000001#1",1,"66|0#0#0#800",null,1,0,0,"魂印商店"]
[null,40190,"申公豹魂印",14,3,100,"1#300","5000002#1",1,"66|0#0#0#800",null,1,0,0,"魂印商店"]
[null,40191,"普贤菩萨魂印",14,3,100,"1#300","5000003#1",1,"66|0#0#0#800",null,1,0,0,"魂印商店"]
[null,40192,"达摩魂印",14,3,100,"1#300","5000004#1",1,"66|0#0#0#800",null,1,0,0,"魂印商店"]
[null,40193,"红孩儿魂印",14,3,100,"1#300","5000005#1",1,"66|0#0#0#800",null,1,0,0,"魂印商店"]
[null,40194,"混世魔王魂印",14,3,100,"1#300","5000006#1",1,"66|0#0#0#800",null,1,0,0,"魂印商店"]
[null,40195,"吴刚魂印",14,3,100,"1#300","5000007#1",1,"66|0#0#0#800",null,1,0,0,"魂印商店"]
[null,40196,"金翅大鹏魂印",14,3,100,"1#300","5000008#1",1,"66|0#0#0#800",null,1,0,0,"魂印商店"]
[null,40197,"妲己魂印",14,3,20,"1#300","5000009#1",1,"66|0#0#0#3000",null,1,0,0,"魂印商店"]
[null,40198,"猪八戒魂印",14,3,20,"1#300","5000010#1",1,"66|0#0#0#3000",null,1,0,0,"魂印商店"]
[null,40199,"伏羲魂印",14,3,20,"1#300","5000011#1",1,"66|0#0#0#3000",null,1,0,0,"魂印商店"]
[null,40200,"精卫魂印",14,3,20,"1#300","5000012#1",1,"66|0#0#0#3000",null,1,0,0,"魂印商店"]
[null,40201,"百花仙子魂印",14,3,20,"1#300","5000013#1",1,"66|0#0#0#3000",null,1,0,0,"魂印商店"]
[null,40202,"唐僧魂印",14,3,20,"1#300","5000014#1",1,"66|0#0#0#3000",null,1,0,0,"魂印商店"]
[null,40203,"九天玄女魂印",14,3,20,"1#300","5000015#1",1,"66|0#0#0#3000",null,1,0,0,"魂印商店"]
[null,40204,"孙悟空魂印",14,3,20,"1#300","5000016#1",1,"66|0#0#0#3000",null,1,0,0,"魂印商店"]
[null,40205,"降龙罗汉魂印",14,3,20,"1#300","5000017#1",1,"66|0#0#0#3000",null,1,0,0,"魂印商店"]
[null,40206,"孔雀明王魂印",14,3,20,"1#300","5000018#1",1,"66|0#0#0#3000",null,1,0,0,"魂印商店"]
[null,40207,"燃灯魂印",14,3,20,"1#300","5000019#1",1,"66|0#0#0#3000",null,1,0,0,"魂印商店"]
[null,40208,"月光菩萨魂印",14,3,20,"1#300","5000020#1",1,"66|0#0#0#3000",null,1,0,0,"魂印商店"]
[null,40209,"龙吉公主魂印",14,3,20,"1#300","5000021#1",1,"66|0#0#0#3000",null,1,0,0,"魂印商店"]
[null,40210,"九命猫魂印",14,3,20,"1#300","5000022#1",1,"66|0#0#0#3000",null,1,0,0,"魂印商店"]
[null,40211,"蚩尤魂印",14,3,20,"1#300","5000023#1",1,"66|0#0#0#3000",null,1,0,0,"魂印商店"]
[null,40212,"妈祖魂印",14,3,20,"1#300","5000024#1",1,"66|0#0#0#3000",null,1,0,0,"魂印商店"]
[null,40213,"娥皇魂印",14,3,20,"1#300","5000025#1",1,"66|0#0#0#3000",null,1,0,0,"魂印商店"]
[null,40214,"冥毒邪宴魂印",14,3,20,"1#300","5000026#1",1,"66|0#0#0#3000",null,1,0,0,"魂印商店"]
[null,40215,"太阴星君魂印",14,3,20,"1#300","5000027#1",1,"66|0#0#0#3000",null,1,0,0,"魂印商店"]
[null,40216,"巨灵神魂印",14,3,20,"1#300","5000028#1",1,"66|0#0#0#3000",null,1,0,0,"魂印商店"]
[null,40217,"通天教主魂印",14,3,20,"1#300","5000029#1",1,"66|0#0#0#3000",null,1,0,0,"魂印商店"]
[null,40218,"罗刹魂印",14,3,20,"1#300","5000030#1",1,"66|0#0#0#3000",null,1,0,0,"魂印商店"]
[null,40219,"夜叉魂印",14,3,20,"1#300","5000031#1",1,"66|0#0#0#3000",null,1,0,0,"魂印商店"]
[null,40220,"帝释天魂印",14,3,20,"1#300","5000032#1",1,"66|0#0#0#3000",null,1,0,0,"魂印商店"]
[null,40221,"瘟癀疫病魂印",14,3,3,"1#300","5000033#1",1,"66|0#0#0#10000",null,1,0,0,"魂印商店"]
[null,40222,"蚀骨火毒魂印",14,3,3,"1#300","5000034#1",1,"66|0#0#0#10000",null,1,0,0,"魂印商店"]
[null,40223,"神女庇佑魂印",14,3,3,"1#300","5000035#1",1,"66|0#0#0#10000",null,1,0,0,"魂印商店"]
[null,40224,"姑获鸟魂印",14,3,3,"1#300","5000036#1",1,"66|0#0#0#10000",null,1,0,0,"魂印商店"]
[null,40225,"敖丙魂印",14,3,3,"1#300","5000037#1",1,"66|0#0#0#10000",null,1,0,0,"魂印商店"]
[null,40226,"义结金兰魂印",14,3,3,"1#300","5000038#1",1,"66|0#0#0#10000",null,1,0,0,"魂印商店"]
[null,40227,"青鸟传信魂印",14,3,3,"1#300","5000039#1",1,"66|0#0#0#10000",null,1,0,0,"魂印商店"]
[null,40228,"火烧连城魂印",14,3,3,"1#300","5000040#1",1,"66|0#0#0#10000",null,1,0,0,"魂印商店"]
[null,40229,"破邪怒斩魂印",14,3,3,"1#300","5000041#1",1,"66|0#0#0#10000",null,1,0,0,"魂印商店"]
[null,40230,"狂噬戮兽魂印",14,3,3,"1#300","5000042#1",1,"66|0#0#0#10000",null,1,0,0,"魂印商店"]
[null,40231,"哪吒魂印",14,3,3,"1#300","5000043#1",1,"66|0#0#0#10000",null,1,0,0,"魂印商店"]
[null,40232,"失心暴怒魂印",14,3,3,"1#300","5000044#1",1,"66|0#0#0#10000",null,1,0,0,"魂印商店"]
[null,40233,"起死回生魂印",14,3,3,"1#300","5000045#1",1,"66|0#0#0#10000",null,1,0,0,"魂印商店"]
[null,40234,"破军魂印",14,3,3,"1#300","5000046#1",1,"66|0#0#0#10000",null,1,0,0,"魂印商店"]
[null,40235,"辟邪守护魂印",14,3,3,"1#300","5000047#1",1,"66|0#0#0#10000",null,1,0,0,"魂印商店"]
[null,40236,"嫦娥魂印",14,3,100,"1#300","5000001#1",1,"16|0#0#0#800",null,1,1,8,"魂印商店"]
[null,40237,"申公豹魂印",14,3,100,"1#300","5000002#1",1,"16|0#0#0#800",null,1,1,8,"魂印商店"]
[null,40238,"普贤菩萨魂印",14,3,100,"1#300","5000003#1",1,"16|0#0#0#800",null,1,1,8,"魂印商店"]
[null,40239,"达摩魂印",14,3,100,"1#300","5000004#1",1,"16|0#0#0#800",null,1,1,8,"魂印商店"]
[null,40240,"红孩儿魂印",14,3,100,"1#300","5000005#1",1,"16|0#0#0#800",null,1,1,8,"魂印商店"]
[null,40241,"混世魔王魂印",14,3,100,"1#300","5000006#1",1,"16|0#0#0#800",null,1,1,8,"魂印商店"]
[null,40242,"吴刚魂印",14,3,100,"1#300","5000007#1",1,"16|0#0#0#800",null,1,1,8,"魂印商店"]
[null,40243,"金翅大鹏魂印",14,3,100,"1#300","5000008#1",1,"16|0#0#0#800",null,1,1,8,"魂印商店"]
[null,40244,"妲己魂印",14,3,20,"1#300","5000009#1",1,"16|0#0#0#3000",null,1,1,8,"魂印商店"]
[null,40245,"猪八戒魂印",14,3,20,"1#300","5000010#1",1,"16|0#0#0#3000",null,1,1,8,"魂印商店"]
[null,40246,"伏羲魂印",14,3,20,"1#300","5000011#1",1,"16|0#0#0#3000",null,1,1,8,"魂印商店"]
[null,40247,"精卫魂印",14,3,20,"1#300","5000012#1",1,"16|0#0#0#3000",null,1,1,8,"魂印商店"]
[null,40248,"百花仙子魂印",14,3,20,"1#300","5000013#1",1,"16|0#0#0#3000",null,1,1,8,"魂印商店"]
[null,40249,"唐僧魂印",14,3,20,"1#300","5000014#1",1,"16|0#0#0#3000",null,1,1,8,"魂印商店"]
[null,40250,"九天玄女魂印",14,3,20,"1#300","5000015#1",1,"16|0#0#0#3000",null,1,1,8,"魂印商店"]
[null,40251,"孙悟空魂印",14,3,20,"1#300","5000016#1",1,"16|0#0#0#3000",null,1,1,8,"魂印商店"]
[null,40252,"降龙罗汉魂印",14,3,20,"1#300","5000017#1",1,"16|0#0#0#3000",null,1,1,8,"魂印商店"]
[null,40253,"孔雀明王魂印",14,3,20,"1#300","5000018#1",1,"16|0#0#0#3000",null,1,1,8,"魂印商店"]
[null,40254,"燃灯魂印",14,3,20,"1#300","5000019#1",1,"16|0#0#0#3000",null,1,1,8,"魂印商店"]
[null,40255,"月光菩萨魂印",14,3,20,"1#300","5000020#1",1,"16|0#0#0#3000",null,1,1,8,"魂印商店"]
[null,40256,"龙吉公主魂印",14,3,20,"1#300","5000021#1",1,"16|0#0#0#3000",null,1,1,8,"魂印商店"]
[null,40257,"九命猫魂印",14,3,20,"1#300","5000022#1",1,"16|0#0#0#3000",null,1,1,8,"魂印商店"]
[null,40258,"蚩尤魂印",14,3,20,"1#300","5000023#1",1,"16|0#0#0#3000",null,1,1,8,"魂印商店"]
[null,40259,"妈祖魂印",14,3,20,"1#300","5000024#1",1,"16|0#0#0#3000",null,1,1,8,"魂印商店"]
[null,40260,"娥皇魂印",14,3,20,"1#300","5000025#1",1,"16|0#0#0#3000",null,1,1,8,"魂印商店"]
[null,40261,"冥毒邪宴魂印",14,3,20,"1#300","5000026#1",1,"16|0#0#0#3000",null,1,1,8,"魂印商店"]
[null,40262,"太阴星君魂印",14,3,20,"1#300","5000027#1",1,"16|0#0#0#3000",null,1,1,8,"魂印商店"]
[null,40263,"巨灵神魂印",14,3,20,"1#300","5000028#1",1,"16|0#0#0#3000",null,1,1,8,"魂印商店"]
[null,40264,"通天教主魂印",14,3,20,"1#300","5000029#1",1,"16|0#0#0#3000",null,1,1,8,"魂印商店"]
[null,40265,"罗刹魂印",14,3,20,"1#300","5000030#1",1,"16|0#0#0#3000",null,1,1,8,"魂印商店"]
[null,40266,"夜叉魂印",14,3,20,"1#300","5000031#1",1,"16|0#0#0#3000",null,1,1,8,"魂印商店"]
[null,40267,"帝释天魂印",14,3,20,"1#300","5000032#1",1,"16|0#0#0#3000",null,1,1,8,"魂印商店"]
[null,40268,"瘟癀疫病魂印",14,3,2,"1#300","5000033#1",1,"16|0#0#0#10000",null,1,1,8,"魂印商店"]
[null,40269,"蚀骨火毒魂印",14,3,2,"1#300","5000034#1",1,"16|0#0#0#10000",null,1,1,8,"魂印商店"]
[null,40270,"神女庇佑魂印",14,3,2,"1#300","5000035#1",1,"16|0#0#0#10000",null,1,1,8,"魂印商店"]
[null,40271,"姑获鸟魂印",14,3,2,"1#300","5000036#1",1,"16|0#0#0#10000",null,1,1,8,"魂印商店"]
[null,40272,"敖丙魂印",14,3,2,"1#300","5000037#1",1,"16|0#0#0#10000",null,1,1,8,"魂印商店"]
[null,40273,"义结金兰魂印",14,3,2,"1#300","5000038#1",1,"16|0#0#0#10000",null,1,1,8,"魂印商店"]
[null,40274,"青鸟传信魂印",14,3,2,"1#300","5000039#1",1,"16|0#0#0#10000",null,1,1,8,"魂印商店"]
[null,40275,"火烧连城魂印",14,3,2,"1#300","5000040#1",1,"16|0#0#0#10000",null,1,1,8,"魂印商店"]
[null,40276,"破邪怒斩魂印",14,3,2,"1#300","5000041#1",1,"16|0#0#0#10000",null,1,1,8,"魂印商店"]
[null,40277,"狂噬戮兽魂印",14,3,2,"1#300","5000042#1",1,"16|0#0#0#10000",null,1,1,8,"魂印商店"]
[null,40278,"哪吒魂印",14,3,2,"1#300","5000043#1",1,"16|0#0#0#10000",null,1,1,8,"魂印商店"]
[null,40279,"失心暴怒魂印",14,3,2,"1#300","5000044#1",1,"16|0#0#0#10000",null,1,1,8,"魂印商店"]
[null,40280,"起死回生魂印",14,3,2,"1#300","5000045#1",1,"16|0#0#0#10000",null,1,1,8,"魂印商店"]
[null,40281,"破军魂印",14,3,2,"1#300","5000046#1",1,"16|0#0#0#10000",null,1,1,8,"魂印商店"]
[null,40282,"辟邪守护魂印",14,3,2,"1#300","5000047#1",1,"16|0#0#0#10000",null,1,1,8,"魂印商店"]
[null,40283,"嫦娥魂印",14,4,100,"1#300","5000001#1",1,"66|0#0#0#800",null,1,0,0,"魂印商店"]
[null,40284,"申公豹魂印",14,4,100,"1#300","5000002#1",1,"66|0#0#0#800",null,1,0,0,"魂印商店"]
[null,40285,"普贤菩萨魂印",14,4,100,"1#300","5000003#1",1,"66|0#0#0#800",null,1,0,0,"魂印商店"]
[null,40286,"达摩魂印",14,4,100,"1#300","5000004#1",1,"66|0#0#0#800",null,1,0,0,"魂印商店"]
[null,40287,"红孩儿魂印",14,4,100,"1#300","5000005#1",1,"66|0#0#0#800",null,1,0,0,"魂印商店"]
[null,40288,"混世魔王魂印",14,4,100,"1#300","5000006#1",1,"66|0#0#0#800",null,1,0,0,"魂印商店"]
[null,40289,"吴刚魂印",14,4,100,"1#300","5000007#1",1,"66|0#0#0#800",null,1,0,0,"魂印商店"]
[null,40290,"金翅大鹏魂印",14,4,100,"1#300","5000008#1",1,"66|0#0#0#800",null,1,0,0,"魂印商店"]
[null,40291,"妲己魂印",14,4,20,"1#300","5000009#1",1,"66|0#0#0#3000",null,1,0,0,"魂印商店"]
[null,40292,"猪八戒魂印",14,4,20,"1#300","5000010#1",1,"66|0#0#0#3000",null,1,0,0,"魂印商店"]
[null,40293,"伏羲魂印",14,4,20,"1#300","5000011#1",1,"66|0#0#0#3000",null,1,0,0,"魂印商店"]
[null,40294,"精卫魂印",14,4,20,"1#300","5000012#1",1,"66|0#0#0#3000",null,1,0,0,"魂印商店"]
[null,40295,"百花仙子魂印",14,4,20,"1#300","5000013#1",1,"66|0#0#0#3000",null,1,0,0,"魂印商店"]
[null,40296,"唐僧魂印",14,4,20,"1#300","5000014#1",1,"66|0#0#0#3000",null,1,0,0,"魂印商店"]
[null,40297,"九天玄女魂印",14,4,20,"1#300","5000015#1",1,"66|0#0#0#3000",null,1,0,0,"魂印商店"]
[null,40298,"孙悟空魂印",14,4,20,"1#300","5000016#1",1,"66|0#0#0#3000",null,1,0,0,"魂印商店"]
[null,40299,"降龙罗汉魂印",14,4,20,"1#300","5000017#1",1,"66|0#0#0#3000",null,1,0,0,"魂印商店"]
[null,40300,"孔雀明王魂印",14,4,20,"1#300","5000018#1",1,"66|0#0#0#3000",null,1,0,0,"魂印商店"]
[null,40301,"燃灯魂印",14,4,20,"1#300","5000019#1",1,"66|0#0#0#3000",null,1,0,0,"魂印商店"]
[null,40302,"月光菩萨魂印",14,4,20,"1#300","5000020#1",1,"66|0#0#0#3000",null,1,0,0,"魂印商店"]
[null,40303,"龙吉公主魂印",14,4,20,"1#300","5000021#1",1,"66|0#0#0#3000",null,1,0,0,"魂印商店"]
[null,40304,"九命猫魂印",14,4,20,"1#300","5000022#1",1,"66|0#0#0#3000",null,1,0,0,"魂印商店"]
[null,40305,"蚩尤魂印",14,4,20,"1#300","5000023#1",1,"66|0#0#0#3000",null,1,0,0,"魂印商店"]
[null,40306,"妈祖魂印",14,4,20,"1#300","5000024#1",1,"66|0#0#0#3000",null,1,0,0,"魂印商店"]
[null,40307,"娥皇魂印",14,4,20,"1#300","5000025#1",1,"66|0#0#0#3000",null,1,0,0,"魂印商店"]
[null,40308,"冥毒邪宴魂印",14,4,20,"1#300","5000026#1",1,"66|0#0#0#3000",null,1,0,0,"魂印商店"]
[null,40309,"太阴星君魂印",14,4,20,"1#300","5000027#1",1,"66|0#0#0#3000",null,1,0,0,"魂印商店"]
[null,40310,"巨灵神魂印",14,4,20,"1#300","5000028#1",1,"66|0#0#0#3000",null,1,0,0,"魂印商店"]
[null,40311,"通天教主魂印",14,4,20,"1#300","5000029#1",1,"66|0#0#0#3000",null,1,0,0,"魂印商店"]
[null,40312,"罗刹魂印",14,4,20,"1#300","5000030#1",1,"66|0#0#0#3000",null,1,0,0,"魂印商店"]
[null,40313,"夜叉魂印",14,4,20,"1#300","5000031#1",1,"66|0#0#0#3000",null,1,0,0,"魂印商店"]
[null,40314,"帝释天魂印",14,4,20,"1#300","5000032#1",1,"66|0#0#0#3000",null,1,0,0,"魂印商店"]
[null,40315,"瘟癀疫病魂印",14,4,3,"1#300","5000033#1",1,"66|0#0#0#10000",null,1,0,0,"魂印商店"]
[null,40316,"蚀骨火毒魂印",14,4,3,"1#300","5000034#1",1,"66|0#0#0#10000",null,1,0,0,"魂印商店"]
[null,40317,"神女庇佑魂印",14,4,3,"1#300","5000035#1",1,"66|0#0#0#10000",null,1,0,0,"魂印商店"]
[null,40318,"姑获鸟魂印",14,4,3,"1#300","5000036#1",1,"66|0#0#0#10000",null,1,0,0,"魂印商店"]
[null,40319,"敖丙魂印",14,4,3,"1#300","5000037#1",1,"66|0#0#0#10000",null,1,0,0,"魂印商店"]
[null,40320,"义结金兰魂印",14,4,3,"1#300","5000038#1",1,"66|0#0#0#10000",null,1,0,0,"魂印商店"]
[null,40321,"青鸟传信魂印",14,4,3,"1#300","5000039#1",1,"66|0#0#0#10000",null,1,0,0,"魂印商店"]
[null,40322,"火烧连城魂印",14,4,3,"1#300","5000040#1",1,"66|0#0#0#10000",null,1,0,0,"魂印商店"]
[null,40323,"破邪怒斩魂印",14,4,3,"1#300","5000041#1",1,"66|0#0#0#10000",null,1,0,0,"魂印商店"]
[null,40324,"狂噬戮兽魂印",14,4,3,"1#300","5000042#1",1,"66|0#0#0#10000",null,1,0,0,"魂印商店"]
[null,40325,"哪吒魂印",14,4,3,"1#300","5000043#1",1,"66|0#0#0#10000",null,1,0,0,"魂印商店"]
[null,40326,"失心暴怒魂印",14,4,3,"1#300","5000044#1",1,"66|0#0#0#10000",null,1,0,0,"魂印商店"]
[null,40327,"起死回生魂印",14,4,3,"1#300","5000045#1",1,"66|0#0#0#10000",null,1,0,0,"魂印商店"]
[null,40328,"破军魂印",14,4,3,"1#300","5000046#1",1,"66|0#0#0#10000",null,1,0,0,"魂印商店"]
[null,40329,"辟邪守护魂印",14,4,3,"1#300","5000047#1",1,"66|0#0#0#10000",null,1,0,0,"魂印商店"]
[null,40330,"嫦娥魂印",14,4,100,"1#300","5000001#1",1,"16|0#0#0#800",null,1,1,8,"魂印商店"]
[null,40331,"申公豹魂印",14,4,100,"1#300","5000002#1",1,"16|0#0#0#800",null,1,1,8,"魂印商店"]
[null,40332,"普贤菩萨魂印",14,4,100,"1#300","5000003#1",1,"16|0#0#0#800",null,1,1,8,"魂印商店"]
[null,40333,"达摩魂印",14,4,100,"1#300","5000004#1",1,"16|0#0#0#800",null,1,1,8,"魂印商店"]
[null,40334,"红孩儿魂印",14,4,100,"1#300","5000005#1",1,"16|0#0#0#800",null,1,1,8,"魂印商店"]
[null,40335,"混世魔王魂印",14,4,100,"1#300","5000006#1",1,"16|0#0#0#800",null,1,1,8,"魂印商店"]
[null,40336,"吴刚魂印",14,4,100,"1#300","5000007#1",1,"16|0#0#0#800",null,1,1,8,"魂印商店"]
[null,40337,"金翅大鹏魂印",14,4,100,"1#300","5000008#1",1,"16|0#0#0#800",null,1,1,8,"魂印商店"]
[null,40338,"妲己魂印",14,4,20,"1#300","5000009#1",1,"16|0#0#0#3000",null,1,1,8,"魂印商店"]
[null,40339,"猪八戒魂印",14,4,20,"1#300","5000010#1",1,"16|0#0#0#3000",null,1,1,8,"魂印商店"]
[null,40340,"伏羲魂印",14,4,20,"1#300","5000011#1",1,"16|0#0#0#3000",null,1,1,8,"魂印商店"]
[null,40341,"精卫魂印",14,4,20,"1#300","5000012#1",1,"16|0#0#0#3000",null,1,1,8,"魂印商店"]
[null,40342,"百花仙子魂印",14,4,20,"1#300","5000013#1",1,"16|0#0#0#3000",null,1,1,8,"魂印商店"]
[null,40343,"唐僧魂印",14,4,20,"1#300","5000014#1",1,"16|0#0#0#3000",null,1,1,8,"魂印商店"]
[null,40344,"九天玄女魂印",14,4,20,"1#300","5000015#1",1,"16|0#0#0#3000",null,1,1,8,"魂印商店"]
[null,40345,"孙悟空魂印",14,4,20,"1#300","5000016#1",1,"16|0#0#0#3000",null,1,1,8,"魂印商店"]
[null,40346,"降龙罗汉魂印",14,4,20,"1#300","5000017#1",1,"16|0#0#0#3000",null,1,1,8,"魂印商店"]
[null,40347,"孔雀明王魂印",14,4,20,"1#300","5000018#1",1,"16|0#0#0#3000",null,1,1,8,"魂印商店"]
[null,40348,"燃灯魂印",14,4,20,"1#300","5000019#1",1,"16|0#0#0#3000",null,1,1,8,"魂印商店"]
[null,40349,"月光菩萨魂印",14,4,20,"1#300","5000020#1",1,"16|0#0#0#3000",null,1,1,8,"魂印商店"]
[null,40350,"龙吉公主魂印",14,4,20,"1#300","5000021#1",1,"16|0#0#0#3000",null,1,1,8,"魂印商店"]
[null,40351,"九命猫魂印",14,4,20,"1#300","5000022#1",1,"16|0#0#0#3000",null,1,1,8,"魂印商店"]
[null,40352,"蚩尤魂印",14,4,20,"1#300","5000023#1",1,"16|0#0#0#3000",null,1,1,8,"魂印商店"]
[null,40353,"妈祖魂印",14,4,20,"1#300","5000024#1",1,"16|0#0#0#3000",null,1,1,8,"魂印商店"]
[null,40354,"娥皇魂印",14,4,20,"1#300","5000025#1",1,"16|0#0#0#3000",null,1,1,8,"魂印商店"]
[null,40355,"冥毒邪宴魂印",14,4,20,"1#300","5000026#1",1,"16|0#0#0#3000",null,1,1,8,"魂印商店"]
[null,40356,"太阴星君魂印",14,4,20,"1#300","5000027#1",1,"16|0#0#0#3000",null,1,1,8,"魂印商店"]
[null,40357,"巨灵神魂印",14,4,20,"1#300","5000028#1",1,"16|0#0#0#3000",null,1,1,8,"魂印商店"]
[null,40358,"通天教主魂印",14,4,20,"1#300","5000029#1",1,"16|0#0#0#3000",null,1,1,8,"魂印商店"]
[null,40359,"罗刹魂印",14,4,20,"1#300","5000030#1",1,"16|0#0#0#3000",null,1,1,8,"魂印商店"]
[null,40360,"夜叉魂印",14,4,20,"1#300","5000031#1",1,"16|0#0#0#3000",null,1,1,8,"魂印商店"]
[null,40361,"帝释天魂印",14,4,20,"1#300","5000032#1",1,"16|0#0#0#3000",null,1,1,8,"魂印商店"]
[null,40362,"瘟癀疫病魂印",14,4,2,"1#300","5000033#1",1,"16|0#0#0#10000",null,1,1,8,"魂印商店"]
[null,40363,"蚀骨火毒魂印",14,4,2,"1#300","5000034#1",1,"16|0#0#0#10000",null,1,1,8,"魂印商店"]
[null,40364,"神女庇佑魂印",14,4,2,"1#300","5000035#1",1,"16|0#0#0#10000",null,1,1,8,"魂印商店"]
[null,40365,"姑获鸟魂印",14,4,2,"1#300","5000036#1",1,"16|0#0#0#10000",null,1,1,8,"魂印商店"]
[null,40366,"敖丙魂印",14,4,2,"1#300","5000037#1",1,"16|0#0#0#10000",null,1,1,8,"魂印商店"]
[null,40367,"义结金兰魂印",14,4,2,"1#300","5000038#1",1,"16|0#0#0#10000",null,1,1,8,"魂印商店"]
[null,40368,"青鸟传信魂印",14,4,2,"1#300","5000039#1",1,"16|0#0#0#10000",null,1,1,8,"魂印商店"]
[null,40369,"火烧连城魂印",14,4,2,"1#300","5000040#1",1,"16|0#0#0#10000",null,1,1,8,"魂印商店"]
[null,40370,"破邪怒斩魂印",14,4,2,"1#300","5000041#1",1,"16|0#0#0#10000",null,1,1,8,"魂印商店"]
[null,40371,"狂噬戮兽魂印",14,4,2,"1#300","5000042#1",1,"16|0#0#0#10000",null,1,1,8,"魂印商店"]
[null,40372,"哪吒魂印",14,4,2,"1#300","5000043#1",1,"16|0#0#0#10000",null,1,1,8,"魂印商店"]
[null,40373,"失心暴怒魂印",14,4,2,"1#300","5000044#1",1,"16|0#0#0#10000",null,1,1,8,"魂印商店"]
[null,40374,"起死回生魂印",14,4,2,"1#300","5000045#1",1,"16|0#0#0#10000",null,1,1,8,"魂印商店"]
[null,40375,"破军魂印",14,4,2,"1#300","5000046#1",1,"16|0#0#0#10000",null,1,1,8,"魂印商店"]
[null,40376,"辟邪守护魂印",14,4,2,"1#300","5000047#1",1,"16|0#0#0#10000",null,1,1,8,"魂印商店"]
[null,40377,"嫦娥魂印",14,5,100,"1#300","5000001#1",1,"66|0#0#0#800",null,1,0,0,"魂印商店"]
[null,40378,"申公豹魂印",14,5,100,"1#300","5000002#1",1,"66|0#0#0#800",null,1,0,0,"魂印商店"]
[null,40379,"普贤菩萨魂印",14,5,100,"1#300","5000003#1",1,"66|0#0#0#800",null,1,0,0,"魂印商店"]
[null,40380,"达摩魂印",14,5,100,"1#300","5000004#1",1,"66|0#0#0#800",null,1,0,0,"魂印商店"]
[null,40381,"红孩儿魂印",14,5,100,"1#300","5000005#1",1,"66|0#0#0#800",null,1,0,0,"魂印商店"]
[null,40382,"混世魔王魂印",14,5,100,"1#300","5000006#1",1,"66|0#0#0#800",null,1,0,0,"魂印商店"]
[null,40383,"吴刚魂印",14,5,100,"1#300","5000007#1",1,"66|0#0#0#800",null,1,0,0,"魂印商店"]
[null,40384,"金翅大鹏魂印",14,5,100,"1#300","5000008#1",1,"66|0#0#0#800",null,1,0,0,"魂印商店"]
[null,40385,"妲己魂印",14,5,20,"1#300","5000009#1",1,"66|0#0#0#3000",null,1,0,0,"魂印商店"]
[null,40386,"猪八戒魂印",14,5,20,"1#300","5000010#1",1,"66|0#0#0#3000",null,1,0,0,"魂印商店"]
[null,40387,"伏羲魂印",14,5,20,"1#300","5000011#1",1,"66|0#0#0#3000",null,1,0,0,"魂印商店"]
[null,40388,"精卫魂印",14,5,20,"1#300","5000012#1",1,"66|0#0#0#3000",null,1,0,0,"魂印商店"]
[null,40389,"百花仙子魂印",14,5,20,"1#300","5000013#1",1,"66|0#0#0#3000",null,1,0,0,"魂印商店"]
[null,40390,"唐僧魂印",14,5,20,"1#300","5000014#1",1,"66|0#0#0#3000",null,1,0,0,"魂印商店"]
[null,40391,"九天玄女魂印",14,5,20,"1#300","5000015#1",1,"66|0#0#0#3000",null,1,0,0,"魂印商店"]
[null,40392,"孙悟空魂印",14,5,20,"1#300","5000016#1",1,"66|0#0#0#3000",null,1,0,0,"魂印商店"]
[null,40393,"降龙罗汉魂印",14,5,20,"1#300","5000017#1",1,"66|0#0#0#3000",null,1,0,0,"魂印商店"]
[null,40394,"孔雀明王魂印",14,5,20,"1#300","5000018#1",1,"66|0#0#0#3000",null,1,0,0,"魂印商店"]
[null,40395,"燃灯魂印",14,5,20,"1#300","5000019#1",1,"66|0#0#0#3000",null,1,0,0,"魂印商店"]
[null,40396,"月光菩萨魂印",14,5,20,"1#300","5000020#1",1,"66|0#0#0#3000",null,1,0,0,"魂印商店"]
[null,40397,"龙吉公主魂印",14,5,20,"1#300","5000021#1",1,"66|0#0#0#3000",null,1,0,0,"魂印商店"]
[null,40398,"九命猫魂印",14,5,20,"1#300","5000022#1",1,"66|0#0#0#3000",null,1,0,0,"魂印商店"]
[null,40399,"蚩尤魂印",14,5,20,"1#300","5000023#1",1,"66|0#0#0#3000",null,1,0,0,"魂印商店"]
[null,40400,"妈祖魂印",14,5,20,"1#300","5000024#1",1,"66|0#0#0#3000",null,1,0,0,"魂印商店"]
[null,40401,"娥皇魂印",14,5,20,"1#300","5000025#1",1,"66|0#0#0#3000",null,1,0,0,"魂印商店"]
[null,40402,"冥毒邪宴魂印",14,5,20,"1#300","5000026#1",1,"66|0#0#0#3000",null,1,0,0,"魂印商店"]
[null,40403,"太阴星君魂印",14,5,20,"1#300","5000027#1",1,"66|0#0#0#3000",null,1,0,0,"魂印商店"]
[null,40404,"巨灵神魂印",14,5,20,"1#300","5000028#1",1,"66|0#0#0#3000",null,1,0,0,"魂印商店"]
[null,40405,"通天教主魂印",14,5,20,"1#300","5000029#1",1,"66|0#0#0#3000",null,1,0,0,"魂印商店"]
[null,40406,"罗刹魂印",14,5,20,"1#300","5000030#1",1,"66|0#0#0#3000",null,1,0,0,"魂印商店"]
[null,40407,"夜叉魂印",14,5,20,"1#300","5000031#1",1,"66|0#0#0#3000",null,1,0,0,"魂印商店"]
[null,40408,"帝释天魂印",14,5,20,"1#300","5000032#1",1,"66|0#0#0#3000",null,1,0,0,"魂印商店"]
[null,40409,"瘟癀疫病魂印",14,5,3,"1#300","5000033#1",1,"66|0#0#0#10000",null,1,0,0,"魂印商店"]
[null,40410,"蚀骨火毒魂印",14,5,3,"1#300","5000034#1",1,"66|0#0#0#10000",null,1,0,0,"魂印商店"]
[null,40411,"神女庇佑魂印",14,5,3,"1#300","5000035#1",1,"66|0#0#0#10000",null,1,0,0,"魂印商店"]
[null,40412,"姑获鸟魂印",14,5,3,"1#300","5000036#1",1,"66|0#0#0#10000",null,1,0,0,"魂印商店"]
[null,40413,"敖丙魂印",14,5,3,"1#300","5000037#1",1,"66|0#0#0#10000",null,1,0,0,"魂印商店"]
[null,40414,"义结金兰魂印",14,5,3,"1#300","5000038#1",1,"66|0#0#0#10000",null,1,0,0,"魂印商店"]
[null,40415,"青鸟传信魂印",14,5,3,"1#300","5000039#1",1,"66|0#0#0#10000",null,1,0,0,"魂印商店"]
[null,40416,"火烧连城魂印",14,5,3,"1#300","5000040#1",1,"66|0#0#0#10000",null,1,0,0,"魂印商店"]
[null,40417,"破邪怒斩魂印",14,5,3,"1#300","5000041#1",1,"66|0#0#0#10000",null,1,0,0,"魂印商店"]
[null,40418,"狂噬戮兽魂印",14,5,3,"1#300","5000042#1",1,"66|0#0#0#10000",null,1,0,0,"魂印商店"]
[null,40419,"哪吒魂印",14,5,3,"1#300","5000043#1",1,"66|0#0#0#10000",null,1,0,0,"魂印商店"]
[null,40420,"失心暴怒魂印",14,5,3,"1#300","5000044#1",1,"66|0#0#0#10000",null,1,0,0,"魂印商店"]
[null,40421,"起死回生魂印",14,5,3,"1#300","5000045#1",1,"66|0#0#0#10000",null,1,0,0,"魂印商店"]
[null,40422,"破军魂印",14,5,3,"1#300","5000046#1",1,"66|0#0#0#10000",null,1,0,0,"魂印商店"]
[null,40423,"辟邪守护魂印",14,5,3,"1#300","5000047#1",1,"66|0#0#0#10000",null,1,0,0,"魂印商店"]
[null,40424,"嫦娥魂印",14,5,100,"1#300","5000001#1",1,"16|0#0#0#800",null,1,1,8,"魂印商店"]
[null,40425,"申公豹魂印",14,5,100,"1#300","5000002#1",1,"16|0#0#0#800",null,1,1,8,"魂印商店"]
[null,40426,"普贤菩萨魂印",14,5,100,"1#300","5000003#1",1,"16|0#0#0#800",null,1,1,8,"魂印商店"]
[null,40427,"达摩魂印",14,5,100,"1#300","5000004#1",1,"16|0#0#0#800",null,1,1,8,"魂印商店"]
[null,40428,"红孩儿魂印",14,5,100,"1#300","5000005#1",1,"16|0#0#0#800",null,1,1,8,"魂印商店"]
[null,40429,"混世魔王魂印",14,5,100,"1#300","5000006#1",1,"16|0#0#0#800",null,1,1,8,"魂印商店"]
[null,40430,"吴刚魂印",14,5,100,"1#300","5000007#1",1,"16|0#0#0#800",null,1,1,8,"魂印商店"]
[null,40431,"金翅大鹏魂印",14,5,100,"1#300","5000008#1",1,"16|0#0#0#800",null,1,1,8,"魂印商店"]
[null,40432,"妲己魂印",14,5,20,"1#300","5000009#1",1,"16|0#0#0#3000",null,1,1,8,"魂印商店"]
[null,40433,"猪八戒魂印",14,5,20,"1#300","5000010#1",1,"16|0#0#0#3000",null,1,1,8,"魂印商店"]
[null,40434,"伏羲魂印",14,5,20,"1#300","5000011#1",1,"16|0#0#0#3000",null,1,1,8,"魂印商店"]
[null,40435,"精卫魂印",14,5,20,"1#300","5000012#1",1,"16|0#0#0#3000",null,1,1,8,"魂印商店"]
[null,40436,"百花仙子魂印",14,5,20,"1#300","5000013#1",1,"16|0#0#0#3000",null,1,1,8,"魂印商店"]
[null,40437,"唐僧魂印",14,5,20,"1#300","5000014#1",1,"16|0#0#0#3000",null,1,1,8,"魂印商店"]
[null,40438,"九天玄女魂印",14,5,20,"1#300","5000015#1",1,"16|0#0#0#3000",null,1,1,8,"魂印商店"]
[null,40439,"孙悟空魂印",14,5,20,"1#300","5000016#1",1,"16|0#0#0#3000",null,1,1,8,"魂印商店"]
[null,40440,"降龙罗汉魂印",14,5,20,"1#300","5000017#1",1,"16|0#0#0#3000",null,1,1,8,"魂印商店"]
[null,40441,"孔雀明王魂印",14,5,20,"1#300","5000018#1",1,"16|0#0#0#3000",null,1,1,8,"魂印商店"]
[null,40442,"燃灯魂印",14,5,20,"1#300","5000019#1",1,"16|0#0#0#3000",null,1,1,8,"魂印商店"]
[null,40443,"月光菩萨魂印",14,5,20,"1#300","5000020#1",1,"16|0#0#0#3000",null,1,1,8,"魂印商店"]
[null,40444,"龙吉公主魂印",14,5,20,"1#300","5000021#1",1,"16|0#0#0#3000",null,1,1,8,"魂印商店"]
[null,40445,"九命猫魂印",14,5,20,"1#300","5000022#1",1,"16|0#0#0#3000",null,1,1,8,"魂印商店"]
[null,40446,"蚩尤魂印",14,5,20,"1#300","5000023#1",1,"16|0#0#0#3000",null,1,1,8,"魂印商店"]
[null,40447,"妈祖魂印",14,5,20,"1#300","5000024#1",1,"16|0#0#0#3000",null,1,1,8,"魂印商店"]
[null,40448,"娥皇魂印",14,5,20,"1#300","5000025#1",1,"16|0#0#0#3000",null,1,1,8,"魂印商店"]
[null,40449,"冥毒邪宴魂印",14,5,20,"1#300","5000026#1",1,"16|0#0#0#3000",null,1,1,8,"魂印商店"]
[null,40450,"太阴星君魂印",14,5,20,"1#300","5000027#1",1,"16|0#0#0#3000",null,1,1,8,"魂印商店"]
[null,40451,"巨灵神魂印",14,5,20,"1#300","5000028#1",1,"16|0#0#0#3000",null,1,1,8,"魂印商店"]
[null,40452,"通天教主魂印",14,5,20,"1#300","5000029#1",1,"16|0#0#0#3000",null,1,1,8,"魂印商店"]
[null,40453,"罗刹魂印",14,5,20,"1#300","5000030#1",1,"16|0#0#0#3000",null,1,1,8,"魂印商店"]
[null,40454,"夜叉魂印",14,5,20,"1#300","5000031#1",1,"16|0#0#0#3000",null,1,1,8,"魂印商店"]
[null,40455,"帝释天魂印",14,5,20,"1#300","5000032#1",1,"16|0#0#0#3000",null,1,1,8,"魂印商店"]
[null,40456,"瘟癀疫病魂印",14,5,2,"1#300","5000033#1",1,"16|0#0#0#10000",null,1,1,8,"魂印商店"]
[null,40457,"蚀骨火毒魂印",14,5,2,"1#300","5000034#1",1,"16|0#0#0#10000",null,1,1,8,"魂印商店"]
[null,40458,"神女庇佑魂印",14,5,2,"1#300","5000035#1",1,"16|0#0#0#10000",null,1,1,8,"魂印商店"]
[null,40459,"姑获鸟魂印",14,5,2,"1#300","5000036#1",1,"16|0#0#0#10000",null,1,1,8,"魂印商店"]
[null,40460,"敖丙魂印",14,5,2,"1#300","5000037#1",1,"16|0#0#0#10000",null,1,1,8,"魂印商店"]
[null,40461,"义结金兰魂印",14,5,2,"1#300","5000038#1",1,"16|0#0#0#10000",null,1,1,8,"魂印商店"]
[null,40462,"青鸟传信魂印",14,5,2,"1#300","5000039#1",1,"16|0#0#0#10000",null,1,1,8,"魂印商店"]
[null,40463,"火烧连城魂印",14,5,2,"1#300","5000040#1",1,"16|0#0#0#10000",null,1,1,8,"魂印商店"]
[null,40464,"破邪怒斩魂印",14,5,2,"1#300","5000041#1",1,"16|0#0#0#10000",null,1,1,8,"魂印商店"]
[null,40465,"狂噬戮兽魂印",14,5,2,"1#300","5000042#1",1,"16|0#0#0#10000",null,1,1,8,"魂印商店"]
[null,40466,"哪吒魂印",14,5,2,"1#300","5000043#1",1,"16|0#0#0#10000",null,1,1,8,"魂印商店"]
[null,40467,"失心暴怒魂印",14,5,2,"1#300","5000044#1",1,"16|0#0#0#10000",null,1,1,8,"魂印商店"]
[null,40468,"起死回生魂印",14,5,2,"1#300","5000045#1",1,"16|0#0#0#10000",null,1,1,8,"魂印商店"]
[null,40469,"破军魂印",14,5,2,"1#300","5000046#1",1,"16|0#0#0#10000",null,1,1,8,"魂印商店"]
[null,40470,"辟邪守护魂印",14,5,2,"1#300","5000047#1",1,"16|0#0#0#10000",null,1,1,8,"魂印商店"]
[null,40471,"嫦娥魂印",14,6,100,"1#300","5000001#1",1,"66|0#0#0#800",null,1,0,0,"魂印商店"]
[null,40472,"申公豹魂印",14,6,100,"1#300","5000002#1",1,"66|0#0#0#800",null,1,0,0,"魂印商店"]
[null,40473,"普贤菩萨魂印",14,6,100,"1#300","5000003#1",1,"66|0#0#0#800",null,1,0,0,"魂印商店"]
[null,40474,"达摩魂印",14,6,100,"1#300","5000004#1",1,"66|0#0#0#800",null,1,0,0,"魂印商店"]
[null,40475,"红孩儿魂印",14,6,100,"1#300","5000005#1",1,"66|0#0#0#800",null,1,0,0,"魂印商店"]
[null,40476,"混世魔王魂印",14,6,100,"1#300","5000006#1",1,"66|0#0#0#800",null,1,0,0,"魂印商店"]
[null,40477,"吴刚魂印",14,6,100,"1#300","5000007#1",1,"66|0#0#0#800",null,1,0,0,"魂印商店"]
[null,40478,"金翅大鹏魂印",14,6,100,"1#300","5000008#1",1,"66|0#0#0#800",null,1,0,0,"魂印商店"]
[null,40479,"妲己魂印",14,6,20,"1#300","5000009#1",1,"66|0#0#0#3000",null,1,0,0,"魂印商店"]
[null,40480,"猪八戒魂印",14,6,20,"1#300","5000010#1",1,"66|0#0#0#3000",null,1,0,0,"魂印商店"]
[null,40481,"伏羲魂印",14,6,20,"1#300","5000011#1",1,"66|0#0#0#3000",null,1,0,0,"魂印商店"]
[null,40482,"精卫魂印",14,6,20,"1#300","5000012#1",1,"66|0#0#0#3000",null,1,0,0,"魂印商店"]
[null,40483,"百花仙子魂印",14,6,20,"1#300","5000013#1",1,"66|0#0#0#3000",null,1,0,0,"魂印商店"]
[null,40484,"唐僧魂印",14,6,20,"1#300","5000014#1",1,"66|0#0#0#3000",null,1,0,0,"魂印商店"]
[null,40485,"九天玄女魂印",14,6,20,"1#300","5000015#1",1,"66|0#0#0#3000",null,1,0,0,"魂印商店"]
[null,40486,"孙悟空魂印",14,6,20,"1#300","5000016#1",1,"66|0#0#0#3000",null,1,0,0,"魂印商店"]
[null,40487,"降龙罗汉魂印",14,6,20,"1#300","5000017#1",1,"66|0#0#0#3000",null,1,0,0,"魂印商店"]
[null,40488,"孔雀明王魂印",14,6,20,"1#300","5000018#1",1,"66|0#0#0#3000",null,1,0,0,"魂印商店"]
[null,40489,"燃灯魂印",14,6,20,"1#300","5000019#1",1,"66|0#0#0#3000",null,1,0,0,"魂印商店"]
[null,40490,"月光菩萨魂印",14,6,20,"1#300","5000020#1",1,"66|0#0#0#3000",null,1,0,0,"魂印商店"]
[null,40491,"龙吉公主魂印",14,6,20,"1#300","5000021#1",1,"66|0#0#0#3000",null,1,0,0,"魂印商店"]
[null,40492,"九命猫魂印",14,6,20,"1#300","5000022#1",1,"66|0#0#0#3000",null,1,0,0,"魂印商店"]
[null,40493,"蚩尤魂印",14,6,20,"1#300","5000023#1",1,"66|0#0#0#3000",null,1,0,0,"魂印商店"]
[null,40494,"妈祖魂印",14,6,20,"1#300","5000024#1",1,"66|0#0#0#3000",null,1,0,0,"魂印商店"]
[null,40495,"娥皇魂印",14,6,20,"1#300","5000025#1",1,"66|0#0#0#3000",null,1,0,0,"魂印商店"]
[null,40496,"冥毒邪宴魂印",14,6,20,"1#300","5000026#1",1,"66|0#0#0#3000",null,1,0,0,"魂印商店"]
[null,40497,"太阴星君魂印",14,6,20,"1#300","5000027#1",1,"66|0#0#0#3000",null,1,0,0,"魂印商店"]
[null,40498,"巨灵神魂印",14,6,20,"1#300","5000028#1",1,"66|0#0#0#3000",null,1,0,0,"魂印商店"]
[null,40499,"通天教主魂印",14,6,20,"1#300","5000029#1",1,"66|0#0#0#3000",null,1,0,0,"魂印商店"]
[null,40500,"罗刹魂印",14,6,20,"1#300","5000030#1",1,"66|0#0#0#3000",null,1,0,0,"魂印商店"]
[null,40501,"夜叉魂印",14,6,20,"1#300","5000031#1",1,"66|0#0#0#3000",null,1,0,0,"魂印商店"]
[null,40502,"帝释天魂印",14,6,20,"1#300","5000032#1",1,"66|0#0#0#3000",null,1,0,0,"魂印商店"]
[null,40503,"瘟癀疫病魂印",14,6,3,"1#300","5000033#1",1,"66|0#0#0#10000",null,1,0,0,"魂印商店"]
[null,40504,"蚀骨火毒魂印",14,6,3,"1#300","5000034#1",1,"66|0#0#0#10000",null,1,0,0,"魂印商店"]
[null,40505,"神女庇佑魂印",14,6,3,"1#300","5000035#1",1,"66|0#0#0#10000",null,1,0,0,"魂印商店"]
[null,40506,"姑获鸟魂印",14,6,3,"1#300","5000036#1",1,"66|0#0#0#10000",null,1,0,0,"魂印商店"]
[null,40507,"敖丙魂印",14,6,3,"1#300","5000037#1",1,"66|0#0#0#10000",null,1,0,0,"魂印商店"]
[null,40508,"义结金兰魂印",14,6,3,"1#300","5000038#1",1,"66|0#0#0#10000",null,1,0,0,"魂印商店"]
[null,40509,"青鸟传信魂印",14,6,3,"1#300","5000039#1",1,"66|0#0#0#10000",null,1,0,0,"魂印商店"]
[null,40510,"火烧连城魂印",14,6,3,"1#300","5000040#1",1,"66|0#0#0#10000",null,1,0,0,"魂印商店"]
[null,40511,"破邪怒斩魂印",14,6,3,"1#300","5000041#1",1,"66|0#0#0#10000",null,1,0,0,"魂印商店"]
[null,40512,"狂噬戮兽魂印",14,6,3,"1#300","5000042#1",1,"66|0#0#0#10000",null,1,0,0,"魂印商店"]
[null,40513,"哪吒魂印",14,6,3,"1#300","5000043#1",1,"66|0#0#0#10000",null,1,0,0,"魂印商店"]
[null,40514,"失心暴怒魂印",14,6,3,"1#300","5000044#1",1,"66|0#0#0#10000",null,1,0,0,"魂印商店"]
[null,40515,"起死回生魂印",14,6,3,"1#300","5000045#1",1,"66|0#0#0#10000",null,1,0,0,"魂印商店"]
[null,40516,"破军魂印",14,6,3,"1#300","5000046#1",1,"66|0#0#0#10000",null,1,0,0,"魂印商店"]
[null,40517,"辟邪守护魂印",14,6,3,"1#300","5000047#1",1,"66|0#0#0#10000",null,1,0,0,"魂印商店"]
[null,40518,"嫦娥魂印",14,6,100,"1#300","5000001#1",1,"16|0#0#0#800",null,1,1,8,"魂印商店"]
[null,40519,"申公豹魂印",14,6,100,"1#300","5000002#1",1,"16|0#0#0#800",null,1,1,8,"魂印商店"]
[null,40520,"普贤菩萨魂印",14,6,100,"1#300","5000003#1",1,"16|0#0#0#800",null,1,1,8,"魂印商店"]
[null,40521,"达摩魂印",14,6,100,"1#300","5000004#1",1,"16|0#0#0#800",null,1,1,8,"魂印商店"]
[null,40522,"红孩儿魂印",14,6,100,"1#300","5000005#1",1,"16|0#0#0#800",null,1,1,8,"魂印商店"]
[null,40523,"混世魔王魂印",14,6,100,"1#300","5000006#1",1,"16|0#0#0#800",null,1,1,8,"魂印商店"]
[null,40524,"吴刚魂印",14,6,100,"1#300","5000007#1",1,"16|0#0#0#800",null,1,1,8,"魂印商店"]
[null,40525,"金翅大鹏魂印",14,6,100,"1#300","5000008#1",1,"16|0#0#0#800",null,1,1,8,"魂印商店"]
[null,40526,"妲己魂印",14,6,20,"1#300","5000009#1",1,"16|0#0#0#3000",null,1,1,8,"魂印商店"]
[null,40527,"猪八戒魂印",14,6,20,"1#300","5000010#1",1,"16|0#0#0#3000",null,1,1,8,"魂印商店"]
[null,40528,"伏羲魂印",14,6,20,"1#300","5000011#1",1,"16|0#0#0#3000",null,1,1,8,"魂印商店"]
[null,40529,"精卫魂印",14,6,20,"1#300","5000012#1",1,"16|0#0#0#3000",null,1,1,8,"魂印商店"]
[null,40530,"百花仙子魂印",14,6,20,"1#300","5000013#1",1,"16|0#0#0#3000",null,1,1,8,"魂印商店"]
[null,40531,"唐僧魂印",14,6,20,"1#300","5000014#1",1,"16|0#0#0#3000",null,1,1,8,"魂印商店"]
[null,40532,"九天玄女魂印",14,6,20,"1#300","5000015#1",1,"16|0#0#0#3000",null,1,1,8,"魂印商店"]
[null,40533,"孙悟空魂印",14,6,20,"1#300","5000016#1",1,"16|0#0#0#3000",null,1,1,8,"魂印商店"]
[null,40534,"降龙罗汉魂印",14,6,20,"1#300","5000017#1",1,"16|0#0#0#3000",null,1,1,8,"魂印商店"]
[null,40535,"孔雀明王魂印",14,6,20,"1#300","5000018#1",1,"16|0#0#0#3000",null,1,1,8,"魂印商店"]
[null,40536,"燃灯魂印",14,6,20,"1#300","5000019#1",1,"16|0#0#0#3000",null,1,1,8,"魂印商店"]
[null,40537,"月光菩萨魂印",14,6,20,"1#300","5000020#1",1,"16|0#0#0#3000",null,1,1,8,"魂印商店"]
[null,40538,"龙吉公主魂印",14,6,20,"1#300","5000021#1",1,"16|0#0#0#3000",null,1,1,8,"魂印商店"]
[null,40539,"九命猫魂印",14,6,20,"1#300","5000022#1",1,"16|0#0#0#3000",null,1,1,8,"魂印商店"]
[null,40540,"蚩尤魂印",14,6,20,"1#300","5000023#1",1,"16|0#0#0#3000",null,1,1,8,"魂印商店"]
[null,40541,"妈祖魂印",14,6,20,"1#300","5000024#1",1,"16|0#0#0#3000",null,1,1,8,"魂印商店"]
[null,40542,"娥皇魂印",14,6,20,"1#300","5000025#1",1,"16|0#0#0#3000",null,1,1,8,"魂印商店"]
[null,40543,"冥毒邪宴魂印",14,6,20,"1#300","5000026#1",1,"16|0#0#0#3000",null,1,1,8,"魂印商店"]
[null,40544,"太阴星君魂印",14,6,20,"1#300","5000027#1",1,"16|0#0#0#3000",null,1,1,8,"魂印商店"]
[null,40545,"巨灵神魂印",14,6,20,"1#300","5000028#1",1,"16|0#0#0#3000",null,1,1,8,"魂印商店"]
[null,40546,"通天教主魂印",14,6,20,"1#300","5000029#1",1,"16|0#0#0#3000",null,1,1,8,"魂印商店"]
[null,40547,"罗刹魂印",14,6,20,"1#300","5000030#1",1,"16|0#0#0#3000",null,1,1,8,"魂印商店"]
[null,40548,"夜叉魂印",14,6,20,"1#300","5000031#1",1,"16|0#0#0#3000",null,1,1,8,"魂印商店"]
[null,40549,"帝释天魂印",14,6,20,"1#300","5000032#1",1,"16|0#0#0#3000",null,1,1,8,"魂印商店"]
[null,40550,"瘟癀疫病魂印",14,6,2,"1#300","5000033#1",1,"16|0#0#0#10000",null,1,1,8,"魂印商店"]
[null,40551,"蚀骨火毒魂印",14,6,2,"1#300","5000034#1",1,"16|0#0#0#10000",null,1,1,8,"魂印商店"]
[null,40552,"神女庇佑魂印",14,6,2,"1#300","5000035#1",1,"16|0#0#0#10000",null,1,1,8,"魂印商店"]
[null,40553,"姑获鸟魂印",14,6,2,"1#300","5000036#1",1,"16|0#0#0#10000",null,1,1,8,"魂印商店"]
[null,40554,"敖丙魂印",14,6,2,"1#300","5000037#1",1,"16|0#0#0#10000",null,1,1,8,"魂印商店"]
[null,40555,"义结金兰魂印",14,6,2,"1#300","5000038#1",1,"16|0#0#0#10000",null,1,1,8,"魂印商店"]
[null,40556,"青鸟传信魂印",14,6,2,"1#300","5000039#1",1,"16|0#0#0#10000",null,1,1,8,"魂印商店"]
[null,40557,"火烧连城魂印",14,6,2,"1#300","5000040#1",1,"16|0#0#0#10000",null,1,1,8,"魂印商店"]
[null,40558,"破邪怒斩魂印",14,6,2,"1#300","5000041#1",1,"16|0#0#0#10000",null,1,1,8,"魂印商店"]
[null,40559,"狂噬戮兽魂印",14,6,2,"1#300","5000042#1",1,"16|0#0#0#10000",null,1,1,8,"魂印商店"]
[null,40560,"哪吒魂印",14,6,2,"1#300","5000043#1",1,"16|0#0#0#10000",null,1,1,8,"魂印商店"]
[null,40561,"失心暴怒魂印",14,6,2,"1#300","5000044#1",1,"16|0#0#0#10000",null,1,1,8,"魂印商店"]
[null,40562,"起死回生魂印",14,6,2,"1#300","5000045#1",1,"16|0#0#0#10000",null,1,1,8,"魂印商店"]
[null,40563,"破军魂印",14,6,2,"1#300","5000046#1",1,"16|0#0#0#10000",null,1,1,8,"魂印商店"]
[null,40564,"辟邪守护魂印",14,6,2,"1#300","5000047#1",1,"16|0#0#0#10000",null,1,1,8,"魂印商店"]
[null,50001,"雷震子碎片",19,1,100,"1#300","11011#50",1,"74|0#0#0#45",0,0,0,0,"混沌商店"]
[null,50002,"精卫碎片",19,2,100,"1#300","11008#50",1,"74|0#0#0#45",0,0,0,0,"混沌商店"]
[null,50003,"共工碎片",19,3,100,"1#300","11006#50",1,"74|0#0#0#45",0,0,0,0,"混沌商店"]
[null,50004,"敖丙碎片",19,4,100,"1#300","11073#50",1,"74|0#0#0#45",0,0,0,0,"混沌商店"]
[null,50005,"洛神碎片",19,5,100,"1#300","11002#50",1,"74|0#0#0#35",0,0,0,0,"混沌商店"]
[null,50006,"九命猫碎片",19,6,100,"1#300","11018#50",1,"74|0#0#0#35",0,0,0,0,"混沌商店"]
[null,50007,"猪八戒碎片",19,7,100,"1#300","11003#50",1,"74|0#0#0#35",0,0,0,0,"混沌商店"]
[null,50008,"妲己碎片",19,8,100,"1#300","11005#50",1,"74|0#0#0#35",0,0,0,0,"混沌商店"]
[null,50009,"姑获鸟碎片",19,9,100,"1#300","11020#50",1,"74|0#0#0#35",0,0,0,0,"混沌商店"]
[null,50010,"混世魔王碎片",19,10,100,"1#300","11044#50",1,"74|0#0#0#25",0,0,0,0,"混沌商店"]
[null,50011,"红孩儿碎片",19,11,100,"1#300","11031#50",1,"74|0#0#0#25",0,0,0,0,"混沌商店"]
[null,50012,"石矶娘娘碎片",19,12,100,"1#300","11028#50",1,"74|0#0#0#25",0,0,0,0,"混沌商店"]
[null,50013,"百花仙子碎片",19,13,100,"1#300","11045#50",1,"74|0#0#0#25",0,0,0,0,"混沌商店"]
[null,50014,"聂小倩碎片",19,14,100,"1#300","11057#30",1,"74|0#0#0#5",0,0,0,0,"混沌商店"]
[null,50015,"九婴碎片",19,15,100,"1#300","11058#30",1,"74|0#0#0#5",0,0,0,0,"混沌商店"]
[null,50016,"怨鬼灵碎片",19,16,100,"1#300","11059#30",1,"74|0#0#0#5",0,0,0,0,"混沌商店"]
[null,50017,"幽魂姬碎片",19,17,100,"1#300","11060#30",1,"74|0#0#0#5",0,0,0,0,"混沌商店"]
[null,50018,"孙悟空碎片",19,18,100,"1#300","11023#50",1,"74|0#0#0#45",0,0,0,0,"混沌商店"]
[null,50019,"达摩碎片",19,19,100,"1#300","11022#50",1,"74|0#0#0#45",0,0,0,0,"混沌商店"]
[null,50020,"燃灯碎片",19,20,100,"1#300","11077#50",1,"74|0#0#0#45",0,0,0,0,"混沌商店"]
[null,50021,"金翅大鹏碎片",19,21,100,"1#300","11074#50",1,"74|0#0#0#45",0,0,0,0,"混沌商店"]
[null,50022,"唐僧碎片",19,22,100,"1#300","11007#50",1,"74|0#0#0#35",0,0,0,0,"混沌商店"]
[null,50023,"孔雀明王碎片",19,23,100,"1#300","11010#50",1,"74|0#0#0#35",0,0,0,0,"混沌商店"]
[null,50024,"净光天女碎片",19,24,100,"1#300","11033#50",1,"74|0#0#0#35",0,0,0,0,"混沌商店"]
[null,50025,"伏虎罗汉碎片",19,25,100,"1#300","11015#50",1,"74|0#0#0#35",0,0,0,0,"混沌商店"]
[null,50026,"降龙罗汉碎片",19,26,100,"1#300","11012#50",1,"74|0#0#0#35",0,0,0,0,"混沌商店"]
[null,50027,"帝释天碎片",19,27,100,"1#300","11034#50",1,"74|0#0#0#25",0,0,0,0,"混沌商店"]
[null,50028,"普贤菩萨碎片",19,28,100,"1#300","11039#50",1,"74|0#0#0#25",0,0,0,0,"混沌商店"]
[null,50029,"月光菩萨碎片",19,29,100,"1#300","11029#50",1,"74|0#0#0#25",0,0,0,0,"混沌商店"]
[null,50030,"焚天碎片",19,30,100,"1#300","11030#50",1,"74|0#0#0#25",0,0,0,0,"混沌商店"]
[null,50031,"地藏碎片",19,31,100,"1#300","11061#30",1,"74|0#0#0#5",0,0,0,0,"混沌商店"]
[null,50032,"迦楼罗碎片",19,32,100,"1#300","11062#30",1,"74|0#0#0#5",0,0,0,0,"混沌商店"]
[null,50033,"伽罗尊者碎片",19,33,100,"1#300","11063#30",1,"74|0#0#0#5",0,0,0,0,"混沌商店"]
[null,50034,"阿修罗碎片",19,34,100,"1#300","11064#30",1,"74|0#0#0#5",0,0,0,0,"混沌商店"]
[null,50035,"伏羲碎片",19,35,100,"1#300","11001#50",1,"74|0#0#0#45",0,0,0,0,"混沌商店"]
[null,50036,"哪吒碎片",19,36,100,"1#300","11014#50",1,"74|0#0#0#45",0,0,0,0,"混沌商店"]
[null,50037,"龙吉公主碎片",19,37,100,"1#300","11009#50",1,"74|0#0#0#45",0,0,0,0,"混沌商店"]
[null,50038,"杨戬碎片",19,38,100,"1#300","11040#50",1,"74|0#0#0#45",0,0,0,0,"混沌商店"]
[null,50039,"慈航道人碎片",19,39,100,"1#300","11004#50",1,"74|0#0#0#35",0,0,0,0,"混沌商店"]
[null,50040,"蚩尤碎片",19,40,100,"1#300","11016#50",1,"74|0#0#0#35",0,0,0,0,"混沌商店"]
[null,50041,"东陵圣母碎片",19,41,100,"1#300","11021#50",1,"74|0#0#0#35",0,0,0,0,"混沌商店"]
[null,50042,"嫦娥碎片",19,42,100,"1#300","11017#50",1,"74|0#0#0#35",0,0,0,0,"混沌商店"]
[null,50043,"娥皇碎片",19,43,100,"1#300","11075#50",1,"74|0#0#0#35",0,0,0,0,"混沌商店"]
[null,50044,"女英碎片",19,44,100,"1#300","11046#50",1,"74|0#0#0#25",0,0,0,0,"混沌商店"]
[null,50045,"吴刚碎片",19,45,100,"1#300","11032#50",1,"74|0#0#0#25",0,0,0,0,"混沌商店"]
[null,50046,"妈祖碎片",19,46,100,"1#300","11035#50",1,"74|0#0#0#25",0,0,0,0,"混沌商店"]
[null,50047,"赵公明碎片",19,47,100,"1#300","11036#50",1,"74|0#0#0#25",0,0,0,0,"混沌商店"]
[null,50048,"木吒碎片",19,48,100,"1#300","11065#30",1,"74|0#0#0#5",0,0,0,0,"混沌商店"]
[null,50049,"孟姜女碎片",19,49,100,"1#300","11066#30",1,"74|0#0#0#5",0,0,0,0,"混沌商店"]
[null,50050,"梦蝶碎片",19,50,100,"1#300","11067#30",1,"74|0#0#0#5",0,0,0,0,"混沌商店"]
[null,50051,"金吒碎片",19,51,100,"1#300","11068#30",1,"74|0#0#0#5",0,0,0,0,"混沌商店"]
[null,50052,"申公豹碎片",19,52,100,"1#300","11076#50",1,"74|0#0#0#45",0,0,0,0,"混沌商店"]
[null,50053,"东华帝君碎片",19,53,100,"1#300","11026#50",1,"74|0#0#0#45",0,0,0,0,"混沌商店"]
[null,50054,"通天教主碎片",19,54,100,"1#300","11041#50",1,"74|0#0#0#45",0,0,0,0,"混沌商店"]
[null,50055,"阎罗王碎片",19,55,100,"1#300","11078#50",1,"74|0#0#0#45",0,0,0,0,"混沌商店"]
[null,50056,"姜子牙碎片",19,56,100,"1#300","11024#50",1,"74|0#0#0#35",0,0,0,0,"混沌商店"]
[null,50057,"巨灵神碎片",19,57,100,"1#300","11019#50",1,"74|0#0#0#35",0,0,0,0,"混沌商店"]
[null,50058,"九天玄女碎片",19,58,100,"1#300","11042#50",1,"74|0#0#0#35",0,0,0,0,"混沌商店"]
[null,50059,"太阴星君碎片",19,59,100,"1#300","11043#50",1,"74|0#0#0#35",0,0,0,0,"混沌商店"]
[null,50060,"吕洞宾碎片",19,60,100,"1#300","11013#50",1,"74|0#0#0#35",0,0,0,0,"混沌商店"]
[null,50061,"道德天尊碎片",19,61,100,"1#300","11025#50",1,"74|0#0#0#25",0,0,0,0,"混沌商店"]
[null,50062,"罗刹碎片",19,62,100,"1#300","11037#50",1,"74|0#0#0#25",0,0,0,0,"混沌商店"]
[null,50063,"孟婆碎片",19,63,100,"1#300","11027#50",1,"74|0#0#0#25",0,0,0,0,"混沌商店"]
[null,50064,"夜叉碎片",19,64,100,"1#300","11038#50",1,"74|0#0#0#25",0,0,0,0,"混沌商店"]
[null,50065,"火德星君碎片",19,65,100,"1#300","11069#30",1,"74|0#0#0#5",0,0,0,0,"混沌商店"]
[null,50066,"水德星君碎片",19,66,100,"1#300","11070#30",1,"74|0#0#0#5",0,0,0,0,"混沌商店"]
[null,50067,"九河神女碎片",19,67,100,"1#300","11071#30",1,"74|0#0#0#5",0,0,0,0,"混沌商店"]
[null,50068,"灵扇仙碎片",19,68,100,"1#300","11072#30",1,"74|0#0#0#5",0,0,0,0,"混沌商店"]
[null,3001,"人系5星碎片",56,1,40,"1#999","12009#25",1,"16|0#0#0#3000",0,1,0,0,"猎妖之路商店节点"]
[null,3002,"妖系5星碎片",56,1,40,"1#999","12008#25",1,"16|0#0#0#3000",0,1,0,0,"猎妖之路商店节点"]
[null,3003,"道系5星碎片",56,1,40,"1#999","12010#25",1,"16|0#0#0#3000",0,1,0,0,"猎妖之路商店节点"]
[null,3004,"佛系5星碎片",56,1,40,"1#999","12011#25",1,"16|0#0#0#3000",0,1,0,0,"猎妖之路商店节点"]
[null,3005,"5星随机碎片",56,1,40,"1#999","12013#25",1,"16|0#0#0#3000",0,1,0,0,"猎妖之路商店节点"]
[null,3006,"人系5星碎片",56,1,60,"1#999","12009#20",1,"16|0#0#0#2400",0,1,0,0,"猎妖之路商店节点"]
[null,3007,"妖系5星碎片",56,1,60,"1#999","12008#20",1,"16|0#0#0#2400",0,1,0,0,"猎妖之路商店节点"]
[null,3008,"道系5星碎片",56,1,60,"1#999","12010#20",1,"16|0#0#0#2400",0,1,0,0,"猎妖之路商店节点"]
[null,3009,"佛系5星碎片",56,1,60,"1#999","12011#20",1,"16|0#0#0#2400",0,1,0,0,"猎妖之路商店节点"]
[null,3010,"5星随机碎片",56,1,60,"1#999","12013#20",1,"16|0#0#0#2400",0,1,0,0,"猎妖之路商店节点"]
[null,3011,"人系5星碎片",56,1,60,"1#999","12009#15",1,"16|0#0#0#1800",0,1,1,6,"猎妖之路商店节点"]
[null,3012,"妖系5星碎片",56,1,60,"1#999","12008#15",1,"16|0#0#0#1800",0,1,1,6,"猎妖之路商店节点"]
[null,3013,"道系5星碎片",56,1,60,"1#999","12010#15",1,"16|0#0#0#1800",0,1,1,6,"猎妖之路商店节点"]
[null,3014,"佛系5星碎片",56,1,60,"1#999","12011#15",1,"16|0#0#0#1800",0,1,1,6,"猎妖之路商店节点"]
[null,3015,"5星随机碎片",56,1,60,"1#999","12013#15",1,"16|0#0#0#1800",0,1,1,6,"猎妖之路商店节点"]
[null,3016,"人系5星碎片",56,1,40,"1#999","12009#10",1,"16|0#0#0#1200",0,1,0,0,"猎妖之路商店节点"]
[null,3017,"妖系5星碎片",56,1,40,"1#999","12008#10",1,"16|0#0#0#1200",0,1,0,0,"猎妖之路商店节点"]
[null,3018,"道系5星碎片",56,1,40,"1#999","12010#10",1,"16|0#0#0#1200",0,1,0,0,"猎妖之路商店节点"]
[null,3019,"佛系5星碎片",56,1,40,"1#999","12011#10",1,"16|0#0#0#1200",0,1,0,0,"猎妖之路商店节点"]
[null,3020,"5星随机碎片",56,1,40,"1#999","12013#10",1,"16|0#0#0#1200",0,1,0,0,"猎妖之路商店节点"]
[null,3021,"凝墨神斧",56,1,40,"1#65","60102#1",1,"16|0#0#0#1250",0,1,0,0,"猎妖之路商店节点"]
[null,3022,"饕餮战衣",56,1,40,"1#65","60127#1",1,"16|0#0#0#1250",0,1,0,0,"猎妖之路商店节点"]
[null,3023,"饕餮战盔",56,1,40,"1#65","60137#1",1,"16|0#0#0#1250",0,1,0,0,"猎妖之路商店节点"]
[null,3024,"饕餮战靴",56,1,40,"1#65","60142#1",1,"16|0#0#0#1250",0,1,0,0,"猎妖之路商店节点"]
[null,3025,"碎弦神斧",56,1,40,"66#90","60103#1",1,"16|0#0#0#2150",0,1,0,0,"猎妖之路商店节点"]
[null,3026,"微澜羽衣",56,1,40,"66#90","60128#1",1,"16|0#0#0#2150",0,1,0,0,"猎妖之路商店节点"]
[null,3027,"微澜战盔",56,1,40,"66#90","60138#1",1,"16|0#0#0#2150",0,1,0,0,"猎妖之路商店节点"]
[null,3028,"无垠战靴",56,1,40,"66#90","60144#1",1,"16|0#0#0#2150",0,1,0,0,"猎妖之路商店节点"]
[null,3029,"弹指神戟",56,1,40,"91#999","60155#1",1,"16|0#0#0#3500",0,1,0,0,"猎妖之路商店节点"]
[null,3030,"炎帝战甲",56,1,40,"91#999","60180#1",1,"16|0#0#0#3500",0,1,0,0,"猎妖之路商店节点"]
[null,3031,"六合战盔",56,1,40,"91#999","60190#1",1,"16|0#0#0#3500",0,1,0,0,"猎妖之路商店节点"]
[null,3032,"六合战靴",56,1,40,"91#999","60195#1",1,"16|0#0#0#3500",0,1,0,0,"猎妖之路商店节点"]
[null,3033,"人系5星碎片",56,2,40,"1#999","12009#25",1,"16|0#0#0#3000",0,1,0,0,"猎妖之路商店节点"]
[null,3034,"妖系5星碎片",56,2,40,"1#999","12008#25",1,"16|0#0#0#3000",0,1,0,0,"猎妖之路商店节点"]
[null,3035,"道系5星碎片",56,2,40,"1#999","12010#25",1,"16|0#0#0#3000",0,1,0,0,"猎妖之路商店节点"]
[null,3036,"佛系5星碎片",56,2,40,"1#999","12011#25",1,"16|0#0#0#3000",0,1,0,0,"猎妖之路商店节点"]
[null,3037,"5星随机碎片",56,2,40,"1#999","12013#25",1,"16|0#0#0#3000",0,1,0,0,"猎妖之路商店节点"]
[null,3038,"人系5星碎片",56,2,60,"1#999","12009#20",1,"16|0#0#0#2400",0,1,1,6,"猎妖之路商店节点"]
[null,3039,"妖系5星碎片",56,2,60,"1#999","12008#20",1,"16|0#0#0#2400",0,1,1,6,"猎妖之路商店节点"]
[null,3040,"道系5星碎片",56,2,60,"1#999","12010#20",1,"16|0#0#0#2400",0,1,1,6,"猎妖之路商店节点"]
[null,3041,"佛系5星碎片",56,2,60,"1#999","12011#20",1,"16|0#0#0#2400",0,1,1,6,"猎妖之路商店节点"]
[null,3042,"5星随机碎片",56,2,60,"1#999","12013#20",1,"16|0#0#0#2400",0,1,1,6,"猎妖之路商店节点"]
[null,3043,"人系5星碎片",56,2,60,"1#999","12009#15",1,"16|0#0#0#1800",0,1,0,0,"猎妖之路商店节点"]
[null,3044,"妖系5星碎片",56,2,60,"1#999","12008#15",1,"16|0#0#0#1800",0,1,0,0,"猎妖之路商店节点"]
[null,3045,"道系5星碎片",56,2,60,"1#999","12010#15",1,"16|0#0#0#1800",0,1,0,0,"猎妖之路商店节点"]
[null,3046,"佛系5星碎片",56,2,60,"1#999","12011#15",1,"16|0#0#0#1800",0,1,0,0,"猎妖之路商店节点"]
[null,3047,"5星随机碎片",56,2,60,"1#999","12013#15",1,"16|0#0#0#1800",0,1,0,0,"猎妖之路商店节点"]
[null,3048,"人系5星碎片",56,2,40,"1#999","12009#10",1,"16|0#0#0#1200",0,1,0,0,"猎妖之路商店节点"]
[null,3049,"妖系5星碎片",56,2,40,"1#999","12008#10",1,"16|0#0#0#1200",0,1,0,0,"猎妖之路商店节点"]
[null,3050,"道系5星碎片",56,2,40,"1#999","12010#10",1,"16|0#0#0#1200",0,1,0,0,"猎妖之路商店节点"]
[null,3051,"佛系5星碎片",56,2,40,"1#999","12011#10",1,"16|0#0#0#1200",0,1,0,0,"猎妖之路商店节点"]
[null,3052,"5星随机碎片",56,2,40,"1#999","12013#10",1,"16|0#0#0#1200",0,1,0,0,"猎妖之路商店节点"]
[null,3053,"凝墨神斧",56,2,40,"1#65","60102#1",1,"16|0#0#0#1250",0,1,0,0,"猎妖之路商店节点"]
[null,3054,"饕餮战衣",56,2,40,"1#65","60127#1",1,"16|0#0#0#1250",0,1,0,0,"猎妖之路商店节点"]
[null,3055,"饕餮战盔",56,2,40,"1#65","60137#1",1,"16|0#0#0#1250",0,1,0,0,"猎妖之路商店节点"]
[null,3056,"饕餮战靴",56,2,40,"1#65","60142#1",1,"16|0#0#0#1250",0,1,0,0,"猎妖之路商店节点"]
[null,3057,"碎弦神斧",56,2,40,"66#90","60103#1",1,"16|0#0#0#2150",0,1,0,0,"猎妖之路商店节点"]
[null,3058,"微澜羽衣",56,2,40,"66#90","60128#1",1,"16|0#0#0#2150",0,1,0,0,"猎妖之路商店节点"]
[null,3059,"微澜战盔",56,2,40,"66#90","60138#1",1,"16|0#0#0#2150",0,1,0,0,"猎妖之路商店节点"]
[null,3060,"无垠战靴",56,2,40,"66#90","60144#1",1,"16|0#0#0#2150",0,1,0,0,"猎妖之路商店节点"]
[null,3061,"弹指神戟",56,2,40,"91#999","60155#1",1,"16|0#0#0#3500",0,1,0,0,"猎妖之路商店节点"]
[null,3062,"炎帝战甲",56,2,40,"91#999","60180#1",1,"16|0#0#0#3500",0,1,0,0,"猎妖之路商店节点"]
[null,3063,"六合战盔",56,2,40,"91#999","60190#1",1,"16|0#0#0#3500",0,1,0,0,"猎妖之路商店节点"]
[null,3064,"六合战靴",56,2,40,"91#999","60195#1",1,"16|0#0#0#3500",0,1,0,0,"猎妖之路商店节点"]
[null,3065,"人系5星碎片",56,3,40,"1#999","12009#25",1,"16|0#0#0#3000",0,1,0,0,"猎妖之路商店节点"]
[null,3066,"妖系5星碎片",56,3,40,"1#999","12008#25",1,"16|0#0#0#3000",0,1,0,0,"猎妖之路商店节点"]
[null,3067,"道系5星碎片",56,3,40,"1#999","12010#25",1,"16|0#0#0#3000",0,1,0,0,"猎妖之路商店节点"]
[null,3068,"佛系5星碎片",56,3,40,"1#999","12011#25",1,"16|0#0#0#3000",0,1,0,0,"猎妖之路商店节点"]
[null,3069,"5星随机碎片",56,3,40,"1#999","12013#25",1,"16|0#0#0#3000",0,1,0,0,"猎妖之路商店节点"]
[null,3070,"人系5星碎片",56,3,60,"1#999","12009#20",1,"16|0#0#0#2400",0,1,0,0,"猎妖之路商店节点"]
[null,3071,"妖系5星碎片",56,3,60,"1#999","12008#20",1,"16|0#0#0#2400",0,1,0,0,"猎妖之路商店节点"]
[null,3072,"道系5星碎片",56,3,60,"1#999","12010#20",1,"16|0#0#0#2400",0,1,0,0,"猎妖之路商店节点"]
[null,3073,"佛系5星碎片",56,3,60,"1#999","12011#20",1,"16|0#0#0#2400",0,1,0,0,"猎妖之路商店节点"]
[null,3074,"5星随机碎片",56,3,60,"1#999","12013#20",1,"16|0#0#0#2400",0,1,0,0,"猎妖之路商店节点"]
[null,3075,"人系5星碎片",56,3,60,"1#999","12009#15",1,"16|0#0#0#1800",0,1,0,0,"猎妖之路商店节点"]
[null,3076,"妖系5星碎片",56,3,60,"1#999","12008#15",1,"16|0#0#0#1800",0,1,0,0,"猎妖之路商店节点"]
[null,3077,"道系5星碎片",56,3,60,"1#999","12010#15",1,"16|0#0#0#1800",0,1,0,0,"猎妖之路商店节点"]
[null,3078,"佛系5星碎片",56,3,60,"1#999","12011#15",1,"16|0#0#0#1800",0,1,0,0,"猎妖之路商店节点"]
[null,3079,"5星随机碎片",56,3,60,"1#999","12013#15",1,"16|0#0#0#1800",0,1,0,0,"猎妖之路商店节点"]
[null,3080,"人系5星碎片",56,3,40,"1#999","12009#10",1,"16|0#0#0#1200",0,1,0,0,"猎妖之路商店节点"]
[null,3081,"妖系5星碎片",56,3,40,"1#999","12008#10",1,"16|0#0#0#1200",0,1,0,0,"猎妖之路商店节点"]
[null,3082,"道系5星碎片",56,3,40,"1#999","12010#10",1,"16|0#0#0#1200",0,1,0,0,"猎妖之路商店节点"]
[null,3083,"佛系5星碎片",56,3,40,"1#999","12011#10",1,"16|0#0#0#1200",0,1,0,0,"猎妖之路商店节点"]
[null,3084,"5星随机碎片",56,3,40,"1#999","12013#10",1,"16|0#0#0#1200",0,1,0,0,"猎妖之路商店节点"]
[null,3085,"凝墨神斧",56,3,40,"1#65","60102#1",1,"16|0#0#0#1250",0,1,1,5,"猎妖之路商店节点"]
[null,3086,"饕餮战衣",56,3,40,"1#65","60127#1",1,"16|0#0#0#1250",0,1,1,5,"猎妖之路商店节点"]
[null,3087,"饕餮战盔",56,3,40,"1#65","60137#1",1,"16|0#0#0#1250",0,1,1,5,"猎妖之路商店节点"]
[null,3088,"饕餮战靴",56,3,40,"1#65","60142#1",1,"16|0#0#0#1250",0,1,1,5,"猎妖之路商店节点"]
[null,3089,"碎弦神斧",56,3,40,"66#90","60103#1",1,"16|0#0#0#2150",0,1,1,5,"猎妖之路商店节点"]
[null,3090,"微澜羽衣",56,3,40,"66#90","60128#1",1,"16|0#0#0#2150",0,1,1,5,"猎妖之路商店节点"]
[null,3091,"微澜战盔",56,3,40,"66#90","60138#1",1,"16|0#0#0#2150",0,1,1,5,"猎妖之路商店节点"]
[null,3092,"无垠战靴",56,3,40,"66#90","60144#1",1,"16|0#0#0#2150",0,1,1,5,"猎妖之路商店节点"]
[null,3093,"弹指神戟",56,3,40,"91#999","60155#1",1,"16|0#0#0#3500",0,1,1,5,"猎妖之路商店节点"]
[null,3094,"炎帝战甲",56,3,40,"91#999","60180#1",1,"16|0#0#0#3500",0,1,1,5,"猎妖之路商店节点"]
[null,3095,"六合战盔",56,3,40,"91#999","60190#1",1,"16|0#0#0#3500",0,1,1,5,"猎妖之路商店节点"]
[null,3096,"六合战靴",56,3,40,"91#999","60195#1",1,"16|0#0#0#3500",0,1,1,5,"猎妖之路商店节点"]
[null,3097,"人系5星碎片",56,4,40,"1#999","12009#25",1,"16|0#0#0#3000",0,1,0,0,"猎妖之路商店节点"]
[null,3098,"妖系5星碎片",56,4,40,"1#999","12008#25",1,"16|0#0#0#3000",0,1,0,0,"猎妖之路商店节点"]
[null,3099,"道系5星碎片",56,4,40,"1#999","12010#25",1,"16|0#0#0#3000",0,1,0,0,"猎妖之路商店节点"]
[null,3100,"佛系5星碎片",56,4,40,"1#999","12011#25",1,"16|0#0#0#3000",0,1,0,0,"猎妖之路商店节点"]
[null,3101,"5星随机碎片",56,4,40,"1#999","12013#25",1,"16|0#0#0#3000",0,1,0,0,"猎妖之路商店节点"]
[null,3102,"人系5星碎片",56,4,60,"1#999","12009#20",1,"16|0#0#0#2400",0,1,0,0,"猎妖之路商店节点"]
[null,3103,"妖系5星碎片",56,4,60,"1#999","12008#20",1,"16|0#0#0#2400",0,1,0,0,"猎妖之路商店节点"]
[null,3104,"道系5星碎片",56,4,60,"1#999","12010#20",1,"16|0#0#0#2400",0,1,0,0,"猎妖之路商店节点"]
[null,3105,"佛系5星碎片",56,4,60,"1#999","12011#20",1,"16|0#0#0#2400",0,1,0,0,"猎妖之路商店节点"]
[null,3106,"5星随机碎片",56,4,60,"1#999","12013#20",1,"16|0#0#0#2400",0,1,0,0,"猎妖之路商店节点"]
[null,3107,"人系5星碎片",56,4,60,"1#999","12009#15",1,"16|0#0#0#1800",0,1,0,0,"猎妖之路商店节点"]
[null,3108,"妖系5星碎片",56,4,60,"1#999","12008#15",1,"16|0#0#0#1800",0,1,0,0,"猎妖之路商店节点"]
[null,3109,"道系5星碎片",56,4,60,"1#999","12010#15",1,"16|0#0#0#1800",0,1,0,0,"猎妖之路商店节点"]
[null,3110,"佛系5星碎片",56,4,60,"1#999","12011#15",1,"16|0#0#0#1800",0,1,0,0,"猎妖之路商店节点"]
[null,3111,"5星随机碎片",56,4,60,"1#999","12013#15",1,"16|0#0#0#1800",0,1,0,0,"猎妖之路商店节点"]
[null,3112,"人系5星碎片",56,4,40,"1#999","12009#10",1,"16|0#0#0#1200",0,1,0,0,"猎妖之路商店节点"]
[null,3113,"妖系5星碎片",56,4,40,"1#999","12008#10",1,"16|0#0#0#1200",0,1,0,0,"猎妖之路商店节点"]
[null,3114,"道系5星碎片",56,4,40,"1#999","12010#10",1,"16|0#0#0#1200",0,1,0,0,"猎妖之路商店节点"]
[null,3115,"佛系5星碎片",56,4,40,"1#999","12011#10",1,"16|0#0#0#1200",0,1,0,0,"猎妖之路商店节点"]
[null,3116,"5星随机碎片",56,4,40,"1#999","12013#10",1,"16|0#0#0#1200",0,1,0,0,"猎妖之路商店节点"]
[null,3117,"凝墨神斧",56,4,100,"1#65","60102#1",1,"16|0#0#0#1250",0,1,0,0,"猎妖之路商店节点"]
[null,3118,"饕餮战衣",56,4,100,"1#65","60127#1",1,"16|0#0#0#1250",0,1,0,0,"猎妖之路商店节点"]
[null,3119,"饕餮战盔",56,4,100,"1#65","60137#1",1,"16|0#0#0#1250",0,1,0,0,"猎妖之路商店节点"]
[null,3120,"饕餮战靴",56,4,100,"1#65","60142#1",1,"16|0#0#0#1250",0,1,0,0,"猎妖之路商店节点"]
[null,3121,"碎弦神斧",56,4,100,"66#90","60103#1",1,"16|0#0#0#2150",0,1,0,0,"猎妖之路商店节点"]
[null,3122,"微澜羽衣",56,4,100,"66#90","60128#1",1,"16|0#0#0#2150",0,1,0,0,"猎妖之路商店节点"]
[null,3123,"微澜战盔",56,4,100,"66#90","60138#1",1,"16|0#0#0#2150",0,1,0,0,"猎妖之路商店节点"]
[null,3124,"无垠战靴",56,4,100,"66#90","60144#1",1,"16|0#0#0#2150",0,1,0,0,"猎妖之路商店节点"]
[null,3125,"弹指神戟",56,4,100,"91#999","60155#1",1,"16|0#0#0#3500",0,1,0,0,"猎妖之路商店节点"]
[null,3126,"炎帝战甲",56,4,100,"91#999","60180#1",1,"16|0#0#0#3500",0,1,0,0,"猎妖之路商店节点"]
[null,3127,"六合战盔",56,4,100,"91#999","60190#1",1,"16|0#0#0#3500",0,1,0,0,"猎妖之路商店节点"]
[null,3128,"六合战靴",56,4,100,"91#999","60195#1",1,"16|0#0#0#3500",0,1,0,0,"猎妖之路商店节点"]
[null,3129,"五世泽斩魂印*1",58,1,100,"1#999","5000048#1",1,"1003|0#0#0#480",0,0,0,0,"乾坤商店"]
[null,3130,"饕餮吞鲸魂印*1",58,2,100,"1#999","5000049#1",1,"1003|0#0#0#480",0,0,0,0,"乾坤商店"]
[null,3131,"恶来典韦魂印*1",58,3,100,"1#999","5000050#1",1,"1003|0#0#0#480",0,0,0,0,"乾坤商店"]
[null,3132,"羲农之佑魂印*1",58,4,100,"1#999","5000051#1",1,"1003|0#0#0#480",0,0,0,0,"乾坤商店"]
[null,3133,"武圣关羽魂印*1",58,5,100,"1#999","5000052#1",1,"1003|0#0#0#480",0,0,0,0,"乾坤商店"]
[null,3134,"历战之躯魂印*1",58,6,100,"1#999","5000053#1",1,"1003|0#0#0#480",0,0,0,0,"乾坤商店"]
[null,3135,"舍身济世魂印*1",58,7,100,"1#999","5000054#1",1,"1003|0#0#0#480",0,0,0,0,"乾坤商店"]
[null,3136,"魔王董卓魂印*1",58,8,100,"1#999","5000055#1",1,"1003|0#0#0#480",0,0,0,0,"乾坤商店"]
[null,3137,"娄候张昭魂印*1",58,9,100,"1#999","5000056#1",1,"1003|0#0#0#480",0,0,0,0,"乾坤商店"]
[null,3138,"见血封喉魂印*1",58,10,100,"1#999","5000057#1",1,"1003|0#0#0#480",0,0,0,0,"乾坤商店"]
[null,3139,"迟谋陈宫魂印*1",58,11,100,"1#999","5000058#1",1,"1003|0#0#0#480",0,0,0,0,"乾坤商店"]
[null,3140,"礼坏乐崩魂印*1",58,12,100,"1#999","5000059#1",1,"1003|0#0#0#480",0,0,0,0,"乾坤商店"]
[null,3141,"司马懿魂印*1",58,13,100,"1#999","5000044#1",1,"1003|0#0#0#160",0,0,0,0,"乾坤商店"]
[null,3142,"神荀彧魂印*1",58,14,100,"1#999","5000045#1",1,"1003|0#0#0#160",0,0,0,0,"乾坤商店"]
[null,3143,"曹操魂印*1",58,15,100,"1#999","5000046#1",1,"1003|0#0#0#160",0,0,0,0,"乾坤商店"]
[null,3144,"神曹仁魂印*1",58,16,100,"1#999","5000036#1",1,"1003|0#0#0#160",0,0,0,0,"乾坤商店"]
[null,3145,"赵云魂印*1",58,17,100,"1#999","5000037#1",1,"1003|0#0#0#160",0,0,0,0,"乾坤商店"]
[null,3146,"桃园结义魂印*1",58,18,100,"1#999","5000038#1",1,"1003|0#0#0#160",0,0,0,0,"乾坤商店"]
[null,3147,"周瑜魂印*1",58,19,100,"1#999","5000043#1",1,"1003|0#0#0#160",0,0,0,0,"乾坤商店"]
[null,3148,"神太史慈魂印*1",58,20,100,"1#999","5000039#1",1,"1003|0#0#0#160",0,0,0,0,"乾坤商店"]
[null,3149,"神黄月英魂印*1",58,21,100,"1#999","5000047#1",1,"1003|0#0#0#160",0,0,0,0,"乾坤商店"]
[null,3150,"神孙尚香魂印*1",58,22,100,"1#999","5000040#1",1,"1003|0#0#0#160",0,0,0,0,"乾坤商店"]
[null,3151,"神华雄魂印*1",58,23,100,"1#999","5000033#1",1,"1003|0#0#0#160",0,0,0,0,"乾坤商店"]
[null,3152,"神华佗魂印*1",58,24,100,"1#999","5000042#1",1,"1003|0#0#0#160",0,0,0,0,"乾坤商店"]
[null,3153,"神于吉魂印*1",58,25,100,"1#999","5000034#1",1,"1003|0#0#0#160",0,0,0,0,"乾坤商店"]
[null,3154,"千里单骑魂印*1",58,26,100,"1#999","5000041#1",1,"1003|0#0#0#160",0,0,0,0,"乾坤商店"]
[null,3155,"一骑当千魂印*1",58,27,100,"1#999","5000035#1",1,"1003|0#0#0#160",0,0,0,0,"乾坤商店"]
[null,3156,"郭嘉魂印*1",58,28,100,"1#999","5000009#1",1,"1003|0#0#0#50",0,0,0,0,"乾坤商店"]
[null,3157,"夏侯惇魂印*1",58,29,100,"1#999","5000010#1",1,"1003|0#0#0#50",0,0,0,0,"乾坤商店"]
[null,3158,"典韦魂印*1",58,30,100,"1#999","5000011#1",1,"1003|0#0#0#50",0,0,0,0,"乾坤商店"]
[null,3159,"许褚魂印*1",58,31,100,"1#999","5000012#1",1,"1003|0#0#0#50",0,0,0,0,"乾坤商店"]
[null,3160,"甄姬魂印*1",58,32,100,"1#999","5000013#1",1,"1003|0#0#0#50",0,0,0,0,"乾坤商店"]
[null,3161,"刘备魂印*1",58,33,100,"1#999","5000014#1",1,"1003|0#0#0#50",0,0,0,0,"乾坤商店"]
[null,3162,"黄月英魂印*1",58,34,100,"1#999","5000015#1",1,"1003|0#0#0#50",0,0,0,0,"乾坤商店"]
[null,3163,"关羽魂印*1",58,35,100,"1#999","5000016#1",1,"1003|0#0#0#50",0,0,0,0,"乾坤商店"]
[null,3164,"张飞魂印*1",58,36,100,"1#999","5000017#1",1,"1003|0#0#0#50",0,0,0,0,"乾坤商店"]
[null,3165,"马超魂印*1",58,37,100,"1#999","5000018#1",1,"1003|0#0#0#50",0,0,0,0,"乾坤商店"]
[null,3166,"黄忠魂印*1",58,38,100,"1#999","5000019#1",1,"1003|0#0#0#50",0,0,0,0,"乾坤商店"]
[null,3167,"魏延魂印*1",58,39,100,"1#999","5000020#1",1,"1003|0#0#0#50",0,0,0,0,"乾坤商店"]
[null,3168,"小乔魂印*1",58,40,100,"1#999","5000021#1",1,"1003|0#0#0#50",0,0,0,0,"乾坤商店"]
[null,3169,"大乔魂印*1",58,41,100,"1#999","5000022#1",1,"1003|0#0#0#50",0,0,0,0,"乾坤商店"]
[null,3170,"孙坚魂印*1",58,42,100,"1#999","5000023#1",1,"1003|0#0#0#50",0,0,0,0,"乾坤商店"]
[null,3171,"陆逊魂印*1",58,43,100,"1#999","5000024#1",1,"1003|0#0#0#50",0,0,0,0,"乾坤商店"]
[null,3172,"孙尚香魂印*1",58,44,100,"1#999","5000025#1",1,"1003|0#0#0#50",0,0,0,0,"乾坤商店"]
[null,3173,"华佗魂印*1",58,45,100,"1#999","5000026#1",1,"1003|0#0#0#50",0,0,0,0,"乾坤商店"]
[null,3174,"貂蝉魂印*1",58,46,100,"1#999","5000027#1",1,"1003|0#0#0#50",0,0,0,0,"乾坤商店"]
[null,3175,"董卓魂印*1",58,47,100,"1#999","5000028#1",1,"1003|0#0#0#50",0,0,0,0,"乾坤商店"]
[null,3176,"华雄魂印*1",58,48,100,"1#999","5000029#1",1,"1003|0#0#0#50",0,0,0,0,"乾坤商店"]
[null,3177,"公孙瓒魂印*1",58,49,100,"1#999","5000030#1",1,"1003|0#0#0#50",0,0,0,0,"乾坤商店"]
[null,3178,"于吉魂印*1",58,50,100,"1#999","5000031#1",1,"1003|0#0#0#50",0,0,0,0,"乾坤商店"]
[null,3179,"袁术魂印*1",58,51,100,"1#999","5000032#1",1,"1003|0#0#0#50",0,0,0,0,"乾坤商店"]
[null,3180,"竞技次数*1",59,1,100000,"1#999","23#1",1,"16|0#0#0#20",0,5,1,7,"道具商城"]
[null,3181,"九转金丹*50",59,2,100000,"1#999","4#50",1,"16|0#0#0#50",0,5,1,7,"道具商城"]
[null,3182,"九转金丹*10",59,3,100000,"1#999","4#10",1,"16|0#0#0#10",0,10,1,8,"道具商城"]
[null,3183,"5星碎片*1",59,4,100000,"1#999","12013#1",1,"16|0#0#0#100",0,5,1,6,"道具商城"]
[null,3184,"高抽*1",59,5,100000,"1#999","19#1",1,"16|0#0#0#250",0,1,1,1,"道具商城"]
[null,3185,"阵营抽*1",59,6,100000,"1#999","20#1",1,"16|0#0#0#2500",0,2,1,4,"道具商城"]
[null,3186,"高级寻宝图*1",59,7,100000,"1#999","61#1",1,"16|0#0#0#1000",0,1,1,6,"道具商城"]
[null,3187,"幸运探宝券10",59,8,100000,"1#999","60#10",1,"16|0#0#0#500",0,1,1,6,"道具商城"]

{"sheet":"Sheet1","index":1,"n_rows":145,"n_cols":23,"rows_kept":145}
[{"$nulls":21},"ReadingName","Id"]
[{"$nulls":21},"string","int"]
[{"$nulls":6},"id","姓名","系数",null,null,"碎片id",{"$nulls":9},3,2]
[{"$nulls":5},11034,10034,"伏冥",6,null,10034,{"$f":"K4+1000","v":11034},40,null,{"$f":"[2]!SUMSTRING(L4:M4,\"#\")","v":{"$error":"#NAME?"}},null,{"$f":"H4&\"碎片\"","v":"伏冥碎片"},{"$nulls":4},"角色名（辨识用）","角色ID"]
[{"$nulls":5},11035,10035,"司空染",6,null,10035,{"$f":"K5+1000","v":11035},40,null,{"$f":"[2]!SUMSTRING(L5:M5,\"#\")","v":{"$error":"#NAME?"}},null,{"$f":"H5&\"碎片\"","v":"司空染碎片"},{"$nulls":4},"",0]
[{"$nulls":5},11044,10044,"姜燧",6,null,10044,11044,40,null,{"$f":"[2]!SUMSTRING(L6:M6,\"#\")","v":{"$error":"#NAME?"}},null,"姜燧碎片"]
[{"$nulls":5},11026,10026,"孙晴",5,null,10026,11026,40,null,{"$f":"[2]!SUMSTRING(L7:M7,\"#\")","v":{"$error":"#NAME?"}},null,"孙晴碎片"]
[{"$nulls":5},11027,10027,"宁月",5,null,10027,11027,40,null,{"$f":"[2]!SUMSTRING(L8:M8,\"#\")","v":{"$error":"#NAME?"}},null,"宁月碎片",{"$nulls":4},"石御霏",10001]
[{"$nulls":5},11028,10028,"紫川",5,null,10028,11028,40,null,{"$f":"[2]!SUMSTRING(L9:M9,\"#\")","v":{"$error":"#NAME?"}},null,"紫川碎片",{"$nulls":4},"楚恒",10002]
[{"$nulls":5},11046,10046,"林越",5,null,10046,11046,40,null,{"$f":"[2]!SUMSTRING(L10:M10,\"#\")","v":{"$error":"#NAME?"}},null,"林越碎片",{"$nulls":4},"夏侯鸿天",10003]
[{"$nulls":5},11029,10029,"晏息",4,null,10029,11029,40,null,{"$f":"[2]!SUMSTRING(L11:M11,\"#\")","v":{"$error":"#NAME?"}},null,"晏息碎片",{"$nulls":4},"应茹",10004]
[{"$nulls":5},11031,10031,"贾裴武",4,null,10031,11031,40,null,{"$f":"[2]!SUMSTRING(L12:M12,\"#\")","v":{"$error":"#NAME?"}},null,"贾裴武碎片",{"$nulls":4},"端木葵",10005]
[{"$nulls":5},11032,10032,"雷燕",4,null,10032,11032,40,null,{"$f":"[2]!SUMSTRING(L13:M13,\"#\")","v":{"$error":"#NAME?"}},null,"雷燕碎片",{"$nulls":4},"兰卿",10006]
[{"$nulls":5},11033,10033,"辛夷",4,null,10033,11033,40,null,{"$f":"[2]!SUMSTRING(L14:M14,\"#\")","v":{"$error":"#NAME?"}},null,"辛夷碎片",{"$nulls":4},"靖之",10007]
[{"$nulls":5},11036,10036,"解幽",3,null,10036,11036,40,null,{"$f":"[2]!SUMSTRING(L15:M15,\"#\")","v":{"$error":"#NAME?"}},null,"解幽碎片",{"$nulls":4},"白梦凡",10008]
[{"$nulls":5},11037,10037,"薛苓",3,null,10037,11037,40,null,{"$f":"[2]!SUMSTRING(L16:M16,\"#\")","v":{"$error":"#NAME?"}},null,"薛苓碎片",{"$nulls":4},"祁菲",10009]
[{"$nulls":5},11039,10039,"呼延腾",3,null,10039,11039,40,null,{"$f":"[2]!SUMSTRING(L17:M17,\"#\")","v":{"$error":"#NAME?"}},null,"呼延腾碎片",{"$nulls":4},"颜祈佳",10010]
[{"$nulls":5},11043,10043,"乌廉",3,null,10043,11043,40,null,{"$f":"[2]!SUMSTRING(L18:M18,\"#\")","v":{"$error":"#NAME?"}},null,"乌廉碎片",{"$nulls":4},"岳寅",10011]
[{"$nulls":5},11024,10024,"许槿然",2,null,10024,11024,40,null,{"$f":"[2]!SUMSTRING(L19:M19,\"#\")","v":{"$error":"#NAME?"}},null,"许槿然碎片",{"$nulls":4},"慕容子期",10012]
[{"$nulls":5},11030,10030,"瑶瑶",2,null,10030,11030,40,null,{"$f":"[2]!SUMSTRING(L20:M20,\"#\")","v":{"$error":"#NAME?"}},null,"瑶瑶碎片",{"$nulls":4},"云灵",10013]
[{"$nulls":5},11042,10042,"叶辽",2,null,10042,11042,40,null,{"$f":"[2]!SUMSTRING(L21:M21,\"#\")","v":{"$error":"#NAME?"}},null,"叶辽碎片",{"$nulls":4},"耿陶",10014]
[{"$nulls":5},11045,10045,"苏可",2,null,10045,11045,40,null,{"$f":"[2]!SUMSTRING(L22:M22,\"#\")","v":{"$error":"#NAME?"}},null,"苏可碎片",{"$nulls":4},"云",10015]
[{"$nulls":5},11025,10025,"唐萱",1,null,10025,11025,40,null,{"$f":"[2]!SUMSTRING(L23:M23,\"#\")","v":{"$error":"#NAME?"}},null,"唐萱碎片",{"$nulls":4},"岑以航",10016]
[{"$nulls":5},11038,10038,"常申",1,null,10038,11038,40,null,{"$f":"[2]!SUMSTRING(L24:M24,\"#\")","v":{"$error":"#NAME?"}},null,"常申碎片",{"$nulls":4},"影蓟",10017]
[{"$nulls":5},11040,10040,"冉宜",1,null,10040,11040,40,null,{"$f":"[2]!SUMSTRING(L25:M25,\"#\")","v":{"$error":"#NAME?"}},null,"冉宜碎片",{"$nulls":4},"朱贺",10018]
[{"$nulls":5},11041,10041,"孟灿",1,null,10041,11041,40,null,{"$f":"[2]!SUMSTRING(L26:M26,\"#\")","v":{"$error":"#NAME?"}},null,"孟灿碎片",{"$nulls":4},"孔谦",10019]
[{"$nulls":21},"颜无雍",10020]
[{"$nulls":6},{"$f":"VLOOKUP(H28,$V:$W,2,0)","v":10005},"端木葵",7,null,{"$f":"G28+1000","v":11005},50,null,null,{"$f":"[2]!SUMSTRING(K28:L28,\"#\")","v":{"$error":"#NAME?"}},null,"端木葵碎片",{"$nulls":4},"岑以璇",10021]
[{"$nulls":6},{"$f":"VLOOKUP(H29,$V:$W,2,0)","v":10006},"兰卿",7,null,{"$f":"G29+1000","v":11006},50,null,null,{"$f":"[2]!SUMSTRING(K29:L29,\"#\")","v":{"$error":"#NAME?"}},null,"兰卿碎片",{"$nulls":4},"颜无诡",10022]
[{"$nulls":6},10007,"靖之",7,null,11007,50,null,null,{"$f":"[2]!SUMSTRING(K30:L30,\"#\")","v":{"$error":"#NAME?"}},null,"靖之碎片",{"$nulls":4},"荧荧",10023]
[{"$nulls":6},10010,"颜祈佳",7,null,11010,50,null,null,{"$f":"[2]!SUMSTRING(K31:L31,\"#\")","v":{"$error":"#NAME?"}},null,"颜祈佳碎片",{"$nulls":4},"许槿然",10024]
[{"$nulls":6},10011,"岳寅",{"$f":"I28+1","v":8},null,11011,50,null,null,{"$f":"[2]!SUMSTRING(K32:L32,\"#\")","v":{"$error":"#NAME?"}},null,"岳寅碎片",{"$nulls":4},"唐萱",10025]
[{"$nulls":6},10013,"云灵",{"$f":"I29+1","v":8},null,11013,50,null,null,{"$f":"[2]!SUMSTRING(K33:L33,\"#\")","v":{"$error":"#NAME?"}},null,"云灵碎片",{"$nulls":4},"孙晴",10026]
[{"$nulls":6},10016,"岑以航",8,null,11016,50,null,null,{"$f":"[2]!SUMSTRING(K34:L34,\"#\")","v":{"$error":"#NAME?"}},null,"岑以航碎片",{"$nulls":4},"宁月",10027]
[{"$nulls":6},10020,"颜无雍",8,null,11020,50,null,null,{"$f":"[2]!SUMSTRING(K35:L35,\"#\")","v":{"$error":"#NAME?"}},null,"颜无雍碎片",{"$nulls":4},"紫川",10028]
[{"$nulls":6},10021,"岑以璇",9,null,11021,50,null,null,{"$f":"[2]!SUMSTRING(K36:L36,\"#\")","v":{"$error":"#NAME?"}},null,"岑以璇碎片",{"$nulls":4},"晏息",10029]
[{"$nulls":6},10022,"颜无诡",9,null,11022,50,null,null,{"$f":"[2]!SUMSTRING(K37:L37,\"#\")","v":{"$error":"#NAME?"}},null,"颜无诡碎片",{"$nulls":4},"瑶瑶",10030]
[{"$nulls":6},10002,"楚恒",9,null,11002,50,null,null,{"$f":"[2]!SUMSTRING(K38:L38,\"#\")","v":{"$error":"#NAME?"}},null,"楚恒碎片",{"$nulls":4},"贾裴武",10031]
[{"$nulls":6},10003,"夏侯鸿天",9,null,11003,50,null,null,{"$f":"[2]!SUMSTRING(K39:L39,\"#\")","v":{"$error":"#NAME?"}},null,"夏侯鸿天碎片",{"$nulls":4},"雷燕",10032]
[{"$nulls":21},"辛夷",10033]
[{"$nulls":21},"伏冥",10034]
[{"$nulls":21},"司空染",10035]
[{"$nulls":21},"解幽",10036]
[{"$nulls":21},"薛苓",10037]
[{"$nulls":21},"常申",10038]
[null,null,11047,30,{"$f":"VLOOKUP(C46,[3]ItemConfig!$B:$C,2,0)","v":"大火妖碎片"},{"$nulls":16},"呼延腾",10039]
[null,null,11048,30,{"$f":"VLOOKUP(C47,[3]ItemConfig!$B:$C,2,0)","v":"雪女碎片"},{"$nulls":16},"冉宜",10040]
[null,null,11049,30,{"$f":"VLOOKUP(C48,[3]ItemConfig!$B:$C,2,0)","v":"娜迦王碎片"},{"$nulls":16},"孟灿",10041]
[null,null,11050,30,{"$f":"VLOOKUP(C49,[3]ItemConfig!$B:$C,2,0)","v":"摩呼碎片"},{"$nulls":16},"叶辽",10042]
[null,null,11051,30,{"$f":"VLOOKUP(C50,[3]ItemConfig!$B:$C,2,0)","v":"半仙碎片"},{"$nulls":16},"乌廉",10043]
[null,null,11052,30,{"$f":"VLOOKUP(C51,[3]ItemConfig!$B:$C,2,0)","v":"荷莲碎片"},{"$nulls":16},"姜燧",10044]
[null,null,11047,30,{"$f":"VLOOKUP(C52,[3]ItemConfig!$B:$C,2,0)","v":"大火妖碎片"},{"$nulls":16},"苏可",10045]
[null,null,11048,30,{"$f":"VLOOKUP(C53,[3]ItemConfig!$B:$C,2,0)","v":"雪女碎片"},{"$nulls":16},"林越",10046]
[null,null,11049,30,{"$f":"VLOOKUP(C54,[3]ItemConfig!$B:$C,2,0)","v":"娜迦王碎片"},{"$nulls":16},"赤肥肥",10047]
[null,null,11050,30,{"$f":"VLOOKUP(C55,[3]ItemConfig!$B:$C,2,0)","v":"摩呼碎片"},{"$nulls":16},"银肥肥",10048]
[null,null,11051,30,{"$f":"VLOOKUP(C56,[3]ItemConfig!$B:$C,2,0)","v":"半仙碎片"},{"$nulls":16},"苍肥肥",10049]
[null,null,11052,30,{"$f":"VLOOKUP(C57,[3]ItemConfig!$B:$C,2,0)","v":"荷莲碎片"},{"$nulls":16},"金肥肥",10050]
[null,null,11024,40,{"$f":"VLOOKUP(C58,[3]ItemConfig!$B:$C,2,0)","v":"姜子牙碎片"},{"$nulls":16},"阳魔",10051]
[null,null,11025,40,{"$f":"VLOOKUP(C59,[3]ItemConfig!$B:$C,2,0)","v":"道德天尊碎片"},{"$nulls":16},"阴魔",10052]
[null,null,11026,40,{"$f":"VLOOKUP(C60,[3]ItemConfig!$B:$C,2,0)","v":"东华帝君碎片"}]
[null,null,11027,40,{"$f":"VLOOKUP(C61,[3]ItemConfig!$B:$C,2,0)","v":"孟婆碎片"}]
[null,null,11028,40,{"$f":"VLOOKUP(C62,[3]ItemConfig!$B:$C,2,0)","v":"石矶娘娘碎片"}]
[null,null,11029,40,{"$f":"VLOOKUP(C63,[3]ItemConfig!$B:$C,2,0)","v":"月光菩萨碎片"}]
[null,null,11030,40,{"$f":"VLOOKUP(C64,[3]ItemConfig!$B:$C,2,0)","v":"梵天碎片"}]
[null,null,11031,40,{"$f":"VLOOKUP(C65,[3]ItemConfig!$B:$C,2,0)","v":"红孩儿碎片"}]
[null,null,11032,40,{"$f":"VLOOKUP(C66,[3]ItemConfig!$B:$C,2,0)","v":"吴刚碎片"}]
[null,null,11033,40,{"$f":"VLOOKUP(C67,[3]ItemConfig!$B:$C,2,0)","v":"净光天女碎片"}]
[null,null,11034,40,{"$f":"VLOOKUP(C68,[3]ItemConfig!$B:$C,2,0)","v":"帝释天碎片"}]
[null,null,11035,40,{"$f":"VLOOKUP(C69,[3]ItemConfig!$B:$C,2,0)","v":"妈祖碎片"}]
[null,null,11036,40,{"$f":"VLOOKUP(C70,[3]ItemConfig!$B:$C,2,0)","v":"赵公明碎片"}]
[null,null,11037,40,{"$f":"VLOOKUP(C71,[3]ItemConfig!$B:$C,2,0)","v":"罗刹碎片"}]
[null,null,11038,40,{"$f":"VLOOKUP(C72,[3]ItemConfig!$B:$C,2,0)","v":"夜叉碎片"}]
[null,null,11039,40,{"$f":"VLOOKUP(C73,[3]ItemConfig!$B:$C,2,0)","v":"普贤菩萨碎片"}]
[null,null,11040,40,{"$f":"VLOOKUP(C74,[3]ItemConfig!$B:$C,2,0)","v":"杨戬碎片"}]
[null,null,11041,40,{"$f":"VLOOKUP(C75,[3]ItemConfig!$B:$C,2,0)","v":"通天教主碎片"}]
[null,null,11042,40,{"$f":"VLOOKUP(C76,[3]ItemConfig!$B:$C,2,0)","v":"九天玄女碎片"}]
[null,null,11043,40,{"$f":"VLOOKUP(C77,[3]ItemConfig!$B:$C,2,0)","v":"骊山老祖碎片"}]
[null,null,11044,40,{"$f":"VLOOKUP(C78,[3]ItemConfig!$B:$C,2,0)","v":"混世魔王碎片"}]
[null,null,11045,40,{"$f":"VLOOKUP(C79,[3]ItemConfig!$B:$C,2,0)","v":"百花仙子碎片"}]
[null,null,11046,40,{"$f":"VLOOKUP(C80,[3]ItemConfig!$B:$C,2,0)","v":"女英碎片"}]
[null,null,11024,40,{"$f":"VLOOKUP(C81,[3]ItemConfig!$B:$C,2,0)","v":"姜子牙碎片"}]
[null,null,11025,40,{"$f":"VLOOKUP(C82,[3]ItemConfig!$B:$C,2,0)","v":"道德天尊碎片"}]
[null,null,11026,40,{"$f":"VLOOKUP(C83,[3]ItemConfig!$B:$C,2,0)","v":"东华帝君碎片"}]
[null,null,11027,40,{"$f":"VLOOKUP(C84,[3]ItemConfig!$B:$C,2,0)","v":"孟婆碎片"}]
[null,null,11028,40,{"$f":"VLOOKUP(C85,[3]ItemConfig!$B:$C,2,0)","v":"石矶娘娘碎片"}]
[null,null,11029,40,{"$f":"VLOOKUP(C86,[3]ItemConfig!$B:$C,2,0)","v":"月光菩萨碎片"}]
[null,null,11030,40,{"$f":"VLOOKUP(C87,[3]ItemConfig!$B:$C,2,0)","v":"梵天碎片"}]
[null,null,11031,40,{"$f":"VLOOKUP(C88,[3]ItemConfig!$B:$C,2,0)","v":"红孩儿碎片"}]
[null,null,11032,40,{"$f":"VLOOKUP(C89,[3]ItemConfig!$B:$C,2,0)","v":"吴刚碎片"}]
[null,null,11033,40,{"$f":"VLOOKUP(C90,[3]ItemConfig!$B:$C,2,0)","v":"净光天女碎片"}]
[null,null,11034,40,{"$f":"VLOOKUP(C91,[3]ItemConfig!$B:$C,2,0)","v":"帝释天碎片"}]
[null,null,11035,40,{"$f":"VLOOKUP(C92,[3]ItemConfig!$B:$C,2,0)","v":"妈祖碎片"}]
[null,null,11036,40,{"$f":"VLOOKUP(C93,[3]ItemConfig!$B:$C,2,0)","v":"赵公明碎片"}]
[null,null,11037,40,{"$f":"VLOOKUP(C94,[3]ItemConfig!$B:$C,2,0)","v":"罗刹碎片"}]
[null,null,11038,40,{"$f":"VLOOKUP(C95,[3]ItemConfig!$B:$C,2,0)","v":"夜叉碎片"}]
[null,null,11039,40,{"$f":"VLOOKUP(C96,[3]ItemConfig!$B:$C,2,0)","v":"普贤菩萨碎片"}]
[null,null,11040,40,{"$f":"VLOOKUP(C97,[3]ItemConfig!$B:$C,2,0)","v":"杨戬碎片"}]
[null,null,11041,40,{"$f":"VLOOKUP(C98,[3]ItemConfig!$B:$C,2,0)","v":"通天教主碎片"}]
[null,null,11042,40,{"$f":"VLOOKUP(C99,[3]ItemConfig!$B:$C,2,0)","v":"九天玄女碎片"}]
[null,null,11043,40,{"$f":"VLOOKUP(C100,[3]ItemConfig!$B:$C,2,0)","v":"骊山老祖碎片"}]
[null,null,11044,40,{"$f":"VLOOKUP(C101,[3]ItemConfig!$B:$C,2,0)","v":"混世魔王碎片"}]
[null,null,11045,40,{"$f":"VLOOKUP(C102,[3]ItemConfig!$B:$C,2,0)","v":"百花仙子碎片"}]
[null,null,11046,40,{"$f":"VLOOKUP(C103,[3]ItemConfig!$B:$C,2,0)","v":"女英碎片"}]
[null,null,11047,30,{"$f":"VLOOKUP(C104,[3]ItemConfig!$B:$C,2,0)","v":"大火妖碎片"}]
[null,null,11048,30,{"$f":"VLOOKUP(C105,[3]ItemConfig!$B:$C,2,0)","v":"雪女碎片"}]
[null,null,11049,30,{"$f":"VLOOKUP(C106,[3]ItemConfig!$B:$C,2,0)","v":"娜迦王碎片"}]
[null,null,11050,30,{"$f":"VLOOKUP(C107,[3]ItemConfig!$B:$C,2,0)","v":"摩呼碎片"}]
[null,null,11051,30,{"$f":"VLOOKUP(C108,[3]ItemConfig!$B:$C,2,0)","v":"半仙碎片"}]
[null,null,11052,30,{"$f":"VLOOKUP(C109,[3]ItemConfig!$B:$C,2,0)","v":"荷莲碎片"}]
[null,null,11024,40,{"$f":"VLOOKUP(C110,[3]ItemConfig!$B:$C,2,0)","v":"姜子牙碎片"}]
[null,null,11025,40,{"$f":"VLOOKUP(C111,[3]ItemConfig!$B:$C,2,0)","v":"道德天尊碎片"}]
[null,null,11026,40,{"$f":"VLOOKUP(C112,[3]ItemConfig!$B:$C,2,0)","v":"东华帝君碎片"}]
[null,null,11027,40,{"$f":"VLOOKUP(C113,[3]ItemConfig!$B:$C,2,0)","v":"孟婆碎片"}]
[null,null,11028,40,{"$f":"VLOOKUP(C114,[3]ItemConfig!$B:$C,2,0)","v":"石矶娘娘碎片"}]
[null,null,11029,40,{"$f":"VLOOKUP(C115,[3]ItemConfig!$B:$C,2,0)","v":"月光菩萨碎片"}]
[null,null,11030,40,{"$f":"VLOOKUP(C116,[3]ItemConfig!$B:$C,2,0)","v":"梵天碎片"}]
[null,null,11031,40,{"$f":"VLOOKUP(C117,[3]ItemConfig!$B:$C,2,0)","v":"红孩儿碎片"}]
[null,null,11032,40,{"$f":"VLOOKUP(C118,[3]ItemConfig!$B:$C,2,0)","v":"吴刚碎片"}]
[null,null,11033,40,{"$f":"VLOOKUP(C119,[3]ItemConfig!$B:$C,2,0)","v":"净光天女碎片"}]
[null,null,11034,40,{"$f":"VLOOKUP(C120,[3]ItemConfig!$B:$C,2,0)","v":"帝释天碎片"}]
[null,null,11035,40,{"$f":"VLOOKUP(C121,[3]ItemConfig!$B:$C,2,0)","v":"妈祖碎片"}]
[null,null,11036,40,{"$f":"VLOOKUP(C122,[3]ItemConfig!$B:$C,2,0)","v":"赵公明碎片"}]
[null,null,11037,40,{"$f":"VLOOKUP(C123,[3]ItemConfig!$B:$C,2,0)","v":"罗刹碎片"}]
[null,null,11038,40,{"$f":"VLOOKUP(C124,[3]ItemConfig!$B:$C,2,0)","v":"夜叉碎片"}]
[null,null,11039,40,{"$f":"VLOOKUP(C125,[3]ItemConfig!$B:$C,2,0)","v":"普贤菩萨碎片"}]
[null,null,11040,40,{"$f":"VLOOKUP(C126,[3]ItemConfig!$B:$C,2,0)","v":"杨戬碎片"}]
[null,null,11041,40,{"$f":"VLOOKUP(C127,[3]ItemConfig!$B:$C,2,0)","v":"通天教主碎片"}]
[null,null,11042,40,{"$f":"VLOOKUP(C128,[3]ItemConfig!$B:$C,2,0)","v":"九天玄女碎片"}]
[null,null,11043,40,{"$f":"VLOOKUP(C129,[3]ItemConfig!$B:$C,2,0)","v":"骊山老祖碎片"}]
[null,null,11044,40,{"$f":"VLOOKUP(C130,[3]ItemConfig!$B:$C,2,0)","v":"混世魔王碎片"}]
[null,null,11045,40,{"$f":"VLOOKUP(C131,[3]ItemConfig!$B:$C,2,0)","v":"百花仙子碎片"}]
[null,null,11046,40,{"$f":"VLOOKUP(C132,[3]ItemConfig!$B:$C,2,0)","v":"女英碎片"}]
[null,null,3,75,{"$f":"VLOOKUP(C133,[3]ItemConfig!$B:$C,2,0)","v":"成长护符"}]
[null,null,3,150,{"$f":"VLOOKUP(C134,[3]ItemConfig!$B:$C,2,0)","v":"成长护符"}]
[null,null,4,3000,{"$f":"VLOOKUP(C135,[3]ItemConfig!$B:$C,2,0)","v":"九转金丹"}]
[null,null,4,6000,{"$f":"VLOOKUP(C136,[3]ItemConfig!$B:$C,2,0)","v":"九转金丹"}]
[null,null,3,75,{"$f":"VLOOKUP(C137,[3]ItemConfig!$B:$C,2,0)","v":"成长护符"}]
[null,null,3,150,{"$f":"VLOOKUP(C138,[3]ItemConfig!$B:$C,2,0)","v":"成长护符"}]
[null,null,4,3000,{"$f":"VLOOKUP(C139,[3]ItemConfig!$B:$C,2,0)","v":"九转金丹"}]
[null,null,4,6000,{"$f":"VLOOKUP(C140,[3]ItemConfig!$B:$C,2,0)","v":"九转金丹"}]
[null,null,3,75,{"$f":"VLOOKUP(C141,[3]ItemConfig!$B:$C,2,0)","v":"成长护符"}]
[null,null,3,150,{"$f":"VLOOKUP(C142,[3]ItemConfig!$B:$C,2,0)","v":"成长护符"}]
[null,null,4,3000,{"$f":"VLOOKUP(C143,[3]ItemConfig!$B:$C,2,0)","v":"九转金丹"}]
[null,null,4,6000,{"$f":"VLOOKUP(C144,[3]ItemConfig!$B:$C,2,0)","v":"九转金丹"}]
[null,null,19,10,{"$f":"VLOOKUP(C145,[3]ItemConfig!$B:$C,2,0)","v":"点将神符"}]

{"sheet":"Sheet2","index":2,"n_rows":66,"n_cols":18,"rows_kept":66}
[]
[{"$nulls":3},8019,1,null,null,{"$f":"[2]!SUMSTRING(D2:E2,\"#\")","v":{"$error":"#NAME?"}},null,3023,{"$f":"J2&\"#\"&E2","v":"3023#1"},{"$f":"VLOOKUP(J2,[3]ItemConfig!$B:$C,2,FALSE)","v":{"$error":"#N/A"}}]
[{"$nulls":3},8020,1,null,null,{"$f":"[2]!SUMSTRING(D3:E3,\"#\")","v":{"$error":"#NAME?"}},null,3024,{"$f":"J3&\"#\"&E3","v":"3024#1"},{"$f":"VLOOKUP(J3,[3]ItemConfig!$B:$C,2,FALSE)","v":{"$error":"#N/A"}}]
[{"$nulls":3},8021,1,null,null,{"$f":"[2]!SUMSTRING(D4:E4,\"#\")","v":{"$error":"#NAME?"}},null,3025,"3025#1",{"$f":"VLOOKUP(J4,[3]ItemConfig!$B:$C,2,FALSE)","v":{"$error":"#N/A"}}]
[{"$nulls":3},8022,1,null,null,{"$f":"[2]!SUMSTRING(D5:E5,\"#\")","v":{"$error":"#NAME?"}},null,3026,"3026#1",{"$f":"VLOOKUP(J5,[3]ItemConfig!$B:$C,2,FALSE)","v":{"$error":"#N/A"}}]
[{"$nulls":3},8023,1,null,null,{"$f":"[2]!SUMSTRING(D6:E6,\"#\")","v":{"$error":"#NAME?"}},null,3027,"3027#1",{"$f":"VLOOKUP(J6,[3]ItemConfig!$B:$C,2,FALSE)","v":{"$error":"#N/A"}}]
[{"$nulls":3},8024,1,null,null,{"$f":"[2]!SUMSTRING(D7:E7,\"#\")","v":{"$error":"#NAME?"}},null,3028,"3028#1",{"$f":"VLOOKUP(J7,[3]ItemConfig!$B:$C,2,FALSE)","v":{"$error":"#N/A"}}]
[{"$nulls":3},8031,1,null,null,{"$f":"[2]!SUMSTRING(D8:E8,\"#\")","v":{"$error":"#NAME?"}},null,3029,"3029#1",{"$f":"VLOOKUP(J8,[3]ItemConfig!$B:$C,2,FALSE)","v":{"$error":"#N/A"}}]
[{"$nulls":3},8032,1,null,null,{"$f":"[2]!SUMSTRING(D9:E9,\"#\")","v":{"$error":"#NAME?"}},null,3030,"3030#1",{"$f":"VLOOKUP(J9,[3]ItemConfig!$B:$C,2,FALSE)","v":{"$error":"#N/A"}}]
[{"$nulls":3},8033,1,null,null,{"$f":"[2]!SUMSTRING(D10:E10,\"#\")","v":{"$error":"#NAME?"}},null,3031,"3031#1",{"$f":"VLOOKUP(J10,[3]ItemConfig!$B:$C,2,FALSE)","v":{"$error":"#N/A"}}]
[{"$nulls":3},8034,1,null,null,{"$f":"[2]!SUMSTRING(D11:E11,\"#\")","v":{"$error":"#NAME?"}},null,3032,"3032#1",{"$f":"VLOOKUP(J11,[3]ItemConfig!$B:$C,2,FALSE)","v":{"$error":"#N/A"}}]
[{"$nulls":3},8035,1,null,null,{"$f":"[2]!SUMSTRING(D12:E12,\"#\")","v":{"$error":"#NAME?"}},null,3033,"3033#1",{"$f":"VLOOKUP(J12,[3]ItemConfig!$B:$C,2,FALSE)","v":{"$error":"#N/A"}}]
[{"$nulls":3},8036,1,null,null,{"$f":"[2]!SUMSTRING(D13:E13,\"#\")","v":{"$error":"#NAME?"}},null,3034,"3034#1",{"$f":"VLOOKUP(J13,[3]ItemConfig!$B:$C,2,FALSE)","v":{"$error":"#N/A"}}]
[{"$nulls":3},8037,1,null,null,{"$f":"[2]!SUMSTRING(D14:E14,\"#\")","v":{"$error":"#NAME?"}},null,3035,"3035#1",{"$f":"VLOOKUP(J14,[3]ItemConfig!$B:$C,2,FALSE)","v":{"$error":"#N/A"}}]
[{"$nulls":3},8038,1,null,null,{"$f":"[2]!SUMSTRING(D15:E15,\"#\")","v":{"$error":"#NAME?"}},null,3036,"3036#1",{"$f":"VLOOKUP(J15,[3]ItemConfig!$B:$C,2,FALSE)","v":{"$error":"#N/A"}}]
[{"$nulls":3},8039,1,null,null,{"$f":"[2]!SUMSTRING(D16:E16,\"#\")","v":{"$error":"#NAME?"}},null,3037,"3037#1",{"$f":"VLOOKUP(J16,[3]ItemConfig!$B:$C,2,FALSE)","v":{"$error":"#N/A"}}]
[{"$nulls":3},8040,1,null,null,{"$f":"[2]!SUMSTRING(D17:E17,\"#\")","v":{"$error":"#NAME?"}},null,3038,"3038#1",{"$f":"VLOOKUP(J17,[3]ItemConfig!$B:$C,2,FALSE)","v":{"$error":"#N/A"}}]
[{"$nulls":3},8041,1,null,null,{"$f":"[2]!SUMSTRING(D18:E18,\"#\")","v":{"$error":"#NAME?"}},null,3039,"3039#1",{"$f":"VLOOKUP(J18,[3]ItemConfig!$B:$C,2,FALSE)","v":{"$error":"#N/A"}}]
[{"$nulls":3},8042,1,null,null,{"$f":"[2]!SUMSTRING(D19:E19,\"#\")","v":{"$error":"#NAME?"}},null,3040,"3040#1",{"$f":"VLOOKUP(J19,[3]ItemConfig!$B:$C,2,FALSE)","v":{"$error":"#N/A"}}]
[{"$nulls":3},8043,1,null,null,{"$f":"[2]!SUMSTRING(D20:E20,\"#\")","v":{"$error":"#NAME?"}},null,55234,"55234#1",{"$f":"VLOOKUP(J20,[3]ItemConfig!$B:$C,2,FALSE)","v":{"$error":"#N/A"}}]
[{"$nulls":3},8044,1,null,null,{"$f":"[2]!SUMSTRING(D21:E21,\"#\")","v":{"$error":"#NAME?"}},null,55252,"55252#1",{"$f":"VLOOKUP(J21,[3]ItemConfig!$B:$C,2,FALSE)","v":{"$error":"#N/A"}}]
[{"$nulls":3},8045,1,null,null,{"$f":"[2]!SUMSTRING(D22:E22,\"#\")","v":{"$error":"#NAME?"}},null,55181,"55181#1",{"$f":"VLOOKUP(J22,[3]ItemConfig!$B:$C,2,FALSE)","v":{"$error":"#N/A"}},null,{"$f":"SUM(N23:N25)","v":200}]
[{"$nulls":3},8046,1,null,null,{"$f":"[2]!SUMSTRING(D23:E23,\"#\")","v":{"$error":"#NAME?"}},null,55182,"55182#1",{"$f":"VLOOKUP(J23,[3]ItemConfig!$B:$C,2,FALSE)","v":{"$error":"#N/A"}},null,95,{"$f":"N23/$N$22","v":{"v":0.475,"d":"47.5%"}}]
[{"$nulls":3},8047,1,null,null,{"$f":"[2]!SUMSTRING(D24:E24,\"#\")","v":{"$error":"#NAME?"}},null,55199,"55199#1",{"$f":"VLOOKUP(J24,[3]ItemConfig!$B:$C,2,FALSE)","v":{"$error":"#N/A"}},null,95,{"$f":"N24/$N$22","v":{"v":0.475,"d":"47.5%"}},null,4,{"$f":"Q24*5","v":20}]
[{"$nulls":3},8048,1,null,null,{"$f":"[2]!SUMSTRING(D25:E25,\"#\")","v":{"$error":"#NAME?"}},null,55200,"55200#1",{"$f":"VLOOKUP(J25,[3]ItemConfig!$B:$C,2,FALSE)","v":{"$error":"#N/A"}},null,10,{"$f":"N25/$N$22","v":{"v":0.05,"d":"5.0%"}},{"$f":"6*O25","v":0.30000000000000004},{"$f":"P25*Q24","v":1.2000000000000002}]
[{"$nulls":4},1,{"$nulls":4},55217,"55217#1",{"$f":"VLOOKUP(J26,[3]ItemConfig!$B:$C,2,FALSE)","v":{"$error":"#N/A"}},{"$nulls":3},{"$f":"O25*Q26","v":1},20]
[{"$nulls":4},1,{"$nulls":4},55218,"55218#1",{"$f":"VLOOKUP(J27,[3]ItemConfig!$B:$C,2,FALSE)","v":{"$error":"#N/A"}}]
[{"$nulls":4},1,{"$nulls":4},55235,"55235#1",{"$f":"VLOOKUP(J28,[3]ItemConfig!$B:$C,2,FALSE)","v":{"$error":"#N/A"}},null,null,{"$f":"0.33*6","v":1.98},{"$f":"O28*2.5","v":4.95}]
[{"$nulls":4},1,{"$nulls":4},55236,"55236#1",{"$f":"VLOOKUP(J29,[3]ItemConfig!$B:$C,2,FALSE)","v":{"$error":"#N/A"}}]
[{"$nulls":4},1,{"$nulls":4},55253,"55253#1",{"$f":"VLOOKUP(J30,[3]ItemConfig!$B:$C,2,FALSE)","v":{"$error":"#N/A"}},null,null,{"$f":"O25*24","v":1.2000000000000002}]
[{"$nulls":4},1,{"$nulls":4},55254,"55254#1",{"$f":"VLOOKUP(J31,[3]ItemConfig!$B:$C,2,FALSE)","v":{"$error":"#N/A"}}]
[{"$nulls":4},1,{"$nulls":4},55183,"55183#1",{"$f":"VLOOKUP(J32,[3]ItemConfig!$B:$C,2,FALSE)","v":{"$error":"#N/A"}}]
[{"$nulls":4},1,{"$nulls":4},55201,"55201#1",{"$f":"VLOOKUP(J33,[3]ItemConfig!$B:$C,2,FALSE)","v":{"$error":"#N/A"}}]
[{"$nulls":4},1,{"$nulls":4},55219,"55219#1",{"$f":"VLOOKUP(J34,[3]ItemConfig!$B:$C,2,FALSE)","v":{"$error":"#N/A"}}]
[{"$nulls":4},1,{"$nulls":4},55237,"55237#1",{"$f":"VLOOKUP(J35,[3]ItemConfig!$B:$C,2,FALSE)","v":{"$error":"#N/A"}}]
[{"$nulls":4},1,{"$nulls":4},55255,"55255#1",{"$f":"VLOOKUP(J36,[3]ItemConfig!$B:$C,2,FALSE)","v":{"$error":"#N/A"}}]
[{"$nulls":4},1,{"$nulls":4},55184,"55184#1",{"$f":"VLOOKUP(J37,[3]ItemConfig!$B:$C,2,FALSE)","v":{"$error":"#N/A"}}]
[{"$nulls":4},1,{"$nulls":4},55185,"55185#1",{"$f":"VLOOKUP(J38,[3]ItemConfig!$B:$C,2,FALSE)","v":{"$error":"#N/A"}}]
[{"$nulls":4},1,{"$nulls":4},55202,"55202#1",{"$f":"VLOOKUP(J39,[3]ItemConfig!$B:$C,2,FALSE)","v":{"$error":"#N/A"}}]
[{"$nulls":4},1,{"$nulls":4},55203,"55203#1",{"$f":"VLOOKUP(J40,[3]ItemConfig!$B:$C,2,FALSE)","v":{"$error":"#N/A"}}]
[{"$nulls":4},1,{"$nulls":4},55220,"55220#1",{"$f":"VLOOKUP(J41,[3]ItemConfig!$B:$C,2,FALSE)","v":{"$error":"#N/A"}}]
[{"$nulls":4},1,{"$nulls":4},55221,"55221#1",{"$f":"VLOOKUP(J42,[3]ItemConfig!$B:$C,2,FALSE)","v":{"$error":"#N/A"}}]
[{"$nulls":4},1,{"$nulls":4},55238,"55238#1",{"$f":"VLOOKUP(J43,[3]ItemConfig!$B:$C,2,FALSE)","v":{"$error":"#N/A"}}]
[{"$nulls":4},1,{"$nulls":4},55239,"55239#1",{"$f":"VLOOKUP(J44,[3]ItemConfig!$B:$C,2,FALSE)","v":{"$error":"#N/A"}}]
[{"$nulls":4},1,{"$nulls":4},55256,"55256#1",{"$f":"VLOOKUP(J45,[3]ItemConfig!$B:$C,2,FALSE)","v":{"$error":"#N/A"}}]
[{"$nulls":4},1,{"$nulls":4},55257,"55257#1",{"$f":"VLOOKUP(J46,[3]ItemConfig!$B:$C,2,FALSE)","v":{"$error":"#N/A"}}]
[{"$nulls":4},1,{"$nulls":4},55189,"55189#1",{"$f":"VLOOKUP(J47,[3]ItemConfig!$B:$C,2,FALSE)","v":{"$error":"#N/A"}}]
[{"$nulls":4},1,{"$nulls":4},55207,"55207#1",{"$f":"VLOOKUP(J48,[3]ItemConfig!$B:$C,2,FALSE)","v":{"$error":"#N/A"}}]
[{"$nulls":4},1,{"$nulls":4},55225,"55225#1",{"$f":"VLOOKUP(J49,[3]ItemConfig!$B:$C,2,FALSE)","v":{"$error":"#N/A"}}]
[{"$nulls":4},1,{"$nulls":4},55243,"55243#1",{"$f":"VLOOKUP(J50,[3]ItemConfig!$B:$C,2,FALSE)","v":{"$error":"#N/A"}}]
[{"$nulls":4},1,{"$nulls":4},55261,"55261#1",{"$f":"VLOOKUP(J51,[3]ItemConfig!$B:$C,2,FALSE)","v":{"$error":"#N/A"}}]
[{"$nulls":4},1,{"$nulls":4},55190,"55190#1",{"$f":"VLOOKUP(J52,[3]ItemConfig!$B:$C,2,FALSE)","v":{"$error":"#N/A"}}]
[{"$nulls":4},1,{"$nulls":4},55191,"55191#1",{"$f":"VLOOKUP(J53,[3]ItemConfig!$B:$C,2,FALSE)","v":{"$error":"#N/A"}}]
[{"$nulls":4},1,{"$nulls":4},55192,"55192#1",{"$f":"VLOOKUP(J54,[3]ItemConfig!$B:$C,2,FALSE)","v":{"$error":"#N/A"}}]
[{"$nulls":4},1,{"$nulls":4},55208,"55208#1",{"$f":"VLOOKUP(J55,[3]ItemConfig!$B:$C,2,FALSE)","v":{"$error":"#N/A"}}]
[{"$nulls":4},1,{"$nulls":4},55209,"55209#1",{"$f":"VLOOKUP(J56,[3]ItemConfig!$B:$C,2,FALSE)","v":{"$error":"#N/A"}}]
[{"$nulls":4},1,{"$nulls":4},55210,"55210#1",{"$f":"VLOOKUP(J57,[3]ItemConfig!$B:$C,2,FALSE)","v":{"$error":"#N/A"}}]
[{"$nulls":4},1,{"$nulls":4},55226,"55226#1",{"$f":"VLOOKUP(J58,[3]ItemConfig!$B:$C,2,FALSE)","v":{"$error":"#N/A"}}]
[{"$nulls":4},1,{"$nulls":4},55227,"55227#1",{"$f":"VLOOKUP(J59,[3]ItemConfig!$B:$C,2,FALSE)","v":{"$error":"#N/A"}}]
[{"$nulls":4},1,{"$nulls":4},55228,"55228#1",{"$f":"VLOOKUP(J60,[3]ItemConfig!$B:$C,2,FALSE)","v":{"$error":"#N/A"}}]
[{"$nulls":4},1,{"$nulls":4},55244,"55244#1",{"$f":"VLOOKUP(J61,[3]ItemConfig!$B:$C,2,FALSE)","v":{"$error":"#N/A"}}]
[{"$nulls":4},1,{"$nulls":4},55245,"55245#1",{"$f":"VLOOKUP(J62,[3]ItemConfig!$B:$C,2,FALSE)","v":{"$error":"#N/A"}}]
[{"$nulls":4},1,{"$nulls":4},55246,"55246#1",{"$f":"VLOOKUP(J63,[3]ItemConfig!$B:$C,2,FALSE)","v":{"$error":"#N/A"}}]
[{"$nulls":4},1,{"$nulls":4},55262,"55262#1",{"$f":"VLOOKUP(J64,[3]ItemConfig!$B:$C,2,FALSE)","v":{"$error":"#N/A"}}]
[{"$nulls":4},1,{"$nulls":4},55263,"55263#1",{"$f":"VLOOKUP(J65,[3]ItemConfig!$B:$C,2,FALSE)","v":{"$error":"#N/A"}}]
[{"$nulls":4},1,{"$nulls":4},55264,"55264#1",{"$f":"VLOOKUP(J66,[3]ItemConfig!$B:$C,2,FALSE)","v":{"$error":"#N/A"}}]

{"sheet":"竞技场商店","index":3,"n_rows":11,"n_cols":6,"rows_kept":11}
[]
[null,null,"id","数量","消耗"]
[null,"高级招募券",19,10]
[null,"妖魂魔戒",21,10]
[null,"五星万能碎片（4系）",null,50,1000]
[null,"橙色符文1",8019,1,null,{"$f":"_xlfn.TEXTJOIN(\"#\",TRUE,C6:D6)","v":"8019#1"}]
[null,"橙色符文2",8020,{"$f":"D6","v":1},null,"8020#1"]
[null,"橙色符文3",8021,{"$f":"D7","v":1},null,"8021#1"]
[null,null,8022,{"$f":"D8","v":1},null,"8022#1"]
[null,null,8023,{"$f":"D9","v":1},null,"8023#1"]
[null,null,8024,{"$f":"D10","v":1},null,"8024#1"]

{"sheet":"商店","index":4,"n_rows":1736,"n_cols":19,"rows_kept":1736}
[{"$nulls":16},"Id","Name","Id"]
[{"$nulls":16},"int","string","int"]
[{"$nulls":16},2,2,2]
[{"$nulls":4},"试炼商店",{"$nulls":11},"道具id","道具名","道具id"]
[{"$nulls":4},"5星随机碎片",50,3000,null,{"$f":"VLOOKUP(E5,$R:$S,2,FALSE)","v":12013},{"$f":"I5&\"#\"&F5","v":"12013#50"},"16|0#0#0#",{"$f":"K5&G5","v":"16|0#0#0#3000"},{"$nulls":4},0,{"$f":"\"\"","v":""},0]
[{"$nulls":4},"梦魇妖壶",1000,1000,null,4,"4#1000","16|0#0#0#",{"$f":"K6&G6","v":"16|0#0#0#1000"}]
[{"$nulls":4},"成长护符",300000,750,null,3,"3#300000","16|0#0#0#","16|0#0#0#750"]
[{"$nulls":4},"挑战券",10,100,null,23,"23#10","16|0#0#0#","16|0#0#0#100",{"$nulls":4},1,"行动力",1]
[{"$nulls":4},"聚灵神戒",10,2100,null,19,"19#10","16|0#0#0#","16|0#0#0#2100",{"$nulls":4},2,"体力",2]
[{"$nulls":4},"妖魂魔戒",5,900,null,21,"21#5","16|0#0#0#","16|0#0#0#900",{"$nulls":4},3,"成长护符",3]
[{"$nulls":4},"元素神戒",1,500,null,20,"20#1","16|0#0#0#","16|0#0#0#500",{"$nulls":4},4,"梦魇妖壶",4]
[{"$nulls":3},6001,"魔铃",1,600,null,{"$f":"D12","v":6001},"6001#1","16|0#0#0#","16|0#0#0#600",{"$nulls":4},5,"灵丹",5]
[{"$nulls":3},6002,"牛魔",1,600,null,{"$f":"D13","v":6002},{"$f":"I13&\"#\"&F13","v":"6002#1"},"16|0#0#0#","16|0#0#0#600",{"$nulls":4},6,"归元髓液",6]
[{"$nulls":3},6003,"破狼刃",1,600,null,6003,"6003#1","16|0#0#0#","16|0#0#0#600",{"$nulls":4},14,"金币",14]
[{"$nulls":3},6004,"叶青",1,600,null,6004,"6004#1","16|0#0#0#","16|0#0#0#600",{"$nulls":4},15,"魂晶",15]
[{"$nulls":3},6005,"饕餮",1,600,null,6005,"6005#1","16|0#0#0#","16|0#0#0#600",{"$nulls":4},16,"妖晶",16]
[{"$nulls":3},6006,"嗜魂虎",1,600,null,6006,"6006#1","16|0#0#0#","16|0#0#0#600",{"$nulls":4},17,"经验(玩家)",17]
[{"$nulls":3},6007,"散财",1,600,null,6007,"6007#1","16|0#0#0#","16|0#0#0#600",{"$nulls":4},18,"vip经验",18]
[{"$nulls":3},6008,"狐云",1,600,null,6008,"6008#1","16|0#0#0#","16|0#0#0#600",{"$nulls":4},19,"聚灵神戒",19]
[{"$nulls":3},6009,"鳞波甲",1,600,null,6009,"6009#1","16|0#0#0#","16|0#0#0#600",{"$nulls":4},20,"元素神戒",20]
[{"$nulls":3},6013,"不尽木",1,2000,null,6013,{"$f":"I21&\"#\"&F21","v":"6013#1"},"16|0#0#0#","16|0#0#0#2000",{"$nulls":4},21,"妖魂魔戒",21]
[{"$nulls":3},6014,"灼炎",1,2000,null,6014,"6014#1","16|0#0#0#","16|0#0#0#2000",{"$nulls":4},22,"妖灵玉",22]
[{"$nulls":3},6015,"火浣纹",1,2000,null,6015,"6015#1","16|0#0#0#","16|0#0#0#2000",{"$nulls":4},23,"挑战券",23]
[{"$nulls":3},6016,"赤瞳",1,2000,null,6016,"6016#1","16|0#0#0#","16|0#0#0#2000",{"$nulls":4},24,"荣耀徽章",24]
[{"$nulls":3},6017,"飞云",1,2000,null,6017,"6017#1","16|0#0#0#","16|0#0#0#2000",{"$nulls":4},25,"精英证明",25]
[{"$nulls":3},6018,"无善念珠",1,2000,null,6018,"6018#1","16|0#0#0#","16|0#0#0#2000",{"$nulls":4},26,"心火明晶",26]
[{"$nulls":3},6019,"非雾",1,2000,null,6019,"6019#1","16|0#0#0#","16|0#0#0#2000",{"$nulls":4},27,"普通入场券",27]
[{"$nulls":3},6020,"流苏",1,2000,null,6020,"6020#1","16|0#0#0#","16|0#0#0#2000",{"$nulls":4},28,"精英入场券",28]
[{"$nulls":3},6021,"锋刃",1,2000,null,6021,"6021#1","16|0#0#0#","16|0#0#0#2000",{"$nulls":4},29,"深渊魔石",29]
[{"$nulls":3},6022,"狂刀",1,2000,null,6022,"6022#1","16|0#0#0#","16|0#0#0#2000",{"$nulls":4},30,"远古妖魂宝箱",30]
[{"$nulls":3},6023,"幽芒",1,2000,null,6023,"6023#1","16|0#0#0#","16|0#0#0#2000",{"$nulls":4},31,"不朽妖魂宝箱",31]
[{"$nulls":3},6024,"不仁",1,2000,null,6024,"6024#1","16|0#0#0#","16|0#0#0#2000",{"$nulls":4},32,"刀劳鬼妖魂箱",32]
[{"$nulls":3},6025,"霸刀",1,2000,null,6025,"6025#1","16|0#0#0#","16|0#0#0#2000",{"$nulls":4},33,"蒸笼仔妖魂箱",33]
[{"$nulls":3},6026,"铁甲",1,2000,null,6026,"6026#1","16|0#0#0#","16|0#0#0#2000",{"$nulls":4},34,"拘魂姬妖魂箱",34]
[{"$nulls":3},6027,"魔尊",1,2000,null,6027,"6027#1","16|0#0#0#","16|0#0#0#2000",{"$nulls":4},35,"横公妖魂箱",35]
[{"$nulls":3},6028,"血锈",1,2000,null,6028,"6028#1","16|0#0#0#","16|0#0#0#2000",{"$nulls":4},36,"孙龙妖魂箱",36]
[{"$nulls":3},6029,"瞳玉",1,2000,null,6029,"6029#1","16|0#0#0#","16|0#0#0#2000",{"$nulls":4},37,"陌刀妖魂箱",37]
[{"$nulls":3},6030,"风行",1,2000,null,6030,"6030#1","16|0#0#0#","16|0#0#0#2000",{"$nulls":4},38,"火鼠妖魂箱",38]
[{"$nulls":3},6031,"铁骨",1,2000,null,6031,"6031#1","16|0#0#0#","16|0#0#0#2000",{"$nulls":4},39,"拦面叟妖魂箱",39]
[{"$nulls":3},6032,"伤药葫芦",1,2000,null,6032,"6032#1","16|0#0#0#","16|0#0#0#2000",{"$nulls":4},40,"风狸妖魂箱",40]
[{"$nulls":16},41,"天麟妖魂箱",41]
[{"$nulls":16},42,"神秘妖魂宝箱",42]
[{"$nulls":16},43,"次元炸弹",43]
[{"$nulls":16},44,"外敌挑战券",44]
[{"$nulls":16},45,"试炼币",45]
[{"$nulls":3},"杂货店",{"$nulls":12},46,"光辉灵戒",46]
[{"$nulls":4},"归元髓液",{"$nulls":11},47,"时光沙漏",47]
[{"$nulls":4},"聚灵神戒",{"$nulls":11},48,"蒸笼仔妖魂箱",48]
[{"$nulls":4},"元素神戒",{"$nulls":11},49,"拘魂姬妖魂箱",49]
[{"$nulls":4},"成长护符",{"$nulls":11},50,"天麟妖魂箱",50]
[{"$nulls":4},"梦魇妖壶",{"$nulls":11},51,"火鼠妖魂箱",51]
[{"$nulls":4},"成长护符",{"$nulls":11},52,"风狸妖魂箱",52]
[{"$nulls":4},"梦魇妖壶",{"$nulls":11},1001,"铁矿石",1001]
[{"$nulls":4},"3星角色碎片",{"$nulls":11},1002,"金矿石（未使用）",1002]
[{"$nulls":4},"3星角色碎片",{"$nulls":11},1003,"灵石（未使用）",1003]
[{"$nulls":4},"4星角色碎片",{"$nulls":11},1004,"赤血石（未使用）",1004]
[{"$nulls":4},"4星角色碎片",{"$nulls":11},1005,"皮革（未使用）",1005]
[{"$nulls":16},1006,"月影水晶（未使用）",1006]
[{"$nulls":16},1007,"铁锭",1007]
[{"$nulls":16},1008,"秘钢锭",1008]
[{"$nulls":16},1009,"玄金锭",1009]
[{"$nulls":16},1010,"小型铁矿堆（未使用）",1010]
[{"$nulls":16},1011,"中型铁矿堆（未使用）",1011]
[{"$nulls":16},1012,"大型铁矿堆（未使用）",1012]
[{"$nulls":16},1013,"超大型铁矿堆（未使用）",1013]
[{"$nulls":16},1014,"小型灵石堆（未使用）",1014]
[{"$nulls":16},1015,"中型灵石堆（未使用）",1015]
[{"$nulls":16},1016,"大型灵石堆（未使用）",1016]
[{"$nulls":16},1017,"超大型灵石堆（未使用）",1017]
[{"$nulls":16},1018,"小型金矿堆（未使用）",1018]
[{"$nulls":16},1019,"中型金矿堆（未使用）",1019]
[{"$nulls":16},1020,"大型金矿堆（未使用）",1020]
[{"$nulls":16},1021,"超大型金矿堆（未使用）",1021]
[{"$nulls":16},1501,"遁地符（未使用）",1501]
[{"$nulls":16},1502,"照妖镜（未使用）",1502]
[{"$nulls":16},1503,"镐头（未使用）",1503]
[{"$nulls":16},1504,"藏宝图碎片",1504]
[{"$nulls":16},1505,"太初藏宝图碎片",1505]
[{"$nulls":16},1506,"藏宝图",1506]
[{"$nulls":16},1507,"太初藏宝图",1507]
[{"$nulls":16},1508,"绿色装备",1508]
[{"$nulls":16},1509,"蓝色装备",1509]
[{"$nulls":16},1510,"紫色装备",1510]
[{"$nulls":16},1511,"橙色装备",1511]
[{"$nulls":16},1520,"迷魂之心",1520]
[{"$nulls":16},1521,"阵石",1521]
[{"$nulls":16},1522,"妖兽精血",1522]
[{"$nulls":16},1523,"刻笔",1523]
[{"$nulls":16},1524,"阵石",1524]
[{"$nulls":16},1525,"破损的兵器",1525]
[{"$nulls":16},1526,"记忆碎片",1526]
[{"$nulls":16},1527,"木材",1527]
[{"$nulls":16},1528,"藏宝图",1528]
[{"$nulls":16},1529,"半卷藏宝图",1529]
[{"$nulls":16},1530,"淡水",1530]
[{"$nulls":16},1531,"兽肉",1531]
[{"$nulls":16},1532,"幻魂草",1532]
[{"$nulls":16},1533,"平民的财物",1533]
[{"$nulls":16},1534,"法阵灵石",1534]
[{"$nulls":16},1535,"长青叶",1535]
[{"$nulls":16},1536,"止血散",1536]
[{"$nulls":16},1537,"精纯精血",1537]
[{"$nulls":16},1538,"忠义之心",1538]
[{"$nulls":16},1539,"仁慈之心",1539]
[{"$nulls":16},1540,"坚毅之心",1540]
[{"$nulls":16},1541,"羁绊之心",1541]
[{"$nulls":16},1542,"耳目之石",1542]
[{"$nulls":16},1543,"饕餮之津",1543]
[{"$nulls":16},1544,"生死之悟",1544]
[{"$nulls":16},1545,"七叶草",1545]
[{"$nulls":16},1546,"兽骨",1546]
[{"$nulls":16},1547,"天山雪莲",1547]
[{"$nulls":16},1548,"妖兽毛皮",1548]
[{"$nulls":16},1549,"墓穴宝石",1549]
[{"$nulls":16},1550,"请帖",1550]
[{"$nulls":16},1551,"气息结晶",1551]
[{"$nulls":16},1552,"大块气息结晶",1552]
[{"$nulls":16},1553,"透镜",1553]
[{"$nulls":16},1554,"母亲的信物",1554]
[{"$nulls":16},1555,"史诗装备宝箱",1555]
[{"$nulls":16},1556,"传说装备宝箱",1556]
[{"$nulls":16},3001,"戮魔短杖-蓝图",3001]
[{"$nulls":16},3002,"天武短杖-蓝图",3002]
[{"$nulls":16},3003,"戮魔之刺-蓝图",3003]
[{"$nulls":16},3004,"天武之刺-蓝图",3004]
[{"$nulls":16},3005,"戮魔战斧-蓝图",3005]
[{"$nulls":16},3006,"天武战斧-蓝图",3006]
[{"$nulls":16},3007,"戮魔之刃-蓝图",3007]
[{"$nulls":16},3008,"天武之刃-蓝图",3008]
[{"$nulls":16},3009,"戮魔法铃-蓝图",3009]
[{"$nulls":16},3010,"天武法铃-蓝图",3010]
[{"$nulls":16},3011,"修罗战甲-蓝图",3011]
[{"$nulls":16},3012,"修罗战甲-蓝图",3012]
[{"$nulls":16},3013,"红莲战甲-蓝图",3013]
[{"$nulls":16},3014,"红莲战甲-蓝图",3014]
[{"$nulls":16},3015,"修罗战盔-蓝图",3015]
[{"$nulls":16},3016,"红莲战盔-蓝图",3016]
[{"$nulls":16},3017,"修罗战靴-蓝图",3017]
[{"$nulls":16},3018,"红莲战靴-蓝图",3018]
[{"$nulls":16},3019,"修罗戒指-蓝图",3019]
[{"$nulls":16},3020,"红莲戒指-蓝图",3020]
[{"$nulls":16},3021,"修罗束带-蓝图",3021]
[{"$nulls":16},3022,"红莲腰带-蓝图",3022]
[{"$nulls":16},3023,"无为神杖-蓝图",3023]
[{"$nulls":16},3024,"悯生神杖-蓝图",3024]
[{"$nulls":16},3025,"无为神剑-蓝图",3025]
[{"$nulls":16},3026,"悯生神剑-蓝图",3026]
[{"$nulls":16},3027,"无为神斧-蓝图",3027]
[{"$nulls":16},3028,"悯生神斧-蓝图",3028]
[{"$nulls":16},3029,"无为之刃-蓝图",3029]
[{"$nulls":16},3030,"悯生之刃-蓝图",3030]
[{"$nulls":16},3031,"无为圣铃-蓝图",3031]
[{"$nulls":16},3032,"悯生圣铃-蓝图",3032]
[{"$nulls":16},3033,"七星神甲-蓝图",3033]
[{"$nulls":16},3034,"七星神甲-蓝图",3034]
[{"$nulls":16},3035,"紫微神甲-蓝图",3035]
[{"$nulls":16},3036,"紫微神甲-蓝图",3036]
[{"$nulls":16},3037,"七星战盔-蓝图",3037]
[{"$nulls":16},3038,"紫微战盔-蓝图",3038]
[{"$nulls":16},3039,"七星战靴-蓝图",3039]
[{"$nulls":16},3040,"紫微战靴-蓝图",3040]
[{"$nulls":16},3041,"七星戒指-蓝图",3041]
[{"$nulls":16},3042,"紫微戒指-蓝图",3042]
[{"$nulls":16},3043,"七星玉带-蓝图",3043]
[{"$nulls":16},3044,"紫微束带-蓝图",3044]
[{"$nulls":16},3045,"藏雷短杖-蓝图",3045]
[{"$nulls":16},3046,"藏雷长剑-蓝图",3046]
[{"$nulls":16},3047,"藏雷战斧-蓝图",3047]
[{"$nulls":16},3048,"藏雷之刃-蓝图",3048]
[{"$nulls":16},3049,"藏雷法铃-蓝图",3049]
[{"$nulls":16},3050,"洞察战甲-蓝图",3050]
[{"$nulls":16},3051,"洞察战甲-蓝图",3051]
[{"$nulls":16},3052,"洞察战盔-蓝图",3052]
[{"$nulls":16},3053,"洞察战靴-蓝图",3053]
[{"$nulls":16},3054,"洞察戒指-蓝图",3054]
[{"$nulls":16},3055,"洞察束带-蓝图",3055]
[{"$nulls":16},3056,"刹那神杖-蓝图",3056]
[{"$nulls":16},3057,"刹那神刺-蓝图",3057]
[{"$nulls":16},3058,"刹那神戟-蓝图",3058]
[{"$nulls":16},3059,"刹那古剑-蓝图",3059]
[{"$nulls":16},3060,"刹那圣铃-蓝图",3060]
[{"$nulls":16},3061,"玄冥战甲-蓝图",3061]
[{"$nulls":16},3062,"玄冥战甲-蓝图",3062]
[{"$nulls":16},3063,"玄冥战盔-蓝图",3063]
[{"$nulls":16},3064,"玄冥战靴-蓝图",3064]
[{"$nulls":16},3065,"玄冥神戒-蓝图",3065]
[{"$nulls":16},3066,"玄冥束带-蓝图",3066]
[{"$nulls":16},3067,"史诗装备蓝图宝箱",3067]
[{"$nulls":16},3068,"传说装备蓝图宝箱",3068]
[{"$nulls":16},6001,"魔铃",6001]
[{"$nulls":16},6002,"牛魔",6002]
[{"$nulls":16},6003,"破狼刃",6003]
[{"$nulls":16},6004,"叶青",6004]
[{"$nulls":16},6005,"饕餮",6005]
[{"$nulls":16},6006,"嗜魂虎",6006]
[{"$nulls":16},6007,"散财",6007]
[{"$nulls":16},6008,"狐云",6008]
[{"$nulls":16},6009,"鳞波甲",6009]
[{"$nulls":16},6010,"触魔",6010]
[{"$nulls":16},6011,"回音",6011]
[{"$nulls":16},6012,"镜心玉笛",6012]
[{"$nulls":16},6013,"不尽木",6013]
[{"$nulls":16},6014,"灼炎",6014]
[{"$nulls":16},6015,"火浣纹",6015]
[{"$nulls":16},6016,"赤瞳",6016]
[{"$nulls":16},6017,"飞云",6017]
[{"$nulls":16},6018,"无善念珠",6018]
[{"$nulls":16},6019,"非雾",6019]
[{"$nulls":16},6020,"流苏",6020]
[{"$nulls":16},6021,"锋刃",6021]
[{"$nulls":16},6022,"狂刀",6022]
[{"$nulls":16},6023,"幽芒",6023]
[{"$nulls":16},6024,"不仁",6024]
[{"$nulls":16},6025,"霸刀",6025]
[{"$nulls":16},6026,"铁甲",6026]
[{"$nulls":16},6027,"魔尊",6027]
[{"$nulls":16},6028,"血锈",6028]
[{"$nulls":16},6029,"瞳玉",6029]
[{"$nulls":16},6030,"风行",6030]
[{"$nulls":16},6031,"铁骨",6031]
[{"$nulls":16},6032,"伤药葫芦",6032]
[{"$nulls":16},6033,"天谴",6033]
[{"$nulls":16},6034,"紫霄",6034]
[{"$nulls":16},6035,"灵尊",6035]
[{"$nulls":16},6036,"圣魂",6036]
[{"$nulls":16},8001,"混沌符文",8001]
[{"$nulls":16},8002,"生命符文",8002]
[{"$nulls":16},8003,"攻击符文",8003]
[{"$nulls":16},8004,"护甲符文",8004]
[{"$nulls":16},8005,"抗性符文",8005]
[{"$nulls":16},8006,"速度符文",8006]
[{"$nulls":16},8007,"混沌符文",8007]
[{"$nulls":16},8008,"生命符文",8008]
[{"$nulls":16},8009,"攻击符文",8009]
[{"$nulls":16},8010,"护甲符文",8010]
[{"$nulls":16},8011,"抗性符文",8011]
[{"$nulls":16},8012,"速度符文",8012]
[{"$nulls":16},8013,"混沌符文",8013]
[{"$nulls":16},8014,"生命符文",8014]
[{"$nulls":16},8015,"攻击符文",8015]
[{"$nulls":16},8016,"护甲符文",8016]
[{"$nulls":16},8017,"抗性符文",8017]
[{"$nulls":16},8018,"速度符文",8018]
[{"$nulls":16},8019,"混沌符文",8019]
[{"$nulls":16},8020,"生命符文",8020]
[{"$nulls":16},8021,"攻击符文",8021]
[{"$nulls":16},8022,"护甲符文",8022]
[{"$nulls":16},8023,"抗性符文",8023]
[{"$nulls":16},8024,"速度符文",8024]
[{"$nulls":16},8025,"减伤符文",8025]
[{"$nulls":16},8026,"增伤符文",8026]
[{"$nulls":16},8027,"命中符文",8027]
[{"$nulls":16},8028,"抵抗符文",8028]
[{"$nulls":16},8029,"暴击符文",8029]
[{"$nulls":16},8030,"暴伤符文",8030]
[{"$nulls":16},8031,"减伤符文",8031]
[{"$nulls":16},8032,"增伤符文",8032]
[{"$nulls":16},8033,"命中符文",8033]
[{"$nulls":16},8034,"抵抗符文",8034]
[{"$nulls":16},8035,"暴击符文",8035]
[{"$nulls":16},8036,"暴伤符文",8036]
[{"$nulls":16},8037,"火焰符文",8037]
[{"$nulls":16},8038,"碧水符文",8038]
[{"$nulls":16},8039,"清风符文",8039]
[{"$nulls":16},8040,"大地符文",8040]
[{"$nulls":16},8041,"光明符文",8041]
[{"$nulls":16},8042,"暗黑符文",8042]
[{"$nulls":16},8043,"烈焰符文",8043]
[{"$nulls":16},8044,"洛水符文",8044]
[{"$nulls":16},8045,"狂风符文",8045]
[{"$nulls":16},8046,"裂地符文",8046]
[{"$nulls":16},8047,"纯白符文",8047]
[{"$nulls":16},8048,"黑曜符文",8048]
[{"$nulls":16},8501,"高级通用符文",8501]
[{"$nulls":16},8502,"珍贵通用符文",8502]
[{"$nulls":16},8503,"史诗通用符文",8503]
[{"$nulls":16},8504,"传说通用符文",8504]
[{"$nulls":16},8505,"圣纹宝箱",8505]
[{"$nulls":16},8506,"圣纹宝箱",8506]
[{"$nulls":16},8507,"圣纹宝箱",8507]
[{"$nulls":16},8508,"玄天宝箱",8508]
[{"$nulls":16},8509,"玄天宝箱",8509]
[{"$nulls":16},8510,"玄天宝箱",8510]
[{"$nulls":16},8511,"流光宝箱",8511]
[{"$nulls":16},8512,"史诗符文宝箱",8512]
[{"$nulls":16},8513,"传说符文宝箱",8513]
[{"$nulls":16},9001,"初级调味品",9001]
[{"$nulls":16},9002,"中级调味品",9002]
[{"$nulls":16},9003,"高级调味品",9003]
[{"$nulls":16},9004,"顶级调味品",9004]
[{"$nulls":16},9010,"御水盐岩",9010]
[{"$nulls":16},9011,"血蒜瓣",9011]
[{"$nulls":16},9012,"驱邪姜",9012]
[{"$nulls":16},9013,"蜂王蜜浆",9013]
[{"$nulls":16},9014,"六角杨桃",9014]
[{"$nulls":16},9015,"野生二荆条",9015]
[{"$nulls":16},9016,"靛色橄榄油",9016]
[{"$nulls":16},9017,"黑枫糖浆",9017]
[{"$nulls":16},9101,"角羊肉",9101]
[{"$nulls":16},9102,"无名蕨",9102]
[{"$nulls":16},9103,"小叶延始祖的蛋",9103]
[{"$nulls":16},9104,"狐熊掌",9104]
[{"$nulls":16},9111,"魔王橄榄",9111]
[{"$nulls":16},9112,"彼岸花蕊",9112]
[{"$nulls":16},9113,"板栗",9113]
[{"$nulls":16},9114,"纯白兔腿肉",9114]
[{"$nulls":16},9116,"角羊腿",9116]
[{"$nulls":16},9117,"肉兔兔头",9117]
[{"$nulls":16},9119,"生菜",9119]
[{"$nulls":16},9120,"胡萝卜",9120]
[{"$nulls":16},9121,"小麦",9121]
[{"$nulls":16},9122,"苹果",9122]
[{"$nulls":16},9123,"松茸",9123]
[{"$nulls":16},9124,"蘑菇",9124]
[{"$nulls":16},9125,"羊杂",9125]
[{"$nulls":16},9126,"巨猿肉",9126]
[{"$nulls":16},9127,"海岸黄金蟹",9127]
[{"$nulls":16},9128,"五彩皮皮虾",9128]
[{"$nulls":16},9201,"血狼宴",9201]
[{"$nulls":16},9202,"酸甜七彩蛋",9202]
[{"$nulls":16},9203,"魔王蕨",9203]
[{"$nulls":16},9204,"蜂王熊掌",9204]
[{"$nulls":16},9205,"姜汁彼岸花",9205]
[{"$nulls":16},9206,"板栗兔腿",9206]
[{"$nulls":16},9207,"手撕角羊腿",9207]
[{"$nulls":16},9208,"香辣兔头",9208]
[{"$nulls":16},9209,"酥炸肉丸",9209]
[{"$nulls":16},9210,"平原萝卜饼",9210]
[{"$nulls":16},9211,"水果蜜饯",9211]
[{"$nulls":16},9212,"草原菌菇汤",9212]
[{"$nulls":16},9213,"羊杂汤",9213]
[{"$nulls":16},9214,"无名大拌菜",9214]
[{"$nulls":16},9215,"生拌牛肉",9215]
[{"$nulls":16},9216,"盐焗巨猿肉",9216]
[{"$nulls":16},9217,"蜜汁烤羊腿",9217]
[{"$nulls":16},9218,"烤小土豆",9218]
[{"$nulls":16},9219,"和果子",9219]
[{"$nulls":16},9220,"水晶虾饺",9220]
[{"$nulls":16},9221,"菌菇浓汤",9221]
[{"$nulls":16},9222,"红烧肉",9222]
[{"$nulls":16},9223,"照烧鸡肉串",9223]
[{"$nulls":16},9224,"烧鸡",9224]
[{"$nulls":16},9225,"宫保鸡丁",9225]
[{"$nulls":16},9226,"清蒸大闸蟹",9226]
[{"$nulls":16},9227,"盐渍秋刀鱼",9227]
[{"$nulls":16},9228,"红酒烩羊肉 ",9228]
[{"$nulls":16},9229,"清蒸鳗鱼",9229]
[{"$nulls":16},9230,"烤全羊",9230]
[{"$nulls":16},9231,"黑暗料理",9231]
[{"$nulls":16},10001,"夏侯鸿天",10001]
[{"$nulls":16},10002,"石御霏",10002]
[{"$nulls":16},10003,"叶辽",10003]
[{"$nulls":16},10004,"孔谦",10004]
[{"$nulls":16},10005,"兰卿",10005]
[{"$nulls":16},10006,"朱贺",10006]
[{"$nulls":16},10007,"应茹",10007]
[{"$nulls":16},10008,"颜无雍",10008]
[{"$nulls":16},10009,"祁菲",10009]
[{"$nulls":16},10010,"颜祈佳",10010]
[{"$nulls":16},10011,"尹正霄",10011]
[{"$nulls":16},10012,"慕容子期",10012]
[{"$nulls":16},10013,"白梦凡",10013]
[{"$nulls":16},10014,"颜无诡",10014]
[{"$nulls":16},10015,"凝儿",10015]
[{"$nulls":16},10016,"枫元正",10016]
[{"$nulls":16},10017,"解幽",10017]
[{"$nulls":16},10018,"紫苏",10018]
[{"$nulls":16},10019,"云",10019]
[{"$nulls":16},10020,"司空染",10020]
[{"$nulls":16},10021,"清然",10021]
[{"$nulls":16},10022,"云灵",10022]
[{"$nulls":16},10023,"荧荧",10023]
[{"$nulls":16},10024,"许槿然",10024]
[{"$nulls":16},10025,"炎琪儿",10025]
[{"$nulls":16},10026,"楚恒",10026]
[{"$nulls":16},10027,"柳月",10027]
[{"$nulls":16},10028,"岑以航",10028]
[{"$nulls":16},10029,"姜燧",10029]
[{"$nulls":16},10030,"晏息",10030]
[{"$nulls":16},10031,"冉宜",10031]
[{"$nulls":16},10032,"孙晴",10032]
[{"$nulls":16},10033,"艾欣",10033]
[{"$nulls":16},10034,"影蓟",10034]
[{"$nulls":16},10035,"辛夷",10035]
[{"$nulls":16},10036,"岑以璇",10036]
[{"$nulls":16},10037,"薛苓",10037]
[{"$nulls":16},10038,"伏冥",10038]
[{"$nulls":16},10039,"呼延腾",10039]
[{"$nulls":16},10040,"贾裴武",10040]
[{"$nulls":16},10041,"孟灿",10041]
[{"$nulls":16},10042,"白木",10042]
[{"$nulls":16},10043,"紫川",10043]
[{"$nulls":16},10044,"靖之",10044]
[{"$nulls":16},10045,"殷婉儿",10045]
[{"$nulls":16},10046,"林越",10046]
[{"$nulls":16},10047,"赤肥肥",10047]
[{"$nulls":16},10048,"银肥肥",10048]
[{"$nulls":16},10049,"苍肥肥",10049]
[{"$nulls":16},10050,"金肥肥",10050]
[{"$nulls":16},10051,"阳魔",10051]
[{"$nulls":16},10052,"阴魔",10052]
[{"$nulls":16},11001,"夏侯鸿天碎片",11001]
[{"$nulls":16},11002,"石御霏碎片",11002]
[{"$nulls":16},11003,"叶辽碎片",11003]
[{"$nulls":16},11004,"孔谦碎片",11004]
[{"$nulls":16},11005,"兰卿碎片",11005]
[{"$nulls":16},11006,"朱贺碎片",11006]
[{"$nulls":16},11007,"应茹碎片",11007]
[{"$nulls":16},11008,"颜无雍碎片",11008]
[{"$nulls":16},11009,"祁菲碎片",11009]
[{"$nulls":16},11010,"颜祈佳碎片",11010]
[{"$nulls":16},11011,"尹正霄碎片",11011]
[{"$nulls":16},11012,"慕容子期碎片",11012]
[{"$nulls":16},11013,"白梦凡碎片",11013]
[{"$nulls":16},11014,"颜无诡碎片",11014]
[{"$nulls":16},11015,"凝儿碎片",11015]
[{"$nulls":16},11016,"枫元正碎片",11016]
[{"$nulls":16},11017,"解幽碎片",11017]
[{"$nulls":16},11018,"紫苏碎片",11018]
[{"$nulls":16},11019,"云碎片",11019]
[{"$nulls":16},11020,"司空染碎片",11020]
[{"$nulls":16},11021,"清然碎片",11021]
[{"$nulls":16},11022,"云灵碎片",11022]
[{"$nulls":16},11023,"荧荧碎片",11023]
[{"$nulls":16},11024,"许槿然碎片",11024]
[{"$nulls":16},11025,"炎琪儿碎片",11025]
[{"$nulls":16},11026,"楚恒碎片",11026]
[{"$nulls":16},11027,"柳月碎片",11027]
[{"$nulls":16},11028,"岑以航碎片",11028]
[{"$nulls":16},11029,"姜燧碎片",11029]
[{"$nulls":16},11030,"晏息碎片",11030]
[{"$nulls":16},11031,"冉宜碎片",11031]
[{"$nulls":16},11032,"孙晴碎片",11032]
[{"$nulls":16},11033,"艾欣碎片",11033]
[{"$nulls":16},11034,"影蓟碎片",11034]
[{"$nulls":16},11035,"辛夷碎片",11035]
[{"$nulls":16},11036,"岑以璇碎片",11036]
[{"$nulls":16},11037,"薛苓碎片",11037]
[{"$nulls":16},11038,"伏冥碎片",11038]
[{"$nulls":16},11039,"呼延腾碎片",11039]
[{"$nulls":16},11040,"贾裴武碎片",11040]
[{"$nulls":16},11041,"孟灿碎片",11041]
[{"$nulls":16},11042,"白木碎片",11042]
[{"$nulls":16},11043,"紫川碎片",11043]
[{"$nulls":16},11044,"靖之碎片",11044]
[{"$nulls":16},11045,"殷婉儿碎片",11045]
[{"$nulls":16},11046,"林越碎片",11046]
[{"$nulls":16},11047,"赤肥肥碎片",11047]
[{"$nulls":16},11048,"银肥肥碎片",11048]
[{"$nulls":16},11049,"苍肥肥碎片",11049]
[{"$nulls":16},11050,"金肥肥碎片",11050]
[{"$nulls":16},11051,"阳魔碎片",11051]
[{"$nulls":16},11052,"阴魔碎片",11052]
[{"$nulls":16},12001,"3星随机碎片",12001]
[{"$nulls":16},12002,"水系4星碎片",12002]
[{"$nulls":16},12003,"火系4星碎片",12003]
[{"$nulls":16},12004,"地系4星碎片",12004]
[{"$nulls":16},12005,"风系4星碎片",12005]
[{"$nulls":16},12006,"光系4星碎片",12006]
[{"$nulls":16},12007,"暗系4星碎片",12007]
[{"$nulls":16},12008,"水系5星碎片",12008]
[{"$nulls":16},12009,"火系5星碎片",12009]
[{"$nulls":16},12010,"地系5星碎片",12010]
[{"$nulls":16},12011,"风系5星碎片",12011]
[{"$nulls":16},12012,"4星随机碎片",12012]
[{"$nulls":16},12013,"5星随机碎片",12013]
[{"$nulls":16},12014,"5星随机碎片",12014]
[{"$nulls":16},12015,"5星随机碎片",12015]
[{"$nulls":16},12016,"5星随机碎片",12016]
[{"$nulls":16},12017,"5星随机碎片",12017]
[{"$nulls":16},12018,"5星随机碎片",12018]
[{"$nulls":16},13024,"许槿然",13024]
[{"$nulls":16},13025,"炎琪儿",13025]
[{"$nulls":16},13026,"楚恒",13026]
[{"$nulls":16},13027,"柳月",13027]
[{"$nulls":16},13028,"岑以航",13028]
[{"$nulls":16},13029,"姜燧",13029]
[{"$nulls":16},13030,"晏息",13030]
[{"$nulls":16},13031,"冉宜",13031]
[{"$nulls":16},13032,"孙晴",13032]
[{"$nulls":16},13033,"艾欣",13033]
[{"$nulls":16},13034,"影蓟",13034]
[{"$nulls":16},13035,"辛夷",13035]
[{"$nulls":16},13036,"岑以璇",13036]
[{"$nulls":16},13037,"薛苓",13037]
[{"$nulls":16},13038,"伏冥",13038]
[{"$nulls":16},13039,"呼延腾",13039]
[{"$nulls":16},13040,"贾裴武",13040]
[{"$nulls":16},13041,"孟灿",13041]
[{"$nulls":16},13042,"白木",13042]
[{"$nulls":16},13043,"紫川",13043]
[{"$nulls":16},13044,"靖之",13044]
[{"$nulls":16},13045,"殷婉儿",13045]
[{"$nulls":16},13046,"林越",13046]
[{"$nulls":16},{"$f":"Q472+1000","v":14024},{"$f":"R472&\"5星碎片\"","v":"许槿然5星碎片"},{"$f":"S472+1000","v":14024}]
[{"$nulls":16},14025,"炎琪儿5星碎片",14025]
[{"$nulls":16},14026,"楚恒5星碎片",14026]
[{"$nulls":16},14027,"柳月5星碎片",14027]
[{"$nulls":16},14028,"岑以航5星碎片",14028]
[{"$nulls":16},14029,"姜燧5星碎片",14029]
[{"$nulls":16},14030,"晏息5星碎片",14030]
[{"$nulls":16},14031,"冉宜5星碎片",14031]
[{"$nulls":16},14032,"孙晴5星碎片",14032]
[{"$nulls":16},14033,"艾欣5星碎片",14033]
[{"$nulls":16},14034,"影蓟5星碎片",14034]
[{"$nulls":16},14035,"辛夷5星碎片",14035]
[{"$nulls":16},14036,"岑以璇5星碎片",14036]
[{"$nulls":16},14037,"薛苓5星碎片",14037]
[{"$nulls":16},14038,"伏冥5星碎片",14038]
[{"$nulls":16},14039,"呼延腾5星碎片",14039]
[{"$nulls":16},14040,"贾裴武5星碎片",14040]
[{"$nulls":16},14041,"孟灿5星碎片",14041]
[{"$nulls":16},14042,"白木5星碎片",14042]
[{"$nulls":16},14043,"紫川5星碎片",14043]
[{"$nulls":16},14044,"靖之5星碎片",14044]
[{"$nulls":16},14045,"殷婉儿5星碎片",14045]
[{"$nulls":16},14046,"林越5星碎片",14046]
[{"$nulls":16},400001,"测试随机角色宝箱",400001]
[{"$nulls":16},64011,"戮魔短杖",64011]
[{"$nulls":16},64013,"天武短杖",64013]
[{"$nulls":16},64027,"戮魔之刺",64027]
[{"$nulls":16},64028,"天武之刺",64028]
[{"$nulls":16},64041,"戮魔战斧",64041]
[{"$nulls":16},64042,"天武战斧",64042]
[{"$nulls":16},64055,"戮魔之刃",64055]
[{"$nulls":16},64056,"天武之刃",64056]
[{"$nulls":16},64069,"戮魔法铃",64069]
[{"$nulls":16},64070,"天武法铃",64070]
[{"$nulls":16},64073,"修罗战甲",64073]
[{"$nulls":16},64076,"修罗战甲",64076]
[{"$nulls":16},64079,"红莲战甲",64079]
[{"$nulls":16},64082,"红莲战甲",64082]
[{"$nulls":16},64085,"修罗战盔",64085]
[{"$nulls":16},64091,"红莲战盔",64091]
[{"$nulls":16},64097,"修罗战靴",64097]
[{"$nulls":16},64103,"红莲战靴",64103]
[{"$nulls":16},64109,"修罗戒指",64109]
[{"$nulls":16},64112,"红莲戒指",64112]
[{"$nulls":16},64121,"修罗束带",64121]
[{"$nulls":16},64127,"红莲腰带",64127]
[{"$nulls":16},65018,"无为神杖",65018]
[{"$nulls":16},65020,"悯生神杖",65020]
[{"$nulls":16},65037,"无为神剑",65037]
[{"$nulls":16},65038,"悯生神剑",65038]
[{"$nulls":16},65057,"无为神斧",65057]
[{"$nulls":16},65058,"悯生神斧",65058]
[{"$nulls":16},65077,"无为之刃",65077]
[{"$nulls":16},65079,"悯生之刃",65079]
[{"$nulls":16},65097,"无为圣铃",65097]
[{"$nulls":16},65100,"悯生圣铃",65100]
[{"$nulls":16},65104,"七星神甲",65104]
[{"$nulls":16},65108,"七星神甲",65108]
[{"$nulls":16},65112,"紫微神甲",65112]
[{"$nulls":16},65114,"紫微神甲",65114]
[{"$nulls":16},65128,"七星战盔",65128]
[{"$nulls":16},65129,"紫微战盔",65129]
[{"$nulls":16},65132,"七星战靴",65132]
[{"$nulls":16},65135,"紫微战靴",65135]
[{"$nulls":16},65138,"七星戒指",65138]
[{"$nulls":16},65141,"紫微戒指",65141]
[{"$nulls":16},65144,"七星玉带",65144]
[{"$nulls":16},65147,"紫微束带",65147]
[{"$nulls":16},52001,"猎户法杖",52001]
[{"$nulls":16},52002,"兽骨法杖",52002]
[{"$nulls":16},52003,"坚固法杖",52003]
[{"$nulls":16},52004,"家传法杖",52004]
[{"$nulls":16},52005,"游侠法杖",52005]
[{"$nulls":16},52006,"戍卫法杖",52006]
[{"$nulls":16},52007,"硬木法杖",52007]
[{"$nulls":16},52008,"黑铁法杖",52008]
[{"$nulls":16},52009,"黄铜法杖",52009]
[{"$nulls":16},52010,"锻钢法杖",52010]
[{"$nulls":16},52011,"赤金法杖",52011]
[{"$nulls":16},52012,"灵玉法杖",52012]
[{"$nulls":16},52013,"地龙法杖",52013]
[{"$nulls":16},52014,"妖麟法杖",52014]
[{"$nulls":16},52015,"飞羽法杖",52015]
[{"$nulls":16},52016,"青烟法杖",52016]
[{"$nulls":16},52017,"追光法杖",52017]
[{"$nulls":16},52018,"轻灵法杖",52018]
[{"$nulls":16},52019,"先知法杖",52019]
[{"$nulls":16},52020,"杀戮法杖",52020]
[{"$nulls":16},52021,"猎户短剑",52021]
[{"$nulls":16},52022,"兽骨短剑",52022]
[{"$nulls":16},52023,"坚固短剑",52023]
[{"$nulls":16},52024,"家传短剑",52024]
[{"$nulls":16},52025,"游侠短剑",52025]
[{"$nulls":16},52026,"戍卫短剑",52026]
[{"$nulls":16},52027,"硬木短剑",52027]
[{"$nulls":16},52028,"黑铁短剑",52028]
[{"$nulls":16},52029,"黄铜短剑",52029]
[{"$nulls":16},52030,"锻钢短剑",52030]
[{"$nulls":16},52031,"赤金长剑",52031]
[{"$nulls":16},52032,"灵玉长剑",52032]
[{"$nulls":16},52033,"地龙长剑",52033]
[{"$nulls":16},52034,"妖麟长剑",52034]
[{"$nulls":16},52035,"飞羽之刺",52035]
[{"$nulls":16},52036,"青烟之刺",52036]
[{"$nulls":16},52037,"追光之刺",52037]
[{"$nulls":16},52038,"轻灵之刺",52038]
[{"$nulls":16},52039,"先知之刺",52039]
[{"$nulls":16},52040,"杀戮之刺",52040]
[{"$nulls":16},52041,"猎户大斧",52041]
[{"$nulls":16},52042,"兽骨大斧",52042]
[{"$nulls":16},52043,"坚固大斧",52043]
[{"$nulls":16},52044,"家传大斧",52044]
[{"$nulls":16},52045,"游侠大斧",52045]
[{"$nulls":16},52046,"戍卫大斧",52046]
[{"$nulls":16},52047,"硬木斧",52047]
[{"$nulls":16},52048,"黑铁斧",52048]
[{"$nulls":16},52049,"黄铜斧",52049]
[{"$nulls":16},52050,"锻钢斧",52050]
[{"$nulls":16},52051,"赤金斧",52051]
[{"$nulls":16},52052,"灵玉斧",52052]
[{"$nulls":16},52053,"地龙戟",52053]
[{"$nulls":16},52054,"妖麟戟",52054]
[{"$nulls":16},52055,"飞羽戟",52055]
[{"$nulls":16},52056,"青烟戟",52056]
[{"$nulls":16},52057,"追光戟",52057]
[{"$nulls":16},52058,"轻灵戟",52058]
[{"$nulls":16},52059,"先知戟",52059]
[{"$nulls":16},52060,"杀戮戟",52060]
[{"$nulls":16},52061,"猎户战刀",52061]
[{"$nulls":16},52062,"兽骨战刀",52062]
[{"$nulls":16},52063,"坚固战刀",52063]
[{"$nulls":16},52064,"家传战刀",52064]
[{"$nulls":16},52065,"游侠战刀",52065]
[{"$nulls":16},52066,"戍卫战刀",52066]
[{"$nulls":16},52067,"硬木短刀",52067]
[{"$nulls":16},52068,"黑铁短刀",52068]
[{"$nulls":16},52069,"黄铜短刀",52069]
[{"$nulls":16},52070,"锻钢短刀",52070]
[{"$nulls":16},52071,"赤金短刀",52071]
[{"$nulls":16},52072,"灵玉短刀",52072]
[{"$nulls":16},52073,"地龙短刀",52073]
[{"$nulls":16},52074,"妖麟短刀",52074]
[{"$nulls":16},52075,"飞羽长刀",52075]
[{"$nulls":16},52076,"青烟长刀",52076]
[{"$nulls":16},52077,"追光长刀",52077]
[{"$nulls":16},52078,"轻灵长刀",52078]
[{"$nulls":16},52079,"先知长刀",52079]
[{"$nulls":16},52080,"杀戮长刀",52080]
[{"$nulls":16},52081,"猎户铜铃",52081]
[{"$nulls":16},52082,"兽骨铜铃",52082]
[{"$nulls":16},52083,"坚固铜铃",52083]
[{"$nulls":16},52084,"家传铜铃",52084]
[{"$nulls":16},52085,"游侠铜铃",52085]
[{"$nulls":16},52086,"戍卫铜铃",52086]
[{"$nulls":16},52087,"硬木铜铃",52087]
[{"$nulls":16},52088,"黑铁铜铃",52088]
[{"$nulls":16},52089,"黄铜法铃",52089]
[{"$nulls":16},52090,"锻钢法铃",52090]
[{"$nulls":16},52091,"赤金法铃",52091]
[{"$nulls":16},52092,"灵玉法铃",52092]
[{"$nulls":16},52093,"地龙法铃",52093]
[{"$nulls":16},52094,"妖麟法铃",52094]
[{"$nulls":16},52095,"飞羽法铃",52095]
[{"$nulls":16},52096,"青烟法铃",52096]
[{"$nulls":16},52097,"追光法铃",52097]
[{"$nulls":16},52098,"轻灵法铃",52098]
[{"$nulls":16},52099,"先知法铃",52099]
[{"$nulls":16},52100,"杀戮法铃",52100]
[{"$nulls":16},52101,"猎户蓑衣",52101]
[{"$nulls":16},52102,"兽皮软甲",52102]
[{"$nulls":16},52103,"坚固皮甲",52103]
[{"$nulls":16},52104,"家传锁甲",52104]
[{"$nulls":16},52105,"游侠软甲",52105]
[{"$nulls":16},52106,"戍卫战甲",52106]
[{"$nulls":16},52107,"硬木战甲",52107]
[{"$nulls":16},52108,"黑铁战甲",52108]
[{"$nulls":16},52109,"黄铜战甲",52109]
[{"$nulls":16},52110,"锻钢战甲",52110]
[{"$nulls":16},52111,"赤金战甲",52111]
[{"$nulls":16},52112,"灵玉战甲",52112]
[{"$nulls":16},52113,"地龙皮甲",52113]
[{"$nulls":16},52114,"妖麟皮甲",52114]
[{"$nulls":16},52115,"猎户草帽",52115]
[{"$nulls":16},52116,"兽皮兜帽",52116]
[{"$nulls":16},52117,"坚固头盔",52117]
[{"$nulls":16},52118,"家传头盔",52118]
[{"$nulls":16},52119,"游侠兜帽",52119]
[{"$nulls":16},52120,"戍卫战盔",52120]
[{"$nulls":16},52121,"硬木战盔",52121]
[{"$nulls":16},52122,"黑铁战盔",52122]
[{"$nulls":16},52123,"黄铜战盔",52123]
[{"$nulls":16},52124,"锻钢战盔",52124]
[{"$nulls":16},52125,"赤金战盔",52125]
[{"$nulls":16},52126,"灵玉战盔",52126]
[{"$nulls":16},52127,"地龙皮帽",52127]
[{"$nulls":16},52128,"妖麟皮帽",52128]
[{"$nulls":16},52129,"猎户草鞋",52129]
[{"$nulls":16},52130,"兽皮皮靴",52130]
[{"$nulls":16},52131,"坚固布鞋",52131]
[{"$nulls":16},52132,"家传皮靴",52132]
[{"$nulls":16},52133,"游侠皮靴",52133]
[{"$nulls":16},52134,"戍卫战靴",52134]
[{"$nulls":16},52135,"硬木战靴",52135]
[{"$nulls":16},52136,"黑铁战靴",52136]
[{"$nulls":16},52137,"黄铜战靴",52137]
[{"$nulls":16},52138,"锻钢战靴",52138]
[{"$nulls":16},52139,"赤金战靴",52139]
[{"$nulls":16},52140,"灵玉战靴",52140]
[{"$nulls":16},52141,"地龙皮靴",52141]
[{"$nulls":16},52142,"妖麟皮靴",52142]
[{"$nulls":16},52143,"猎户指环",52143]
[{"$nulls":16},52144,"兽皮指环",52144]
[{"$nulls":16},52145,"坚固手套",52145]
[{"$nulls":16},52146,"家传指环",52146]
[{"$nulls":16},52147,"游侠戒指",52147]
[{"$nulls":16},52148,"戍卫戒指",52148]
[{"$nulls":16},52149,"硬木戒指",52149]
[{"$nulls":16},52150,"黑铁戒指",52150]
[{"$nulls":16},52151,"黄铜戒指",52151]
[{"$nulls":16},52152,"锻钢戒指",52152]
[{"$nulls":16},52153,"赤金戒指",52153]
[{"$nulls":16},52154,"灵玉戒指",52154]
[{"$nulls":16},52155,"地龙戒指",52155]
[{"$nulls":16},52156,"妖麟戒指",52156]
[{"$nulls":16},52157,"猎户皮带",52157]
[{"$nulls":16},52158,"兽皮束带",52158]
[{"$nulls":16},52159,"坚固腰带",52159]
[{"$nulls":16},52160,"家传腰带",52160]
[{"$nulls":16},52161,"游侠束带",52161]
[{"$nulls":16},52162,"戍卫腰带",52162]
[{"$nulls":16},52163,"硬木腰带",52163]
[{"$nulls":16},52164,"黑铁腰带",52164]
[{"$nulls":16},52165,"黄铜腰带",52165]
[{"$nulls":16},52166,"锻钢腰带",52166]
[{"$nulls":16},52167,"赤金腰带",52167]
[{"$nulls":16},52168,"灵玉腰带",52168]
[{"$nulls":16},52169,"地龙皮带",52169]
[{"$nulls":16},52170,"妖麟皮带",52170]
[{"$nulls":16},53001,"乌木法杖",53001]
[{"$nulls":16},53002,"陨铁法杖",53002]
[{"$nulls":16},53003,"寒铜法杖",53003]
[{"$nulls":16},53004,"秘钢法杖",53004]
[{"$nulls":16},53005,"玄金法杖",53005]
[{"$nulls":16},53006,"墨玉法杖",53006]
[{"$nulls":16},53007,"神行法杖",53007]
[{"$nulls":16},53008,"乘风法杖",53008]
[{"$nulls":16},53009,"光羽法杖",53009]
[{"$nulls":16},53010,"破空法杖",53010]
[{"$nulls":16},53011,"逐光法杖",53011]
[{"$nulls":16},53012,"轻尘法杖",53012]
[{"$nulls":16},53013,"洞察法杖",53013]
[{"$nulls":16},53014,"屠戮法杖",53014]
[{"$nulls":16},53015,"乌木短剑",53015]
[{"$nulls":16},53016,"陨铁短剑",53016]
[{"$nulls":16},53017,"寒铜短剑",53017]
[{"$nulls":16},53018,"秘钢短剑",53018]
[{"$nulls":16},53019,"玄金长剑",53019]
[{"$nulls":16},53020,"墨玉长剑",53020]
[{"$nulls":16},53021,"神行长剑",53021]
[{"$nulls":16},53022,"乘风长剑",53022]
[{"$nulls":16},53023,"光羽之刺",53023]
[{"$nulls":16},53024,"破空之刺",53024]
[{"$nulls":16},53025,"逐光之刺",53025]
[{"$nulls":16},53026,"轻尘之刺",53026]
[{"$nulls":16},53027,"洞察之刺",53027]
[{"$nulls":16},53028,"屠戮之刺",53028]
[{"$nulls":16},53029,"乌木大斧",53029]
[{"$nulls":16},53030,"陨铁大斧",53030]
[{"$nulls":16},53031,"寒铜大斧",53031]
[{"$nulls":16},53032,"秘钢大斧",53032]
[{"$nulls":16},53033,"玄金大斧",53033]
[{"$nulls":16},53034,"墨玉大斧",53034]
[{"$nulls":16},53035,"神行大戟",53035]
[{"$nulls":16},53036,"乘风大戟",53036]
[{"$nulls":16},53037,"光羽大戟",53037]
[{"$nulls":16},53038,"破空大戟",53038]
[{"$nulls":16},53039,"逐光大戟",53039]
[{"$nulls":16},53040,"轻尘大戟",53040]
[{"$nulls":16},53041,"洞察大戟",53041]
[{"$nulls":16},53042,"屠戮大戟",53042]
[{"$nulls":16},53043,"乌木短剑",53043]
[{"$nulls":16},53044,"陨铁短剑",53044]
[{"$nulls":16},53045,"寒铜短剑",53045]
[{"$nulls":16},53046,"秘钢短剑",53046]
[{"$nulls":16},53047,"玄金短剑",53047]
[{"$nulls":16},53048,"墨玉短剑",53048]
[{"$nulls":16},53049,"神行短剑",53049]
[{"$nulls":16},53050,"乘风短剑",53050]
[{"$nulls":16},53051,"光羽长剑",53051]
[{"$nulls":16},53052,"破空长剑",53052]
[{"$nulls":16},53053,"逐光长剑",53053]
[{"$nulls":16},53054,"轻尘长剑",53054]
[{"$nulls":16},53055,"洞察长剑",53055]
[{"$nulls":16},53056,"屠戮长剑",53056]
[{"$nulls":16},53057,"乌木法铃",53057]
[{"$nulls":16},53058,"陨铁法铃",53058]
[{"$nulls":16},53059,"寒铜法铃",53059]
[{"$nulls":16},53060,"秘钢法铃",53060]
[{"$nulls":16},53061,"玄金法铃",53061]
[{"$nulls":16},53062,"墨玉法铃",53062]
[{"$nulls":16},53063,"神行法铃",53063]
[{"$nulls":16},53064,"乘风法铃",53064]
[{"$nulls":16},53065,"光羽法铃",53065]
[{"$nulls":16},53066,"破空法铃",53066]
[{"$nulls":16},53067,"逐光法铃",53067]
[{"$nulls":16},53068,"轻尘法铃",53068]
[{"$nulls":16},53069,"洞察法铃",53069]
[{"$nulls":16},53070,"屠戮法铃",53070]
[{"$nulls":16},53071,"乌木战甲",53071]
[{"$nulls":16},53072,"陨铁战甲",53072]
[{"$nulls":16},53073,"寒铜战甲",53073]
[{"$nulls":16},53074,"秘钢战甲",53074]
[{"$nulls":16},53075,"玄金战甲",53075]
[{"$nulls":16},53076,"墨玉战甲",53076]
[{"$nulls":16},53077,"飞羽战甲",53077]
[{"$nulls":16},53078,"青烟战甲",53078]
[{"$nulls":16},53079,"追光战甲",53079]
[{"$nulls":16},53080,"轻灵战甲",53080]
[{"$nulls":16},53081,"杀戮战甲",53081]
[{"$nulls":16},53082,"乌木战盔",53082]
[{"$nulls":16},53083,"陨铁战盔",53083]
[{"$nulls":16},53084,"寒铜战盔",53084]
[{"$nulls":16},53085,"秘钢战盔",53085]
[{"$nulls":16},53086,"玄金战盔",53086]
[{"$nulls":16},53087,"墨玉战盔",53087]
[{"$nulls":16},53088,"飞羽战盔",53088]
[{"$nulls":16},53089,"青烟战盔",53089]
[{"$nulls":16},53090,"追光战盔",53090]
[{"$nulls":16},53091,"轻灵战盔",53091]
[{"$nulls":16},53092,"杀戮战盔",53092]
[{"$nulls":16},53093,"乌木战靴",53093]
[{"$nulls":16},53094,"陨铁战靴",53094]
[{"$nulls":16},53095,"寒铜战靴",53095]
[{"$nulls":16},53096,"秘钢战靴",53096]
[{"$nulls":16},53097,"玄金战靴",53097]
[{"$nulls":16},53098,"墨玉战靴",53098]
[{"$nulls":16},53099,"飞羽战靴",53099]
[{"$nulls":16},53100,"青烟战靴",53100]
[{"$nulls":16},53101,"追光战靴",53101]
[{"$nulls":16},53102,"轻灵战靴",53102]
[{"$nulls":16},53103,"杀戮战靴",53103]
[{"$nulls":16},53104,"乌木戒指",53104]
[{"$nulls":16},53105,"陨铁戒指",53105]
[{"$nulls":16},53106,"寒铜戒指",53106]
[{"$nulls":16},53107,"秘钢戒指",53107]
[{"$nulls":16},53108,"玄金戒指",53108]
[{"$nulls":16},53109,"墨玉戒指",53109]
[{"$nulls":16},53110,"飞羽戒指",53110]
[{"$nulls":16},53111,"青烟戒指",53111]
[{"$nulls":16},53112,"追光戒指",53112]
[{"$nulls":16},53113,"轻灵戒指",53113]
[{"$nulls":16},53114,"杀戮戒指",53114]
[{"$nulls":16},53115,"乌木腰带",53115]
[{"$nulls":16},53116,"陨铁腰带",53116]
[{"$nulls":16},53117,"寒铜腰带",53117]
[{"$nulls":16},53118,"秘钢腰带",53118]
[{"$nulls":16},53119,"玄金腰带",53119]
[{"$nulls":16},53120,"墨玉腰带",53120]
[{"$nulls":16},53121,"飞羽束带",53121]
[{"$nulls":16},53122,"青烟束带",53122]
[{"$nulls":16},53123,"追光束带",53123]
[{"$nulls":16},53124,"轻灵束带",53124]
[{"$nulls":16},53125,"杀戮束带",53125]
[{"$nulls":16},54001,"御风短杖",54001]
[{"$nulls":16},54002,"困雨短杖",54002]
[{"$nulls":16},54003,"折雪短杖",54003]
[{"$nulls":16},54004,"碎土短杖",54004]
[{"$nulls":16},54005,"叠云短杖",54005]
[{"$nulls":16},54006,"藏雷短杖",54006]
[{"$nulls":16},54007,"残雾短杖",54007]
[{"$nulls":16},54008,"踏江短杖",54008]
[{"$nulls":16},54009,"悬河短杖",54009]
[{"$nulls":16},54010,"镜湖短杖",54010]
[{"$nulls":16},54012,"无锋短杖",54012]
[{"$nulls":16},54014,"撼岳短杖",54014]
[{"$nulls":16},54015,"御风短剑",54015]
[{"$nulls":16},54016,"困雨短剑",54016]
[{"$nulls":16},54017,"折雪短剑",54017]
[{"$nulls":16},54018,"碎土短剑",54018]
[{"$nulls":16},54019,"叠云长剑",54019]
[{"$nulls":16},54020,"藏雷长剑",54020]
[{"$nulls":16},54021,"残雾长剑",54021]
[{"$nulls":16},54022,"踏江长剑",54022]
[{"$nulls":16},54023,"悬河之刺",54023]
[{"$nulls":16},54024,"镜湖之刺",54024]
[{"$nulls":16},54025,"止玄之刺",54025]
[{"$nulls":16},54026,"无锋之刺",54026]
[{"$nulls":16},54029,"御风战斧",54029]
[{"$nulls":16},54030,"困雨战斧",54030]
[{"$nulls":16},54031,"折雪战斧",54031]
[{"$nulls":16},54032,"碎土战斧",54032]
[{"$nulls":16},54033,"叠云战斧",54033]
[{"$nulls":16},54034,"藏雷战斧",54034]
[{"$nulls":16},54035,"残雾战戟",54035]
[{"$nulls":16},54036,"踏江战戟",54036]
[{"$nulls":16},54037,"悬河战戟",54037]
[{"$nulls":16},54038,"镜湖战戟",54038]
[{"$nulls":16},54039,"止玄战戟",54039]
[{"$nulls":16},54040,"无锋战戟",54040]
[{"$nulls":16},54043,"御风之刃",54043]
[{"$nulls":16},54044,"困雨之刃",54044]
[{"$nulls":16},54045,"折雪之刃",54045]
[{"$nulls":16},54046,"碎土之刃",54046]
[{"$nulls":16},54047,"叠云之刃",54047]
[{"$nulls":16},54048,"藏雷之刃",54048]
[{"$nulls":16},54049,"残雾之刃",54049]
[{"$nulls":16},54050,"踏江之刃",54050]
[{"$nulls":16},54051,"悬河之刃",54051]
[{"$nulls":16},54052,"镜湖之刃",54052]
[{"$nulls":16},54053,"止玄之刃",54053]
[{"$nulls":16},54054,"无锋之刃",54054]
[{"$nulls":16},54057,"御风法铃",54057]
[{"$nulls":16},54058,"困雨法铃",54058]
[{"$nulls":16},54059,"折雪法铃",54059]
[{"$nulls":16},54060,"碎土法铃",54060]
[{"$nulls":16},54061,"叠云法铃",54061]
[{"$nulls":16},54062,"藏雷法铃",54062]
[{"$nulls":16},54063,"残雾法铃",54063]
[{"$nulls":16},54064,"踏江法铃",54064]
[{"$nulls":16},54065,"悬河法铃",54065]
[{"$nulls":16},54066,"镜湖法铃",54066]
[{"$nulls":16},54067,"止玄法铃",54067]
[{"$nulls":16},54068,"无锋法铃",54068]
[{"$nulls":16},54071,"神行战甲",54071]
[{"$nulls":16},54072,"乘风战甲",54072]
[{"$nulls":16},54074,"破空战甲",54074]
[{"$nulls":16},54075,"逐光战甲",54075]
[{"$nulls":16},54076,"轻尘战甲",54076]
[{"$nulls":16},54077,"洞察战甲",54077]
[{"$nulls":16},54078,"屠戮战甲",54078]
[{"$nulls":16},54080,"遗迹战甲",54080]
[{"$nulls":16},54081,"天启战甲",54081]
[{"$nulls":16},54082,"神行战盔",54082]
[{"$nulls":16},54083,"乘风战盔",54083]
[{"$nulls":16},54084,"破空战盔",54084]
[{"$nulls":16},54085,"逐光战盔",54085]
[{"$nulls":16},54086,"轻尘战盔",54086]
[{"$nulls":16},54087,"洞察战盔",54087]
[{"$nulls":16},54088,"屠戮战盔",54088]
[{"$nulls":16},54089,"遗迹战盔",54089]
[{"$nulls":16},54090,"天启战盔",54090]
[{"$nulls":16},54091,"明光战盔",54091]
[{"$nulls":16},54092,"冥魂战盔",54092]
[{"$nulls":16},54093,"神行战靴",54093]
[{"$nulls":16},54094,"乘风战靴",54094]
[{"$nulls":16},54095,"破空战靴",54095]
[{"$nulls":16},54096,"逐光战靴",54096]
[{"$nulls":16},54097,"轻尘战靴",54097]
[{"$nulls":16},54098,"洞察战靴",54098]
[{"$nulls":16},54099,"屠戮战靴",54099]
[{"$nulls":16},54100,"遗迹战靴",54100]
[{"$nulls":16},54101,"天启战靴",54101]
[{"$nulls":16},54102,"明光战靴",54102]
[{"$nulls":16},54103,"冥魂战靴",54103]
[{"$nulls":16},54104,"神行戒指",54104]
[{"$nulls":16},54105,"乘风戒指",54105]
[{"$nulls":16},54106,"破空戒指",54106]
[{"$nulls":16},54107,"逐光戒指",54107]
[{"$nulls":16},54108,"轻尘戒指",54108]
[{"$nulls":16},54109,"洞察戒指",54109]
[{"$nulls":16},54110,"屠戮戒指",54110]
[{"$nulls":16},54111,"遗迹戒指",54111]
[{"$nulls":16},54112,"天启戒指",54112]
[{"$nulls":16},54113,"明光戒指",54113]
[{"$nulls":16},54114,"冥魂戒指",54114]
[{"$nulls":16},54115,"神行束带",54115]
[{"$nulls":16},54116,"乘风束带",54116]
[{"$nulls":16},54117,"破空束带",54117]
[{"$nulls":16},54118,"逐光束带",54118]
[{"$nulls":16},54119,"轻尘束带",54119]
[{"$nulls":16},54120,"洞察束带",54120]
[{"$nulls":16},54121,"屠戮束带",54121]
[{"$nulls":16},54122,"遗迹束带",54122]
[{"$nulls":16},54123,"天启束带",54123]
[{"$nulls":16},54124,"明光束带",54124]
[{"$nulls":16},54125,"冥魂束带",54125]
[{"$nulls":16},54126,"灵动短杖",54126]
[{"$nulls":16},54127,"破晓短杖",54127]
[{"$nulls":16},54128,"辉光短杖",54128]
[{"$nulls":16},54129,"蔽日短杖",54129]
[{"$nulls":16},54130,"卷云短杖",54130]
[{"$nulls":16},54131,"流光短杖",54131]
[{"$nulls":16},54132,"灵锋短杖",54132]
[{"$nulls":16},54133,"破煞短杖",54133]
[{"$nulls":16},54134,"神魂短杖",54134]
[{"$nulls":16},54135,"无魔短杖",54135]
[{"$nulls":16},54136,"灵动长剑",54136]
[{"$nulls":16},54137,"破晓长剑",54137]
[{"$nulls":16},54138,"辉光长剑",54138]
[{"$nulls":16},54139,"蔽日长剑",54139]
[{"$nulls":16},54140,"卷云长剑",54140]
[{"$nulls":16},54141,"流光长剑",54141]
[{"$nulls":16},54142,"灵锋长剑",54142]
[{"$nulls":16},54143,"破煞长剑",54143]
[{"$nulls":16},54144,"神魂长剑",54144]
[{"$nulls":16},54145,"无魔长剑",54145]
[{"$nulls":16},54146,"灵动战斧",54146]
[{"$nulls":16},54147,"破晓战斧",54147]
[{"$nulls":16},54148,"辉光战斧",54148]
[{"$nulls":16},54149,"蔽日战斧",54149]
[{"$nulls":16},54150,"卷云战斧",54150]
[{"$nulls":16},54151,"流光战斧",54151]
[{"$nulls":16},54152,"灵锋战斧",54152]
[{"$nulls":16},54153,"破煞战斧",54153]
[{"$nulls":16},54154,"神魂战斧",54154]
[{"$nulls":16},54155,"无魔战斧",54155]
[{"$nulls":16},54156,"灵动之刃",54156]
[{"$nulls":16},54157,"破晓之刃",54157]
[{"$nulls":16},54158,"辉光之刃",54158]
[{"$nulls":16},54159,"蔽日之刃",54159]
[{"$nulls":16},54160,"卷云之刃",54160]
[{"$nulls":16},54161,"流光之刃",54161]
[{"$nulls":16},54162,"灵锋之刃",54162]
[{"$nulls":16},54163,"破煞之刃",54163]
[{"$nulls":16},54164,"神魂之刃",54164]
[{"$nulls":16},54165,"无魔之刃",54165]
[{"$nulls":16},54166,"灵动法铃",54166]
[{"$nulls":16},54167,"破晓法铃",54167]
[{"$nulls":16},54168,"辉光法铃",54168]
[{"$nulls":16},54169,"蔽日法铃",54169]
[{"$nulls":16},54170,"卷云法铃",54170]
[{"$nulls":16},54171,"流光法铃",54171]
[{"$nulls":16},54172,"灵锋法铃",54172]
[{"$nulls":16},54173,"破煞法铃",54173]
[{"$nulls":16},54174,"神魂法铃",54174]
[{"$nulls":16},54175,"无魔法铃",54175]
[{"$nulls":16},54176,"明光战甲",54176]
[{"$nulls":16},54177,"冥魂战甲",54177]
[{"$nulls":16},54178,"神铸战甲",54178]
[{"$nulls":16},54179,"碧波战甲",54179]
[{"$nulls":16},54180,"流火战甲",54180]
[{"$nulls":16},54181,"幻辰战甲",54181]
[{"$nulls":16},54182,"飞云战甲",54182]
[{"$nulls":16},54183,"风华战甲",54183]
[{"$nulls":16},54184,"临渊战甲",54184]
[{"$nulls":16},54185,"风回战甲",54185]
[{"$nulls":16},54186,"裂风战甲",54186]
[{"$nulls":16},54187,"雁翎战甲",54187]
[{"$nulls":16},54188,"龙鳞战甲",54188]
[{"$nulls":16},54189,"神行战甲",54189]
[{"$nulls":16},54190,"乘风战甲",54190]
[{"$nulls":16},54191,"破空战甲",54191]
[{"$nulls":16},54192,"逐光战甲",54192]
[{"$nulls":16},54193,"轻尘战甲",54193]
[{"$nulls":16},54194,"洞察战甲",54194]
[{"$nulls":16},54195,"屠戮战甲",54195]
[{"$nulls":16},54196,"遗迹战甲",54196]
[{"$nulls":16},54197,"天启战甲",54197]
[{"$nulls":16},54198,"明光战甲",54198]
[{"$nulls":16},54199,"冥魂战甲",54199]
[{"$nulls":16},54200,"神铸战甲",54200]
[{"$nulls":16},54201,"碧波战甲",54201]
[{"$nulls":16},54202,"流火战甲",54202]
[{"$nulls":16},54203,"幻辰战甲",54203]
[{"$nulls":16},54204,"飞云战甲",54204]
[{"$nulls":16},54205,"风华战甲",54205]
[{"$nulls":16},54206,"临渊战甲",54206]
[{"$nulls":16},54207,"风回战甲",54207]
[{"$nulls":16},54208,"裂风战甲",54208]
[{"$nulls":16},54209,"雁翎战甲",54209]
[{"$nulls":16},54210,"龙鳞战甲",54210]
[{"$nulls":16},54211,"神铸战盔",54211]
[{"$nulls":16},54212,"碧波战盔",54212]
[{"$nulls":16},54213,"流火战盔",54213]
[{"$nulls":16},54214,"幻辰战盔",54214]
[{"$nulls":16},54215,"飞云战盔",54215]
[{"$nulls":16},54216,"风华战盔",54216]
[{"$nulls":16},54217,"临渊战盔",54217]
[{"$nulls":16},54218,"风回战盔",54218]
[{"$nulls":16},54219,"裂风战盔",54219]
[{"$nulls":16},54220,"雁翎战盔",54220]
[{"$nulls":16},54221,"龙鳞战盔",54221]
[{"$nulls":16},54222,"神铸战靴",54222]
[{"$nulls":16},54223,"碧波战靴",54223]
[{"$nulls":16},54224,"流火战靴",54224]
[{"$nulls":16},54225,"幻辰战靴",54225]
[{"$nulls":16},54226,"飞云战靴",54226]
[{"$nulls":16},54227,"风华战靴",54227]
[{"$nulls":16},54228,"临渊战靴",54228]
[{"$nulls":16},54229,"风回战靴",54229]
[{"$nulls":16},54230,"裂风战靴",54230]
[{"$nulls":16},54231,"雁翎战靴",54231]
[{"$nulls":16},54232,"龙鳞战靴",54232]
[{"$nulls":16},54233,"神铸戒指",54233]
[{"$nulls":16},54234,"碧波戒指",54234]
[{"$nulls":16},54235,"流火戒指",54235]
[{"$nulls":16},54236,"幻辰戒指",54236]
[{"$nulls":16},54237,"飞云戒指",54237]
[{"$nulls":16},54238,"风华戒指",54238]
[{"$nulls":16},54239,"临渊戒指",54239]
[{"$nulls":16},54240,"风回戒指",54240]
[{"$nulls":16},54241,"裂风戒指",54241]
[{"$nulls":16},54242,"雁翎戒指",54242]
[{"$nulls":16},54243,"龙鳞戒指",54243]
[{"$nulls":16},54244,"神铸束带",54244]
[{"$nulls":16},54245,"碧波束带",54245]
[{"$nulls":16},54246,"流火束带",54246]
[{"$nulls":16},54247,"幻辰束带",54247]
[{"$nulls":16},54248,"飞云束带",54248]
[{"$nulls":16},54249,"风华束带",54249]
[{"$nulls":16},54250,"临渊束带",54250]
[{"$nulls":16},54251,"风回束带",54251]
[{"$nulls":16},54252,"裂风束带",54252]
[{"$nulls":16},54253,"雁翎束带",54253]
[{"$nulls":16},54254,"龙鳞束带",54254]
[{"$nulls":16},55001,"断念神杖",55001]
[{"$nulls":16},55002,"斩尘神杖",55002]
[{"$nulls":16},55003,"凝墨神杖",55003]
[{"$nulls":16},55004,"碎弦神杖",55004]
[{"$nulls":16},55005,"星落神杖",55005]
[{"$nulls":16},55006,"月耀神杖",55006]
[{"$nulls":16},55007,"赤阳神杖",55007]
[{"$nulls":16},55008,"神华神杖",55008]
[{"$nulls":16},55009,"弹指神杖",55009]
[{"$nulls":16},55010,"刹那神杖",55010]
[{"$nulls":16},55011,"一念神杖",55011]
[{"$nulls":16},55012,"须臾神杖",55012]
[{"$nulls":16},55013,"劫火神杖",55013]
[{"$nulls":16},55014,"破锋神杖",55014]
[{"$nulls":16},55015,"寂灭神杖",55015]
[{"$nulls":16},55016,"太玄神杖",55016]
[{"$nulls":16},55017,"离恨神杖",55017]
[{"$nulls":16},55019,"归凡神杖",55019]
[{"$nulls":16},55021,"断念神剑",55021]
[{"$nulls":16},55022,"斩尘神剑",55022]
[{"$nulls":16},55023,"凝墨神剑",55023]
[{"$nulls":16},55024,"碎弦神剑",55024]
[{"$nulls":16},55025,"星落神剑",55025]
[{"$nulls":16},55026,"月耀神刺",55026]
[{"$nulls":16},55027,"赤阳神刺",55027]
[{"$nulls":16},55028,"神华神刺",55028]
[{"$nulls":16},55029,"弹指神刺",55029]
[{"$nulls":16},55030,"刹那神刺",55030]
[{"$nulls":16},55031,"一念神刺",55031]
[{"$nulls":16},55032,"须臾神刺",55032]
[{"$nulls":16},55033,"劫火神刺",55033]
[{"$nulls":16},55034,"破锋神刺",55034]
[{"$nulls":16},55035,"寂灭神刺",55035]
[{"$nulls":16},55036,"太玄神刺",55036]
[{"$nulls":16},55039,"归凡神刺",55039]
[{"$nulls":16},55040,"道衍神刺",55040]
[{"$nulls":16},55041,"断念神斧",55041]
[{"$nulls":16},55042,"斩尘神斧",55042]
[{"$nulls":16},55043,"凝墨神斧",55043]
[{"$nulls":16},55044,"碎弦神斧",55044]
[{"$nulls":16},55045,"星落神戟",55045]
[{"$nulls":16},55046,"月耀神戟",55046]
[{"$nulls":16},55047,"赤阳神戟",55047]
[{"$nulls":16},55048,"神华神戟",55048]
[{"$nulls":16},55049,"弹指神戟",55049]
[{"$nulls":16},55050,"刹那神戟",55050]
[{"$nulls":16},55051,"一念神戟",55051]
[{"$nulls":16},55052,"须臾神戟",55052]
[{"$nulls":16},55053,"劫火神戟",55053]
[{"$nulls":16},55054,"破锋神戟",55054]
[{"$nulls":16},55055,"寂灭神戟",55055]
[{"$nulls":16},55056,"太玄神戟",55056]
[{"$nulls":16},55059,"归凡神戟",55059]
[{"$nulls":16},55060,"道衍神戟",55060]
[{"$nulls":16},55061,"断念古剑",55061]
[{"$nulls":16},55062,"斩尘古剑",55062]
[{"$nulls":16},55063,"凝墨古剑",55063]
[{"$nulls":16},55064,"碎弦古剑",55064]
[{"$nulls":16},55065,"星落古剑",55065]
[{"$nulls":16},55066,"月耀古剑",55066]
[{"$nulls":16},55067,"赤阳古剑",55067]
[{"$nulls":16},55068,"神华古剑",55068]
[{"$nulls":16},55069,"弹指古剑",55069]
[{"$nulls":16},55070,"刹那古剑",55070]
[{"$nulls":16},55071,"一念古剑",55071]
[{"$nulls":16},55072,"须臾古剑",55072]
[{"$nulls":16},55073,"劫火古剑",55073]
[{"$nulls":16},55074,"破锋古剑",55074]
[{"$nulls":16},55075,"寂灭古剑",55075]
[{"$nulls":16},55076,"太玄古剑",55076]
[{"$nulls":16},55078,"无始古剑",55078]
[{"$nulls":16},55080,"道衍古剑",55080]
[{"$nulls":16},55081,"断念圣铃",55081]
[{"$nulls":16},55082,"斩尘圣铃",55082]
[{"$nulls":16},55083,"凝墨圣铃",55083]
[{"$nulls":16},55084,"碎弦圣铃",55084]
[{"$nulls":16},55085,"星落圣铃",55085]
[{"$nulls":16},55086,"月耀圣铃",55086]
[{"$nulls":16},55087,"赤阳圣铃",55087]
[{"$nulls":16},55088,"神华圣铃",55088]
[{"$nulls":16},55089,"弹指圣铃",55089]
[{"$nulls":16},55090,"刹那圣铃",55090]
[{"$nulls":16},55091,"一念圣铃",55091]
[{"$nulls":16},55092,"须臾圣铃",55092]
[{"$nulls":16},55093,"劫火圣铃",55093]
[{"$nulls":16},55094,"破锋圣铃",55094]
[{"$nulls":16},55095,"寂灭圣铃",55095]
[{"$nulls":16},55096,"太玄圣铃",55096]
[{"$nulls":16},55098,"无始圣铃",55098]
[{"$nulls":16},55099,"归凡圣铃",55099]
[{"$nulls":16},55101,"虬龙仙甲",55101]
[{"$nulls":16},55102,"神凰羽衣",55102]
[{"$nulls":16},55103,"饕餮战衣",55103]
[{"$nulls":16},55105,"微澜羽衣",55105]
[{"$nulls":16},55106,"无垠罩衣",55106]
[{"$nulls":16},55107,"黑狱战甲",55107]
[{"$nulls":16},55108,"诸天神甲",55108]
[{"$nulls":16},55109,"轮回羽衣",55109]
[{"$nulls":16},55110,"盘龙战甲",55110]
[{"$nulls":16},55111,"玄冥战甲",55111]
[{"$nulls":16},55112,"千霄战甲",55112]
[{"$nulls":16},55113,"麒麟战甲",55113]
[{"$nulls":16},55114,"应龙战甲",55114]
[{"$nulls":16},55115,"九霄华裳",55115]
[{"$nulls":16},55116,"虬龙战盔",55116]
[{"$nulls":16},55117,"神凰战盔",55117]
[{"$nulls":16},55118,"饕餮战盔",55118]
[{"$nulls":16},55119,"微澜战盔",55119]
[{"$nulls":16},55120,"无垠战盔",55120]
[{"$nulls":16},55121,"黑狱战盔",55121]
[{"$nulls":16},55122,"诸天战盔",55122]
[{"$nulls":16},55123,"轮回战盔",55123]
[{"$nulls":16},55124,"盘龙战盔",55124]
[{"$nulls":16},55125,"玄冥战盔",55125]
[{"$nulls":16},55126,"千霄战盔",55126]
[{"$nulls":16},55127,"麒麟战盔",55127]
[{"$nulls":16},55130,"应龙战盔",55130]
[{"$nulls":16},55131,"虬龙战靴",55131]
[{"$nulls":16},55132,"神凰战靴",55132]
[{"$nulls":16},55133,"饕餮战靴",55133]
[{"$nulls":16},55134,"微澜战靴",55134]
[{"$nulls":16},55135,"无垠战靴",55135]
[{"$nulls":16},55136,"黑狱战靴",55136]
[{"$nulls":16},55137,"诸天战靴",55137]
[{"$nulls":16},55138,"轮回战靴",55138]
[{"$nulls":16},55139,"盘龙战靴",55139]
[{"$nulls":16},55140,"玄冥战靴",55140]
[{"$nulls":16},55141,"千霄战靴",55141]
[{"$nulls":16},55142,"麒麟战靴",55142]
[{"$nulls":16},55143,"应龙战靴",55143]
[{"$nulls":16},55144,"九霄华履",55144]
[{"$nulls":16},55145,"求败战靴",55145]
[{"$nulls":16},55146,"虬龙神戒",55146]
[{"$nulls":16},55147,"神凰神戒",55147]
[{"$nulls":16},55148,"饕餮神戒",55148]
[{"$nulls":16},55149,"微澜神戒",55149]
[{"$nulls":16},55150,"无垠神戒",55150]
[{"$nulls":16},55151,"黑狱神戒",55151]
[{"$nulls":16},55152,"诸天神戒",55152]
[{"$nulls":16},55153,"轮回神戒",55153]
[{"$nulls":16},55154,"盘龙神戒",55154]
[{"$nulls":16},55155,"玄冥神戒",55155]
[{"$nulls":16},55156,"千霄神戒",55156]
[{"$nulls":16},55157,"麒麟神戒",55157]
[{"$nulls":16},55158,"应龙神戒",55158]
[{"$nulls":16},55159,"九霄神戒",55159]
[{"$nulls":16},55160,"求败神戒",55160]
[{"$nulls":16},55161,"虬龙束带",55161]
[{"$nulls":16},55162,"神凰束带",55162]
[{"$nulls":16},55163,"饕餮束带",55163]
[{"$nulls":16},55164,"微澜束带",55164]
[{"$nulls":16},55165,"无垠束带",55165]
[{"$nulls":16},55166,"黑狱束带",55166]
[{"$nulls":16},55167,"诸天束带",55167]
[{"$nulls":16},55168,"轮回束带",55168]
[{"$nulls":16},55169,"盘龙束带",55169]
[{"$nulls":16},55170,"玄冥束带",55170]
[{"$nulls":16},55171,"千霄束带",55171]
[{"$nulls":16},55172,"麒麟束带",55172]
[{"$nulls":16},55173,"应龙束带",55173]
[{"$nulls":16},55174,"九霄束带",55174]
[{"$nulls":16},55175,"求败束带",55175]
[{"$nulls":16},55176,"绝涛神杖",55176]
[{"$nulls":16},55177,"风华神杖",55177]
[{"$nulls":16},55178,"凌云神杖",55178]
[{"$nulls":16},55179,"星陨神杖",55179]
[{"$nulls":16},55180,"斩龙神杖",55180]
[{"$nulls":16},55181,"化渊神杖",55181]
[{"$nulls":16},55182,"玄雷神杖",55182]
[{"$nulls":16},55183,"覆雨神杖",55183]
[{"$nulls":16},55184,"风吟神杖",55184]
[{"$nulls":16},55185,"绝天神杖",55185]
[{"$nulls":16},55186,"斩魂神杖",55186]
[{"$nulls":16},55187,"极冰神杖",55187]
[{"$nulls":16},55188,"凰翎神杖",55188]
[{"$nulls":16},55189,"龙炎神杖",55189]
[{"$nulls":16},55190,"天煞神杖",55190]
[{"$nulls":16},55191,"青帝神杖",55191]
[{"$nulls":16},55192,"望舒神杖",55192]
[{"$nulls":16},55193,"羲和神杖",55193]
[{"$nulls":16},55194,"绝涛神剑",55194]
[{"$nulls":16},55195,"风华神剑",55195]
[{"$nulls":16},55196,"凌云神剑",55196]
[{"$nulls":16},55197,"星陨神剑",55197]
[{"$nulls":16},55198,"斩龙神剑",55198]
[{"$nulls":16},55199,"化渊神剑",55199]
[{"$nulls":16},55200,"玄雷神剑",55200]
[{"$nulls":16},55201,"覆雨神剑",55201]
[{"$nulls":16},55202,"风吟神剑",55202]
[{"$nulls":16},55203,"绝天神剑",55203]
[{"$nulls":16},55204,"斩魂神剑",55204]
[{"$nulls":16},55205,"极冰神剑",55205]
[{"$nulls":16},55206,"凰翎神剑",55206]
[{"$nulls":16},55207,"龙炎神剑",55207]
[{"$nulls":16},55208,"天煞神剑",55208]
[{"$nulls":16},55209,"青帝神剑",55209]
[{"$nulls":16},55210,"望舒神剑",55210]
[{"$nulls":16},55211,"羲和神剑",55211]
[{"$nulls":16},55212,"绝涛神斧",55212]
[{"$nulls":16},55213,"风华神斧",55213]
[{"$nulls":16},55214,"凌云神斧",55214]
[{"$nulls":16},55215,"星陨神斧",55215]
[{"$nulls":16},55216,"斩龙神斧",55216]
[{"$nulls":16},55217,"化渊神斧",55217]
[{"$nulls":16},55218,"玄雷神斧",55218]
[{"$nulls":16},55219,"覆雨神斧",55219]
[{"$nulls":16},55220,"风吟神斧",55220]
[{"$nulls":16},55221,"绝天神斧",55221]
[{"$nulls":16},55222,"斩魂神斧",55222]
[{"$nulls":16},55223,"极冰神斧",55223]
[{"$nulls":16},55224,"凰翎神斧",55224]
[{"$nulls":16},55225,"龙炎神斧",55225]
[{"$nulls":16},55226,"天煞神斧",55226]
[{"$nulls":16},55227,"青帝神斧",55227]
[{"$nulls":16},55228,"望舒神斧",55228]
[{"$nulls":16},55229,"羲和神斧",55229]
[{"$nulls":16},55230,"绝涛古剑",55230]
[{"$nulls":16},55231,"风华古剑",55231]
[{"$nulls":16},55232,"凌云古剑",55232]
[{"$nulls":16},55233,"星陨古剑",55233]
[{"$nulls":16},55234,"斩龙古剑",55234]
[{"$nulls":16},55235,"化渊古剑",55235]
[{"$nulls":16},55236,"玄雷古剑",55236]
[{"$nulls":16},55237,"覆雨古剑",55237]
[{"$nulls":16},55238,"风吟古剑",55238]
[{"$nulls":16},55239,"绝天古剑",55239]
[{"$nulls":16},55240,"斩魂古剑",55240]
[{"$nulls":16},55241,"极冰古剑",55241]
[{"$nulls":16},55242,"凰翎古剑",55242]
[{"$nulls":16},55243,"龙炎古剑",55243]
[{"$nulls":16},55244,"天煞古剑",55244]
[{"$nulls":16},55245,"青帝古剑",55245]
[{"$nulls":16},55246,"望舒古剑",55246]
[{"$nulls":16},55247,"羲和古剑",55247]
[{"$nulls":16},55248,"绝涛圣铃",55248]
[{"$nulls":16},55249,"风华圣铃",55249]
[{"$nulls":16},55250,"凌云圣铃",55250]
[{"$nulls":16},55251,"星陨圣铃",55251]
[{"$nulls":16},55252,"斩龙圣铃",55252]
[{"$nulls":16},55253,"化渊圣铃",55253]
[{"$nulls":16},55254,"玄雷圣铃",55254]
[{"$nulls":16},55255,"覆雨圣铃",55255]
[{"$nulls":16},55256,"风吟圣铃",55256]
[{"$nulls":16},55257,"绝天圣铃",55257]
[{"$nulls":16},55258,"斩魂圣铃",55258]
[{"$nulls":16},55259,"极冰圣铃",55259]
[{"$nulls":16},55260,"凰翎圣铃",55260]
[{"$nulls":16},55261,"龙炎圣铃",55261]
[{"$nulls":16},55262,"天煞圣铃",55262]
[{"$nulls":16},55263,"青帝圣铃",55263]
[{"$nulls":16},55264,"望舒圣铃",55264]
[{"$nulls":16},55265,"羲和圣铃",55265]
[{"$nulls":16},55266,"求败战甲",55266]
[{"$nulls":16},55267,"倾寒战甲",55267]
[{"$nulls":16},55268,"炎帝战甲",55268]
[{"$nulls":16},55269,"句芒战甲",55269]
[{"$nulls":16},55270,"云龙战甲",55270]
[{"$nulls":16},55271,"霜狼战甲",55271]
[{"$nulls":16},55272,"银月战甲",55272]
[{"$nulls":16},55273,"天庭战甲",55273]
[{"$nulls":16},55274,"青虹战甲",55274]
[{"$nulls":16},55275,"倚天战甲",55275]
[{"$nulls":16},55276,"炼狱战甲",55276]
[{"$nulls":16},55277,"血饮战甲",55277]
[{"$nulls":16},55278,"奔雷战甲",55278]
[{"$nulls":16},55279,"无极战甲",55279]
[{"$nulls":16},55280,"惊云战甲",55280]
[{"$nulls":16},55281,"夸父战甲",55281]
[{"$nulls":16},55282,"盘古战甲",55282]
[{"$nulls":16},55283,"六合战甲",55283]
[{"$nulls":16},55284,"八荒战甲",55284]
[{"$nulls":16},55285,"太初战甲",55285]
[{"$nulls":16},55286,"鸿蒙战甲",55286]
[{"$nulls":16},55287,"轩辕战甲",55287]
[{"$nulls":16},55288,"虬龙仙甲",55288]
[{"$nulls":16},55289,"神凰羽衣",55289]
[{"$nulls":16},55290,"饕餮战衣",55290]
[{"$nulls":16},55291,"微澜羽衣",55291]
[{"$nulls":16},55292,"无垠罩衣",55292]
[{"$nulls":16},55293,"黑狱战甲",55293]
[{"$nulls":16},55294,"诸天神甲",55294]
[{"$nulls":16},55295,"轮回羽衣",55295]
[{"$nulls":16},55296,"盘龙战甲",55296]
[{"$nulls":16},55297,"玄冥战甲",55297]
[{"$nulls":16},55298,"千霄战甲",55298]
[{"$nulls":16},55299,"麒麟战甲",55299]
[{"$nulls":16},55300,"应龙战甲",55300]
[{"$nulls":16},55301,"九霄华裳",55301]
[{"$nulls":16},55302,"求败战甲",55302]
[{"$nulls":16},55303,"倾寒战甲",55303]
[{"$nulls":16},55304,"炎帝战甲",55304]
[{"$nulls":16},55305,"句芒战甲",55305]
[{"$nulls":16},55306,"云龙战甲",55306]
[{"$nulls":16},55307,"霜狼战甲",55307]
[{"$nulls":16},55308,"银月战甲",55308]
[{"$nulls":16},55309,"天庭战甲",55309]
[{"$nulls":16},55310,"青虹战甲",55310]
[{"$nulls":16},55311,"倚天战甲",55311]
[{"$nulls":16},55312,"炼狱战甲",55312]
[{"$nulls":16},55313,"血饮战甲",55313]
[{"$nulls":16},55314,"奔雷战甲",55314]
[{"$nulls":16},55315,"无极战甲",55315]
[{"$nulls":16},55316,"惊云战甲",55316]
[{"$nulls":16},55317,"夸父战甲",55317]
[{"$nulls":16},55318,"盘古战甲",55318]
[{"$nulls":16},55319,"六合战甲",55319]
[{"$nulls":16},55320,"八荒战甲",55320]
[{"$nulls":16},55321,"太初战甲",55321]
[{"$nulls":16},55322,"鸿蒙战甲",55322]
[{"$nulls":16},55323,"轩辕战甲",55323]
[{"$nulls":16},55324,"九霄华冠",55324]
[{"$nulls":16},55325,"求败战盔",55325]
[{"$nulls":16},55326,"倾寒战盔",55326]
[{"$nulls":16},55327,"炎帝战盔",55327]
[{"$nulls":16},55328,"句芒战盔",55328]
[{"$nulls":16},55329,"云龙战盔",55329]
[{"$nulls":16},55330,"霜狼战盔",55330]
[{"$nulls":16},55331,"银月战盔",55331]
[{"$nulls":16},55332,"天庭战盔",55332]
[{"$nulls":16},55333,"青虹战盔",55333]
[{"$nulls":16},55334,"倚天战盔",55334]
[{"$nulls":16},55335,"炼狱战盔",55335]
[{"$nulls":16},55336,"血饮战盔",55336]
[{"$nulls":16},55337,"奔雷战盔",55337]
[{"$nulls":16},55338,"无极战盔",55338]
[{"$nulls":16},55339,"惊云战盔",55339]
[{"$nulls":16},55340,"夸父战盔",55340]
[{"$nulls":16},55341,"盘古战盔",55341]
[{"$nulls":16},55342,"六合战盔",55342]
[{"$nulls":16},55343,"八荒战盔",55343]
[{"$nulls":16},55344,"太初战盔",55344]
[{"$nulls":16},55345,"鸿蒙战盔",55345]
[{"$nulls":16},55346,"轩辕战盔",55346]
[{"$nulls":16},55347,"倾寒战靴",55347]
[{"$nulls":16},55348,"炎帝战靴",55348]
[{"$nulls":16},55349,"句芒战靴",55349]
[{"$nulls":16},55350,"云龙战靴",55350]
[{"$nulls":16},55351,"霜狼战靴",55351]
[{"$nulls":16},55352,"银月战靴",55352]
[{"$nulls":16},55353,"天庭战靴",55353]
[{"$nulls":16},55354,"青虹战靴",55354]
[{"$nulls":16},55355,"倚天战靴",55355]
[{"$nulls":16},55356,"炼狱战靴",55356]
[{"$nulls":16},55357,"血饮战靴",55357]
[{"$nulls":16},55358,"奔雷战靴",55358]
[{"$nulls":16},55359,"无极战靴",55359]
[{"$nulls":16},55360,"惊云战靴",55360]
[{"$nulls":16},55361,"夸父战靴",55361]
[{"$nulls":16},55362,"盘古战靴",55362]
[{"$nulls":16},55363,"六合战靴",55363]
[{"$nulls":16},55364,"八荒战靴",55364]
[{"$nulls":16},55365,"太初战靴",55365]
[{"$nulls":16},55366,"鸿蒙战靴",55366]
[{"$nulls":16},55367,"轩辕战靴",55367]
[{"$nulls":16},55368,"倾寒神戒",55368]
[{"$nulls":16},55369,"炎帝神戒",55369]
[{"$nulls":16},55370,"句芒神戒",55370]
[{"$nulls":16},55371,"云龙神戒",55371]
[{"$nulls":16},55372,"霜狼神戒",55372]
[{"$nulls":16},55373,"银月神戒",55373]
[{"$nulls":16},55374,"天庭神戒",55374]
[{"$nulls":16},55375,"青虹神戒",55375]
[{"$nulls":16},55376,"倚天神戒",55376]
[{"$nulls":16},55377,"炼狱神戒",55377]
[{"$nulls":16},55378,"血饮神戒",55378]
[{"$nulls":16},55379,"奔雷神戒",55379]
[{"$nulls":16},55380,"无极神戒",55380]
[{"$nulls":16},55381,"惊云神戒",55381]
[{"$nulls":16},55382,"夸父神戒",55382]
[{"$nulls":16},55383,"盘古神戒",55383]
[{"$nulls":16},55384,"六合神戒",55384]
[{"$nulls":16},55385,"八荒神戒",55385]
[{"$nulls":16},55386,"太初神戒",55386]
[{"$nulls":16},55387,"鸿蒙神戒",55387]
[{"$nulls":16},55388,"轩辕神戒",55388]
[{"$nulls":16},55389,"倾寒束带",55389]
[{"$nulls":16},55390,"炎帝束带",55390]
[{"$nulls":16},55391,"句芒束带",55391]
[{"$nulls":16},55392,"云龙束带",55392]
[{"$nulls":16},55393,"霜狼束带",55393]
[{"$nulls":16},55394,"银月束带",55394]
[{"$nulls":16},55395,"天庭束带",55395]
[{"$nulls":16},55396,"青虹束带",55396]
[{"$nulls":16},55397,"倚天束带",55397]
[{"$nulls":16},55398,"炼狱束带",55398]
[{"$nulls":16},55399,"血饮束带",55399]
[{"$nulls":16},55400,"奔雷束带",55400]
[{"$nulls":16},55401,"无极束带",55401]
[{"$nulls":16},55402,"惊云束带",55402]
[{"$nulls":16},55403,"夸父束带",55403]
[{"$nulls":16},55404,"盘古束带",55404]
[{"$nulls":16},55405,"六合束带",55405]
[{"$nulls":16},55406,"八荒束带",55406]
[{"$nulls":16},55407,"太初束带",55407]
[{"$nulls":16},55408,"鸿蒙束带",55408]
[{"$nulls":16},55409,"轩辕束带",55409]
[{"$nulls":16},63001,"乌木法杖",63001]
[{"$nulls":16},63015,"乌木短剑",63015]
[{"$nulls":16},63029,"乌木大斧",63029]
[{"$nulls":16},63043,"乌木短剑",63043]
[{"$nulls":16},63057,"乌木法杖",63057]
[{"$nulls":16},63071,"乌木战甲",63071]
[{"$nulls":16},63076,"墨玉战甲",63076]
[{"$nulls":16},63082,"乌木战盔",63082]
[{"$nulls":16},63093,"乌木战靴",63093]
[{"$nulls":16},63104,"乌木戒指",63104]
[{"$nulls":16},63115,"乌木腰带",63115]
[{"$nulls":16},64001,"御风短杖",64001]
[{"$nulls":16},64015,"御风短剑",64015]
[{"$nulls":16},64029,"御风战斧",64029]
[{"$nulls":16},64043,"御风之刃",64043]
[{"$nulls":16},64057,"御风法杖",64057]
[{"$nulls":16},64071,"神行战甲",64071]
[{"$nulls":16},64075,"轻尘战甲",64075]
[{"$nulls":16},64080,"神行战盔",64080]
[{"$nulls":16},64093,"神行战靴",64093]
[{"$nulls":16},64104,"神行戒指",64104]
[{"$nulls":16},64115,"神行束带",64115]
[{"$nulls":16},65001,"断念神杖",65001]
[{"$nulls":16},65021,"断念神剑",65021]
[{"$nulls":16},65041,"断念神斧",65041]
[{"$nulls":16},65061,"断念古剑",65061]
[{"$nulls":16},65081,"断念圣铃",65081]
[{"$nulls":16},65101,"虬龙仙甲",65101]
[{"$nulls":16},65106,"无垠罩衣",65106]
[{"$nulls":16},65116,"灵犀头巾",65116]
[{"$nulls":16},65131,"青麟羽鞋",65131]
[{"$nulls":16},65146,"瑞兽戒指",65146]
[{"$nulls":16},65161,"空蝉束带",65161]
[{"$nulls":16},60001,"斩魂神斧",60001]
[{"$nulls":16},60002,"蔽日长剑",60002]
[{"$nulls":16},60003,"蔽日短杖",60003]
[{"$nulls":16},60004,"蔽日之刃",60004]
[{"$nulls":16},60005,"蔽日法铃",60005]
[{"$nulls":16},60006,"极冰神斧",60006]
[{"$nulls":16},60007,"卷云长剑",60007]
[{"$nulls":16},60008,"卷云短杖",60008]
[{"$nulls":16},60009,"卷云之刃",60009]
[{"$nulls":16},60010,"卷云法铃",60010]
[{"$nulls":16},60011,"凰翎神斧",60011]
[{"$nulls":16},60012,"流光长剑",60012]
[{"$nulls":16},60013,"流光短杖",60013]
[{"$nulls":16},60014,"流光之刃",60014]
[{"$nulls":16},60015,"流光法铃",60015]
[{"$nulls":16},60016,"惊云战甲",60016]
[{"$nulls":16},60017,"夸父战甲",60017]
[{"$nulls":16},60018,"盘古战甲",60018]
[{"$nulls":16},60019,"惊云战甲",60019]
[{"$nulls":16},60020,"夸父战甲",60020]
[{"$nulls":16},60021,"盘古战甲",60021]
[{"$nulls":16},60022,"飞云战盔",60022]
[{"$nulls":16},60023,"风华战盔",60023]
[{"$nulls":16},60024,"临渊战盔",60024]
[{"$nulls":16},60025,"飞云战靴",60025]
[{"$nulls":16},60026,"风华战靴",60026]
[{"$nulls":16},60027,"临渊战靴",60027]
[{"$nulls":16},60028,"飞云戒指",60028]
[{"$nulls":16},60029,"风华戒指",60029]
[{"$nulls":16},60030,"临渊戒指",60030]
[{"$nulls":16},60031,"飞云束带",60031]
[{"$nulls":16},60032,"风华束带",60032]
[{"$nulls":16},60033,"临渊束带",60033]
[{"$nulls":16},70001,"蔽日战斧",70001]
[{"$nulls":16},70002,"斩魂神剑",70002]
[{"$nulls":16},70003,"斩魂神杖",70003]
[{"$nulls":16},70004,"斩魂古剑",70004]
[{"$nulls":16},70005,"斩魂圣铃",70005]
[{"$nulls":16},70006,"卷云战斧",70006]
[{"$nulls":16},70007,"极冰神剑",70007]
[{"$nulls":16},70008,"极冰神杖",70008]
[{"$nulls":16},70009,"极冰古剑",70009]
[{"$nulls":16},70010,"极冰圣铃",70010]
[{"$nulls":16},70011,"流光战斧",70011]
[{"$nulls":16},70012,"凰翎神剑",70012]
[{"$nulls":16},70013,"凰翎神杖",70013]
[{"$nulls":16},70014,"凰翎古剑",70014]
[{"$nulls":16},70015,"凰翎圣铃",70015]
[{"$nulls":16},70016,"惊云战甲",70016]
[{"$nulls":16},70017,"夸父战甲",70017]
[{"$nulls":16},70018,"盘古战甲",70018]
[{"$nulls":16},70019,"惊云战甲",70019]
[{"$nulls":16},70020,"夸父战甲",70020]
[{"$nulls":16},70021,"盘古战甲",70021]
[{"$nulls":16},70022,"惊云战盔",70022]
[{"$nulls":16},70023,"夸父战盔",70023]
[{"$nulls":16},70024,"盘古战盔",70024]
[{"$nulls":16},70025,"惊云战靴",70025]
[{"$nulls":16},70026,"夸父战靴",70026]
[{"$nulls":16},70027,"盘古战靴",70027]
[{"$nulls":16},70028,"惊云神戒",70028]
[{"$nulls":16},70029,"夸父神戒",70029]
[{"$nulls":16},70030,"盘古神戒",70030]
[{"$nulls":16},70031,"惊云束带",70031]
[{"$nulls":16},70032,"夸父束带",70032]
[{"$nulls":16},70033,"盘古束带",70033]
[{"$nulls":16},70034,"橙装宝箱",70034]
[{"$nulls":16},70035,"绿装宝箱",70035]
[{"$nulls":16},70036,"蓝装宝箱",70036]
[{"$nulls":16},70101,"异界石",70101]
[{"$nulls":16},70201,"烈日石",70201]
[{"$nulls":16},70301,"清月石",70301]
[{"$nulls":16},70401,"辰星石",70401]
[{"$nulls":16},70501,"混沌石",70501]
[{"$nulls":16},70102,"辉煌异界石",70102]
[{"$nulls":16},70202,"辉煌烈日石",70202]
[{"$nulls":16},70302,"辉煌清月石",70302]
[{"$nulls":16},70402,"辉煌辰星石",70402]
[{"$nulls":16},70502,"辉煌混沌石",70502]
[{"$nulls":16},70103,"辉煌异界石",70103]
[{"$nulls":16},70203,"辉煌烈日石",70203]
[{"$nulls":16},70303,"辉煌清月石",70303]
[{"$nulls":16},70403,"辉煌辰星石",70403]
[{"$nulls":16},70503,"辉煌混沌石",70503]
[{"$nulls":16},70104,"辉煌异界石",70104]
[{"$nulls":16},70204,"辉煌烈日石",70204]
[{"$nulls":16},70304,"辉煌清月石",70304]
[{"$nulls":16},70404,"辉煌辰星石",70404]
[{"$nulls":16},70504,"辉煌混沌石",70504]
[{"$nulls":16},70105,"辉煌异界石",70105]
[{"$nulls":16},70205,"辉煌烈日石",70205]
[{"$nulls":16},70305,"辉煌清月石",70305]
[{"$nulls":16},70405,"辉煌辰星石",70405]
[{"$nulls":16},70505,"辉煌混沌石",70505]
[{"$nulls":16},70106,"灼热异界石",70106]
[{"$nulls":16},70206,"灼热烈日石",70206]
[{"$nulls":16},70306,"灼热清月石",70306]
[{"$nulls":16},70406,"灼热辰星石",70406]
[{"$nulls":16},70506,"灼热混沌石",70506]
[{"$nulls":16},70107,"灼热异界石",70107]
[{"$nulls":16},70207,"灼热烈日石",70207]
[{"$nulls":16},70307,"灼热清月石",70307]
[{"$nulls":16},70407,"灼热辰星石",70407]
[{"$nulls":16},70507,"灼热混沌石",70507]
[{"$nulls":16},70108,"灼热异界石",70108]
[{"$nulls":16},70208,"灼热烈日石",70208]
[{"$nulls":16},70308,"灼热清月石",70308]
[{"$nulls":16},70408,"灼热辰星石",70408]
[{"$nulls":16},70508,"灼热混沌石",70508]
[{"$nulls":16},70109,"灼热异界石",70109]
[{"$nulls":16},70209,"灼热烈日石",70209]
[{"$nulls":16},70309,"灼热清月石",70309]
[{"$nulls":16},70409,"灼热辰星石",70409]
[{"$nulls":16},70509,"灼热混沌石",70509]
[{"$nulls":16},70110,"灼热异界石",70110]
[{"$nulls":16},70210,"灼热烈日石",70210]
[{"$nulls":16},70310,"灼热清月石",70310]
[{"$nulls":16},70410,"灼热辰星石",70410]
[{"$nulls":16},70510,"灼热混沌石",70510]
[{"$nulls":16},70111,"灿烂异界石",70111]
[{"$nulls":16},70211,"灿烂烈日石",70211]
[{"$nulls":16},70311,"灿烂清月石",70311]
[{"$nulls":16},70411,"灿烂辰星石",70411]
[{"$nulls":16},70511,"灿烂混沌石",70511]
[{"$nulls":16},70112,"灿烂异界石",70112]
[{"$nulls":16},70212,"灿烂烈日石",70212]
[{"$nulls":16},70312,"灿烂清月石",70312]
[{"$nulls":16},70412,"灿烂辰星石",70412]
[{"$nulls":16},70512,"灿烂混沌石",70512]
[{"$nulls":16},70113,"灿烂异界石",70113]
[{"$nulls":16},70213,"灿烂烈日石",70213]
[{"$nulls":16},70313,"灿烂清月石",70313]
[{"$nulls":16},70413,"灿烂辰星石",70413]
[{"$nulls":16},70513,"灿烂混沌石",70513]
[{"$nulls":16},70114,"灿烂异界石",70114]
[{"$nulls":16},70214,"灿烂烈日石",70214]
[{"$nulls":16},70314,"灿烂清月石",70314]
[{"$nulls":16},70414,"灿烂辰星石",70414]
[{"$nulls":16},70514,"灿烂混沌石",70514]
[{"$nulls":16},70115,"灿烂异界石",70115]
[{"$nulls":16},70215,"灿烂烈日石",70215]
[{"$nulls":16},70315,"灿烂清月石",70315]
[{"$nulls":16},70415,"灿烂辰星石",70415]
[{"$nulls":16},70515,"灿烂混沌石",70515]
[{"$nulls":16},70116,"灿烂异界石",70116]
[{"$nulls":16},70216,"灿烂烈日石",70216]
[{"$nulls":16},70316,"灿烂清月石",70316]
[{"$nulls":16},70416,"灿烂辰星石",70416]
[{"$nulls":16},70516,"灿烂混沌石",70516]
[{"$nulls":16},70117,"灿烂异界石",70117]
[{"$nulls":16},70217,"灿烂烈日石",70217]
[{"$nulls":16},70317,"灿烂清月石",70317]
[{"$nulls":16},70417,"灿烂辰星石",70417]
[{"$nulls":16},70517,"灿烂混沌石",70517]
[{"$nulls":16},70118,"璀璨异界石",70118]
[{"$nulls":16},70218,"璀璨烈日石",70218]
[{"$nulls":16},70318,"璀璨清月石",70318]
[{"$nulls":16},70418,"璀璨辰星石",70418]
[{"$nulls":16},70518,"璀璨混沌石",70518]
[{"$nulls":16},70119,"璀璨异界石",70119]
[{"$nulls":16},70219,"璀璨烈日石",70219]
[{"$nulls":16},70319,"璀璨清月石",70319]
[{"$nulls":16},70419,"璀璨辰星石",70419]
[{"$nulls":16},70519,"璀璨混沌石",70519]
[{"$nulls":16},70120,"璀璨异界石",70120]
[{"$nulls":16},70220,"璀璨烈日石",70220]
[{"$nulls":16},70320,"璀璨清月石",70320]
[{"$nulls":16},70420,"璀璨辰星石",70420]
[{"$nulls":16},70520,"璀璨混沌石",70520]
[{"$nulls":16},70121,"璀璨异界石",70121]
[{"$nulls":16},70221,"璀璨烈日石",70221]
[{"$nulls":16},70321,"璀璨清月石",70321]
[{"$nulls":16},70421,"璀璨辰星石",70421]
[{"$nulls":16},70521,"璀璨混沌石",70521]
[{"$nulls":16},70122,"璀璨异界石",70122]
[{"$nulls":16},70222,"璀璨烈日石",70222]
[{"$nulls":16},70322,"璀璨清月石",70322]
[{"$nulls":16},70422,"璀璨辰星石",70422]
[{"$nulls":16},70522,"璀璨混沌石",70522]
[{"$nulls":16},70123,"璀璨异界石",70123]
[{"$nulls":16},70223,"璀璨烈日石",70223]
[{"$nulls":16},70323,"璀璨清月石",70323]
[{"$nulls":16},70423,"璀璨辰星石",70423]
[{"$nulls":16},70523,"璀璨混沌石",70523]
[{"$nulls":16},70124,"璀璨异界石",70124]
[{"$nulls":16},70224,"璀璨烈日石",70224]
[{"$nulls":16},70324,"璀璨清月石",70324]
[{"$nulls":16},70424,"璀璨辰星石",70424]
[{"$nulls":16},70524,"璀璨混沌石",70524]
[{"$nulls":16},70125,"璀璨异界石",70125]
[{"$nulls":16},70225,"璀璨烈日石",70225]
[{"$nulls":16},70325,"璀璨清月石",70325]
[{"$nulls":16},70425,"璀璨辰星石",70425]
[{"$nulls":16},70525,"璀璨混沌石",70525]
[{"$nulls":16},70126,"璀璨异界石",70126]
[{"$nulls":16},70226,"璀璨烈日石",70226]
[{"$nulls":16},70326,"璀璨清月石",70326]
[{"$nulls":16},70426,"璀璨辰星石",70426]
[{"$nulls":16},70526,"璀璨混沌石",70526]
[{"$nulls":16},80000,"默认",80000]
[{"$nulls":16},80001,"月卡头像框",80001]
[{"$nulls":16},80002,"豪华月卡头像框",80002]
[{"$nulls":16},80003,"活动1头像框",80003]
[{"$nulls":16},80004,"活动2头像框",80004]
[{"$nulls":16},80005,"活动3头像框",80005]
[{"$nulls":16},80006,"活动4头像框",80006]
[{"$nulls":16},81001,"史诗装备宝箱",81001]
[{"$nulls":16},81002,"传说装备宝箱",81002]

{"sheet":"Sheet3","index":5,"n_rows":21,"n_cols":15,"rows_kept":21}
[]
[]
[]
[{"$nulls":5},1,10006,10506,"风伯",null,{"$f":"G4+1000","v":11006},null,{"$f":"K4&\"#40\"","v":"11006#40"},"碎片",{"$f":"I4&N4","v":"风伯碎片"}]
[{"$nulls":5},2,10016,10516,"李靖",null,11016,null,{"$f":"K5&\"#40\"","v":"11016#40"},"碎片",{"$f":"I5&N5","v":"李靖碎片"}]
[{"$nulls":5},2,10020,10520,"女魃",null,11020,null,"11020#40","碎片","女魃碎片"]
[{"$nulls":5},3,10002,10502,"雨师",null,11002,null,"11002#40","碎片","雨师碎片"]
[{"$nulls":5},3,10008,10508,"摩昂太子",null,11008,null,"11008#40","碎片","摩昂太子碎片"]
[{"$nulls":5},4,10019,10519,"织女",null,11019,null,"11019#40","碎片","织女碎片"]
[{"$nulls":5},4,10022,10522,"邓婵玉",null,11022,null,"11022#40","碎片","邓婵玉碎片"]
[{"$nulls":5},5,10001,10501,"吴刚",null,{"$f":"G11+1000","v":11001},null,"11001#40","碎片","吴刚碎片"]
[{"$nulls":5},5,10007,10507,"姜子牙",null,11007,null,"11007#40","碎片","姜子牙碎片"]
[{"$nulls":5},5,10009,10509,"夜叉",null,11009,null,"11009#40","碎片","夜叉碎片"]
[{"$nulls":5},6,10017,10517,"黑无常",null,11017,null,"11017#40","碎片","黑无常碎片"]
[{"$nulls":5},6,10023,10523,"敖丙",null,11023,null,"11023#40","碎片","敖丙碎片"]
[{"$nulls":5},7,10003,10503,"黄飞虎",null,11003,null,"11003#40","碎片","黄飞虎碎片"]
[{"$nulls":5},7,10005,10505,"石矶",null,11005,null,"11005#40","碎片","石矶碎片"]
[{"$nulls":5},7,10013,10532,"黄天化",null,11013,null,"11013#40","碎片","黄天化碎片"]
[{"$nulls":5},8,10018,10518,"何仙姑",null,11018,null,"11018#40","碎片","何仙姑碎片"]
[{"$nulls":5},8,10021,10521,"精卫",null,11021,null,"11021#40","碎片","精卫碎片"]
[{"$nulls":5},9,10010,10510,"龙吉公主",null,11010,null,{"$f":"K21&\"#50\"","v":"11010#50"},"碎片","龙吉公主碎片"]

{"sheet":"商店表查询","index":6,"n_rows":1639,"n_cols":18,"rows_kept":1639}
[]
["道具名称","雷震子碎片",{"$f":"\"商品数量\"&COUNTIF(StoreConfig!C:C,B2)","v":"商品数量3"},"商店名称","栏位显示顺序","价格\n（ax^3+bx^2+cx+d)\n（abcd为配置参数，x为购买次数）","购买所需道具","物品发放开启等级","关闭等级","限购次数",null,"商店",null,"消耗的货币"]
[{"$nulls":3},{"$f":"IF($B$2=StoreConfig!C8,StoreConfig!O8,\"\")","v":"契魂商店"},{"$f":"IF($B$2=StoreConfig!C8,StoreConfig!E8,\"\")","v":1},{"$f":"IF($B$2=StoreConfig!C8,RIGHT(StoreConfig!J8,LEN(StoreConfig!J8)-FIND(\"|\",StoreConfig!J8)),\"\")","v":"0#0#0#5000"},{"$f":"IFERROR(VLOOKUP(--IF($B$2=StoreConfig!C8,LEFT(StoreConfig!J8,FIND(\"|\",StoreConfig!J8)-1),\"\"),$Q$4:$R$20,2,FALSE),\"\")","v":"仙缘余尘"},{"$f":"IF($B$2=StoreConfig!C8,LEFT(StoreConfig!G8,FIND(\"#\",StoreConfig!G8)-1),\"\")","v":"1"},{"$f":"IF($B$2=StoreConfig!C8,RIGHT(StoreConfig!G8,LEN(StoreConfig!G8)-FIND(\"#\",StoreConfig!G8)),\"\")","v":"200"},{"$f":"IF($B$2=StoreConfig!C8,IF(StoreConfig!L8=0,\"不限购\",StoreConfig!L8&\"次\"),\"\")","v":"1次"},null,"契魂商店",26,{"$f":"VLOOKUP(M3,Q:R,2,FALSE)","v":"仙缘余尘"}]
[{"$nulls":3},{"$f":"IF($B$2=StoreConfig!C9,StoreConfig!O9,\"\")","v":""},{"$f":"IF($B$2=StoreConfig!C9,StoreConfig!E9,\"\")","v":""},{"$f":"IF($B$2=StoreConfig!C9,RIGHT(StoreConfig!J9,LEN(StoreConfig!J9)-FIND(\"|\",StoreConfig!J9)),\"\")","v":""},{"$f":"IFERROR(VLOOKUP(--IF($B$2=StoreConfig!C9,LEFT(StoreConfig!J9,FIND(\"|\",StoreConfig!J9)-1),\"\"),$Q$4:$R$20,2,FALSE),\"\")","v":""},{"$f":"IF($B$2=StoreConfig!C9,LEFT(StoreConfig!G9,FIND(\"#\",StoreConfig!G9)-1),\"\")","v":""},{"$f":"IF($B$2=StoreConfig!C9,RIGHT(StoreConfig!G9,LEN(StoreConfig!G9)-FIND(\"#\",StoreConfig!G9)),\"\")","v":""},{"$f":"IF($B$2=StoreConfig!C9,IF(StoreConfig!L9=0,\"不限购\",StoreConfig!L9&\"次\"),\"\")","v":""},null,"云游商店",25,{"$f":"VLOOKUP(M4,Q:R,2,FALSE)","v":"无此道具"},null,null,"道具id","物品名称"]
[{"$nulls":3},{"$f":"IF($B$2=StoreConfig!C10,StoreConfig!O10,\"\")","v":""},{"$f":"IF($B$2=StoreConfig!C10,StoreConfig!E10,\"\")","v":""},{"$f":"IF($B$2=StoreConfig!C10,RIGHT(StoreConfig!J10,LEN(StoreConfig!J10)-FIND(\"|\",StoreConfig!J10)),\"\")","v":""},{"$f":"IFERROR(VLOOKUP(--IF($B$2=StoreConfig!C10,LEFT(StoreConfig!J10,FIND(\"|\",StoreConfig!J10)-1),\"\"),$Q$4:$R$20,2,FALSE),\"\")","v":""},{"$f":"IF($B$2=StoreConfig!C10,LEFT(StoreConfig!G10,FIND(\"#\",StoreConfig!G10)-1),\"\")","v":""},{"$f":"IF($B$2=StoreConfig!C10,RIGHT(StoreConfig!G10,LEN(StoreConfig!G10)-FIND(\"#\",StoreConfig!G10)),\"\")","v":""},{"$f":"IF($B$2=StoreConfig!C10,IF(StoreConfig!L10=0,\"不限购\",StoreConfig!L10&\"次\"),\"\")","v":""},null,"魂晶商店",24,"逐胜徽章",null,null,26,"仙缘余尘"]
[{"$nulls":3},{"$f":"IF($B$2=StoreConfig!C11,StoreConfig!O11,\"\")","v":""},{"$f":"IF($B$2=StoreConfig!C11,StoreConfig!E11,\"\")","v":""},{"$f":"IF($B$2=StoreConfig!C11,RIGHT(StoreConfig!J11,LEN(StoreConfig!J11)-FIND(\"|\",StoreConfig!J11)),\"\")","v":""},{"$f":"IFERROR(VLOOKUP(--IF($B$2=StoreConfig!C11,LEFT(StoreConfig!J11,FIND(\"|\",StoreConfig!J11)-1),\"\"),$Q$4:$R$20,2,FALSE),\"\")","v":""},{"$f":"IF($B$2=StoreConfig!C11,LEFT(StoreConfig!G11,FIND(\"#\",StoreConfig!G11)-1),\"\")","v":""},{"$f":"IF($B$2=StoreConfig!C11,RIGHT(StoreConfig!G11,LEN(StoreConfig!G11)-FIND(\"#\",StoreConfig!G11)),\"\")","v":""},{"$f":"IF($B$2=StoreConfig!C11,IF(StoreConfig!L11=0,\"不限购\",StoreConfig!L11&\"次\"),\"\")","v":""},null,"秘盒商店",22,"妖灵玉",null,null,25,"无此道具"]
[{"$nulls":3},{"$f":"IF($B$2=StoreConfig!C12,StoreConfig!O12,\"\")","v":""},{"$f":"IF($B$2=StoreConfig!C12,StoreConfig!E12,\"\")","v":""},{"$f":"IF($B$2=StoreConfig!C12,RIGHT(StoreConfig!J12,LEN(StoreConfig!J12)-FIND(\"|\",StoreConfig!J12)),\"\")","v":""},{"$f":"IFERROR(VLOOKUP(--IF($B$2=StoreConfig!C12,LEFT(StoreConfig!J12,FIND(\"|\",StoreConfig!J12)-1),\"\"),$Q$4:$R$20,2,FALSE),\"\")","v":""},{"$f":"IF($B$2=StoreConfig!C12,LEFT(StoreConfig!G12,FIND(\"#\",StoreConfig!G12)-1),\"\")","v":""},{"$f":"IF($B$2=StoreConfig!C12,RIGHT(StoreConfig!G12,LEN(StoreConfig!G12)-FIND(\"#\",StoreConfig!G12)),\"\")","v":""},{"$f":"IF($B$2=StoreConfig!C12,IF(StoreConfig!L12=0,\"不限购\",StoreConfig!L12&\"次\"),\"\")","v":""},null,"功能商店",16,"妖晶",null,null,24,"逐胜徽章"]
[{"$nulls":3},{"$f":"IF($B$2=StoreConfig!C13,StoreConfig!O13,\"\")","v":""},{"$f":"IF($B$2=StoreConfig!C13,StoreConfig!E13,\"\")","v":""},{"$f":"IF($B$2=StoreConfig!C13,RIGHT(StoreConfig!J13,LEN(StoreConfig!J13)-FIND(\"|\",StoreConfig!J13)),\"\")","v":""},{"$f":"IFERROR(VLOOKUP(--IF($B$2=StoreConfig!C13,LEFT(StoreConfig!J13,FIND(\"|\",StoreConfig!J13)-1),\"\"),$Q$4:$R$20,2,FALSE),\"\")","v":""},{"$f":"IF($B$2=StoreConfig!C13,LEFT(StoreConfig!G13,FIND(\"#\",StoreConfig!G13)-1),\"\")","v":""},{"$f":"IF($B$2=StoreConfig!C13,RIGHT(StoreConfig!G13,LEN(StoreConfig!G13)-FIND(\"#\",StoreConfig!G13)),\"\")","v":""},{"$f":"IF($B$2=StoreConfig!C13,IF(StoreConfig!L13=0,\"不限购\",StoreConfig!L13&\"次\"),\"\")","v":""},null,"点金功能商店",16,"妖晶",null,null,22,"妖灵玉"]
[{"$nulls":3},{"$f":"IF($B$2=StoreConfig!C14,StoreConfig!O14,\"\")","v":""},{"$f":"IF($B$2=StoreConfig!C14,StoreConfig!E14,\"\")","v":""},{"$f":"IF($B$2=StoreConfig!C14,RIGHT(StoreConfig!J14,LEN(StoreConfig!J14)-FIND(\"|\",StoreConfig!J14)),\"\")","v":""},{"$f":"IFERROR(VLOOKUP(--IF($B$2=StoreConfig!C14,LEFT(StoreConfig!J14,FIND(\"|\",StoreConfig!J14)-1),\"\"),$Q$4:$R$20,2,FALSE),\"\")","v":""},{"$f":"IF($B$2=StoreConfig!C14,LEFT(StoreConfig!G14,FIND(\"#\",StoreConfig!G14)-1),\"\")","v":""},{"$f":"IF($B$2=StoreConfig!C14,RIGHT(StoreConfig!G14,LEN(StoreConfig!G14)-FIND(\"#\",StoreConfig!G14)),\"\")","v":""},{"$f":"IF($B$2=StoreConfig!C14,IF(StoreConfig!L14=0,\"不限购\",StoreConfig!L14&\"次\"),\"\")","v":""},null,"功能商店",47,"时光沙漏",null,null,16,"妖晶"]
[{"$nulls":3},{"$f":"IF($B$2=StoreConfig!C15,StoreConfig!O15,\"\")","v":""},{"$f":"IF($B$2=StoreConfig!C15,StoreConfig!E15,\"\")","v":""},{"$f":"IF($B$2=StoreConfig!C15,RIGHT(StoreConfig!J15,LEN(StoreConfig!J15)-FIND(\"|\",StoreConfig!J15)),\"\")","v":""},{"$f":"IFERROR(VLOOKUP(--IF($B$2=StoreConfig!C15,LEFT(StoreConfig!J15,FIND(\"|\",StoreConfig!J15)-1),\"\"),$Q$4:$R$20,2,FALSE),\"\")","v":""},{"$f":"IF($B$2=StoreConfig!C15,LEFT(StoreConfig!G15,FIND(\"#\",StoreConfig!G15)-1),\"\")","v":""},{"$f":"IF($B$2=StoreConfig!C15,RIGHT(StoreConfig!G15,LEN(StoreConfig!G15)-FIND(\"#\",StoreConfig!G15)),\"\")","v":""},{"$f":"IF($B$2=StoreConfig!C15,IF(StoreConfig!L15=0,\"不限购\",StoreConfig!L15&\"次\"),\"\")","v":""},null,"功能商店",15,"魂晶",null,null,47,"时光沙漏"]
[{"$nulls":3},{"$f":"IF($B$2=StoreConfig!C16,StoreConfig!O16,\"\")","v":""},{"$f":"IF($B$2=StoreConfig!C16,StoreConfig!E16,\"\")","v":""},{"$f":"IF($B$2=StoreConfig!C16,RIGHT(StoreConfig!J16,LEN(StoreConfig!J16)-FIND(\"|\",StoreConfig!J16)),\"\")","v":""},{"$f":"IFERROR(VLOOKUP(--IF($B$2=StoreConfig!C16,LEFT(StoreConfig!J16,FIND(\"|\",StoreConfig!J16)-1),\"\"),$Q$4:$R$20,2,FALSE),\"\")","v":""},{"$f":"IF($B$2=StoreConfig!C16,LEFT(StoreConfig!G16,FIND(\"#\",StoreConfig!G16)-1),\"\")","v":""},{"$f":"IF($B$2=StoreConfig!C16,RIGHT(StoreConfig!G16,LEN(StoreConfig!G16)-FIND(\"#\",StoreConfig!G16)),\"\")","v":""},{"$f":"IF($B$2=StoreConfig!C16,IF(StoreConfig!L16=0,\"不限购\",StoreConfig!L16&\"次\"),\"\")","v":""},null,"试炼商店1",16,"妖晶",null,null,15,"魂晶"]
[{"$nulls":3},{"$f":"IF($B$2=StoreConfig!C17,StoreConfig!O17,\"\")","v":""},{"$f":"IF($B$2=StoreConfig!C17,StoreConfig!E17,\"\")","v":""},{"$f":"IF($B$2=StoreConfig!C17,RIGHT(StoreConfig!J17,LEN(StoreConfig!J17)-FIND(\"|\",StoreConfig!J17)),\"\")","v":""},{"$f":"IFERROR(VLOOKUP(--IF($B$2=StoreConfig!C17,LEFT(StoreConfig!J17,FIND(\"|\",StoreConfig!J17)-1),\"\"),$Q$4:$R$20,2,FALSE),\"\")","v":""},{"$f":"IF($B$2=StoreConfig!C17,LEFT(StoreConfig!G17,FIND(\"#\",StoreConfig!G17)-1),\"\")","v":""},{"$f":"IF($B$2=StoreConfig!C17,RIGHT(StoreConfig!G17,LEN(StoreConfig!G17)-FIND(\"#\",StoreConfig!G17)),\"\")","v":""},{"$f":"IF($B$2=StoreConfig!C17,IF(StoreConfig!L17=0,\"不限购\",StoreConfig!L17&\"次\"),\"\")","v":""},null,"试炼商店2",14,"金币",null,null,14,"金币"]
[{"$nulls":3},{"$f":"IF($B$2=StoreConfig!C18,StoreConfig!O18,\"\")","v":""},{"$f":"IF($B$2=StoreConfig!C18,StoreConfig!E18,\"\")","v":""},{"$f":"IF($B$2=StoreConfig!C18,RIGHT(StoreConfig!J18,LEN(StoreConfig!J18)-FIND(\"|\",StoreConfig!J18)),\"\")","v":""},{"$f":"IFERROR(VLOOKUP(--IF($B$2=StoreConfig!C18,LEFT(StoreConfig!J18,FIND(\"|\",StoreConfig!J18)-1),\"\"),$Q$4:$R$20,2,FALSE),\"\")","v":""},{"$f":"IF($B$2=StoreConfig!C18,LEFT(StoreConfig!G18,FIND(\"#\",StoreConfig!G18)-1),\"\")","v":""},{"$f":"IF($B$2=StoreConfig!C18,RIGHT(StoreConfig!G18,LEN(StoreConfig!G18)-FIND(\"#\",StoreConfig!G18)),\"\")","v":""},{"$f":"IF($B$2=StoreConfig!C18,IF(StoreConfig!L18=0,\"不限购\",StoreConfig!L18&\"次\"),\"\")","v":""},null,"竞技场商店",24,"逐胜徽章",null,null,86,"巅峰之证"]
[{"$nulls":3},{"$f":"IF($B$2=StoreConfig!C19,StoreConfig!O19,\"\")","v":""},{"$f":"IF($B$2=StoreConfig!C19,StoreConfig!E19,\"\")","v":""},{"$f":"IF($B$2=StoreConfig!C19,RIGHT(StoreConfig!J19,LEN(StoreConfig!J19)-FIND(\"|\",StoreConfig!J19)),\"\")","v":""},{"$f":"IFERROR(VLOOKUP(--IF($B$2=StoreConfig!C19,LEFT(StoreConfig!J19,FIND(\"|\",StoreConfig!J19)-1),\"\"),$Q$4:$R$20,2,FALSE),\"\")","v":""},{"$f":"IF($B$2=StoreConfig!C19,LEFT(StoreConfig!G19,FIND(\"#\",StoreConfig!G19)-1),\"\")","v":""},{"$f":"IF($B$2=StoreConfig!C19,RIGHT(StoreConfig!G19,LEN(StoreConfig!G19)-FIND(\"#\",StoreConfig!G19)),\"\")","v":""},{"$f":"IF($B$2=StoreConfig!C19,IF(StoreConfig!L19=0,\"不限购\",StoreConfig!L19&\"次\"),\"\")","v":""},null,"巅峰赛商店",86,"巅峰之证",null,null,67,"神州令"]
[{"$nulls":3},{"$f":"IF($B$2=StoreConfig!C20,StoreConfig!O20,\"\")","v":""},{"$f":"IF($B$2=StoreConfig!C20,StoreConfig!E20,\"\")","v":""},{"$f":"IF($B$2=StoreConfig!C20,RIGHT(StoreConfig!J20,LEN(StoreConfig!J20)-FIND(\"|\",StoreConfig!J20)),\"\")","v":""},{"$f":"IFERROR(VLOOKUP(--IF($B$2=StoreConfig!C20,LEFT(StoreConfig!J20,FIND(\"|\",StoreConfig!J20)-1),\"\"),$Q$4:$R$20,2,FALSE),\"\")","v":""},{"$f":"IF($B$2=StoreConfig!C20,LEFT(StoreConfig!G20,FIND(\"#\",StoreConfig!G20)-1),\"\")","v":""},{"$f":"IF($B$2=StoreConfig!C20,RIGHT(StoreConfig!G20,LEN(StoreConfig!G20)-FIND(\"#\",StoreConfig!G20)),\"\")","v":""},{"$f":"IF($B$2=StoreConfig!C20,IF(StoreConfig!L20=0,\"不限购\",StoreConfig!L20&\"次\"),\"\")","v":""},null,"活动礼包",15,"魂晶",null,null,65,"公会御令"]
[{"$nulls":3},{"$f":"IF($B$2=StoreConfig!C21,StoreConfig!O21,\"\")","v":""},{"$f":"IF($B$2=StoreConfig!C21,StoreConfig!E21,\"\")","v":""},{"$f":"IF($B$2=StoreConfig!C21,RIGHT(StoreConfig!J21,LEN(StoreConfig!J21)-FIND(\"|\",StoreConfig!J21)),\"\")","v":""},{"$f":"IFERROR(VLOOKUP(--IF($B$2=StoreConfig!C21,LEFT(StoreConfig!J21,FIND(\"|\",StoreConfig!J21)-1),\"\"),$Q$4:$R$20,2,FALSE),\"\")","v":""},{"$f":"IF($B$2=StoreConfig!C21,LEFT(StoreConfig!G21,FIND(\"#\",StoreConfig!G21)-1),\"\")","v":""},{"$f":"IF($B$2=StoreConfig!C21,RIGHT(StoreConfig!G21,LEN(StoreConfig!G21)-FIND(\"#\",StoreConfig!G21)),\"\")","v":""},{"$f":"IF($B$2=StoreConfig!C21,IF(StoreConfig!L21=0,\"不限购\",StoreConfig!L21&\"次\"),\"\")","v":""},null,"活动礼包",16,"妖晶",null,null,1201,"上古钱币"]
[{"$nulls":3},{"$f":"IF($B$2=StoreConfig!C22,StoreConfig!O22,\"\")","v":""},{"$f":"IF($B$2=StoreConfig!C22,StoreConfig!E22,\"\")","v":""},{"$f":"IF($B$2=StoreConfig!C22,RIGHT(StoreConfig!J22,LEN(StoreConfig!J22)-FIND(\"|\",StoreConfig!J22)),\"\")","v":""},{"$f":"IFERROR(VLOOKUP(--IF($B$2=StoreConfig!C22,LEFT(StoreConfig!J22,FIND(\"|\",StoreConfig!J22)-1),\"\"),$Q$4:$R$20,2,FALSE),\"\")","v":""},{"$f":"IF($B$2=StoreConfig!C22,LEFT(StoreConfig!G22,FIND(\"#\",StoreConfig!G22)-1),\"\")","v":""},{"$f":"IF($B$2=StoreConfig!C22,RIGHT(StoreConfig!G22,LEN(StoreConfig!G22)-FIND(\"#\",StoreConfig!G22)),\"\")","v":""},{"$f":"IF($B$2=StoreConfig!C22,IF(StoreConfig!L22=0,\"不限购\",StoreConfig!L22&\"次\"),\"\")","v":""},null,"每日超值",15,"魂晶",null,null,93,"战功"]
[{"$nulls":3},{"$f":"IF($B$2=StoreConfig!C23,StoreConfig!O23,\"\")","v":""},{"$f":"IF($B$2=StoreConfig!C23,StoreConfig!E23,\"\")","v":""},{"$f":"IF($B$2=StoreConfig!C23,RIGHT(StoreConfig!J23,LEN(StoreConfig!J23)-FIND(\"|\",StoreConfig!J23)),\"\")","v":""},{"$f":"IFERROR(VLOOKUP(--IF($B$2=StoreConfig!C23,LEFT(StoreConfig!J23,FIND(\"|\",StoreConfig!J23)-1),\"\"),$Q$4:$R$20,2,FALSE),\"\")","v":""},{"$f":"IF($B$2=StoreConfig!C23,LEFT(StoreConfig!G23,FIND(\"#\",StoreConfig!G23)-1),\"\")","v":""},{"$f":"IF($B$2=StoreConfig!C23,RIGHT(StoreConfig!G23,LEN(StoreConfig!G23)-FIND(\"#\",StoreConfig!G23)),\"\")","v":""},{"$f":"IF($B$2=StoreConfig!C23,IF(StoreConfig!L23=0,\"不限购\",StoreConfig!L23&\"次\"),\"\")","v":""},null,"特权商城",16,"妖晶",null,null,66,"星魂"]
[{"$nulls":3},{"$f":"IF($B$2=StoreConfig!C24,StoreConfig!O24,\"\")","v":""},{"$f":"IF($B$2=StoreConfig!C24,StoreConfig!E24,\"\")","v":""},{"$f":"IF($B$2=StoreConfig!C24,RIGHT(StoreConfig!J24,LEN(StoreConfig!J24)-FIND(\"|\",StoreConfig!J24)),\"\")","v":""},{"$f":"IFERROR(VLOOKUP(--IF($B$2=StoreConfig!C24,LEFT(StoreConfig!J24,FIND(\"|\",StoreConfig!J24)-1),\"\"),$Q$4:$R$20,2,FALSE),\"\")","v":""},{"$f":"IF($B$2=StoreConfig!C24,LEFT(StoreConfig!G24,FIND(\"#\",StoreConfig!G24)-1),\"\")","v":""},{"$f":"IF($B$2=StoreConfig!C24,RIGHT(StoreConfig!G24,LEN(StoreConfig!G24)-FIND(\"#\",StoreConfig!G24)),\"\")","v":""},{"$f":"IF($B$2=StoreConfig!C24,IF(StoreConfig!L24=0,\"不限购\",StoreConfig!L24&\"次\"),\"\")","v":""},null,"七日狂欢商店",16,"妖晶",null,null,74,"元神玉"]
[{"$nulls":3},{"$f":"IF($B$2=StoreConfig!C25,StoreConfig!O25,\"\")","v":""},{"$f":"IF($B$2=StoreConfig!C25,StoreConfig!E25,\"\")","v":""},{"$f":"IF($B$2=StoreConfig!C25,RIGHT(StoreConfig!J25,LEN(StoreConfig!J25)-FIND(\"|\",StoreConfig!J25)),\"\")","v":""},{"$f":"IFERROR(VLOOKUP(--IF($B$2=StoreConfig!C25,LEFT(StoreConfig!J25,FIND(\"|\",StoreConfig!J25)-1),\"\"),$Q$4:$R$20,2,FALSE),\"\")","v":""},{"$f":"IF($B$2=StoreConfig!C25,LEFT(StoreConfig!G25,FIND(\"#\",StoreConfig!G25)-1),\"\")","v":""},{"$f":"IF($B$2=StoreConfig!C25,RIGHT(StoreConfig!G25,LEN(StoreConfig!G25)-FIND(\"#\",StoreConfig!G25)),\"\")","v":""},{"$f":"IF($B$2=StoreConfig!C25,IF(StoreConfig!L25=0,\"不限购\",StoreConfig!L25&\"次\"),\"\")","v":""},null,"活动商店2",67,"神州令",null,null,1003,"乾坤令"]
[{"$nulls":3},{"$f":"IF($B$2=StoreConfig!C26,StoreConfig!O26,\"\")","v":""},{"$f":"IF($B$2=StoreConfig!C26,StoreConfig!E26,\"\")","v":""},{"$f":"IF($B$2=StoreConfig!C26,RIGHT(StoreConfig!J26,LEN(StoreConfig!J26)-FIND(\"|\",StoreConfig!J26)),\"\")","v":""},{"$f":"IFERROR(VLOOKUP(--IF($B$2=StoreConfig!C26,LEFT(StoreConfig!J26,FIND(\"|\",StoreConfig!J26)-1),\"\"),$Q$4:$R$20,2,FALSE),\"\")","v":""},{"$f":"IF($B$2=StoreConfig!C26,LEFT(StoreConfig!G26,FIND(\"#\",StoreConfig!G26)-1),\"\")","v":""},{"$f":"IF($B$2=StoreConfig!C26,RIGHT(StoreConfig!G26,LEN(StoreConfig!G26)-FIND(\"#\",StoreConfig!G26)),\"\")","v":""},{"$f":"IF($B$2=StoreConfig!C26,IF(StoreConfig!L26=0,\"不限购\",StoreConfig!L26&\"次\"),\"\")","v":""},null,"活动商店3",67,"神州令"]
[{"$nulls":3},{"$f":"IF($B$2=StoreConfig!C27,StoreConfig!O27,\"\")","v":""},{"$f":"IF($B$2=StoreConfig!C27,StoreConfig!E27,\"\")","v":""},{"$f":"IF($B$2=StoreConfig!C27,RIGHT(StoreConfig!J27,LEN(StoreConfig!J27)-FIND(\"|\",StoreConfig!J27)),\"\")","v":""},{"$f":"IFERROR(VLOOKUP(--IF($B$2=StoreConfig!C27,LEFT(StoreConfig!J27,FIND(\"|\",StoreConfig!J27)-1),\"\"),$Q$4:$R$20,2,FALSE),\"\")","v":""},{"$f":"IF($B$2=StoreConfig!C27,LEFT(StoreConfig!G27,FIND(\"#\",StoreConfig!G27)-1),\"\")","v":""},{"$f":"IF($B$2=StoreConfig!C27,RIGHT(StoreConfig!G27,LEN(StoreConfig!G27)-FIND(\"#\",StoreConfig!G27)),\"\")","v":""},{"$f":"IF($B$2=StoreConfig!C27,IF(StoreConfig!L27=0,\"不限购\",StoreConfig!L27&\"次\"),\"\")","v":""},null,"活动商店4",67,"神州令"]
[{"$nulls":3},{"$f":"IF($B$2=StoreConfig!C28,StoreConfig!O28,\"\")","v":""},{"$f":"IF($B$2=StoreConfig!C28,StoreConfig!E28,\"\")","v":""},{"$f":"IF($B$2=StoreConfig!C28,RIGHT(StoreConfig!J28,LEN(StoreConfig!J28)-FIND(\"|\",StoreConfig!J28)),\"\")","v":""},{"$f":"IFERROR(VLOOKUP(--IF($B$2=StoreConfig!C28,LEFT(StoreConfig!J28,FIND(\"|\",StoreConfig!J28)-1),\"\"),$Q$4:$R$20,2,FALSE),\"\")","v":""},{"$f":"IF($B$2=StoreConfig!C28,LEFT(StoreConfig!G28,FIND(\"#\",StoreConfig!G28)-1),\"\")","v":""},{"$f":"IF($B$2=StoreConfig!C28,RIGHT(StoreConfig!G28,LEN(StoreConfig!G28)-FIND(\"#\",StoreConfig!G28)),\"\")","v":""},{"$f":"IF($B$2=StoreConfig!C28,IF(StoreConfig!L28=0,\"不限购\",StoreConfig!L28&\"次\"),\"\")","v":""},null,"公会商店",65,"公会御令"]
[{"$nulls":3},{"$f":"IF($B$2=StoreConfig!C29,StoreConfig!O29,\"\")","v":""},{"$f":"IF($B$2=StoreConfig!C29,StoreConfig!E29,\"\")","v":""},{"$f":"IF($B$2=StoreConfig!C29,RIGHT(StoreConfig!J29,LEN(StoreConfig!J29)-FIND(\"|\",StoreConfig!J29)),\"\")","v":""},{"$f":"IFERROR(VLOOKUP(--IF($B$2=StoreConfig!C29,LEFT(StoreConfig!J29,FIND(\"|\",StoreConfig!J29)-1),\"\"),$Q$4:$R$20,2,FALSE),\"\")","v":""},{"$f":"IF($B$2=StoreConfig!C29,LEFT(StoreConfig!G29,FIND(\"#\",StoreConfig!G29)-1),\"\")","v":""},{"$f":"IF($B$2=StoreConfig!C29,RIGHT(StoreConfig!G29,LEN(StoreConfig!G29)-FIND(\"#\",StoreConfig!G29)),\"\")","v":""},{"$f":"IF($B$2=StoreConfig!C29,IF(StoreConfig!L29=0,\"不限购\",StoreConfig!L29&\"次\"),\"\")","v":""},null,"无尽商店",1201,"上古钱币"]
[{"$nulls":3},{"$f":"IF($B$2=StoreConfig!C30,StoreConfig!O30,\"\")","v":""},{"$f":"IF($B$2=StoreConfig!C30,StoreConfig!E30,\"\")","v":""},{"$f":"IF($B$2=StoreConfig!C30,RIGHT(StoreConfig!J30,LEN(StoreConfig!J30)-FIND(\"|\",StoreConfig!J30)),\"\")","v":""},{"$f":"IFERROR(VLOOKUP(--IF($B$2=StoreConfig!C30,LEFT(StoreConfig!J30,FIND(\"|\",StoreConfig!J30)-1),\"\"),$Q$4:$R$20,2,FALSE),\"\")","v":""},{"$f":"IF($B$2=StoreConfig!C30,LEFT(StoreConfig!G30,FIND(\"#\",StoreConfig!G30)-1),\"\")","v":""},{"$f":"IF($B$2=StoreConfig!C30,RIGHT(StoreConfig!G30,LEN(StoreConfig!G30)-FIND(\"#\",StoreConfig!G30)),\"\")","v":""},{"$f":"IF($B$2=StoreConfig!C30,IF(StoreConfig!L30=0,\"不限购\",StoreConfig!L30&\"次\"),\"\")","v":""},null,"无尽商店2",1201,"上古钱币"]
[{"$nulls":3},{"$f":"IF($B$2=StoreConfig!C31,StoreConfig!O31,\"\")","v":""},{"$f":"IF($B$2=StoreConfig!C31,StoreConfig!E31,\"\")","v":""},{"$f":"IF($B$2=StoreConfig!C31,RIGHT(StoreConfig!J31,LEN(StoreConfig!J31)-FIND(\"|\",StoreConfig!J31)),\"\")","v":""},{"$f":"IFERROR(VLOOKUP(--IF($B$2=StoreConfig!C31,LEFT(StoreConfig!J31,FIND(\"|\",StoreConfig!J31)-1),\"\"),$Q$4:$R$20,2,FALSE),\"\")","v":""},{"$f":"IF($B$2=StoreConfig!C31,LEFT(StoreConfig!G31,FIND(\"#\",StoreConfig!G31)-1),\"\")","v":""},{"$f":"IF($B$2=StoreConfig!C31,RIGHT(StoreConfig!G31,LEN(StoreConfig!G31)-FIND(\"#\",StoreConfig!G31)),\"\")","v":""},{"$f":"IF($B$2=StoreConfig!C31,IF(StoreConfig!L31=0,\"不限购\",StoreConfig!L31&\"次\"),\"\")","v":""},null,"天宫商店",93,"战功"]
[{"$nulls":3},{"$f":"IF($B$2=StoreConfig!C32,StoreConfig!O32,\"\")","v":""},{"$f":"IF($B$2=StoreConfig!C32,StoreConfig!E32,\"\")","v":""},{"$f":"IF($B$2=StoreConfig!C32,RIGHT(StoreConfig!J32,LEN(StoreConfig!J32)-FIND(\"|\",StoreConfig!J32)),\"\")","v":""},{"$f":"IFERROR(VLOOKUP(--IF($B$2=StoreConfig!C32,LEFT(StoreConfig!J32,FIND(\"|\",StoreConfig!J32)-1),\"\"),$Q$4:$R$20,2,FALSE),\"\")","v":""},{"$f":"IF($B$2=StoreConfig!C32,LEFT(StoreConfig!G32,FIND(\"#\",StoreConfig!G32)-1),\"\")","v":""},{"$f":"IF($B$2=StoreConfig!C32,RIGHT(StoreConfig!G32,LEN(StoreConfig!G32)-FIND(\"#\",StoreConfig!G32)),\"\")","v":""},{"$f":"IF($B$2=StoreConfig!C32,IF(StoreConfig!L32=0,\"不限购\",StoreConfig!L32&\"次\"),\"\")","v":""},null,"新手礼包",15,"魂晶"]
[{"$nulls":3},{"$f":"IF($B$2=StoreConfig!C33,StoreConfig!O33,\"\")","v":""},{"$f":"IF($B$2=StoreConfig!C33,StoreConfig!E33,\"\")","v":""},{"$f":"IF($B$2=StoreConfig!C33,RIGHT(StoreConfig!J33,LEN(StoreConfig!J33)-FIND(\"|\",StoreConfig!J33)),\"\")","v":""},{"$f":"IFERROR(VLOOKUP(--IF($B$2=StoreConfig!C33,LEFT(StoreConfig!J33,FIND(\"|\",StoreConfig!J33)-1),\"\"),$Q$4:$R$20,2,FALSE),\"\")","v":""},{"$f":"IF($B$2=StoreConfig!C33,LEFT(StoreConfig!G33,FIND(\"#\",StoreConfig!G33)-1),\"\")","v":""},{"$f":"IF($B$2=StoreConfig!C33,RIGHT(StoreConfig!G33,LEN(StoreConfig!G33)-FIND(\"#\",StoreConfig!G33)),\"\")","v":""},{"$f":"IF($B$2=StoreConfig!C33,IF(StoreConfig!L33=0,\"不限购\",StoreConfig!L33&\"次\"),\"\")","v":""},null,"成长礼包",16,"妖晶"]
[{"$nulls":3},{"$f":"IF($B$2=StoreConfig!C34,StoreConfig!O34,\"\")","v":""},{"$f":"IF($B$2=StoreConfig!C34,StoreConfig!E34,\"\")","v":""},{"$f":"IF($B$2=StoreConfig!C34,RIGHT(StoreConfig!J34,LEN(StoreConfig!J34)-FIND(\"|\",StoreConfig!J34)),\"\")","v":""},{"$f":"IFERROR(VLOOKUP(--IF($B$2=StoreConfig!C34,LEFT(StoreConfig!J34,FIND(\"|\",StoreConfig!J34)-1),\"\"),$Q$4:$R$20,2,FALSE),\"\")","v":""},{"$f":"IF($B$2=StoreConfig!C34,LEFT(StoreConfig!G34,FIND(\"#\",StoreConfig!G34)-1),\"\")","v":""},{"$f":"IF($B$2=StoreConfig!C34,RIGHT(StoreConfig!G34,LEN(StoreConfig!G34)-FIND(\"#\",StoreConfig!G34)),\"\")","v":""},{"$f":"IF($B$2=StoreConfig!C34,IF(StoreConfig!L34=0,\"不限购\",StoreConfig!L34&\"次\"),\"\")","v":""},null,"杂货商店",16,"妖晶"]
[{"$nulls":3},{"$f":"IF($B$2=StoreConfig!C35,StoreConfig!O35,\"\")","v":""},{"$f":"IF($B$2=StoreConfig!C35,StoreConfig!E35,\"\")","v":""},{"$f":"IF($B$2=StoreConfig!C35,RIGHT(StoreConfig!J35,LEN(StoreConfig!J35)-FIND(\"|\",StoreConfig!J35)),\"\")","v":""},{"$f":"IFERROR(VLOOKUP(--IF($B$2=StoreConfig!C35,LEFT(StoreConfig!J35,FIND(\"|\",StoreConfig!J35)-1),\"\"),$Q$4:$R$20,2,FALSE),\"\")","v":""},{"$f":"IF($B$2=StoreConfig!C35,LEFT(StoreConfig!G35,FIND(\"#\",StoreConfig!G35)-1),\"\")","v":""},{"$f":"IF($B$2=StoreConfig!C35,RIGHT(StoreConfig!G35,LEN(StoreConfig!G35)-FIND(\"#\",StoreConfig!G35)),\"\")","v":""},{"$f":"IF($B$2=StoreConfig!C35,IF(StoreConfig!L35=0,\"不限购\",StoreConfig!L35&\"次\"),\"\")","v":""},null,"杂货商店",14,"金币"]
[{"$nulls":3},{"$f":"IF($B$2=StoreConfig!C36,StoreConfig!O36,\"\")","v":""},{"$f":"IF($B$2=StoreConfig!C36,StoreConfig!E36,\"\")","v":""},{"$f":"IF($B$2=StoreConfig!C36,RIGHT(StoreConfig!J36,LEN(StoreConfig!J36)-FIND(\"|\",StoreConfig!J36)),\"\")","v":""},{"$f":"IFERROR(VLOOKUP(--IF($B$2=StoreConfig!C36,LEFT(StoreConfig!J36,FIND(\"|\",StoreConfig!J36)-1),\"\"),$Q$4:$R$20,2,FALSE),\"\")","v":""},{"$f":"IF($B$2=StoreConfig!C36,LEFT(StoreConfig!G36,FIND(\"#\",StoreConfig!G36)-1),\"\")","v":""},{"$f":"IF($B$2=StoreConfig!C36,RIGHT(StoreConfig!G36,LEN(StoreConfig!G36)-FIND(\"#\",StoreConfig!G36)),\"\")","v":""},{"$f":"IF($B$2=StoreConfig!C36,IF(StoreConfig!L36=0,\"不限购\",StoreConfig!L36&\"次\"),\"\")","v":""},null,"魂印商店",66,"星魂"]
[{"$nulls":3},{"$f":"IF($B$2=StoreConfig!C37,StoreConfig!O37,\"\")","v":""},{"$f":"IF($B$2=StoreConfig!C37,StoreConfig!E37,\"\")","v":""},{"$f":"IF($B$2=StoreConfig!C37,RIGHT(StoreConfig!J37,LEN(StoreConfig!J37)-FIND(\"|\",StoreConfig!J37)),\"\")","v":""},{"$f":"IFERROR(VLOOKUP(--IF($B$2=StoreConfig!C37,LEFT(StoreConfig!J37,FIND(\"|\",StoreConfig!J37)-1),\"\"),$Q$4:$R$20,2,FALSE),\"\")","v":""},{"$f":"IF($B$2=StoreConfig!C37,LEFT(StoreConfig!G37,FIND(\"#\",StoreConfig!G37)-1),\"\")","v":""},{"$f":"IF($B$2=StoreConfig!C37,RIGHT(StoreConfig!G37,LEN(StoreConfig!G37)-FIND(\"#\",StoreConfig!G37)),\"\")","v":""},{"$f":"IF($B$2=StoreConfig!C37,IF(StoreConfig!L37=0,\"不限购\",StoreConfig!L37&\"次\"),\"\")","v":""},null,"魂印商店",16,"妖晶"]
[{"$nulls":3},{"$f":"IF($B$2=StoreConfig!C38,StoreConfig!O38,\"\")","v":""},{"$f":"IF($B$2=StoreConfig!C38,StoreConfig!E38,\"\")","v":""},{"$f":"IF($B$2=StoreConfig!C38,RIGHT(StoreConfig!J38,LEN(StoreConfig!J38)-FIND(\"|\",StoreConfig!J38)),\"\")","v":""},{"$f":"IFERROR(VLOOKUP(--IF($B$2=StoreConfig!C38,LEFT(StoreConfig!J38,FIND(\"|\",StoreConfig!J38)-1),\"\"),$Q$4:$R$20,2,FALSE),\"\")","v":""},{"$f":"IF($B$2=StoreConfig!C38,LEFT(StoreConfig!G38,FIND(\"#\",StoreConfig!G38)-1),\"\")","v":""},{"$f":"IF($B$2=StoreConfig!C38,RIGHT(StoreConfig!G38,LEN(StoreConfig!G38)-FIND(\"#\",StoreConfig!G38)),\"\")","v":""},{"$f":"IF($B$2=StoreConfig!C38,IF(StoreConfig!L38=0,\"不限购\",StoreConfig!L38&\"次\"),\"\")","v":""},null,"混沌商店",74,"元神玉"]
[{"$nulls":3},{"$f":"IF($B$2=StoreConfig!C39,StoreConfig!O39,\"\")","v":""},{"$f":"IF($B$2=StoreConfig!C39,StoreConfig!E39,\"\")","v":""},{"$f":"IF($B$2=StoreConfig!C39,RIGHT(StoreConfig!J39,LEN(StoreConfig!J39)-FIND(\"|\",StoreConfig!J39)),\"\")","v":""},{"$f":"IFERROR(VLOOKUP(--IF($B$2=StoreConfig!C39,LEFT(StoreConfig!J39,FIND(\"|\",StoreConfig!J39)-1),\"\"),$Q$4:$R$20,2,FALSE),\"\")","v":""},{"$f":"IF($B$2=StoreConfig!C39,LEFT(StoreConfig!G39,FIND(\"#\",StoreConfig!G39)-1),\"\")","v":""},{"$f":"IF($B$2=StoreConfig!C39,RIGHT(StoreConfig!G39,LEN(StoreConfig!G39)-FIND(\"#\",StoreConfig!G39)),\"\")","v":""},{"$f":"IF($B$2=StoreConfig!C39,IF(StoreConfig!L39=0,\"不限购\",StoreConfig!L39&\"次\"),\"\")","v":""},null,"猎妖之路商店节点",16,"妖晶"]
[{"$nulls":3},{"$f":"IF($B$2=StoreConfig!C40,StoreConfig!O40,\"\")","v":""},{"$f":"IF($B$2=StoreConfig!C40,StoreConfig!E40,\"\")","v":""},{"$f":"IF($B$2=StoreConfig!C40,RIGHT(StoreConfig!J40,LEN(StoreConfig!J40)-FIND(\"|\",StoreConfig!J40)),\"\")","v":""},{"$f":"IFERROR(VLOOKUP(--IF($B$2=StoreConfig!C40,LEFT(StoreConfig!J40,FIND(\"|\",StoreConfig!J40)-1),\"\"),$Q$4:$R$20,2,FALSE),\"\")","v":""},{"$f":"IF($B$2=StoreConfig!C40,LEFT(StoreConfig!G40,FIND(\"#\",StoreConfig!G40)-1),\"\")","v":""},{"$f":"IF($B$2=StoreConfig!C40,RIGHT(StoreConfig!G40,LEN(StoreConfig!G40)-FIND(\"#\",StoreConfig!G40)),\"\")","v":""},{"$f":"IF($B$2=StoreConfig!C40,IF(StoreConfig!L40=0,\"不限购\",StoreConfig!L40&\"次\"),\"\")","v":""},null,"乾坤商店",1003,"乾坤令"]
[{"$nulls":3},{"$f":"IF($B$2=StoreConfig!C41,StoreConfig!O41,\"\")","v":""},{"$f":"IF($B$2=StoreConfig!C41,StoreConfig!E41,\"\")","v":""},{"$f":"IF($B$2=StoreConfig!C41,RIGHT(StoreConfig!J41,LEN(StoreConfig!J41)-FIND(\"|\",StoreConfig!J41)),\"\")","v":""},{"$f":"IFERROR(VLOOKUP(--IF($B$2=StoreConfig!C41,LEFT(StoreConfig!J41,FIND(\"|\",StoreConfig!J41)-1),\"\"),$Q$4:$R$20,2,FALSE),\"\")","v":""},{"$f":"IF($B$2=StoreConfig!C41,LEFT(StoreConfig!G41,FIND(\"#\",StoreConfig!G41)-1),\"\")","v":""},{"$f":"IF($B$2=StoreConfig!C41,RIGHT(StoreConfig!G41,LEN(StoreConfig!G41)-FIND(\"#\",StoreConfig!G41)),\"\")","v":""},{"$f":"IF($B$2=StoreConfig!C41,IF(StoreConfig!L41=0,\"不限购\",StoreConfig!L41&\"次\"),\"\")","v":""}]
[{"$nulls":3},{"$f":"IF($B$2=StoreConfig!C42,StoreConfig!O42,\"\")","v":""},{"$f":"IF($B$2=StoreConfig!C42,StoreConfig!E42,\"\")","v":""},{"$f":"IF($B$2=StoreConfig!C42,RIGHT(StoreConfig!J42,LEN(StoreConfig!J42)-FIND(\"|\",StoreConfig!J42)),\"\")","v":""},{"$f":"IFERROR(VLOOKUP(--IF($B$2=StoreConfig!C42,LEFT(StoreConfig!J42,FIND(\"|\",StoreConfig!J42)-1),\"\"),$Q$4:$R$20,2,FALSE),\"\")","v":""},{"$f":"IF($B$2=StoreConfig!C42,LEFT(StoreConfig!G42,FIND(\"#\",StoreConfig!G42)-1),\"\")","v":""},{"$f":"IF($B$2=StoreConfig!C42,RIGHT(StoreConfig!G42,LEN(StoreConfig!G42)-FIND(\"#\",StoreConfig!G42)),\"\")","v":""},{"$f":"IF($B$2=StoreConfig!C42,IF(StoreConfig!L42=0,\"不限购\",StoreConfig!L42&\"次\"),\"\")","v":""}]
[{"$nulls":3},{"$f":"IF($B$2=StoreConfig!C43,StoreConfig!O43,\"\")","v":""},{"$f":"IF($B$2=StoreConfig!C43,StoreConfig!E43,\"\")","v":""},{"$f":"IF($B$2=StoreConfig!C43,RIGHT(StoreConfig!J43,LEN(StoreConfig!J43)-FIND(\"|\",StoreConfig!J43)),\"\")","v":""},{"$f":"IFERROR(VLOOKUP(--IF($B$2=StoreConfig!C43,LEFT(StoreConfig!J43,FIND(\"|\",StoreConfig!J43)-1),\"\"),$Q$4:$R$20,2,FALSE),\"\")","v":""},{"$f":"IF($B$2=StoreConfig!C43,LEFT(StoreConfig!G43,FIND(\"#\",StoreConfig!G43)-1),\"\")","v":""},{"$f":"IF($B$2=StoreConfig!C43,RIGHT(StoreConfig!G43,LEN(StoreConfig!G43)-FIND(\"#\",StoreConfig!G43)),\"\")","v":""},{"$f":"IF($B$2=StoreConfig!C43,IF(StoreConfig!L43=0,\"不限购\",StoreConfig!L43&\"次\"),\"\")","v":""}]
[{"$nulls":3},{"$f":"IF($B$2=StoreConfig!C44,StoreConfig!O44,\"\")","v":""},{"$f":"IF($B$2=StoreConfig!C44,StoreConfig!E44,\"\")","v":""},{"$f":"IF($B$2=StoreConfig!C44,RIGHT(StoreConfig!J44,LEN(StoreConfig!J44)-FIND(\"|\",StoreConfig!J44)),\"\")","v":""},{"$f":"IFERROR(VLOOKUP(--IF($B$2=StoreConfig!C44,LEFT(StoreConfig!J44,FIND(\"|\",StoreConfig!J44)-1),\"\"),$Q$4:$R$20,2,FALSE),\"\")","v":""},{"$f":"IF($B$2=StoreConfig!C44,LEFT(StoreConfig!G44,FIND(\"#\",StoreConfig!G44)-1),\"\")","v":""},{"$f":"IF($B$2=StoreConfig!C44,RIGHT(StoreConfig!G44,LEN(StoreConfig!G44)-FIND(\"#\",StoreConfig!G44)),\"\")","v":""},{"$f":"IF($B$2=StoreConfig!C44,IF(StoreConfig!L44=0,\"不限购\",StoreConfig!L44&\"次\"),\"\")","v":""}]
[{"$nulls":3},{"$f":"IF($B$2=StoreConfig!C45,StoreConfig!O45,\"\")","v":""},{"$f":"IF($B$2=StoreConfig!C45,StoreConfig!E45,\"\")","v":""},{"$f":"IF($B$2=StoreConfig!C45,RIGHT(StoreConfig!J45,LEN(StoreConfig!J45)-FIND(\"|\",StoreConfig!J45)),\"\")","v":""},{"$f":"IFERROR(VLOOKUP(--IF($B$2=StoreConfig!C45,LEFT(StoreConfig!J45,FIND(\"|\",StoreConfig!J45)-1),\"\"),$Q$4:$R$20,2,FALSE),\"\")","v":""},{"$f":"IF($B$2=StoreConfig!C45,LEFT(StoreConfig!G45,FIND(\"#\",StoreConfig!G45)-1),\"\")","v":""},{"$f":"IF($B$2=StoreConfig!C45,RIGHT(StoreConfig!G45,LEN(StoreConfig!G45)-FIND(\"#\",StoreConfig!G45)),\"\")","v":""},{"$f":"IF($B$2=StoreConfig!C45,IF(StoreConfig!L45=0,\"不限购\",StoreConfig!L45&\"次\"),\"\")","v":""}]
[{"$nulls":3},{"$f":"IF($B$2=StoreConfig!C46,StoreConfig!O46,\"\")","v":""},{"$f":"IF($B$2=StoreConfig!C46,StoreConfig!E46,\"\")","v":""},{"$f":"IF($B$2=StoreConfig!C46,RIGHT(StoreConfig!J46,LEN(StoreConfig!J46)-FIND(\"|\",StoreConfig!J46)),\"\")","v":""},{"$f":"IFERROR(VLOOKUP(--IF($B$2=StoreConfig!C46,LEFT(StoreConfig!J46,FIND(\"|\",StoreConfig!J46)-1),\"\"),$Q$4:$R$20,2,FALSE),\"\")","v":""},{"$f":"IF($B$2=StoreConfig!C46,LEFT(StoreConfig!G46,FIND(\"#\",StoreConfig!G46)-1),\"\")","v":""},{"$f":"IF($B$2=StoreConfig!C46,RIGHT(StoreConfig!G46,LEN(StoreConfig!G46)-FIND(\"#\",StoreConfig!G46)),\"\")","v":""},{"$f":"IF($B$2=StoreConfig!C46,IF(StoreConfig!L46=0,\"不限购\",StoreConfig!L46&\"次\"),\"\")","v":""}]
[{"$nulls":3},{"$f":"IF($B$2=StoreConfig!C47,StoreConfig!O47,\"\")","v":""},{"$f":"IF($B$2=StoreConfig!C47,StoreConfig!E47,\"\")","v":""},{"$f":"IF($B$2=StoreConfig!C47,RIGHT(StoreConfig!J47,LEN(StoreConfig!J47)-FIND(\"|\",StoreConfig!J47)),\"\")","v":""},{"$f":"IFERROR(VLOOKUP(--IF($B$2=StoreConfig!C47,LEFT(StoreConfig!J47,FIND(\"|\",StoreConfig!J47)-1),\"\"),$Q$4:$R$20,2,FALSE),\"\")","v":""},{"$f":"IF($B$2=StoreConfig!C47,LEFT(StoreConfig!G47,FIND(\"#\",StoreConfig!G47)-1),\"\")","v":""},{"$f":"IF($B$2=StoreConfig!C47,RIGHT(StoreConfig!G47,LEN(StoreConfig!G47)-FIND(\"#\",StoreConfig!G47)),\"\")","v":""},{"$f":"IF($B$2=StoreConfig!C47,IF(StoreConfig!L47=0,\"不限购\",StoreConfig!L47&\"次\"),\"\")","v":""}]
[{"$nulls":3},{"$f":"IF($B$2=StoreConfig!C48,StoreConfig!O48,\"\")","v":""},{"$f":"IF($B$2=StoreConfig!C48,StoreConfig!E48,\"\")","v":""},{"$f":"IF($B$2=StoreConfig!C48,RIGHT(StoreConfig!J48,LEN(StoreConfig!J48)-FIND(\"|\",StoreConfig!J48)),\"\")","v":""},{"$f":"IFERROR(VLOOKUP(--IF($B$2=StoreConfig!C48,LEFT(StoreConfig!J48,FIND(\"|\",StoreConfig!J48)-1),\"\"),$Q$4:$R$20,2,FALSE),\"\")","v":""},{"$f":"IF($B$2=StoreConfig!C48,LEFT(StoreConfig!G48,FIND(\"#\",StoreConfig!G48)-1),\"\")","v":""},{"$f":"IF($B$2=StoreConfig!C48,RIGHT(StoreConfig!G48,LEN(StoreConfig!G48)-FIND(\"#\",StoreConfig!G48)),\"\")","v":""},{"$f":"IF($B$2=StoreConfig!C48,IF(StoreConfig!L48=0,\"不限购\",StoreConfig!L48&\"次\"),\"\")","v":""}]
[{"$nulls":3},{"$f":"IF($B$2=StoreConfig!C49,StoreConfig!O49,\"\")","v":""},{"$f":"IF($B$2=StoreConfig!C49,StoreConfig!E49,\"\")","v":""},{"$f":"IF($B$2=StoreConfig!C49,RIGHT(StoreConfig!J49,LEN(StoreConfig!J49)-FIND(\"|\",StoreConfig!J49)),\"\")","v":""},{"$f":"IFERROR(VLOOKUP(--IF($B$2=StoreConfig!C49,LEFT(StoreConfig!J49,FIND(\"|\",StoreConfig!J49)-1),\"\"),$Q$4:$R$20,2,FALSE),\"\")","v":""},{"$f":"IF($B$2=StoreConfig!C49,LEFT(StoreConfig!G49,FIND(\"#\",StoreConfig!G49)-1),\"\")","v":""},{"$f":"IF($B$2=StoreConfig!C49,RIGHT(StoreConfig!G49,LEN(StoreConfig!G49)-FIND(\"#\",StoreConfig!G49)),\"\")","v":""},{"$f":"IF($B$2=StoreConfig!C49,IF(StoreConfig!L49=0,\"不限购\",StoreConfig!L49&\"次\"),\"\")","v":""}]
[{"$nulls":3},{"$f":"IF($B$2=StoreConfig!C50,StoreConfig!O50,\"\")","v":""},{"$f":"IF($B$2=StoreConfig!C50,StoreConfig!E50,\"\")","v":""},{"$f":"IF($B$2=StoreConfig!C50,RIGHT(StoreConfig!J50,LEN(StoreConfig!J50)-FIND(\"|\",StoreConfig!J50)),\"\")","v":""},{"$f":"IFERROR(VLOOKUP(--IF($B$2=StoreConfig!C50,LEFT(StoreConfig!J50,FIND(\"|\",StoreConfig!J50)-1),\"\"),$Q$4:$R$20,2,FALSE),\"\")","v":""},{"$f":"IF($B$2=StoreConfig!C50,LEFT(StoreConfig!G50,FIND(\"#\",StoreConfig!G50)-1),\"\")","v":""},{"$f":"IF($B$2=StoreConfig!C50,RIGHT(StoreConfig!G50,LEN(StoreConfig!G50)-FIND(\"#\",StoreConfig!G50)),\"\")","v":""},{"$f":"IF($B$2=StoreConfig!C50,IF(StoreConfig!L50=0,\"不限购\",StoreConfig!L50&\"次\"),\"\")","v":""}]
[{"$nulls":3},{"$f":"IF($B$2=StoreConfig!C51,StoreConfig!O51,\"\")","v":""},{"$f":"IF($B$2=StoreConfig!C51,StoreConfig!E51,\"\")","v":""},{"$f":"IF($B$2=StoreConfig!C51,RIGHT(StoreConfig!J51,LEN(StoreConfig!J51)-FIND(\"|\",StoreConfig!J51)),\"\")","v":""},{"$f":"IFERROR(VLOOKUP(--IF($B$2=StoreConfig!C51,LEFT(StoreConfig!J51,FIND(\"|\",StoreConfig!J51)-1),\"\"),$Q$4:$R$20,2,FALSE),\"\")","v":""},{"$f":"IF($B$2=StoreConfig!C51,LEFT(StoreConfig!G51,FIND(\"#\",StoreConfig!G51)-1),\"\")","v":""},{"$f":"IF($B$2=StoreConfig!C51,RIGHT(StoreConfig!G51,LEN(StoreConfig!G51)-FIND(\"#\",StoreConfig!G51)),\"\")","v":""},{"$f":"IF($B$2=StoreConfig!C51,IF(StoreConfig!L51=0,\"不限购\",StoreConfig!L51&\"次\"),\"\")","v":""}]
[{"$nulls":3},{"$f":"IF($B$2=StoreConfig!C52,StoreConfig!O52,\"\")","v":""},{"$f":"IF($B$2=StoreConfig!C52,StoreConfig!E52,\"\")","v":""},{"$f":"IF($B$2=StoreConfig!C52,RIGHT(StoreConfig!J52,LEN(StoreConfig!J52)-FIND(\"|\",StoreConfig!J52)),\"\")","v":""},{"$f":"IFERROR(VLOOKUP(--IF($B$2=StoreConfig!C52,LEFT(StoreConfig!J52,FIND(\"|\",StoreConfig!J52)-1),\"\"),$Q$4:$R$20,2,FALSE),\"\")","v":""},{"$f":"IF($B$2=StoreConfig!C52,LEFT(StoreConfig!G52,FIND(\"#\",StoreConfig!G52)-1),\"\")","v":""},{"$f":"IF($B$2=StoreConfig!C52,RIGHT(StoreConfig!G52,LEN(StoreConfig!G52)-FIND(\"#\",StoreConfig!G52)),\"\")","v":""},{"$f":"IF($B$2=StoreConfig!C52,IF(StoreConfig!L52=0,\"不限购\",StoreConfig!L52&\"次\"),\"\")","v":""}]
[{"$nulls":3},{"$f":"IF($B$2=StoreConfig!C53,StoreConfig!O53,\"\")","v":""},{"$f":"IF($B$2=StoreConfig!C53,StoreConfig!E53,\"\")","v":""},{"$f":"IF($B$2=StoreConfig!C53,RIGHT(StoreConfig!J53,LEN(StoreConfig!J53)-FIND(\"|\",StoreConfig!J53)),\"\")","v":""},{"$f":"IFERROR(VLOOKUP(--IF($B$2=StoreConfig!C53,LEFT(StoreConfig!J53,FIND(\"|\",StoreConfig!J53)-1),\"\"),$Q$4:$R$20,2,FALSE),\"\")","v":""},{"$f":"IF($B$2=StoreConfig!C53,LEFT(StoreConfig!G53,FIND(\"#\",StoreConfig!G53)-1),\"\")","v":""},{"$f":"IF($B$2=StoreConfig!C53,RIGHT(StoreConfig!G53,LEN(StoreConfig!G53)-FIND(\"#\",StoreConfig!G53)),\"\")","v":""},{"$f":"IF($B$2=StoreConfig!C53,IF(StoreConfig!L53=0,\"不限购\",StoreConfig!L53&\"次\"),\"\")","v":""}]
[{"$nulls":3},{"$f":"IF($B$2=StoreConfig!C54,StoreConfig!O54,\"\")","v":""},{"$f":"IF($B$2=StoreConfig!C54,StoreConfig!E54,\"\")","v":""},{"$f":"IF($B$2=StoreConfig!C54,RIGHT(StoreConfig!J54,LEN(StoreConfig!J54)-FIND(\"|\",StoreConfig!J54)),\"\")","v":""},{"$f":"IFERROR(VLOOKUP(--IF($B$2=StoreConfig!C54,LEFT(StoreConfig!J54,FIND(\"|\",StoreConfig!J54)-1),\"\"),$Q$4:$R$20,2,FALSE),\"\")","v":""},{"$f":"IF($B$2=StoreConfig!C54,LEFT(StoreConfig!G54,FIND(\"#\",StoreConfig!G54)-1),\"\")","v":""},{"$f":"IF($B$2=StoreConfig!C54,RIGHT(StoreConfig!G54,LEN(StoreConfig!G54)-FIND(\"#\",StoreConfig!G54)),\"\")","v":""},{"$f":"IF($B$2=StoreConfig!C54,IF(StoreConfig!L54=0,\"不限购\",StoreConfig!L54&\"次\"),\"\")","v":""}]
[{"$nulls":3},{"$f":"IF($B$2=StoreConfig!C55,StoreConfig!O55,\"\")","v":""},{"$f":"IF($B$2=StoreConfig!C55,StoreConfig!E55,\"\")","v":""},{"$f":"IF($B$2=StoreConfig!C55,RIGHT(StoreConfig!J55,LEN(StoreConfig!J55)-FIND(\"|\",StoreConfig!J55)),\"\")","v":""},{"$f":"IFERROR(VLOOKUP(--IF($B$2=StoreConfig!C55,LEFT(StoreConfig!J55,FIND(\"|\",StoreConfig!J55)-1),\"\"),$Q$4:$R$20,2,FALSE),\"\")","v":""},{"$f":"IF($B$2=StoreConfig!C55,LEFT(StoreConfig!G55,FIND(\"#\",StoreConfig!G55)-1),\"\")","v":""},{"$f":"IF($B$2=StoreConfig!C55,RIGHT(StoreConfig!G55,LEN(StoreConfig!G55)-FIND(\"#\",StoreConfig!G55)),\"\")","v":""},{"$f":"IF($B$2=StoreConfig!C55,IF(StoreConfig!L55=0,\"不限购\",StoreConfig!L55&\"次\"),\"\")","v":""}]
[{"$nulls":3},{"$f":"IF($B$2=StoreConfig!C56,StoreConfig!O56,\"\")","v":""},{"$f":"IF($B$2=StoreConfig!C56,StoreConfig!E56,\"\")","v":""},{"$f":"IF($B$2=StoreConfig!C56,RIGHT(StoreConfig!J56,LEN(StoreConfig!J56)-FIND(\"|\",StoreConfig!J56)),\"\")","v":""},{"$f":"IFERROR(VLOOKUP(--IF($B$2=StoreConfig!C56,LEFT(StoreConfig!J56,FIND(\"|\",StoreConfig!J56)-1),\"\"),$Q$4:$R$20,2,FALSE),\"\")","v":""},{"$f":"IF($B$2=StoreConfig!C56,LEFT(StoreConfig!G56,FIND(\"#\",StoreConfig!G56)-1),\"\")","v":""},{"$f":"IF($B$2=StoreConfig!C56,RIGHT(StoreConfig!G56,LEN(StoreConfig!G56)-FIND(\"#\",StoreConfig!G56)),\"\")","v":""},{"$f":"IF($B$2=StoreConfig!C56,IF(StoreConfig!L56=0,\"不限购\",StoreConfig!L56&\"次\"),\"\")","v":""}]
[{"$nulls":3},{"$f":"IF($B$2=StoreConfig!C57,StoreConfig!O57,\"\")","v":""},{"$f":"IF($B$2=StoreConfig!C57,StoreConfig!E57,\"\")","v":""},{"$f":"IF($B$2=StoreConfig!C57,RIGHT(StoreConfig!J57,LEN(StoreConfig!J57)-FIND(\"|\",StoreConfig!J57)),\"\")","v":""},{"$f":"IFERROR(VLOOKUP(--IF($B$2=StoreConfig!C57,LEFT(StoreConfig!J57,FIND(\"|\",StoreConfig!J57)-1),\"\"),$Q$4:$R$20,2,FALSE),\"\")","v":""},{"$f":"IF($B$2=StoreConfig!C57,LEFT(StoreConfig!G57,FIND(\"#\",StoreConfig!G57)-1),\"\")","v":""},{"$f":"IF($B$2=StoreConfig!C57,RIGHT(StoreConfig!G57,LEN(StoreConfig!G57)-FIND(\"#\",StoreConfig!G57)),\"\")","v":""},{"$f":"IF($B$2=StoreConfig!C57,IF(StoreConfig!L57=0,\"不限购\",StoreConfig!L57&\"次\"),\"\")","v":""}]
[{"$nulls":3},{"$f":"IF($B$2=StoreConfig!C58,StoreConfig!O58,\"\")","v":""},{"$f":"IF($B$2=StoreConfig!C58,StoreConfig!E58,\"\")","v":""},{"$f":"IF($B$2=StoreConfig!C58,RIGHT(StoreConfig!J58,LEN(StoreConfig!J58)-FIND(\"|\",StoreConfig!J58)),\"\")","v":""},{"$f":"IFERROR(VLOOKUP(--IF($B$2=StoreConfig!C58,LEFT(StoreConfig!J58,FIND(\"|\",StoreConfig!J58)-1),\"\"),$Q$4:$R$20,2,FALSE),\"\")","v":""},{"$f":"IF($B$2=StoreConfig!C58,LEFT(StoreConfig!G58,FIND(\"#\",StoreConfig!G58)-1),\"\")","v":""},{"$f":"IF($B$2=StoreConfig!C58,RIGHT(StoreConfig!G58,LEN(StoreConfig!G58)-FIND(\"#\",StoreConfig!G58)),\"\")","v":""},{"$f":"IF($B$2=StoreConfig!C58,IF(StoreConfig!L58=0,\"不限购\",StoreConfig!L58&\"次\"),\"\")","v":""}]
[{"$nulls":3},{"$f":"IF($B$2=StoreConfig!C59,StoreConfig!O59,\"\")","v":""},{"$f":"IF($B$2=StoreConfig!C59,StoreConfig!E59,\"\")","v":""},{"$f":"IF($B$2=StoreConfig!C59,RIGHT(StoreConfig!J59,LEN(StoreConfig!J59)-FIND(\"|\",StoreConfig!J59)),\"\")","v":""},{"$f":"IFERROR(VLOOKUP(--IF($B$2=StoreConfig!C59,LEFT(StoreConfig!J59,FIND(\"|\",StoreConfig!J59)-1),\"\"),$Q$4:$R$20,2,FALSE),\"\")","v":""},{"$f":"IF($B$2=StoreConfig!C59,LEFT(StoreConfig!G59,FIND(\"#\",StoreConfig!G59)-1),\"\")","v":""},{"$f":"IF($B$2=StoreConfig!C59,RIGHT(StoreConfig!G59,LEN(StoreConfig!G59)-FIND(\"#\",StoreConfig!G59)),\"\")","v":""},{"$f":"IF($B$2=StoreConfig!C59,IF(StoreConfig!L59=0,\"不限购\",StoreConfig!L59&\"次\"),\"\")","v":""}]
[{"$nulls":3},{"$f":"IF($B$2=StoreConfig!C60,StoreConfig!O60,\"\")","v":""},{"$f":"IF($B$2=StoreConfig!C60,StoreConfig!E60,\"\")","v":""},{"$f":"IF($B$2=StoreConfig!C60,RIGHT(StoreConfig!J60,LEN(StoreConfig!J60)-FIND(\"|\",StoreConfig!J60)),\"\")","v":""},{"$f":"IFERROR(VLOOKUP(--IF($B$2=StoreConfig!C60,LEFT(StoreConfig!J60,FIND(\"|\",StoreConfig!J60)-1),\"\"),$Q$4:$R$20,2,FALSE),\"\")","v":""},{"$f":"IF($B$2=StoreConfig!C60,LEFT(StoreConfig!G60,FIND(\"#\",StoreConfig!G60)-1),\"\")","v":""},{"$f":"IF($B$2=StoreConfig!C60,RIGHT(StoreConfig!G60,LEN(StoreConfig!G60)-FIND(\"#\",StoreConfig!G60)),\"\")","v":""},{"$f":"IF($B$2=StoreConfig!C60,IF(StoreConfig!L60=0,\"不限购\",StoreConfig!L60&\"次\"),\"\")","v":""}]
[{"$nulls":3},{"$f":"IF($B$2=StoreConfig!C61,StoreConfig!O61,\"\")","v":""},{"$f":"IF($B$2=StoreConfig!C61,StoreConfig!E61,\"\")","v":""},{"$f":"IF($B$2=StoreConfig!C61,RIGHT(StoreConfig!J61,LEN(StoreConfig!J61)-FIND(\"|\",StoreConfig!J61)),\"\")","v":""},{"$f":"IFERROR(VLOOKUP(--IF($B$2=StoreConfig!C61,LEFT(StoreConfig!J61,FIND(\"|\",StoreConfig!J61)-1),\"\"),$Q$4:$R$20,2,FALSE),\"\")","v":""},{"$f":"IF($B$2=StoreConfig!C61,LEFT(StoreConfig!G61,FIND(\"#\",StoreConfig!G61)-1),\"\")","v":""},{"$f":"IF($B$2=StoreConfig!C61,RIGHT(StoreConfig!G61,LEN(StoreConfig!G61)-FIND(\"#\",StoreConfig!G61)),\"\")","v":""},{"$f":"IF($B$2=StoreConfig!C61,IF(StoreConfig!L61=0,\"不限购\",StoreConfig!L61&\"次\"),\"\")","v":""}]
[{"$nulls":3},{"$f":"IF($B$2=StoreConfig!C62,StoreConfig!O62,\"\")","v":""},{"$f":"IF($B$2=StoreConfig!C62,StoreConfig!E62,\"\")","v":""},{"$f":"IF($B$2=StoreConfig!C62,RIGHT(StoreConfig!J62,LEN(StoreConfig!J62)-FIND(\"|\",StoreConfig!J62)),\"\")","v":""},{"$f":"IFERROR(VLOOKUP(--IF($B$2=StoreConfig!C62,LEFT(StoreConfig!J62,FIND(\"|\",StoreConfig!J62)-1),\"\"),$Q$4:$R$20,2,FALSE),\"\")","v":""},{"$f":"IF($B$2=StoreConfig!C62,LEFT(StoreConfig!G62,FIND(\"#\",StoreConfig!G62)-1),\"\")","v":""},{"$f":"IF($B$2=StoreConfig!C62,RIGHT(StoreConfig!G62,LEN(StoreConfig!G62)-FIND(\"#\",StoreConfig!G62)),\"\")","v":""},{"$f":"IF($B$2=StoreConfig!C62,IF(StoreConfig!L62=0,\"不限购\",StoreConfig!L62&\"次\"),\"\")","v":""}]
[{"$nulls":3},{"$f":"IF($B$2=StoreConfig!C63,StoreConfig!O63,\"\")","v":""},{"$f":"IF($B$2=StoreConfig!C63,StoreConfig!E63,\"\")","v":""},{"$f":"IF($B$2=StoreConfig!C63,RIGHT(StoreConfig!J63,LEN(StoreConfig!J63)-FIND(\"|\",StoreConfig!J63)),\"\")","v":""},{"$f":"IFERROR(VLOOKUP(--IF($B$2=StoreConfig!C63,LEFT(StoreConfig!J63,FIND(\"|\",StoreConfig!J63)-1),\"\"),$Q$4:$R$20,2,FALSE),\"\")","v":""},{"$f":"IF($B$2=StoreConfig!C63,LEFT(StoreConfig!G63,FIND(\"#\",StoreConfig!G63)-1),\"\")","v":""},{"$f":"IF($B$2=StoreConfig!C63,RIGHT(StoreConfig!G63,LEN(StoreConfig!G63)-FIND(\"#\",StoreConfig!G63)),\"\")","v":""},{"$f":"IF($B$2=StoreConfig!C63,IF(StoreConfig!L63=0,\"不限购\",StoreConfig!L63&\"次\"),\"\")","v":""}]
[{"$nulls":3},{"$f":"IF($B$2=StoreConfig!C64,StoreConfig!O64,\"\")","v":""},{"$f":"IF($B$2=StoreConfig!C64,StoreConfig!E64,\"\")","v":""},{"$f":"IF($B$2=StoreConfig!C64,RIGHT(StoreConfig!J64,LEN(StoreConfig!J64)-FIND(\"|\",StoreConfig!J64)),\"\")","v":""},{"$f":"IFERROR(VLOOKUP(--IF($B$2=StoreConfig!C64,LEFT(StoreConfig!J64,FIND(\"|\",StoreConfig!J64)-1),\"\"),$Q$4:$R$20,2,FALSE),\"\")","v":""},{"$f":"IF($B$2=StoreConfig!C64,LEFT(StoreConfig!G64,FIND(\"#\",StoreConfig!G64)-1),\"\")","v":""},{"$f":"IF($B$2=StoreConfig!C64,RIGHT(StoreConfig!G64,LEN(StoreConfig!G64)-FIND(\"#\",StoreConfig!G64)),\"\")","v":""},{"$f":"IF($B$2=StoreConfig!C64,IF(StoreConfig!L64=0,\"不限购\",StoreConfig!L64&\"次\"),\"\")","v":""}]
[{"$nulls":3},{"$f":"IF($B$2=StoreConfig!C65,StoreConfig!O65,\"\")","v":""},{"$f":"IF($B$2=StoreConfig!C65,StoreConfig!E65,\"\")","v":""},{"$f":"IF($B$2=StoreConfig!C65,RIGHT(StoreConfig!J65,LEN(StoreConfig!J65)-FIND(\"|\",StoreConfig!J65)),\"\")","v":""},{"$f":"IFERROR(VLOOKUP(--IF($B$2=StoreConfig!C65,LEFT(StoreConfig!J65,FIND(\"|\",StoreConfig!J65)-1),\"\"),$Q$4:$R$20,2,FALSE),\"\")","v":""},{"$f":"IF($B$2=StoreConfig!C65,LEFT(StoreConfig!G65,FIND(\"#\",StoreConfig!G65)-1),\"\")","v":""},{"$f":"IF($B$2=StoreConfig!C65,RIGHT(StoreConfig!G65,LEN(StoreConfig!G65)-FIND(\"#\",StoreConfig!G65)),\"\")","v":""},{"$f":"IF($B$2=StoreConfig!C65,IF(StoreConfig!L65=0,\"不限购\",StoreConfig!L65&\"次\"),\"\")","v":""}]
[{"$nulls":3},{"$f":"IF($B$2=StoreConfig!C66,StoreConfig!O66,\"\")","v":""},{"$f":"IF($B$2=StoreConfig!C66,StoreConfig!E66,\"\")","v":""},{"$f":"IF($B$2=StoreConfig!C66,RIGHT(StoreConfig!J66,LEN(StoreConfig!J66)-FIND(\"|\",StoreConfig!J66)),\"\")","v":""},{"$f":"IFERROR(VLOOKUP(--IF($B$2=StoreConfig!C66,LEFT(StoreConfig!J66,FIND(\"|\",StoreConfig!J66)-1),\"\"),$Q$4:$R$20,2,FALSE),\"\")","v":""},{"$f":"IF($B$2=StoreConfig!C66,LEFT(StoreConfig!G66,FIND(\"#\",StoreConfig!G66)-1),\"\")","v":""},{"$f":"IF($B$2=StoreConfig!C66,RIGHT(StoreConfig!G66,LEN(StoreConfig!G66)-FIND(\"#\",StoreConfig!G66)),\"\")","v":""},{"$f":"IF($B$2=StoreConfig!C66,IF(StoreConfig!L66=0,\"不限购\",StoreConfig!L66&\"次\"),\"\")","v":""}]
[{"$nulls":3},{"$f":"IF($B$2=StoreConfig!C67,StoreConfig!O67,\"\")","v":""},{"$f":"IF($B$2=StoreConfig!C67,StoreConfig!E67,\"\")","v":""},{"$f":"IF($B$2=StoreConfig!C67,RIGHT(StoreConfig!J67,LEN(StoreConfig!J67)-FIND(\"|\",StoreConfig!J67)),\"\")","v":""},{"$f":"IFERROR(VLOOKUP(--IF($B$2=StoreConfig!C67,LEFT(StoreConfig!J67,FIND(\"|\",StoreConfig!J67)-1),\"\"),$Q$4:$R$20,2,FALSE),\"\")","v":""},{"$f":"IF($B$2=StoreConfig!C67,LEFT(StoreConfig!G67,FIND(\"#\",StoreConfig!G67)-1),\"\")","v":""},{"$f":"IF($B$2=StoreConfig!C67,RIGHT(StoreConfig!G67,LEN(StoreConfig!G67)-FIND(\"#\",StoreConfig!G67)),\"\")","v":""},{"$f":"IF($B$2=StoreConfig!C67,IF(StoreConfig!L67=0,\"不限购\",StoreConfig!L67&\"次\"),\"\")","v":""}]
[{"$nulls":3},{"$f":"IF($B$2=StoreConfig!C68,StoreConfig!O68,\"\")","v":""},{"$f":"IF($B$2=StoreConfig!C68,StoreConfig!E68,\"\")","v":""},{"$f":"IF($B$2=StoreConfig!C68,RIGHT(StoreConfig!J68,LEN(StoreConfig!J68)-FIND(\"|\",StoreConfig!J68)),\"\")","v":""},{"$f":"IFERROR(VLOOKUP(--IF($B$2=StoreConfig!C68,LEFT(StoreConfig!J68,FIND(\"|\",StoreConfig!J68)-1),\"\"),$Q$4:$R$20,2,FALSE),\"\")","v":""},{"$f":"IF($B$2=StoreConfig!C68,LEFT(StoreConfig!G68,FIND(\"#\",StoreConfig!G68)-1),\"\")","v":""},{"$f":"IF($B$2=StoreConfig!C68,RIGHT(StoreConfig!G68,LEN(StoreConfig!G68)-FIND(\"#\",StoreConfig!G68)),\"\")","v":""},{"$f":"IF($B$2=StoreConfig!C68,IF(StoreConfig!L68=0,\"不限购\",StoreConfig!L68&\"次\"),\"\")","v":""}]
[{"$nulls":3},{"$f":"IF($B$2=StoreConfig!C69,StoreConfig!O69,\"\")","v":""},{"$f":"IF($B$2=StoreConfig!C69,StoreConfig!E69,\"\")","v":""},{"$f":"IF($B$2=StoreConfig!C69,RIGHT(StoreConfig!J69,LEN(StoreConfig!J69)-FIND(\"|\",StoreConfig!J69)),\"\")","v":""},{"$f":"IFERROR(VLOOKUP(--IF($B$2=StoreConfig!C69,LEFT(StoreConfig!J69,FIND(\"|\",StoreConfig!J69)-1),\"\"),$Q$4:$R$20,2,FALSE),\"\")","v":""},{"$f":"IF($B$2=StoreConfig!C69,LEFT(StoreConfig!G69,FIND(\"#\",StoreConfig!G69)-1),\"\")","v":""},{"$f":"IF($B$2=StoreConfig!C69,RIGHT(StoreConfig!G69,LEN(StoreConfig!G69)-FIND(\"#\",StoreConfig!G69)),\"\")","v":""},{"$f":"IF($B$2=StoreConfig!C69,IF(StoreConfig!L69=0,\"不限购\",StoreConfig!L69&\"次\"),\"\")","v":""}]
[{"$nulls":3},{"$f":"IF($B$2=StoreConfig!C70,StoreConfig!O70,\"\")","v":""},{"$f":"IF($B$2=StoreConfig!C70,StoreConfig!E70,\"\")","v":""},{"$f":"IF($B$2=StoreConfig!C70,RIGHT(StoreConfig!J70,LEN(StoreConfig!J70)-FIND(\"|\",StoreConfig!J70)),\"\")","v":""},{"$f":"IFERROR(VLOOKUP(--IF($B$2=StoreConfig!C70,LEFT(StoreConfig!J70,FIND(\"|\",StoreConfig!J70)-1),\"\"),$Q$4:$R$20,2,FALSE),\"\")","v":""},{"$f":"IF($B$2=StoreConfig!C70,LEFT(StoreConfig!G70,FIND(\"#\",StoreConfig!G70)-1),\"\")","v":""},{"$f":"IF($B$2=StoreConfig!C70,RIGHT(StoreConfig!G70,LEN(StoreConfig!G70)-FIND(\"#\",StoreConfig!G70)),\"\")","v":""},{"$f":"IF($B$2=StoreConfig!C70,IF(StoreConfig!L70=0,\"不限购\",StoreConfig!L70&\"次\"),\"\")","v":""}]
[{"$nulls":3},{"$f":"IF($B$2=StoreConfig!C71,StoreConfig!O71,\"\")","v":""},{"$f":"IF($B$2=StoreConfig!C71,StoreConfig!E71,\"\")","v":""},{"$f":"IF($B$2=StoreConfig!C71,RIGHT(StoreConfig!J71,LEN(StoreConfig!J71)-FIND(\"|\",StoreConfig!J71)),\"\")","v":""},{"$f":"IFERROR(VLOOKUP(--IF($B$2=StoreConfig!C71,LEFT(StoreConfig!J71,FIND(\"|\",StoreConfig!J71)-1),\"\"),$Q$4:$R$20,2,FALSE),\"\")","v":""},{"$f":"IF($B$2=StoreConfig!C71,LEFT(StoreConfig!G71,FIND(\"#\",StoreConfig!G71)-1),\"\")","v":""},{"$f":"IF($B$2=StoreConfig!C71,RIGHT(StoreConfig!G71,LEN(StoreConfig!G71)-FIND(\"#\",StoreConfig!G71)),\"\")","v":""},{"$f":"IF($B$2=StoreConfig!C71,IF(StoreConfig!L71=0,\"不限购\",StoreConfig!L71&\"次\"),\"\")","v":""}]
[{"$nulls":3},{"$f":"IF($B$2=StoreConfig!C72,StoreConfig!O72,\"\")","v":""},{"$f":"IF($B$2=StoreConfig!C72,StoreConfig!E72,\"\")","v":""},{"$f":"IF($B$2=StoreConfig!C72,RIGHT(StoreConfig!J72,LEN(StoreConfig!J72)-FIND(\"|\",StoreConfig!J72)),\"\")","v":""},{"$f":"IFERROR(VLOOKUP(--IF($B$2=StoreConfig!C72,LEFT(StoreConfig!J72,FIND(\"|\",StoreConfig!J72)-1),\"\"),$Q$4:$R$20,2,FALSE),\"\")","v":""},{"$f":"IF($B$2=StoreConfig!C72,LEFT(StoreConfig!G72,FIND(\"#\",StoreConfig!G72)-1),\"\")","v":""},{"$f":"IF($B$2=StoreConfig!C72,RIGHT(StoreConfig!G72,LEN(StoreConfig!G72)-FIND(\"#\",StoreConfig!G72)),\"\")","v":""},{"$f":"IF($B$2=StoreConfig!C72,IF(StoreConfig!L72=0,\"不限购\",StoreConfig!L72&\"次\"),\"\")","v":""}]
[{"$nulls":3},{"$f":"IF($B$2=StoreConfig!C73,StoreConfig!O73,\"\")","v":""},{"$f":"IF($B$2=StoreConfig!C73,StoreConfig!E73,\"\")","v":""},{"$f":"IF($B$2=StoreConfig!C73,RIGHT(StoreConfig!J73,LEN(StoreConfig!J73)-FIND(\"|\",StoreConfig!J73)),\"\")","v":""},{"$f":"IFERROR(VLOOKUP(--IF($B$2=StoreConfig!C73,LEFT(StoreConfig!J73,FIND(\"|\",StoreConfig!J73)-1),\"\"),$Q$4:$R$20,2,FALSE),\"\")","v":""},{"$f":"IF($B$2=StoreConfig!C73,LEFT(StoreConfig!G73,FIND(\"#\",StoreConfig!G73)-1),\"\")","v":""},{"$f":"IF($B$2=StoreConfig!C73,RIGHT(StoreConfig!G73,LEN(StoreConfig!G73)-FIND(\"#\",StoreConfig!G73)),\"\")","v":""},{"$f":"IF($B$2=StoreConfig!C73,IF(StoreConfig!L73=0,\"不限购\",StoreConfig!L73&\"次\"),\"\")","v":""}]
[{"$nulls":3},{"$f":"IF($B$2=StoreConfig!C74,StoreConfig!O74,\"\")","v":""},{"$f":"IF($B$2=StoreConfig!C74,StoreConfig!E74,\"\")","v":""},{"$f":"IF($B$2=StoreConfig!C74,RIGHT(StoreConfig!J74,LEN(StoreConfig!J74)-FIND(\"|\",StoreConfig!J74)),\"\")","v":""},{"$f":"IFERROR(VLOOKUP(--IF($B$2=StoreConfig!C74,LEFT(StoreConfig!J74,FIND(\"|\",StoreConfig!J74)-1),\"\"),$Q$4:$R$20,2,FALSE),\"\")","v":""},{"$f":"IF($B$2=StoreConfig!C74,LEFT(StoreConfig!G74,FIND(\"#\",StoreConfig!G74)-1),\"\")","v":""},{"$f":"IF($B$2=StoreConfig!C74,RIGHT(StoreConfig!G74,LEN(StoreConfig!G74)-FIND(\"#\",StoreConfig!G74)),\"\")","v":""},{"$f":"IF($B$2=StoreConfig!C74,IF(StoreConfig!L74=0,\"不限购\",StoreConfig!L74&\"次\"),\"\")","v":""}]
[{"$nulls":3},{"$f":"IF($B$2=StoreConfig!C75,StoreConfig!O75,\"\")","v":""},{"$f":"IF($B$2=StoreConfig!C75,StoreConfig!E75,\"\")","v":""},{"$f":"IF($B$2=StoreConfig!C75,RIGHT(StoreConfig!J75,LEN(StoreConfig!J75)-FIND(\"|\",StoreConfig!J75)),\"\")","v":""},{"$f":"IFERROR(VLOOKUP(--IF($B$2=StoreConfig!C75,LEFT(StoreConfig!J75,FIND(\"|\",StoreConfig!J75)-1),\"\"),$Q$4:$R$20,2,FALSE),\"\")","v":""},{"$f":"IF($B$2=StoreConfig!C75,LEFT(StoreConfig!G75,FIND(\"#\",StoreConfig!G75)-1),\"\")","v":""},{"$f":"IF($B$2=StoreConfig!C75,RIGHT(StoreConfig!G75,LEN(StoreConfig!G75)-FIND(\"#\",StoreConfig!G75)),\"\")","v":""},{"$f":"IF($B$2=StoreConfig!C75,IF(StoreConfig!L75=0,\"不限购\",StoreConfig!L75&\"次\"),\"\")","v":""}]
[{"$nulls":3},{"$f":"IF($B$2=StoreConfig!C76,StoreConfig!O76,\"\")","v":""},{"$f":"IF($B$2=StoreConfig!C76,StoreConfig!E76,\"\")","v":""},{"$f":"IF($B$2=StoreConfig!C76,RIGHT(StoreConfig!J76,LEN(StoreConfig!J76)-FIND(\"|\",StoreConfig!J76)),\"\")","v":""},{"$f":"IFERROR(VLOOKUP(--IF($B$2=StoreConfig!C76,LEFT(StoreConfig!J76,FIND(\"|\",StoreConfig!J76)-1),\"\"),$Q$4:$R$20,2,FALSE),\"\")","v":""},{"$f":"IF($B$2=StoreConfig!C76,LEFT(StoreConfig!G76,FIND(\"#\",StoreConfig!G76)-1),\"\")","v":""},{"$f":"IF($B$2=StoreConfig!C76,RIGHT(StoreConfig!G76,LEN(StoreConfig!G76)-FIND(\"#\",StoreConfig!G76)),\"\")","v":""},{"$f":"IF($B$2=StoreConfig!C76,IF(StoreConfig!L76=0,\"不限购\",StoreConfig!L76&\"次\"),\"\")","v":""}]
[{"$nulls":3},{"$f":"IF($B$2=StoreConfig!C77,StoreConfig!O77,\"\")","v":""},{"$f":"IF($B$2=StoreConfig!C77,StoreConfig!E77,\"\")","v":""},{"$f":"IF($B$2=StoreConfig!C77,RIGHT(StoreConfig!J77,LEN(StoreConfig!J77)-FIND(\"|\",StoreConfig!J77)),\"\")","v":""},{"$f":"IFERROR(VLOOKUP(--IF($B$2=StoreConfig!C77,LEFT(StoreConfig!J77,FIND(\"|\",StoreConfig!J77)-1),\"\"),$Q$4:$R$20,2,FALSE),\"\")","v":""},{"$f":"IF($B$2=StoreConfig!C77,LEFT(StoreConfig!G77,FIND(\"#\",StoreConfig!G77)-1),\"\")","v":""},{"$f":"IF($B$2=StoreConfig!C77,RIGHT(StoreConfig!G77,LEN(StoreConfig!G77)-FIND(\"#\",StoreConfig!G77)),\"\")","v":""},{"$f":"IF($B$2=StoreConfig!C77,IF(StoreConfig!L77=0,\"不限购\",StoreConfig!L77&\"次\"),\"\")","v":""}]
[{"$nulls":3},{"$f":"IF($B$2=StoreConfig!C78,StoreConfig!O78,\"\")","v":""},{"$f":"IF($B$2=StoreConfig!C78,StoreConfig!E78,\"\")","v":""},{"$f":"IF($B$2=StoreConfig!C78,RIGHT(StoreConfig!J78,LEN(StoreConfig!J78)-FIND(\"|\",StoreConfig!J78)),\"\")","v":""},{"$f":"IFERROR(VLOOKUP(--IF($B$2=StoreConfig!C78,LEFT(StoreConfig!J78,FIND(\"|\",StoreConfig!J78)-1),\"\"),$Q$4:$R$20,2,FALSE),\"\")","v":""},{"$f":"IF($B$2=StoreConfig!C78,LEFT(StoreConfig!G78,FIND(\"#\",StoreConfig!G78)-1),\"\")","v":""},{"$f":"IF($B$2=StoreConfig!C78,RIGHT(StoreConfig!G78,LEN(StoreConfig!G78)-FIND(\"#\",StoreConfig!G78)),\"\")","v":""},{"$f":"IF($B$2=StoreConfig!C78,IF(StoreConfig!L78=0,\"不限购\",StoreConfig!L78&\"次\"),\"\")","v":""}]
[{"$nulls":3},{"$f":"IF($B$2=StoreConfig!C79,StoreConfig!O79,\"\")","v":""},{"$f":"IF($B$2=StoreConfig!C79,StoreConfig!E79,\"\")","v":""},{"$f":"IF($B$2=StoreConfig!C79,RIGHT(StoreConfig!J79,LEN(StoreConfig!J79)-FIND(\"|\",StoreConfig!J79)),\"\")","v":""},{"$f":"IFERROR(VLOOKUP(--IF($B$2=StoreConfig!C79,LEFT(StoreConfig!J79,FIND(\"|\",StoreConfig!J79)-1),\"\"),$Q$4:$R$20,2,FALSE),\"\")","v":""},{"$f":"IF($B$2=StoreConfig!C79,LEFT(StoreConfig!G79,FIND(\"#\",StoreConfig!G79)-1),\"\")","v":""},{"$f":"IF($B$2=StoreConfig!C79,RIGHT(StoreConfig!G79,LEN(StoreConfig!G79)-FIND(\"#\",StoreConfig!G79)),\"\")","v":""},{"$f":"IF($B$2=StoreConfig!C79,IF(StoreConfig!L79=0,\"不限购\",StoreConfig!L79&\"次\"),\"\")","v":""}]
[{"$nulls":3},{"$f":"IF($B$2=StoreConfig!C80,StoreConfig!O80,\"\")","v":""},{"$f":"IF($B$2=StoreConfig!C80,StoreConfig!E80,\"\")","v":""},{"$f":"IF($B$2=StoreConfig!C80,RIGHT(StoreConfig!J80,LEN(StoreConfig!J80)-FIND(\"|\",StoreConfig!J80)),\"\")","v":""},{"$f":"IFERROR(VLOOKUP(--IF($B$2=StoreConfig!C80,LEFT(StoreConfig!J80,FIND(\"|\",StoreConfig!J80)-1),\"\"),$Q$4:$R$20,2,FALSE),\"\")","v":""},{"$f":"IF($B$2=StoreConfig!C80,LEFT(StoreConfig!G80,FIND(\"#\",StoreConfig!G80)-1),\"\")","v":""},{"$f":"IF($B$2=StoreConfig!C80,RIGHT(StoreConfig!G80,LEN(StoreConfig!G80)-FIND(\"#\",StoreConfig!G80)),\"\")","v":""},{"$f":"IF($B$2=StoreConfig!C80,IF(StoreConfig!L80=0,\"不限购\",StoreConfig!L80&\"次\"),\"\")","v":""}]
[{"$nulls":3},{"$f":"IF($B$2=StoreConfig!C81,StoreConfig!O81,\"\")","v":""},{"$f":"IF($B$2=StoreConfig!C81,StoreConfig!E81,\"\")","v":""},{"$f":"IF($B$2=StoreConfig!C81,RIGHT(StoreConfig!J81,LEN(StoreConfig!J81)-FIND(\"|\",StoreConfig!J81)),\"\")","v":""},{"$f":"IFERROR(VLOOKUP(--IF($B$2=StoreConfig!C81,LEFT(StoreConfig!J81,FIND(\"|\",StoreConfig!J81)-1),\"\"),$Q$4:$R$20,2,FALSE),\"\")","v":""},{"$f":"IF($B$2=StoreConfig!C81,LEFT(StoreConfig!G81,FIND(\"#\",StoreConfig!G81)-1),\"\")","v":""},{"$f":"IF($B$2=StoreConfig!C81,RIGHT(StoreConfig!G81,LEN(StoreConfig!G81)-FIND(\"#\",StoreConfig!G81)),\"\")","v":""},{"$f":"IF($B$2=StoreConfig!C81,IF(StoreConfig!L81=0,\"不限购\",StoreConfig!L81&\"次\"),\"\")","v":""}]
[{"$nulls":3},{"$f":"IF($B$2=StoreConfig!C82,StoreConfig!O82,\"\")","v":""},{"$f":"IF($B$2=StoreConfig!C82,StoreConfig!E82,\"\")","v":""},{"$f":"IF($B$2=StoreConfig!C82,RIGHT(StoreConfig!J82,LEN(StoreConfig!J82)-FIND(\"|\",StoreConfig!J82)),\"\")","v":""},{"$f":"IFERROR(VLOOKUP(--IF($B$2=StoreConfig!C82,LEFT(StoreConfig!J82,FIND(\"|\",StoreConfig!J82)-1),\"\"),$Q$4:$R$20,2,FALSE),\"\")","v":""},{"$f":"IF($B$2=StoreConfig!C82,LEFT(StoreConfig!G82,FIND(\"#\",StoreConfig!G82)-1),\"\")","v":""},{"$f":"IF($B$2=StoreConfig!C82,RIGHT(StoreConfig!G82,LEN(StoreConfig!G82)-FIND(\"#\",StoreConfig!G82)),\"\")","v":""},{"$f":"IF($B$2=StoreConfig!C82,IF(StoreConfig!L82=0,\"不限购\",StoreConfig!L82&\"次\"),\"\")","v":""}]
[{"$nulls":3},{"$f":"IF($B$2=StoreConfig!C83,StoreConfig!O83,\"\")","v":""},{"$f":"IF($B$2=StoreConfig!C83,StoreConfig!E83,\"\")","v":""},{"$f":"IF($B$2=StoreConfig!C83,RIGHT(StoreConfig!J83,LEN(StoreConfig!J83)-FIND(\"|\",StoreConfig!J83)),\"\")","v":""},{"$f":"IFERROR(VLOOKUP(--IF($B$2=StoreConfig!C83,LEFT(StoreConfig!J83,FIND(\"|\",StoreConfig!J83)-1),\"\"),$Q$4:$R$20,2,FALSE),\"\")","v":""},{"$f":"IF($B$2=StoreConfig!C83,LEFT(StoreConfig!G83,FIND(\"#\",StoreConfig!G83)-1),\"\")","v":""},{"$f":"IF($B$2=StoreConfig!C83,RIGHT(StoreConfig!G83,LEN(StoreConfig!G83)-FIND(\"#\",StoreConfig!G83)),\"\")","v":""},{"$f":"IF($B$2=StoreConfig!C83,IF(StoreConfig!L83=0,\"不限购\",StoreConfig!L83&\"次\"),\"\")","v":""}]
[{"$nulls":3},{"$f":"IF($B$2=StoreConfig!C84,StoreConfig!O84,\"\")","v":""},{"$f":"IF($B$2=StoreConfig!C84,StoreConfig!E84,\"\")","v":""},{"$f":"IF($B$2=StoreConfig!C84,RIGHT(StoreConfig!J84,LEN(StoreConfig!J84)-FIND(\"|\",StoreConfig!J84)),\"\")","v":""},{"$f":"IFERROR(VLOOKUP(--IF($B$2=StoreConfig!C84,LEFT(StoreConfig!J84,FIND(\"|\",StoreConfig!J84)-1),\"\"),$Q$4:$R$20,2,FALSE),\"\")","v":""},{"$f":"IF($B$2=StoreConfig!C84,LEFT(StoreConfig!G84,FIND(\"#\",StoreConfig!G84)-1),\"\")","v":""},{"$f":"IF($B$2=StoreConfig!C84,RIGHT(StoreConfig!G84,LEN(StoreConfig!G84)-FIND(\"#\",StoreConfig!G84)),\"\")","v":""},{"$f":"IF($B$2=StoreConfig!C84,IF(StoreConfig!L84=0,\"不限购\",StoreConfig!L84&\"次\"),\"\")","v":""}]
[{"$nulls":3},{"$f":"IF($B$2=StoreConfig!C85,StoreConfig!O85,\"\")","v":""},{"$f":"IF($B$2=StoreConfig!C85,StoreConfig!E85,\"\")","v":""},{"$f":"IF($B$2=StoreConfig!C85,RIGHT(StoreConfig!J85,LEN(StoreConfig!J85)-FIND(\"|\",StoreConfig!J85)),\"\")","v":""},{"$f":"IFERROR(VLOOKUP(--IF($B$2=StoreConfig!C85,LEFT(StoreConfig!J85,FIND(\"|\",StoreConfig!J85)-1),\"\"),$Q$4:$R$20,2,FALSE),\"\")","v":""},{"$f":"IF($B$2=StoreConfig!C85,LEFT(StoreConfig!G85,FIND(\"#\",StoreConfig!G85)-1),\"\")","v":""},{"$f":"IF($B$2=StoreConfig!C85,RIGHT(StoreConfig!G85,LEN(StoreConfig!G85)-FIND(\"#\",StoreConfig!G85)),\"\")","v":""},{"$f":"IF($B$2=StoreConfig!C85,IF(StoreConfig!L85=0,\"不限购\",StoreConfig!L85&\"次\"),\"\")","v":""}]
[{"$nulls":3},{"$f":"IF($B$2=StoreConfig!C86,StoreConfig!O86,\"\")","v":""},{"$f":"IF($B$2=StoreConfig!C86,StoreConfig!E86,\"\")","v":""},{"$f":"IF($B$2=StoreConfig!C86,RIGHT(StoreConfig!J86,LEN(StoreConfig!J86)-FIND(\"|\",StoreConfig!J86)),\"\")","v":""},{"$f":"IFERROR(VLOOKUP(--IF($B$2=StoreConfig!C86,LEFT(StoreConfig!J86,FIND(\"|\",StoreConfig!J86)-1),\"\"),$Q$4:$R$20,2,FALSE),\"\")","v":""},{"$f":"IF($B$2=StoreConfig!C86,LEFT(StoreConfig!G86,FIND(\"#\",StoreConfig!G86)-1),\"\")","v":""},{"$f":"IF($B$2=StoreConfig!C86,RIGHT(StoreConfig!G86,LEN(StoreConfig!G86)-FIND(\"#\",StoreConfig!G86)),\"\")","v":""},{"$f":"IF($B$2=StoreConfig!C86,IF(StoreConfig!L86=0,\"不限购\",StoreConfig!L86&\"次\"),\"\")","v":""}]
[{"$nulls":3},{"$f":"IF($B$2=StoreConfig!C87,StoreConfig!O87,\"\")","v":""},{"$f":"IF($B$2=StoreConfig!C87,StoreConfig!E87,\"\")","v":""},{"$f":"IF($B$2=StoreConfig!C87,RIGHT(StoreConfig!J87,LEN(StoreConfig!J87)-FIND(\"|\",StoreConfig!J87)),\"\")","v":""},{"$f":"IFERROR(VLOOKUP(--IF($B$2=StoreConfig!C87,LEFT(StoreConfig!J87,FIND(\"|\",StoreConfig!J87)-1),\"\"),$Q$4:$R$20,2,FALSE),\"\")","v":""},{"$f":"IF($B$2=StoreConfig!C87,LEFT(StoreConfig!G87,FIND(\"#\",StoreConfig!G87)-1),\"\")","v":""},{"$f":"IF($B$2=StoreConfig!C87,RIGHT(StoreConfig!G87,LEN(StoreConfig!G87)-FIND(\"#\",StoreConfig!G87)),\"\")","v":""},{"$f":"IF($B$2=StoreConfig!C87,IF(StoreConfig!L87=0,\"不限购\",StoreConfig!L87&\"次\"),\"\")","v":""}]
[{"$nulls":3},{"$f":"IF($B$2=StoreConfig!C88,StoreConfig!O88,\"\")","v":""},{"$f":"IF($B$2=StoreConfig!C88,StoreConfig!E88,\"\")","v":""},{"$f":"IF($B$2=StoreConfig!C88,RIGHT(StoreConfig!J88,LEN(StoreConfig!J88)-FIND(\"|\",StoreConfig!J88)),\"\")","v":""},{"$f":"IFERROR(VLOOKUP(--IF($B$2=StoreConfig!C88,LEFT(StoreConfig!J88,FIND(\"|\",StoreConfig!J88)-1),\"\"),$Q$4:$R$20,2,FALSE),\"\")","v":""},{"$f":"IF($B$2=StoreConfig!C88,LEFT(StoreConfig!G88,FIND(\"#\",StoreConfig!G88)-1),\"\")","v":""},{"$f":"IF($B$2=StoreConfig!C88,RIGHT(StoreConfig!G88,LEN(StoreConfig!G88)-FIND(\"#\",StoreConfig!G88)),\"\")","v":""},{"$f":"IF($B$2=StoreConfig!C88,IF(StoreConfig!L88=0,\"不限购\",StoreConfig!L88&\"次\"),\"\")","v":""}]
[{"$nulls":3},{"$f":"IF($B$2=StoreConfig!C89,StoreConfig!O89,\"\")","v":""},{"$f":"IF($B$2=StoreConfig!C89,StoreConfig!E89,\"\")","v":""},{"$f":"IF($B$2=StoreConfig!C89,RIGHT(StoreConfig!J89,LEN(StoreConfig!J89)-FIND(\"|\",StoreConfig!J89)),\"\")","v":""},{"$f":"IFERROR(VLOOKUP(--IF($B$2=StoreConfig!C89,LEFT(StoreConfig!J89,FIND(\"|\",StoreConfig!J89)-1),\"\"),$Q$4:$R$20,2,FALSE),\"\")","v":""},{"$f":"IF($B$2=StoreConfig!C89,LEFT(StoreConfig!G89,FIND(\"#\",StoreConfig!G89)-1),\"\")","v":""},{"$f":"IF($B$2=StoreConfig!C89,RIGHT(StoreConfig!G89,LEN(StoreConfig!G89)-FIND(\"#\",StoreConfig!G89)),\"\")","v":""},{"$f":"IF($B$2=StoreConfig!C89,IF(StoreConfig!L89=0,\"不限购\",StoreConfig!L89&\"次\"),\"\")","v":""}]
[{"$nulls":3},{"$f":"IF($B$2=StoreConfig!C90,StoreConfig!O90,\"\")","v":""},{"$f":"IF($B$2=StoreConfig!C90,StoreConfig!E90,\"\")","v":""},{"$f":"IF($B$2=StoreConfig!C90,RIGHT(StoreConfig!J90,LEN(StoreConfig!J90)-FIND(\"|\",StoreConfig!J90)),\"\")","v":""},{"$f":"IFERROR(VLOOKUP(--IF($B$2=StoreConfig!C90,LEFT(StoreConfig!J90,FIND(\"|\",StoreConfig!J90)-1),\"\"),$Q$4:$R$20,2,FALSE),\"\")","v":""},{"$f":"IF($B$2=StoreConfig!C90,LEFT(StoreConfig!G90,FIND(\"#\",StoreConfig!G90)-1),\"\")","v":""},{"$f":"IF($B$2=StoreConfig!C90,RIGHT(StoreConfig!G90,LEN(StoreConfig!G90)-FIND(\"#\",StoreConfig!G90)),\"\")","v":""},{"$f":"IF($B$2=StoreConfig!C90,IF(StoreConfig!L90=0,\"不限购\",StoreConfig!L90&\"次\"),\"\")","v":""}]
[{"$nulls":3},{"$f":"IF($B$2=StoreConfig!C91,StoreConfig!O91,\"\")","v":""},{"$f":"IF($B$2=StoreConfig!C91,StoreConfig!E91,\"\")","v":""},{"$f":"IF($B$2=StoreConfig!C91,RIGHT(StoreConfig!J91,LEN(StoreConfig!J91)-FIND(\"|\",StoreConfig!J91)),\"\")","v":""},{"$f":"IFERROR(VLOOKUP(--IF($B$2=StoreConfig!C91,LEFT(StoreConfig!J91,FIND(\"|\",StoreConfig!J91)-1),\"\"),$Q$4:$R$20,2,FALSE),\"\")","v":""},{"$f":"IF($B$2=StoreConfig!C91,LEFT(StoreConfig!G91,FIND(\"#\",StoreConfig!G91)-1),\"\")","v":""},{"$f":"IF($B$2=StoreConfig!C91,RIGHT(StoreConfig!G91,LEN(StoreConfig!G91)-FIND(\"#\",StoreConfig!G91)),\"\")","v":""},{"$f":"IF($B$2=StoreConfig!C91,IF(StoreConfig!L91=0,\"不限购\",StoreConfig!L91&\"次\"),\"\")","v":""}]
[{"$nulls":3},{"$f":"IF($B$2=StoreConfig!C92,StoreConfig!O92,\"\")","v":""},{"$f":"IF($B$2=StoreConfig!C92,StoreConfig!E92,\"\")","v":""},{"$f":"IF($B$2=StoreConfig!C92,RIGHT(StoreConfig!J92,LEN(StoreConfig!J92)-FIND(\"|\",StoreConfig!J92)),\"\")","v":""},{"$f":"IFERROR(VLOOKUP(--IF($B$2=StoreConfig!C92,LEFT(StoreConfig!J92,FIND(\"|\",StoreConfig!J92)-1),\"\"),$Q$4:$R$20,2,FALSE),\"\")","v":""},{"$f":"IF($B$2=StoreConfig!C92,LEFT(StoreConfig!G92,FIND(\"#\",StoreConfig!G92)-1),\"\")","v":""},{"$f":"IF($B$2=StoreConfig!C92,RIGHT(StoreConfig!G92,LEN(StoreConfig!G92)-FIND(\"#\",StoreConfig!G92)),\"\")","v":""},{"$f":"IF($B$2=StoreConfig!C92,IF(StoreConfig!L92=0,\"不限购\",StoreConfig!L92&\"次\"),\"\")","v":""}]
[{"$nulls":3},{"$f":"IF($B$2=StoreConfig!C93,StoreConfig!O93,\"\")","v":""},{"$f":"IF($B$2=StoreConfig!C93,StoreConfig!E93,\"\")","v":""},{"$f":"IF($B$2=StoreConfig!C93,RIGHT(StoreConfig!J93,LEN(StoreConfig!J93)-FIND(\"|\",StoreConfig!J93)),\"\")","v":""},{"$f":"IFERROR(VLOOKUP(--IF($B$2=StoreConfig!C93,LEFT(StoreConfig!J93,FIND(\"|\",StoreConfig!J93)-1),\"\"),$Q$4:$R$20,2,FALSE),\"\")","v":""},{"$f":"IF($B$2=StoreConfig!C93,LEFT(StoreConfig!G93,FIND(\"#\",StoreConfig!G93)-1),\"\")","v":""},{"$f":"IF($B$2=StoreConfig!C93,RIGHT(StoreConfig!G93,LEN(StoreConfig!G93)-FIND(\"#\",StoreConfig!G93)),\"\")","v":""},{"$f":"IF($B$2=StoreConfig!C93,IF(StoreConfig!L93=0,\"不限购\",StoreConfig!L93&\"次\"),\"\")","v":""}]
[{"$nulls":3},{"$f":"IF($B$2=StoreConfig!C94,StoreConfig!O94,\"\")","v":""},{"$f":"IF($B$2=StoreConfig!C94,StoreConfig!E94,\"\")","v":""},{"$f":"IF($B$2=StoreConfig!C94,RIGHT(StoreConfig!J94,LEN(StoreConfig!J94)-FIND(\"|\",StoreConfig!J94)),\"\")","v":""},{"$f":"IFERROR(VLOOKUP(--IF($B$2=StoreConfig!C94,LEFT(StoreConfig!J94,FIND(\"|\",StoreConfig!J94)-1),\"\"),$Q$4:$R$20,2,FALSE),\"\")","v":""},{"$f":"IF($B$2=StoreConfig!C94,LEFT(StoreConfig!G94,FIND(\"#\",StoreConfig!G94)-1),\"\")","v":""},{"$f":"IF($B$2=StoreConfig!C94,RIGHT(StoreConfig!G94,LEN(StoreConfig!G94)-FIND(\"#\",StoreConfig!G94)),\"\")","v":""},{"$f":"IF($B$2=StoreConfig!C94,IF(StoreConfig!L94=0,\"不限购\",StoreConfig!L94&\"次\"),\"\")","v":""}]
[{"$nulls":3},{"$f":"IF($B$2=StoreConfig!C95,StoreConfig!O95,\"\")","v":""},{"$f":"IF($B$2=StoreConfig!C95,StoreConfig!E95,\"\")","v":""},{"$f":"IF($B$2=StoreConfig!C95,RIGHT(StoreConfig!J95,LEN(StoreConfig!J95)-FIND(\"|\",StoreConfig!J95)),\"\")","v":""},{"$f":"IFERROR(VLOOKUP(--IF($B$2=StoreConfig!C95,LEFT(StoreConfig!J95,FIND(\"|\",StoreConfig!J95)-1),\"\"),$Q$4:$R$20,2,FALSE),\"\")","v":""},{"$f":"IF($B$2=StoreConfig!C95,LEFT(StoreConfig!G95,FIND(\"#\",StoreConfig!G95)-1),\"\")","v":""},{"$f":"IF($B$2=StoreConfig!C95,RIGHT(StoreConfig!G95,LEN(StoreConfig!G95)-FIND(\"#\",StoreConfig!G95)),\"\")","v":""},{"$f":"IF($B$2=StoreConfig!C95,IF(StoreConfig!L95=0,\"不限购\",StoreConfig!L95&\"次\"),\"\")","v":""}]
[{"$nulls":3},{"$f":"IF($B$2=StoreConfig!C96,StoreConfig!O96,\"\")","v":""},{"$f":"IF($B$2=StoreConfig!C96,StoreConfig!E96,\"\")","v":""},{"$f":"IF($B$2=StoreConfig!C96,RIGHT(StoreConfig!J96,LEN(StoreConfig!J96)-FIND(\"|\",StoreConfig!J96)),\"\")","v":""},{"$f":"IFERROR(VLOOKUP(--IF($B$2=StoreConfig!C96,LEFT(StoreConfig!J96,FIND(\"|\",StoreConfig!J96)-1),\"\"),$Q$4:$R$20,2,FALSE),\"\")","v":""},{"$f":"IF($B$2=StoreConfig!C96,LEFT(StoreConfig!G96,FIND(\"#\",StoreConfig!G96)-1),\"\")","v":""},{"$f":"IF($B$2=StoreConfig!C96,RIGHT(StoreConfig!G96,LEN(StoreConfig!G96)-FIND(\"#\",StoreConfig!G96)),\"\")","v":""},{"$f":"IF($B$2=StoreConfig!C96,IF(StoreConfig!L96=0,\"不限购\",StoreConfig!L96&\"次\"),\"\")","v":""}]
[{"$nulls":3},{"$f":"IF($B$2=StoreConfig!C97,StoreConfig!O97,\"\")","v":""},{"$f":"IF($B$2=StoreConfig!C97,StoreConfig!E97,\"\")","v":""},{"$f":"IF($B$2=StoreConfig!C97,RIGHT(StoreConfig!J97,LEN(StoreConfig!J97)-FIND(\"|\",StoreConfig!J97)),\"\")","v":""},{"$f":"IFERROR(VLOOKUP(--IF($B$2=StoreConfig!C97,LEFT(StoreConfig!J97,FIND(\"|\",StoreConfig!J97)-1),\"\"),$Q$4:$R$20,2,FALSE),\"\")","v":""},{"$f":"IF($B$2=StoreConfig!C97,LEFT(StoreConfig!G97,FIND(\"#\",StoreConfig!G97)-1),\"\")","v":""},{"$f":"IF($B$2=StoreConfig!C97,RIGHT(StoreConfig!G97,LEN(StoreConfig!G97)-FIND(\"#\",StoreConfig!G97)),\"\")","v":""},{"$f":"IF($B$2=StoreConfig!C97,IF(StoreConfig!L97=0,\"不限购\",StoreConfig!L97&\"次\"),\"\")","v":""}]
[{"$nulls":3},{"$f":"IF($B$2=StoreConfig!C98,StoreConfig!O98,\"\")","v":""},{"$f":"IF($B$2=StoreConfig!C98,StoreConfig!E98,\"\")","v":""},{"$f":"IF($B$2=StoreConfig!C98,RIGHT(StoreConfig!J98,LEN(StoreConfig!J98)-FIND(\"|\",StoreConfig!J98)),\"\")","v":""},{"$f":"IFERROR(VLOOKUP(--IF($B$2=StoreConfig!C98,LEFT(StoreConfig!J98,FIND(\"|\",StoreConfig!J98)-1),\"\"),$Q$4:$R$20,2,FALSE),\"\")","v":""},{"$f":"IF($B$2=StoreConfig!C98,LEFT(StoreConfig!G98,FIND(\"#\",StoreConfig!G98)-1),\"\")","v":""},{"$f":"IF($B$2=StoreConfig!C98,RIGHT(StoreConfig!G98,LEN(StoreConfig!G98)-FIND(\"#\",StoreConfig!G98)),\"\")","v":""},{"$f":"IF($B$2=StoreConfig!C98,IF(StoreConfig!L98=0,\"不限购\",StoreConfig!L98&\"次\"),\"\")","v":""}]
[{"$nulls":3},{"$f":"IF($B$2=StoreConfig!C99,StoreConfig!O99,\"\")","v":""},{"$f":"IF($B$2=StoreConfig!C99,StoreConfig!E99,\"\")","v":""},{"$f":"IF($B$2=StoreConfig!C99,RIGHT(StoreConfig!J99,LEN(StoreConfig!J99)-FIND(\"|\",StoreConfig!J99)),\"\")","v":""},{"$f":"IFERROR(VLOOKUP(--IF($B$2=StoreConfig!C99,LEFT(StoreConfig!J99,FIND(\"|\",StoreConfig!J99)-1),\"\"),$Q$4:$R$20,2,FALSE),\"\")","v":""},{"$f":"IF($B$2=StoreConfig!C99,LEFT(StoreConfig!G99,FIND(\"#\",StoreConfig!G99)-1),\"\")","v":""},{"$f":"IF($B$2=StoreConfig!C99,RIGHT(StoreConfig!G99,LEN(StoreConfig!G99)-FIND(\"#\",StoreConfig!G99)),\"\")","v":""},{"$f":"IF($B$2=StoreConfig!C99,IF(StoreConfig!L99=0,\"不限购\",StoreConfig!L99&\"次\"),\"\")","v":""}]
[{"$nulls":3},{"$f":"IF($B$2=StoreConfig!C100,StoreConfig!O100,\"\")","v":""},{"$f":"IF($B$2=StoreConfig!C100,StoreConfig!E100,\"\")","v":""},{"$f":"IF($B$2=StoreConfig!C100,RIGHT(StoreConfig!J100,LEN(StoreConfig!J100)-FIND(\"|\",StoreConfig!J100)),\"\")","v":""},{"$f":"IFERROR(VLOOKUP(--IF($B$2=StoreConfig!C100,LEFT(StoreConfig!J100,FIND(\"|\",StoreConfig!J100)-1),\"\"),$Q$4:$R$20,2,FALSE),\"\")","v":""},{"$f":"IF($B$2=StoreConfig!C100,LEFT(StoreConfig!G100,FIND(\"#\",StoreConfig!G100)-1),\"\")","v":""},{"$f":"IF($B$2=StoreConfig!C100,RIGHT(StoreConfig!G100,LEN(StoreConfig!G100)-FIND(\"#\",StoreConfig!G100)),\"\")","v":""},{"$f":"IF($B$2=StoreConfig!C100,IF(StoreConfig!L100=0,\"不限购\",StoreConfig!L100&\"次\"),\"\")","v":""}]
[{"$nulls":3},{"$f":"IF($B$2=StoreConfig!C101,StoreConfig!O101,\"\")","v":""},{"$f":"IF($B$2=StoreConfig!C101,StoreConfig!E101,\"\")","v":""},{"$f":"IF($B$2=StoreConfig!C101,RIGHT(StoreConfig!J101,LEN(StoreConfig!J101)-FIND(\"|\",StoreConfig!J101)),\"\")","v":""},{"$f":"IFERROR(VLOOKUP(--IF($B$2=StoreConfig!C101,LEFT(StoreConfig!J101,FIND(\"|\",StoreConfig!J101)-1),\"\"),$Q$4:$R$20,2,FALSE),\"\")","v":""},{"$f":"IF($B$2=StoreConfig!C101,LEFT(StoreConfig!G101,FIND(\"#\",StoreConfig!G101)-1),\"\")","v":""},{"$f":"IF($B$2=StoreConfig!C101,RIGHT(StoreConfig!G101,LEN(StoreConfig!G101)-FIND(\"#\",StoreConfig!G101)),\"\")","v":""},{"$f":"IF($B$2=StoreConfig!C101,IF(StoreConfig!L101=0,\"不限购\",StoreConfig!L101&\"次\"),\"\")","v":""}]
[{"$nulls":3},{"$f":"IF($B$2=StoreConfig!C102,StoreConfig!O102,\"\")","v":""},{"$f":"IF($B$2=StoreConfig!C102,StoreConfig!E102,\"\")","v":""},{"$f":"IF($B$2=StoreConfig!C102,RIGHT(StoreConfig!J102,LEN(StoreConfig!J102)-FIND(\"|\",StoreConfig!J102)),\"\")","v":""},{"$f":"IFERROR(VLOOKUP(--IF($B$2=StoreConfig!C102,LEFT(StoreConfig!J102,FIND(\"|\",StoreConfig!J102)-1),\"\"),$Q$4:$R$20,2,FALSE),\"\")","v":""},{"$f":"IF($B$2=StoreConfig!C102,LEFT(StoreConfig!G102,FIND(\"#\",StoreConfig!G102)-1),\"\")","v":""},{"$f":"IF($B$2=StoreConfig!C102,RIGHT(StoreConfig!G102,LEN(StoreConfig!G102)-FIND(\"#\",StoreConfig!G102)),\"\")","v":""},{"$f":"IF($B$2=StoreConfig!C102,IF(StoreConfig!L102=0,\"不限购\",StoreConfig!L102&\"次\"),\"\")","v":""}]
[{"$nulls":3},{"$f":"IF($B$2=StoreConfig!C103,StoreConfig!O103,\"\")","v":""},{"$f":"IF($B$2=StoreConfig!C103,StoreConfig!E103,\"\")","v":""},{"$f":"IF($B$2=StoreConfig!C103,RIGHT(StoreConfig!J103,LEN(StoreConfig!J103)-FIND(\"|\",StoreConfig!J103)),\"\")","v":""},{"$f":"IFERROR(VLOOKUP(--IF($B$2=StoreConfig!C103,LEFT(StoreConfig!J103,FIND(\"|\",StoreConfig!J103)-1),\"\"),$Q$4:$R$20,2,FALSE),\"\")","v":""},{"$f":"IF($B$2=StoreConfig!C103,LEFT(StoreConfig!G103,FIND(\"#\",StoreConfig!G103)-1),\"\")","v":""},{"$f":"IF($B$2=StoreConfig!C103,RIGHT(StoreConfig!G103,LEN(StoreConfig!G103)-FIND(\"#\",StoreConfig!G103)),\"\")","v":""},{"$f":"IF($B$2=StoreConfig!C103,IF(StoreConfig!L103=0,\"不限购\",StoreConfig!L103&\"次\"),\"\")","v":""}]
[{"$nulls":3},{"$f":"IF($B$2=StoreConfig!C104,StoreConfig!O104,\"\")","v":""},{"$f":"IF($B$2=StoreConfig!C104,StoreConfig!E104,\"\")","v":""},{"$f":"IF($B$2=StoreConfig!C104,RIGHT(StoreConfig!J104,LEN(StoreConfig!J104)-FIND(\"|\",StoreConfig!J104)),\"\")","v":""},{"$f":"IFERROR(VLOOKUP(--IF($B$2=StoreConfig!C104,LEFT(StoreConfig!J104,FIND(\"|\",StoreConfig!J104)-1),\"\"),$Q$4:$R$20,2,FALSE),\"\")","v":""},{"$f":"IF($B$2=StoreConfig!C104,LEFT(StoreConfig!G104,FIND(\"#\",StoreConfig!G104)-1),\"\")","v":""},{"$f":"IF($B$2=StoreConfig!C104,RIGHT(StoreConfig!G104,LEN(StoreConfig!G104)-FIND(\"#\",StoreConfig!G104)),\"\")","v":""},{"$f":"IF($B$2=StoreConfig!C104,IF(StoreConfig!L104=0,\"不限购\",StoreConfig!L104&\"次\"),\"\")","v":""}]
[{"$nulls":3},{"$f":"IF($B$2=StoreConfig!C105,StoreConfig!O105,\"\")","v":""},{"$f":"IF($B$2=StoreConfig!C105,StoreConfig!E105,\"\")","v":""},{"$f":"IF($B$2=StoreConfig!C105,RIGHT(StoreConfig!J105,LEN(StoreConfig!J105)-FIND(\"|\",StoreConfig!J105)),\"\")","v":""},{"$f":"IFERROR(VLOOKUP(--IF($B$2=StoreConfig!C105,LEFT(StoreConfig!J105,FIND(\"|\",StoreConfig!J105)-1),\"\"),$Q$4:$R$20,2,FALSE),\"\")","v":""},{"$f":"IF($B$2=StoreConfig!C105,LEFT(StoreConfig!G105,FIND(\"#\",StoreConfig!G105)-1),\"\")","v":""},{"$f":"IF($B$2=StoreConfig!C105,RIGHT(StoreConfig!G105,LEN(StoreConfig!G105)-FIND(\"#\",StoreConfig!G105)),\"\")","v":""},{"$f":"IF($B$2=StoreConfig!C105,IF(StoreConfig!L105=0,\"不限购\",StoreConfig!L105&\"次\"),\"\")","v":""}]
[{"$nulls":3},{"$f":"IF($B$2=StoreConfig!C106,StoreConfig!O106,\"\")","v":""},{"$f":"IF($B$2=StoreConfig!C106,StoreConfig!E106,\"\")","v":""},{"$f":"IF($B$2=StoreConfig!C106,RIGHT(StoreConfig!J106,LEN(StoreConfig!J106)-FIND(\"|\",StoreConfig!J106)),\"\")","v":""},{"$f":"IFERROR(VLOOKUP(--IF($B$2=StoreConfig!C106,LEFT(StoreConfig!J106,FIND(\"|\",StoreConfig!J106)-1),\"\"),$Q$4:$R$20,2,FALSE),\"\")","v":""},{"$f":"IF($B$2=StoreConfig!C106,LEFT(StoreConfig!G106,FIND(\"#\",StoreConfig!G106)-1),\"\")","v":""},{"$f":"IF($B$2=StoreConfig!C106,RIGHT(StoreConfig!G106,LEN(StoreConfig!G106)-FIND(\"#\",StoreConfig!G106)),\"\")","v":""},{"$f":"IF($B$2=StoreConfig!C106,IF(StoreConfig!L106=0,\"不限购\",StoreConfig!L106&\"次\"),\"\")","v":""}]
[{"$nulls":3},{"$f":"IF($B$2=StoreConfig!C107,StoreConfig!O107,\"\")","v":""},{"$f":"IF($B$2=StoreConfig!C107,StoreConfig!E107,\"\")","v":""},{"$f":"IF($B$2=StoreConfig!C107,RIGHT(StoreConfig!J107,LEN(StoreConfig!J107)-FIND(\"|\",StoreConfig!J107)),\"\")","v":""},{"$f":"IFERROR(VLOOKUP(--IF($B$2=StoreConfig!C107,LEFT(StoreConfig!J107,FIND(\"|\",StoreConfig!J107)-1),\"\"),$Q$4:$R$20,2,FALSE),\"\")","v":""},{"$f":"IF($B$2=StoreConfig!C107,LEFT(StoreConfig!G107,FIND(\"#\",StoreConfig!G107)-1),\"\")","v":""},{"$f":"IF($B$2=StoreConfig!C107,RIGHT(StoreConfig!G107,LEN(StoreConfig!G107)-FIND(\"#\",StoreConfig!G107)),\"\")","v":""},{"$f":"IF($B$2=StoreConfig!C107,IF(StoreConfig!L107=0,\"不限购\",StoreConfig!L107&\"次\"),\"\")","v":""}]
[{"$nulls":3},{"$f":"IF($B$2=StoreConfig!C108,StoreConfig!O108,\"\")","v":""},{"$f":"IF($B$2=StoreConfig!C108,StoreConfig!E108,\"\")","v":""},{"$f":"IF($B$2=StoreConfig!C108,RIGHT(StoreConfig!J108,LEN(StoreConfig!J108)-FIND(\"|\",StoreConfig!J108)),\"\")","v":""},{"$f":"IFERROR(VLOOKUP(--IF($B$2=StoreConfig!C108,LEFT(StoreConfig!J108,FIND(\"|\",StoreConfig!J108)-1),\"\"),$Q$4:$R$20,2,FALSE),\"\")","v":""},{"$f":"IF($B$2=StoreConfig!C108,LEFT(StoreConfig!G108,FIND(\"#\",StoreConfig!G108)-1),\"\")","v":""},{"$f":"IF($B$2=StoreConfig!C108,RIGHT(StoreConfig!G108,LEN(StoreConfig!G108)-FIND(\"#\",StoreConfig!G108)),\"\")","v":""},{"$f":"IF($B$2=StoreConfig!C108,IF(StoreConfig!L108=0,\"不限购\",StoreConfig!L108&\"次\"),\"\")","v":""}]
[{"$nulls":3},{"$f":"IF($B$2=StoreConfig!C109,StoreConfig!O109,\"\")","v":""},{"$f":"IF($B$2=StoreConfig!C109,StoreConfig!E109,\"\")","v":""},{"$f":"IF($B$2=StoreConfig!C109,RIGHT(StoreConfig!J109,LEN(StoreConfig!J109)-FIND(\"|\",StoreConfig!J109)),\"\")","v":""},{"$f":"IFERROR(VLOOKUP(--IF($B$2=StoreConfig!C109,LEFT(StoreConfig!J109,FIND(\"|\",StoreConfig!J109)-1),\"\"),$Q$4:$R$20,2,FALSE),\"\")","v":""},{"$f":"IF($B$2=StoreConfig!C109,LEFT(StoreConfig!G109,FIND(\"#\",StoreConfig!G109)-1),\"\")","v":""},{"$f":"IF($B$2=StoreConfig!C109,RIGHT(StoreConfig!G109,LEN(StoreConfig!G109)-FIND(\"#\",StoreConfig!G109)),\"\")","v":""},{"$f":"IF($B$2=StoreConfig!C109,IF(StoreConfig!L109=0,\"不限购\",StoreConfig!L109&\"次\"),\"\")","v":""}]
[{"$nulls":3},{"$f":"IF($B$2=StoreConfig!C110,StoreConfig!O110,\"\")","v":""},{"$f":"IF($B$2=StoreConfig!C110,StoreConfig!E110,\"\")","v":""},{"$f":"IF($B$2=StoreConfig!C110,RIGHT(StoreConfig!J110,LEN(StoreConfig!J110)-FIND(\"|\",StoreConfig!J110)),\"\")","v":""},{"$f":"IFERROR(VLOOKUP(--IF($B$2=StoreConfig!C110,LEFT(StoreConfig!J110,FIND(\"|\",StoreConfig!J110)-1),\"\"),$Q$4:$R$20,2,FALSE),\"\")","v":""},{"$f":"IF($B$2=StoreConfig!C110,LEFT(StoreConfig!G110,FIND(\"#\",StoreConfig!G110)-1),\"\")","v":""},{"$f":"IF($B$2=StoreConfig!C110,RIGHT(StoreConfig!G110,LEN(StoreConfig!G110)-FIND(\"#\",StoreConfig!G110)),\"\")","v":""},{"$f":"IF($B$2=StoreConfig!C110,IF(StoreConfig!L110=0,\"不限购\",StoreConfig!L110&\"次\"),\"\")","v":""}]
[{"$nulls":3},{"$f":"IF($B$2=StoreConfig!C111,StoreConfig!O111,\"\")","v":""},{"$f":"IF($B$2=StoreConfig!C111,StoreConfig!E111,\"\")","v":""},{"$f":"IF($B$2=StoreConfig!C111,RIGHT(StoreConfig!J111,LEN(StoreConfig!J111)-FIND(\"|\",StoreConfig!J111)),\"\")","v":""},{"$f":"IFERROR(VLOOKUP(--IF($B$2=StoreConfig!C111,LEFT(StoreConfig!J111,FIND(\"|\",StoreConfig!J111)-1),\"\"),$Q$4:$R$20,2,FALSE),\"\")","v":""},{"$f":"IF($B$2=StoreConfig!C111,LEFT(StoreConfig!G111,FIND(\"#\",StoreConfig!G111)-1),\"\")","v":""},{"$f":"IF($B$2=StoreConfig!C111,RIGHT(StoreConfig!G111,LEN(StoreConfig!G111)-FIND(\"#\",StoreConfig!G111)),\"\")","v":""},{"$f":"IF($B$2=StoreConfig!C111,IF(StoreConfig!L111=0,\"不限购\",StoreConfig!L111&\"次\"),\"\")","v":""}]
[{"$nulls":3},{"$f":"IF($B$2=StoreConfig!C112,StoreConfig!O112,\"\")","v":""},{"$f":"IF($B$2=StoreConfig!C112,StoreConfig!E112,\"\")","v":""},{"$f":"IF($B$2=StoreConfig!C112,RIGHT(StoreConfig!J112,LEN(StoreConfig!J112)-FIND(\"|\",StoreConfig!J112)),\"\")","v":""},{"$f":"IFERROR(VLOOKUP(--IF($B$2=StoreConfig!C112,LEFT(StoreConfig!J112,FIND(\"|\",StoreConfig!J112)-1),\"\"),$Q$4:$R$20,2,FALSE),\"\")","v":""},{"$f":"IF($B$2=StoreConfig!C112,LEFT(StoreConfig!G112,FIND(\"#\",StoreConfig!G112)-1),\"\")","v":""},{"$f":"IF($B$2=StoreConfig!C112,RIGHT(StoreConfig!G112,LEN(StoreConfig!G112)-FIND(\"#\",StoreConfig!G112)),\"\")","v":""},{"$f":"IF($B$2=StoreConfig!C112,IF(StoreConfig!L112=0,\"不限购\",StoreConfig!L112&\"次\"),\"\")","v":""}]
[{"$nulls":3},{"$f":"IF($B$2=StoreConfig!C113,StoreConfig!O113,\"\")","v":""},{"$f":"IF($B$2=StoreConfig!C113,StoreConfig!E113,\"\")","v":""},{"$f":"IF($B$2=StoreConfig!C113,RIGHT(StoreConfig!J113,LEN(StoreConfig!J113)-FIND(\"|\",StoreConfig!J113)),\"\")","v":""},{"$f":"IFERROR(VLOOKUP(--IF($B$2=StoreConfig!C113,LEFT(StoreConfig!J113,FIND(\"|\",StoreConfig!J113)-1),\"\"),$Q$4:$R$20,2,FALSE),\"\")","v":""},{"$f":"IF($B$2=StoreConfig!C113,LEFT(StoreConfig!G113,FIND(\"#\",StoreConfig!G113)-1),\"\")","v":""},{"$f":"IF($B$2=StoreConfig!C113,RIGHT(StoreConfig!G113,LEN(StoreConfig!G113)-FIND(\"#\",StoreConfig!G113)),\"\")","v":""},{"$f":"IF($B$2=StoreConfig!C113,IF(StoreConfig!L113=0,\"不限购\",StoreConfig!L113&\"次\"),\"\")","v":""}]
[{"$nulls":3},{"$f":"IF($B$2=StoreConfig!C114,StoreConfig!O114,\"\")","v":""},{"$f":"IF($B$2=StoreConfig!C114,StoreConfig!E114,\"\")","v":""},{"$f":"IF($B$2=StoreConfig!C114,RIGHT(StoreConfig!J114,LEN(StoreConfig!J114)-FIND(\"|\",StoreConfig!J114)),\"\")","v":""},{"$f":"IFERROR(VLOOKUP(--IF($B$2=StoreConfig!C114,LEFT(StoreConfig!J114,FIND(\"|\",StoreConfig!J114)-1),\"\"),$Q$4:$R$20,2,FALSE),\"\")","v":""},{"$f":"IF($B$2=StoreConfig!C114,LEFT(StoreConfig!G114,FIND(\"#\",StoreConfig!G114)-1),\"\")","v":""},{"$f":"IF($B$2=StoreConfig!C114,RIGHT(StoreConfig!G114,LEN(StoreConfig!G114)-FIND(\"#\",StoreConfig!G114)),\"\")","v":""},{"$f":"IF($B$2=StoreConfig!C114,IF(StoreConfig!L114=0,\"不限购\",StoreConfig!L114&\"次\"),\"\")","v":""}]
[{"$nulls":3},{"$f":"IF($B$2=StoreConfig!C115,StoreConfig!O115,\"\")","v":""},{"$f":"IF($B$2=StoreConfig!C115,StoreConfig!E115,\"\")","v":""},{"$f":"IF($B$2=StoreConfig!C115,RIGHT(StoreConfig!J115,LEN(StoreConfig!J115)-FIND(\"|\",StoreConfig!J115)),\"\")","v":""},{"$f":"IFERROR(VLOOKUP(--IF($B$2=StoreConfig!C115,LEFT(StoreConfig!J115,FIND(\"|\",StoreConfig!J115)-1),\"\"),$Q$4:$R$20,2,FALSE),\"\")","v":""},{"$f":"IF($B$2=StoreConfig!C115,LEFT(StoreConfig!G115,FIND(\"#\",StoreConfig!G115)-1),\"\")","v":""},{"$f":"IF($B$2=StoreConfig!C115,RIGHT(StoreConfig!G115,LEN(StoreConfig!G115)-FIND(\"#\",StoreConfig!G115)),\"\")","v":""},{"$f":"IF($B$2=StoreConfig!C115,IF(StoreConfig!L115=0,\"不限购\",StoreConfig!L115&\"次\"),\"\")","v":""}]
[{"$nulls":3},{"$f":"IF($B$2=StoreConfig!C116,StoreConfig!O116,\"\")","v":""},{"$f":"IF($B$2=StoreConfig!C116,StoreConfig!E116,\"\")","v":""},{"$f":"IF($B$2=StoreConfig!C116,RIGHT(StoreConfig!J116,LEN(StoreConfig!J116)-FIND(\"|\",StoreConfig!J116)),\"\")","v":""},{"$f":"IFERROR(VLOOKUP(--IF($B$2=StoreConfig!C116,LEFT(StoreConfig!J116,FIND(\"|\",StoreConfig!J116)-1),\"\"),$Q$4:$R$20,2,FALSE),\"\")","v":""},{"$f":"IF($B$2=StoreConfig!C116,LEFT(StoreConfig!G116,FIND(\"#\",StoreConfig!G116)-1),\"\")","v":""},{"$f":"IF($B$2=StoreConfig!C116,RIGHT(StoreConfig!G116,LEN(StoreConfig!G116)-FIND(\"#\",StoreConfig!G116)),\"\")","v":""},{"$f":"IF($B$2=StoreConfig!C116,IF(StoreConfig!L116=0,\"不限购\",StoreConfig!L116&\"次\"),\"\")","v":""}]
[{"$nulls":3},{"$f":"IF($B$2=StoreConfig!C117,StoreConfig!O117,\"\")","v":""},{"$f":"IF($B$2=StoreConfig!C117,StoreConfig!E117,\"\")","v":""},{"$f":"IF($B$2=StoreConfig!C117,RIGHT(StoreConfig!J117,LEN(StoreConfig!J117)-FIND(\"|\",StoreConfig!J117)),\"\")","v":""},{"$f":"IFERROR(VLOOKUP(--IF($B$2=StoreConfig!C117,LEFT(StoreConfig!J117,FIND(\"|\",StoreConfig!J117)-1),\"\"),$Q$4:$R$20,2,FALSE),\"\")","v":""},{"$f":"IF($B$2=StoreConfig!C117,LEFT(StoreConfig!G117,FIND(\"#\",StoreConfig!G117)-1),\"\")","v":""},{"$f":"IF($B$2=StoreConfig!C117,RIGHT(StoreConfig!G117,LEN(StoreConfig!G117)-FIND(\"#\",StoreConfig!G117)),\"\")","v":""},{"$f":"IF($B$2=StoreConfig!C117,IF(StoreConfig!L117=0,\"不限购\",StoreConfig!L117&\"次\"),\"\")","v":""}]
[{"$nulls":3},{"$f":"IF($B$2=StoreConfig!C118,StoreConfig!O118,\"\")","v":""},{"$f":"IF($B$2=StoreConfig!C118,StoreConfig!E118,\"\")","v":""},{"$f":"IF($B$2=StoreConfig!C118,RIGHT(StoreConfig!J118,LEN(StoreConfig!J118)-FIND(\"|\",StoreConfig!J118)),\"\")","v":""},{"$f":"IFERROR(VLOOKUP(--IF($B$2=StoreConfig!C118,LEFT(StoreConfig!J118,FIND(\"|\",StoreConfig!J118)-1),\"\"),$Q$4:$R$20,2,FALSE),\"\")","v":""},{"$f":"IF($B$2=StoreConfig!C118,LEFT(StoreConfig!G118,FIND(\"#\",StoreConfig!G118)-1),\"\")","v":""},{"$f":"IF($B$2=StoreConfig!C118,RIGHT(StoreConfig!G118,LEN(StoreConfig!G118)-FIND(\"#\",StoreConfig!G118)),\"\")","v":""},{"$f":"IF($B$2=StoreConfig!C118,IF(StoreConfig!L118=0,\"不限购\",StoreConfig!L118&\"次\"),\"\")","v":""}]
[{"$nulls":3},{"$f":"IF($B$2=StoreConfig!C119,StoreConfig!O119,\"\")","v":""},{"$f":"IF($B$2=StoreConfig!C119,StoreConfig!E119,\"\")","v":""},{"$f":"IF($B$2=StoreConfig!C119,RIGHT(StoreConfig!J119,LEN(StoreConfig!J119)-FIND(\"|\",StoreConfig!J119)),\"\")","v":""},{"$f":"IFERROR(VLOOKUP(--IF($B$2=StoreConfig!C119,LEFT(StoreConfig!J119,FIND(\"|\",StoreConfig!J119)-1),\"\"),$Q$4:$R$20,2,FALSE),\"\")","v":""},{"$f":"IF($B$2=StoreConfig!C119,LEFT(StoreConfig!G119,FIND(\"#\",StoreConfig!G119)-1),\"\")","v":""},{"$f":"IF($B$2=StoreConfig!C119,RIGHT(StoreConfig!G119,LEN(StoreConfig!G119)-FIND(\"#\",StoreConfig!G119)),\"\")","v":""},{"$f":"IF($B$2=StoreConfig!C119,IF(StoreConfig!L119=0,\"不限购\",StoreConfig!L119&\"次\"),\"\")","v":""}]
[{"$nulls":3},{"$f":"IF($B$2=StoreConfig!C120,StoreConfig!O120,\"\")","v":""},{"$f":"IF($B$2=StoreConfig!C120,StoreConfig!E120,\"\")","v":""},{"$f":"IF($B$2=StoreConfig!C120,RIGHT(StoreConfig!J120,LEN(StoreConfig!J120)-FIND(\"|\",StoreConfig!J120)),\"\")","v":""},{"$f":"IFERROR(VLOOKUP(--IF($B$2=StoreConfig!C120,LEFT(StoreConfig!J120,FIND(\"|\",StoreConfig!J120)-1),\"\"),$Q$4:$R$20,2,FALSE),\"\")","v":""},{"$f":"IF($B$2=StoreConfig!C120,LEFT(StoreConfig!G120,FIND(\"#\",StoreConfig!G120)-1),\"\")","v":""},{"$f":"IF($B$2=StoreConfig!C120,RIGHT(StoreConfig!G120,LEN(StoreConfig!G120)-FIND(\"#\",StoreConfig!G120)),\"\")","v":""},{"$f":"IF($B$2=StoreConfig!C120,IF(StoreConfig!L120=0,\"不限购\",StoreConfig!L120&\"次\"),\"\")","v":""}]
[{"$nulls":3},{"$f":"IF($B$2=StoreConfig!C121,StoreConfig!O121,\"\")","v":""},{"$f":"IF($B$2=StoreConfig!C121,StoreConfig!E121,\"\")","v":""},{"$f":"IF($B$2=StoreConfig!C121,RIGHT(StoreConfig!J121,LEN(StoreConfig!J121)-FIND(\"|\",StoreConfig!J121)),\"\")","v":""},{"$f":"IFERROR(VLOOKUP(--IF($B$2=StoreConfig!C121,LEFT(StoreConfig!J121,FIND(\"|\",StoreConfig!J121)-1),\"\"),$Q$4:$R$20,2,FALSE),\"\")","v":""},{"$f":"IF($B$2=StoreConfig!C121,LEFT(StoreConfig!G121,FIND(\"#\",StoreConfig!G121)-1),\"\")","v":""},{"$f":"IF($B$2=StoreConfig!C121,RIGHT(StoreConfig!G121,LEN(StoreConfig!G121)-FIND(\"#\",StoreConfig!G121)),\"\")","v":""},{"$f":"IF($B$2=StoreConfig!C121,IF(StoreConfig!L121=0,\"不限购\",StoreConfig!L121&\"次\"),\"\")","v":""}]
[{"$nulls":3},{"$f":"IF($B$2=StoreConfig!C122,StoreConfig!O122,\"\")","v":""},{"$f":"IF($B$2=StoreConfig!C122,StoreConfig!E122,\"\")","v":""},{"$f":"IF($B$2=StoreConfig!C122,RIGHT(StoreConfig!J122,LEN(StoreConfig!J122)-FIND(\"|\",StoreConfig!J122)),\"\")","v":""},{"$f":"IFERROR(VLOOKUP(--IF($B$2=StoreConfig!C122,LEFT(StoreConfig!J122,FIND(\"|\",StoreConfig!J122)-1),\"\"),$Q$4:$R$20,2,FALSE),\"\")","v":""},{"$f":"IF($B$2=StoreConfig!C122,LEFT(StoreConfig!G122,FIND(\"#\",StoreConfig!G122)-1),\"\")","v":""},{"$f":"IF($B$2=StoreConfig!C122,RIGHT(StoreConfig!G122,LEN(StoreConfig!G122)-FIND(\"#\",StoreConfig!G122)),\"\")","v":""},{"$f":"IF($B$2=StoreConfig!C122,IF(StoreConfig!L122=0,\"不限购\",StoreConfig!L122&\"次\"),\"\")","v":""}]
[{"$nulls":3},{"$f":"IF($B$2=StoreConfig!C123,StoreConfig!O123,\"\")","v":""},{"$f":"IF($B$2=StoreConfig!C123,StoreConfig!E123,\"\")","v":""},{"$f":"IF($B$2=StoreConfig!C123,RIGHT(StoreConfig!J123,LEN(StoreConfig!J123)-FIND(\"|\",StoreConfig!J123)),\"\")","v":""},{"$f":"IFERROR(VLOOKUP(--IF($B$2=StoreConfig!C123,LEFT(StoreConfig!J123,FIND(\"|\",StoreConfig!J123)-1),\"\"),$Q$4:$R$20,2,FALSE),\"\")","v":""},{"$f":"IF($B$2=StoreConfig!C123,LEFT(StoreConfig!G123,FIND(\"#\",StoreConfig!G123)-1),\"\")","v":""},{"$f":"IF($B$2=StoreConfig!C123,RIGHT(StoreConfig!G123,LEN(StoreConfig!G123)-FIND(\"#\",StoreConfig!G123)),\"\")","v":""},{"$f":"IF($B$2=StoreConfig!C123,IF(StoreConfig!L123=0,\"不限购\",StoreConfig!L123&\"次\"),\"\")","v":""}]
[{"$nulls":3},{"$f":"IF($B$2=StoreConfig!C124,StoreConfig!O124,\"\")","v":""},{"$f":"IF($B$2=StoreConfig!C124,StoreConfig!E124,\"\")","v":""},{"$f":"IF($B$2=StoreConfig!C124,RIGHT(StoreConfig!J124,LEN(StoreConfig!J124)-FIND(\"|\",StoreConfig!J124)),\"\")","v":""},{"$f":"IFERROR(VLOOKUP(--IF($B$2=StoreConfig!C124,LEFT(StoreConfig!J124,FIND(\"|\",StoreConfig!J124)-1),\"\"),$Q$4:$R$20,2,FALSE),\"\")","v":""},{"$f":"IF($B$2=StoreConfig!C124,LEFT(StoreConfig!G124,FIND(\"#\",StoreConfig!G124)-1),\"\")","v":""},{"$f":"IF($B$2=StoreConfig!C124,RIGHT(StoreConfig!G124,LEN(StoreConfig!G124)-FIND(\"#\",StoreConfig!G124)),\"\")","v":""},{"$f":"IF($B$2=StoreConfig!C124,IF(StoreConfig!L124=0,\"不限购\",StoreConfig!L124&\"次\"),\"\")","v":""}]
[{"$nulls":3},{"$f":"IF($B$2=StoreConfig!C125,StoreConfig!O125,\"\")","v":""},{"$f":"IF($B$2=StoreConfig!C125,StoreConfig!E125,\"\")","v":""},{"$f":"IF($B$2=StoreConfig!C125,RIGHT(StoreConfig!J125,LEN(StoreConfig!J125)-FIND(\"|\",StoreConfig!J125)),\"\")","v":""},{"$f":"IFERROR(VLOOKUP(--IF($B$2=StoreConfig!C125,LEFT(StoreConfig!J125,FIND(\"|\",StoreConfig!J125)-1),\"\"),$Q$4:$R$20,2,FALSE),\"\")","v":""},{"$f":"IF($B$2=StoreConfig!C125,LEFT(StoreConfig!G125,FIND(\"#\",StoreConfig!G125)-1),\"\")","v":""},{"$f":"IF($B$2=StoreConfig!C125,RIGHT(StoreConfig!G125,LEN(StoreConfig!G125)-FIND(\"#\",StoreConfig!G125)),\"\")","v":""},{"$f":"IF($B$2=StoreConfig!C125,IF(StoreConfig!L125=0,\"不限购\",StoreConfig!L125&\"次\"),\"\")","v":""}]
[{"$nulls":3},{"$f":"IF($B$2=StoreConfig!C126,StoreConfig!O126,\"\")","v":""},{"$f":"IF($B$2=StoreConfig!C126,StoreConfig!E126,\"\")","v":""},{"$f":"IF($B$2=StoreConfig!C126,RIGHT(StoreConfig!J126,LEN(StoreConfig!J126)-FIND(\"|\",StoreConfig!J126)),\"\")","v":""},{"$f":"IFERROR(VLOOKUP(--IF($B$2=StoreConfig!C126,LEFT(StoreConfig!J126,FIND(\"|\",StoreConfig!J126)-1),\"\"),$Q$4:$R$20,2,FALSE),\"\")","v":""},{"$f":"IF($B$2=StoreConfig!C126,LEFT(StoreConfig!G126,FIND(\"#\",StoreConfig!G126)-1),\"\")","v":""},{"$f":"IF($B$2=StoreConfig!C126,RIGHT(StoreConfig!G126,LEN(StoreConfig!G126)-FIND(\"#\",StoreConfig!G126)),\"\")","v":""},{"$f":"IF($B$2=StoreConfig!C126,IF(StoreConfig!L126=0,\"不限购\",StoreConfig!L126&\"次\"),\"\")","v":""}]
[{"$nulls":3},{"$f":"IF($B$2=StoreConfig!C127,StoreConfig!O127,\"\")","v":""},{"$f":"IF($B$2=StoreConfig!C127,StoreConfig!E127,\"\")","v":""},{"$f":"IF($B$2=StoreConfig!C127,RIGHT(StoreConfig!J127,LEN(StoreConfig!J127)-FIND(\"|\",StoreConfig!J127)),\"\")","v":""},{"$f":"IFERROR(VLOOKUP(--IF($B$2=StoreConfig!C127,LEFT(StoreConfig!J127,FIND(\"|\",StoreConfig!J127)-1),\"\"),$Q$4:$R$20,2,FALSE),\"\")","v":""},{"$f":"IF($B$2=StoreConfig!C127,LEFT(StoreConfig!G127,FIND(\"#\",StoreConfig!G127)-1),\"\")","v":""},{"$f":"IF($B$2=StoreConfig!C127,RIGHT(StoreConfig!G127,LEN(StoreConfig!G127)-FIND(\"#\",StoreConfig!G127)),\"\")","v":""},{"$f":"IF($B$2=StoreConfig!C127,IF(StoreConfig!L127=0,\"不限购\",StoreConfig!L127&\"次\"),\"\")","v":""}]
[{"$nulls":3},{"$f":"IF($B$2=StoreConfig!C128,StoreConfig!O128,\"\")","v":""},{"$f":"IF($B$2=StoreConfig!C128,StoreConfig!E128,\"\")","v":""},{"$f":"IF($B$2=StoreConfig!C128,RIGHT(StoreConfig!J128,LEN(StoreConfig!J128)-FIND(\"|\",StoreConfig!J128)),\"\")","v":""},{"$f":"IFERROR(VLOOKUP(--IF($B$2=StoreConfig!C128,LEFT(StoreConfig!J128,FIND(\"|\",StoreConfig!J128)-1),\"\"),$Q$4:$R$20,2,FALSE),\"\")","v":""},{"$f":"IF($B$2=StoreConfig!C128,LEFT(StoreConfig!G128,FIND(\"#\",StoreConfig!G128)-1),\"\")","v":""},{"$f":"IF($B$2=StoreConfig!C128,RIGHT(StoreConfig!G128,LEN(StoreConfig!G128)-FIND(\"#\",StoreConfig!G128)),\"\")","v":""},{"$f":"IF($B$2=StoreConfig!C128,IF(StoreConfig!L128=0,\"不限购\",StoreConfig!L128&\"次\"),\"\")","v":""}]
[{"$nulls":3},{"$f":"IF($B$2=StoreConfig!C129,StoreConfig!O129,\"\")","v":""},{"$f":"IF($B$2=StoreConfig!C129,StoreConfig!E129,\"\")","v":""},{"$f":"IF($B$2=StoreConfig!C129,RIGHT(StoreConfig!J129,LEN(StoreConfig!J129)-FIND(\"|\",StoreConfig!J129)),\"\")","v":""},{"$f":"IFERROR(VLOOKUP(--IF($B$2=StoreConfig!C129,LEFT(StoreConfig!J129,FIND(\"|\",StoreConfig!J129)-1),\"\"),$Q$4:$R$20,2,FALSE),\"\")","v":""},{"$f":"IF($B$2=StoreConfig!C129,LEFT(StoreConfig!G129,FIND(\"#\",StoreConfig!G129)-1),\"\")","v":""},{"$f":"IF($B$2=StoreConfig!C129,RIGHT(StoreConfig!G129,LEN(StoreConfig!G129)-FIND(\"#\",StoreConfig!G129)),\"\")","v":""},{"$f":"IF($B$2=StoreConfig!C129,IF(StoreConfig!L129=0,\"不限购\",StoreConfig!L129&\"次\"),\"\")","v":""}]
[{"$nulls":3},{"$f":"IF($B$2=StoreConfig!C130,StoreConfig!O130,\"\")","v":""},{"$f":"IF($B$2=StoreConfig!C130,StoreConfig!E130,\"\")","v":""},{"$f":"IF($B$2=StoreConfig!C130,RIGHT(StoreConfig!J130,LEN(StoreConfig!J130)-FIND(\"|\",StoreConfig!J130)),\"\")","v":""},{"$f":"IFERROR(VLOOKUP(--IF($B$2=StoreConfig!C130,LEFT(StoreConfig!J130,FIND(\"|\",StoreConfig!J130)-1),\"\"),$Q$4:$R$20,2,FALSE),\"\")","v":""},{"$f":"IF($B$2=StoreConfig!C130,LEFT(StoreConfig!G130,FIND(\"#\",StoreConfig!G130)-1),\"\")","v":""},{"$f":"IF($B$2=StoreConfig!C130,RIGHT(StoreConfig!G130,LEN(StoreConfig!G130)-FIND(\"#\",StoreConfig!G130)),\"\")","v":""},{"$f":"IF($B$2=StoreConfig!C130,IF(StoreConfig!L130=0,\"不限购\",StoreConfig!L130&\"次\"),\"\")","v":""}]
[{"$nulls":3},{"$f":"IF($B$2=StoreConfig!C131,StoreConfig!O131,\"\")","v":""},{"$f":"IF($B$2=StoreConfig!C131,StoreConfig!E131,\"\")","v":""},{"$f":"IF($B$2=StoreConfig!C131,RIGHT(StoreConfig!J131,LEN(StoreConfig!J131)-FIND(\"|\",StoreConfig!J131)),\"\")","v":""},{"$f":"IFERROR(VLOOKUP(--IF($B$2=StoreConfig!C131,LEFT(StoreConfig!J131,FIND(\"|\",StoreConfig!J131)-1),\"\"),$Q$4:$R$20,2,FALSE),\"\")","v":""},{"$f":"IF($B$2=StoreConfig!C131,LEFT(StoreConfig!G131,FIND(\"#\",StoreConfig!G131)-1),\"\")","v":""},{"$f":"IF($B$2=StoreConfig!C131,RIGHT(StoreConfig!G131,LEN(StoreConfig!G131)-FIND(\"#\",StoreConfig!G131)),\"\")","v":""},{"$f":"IF($B$2=StoreConfig!C131,IF(StoreConfig!L131=0,\"不限购\",StoreConfig!L131&\"次\"),\"\")","v":""}]
[{"$nulls":3},{"$f":"IF($B$2=StoreConfig!C132,StoreConfig!O132,\"\")","v":""},{"$f":"IF($B$2=StoreConfig!C132,StoreConfig!E132,\"\")","v":""},{"$f":"IF($B$2=StoreConfig!C132,RIGHT(StoreConfig!J132,LEN(StoreConfig!J132)-FIND(\"|\",StoreConfig!J132)),\"\")","v":""},{"$f":"IFERROR(VLOOKUP(--IF($B$2=StoreConfig!C132,LEFT(StoreConfig!J132,FIND(\"|\",StoreConfig!J132)-1),\"\"),$Q$4:$R$20,2,FALSE),\"\")","v":""},{"$f":"IF($B$2=StoreConfig!C132,LEFT(StoreConfig!G132,FIND(\"#\",StoreConfig!G132)-1),\"\")","v":""},{"$f":"IF($B$2=StoreConfig!C132,RIGHT(StoreConfig!G132,LEN(StoreConfig!G132)-FIND(\"#\",StoreConfig!G132)),\"\")","v":""},{"$f":"IF($B$2=StoreConfig!C132,IF(StoreConfig!L132=0,\"不限购\",StoreConfig!L132&\"次\"),\"\")","v":""}]
[{"$nulls":3},{"$f":"IF($B$2=StoreConfig!C133,StoreConfig!O133,\"\")","v":""},{"$f":"IF($B$2=StoreConfig!C133,StoreConfig!E133,\"\")","v":""},{"$f":"IF($B$2=StoreConfig!C133,RIGHT(StoreConfig!J133,LEN(StoreConfig!J133)-FIND(\"|\",StoreConfig!J133)),\"\")","v":""},{"$f":"IFERROR(VLOOKUP(--IF($B$2=StoreConfig!C133,LEFT(StoreConfig!J133,FIND(\"|\",StoreConfig!J133)-1),\"\"),$Q$4:$R$20,2,FALSE),\"\")","v":""},{"$f":"IF($B$2=StoreConfig!C133,LEFT(StoreConfig!G133,FIND(\"#\",StoreConfig!G133)-1),\"\")","v":""},{"$f":"IF($B$2=StoreConfig!C133,RIGHT(StoreConfig!G133,LEN(StoreConfig!G133)-FIND(\"#\",StoreConfig!G133)),\"\")","v":""},{"$f":"IF($B$2=StoreConfig!C133,IF(StoreConfig!L133=0,\"不限购\",StoreConfig!L133&\"次\"),\"\")","v":""}]
[{"$nulls":3},{"$f":"IF($B$2=StoreConfig!C134,StoreConfig!O134,\"\")","v":""},{"$f":"IF($B$2=StoreConfig!C134,StoreConfig!E134,\"\")","v":""},{"$f":"IF($B$2=StoreConfig!C134,RIGHT(StoreConfig!J134,LEN(StoreConfig!J134)-FIND(\"|\",StoreConfig!J134)),\"\")","v":""},{"$f":"IFERROR(VLOOKUP(--IF($B$2=StoreConfig!C134,LEFT(StoreConfig!J134,FIND(\"|\",StoreConfig!J134)-1),\"\"),$Q$4:$R$20,2,FALSE),\"\")","v":""},{"$f":"IF($B$2=StoreConfig!C134,LEFT(StoreConfig!G134,FIND(\"#\",StoreConfig!G134)-1),\"\")","v":""},{"$f":"IF($B$2=StoreConfig!C134,RIGHT(StoreConfig!G134,LEN(StoreConfig!G134)-FIND(\"#\",StoreConfig!G134)),\"\")","v":""},{"$f":"IF($B$2=StoreConfig!C134,IF(StoreConfig!L134=0,\"不限购\",StoreConfig!L134&\"次\"),\"\")","v":""}]
[{"$nulls":3},{"$f":"IF($B$2=StoreConfig!C135,StoreConfig!O135,\"\")","v":""},{"$f":"IF($B$2=StoreConfig!C135,StoreConfig!E135,\"\")","v":""},{"$f":"IF($B$2=StoreConfig!C135,RIGHT(StoreConfig!J135,LEN(StoreConfig!J135)-FIND(\"|\",StoreConfig!J135)),\"\")","v":""},{"$f":"IFERROR(VLOOKUP(--IF($B$2=StoreConfig!C135,LEFT(StoreConfig!J135,FIND(\"|\",StoreConfig!J135)-1),\"\"),$Q$4:$R$20,2,FALSE),\"\")","v":""},{"$f":"IF($B$2=StoreConfig!C135,LEFT(StoreConfig!G135,FIND(\"#\",StoreConfig!G135)-1),\"\")","v":""},{"$f":"IF($B$2=StoreConfig!C135,RIGHT(StoreConfig!G135,LEN(StoreConfig!G135)-FIND(\"#\",StoreConfig!G135)),\"\")","v":""},{"$f":"IF($B$2=StoreConfig!C135,IF(StoreConfig!L135=0,\"不限购\",StoreConfig!L135&\"次\"),\"\")","v":""}]
[{"$nulls":3},{"$f":"IF($B$2=StoreConfig!C136,StoreConfig!O136,\"\")","v":""},{"$f":"IF($B$2=StoreConfig!C136,StoreConfig!E136,\"\")","v":""},{"$f":"IF($B$2=StoreConfig!C136,RIGHT(StoreConfig!J136,LEN(StoreConfig!J136)-FIND(\"|\",StoreConfig!J136)),\"\")","v":""},{"$f":"IFERROR(VLOOKUP(--IF($B$2=StoreConfig!C136,LEFT(StoreConfig!J136,FIND(\"|\",StoreConfig!J136)-1),\"\"),$Q$4:$R$20,2,FALSE),\"\")","v":""},{"$f":"IF($B$2=StoreConfig!C136,LEFT(StoreConfig!G136,FIND(\"#\",StoreConfig!G136)-1),\"\")","v":""},{"$f":"IF($B$2=StoreConfig!C136,RIGHT(StoreConfig!G136,LEN(StoreConfig!G136)-FIND(\"#\",StoreConfig!G136)),\"\")","v":""},{"$f":"IF($B$2=StoreConfig!C136,IF(StoreConfig!L136=0,\"不限购\",StoreConfig!L136&\"次\"),\"\")","v":""}]
[{"$nulls":3},{"$f":"IF($B$2=StoreConfig!C137,StoreConfig!O137,\"\")","v":""},{"$f":"IF($B$2=StoreConfig!C137,StoreConfig!E137,\"\")","v":""},{"$f":"IF($B$2=StoreConfig!C137,RIGHT(StoreConfig!J137,LEN(StoreConfig!J137)-FIND(\"|\",StoreConfig!J137)),\"\")","v":""},{"$f":"IFERROR(VLOOKUP(--IF($B$2=StoreConfig!C137,LEFT(StoreConfig!J137,FIND(\"|\",StoreConfig!J137)-1),\"\"),$Q$4:$R$20,2,FALSE),\"\")","v":""},{"$f":"IF($B$2=StoreConfig!C137,LEFT(StoreConfig!G137,FIND(\"#\",StoreConfig!G137)-1),\"\")","v":""},{"$f":"IF($B$2=StoreConfig!C137,RIGHT(StoreConfig!G137,LEN(StoreConfig!G137)-FIND(\"#\",StoreConfig!G137)),\"\")","v":""},{"$f":"IF($B$2=StoreConfig!C137,IF(StoreConfig!L137=0,\"不限购\",StoreConfig!L137&\"次\"),\"\")","v":""}]
[{"$nulls":3},{"$f":"IF($B$2=StoreConfig!C138,StoreConfig!O138,\"\")","v":""},{"$f":"IF($B$2=StoreConfig!C138,StoreConfig!E138,\"\")","v":""},{"$f":"IF($B$2=StoreConfig!C138,RIGHT(StoreConfig!J138,LEN(StoreConfig!J138)-FIND(\"|\",StoreConfig!J138)),\"\")","v":""},{"$f":"IFERROR(VLOOKUP(--IF($B$2=StoreConfig!C138,LEFT(StoreConfig!J138,FIND(\"|\",StoreConfig!J138)-1),\"\"),$Q$4:$R$20,2,FALSE),\"\")","v":""},{"$f":"IF($B$2=StoreConfig!C138,LEFT(StoreConfig!G138,FIND(\"#\",StoreConfig!G138)-1),\"\")","v":""},{"$f":"IF($B$2=StoreConfig!C138,RIGHT(StoreConfig!G138,LEN(StoreConfig!G138)-FIND(\"#\",StoreConfig!G138)),\"\")","v":""},{"$f":"IF($B$2=StoreConfig!C138,IF(StoreConfig!L138=0,\"不限购\",StoreConfig!L138&\"次\"),\"\")","v":""}]
[{"$nulls":3},{"$f":"IF($B$2=StoreConfig!C139,StoreConfig!O139,\"\")","v":""},{"$f":"IF($B$2=StoreConfig!C139,StoreConfig!E139,\"\")","v":""},{"$f":"IF($B$2=StoreConfig!C139,RIGHT(StoreConfig!J139,LEN(StoreConfig!J139)-FIND(\"|\",StoreConfig!J139)),\"\")","v":""},{"$f":"IFERROR(VLOOKUP(--IF($B$2=StoreConfig!C139,LEFT(StoreConfig!J139,FIND(\"|\",StoreConfig!J139)-1),\"\"),$Q$4:$R$20,2,FALSE),\"\")","v":""},{"$f":"IF($B$2=StoreConfig!C139,LEFT(StoreConfig!G139,FIND(\"#\",StoreConfig!G139)-1),\"\")","v":""},{"$f":"IF($B$2=StoreConfig!C139,RIGHT(StoreConfig!G139,LEN(StoreConfig!G139)-FIND(\"#\",StoreConfig!G139)),\"\")","v":""},{"$f":"IF($B$2=StoreConfig!C139,IF(StoreConfig!L139=0,\"不限购\",StoreConfig!L139&\"次\"),\"\")","v":""}]
[{"$nulls":3},{"$f":"IF($B$2=StoreConfig!C140,StoreConfig!O140,\"\")","v":""},{"$f":"IF($B$2=StoreConfig!C140,StoreConfig!E140,\"\")","v":""},{"$f":"IF($B$2=StoreConfig!C140,RIGHT(StoreConfig!J140,LEN(StoreConfig!J140)-FIND(\"|\",StoreConfig!J140)),\"\")","v":""},{"$f":"IFERROR(VLOOKUP(--IF($B$2=StoreConfig!C140,LEFT(StoreConfig!J140,FIND(\"|\",StoreConfig!J140)-1),\"\"),$Q$4:$R$20,2,FALSE),\"\")","v":""},{"$f":"IF($B$2=StoreConfig!C140,LEFT(StoreConfig!G140,FIND(\"#\",StoreConfig!G140)-1),\"\")","v":""},{"$f":"IF($B$2=StoreConfig!C140,RIGHT(StoreConfig!G140,LEN(StoreConfig!G140)-FIND(\"#\",StoreConfig!G140)),\"\")","v":""},{"$f":"IF($B$2=StoreConfig!C140,IF(StoreConfig!L140=0,\"不限购\",StoreConfig!L140&\"次\"),\"\")","v":""}]
[{"$nulls":3},{"$f":"IF($B$2=StoreConfig!C141,StoreConfig!O141,\"\")","v":""},{"$f":"IF($B$2=StoreConfig!C141,StoreConfig!E141,\"\")","v":""},{"$f":"IF($B$2=StoreConfig!C141,RIGHT(StoreConfig!J141,LEN(StoreConfig!J141)-FIND(\"|\",StoreConfig!J141)),\"\")","v":""},{"$f":"IFERROR(VLOOKUP(--IF($B$2=StoreConfig!C141,LEFT(StoreConfig!J141,FIND(\"|\",StoreConfig!J141)-1),\"\"),$Q$4:$R$20,2,FALSE),\"\")","v":""},{"$f":"IF($B$2=StoreConfig!C141,LEFT(StoreConfig!G141,FIND(\"#\",StoreConfig!G141)-1),\"\")","v":""},{"$f":"IF($B$2=StoreConfig!C141,RIGHT(StoreConfig!G141,LEN(StoreConfig!G141)-FIND(\"#\",StoreConfig!G141)),\"\")","v":""},{"$f":"IF($B$2=StoreConfig!C141,IF(StoreConfig!L141=0,\"不限购\",StoreConfig!L141&\"次\"),\"\")","v":""}]
[{"$nulls":3},{"$f":"IF($B$2=StoreConfig!C142,StoreConfig!O142,\"\")","v":""},{"$f":"IF($B$2=StoreConfig!C142,StoreConfig!E142,\"\")","v":""},{"$f":"IF($B$2=StoreConfig!C142,RIGHT(StoreConfig!J142,LEN(StoreConfig!J142)-FIND(\"|\",StoreConfig!J142)),\"\")","v":""},{"$f":"IFERROR(VLOOKUP(--IF($B$2=StoreConfig!C142,LEFT(StoreConfig!J142,FIND(\"|\",StoreConfig!J142)-1),\"\"),$Q$4:$R$20,2,FALSE),\"\")","v":""},{"$f":"IF($B$2=StoreConfig!C142,LEFT(StoreConfig!G142,FIND(\"#\",StoreConfig!G142)-1),\"\")","v":""},{"$f":"IF($B$2=StoreConfig!C142,RIGHT(StoreConfig!G142,LEN(StoreConfig!G142)-FIND(\"#\",StoreConfig!G142)),\"\")","v":""},{"$f":"IF($B$2=StoreConfig!C142,IF(StoreConfig!L142=0,\"不限购\",StoreConfig!L142&\"次\"),\"\")","v":""}]
[{"$nulls":3},{"$f":"IF($B$2=StoreConfig!C143,StoreConfig!O143,\"\")","v":""},{"$f":"IF($B$2=StoreConfig!C143,StoreConfig!E143,\"\")","v":""},{"$f":"IF($B$2=StoreConfig!C143,RIGHT(StoreConfig!J143,LEN(StoreConfig!J143)-FIND(\"|\",StoreConfig!J143)),\"\")","v":""},{"$f":"IFERROR(VLOOKUP(--IF($B$2=StoreConfig!C143,LEFT(StoreConfig!J143,FIND(\"|\",StoreConfig!J143)-1),\"\"),$Q$4:$R$20,2,FALSE),\"\")","v":""},{"$f":"IF($B$2=StoreConfig!C143,LEFT(StoreConfig!G143,FIND(\"#\",StoreConfig!G143)-1),\"\")","v":""},{"$f":"IF($B$2=StoreConfig!C143,RIGHT(StoreConfig!G143,LEN(StoreConfig!G143)-FIND(\"#\",StoreConfig!G143)),\"\")","v":""},{"$f":"IF($B$2=StoreConfig!C143,IF(StoreConfig!L143=0,\"不限购\",StoreConfig!L143&\"次\"),\"\")","v":""}]
[{"$nulls":3},{"$f":"IF($B$2=StoreConfig!C144,StoreConfig!O144,\"\")","v":""},{"$f":"IF($B$2=StoreConfig!C144,StoreConfig!E144,\"\")","v":""},{"$f":"IF($B$2=StoreConfig!C144,RIGHT(StoreConfig!J144,LEN(StoreConfig!J144)-FIND(\"|\",StoreConfig!J144)),\"\")","v":""},{"$f":"IFERROR(VLOOKUP(--IF($B$2=StoreConfig!C144,LEFT(StoreConfig!J144,FIND(\"|\",StoreConfig!J144)-1),\"\"),$Q$4:$R$20,2,FALSE),\"\")","v":""},{"$f":"IF($B$2=StoreConfig!C144,LEFT(StoreConfig!G144,FIND(\"#\",StoreConfig!G144)-1),\"\")","v":""},{"$f":"IF($B$2=StoreConfig!C144,RIGHT(StoreConfig!G144,LEN(StoreConfig!G144)-FIND(\"#\",StoreConfig!G144)),\"\")","v":""},{"$f":"IF($B$2=StoreConfig!C144,IF(StoreConfig!L144=0,\"不限购\",StoreConfig!L144&\"次\"),\"\")","v":""}]
[{"$nulls":3},{"$f":"IF($B$2=StoreConfig!C145,StoreConfig!O145,\"\")","v":""},{"$f":"IF($B$2=StoreConfig!C145,StoreConfig!E145,\"\")","v":""},{"$f":"IF($B$2=StoreConfig!C145,RIGHT(StoreConfig!J145,LEN(StoreConfig!J145)-FIND(\"|\",StoreConfig!J145)),\"\")","v":""},{"$f":"IFERROR(VLOOKUP(--IF($B$2=StoreConfig!C145,LEFT(StoreConfig!J145,FIND(\"|\",StoreConfig!J145)-1),\"\"),$Q$4:$R$20,2,FALSE),\"\")","v":""},{"$f":"IF($B$2=StoreConfig!C145,LEFT(StoreConfig!G145,FIND(\"#\",StoreConfig!G145)-1),\"\")","v":""},{"$f":"IF($B$2=StoreConfig!C145,RIGHT(StoreConfig!G145,LEN(StoreConfig!G145)-FIND(\"#\",StoreConfig!G145)),\"\")","v":""},{"$f":"IF($B$2=StoreConfig!C145,IF(StoreConfig!L145=0,\"不限购\",StoreConfig!L145&\"次\"),\"\")","v":""}]
[{"$nulls":3},{"$f":"IF($B$2=StoreConfig!C146,StoreConfig!O146,\"\")","v":""},{"$f":"IF($B$2=StoreConfig!C146,StoreConfig!E146,\"\")","v":""},{"$f":"IF($B$2=StoreConfig!C146,RIGHT(StoreConfig!J146,LEN(StoreConfig!J146)-FIND(\"|\",StoreConfig!J146)),\"\")","v":""},{"$f":"IFERROR(VLOOKUP(--IF($B$2=StoreConfig!C146,LEFT(StoreConfig!J146,FIND(\"|\",StoreConfig!J146)-1),\"\"),$Q$4:$R$20,2,FALSE),\"\")","v":""},{"$f":"IF($B$2=StoreConfig!C146,LEFT(StoreConfig!G146,FIND(\"#\",StoreConfig!G146)-1),\"\")","v":""},{"$f":"IF($B$2=StoreConfig!C146,RIGHT(StoreConfig!G146,LEN(StoreConfig!G146)-FIND(\"#\",StoreConfig!G146)),\"\")","v":""},{"$f":"IF($B$2=StoreConfig!C146,IF(StoreConfig!L146=0,\"不限购\",StoreConfig!L146&\"次\"),\"\")","v":""}]
[{"$nulls":3},{"$f":"IF($B$2=StoreConfig!C147,StoreConfig!O147,\"\")","v":""},{"$f":"IF($B$2=StoreConfig!C147,StoreConfig!E147,\"\")","v":""},{"$f":"IF($B$2=StoreConfig!C147,RIGHT(StoreConfig!J147,LEN(StoreConfig!J147)-FIND(\"|\",StoreConfig!J147)),\"\")","v":""},{"$f":"IFERROR(VLOOKUP(--IF($B$2=StoreConfig!C147,LEFT(StoreConfig!J147,FIND(\"|\",StoreConfig!J147)-1),\"\"),$Q$4:$R$20,2,FALSE),\"\")","v":""},{"$f":"IF($B$2=StoreConfig!C147,LEFT(StoreConfig!G147,FIND(\"#\",StoreConfig!G147)-1),\"\")","v":""},{"$f":"IF($B$2=StoreConfig!C147,RIGHT(StoreConfig!G147,LEN(StoreConfig!G147)-FIND(\"#\",StoreConfig!G147)),\"\")","v":""},{"$f":"IF($B$2=StoreConfig!C147,IF(StoreConfig!L147=0,\"不限购\",StoreConfig!L147&\"次\"),\"\")","v":""}]
[{"$nulls":3},{"$f":"IF($B$2=StoreConfig!C148,StoreConfig!O148,\"\")","v":""},{"$f":"IF($B$2=StoreConfig!C148,StoreConfig!E148,\"\")","v":""},{"$f":"IF($B$2=StoreConfig!C148,RIGHT(StoreConfig!J148,LEN(StoreConfig!J148)-FIND(\"|\",StoreConfig!J148)),\"\")","v":""},{"$f":"IFERROR(VLOOKUP(--IF($B$2=StoreConfig!C148,LEFT(StoreConfig!J148,FIND(\"|\",StoreConfig!J148)-1),\"\"),$Q$4:$R$20,2,FALSE),\"\")","v":""},{"$f":"IF($B$2=StoreConfig!C148,LEFT(StoreConfig!G148,FIND(\"#\",StoreConfig!G148)-1),\"\")","v":""},{"$f":"IF($B$2=StoreConfig!C148,RIGHT(StoreConfig!G148,LEN(StoreConfig!G148)-FIND(\"#\",StoreConfig!G148)),\"\")","v":""},{"$f":"IF($B$2=StoreConfig!C148,IF(StoreConfig!L148=0,\"不限购\",StoreConfig!L148&\"次\"),\"\")","v":""}]
[{"$nulls":3},{"$f":"IF($B$2=StoreConfig!C150,StoreConfig!O150,\"\")","v":""},{"$f":"IF($B$2=StoreConfig!C150,StoreConfig!E150,\"\")","v":""},{"$f":"IF($B$2=StoreConfig!C150,RIGHT(StoreConfig!J150,LEN(StoreConfig!J150)-FIND(\"|\",StoreConfig!J150)),\"\")","v":""},{"$f":"IFERROR(VLOOKUP(--IF($B$2=StoreConfig!C150,LEFT(StoreConfig!J150,FIND(\"|\",StoreConfig!J150)-1),\"\"),$Q$4:$R$20,2,FALSE),\"\")","v":""},{"$f":"IF($B$2=StoreConfig!C150,LEFT(StoreConfig!G150,FIND(\"#\",StoreConfig!G150)-1),\"\")","v":""},{"$f":"IF($B$2=StoreConfig!C150,RIGHT(StoreConfig!G150,LEN(StoreConfig!G150)-FIND(\"#\",StoreConfig!G150)),\"\")","v":""},{"$f":"IF($B$2=StoreConfig!C150,IF(StoreConfig!L150=0,\"不限购\",StoreConfig!L150&\"次\"),\"\")","v":""}]
[{"$nulls":3},{"$f":"IF($B$2=StoreConfig!C151,StoreConfig!O151,\"\")","v":""},{"$f":"IF($B$2=StoreConfig!C151,StoreConfig!E151,\"\")","v":""},{"$f":"IF($B$2=StoreConfig!C151,RIGHT(StoreConfig!J151,LEN(StoreConfig!J151)-FIND(\"|\",StoreConfig!J151)),\"\")","v":""},{"$f":"IFERROR(VLOOKUP(--IF($B$2=StoreConfig!C151,LEFT(StoreConfig!J151,FIND(\"|\",StoreConfig!J151)-1),\"\"),$Q$4:$R$20,2,FALSE),\"\")","v":""},{"$f":"IF($B$2=StoreConfig!C151,LEFT(StoreConfig!G151,FIND(\"#\",StoreConfig!G151)-1),\"\")","v":""},{"$f":"IF($B$2=StoreConfig!C151,RIGHT(StoreConfig!G151,LEN(StoreConfig!G151)-FIND(\"#\",StoreConfig!G151)),\"\")","v":""},{"$f":"IF($B$2=StoreConfig!C151,IF(StoreConfig!L151=0,\"不限购\",StoreConfig!L151&\"次\"),\"\")","v":""}]
[{"$nulls":3},{"$f":"IF($B$2=StoreConfig!C152,StoreConfig!O152,\"\")","v":""},{"$f":"IF($B$2=StoreConfig!C152,StoreConfig!E152,\"\")","v":""},{"$f":"IF($B$2=StoreConfig!C152,RIGHT(StoreConfig!J152,LEN(StoreConfig!J152)-FIND(\"|\",StoreConfig!J152)),\"\")","v":""},{"$f":"IFERROR(VLOOKUP(--IF($B$2=StoreConfig!C152,LEFT(StoreConfig!J152,FIND(\"|\",StoreConfig!J152)-1),\"\"),$Q$4:$R$20,2,FALSE),\"\")","v":""},{"$f":"IF($B$2=StoreConfig!C152,LEFT(StoreConfig!G152,FIND(\"#\",StoreConfig!G152)-1),\"\")","v":""},{"$f":"IF($B$2=StoreConfig!C152,RIGHT(StoreConfig!G152,LEN(StoreConfig!G152)-FIND(\"#\",StoreConfig!G152)),\"\")","v":""},{"$f":"IF($B$2=StoreConfig!C152,IF(StoreConfig!L152=0,\"不限购\",StoreConfig!L152&\"次\"),\"\")","v":""}]
[{"$nulls":3},{"$f":"IF($B$2=StoreConfig!C153,StoreConfig!O153,\"\")","v":""},{"$f":"IF($B$2=StoreConfig!C153,StoreConfig!E153,\"\")","v":""},{"$f":"IF($B$2=StoreConfig!C153,RIGHT(StoreConfig!J153,LEN(StoreConfig!J153)-FIND(\"|\",StoreConfig!J153)),\"\")","v":""},{"$f":"IFERROR(VLOOKUP(--IF($B$2=StoreConfig!C153,LEFT(StoreConfig!J153,FIND(\"|\",StoreConfig!J153)-1),\"\"),$Q$4:$R$20,2,FALSE),\"\")","v":""},{"$f":"IF($B$2=StoreConfig!C153,LEFT(StoreConfig!G153,FIND(\"#\",StoreConfig!G153)-1),\"\")","v":""},{"$f":"IF($B$2=StoreConfig!C153,RIGHT(StoreConfig!G153,LEN(StoreConfig!G153)-FIND(\"#\",StoreConfig!G153)),\"\")","v":""},{"$f":"IF($B$2=StoreConfig!C153,IF(StoreConfig!L153=0,\"不限购\",StoreConfig!L153&\"次\"),\"\")","v":""}]
[{"$nulls":3},{"$f":"IF($B$2=StoreConfig!C154,StoreConfig!O154,\"\")","v":""},{"$f":"IF($B$2=StoreConfig!C154,StoreConfig!E154,\"\")","v":""},{"$f":"IF($B$2=StoreConfig!C154,RIGHT(StoreConfig!J154,LEN(StoreConfig!J154)-FIND(\"|\",StoreConfig!J154)),\"\")","v":""},{"$f":"IFERROR(VLOOKUP(--IF($B$2=StoreConfig!C154,LEFT(StoreConfig!J154,FIND(\"|\",StoreConfig!J154)-1),\"\"),$Q$4:$R$20,2,FALSE),\"\")","v":""},{"$f":"IF($B$2=StoreConfig!C154,LEFT(StoreConfig!G154,FIND(\"#\",StoreConfig!G154)-1),\"\")","v":""},{"$f":"IF($B$2=StoreConfig!C154,RIGHT(StoreConfig!G154,LEN(StoreConfig!G154)-FIND(\"#\",StoreConfig!G154)),\"\")","v":""},{"$f":"IF($B$2=StoreConfig!C154,IF(StoreConfig!L154=0,\"不限购\",StoreConfig!L154&\"次\"),\"\")","v":""}]
[{"$nulls":3},{"$f":"IF($B$2=StoreConfig!C155,StoreConfig!O155,\"\")","v":""},{"$f":"IF($B$2=StoreConfig!C155,StoreConfig!E155,\"\")","v":""},{"$f":"IF($B$2=StoreConfig!C155,RIGHT(StoreConfig!J155,LEN(StoreConfig!J155)-FIND(\"|\",StoreConfig!J155)),\"\")","v":""},{"$f":"IFERROR(VLOOKUP(--IF($B$2=StoreConfig!C155,LEFT(StoreConfig!J155,FIND(\"|\",StoreConfig!J155)-1),\"\"),$Q$4:$R$20,2,FALSE),\"\")","v":""},{"$f":"IF($B$2=StoreConfig!C155,LEFT(StoreConfig!G155,FIND(\"#\",StoreConfig!G155)-1),\"\")","v":""},{"$f":"IF($B$2=StoreConfig!C155,RIGHT(StoreConfig!G155,LEN(StoreConfig!G155)-FIND(\"#\",StoreConfig!G155)),\"\")","v":""},{"$f":"IF($B$2=StoreConfig!C155,IF(StoreConfig!L155=0,\"不限购\",StoreConfig!L155&\"次\"),\"\")","v":""}]
[{"$nulls":3},{"$f":"IF($B$2=StoreConfig!C156,StoreConfig!O156,\"\")","v":""},{"$f":"IF($B$2=StoreConfig!C156,StoreConfig!E156,\"\")","v":""},{"$f":"IF($B$2=StoreConfig!C156,RIGHT(StoreConfig!J156,LEN(StoreConfig!J156)-FIND(\"|\",StoreConfig!J156)),\"\")","v":""},{"$f":"IFERROR(VLOOKUP(--IF($B$2=StoreConfig!C156,LEFT(StoreConfig!J156,FIND(\"|\",StoreConfig!J156)-1),\"\"),$Q$4:$R$20,2,FALSE),\"\")","v":""},{"$f":"IF($B$2=StoreConfig!C156,LEFT(StoreConfig!G156,FIND(\"#\",StoreConfig!G156)-1),\"\")","v":""},{"$f":"IF($B$2=StoreConfig!C156,RIGHT(StoreConfig!G156,LEN(StoreConfig!G156)-FIND(\"#\",StoreConfig!G156)),\"\")","v":""},{"$f":"IF($B$2=StoreConfig!C156,IF(StoreConfig!L156=0,\"不限购\",StoreConfig!L156&\"次\"),\"\")","v":""}]
[{"$nulls":3},{"$f":"IF($B$2=StoreConfig!C157,StoreConfig!O157,\"\")","v":""},{"$f":"IF($B$2=StoreConfig!C157,StoreConfig!E157,\"\")","v":""},{"$f":"IF($B$2=StoreConfig!C157,RIGHT(StoreConfig!J157,LEN(StoreConfig!J157)-FIND(\"|\",StoreConfig!J157)),\"\")","v":""},{"$f":"IFERROR(VLOOKUP(--IF($B$2=StoreConfig!C157,LEFT(StoreConfig!J157,FIND(\"|\",StoreConfig!J157)-1),\"\"),$Q$4:$R$20,2,FALSE),\"\")","v":""},{"$f":"IF($B$2=StoreConfig!C157,LEFT(StoreConfig!G157,FIND(\"#\",StoreConfig!G157)-1),\"\")","v":""},{"$f":"IF($B$2=StoreConfig!C157,RIGHT(StoreConfig!G157,LEN(StoreConfig!G157)-FIND(\"#\",StoreConfig!G157)),\"\")","v":""},{"$f":"IF($B$2=StoreConfig!C157,IF(StoreConfig!L157=0,\"不限购\",StoreConfig!L157&\"次\"),\"\")","v":""}]
[{"$nulls":3},{"$f":"IF($B$2=StoreConfig!C158,StoreConfig!O158,\"\")","v":""},{"$f":"IF($B$2=StoreConfig!C158,StoreConfig!E158,\"\")","v":""},{"$f":"IF($B$2=StoreConfig!C158,RIGHT(StoreConfig!J158,LEN(StoreConfig!J158)-FIND(\"|\",StoreConfig!J158)),\"\")","v":""},{"$f":"IFERROR(VLOOKUP(--IF($B$2=StoreConfig!C158,LEFT(StoreConfig!J158,FIND(\"|\",StoreConfig!J158)-1),\"\"),$Q$4:$R$20,2,FALSE),\"\")","v":""},{"$f":"IF($B$2=StoreConfig!C158,LEFT(StoreConfig!G158,FIND(\"#\",StoreConfig!G158)-1),\"\")","v":""},{"$f":"IF($B$2=StoreConfig!C158,RIGHT(StoreConfig!G158,LEN(StoreConfig!G158)-FIND(\"#\",StoreConfig!G158)),\"\")","v":""},{"$f":"IF($B$2=StoreConfig!C158,IF(StoreConfig!L158=0,\"不限购\",StoreConfig!L158&\"次\"),\"\")","v":""}]
[{"$nulls":3},{"$f":"IF($B$2=StoreConfig!C159,StoreConfig!O159,\"\")","v":""},{"$f":"IF($B$2=StoreConfig!C159,StoreConfig!E159,\"\")","v":""},{"$f":"IF($B$2=StoreConfig!C159,RIGHT(StoreConfig!J159,LEN(StoreConfig!J159)-FIND(\"|\",StoreConfig!J159)),\"\")","v":""},{"$f":"IFERROR(VLOOKUP(--IF($B$2=StoreConfig!C159,LEFT(StoreConfig!J159,FIND(\"|\",StoreConfig!J159)-1),\"\"),$Q$4:$R$20,2,FALSE),\"\")","v":""},{"$f":"IF($B$2=StoreConfig!C159,LEFT(StoreConfig!G159,FIND(\"#\",StoreConfig!G159)-1),\"\")","v":""},{"$f":"IF($B$2=StoreConfig!C159,RIGHT(StoreConfig!G159,LEN(StoreConfig!G159)-FIND(\"#\",StoreConfig!G159)),\"\")","v":""},{"$f":"IF($B$2=StoreConfig!C159,IF(StoreConfig!L159=0,\"不限购\",StoreConfig!L159&\"次\"),\"\")","v":""}]
[{"$nulls":3},{"$f":"IF($B$2=StoreConfig!C160,StoreConfig!O160,\"\")","v":""},{"$f":"IF($B$2=StoreConfig!C160,StoreConfig!E160,\"\")","v":""},{"$f":"IF($B$2=StoreConfig!C160,RIGHT(StoreConfig!J160,LEN(StoreConfig!J160)-FIND(\"|\",StoreConfig!J160)),\"\")","v":""},{"$f":"IFERROR(VLOOKUP(--IF($B$2=StoreConfig!C160,LEFT(StoreConfig!J160,FIND(\"|\",StoreConfig!J160)-1),\"\"),$Q$4:$R$20,2,FALSE),\"\")","v":""},{"$f":"IF($B$2=StoreConfig!C160,LEFT(StoreConfig!G160,FIND(\"#\",StoreConfig!G160)-1),\"\")","v":""},{"$f":"IF($B$2=StoreConfig!C160,RIGHT(StoreConfig!G160,LEN(StoreConfig!G160)-FIND(\"#\",StoreConfig!G160)),\"\")","v":""},{"$f":"IF($B$2=StoreConfig!C160,IF(StoreConfig!L160=0,\"不限购\",StoreConfig!L160&\"次\"),\"\")","v":""}]
[{"$nulls":3},{"$f":"IF($B$2=StoreConfig!C161,StoreConfig!O161,\"\")","v":""},{"$f":"IF($B$2=StoreConfig!C161,StoreConfig!E161,\"\")","v":""},{"$f":"IF($B$2=StoreConfig!C161,RIGHT(StoreConfig!J161,LEN(StoreConfig!J161)-FIND(\"|\",StoreConfig!J161)),\"\")","v":""},{"$f":"IFERROR(VLOOKUP(--IF($B$2=StoreConfig!C161,LEFT(StoreConfig!J161,FIND(\"|\",StoreConfig!J161)-1),\"\"),$Q$4:$R$20,2,FALSE),\"\")","v":""},{"$f":"IF($B$2=StoreConfig!C161,LEFT(StoreConfig!G161,FIND(\"#\",StoreConfig!G161)-1),\"\")","v":""},{"$f":"IF($B$2=StoreConfig!C161,RIGHT(StoreConfig!G161,LEN(StoreConfig!G161)-FIND(\"#\",StoreConfig!G161)),\"\")","v":""},{"$f":"IF($B$2=StoreConfig!C161,IF(StoreConfig!L161=0,\"不限购\",StoreConfig!L161&\"次\"),\"\")","v":""}]
[{"$nulls":3},{"$f":"IF($B$2=StoreConfig!C162,StoreConfig!O162,\"\")","v":""},{"$f":"IF($B$2=StoreConfig!C162,StoreConfig!E162,\"\")","v":""},{"$f":"IF($B$2=StoreConfig!C162,RIGHT(StoreConfig!J162,LEN(StoreConfig!J162)-FIND(\"|\",StoreConfig!J162)),\"\")","v":""},{"$f":"IFERROR(VLOOKUP(--IF($B$2=StoreConfig!C162,LEFT(StoreConfig!J162,FIND(\"|\",StoreConfig!J162)-1),\"\"),$Q$4:$R$20,2,FALSE),\"\")","v":""},{"$f":"IF($B$2=StoreConfig!C162,LEFT(StoreConfig!G162,FIND(\"#\",StoreConfig!G162)-1),\"\")","v":""},{"$f":"IF($B$2=StoreConfig!C162,RIGHT(StoreConfig!G162,LEN(StoreConfig!G162)-FIND(\"#\",StoreConfig!G162)),\"\")","v":""},{"$f":"IF($B$2=StoreConfig!C162,IF(StoreConfig!L162=0,\"不限购\",StoreConfig!L162&\"次\"),\"\")","v":""}]
[{"$nulls":3},{"$f":"IF($B$2=StoreConfig!C163,StoreConfig!O163,\"\")","v":""},{"$f":"IF($B$2=StoreConfig!C163,StoreConfig!E163,\"\")","v":""},{"$f":"IF($B$2=StoreConfig!C163,RIGHT(StoreConfig!J163,LEN(StoreConfig!J163)-FIND(\"|\",StoreConfig!J163)),\"\")","v":""},{"$f":"IFERROR(VLOOKUP(--IF($B$2=StoreConfig!C163,LEFT(StoreConfig!J163,FIND(\"|\",StoreConfig!J163)-1),\"\"),$Q$4:$R$20,2,FALSE),\"\")","v":""},{"$f":"IF($B$2=StoreConfig!C163,LEFT(StoreConfig!G163,FIND(\"#\",StoreConfig!G163)-1),\"\")","v":""},{"$f":"IF($B$2=StoreConfig!C163,RIGHT(StoreConfig!G163,LEN(StoreConfig!G163)-FIND(\"#\",StoreConfig!G163)),\"\")","v":""},{"$f":"IF($B$2=StoreConfig!C163,IF(StoreConfig!L163=0,\"不限购\",StoreConfig!L163&\"次\"),\"\")","v":""}]
[{"$nulls":3},{"$f":"IF($B$2=StoreConfig!C164,StoreConfig!O164,\"\")","v":""},{"$f":"IF($B$2=StoreConfig!C164,StoreConfig!E164,\"\")","v":""},{"$f":"IF($B$2=StoreConfig!C164,RIGHT(StoreConfig!J164,LEN(StoreConfig!J164)-FIND(\"|\",StoreConfig!J164)),\"\")","v":""},{"$f":"IFERROR(VLOOKUP(--IF($B$2=StoreConfig!C164,LEFT(StoreConfig!J164,FIND(\"|\",StoreConfig!J164)-1),\"\"),$Q$4:$R$20,2,FALSE),\"\")","v":""},{"$f":"IF($B$2=StoreConfig!C164,LEFT(StoreConfig!G164,FIND(\"#\",StoreConfig!G164)-1),\"\")","v":""},{"$f":"IF($B$2=StoreConfig!C164,RIGHT(StoreConfig!G164,LEN(StoreConfig!G164)-FIND(\"#\",StoreConfig!G164)),\"\")","v":""},{"$f":"IF($B$2=StoreConfig!C164,IF(StoreConfig!L164=0,\"不限购\",StoreConfig!L164&\"次\"),\"\")","v":""}]
[{"$nulls":3},{"$f":"IF($B$2=StoreConfig!C165,StoreConfig!O165,\"\")","v":""},{"$f":"IF($B$2=StoreConfig!C165,StoreConfig!E165,\"\")","v":""},{"$f":"IF($B$2=StoreConfig!C165,RIGHT(StoreConfig!J165,LEN(StoreConfig!J165)-FIND(\"|\",StoreConfig!J165)),\"\")","v":""},{"$f":"IFERROR(VLOOKUP(--IF($B$2=StoreConfig!C165,LEFT(StoreConfig!J165,FIND(\"|\",StoreConfig!J165)-1),\"\"),$Q$4:$R$20,2,FALSE),\"\")","v":""},{"$f":"IF($B$2=StoreConfig!C165,LEFT(StoreConfig!G165,FIND(\"#\",StoreConfig!G165)-1),\"\")","v":""},{"$f":"IF($B$2=StoreConfig!C165,RIGHT(StoreConfig!G165,LEN(StoreConfig!G165)-FIND(\"#\",StoreConfig!G165)),\"\")","v":""},{"$f":"IF($B$2=StoreConfig!C165,IF(StoreConfig!L165=0,\"不限购\",StoreConfig!L165&\"次\"),\"\")","v":""}]
[{"$nulls":3},{"$f":"IF($B$2=StoreConfig!C166,StoreConfig!O166,\"\")","v":""},{"$f":"IF($B$2=StoreConfig!C166,StoreConfig!E166,\"\")","v":""},{"$f":"IF($B$2=StoreConfig!C166,RIGHT(StoreConfig!J166,LEN(StoreConfig!J166)-FIND(\"|\",StoreConfig!J166)),\"\")","v":""},{"$f":"IFERROR(VLOOKUP(--IF($B$2=StoreConfig!C166,LEFT(StoreConfig!J166,FIND(\"|\",StoreConfig!J166)-1),\"\"),$Q$4:$R$20,2,FALSE),\"\")","v":""},{"$f":"IF($B$2=StoreConfig!C166,LEFT(StoreConfig!G166,FIND(\"#\",StoreConfig!G166)-1),\"\")","v":""},{"$f":"IF($B$2=StoreConfig!C166,RIGHT(StoreConfig!G166,LEN(StoreConfig!G166)-FIND(\"#\",StoreConfig!G166)),\"\")","v":""},{"$f":"IF($B$2=StoreConfig!C166,IF(StoreConfig!L166=0,\"不限购\",StoreConfig!L166&\"次\"),\"\")","v":""}]
[{"$nulls":3},{"$f":"IF($B$2=StoreConfig!C167,StoreConfig!O167,\"\")","v":""},{"$f":"IF($B$2=StoreConfig!C167,StoreConfig!E167,\"\")","v":""},{"$f":"IF($B$2=StoreConfig!C167,RIGHT(StoreConfig!J167,LEN(StoreConfig!J167)-FIND(\"|\",StoreConfig!J167)),\"\")","v":""},{"$f":"IFERROR(VLOOKUP(--IF($B$2=StoreConfig!C167,LEFT(StoreConfig!J167,FIND(\"|\",StoreConfig!J167)-1),\"\"),$Q$4:$R$20,2,FALSE),\"\")","v":""},{"$f":"IF($B$2=StoreConfig!C167,LEFT(StoreConfig!G167,FIND(\"#\",StoreConfig!G167)-1),\"\")","v":""},{"$f":"IF($B$2=StoreConfig!C167,RIGHT(StoreConfig!G167,LEN(StoreConfig!G167)-FIND(\"#\",StoreConfig!G167)),\"\")","v":""},{"$f":"IF($B$2=StoreConfig!C167,IF(StoreConfig!L167=0,\"不限购\",StoreConfig!L167&\"次\"),\"\")","v":""}]
[{"$nulls":3},{"$f":"IF($B$2=StoreConfig!C168,StoreConfig!O168,\"\")","v":""},{"$f":"IF($B$2=StoreConfig!C168,StoreConfig!E168,\"\")","v":""},{"$f":"IF($B$2=StoreConfig!C168,RIGHT(StoreConfig!J168,LEN(StoreConfig!J168)-FIND(\"|\",StoreConfig!J168)),\"\")","v":""},{"$f":"IFERROR(VLOOKUP(--IF($B$2=StoreConfig!C168,LEFT(StoreConfig!J168,FIND(\"|\",StoreConfig!J168)-1),\"\"),$Q$4:$R$20,2,FALSE),\"\")","v":""},{"$f":"IF($B$2=StoreConfig!C168,LEFT(StoreConfig!G168,FIND(\"#\",StoreConfig!G168)-1),\"\")","v":""},{"$f":"IF($B$2=StoreConfig!C168,RIGHT(StoreConfig!G168,LEN(StoreConfig!G168)-FIND(\"#\",StoreConfig!G168)),\"\")","v":""},{"$f":"IF($B$2=StoreConfig!C168,IF(StoreConfig!L168=0,\"不限购\",StoreConfig!L168&\"次\"),\"\")","v":""}]
[{"$nulls":3},{"$f":"IF($B$2=StoreConfig!C169,StoreConfig!O169,\"\")","v":""},{"$f":"IF($B$2=StoreConfig!C169,StoreConfig!E169,\"\")","v":""},{"$f":"IF($B$2=StoreConfig!C169,RIGHT(StoreConfig!J169,LEN(StoreConfig!J169)-FIND(\"|\",StoreConfig!J169)),\"\")","v":""},{"$f":"IFERROR(VLOOKUP(--IF($B$2=StoreConfig!C169,LEFT(StoreConfig!J169,FIND(\"|\",StoreConfig!J169)-1),\"\"),$Q$4:$R$20,2,FALSE),\"\")","v":""},{"$f":"IF($B$2=StoreConfig!C169,LEFT(StoreConfig!G169,FIND(\"#\",StoreConfig!G169)-1),\"\")","v":""},{"$f":"IF($B$2=StoreConfig!C169,RIGHT(StoreConfig!G169,LEN(StoreConfig!G169)-FIND(\"#\",StoreConfig!G169)),\"\")","v":""},{"$f":"IF($B$2=StoreConfig!C169,IF(StoreConfig!L169=0,\"不限购\",StoreConfig!L169&\"次\"),\"\")","v":""}]
[{"$nulls":3},{"$f":"IF($B$2=StoreConfig!C170,StoreConfig!O170,\"\")","v":""},{"$f":"IF($B$2=StoreConfig!C170,StoreConfig!E170,\"\")","v":""},{"$f":"IF($B$2=StoreConfig!C170,RIGHT(StoreConfig!J170,LEN(StoreConfig!J170)-FIND(\"|\",StoreConfig!J170)),\"\")","v":""},{"$f":"IFERROR(VLOOKUP(--IF($B$2=StoreConfig!C170,LEFT(StoreConfig!J170,FIND(\"|\",StoreConfig!J170)-1),\"\"),$Q$4:$R$20,2,FALSE),\"\")","v":""},{"$f":"IF($B$2=StoreConfig!C170,LEFT(StoreConfig!G170,FIND(\"#\",StoreConfig!G170)-1),\"\")","v":""},{"$f":"IF($B$2=StoreConfig!C170,RIGHT(StoreConfig!G170,LEN(StoreConfig!G170)-FIND(\"#\",StoreConfig!G170)),\"\")","v":""},{"$f":"IF($B$2=StoreConfig!C170,IF(StoreConfig!L170=0,\"不限购\",StoreConfig!L170&\"次\"),\"\")","v":""}]
[{"$nulls":3},{"$f":"IF($B$2=StoreConfig!C171,StoreConfig!O171,\"\")","v":""},{"$f":"IF($B$2=StoreConfig!C171,StoreConfig!E171,\"\")","v":""},{"$f":"IF($B$2=StoreConfig!C171,RIGHT(StoreConfig!J171,LEN(StoreConfig!J171)-FIND(\"|\",StoreConfig!J171)),\"\")","v":""},{"$f":"IFERROR(VLOOKUP(--IF($B$2=StoreConfig!C171,LEFT(StoreConfig!J171,FIND(\"|\",StoreConfig!J171)-1),\"\"),$Q$4:$R$20,2,FALSE),\"\")","v":""},{"$f":"IF($B$2=StoreConfig!C171,LEFT(StoreConfig!G171,FIND(\"#\",StoreConfig!G171)-1),\"\")","v":""},{"$f":"IF($B$2=StoreConfig!C171,RIGHT(StoreConfig!G171,LEN(StoreConfig!G171)-FIND(\"#\",StoreConfig!G171)),\"\")","v":""},{"$f":"IF($B$2=StoreConfig!C171,IF(StoreConfig!L171=0,\"不限购\",StoreConfig!L171&\"次\"),\"\")","v":""}]
[{"$nulls":3},{"$f":"IF($B$2=StoreConfig!C172,StoreConfig!O172,\"\")","v":""},{"$f":"IF($B$2=StoreConfig!C172,StoreConfig!E172,\"\")","v":""},{"$f":"IF($B$2=StoreConfig!C172,RIGHT(StoreConfig!J172,LEN(StoreConfig!J172)-FIND(\"|\",StoreConfig!J172)),\"\")","v":""},{"$f":"IFERROR(VLOOKUP(--IF($B$2=StoreConfig!C172,LEFT(StoreConfig!J172,FIND(\"|\",StoreConfig!J172)-1),\"\"),$Q$4:$R$20,2,FALSE),\"\")","v":""},{"$f":"IF($B$2=StoreConfig!C172,LEFT(StoreConfig!G172,FIND(\"#\",StoreConfig!G172)-1),\"\")","v":""},{"$f":"IF($B$2=StoreConfig!C172,RIGHT(StoreConfig!G172,LEN(StoreConfig!G172)-FIND(\"#\",StoreConfig!G172)),\"\")","v":""},{"$f":"IF($B$2=StoreConfig!C172,IF(StoreConfig!L172=0,\"不限购\",StoreConfig!L172&\"次\"),\"\")","v":""}]
[{"$nulls":3},{"$f":"IF($B$2=StoreConfig!C173,StoreConfig!O173,\"\")","v":""},{"$f":"IF($B$2=StoreConfig!C173,StoreConfig!E173,\"\")","v":""},{"$f":"IF($B$2=StoreConfig!C173,RIGHT(StoreConfig!J173,LEN(StoreConfig!J173)-FIND(\"|\",StoreConfig!J173)),\"\")","v":""},{"$f":"IFERROR(VLOOKUP(--IF($B$2=StoreConfig!C173,LEFT(StoreConfig!J173,FIND(\"|\",StoreConfig!J173)-1),\"\"),$Q$4:$R$20,2,FALSE),\"\")","v":""},{"$f":"IF($B$2=StoreConfig!C173,LEFT(StoreConfig!G173,FIND(\"#\",StoreConfig!G173)-1),\"\")","v":""},{"$f":"IF($B$2=StoreConfig!C173,RIGHT(StoreConfig!G173,LEN(StoreConfig!G173)-FIND(\"#\",StoreConfig!G173)),\"\")","v":""},{"$f":"IF($B$2=StoreConfig!C173,IF(StoreConfig!L173=0,\"不限购\",StoreConfig!L173&\"次\"),\"\")","v":""}]
[{"$nulls":3},{"$f":"IF($B$2=StoreConfig!C174,StoreConfig!O174,\"\")","v":""},{"$f":"IF($B$2=StoreConfig!C174,StoreConfig!E174,\"\")","v":""},{"$f":"IF($B$2=StoreConfig!C174,RIGHT(StoreConfig!J174,LEN(StoreConfig!J174)-FIND(\"|\",StoreConfig!J174)),\"\")","v":""},{"$f":"IFERROR(VLOOKUP(--IF($B$2=StoreConfig!C174,LEFT(StoreConfig!J174,FIND(\"|\",StoreConfig!J174)-1),\"\"),$Q$4:$R$20,2,FALSE),\"\")","v":""},{"$f":"IF($B$2=StoreConfig!C174,LEFT(StoreConfig!G174,FIND(\"#\",StoreConfig!G174)-1),\"\")","v":""},{"$f":"IF($B$2=StoreConfig!C174,RIGHT(StoreConfig!G174,LEN(StoreConfig!G174)-FIND(\"#\",StoreConfig!G174)),\"\")","v":""},{"$f":"IF($B$2=StoreConfig!C174,IF(StoreConfig!L174=0,\"不限购\",StoreConfig!L174&\"次\"),\"\")","v":""}]
[{"$nulls":3},{"$f":"IF($B$2=StoreConfig!C175,StoreConfig!O175,\"\")","v":""},{"$f":"IF($B$2=StoreConfig!C175,StoreConfig!E175,\"\")","v":""},{"$f":"IF($B$2=StoreConfig!C175,RIGHT(StoreConfig!J175,LEN(StoreConfig!J175)-FIND(\"|\",StoreConfig!J175)),\"\")","v":""},{"$f":"IFERROR(VLOOKUP(--IF($B$2=StoreConfig!C175,LEFT(StoreConfig!J175,FIND(\"|\",StoreConfig!J175)-1),\"\"),$Q$4:$R$20,2,FALSE),\"\")","v":""},{"$f":"IF($B$2=StoreConfig!C175,LEFT(StoreConfig!G175,FIND(\"#\",StoreConfig!G175)-1),\"\")","v":""},{"$f":"IF($B$2=StoreConfig!C175,RIGHT(StoreConfig!G175,LEN(StoreConfig!G175)-FIND(\"#\",StoreConfig!G175)),\"\")","v":""},{"$f":"IF($B$2=StoreConfig!C175,IF(StoreConfig!L175=0,\"不限购\",StoreConfig!L175&\"次\"),\"\")","v":""}]
[{"$nulls":3},{"$f":"IF($B$2=StoreConfig!C176,StoreConfig!O176,\"\")","v":""},{"$f":"IF($B$2=StoreConfig!C176,StoreConfig!E176,\"\")","v":""},{"$f":"IF($B$2=StoreConfig!C176,RIGHT(StoreConfig!J176,LEN(StoreConfig!J176)-FIND(\"|\",StoreConfig!J176)),\"\")","v":""},{"$f":"IFERROR(VLOOKUP(--IF($B$2=StoreConfig!C176,LEFT(StoreConfig!J176,FIND(\"|\",StoreConfig!J176)-1),\"\"),$Q$4:$R$20,2,FALSE),\"\")","v":""},{"$f":"IF($B$2=StoreConfig!C176,LEFT(StoreConfig!G176,FIND(\"#\",StoreConfig!G176)-1),\"\")","v":""},{"$f":"IF($B$2=StoreConfig!C176,RIGHT(StoreConfig!G176,LEN(StoreConfig!G176)-FIND(\"#\",StoreConfig!G176)),\"\")","v":""},{"$f":"IF($B$2=StoreConfig!C176,IF(StoreConfig!L176=0,\"不限购\",StoreConfig!L176&\"次\"),\"\")","v":""}]
[{"$nulls":3},{"$f":"IF($B$2=StoreConfig!C177,StoreConfig!O177,\"\")","v":""},{"$f":"IF($B$2=StoreConfig!C177,StoreConfig!E177,\"\")","v":""},{"$f":"IF($B$2=StoreConfig!C177,RIGHT(StoreConfig!J177,LEN(StoreConfig!J177)-FIND(\"|\",StoreConfig!J177)),\"\")","v":""},{"$f":"IFERROR(VLOOKUP(--IF($B$2=StoreConfig!C177,LEFT(StoreConfig!J177,FIND(\"|\",StoreConfig!J177)-1),\"\"),$Q$4:$R$20,2,FALSE),\"\")","v":""},{"$f":"IF($B$2=StoreConfig!C177,LEFT(StoreConfig!G177,FIND(\"#\",StoreConfig!G177)-1),\"\")","v":""},{"$f":"IF($B$2=StoreConfig!C177,RIGHT(StoreConfig!G177,LEN(StoreConfig!G177)-FIND(\"#\",StoreConfig!G177)),\"\")","v":""},{"$f":"IF($B$2=StoreConfig!C177,IF(StoreConfig!L177=0,\"不限购\",StoreConfig!L177&\"次\"),\"\")","v":""}]
[{"$nulls":3},{"$f":"IF($B$2=StoreConfig!C178,StoreConfig!O178,\"\")","v":""},{"$f":"IF($B$2=StoreConfig!C178,StoreConfig!E178,\"\")","v":""},{"$f":"IF($B$2=StoreConfig!C178,RIGHT(StoreConfig!J178,LEN(StoreConfig!J178)-FIND(\"|\",StoreConfig!J178)),\"\")","v":""},{"$f":"IFERROR(VLOOKUP(--IF($B$2=StoreConfig!C178,LEFT(StoreConfig!J178,FIND(\"|\",StoreConfig!J178)-1),\"\"),$Q$4:$R$20,2,FALSE),\"\")","v":""},{"$f":"IF($B$2=StoreConfig!C178,LEFT(StoreConfig!G178,FIND(\"#\",StoreConfig!G178)-1),\"\")","v":""},{"$f":"IF($B$2=StoreConfig!C178,RIGHT(StoreConfig!G178,LEN(StoreConfig!G178)-FIND(\"#\",StoreConfig!G178)),\"\")","v":""},{"$f":"IF($B$2=StoreConfig!C178,IF(StoreConfig!L178=0,\"不限购\",StoreConfig!L178&\"次\"),\"\")","v":""}]
[{"$nulls":3},{"$f":"IF($B$2=StoreConfig!C179,StoreConfig!O179,\"\")","v":""},{"$f":"IF($B$2=StoreConfig!C179,StoreConfig!E179,\"\")","v":""},{"$f":"IF($B$2=StoreConfig!C179,RIGHT(StoreConfig!J179,LEN(StoreConfig!J179)-FIND(\"|\",StoreConfig!J179)),\"\")","v":""},{"$f":"IFERROR(VLOOKUP(--IF($B$2=StoreConfig!C179,LEFT(StoreConfig!J179,FIND(\"|\",StoreConfig!J179)-1),\"\"),$Q$4:$R$20,2,FALSE),\"\")","v":""},{"$f":"IF($B$2=StoreConfig!C179,LEFT(StoreConfig!G179,FIND(\"#\",StoreConfig!G179)-1),\"\")","v":""},{"$f":"IF($B$2=StoreConfig!C179,RIGHT(StoreConfig!G179,LEN(StoreConfig!G179)-FIND(\"#\",StoreConfig!G179)),\"\")","v":""},{"$f":"IF($B$2=StoreConfig!C179,IF(StoreConfig!L179=0,\"不限购\",StoreConfig!L179&\"次\"),\"\")","v":""}]
[{"$nulls":3},{"$f":"IF($B$2=StoreConfig!C180,StoreConfig!O180,\"\")","v":""},{"$f":"IF($B$2=StoreConfig!C180,StoreConfig!E180,\"\")","v":""},{"$f":"IF($B$2=StoreConfig!C180,RIGHT(StoreConfig!J180,LEN(StoreConfig!J180)-FIND(\"|\",StoreConfig!J180)),\"\")","v":""},{"$f":"IFERROR(VLOOKUP(--IF($B$2=StoreConfig!C180,LEFT(StoreConfig!J180,FIND(\"|\",StoreConfig!J180)-1),\"\"),$Q$4:$R$20,2,FALSE),\"\")","v":""},{"$f":"IF($B$2=StoreConfig!C180,LEFT(StoreConfig!G180,FIND(\"#\",StoreConfig!G180)-1),\"\")","v":""},{"$f":"IF($B$2=StoreConfig!C180,RIGHT(StoreConfig!G180,LEN(StoreConfig!G180)-FIND(\"#\",StoreConfig!G180)),\"\")","v":""},{"$f":"IF($B$2=StoreConfig!C180,IF(StoreConfig!L180=0,\"不限购\",StoreConfig!L180&\"次\"),\"\")","v":""}]
[{"$nulls":3},{"$f":"IF($B$2=StoreConfig!C181,StoreConfig!O181,\"\")","v":""},{"$f":"IF($B$2=StoreConfig!C181,StoreConfig!E181,\"\")","v":""},{"$f":"IF($B$2=StoreConfig!C181,RIGHT(StoreConfig!J181,LEN(StoreConfig!J181)-FIND(\"|\",StoreConfig!J181)),\"\")","v":""},{"$f":"IFERROR(VLOOKUP(--IF($B$2=StoreConfig!C181,LEFT(StoreConfig!J181,FIND(\"|\",StoreConfig!J181)-1),\"\"),$Q$4:$R$20,2,FALSE),\"\")","v":""},{"$f":"IF($B$2=StoreConfig!C181,LEFT(StoreConfig!G181,FIND(\"#\",StoreConfig!G181)-1),\"\")","v":""},{"$f":"IF($B$2=StoreConfig!C181,RIGHT(StoreConfig!G181,LEN(StoreConfig!G181)-FIND(\"#\",StoreConfig!G181)),\"\")","v":""},{"$f":"IF($B$2=StoreConfig!C181,IF(StoreConfig!L181=0,\"不限购\",StoreConfig!L181&\"次\"),\"\")","v":""}]
[{"$nulls":3},{"$f":"IF($B$2=StoreConfig!C182,StoreConfig!O182,\"\")","v":""},{"$f":"IF($B$2=StoreConfig!C182,StoreConfig!E182,\"\")","v":""},{"$f":"IF($B$2=StoreConfig!C182,RIGHT(StoreConfig!J182,LEN(StoreConfig!J182)-FIND(\"|\",StoreConfig!J182)),\"\")","v":""},{"$f":"IFERROR(VLOOKUP(--IF($B$2=StoreConfig!C182,LEFT(StoreConfig!J182,FIND(\"|\",StoreConfig!J182)-1),\"\"),$Q$4:$R$20,2,FALSE),\"\")","v":""},{"$f":"IF($B$2=StoreConfig!C182,LEFT(StoreConfig!G182,FIND(\"#\",StoreConfig!G182)-1),\"\")","v":""},{"$f":"IF($B$2=StoreConfig!C182,RIGHT(StoreConfig!G182,LEN(StoreConfig!G182)-FIND(\"#\",StoreConfig!G182)),\"\")","v":""},{"$f":"IF($B$2=StoreConfig!C182,IF(StoreConfig!L182=0,\"不限购\",StoreConfig!L182&\"次\"),\"\")","v":""}]
[{"$nulls":3},{"$f":"IF($B$2=StoreConfig!C183,StoreConfig!O183,\"\")","v":""},{"$f":"IF($B$2=StoreConfig!C183,StoreConfig!E183,\"\")","v":""},{"$f":"IF($B$2=StoreConfig!C183,RIGHT(StoreConfig!J183,LEN(StoreConfig!J183)-FIND(\"|\",StoreConfig!J183)),\"\")","v":""},{"$f":"IFERROR(VLOOKUP(--IF($B$2=StoreConfig!C183,LEFT(StoreConfig!J183,FIND(\"|\",StoreConfig!J183)-1),\"\"),$Q$4:$R$20,2,FALSE),\"\")","v":""},{"$f":"IF($B$2=StoreConfig!C183,LEFT(StoreConfig!G183,FIND(\"#\",StoreConfig!G183)-1),\"\")","v":""},{"$f":"IF($B$2=StoreConfig!C183,RIGHT(StoreConfig!G183,LEN(StoreConfig!G183)-FIND(\"#\",StoreConfig!G183)),\"\")","v":""},{"$f":"IF($B$2=StoreConfig!C183,IF(StoreConfig!L183=0,\"不限购\",StoreConfig!L183&\"次\"),\"\")","v":""}]
[{"$nulls":3},{"$f":"IF($B$2=StoreConfig!C184,StoreConfig!O184,\"\")","v":""},{"$f":"IF($B$2=StoreConfig!C184,StoreConfig!E184,\"\")","v":""},{"$f":"IF($B$2=StoreConfig!C184,RIGHT(StoreConfig!J184,LEN(StoreConfig!J184)-FIND(\"|\",StoreConfig!J184)),\"\")","v":""},{"$f":"IFERROR(VLOOKUP(--IF($B$2=StoreConfig!C184,LEFT(StoreConfig!J184,FIND(\"|\",StoreConfig!J184)-1),\"\"),$Q$4:$R$20,2,FALSE),\"\")","v":""},{"$f":"IF($B$2=StoreConfig!C184,LEFT(StoreConfig!G184,FIND(\"#\",StoreConfig!G184)-1),\"\")","v":""},{"$f":"IF($B$2=StoreConfig!C184,RIGHT(StoreConfig!G184,LEN(StoreConfig!G184)-FIND(\"#\",StoreConfig!G184)),\"\")","v":""},{"$f":"IF($B$2=StoreConfig!C184,IF(StoreConfig!L184=0,\"不限购\",StoreConfig!L184&\"次\"),\"\")","v":""}]
[{"$nulls":3},{"$f":"IF($B$2=StoreConfig!C185,StoreConfig!O185,\"\")","v":""},{"$f":"IF($B$2=StoreConfig!C185,StoreConfig!E185,\"\")","v":""},{"$f":"IF($B$2=StoreConfig!C185,RIGHT(StoreConfig!J185,LEN(StoreConfig!J185)-FIND(\"|\",StoreConfig!J185)),\"\")","v":""},{"$f":"IFERROR(VLOOKUP(--IF($B$2=StoreConfig!C185,LEFT(StoreConfig!J185,FIND(\"|\",StoreConfig!J185)-1),\"\"),$Q$4:$R$20,2,FALSE),\"\")","v":""},{"$f":"IF($B$2=StoreConfig!C185,LEFT(StoreConfig!G185,FIND(\"#\",StoreConfig!G185)-1),\"\")","v":""},{"$f":"IF($B$2=StoreConfig!C185,RIGHT(StoreConfig!G185,LEN(StoreConfig!G185)-FIND(\"#\",StoreConfig!G185)),\"\")","v":""},{"$f":"IF($B$2=StoreConfig!C185,IF(StoreConfig!L185=0,\"不限购\",StoreConfig!L185&\"次\"),\"\")","v":""}]
[{"$nulls":3},{"$f":"IF($B$2=StoreConfig!C186,StoreConfig!O186,\"\")","v":""},{"$f":"IF($B$2=StoreConfig!C186,StoreConfig!E186,\"\")","v":""},{"$f":"IF($B$2=StoreConfig!C186,RIGHT(StoreConfig!J186,LEN(StoreConfig!J186)-FIND(\"|\",StoreConfig!J186)),\"\")","v":""},{"$f":"IFERROR(VLOOKUP(--IF($B$2=StoreConfig!C186,LEFT(StoreConfig!J186,FIND(\"|\",StoreConfig!J186)-1),\"\"),$Q$4:$R$20,2,FALSE),\"\")","v":""},{"$f":"IF($B$2=StoreConfig!C186,LEFT(StoreConfig!G186,FIND(\"#\",StoreConfig!G186)-1),\"\")","v":""},{"$f":"IF($B$2=StoreConfig!C186,RIGHT(StoreConfig!G186,LEN(StoreConfig!G186)-FIND(\"#\",StoreConfig!G186)),\"\")","v":""},{"$f":"IF($B$2=StoreConfig!C186,IF(StoreConfig!L186=0,\"不限购\",StoreConfig!L186&\"次\"),\"\")","v":""}]
[{"$nulls":3},{"$f":"IF($B$2=StoreConfig!C187,StoreConfig!O187,\"\")","v":""},{"$f":"IF($B$2=StoreConfig!C187,StoreConfig!E187,\"\")","v":""},{"$f":"IF($B$2=StoreConfig!C187,RIGHT(StoreConfig!J187,LEN(StoreConfig!J187)-FIND(\"|\",StoreConfig!J187)),\"\")","v":""},{"$f":"IFERROR(VLOOKUP(--IF($B$2=StoreConfig!C187,LEFT(StoreConfig!J187,FIND(\"|\",StoreConfig!J187)-1),\"\"),$Q$4:$R$20,2,FALSE),\"\")","v":""},{"$f":"IF($B$2=StoreConfig!C187,LEFT(StoreConfig!G187,FIND(\"#\",StoreConfig!G187)-1),\"\")","v":""},{"$f":"IF($B$2=StoreConfig!C187,RIGHT(StoreConfig!G187,LEN(StoreConfig!G187)-FIND(\"#\",StoreConfig!G187)),\"\")","v":""},{"$f":"IF($B$2=StoreConfig!C187,IF(StoreConfig!L187=0,\"不限购\",StoreConfig!L187&\"次\"),\"\")","v":""}]
[{"$nulls":3},{"$f":"IF($B$2=StoreConfig!C188,StoreConfig!O188,\"\")","v":""},{"$f":"IF($B$2=StoreConfig!C188,StoreConfig!E188,\"\")","v":""},{"$f":"IF($B$2=StoreConfig!C188,RIGHT(StoreConfig!J188,LEN(StoreConfig!J188)-FIND(\"|\",StoreConfig!J188)),\"\")","v":""},{"$f":"IFERROR(VLOOKUP(--IF($B$2=StoreConfig!C188,LEFT(StoreConfig!J188,FIND(\"|\",StoreConfig!J188)-1),\"\"),$Q$4:$R$20,2,FALSE),\"\")","v":""},{"$f":"IF($B$2=StoreConfig!C188,LEFT(StoreConfig!G188,FIND(\"#\",StoreConfig!G188)-1),\"\")","v":""},{"$f":"IF($B$2=StoreConfig!C188,RIGHT(StoreConfig!G188,LEN(StoreConfig!G188)-FIND(\"#\",StoreConfig!G188)),\"\")","v":""},{"$f":"IF($B$2=StoreConfig!C188,IF(StoreConfig!L188=0,\"不限购\",StoreConfig!L188&\"次\"),\"\")","v":""}]
[{"$nulls":3},{"$f":"IF($B$2=StoreConfig!C189,StoreConfig!O189,\"\")","v":""},{"$f":"IF($B$2=StoreConfig!C189,StoreConfig!E189,\"\")","v":""},{"$f":"IF($B$2=StoreConfig!C189,RIGHT(StoreConfig!J189,LEN(StoreConfig!J189)-FIND(\"|\",StoreConfig!J189)),\"\")","v":""},{"$f":"IFERROR(VLOOKUP(--IF($B$2=StoreConfig!C189,LEFT(StoreConfig!J189,FIND(\"|\",StoreConfig!J189)-1),\"\"),$Q$4:$R$20,2,FALSE),\"\")","v":""},{"$f":"IF($B$2=StoreConfig!C189,LEFT(StoreConfig!G189,FIND(\"#\",StoreConfig!G189)-1),\"\")","v":""},{"$f":"IF($B$2=StoreConfig!C189,RIGHT(StoreConfig!G189,LEN(StoreConfig!G189)-FIND(\"#\",StoreConfig!G189)),\"\")","v":""},{"$f":"IF($B$2=StoreConfig!C189,IF(StoreConfig!L189=0,\"不限购\",StoreConfig!L189&\"次\"),\"\")","v":""}]
[{"$nulls":3},{"$f":"IF($B$2=StoreConfig!C190,StoreConfig!O190,\"\")","v":""},{"$f":"IF($B$2=StoreConfig!C190,StoreConfig!E190,\"\")","v":""},{"$f":"IF($B$2=StoreConfig!C190,RIGHT(StoreConfig!J190,LEN(StoreConfig!J190)-FIND(\"|\",StoreConfig!J190)),\"\")","v":""},{"$f":"IFERROR(VLOOKUP(--IF($B$2=StoreConfig!C190,LEFT(StoreConfig!J190,FIND(\"|\",StoreConfig!J190)-1),\"\"),$Q$4:$R$20,2,FALSE),\"\")","v":""},{"$f":"IF($B$2=StoreConfig!C190,LEFT(StoreConfig!G190,FIND(\"#\",StoreConfig!G190)-1),\"\")","v":""},{"$f":"IF($B$2=StoreConfig!C190,RIGHT(StoreConfig!G190,LEN(StoreConfig!G190)-FIND(\"#\",StoreConfig!G190)),\"\")","v":""},{"$f":"IF($B$2=StoreConfig!C190,IF(StoreConfig!L190=0,\"不限购\",StoreConfig!L190&\"次\"),\"\")","v":""}]
[{"$nulls":3},{"$f":"IF($B$2=StoreConfig!C191,StoreConfig!O191,\"\")","v":""},{"$f":"IF($B$2=StoreConfig!C191,StoreConfig!E191,\"\")","v":""},{"$f":"IF($B$2=StoreConfig!C191,RIGHT(StoreConfig!J191,LEN(StoreConfig!J191)-FIND(\"|\",StoreConfig!J191)),\"\")","v":""},{"$f":"IFERROR(VLOOKUP(--IF($B$2=StoreConfig!C191,LEFT(StoreConfig!J191,FIND(\"|\",StoreConfig!J191)-1),\"\"),$Q$4:$R$20,2,FALSE),\"\")","v":""},{"$f":"IF($B$2=StoreConfig!C191,LEFT(StoreConfig!G191,FIND(\"#\",StoreConfig!G191)-1),\"\")","v":""},{"$f":"IF($B$2=StoreConfig!C191,RIGHT(StoreConfig!G191,LEN(StoreConfig!G191)-FIND(\"#\",StoreConfig!G191)),\"\")","v":""},{"$f":"IF($B$2=StoreConfig!C191,IF(StoreConfig!L191=0,\"不限购\",StoreConfig!L191&\"次\"),\"\")","v":""}]
[{"$nulls":3},{"$f":"IF($B$2=StoreConfig!C192,StoreConfig!O192,\"\")","v":""},{"$f":"IF($B$2=StoreConfig!C192,StoreConfig!E192,\"\")","v":""},{"$f":"IF($B$2=StoreConfig!C192,RIGHT(StoreConfig!J192,LEN(StoreConfig!J192)-FIND(\"|\",StoreConfig!J192)),\"\")","v":""},{"$f":"IFERROR(VLOOKUP(--IF($B$2=StoreConfig!C192,LEFT(StoreConfig!J192,FIND(\"|\",StoreConfig!J192)-1),\"\"),$Q$4:$R$20,2,FALSE),\"\")","v":""},{"$f":"IF($B$2=StoreConfig!C192,LEFT(StoreConfig!G192,FIND(\"#\",StoreConfig!G192)-1),\"\")","v":""},{"$f":"IF($B$2=StoreConfig!C192,RIGHT(StoreConfig!G192,LEN(StoreConfig!G192)-FIND(\"#\",StoreConfig!G192)),\"\")","v":""},{"$f":"IF($B$2=StoreConfig!C192,IF(StoreConfig!L192=0,\"不限购\",StoreConfig!L192&\"次\"),\"\")","v":""}]
[{"$nulls":3},{"$f":"IF($B$2=StoreConfig!C193,StoreConfig!O193,\"\")","v":""},{"$f":"IF($B$2=StoreConfig!C193,StoreConfig!E193,\"\")","v":""},{"$f":"IF($B$2=StoreConfig!C193,RIGHT(StoreConfig!J193,LEN(StoreConfig!J193)-FIND(\"|\",StoreConfig!J193)),\"\")","v":""},{"$f":"IFERROR(VLOOKUP(--IF($B$2=StoreConfig!C193,LEFT(StoreConfig!J193,FIND(\"|\",StoreConfig!J193)-1),\"\"),$Q$4:$R$20,2,FALSE),\"\")","v":""},{"$f":"IF($B$2=StoreConfig!C193,LEFT(StoreConfig!G193,FIND(\"#\",StoreConfig!G193)-1),\"\")","v":""},{"$f":"IF($B$2=StoreConfig!C193,RIGHT(StoreConfig!G193,LEN(StoreConfig!G193)-FIND(\"#\",StoreConfig!G193)),\"\")","v":""},{"$f":"IF($B$2=StoreConfig!C193,IF(StoreConfig!L193=0,\"不限购\",StoreConfig!L193&\"次\"),\"\")","v":""}]
[{"$nulls":3},{"$f":"IF($B$2=StoreConfig!C194,StoreConfig!O194,\"\")","v":""},{"$f":"IF($B$2=StoreConfig!C194,StoreConfig!E194,\"\")","v":""},{"$f":"IF($B$2=StoreConfig!C194,RIGHT(StoreConfig!J194,LEN(StoreConfig!J194)-FIND(\"|\",StoreConfig!J194)),\"\")","v":""},{"$f":"IFERROR(VLOOKUP(--IF($B$2=StoreConfig!C194,LEFT(StoreConfig!J194,FIND(\"|\",StoreConfig!J194)-1),\"\"),$Q$4:$R$20,2,FALSE),\"\")","v":""},{"$f":"IF($B$2=StoreConfig!C194,LEFT(StoreConfig!G194,FIND(\"#\",StoreConfig!G194)-1),\"\")","v":""},{"$f":"IF($B$2=StoreConfig!C194,RIGHT(StoreConfig!G194,LEN(StoreConfig!G194)-FIND(\"#\",StoreConfig!G194)),\"\")","v":""},{"$f":"IF($B$2=StoreConfig!C194,IF(StoreConfig!L194=0,\"不限购\",StoreConfig!L194&\"次\"),\"\")","v":""}]
[{"$nulls":3},{"$f":"IF($B$2=StoreConfig!C195,StoreConfig!O195,\"\")","v":""},{"$f":"IF($B$2=StoreConfig!C195,StoreConfig!E195,\"\")","v":""},{"$f":"IF($B$2=StoreConfig!C195,RIGHT(StoreConfig!J195,LEN(StoreConfig!J195)-FIND(\"|\",StoreConfig!J195)),\"\")","v":""},{"$f":"IFERROR(VLOOKUP(--IF($B$2=StoreConfig!C195,LEFT(StoreConfig!J195,FIND(\"|\",StoreConfig!J195)-1),\"\"),$Q$4:$R$20,2,FALSE),\"\")","v":""},{"$f":"IF($B$2=StoreConfig!C195,LEFT(StoreConfig!G195,FIND(\"#\",StoreConfig!G195)-1),\"\")","v":""},{"$f":"IF($B$2=StoreConfig!C195,RIGHT(StoreConfig!G195,LEN(StoreConfig!G195)-FIND(\"#\",StoreConfig!G195)),\"\")","v":""},{"$f":"IF($B$2=StoreConfig!C195,IF(StoreConfig!L195=0,\"不限购\",StoreConfig!L195&\"次\"),\"\")","v":""}]
[{"$nulls":3},{"$f":"IF($B$2=StoreConfig!C196,StoreConfig!O196,\"\")","v":""},{"$f":"IF($B$2=StoreConfig!C196,StoreConfig!E196,\"\")","v":""},{"$f":"IF($B$2=StoreConfig!C196,RIGHT(StoreConfig!J196,LEN(StoreConfig!J196)-FIND(\"|\",StoreConfig!J196)),\"\")","v":""},{"$f":"IFERROR(VLOOKUP(--IF($B$2=StoreConfig!C196,LEFT(StoreConfig!J196,FIND(\"|\",StoreConfig!J196)-1),\"\"),$Q$4:$R$20,2,FALSE),\"\")","v":""},{"$f":"IF($B$2=StoreConfig!C196,LEFT(StoreConfig!G196,FIND(\"#\",StoreConfig!G196)-1),\"\")","v":""},{"$f":"IF($B$2=StoreConfig!C196,RIGHT(StoreConfig!G196,LEN(StoreConfig!G196)-FIND(\"#\",StoreConfig!G196)),\"\")","v":""},{"$f":"IF($B$2=StoreConfig!C196,IF(StoreConfig!L196=0,\"不限购\",StoreConfig!L196&\"次\"),\"\")","v":""}]
[{"$nulls":3},{"$f":"IF($B$2=StoreConfig!C197,StoreConfig!O197,\"\")","v":""},{"$f":"IF($B$2=StoreConfig!C197,StoreConfig!E197,\"\")","v":""},{"$f":"IF($B$2=StoreConfig!C197,RIGHT(StoreConfig!J197,LEN(StoreConfig!J197)-FIND(\"|\",StoreConfig!J197)),\"\")","v":""},{"$f":"IFERROR(VLOOKUP(--IF($B$2=StoreConfig!C197,LEFT(StoreConfig!J197,FIND(\"|\",StoreConfig!J197)-1),\"\"),$Q$4:$R$20,2,FALSE),\"\")","v":""},{"$f":"IF($B$2=StoreConfig!C197,LEFT(StoreConfig!G197,FIND(\"#\",StoreConfig!G197)-1),\"\")","v":""},{"$f":"IF($B$2=StoreConfig!C197,RIGHT(StoreConfig!G197,LEN(StoreConfig!G197)-FIND(\"#\",StoreConfig!G197)),\"\")","v":""},{"$f":"IF($B$2=StoreConfig!C197,IF(StoreConfig!L197=0,\"不限购\",StoreConfig!L197&\"次\"),\"\")","v":""}]
[{"$nulls":3},{"$f":"IF($B$2=StoreConfig!C198,StoreConfig!O198,\"\")","v":""},{"$f":"IF($B$2=StoreConfig!C198,StoreConfig!E198,\"\")","v":""},{"$f":"IF($B$2=StoreConfig!C198,RIGHT(StoreConfig!J198,LEN(StoreConfig!J198)-FIND(\"|\",StoreConfig!J198)),\"\")","v":""},{"$f":"IFERROR(VLOOKUP(--IF($B$2=StoreConfig!C198,LEFT(StoreConfig!J198,FIND(\"|\",StoreConfig!J198)-1),\"\"),$Q$4:$R$20,2,FALSE),\"\")","v":""},{"$f":"IF($B$2=StoreConfig!C198,LEFT(StoreConfig!G198,FIND(\"#\",StoreConfig!G198)-1),\"\")","v":""},{"$f":"IF($B$2=StoreConfig!C198,RIGHT(StoreConfig!G198,LEN(StoreConfig!G198)-FIND(\"#\",StoreConfig!G198)),\"\")","v":""},{"$f":"IF($B$2=StoreConfig!C198,IF(StoreConfig!L198=0,\"不限购\",StoreConfig!L198&\"次\"),\"\")","v":""}]
[{"$nulls":3},{"$f":"IF($B$2=StoreConfig!C199,StoreConfig!O199,\"\")","v":""},{"$f":"IF($B$2=StoreConfig!C199,StoreConfig!E199,\"\")","v":""},{"$f":"IF($B$2=StoreConfig!C199,RIGHT(StoreConfig!J199,LEN(StoreConfig!J199)-FIND(\"|\",StoreConfig!J199)),\"\")","v":""},{"$f":"IFERROR(VLOOKUP(--IF($B$2=StoreConfig!C199,LEFT(StoreConfig!J199,FIND(\"|\",StoreConfig!J199)-1),\"\"),$Q$4:$R$20,2,FALSE),\"\")","v":""},{"$f":"IF($B$2=StoreConfig!C199,LEFT(StoreConfig!G199,FIND(\"#\",StoreConfig!G199)-1),\"\")","v":""},{"$f":"IF($B$2=StoreConfig!C199,RIGHT(StoreConfig!G199,LEN(StoreConfig!G199)-FIND(\"#\",StoreConfig!G199)),\"\")","v":""},{"$f":"IF($B$2=StoreConfig!C199,IF(StoreConfig!L199=0,\"不限购\",StoreConfig!L199&\"次\"),\"\")","v":""}]
[{"$nulls":3},{"$f":"IF($B$2=StoreConfig!C200,StoreConfig!O200,\"\")","v":""},{"$f":"IF($B$2=StoreConfig!C200,StoreConfig!E200,\"\")","v":""},{"$f":"IF($B$2=StoreConfig!C200,RIGHT(StoreConfig!J200,LEN(StoreConfig!J200)-FIND(\"|\",StoreConfig!J200)),\"\")","v":""},{"$f":"IFERROR(VLOOKUP(--IF($B$2=StoreConfig!C200,LEFT(StoreConfig!J200,FIND(\"|\",StoreConfig!J200)-1),\"\"),$Q$4:$R$20,2,FALSE),\"\")","v":""},{"$f":"IF($B$2=StoreConfig!C200,LEFT(StoreConfig!G200,FIND(\"#\",StoreConfig!G200)-1),\"\")","v":""},{"$f":"IF($B$2=StoreConfig!C200,RIGHT(StoreConfig!G200,LEN(StoreConfig!G200)-FIND(\"#\",StoreConfig!G200)),\"\")","v":""},{"$f":"IF($B$2=StoreConfig!C200,IF(StoreConfig!L200=0,\"不限购\",StoreConfig!L200&\"次\"),\"\")","v":""}]
[{"$nulls":3},{"$f":"IF($B$2=StoreConfig!C201,StoreConfig!O201,\"\")","v":""},{"$f":"IF($B$2=StoreConfig!C201,StoreConfig!E201,\"\")","v":""},{"$f":"IF($B$2=StoreConfig!C201,RIGHT(StoreConfig!J201,LEN(StoreConfig!J201)-FIND(\"|\",StoreConfig!J201)),\"\")","v":""},{"$f":"IFERROR(VLOOKUP(--IF($B$2=StoreConfig!C201,LEFT(StoreConfig!J201,FIND(\"|\",StoreConfig!J201)-1),\"\"),$Q$4:$R$20,2,FALSE),\"\")","v":""},{"$f":"IF($B$2=StoreConfig!C201,LEFT(StoreConfig!G201,FIND(\"#\",StoreConfig!G201)-1),\"\")","v":""},{"$f":"IF($B$2=StoreConfig!C201,RIGHT(StoreConfig!G201,LEN(StoreConfig!G201)-FIND(\"#\",StoreConfig!G201)),\"\")","v":""},{"$f":"IF($B$2=StoreConfig!C201,IF(StoreConfig!L201=0,\"不限购\",StoreConfig!L201&\"次\"),\"\")","v":""}]
[{"$nulls":3},{"$f":"IF($B$2=StoreConfig!C202,StoreConfig!O202,\"\")","v":""},{"$f":"IF($B$2=StoreConfig!C202,StoreConfig!E202,\"\")","v":""},{"$f":"IF($B$2=StoreConfig!C202,RIGHT(StoreConfig!J202,LEN(StoreConfig!J202)-FIND(\"|\",StoreConfig!J202)),\"\")","v":""},{"$f":"IFERROR(VLOOKUP(--IF($B$2=StoreConfig!C202,LEFT(StoreConfig!J202,FIND(\"|\",StoreConfig!J202)-1),\"\"),$Q$4:$R$20,2,FALSE),\"\")","v":""},{"$f":"IF($B$2=StoreConfig!C202,LEFT(StoreConfig!G202,FIND(\"#\",StoreConfig!G202)-1),\"\")","v":""},{"$f":"IF($B$2=StoreConfig!C202,RIGHT(StoreConfig!G202,LEN(StoreConfig!G202)-FIND(\"#\",StoreConfig!G202)),\"\")","v":""},{"$f":"IF($B$2=StoreConfig!C202,IF(StoreConfig!L202=0,\"不限购\",StoreConfig!L202&\"次\"),\"\")","v":""}]
[{"$nulls":3},{"$f":"IF($B$2=StoreConfig!C203,StoreConfig!O203,\"\")","v":""},{"$f":"IF($B$2=StoreConfig!C203,StoreConfig!E203,\"\")","v":""},{"$f":"IF($B$2=StoreConfig!C203,RIGHT(StoreConfig!J203,LEN(StoreConfig!J203)-FIND(\"|\",StoreConfig!J203)),\"\")","v":""},{"$f":"IFERROR(VLOOKUP(--IF($B$2=StoreConfig!C203,LEFT(StoreConfig!J203,FIND(\"|\",StoreConfig!J203)-1),\"\"),$Q$4:$R$20,2,FALSE),\"\")","v":""},{"$f":"IF($B$2=StoreConfig!C203,LEFT(StoreConfig!G203,FIND(\"#\",StoreConfig!G203)-1),\"\")","v":""},{"$f":"IF($B$2=StoreConfig!C203,RIGHT(StoreConfig!G203,LEN(StoreConfig!G203)-FIND(\"#\",StoreConfig!G203)),\"\")","v":""},{"$f":"IF($B$2=StoreConfig!C203,IF(StoreConfig!L203=0,\"不限购\",StoreConfig!L203&\"次\"),\"\")","v":""}]
[{"$nulls":3},{"$f":"IF($B$2=StoreConfig!C204,StoreConfig!O204,\"\")","v":""},{"$f":"IF($B$2=StoreConfig!C204,StoreConfig!E204,\"\")","v":""},{"$f":"IF($B$2=StoreConfig!C204,RIGHT(StoreConfig!J204,LEN(StoreConfig!J204)-FIND(\"|\",StoreConfig!J204)),\"\")","v":""},{"$f":"IFERROR(VLOOKUP(--IF($B$2=StoreConfig!C204,LEFT(StoreConfig!J204,FIND(\"|\",StoreConfig!J204)-1),\"\"),$Q$4:$R$20,2,FALSE),\"\")","v":""},{"$f":"IF($B$2=StoreConfig!C204,LEFT(StoreConfig!G204,FIND(\"#\",StoreConfig!G204)-1),\"\")","v":""},{"$f":"IF($B$2=StoreConfig!C204,RIGHT(StoreConfig!G204,LEN(StoreConfig!G204)-FIND(\"#\",StoreConfig!G204)),\"\")","v":""},{"$f":"IF($B$2=StoreConfig!C204,IF(StoreConfig!L204=0,\"不限购\",StoreConfig!L204&\"次\"),\"\")","v":""}]
[{"$nulls":3},{"$f":"IF($B$2=StoreConfig!C205,StoreConfig!O205,\"\")","v":""},{"$f":"IF($B$2=StoreConfig!C205,StoreConfig!E205,\"\")","v":""},{"$f":"IF($B$2=StoreConfig!C205,RIGHT(StoreConfig!J205,LEN(StoreConfig!J205)-FIND(\"|\",StoreConfig!J205)),\"\")","v":""},{"$f":"IFERROR(VLOOKUP(--IF($B$2=StoreConfig!C205,LEFT(StoreConfig!J205,FIND(\"|\",StoreConfig!J205)-1),\"\"),$Q$4:$R$20,2,FALSE),\"\")","v":""},{"$f":"IF($B$2=StoreConfig!C205,LEFT(StoreConfig!G205,FIND(\"#\",StoreConfig!G205)-1),\"\")","v":""},{"$f":"IF($B$2=StoreConfig!C205,RIGHT(StoreConfig!G205,LEN(StoreConfig!G205)-FIND(\"#\",StoreConfig!G205)),\"\")","v":""},{"$f":"IF($B$2=StoreConfig!C205,IF(StoreConfig!L205=0,\"不限购\",StoreConfig!L205&\"次\"),\"\")","v":""}]
[{"$nulls":3},{"$f":"IF($B$2=StoreConfig!C206,StoreConfig!O206,\"\")","v":""},{"$f":"IF($B$2=StoreConfig!C206,StoreConfig!E206,\"\")","v":""},{"$f":"IF($B$2=StoreConfig!C206,RIGHT(StoreConfig!J206,LEN(StoreConfig!J206)-FIND(\"|\",StoreConfig!J206)),\"\")","v":""},{"$f":"IFERROR(VLOOKUP(--IF($B$2=StoreConfig!C206,LEFT(StoreConfig!J206,FIND(\"|\",StoreConfig!J206)-1),\"\"),$Q$4:$R$20,2,FALSE),\"\")","v":""},{"$f":"IF($B$2=StoreConfig!C206,LEFT(StoreConfig!G206,FIND(\"#\",StoreConfig!G206)-1),\"\")","v":""},{"$f":"IF($B$2=StoreConfig!C206,RIGHT(StoreConfig!G206,LEN(StoreConfig!G206)-FIND(\"#\",StoreConfig!G206)),\"\")","v":""},{"$f":"IF($B$2=StoreConfig!C206,IF(StoreConfig!L206=0,\"不限购\",StoreConfig!L206&\"次\"),\"\")","v":""}]
[{"$nulls":3},{"$f":"IF($B$2=StoreConfig!C207,StoreConfig!O207,\"\")","v":""},{"$f":"IF($B$2=StoreConfig!C207,StoreConfig!E207,\"\")","v":""},{"$f":"IF($B$2=StoreConfig!C207,RIGHT(StoreConfig!J207,LEN(StoreConfig!J207)-FIND(\"|\",StoreConfig!J207)),\"\")","v":""},{"$f":"IFERROR(VLOOKUP(--IF($B$2=StoreConfig!C207,LEFT(StoreConfig!J207,FIND(\"|\",StoreConfig!J207)-1),\"\"),$Q$4:$R$20,2,FALSE),\"\")","v":""},{"$f":"IF($B$2=StoreConfig!C207,LEFT(StoreConfig!G207,FIND(\"#\",StoreConfig!G207)-1),\"\")","v":""},{"$f":"IF($B$2=StoreConfig!C207,RIGHT(StoreConfig!G207,LEN(StoreConfig!G207)-FIND(\"#\",StoreConfig!G207)),\"\")","v":""},{"$f":"IF($B$2=StoreConfig!C207,IF(StoreConfig!L207=0,\"不限购\",StoreConfig!L207&\"次\"),\"\")","v":""}]
[{"$nulls":3},{"$f":"IF($B$2=StoreConfig!C208,StoreConfig!O208,\"\")","v":""},{"$f":"IF($B$2=StoreConfig!C208,StoreConfig!E208,\"\")","v":""},{"$f":"IF($B$2=StoreConfig!C208,RIGHT(StoreConfig!J208,LEN(StoreConfig!J208)-FIND(\"|\",StoreConfig!J208)),\"\")","v":""},{"$f":"IFERROR(VLOOKUP(--IF($B$2=StoreConfig!C208,LEFT(StoreConfig!J208,FIND(\"|\",StoreConfig!J208)-1),\"\"),$Q$4:$R$20,2,FALSE),\"\")","v":""},{"$f":"IF($B$2=StoreConfig!C208,LEFT(StoreConfig!G208,FIND(\"#\",StoreConfig!G208)-1),\"\")","v":""},{"$f":"IF($B$2=StoreConfig!C208,RIGHT(StoreConfig!G208,LEN(StoreConfig!G208)-FIND(\"#\",StoreConfig!G208)),\"\")","v":""},{"$f":"IF($B$2=StoreConfig!C208,IF(StoreConfig!L208=0,\"不限购\",StoreConfig!L208&\"次\"),\"\")","v":""}]
[{"$nulls":3},{"$f":"IF($B$2=StoreConfig!C209,StoreConfig!O209,\"\")","v":""},{"$f":"IF($B$2=StoreConfig!C209,StoreConfig!E209,\"\")","v":""},{"$f":"IF($B$2=StoreConfig!C209,RIGHT(StoreConfig!J209,LEN(StoreConfig!J209)-FIND(\"|\",StoreConfig!J209)),\"\")","v":""},{"$f":"IFERROR(VLOOKUP(--IF($B$2=StoreConfig!C209,LEFT(StoreConfig!J209,FIND(\"|\",StoreConfig!J209)-1),\"\"),$Q$4:$R$20,2,FALSE),\"\")","v":""},{"$f":"IF($B$2=StoreConfig!C209,LEFT(StoreConfig!G209,FIND(\"#\",StoreConfig!G209)-1),\"\")","v":""},{"$f":"IF($B$2=StoreConfig!C209,RIGHT(StoreConfig!G209,LEN(StoreConfig!G209)-FIND(\"#\",StoreConfig!G209)),\"\")","v":""},{"$f":"IF($B$2=StoreConfig!C209,IF(StoreConfig!L209=0,\"不限购\",StoreConfig!L209&\"次\"),\"\")","v":""}]
[{"$nulls":3},{"$f":"IF($B$2=StoreConfig!C210,StoreConfig!O210,\"\")","v":""},{"$f":"IF($B$2=StoreConfig!C210,StoreConfig!E210,\"\")","v":""},{"$f":"IF($B$2=StoreConfig!C210,RIGHT(StoreConfig!J210,LEN(StoreConfig!J210)-FIND(\"|\",StoreConfig!J210)),\"\")","v":""},{"$f":"IFERROR(VLOOKUP(--IF($B$2=StoreConfig!C210,LEFT(StoreConfig!J210,FIND(\"|\",StoreConfig!J210)-1),\"\"),$Q$4:$R$20,2,FALSE),\"\")","v":""},{"$f":"IF($B$2=StoreConfig!C210,LEFT(StoreConfig!G210,FIND(\"#\",StoreConfig!G210)-1),\"\")","v":""},{"$f":"IF($B$2=StoreConfig!C210,RIGHT(StoreConfig!G210,LEN(StoreConfig!G210)-FIND(\"#\",StoreConfig!G210)),\"\")","v":""},{"$f":"IF($B$2=StoreConfig!C210,IF(StoreConfig!L210=0,\"不限购\",StoreConfig!L210&\"次\"),\"\")","v":""}]
[{"$nulls":3},{"$f":"IF($B$2=StoreConfig!C211,StoreConfig!O211,\"\")","v":""},{"$f":"IF($B$2=StoreConfig!C211,StoreConfig!E211,\"\")","v":""},{"$f":"IF($B$2=StoreConfig!C211,RIGHT(StoreConfig!J211,LEN(StoreConfig!J211)-FIND(\"|\",StoreConfig!J211)),\"\")","v":""},{"$f":"IFERROR(VLOOKUP(--IF($B$2=StoreConfig!C211,LEFT(StoreConfig!J211,FIND(\"|\",StoreConfig!J211)-1),\"\"),$Q$4:$R$20,2,FALSE),\"\")","v":""},{"$f":"IF($B$2=StoreConfig!C211,LEFT(StoreConfig!G211,FIND(\"#\",StoreConfig!G211)-1),\"\")","v":""},{"$f":"IF($B$2=StoreConfig!C211,RIGHT(StoreConfig!G211,LEN(StoreConfig!G211)-FIND(\"#\",StoreConfig!G211)),\"\")","v":""},{"$f":"IF($B$2=StoreConfig!C211,IF(StoreConfig!L211=0,\"不限购\",StoreConfig!L211&\"次\"),\"\")","v":""}]
[{"$nulls":3},{"$f":"IF($B$2=StoreConfig!C212,StoreConfig!O212,\"\")","v":""},{"$f":"IF($B$2=StoreConfig!C212,StoreConfig!E212,\"\")","v":""},{"$f":"IF($B$2=StoreConfig!C212,RIGHT(StoreConfig!J212,LEN(StoreConfig!J212)-FIND(\"|\",StoreConfig!J212)),\"\")","v":""},{"$f":"IFERROR(VLOOKUP(--IF($B$2=StoreConfig!C212,LEFT(StoreConfig!J212,FIND(\"|\",StoreConfig!J212)-1),\"\"),$Q$4:$R$20,2,FALSE),\"\")","v":""},{"$f":"IF($B$2=StoreConfig!C212,LEFT(StoreConfig!G212,FIND(\"#\",StoreConfig!G212)-1),\"\")","v":""},{"$f":"IF($B$2=StoreConfig!C212,RIGHT(StoreConfig!G212,LEN(StoreConfig!G212)-FIND(\"#\",StoreConfig!G212)),\"\")","v":""},{"$f":"IF($B$2=StoreConfig!C212,IF(StoreConfig!L212=0,\"不限购\",StoreConfig!L212&\"次\"),\"\")","v":""}]
[{"$nulls":3},{"$f":"IF($B$2=StoreConfig!C213,StoreConfig!O213,\"\")","v":""},{"$f":"IF($B$2=StoreConfig!C213,StoreConfig!E213,\"\")","v":""},{"$f":"IF($B$2=StoreConfig!C213,RIGHT(StoreConfig!J213,LEN(StoreConfig!J213)-FIND(\"|\",StoreConfig!J213)),\"\")","v":""},{"$f":"IFERROR(VLOOKUP(--IF($B$2=StoreConfig!C213,LEFT(StoreConfig!J213,FIND(\"|\",StoreConfig!J213)-1),\"\"),$Q$4:$R$20,2,FALSE),\"\")","v":""},{"$f":"IF($B$2=StoreConfig!C213,LEFT(StoreConfig!G213,FIND(\"#\",StoreConfig!G213)-1),\"\")","v":""},{"$f":"IF($B$2=StoreConfig!C213,RIGHT(StoreConfig!G213,LEN(StoreConfig!G213)-FIND(\"#\",StoreConfig!G213)),\"\")","v":""},{"$f":"IF($B$2=StoreConfig!C213,IF(StoreConfig!L213=0,\"不限购\",StoreConfig!L213&\"次\"),\"\")","v":""}]
[{"$nulls":3},{"$f":"IF($B$2=StoreConfig!C214,StoreConfig!O214,\"\")","v":""},{"$f":"IF($B$2=StoreConfig!C214,StoreConfig!E214,\"\")","v":""},{"$f":"IF($B$2=StoreConfig!C214,RIGHT(StoreConfig!J214,LEN(StoreConfig!J214)-FIND(\"|\",StoreConfig!J214)),\"\")","v":""},{"$f":"IFERROR(VLOOKUP(--IF($B$2=StoreConfig!C214,LEFT(StoreConfig!J214,FIND(\"|\",StoreConfig!J214)-1),\"\"),$Q$4:$R$20,2,FALSE),\"\")","v":""},{"$f":"IF($B$2=StoreConfig!C214,LEFT(StoreConfig!G214,FIND(\"#\",StoreConfig!G214)-1),\"\")","v":""},{"$f":"IF($B$2=StoreConfig!C214,RIGHT(StoreConfig!G214,LEN(StoreConfig!G214)-FIND(\"#\",StoreConfig!G214)),\"\")","v":""},{"$f":"IF($B$2=StoreConfig!C214,IF(StoreConfig!L214=0,\"不限购\",StoreConfig!L214&\"次\"),\"\")","v":""}]
[{"$nulls":3},{"$f":"IF($B$2=StoreConfig!C215,StoreConfig!O215,\"\")","v":""},{"$f":"IF($B$2=StoreConfig!C215,StoreConfig!E215,\"\")","v":""},{"$f":"IF($B$2=StoreConfig!C215,RIGHT(StoreConfig!J215,LEN(StoreConfig!J215)-FIND(\"|\",StoreConfig!J215)),\"\")","v":""},{"$f":"IFERROR(VLOOKUP(--IF($B$2=StoreConfig!C215,LEFT(StoreConfig!J215,FIND(\"|\",StoreConfig!J215)-1),\"\"),$Q$4:$R$20,2,FALSE),\"\")","v":""},{"$f":"IF($B$2=StoreConfig!C215,LEFT(StoreConfig!G215,FIND(\"#\",StoreConfig!G215)-1),\"\")","v":""},{"$f":"IF($B$2=StoreConfig!C215,RIGHT(StoreConfig!G215,LEN(StoreConfig!G215)-FIND(\"#\",StoreConfig!G215)),\"\")","v":""},{"$f":"IF($B$2=StoreConfig!C215,IF(StoreConfig!L215=0,\"不限购\",StoreConfig!L215&\"次\"),\"\")","v":""}]
[{"$nulls":3},{"$f":"IF($B$2=StoreConfig!C216,StoreConfig!O216,\"\")","v":""},{"$f":"IF($B$2=StoreConfig!C216,StoreConfig!E216,\"\")","v":""},{"$f":"IF($B$2=StoreConfig!C216,RIGHT(StoreConfig!J216,LEN(StoreConfig!J216)-FIND(\"|\",StoreConfig!J216)),\"\")","v":""},{"$f":"IFERROR(VLOOKUP(--IF($B$2=StoreConfig!C216,LEFT(StoreConfig!J216,FIND(\"|\",StoreConfig!J216)-1),\"\"),$Q$4:$R$20,2,FALSE),\"\")","v":""},{"$f":"IF($B$2=StoreConfig!C216,LEFT(StoreConfig!G216,FIND(\"#\",StoreConfig!G216)-1),\"\")","v":""},{"$f":"IF($B$2=StoreConfig!C216,RIGHT(StoreConfig!G216,LEN(StoreConfig!G216)-FIND(\"#\",StoreConfig!G216)),\"\")","v":""},{"$f":"IF($B$2=StoreConfig!C216,IF(StoreConfig!L216=0,\"不限购\",StoreConfig!L216&\"次\"),\"\")","v":""}]
[{"$nulls":3},{"$f":"IF($B$2=StoreConfig!C217,StoreConfig!O217,\"\")","v":""},{"$f":"IF($B$2=StoreConfig!C217,StoreConfig!E217,\"\")","v":""},{"$f":"IF($B$2=StoreConfig!C217,RIGHT(StoreConfig!J217,LEN(StoreConfig!J217)-FIND(\"|\",StoreConfig!J217)),\"\")","v":""},{"$f":"IFERROR(VLOOKUP(--IF($B$2=StoreConfig!C217,LEFT(StoreConfig!J217,FIND(\"|\",StoreConfig!J217)-1),\"\"),$Q$4:$R$20,2,FALSE),\"\")","v":""},{"$f":"IF($B$2=StoreConfig!C217,LEFT(StoreConfig!G217,FIND(\"#\",StoreConfig!G217)-1),\"\")","v":""},{"$f":"IF($B$2=StoreConfig!C217,RIGHT(StoreConfig!G217,LEN(StoreConfig!G217)-FIND(\"#\",StoreConfig!G217)),\"\")","v":""},{"$f":"IF($B$2=StoreConfig!C217,IF(StoreConfig!L217=0,\"不限购\",StoreConfig!L217&\"次\"),\"\")","v":""}]
[{"$nulls":3},{"$f":"IF($B$2=StoreConfig!C218,StoreConfig!O218,\"\")","v":""},{"$f":"IF($B$2=StoreConfig!C218,StoreConfig!E218,\"\")","v":""},{"$f":"IF($B$2=StoreConfig!C218,RIGHT(StoreConfig!J218,LEN(StoreConfig!J218)-FIND(\"|\",StoreConfig!J218)),\"\")","v":""},{"$f":"IFERROR(VLOOKUP(--IF($B$2=StoreConfig!C218,LEFT(StoreConfig!J218,FIND(\"|\",StoreConfig!J218)-1),\"\"),$Q$4:$R$20,2,FALSE),\"\")","v":""},{"$f":"IF($B$2=StoreConfig!C218,LEFT(StoreConfig!G218,FIND(\"#\",StoreConfig!G218)-1),\"\")","v":""},{"$f":"IF($B$2=StoreConfig!C218,RIGHT(StoreConfig!G218,LEN(StoreConfig!G218)-FIND(\"#\",StoreConfig!G218)),\"\")","v":""},{"$f":"IF($B$2=StoreConfig!C218,IF(StoreConfig!L218=0,\"不限购\",StoreConfig!L218&\"次\"),\"\")","v":""}]
[{"$nulls":3},{"$f":"IF($B$2=StoreConfig!C219,StoreConfig!O219,\"\")","v":""},{"$f":"IF($B$2=StoreConfig!C219,StoreConfig!E219,\"\")","v":""},{"$f":"IF($B$2=StoreConfig!C219,RIGHT(StoreConfig!J219,LEN(StoreConfig!J219)-FIND(\"|\",StoreConfig!J219)),\"\")","v":""},{"$f":"IFERROR(VLOOKUP(--IF($B$2=StoreConfig!C219,LEFT(StoreConfig!J219,FIND(\"|\",StoreConfig!J219)-1),\"\"),$Q$4:$R$20,2,FALSE),\"\")","v":""},{"$f":"IF($B$2=StoreConfig!C219,LEFT(StoreConfig!G219,FIND(\"#\",StoreConfig!G219)-1),\"\")","v":""},{"$f":"IF($B$2=StoreConfig!C219,RIGHT(StoreConfig!G219,LEN(StoreConfig!G219)-FIND(\"#\",StoreConfig!G219)),\"\")","v":""},{"$f":"IF($B$2=StoreConfig!C219,IF(StoreConfig!L219=0,\"不限购\",StoreConfig!L219&\"次\"),\"\")","v":""}]
[{"$nulls":3},{"$f":"IF($B$2=StoreConfig!C220,StoreConfig!O220,\"\")","v":""},{"$f":"IF($B$2=StoreConfig!C220,StoreConfig!E220,\"\")","v":""},{"$f":"IF($B$2=StoreConfig!C220,RIGHT(StoreConfig!J220,LEN(StoreConfig!J220)-FIND(\"|\",StoreConfig!J220)),\"\")","v":""},{"$f":"IFERROR(VLOOKUP(--IF($B$2=StoreConfig!C220,LEFT(StoreConfig!J220,FIND(\"|\",StoreConfig!J220)-1),\"\"),$Q$4:$R$20,2,FALSE),\"\")","v":""},{"$f":"IF($B$2=StoreConfig!C220,LEFT(StoreConfig!G220,FIND(\"#\",StoreConfig!G220)-1),\"\")","v":""},{"$f":"IF($B$2=StoreConfig!C220,RIGHT(StoreConfig!G220,LEN(StoreConfig!G220)-FIND(\"#\",StoreConfig!G220)),\"\")","v":""},{"$f":"IF($B$2=StoreConfig!C220,IF(StoreConfig!L220=0,\"不限购\",StoreConfig!L220&\"次\"),\"\")","v":""}]
[{"$nulls":3},{"$f":"IF($B$2=StoreConfig!C221,StoreConfig!O221,\"\")","v":""},{"$f":"IF($B$2=StoreConfig!C221,StoreConfig!E221,\"\")","v":""},{"$f":"IF($B$2=StoreConfig!C221,RIGHT(StoreConfig!J221,LEN(StoreConfig!J221)-FIND(\"|\",StoreConfig!J221)),\"\")","v":""},{"$f":"IFERROR(VLOOKUP(--IF($B$2=StoreConfig!C221,LEFT(StoreConfig!J221,FIND(\"|\",StoreConfig!J221)-1),\"\"),$Q$4:$R$20,2,FALSE),\"\")","v":""},{"$f":"IF($B$2=StoreConfig!C221,LEFT(StoreConfig!G221,FIND(\"#\",StoreConfig!G221)-1),\"\")","v":""},{"$f":"IF($B$2=StoreConfig!C221,RIGHT(StoreConfig!G221,LEN(StoreConfig!G221)-FIND(\"#\",StoreConfig!G221)),\"\")","v":""},{"$f":"IF($B$2=StoreConfig!C221,IF(StoreConfig!L221=0,\"不限购\",StoreConfig!L221&\"次\"),\"\")","v":""}]
[{"$nulls":3},{"$f":"IF($B$2=StoreConfig!C222,StoreConfig!O222,\"\")","v":""},{"$f":"IF($B$2=StoreConfig!C222,StoreConfig!E222,\"\")","v":""},{"$f":"IF($B$2=StoreConfig!C222,RIGHT(StoreConfig!J222,LEN(StoreConfig!J222)-FIND(\"|\",StoreConfig!J222)),\"\")","v":""},{"$f":"IFERROR(VLOOKUP(--IF($B$2=StoreConfig!C222,LEFT(StoreConfig!J222,FIND(\"|\",StoreConfig!J222)-1),\"\"),$Q$4:$R$20,2,FALSE),\"\")","v":""},{"$f":"IF($B$2=StoreConfig!C222,LEFT(StoreConfig!G222,FIND(\"#\",StoreConfig!G222)-1),\"\")","v":""},{"$f":"IF($B$2=StoreConfig!C222,RIGHT(StoreConfig!G222,LEN(StoreConfig!G222)-FIND(\"#\",StoreConfig!G222)),\"\")","v":""},{"$f":"IF($B$2=StoreConfig!C222,IF(StoreConfig!L222=0,\"不限购\",StoreConfig!L222&\"次\"),\"\")","v":""}]
[{"$nulls":3},{"$f":"IF($B$2=StoreConfig!C223,StoreConfig!O223,\"\")","v":""},{"$f":"IF($B$2=StoreConfig!C223,StoreConfig!E223,\"\")","v":""},{"$f":"IF($B$2=StoreConfig!C223,RIGHT(StoreConfig!J223,LEN(StoreConfig!J223)-FIND(\"|\",StoreConfig!J223)),\"\")","v":""},{"$f":"IFERROR(VLOOKUP(--IF($B$2=StoreConfig!C223,LEFT(StoreConfig!J223,FIND(\"|\",StoreConfig!J223)-1),\"\"),$Q$4:$R$20,2,FALSE),\"\")","v":""},{"$f":"IF($B$2=StoreConfig!C223,LEFT(StoreConfig!G223,FIND(\"#\",StoreConfig!G223)-1),\"\")","v":""},{"$f":"IF($B$2=StoreConfig!C223,RIGHT(StoreConfig!G223,LEN(StoreConfig!G223)-FIND(\"#\",StoreConfig!G223)),\"\")","v":""},{"$f":"IF($B$2=StoreConfig!C223,IF(StoreConfig!L223=0,\"不限购\",StoreConfig!L223&\"次\"),\"\")","v":""}]
[{"$nulls":3},{"$f":"IF($B$2=StoreConfig!C224,StoreConfig!O224,\"\")","v":""},{"$f":"IF($B$2=StoreConfig!C224,StoreConfig!E224,\"\")","v":""},{"$f":"IF($B$2=StoreConfig!C224,RIGHT(StoreConfig!J224,LEN(StoreConfig!J224)-FIND(\"|\",StoreConfig!J224)),\"\")","v":""},{"$f":"IFERROR(VLOOKUP(--IF($B$2=StoreConfig!C224,LEFT(StoreConfig!J224,FIND(\"|\",StoreConfig!J224)-1),\"\"),$Q$4:$R$20,2,FALSE),\"\")","v":""},{"$f":"IF($B$2=StoreConfig!C224,LEFT(StoreConfig!G224,FIND(\"#\",StoreConfig!G224)-1),\"\")","v":""},{"$f":"IF($B$2=StoreConfig!C224,RIGHT(StoreConfig!G224,LEN(StoreConfig!G224)-FIND(\"#\",StoreConfig!G224)),\"\")","v":""},{"$f":"IF($B$2=StoreConfig!C224,IF(StoreConfig!L224=0,\"不限购\",StoreConfig!L224&\"次\"),\"\")","v":""}]
[{"$nulls":3},{"$f":"IF($B$2=StoreConfig!C225,StoreConfig!O225,\"\")","v":""},{"$f":"IF($B$2=StoreConfig!C225,StoreConfig!E225,\"\")","v":""},{"$f":"IF($B$2=StoreConfig!C225,RIGHT(StoreConfig!J225,LEN(StoreConfig!J225)-FIND(\"|\",StoreConfig!J225)),\"\")","v":""},{"$f":"IFERROR(VLOOKUP(--IF($B$2=StoreConfig!C225,LEFT(StoreConfig!J225,FIND(\"|\",StoreConfig!J225)-1),\"\"),$Q$4:$R$20,2,FALSE),\"\")","v":""},{"$f":"IF($B$2=StoreConfig!C225,LEFT(StoreConfig!G225,FIND(\"#\",StoreConfig!G225)-1),\"\")","v":""},{"$f":"IF($B$2=StoreConfig!C225,RIGHT(StoreConfig!G225,LEN(StoreConfig!G225)-FIND(\"#\",StoreConfig!G225)),\"\")","v":""},{"$f":"IF($B$2=StoreConfig!C225,IF(StoreConfig!L225=0,\"不限购\",StoreConfig!L225&\"次\"),\"\")","v":""}]
[{"$nulls":3},{"$f":"IF($B$2=StoreConfig!C226,StoreConfig!O226,\"\")","v":""},{"$f":"IF($B$2=StoreConfig!C226,StoreConfig!E226,\"\")","v":""},{"$f":"IF($B$2=StoreConfig!C226,RIGHT(StoreConfig!J226,LEN(StoreConfig!J226)-FIND(\"|\",StoreConfig!J226)),\"\")","v":""},{"$f":"IFERROR(VLOOKUP(--IF($B$2=StoreConfig!C226,LEFT(StoreConfig!J226,FIND(\"|\",StoreConfig!J226)-1),\"\"),$Q$4:$R$20,2,FALSE),\"\")","v":""},{"$f":"IF($B$2=StoreConfig!C226,LEFT(StoreConfig!G226,FIND(\"#\",StoreConfig!G226)-1),\"\")","v":""},{"$f":"IF($B$2=StoreConfig!C226,RIGHT(StoreConfig!G226,LEN(StoreConfig!G226)-FIND(\"#\",StoreConfig!G226)),\"\")","v":""},{"$f":"IF($B$2=StoreConfig!C226,IF(StoreConfig!L226=0,\"不限购\",StoreConfig!L226&\"次\"),\"\")","v":""}]
[{"$nulls":3},{"$f":"IF($B$2=StoreConfig!C227,StoreConfig!O227,\"\")","v":""},{"$f":"IF($B$2=StoreConfig!C227,StoreConfig!E227,\"\")","v":""},{"$f":"IF($B$2=StoreConfig!C227,RIGHT(StoreConfig!J227,LEN(StoreConfig!J227)-FIND(\"|\",StoreConfig!J227)),\"\")","v":""},{"$f":"IFERROR(VLOOKUP(--IF($B$2=StoreConfig!C227,LEFT(StoreConfig!J227,FIND(\"|\",StoreConfig!J227)-1),\"\"),$Q$4:$R$20,2,FALSE),\"\")","v":""},{"$f":"IF($B$2=StoreConfig!C227,LEFT(StoreConfig!G227,FIND(\"#\",StoreConfig!G227)-1),\"\")","v":""},{"$f":"IF($B$2=StoreConfig!C227,RIGHT(StoreConfig!G227,LEN(StoreConfig!G227)-FIND(\"#\",StoreConfig!G227)),\"\")","v":""},{"$f":"IF($B$2=StoreConfig!C227,IF(StoreConfig!L227=0,\"不限购\",StoreConfig!L227&\"次\"),\"\")","v":""}]
[{"$nulls":3},{"$f":"IF($B$2=StoreConfig!C228,StoreConfig!O228,\"\")","v":""},{"$f":"IF($B$2=StoreConfig!C228,StoreConfig!E228,\"\")","v":""},{"$f":"IF($B$2=StoreConfig!C228,RIGHT(StoreConfig!J228,LEN(StoreConfig!J228)-FIND(\"|\",StoreConfig!J228)),\"\")","v":""},{"$f":"IFERROR(VLOOKUP(--IF($B$2=StoreConfig!C228,LEFT(StoreConfig!J228,FIND(\"|\",StoreConfig!J228)-1),\"\"),$Q$4:$R$20,2,FALSE),\"\")","v":""},{"$f":"IF($B$2=StoreConfig!C228,LEFT(StoreConfig!G228,FIND(\"#\",StoreConfig!G228)-1),\"\")","v":""},{"$f":"IF($B$2=StoreConfig!C228,RIGHT(StoreConfig!G228,LEN(StoreConfig!G228)-FIND(\"#\",StoreConfig!G228)),\"\")","v":""},{"$f":"IF($B$2=StoreConfig!C228,IF(StoreConfig!L228=0,\"不限购\",StoreConfig!L228&\"次\"),\"\")","v":""}]
[{"$nulls":3},{"$f":"IF($B$2=StoreConfig!C229,StoreConfig!O229,\"\")","v":""},{"$f":"IF($B$2=StoreConfig!C229,StoreConfig!E229,\"\")","v":""},{"$f":"IF($B$2=StoreConfig!C229,RIGHT(StoreConfig!J229,LEN(StoreConfig!J229)-FIND(\"|\",StoreConfig!J229)),\"\")","v":""},{"$f":"IFERROR(VLOOKUP(--IF($B$2=StoreConfig!C229,LEFT(StoreConfig!J229,FIND(\"|\",StoreConfig!J229)-1),\"\"),$Q$4:$R$20,2,FALSE),\"\")","v":""},{"$f":"IF($B$2=StoreConfig!C229,LEFT(StoreConfig!G229,FIND(\"#\",StoreConfig!G229)-1),\"\")","v":""},{"$f":"IF($B$2=StoreConfig!C229,RIGHT(StoreConfig!G229,LEN(StoreConfig!G229)-FIND(\"#\",StoreConfig!G229)),\"\")","v":""},{"$f":"IF($B$2=StoreConfig!C229,IF(StoreConfig!L229=0,\"不限购\",StoreConfig!L229&\"次\"),\"\")","v":""}]
[{"$nulls":3},{"$f":"IF($B$2=StoreConfig!C230,StoreConfig!O230,\"\")","v":""},{"$f":"IF($B$2=StoreConfig!C230,StoreConfig!E230,\"\")","v":""},{"$f":"IF($B$2=StoreConfig!C230,RIGHT(StoreConfig!J230,LEN(StoreConfig!J230)-FIND(\"|\",StoreConfig!J230)),\"\")","v":""},{"$f":"IFERROR(VLOOKUP(--IF($B$2=StoreConfig!C230,LEFT(StoreConfig!J230,FIND(\"|\",StoreConfig!J230)-1),\"\"),$Q$4:$R$20,2,FALSE),\"\")","v":""},{"$f":"IF($B$2=StoreConfig!C230,LEFT(StoreConfig!G230,FIND(\"#\",StoreConfig!G230)-1),\"\")","v":""},{"$f":"IF($B$2=StoreConfig!C230,RIGHT(StoreConfig!G230,LEN(StoreConfig!G230)-FIND(\"#\",StoreConfig!G230)),\"\")","v":""},{"$f":"IF($B$2=StoreConfig!C230,IF(StoreConfig!L230=0,\"不限购\",StoreConfig!L230&\"次\"),\"\")","v":""}]
[{"$nulls":3},{"$f":"IF($B$2=StoreConfig!C231,StoreConfig!O231,\"\")","v":""},{"$f":"IF($B$2=StoreConfig!C231,StoreConfig!E231,\"\")","v":""},{"$f":"IF($B$2=StoreConfig!C231,RIGHT(StoreConfig!J231,LEN(StoreConfig!J231)-FIND(\"|\",StoreConfig!J231)),\"\")","v":""},{"$f":"IFERROR(VLOOKUP(--IF($B$2=StoreConfig!C231,LEFT(StoreConfig!J231,FIND(\"|\",StoreConfig!J231)-1),\"\"),$Q$4:$R$20,2,FALSE),\"\")","v":""},{"$f":"IF($B$2=StoreConfig!C231,LEFT(StoreConfig!G231,FIND(\"#\",StoreConfig!G231)-1),\"\")","v":""},{"$f":"IF($B$2=StoreConfig!C231,RIGHT(StoreConfig!G231,LEN(StoreConfig!G231)-FIND(\"#\",StoreConfig!G231)),\"\")","v":""},{"$f":"IF($B$2=StoreConfig!C231,IF(StoreConfig!L231=0,\"不限购\",StoreConfig!L231&\"次\"),\"\")","v":""}]
[{"$nulls":3},{"$f":"IF($B$2=StoreConfig!C232,StoreConfig!O232,\"\")","v":""},{"$f":"IF($B$2=StoreConfig!C232,StoreConfig!E232,\"\")","v":""},{"$f":"IF($B$2=StoreConfig!C232,RIGHT(StoreConfig!J232,LEN(StoreConfig!J232)-FIND(\"|\",StoreConfig!J232)),\"\")","v":""},{"$f":"IFERROR(VLOOKUP(--IF($B$2=StoreConfig!C232,LEFT(StoreConfig!J232,FIND(\"|\",StoreConfig!J232)-1),\"\"),$Q$4:$R$20,2,FALSE),\"\")","v":""},{"$f":"IF($B$2=StoreConfig!C232,LEFT(StoreConfig!G232,FIND(\"#\",StoreConfig!G232)-1),\"\")","v":""},{"$f":"IF($B$2=StoreConfig!C232,RIGHT(StoreConfig!G232,LEN(StoreConfig!G232)-FIND(\"#\",StoreConfig!G232)),\"\")","v":""},{"$f":"IF($B$2=StoreConfig!C232,IF(StoreConfig!L232=0,\"不限购\",StoreConfig!L232&\"次\"),\"\")","v":""}]
[{"$nulls":3},{"$f":"IF($B$2=StoreConfig!C233,StoreConfig!O233,\"\")","v":""},{"$f":"IF($B$2=StoreConfig!C233,StoreConfig!E233,\"\")","v":""},{"$f":"IF($B$2=StoreConfig!C233,RIGHT(StoreConfig!J233,LEN(StoreConfig!J233)-FIND(\"|\",StoreConfig!J233)),\"\")","v":""},{"$f":"IFERROR(VLOOKUP(--IF($B$2=StoreConfig!C233,LEFT(StoreConfig!J233,FIND(\"|\",StoreConfig!J233)-1),\"\"),$Q$4:$R$20,2,FALSE),\"\")","v":""},{"$f":"IF($B$2=StoreConfig!C233,LEFT(StoreConfig!G233,FIND(\"#\",StoreConfig!G233)-1),\"\")","v":""},{"$f":"IF($B$2=StoreConfig!C233,RIGHT(StoreConfig!G233,LEN(StoreConfig!G233)-FIND(\"#\",StoreConfig!G233)),\"\")","v":""},{"$f":"IF($B$2=StoreConfig!C233,IF(StoreConfig!L233=0,\"不限购\",StoreConfig!L233&\"次\"),\"\")","v":""}]
[{"$nulls":3},{"$f":"IF($B$2=StoreConfig!C234,StoreConfig!O234,\"\")","v":""},{"$f":"IF($B$2=StoreConfig!C234,StoreConfig!E234,\"\")","v":""},{"$f":"IF($B$2=StoreConfig!C234,RIGHT(StoreConfig!J234,LEN(StoreConfig!J234)-FIND(\"|\",StoreConfig!J234)),\"\")","v":""},{"$f":"IFERROR(VLOOKUP(--IF($B$2=StoreConfig!C234,LEFT(StoreConfig!J234,FIND(\"|\",StoreConfig!J234)-1),\"\"),$Q$4:$R$20,2,FALSE),\"\")","v":""},{"$f":"IF($B$2=StoreConfig!C234,LEFT(StoreConfig!G234,FIND(\"#\",StoreConfig!G234)-1),\"\")","v":""},{"$f":"IF($B$2=StoreConfig!C234,RIGHT(StoreConfig!G234,LEN(StoreConfig!G234)-FIND(\"#\",StoreConfig!G234)),\"\")","v":""},{"$f":"IF($B$2=StoreConfig!C234,IF(StoreConfig!L234=0,\"不限购\",StoreConfig!L234&\"次\"),\"\")","v":""}]
[{"$nulls":3},{"$f":"IF($B$2=StoreConfig!C235,StoreConfig!O235,\"\")","v":""},{"$f":"IF($B$2=StoreConfig!C235,StoreConfig!E235,\"\")","v":""},{"$f":"IF($B$2=StoreConfig!C235,RIGHT(StoreConfig!J235,LEN(StoreConfig!J235)-FIND(\"|\",StoreConfig!J235)),\"\")","v":""},{"$f":"IFERROR(VLOOKUP(--IF($B$2=StoreConfig!C235,LEFT(StoreConfig!J235,FIND(\"|\",StoreConfig!J235)-1),\"\"),$Q$4:$R$20,2,FALSE),\"\")","v":""},{"$f":"IF($B$2=StoreConfig!C235,LEFT(StoreConfig!G235,FIND(\"#\",StoreConfig!G235)-1),\"\")","v":""},{"$f":"IF($B$2=StoreConfig!C235,RIGHT(StoreConfig!G235,LEN(StoreConfig!G235)-FIND(\"#\",StoreConfig!G235)),\"\")","v":""},{"$f":"IF($B$2=StoreConfig!C235,IF(StoreConfig!L235=0,\"不限购\",StoreConfig!L235&\"次\"),\"\")","v":""}]
[{"$nulls":3},{"$f":"IF($B$2=StoreConfig!C236,StoreConfig!O236,\"\")","v":""},{"$f":"IF($B$2=StoreConfig!C236,StoreConfig!E236,\"\")","v":""},{"$f":"IF($B$2=StoreConfig!C236,RIGHT(StoreConfig!J236,LEN(StoreConfig!J236)-FIND(\"|\",StoreConfig!J236)),\"\")","v":""},{"$f":"IFERROR(VLOOKUP(--IF($B$2=StoreConfig!C236,LEFT(StoreConfig!J236,FIND(\"|\",StoreConfig!J236)-1),\"\"),$Q$4:$R$20,2,FALSE),\"\")","v":""},{"$f":"IF($B$2=StoreConfig!C236,LEFT(StoreConfig!G236,FIND(\"#\",StoreConfig!G236)-1),\"\")","v":""},{"$f":"IF($B$2=StoreConfig!C236,RIGHT(StoreConfig!G236,LEN(StoreConfig!G236)-FIND(\"#\",StoreConfig!G236)),\"\")","v":""},{"$f":"IF($B$2=StoreConfig!C236,IF(StoreConfig!L236=0,\"不限购\",StoreConfig!L236&\"次\"),\"\")","v":""}]
[{"$nulls":3},{"$f":"IF($B$2=StoreConfig!C237,StoreConfig!O237,\"\")","v":""},{"$f":"IF($B$2=StoreConfig!C237,StoreConfig!E237,\"\")","v":""},{"$f":"IF($B$2=StoreConfig!C237,RIGHT(StoreConfig!J237,LEN(StoreConfig!J237)-FIND(\"|\",StoreConfig!J237)),\"\")","v":""},{"$f":"IFERROR(VLOOKUP(--IF($B$2=StoreConfig!C237,LEFT(StoreConfig!J237,FIND(\"|\",StoreConfig!J237)-1),\"\"),$Q$4:$R$20,2,FALSE),\"\")","v":""},{"$f":"IF($B$2=StoreConfig!C237,LEFT(StoreConfig!G237,FIND(\"#\",StoreConfig!G237)-1),\"\")","v":""},{"$f":"IF($B$2=StoreConfig!C237,RIGHT(StoreConfig!G237,LEN(StoreConfig!G237)-FIND(\"#\",StoreConfig!G237)),\"\")","v":""},{"$f":"IF($B$2=StoreConfig!C237,IF(StoreConfig!L237=0,\"不限购\",StoreConfig!L237&\"次\"),\"\")","v":""}]
[{"$nulls":3},{"$f":"IF($B$2=StoreConfig!C238,StoreConfig!O238,\"\")","v":""},{"$f":"IF($B$2=StoreConfig!C238,StoreConfig!E238,\"\")","v":""},{"$f":"IF($B$2=StoreConfig!C238,RIGHT(StoreConfig!J238,LEN(StoreConfig!J238)-FIND(\"|\",StoreConfig!J238)),\"\")","v":""},{"$f":"IFERROR(VLOOKUP(--IF($B$2=StoreConfig!C238,LEFT(StoreConfig!J238,FIND(\"|\",StoreConfig!J238)-1),\"\"),$Q$4:$R$20,2,FALSE),\"\")","v":""},{"$f":"IF($B$2=StoreConfig!C238,LEFT(StoreConfig!G238,FIND(\"#\",StoreConfig!G238)-1),\"\")","v":""},{"$f":"IF($B$2=StoreConfig!C238,RIGHT(StoreConfig!G238,LEN(StoreConfig!G238)-FIND(\"#\",StoreConfig!G238)),\"\")","v":""},{"$f":"IF($B$2=StoreConfig!C238,IF(StoreConfig!L238=0,\"不限购\",StoreConfig!L238&\"次\"),\"\")","v":""}]
[{"$nulls":3},{"$f":"IF($B$2=StoreConfig!C239,StoreConfig!O239,\"\")","v":""},{"$f":"IF($B$2=StoreConfig!C239,StoreConfig!E239,\"\")","v":""},{"$f":"IF($B$2=StoreConfig!C239,RIGHT(StoreConfig!J239,LEN(StoreConfig!J239)-FIND(\"|\",StoreConfig!J239)),\"\")","v":""},{"$f":"IFERROR(VLOOKUP(--IF($B$2=StoreConfig!C239,LEFT(StoreConfig!J239,FIND(\"|\",StoreConfig!J239)-1),\"\"),$Q$4:$R$20,2,FALSE),\"\")","v":""},{"$f":"IF($B$2=StoreConfig!C239,LEFT(StoreConfig!G239,FIND(\"#\",StoreConfig!G239)-1),\"\")","v":""},{"$f":"IF($B$2=StoreConfig!C239,RIGHT(StoreConfig!G239,LEN(StoreConfig!G239)-FIND(\"#\",StoreConfig!G239)),\"\")","v":""},{"$f":"IF($B$2=StoreConfig!C239,IF(StoreConfig!L239=0,\"不限购\",StoreConfig!L239&\"次\"),\"\")","v":""}]
[{"$nulls":3},{"$f":"IF($B$2=StoreConfig!C240,StoreConfig!O240,\"\")","v":""},{"$f":"IF($B$2=StoreConfig!C240,StoreConfig!E240,\"\")","v":""},{"$f":"IF($B$2=StoreConfig!C240,RIGHT(StoreConfig!J240,LEN(StoreConfig!J240)-FIND(\"|\",StoreConfig!J240)),\"\")","v":""},{"$f":"IFERROR(VLOOKUP(--IF($B$2=StoreConfig!C240,LEFT(StoreConfig!J240,FIND(\"|\",StoreConfig!J240)-1),\"\"),$Q$4:$R$20,2,FALSE),\"\")","v":""},{"$f":"IF($B$2=StoreConfig!C240,LEFT(StoreConfig!G240,FIND(\"#\",StoreConfig!G240)-1),\"\")","v":""},{"$f":"IF($B$2=StoreConfig!C240,RIGHT(StoreConfig!G240,LEN(StoreConfig!G240)-FIND(\"#\",StoreConfig!G240)),\"\")","v":""},{"$f":"IF($B$2=StoreConfig!C240,IF(StoreConfig!L240=0,\"不限购\",StoreConfig!L240&\"次\"),\"\")","v":""}]
[{"$nulls":3},{"$f":"IF($B$2=StoreConfig!C241,StoreConfig!O241,\"\")","v":""},{"$f":"IF($B$2=StoreConfig!C241,StoreConfig!E241,\"\")","v":""},{"$f":"IF($B$2=StoreConfig!C241,RIGHT(StoreConfig!J241,LEN(StoreConfig!J241)-FIND(\"|\",StoreConfig!J241)),\"\")","v":""},{"$f":"IFERROR(VLOOKUP(--IF($B$2=StoreConfig!C241,LEFT(StoreConfig!J241,FIND(\"|\",StoreConfig!J241)-1),\"\"),$Q$4:$R$20,2,FALSE),\"\")","v":""},{"$f":"IF($B$2=StoreConfig!C241,LEFT(StoreConfig!G241,FIND(\"#\",StoreConfig!G241)-1),\"\")","v":""},{"$f":"IF($B$2=StoreConfig!C241,RIGHT(StoreConfig!G241,LEN(StoreConfig!G241)-FIND(\"#\",StoreConfig!G241)),\"\")","v":""},{"$f":"IF($B$2=StoreConfig!C241,IF(StoreConfig!L241=0,\"不限购\",StoreConfig!L241&\"次\"),\"\")","v":""}]
[{"$nulls":3},{"$f":"IF($B$2=StoreConfig!C242,StoreConfig!O242,\"\")","v":""},{"$f":"IF($B$2=StoreConfig!C242,StoreConfig!E242,\"\")","v":""},{"$f":"IF($B$2=StoreConfig!C242,RIGHT(StoreConfig!J242,LEN(StoreConfig!J242)-FIND(\"|\",StoreConfig!J242)),\"\")","v":""},{"$f":"IFERROR(VLOOKUP(--IF($B$2=StoreConfig!C242,LEFT(StoreConfig!J242,FIND(\"|\",StoreConfig!J242)-1),\"\"),$Q$4:$R$20,2,FALSE),\"\")","v":""},{"$f":"IF($B$2=StoreConfig!C242,LEFT(StoreConfig!G242,FIND(\"#\",StoreConfig!G242)-1),\"\")","v":""},{"$f":"IF($B$2=StoreConfig!C242,RIGHT(StoreConfig!G242,LEN(StoreConfig!G242)-FIND(\"#\",StoreConfig!G242)),\"\")","v":""},{"$f":"IF($B$2=StoreConfig!C242,IF(StoreConfig!L242=0,\"不限购\",StoreConfig!L242&\"次\"),\"\")","v":""}]
[{"$nulls":3},{"$f":"IF($B$2=StoreConfig!C243,StoreConfig!O243,\"\")","v":""},{"$f":"IF($B$2=StoreConfig!C243,StoreConfig!E243,\"\")","v":""},{"$f":"IF($B$2=StoreConfig!C243,RIGHT(StoreConfig!J243,LEN(StoreConfig!J243)-FIND(\"|\",StoreConfig!J243)),\"\")","v":""},{"$f":"IFERROR(VLOOKUP(--IF($B$2=StoreConfig!C243,LEFT(StoreConfig!J243,FIND(\"|\",StoreConfig!J243)-1),\"\"),$Q$4:$R$20,2,FALSE),\"\")","v":""},{"$f":"IF($B$2=StoreConfig!C243,LEFT(StoreConfig!G243,FIND(\"#\",StoreConfig!G243)-1),\"\")","v":""},{"$f":"IF($B$2=StoreConfig!C243,RIGHT(StoreConfig!G243,LEN(StoreConfig!G243)-FIND(\"#\",StoreConfig!G243)),\"\")","v":""},{"$f":"IF($B$2=StoreConfig!C243,IF(StoreConfig!L243=0,\"不限购\",StoreConfig!L243&\"次\"),\"\")","v":""}]
[{"$nulls":3},{"$f":"IF($B$2=StoreConfig!C244,StoreConfig!O244,\"\")","v":""},{"$f":"IF($B$2=StoreConfig!C244,StoreConfig!E244,\"\")","v":""},{"$f":"IF($B$2=StoreConfig!C244,RIGHT(StoreConfig!J244,LEN(StoreConfig!J244)-FIND(\"|\",StoreConfig!J244)),\"\")","v":""},{"$f":"IFERROR(VLOOKUP(--IF($B$2=StoreConfig!C244,LEFT(StoreConfig!J244,FIND(\"|\",StoreConfig!J244)-1),\"\"),$Q$4:$R$20,2,FALSE),\"\")","v":""},{"$f":"IF($B$2=StoreConfig!C244,LEFT(StoreConfig!G244,FIND(\"#\",StoreConfig!G244)-1),\"\")","v":""},{"$f":"IF($B$2=StoreConfig!C244,RIGHT(StoreConfig!G244,LEN(StoreConfig!G244)-FIND(\"#\",StoreConfig!G244)),\"\")","v":""},{"$f":"IF($B$2=StoreConfig!C244,IF(StoreConfig!L244=0,\"不限购\",StoreConfig!L244&\"次\"),\"\")","v":""}]
[{"$nulls":3},{"$f":"IF($B$2=StoreConfig!C245,StoreConfig!O245,\"\")","v":""},{"$f":"IF($B$2=StoreConfig!C245,StoreConfig!E245,\"\")","v":""},{"$f":"IF($B$2=StoreConfig!C245,RIGHT(StoreConfig!J245,LEN(StoreConfig!J245)-FIND(\"|\",StoreConfig!J245)),\"\")","v":""},{"$f":"IFERROR(VLOOKUP(--IF($B$2=StoreConfig!C245,LEFT(StoreConfig!J245,FIND(\"|\",StoreConfig!J245)-1),\"\"),$Q$4:$R$20,2,FALSE),\"\")","v":""},{"$f":"IF($B$2=StoreConfig!C245,LEFT(StoreConfig!G245,FIND(\"#\",StoreConfig!G245)-1),\"\")","v":""},{"$f":"IF($B$2=StoreConfig!C245,RIGHT(StoreConfig!G245,LEN(StoreConfig!G245)-FIND(\"#\",StoreConfig!G245)),\"\")","v":""},{"$f":"IF($B$2=StoreConfig!C245,IF(StoreConfig!L245=0,\"不限购\",StoreConfig!L245&\"次\"),\"\")","v":""}]
[{"$nulls":3},{"$f":"IF($B$2=StoreConfig!C246,StoreConfig!O246,\"\")","v":""},{"$f":"IF($B$2=StoreConfig!C246,StoreConfig!E246,\"\")","v":""},{"$f":"IF($B$2=StoreConfig!C246,RIGHT(StoreConfig!J246,LEN(StoreConfig!J246)-FIND(\"|\",StoreConfig!J246)),\"\")","v":""},{"$f":"IFERROR(VLOOKUP(--IF($B$2=StoreConfig!C246,LEFT(StoreConfig!J246,FIND(\"|\",StoreConfig!J246)-1),\"\"),$Q$4:$R$20,2,FALSE),\"\")","v":""},{"$f":"IF($B$2=StoreConfig!C246,LEFT(StoreConfig!G246,FIND(\"#\",StoreConfig!G246)-1),\"\")","v":""},{"$f":"IF($B$2=StoreConfig!C246,RIGHT(StoreConfig!G246,LEN(StoreConfig!G246)-FIND(\"#\",StoreConfig!G246)),\"\")","v":""},{"$f":"IF($B$2=StoreConfig!C246,IF(StoreConfig!L246=0,\"不限购\",StoreConfig!L246&\"次\"),\"\")","v":""}]
[{"$nulls":3},{"$f":"IF($B$2=StoreConfig!C247,StoreConfig!O247,\"\")","v":""},{"$f":"IF($B$2=StoreConfig!C247,StoreConfig!E247,\"\")","v":""},{"$f":"IF($B$2=StoreConfig!C247,RIGHT(StoreConfig!J247,LEN(StoreConfig!J247)-FIND(\"|\",StoreConfig!J247)),\"\")","v":""},{"$f":"IFERROR(VLOOKUP(--IF($B$2=StoreConfig!C247,LEFT(StoreConfig!J247,FIND(\"|\",StoreConfig!J247)-1),\"\"),$Q$4:$R$20,2,FALSE),\"\")","v":""},{"$f":"IF($B$2=StoreConfig!C247,LEFT(StoreConfig!G247,FIND(\"#\",StoreConfig!G247)-1),\"\")","v":""},{"$f":"IF($B$2=StoreConfig!C247,RIGHT(StoreConfig!G247,LEN(StoreConfig!G247)-FIND(\"#\",StoreConfig!G247)),\"\")","v":""},{"$f":"IF($B$2=StoreConfig!C247,IF(StoreConfig!L247=0,\"不限购\",StoreConfig!L247&\"次\"),\"\")","v":""}]
[{"$nulls":3},{"$f":"IF($B$2=StoreConfig!C248,StoreConfig!O248,\"\")","v":""},{"$f":"IF($B$2=StoreConfig!C248,StoreConfig!E248,\"\")","v":""},{"$f":"IF($B$2=StoreConfig!C248,RIGHT(StoreConfig!J248,LEN(StoreConfig!J248)-FIND(\"|\",StoreConfig!J248)),\"\")","v":""},{"$f":"IFERROR(VLOOKUP(--IF($B$2=StoreConfig!C248,LEFT(StoreConfig!J248,FIND(\"|\",StoreConfig!J248)-1),\"\"),$Q$4:$R$20,2,FALSE),\"\")","v":""},{"$f":"IF($B$2=StoreConfig!C248,LEFT(StoreConfig!G248,FIND(\"#\",StoreConfig!G248)-1),\"\")","v":""},{"$f":"IF($B$2=StoreConfig!C248,RIGHT(StoreConfig!G248,LEN(StoreConfig!G248)-FIND(\"#\",StoreConfig!G248)),\"\")","v":""},{"$f":"IF($B$2=StoreConfig!C248,IF(StoreConfig!L248=0,\"不限购\",StoreConfig!L248&\"次\"),\"\")","v":""}]
[{"$nulls":3},{"$f":"IF($B$2=StoreConfig!C249,StoreConfig!O249,\"\")","v":""},{"$f":"IF($B$2=StoreConfig!C249,StoreConfig!E249,\"\")","v":""},{"$f":"IF($B$2=StoreConfig!C249,RIGHT(StoreConfig!J249,LEN(StoreConfig!J249)-FIND(\"|\",StoreConfig!J249)),\"\")","v":""},{"$f":"IFERROR(VLOOKUP(--IF($B$2=StoreConfig!C249,LEFT(StoreConfig!J249,FIND(\"|\",StoreConfig!J249)-1),\"\"),$Q$4:$R$20,2,FALSE),\"\")","v":""},{"$f":"IF($B$2=StoreConfig!C249,LEFT(StoreConfig!G249,FIND(\"#\",StoreConfig!G249)-1),\"\")","v":""},{"$f":"IF($B$2=StoreConfig!C249,RIGHT(StoreConfig!G249,LEN(StoreConfig!G249)-FIND(\"#\",StoreConfig!G249)),\"\")","v":""},{"$f":"IF($B$2=StoreConfig!C249,IF(StoreConfig!L249=0,\"不限购\",StoreConfig!L249&\"次\"),\"\")","v":""}]
[{"$nulls":3},{"$f":"IF($B$2=StoreConfig!C250,StoreConfig!O250,\"\")","v":""},{"$f":"IF($B$2=StoreConfig!C250,StoreConfig!E250,\"\")","v":""},{"$f":"IF($B$2=StoreConfig!C250,RIGHT(StoreConfig!J250,LEN(StoreConfig!J250)-FIND(\"|\",StoreConfig!J250)),\"\")","v":""},{"$f":"IFERROR(VLOOKUP(--IF($B$2=StoreConfig!C250,LEFT(StoreConfig!J250,FIND(\"|\",StoreConfig!J250)-1),\"\"),$Q$4:$R$20,2,FALSE),\"\")","v":""},{"$f":"IF($B$2=StoreConfig!C250,LEFT(StoreConfig!G250,FIND(\"#\",StoreConfig!G250)-1),\"\")","v":""},{"$f":"IF($B$2=StoreConfig!C250,RIGHT(StoreConfig!G250,LEN(StoreConfig!G250)-FIND(\"#\",StoreConfig!G250)),\"\")","v":""},{"$f":"IF($B$2=StoreConfig!C250,IF(StoreConfig!L250=0,\"不限购\",StoreConfig!L250&\"次\"),\"\")","v":""}]
[{"$nulls":3},{"$f":"IF($B$2=StoreConfig!C251,StoreConfig!O251,\"\")","v":""},{"$f":"IF($B$2=StoreConfig!C251,StoreConfig!E251,\"\")","v":""},{"$f":"IF($B$2=StoreConfig!C251,RIGHT(StoreConfig!J251,LEN(StoreConfig!J251)-FIND(\"|\",StoreConfig!J251)),\"\")","v":""},{"$f":"IFERROR(VLOOKUP(--IF($B$2=StoreConfig!C251,LEFT(StoreConfig!J251,FIND(\"|\",StoreConfig!J251)-1),\"\"),$Q$4:$R$20,2,FALSE),\"\")","v":""},{"$f":"IF($B$2=StoreConfig!C251,LEFT(StoreConfig!G251,FIND(\"#\",StoreConfig!G251)-1),\"\")","v":""},{"$f":"IF($B$2=StoreConfig!C251,RIGHT(StoreConfig!G251,LEN(StoreConfig!G251)-FIND(\"#\",StoreConfig!G251)),\"\")","v":""},{"$f":"IF($B$2=StoreConfig!C251,IF(StoreConfig!L251=0,\"不限购\",StoreConfig!L251&\"次\"),\"\")","v":""}]
[{"$nulls":3},{"$f":"IF($B$2=StoreConfig!C252,StoreConfig!O252,\"\")","v":""},{"$f":"IF($B$2=StoreConfig!C252,StoreConfig!E252,\"\")","v":""},{"$f":"IF($B$2=StoreConfig!C252,RIGHT(StoreConfig!J252,LEN(StoreConfig!J252)-FIND(\"|\",StoreConfig!J252)),\"\")","v":""},{"$f":"IFERROR(VLOOKUP(--IF($B$2=StoreConfig!C252,LEFT(StoreConfig!J252,FIND(\"|\",StoreConfig!J252)-1),\"\"),$Q$4:$R$20,2,FALSE),\"\")","v":""},{"$f":"IF($B$2=StoreConfig!C252,LEFT(StoreConfig!G252,FIND(\"#\",StoreConfig!G252)-1),\"\")","v":""},{"$f":"IF($B$2=StoreConfig!C252,RIGHT(StoreConfig!G252,LEN(StoreConfig!G252)-FIND(\"#\",StoreConfig!G252)),\"\")","v":""},{"$f":"IF($B$2=StoreConfig!C252,IF(StoreConfig!L252=0,\"不限购\",StoreConfig!L252&\"次\"),\"\")","v":""}]
[{"$nulls":3},{"$f":"IF($B$2=StoreConfig!C253,StoreConfig!O253,\"\")","v":""},{"$f":"IF($B$2=StoreConfig!C253,StoreConfig!E253,\"\")","v":""},{"$f":"IF($B$2=StoreConfig!C253,RIGHT(StoreConfig!J253,LEN(StoreConfig!J253)-FIND(\"|\",StoreConfig!J253)),\"\")","v":""},{"$f":"IFERROR(VLOOKUP(--IF($B$2=StoreConfig!C253,LEFT(StoreConfig!J253,FIND(\"|\",StoreConfig!J253)-1),\"\"),$Q$4:$R$20,2,FALSE),\"\")","v":""},{"$f":"IF($B$2=StoreConfig!C253,LEFT(StoreConfig!G253,FIND(\"#\",StoreConfig!G253)-1),\"\")","v":""},{"$f":"IF($B$2=StoreConfig!C253,RIGHT(StoreConfig!G253,LEN(StoreConfig!G253)-FIND(\"#\",StoreConfig!G253)),\"\")","v":""},{"$f":"IF($B$2=StoreConfig!C253,IF(StoreConfig!L253=0,\"不限购\",StoreConfig!L253&\"次\"),\"\")","v":""}]
[{"$nulls":3},{"$f":"IF($B$2=StoreConfig!C254,StoreConfig!O254,\"\")","v":""},{"$f":"IF($B$2=StoreConfig!C254,StoreConfig!E254,\"\")","v":""},{"$f":"IF($B$2=StoreConfig!C254,RIGHT(StoreConfig!J254,LEN(StoreConfig!J254)-FIND(\"|\",StoreConfig!J254)),\"\")","v":""},{"$f":"IFERROR(VLOOKUP(--IF($B$2=StoreConfig!C254,LEFT(StoreConfig!J254,FIND(\"|\",StoreConfig!J254)-1),\"\"),$Q$4:$R$20,2,FALSE),\"\")","v":""},{"$f":"IF($B$2=StoreConfig!C254,LEFT(StoreConfig!G254,FIND(\"#\",StoreConfig!G254)-1),\"\")","v":""},{"$f":"IF($B$2=StoreConfig!C254,RIGHT(StoreConfig!G254,LEN(StoreConfig!G254)-FIND(\"#\",StoreConfig!G254)),\"\")","v":""},{"$f":"IF($B$2=StoreConfig!C254,IF(StoreConfig!L254=0,\"不限购\",StoreConfig!L254&\"次\"),\"\")","v":""}]
[{"$nulls":3},{"$f":"IF($B$2=StoreConfig!C255,StoreConfig!O255,\"\")","v":""},{"$f":"IF($B$2=StoreConfig!C255,StoreConfig!E255,\"\")","v":""},{"$f":"IF($B$2=StoreConfig!C255,RIGHT(StoreConfig!J255,LEN(StoreConfig!J255)-FIND(\"|\",StoreConfig!J255)),\"\")","v":""},{"$f":"IFERROR(VLOOKUP(--IF($B$2=StoreConfig!C255,LEFT(StoreConfig!J255,FIND(\"|\",StoreConfig!J255)-1),\"\"),$Q$4:$R$20,2,FALSE),\"\")","v":""},{"$f":"IF($B$2=StoreConfig!C255,LEFT(StoreConfig!G255,FIND(\"#\",StoreConfig!G255)-1),\"\")","v":""},{"$f":"IF($B$2=StoreConfig!C255,RIGHT(StoreConfig!G255,LEN(StoreConfig!G255)-FIND(\"#\",StoreConfig!G255)),\"\")","v":""},{"$f":"IF($B$2=StoreConfig!C255,IF(StoreConfig!L255=0,\"不限购\",StoreConfig!L255&\"次\"),\"\")","v":""}]
[{"$nulls":3},{"$f":"IF($B$2=StoreConfig!C256,StoreConfig!O256,\"\")","v":""},{"$f":"IF($B$2=StoreConfig!C256,StoreConfig!E256,\"\")","v":""},{"$f":"IF($B$2=StoreConfig!C256,RIGHT(StoreConfig!J256,LEN(StoreConfig!J256)-FIND(\"|\",StoreConfig!J256)),\"\")","v":""},{"$f":"IFERROR(VLOOKUP(--IF($B$2=StoreConfig!C256,LEFT(StoreConfig!J256,FIND(\"|\",StoreConfig!J256)-1),\"\"),$Q$4:$R$20,2,FALSE),\"\")","v":""},{"$f":"IF($B$2=StoreConfig!C256,LEFT(StoreConfig!G256,FIND(\"#\",StoreConfig!G256)-1),\"\")","v":""},{"$f":"IF($B$2=StoreConfig!C256,RIGHT(StoreConfig!G256,LEN(StoreConfig!G256)-FIND(\"#\",StoreConfig!G256)),\"\")","v":""},{"$f":"IF($B$2=StoreConfig!C256,IF(StoreConfig!L256=0,\"不限购\",StoreConfig!L256&\"次\"),\"\")","v":""}]
[{"$nulls":3},{"$f":"IF($B$2=StoreConfig!C257,StoreConfig!O257,\"\")","v":""},{"$f":"IF($B$2=StoreConfig!C257,StoreConfig!E257,\"\")","v":""},{"$f":"IF($B$2=StoreConfig!C257,RIGHT(StoreConfig!J257,LEN(StoreConfig!J257)-FIND(\"|\",StoreConfig!J257)),\"\")","v":""},{"$f":"IFERROR(VLOOKUP(--IF($B$2=StoreConfig!C257,LEFT(StoreConfig!J257,FIND(\"|\",StoreConfig!J257)-1),\"\"),$Q$4:$R$20,2,FALSE),\"\")","v":""},{"$f":"IF($B$2=StoreConfig!C257,LEFT(StoreConfig!G257,FIND(\"#\",StoreConfig!G257)-1),\"\")","v":""},{"$f":"IF($B$2=StoreConfig!C257,RIGHT(StoreConfig!G257,LEN(StoreConfig!G257)-FIND(\"#\",StoreConfig!G257)),\"\")","v":""},{"$f":"IF($B$2=StoreConfig!C257,IF(StoreConfig!L257=0,\"不限购\",StoreConfig!L257&\"次\"),\"\")","v":""}]
[{"$nulls":3},{"$f":"IF($B$2=StoreConfig!C258,StoreConfig!O258,\"\")","v":""},{"$f":"IF($B$2=StoreConfig!C258,StoreConfig!E258,\"\")","v":""},{"$f":"IF($B$2=StoreConfig!C258,RIGHT(StoreConfig!J258,LEN(StoreConfig!J258)-FIND(\"|\",StoreConfig!J258)),\"\")","v":""},{"$f":"IFERROR(VLOOKUP(--IF($B$2=StoreConfig!C258,LEFT(StoreConfig!J258,FIND(\"|\",StoreConfig!J258)-1),\"\"),$Q$4:$R$20,2,FALSE),\"\")","v":""},{"$f":"IF($B$2=StoreConfig!C258,LEFT(StoreConfig!G258,FIND(\"#\",StoreConfig!G258)-1),\"\")","v":""},{"$f":"IF($B$2=StoreConfig!C258,RIGHT(StoreConfig!G258,LEN(StoreConfig!G258)-FIND(\"#\",StoreConfig!G258)),\"\")","v":""},{"$f":"IF($B$2=StoreConfig!C258,IF(StoreConfig!L258=0,\"不限购\",StoreConfig!L258&\"次\"),\"\")","v":""}]
[{"$nulls":3},{"$f":"IF($B$2=StoreConfig!C259,StoreConfig!O259,\"\")","v":""},{"$f":"IF($B$2=StoreConfig!C259,StoreConfig!E259,\"\")","v":""},{"$f":"IF($B$2=StoreConfig!C259,RIGHT(StoreConfig!J259,LEN(StoreConfig!J259)-FIND(\"|\",StoreConfig!J259)),\"\")","v":""},{"$f":"IFERROR(VLOOKUP(--IF($B$2=StoreConfig!C259,LEFT(StoreConfig!J259,FIND(\"|\",StoreConfig!J259)-1),\"\"),$Q$4:$R$20,2,FALSE),\"\")","v":""},{"$f":"IF($B$2=StoreConfig!C259,LEFT(StoreConfig!G259,FIND(\"#\",StoreConfig!G259)-1),\"\")","v":""},{"$f":"IF($B$2=StoreConfig!C259,RIGHT(StoreConfig!G259,LEN(StoreConfig!G259)-FIND(\"#\",StoreConfig!G259)),\"\")","v":""},{"$f":"IF($B$2=StoreConfig!C259,IF(StoreConfig!L259=0,\"不限购\",StoreConfig!L259&\"次\"),\"\")","v":""}]
[{"$nulls":3},{"$f":"IF($B$2=StoreConfig!C260,StoreConfig!O260,\"\")","v":""},{"$f":"IF($B$2=StoreConfig!C260,StoreConfig!E260,\"\")","v":""},{"$f":"IF($B$2=StoreConfig!C260,RIGHT(StoreConfig!J260,LEN(StoreConfig!J260)-FIND(\"|\",StoreConfig!J260)),\"\")","v":""},{"$f":"IFERROR(VLOOKUP(--IF($B$2=StoreConfig!C260,LEFT(StoreConfig!J260,FIND(\"|\",StoreConfig!J260)-1),\"\"),$Q$4:$R$20,2,FALSE),\"\")","v":""},{"$f":"IF($B$2=StoreConfig!C260,LEFT(StoreConfig!G260,FIND(\"#\",StoreConfig!G260)-1),\"\")","v":""},{"$f":"IF($B$2=StoreConfig!C260,RIGHT(StoreConfig!G260,LEN(StoreConfig!G260)-FIND(\"#\",StoreConfig!G260)),\"\")","v":""},{"$f":"IF($B$2=StoreConfig!C260,IF(StoreConfig!L260=0,\"不限购\",StoreConfig!L260&\"次\"),\"\")","v":""}]
[{"$nulls":3},{"$f":"IF($B$2=StoreConfig!C261,StoreConfig!O261,\"\")","v":""},{"$f":"IF($B$2=StoreConfig!C261,StoreConfig!E261,\"\")","v":""},{"$f":"IF($B$2=StoreConfig!C261,RIGHT(StoreConfig!J261,LEN(StoreConfig!J261)-FIND(\"|\",StoreConfig!J261)),\"\")","v":""},{"$f":"IFERROR(VLOOKUP(--IF($B$2=StoreConfig!C261,LEFT(StoreConfig!J261,FIND(\"|\",StoreConfig!J261)-1),\"\"),$Q$4:$R$20,2,FALSE),\"\")","v":""},{"$f":"IF($B$2=StoreConfig!C261,LEFT(StoreConfig!G261,FIND(\"#\",StoreConfig!G261)-1),\"\")","v":""},{"$f":"IF($B$2=StoreConfig!C261,RIGHT(StoreConfig!G261,LEN(StoreConfig!G261)-FIND(\"#\",StoreConfig!G261)),\"\")","v":""},{"$f":"IF($B$2=StoreConfig!C261,IF(StoreConfig!L261=0,\"不限购\",StoreConfig!L261&\"次\"),\"\")","v":""}]
[{"$nulls":3},{"$f":"IF($B$2=StoreConfig!C262,StoreConfig!O262,\"\")","v":""},{"$f":"IF($B$2=StoreConfig!C262,StoreConfig!E262,\"\")","v":""},{"$f":"IF($B$2=StoreConfig!C262,RIGHT(StoreConfig!J262,LEN(StoreConfig!J262)-FIND(\"|\",StoreConfig!J262)),\"\")","v":""},{"$f":"IFERROR(VLOOKUP(--IF($B$2=StoreConfig!C262,LEFT(StoreConfig!J262,FIND(\"|\",StoreConfig!J262)-1),\"\"),$Q$4:$R$20,2,FALSE),\"\")","v":""},{"$f":"IF($B$2=StoreConfig!C262,LEFT(StoreConfig!G262,FIND(\"#\",StoreConfig!G262)-1),\"\")","v":""},{"$f":"IF($B$2=StoreConfig!C262,RIGHT(StoreConfig!G262,LEN(StoreConfig!G262)-FIND(\"#\",StoreConfig!G262)),\"\")","v":""},{"$f":"IF($B$2=StoreConfig!C262,IF(StoreConfig!L262=0,\"不限购\",StoreConfig!L262&\"次\"),\"\")","v":""}]
[{"$nulls":3},{"$f":"IF($B$2=StoreConfig!C263,StoreConfig!O263,\"\")","v":""},{"$f":"IF($B$2=StoreConfig!C263,StoreConfig!E263,\"\")","v":""},{"$f":"IF($B$2=StoreConfig!C263,RIGHT(StoreConfig!J263,LEN(StoreConfig!J263)-FIND(\"|\",StoreConfig!J263)),\"\")","v":""},{"$f":"IFERROR(VLOOKUP(--IF($B$2=StoreConfig!C263,LEFT(StoreConfig!J263,FIND(\"|\",StoreConfig!J263)-1),\"\"),$Q$4:$R$20,2,FALSE),\"\")","v":""},{"$f":"IF($B$2=StoreConfig!C263,LEFT(StoreConfig!G263,FIND(\"#\",StoreConfig!G263)-1),\"\")","v":""},{"$f":"IF($B$2=StoreConfig!C263,RIGHT(StoreConfig!G263,LEN(StoreConfig!G263)-FIND(\"#\",StoreConfig!G263)),\"\")","v":""},{"$f":"IF($B$2=StoreConfig!C263,IF(StoreConfig!L263=0,\"不限购\",StoreConfig!L263&\"次\"),\"\")","v":""}]
[{"$nulls":3},{"$f":"IF($B$2=StoreConfig!C264,StoreConfig!O264,\"\")","v":""},{"$f":"IF($B$2=StoreConfig!C264,StoreConfig!E264,\"\")","v":""},{"$f":"IF($B$2=StoreConfig!C264,RIGHT(StoreConfig!J264,LEN(StoreConfig!J264)-FIND(\"|\",StoreConfig!J264)),\"\")","v":""},{"$f":"IFERROR(VLOOKUP(--IF($B$2=StoreConfig!C264,LEFT(StoreConfig!J264,FIND(\"|\",StoreConfig!J264)-1),\"\"),$Q$4:$R$20,2,FALSE),\"\")","v":""},{"$f":"IF($B$2=StoreConfig!C264,LEFT(StoreConfig!G264,FIND(\"#\",StoreConfig!G264)-1),\"\")","v":""},{"$f":"IF($B$2=StoreConfig!C264,RIGHT(StoreConfig!G264,LEN(StoreConfig!G264)-FIND(\"#\",StoreConfig!G264)),\"\")","v":""},{"$f":"IF($B$2=StoreConfig!C264,IF(StoreConfig!L264=0,\"不限购\",StoreConfig!L264&\"次\"),\"\")","v":""}]
[{"$nulls":3},{"$f":"IF($B$2=StoreConfig!C265,StoreConfig!O265,\"\")","v":""},{"$f":"IF($B$2=StoreConfig!C265,StoreConfig!E265,\"\")","v":""},{"$f":"IF($B$2=StoreConfig!C265,RIGHT(StoreConfig!J265,LEN(StoreConfig!J265)-FIND(\"|\",StoreConfig!J265)),\"\")","v":""},{"$f":"IFERROR(VLOOKUP(--IF($B$2=StoreConfig!C265,LEFT(StoreConfig!J265,FIND(\"|\",StoreConfig!J265)-1),\"\"),$Q$4:$R$20,2,FALSE),\"\")","v":""},{"$f":"IF($B$2=StoreConfig!C265,LEFT(StoreConfig!G265,FIND(\"#\",StoreConfig!G265)-1),\"\")","v":""},{"$f":"IF($B$2=StoreConfig!C265,RIGHT(StoreConfig!G265,LEN(StoreConfig!G265)-FIND(\"#\",StoreConfig!G265)),\"\")","v":""},{"$f":"IF($B$2=StoreConfig!C265,IF(StoreConfig!L265=0,\"不限购\",StoreConfig!L265&\"次\"),\"\")","v":""}]
[{"$nulls":3},{"$f":"IF($B$2=StoreConfig!C266,StoreConfig!O266,\"\")","v":""},{"$f":"IF($B$2=StoreConfig!C266,StoreConfig!E266,\"\")","v":""},{"$f":"IF($B$2=StoreConfig!C266,RIGHT(StoreConfig!J266,LEN(StoreConfig!J266)-FIND(\"|\",StoreConfig!J266)),\"\")","v":""},{"$f":"IFERROR(VLOOKUP(--IF($B$2=StoreConfig!C266,LEFT(StoreConfig!J266,FIND(\"|\",StoreConfig!J266)-1),\"\"),$Q$4:$R$20,2,FALSE),\"\")","v":""},{"$f":"IF($B$2=StoreConfig!C266,LEFT(StoreConfig!G266,FIND(\"#\",StoreConfig!G266)-1),\"\")","v":""},{"$f":"IF($B$2=StoreConfig!C266,RIGHT(StoreConfig!G266,LEN(StoreConfig!G266)-FIND(\"#\",StoreConfig!G266)),\"\")","v":""},{"$f":"IF($B$2=StoreConfig!C266,IF(StoreConfig!L266=0,\"不限购\",StoreConfig!L266&\"次\"),\"\")","v":""}]
[{"$nulls":3},{"$f":"IF($B$2=StoreConfig!C267,StoreConfig!O267,\"\")","v":""},{"$f":"IF($B$2=StoreConfig!C267,StoreConfig!E267,\"\")","v":""},{"$f":"IF($B$2=StoreConfig!C267,RIGHT(StoreConfig!J267,LEN(StoreConfig!J267)-FIND(\"|\",StoreConfig!J267)),\"\")","v":""},{"$f":"IFERROR(VLOOKUP(--IF($B$2=StoreConfig!C267,LEFT(StoreConfig!J267,FIND(\"|\",StoreConfig!J267)-1),\"\"),$Q$4:$R$20,2,FALSE),\"\")","v":""},{"$f":"IF($B$2=StoreConfig!C267,LEFT(StoreConfig!G267,FIND(\"#\",StoreConfig!G267)-1),\"\")","v":""},{"$f":"IF($B$2=StoreConfig!C267,RIGHT(StoreConfig!G267,LEN(StoreConfig!G267)-FIND(\"#\",StoreConfig!G267)),\"\")","v":""},{"$f":"IF($B$2=StoreConfig!C267,IF(StoreConfig!L267=0,\"不限购\",StoreConfig!L267&\"次\"),\"\")","v":""}]
[{"$nulls":3},{"$f":"IF($B$2=StoreConfig!C268,StoreConfig!O268,\"\")","v":""},{"$f":"IF($B$2=StoreConfig!C268,StoreConfig!E268,\"\")","v":""},{"$f":"IF($B$2=StoreConfig!C268,RIGHT(StoreConfig!J268,LEN(StoreConfig!J268)-FIND(\"|\",StoreConfig!J268)),\"\")","v":""},{"$f":"IFERROR(VLOOKUP(--IF($B$2=StoreConfig!C268,LEFT(StoreConfig!J268,FIND(\"|\",StoreConfig!J268)-1),\"\"),$Q$4:$R$20,2,FALSE),\"\")","v":""},{"$f":"IF($B$2=StoreConfig!C268,LEFT(StoreConfig!G268,FIND(\"#\",StoreConfig!G268)-1),\"\")","v":""},{"$f":"IF($B$2=StoreConfig!C268,RIGHT(StoreConfig!G268,LEN(StoreConfig!G268)-FIND(\"#\",StoreConfig!G268)),\"\")","v":""},{"$f":"IF($B$2=StoreConfig!C268,IF(StoreConfig!L268=0,\"不限购\",StoreConfig!L268&\"次\"),\"\")","v":""}]
[{"$nulls":3},{"$f":"IF($B$2=StoreConfig!C269,StoreConfig!O269,\"\")","v":""},{"$f":"IF($B$2=StoreConfig!C269,StoreConfig!E269,\"\")","v":""},{"$f":"IF($B$2=StoreConfig!C269,RIGHT(StoreConfig!J269,LEN(StoreConfig!J269)-FIND(\"|\",StoreConfig!J269)),\"\")","v":""},{"$f":"IFERROR(VLOOKUP(--IF($B$2=StoreConfig!C269,LEFT(StoreConfig!J269,FIND(\"|\",StoreConfig!J269)-1),\"\"),$Q$4:$R$20,2,FALSE),\"\")","v":""},{"$f":"IF($B$2=StoreConfig!C269,LEFT(StoreConfig!G269,FIND(\"#\",StoreConfig!G269)-1),\"\")","v":""},{"$f":"IF($B$2=StoreConfig!C269,RIGHT(StoreConfig!G269,LEN(StoreConfig!G269)-FIND(\"#\",StoreConfig!G269)),\"\")","v":""},{"$f":"IF($B$2=StoreConfig!C269,IF(StoreConfig!L269=0,\"不限购\",StoreConfig!L269&\"次\"),\"\")","v":""}]
[{"$nulls":3},{"$f":"IF($B$2=StoreConfig!C270,StoreConfig!O270,\"\")","v":""},{"$f":"IF($B$2=StoreConfig!C270,StoreConfig!E270,\"\")","v":""},{"$f":"IF($B$2=StoreConfig!C270,RIGHT(StoreConfig!J270,LEN(StoreConfig!J270)-FIND(\"|\",StoreConfig!J270)),\"\")","v":""},{"$f":"IFERROR(VLOOKUP(--IF($B$2=StoreConfig!C270,LEFT(StoreConfig!J270,FIND(\"|\",StoreConfig!J270)-1),\"\"),$Q$4:$R$20,2,FALSE),\"\")","v":""},{"$f":"IF($B$2=StoreConfig!C270,LEFT(StoreConfig!G270,FIND(\"#\",StoreConfig!G270)-1),\"\")","v":""},{"$f":"IF($B$2=StoreConfig!C270,RIGHT(StoreConfig!G270,LEN(StoreConfig!G270)-FIND(\"#\",StoreConfig!G270)),\"\")","v":""},{"$f":"IF($B$2=StoreConfig!C270,IF(StoreConfig!L270=0,\"不限购\",StoreConfig!L270&\"次\"),\"\")","v":""}]
[{"$nulls":3},{"$f":"IF($B$2=StoreConfig!C271,StoreConfig!O271,\"\")","v":""},{"$f":"IF($B$2=StoreConfig!C271,StoreConfig!E271,\"\")","v":""},{"$f":"IF($B$2=StoreConfig!C271,RIGHT(StoreConfig!J271,LEN(StoreConfig!J271)-FIND(\"|\",StoreConfig!J271)),\"\")","v":""},{"$f":"IFERROR(VLOOKUP(--IF($B$2=StoreConfig!C271,LEFT(StoreConfig!J271,FIND(\"|\",StoreConfig!J271)-1),\"\"),$Q$4:$R$20,2,FALSE),\"\")","v":""},{"$f":"IF($B$2=StoreConfig!C271,LEFT(StoreConfig!G271,FIND(\"#\",StoreConfig!G271)-1),\"\")","v":""},{"$f":"IF($B$2=StoreConfig!C271,RIGHT(StoreConfig!G271,LEN(StoreConfig!G271)-FIND(\"#\",StoreConfig!G271)),\"\")","v":""},{"$f":"IF($B$2=StoreConfig!C271,IF(StoreConfig!L271=0,\"不限购\",StoreConfig!L271&\"次\"),\"\")","v":""}]
[{"$nulls":3},{"$f":"IF($B$2=StoreConfig!C272,StoreConfig!O272,\"\")","v":""},{"$f":"IF($B$2=StoreConfig!C272,StoreConfig!E272,\"\")","v":""},{"$f":"IF($B$2=StoreConfig!C272,RIGHT(StoreConfig!J272,LEN(StoreConfig!J272)-FIND(\"|\",StoreConfig!J272)),\"\")","v":""},{"$f":"IFERROR(VLOOKUP(--IF($B$2=StoreConfig!C272,LEFT(StoreConfig!J272,FIND(\"|\",StoreConfig!J272)-1),\"\"),$Q$4:$R$20,2,FALSE),\"\")","v":""},{"$f":"IF($B$2=StoreConfig!C272,LEFT(StoreConfig!G272,FIND(\"#\",StoreConfig!G272)-1),\"\")","v":""},{"$f":"IF($B$2=StoreConfig!C272,RIGHT(StoreConfig!G272,LEN(StoreConfig!G272)-FIND(\"#\",StoreConfig!G272)),\"\")","v":""},{"$f":"IF($B$2=StoreConfig!C272,IF(StoreConfig!L272=0,\"不限购\",StoreConfig!L272&\"次\"),\"\")","v":""}]
[{"$nulls":3},{"$f":"IF($B$2=StoreConfig!C273,StoreConfig!O273,\"\")","v":""},{"$f":"IF($B$2=StoreConfig!C273,StoreConfig!E273,\"\")","v":""},{"$f":"IF($B$2=StoreConfig!C273,RIGHT(StoreConfig!J273,LEN(StoreConfig!J273)-FIND(\"|\",StoreConfig!J273)),\"\")","v":""},{"$f":"IFERROR(VLOOKUP(--IF($B$2=StoreConfig!C273,LEFT(StoreConfig!J273,FIND(\"|\",StoreConfig!J273)-1),\"\"),$Q$4:$R$20,2,FALSE),\"\")","v":""},{"$f":"IF($B$2=StoreConfig!C273,LEFT(StoreConfig!G273,FIND(\"#\",StoreConfig!G273)-1),\"\")","v":""},{"$f":"IF($B$2=StoreConfig!C273,RIGHT(StoreConfig!G273,LEN(StoreConfig!G273)-FIND(\"#\",StoreConfig!G273)),\"\")","v":""},{"$f":"IF($B$2=StoreConfig!C273,IF(StoreConfig!L273=0,\"不限购\",StoreConfig!L273&\"次\"),\"\")","v":""}]
[{"$nulls":3},{"$f":"IF($B$2=StoreConfig!C274,StoreConfig!O274,\"\")","v":""},{"$f":"IF($B$2=StoreConfig!C274,StoreConfig!E274,\"\")","v":""},{"$f":"IF($B$2=StoreConfig!C274,RIGHT(StoreConfig!J274,LEN(StoreConfig!J274)-FIND(\"|\",StoreConfig!J274)),\"\")","v":""},{"$f":"IFERROR(VLOOKUP(--IF($B$2=StoreConfig!C274,LEFT(StoreConfig!J274,FIND(\"|\",StoreConfig!J274)-1),\"\"),$Q$4:$R$20,2,FALSE),\"\")","v":""},{"$f":"IF($B$2=StoreConfig!C274,LEFT(StoreConfig!G274,FIND(\"#\",StoreConfig!G274)-1),\"\")","v":""},{"$f":"IF($B$2=StoreConfig!C274,RIGHT(StoreConfig!G274,LEN(StoreConfig!G274)-FIND(\"#\",StoreConfig!G274)),\"\")","v":""},{"$f":"IF($B$2=StoreConfig!C274,IF(StoreConfig!L274=0,\"不限购\",StoreConfig!L274&\"次\"),\"\")","v":""}]
[{"$nulls":3},{"$f":"IF($B$2=StoreConfig!C275,StoreConfig!O275,\"\")","v":""},{"$f":"IF($B$2=StoreConfig!C275,StoreConfig!E275,\"\")","v":""},{"$f":"IF($B$2=StoreConfig!C275,RIGHT(StoreConfig!J275,LEN(StoreConfig!J275)-FIND(\"|\",StoreConfig!J275)),\"\")","v":""},{"$f":"IFERROR(VLOOKUP(--IF($B$2=StoreConfig!C275,LEFT(StoreConfig!J275,FIND(\"|\",StoreConfig!J275)-1),\"\"),$Q$4:$R$20,2,FALSE),\"\")","v":""},{"$f":"IF($B$2=StoreConfig!C275,LEFT(StoreConfig!G275,FIND(\"#\",StoreConfig!G275)-1),\"\")","v":""},{"$f":"IF($B$2=StoreConfig!C275,RIGHT(StoreConfig!G275,LEN(StoreConfig!G275)-FIND(\"#\",StoreConfig!G275)),\"\")","v":""},{"$f":"IF($B$2=StoreConfig!C275,IF(StoreConfig!L275=0,\"不限购\",StoreConfig!L275&\"次\"),\"\")","v":""}]
[{"$nulls":3},{"$f":"IF($B$2=StoreConfig!C276,StoreConfig!O276,\"\")","v":""},{"$f":"IF($B$2=StoreConfig!C276,StoreConfig!E276,\"\")","v":""},{"$f":"IF($B$2=StoreConfig!C276,RIGHT(StoreConfig!J276,LEN(StoreConfig!J276)-FIND(\"|\",StoreConfig!J276)),\"\")","v":""},{"$f":"IFERROR(VLOOKUP(--IF($B$2=StoreConfig!C276,LEFT(StoreConfig!J276,FIND(\"|\",StoreConfig!J276)-1),\"\"),$Q$4:$R$20,2,FALSE),\"\")","v":""},{"$f":"IF($B$2=StoreConfig!C276,LEFT(StoreConfig!G276,FIND(\"#\",StoreConfig!G276)-1),\"\")","v":""},{"$f":"IF($B$2=StoreConfig!C276,RIGHT(StoreConfig!G276,LEN(StoreConfig!G276)-FIND(\"#\",StoreConfig!G276)),\"\")","v":""},{"$f":"IF($B$2=StoreConfig!C276,IF(StoreConfig!L276=0,\"不限购\",StoreConfig!L276&\"次\"),\"\")","v":""}]
[{"$nulls":3},{"$f":"IF($B$2=StoreConfig!C277,StoreConfig!O277,\"\")","v":""},{"$f":"IF($B$2=StoreConfig!C277,StoreConfig!E277,\"\")","v":""},{"$f":"IF($B$2=StoreConfig!C277,RIGHT(StoreConfig!J277,LEN(StoreConfig!J277)-FIND(\"|\",StoreConfig!J277)),\"\")","v":""},{"$f":"IFERROR(VLOOKUP(--IF($B$2=StoreConfig!C277,LEFT(StoreConfig!J277,FIND(\"|\",StoreConfig!J277)-1),\"\"),$Q$4:$R$20,2,FALSE),\"\")","v":""},{"$f":"IF($B$2=StoreConfig!C277,LEFT(StoreConfig!G277,FIND(\"#\",StoreConfig!G277)-1),\"\")","v":""},{"$f":"IF($B$2=StoreConfig!C277,RIGHT(StoreConfig!G277,LEN(StoreConfig!G277)-FIND(\"#\",StoreConfig!G277)),\"\")","v":""},{"$f":"IF($B$2=StoreConfig!C277,IF(StoreConfig!L277=0,\"不限购\",StoreConfig!L277&\"次\"),\"\")","v":""}]
[{"$nulls":3},{"$f":"IF($B$2=StoreConfig!C278,StoreConfig!O278,\"\")","v":""},{"$f":"IF($B$2=StoreConfig!C278,StoreConfig!E278,\"\")","v":""},{"$f":"IF($B$2=StoreConfig!C278,RIGHT(StoreConfig!J278,LEN(StoreConfig!J278)-FIND(\"|\",StoreConfig!J278)),\"\")","v":""},{"$f":"IFERROR(VLOOKUP(--IF($B$2=StoreConfig!C278,LEFT(StoreConfig!J278,FIND(\"|\",StoreConfig!J278)-1),\"\"),$Q$4:$R$20,2,FALSE),\"\")","v":""},{"$f":"IF($B$2=StoreConfig!C278,LEFT(StoreConfig!G278,FIND(\"#\",StoreConfig!G278)-1),\"\")","v":""},{"$f":"IF($B$2=StoreConfig!C278,RIGHT(StoreConfig!G278,LEN(StoreConfig!G278)-FIND(\"#\",StoreConfig!G278)),\"\")","v":""},{"$f":"IF($B$2=StoreConfig!C278,IF(StoreConfig!L278=0,\"不限购\",StoreConfig!L278&\"次\"),\"\")","v":""}]
[{"$nulls":3},{"$f":"IF($B$2=StoreConfig!C279,StoreConfig!O279,\"\")","v":""},{"$f":"IF($B$2=StoreConfig!C279,StoreConfig!E279,\"\")","v":""},{"$f":"IF($B$2=StoreConfig!C279,RIGHT(StoreConfig!J279,LEN(StoreConfig!J279)-FIND(\"|\",StoreConfig!J279)),\"\")","v":""},{"$f":"IFERROR(VLOOKUP(--IF($B$2=StoreConfig!C279,LEFT(StoreConfig!J279,FIND(\"|\",StoreConfig!J279)-1),\"\"),$Q$4:$R$20,2,FALSE),\"\")","v":""},{"$f":"IF($B$2=StoreConfig!C279,LEFT(StoreConfig!G279,FIND(\"#\",StoreConfig!G279)-1),\"\")","v":""},{"$f":"IF($B$2=StoreConfig!C279,RIGHT(StoreConfig!G279,LEN(StoreConfig!G279)-FIND(\"#\",StoreConfig!G279)),\"\")","v":""},{"$f":"IF($B$2=StoreConfig!C279,IF(StoreConfig!L279=0,\"不限购\",StoreConfig!L279&\"次\"),\"\")","v":""}]
[{"$nulls":3},{"$f":"IF($B$2=StoreConfig!C280,StoreConfig!O280,\"\")","v":""},{"$f":"IF($B$2=StoreConfig!C280,StoreConfig!E280,\"\")","v":""},{"$f":"IF($B$2=StoreConfig!C280,RIGHT(StoreConfig!J280,LEN(StoreConfig!J280)-FIND(\"|\",StoreConfig!J280)),\"\")","v":""},{"$f":"IFERROR(VLOOKUP(--IF($B$2=StoreConfig!C280,LEFT(StoreConfig!J280,FIND(\"|\",StoreConfig!J280)-1),\"\"),$Q$4:$R$20,2,FALSE),\"\")","v":""},{"$f":"IF($B$2=StoreConfig!C280,LEFT(StoreConfig!G280,FIND(\"#\",StoreConfig!G280)-1),\"\")","v":""},{"$f":"IF($B$2=StoreConfig!C280,RIGHT(StoreConfig!G280,LEN(StoreConfig!G280)-FIND(\"#\",StoreConfig!G280)),\"\")","v":""},{"$f":"IF($B$2=StoreConfig!C280,IF(StoreConfig!L280=0,\"不限购\",StoreConfig!L280&\"次\"),\"\")","v":""}]
[{"$nulls":3},{"$f":"IF($B$2=StoreConfig!C281,StoreConfig!O281,\"\")","v":""},{"$f":"IF($B$2=StoreConfig!C281,StoreConfig!E281,\"\")","v":""},{"$f":"IF($B$2=StoreConfig!C281,RIGHT(StoreConfig!J281,LEN(StoreConfig!J281)-FIND(\"|\",StoreConfig!J281)),\"\")","v":""},{"$f":"IFERROR(VLOOKUP(--IF($B$2=StoreConfig!C281,LEFT(StoreConfig!J281,FIND(\"|\",StoreConfig!J281)-1),\"\"),$Q$4:$R$20,2,FALSE),\"\")","v":""},{"$f":"IF($B$2=StoreConfig!C281,LEFT(StoreConfig!G281,FIND(\"#\",StoreConfig!G281)-1),\"\")","v":""},{"$f":"IF($B$2=StoreConfig!C281,RIGHT(StoreConfig!G281,LEN(StoreConfig!G281)-FIND(\"#\",StoreConfig!G281)),\"\")","v":""},{"$f":"IF($B$2=StoreConfig!C281,IF(StoreConfig!L281=0,\"不限购\",StoreConfig!L281&\"次\"),\"\")","v":""}]
[{"$nulls":3},{"$f":"IF($B$2=StoreConfig!C282,StoreConfig!O282,\"\")","v":""},{"$f":"IF($B$2=StoreConfig!C282,StoreConfig!E282,\"\")","v":""},{"$f":"IF($B$2=StoreConfig!C282,RIGHT(StoreConfig!J282,LEN(StoreConfig!J282)-FIND(\"|\",StoreConfig!J282)),\"\")","v":""},{"$f":"IFERROR(VLOOKUP(--IF($B$2=StoreConfig!C282,LEFT(StoreConfig!J282,FIND(\"|\",StoreConfig!J282)-1),\"\"),$Q$4:$R$20,2,FALSE),\"\")","v":""},{"$f":"IF($B$2=StoreConfig!C282,LEFT(StoreConfig!G282,FIND(\"#\",StoreConfig!G282)-1),\"\")","v":""},{"$f":"IF($B$2=StoreConfig!C282,RIGHT(StoreConfig!G282,LEN(StoreConfig!G282)-FIND(\"#\",StoreConfig!G282)),\"\")","v":""},{"$f":"IF($B$2=StoreConfig!C282,IF(StoreConfig!L282=0,\"不限购\",StoreConfig!L282&\"次\"),\"\")","v":""}]
[{"$nulls":3},{"$f":"IF($B$2=StoreConfig!C283,StoreConfig!O283,\"\")","v":""},{"$f":"IF($B$2=StoreConfig!C283,StoreConfig!E283,\"\")","v":""},{"$f":"IF($B$2=StoreConfig!C283,RIGHT(StoreConfig!J283,LEN(StoreConfig!J283)-FIND(\"|\",StoreConfig!J283)),\"\")","v":""},{"$f":"IFERROR(VLOOKUP(--IF($B$2=StoreConfig!C283,LEFT(StoreConfig!J283,FIND(\"|\",StoreConfig!J283)-1),\"\"),$Q$4:$R$20,2,FALSE),\"\")","v":""},{"$f":"IF($B$2=StoreConfig!C283,LEFT(StoreConfig!G283,FIND(\"#\",StoreConfig!G283)-1),\"\")","v":""},{"$f":"IF($B$2=StoreConfig!C283,RIGHT(StoreConfig!G283,LEN(StoreConfig!G283)-FIND(\"#\",StoreConfig!G283)),\"\")","v":""},{"$f":"IF($B$2=StoreConfig!C283,IF(StoreConfig!L283=0,\"不限购\",StoreConfig!L283&\"次\"),\"\")","v":""}]
[{"$nulls":3},{"$f":"IF($B$2=StoreConfig!C284,StoreConfig!O284,\"\")","v":""},{"$f":"IF($B$2=StoreConfig!C284,StoreConfig!E284,\"\")","v":""},{"$f":"IF($B$2=StoreConfig!C284,RIGHT(StoreConfig!J284,LEN(StoreConfig!J284)-FIND(\"|\",StoreConfig!J284)),\"\")","v":""},{"$f":"IFERROR(VLOOKUP(--IF($B$2=StoreConfig!C284,LEFT(StoreConfig!J284,FIND(\"|\",StoreConfig!J284)-1),\"\"),$Q$4:$R$20,2,FALSE),\"\")","v":""},{"$f":"IF($B$2=StoreConfig!C284,LEFT(StoreConfig!G284,FIND(\"#\",StoreConfig!G284)-1),\"\")","v":""},{"$f":"IF($B$2=StoreConfig!C284,RIGHT(StoreConfig!G284,LEN(StoreConfig!G284)-FIND(\"#\",StoreConfig!G284)),\"\")","v":""},{"$f":"IF($B$2=StoreConfig!C284,IF(StoreConfig!L284=0,\"不限购\",StoreConfig!L284&\"次\"),\"\")","v":""}]
[{"$nulls":3},{"$f":"IF($B$2=StoreConfig!C285,StoreConfig!O285,\"\")","v":""},{"$f":"IF($B$2=StoreConfig!C285,StoreConfig!E285,\"\")","v":""},{"$f":"IF($B$2=StoreConfig!C285,RIGHT(StoreConfig!J285,LEN(StoreConfig!J285)-FIND(\"|\",StoreConfig!J285)),\"\")","v":""},{"$f":"IFERROR(VLOOKUP(--IF($B$2=StoreConfig!C285,LEFT(StoreConfig!J285,FIND(\"|\",StoreConfig!J285)-1),\"\"),$Q$4:$R$20,2,FALSE),\"\")","v":""},{"$f":"IF($B$2=StoreConfig!C285,LEFT(StoreConfig!G285,FIND(\"#\",StoreConfig!G285)-1),\"\")","v":""},{"$f":"IF($B$2=StoreConfig!C285,RIGHT(StoreConfig!G285,LEN(StoreConfig!G285)-FIND(\"#\",StoreConfig!G285)),\"\")","v":""},{"$f":"IF($B$2=StoreConfig!C285,IF(StoreConfig!L285=0,\"不限购\",StoreConfig!L285&\"次\"),\"\")","v":""}]
[{"$nulls":3},{"$f":"IF($B$2=StoreConfig!C286,StoreConfig!O286,\"\")","v":""},{"$f":"IF($B$2=StoreConfig!C286,StoreConfig!E286,\"\")","v":""},{"$f":"IF($B$2=StoreConfig!C286,RIGHT(StoreConfig!J286,LEN(StoreConfig!J286)-FIND(\"|\",StoreConfig!J286)),\"\")","v":""},{"$f":"IFERROR(VLOOKUP(--IF($B$2=StoreConfig!C286,LEFT(StoreConfig!J286,FIND(\"|\",StoreConfig!J286)-1),\"\"),$Q$4:$R$20,2,FALSE),\"\")","v":""},{"$f":"IF($B$2=StoreConfig!C286,LEFT(StoreConfig!G286,FIND(\"#\",StoreConfig!G286)-1),\"\")","v":""},{"$f":"IF($B$2=StoreConfig!C286,RIGHT(StoreConfig!G286,LEN(StoreConfig!G286)-FIND(\"#\",StoreConfig!G286)),\"\")","v":""},{"$f":"IF($B$2=StoreConfig!C286,IF(StoreConfig!L286=0,\"不限购\",StoreConfig!L286&\"次\"),\"\")","v":""}]
[{"$nulls":3},{"$f":"IF($B$2=StoreConfig!C287,StoreConfig!O287,\"\")","v":""},{"$f":"IF($B$2=StoreConfig!C287,StoreConfig!E287,\"\")","v":""},{"$f":"IF($B$2=StoreConfig!C287,RIGHT(StoreConfig!J287,LEN(StoreConfig!J287)-FIND(\"|\",StoreConfig!J287)),\"\")","v":""},{"$f":"IFERROR(VLOOKUP(--IF($B$2=StoreConfig!C287,LEFT(StoreConfig!J287,FIND(\"|\",StoreConfig!J287)-1),\"\"),$Q$4:$R$20,2,FALSE),\"\")","v":""},{"$f":"IF($B$2=StoreConfig!C287,LEFT(StoreConfig!G287,FIND(\"#\",StoreConfig!G287)-1),\"\")","v":""},{"$f":"IF($B$2=StoreConfig!C287,RIGHT(StoreConfig!G287,LEN(StoreConfig!G287)-FIND(\"#\",StoreConfig!G287)),\"\")","v":""},{"$f":"IF($B$2=StoreConfig!C287,IF(StoreConfig!L287=0,\"不限购\",StoreConfig!L287&\"次\"),\"\")","v":""}]
[{"$nulls":3},{"$f":"IF($B$2=StoreConfig!C288,StoreConfig!O288,\"\")","v":""},{"$f":"IF($B$2=StoreConfig!C288,StoreConfig!E288,\"\")","v":""},{"$f":"IF($B$2=StoreConfig!C288,RIGHT(StoreConfig!J288,LEN(StoreConfig!J288)-FIND(\"|\",StoreConfig!J288)),\"\")","v":""},{"$f":"IFERROR(VLOOKUP(--IF($B$2=StoreConfig!C288,LEFT(StoreConfig!J288,FIND(\"|\",StoreConfig!J288)-1),\"\"),$Q$4:$R$20,2,FALSE),\"\")","v":""},{"$f":"IF($B$2=StoreConfig!C288,LEFT(StoreConfig!G288,FIND(\"#\",StoreConfig!G288)-1),\"\")","v":""},{"$f":"IF($B$2=StoreConfig!C288,RIGHT(StoreConfig!G288,LEN(StoreConfig!G288)-FIND(\"#\",StoreConfig!G288)),\"\")","v":""},{"$f":"IF($B$2=StoreConfig!C288,IF(StoreConfig!L288=0,\"不限购\",StoreConfig!L288&\"次\"),\"\")","v":""}]
[{"$nulls":3},{"$f":"IF($B$2=StoreConfig!C289,StoreConfig!O289,\"\")","v":""},{"$f":"IF($B$2=StoreConfig!C289,StoreConfig!E289,\"\")","v":""},{"$f":"IF($B$2=StoreConfig!C289,RIGHT(StoreConfig!J289,LEN(StoreConfig!J289)-FIND(\"|\",StoreConfig!J289)),\"\")","v":""},{"$f":"IFERROR(VLOOKUP(--IF($B$2=StoreConfig!C289,LEFT(StoreConfig!J289,FIND(\"|\",StoreConfig!J289)-1),\"\"),$Q$4:$R$20,2,FALSE),\"\")","v":""},{"$f":"IF($B$2=StoreConfig!C289,LEFT(StoreConfig!G289,FIND(\"#\",StoreConfig!G289)-1),\"\")","v":""},{"$f":"IF($B$2=StoreConfig!C289,RIGHT(StoreConfig!G289,LEN(StoreConfig!G289)-FIND(\"#\",StoreConfig!G289)),\"\")","v":""},{"$f":"IF($B$2=StoreConfig!C289,IF(StoreConfig!L289=0,\"不限购\",StoreConfig!L289&\"次\"),\"\")","v":""}]
[{"$nulls":3},{"$f":"IF($B$2=StoreConfig!C290,StoreConfig!O290,\"\")","v":""},{"$f":"IF($B$2=StoreConfig!C290,StoreConfig!E290,\"\")","v":""},{"$f":"IF($B$2=StoreConfig!C290,RIGHT(StoreConfig!J290,LEN(StoreConfig!J290)-FIND(\"|\",StoreConfig!J290)),\"\")","v":""},{"$f":"IFERROR(VLOOKUP(--IF($B$2=StoreConfig!C290,LEFT(StoreConfig!J290,FIND(\"|\",StoreConfig!J290)-1),\"\"),$Q$4:$R$20,2,FALSE),\"\")","v":""},{"$f":"IF($B$2=StoreConfig!C290,LEFT(StoreConfig!G290,FIND(\"#\",StoreConfig!G290)-1),\"\")","v":""},{"$f":"IF($B$2=StoreConfig!C290,RIGHT(StoreConfig!G290,LEN(StoreConfig!G290)-FIND(\"#\",StoreConfig!G290)),\"\")","v":""},{"$f":"IF($B$2=StoreConfig!C290,IF(StoreConfig!L290=0,\"不限购\",StoreConfig!L290&\"次\"),\"\")","v":""}]
[{"$nulls":3},{"$f":"IF($B$2=StoreConfig!C291,StoreConfig!O291,\"\")","v":""},{"$f":"IF($B$2=StoreConfig!C291,StoreConfig!E291,\"\")","v":""},{"$f":"IF($B$2=StoreConfig!C291,RIGHT(StoreConfig!J291,LEN(StoreConfig!J291)-FIND(\"|\",StoreConfig!J291)),\"\")","v":""},{"$f":"IFERROR(VLOOKUP(--IF($B$2=StoreConfig!C291,LEFT(StoreConfig!J291,FIND(\"|\",StoreConfig!J291)-1),\"\"),$Q$4:$R$20,2,FALSE),\"\")","v":""},{"$f":"IF($B$2=StoreConfig!C291,LEFT(StoreConfig!G291,FIND(\"#\",StoreConfig!G291)-1),\"\")","v":""},{"$f":"IF($B$2=StoreConfig!C291,RIGHT(StoreConfig!G291,LEN(StoreConfig!G291)-FIND(\"#\",StoreConfig!G291)),\"\")","v":""},{"$f":"IF($B$2=StoreConfig!C291,IF(StoreConfig!L291=0,\"不限购\",StoreConfig!L291&\"次\"),\"\")","v":""}]
[{"$nulls":3},{"$f":"IF($B$2=StoreConfig!C292,StoreConfig!O292,\"\")","v":""},{"$f":"IF($B$2=StoreConfig!C292,StoreConfig!E292,\"\")","v":""},{"$f":"IF($B$2=StoreConfig!C292,RIGHT(StoreConfig!J292,LEN(StoreConfig!J292)-FIND(\"|\",StoreConfig!J292)),\"\")","v":""},{"$f":"IFERROR(VLOOKUP(--IF($B$2=StoreConfig!C292,LEFT(StoreConfig!J292,FIND(\"|\",StoreConfig!J292)-1),\"\"),$Q$4:$R$20,2,FALSE),\"\")","v":""},{"$f":"IF($B$2=StoreConfig!C292,LEFT(StoreConfig!G292,FIND(\"#\",StoreConfig!G292)-1),\"\")","v":""},{"$f":"IF($B$2=StoreConfig!C292,RIGHT(StoreConfig!G292,LEN(StoreConfig!G292)-FIND(\"#\",StoreConfig!G292)),\"\")","v":""},{"$f":"IF($B$2=StoreConfig!C292,IF(StoreConfig!L292=0,\"不限购\",StoreConfig!L292&\"次\"),\"\")","v":""}]
[{"$nulls":3},{"$f":"IF($B$2=StoreConfig!C293,StoreConfig!O293,\"\")","v":""},{"$f":"IF($B$2=StoreConfig!C293,StoreConfig!E293,\"\")","v":""},{"$f":"IF($B$2=StoreConfig!C293,RIGHT(StoreConfig!J293,LEN(StoreConfig!J293)-FIND(\"|\",StoreConfig!J293)),\"\")","v":""},{"$f":"IFERROR(VLOOKUP(--IF($B$2=StoreConfig!C293,LEFT(StoreConfig!J293,FIND(\"|\",StoreConfig!J293)-1),\"\"),$Q$4:$R$20,2,FALSE),\"\")","v":""},{"$f":"IF($B$2=StoreConfig!C293,LEFT(StoreConfig!G293,FIND(\"#\",StoreConfig!G293)-1),\"\")","v":""},{"$f":"IF($B$2=StoreConfig!C293,RIGHT(StoreConfig!G293,LEN(StoreConfig!G293)-FIND(\"#\",StoreConfig!G293)),\"\")","v":""},{"$f":"IF($B$2=StoreConfig!C293,IF(StoreConfig!L293=0,\"不限购\",StoreConfig!L293&\"次\"),\"\")","v":""}]
[{"$nulls":3},{"$f":"IF($B$2=StoreConfig!C294,StoreConfig!O294,\"\")","v":""},{"$f":"IF($B$2=StoreConfig!C294,StoreConfig!E294,\"\")","v":""},{"$f":"IF($B$2=StoreConfig!C294,RIGHT(StoreConfig!J294,LEN(StoreConfig!J294)-FIND(\"|\",StoreConfig!J294)),\"\")","v":""},{"$f":"IFERROR(VLOOKUP(--IF($B$2=StoreConfig!C294,LEFT(StoreConfig!J294,FIND(\"|\",StoreConfig!J294)-1),\"\"),$Q$4:$R$20,2,FALSE),\"\")","v":""},{"$f":"IF($B$2=StoreConfig!C294,LEFT(StoreConfig!G294,FIND(\"#\",StoreConfig!G294)-1),\"\")","v":""},{"$f":"IF($B$2=StoreConfig!C294,RIGHT(StoreConfig!G294,LEN(StoreConfig!G294)-FIND(\"#\",StoreConfig!G294)),\"\")","v":""},{"$f":"IF($B$2=StoreConfig!C294,IF(StoreConfig!L294=0,\"不限购\",StoreConfig!L294&\"次\"),\"\")","v":""}]
[{"$nulls":3},{"$f":"IF($B$2=StoreConfig!C295,StoreConfig!O295,\"\")","v":""},{"$f":"IF($B$2=StoreConfig!C295,StoreConfig!E295,\"\")","v":""},{"$f":"IF($B$2=StoreConfig!C295,RIGHT(StoreConfig!J295,LEN(StoreConfig!J295)-FIND(\"|\",StoreConfig!J295)),\"\")","v":""},{"$f":"IFERROR(VLOOKUP(--IF($B$2=StoreConfig!C295,LEFT(StoreConfig!J295,FIND(\"|\",StoreConfig!J295)-1),\"\"),$Q$4:$R$20,2,FALSE),\"\")","v":""},{"$f":"IF($B$2=StoreConfig!C295,LEFT(StoreConfig!G295,FIND(\"#\",StoreConfig!G295)-1),\"\")","v":""},{"$f":"IF($B$2=StoreConfig!C295,RIGHT(StoreConfig!G295,LEN(StoreConfig!G295)-FIND(\"#\",StoreConfig!G295)),\"\")","v":""},{"$f":"IF($B$2=StoreConfig!C295,IF(StoreConfig!L295=0,\"不限购\",StoreConfig!L295&\"次\"),\"\")","v":""}]
[{"$nulls":3},{"$f":"IF($B$2=StoreConfig!C296,StoreConfig!O296,\"\")","v":""},{"$f":"IF($B$2=StoreConfig!C296,StoreConfig!E296,\"\")","v":""},{"$f":"IF($B$2=StoreConfig!C296,RIGHT(StoreConfig!J296,LEN(StoreConfig!J296)-FIND(\"|\",StoreConfig!J296)),\"\")","v":""},{"$f":"IFERROR(VLOOKUP(--IF($B$2=StoreConfig!C296,LEFT(StoreConfig!J296,FIND(\"|\",StoreConfig!J296)-1),\"\"),$Q$4:$R$20,2,FALSE),\"\")","v":""},{"$f":"IF($B$2=StoreConfig!C296,LEFT(StoreConfig!G296,FIND(\"#\",StoreConfig!G296)-1),\"\")","v":""},{"$f":"IF($B$2=StoreConfig!C296,RIGHT(StoreConfig!G296,LEN(StoreConfig!G296)-FIND(\"#\",StoreConfig!G296)),\"\")","v":""},{"$f":"IF($B$2=StoreConfig!C296,IF(StoreConfig!L296=0,\"不限购\",StoreConfig!L296&\"次\"),\"\")","v":""}]
[{"$nulls":3},{"$f":"IF($B$2=StoreConfig!C297,StoreConfig!O297,\"\")","v":""},{"$f":"IF($B$2=StoreConfig!C297,StoreConfig!E297,\"\")","v":""},{"$f":"IF($B$2=StoreConfig!C297,RIGHT(StoreConfig!J297,LEN(StoreConfig!J297)-FIND(\"|\",StoreConfig!J297)),\"\")","v":""},{"$f":"IFERROR(VLOOKUP(--IF($B$2=StoreConfig!C297,LEFT(StoreConfig!J297,FIND(\"|\",StoreConfig!J297)-1),\"\"),$Q$4:$R$20,2,FALSE),\"\")","v":""},{"$f":"IF($B$2=StoreConfig!C297,LEFT(StoreConfig!G297,FIND(\"#\",StoreConfig!G297)-1),\"\")","v":""},{"$f":"IF($B$2=StoreConfig!C297,RIGHT(StoreConfig!G297,LEN(StoreConfig!G297)-FIND(\"#\",StoreConfig!G297)),\"\")","v":""},{"$f":"IF($B$2=StoreConfig!C297,IF(StoreConfig!L297=0,\"不限购\",StoreConfig!L297&\"次\"),\"\")","v":""}]
[{"$nulls":3},{"$f":"IF($B$2=StoreConfig!C298,StoreConfig!O298,\"\")","v":""},{"$f":"IF($B$2=StoreConfig!C298,StoreConfig!E298,\"\")","v":""},{"$f":"IF($B$2=StoreConfig!C298,RIGHT(StoreConfig!J298,LEN(StoreConfig!J298)-FIND(\"|\",StoreConfig!J298)),\"\")","v":""},{"$f":"IFERROR(VLOOKUP(--IF($B$2=StoreConfig!C298,LEFT(StoreConfig!J298,FIND(\"|\",StoreConfig!J298)-1),\"\"),$Q$4:$R$20,2,FALSE),\"\")","v":""},{"$f":"IF($B$2=StoreConfig!C298,LEFT(StoreConfig!G298,FIND(\"#\",StoreConfig!G298)-1),\"\")","v":""},{"$f":"IF($B$2=StoreConfig!C298,RIGHT(StoreConfig!G298,LEN(StoreConfig!G298)-FIND(\"#\",StoreConfig!G298)),\"\")","v":""},{"$f":"IF($B$2=StoreConfig!C298,IF(StoreConfig!L298=0,\"不限购\",StoreConfig!L298&\"次\"),\"\")","v":""}]
[{"$nulls":3},{"$f":"IF($B$2=StoreConfig!C299,StoreConfig!O299,\"\")","v":""},{"$f":"IF($B$2=StoreConfig!C299,StoreConfig!E299,\"\")","v":""},{"$f":"IF($B$2=StoreConfig!C299,RIGHT(StoreConfig!J299,LEN(StoreConfig!J299)-FIND(\"|\",StoreConfig!J299)),\"\")","v":""},{"$f":"IFERROR(VLOOKUP(--IF($B$2=StoreConfig!C299,LEFT(StoreConfig!J299,FIND(\"|\",StoreConfig!J299)-1),\"\"),$Q$4:$R$20,2,FALSE),\"\")","v":""},{"$f":"IF($B$2=StoreConfig!C299,LEFT(StoreConfig!G299,FIND(\"#\",StoreConfig!G299)-1),\"\")","v":""},{"$f":"IF($B$2=StoreConfig!C299,RIGHT(StoreConfig!G299,LEN(StoreConfig!G299)-FIND(\"#\",StoreConfig!G299)),\"\")","v":""},{"$f":"IF($B$2=StoreConfig!C299,IF(StoreConfig!L299=0,\"不限购\",StoreConfig!L299&\"次\"),\"\")","v":""}]
[{"$nulls":3},{"$f":"IF($B$2=StoreConfig!C300,StoreConfig!O300,\"\")","v":""},{"$f":"IF($B$2=StoreConfig!C300,StoreConfig!E300,\"\")","v":""},{"$f":"IF($B$2=StoreConfig!C300,RIGHT(StoreConfig!J300,LEN(StoreConfig!J300)-FIND(\"|\",StoreConfig!J300)),\"\")","v":""},{"$f":"IFERROR(VLOOKUP(--IF($B$2=StoreConfig!C300,LEFT(StoreConfig!J300,FIND(\"|\",StoreConfig!J300)-1),\"\"),$Q$4:$R$20,2,FALSE),\"\")","v":""},{"$f":"IF($B$2=StoreConfig!C300,LEFT(StoreConfig!G300,FIND(\"#\",StoreConfig!G300)-1),\"\")","v":""},{"$f":"IF($B$2=StoreConfig!C300,RIGHT(StoreConfig!G300,LEN(StoreConfig!G300)-FIND(\"#\",StoreConfig!G300)),\"\")","v":""},{"$f":"IF($B$2=StoreConfig!C300,IF(StoreConfig!L300=0,\"不限购\",StoreConfig!L300&\"次\"),\"\")","v":""}]
[{"$nulls":3},{"$f":"IF($B$2=StoreConfig!C301,StoreConfig!O301,\"\")","v":""},{"$f":"IF($B$2=StoreConfig!C301,StoreConfig!E301,\"\")","v":""},{"$f":"IF($B$2=StoreConfig!C301,RIGHT(StoreConfig!J301,LEN(StoreConfig!J301)-FIND(\"|\",StoreConfig!J301)),\"\")","v":""},{"$f":"IFERROR(VLOOKUP(--IF($B$2=StoreConfig!C301,LEFT(StoreConfig!J301,FIND(\"|\",StoreConfig!J301)-1),\"\"),$Q$4:$R$20,2,FALSE),\"\")","v":""},{"$f":"IF($B$2=StoreConfig!C301,LEFT(StoreConfig!G301,FIND(\"#\",StoreConfig!G301)-1),\"\")","v":""},{"$f":"IF($B$2=StoreConfig!C301,RIGHT(StoreConfig!G301,LEN(StoreConfig!G301)-FIND(\"#\",StoreConfig!G301)),\"\")","v":""},{"$f":"IF($B$2=StoreConfig!C301,IF(StoreConfig!L301=0,\"不限购\",StoreConfig!L301&\"次\"),\"\")","v":""}]
[{"$nulls":3},{"$f":"IF($B$2=StoreConfig!C302,StoreConfig!O302,\"\")","v":""},{"$f":"IF($B$2=StoreConfig!C302,StoreConfig!E302,\"\")","v":""},{"$f":"IF($B$2=StoreConfig!C302,RIGHT(StoreConfig!J302,LEN(StoreConfig!J302)-FIND(\"|\",StoreConfig!J302)),\"\")","v":""},{"$f":"IFERROR(VLOOKUP(--IF($B$2=StoreConfig!C302,LEFT(StoreConfig!J302,FIND(\"|\",StoreConfig!J302)-1),\"\"),$Q$4:$R$20,2,FALSE),\"\")","v":""},{"$f":"IF($B$2=StoreConfig!C302,LEFT(StoreConfig!G302,FIND(\"#\",StoreConfig!G302)-1),\"\")","v":""},{"$f":"IF($B$2=StoreConfig!C302,RIGHT(StoreConfig!G302,LEN(StoreConfig!G302)-FIND(\"#\",StoreConfig!G302)),\"\")","v":""},{"$f":"IF($B$2=StoreConfig!C302,IF(StoreConfig!L302=0,\"不限购\",StoreConfig!L302&\"次\"),\"\")","v":""}]
[{"$nulls":3},{"$f":"IF($B$2=StoreConfig!C303,StoreConfig!O303,\"\")","v":""},{"$f":"IF($B$2=StoreConfig!C303,StoreConfig!E303,\"\")","v":""},{"$f":"IF($B$2=StoreConfig!C303,RIGHT(StoreConfig!J303,LEN(StoreConfig!J303)-FIND(\"|\",StoreConfig!J303)),\"\")","v":""},{"$f":"IFERROR(VLOOKUP(--IF($B$2=StoreConfig!C303,LEFT(StoreConfig!J303,FIND(\"|\",StoreConfig!J303)-1),\"\"),$Q$4:$R$20,2,FALSE),\"\")","v":""},{"$f":"IF($B$2=StoreConfig!C303,LEFT(StoreConfig!G303,FIND(\"#\",StoreConfig!G303)-1),\"\")","v":""},{"$f":"IF($B$2=StoreConfig!C303,RIGHT(StoreConfig!G303,LEN(StoreConfig!G303)-FIND(\"#\",StoreConfig!G303)),\"\")","v":""},{"$f":"IF($B$2=StoreConfig!C303,IF(StoreConfig!L303=0,\"不限购\",StoreConfig!L303&\"次\"),\"\")","v":""}]
[{"$nulls":3},{"$f":"IF($B$2=StoreConfig!C304,StoreConfig!O304,\"\")","v":""},{"$f":"IF($B$2=StoreConfig!C304,StoreConfig!E304,\"\")","v":""},{"$f":"IF($B$2=StoreConfig!C304,RIGHT(StoreConfig!J304,LEN(StoreConfig!J304)-FIND(\"|\",StoreConfig!J304)),\"\")","v":""},{"$f":"IFERROR(VLOOKUP(--IF($B$2=StoreConfig!C304,LEFT(StoreConfig!J304,FIND(\"|\",StoreConfig!J304)-1),\"\"),$Q$4:$R$20,2,FALSE),\"\")","v":""},{"$f":"IF($B$2=StoreConfig!C304,LEFT(StoreConfig!G304,FIND(\"#\",StoreConfig!G304)-1),\"\")","v":""},{"$f":"IF($B$2=StoreConfig!C304,RIGHT(StoreConfig!G304,LEN(StoreConfig!G304)-FIND(\"#\",StoreConfig!G304)),\"\")","v":""},{"$f":"IF($B$2=StoreConfig!C304,IF(StoreConfig!L304=0,\"不限购\",StoreConfig!L304&\"次\"),\"\")","v":""}]
[{"$nulls":3},{"$f":"IF($B$2=StoreConfig!C305,StoreConfig!O305,\"\")","v":""},{"$f":"IF($B$2=StoreConfig!C305,StoreConfig!E305,\"\")","v":""},{"$f":"IF($B$2=StoreConfig!C305,RIGHT(StoreConfig!J305,LEN(StoreConfig!J305)-FIND(\"|\",StoreConfig!J305)),\"\")","v":""},{"$f":"IFERROR(VLOOKUP(--IF($B$2=StoreConfig!C305,LEFT(StoreConfig!J305,FIND(\"|\",StoreConfig!J305)-1),\"\"),$Q$4:$R$20,2,FALSE),\"\")","v":""},{"$f":"IF($B$2=StoreConfig!C305,LEFT(StoreConfig!G305,FIND(\"#\",StoreConfig!G305)-1),\"\")","v":""},{"$f":"IF($B$2=StoreConfig!C305,RIGHT(StoreConfig!G305,LEN(StoreConfig!G305)-FIND(\"#\",StoreConfig!G305)),\"\")","v":""},{"$f":"IF($B$2=StoreConfig!C305,IF(StoreConfig!L305=0,\"不限购\",StoreConfig!L305&\"次\"),\"\")","v":""}]
[{"$nulls":3},{"$f":"IF($B$2=StoreConfig!C306,StoreConfig!O306,\"\")","v":""},{"$f":"IF($B$2=StoreConfig!C306,StoreConfig!E306,\"\")","v":""},{"$f":"IF($B$2=StoreConfig!C306,RIGHT(StoreConfig!J306,LEN(StoreConfig!J306)-FIND(\"|\",StoreConfig!J306)),\"\")","v":""},{"$f":"IFERROR(VLOOKUP(--IF($B$2=StoreConfig!C306,LEFT(StoreConfig!J306,FIND(\"|\",StoreConfig!J306)-1),\"\"),$Q$4:$R$20,2,FALSE),\"\")","v":""},{"$f":"IF($B$2=StoreConfig!C306,LEFT(StoreConfig!G306,FIND(\"#\",StoreConfig!G306)-1),\"\")","v":""},{"$f":"IF($B$2=StoreConfig!C306,RIGHT(StoreConfig!G306,LEN(StoreConfig!G306)-FIND(\"#\",StoreConfig!G306)),\"\")","v":""},{"$f":"IF($B$2=StoreConfig!C306,IF(StoreConfig!L306=0,\"不限购\",StoreConfig!L306&\"次\"),\"\")","v":""}]
[{"$nulls":3},{"$f":"IF($B$2=StoreConfig!C307,StoreConfig!O307,\"\")","v":""},{"$f":"IF($B$2=StoreConfig!C307,StoreConfig!E307,\"\")","v":""},{"$f":"IF($B$2=StoreConfig!C307,RIGHT(StoreConfig!J307,LEN(StoreConfig!J307)-FIND(\"|\",StoreConfig!J307)),\"\")","v":""},{"$f":"IFERROR(VLOOKUP(--IF($B$2=StoreConfig!C307,LEFT(StoreConfig!J307,FIND(\"|\",StoreConfig!J307)-1),\"\"),$Q$4:$R$20,2,FALSE),\"\")","v":""},{"$f":"IF($B$2=StoreConfig!C307,LEFT(StoreConfig!G307,FIND(\"#\",StoreConfig!G307)-1),\"\")","v":""},{"$f":"IF($B$2=StoreConfig!C307,RIGHT(StoreConfig!G307,LEN(StoreConfig!G307)-FIND(\"#\",StoreConfig!G307)),\"\")","v":""},{"$f":"IF($B$2=StoreConfig!C307,IF(StoreConfig!L307=0,\"不限购\",StoreConfig!L307&\"次\"),\"\")","v":""}]
[{"$nulls":3},{"$f":"IF($B$2=StoreConfig!C308,StoreConfig!O308,\"\")","v":""},{"$f":"IF($B$2=StoreConfig!C308,StoreConfig!E308,\"\")","v":""},{"$f":"IF($B$2=StoreConfig!C308,RIGHT(StoreConfig!J308,LEN(StoreConfig!J308)-FIND(\"|\",StoreConfig!J308)),\"\")","v":""},{"$f":"IFERROR(VLOOKUP(--IF($B$2=StoreConfig!C308,LEFT(StoreConfig!J308,FIND(\"|\",StoreConfig!J308)-1),\"\"),$Q$4:$R$20,2,FALSE),\"\")","v":""},{"$f":"IF($B$2=StoreConfig!C308,LEFT(StoreConfig!G308,FIND(\"#\",StoreConfig!G308)-1),\"\")","v":""},{"$f":"IF($B$2=StoreConfig!C308,RIGHT(StoreConfig!G308,LEN(StoreConfig!G308)-FIND(\"#\",StoreConfig!G308)),\"\")","v":""},{"$f":"IF($B$2=StoreConfig!C308,IF(StoreConfig!L308=0,\"不限购\",StoreConfig!L308&\"次\"),\"\")","v":""}]
[{"$nulls":3},{"$f":"IF($B$2=StoreConfig!C309,StoreConfig!O309,\"\")","v":""},{"$f":"IF($B$2=StoreConfig!C309,StoreConfig!E309,\"\")","v":""},{"$f":"IF($B$2=StoreConfig!C309,RIGHT(StoreConfig!J309,LEN(StoreConfig!J309)-FIND(\"|\",StoreConfig!J309)),\"\")","v":""},{"$f":"IFERROR(VLOOKUP(--IF($B$2=StoreConfig!C309,LEFT(StoreConfig!J309,FIND(\"|\",StoreConfig!J309)-1),\"\"),$Q$4:$R$20,2,FALSE),\"\")","v":""},{"$f":"IF($B$2=StoreConfig!C309,LEFT(StoreConfig!G309,FIND(\"#\",StoreConfig!G309)-1),\"\")","v":""},{"$f":"IF($B$2=StoreConfig!C309,RIGHT(StoreConfig!G309,LEN(StoreConfig!G309)-FIND(\"#\",StoreConfig!G309)),\"\")","v":""},{"$f":"IF($B$2=StoreConfig!C309,IF(StoreConfig!L309=0,\"不限购\",StoreConfig!L309&\"次\"),\"\")","v":""}]
[{"$nulls":3},{"$f":"IF($B$2=StoreConfig!C310,StoreConfig!O310,\"\")","v":""},{"$f":"IF($B$2=StoreConfig!C310,StoreConfig!E310,\"\")","v":""},{"$f":"IF($B$2=StoreConfig!C310,RIGHT(StoreConfig!J310,LEN(StoreConfig!J310)-FIND(\"|\",StoreConfig!J310)),\"\")","v":""},{"$f":"IFERROR(VLOOKUP(--IF($B$2=StoreConfig!C310,LEFT(StoreConfig!J310,FIND(\"|\",StoreConfig!J310)-1),\"\"),$Q$4:$R$20,2,FALSE),\"\")","v":""},{"$f":"IF($B$2=StoreConfig!C310,LEFT(StoreConfig!G310,FIND(\"#\",StoreConfig!G310)-1),\"\")","v":""},{"$f":"IF($B$2=StoreConfig!C310,RIGHT(StoreConfig!G310,LEN(StoreConfig!G310)-FIND(\"#\",StoreConfig!G310)),\"\")","v":""},{"$f":"IF($B$2=StoreConfig!C310,IF(StoreConfig!L310=0,\"不限购\",StoreConfig!L310&\"次\"),\"\")","v":""}]
[{"$nulls":3},{"$f":"IF($B$2=StoreConfig!C311,StoreConfig!O311,\"\")","v":""},{"$f":"IF($B$2=StoreConfig!C311,StoreConfig!E311,\"\")","v":""},{"$f":"IF($B$2=StoreConfig!C311,RIGHT(StoreConfig!J311,LEN(StoreConfig!J311)-FIND(\"|\",StoreConfig!J311)),\"\")","v":""},{"$f":"IFERROR(VLOOKUP(--IF($B$2=StoreConfig!C311,LEFT(StoreConfig!J311,FIND(\"|\",StoreConfig!J311)-1),\"\"),$Q$4:$R$20,2,FALSE),\"\")","v":""},{"$f":"IF($B$2=StoreConfig!C311,LEFT(StoreConfig!G311,FIND(\"#\",StoreConfig!G311)-1),\"\")","v":""},{"$f":"IF($B$2=StoreConfig!C311,RIGHT(StoreConfig!G311,LEN(StoreConfig!G311)-FIND(\"#\",StoreConfig!G311)),\"\")","v":""},{"$f":"IF($B$2=StoreConfig!C311,IF(StoreConfig!L311=0,\"不限购\",StoreConfig!L311&\"次\"),\"\")","v":""}]
[{"$nulls":3},{"$f":"IF($B$2=StoreConfig!C312,StoreConfig!O312,\"\")","v":""},{"$f":"IF($B$2=StoreConfig!C312,StoreConfig!E312,\"\")","v":""},{"$f":"IF($B$2=StoreConfig!C312,RIGHT(StoreConfig!J312,LEN(StoreConfig!J312)-FIND(\"|\",StoreConfig!J312)),\"\")","v":""},{"$f":"IFERROR(VLOOKUP(--IF($B$2=StoreConfig!C312,LEFT(StoreConfig!J312,FIND(\"|\",StoreConfig!J312)-1),\"\"),$Q$4:$R$20,2,FALSE),\"\")","v":""},{"$f":"IF($B$2=StoreConfig!C312,LEFT(StoreConfig!G312,FIND(\"#\",StoreConfig!G312)-1),\"\")","v":""},{"$f":"IF($B$2=StoreConfig!C312,RIGHT(StoreConfig!G312,LEN(StoreConfig!G312)-FIND(\"#\",StoreConfig!G312)),\"\")","v":""},{"$f":"IF($B$2=StoreConfig!C312,IF(StoreConfig!L312=0,\"不限购\",StoreConfig!L312&\"次\"),\"\")","v":""}]
[{"$nulls":3},{"$f":"IF($B$2=StoreConfig!C313,StoreConfig!O313,\"\")","v":""},{"$f":"IF($B$2=StoreConfig!C313,StoreConfig!E313,\"\")","v":""},{"$f":"IF($B$2=StoreConfig!C313,RIGHT(StoreConfig!J313,LEN(StoreConfig!J313)-FIND(\"|\",StoreConfig!J313)),\"\")","v":""},{"$f":"IFERROR(VLOOKUP(--IF($B$2=StoreConfig!C313,LEFT(StoreConfig!J313,FIND(\"|\",StoreConfig!J313)-1),\"\"),$Q$4:$R$20,2,FALSE),\"\")","v":""},{"$f":"IF($B$2=StoreConfig!C313,LEFT(StoreConfig!G313,FIND(\"#\",StoreConfig!G313)-1),\"\")","v":""},{"$f":"IF($B$2=StoreConfig!C313,RIGHT(StoreConfig!G313,LEN(StoreConfig!G313)-FIND(\"#\",StoreConfig!G313)),\"\")","v":""},{"$f":"IF($B$2=StoreConfig!C313,IF(StoreConfig!L313=0,\"不限购\",StoreConfig!L313&\"次\"),\"\")","v":""}]
[{"$nulls":3},{"$f":"IF($B$2=StoreConfig!C314,StoreConfig!O314,\"\")","v":""},{"$f":"IF($B$2=StoreConfig!C314,StoreConfig!E314,\"\")","v":""},{"$f":"IF($B$2=StoreConfig!C314,RIGHT(StoreConfig!J314,LEN(StoreConfig!J314)-FIND(\"|\",StoreConfig!J314)),\"\")","v":""},{"$f":"IFERROR(VLOOKUP(--IF($B$2=StoreConfig!C314,LEFT(StoreConfig!J314,FIND(\"|\",StoreConfig!J314)-1),\"\"),$Q$4:$R$20,2,FALSE),\"\")","v":""},{"$f":"IF($B$2=StoreConfig!C314,LEFT(StoreConfig!G314,FIND(\"#\",StoreConfig!G314)-1),\"\")","v":""},{"$f":"IF($B$2=StoreConfig!C314,RIGHT(StoreConfig!G314,LEN(StoreConfig!G314)-FIND(\"#\",StoreConfig!G314)),\"\")","v":""},{"$f":"IF($B$2=StoreConfig!C314,IF(StoreConfig!L314=0,\"不限购\",StoreConfig!L314&\"次\"),\"\")","v":""}]
[{"$nulls":3},{"$f":"IF($B$2=StoreConfig!C315,StoreConfig!O315,\"\")","v":""},{"$f":"IF($B$2=StoreConfig!C315,StoreConfig!E315,\"\")","v":""},{"$f":"IF($B$2=StoreConfig!C315,RIGHT(StoreConfig!J315,LEN(StoreConfig!J315)-FIND(\"|\",StoreConfig!J315)),\"\")","v":""},{"$f":"IFERROR(VLOOKUP(--IF($B$2=StoreConfig!C315,LEFT(StoreConfig!J315,FIND(\"|\",StoreConfig!J315)-1),\"\"),$Q$4:$R$20,2,FALSE),\"\")","v":""},{"$f":"IF($B$2=StoreConfig!C315,LEFT(StoreConfig!G315,FIND(\"#\",StoreConfig!G315)-1),\"\")","v":""},{"$f":"IF($B$2=StoreConfig!C315,RIGHT(StoreConfig!G315,LEN(StoreConfig!G315)-FIND(\"#\",StoreConfig!G315)),\"\")","v":""},{"$f":"IF($B$2=StoreConfig!C315,IF(StoreConfig!L315=0,\"不限购\",StoreConfig!L315&\"次\"),\"\")","v":""}]
[{"$nulls":3},{"$f":"IF($B$2=StoreConfig!C316,StoreConfig!O316,\"\")","v":""},{"$f":"IF($B$2=StoreConfig!C316,StoreConfig!E316,\"\")","v":""},{"$f":"IF($B$2=StoreConfig!C316,RIGHT(StoreConfig!J316,LEN(StoreConfig!J316)-FIND(\"|\",StoreConfig!J316)),\"\")","v":""},{"$f":"IFERROR(VLOOKUP(--IF($B$2=StoreConfig!C316,LEFT(StoreConfig!J316,FIND(\"|\",StoreConfig!J316)-1),\"\"),$Q$4:$R$20,2,FALSE),\"\")","v":""},{"$f":"IF($B$2=StoreConfig!C316,LEFT(StoreConfig!G316,FIND(\"#\",StoreConfig!G316)-1),\"\")","v":""},{"$f":"IF($B$2=StoreConfig!C316,RIGHT(StoreConfig!G316,LEN(StoreConfig!G316)-FIND(\"#\",StoreConfig!G316)),\"\")","v":""},{"$f":"IF($B$2=StoreConfig!C316,IF(StoreConfig!L316=0,\"不限购\",StoreConfig!L316&\"次\"),\"\")","v":""}]
[{"$nulls":3},{"$f":"IF($B$2=StoreConfig!C317,StoreConfig!O317,\"\")","v":""},{"$f":"IF($B$2=StoreConfig!C317,StoreConfig!E317,\"\")","v":""},{"$f":"IF($B$2=StoreConfig!C317,RIGHT(StoreConfig!J317,LEN(StoreConfig!J317)-FIND(\"|\",StoreConfig!J317)),\"\")","v":""},{"$f":"IFERROR(VLOOKUP(--IF($B$2=StoreConfig!C317,LEFT(StoreConfig!J317,FIND(\"|\",StoreConfig!J317)-1),\"\"),$Q$4:$R$20,2,FALSE),\"\")","v":""},{"$f":"IF($B$2=StoreConfig!C317,LEFT(StoreConfig!G317,FIND(\"#\",StoreConfig!G317)-1),\"\")","v":""},{"$f":"IF($B$2=StoreConfig!C317,RIGHT(StoreConfig!G317,LEN(StoreConfig!G317)-FIND(\"#\",StoreConfig!G317)),\"\")","v":""},{"$f":"IF($B$2=StoreConfig!C317,IF(StoreConfig!L317=0,\"不限购\",StoreConfig!L317&\"次\"),\"\")","v":""}]
[{"$nulls":3},{"$f":"IF($B$2=StoreConfig!C318,StoreConfig!O318,\"\")","v":""},{"$f":"IF($B$2=StoreConfig!C318,StoreConfig!E318,\"\")","v":""},{"$f":"IF($B$2=StoreConfig!C318,RIGHT(StoreConfig!J318,LEN(StoreConfig!J318)-FIND(\"|\",StoreConfig!J318)),\"\")","v":""},{"$f":"IFERROR(VLOOKUP(--IF($B$2=StoreConfig!C318,LEFT(StoreConfig!J318,FIND(\"|\",StoreConfig!J318)-1),\"\"),$Q$4:$R$20,2,FALSE),\"\")","v":""},{"$f":"IF($B$2=StoreConfig!C318,LEFT(StoreConfig!G318,FIND(\"#\",StoreConfig!G318)-1),\"\")","v":""},{"$f":"IF($B$2=StoreConfig!C318,RIGHT(StoreConfig!G318,LEN(StoreConfig!G318)-FIND(\"#\",StoreConfig!G318)),\"\")","v":""},{"$f":"IF($B$2=StoreConfig!C318,IF(StoreConfig!L318=0,\"不限购\",StoreConfig!L318&\"次\"),\"\")","v":""}]
[{"$nulls":3},{"$f":"IF($B$2=StoreConfig!C319,StoreConfig!O319,\"\")","v":""},{"$f":"IF($B$2=StoreConfig!C319,StoreConfig!E319,\"\")","v":""},{"$f":"IF($B$2=StoreConfig!C319,RIGHT(StoreConfig!J319,LEN(StoreConfig!J319)-FIND(\"|\",StoreConfig!J319)),\"\")","v":""},{"$f":"IFERROR(VLOOKUP(--IF($B$2=StoreConfig!C319,LEFT(StoreConfig!J319,FIND(\"|\",StoreConfig!J319)-1),\"\"),$Q$4:$R$20,2,FALSE),\"\")","v":""},{"$f":"IF($B$2=StoreConfig!C319,LEFT(StoreConfig!G319,FIND(\"#\",StoreConfig!G319)-1),\"\")","v":""},{"$f":"IF($B$2=StoreConfig!C319,RIGHT(StoreConfig!G319,LEN(StoreConfig!G319)-FIND(\"#\",StoreConfig!G319)),\"\")","v":""},{"$f":"IF($B$2=StoreConfig!C319,IF(StoreConfig!L319=0,\"不限购\",StoreConfig!L319&\"次\"),\"\")","v":""}]
[{"$nulls":3},{"$f":"IF($B$2=StoreConfig!C320,StoreConfig!O320,\"\")","v":""},{"$f":"IF($B$2=StoreConfig!C320,StoreConfig!E320,\"\")","v":""},{"$f":"IF($B$2=StoreConfig!C320,RIGHT(StoreConfig!J320,LEN(StoreConfig!J320)-FIND(\"|\",StoreConfig!J320)),\"\")","v":""},{"$f":"IFERROR(VLOOKUP(--IF($B$2=StoreConfig!C320,LEFT(StoreConfig!J320,FIND(\"|\",StoreConfig!J320)-1),\"\"),$Q$4:$R$20,2,FALSE),\"\")","v":""},{"$f":"IF($B$2=StoreConfig!C320,LEFT(StoreConfig!G320,FIND(\"#\",StoreConfig!G320)-1),\"\")","v":""},{"$f":"IF($B$2=StoreConfig!C320,RIGHT(StoreConfig!G320,LEN(StoreConfig!G320)-FIND(\"#\",StoreConfig!G320)),\"\")","v":""},{"$f":"IF($B$2=StoreConfig!C320,IF(StoreConfig!L320=0,\"不限购\",StoreConfig!L320&\"次\"),\"\")","v":""}]
[{"$nulls":3},{"$f":"IF($B$2=StoreConfig!C321,StoreConfig!O321,\"\")","v":""},{"$f":"IF($B$2=StoreConfig!C321,StoreConfig!E321,\"\")","v":""},{"$f":"IF($B$2=StoreConfig!C321,RIGHT(StoreConfig!J321,LEN(StoreConfig!J321)-FIND(\"|\",StoreConfig!J321)),\"\")","v":""},{"$f":"IFERROR(VLOOKUP(--IF($B$2=StoreConfig!C321,LEFT(StoreConfig!J321,FIND(\"|\",StoreConfig!J321)-1),\"\"),$Q$4:$R$20,2,FALSE),\"\")","v":""},{"$f":"IF($B$2=StoreConfig!C321,LEFT(StoreConfig!G321,FIND(\"#\",StoreConfig!G321)-1),\"\")","v":""},{"$f":"IF($B$2=StoreConfig!C321,RIGHT(StoreConfig!G321,LEN(StoreConfig!G321)-FIND(\"#\",StoreConfig!G321)),\"\")","v":""},{"$f":"IF($B$2=StoreConfig!C321,IF(StoreConfig!L321=0,\"不限购\",StoreConfig!L321&\"次\"),\"\")","v":""}]
[{"$nulls":3},{"$f":"IF($B$2=StoreConfig!C322,StoreConfig!O322,\"\")","v":""},{"$f":"IF($B$2=StoreConfig!C322,StoreConfig!E322,\"\")","v":""},{"$f":"IF($B$2=StoreConfig!C322,RIGHT(StoreConfig!J322,LEN(StoreConfig!J322)-FIND(\"|\",StoreConfig!J322)),\"\")","v":""},{"$f":"IFERROR(VLOOKUP(--IF($B$2=StoreConfig!C322,LEFT(StoreConfig!J322,FIND(\"|\",StoreConfig!J322)-1),\"\"),$Q$4:$R$20,2,FALSE),\"\")","v":""},{"$f":"IF($B$2=StoreConfig!C322,LEFT(StoreConfig!G322,FIND(\"#\",StoreConfig!G322)-1),\"\")","v":""},{"$f":"IF($B$2=StoreConfig!C322,RIGHT(StoreConfig!G322,LEN(StoreConfig!G322)-FIND(\"#\",StoreConfig!G322)),\"\")","v":""},{"$f":"IF($B$2=StoreConfig!C322,IF(StoreConfig!L322=0,\"不限购\",StoreConfig!L322&\"次\"),\"\")","v":""}]
[{"$nulls":3},{"$f":"IF($B$2=StoreConfig!C323,StoreConfig!O323,\"\")","v":""},{"$f":"IF($B$2=StoreConfig!C323,StoreConfig!E323,\"\")","v":""},{"$f":"IF($B$2=StoreConfig!C323,RIGHT(StoreConfig!J323,LEN(StoreConfig!J323)-FIND(\"|\",StoreConfig!J323)),\"\")","v":""},{"$f":"IFERROR(VLOOKUP(--IF($B$2=StoreConfig!C323,LEFT(StoreConfig!J323,FIND(\"|\",StoreConfig!J323)-1),\"\"),$Q$4:$R$20,2,FALSE),\"\")","v":""},{"$f":"IF($B$2=StoreConfig!C323,LEFT(StoreConfig!G323,FIND(\"#\",StoreConfig!G323)-1),\"\")","v":""},{"$f":"IF($B$2=StoreConfig!C323,RIGHT(StoreConfig!G323,LEN(StoreConfig!G323)-FIND(\"#\",StoreConfig!G323)),\"\")","v":""},{"$f":"IF($B$2=StoreConfig!C323,IF(StoreConfig!L323=0,\"不限购\",StoreConfig!L323&\"次\"),\"\")","v":""}]
[{"$nulls":3},{"$f":"IF($B$2=StoreConfig!C324,StoreConfig!O324,\"\")","v":""},{"$f":"IF($B$2=StoreConfig!C324,StoreConfig!E324,\"\")","v":""},{"$f":"IF($B$2=StoreConfig!C324,RIGHT(StoreConfig!J324,LEN(StoreConfig!J324)-FIND(\"|\",StoreConfig!J324)),\"\")","v":""},{"$f":"IFERROR(VLOOKUP(--IF($B$2=StoreConfig!C324,LEFT(StoreConfig!J324,FIND(\"|\",StoreConfig!J324)-1),\"\"),$Q$4:$R$20,2,FALSE),\"\")","v":""},{"$f":"IF($B$2=StoreConfig!C324,LEFT(StoreConfig!G324,FIND(\"#\",StoreConfig!G324)-1),\"\")","v":""},{"$f":"IF($B$2=StoreConfig!C324,RIGHT(StoreConfig!G324,LEN(StoreConfig!G324)-FIND(\"#\",StoreConfig!G324)),\"\")","v":""},{"$f":"IF($B$2=StoreConfig!C324,IF(StoreConfig!L324=0,\"不限购\",StoreConfig!L324&\"次\"),\"\")","v":""}]
[{"$nulls":3},{"$f":"IF($B$2=StoreConfig!C325,StoreConfig!O325,\"\")","v":""},{"$f":"IF($B$2=StoreConfig!C325,StoreConfig!E325,\"\")","v":""},{"$f":"IF($B$2=StoreConfig!C325,RIGHT(StoreConfig!J325,LEN(StoreConfig!J325)-FIND(\"|\",StoreConfig!J325)),\"\")","v":""},{"$f":"IFERROR(VLOOKUP(--IF($B$2=StoreConfig!C325,LEFT(StoreConfig!J325,FIND(\"|\",StoreConfig!J325)-1),\"\"),$Q$4:$R$20,2,FALSE),\"\")","v":""},{"$f":"IF($B$2=StoreConfig!C325,LEFT(StoreConfig!G325,FIND(\"#\",StoreConfig!G325)-1),\"\")","v":""},{"$f":"IF($B$2=StoreConfig!C325,RIGHT(StoreConfig!G325,LEN(StoreConfig!G325)-FIND(\"#\",StoreConfig!G325)),\"\")","v":""},{"$f":"IF($B$2=StoreConfig!C325,IF(StoreConfig!L325=0,\"不限购\",StoreConfig!L325&\"次\"),\"\")","v":""}]
[{"$nulls":3},{"$f":"IF($B$2=StoreConfig!C326,StoreConfig!O326,\"\")","v":""},{"$f":"IF($B$2=StoreConfig!C326,StoreConfig!E326,\"\")","v":""},{"$f":"IF($B$2=StoreConfig!C326,RIGHT(StoreConfig!J326,LEN(StoreConfig!J326)-FIND(\"|\",StoreConfig!J326)),\"\")","v":""},{"$f":"IFERROR(VLOOKUP(--IF($B$2=StoreConfig!C326,LEFT(StoreConfig!J326,FIND(\"|\",StoreConfig!J326)-1),\"\"),$Q$4:$R$20,2,FALSE),\"\")","v":""},{"$f":"IF($B$2=StoreConfig!C326,LEFT(StoreConfig!G326,FIND(\"#\",StoreConfig!G326)-1),\"\")","v":""},{"$f":"IF($B$2=StoreConfig!C326,RIGHT(StoreConfig!G326,LEN(StoreConfig!G326)-FIND(\"#\",StoreConfig!G326)),\"\")","v":""},{"$f":"IF($B$2=StoreConfig!C326,IF(StoreConfig!L326=0,\"不限购\",StoreConfig!L326&\"次\"),\"\")","v":""}]
[{"$nulls":3},{"$f":"IF($B$2=StoreConfig!C327,StoreConfig!O327,\"\")","v":""},{"$f":"IF($B$2=StoreConfig!C327,StoreConfig!E327,\"\")","v":""},{"$f":"IF($B$2=StoreConfig!C327,RIGHT(StoreConfig!J327,LEN(StoreConfig!J327)-FIND(\"|\",StoreConfig!J327)),\"\")","v":""},{"$f":"IFERROR(VLOOKUP(--IF($B$2=StoreConfig!C327,LEFT(StoreConfig!J327,FIND(\"|\",StoreConfig!J327)-1),\"\"),$Q$4:$R$20,2,FALSE),\"\")","v":""},{"$f":"IF($B$2=StoreConfig!C327,LEFT(StoreConfig!G327,FIND(\"#\",StoreConfig!G327)-1),\"\")","v":""},{"$f":"IF($B$2=StoreConfig!C327,RIGHT(StoreConfig!G327,LEN(StoreConfig!G327)-FIND(\"#\",StoreConfig!G327)),\"\")","v":""},{"$f":"IF($B$2=StoreConfig!C327,IF(StoreConfig!L327=0,\"不限购\",StoreConfig!L327&\"次\"),\"\")","v":""}]
[{"$nulls":3},{"$f":"IF($B$2=StoreConfig!C328,StoreConfig!O328,\"\")","v":""},{"$f":"IF($B$2=StoreConfig!C328,StoreConfig!E328,\"\")","v":""},{"$f":"IF($B$2=StoreConfig!C328,RIGHT(StoreConfig!J328,LEN(StoreConfig!J328)-FIND(\"|\",StoreConfig!J328)),\"\")","v":""},{"$f":"IFERROR(VLOOKUP(--IF($B$2=StoreConfig!C328,LEFT(StoreConfig!J328,FIND(\"|\",StoreConfig!J328)-1),\"\"),$Q$4:$R$20,2,FALSE),\"\")","v":""},{"$f":"IF($B$2=StoreConfig!C328,LEFT(StoreConfig!G328,FIND(\"#\",StoreConfig!G328)-1),\"\")","v":""},{"$f":"IF($B$2=StoreConfig!C328,RIGHT(StoreConfig!G328,LEN(StoreConfig!G328)-FIND(\"#\",StoreConfig!G328)),\"\")","v":""},{"$f":"IF($B$2=StoreConfig!C328,IF(StoreConfig!L328=0,\"不限购\",StoreConfig!L328&\"次\"),\"\")","v":""}]
[{"$nulls":3},{"$f":"IF($B$2=StoreConfig!C329,StoreConfig!O329,\"\")","v":""},{"$f":"IF($B$2=StoreConfig!C329,StoreConfig!E329,\"\")","v":""},{"$f":"IF($B$2=StoreConfig!C329,RIGHT(StoreConfig!J329,LEN(StoreConfig!J329)-FIND(\"|\",StoreConfig!J329)),\"\")","v":""},{"$f":"IFERROR(VLOOKUP(--IF($B$2=StoreConfig!C329,LEFT(StoreConfig!J329,FIND(\"|\",StoreConfig!J329)-1),\"\"),$Q$4:$R$20,2,FALSE),\"\")","v":""},{"$f":"IF($B$2=StoreConfig!C329,LEFT(StoreConfig!G329,FIND(\"#\",StoreConfig!G329)-1),\"\")","v":""},{"$f":"IF($B$2=StoreConfig!C329,RIGHT(StoreConfig!G329,LEN(StoreConfig!G329)-FIND(\"#\",StoreConfig!G329)),\"\")","v":""},{"$f":"IF($B$2=StoreConfig!C329,IF(StoreConfig!L329=0,\"不限购\",StoreConfig!L329&\"次\"),\"\")","v":""}]
[{"$nulls":3},{"$f":"IF($B$2=StoreConfig!C330,StoreConfig!O330,\"\")","v":""},{"$f":"IF($B$2=StoreConfig!C330,StoreConfig!E330,\"\")","v":""},{"$f":"IF($B$2=StoreConfig!C330,RIGHT(StoreConfig!J330,LEN(StoreConfig!J330)-FIND(\"|\",StoreConfig!J330)),\"\")","v":""},{"$f":"IFERROR(VLOOKUP(--IF($B$2=StoreConfig!C330,LEFT(StoreConfig!J330,FIND(\"|\",StoreConfig!J330)-1),\"\"),$Q$4:$R$20,2,FALSE),\"\")","v":""},{"$f":"IF($B$2=StoreConfig!C330,LEFT(StoreConfig!G330,FIND(\"#\",StoreConfig!G330)-1),\"\")","v":""},{"$f":"IF($B$2=StoreConfig!C330,RIGHT(StoreConfig!G330,LEN(StoreConfig!G330)-FIND(\"#\",StoreConfig!G330)),\"\")","v":""},{"$f":"IF($B$2=StoreConfig!C330,IF(StoreConfig!L330=0,\"不限购\",StoreConfig!L330&\"次\"),\"\")","v":""}]
[{"$nulls":3},{"$f":"IF($B$2=StoreConfig!C331,StoreConfig!O331,\"\")","v":""},{"$f":"IF($B$2=StoreConfig!C331,StoreConfig!E331,\"\")","v":""},{"$f":"IF($B$2=StoreConfig!C331,RIGHT(StoreConfig!J331,LEN(StoreConfig!J331)-FIND(\"|\",StoreConfig!J331)),\"\")","v":""},{"$f":"IFERROR(VLOOKUP(--IF($B$2=StoreConfig!C331,LEFT(StoreConfig!J331,FIND(\"|\",StoreConfig!J331)-1),\"\"),$Q$4:$R$20,2,FALSE),\"\")","v":""},{"$f":"IF($B$2=StoreConfig!C331,LEFT(StoreConfig!G331,FIND(\"#\",StoreConfig!G331)-1),\"\")","v":""},{"$f":"IF($B$2=StoreConfig!C331,RIGHT(StoreConfig!G331,LEN(StoreConfig!G331)-FIND(\"#\",StoreConfig!G331)),\"\")","v":""},{"$f":"IF($B$2=StoreConfig!C331,IF(StoreConfig!L331=0,\"不限购\",StoreConfig!L331&\"次\"),\"\")","v":""}]
[{"$nulls":3},{"$f":"IF($B$2=StoreConfig!C332,StoreConfig!O332,\"\")","v":""},{"$f":"IF($B$2=StoreConfig!C332,StoreConfig!E332,\"\")","v":""},{"$f":"IF($B$2=StoreConfig!C332,RIGHT(StoreConfig!J332,LEN(StoreConfig!J332)-FIND(\"|\",StoreConfig!J332)),\"\")","v":""},{"$f":"IFERROR(VLOOKUP(--IF($B$2=StoreConfig!C332,LEFT(StoreConfig!J332,FIND(\"|\",StoreConfig!J332)-1),\"\"),$Q$4:$R$20,2,FALSE),\"\")","v":""},{"$f":"IF($B$2=StoreConfig!C332,LEFT(StoreConfig!G332,FIND(\"#\",StoreConfig!G332)-1),\"\")","v":""},{"$f":"IF($B$2=StoreConfig!C332,RIGHT(StoreConfig!G332,LEN(StoreConfig!G332)-FIND(\"#\",StoreConfig!G332)),\"\")","v":""},{"$f":"IF($B$2=StoreConfig!C332,IF(StoreConfig!L332=0,\"不限购\",StoreConfig!L332&\"次\"),\"\")","v":""}]
[{"$nulls":3},{"$f":"IF($B$2=StoreConfig!C333,StoreConfig!O333,\"\")","v":""},{"$f":"IF($B$2=StoreConfig!C333,StoreConfig!E333,\"\")","v":""},{"$f":"IF($B$2=StoreConfig!C333,RIGHT(StoreConfig!J333,LEN(StoreConfig!J333)-FIND(\"|\",StoreConfig!J333)),\"\")","v":""},{"$f":"IFERROR(VLOOKUP(--IF($B$2=StoreConfig!C333,LEFT(StoreConfig!J333,FIND(\"|\",StoreConfig!J333)-1),\"\"),$Q$4:$R$20,2,FALSE),\"\")","v":""},{"$f":"IF($B$2=StoreConfig!C333,LEFT(StoreConfig!G333,FIND(\"#\",StoreConfig!G333)-1),\"\")","v":""},{"$f":"IF($B$2=StoreConfig!C333,RIGHT(StoreConfig!G333,LEN(StoreConfig!G333)-FIND(\"#\",StoreConfig!G333)),\"\")","v":""},{"$f":"IF($B$2=StoreConfig!C333,IF(StoreConfig!L333=0,\"不限购\",StoreConfig!L333&\"次\"),\"\")","v":""}]
[{"$nulls":3},{"$f":"IF($B$2=StoreConfig!C334,StoreConfig!O334,\"\")","v":""},{"$f":"IF($B$2=StoreConfig!C334,StoreConfig!E334,\"\")","v":""},{"$f":"IF($B$2=StoreConfig!C334,RIGHT(StoreConfig!J334,LEN(StoreConfig!J334)-FIND(\"|\",StoreConfig!J334)),\"\")","v":""},{"$f":"IFERROR(VLOOKUP(--IF($B$2=StoreConfig!C334,LEFT(StoreConfig!J334,FIND(\"|\",StoreConfig!J334)-1),\"\"),$Q$4:$R$20,2,FALSE),\"\")","v":""},{"$f":"IF($B$2=StoreConfig!C334,LEFT(StoreConfig!G334,FIND(\"#\",StoreConfig!G334)-1),\"\")","v":""},{"$f":"IF($B$2=StoreConfig!C334,RIGHT(StoreConfig!G334,LEN(StoreConfig!G334)-FIND(\"#\",StoreConfig!G334)),\"\")","v":""},{"$f":"IF($B$2=StoreConfig!C334,IF(StoreConfig!L334=0,\"不限购\",StoreConfig!L334&\"次\"),\"\")","v":""}]
[{"$nulls":3},{"$f":"IF($B$2=StoreConfig!C335,StoreConfig!O335,\"\")","v":""},{"$f":"IF($B$2=StoreConfig!C335,StoreConfig!E335,\"\")","v":""},{"$f":"IF($B$2=StoreConfig!C335,RIGHT(StoreConfig!J335,LEN(StoreConfig!J335)-FIND(\"|\",StoreConfig!J335)),\"\")","v":""},{"$f":"IFERROR(VLOOKUP(--IF($B$2=StoreConfig!C335,LEFT(StoreConfig!J335,FIND(\"|\",StoreConfig!J335)-1),\"\"),$Q$4:$R$20,2,FALSE),\"\")","v":""},{"$f":"IF($B$2=StoreConfig!C335,LEFT(StoreConfig!G335,FIND(\"#\",StoreConfig!G335)-1),\"\")","v":""},{"$f":"IF($B$2=StoreConfig!C335,RIGHT(StoreConfig!G335,LEN(StoreConfig!G335)-FIND(\"#\",StoreConfig!G335)),\"\")","v":""},{"$f":"IF($B$2=StoreConfig!C335,IF(StoreConfig!L335=0,\"不限购\",StoreConfig!L335&\"次\"),\"\")","v":""}]
[{"$nulls":3},{"$f":"IF($B$2=StoreConfig!C336,StoreConfig!O336,\"\")","v":""},{"$f":"IF($B$2=StoreConfig!C336,StoreConfig!E336,\"\")","v":""},{"$f":"IF($B$2=StoreConfig!C336,RIGHT(StoreConfig!J336,LEN(StoreConfig!J336)-FIND(\"|\",StoreConfig!J336)),\"\")","v":""},{"$f":"IFERROR(VLOOKUP(--IF($B$2=StoreConfig!C336,LEFT(StoreConfig!J336,FIND(\"|\",StoreConfig!J336)-1),\"\"),$Q$4:$R$20,2,FALSE),\"\")","v":""},{"$f":"IF($B$2=StoreConfig!C336,LEFT(StoreConfig!G336,FIND(\"#\",StoreConfig!G336)-1),\"\")","v":""},{"$f":"IF($B$2=StoreConfig!C336,RIGHT(StoreConfig!G336,LEN(StoreConfig!G336)-FIND(\"#\",StoreConfig!G336)),\"\")","v":""},{"$f":"IF($B$2=StoreConfig!C336,IF(StoreConfig!L336=0,\"不限购\",StoreConfig!L336&\"次\"),\"\")","v":""}]
[{"$nulls":3},{"$f":"IF($B$2=StoreConfig!C337,StoreConfig!O337,\"\")","v":""},{"$f":"IF($B$2=StoreConfig!C337,StoreConfig!E337,\"\")","v":""},{"$f":"IF($B$2=StoreConfig!C337,RIGHT(StoreConfig!J337,LEN(StoreConfig!J337)-FIND(\"|\",StoreConfig!J337)),\"\")","v":""},{"$f":"IFERROR(VLOOKUP(--IF($B$2=StoreConfig!C337,LEFT(StoreConfig!J337,FIND(\"|\",StoreConfig!J337)-1),\"\"),$Q$4:$R$20,2,FALSE),\"\")","v":""},{"$f":"IF($B$2=StoreConfig!C337,LEFT(StoreConfig!G337,FIND(\"#\",StoreConfig!G337)-1),\"\")","v":""},{"$f":"IF($B$2=StoreConfig!C337,RIGHT(StoreConfig!G337,LEN(StoreConfig!G337)-FIND(\"#\",StoreConfig!G337)),\"\")","v":""},{"$f":"IF($B$2=StoreConfig!C337,IF(StoreConfig!L337=0,\"不限购\",StoreConfig!L337&\"次\"),\"\")","v":""}]
[{"$nulls":3},{"$f":"IF($B$2=StoreConfig!C338,StoreConfig!O338,\"\")","v":""},{"$f":"IF($B$2=StoreConfig!C338,StoreConfig!E338,\"\")","v":""},{"$f":"IF($B$2=StoreConfig!C338,RIGHT(StoreConfig!J338,LEN(StoreConfig!J338)-FIND(\"|\",StoreConfig!J338)),\"\")","v":""},{"$f":"IFERROR(VLOOKUP(--IF($B$2=StoreConfig!C338,LEFT(StoreConfig!J338,FIND(\"|\",StoreConfig!J338)-1),\"\"),$Q$4:$R$20,2,FALSE),\"\")","v":""},{"$f":"IF($B$2=StoreConfig!C338,LEFT(StoreConfig!G338,FIND(\"#\",StoreConfig!G338)-1),\"\")","v":""},{"$f":"IF($B$2=StoreConfig!C338,RIGHT(StoreConfig!G338,LEN(StoreConfig!G338)-FIND(\"#\",StoreConfig!G338)),\"\")","v":""},{"$f":"IF($B$2=StoreConfig!C338,IF(StoreConfig!L338=0,\"不限购\",StoreConfig!L338&\"次\"),\"\")","v":""}]
[{"$nulls":3},{"$f":"IF($B$2=StoreConfig!C339,StoreConfig!O339,\"\")","v":""},{"$f":"IF($B$2=StoreConfig!C339,StoreConfig!E339,\"\")","v":""},{"$f":"IF($B$2=StoreConfig!C339,RIGHT(StoreConfig!J339,LEN(StoreConfig!J339)-FIND(\"|\",StoreConfig!J339)),\"\")","v":""},{"$f":"IFERROR(VLOOKUP(--IF($B$2=StoreConfig!C339,LEFT(StoreConfig!J339,FIND(\"|\",StoreConfig!J339)-1),\"\"),$Q$4:$R$20,2,FALSE),\"\")","v":""},{"$f":"IF($B$2=StoreConfig!C339,LEFT(StoreConfig!G339,FIND(\"#\",StoreConfig!G339)-1),\"\")","v":""},{"$f":"IF($B$2=StoreConfig!C339,RIGHT(StoreConfig!G339,LEN(StoreConfig!G339)-FIND(\"#\",StoreConfig!G339)),\"\")","v":""},{"$f":"IF($B$2=StoreConfig!C339,IF(StoreConfig!L339=0,\"不限购\",StoreConfig!L339&\"次\"),\"\")","v":""}]
[{"$nulls":3},{"$f":"IF($B$2=StoreConfig!C340,StoreConfig!O340,\"\")","v":""},{"$f":"IF($B$2=StoreConfig!C340,StoreConfig!E340,\"\")","v":""},{"$f":"IF($B$2=StoreConfig!C340,RIGHT(StoreConfig!J340,LEN(StoreConfig!J340)-FIND(\"|\",StoreConfig!J340)),\"\")","v":""},{"$f":"IFERROR(VLOOKUP(--IF($B$2=StoreConfig!C340,LEFT(StoreConfig!J340,FIND(\"|\",StoreConfig!J340)-1),\"\"),$Q$4:$R$20,2,FALSE),\"\")","v":""},{"$f":"IF($B$2=StoreConfig!C340,LEFT(StoreConfig!G340,FIND(\"#\",StoreConfig!G340)-1),\"\")","v":""},{"$f":"IF($B$2=StoreConfig!C340,RIGHT(StoreConfig!G340,LEN(StoreConfig!G340)-FIND(\"#\",StoreConfig!G340)),\"\")","v":""},{"$f":"IF($B$2=StoreConfig!C340,IF(StoreConfig!L340=0,\"不限购\",StoreConfig!L340&\"次\"),\"\")","v":""}]
[{"$nulls":3},{"$f":"IF($B$2=StoreConfig!C341,StoreConfig!O341,\"\")","v":""},{"$f":"IF($B$2=StoreConfig!C341,StoreConfig!E341,\"\")","v":""},{"$f":"IF($B$2=StoreConfig!C341,RIGHT(StoreConfig!J341,LEN(StoreConfig!J341)-FIND(\"|\",StoreConfig!J341)),\"\")","v":""},{"$f":"IFERROR(VLOOKUP(--IF($B$2=StoreConfig!C341,LEFT(StoreConfig!J341,FIND(\"|\",StoreConfig!J341)-1),\"\"),$Q$4:$R$20,2,FALSE),\"\")","v":""},{"$f":"IF($B$2=StoreConfig!C341,LEFT(StoreConfig!G341,FIND(\"#\",StoreConfig!G341)-1),\"\")","v":""},{"$f":"IF($B$2=StoreConfig!C341,RIGHT(StoreConfig!G341,LEN(StoreConfig!G341)-FIND(\"#\",StoreConfig!G341)),\"\")","v":""},{"$f":"IF($B$2=StoreConfig!C341,IF(StoreConfig!L341=0,\"不限购\",StoreConfig!L341&\"次\"),\"\")","v":""}]
[{"$nulls":3},{"$f":"IF($B$2=StoreConfig!C342,StoreConfig!O342,\"\")","v":""},{"$f":"IF($B$2=StoreConfig!C342,StoreConfig!E342,\"\")","v":""},{"$f":"IF($B$2=StoreConfig!C342,RIGHT(StoreConfig!J342,LEN(StoreConfig!J342)-FIND(\"|\",StoreConfig!J342)),\"\")","v":""},{"$f":"IFERROR(VLOOKUP(--IF($B$2=StoreConfig!C342,LEFT(StoreConfig!J342,FIND(\"|\",StoreConfig!J342)-1),\"\"),$Q$4:$R$20,2,FALSE),\"\")","v":""},{"$f":"IF($B$2=StoreConfig!C342,LEFT(StoreConfig!G342,FIND(\"#\",StoreConfig!G342)-1),\"\")","v":""},{"$f":"IF($B$2=StoreConfig!C342,RIGHT(StoreConfig!G342,LEN(StoreConfig!G342)-FIND(\"#\",StoreConfig!G342)),\"\")","v":""},{"$f":"IF($B$2=StoreConfig!C342,IF(StoreConfig!L342=0,\"不限购\",StoreConfig!L342&\"次\"),\"\")","v":""}]
[{"$nulls":3},{"$f":"IF($B$2=StoreConfig!C343,StoreConfig!O343,\"\")","v":""},{"$f":"IF($B$2=StoreConfig!C343,StoreConfig!E343,\"\")","v":""},{"$f":"IF($B$2=StoreConfig!C343,RIGHT(StoreConfig!J343,LEN(StoreConfig!J343)-FIND(\"|\",StoreConfig!J343)),\"\")","v":""},{"$f":"IFERROR(VLOOKUP(--IF($B$2=StoreConfig!C343,LEFT(StoreConfig!J343,FIND(\"|\",StoreConfig!J343)-1),\"\"),$Q$4:$R$20,2,FALSE),\"\")","v":""},{"$f":"IF($B$2=StoreConfig!C343,LEFT(StoreConfig!G343,FIND(\"#\",StoreConfig!G343)-1),\"\")","v":""},{"$f":"IF($B$2=StoreConfig!C343,RIGHT(StoreConfig!G343,LEN(StoreConfig!G343)-FIND(\"#\",StoreConfig!G343)),\"\")","v":""},{"$f":"IF($B$2=StoreConfig!C343,IF(StoreConfig!L343=0,\"不限购\",StoreConfig!L343&\"次\"),\"\")","v":""}]
[{"$nulls":3},{"$f":"IF($B$2=StoreConfig!C344,StoreConfig!O344,\"\")","v":""},{"$f":"IF($B$2=StoreConfig!C344,StoreConfig!E344,\"\")","v":""},{"$f":"IF($B$2=StoreConfig!C344,RIGHT(StoreConfig!J344,LEN(StoreConfig!J344)-FIND(\"|\",StoreConfig!J344)),\"\")","v":""},{"$f":"IFERROR(VLOOKUP(--IF($B$2=StoreConfig!C344,LEFT(StoreConfig!J344,FIND(\"|\",StoreConfig!J344)-1),\"\"),$Q$4:$R$20,2,FALSE),\"\")","v":""},{"$f":"IF($B$2=StoreConfig!C344,LEFT(StoreConfig!G344,FIND(\"#\",StoreConfig!G344)-1),\"\")","v":""},{"$f":"IF($B$2=StoreConfig!C344,RIGHT(StoreConfig!G344,LEN(StoreConfig!G344)-FIND(\"#\",StoreConfig!G344)),\"\")","v":""},{"$f":"IF($B$2=StoreConfig!C344,IF(StoreConfig!L344=0,\"不限购\",StoreConfig!L344&\"次\"),\"\")","v":""}]
[{"$nulls":3},{"$f":"IF($B$2=StoreConfig!C345,StoreConfig!O345,\"\")","v":""},{"$f":"IF($B$2=StoreConfig!C345,StoreConfig!E345,\"\")","v":""},{"$f":"IF($B$2=StoreConfig!C345,RIGHT(StoreConfig!J345,LEN(StoreConfig!J345)-FIND(\"|\",StoreConfig!J345)),\"\")","v":""},{"$f":"IFERROR(VLOOKUP(--IF($B$2=StoreConfig!C345,LEFT(StoreConfig!J345,FIND(\"|\",StoreConfig!J345)-1),\"\"),$Q$4:$R$20,2,FALSE),\"\")","v":""},{"$f":"IF($B$2=StoreConfig!C345,LEFT(StoreConfig!G345,FIND(\"#\",StoreConfig!G345)-1),\"\")","v":""},{"$f":"IF($B$2=StoreConfig!C345,RIGHT(StoreConfig!G345,LEN(StoreConfig!G345)-FIND(\"#\",StoreConfig!G345)),\"\")","v":""},{"$f":"IF($B$2=StoreConfig!C345,IF(StoreConfig!L345=0,\"不限购\",StoreConfig!L345&\"次\"),\"\")","v":""}]
[{"$nulls":3},{"$f":"IF($B$2=StoreConfig!C346,StoreConfig!O346,\"\")","v":""},{"$f":"IF($B$2=StoreConfig!C346,StoreConfig!E346,\"\")","v":""},{"$f":"IF($B$2=StoreConfig!C346,RIGHT(StoreConfig!J346,LEN(StoreConfig!J346)-FIND(\"|\",StoreConfig!J346)),\"\")","v":""},{"$f":"IFERROR(VLOOKUP(--IF($B$2=StoreConfig!C346,LEFT(StoreConfig!J346,FIND(\"|\",StoreConfig!J346)-1),\"\"),$Q$4:$R$20,2,FALSE),\"\")","v":""},{"$f":"IF($B$2=StoreConfig!C346,LEFT(StoreConfig!G346,FIND(\"#\",StoreConfig!G346)-1),\"\")","v":""},{"$f":"IF($B$2=StoreConfig!C346,RIGHT(StoreConfig!G346,LEN(StoreConfig!G346)-FIND(\"#\",StoreConfig!G346)),\"\")","v":""},{"$f":"IF($B$2=StoreConfig!C346,IF(StoreConfig!L346=0,\"不限购\",StoreConfig!L346&\"次\"),\"\")","v":""}]
[{"$nulls":3},{"$f":"IF($B$2=StoreConfig!C347,StoreConfig!O347,\"\")","v":""},{"$f":"IF($B$2=StoreConfig!C347,StoreConfig!E347,\"\")","v":""},{"$f":"IF($B$2=StoreConfig!C347,RIGHT(StoreConfig!J347,LEN(StoreConfig!J347)-FIND(\"|\",StoreConfig!J347)),\"\")","v":""},{"$f":"IFERROR(VLOOKUP(--IF($B$2=StoreConfig!C347,LEFT(StoreConfig!J347,FIND(\"|\",StoreConfig!J347)-1),\"\"),$Q$4:$R$20,2,FALSE),\"\")","v":""},{"$f":"IF($B$2=StoreConfig!C347,LEFT(StoreConfig!G347,FIND(\"#\",StoreConfig!G347)-1),\"\")","v":""},{"$f":"IF($B$2=StoreConfig!C347,RIGHT(StoreConfig!G347,LEN(StoreConfig!G347)-FIND(\"#\",StoreConfig!G347)),\"\")","v":""},{"$f":"IF($B$2=StoreConfig!C347,IF(StoreConfig!L347=0,\"不限购\",StoreConfig!L347&\"次\"),\"\")","v":""}]
[{"$nulls":3},{"$f":"IF($B$2=StoreConfig!C348,StoreConfig!O348,\"\")","v":""},{"$f":"IF($B$2=StoreConfig!C348,StoreConfig!E348,\"\")","v":""},{"$f":"IF($B$2=StoreConfig!C348,RIGHT(StoreConfig!J348,LEN(StoreConfig!J348)-FIND(\"|\",StoreConfig!J348)),\"\")","v":""},{"$f":"IFERROR(VLOOKUP(--IF($B$2=StoreConfig!C348,LEFT(StoreConfig!J348,FIND(\"|\",StoreConfig!J348)-1),\"\"),$Q$4:$R$20,2,FALSE),\"\")","v":""},{"$f":"IF($B$2=StoreConfig!C348,LEFT(StoreConfig!G348,FIND(\"#\",StoreConfig!G348)-1),\"\")","v":""},{"$f":"IF($B$2=StoreConfig!C348,RIGHT(StoreConfig!G348,LEN(StoreConfig!G348)-FIND(\"#\",StoreConfig!G348)),\"\")","v":""},{"$f":"IF($B$2=StoreConfig!C348,IF(StoreConfig!L348=0,\"不限购\",StoreConfig!L348&\"次\"),\"\")","v":""}]
[{"$nulls":3},{"$f":"IF($B$2=StoreConfig!C349,StoreConfig!O349,\"\")","v":""},{"$f":"IF($B$2=StoreConfig!C349,StoreConfig!E349,\"\")","v":""},{"$f":"IF($B$2=StoreConfig!C349,RIGHT(StoreConfig!J349,LEN(StoreConfig!J349)-FIND(\"|\",StoreConfig!J349)),\"\")","v":""},{"$f":"IFERROR(VLOOKUP(--IF($B$2=StoreConfig!C349,LEFT(StoreConfig!J349,FIND(\"|\",StoreConfig!J349)-1),\"\"),$Q$4:$R$20,2,FALSE),\"\")","v":""},{"$f":"IF($B$2=StoreConfig!C349,LEFT(StoreConfig!G349,FIND(\"#\",StoreConfig!G349)-1),\"\")","v":""},{"$f":"IF($B$2=StoreConfig!C349,RIGHT(StoreConfig!G349,LEN(StoreConfig!G349)-FIND(\"#\",StoreConfig!G349)),\"\")","v":""},{"$f":"IF($B$2=StoreConfig!C349,IF(StoreConfig!L349=0,\"不限购\",StoreConfig!L349&\"次\"),\"\")","v":""}]
[{"$nulls":3},{"$f":"IF($B$2=StoreConfig!C350,StoreConfig!O350,\"\")","v":""},{"$f":"IF($B$2=StoreConfig!C350,StoreConfig!E350,\"\")","v":""},{"$f":"IF($B$2=StoreConfig!C350,RIGHT(StoreConfig!J350,LEN(StoreConfig!J350)-FIND(\"|\",StoreConfig!J350)),\"\")","v":""},{"$f":"IFERROR(VLOOKUP(--IF($B$2=StoreConfig!C350,LEFT(StoreConfig!J350,FIND(\"|\",StoreConfig!J350)-1),\"\"),$Q$4:$R$20,2,FALSE),\"\")","v":""},{"$f":"IF($B$2=StoreConfig!C350,LEFT(StoreConfig!G350,FIND(\"#\",StoreConfig!G350)-1),\"\")","v":""},{"$f":"IF($B$2=StoreConfig!C350,RIGHT(StoreConfig!G350,LEN(StoreConfig!G350)-FIND(\"#\",StoreConfig!G350)),\"\")","v":""},{"$f":"IF($B$2=StoreConfig!C350,IF(StoreConfig!L350=0,\"不限购\",StoreConfig!L350&\"次\"),\"\")","v":""}]
[{"$nulls":3},{"$f":"IF($B$2=StoreConfig!C351,StoreConfig!O351,\"\")","v":""},{"$f":"IF($B$2=StoreConfig!C351,StoreConfig!E351,\"\")","v":""},{"$f":"IF($B$2=StoreConfig!C351,RIGHT(StoreConfig!J351,LEN(StoreConfig!J351)-FIND(\"|\",StoreConfig!J351)),\"\")","v":""},{"$f":"IFERROR(VLOOKUP(--IF($B$2=StoreConfig!C351,LEFT(StoreConfig!J351,FIND(\"|\",StoreConfig!J351)-1),\"\"),$Q$4:$R$20,2,FALSE),\"\")","v":""},{"$f":"IF($B$2=StoreConfig!C351,LEFT(StoreConfig!G351,FIND(\"#\",StoreConfig!G351)-1),\"\")","v":""},{"$f":"IF($B$2=StoreConfig!C351,RIGHT(StoreConfig!G351,LEN(StoreConfig!G351)-FIND(\"#\",StoreConfig!G351)),\"\")","v":""},{"$f":"IF($B$2=StoreConfig!C351,IF(StoreConfig!L351=0,\"不限购\",StoreConfig!L351&\"次\"),\"\")","v":""}]
[{"$nulls":3},{"$f":"IF($B$2=StoreConfig!C352,StoreConfig!O352,\"\")","v":""},{"$f":"IF($B$2=StoreConfig!C352,StoreConfig!E352,\"\")","v":""},{"$f":"IF($B$2=StoreConfig!C352,RIGHT(StoreConfig!J352,LEN(StoreConfig!J352)-FIND(\"|\",StoreConfig!J352)),\"\")","v":""},{"$f":"IFERROR(VLOOKUP(--IF($B$2=StoreConfig!C352,LEFT(StoreConfig!J352,FIND(\"|\",StoreConfig!J352)-1),\"\"),$Q$4:$R$20,2,FALSE),\"\")","v":""},{"$f":"IF($B$2=StoreConfig!C352,LEFT(StoreConfig!G352,FIND(\"#\",StoreConfig!G352)-1),\"\")","v":""},{"$f":"IF($B$2=StoreConfig!C352,RIGHT(StoreConfig!G352,LEN(StoreConfig!G352)-FIND(\"#\",StoreConfig!G352)),\"\")","v":""},{"$f":"IF($B$2=StoreConfig!C352,IF(StoreConfig!L352=0,\"不限购\",StoreConfig!L352&\"次\"),\"\")","v":""}]
[{"$nulls":3},{"$f":"IF($B$2=StoreConfig!C353,StoreConfig!O353,\"\")","v":""},{"$f":"IF($B$2=StoreConfig!C353,StoreConfig!E353,\"\")","v":""},{"$f":"IF($B$2=StoreConfig!C353,RIGHT(StoreConfig!J353,LEN(StoreConfig!J353)-FIND(\"|\",StoreConfig!J353)),\"\")","v":""},{"$f":"IFERROR(VLOOKUP(--IF($B$2=StoreConfig!C353,LEFT(StoreConfig!J353,FIND(\"|\",StoreConfig!J353)-1),\"\"),$Q$4:$R$20,2,FALSE),\"\")","v":""},{"$f":"IF($B$2=StoreConfig!C353,LEFT(StoreConfig!G353,FIND(\"#\",StoreConfig!G353)-1),\"\")","v":""},{"$f":"IF($B$2=StoreConfig!C353,RIGHT(StoreConfig!G353,LEN(StoreConfig!G353)-FIND(\"#\",StoreConfig!G353)),\"\")","v":""},{"$f":"IF($B$2=StoreConfig!C353,IF(StoreConfig!L353=0,\"不限购\",StoreConfig!L353&\"次\"),\"\")","v":""}]
[{"$nulls":3},{"$f":"IF($B$2=StoreConfig!C354,StoreConfig!O354,\"\")","v":""},{"$f":"IF($B$2=StoreConfig!C354,StoreConfig!E354,\"\")","v":""},{"$f":"IF($B$2=StoreConfig!C354,RIGHT(StoreConfig!J354,LEN(StoreConfig!J354)-FIND(\"|\",StoreConfig!J354)),\"\")","v":""},{"$f":"IFERROR(VLOOKUP(--IF($B$2=StoreConfig!C354,LEFT(StoreConfig!J354,FIND(\"|\",StoreConfig!J354)-1),\"\"),$Q$4:$R$20,2,FALSE),\"\")","v":""},{"$f":"IF($B$2=StoreConfig!C354,LEFT(StoreConfig!G354,FIND(\"#\",StoreConfig!G354)-1),\"\")","v":""},{"$f":"IF($B$2=StoreConfig!C354,RIGHT(StoreConfig!G354,LEN(StoreConfig!G354)-FIND(\"#\",StoreConfig!G354)),\"\")","v":""},{"$f":"IF($B$2=StoreConfig!C354,IF(StoreConfig!L354=0,\"不限购\",StoreConfig!L354&\"次\"),\"\")","v":""}]
[{"$nulls":3},{"$f":"IF($B$2=StoreConfig!C355,StoreConfig!O355,\"\")","v":""},{"$f":"IF($B$2=StoreConfig!C355,StoreConfig!E355,\"\")","v":""},{"$f":"IF($B$2=StoreConfig!C355,RIGHT(StoreConfig!J355,LEN(StoreConfig!J355)-FIND(\"|\",StoreConfig!J355)),\"\")","v":""},{"$f":"IFERROR(VLOOKUP(--IF($B$2=StoreConfig!C355,LEFT(StoreConfig!J355,FIND(\"|\",StoreConfig!J355)-1),\"\"),$Q$4:$R$20,2,FALSE),\"\")","v":""},{"$f":"IF($B$2=StoreConfig!C355,LEFT(StoreConfig!G355,FIND(\"#\",StoreConfig!G355)-1),\"\")","v":""},{"$f":"IF($B$2=StoreConfig!C355,RIGHT(StoreConfig!G355,LEN(StoreConfig!G355)-FIND(\"#\",StoreConfig!G355)),\"\")","v":""},{"$f":"IF($B$2=StoreConfig!C355,IF(StoreConfig!L355=0,\"不限购\",StoreConfig!L355&\"次\"),\"\")","v":""}]
[{"$nulls":3},{"$f":"IF($B$2=StoreConfig!C356,StoreConfig!O356,\"\")","v":""},{"$f":"IF($B$2=StoreConfig!C356,StoreConfig!E356,\"\")","v":""},{"$f":"IF($B$2=StoreConfig!C356,RIGHT(StoreConfig!J356,LEN(StoreConfig!J356)-FIND(\"|\",StoreConfig!J356)),\"\")","v":""},{"$f":"IFERROR(VLOOKUP(--IF($B$2=StoreConfig!C356,LEFT(StoreConfig!J356,FIND(\"|\",StoreConfig!J356)-1),\"\"),$Q$4:$R$20,2,FALSE),\"\")","v":""},{"$f":"IF($B$2=StoreConfig!C356,LEFT(StoreConfig!G356,FIND(\"#\",StoreConfig!G356)-1),\"\")","v":""},{"$f":"IF($B$2=StoreConfig!C356,RIGHT(StoreConfig!G356,LEN(StoreConfig!G356)-FIND(\"#\",StoreConfig!G356)),\"\")","v":""},{"$f":"IF($B$2=StoreConfig!C356,IF(StoreConfig!L356=0,\"不限购\",StoreConfig!L356&\"次\"),\"\")","v":""}]
[{"$nulls":3},{"$f":"IF($B$2=StoreConfig!C357,StoreConfig!O357,\"\")","v":""},{"$f":"IF($B$2=StoreConfig!C357,StoreConfig!E357,\"\")","v":""},{"$f":"IF($B$2=StoreConfig!C357,RIGHT(StoreConfig!J357,LEN(StoreConfig!J357)-FIND(\"|\",StoreConfig!J357)),\"\")","v":""},{"$f":"IFERROR(VLOOKUP(--IF($B$2=StoreConfig!C357,LEFT(StoreConfig!J357,FIND(\"|\",StoreConfig!J357)-1),\"\"),$Q$4:$R$20,2,FALSE),\"\")","v":""},{"$f":"IF($B$2=StoreConfig!C357,LEFT(StoreConfig!G357,FIND(\"#\",StoreConfig!G357)-1),\"\")","v":""},{"$f":"IF($B$2=StoreConfig!C357,RIGHT(StoreConfig!G357,LEN(StoreConfig!G357)-FIND(\"#\",StoreConfig!G357)),\"\")","v":""},{"$f":"IF($B$2=StoreConfig!C357,IF(StoreConfig!L357=0,\"不限购\",StoreConfig!L357&\"次\"),\"\")","v":""}]
[{"$nulls":3},{"$f":"IF($B$2=StoreConfig!C358,StoreConfig!O358,\"\")","v":""},{"$f":"IF($B$2=StoreConfig!C358,StoreConfig!E358,\"\")","v":""},{"$f":"IF($B$2=StoreConfig!C358,RIGHT(StoreConfig!J358,LEN(StoreConfig!J358)-FIND(\"|\",StoreConfig!J358)),\"\")","v":""},{"$f":"IFERROR(VLOOKUP(--IF($B$2=StoreConfig!C358,LEFT(StoreConfig!J358,FIND(\"|\",StoreConfig!J358)-1),\"\"),$Q$4:$R$20,2,FALSE),\"\")","v":""},{"$f":"IF($B$2=StoreConfig!C358,LEFT(StoreConfig!G358,FIND(\"#\",StoreConfig!G358)-1),\"\")","v":""},{"$f":"IF($B$2=StoreConfig!C358,RIGHT(StoreConfig!G358,LEN(StoreConfig!G358)-FIND(\"#\",StoreConfig!G358)),\"\")","v":""},{"$f":"IF($B$2=StoreConfig!C358,IF(StoreConfig!L358=0,\"不限购\",StoreConfig!L358&\"次\"),\"\")","v":""}]
[{"$nulls":3},{"$f":"IF($B$2=StoreConfig!C359,StoreConfig!O359,\"\")","v":""},{"$f":"IF($B$2=StoreConfig!C359,StoreConfig!E359,\"\")","v":""},{"$f":"IF($B$2=StoreConfig!C359,RIGHT(StoreConfig!J359,LEN(StoreConfig!J359)-FIND(\"|\",StoreConfig!J359)),\"\")","v":""},{"$f":"IFERROR(VLOOKUP(--IF($B$2=StoreConfig!C359,LEFT(StoreConfig!J359,FIND(\"|\",StoreConfig!J359)-1),\"\"),$Q$4:$R$20,2,FALSE),\"\")","v":""},{"$f":"IF($B$2=StoreConfig!C359,LEFT(StoreConfig!G359,FIND(\"#\",StoreConfig!G359)-1),\"\")","v":""},{"$f":"IF($B$2=StoreConfig!C359,RIGHT(StoreConfig!G359,LEN(StoreConfig!G359)-FIND(\"#\",StoreConfig!G359)),\"\")","v":""},{"$f":"IF($B$2=StoreConfig!C359,IF(StoreConfig!L359=0,\"不限购\",StoreConfig!L359&\"次\"),\"\")","v":""}]
[{"$nulls":3},{"$f":"IF($B$2=StoreConfig!C360,StoreConfig!O360,\"\")","v":""},{"$f":"IF($B$2=StoreConfig!C360,StoreConfig!E360,\"\")","v":""},{"$f":"IF($B$2=StoreConfig!C360,RIGHT(StoreConfig!J360,LEN(StoreConfig!J360)-FIND(\"|\",StoreConfig!J360)),\"\")","v":""},{"$f":"IFERROR(VLOOKUP(--IF($B$2=StoreConfig!C360,LEFT(StoreConfig!J360,FIND(\"|\",StoreConfig!J360)-1),\"\"),$Q$4:$R$20,2,FALSE),\"\")","v":""},{"$f":"IF($B$2=StoreConfig!C360,LEFT(StoreConfig!G360,FIND(\"#\",StoreConfig!G360)-1),\"\")","v":""},{"$f":"IF($B$2=StoreConfig!C360,RIGHT(StoreConfig!G360,LEN(StoreConfig!G360)-FIND(\"#\",StoreConfig!G360)),\"\")","v":""},{"$f":"IF($B$2=StoreConfig!C360,IF(StoreConfig!L360=0,\"不限购\",StoreConfig!L360&\"次\"),\"\")","v":""}]
[{"$nulls":3},{"$f":"IF($B$2=StoreConfig!C361,StoreConfig!O361,\"\")","v":""},{"$f":"IF($B$2=StoreConfig!C361,StoreConfig!E361,\"\")","v":""},{"$f":"IF($B$2=StoreConfig!C361,RIGHT(StoreConfig!J361,LEN(StoreConfig!J361)-FIND(\"|\",StoreConfig!J361)),\"\")","v":""},{"$f":"IFERROR(VLOOKUP(--IF($B$2=StoreConfig!C361,LEFT(StoreConfig!J361,FIND(\"|\",StoreConfig!J361)-1),\"\"),$Q$4:$R$20,2,FALSE),\"\")","v":""},{"$f":"IF($B$2=StoreConfig!C361,LEFT(StoreConfig!G361,FIND(\"#\",StoreConfig!G361)-1),\"\")","v":""},{"$f":"IF($B$2=StoreConfig!C361,RIGHT(StoreConfig!G361,LEN(StoreConfig!G361)-FIND(\"#\",StoreConfig!G361)),\"\")","v":""},{"$f":"IF($B$2=StoreConfig!C361,IF(StoreConfig!L361=0,\"不限购\",StoreConfig!L361&\"次\"),\"\")","v":""}]
[{"$nulls":3},{"$f":"IF($B$2=StoreConfig!C362,StoreConfig!O362,\"\")","v":""},{"$f":"IF($B$2=StoreConfig!C362,StoreConfig!E362,\"\")","v":""},{"$f":"IF($B$2=StoreConfig!C362,RIGHT(StoreConfig!J362,LEN(StoreConfig!J362)-FIND(\"|\",StoreConfig!J362)),\"\")","v":""},{"$f":"IFERROR(VLOOKUP(--IF($B$2=StoreConfig!C362,LEFT(StoreConfig!J362,FIND(\"|\",StoreConfig!J362)-1),\"\"),$Q$4:$R$20,2,FALSE),\"\")","v":""},{"$f":"IF($B$2=StoreConfig!C362,LEFT(StoreConfig!G362,FIND(\"#\",StoreConfig!G362)-1),\"\")","v":""},{"$f":"IF($B$2=StoreConfig!C362,RIGHT(StoreConfig!G362,LEN(StoreConfig!G362)-FIND(\"#\",StoreConfig!G362)),\"\")","v":""},{"$f":"IF($B$2=StoreConfig!C362,IF(StoreConfig!L362=0,\"不限购\",StoreConfig!L362&\"次\"),\"\")","v":""}]
[{"$nulls":3},{"$f":"IF($B$2=StoreConfig!C363,StoreConfig!O363,\"\")","v":""},{"$f":"IF($B$2=StoreConfig!C363,StoreConfig!E363,\"\")","v":""},{"$f":"IF($B$2=StoreConfig!C363,RIGHT(StoreConfig!J363,LEN(StoreConfig!J363)-FIND(\"|\",StoreConfig!J363)),\"\")","v":""},{"$f":"IFERROR(VLOOKUP(--IF($B$2=StoreConfig!C363,LEFT(StoreConfig!J363,FIND(\"|\",StoreConfig!J363)-1),\"\"),$Q$4:$R$20,2,FALSE),\"\")","v":""},{"$f":"IF($B$2=StoreConfig!C363,LEFT(StoreConfig!G363,FIND(\"#\",StoreConfig!G363)-1),\"\")","v":""},{"$f":"IF($B$2=StoreConfig!C363,RIGHT(StoreConfig!G363,LEN(StoreConfig!G363)-FIND(\"#\",StoreConfig!G363)),\"\")","v":""},{"$f":"IF($B$2=StoreConfig!C363,IF(StoreConfig!L363=0,\"不限购\",StoreConfig!L363&\"次\"),\"\")","v":""}]
[{"$nulls":3},{"$f":"IF($B$2=StoreConfig!C364,StoreConfig!O364,\"\")","v":""},{"$f":"IF($B$2=StoreConfig!C364,StoreConfig!E364,\"\")","v":""},{"$f":"IF($B$2=StoreConfig!C364,RIGHT(StoreConfig!J364,LEN(StoreConfig!J364)-FIND(\"|\",StoreConfig!J364)),\"\")","v":""},{"$f":"IFERROR(VLOOKUP(--IF($B$2=StoreConfig!C364,LEFT(StoreConfig!J364,FIND(\"|\",StoreConfig!J364)-1),\"\"),$Q$4:$R$20,2,FALSE),\"\")","v":""},{"$f":"IF($B$2=StoreConfig!C364,LEFT(StoreConfig!G364,FIND(\"#\",StoreConfig!G364)-1),\"\")","v":""},{"$f":"IF($B$2=StoreConfig!C364,RIGHT(StoreConfig!G364,LEN(StoreConfig!G364)-FIND(\"#\",StoreConfig!G364)),\"\")","v":""},{"$f":"IF($B$2=StoreConfig!C364,IF(StoreConfig!L364=0,\"不限购\",StoreConfig!L364&\"次\"),\"\")","v":""}]
[{"$nulls":3},{"$f":"IF($B$2=StoreConfig!C365,StoreConfig!O365,\"\")","v":""},{"$f":"IF($B$2=StoreConfig!C365,StoreConfig!E365,\"\")","v":""},{"$f":"IF($B$2=StoreConfig!C365,RIGHT(StoreConfig!J365,LEN(StoreConfig!J365)-FIND(\"|\",StoreConfig!J365)),\"\")","v":""},{"$f":"IFERROR(VLOOKUP(--IF($B$2=StoreConfig!C365,LEFT(StoreConfig!J365,FIND(\"|\",StoreConfig!J365)-1),\"\"),$Q$4:$R$20,2,FALSE),\"\")","v":""},{"$f":"IF($B$2=StoreConfig!C365,LEFT(StoreConfig!G365,FIND(\"#\",StoreConfig!G365)-1),\"\")","v":""},{"$f":"IF($B$2=StoreConfig!C365,RIGHT(StoreConfig!G365,LEN(StoreConfig!G365)-FIND(\"#\",StoreConfig!G365)),\"\")","v":""},{"$f":"IF($B$2=StoreConfig!C365,IF(StoreConfig!L365=0,\"不限购\",StoreConfig!L365&\"次\"),\"\")","v":""}]
[{"$nulls":3},{"$f":"IF($B$2=StoreConfig!C366,StoreConfig!O366,\"\")","v":""},{"$f":"IF($B$2=StoreConfig!C366,StoreConfig!E366,\"\")","v":""},{"$f":"IF($B$2=StoreConfig!C366,RIGHT(StoreConfig!J366,LEN(StoreConfig!J366)-FIND(\"|\",StoreConfig!J366)),\"\")","v":""},{"$f":"IFERROR(VLOOKUP(--IF($B$2=StoreConfig!C366,LEFT(StoreConfig!J366,FIND(\"|\",StoreConfig!J366)-1),\"\"),$Q$4:$R$20,2,FALSE),\"\")","v":""},{"$f":"IF($B$2=StoreConfig!C366,LEFT(StoreConfig!G366,FIND(\"#\",StoreConfig!G366)-1),\"\")","v":""},{"$f":"IF($B$2=StoreConfig!C366,RIGHT(StoreConfig!G366,LEN(StoreConfig!G366)-FIND(\"#\",StoreConfig!G366)),\"\")","v":""},{"$f":"IF($B$2=StoreConfig!C366,IF(StoreConfig!L366=0,\"不限购\",StoreConfig!L366&\"次\"),\"\")","v":""}]
[{"$nulls":3},{"$f":"IF($B$2=StoreConfig!C367,StoreConfig!O367,\"\")","v":""},{"$f":"IF($B$2=StoreConfig!C367,StoreConfig!E367,\"\")","v":""},{"$f":"IF($B$2=StoreConfig!C367,RIGHT(StoreConfig!J367,LEN(StoreConfig!J367)-FIND(\"|\",StoreConfig!J367)),\"\")","v":""},{"$f":"IFERROR(VLOOKUP(--IF($B$2=StoreConfig!C367,LEFT(StoreConfig!J367,FIND(\"|\",StoreConfig!J367)-1),\"\"),$Q$4:$R$20,2,FALSE),\"\")","v":""},{"$f":"IF($B$2=StoreConfig!C367,LEFT(StoreConfig!G367,FIND(\"#\",StoreConfig!G367)-1),\"\")","v":""},{"$f":"IF($B$2=StoreConfig!C367,RIGHT(StoreConfig!G367,LEN(StoreConfig!G367)-FIND(\"#\",StoreConfig!G367)),\"\")","v":""},{"$f":"IF($B$2=StoreConfig!C367,IF(StoreConfig!L367=0,\"不限购\",StoreConfig!L367&\"次\"),\"\")","v":""}]
[{"$nulls":3},{"$f":"IF($B$2=StoreConfig!C368,StoreConfig!O368,\"\")","v":""},{"$f":"IF($B$2=StoreConfig!C368,StoreConfig!E368,\"\")","v":""},{"$f":"IF($B$2=StoreConfig!C368,RIGHT(StoreConfig!J368,LEN(StoreConfig!J368)-FIND(\"|\",StoreConfig!J368)),\"\")","v":""},{"$f":"IFERROR(VLOOKUP(--IF($B$2=StoreConfig!C368,LEFT(StoreConfig!J368,FIND(\"|\",StoreConfig!J368)-1),\"\"),$Q$4:$R$20,2,FALSE),\"\")","v":""},{"$f":"IF($B$2=StoreConfig!C368,LEFT(StoreConfig!G368,FIND(\"#\",StoreConfig!G368)-1),\"\")","v":""},{"$f":"IF($B$2=StoreConfig!C368,RIGHT(StoreConfig!G368,LEN(StoreConfig!G368)-FIND(\"#\",StoreConfig!G368)),\"\")","v":""},{"$f":"IF($B$2=StoreConfig!C368,IF(StoreConfig!L368=0,\"不限购\",StoreConfig!L368&\"次\"),\"\")","v":""}]
[{"$nulls":3},{"$f":"IF($B$2=StoreConfig!C369,StoreConfig!O369,\"\")","v":""},{"$f":"IF($B$2=StoreConfig!C369,StoreConfig!E369,\"\")","v":""},{"$f":"IF($B$2=StoreConfig!C369,RIGHT(StoreConfig!J369,LEN(StoreConfig!J369)-FIND(\"|\",StoreConfig!J369)),\"\")","v":""},{"$f":"IFERROR(VLOOKUP(--IF($B$2=StoreConfig!C369,LEFT(StoreConfig!J369,FIND(\"|\",StoreConfig!J369)-1),\"\"),$Q$4:$R$20,2,FALSE),\"\")","v":""},{"$f":"IF($B$2=StoreConfig!C369,LEFT(StoreConfig!G369,FIND(\"#\",StoreConfig!G369)-1),\"\")","v":""},{"$f":"IF($B$2=StoreConfig!C369,RIGHT(StoreConfig!G369,LEN(StoreConfig!G369)-FIND(\"#\",StoreConfig!G369)),\"\")","v":""},{"$f":"IF($B$2=StoreConfig!C369,IF(StoreConfig!L369=0,\"不限购\",StoreConfig!L369&\"次\"),\"\")","v":""}]
[{"$nulls":3},{"$f":"IF($B$2=StoreConfig!C370,StoreConfig!O370,\"\")","v":""},{"$f":"IF($B$2=StoreConfig!C370,StoreConfig!E370,\"\")","v":""},{"$f":"IF($B$2=StoreConfig!C370,RIGHT(StoreConfig!J370,LEN(StoreConfig!J370)-FIND(\"|\",StoreConfig!J370)),\"\")","v":""},{"$f":"IFERROR(VLOOKUP(--IF($B$2=StoreConfig!C370,LEFT(StoreConfig!J370,FIND(\"|\",StoreConfig!J370)-1),\"\"),$Q$4:$R$20,2,FALSE),\"\")","v":""},{"$f":"IF($B$2=StoreConfig!C370,LEFT(StoreConfig!G370,FIND(\"#\",StoreConfig!G370)-1),\"\")","v":""},{"$f":"IF($B$2=StoreConfig!C370,RIGHT(StoreConfig!G370,LEN(StoreConfig!G370)-FIND(\"#\",StoreConfig!G370)),\"\")","v":""},{"$f":"IF($B$2=StoreConfig!C370,IF(StoreConfig!L370=0,\"不限购\",StoreConfig!L370&\"次\"),\"\")","v":""}]
[{"$nulls":3},{"$f":"IF($B$2=StoreConfig!C371,StoreConfig!O371,\"\")","v":""},{"$f":"IF($B$2=StoreConfig!C371,StoreConfig!E371,\"\")","v":""},{"$f":"IF($B$2=StoreConfig!C371,RIGHT(StoreConfig!J371,LEN(StoreConfig!J371)-FIND(\"|\",StoreConfig!J371)),\"\")","v":""},{"$f":"IFERROR(VLOOKUP(--IF($B$2=StoreConfig!C371,LEFT(StoreConfig!J371,FIND(\"|\",StoreConfig!J371)-1),\"\"),$Q$4:$R$20,2,FALSE),\"\")","v":""},{"$f":"IF($B$2=StoreConfig!C371,LEFT(StoreConfig!G371,FIND(\"#\",StoreConfig!G371)-1),\"\")","v":""},{"$f":"IF($B$2=StoreConfig!C371,RIGHT(StoreConfig!G371,LEN(StoreConfig!G371)-FIND(\"#\",StoreConfig!G371)),\"\")","v":""},{"$f":"IF($B$2=StoreConfig!C371,IF(StoreConfig!L371=0,\"不限购\",StoreConfig!L371&\"次\"),\"\")","v":""}]
[{"$nulls":3},{"$f":"IF($B$2=StoreConfig!C372,StoreConfig!O372,\"\")","v":""},{"$f":"IF($B$2=StoreConfig!C372,StoreConfig!E372,\"\")","v":""},{"$f":"IF($B$2=StoreConfig!C372,RIGHT(StoreConfig!J372,LEN(StoreConfig!J372)-FIND(\"|\",StoreConfig!J372)),\"\")","v":""},{"$f":"IFERROR(VLOOKUP(--IF($B$2=StoreConfig!C372,LEFT(StoreConfig!J372,FIND(\"|\",StoreConfig!J372)-1),\"\"),$Q$4:$R$20,2,FALSE),\"\")","v":""},{"$f":"IF($B$2=StoreConfig!C372,LEFT(StoreConfig!G372,FIND(\"#\",StoreConfig!G372)-1),\"\")","v":""},{"$f":"IF($B$2=StoreConfig!C372,RIGHT(StoreConfig!G372,LEN(StoreConfig!G372)-FIND(\"#\",StoreConfig!G372)),\"\")","v":""},{"$f":"IF($B$2=StoreConfig!C372,IF(StoreConfig!L372=0,\"不限购\",StoreConfig!L372&\"次\"),\"\")","v":""}]
[{"$nulls":3},{"$f":"IF($B$2=StoreConfig!C373,StoreConfig!O373,\"\")","v":""},{"$f":"IF($B$2=StoreConfig!C373,StoreConfig!E373,\"\")","v":""},{"$f":"IF($B$2=StoreConfig!C373,RIGHT(StoreConfig!J373,LEN(StoreConfig!J373)-FIND(\"|\",StoreConfig!J373)),\"\")","v":""},{"$f":"IFERROR(VLOOKUP(--IF($B$2=StoreConfig!C373,LEFT(StoreConfig!J373,FIND(\"|\",StoreConfig!J373)-1),\"\"),$Q$4:$R$20,2,FALSE),\"\")","v":""},{"$f":"IF($B$2=StoreConfig!C373,LEFT(StoreConfig!G373,FIND(\"#\",StoreConfig!G373)-1),\"\")","v":""},{"$f":"IF($B$2=StoreConfig!C373,RIGHT(StoreConfig!G373,LEN(StoreConfig!G373)-FIND(\"#\",StoreConfig!G373)),\"\")","v":""},{"$f":"IF($B$2=StoreConfig!C373,IF(StoreConfig!L373=0,\"不限购\",StoreConfig!L373&\"次\"),\"\")","v":""}]
[{"$nulls":3},{"$f":"IF($B$2=StoreConfig!C374,StoreConfig!O374,\"\")","v":""},{"$f":"IF($B$2=StoreConfig!C374,StoreConfig!E374,\"\")","v":""},{"$f":"IF($B$2=StoreConfig!C374,RIGHT(StoreConfig!J374,LEN(StoreConfig!J374)-FIND(\"|\",StoreConfig!J374)),\"\")","v":""},{"$f":"IFERROR(VLOOKUP(--IF($B$2=StoreConfig!C374,LEFT(StoreConfig!J374,FIND(\"|\",StoreConfig!J374)-1),\"\"),$Q$4:$R$20,2,FALSE),\"\")","v":""},{"$f":"IF($B$2=StoreConfig!C374,LEFT(StoreConfig!G374,FIND(\"#\",StoreConfig!G374)-1),\"\")","v":""},{"$f":"IF($B$2=StoreConfig!C374,RIGHT(StoreConfig!G374,LEN(StoreConfig!G374)-FIND(\"#\",StoreConfig!G374)),\"\")","v":""},{"$f":"IF($B$2=StoreConfig!C374,IF(StoreConfig!L374=0,\"不限购\",StoreConfig!L374&\"次\"),\"\")","v":""}]
[{"$nulls":3},{"$f":"IF($B$2=StoreConfig!C375,StoreConfig!O375,\"\")","v":""},{"$f":"IF($B$2=StoreConfig!C375,StoreConfig!E375,\"\")","v":""},{"$f":"IF($B$2=StoreConfig!C375,RIGHT(StoreConfig!J375,LEN(StoreConfig!J375)-FIND(\"|\",StoreConfig!J375)),\"\")","v":""},{"$f":"IFERROR(VLOOKUP(--IF($B$2=StoreConfig!C375,LEFT(StoreConfig!J375,FIND(\"|\",StoreConfig!J375)-1),\"\"),$Q$4:$R$20,2,FALSE),\"\")","v":""},{"$f":"IF($B$2=StoreConfig!C375,LEFT(StoreConfig!G375,FIND(\"#\",StoreConfig!G375)-1),\"\")","v":""},{"$f":"IF($B$2=StoreConfig!C375,RIGHT(StoreConfig!G375,LEN(StoreConfig!G375)-FIND(\"#\",StoreConfig!G375)),\"\")","v":""},{"$f":"IF($B$2=StoreConfig!C375,IF(StoreConfig!L375=0,\"不限购\",StoreConfig!L375&\"次\"),\"\")","v":""}]
[{"$nulls":3},{"$f":"IF($B$2=StoreConfig!C376,StoreConfig!O376,\"\")","v":""},{"$f":"IF($B$2=StoreConfig!C376,StoreConfig!E376,\"\")","v":""},{"$f":"IF($B$2=StoreConfig!C376,RIGHT(StoreConfig!J376,LEN(StoreConfig!J376)-FIND(\"|\",StoreConfig!J376)),\"\")","v":""},{"$f":"IFERROR(VLOOKUP(--IF($B$2=StoreConfig!C376,LEFT(StoreConfig!J376,FIND(\"|\",StoreConfig!J376)-1),\"\"),$Q$4:$R$20,2,FALSE),\"\")","v":""},{"$f":"IF($B$2=StoreConfig!C376,LEFT(StoreConfig!G376,FIND(\"#\",StoreConfig!G376)-1),\"\")","v":""},{"$f":"IF($B$2=StoreConfig!C376,RIGHT(StoreConfig!G376,LEN(StoreConfig!G376)-FIND(\"#\",StoreConfig!G376)),\"\")","v":""},{"$f":"IF($B$2=StoreConfig!C376,IF(StoreConfig!L376=0,\"不限购\",StoreConfig!L376&\"次\"),\"\")","v":""}]
[{"$nulls":3},{"$f":"IF($B$2=StoreConfig!C377,StoreConfig!O377,\"\")","v":""},{"$f":"IF($B$2=StoreConfig!C377,StoreConfig!E377,\"\")","v":""},{"$f":"IF($B$2=StoreConfig!C377,RIGHT(StoreConfig!J377,LEN(StoreConfig!J377)-FIND(\"|\",StoreConfig!J377)),\"\")","v":""},{"$f":"IFERROR(VLOOKUP(--IF($B$2=StoreConfig!C377,LEFT(StoreConfig!J377,FIND(\"|\",StoreConfig!J377)-1),\"\"),$Q$4:$R$20,2,FALSE),\"\")","v":""},{"$f":"IF($B$2=StoreConfig!C377,LEFT(StoreConfig!G377,FIND(\"#\",StoreConfig!G377)-1),\"\")","v":""},{"$f":"IF($B$2=StoreConfig!C377,RIGHT(StoreConfig!G377,LEN(StoreConfig!G377)-FIND(\"#\",StoreConfig!G377)),\"\")","v":""},{"$f":"IF($B$2=StoreConfig!C377,IF(StoreConfig!L377=0,\"不限购\",StoreConfig!L377&\"次\"),\"\")","v":""}]
[{"$nulls":3},{"$f":"IF($B$2=StoreConfig!C378,StoreConfig!O378,\"\")","v":""},{"$f":"IF($B$2=StoreConfig!C378,StoreConfig!E378,\"\")","v":""},{"$f":"IF($B$2=StoreConfig!C378,RIGHT(StoreConfig!J378,LEN(StoreConfig!J378)-FIND(\"|\",StoreConfig!J378)),\"\")","v":""},{"$f":"IFERROR(VLOOKUP(--IF($B$2=StoreConfig!C378,LEFT(StoreConfig!J378,FIND(\"|\",StoreConfig!J378)-1),\"\"),$Q$4:$R$20,2,FALSE),\"\")","v":""},{"$f":"IF($B$2=StoreConfig!C378,LEFT(StoreConfig!G378,FIND(\"#\",StoreConfig!G378)-1),\"\")","v":""},{"$f":"IF($B$2=StoreConfig!C378,RIGHT(StoreConfig!G378,LEN(StoreConfig!G378)-FIND(\"#\",StoreConfig!G378)),\"\")","v":""},{"$f":"IF($B$2=StoreConfig!C378,IF(StoreConfig!L378=0,\"不限购\",StoreConfig!L378&\"次\"),\"\")","v":""}]
[{"$nulls":3},{"$f":"IF($B$2=StoreConfig!C379,StoreConfig!O379,\"\")","v":""},{"$f":"IF($B$2=StoreConfig!C379,StoreConfig!E379,\"\")","v":""},{"$f":"IF($B$2=StoreConfig!C379,RIGHT(StoreConfig!J379,LEN(StoreConfig!J379)-FIND(\"|\",StoreConfig!J379)),\"\")","v":""},{"$f":"IFERROR(VLOOKUP(--IF($B$2=StoreConfig!C379,LEFT(StoreConfig!J379,FIND(\"|\",StoreConfig!J379)-1),\"\"),$Q$4:$R$20,2,FALSE),\"\")","v":""},{"$f":"IF($B$2=StoreConfig!C379,LEFT(StoreConfig!G379,FIND(\"#\",StoreConfig!G379)-1),\"\")","v":""},{"$f":"IF($B$2=StoreConfig!C379,RIGHT(StoreConfig!G379,LEN(StoreConfig!G379)-FIND(\"#\",StoreConfig!G379)),\"\")","v":""},{"$f":"IF($B$2=StoreConfig!C379,IF(StoreConfig!L379=0,\"不限购\",StoreConfig!L379&\"次\"),\"\")","v":""}]
[{"$nulls":3},{"$f":"IF($B$2=StoreConfig!C380,StoreConfig!O380,\"\")","v":""},{"$f":"IF($B$2=StoreConfig!C380,StoreConfig!E380,\"\")","v":""},{"$f":"IF($B$2=StoreConfig!C380,RIGHT(StoreConfig!J380,LEN(StoreConfig!J380)-FIND(\"|\",StoreConfig!J380)),\"\")","v":""},{"$f":"IFERROR(VLOOKUP(--IF($B$2=StoreConfig!C380,LEFT(StoreConfig!J380,FIND(\"|\",StoreConfig!J380)-1),\"\"),$Q$4:$R$20,2,FALSE),\"\")","v":""},{"$f":"IF($B$2=StoreConfig!C380,LEFT(StoreConfig!G380,FIND(\"#\",StoreConfig!G380)-1),\"\")","v":""},{"$f":"IF($B$2=StoreConfig!C380,RIGHT(StoreConfig!G380,LEN(StoreConfig!G380)-FIND(\"#\",StoreConfig!G380)),\"\")","v":""},{"$f":"IF($B$2=StoreConfig!C380,IF(StoreConfig!L380=0,\"不限购\",StoreConfig!L380&\"次\"),\"\")","v":""}]
[{"$nulls":3},{"$f":"IF($B$2=StoreConfig!C381,StoreConfig!O381,\"\")","v":""},{"$f":"IF($B$2=StoreConfig!C381,StoreConfig!E381,\"\")","v":""},{"$f":"IF($B$2=StoreConfig!C381,RIGHT(StoreConfig!J381,LEN(StoreConfig!J381)-FIND(\"|\",StoreConfig!J381)),\"\")","v":""},{"$f":"IFERROR(VLOOKUP(--IF($B$2=StoreConfig!C381,LEFT(StoreConfig!J381,FIND(\"|\",StoreConfig!J381)-1),\"\"),$Q$4:$R$20,2,FALSE),\"\")","v":""},{"$f":"IF($B$2=StoreConfig!C381,LEFT(StoreConfig!G381,FIND(\"#\",StoreConfig!G381)-1),\"\")","v":""},{"$f":"IF($B$2=StoreConfig!C381,RIGHT(StoreConfig!G381,LEN(StoreConfig!G381)-FIND(\"#\",StoreConfig!G381)),\"\")","v":""},{"$f":"IF($B$2=StoreConfig!C381,IF(StoreConfig!L381=0,\"不限购\",StoreConfig!L381&\"次\"),\"\")","v":""}]
[{"$nulls":3},{"$f":"IF($B$2=StoreConfig!C382,StoreConfig!O382,\"\")","v":""},{"$f":"IF($B$2=StoreConfig!C382,StoreConfig!E382,\"\")","v":""},{"$f":"IF($B$2=StoreConfig!C382,RIGHT(StoreConfig!#REF!,LEN(StoreConfig!#REF!)-FIND(\"|\",StoreConfig!#REF!)),\"\")","v":""},{"$f":"IFERROR(VLOOKUP(--IF($B$2=StoreConfig!C382,LEFT(StoreConfig!#REF!,FIND(\"|\",StoreConfig!#REF!)-1),\"\"),$Q$4:$R$20,2,FALSE),\"\")","v":""},{"$f":"IF($B$2=StoreConfig!C382,LEFT(StoreConfig!G382,FIND(\"#\",StoreConfig!G382)-1),\"\")","v":""},{"$f":"IF($B$2=StoreConfig!C382,RIGHT(StoreConfig!G382,LEN(StoreConfig!G382)-FIND(\"#\",StoreConfig!G382)),\"\")","v":""},{"$f":"IF($B$2=StoreConfig!C382,IF(StoreConfig!L382=0,\"不限购\",StoreConfig!L382&\"次\"),\"\")","v":""}]
[{"$nulls":3},{"$f":"IF($B$2=StoreConfig!C383,StoreConfig!O383,\"\")","v":""},{"$f":"IF($B$2=StoreConfig!C383,StoreConfig!E383,\"\")","v":""},{"$f":"IF($B$2=StoreConfig!C383,RIGHT(StoreConfig!J383,LEN(StoreConfig!J383)-FIND(\"|\",StoreConfig!J383)),\"\")","v":""},{"$f":"IFERROR(VLOOKUP(--IF($B$2=StoreConfig!C383,LEFT(StoreConfig!J383,FIND(\"|\",StoreConfig!J383)-1),\"\"),$Q$4:$R$20,2,FALSE),\"\")","v":""},{"$f":"IF($B$2=StoreConfig!C383,LEFT(StoreConfig!G383,FIND(\"#\",StoreConfig!G383)-1),\"\")","v":""},{"$f":"IF($B$2=StoreConfig!C383,RIGHT(StoreConfig!G383,LEN(StoreConfig!G383)-FIND(\"#\",StoreConfig!G383)),\"\")","v":""},{"$f":"IF($B$2=StoreConfig!C383,IF(StoreConfig!L383=0,\"不限购\",StoreConfig!L383&\"次\"),\"\")","v":""}]
[{"$nulls":3},{"$f":"IF($B$2=StoreConfig!C384,StoreConfig!O384,\"\")","v":""},{"$f":"IF($B$2=StoreConfig!C384,StoreConfig!E384,\"\")","v":""},{"$f":"IF($B$2=StoreConfig!C384,RIGHT(StoreConfig!J384,LEN(StoreConfig!J384)-FIND(\"|\",StoreConfig!J384)),\"\")","v":""},{"$f":"IFERROR(VLOOKUP(--IF($B$2=StoreConfig!C384,LEFT(StoreConfig!J384,FIND(\"|\",StoreConfig!J384)-1),\"\"),$Q$4:$R$20,2,FALSE),\"\")","v":""},{"$f":"IF($B$2=StoreConfig!C384,LEFT(StoreConfig!G384,FIND(\"#\",StoreConfig!G384)-1),\"\")","v":""},{"$f":"IF($B$2=StoreConfig!C384,RIGHT(StoreConfig!G384,LEN(StoreConfig!G384)-FIND(\"#\",StoreConfig!G384)),\"\")","v":""},{"$f":"IF($B$2=StoreConfig!C384,IF(StoreConfig!L384=0,\"不限购\",StoreConfig!L384&\"次\"),\"\")","v":""}]
[{"$nulls":3},{"$f":"IF($B$2=StoreConfig!C385,StoreConfig!O385,\"\")","v":""},{"$f":"IF($B$2=StoreConfig!C385,StoreConfig!E385,\"\")","v":""},{"$f":"IF($B$2=StoreConfig!C385,RIGHT(StoreConfig!J385,LEN(StoreConfig!J385)-FIND(\"|\",StoreConfig!J385)),\"\")","v":""},{"$f":"IFERROR(VLOOKUP(--IF($B$2=StoreConfig!C385,LEFT(StoreConfig!J385,FIND(\"|\",StoreConfig!J385)-1),\"\"),$Q$4:$R$20,2,FALSE),\"\")","v":""},{"$f":"IF($B$2=StoreConfig!C385,LEFT(StoreConfig!G385,FIND(\"#\",StoreConfig!G385)-1),\"\")","v":""},{"$f":"IF($B$2=StoreConfig!C385,RIGHT(StoreConfig!G385,LEN(StoreConfig!G385)-FIND(\"#\",StoreConfig!G385)),\"\")","v":""},{"$f":"IF($B$2=StoreConfig!C385,IF(StoreConfig!L385=0,\"不限购\",StoreConfig!L385&\"次\"),\"\")","v":""}]
[{"$nulls":3},{"$f":"IF($B$2=StoreConfig!C386,StoreConfig!O386,\"\")","v":""},{"$f":"IF($B$2=StoreConfig!C386,StoreConfig!E386,\"\")","v":""},{"$f":"IF($B$2=StoreConfig!C386,RIGHT(StoreConfig!J386,LEN(StoreConfig!J386)-FIND(\"|\",StoreConfig!J386)),\"\")","v":""},{"$f":"IFERROR(VLOOKUP(--IF($B$2=StoreConfig!C386,LEFT(StoreConfig!J386,FIND(\"|\",StoreConfig!J386)-1),\"\"),$Q$4:$R$20,2,FALSE),\"\")","v":""},{"$f":"IF($B$2=StoreConfig!C386,LEFT(StoreConfig!G386,FIND(\"#\",StoreConfig!G386)-1),\"\")","v":""},{"$f":"IF($B$2=StoreConfig!C386,RIGHT(StoreConfig!G386,LEN(StoreConfig!G386)-FIND(\"#\",StoreConfig!G386)),\"\")","v":""},{"$f":"IF($B$2=StoreConfig!C386,IF(StoreConfig!L386=0,\"不限购\",StoreConfig!L386&\"次\"),\"\")","v":""}]
[{"$nulls":3},{"$f":"IF($B$2=StoreConfig!C387,StoreConfig!O387,\"\")","v":""},{"$f":"IF($B$2=StoreConfig!C387,StoreConfig!E387,\"\")","v":""},{"$f":"IF($B$2=StoreConfig!C387,RIGHT(StoreConfig!J387,LEN(StoreConfig!J387)-FIND(\"|\",StoreConfig!J387)),\"\")","v":""},{"$f":"IFERROR(VLOOKUP(--IF($B$2=StoreConfig!C387,LEFT(StoreConfig!J387,FIND(\"|\",StoreConfig!J387)-1),\"\"),$Q$4:$R$20,2,FALSE),\"\")","v":""},{"$f":"IF($B$2=StoreConfig!C387,LEFT(StoreConfig!G387,FIND(\"#\",StoreConfig!G387)-1),\"\")","v":""},{"$f":"IF($B$2=StoreConfig!C387,RIGHT(StoreConfig!G387,LEN(StoreConfig!G387)-FIND(\"#\",StoreConfig!G387)),\"\")","v":""},{"$f":"IF($B$2=StoreConfig!C387,IF(StoreConfig!L387=0,\"不限购\",StoreConfig!L387&\"次\"),\"\")","v":""}]
[{"$nulls":3},{"$f":"IF($B$2=StoreConfig!C388,StoreConfig!O388,\"\")","v":""},{"$f":"IF($B$2=StoreConfig!C388,StoreConfig!E388,\"\")","v":""},{"$f":"IF($B$2=StoreConfig!C388,RIGHT(StoreConfig!J388,LEN(StoreConfig!J388)-FIND(\"|\",StoreConfig!J388)),\"\")","v":""},{"$f":"IFERROR(VLOOKUP(--IF($B$2=StoreConfig!C388,LEFT(StoreConfig!J388,FIND(\"|\",StoreConfig!J388)-1),\"\"),$Q$4:$R$20,2,FALSE),\"\")","v":""},{"$f":"IF($B$2=StoreConfig!C388,LEFT(StoreConfig!G388,FIND(\"#\",StoreConfig!G388)-1),\"\")","v":""},{"$f":"IF($B$2=StoreConfig!C388,RIGHT(StoreConfig!G388,LEN(StoreConfig!G388)-FIND(\"#\",StoreConfig!G388)),\"\")","v":""},{"$f":"IF($B$2=StoreConfig!C388,IF(StoreConfig!L388=0,\"不限购\",StoreConfig!L388&\"次\"),\"\")","v":""}]
[{"$nulls":3},{"$f":"IF($B$2=StoreConfig!C389,StoreConfig!O389,\"\")","v":""},{"$f":"IF($B$2=StoreConfig!C389,StoreConfig!E389,\"\")","v":""},{"$f":"IF($B$2=StoreConfig!C389,RIGHT(StoreConfig!J389,LEN(StoreConfig!J389)-FIND(\"|\",StoreConfig!J389)),\"\")","v":""},{"$f":"IFERROR(VLOOKUP(--IF($B$2=StoreConfig!C389,LEFT(StoreConfig!J389,FIND(\"|\",StoreConfig!J389)-1),\"\"),$Q$4:$R$20,2,FALSE),\"\")","v":""},{"$f":"IF($B$2=StoreConfig!C389,LEFT(StoreConfig!G389,FIND(\"#\",StoreConfig!G389)-1),\"\")","v":""},{"$f":"IF($B$2=StoreConfig!C389,RIGHT(StoreConfig!G389,LEN(StoreConfig!G389)-FIND(\"#\",StoreConfig!G389)),\"\")","v":""},{"$f":"IF($B$2=StoreConfig!C389,IF(StoreConfig!L389=0,\"不限购\",StoreConfig!L389&\"次\"),\"\")","v":""}]
[{"$nulls":3},{"$f":"IF($B$2=StoreConfig!C390,StoreConfig!O390,\"\")","v":""},{"$f":"IF($B$2=StoreConfig!C390,StoreConfig!E390,\"\")","v":""},{"$f":"IF($B$2=StoreConfig!C390,RIGHT(StoreConfig!J390,LEN(StoreConfig!J390)-FIND(\"|\",StoreConfig!J390)),\"\")","v":""},{"$f":"IFERROR(VLOOKUP(--IF($B$2=StoreConfig!C390,LEFT(StoreConfig!J390,FIND(\"|\",StoreConfig!J390)-1),\"\"),$Q$4:$R$20,2,FALSE),\"\")","v":""},{"$f":"IF($B$2=StoreConfig!C390,LEFT(StoreConfig!G390,FIND(\"#\",StoreConfig!G390)-1),\"\")","v":""},{"$f":"IF($B$2=StoreConfig!C390,RIGHT(StoreConfig!G390,LEN(StoreConfig!G390)-FIND(\"#\",StoreConfig!G390)),\"\")","v":""},{"$f":"IF($B$2=StoreConfig!C390,IF(StoreConfig!L390=0,\"不限购\",StoreConfig!L390&\"次\"),\"\")","v":""}]
[{"$nulls":3},{"$f":"IF($B$2=StoreConfig!C391,StoreConfig!O391,\"\")","v":""},{"$f":"IF($B$2=StoreConfig!C391,StoreConfig!E391,\"\")","v":""},{"$f":"IF($B$2=StoreConfig!C391,RIGHT(StoreConfig!J391,LEN(StoreConfig!J391)-FIND(\"|\",StoreConfig!J391)),\"\")","v":""},{"$f":"IFERROR(VLOOKUP(--IF($B$2=StoreConfig!C391,LEFT(StoreConfig!J391,FIND(\"|\",StoreConfig!J391)-1),\"\"),$Q$4:$R$20,2,FALSE),\"\")","v":""},{"$f":"IF($B$2=StoreConfig!C391,LEFT(StoreConfig!G391,FIND(\"#\",StoreConfig!G391)-1),\"\")","v":""},{"$f":"IF($B$2=StoreConfig!C391,RIGHT(StoreConfig!G391,LEN(StoreConfig!G391)-FIND(\"#\",StoreConfig!G391)),\"\")","v":""},{"$f":"IF($B$2=StoreConfig!C391,IF(StoreConfig!L391=0,\"不限购\",StoreConfig!L391&\"次\"),\"\")","v":""}]
[{"$nulls":3},{"$f":"IF($B$2=StoreConfig!C392,StoreConfig!O392,\"\")","v":""},{"$f":"IF($B$2=StoreConfig!C392,StoreConfig!E392,\"\")","v":""},{"$f":"IF($B$2=StoreConfig!C392,RIGHT(StoreConfig!J392,LEN(StoreConfig!J392)-FIND(\"|\",StoreConfig!J392)),\"\")","v":""},{"$f":"IFERROR(VLOOKUP(--IF($B$2=StoreConfig!C392,LEFT(StoreConfig!J392,FIND(\"|\",StoreConfig!J392)-1),\"\"),$Q$4:$R$20,2,FALSE),\"\")","v":""},{"$f":"IF($B$2=StoreConfig!C392,LEFT(StoreConfig!G392,FIND(\"#\",StoreConfig!G392)-1),\"\")","v":""},{"$f":"IF($B$2=StoreConfig!C392,RIGHT(StoreConfig!G392,LEN(StoreConfig!G392)-FIND(\"#\",StoreConfig!G392)),\"\")","v":""},{"$f":"IF($B$2=StoreConfig!C392,IF(StoreConfig!L392=0,\"不限购\",StoreConfig!L392&\"次\"),\"\")","v":""}]
[{"$nulls":3},{"$f":"IF($B$2=StoreConfig!C393,StoreConfig!O393,\"\")","v":""},{"$f":"IF($B$2=StoreConfig!C393,StoreConfig!E393,\"\")","v":""},{"$f":"IF($B$2=StoreConfig!C393,RIGHT(StoreConfig!J393,LEN(StoreConfig!J393)-FIND(\"|\",StoreConfig!J393)),\"\")","v":""},{"$f":"IFERROR(VLOOKUP(--IF($B$2=StoreConfig!C393,LEFT(StoreConfig!J393,FIND(\"|\",StoreConfig!J393)-1),\"\"),$Q$4:$R$20,2,FALSE),\"\")","v":""},{"$f":"IF($B$2=StoreConfig!C393,LEFT(StoreConfig!G393,FIND(\"#\",StoreConfig!G393)-1),\"\")","v":""},{"$f":"IF($B$2=StoreConfig!C393,RIGHT(StoreConfig!G393,LEN(StoreConfig!G393)-FIND(\"#\",StoreConfig!G393)),\"\")","v":""},{"$f":"IF($B$2=StoreConfig!C393,IF(StoreConfig!L393=0,\"不限购\",StoreConfig!L393&\"次\"),\"\")","v":""}]
[{"$nulls":3},{"$f":"IF($B$2=StoreConfig!C394,StoreConfig!O394,\"\")","v":""},{"$f":"IF($B$2=StoreConfig!C394,StoreConfig!E394,\"\")","v":""},{"$f":"IF($B$2=StoreConfig!C394,RIGHT(StoreConfig!J394,LEN(StoreConfig!J394)-FIND(\"|\",StoreConfig!J394)),\"\")","v":""},{"$f":"IFERROR(VLOOKUP(--IF($B$2=StoreConfig!C394,LEFT(StoreConfig!J394,FIND(\"|\",StoreConfig!J394)-1),\"\"),$Q$4:$R$20,2,FALSE),\"\")","v":""},{"$f":"IF($B$2=StoreConfig!C394,LEFT(StoreConfig!G394,FIND(\"#\",StoreConfig!G394)-1),\"\")","v":""},{"$f":"IF($B$2=StoreConfig!C394,RIGHT(StoreConfig!G394,LEN(StoreConfig!G394)-FIND(\"#\",StoreConfig!G394)),\"\")","v":""},{"$f":"IF($B$2=StoreConfig!C394,IF(StoreConfig!L394=0,\"不限购\",StoreConfig!L394&\"次\"),\"\")","v":""}]
[{"$nulls":3},{"$f":"IF($B$2=StoreConfig!C395,StoreConfig!O395,\"\")","v":""},{"$f":"IF($B$2=StoreConfig!C395,StoreConfig!E395,\"\")","v":""},{"$f":"IF($B$2=StoreConfig!C395,RIGHT(StoreConfig!J395,LEN(StoreConfig!J395)-FIND(\"|\",StoreConfig!J395)),\"\")","v":""},{"$f":"IFERROR(VLOOKUP(--IF($B$2=StoreConfig!C395,LEFT(StoreConfig!J395,FIND(\"|\",StoreConfig!J395)-1),\"\"),$Q$4:$R$20,2,FALSE),\"\")","v":""},{"$f":"IF($B$2=StoreConfig!C395,LEFT(StoreConfig!G395,FIND(\"#\",StoreConfig!G395)-1),\"\")","v":""},{"$f":"IF($B$2=StoreConfig!C395,RIGHT(StoreConfig!G395,LEN(StoreConfig!G395)-FIND(\"#\",StoreConfig!G395)),\"\")","v":""},{"$f":"IF($B$2=StoreConfig!C395,IF(StoreConfig!L395=0,\"不限购\",StoreConfig!L395&\"次\"),\"\")","v":""}]
[{"$nulls":3},{"$f":"IF($B$2=StoreConfig!C396,StoreConfig!O396,\"\")","v":""},{"$f":"IF($B$2=StoreConfig!C396,StoreConfig!E396,\"\")","v":""},{"$f":"IF($B$2=StoreConfig!C396,RIGHT(StoreConfig!J396,LEN(StoreConfig!J396)-FIND(\"|\",StoreConfig!J396)),\"\")","v":""},{"$f":"IFERROR(VLOOKUP(--IF($B$2=StoreConfig!C396,LEFT(StoreConfig!J396,FIND(\"|\",StoreConfig!J396)-1),\"\"),$Q$4:$R$20,2,FALSE),\"\")","v":""},{"$f":"IF($B$2=StoreConfig!C396,LEFT(StoreConfig!G396,FIND(\"#\",StoreConfig!G396)-1),\"\")","v":""},{"$f":"IF($B$2=StoreConfig!C396,RIGHT(StoreConfig!G396,LEN(StoreConfig!G396)-FIND(\"#\",StoreConfig!G396)),\"\")","v":""},{"$f":"IF($B$2=StoreConfig!C396,IF(StoreConfig!L396=0,\"不限购\",StoreConfig!L396&\"次\"),\"\")","v":""}]
[{"$nulls":3},{"$f":"IF($B$2=StoreConfig!C397,StoreConfig!O397,\"\")","v":""},{"$f":"IF($B$2=StoreConfig!C397,StoreConfig!E397,\"\")","v":""},{"$f":"IF($B$2=StoreConfig!C397,RIGHT(StoreConfig!J397,LEN(StoreConfig!J397)-FIND(\"|\",StoreConfig!J397)),\"\")","v":""},{"$f":"IFERROR(VLOOKUP(--IF($B$2=StoreConfig!C397,LEFT(StoreConfig!J397,FIND(\"|\",StoreConfig!J397)-1),\"\"),$Q$4:$R$20,2,FALSE),\"\")","v":""},{"$f":"IF($B$2=StoreConfig!C397,LEFT(StoreConfig!G397,FIND(\"#\",StoreConfig!G397)-1),\"\")","v":""},{"$f":"IF($B$2=StoreConfig!C397,RIGHT(StoreConfig!G397,LEN(StoreConfig!G397)-FIND(\"#\",StoreConfig!G397)),\"\")","v":""},{"$f":"IF($B$2=StoreConfig!C397,IF(StoreConfig!L397=0,\"不限购\",StoreConfig!L397&\"次\"),\"\")","v":""}]
[{"$nulls":3},{"$f":"IF($B$2=StoreConfig!C398,StoreConfig!O398,\"\")","v":""},{"$f":"IF($B$2=StoreConfig!C398,StoreConfig!E398,\"\")","v":""},{"$f":"IF($B$2=StoreConfig!C398,RIGHT(StoreConfig!J398,LEN(StoreConfig!J398)-FIND(\"|\",StoreConfig!J398)),\"\")","v":""},{"$f":"IFERROR(VLOOKUP(--IF($B$2=StoreConfig!C398,LEFT(StoreConfig!J398,FIND(\"|\",StoreConfig!J398)-1),\"\"),$Q$4:$R$20,2,FALSE),\"\")","v":""},{"$f":"IF($B$2=StoreConfig!C398,LEFT(StoreConfig!G398,FIND(\"#\",StoreConfig!G398)-1),\"\")","v":""},{"$f":"IF($B$2=StoreConfig!C398,RIGHT(StoreConfig!G398,LEN(StoreConfig!G398)-FIND(\"#\",StoreConfig!G398)),\"\")","v":""},{"$f":"IF($B$2=StoreConfig!C398,IF(StoreConfig!L398=0,\"不限购\",StoreConfig!L398&\"次\"),\"\")","v":""}]
[{"$nulls":3},{"$f":"IF($B$2=StoreConfig!C399,StoreConfig!O399,\"\")","v":""},{"$f":"IF($B$2=StoreConfig!C399,StoreConfig!E399,\"\")","v":""},{"$f":"IF($B$2=StoreConfig!C399,RIGHT(StoreConfig!J399,LEN(StoreConfig!J399)-FIND(\"|\",StoreConfig!J399)),\"\")","v":""},{"$f":"IFERROR(VLOOKUP(--IF($B$2=StoreConfig!C399,LEFT(StoreConfig!J399,FIND(\"|\",StoreConfig!J399)-1),\"\"),$Q$4:$R$20,2,FALSE),\"\")","v":""},{"$f":"IF($B$2=StoreConfig!C399,LEFT(StoreConfig!G399,FIND(\"#\",StoreConfig!G399)-1),\"\")","v":""},{"$f":"IF($B$2=StoreConfig!C399,RIGHT(StoreConfig!G399,LEN(StoreConfig!G399)-FIND(\"#\",StoreConfig!G399)),\"\")","v":""},{"$f":"IF($B$2=StoreConfig!C399,IF(StoreConfig!L399=0,\"不限购\",StoreConfig!L399&\"次\"),\"\")","v":""}]
[{"$nulls":3},{"$f":"IF($B$2=StoreConfig!C400,StoreConfig!O400,\"\")","v":""},{"$f":"IF($B$2=StoreConfig!C400,StoreConfig!E400,\"\")","v":""},{"$f":"IF($B$2=StoreConfig!C400,RIGHT(StoreConfig!J400,LEN(StoreConfig!J400)-FIND(\"|\",StoreConfig!J400)),\"\")","v":""},{"$f":"IFERROR(VLOOKUP(--IF($B$2=StoreConfig!C400,LEFT(StoreConfig!J400,FIND(\"|\",StoreConfig!J400)-1),\"\"),$Q$4:$R$20,2,FALSE),\"\")","v":""},{"$f":"IF($B$2=StoreConfig!C400,LEFT(StoreConfig!G400,FIND(\"#\",StoreConfig!G400)-1),\"\")","v":""},{"$f":"IF($B$2=StoreConfig!C400,RIGHT(StoreConfig!G400,LEN(StoreConfig!G400)-FIND(\"#\",StoreConfig!G400)),\"\")","v":""},{"$f":"IF($B$2=StoreConfig!C400,IF(StoreConfig!L400=0,\"不限购\",StoreConfig!L400&\"次\"),\"\")","v":""}]
[{"$nulls":3},{"$f":"IF($B$2=StoreConfig!C401,StoreConfig!O401,\"\")","v":""},{"$f":"IF($B$2=StoreConfig!C401,StoreConfig!E401,\"\")","v":""},{"$f":"IF($B$2=StoreConfig!C401,RIGHT(StoreConfig!J401,LEN(StoreConfig!J401)-FIND(\"|\",StoreConfig!J401)),\"\")","v":""},{"$f":"IFERROR(VLOOKUP(--IF($B$2=StoreConfig!C401,LEFT(StoreConfig!J401,FIND(\"|\",StoreConfig!J401)-1),\"\"),$Q$4:$R$20,2,FALSE),\"\")","v":""},{"$f":"IF($B$2=StoreConfig!C401,LEFT(StoreConfig!G401,FIND(\"#\",StoreConfig!G401)-1),\"\")","v":""},{"$f":"IF($B$2=StoreConfig!C401,RIGHT(StoreConfig!G401,LEN(StoreConfig!G401)-FIND(\"#\",StoreConfig!G401)),\"\")","v":""},{"$f":"IF($B$2=StoreConfig!C401,IF(StoreConfig!L401=0,\"不限购\",StoreConfig!L401&\"次\"),\"\")","v":""}]
[{"$nulls":3},{"$f":"IF($B$2=StoreConfig!C402,StoreConfig!O402,\"\")","v":""},{"$f":"IF($B$2=StoreConfig!C402,StoreConfig!E402,\"\")","v":""},{"$f":"IF($B$2=StoreConfig!C402,RIGHT(StoreConfig!J402,LEN(StoreConfig!J402)-FIND(\"|\",StoreConfig!J402)),\"\")","v":""},{"$f":"IFERROR(VLOOKUP(--IF($B$2=StoreConfig!C402,LEFT(StoreConfig!J402,FIND(\"|\",StoreConfig!J402)-1),\"\"),$Q$4:$R$20,2,FALSE),\"\")","v":""},{"$f":"IF($B$2=StoreConfig!C402,LEFT(StoreConfig!G402,FIND(\"#\",StoreConfig!G402)-1),\"\")","v":""},{"$f":"IF($B$2=StoreConfig!C402,RIGHT(StoreConfig!G402,LEN(StoreConfig!G402)-FIND(\"#\",StoreConfig!G402)),\"\")","v":""},{"$f":"IF($B$2=StoreConfig!C402,IF(StoreConfig!L402=0,\"不限购\",StoreConfig!L402&\"次\"),\"\")","v":""}]
[{"$nulls":3},{"$f":"IF($B$2=StoreConfig!C403,StoreConfig!O403,\"\")","v":""},{"$f":"IF($B$2=StoreConfig!C403,StoreConfig!E403,\"\")","v":""},{"$f":"IF($B$2=StoreConfig!C403,RIGHT(StoreConfig!J403,LEN(StoreConfig!J403)-FIND(\"|\",StoreConfig!J403)),\"\")","v":""},{"$f":"IFERROR(VLOOKUP(--IF($B$2=StoreConfig!C403,LEFT(StoreConfig!J403,FIND(\"|\",StoreConfig!J403)-1),\"\"),$Q$4:$R$20,2,FALSE),\"\")","v":""},{"$f":"IF($B$2=StoreConfig!C403,LEFT(StoreConfig!G403,FIND(\"#\",StoreConfig!G403)-1),\"\")","v":""},{"$f":"IF($B$2=StoreConfig!C403,RIGHT(StoreConfig!G403,LEN(StoreConfig!G403)-FIND(\"#\",StoreConfig!G403)),\"\")","v":""},{"$f":"IF($B$2=StoreConfig!C403,IF(StoreConfig!L403=0,\"不限购\",StoreConfig!L403&\"次\"),\"\")","v":""}]
[{"$nulls":3},{"$f":"IF($B$2=StoreConfig!C404,StoreConfig!O404,\"\")","v":""},{"$f":"IF($B$2=StoreConfig!C404,StoreConfig!E404,\"\")","v":""},{"$f":"IF($B$2=StoreConfig!C404,RIGHT(StoreConfig!J404,LEN(StoreConfig!J404)-FIND(\"|\",StoreConfig!J404)),\"\")","v":""},{"$f":"IFERROR(VLOOKUP(--IF($B$2=StoreConfig!C404,LEFT(StoreConfig!J404,FIND(\"|\",StoreConfig!J404)-1),\"\"),$Q$4:$R$20,2,FALSE),\"\")","v":""},{"$f":"IF($B$2=StoreConfig!C404,LEFT(StoreConfig!G404,FIND(\"#\",StoreConfig!G404)-1),\"\")","v":""},{"$f":"IF($B$2=StoreConfig!C404,RIGHT(StoreConfig!G404,LEN(StoreConfig!G404)-FIND(\"#\",StoreConfig!G404)),\"\")","v":""},{"$f":"IF($B$2=StoreConfig!C404,IF(StoreConfig!L404=0,\"不限购\",StoreConfig!L404&\"次\"),\"\")","v":""}]
[{"$nulls":3},{"$f":"IF($B$2=StoreConfig!C405,StoreConfig!O405,\"\")","v":""},{"$f":"IF($B$2=StoreConfig!C405,StoreConfig!E405,\"\")","v":""},{"$f":"IF($B$2=StoreConfig!C405,RIGHT(StoreConfig!J405,LEN(StoreConfig!J405)-FIND(\"|\",StoreConfig!J405)),\"\")","v":""},{"$f":"IFERROR(VLOOKUP(--IF($B$2=StoreConfig!C405,LEFT(StoreConfig!J405,FIND(\"|\",StoreConfig!J405)-1),\"\"),$Q$4:$R$20,2,FALSE),\"\")","v":""},{"$f":"IF($B$2=StoreConfig!C405,LEFT(StoreConfig!G405,FIND(\"#\",StoreConfig!G405)-1),\"\")","v":""},{"$f":"IF($B$2=StoreConfig!C405,RIGHT(StoreConfig!G405,LEN(StoreConfig!G405)-FIND(\"#\",StoreConfig!G405)),\"\")","v":""},{"$f":"IF($B$2=StoreConfig!C405,IF(StoreConfig!L405=0,\"不限购\",StoreConfig!L405&\"次\"),\"\")","v":""}]
[{"$nulls":3},{"$f":"IF($B$2=StoreConfig!C406,StoreConfig!O406,\"\")","v":""},{"$f":"IF($B$2=StoreConfig!C406,StoreConfig!E406,\"\")","v":""},{"$f":"IF($B$2=StoreConfig!C406,RIGHT(StoreConfig!J406,LEN(StoreConfig!J406)-FIND(\"|\",StoreConfig!J406)),\"\")","v":""},{"$f":"IFERROR(VLOOKUP(--IF($B$2=StoreConfig!C406,LEFT(StoreConfig!J406,FIND(\"|\",StoreConfig!J406)-1),\"\"),$Q$4:$R$20,2,FALSE),\"\")","v":""},{"$f":"IF($B$2=StoreConfig!C406,LEFT(StoreConfig!G406,FIND(\"#\",StoreConfig!G406)-1),\"\")","v":""},{"$f":"IF($B$2=StoreConfig!C406,RIGHT(StoreConfig!G406,LEN(StoreConfig!G406)-FIND(\"#\",StoreConfig!G406)),\"\")","v":""},{"$f":"IF($B$2=StoreConfig!C406,IF(StoreConfig!L406=0,\"不限购\",StoreConfig!L406&\"次\"),\"\")","v":""}]
[{"$nulls":3},{"$f":"IF($B$2=StoreConfig!C407,StoreConfig!O407,\"\")","v":""},{"$f":"IF($B$2=StoreConfig!C407,StoreConfig!E407,\"\")","v":""},{"$f":"IF($B$2=StoreConfig!C407,RIGHT(StoreConfig!J407,LEN(StoreConfig!J407)-FIND(\"|\",StoreConfig!J407)),\"\")","v":""},{"$f":"IFERROR(VLOOKUP(--IF($B$2=StoreConfig!C407,LEFT(StoreConfig!J407,FIND(\"|\",StoreConfig!J407)-1),\"\"),$Q$4:$R$20,2,FALSE),\"\")","v":""},{"$f":"IF($B$2=StoreConfig!C407,LEFT(StoreConfig!G407,FIND(\"#\",StoreConfig!G407)-1),\"\")","v":""},{"$f":"IF($B$2=StoreConfig!C407,RIGHT(StoreConfig!G407,LEN(StoreConfig!G407)-FIND(\"#\",StoreConfig!G407)),\"\")","v":""},{"$f":"IF($B$2=StoreConfig!C407,IF(StoreConfig!L407=0,\"不限购\",StoreConfig!L407&\"次\"),\"\")","v":""}]
[{"$nulls":3},{"$f":"IF($B$2=StoreConfig!C408,StoreConfig!O408,\"\")","v":""},{"$f":"IF($B$2=StoreConfig!C408,StoreConfig!E408,\"\")","v":""},{"$f":"IF($B$2=StoreConfig!C408,RIGHT(StoreConfig!J408,LEN(StoreConfig!J408)-FIND(\"|\",StoreConfig!J408)),\"\")","v":""},{"$f":"IFERROR(VLOOKUP(--IF($B$2=StoreConfig!C408,LEFT(StoreConfig!J408,FIND(\"|\",StoreConfig!J408)-1),\"\"),$Q$4:$R$20,2,FALSE),\"\")","v":""},{"$f":"IF($B$2=StoreConfig!C408,LEFT(StoreConfig!G408,FIND(\"#\",StoreConfig!G408)-1),\"\")","v":""},{"$f":"IF($B$2=StoreConfig!C408,RIGHT(StoreConfig!G408,LEN(StoreConfig!G408)-FIND(\"#\",StoreConfig!G408)),\"\")","v":""},{"$f":"IF($B$2=StoreConfig!C408,IF(StoreConfig!L408=0,\"不限购\",StoreConfig!L408&\"次\"),\"\")","v":""}]
[{"$nulls":3},{"$f":"IF($B$2=StoreConfig!C409,StoreConfig!O409,\"\")","v":""},{"$f":"IF($B$2=StoreConfig!C409,StoreConfig!E409,\"\")","v":""},{"$f":"IF($B$2=StoreConfig!C409,RIGHT(StoreConfig!J409,LEN(StoreConfig!J409)-FIND(\"|\",StoreConfig!J409)),\"\")","v":""},{"$f":"IFERROR(VLOOKUP(--IF($B$2=StoreConfig!C409,LEFT(StoreConfig!J409,FIND(\"|\",StoreConfig!J409)-1),\"\"),$Q$4:$R$20,2,FALSE),\"\")","v":""},{"$f":"IF($B$2=StoreConfig!C409,LEFT(StoreConfig!G409,FIND(\"#\",StoreConfig!G409)-1),\"\")","v":""},{"$f":"IF($B$2=StoreConfig!C409,RIGHT(StoreConfig!G409,LEN(StoreConfig!G409)-FIND(\"#\",StoreConfig!G409)),\"\")","v":""},{"$f":"IF($B$2=StoreConfig!C409,IF(StoreConfig!L409=0,\"不限购\",StoreConfig!L409&\"次\"),\"\")","v":""}]
[{"$nulls":3},{"$f":"IF($B$2=StoreConfig!C410,StoreConfig!O410,\"\")","v":""},{"$f":"IF($B$2=StoreConfig!C410,StoreConfig!E410,\"\")","v":""},{"$f":"IF($B$2=StoreConfig!C410,RIGHT(StoreConfig!J410,LEN(StoreConfig!J410)-FIND(\"|\",StoreConfig!J410)),\"\")","v":""},{"$f":"IFERROR(VLOOKUP(--IF($B$2=StoreConfig!C410,LEFT(StoreConfig!J410,FIND(\"|\",StoreConfig!J410)-1),\"\"),$Q$4:$R$20,2,FALSE),\"\")","v":""},{"$f":"IF($B$2=StoreConfig!C410,LEFT(StoreConfig!G410,FIND(\"#\",StoreConfig!G410)-1),\"\")","v":""},{"$f":"IF($B$2=StoreConfig!C410,RIGHT(StoreConfig!G410,LEN(StoreConfig!G410)-FIND(\"#\",StoreConfig!G410)),\"\")","v":""},{"$f":"IF($B$2=StoreConfig!C410,IF(StoreConfig!L410=0,\"不限购\",StoreConfig!L410&\"次\"),\"\")","v":""}]
[{"$nulls":3},{"$f":"IF($B$2=StoreConfig!C411,StoreConfig!O411,\"\")","v":""},{"$f":"IF($B$2=StoreConfig!C411,StoreConfig!E411,\"\")","v":""},{"$f":"IF($B$2=StoreConfig!C411,RIGHT(StoreConfig!J411,LEN(StoreConfig!J411)-FIND(\"|\",StoreConfig!J411)),\"\")","v":""},{"$f":"IFERROR(VLOOKUP(--IF($B$2=StoreConfig!C411,LEFT(StoreConfig!J411,FIND(\"|\",StoreConfig!J411)-1),\"\"),$Q$4:$R$20,2,FALSE),\"\")","v":""},{"$f":"IF($B$2=StoreConfig!C411,LEFT(StoreConfig!G411,FIND(\"#\",StoreConfig!G411)-1),\"\")","v":""},{"$f":"IF($B$2=StoreConfig!C411,RIGHT(StoreConfig!G411,LEN(StoreConfig!G411)-FIND(\"#\",StoreConfig!G411)),\"\")","v":""},{"$f":"IF($B$2=StoreConfig!C411,IF(StoreConfig!L411=0,\"不限购\",StoreConfig!L411&\"次\"),\"\")","v":""}]
[{"$nulls":3},{"$f":"IF($B$2=StoreConfig!C412,StoreConfig!O412,\"\")","v":""},{"$f":"IF($B$2=StoreConfig!C412,StoreConfig!E412,\"\")","v":""},{"$f":"IF($B$2=StoreConfig!C412,RIGHT(StoreConfig!J412,LEN(StoreConfig!J412)-FIND(\"|\",StoreConfig!J412)),\"\")","v":""},{"$f":"IFERROR(VLOOKUP(--IF($B$2=StoreConfig!C412,LEFT(StoreConfig!J412,FIND(\"|\",StoreConfig!J412)-1),\"\"),$Q$4:$R$20,2,FALSE),\"\")","v":""},{"$f":"IF($B$2=StoreConfig!C412,LEFT(StoreConfig!G412,FIND(\"#\",StoreConfig!G412)-1),\"\")","v":""},{"$f":"IF($B$2=StoreConfig!C412,RIGHT(StoreConfig!G412,LEN(StoreConfig!G412)-FIND(\"#\",StoreConfig!G412)),\"\")","v":""},{"$f":"IF($B$2=StoreConfig!C412,IF(StoreConfig!L412=0,\"不限购\",StoreConfig!L412&\"次\"),\"\")","v":""}]
[{"$nulls":3},{"$f":"IF($B$2=StoreConfig!C413,StoreConfig!O413,\"\")","v":""},{"$f":"IF($B$2=StoreConfig!C413,StoreConfig!E413,\"\")","v":""},{"$f":"IF($B$2=StoreConfig!C413,RIGHT(StoreConfig!J413,LEN(StoreConfig!J413)-FIND(\"|\",StoreConfig!J413)),\"\")","v":""},{"$f":"IFERROR(VLOOKUP(--IF($B$2=StoreConfig!C413,LEFT(StoreConfig!J413,FIND(\"|\",StoreConfig!J413)-1),\"\"),$Q$4:$R$20,2,FALSE),\"\")","v":""},{"$f":"IF($B$2=StoreConfig!C413,LEFT(StoreConfig!G413,FIND(\"#\",StoreConfig!G413)-1),\"\")","v":""},{"$f":"IF($B$2=StoreConfig!C413,RIGHT(StoreConfig!G413,LEN(StoreConfig!G413)-FIND(\"#\",StoreConfig!G413)),\"\")","v":""},{"$f":"IF($B$2=StoreConfig!C413,IF(StoreConfig!L413=0,\"不限购\",StoreConfig!L413&\"次\"),\"\")","v":""}]
[{"$nulls":3},{"$f":"IF($B$2=StoreConfig!C414,StoreConfig!O414,\"\")","v":""},{"$f":"IF($B$2=StoreConfig!C414,StoreConfig!E414,\"\")","v":""},{"$f":"IF($B$2=StoreConfig!C414,RIGHT(StoreConfig!J414,LEN(StoreConfig!J414)-FIND(\"|\",StoreConfig!J414)),\"\")","v":""},{"$f":"IFERROR(VLOOKUP(--IF($B$2=StoreConfig!C414,LEFT(StoreConfig!J414,FIND(\"|\",StoreConfig!J414)-1),\"\"),$Q$4:$R$20,2,FALSE),\"\")","v":""},{"$f":"IF($B$2=StoreConfig!C414,LEFT(StoreConfig!G414,FIND(\"#\",StoreConfig!G414)-1),\"\")","v":""},{"$f":"IF($B$2=StoreConfig!C414,RIGHT(StoreConfig!G414,LEN(StoreConfig!G414)-FIND(\"#\",StoreConfig!G414)),\"\")","v":""},{"$f":"IF($B$2=StoreConfig!C414,IF(StoreConfig!L414=0,\"不限购\",StoreConfig!L414&\"次\"),\"\")","v":""}]
[{"$nulls":3},{"$f":"IF($B$2=StoreConfig!C415,StoreConfig!O415,\"\")","v":""},{"$f":"IF($B$2=StoreConfig!C415,StoreConfig!E415,\"\")","v":""},{"$f":"IF($B$2=StoreConfig!C415,RIGHT(StoreConfig!J415,LEN(StoreConfig!J415)-FIND(\"|\",StoreConfig!J415)),\"\")","v":""},{"$f":"IFERROR(VLOOKUP(--IF($B$2=StoreConfig!C415,LEFT(StoreConfig!J415,FIND(\"|\",StoreConfig!J415)-1),\"\"),$Q$4:$R$20,2,FALSE),\"\")","v":""},{"$f":"IF($B$2=StoreConfig!C415,LEFT(StoreConfig!G415,FIND(\"#\",StoreConfig!G415)-1),\"\")","v":""},{"$f":"IF($B$2=StoreConfig!C415,RIGHT(StoreConfig!G415,LEN(StoreConfig!G415)-FIND(\"#\",StoreConfig!G415)),\"\")","v":""},{"$f":"IF($B$2=StoreConfig!C415,IF(StoreConfig!L415=0,\"不限购\",StoreConfig!L415&\"次\"),\"\")","v":""}]
[{"$nulls":3},{"$f":"IF($B$2=StoreConfig!C416,StoreConfig!O416,\"\")","v":""},{"$f":"IF($B$2=StoreConfig!C416,StoreConfig!E416,\"\")","v":""},{"$f":"IF($B$2=StoreConfig!C416,RIGHT(StoreConfig!J416,LEN(StoreConfig!J416)-FIND(\"|\",StoreConfig!J416)),\"\")","v":""},{"$f":"IFERROR(VLOOKUP(--IF($B$2=StoreConfig!C416,LEFT(StoreConfig!J416,FIND(\"|\",StoreConfig!J416)-1),\"\"),$Q$4:$R$20,2,FALSE),\"\")","v":""},{"$f":"IF($B$2=StoreConfig!C416,LEFT(StoreConfig!G416,FIND(\"#\",StoreConfig!G416)-1),\"\")","v":""},{"$f":"IF($B$2=StoreConfig!C416,RIGHT(StoreConfig!G416,LEN(StoreConfig!G416)-FIND(\"#\",StoreConfig!G416)),\"\")","v":""},{"$f":"IF($B$2=StoreConfig!C416,IF(StoreConfig!L416=0,\"不限购\",StoreConfig!L416&\"次\"),\"\")","v":""}]
[{"$nulls":3},{"$f":"IF($B$2=StoreConfig!C417,StoreConfig!O417,\"\")","v":""},{"$f":"IF($B$2=StoreConfig!C417,StoreConfig!E417,\"\")","v":""},{"$f":"IF($B$2=StoreConfig!C417,RIGHT(StoreConfig!J417,LEN(StoreConfig!J417)-FIND(\"|\",StoreConfig!J417)),\"\")","v":""},{"$f":"IFERROR(VLOOKUP(--IF($B$2=StoreConfig!C417,LEFT(StoreConfig!J417,FIND(\"|\",StoreConfig!J417)-1),\"\"),$Q$4:$R$20,2,FALSE),\"\")","v":""},{"$f":"IF($B$2=StoreConfig!C417,LEFT(StoreConfig!G417,FIND(\"#\",StoreConfig!G417)-1),\"\")","v":""},{"$f":"IF($B$2=StoreConfig!C417,RIGHT(StoreConfig!G417,LEN(StoreConfig!G417)-FIND(\"#\",StoreConfig!G417)),\"\")","v":""},{"$f":"IF($B$2=StoreConfig!C417,IF(StoreConfig!L417=0,\"不限购\",StoreConfig!L417&\"次\"),\"\")","v":""}]
[{"$nulls":3},{"$f":"IF($B$2=StoreConfig!C418,StoreConfig!O418,\"\")","v":""},{"$f":"IF($B$2=StoreConfig!C418,StoreConfig!E418,\"\")","v":""},{"$f":"IF($B$2=StoreConfig!C418,RIGHT(StoreConfig!J418,LEN(StoreConfig!J418)-FIND(\"|\",StoreConfig!J418)),\"\")","v":""},{"$f":"IFERROR(VLOOKUP(--IF($B$2=StoreConfig!C418,LEFT(StoreConfig!J418,FIND(\"|\",StoreConfig!J418)-1),\"\"),$Q$4:$R$20,2,FALSE),\"\")","v":""},{"$f":"IF($B$2=StoreConfig!C418,LEFT(StoreConfig!G418,FIND(\"#\",StoreConfig!G418)-1),\"\")","v":""},{"$f":"IF($B$2=StoreConfig!C418,RIGHT(StoreConfig!G418,LEN(StoreConfig!G418)-FIND(\"#\",StoreConfig!G418)),\"\")","v":""},{"$f":"IF($B$2=StoreConfig!C418,IF(StoreConfig!L418=0,\"不限购\",StoreConfig!L418&\"次\"),\"\")","v":""}]
[{"$nulls":3},{"$f":"IF($B$2=StoreConfig!C419,StoreConfig!O419,\"\")","v":""},{"$f":"IF($B$2=StoreConfig!C419,StoreConfig!E419,\"\")","v":""},{"$f":"IF($B$2=StoreConfig!C419,RIGHT(StoreConfig!J419,LEN(StoreConfig!J419)-FIND(\"|\",StoreConfig!J419)),\"\")","v":""},{"$f":"IFERROR(VLOOKUP(--IF($B$2=StoreConfig!C419,LEFT(StoreConfig!J419,FIND(\"|\",StoreConfig!J419)-1),\"\"),$Q$4:$R$20,2,FALSE),\"\")","v":""},{"$f":"IF($B$2=StoreConfig!C419,LEFT(StoreConfig!G419,FIND(\"#\",StoreConfig!G419)-1),\"\")","v":""},{"$f":"IF($B$2=StoreConfig!C419,RIGHT(StoreConfig!G419,LEN(StoreConfig!G419)-FIND(\"#\",StoreConfig!G419)),\"\")","v":""},{"$f":"IF($B$2=StoreConfig!C419,IF(StoreConfig!L419=0,\"不限购\",StoreConfig!L419&\"次\"),\"\")","v":""}]
[{"$nulls":3},{"$f":"IF($B$2=StoreConfig!C420,StoreConfig!O420,\"\")","v":""},{"$f":"IF($B$2=StoreConfig!C420,StoreConfig!E420,\"\")","v":""},{"$f":"IF($B$2=StoreConfig!C420,RIGHT(StoreConfig!#REF!,LEN(StoreConfig!#REF!)-FIND(\"|\",StoreConfig!#REF!)),\"\")","v":""},{"$f":"IFERROR(VLOOKUP(--IF($B$2=StoreConfig!C420,LEFT(StoreConfig!#REF!,FIND(\"|\",StoreConfig!#REF!)-1),\"\"),$Q$4:$R$20,2,FALSE),\"\")","v":""},{"$f":"IF($B$2=StoreConfig!C420,LEFT(StoreConfig!G420,FIND(\"#\",StoreConfig!G420)-1),\"\")","v":""},{"$f":"IF($B$2=StoreConfig!C420,RIGHT(StoreConfig!G420,LEN(StoreConfig!G420)-FIND(\"#\",StoreConfig!G420)),\"\")","v":""},{"$f":"IF($B$2=StoreConfig!C420,IF(StoreConfig!L420=0,\"不限购\",StoreConfig!L420&\"次\"),\"\")","v":""}]
[{"$nulls":3},{"$f":"IF($B$2=StoreConfig!C421,StoreConfig!O421,\"\")","v":""},{"$f":"IF($B$2=StoreConfig!C421,StoreConfig!E421,\"\")","v":""},{"$f":"IF($B$2=StoreConfig!C421,RIGHT(StoreConfig!#REF!,LEN(StoreConfig!#REF!)-FIND(\"|\",StoreConfig!#REF!)),\"\")","v":""},{"$f":"IFERROR(VLOOKUP(--IF($B$2=StoreConfig!C421,LEFT(StoreConfig!#REF!,FIND(\"|\",StoreConfig!#REF!)-1),\"\"),$Q$4:$R$20,2,FALSE),\"\")","v":""},{"$f":"IF($B$2=StoreConfig!C421,LEFT(StoreConfig!G421,FIND(\"#\",StoreConfig!G421)-1),\"\")","v":""},{"$f":"IF($B$2=StoreConfig!C421,RIGHT(StoreConfig!G421,LEN(StoreConfig!G421)-FIND(\"#\",StoreConfig!G421)),\"\")","v":""},{"$f":"IF($B$2=StoreConfig!C421,IF(StoreConfig!L421=0,\"不限购\",StoreConfig!L421&\"次\"),\"\")","v":""}]
[{"$nulls":3},{"$f":"IF($B$2=StoreConfig!C422,StoreConfig!O422,\"\")","v":""},{"$f":"IF($B$2=StoreConfig!C422,StoreConfig!E422,\"\")","v":""},{"$f":"IF($B$2=StoreConfig!C422,RIGHT(StoreConfig!#REF!,LEN(StoreConfig!#REF!)-FIND(\"|\",StoreConfig!#REF!)),\"\")","v":""},{"$f":"IFERROR(VLOOKUP(--IF($B$2=StoreConfig!C422,LEFT(StoreConfig!#REF!,FIND(\"|\",StoreConfig!#REF!)-1),\"\"),$Q$4:$R$20,2,FALSE),\"\")","v":""},{"$f":"IF($B$2=StoreConfig!C422,LEFT(StoreConfig!G422,FIND(\"#\",StoreConfig!G422)-1),\"\")","v":""},{"$f":"IF($B$2=StoreConfig!C422,RIGHT(StoreConfig!G422,LEN(StoreConfig!G422)-FIND(\"#\",StoreConfig!G422)),\"\")","v":""},{"$f":"IF($B$2=StoreConfig!C422,IF(StoreConfig!L422=0,\"不限购\",StoreConfig!L422&\"次\"),\"\")","v":""}]
[{"$nulls":3},{"$f":"IF($B$2=StoreConfig!C423,StoreConfig!O423,\"\")","v":""},{"$f":"IF($B$2=StoreConfig!C423,StoreConfig!E423,\"\")","v":""},{"$f":"IF($B$2=StoreConfig!C423,RIGHT(StoreConfig!#REF!,LEN(StoreConfig!#REF!)-FIND(\"|\",StoreConfig!#REF!)),\"\")","v":""},{"$f":"IFERROR(VLOOKUP(--IF($B$2=StoreConfig!C423,LEFT(StoreConfig!#REF!,FIND(\"|\",StoreConfig!#REF!)-1),\"\"),$Q$4:$R$20,2,FALSE),\"\")","v":""},{"$f":"IF($B$2=StoreConfig!C423,LEFT(StoreConfig!G423,FIND(\"#\",StoreConfig!G423)-1),\"\")","v":""},{"$f":"IF($B$2=StoreConfig!C423,RIGHT(StoreConfig!G423,LEN(StoreConfig!G423)-FIND(\"#\",StoreConfig!G423)),\"\")","v":""},{"$f":"IF($B$2=StoreConfig!C423,IF(StoreConfig!L423=0,\"不限购\",StoreConfig!L423&\"次\"),\"\")","v":""}]
[{"$nulls":3},{"$f":"IF($B$2=StoreConfig!C424,StoreConfig!O424,\"\")","v":""},{"$f":"IF($B$2=StoreConfig!C424,StoreConfig!E424,\"\")","v":""},{"$f":"IF($B$2=StoreConfig!C424,RIGHT(StoreConfig!J424,LEN(StoreConfig!J424)-FIND(\"|\",StoreConfig!J424)),\"\")","v":""},{"$f":"IFERROR(VLOOKUP(--IF($B$2=StoreConfig!C424,LEFT(StoreConfig!J424,FIND(\"|\",StoreConfig!J424)-1),\"\"),$Q$4:$R$20,2,FALSE),\"\")","v":""},{"$f":"IF($B$2=StoreConfig!C424,LEFT(StoreConfig!G424,FIND(\"#\",StoreConfig!G424)-1),\"\")","v":""},{"$f":"IF($B$2=StoreConfig!C424,RIGHT(StoreConfig!G424,LEN(StoreConfig!G424)-FIND(\"#\",StoreConfig!G424)),\"\")","v":""},{"$f":"IF($B$2=StoreConfig!C424,IF(StoreConfig!L424=0,\"不限购\",StoreConfig!L424&\"次\"),\"\")","v":""}]
[{"$nulls":3},{"$f":"IF($B$2=StoreConfig!C425,StoreConfig!O425,\"\")","v":""},{"$f":"IF($B$2=StoreConfig!C425,StoreConfig!E425,\"\")","v":""},{"$f":"IF($B$2=StoreConfig!C425,RIGHT(StoreConfig!J425,LEN(StoreConfig!J425)-FIND(\"|\",StoreConfig!J425)),\"\")","v":""},{"$f":"IFERROR(VLOOKUP(--IF($B$2=StoreConfig!C425,LEFT(StoreConfig!J425,FIND(\"|\",StoreConfig!J425)-1),\"\"),$Q$4:$R$20,2,FALSE),\"\")","v":""},{"$f":"IF($B$2=StoreConfig!C425,LEFT(StoreConfig!G425,FIND(\"#\",StoreConfig!G425)-1),\"\")","v":""},{"$f":"IF($B$2=StoreConfig!C425,RIGHT(StoreConfig!G425,LEN(StoreConfig!G425)-FIND(\"#\",StoreConfig!G425)),\"\")","v":""},{"$f":"IF($B$2=StoreConfig!C425,IF(StoreConfig!L425=0,\"不限购\",StoreConfig!L425&\"次\"),\"\")","v":""}]
[{"$nulls":3},{"$f":"IF($B$2=StoreConfig!C426,StoreConfig!O426,\"\")","v":""},{"$f":"IF($B$2=StoreConfig!C426,StoreConfig!E426,\"\")","v":""},{"$f":"IF($B$2=StoreConfig!C426,RIGHT(StoreConfig!J426,LEN(StoreConfig!J426)-FIND(\"|\",StoreConfig!J426)),\"\")","v":""},{"$f":"IFERROR(VLOOKUP(--IF($B$2=StoreConfig!C426,LEFT(StoreConfig!J426,FIND(\"|\",StoreConfig!J426)-1),\"\"),$Q$4:$R$20,2,FALSE),\"\")","v":""},{"$f":"IF($B$2=StoreConfig!C426,LEFT(StoreConfig!G426,FIND(\"#\",StoreConfig!G426)-1),\"\")","v":""},{"$f":"IF($B$2=StoreConfig!C426,RIGHT(StoreConfig!G426,LEN(StoreConfig!G426)-FIND(\"#\",StoreConfig!G426)),\"\")","v":""},{"$f":"IF($B$2=StoreConfig!C426,IF(StoreConfig!L426=0,\"不限购\",StoreConfig!L426&\"次\"),\"\")","v":""}]
[{"$nulls":3},{"$f":"IF($B$2=StoreConfig!C427,StoreConfig!O427,\"\")","v":""},{"$f":"IF($B$2=StoreConfig!C427,StoreConfig!E427,\"\")","v":""},{"$f":"IF($B$2=StoreConfig!C427,RIGHT(StoreConfig!J427,LEN(StoreConfig!J427)-FIND(\"|\",StoreConfig!J427)),\"\")","v":""},{"$f":"IFERROR(VLOOKUP(--IF($B$2=StoreConfig!C427,LEFT(StoreConfig!J427,FIND(\"|\",StoreConfig!J427)-1),\"\"),$Q$4:$R$20,2,FALSE),\"\")","v":""},{"$f":"IF($B$2=StoreConfig!C427,LEFT(StoreConfig!G427,FIND(\"#\",StoreConfig!G427)-1),\"\")","v":""},{"$f":"IF($B$2=StoreConfig!C427,RIGHT(StoreConfig!G427,LEN(StoreConfig!G427)-FIND(\"#\",StoreConfig!G427)),\"\")","v":""},{"$f":"IF($B$2=StoreConfig!C427,IF(StoreConfig!L427=0,\"不限购\",StoreConfig!L427&\"次\"),\"\")","v":""}]
[{"$nulls":3},{"$f":"IF($B$2=StoreConfig!C428,StoreConfig!O428,\"\")","v":""},{"$f":"IF($B$2=StoreConfig!C428,StoreConfig!E428,\"\")","v":""},{"$f":"IF($B$2=StoreConfig!C428,RIGHT(StoreConfig!J428,LEN(StoreConfig!J428)-FIND(\"|\",StoreConfig!J428)),\"\")","v":""},{"$f":"IFERROR(VLOOKUP(--IF($B$2=StoreConfig!C428,LEFT(StoreConfig!J428,FIND(\"|\",StoreConfig!J428)-1),\"\"),$Q$4:$R$20,2,FALSE),\"\")","v":""},{"$f":"IF($B$2=StoreConfig!C428,LEFT(StoreConfig!G428,FIND(\"#\",StoreConfig!G428)-1),\"\")","v":""},{"$f":"IF($B$2=StoreConfig!C428,RIGHT(StoreConfig!G428,LEN(StoreConfig!G428)-FIND(\"#\",StoreConfig!G428)),\"\")","v":""},{"$f":"IF($B$2=StoreConfig!C428,IF(StoreConfig!L428=0,\"不限购\",StoreConfig!L428&\"次\"),\"\")","v":""}]
[{"$nulls":3},{"$f":"IF($B$2=StoreConfig!C429,StoreConfig!O429,\"\")","v":""},{"$f":"IF($B$2=StoreConfig!C429,StoreConfig!E429,\"\")","v":""},{"$f":"IF($B$2=StoreConfig!C429,RIGHT(StoreConfig!J429,LEN(StoreConfig!J429)-FIND(\"|\",StoreConfig!J429)),\"\")","v":""},{"$f":"IFERROR(VLOOKUP(--IF($B$2=StoreConfig!C429,LEFT(StoreConfig!J429,FIND(\"|\",StoreConfig!J429)-1),\"\"),$Q$4:$R$20,2,FALSE),\"\")","v":""},{"$f":"IF($B$2=StoreConfig!C429,LEFT(StoreConfig!G429,FIND(\"#\",StoreConfig!G429)-1),\"\")","v":""},{"$f":"IF($B$2=StoreConfig!C429,RIGHT(StoreConfig!G429,LEN(StoreConfig!G429)-FIND(\"#\",StoreConfig!G429)),\"\")","v":""},{"$f":"IF($B$2=StoreConfig!C429,IF(StoreConfig!L429=0,\"不限购\",StoreConfig!L429&\"次\"),\"\")","v":""}]
[{"$nulls":3},{"$f":"IF($B$2=StoreConfig!C430,StoreConfig!O430,\"\")","v":""},{"$f":"IF($B$2=StoreConfig!C430,StoreConfig!E430,\"\")","v":""},{"$f":"IF($B$2=StoreConfig!C430,RIGHT(StoreConfig!#REF!,LEN(StoreConfig!#REF!)-FIND(\"|\",StoreConfig!#REF!)),\"\")","v":""},{"$f":"IFERROR(VLOOKUP(--IF($B$2=StoreConfig!C430,LEFT(StoreConfig!#REF!,FIND(\"|\",StoreConfig!#REF!)-1),\"\"),$Q$4:$R$20,2,FALSE),\"\")","v":""},{"$f":"IF($B$2=StoreConfig!C430,LEFT(StoreConfig!G430,FIND(\"#\",StoreConfig!G430)-1),\"\")","v":""},{"$f":"IF($B$2=StoreConfig!C430,RIGHT(StoreConfig!G430,LEN(StoreConfig!G430)-FIND(\"#\",StoreConfig!G430)),\"\")","v":""},{"$f":"IF($B$2=StoreConfig!C430,IF(StoreConfig!L430=0,\"不限购\",StoreConfig!L430&\"次\"),\"\")","v":""}]
[{"$nulls":3},{"$f":"IF($B$2=StoreConfig!C431,StoreConfig!O431,\"\")","v":""},{"$f":"IF($B$2=StoreConfig!C431,StoreConfig!E431,\"\")","v":""},{"$f":"IF($B$2=StoreConfig!C431,RIGHT(StoreConfig!#REF!,LEN(StoreConfig!#REF!)-FIND(\"|\",StoreConfig!#REF!)),\"\")","v":""},{"$f":"IFERROR(VLOOKUP(--IF($B$2=StoreConfig!C431,LEFT(StoreConfig!#REF!,FIND(\"|\",StoreConfig!#REF!)-1),\"\"),$Q$4:$R$20,2,FALSE),\"\")","v":""},{"$f":"IF($B$2=StoreConfig!C431,LEFT(StoreConfig!G431,FIND(\"#\",StoreConfig!G431)-1),\"\")","v":""},{"$f":"IF($B$2=StoreConfig!C431,RIGHT(StoreConfig!G431,LEN(StoreConfig!G431)-FIND(\"#\",StoreConfig!G431)),\"\")","v":""},{"$f":"IF($B$2=StoreConfig!C431,IF(StoreConfig!L431=0,\"不限购\",StoreConfig!L431&\"次\"),\"\")","v":""}]
[{"$nulls":3},{"$f":"IF($B$2=StoreConfig!C432,StoreConfig!O432,\"\")","v":""},{"$f":"IF($B$2=StoreConfig!C432,StoreConfig!E432,\"\")","v":""},{"$f":"IF($B$2=StoreConfig!C432,RIGHT(StoreConfig!#REF!,LEN(StoreConfig!#REF!)-FIND(\"|\",StoreConfig!#REF!)),\"\")","v":""},{"$f":"IFERROR(VLOOKUP(--IF($B$2=StoreConfig!C432,LEFT(StoreConfig!#REF!,FIND(\"|\",StoreConfig!#REF!)-1),\"\"),$Q$4:$R$20,2,FALSE),\"\")","v":""},{"$f":"IF($B$2=StoreConfig!C432,LEFT(StoreConfig!G432,FIND(\"#\",StoreConfig!G432)-1),\"\")","v":""},{"$f":"IF($B$2=StoreConfig!C432,RIGHT(StoreConfig!G432,LEN(StoreConfig!G432)-FIND(\"#\",StoreConfig!G432)),\"\")","v":""},{"$f":"IF($B$2=StoreConfig!C432,IF(StoreConfig!L432=0,\"不限购\",StoreConfig!L432&\"次\"),\"\")","v":""}]
[{"$nulls":3},{"$f":"IF($B$2=StoreConfig!C433,StoreConfig!O433,\"\")","v":""},{"$f":"IF($B$2=StoreConfig!C433,StoreConfig!E433,\"\")","v":""},{"$f":"IF($B$2=StoreConfig!C433,RIGHT(StoreConfig!#REF!,LEN(StoreConfig!#REF!)-FIND(\"|\",StoreConfig!#REF!)),\"\")","v":""},{"$f":"IFERROR(VLOOKUP(--IF($B$2=StoreConfig!C433,LEFT(StoreConfig!#REF!,FIND(\"|\",StoreConfig!#REF!)-1),\"\"),$Q$4:$R$20,2,FALSE),\"\")","v":""},{"$f":"IF($B$2=StoreConfig!C433,LEFT(StoreConfig!G433,FIND(\"#\",StoreConfig!G433)-1),\"\")","v":""},{"$f":"IF($B$2=StoreConfig!C433,RIGHT(StoreConfig!G433,LEN(StoreConfig!G433)-FIND(\"#\",StoreConfig!G433)),\"\")","v":""},{"$f":"IF($B$2=StoreConfig!C433,IF(StoreConfig!L433=0,\"不限购\",StoreConfig!L433&\"次\"),\"\")","v":""}]
[{"$nulls":3},{"$f":"IF($B$2=StoreConfig!C434,StoreConfig!O434,\"\")","v":""},{"$f":"IF($B$2=StoreConfig!C434,StoreConfig!E434,\"\")","v":""},{"$f":"IF($B$2=StoreConfig!C434,RIGHT(StoreConfig!#REF!,LEN(StoreConfig!#REF!)-FIND(\"|\",StoreConfig!#REF!)),\"\")","v":""},{"$f":"IFERROR(VLOOKUP(--IF($B$2=StoreConfig!C434,LEFT(StoreConfig!#REF!,FIND(\"|\",StoreConfig!#REF!)-1),\"\"),$Q$4:$R$20,2,FALSE),\"\")","v":""},{"$f":"IF($B$2=StoreConfig!C434,LEFT(StoreConfig!G434,FIND(\"#\",StoreConfig!G434)-1),\"\")","v":""},{"$f":"IF($B$2=StoreConfig!C434,RIGHT(StoreConfig!G434,LEN(StoreConfig!G434)-FIND(\"#\",StoreConfig!G434)),\"\")","v":""},{"$f":"IF($B$2=StoreConfig!C434,IF(StoreConfig!L434=0,\"不限购\",StoreConfig!L434&\"次\"),\"\")","v":""}]
[{"$nulls":3},{"$f":"IF($B$2=StoreConfig!C435,StoreConfig!O435,\"\")","v":""},{"$f":"IF($B$2=StoreConfig!C435,StoreConfig!E435,\"\")","v":""},{"$f":"IF($B$2=StoreConfig!C435,RIGHT(StoreConfig!J435,LEN(StoreConfig!J435)-FIND(\"|\",StoreConfig!J435)),\"\")","v":""},{"$f":"IFERROR(VLOOKUP(--IF($B$2=StoreConfig!C435,LEFT(StoreConfig!J435,FIND(\"|\",StoreConfig!J435)-1),\"\"),$Q$4:$R$20,2,FALSE),\"\")","v":""},{"$f":"IF($B$2=StoreConfig!C435,LEFT(StoreConfig!G435,FIND(\"#\",StoreConfig!G435)-1),\"\")","v":""},{"$f":"IF($B$2=StoreConfig!C435,RIGHT(StoreConfig!G435,LEN(StoreConfig!G435)-FIND(\"#\",StoreConfig!G435)),\"\")","v":""},{"$f":"IF($B$2=StoreConfig!C435,IF(StoreConfig!L435=0,\"不限购\",StoreConfig!L435&\"次\"),\"\")","v":""}]
[{"$nulls":3},{"$f":"IF($B$2=StoreConfig!C436,StoreConfig!O436,\"\")","v":""},{"$f":"IF($B$2=StoreConfig!C436,StoreConfig!E436,\"\")","v":""},{"$f":"IF($B$2=StoreConfig!C436,RIGHT(StoreConfig!#REF!,LEN(StoreConfig!#REF!)-FIND(\"|\",StoreConfig!#REF!)),\"\")","v":""},{"$f":"IFERROR(VLOOKUP(--IF($B$2=StoreConfig!C436,LEFT(StoreConfig!#REF!,FIND(\"|\",StoreConfig!#REF!)-1),\"\"),$Q$4:$R$20,2,FALSE),\"\")","v":""},{"$f":"IF($B$2=StoreConfig!C436,LEFT(StoreConfig!G436,FIND(\"#\",StoreConfig!G436)-1),\"\")","v":""},{"$f":"IF($B$2=StoreConfig!C436,RIGHT(StoreConfig!G436,LEN(StoreConfig!G436)-FIND(\"#\",StoreConfig!G436)),\"\")","v":""},{"$f":"IF($B$2=StoreConfig!C436,IF(StoreConfig!L436=0,\"不限购\",StoreConfig!L436&\"次\"),\"\")","v":""}]
[{"$nulls":3},{"$f":"IF($B$2=StoreConfig!C437,StoreConfig!O437,\"\")","v":""},{"$f":"IF($B$2=StoreConfig!C437,StoreConfig!E437,\"\")","v":""},{"$f":"IF($B$2=StoreConfig!C437,RIGHT(StoreConfig!J437,LEN(StoreConfig!J437)-FIND(\"|\",StoreConfig!J437)),\"\")","v":""},{"$f":"IFERROR(VLOOKUP(--IF($B$2=StoreConfig!C437,LEFT(StoreConfig!J437,FIND(\"|\",StoreConfig!J437)-1),\"\"),$Q$4:$R$20,2,FALSE),\"\")","v":""},{"$f":"IF($B$2=StoreConfig!C437,LEFT(StoreConfig!G437,FIND(\"#\",StoreConfig!G437)-1),\"\")","v":""},{"$f":"IF($B$2=StoreConfig!C437,RIGHT(StoreConfig!G437,LEN(StoreConfig!G437)-FIND(\"#\",StoreConfig!G437)),\"\")","v":""},{"$f":"IF($B$2=StoreConfig!C437,IF(StoreConfig!L437=0,\"不限购\",StoreConfig!L437&\"次\"),\"\")","v":""}]
[{"$nulls":3},{"$f":"IF($B$2=StoreConfig!C438,StoreConfig!O438,\"\")","v":""},{"$f":"IF($B$2=StoreConfig!C438,StoreConfig!E438,\"\")","v":""},{"$f":"IF($B$2=StoreConfig!C438,RIGHT(StoreConfig!J438,LEN(StoreConfig!J438)-FIND(\"|\",StoreConfig!J438)),\"\")","v":""},{"$f":"IFERROR(VLOOKUP(--IF($B$2=StoreConfig!C438,LEFT(StoreConfig!J438,FIND(\"|\",StoreConfig!J438)-1),\"\"),$Q$4:$R$20,2,FALSE),\"\")","v":""},{"$f":"IF($B$2=StoreConfig!C438,LEFT(StoreConfig!G438,FIND(\"#\",StoreConfig!G438)-1),\"\")","v":""},{"$f":"IF($B$2=StoreConfig!C438,RIGHT(StoreConfig!G438,LEN(StoreConfig!G438)-FIND(\"#\",StoreConfig!G438)),\"\")","v":""},{"$f":"IF($B$2=StoreConfig!C438,IF(StoreConfig!L438=0,\"不限购\",StoreConfig!L438&\"次\"),\"\")","v":""}]
[{"$nulls":3},{"$f":"IF($B$2=StoreConfig!C439,StoreConfig!O439,\"\")","v":""},{"$f":"IF($B$2=StoreConfig!C439,StoreConfig!E439,\"\")","v":""},{"$f":"IF($B$2=StoreConfig!C439,RIGHT(StoreConfig!J439,LEN(StoreConfig!J439)-FIND(\"|\",StoreConfig!J439)),\"\")","v":""},{"$f":"IFERROR(VLOOKUP(--IF($B$2=StoreConfig!C439,LEFT(StoreConfig!J439,FIND(\"|\",StoreConfig!J439)-1),\"\"),$Q$4:$R$20,2,FALSE),\"\")","v":""},{"$f":"IF($B$2=StoreConfig!C439,LEFT(StoreConfig!G439,FIND(\"#\",StoreConfig!G439)-1),\"\")","v":""},{"$f":"IF($B$2=StoreConfig!C439,RIGHT(StoreConfig!G439,LEN(StoreConfig!G439)-FIND(\"#\",StoreConfig!G439)),\"\")","v":""},{"$f":"IF($B$2=StoreConfig!C439,IF(StoreConfig!L439=0,\"不限购\",StoreConfig!L439&\"次\"),\"\")","v":""}]
[{"$nulls":3},{"$f":"IF($B$2=StoreConfig!C440,StoreConfig!O440,\"\")","v":""},{"$f":"IF($B$2=StoreConfig!C440,StoreConfig!E440,\"\")","v":""},{"$f":"IF($B$2=StoreConfig!C440,RIGHT(StoreConfig!J440,LEN(StoreConfig!J440)-FIND(\"|\",StoreConfig!J440)),\"\")","v":""},{"$f":"IFERROR(VLOOKUP(--IF($B$2=StoreConfig!C440,LEFT(StoreConfig!J440,FIND(\"|\",StoreConfig!J440)-1),\"\"),$Q$4:$R$20,2,FALSE),\"\")","v":""},{"$f":"IF($B$2=StoreConfig!C440,LEFT(StoreConfig!G440,FIND(\"#\",StoreConfig!G440)-1),\"\")","v":""},{"$f":"IF($B$2=StoreConfig!C440,RIGHT(StoreConfig!G440,LEN(StoreConfig!G440)-FIND(\"#\",StoreConfig!G440)),\"\")","v":""},{"$f":"IF($B$2=StoreConfig!C440,IF(StoreConfig!L440=0,\"不限购\",StoreConfig!L440&\"次\"),\"\")","v":""}]
[{"$nulls":3},{"$f":"IF($B$2=StoreConfig!C441,StoreConfig!O441,\"\")","v":""},{"$f":"IF($B$2=StoreConfig!C441,StoreConfig!E441,\"\")","v":""},{"$f":"IF($B$2=StoreConfig!C441,RIGHT(StoreConfig!#REF!,LEN(StoreConfig!#REF!)-FIND(\"|\",StoreConfig!#REF!)),\"\")","v":""},{"$f":"IFERROR(VLOOKUP(--IF($B$2=StoreConfig!C441,LEFT(StoreConfig!#REF!,FIND(\"|\",StoreConfig!#REF!)-1),\"\"),$Q$4:$R$20,2,FALSE),\"\")","v":""},{"$f":"IF($B$2=StoreConfig!C441,LEFT(StoreConfig!G441,FIND(\"#\",StoreConfig!G441)-1),\"\")","v":""},{"$f":"IF($B$2=StoreConfig!C441,RIGHT(StoreConfig!G441,LEN(StoreConfig!G441)-FIND(\"#\",StoreConfig!G441)),\"\")","v":""},{"$f":"IF($B$2=StoreConfig!C441,IF(StoreConfig!L441=0,\"不限购\",StoreConfig!L441&\"次\"),\"\")","v":""}]
[{"$nulls":3},{"$f":"IF($B$2=StoreConfig!C442,StoreConfig!O442,\"\")","v":""},{"$f":"IF($B$2=StoreConfig!C442,StoreConfig!E442,\"\")","v":""},{"$f":"IF($B$2=StoreConfig!C442,RIGHT(StoreConfig!#REF!,LEN(StoreConfig!#REF!)-FIND(\"|\",StoreConfig!#REF!)),\"\")","v":""},{"$f":"IFERROR(VLOOKUP(--IF($B$2=StoreConfig!C442,LEFT(StoreConfig!#REF!,FIND(\"|\",StoreConfig!#REF!)-1),\"\"),$Q$4:$R$20,2,FALSE),\"\")","v":""},{"$f":"IF($B$2=StoreConfig!C442,LEFT(StoreConfig!G442,FIND(\"#\",StoreConfig!G442)-1),\"\")","v":""},{"$f":"IF($B$2=StoreConfig!C442,RIGHT(StoreConfig!G442,LEN(StoreConfig!G442)-FIND(\"#\",StoreConfig!G442)),\"\")","v":""},{"$f":"IF($B$2=StoreConfig!C442,IF(StoreConfig!L442=0,\"不限购\",StoreConfig!L442&\"次\"),\"\")","v":""}]
[{"$nulls":3},{"$f":"IF($B$2=StoreConfig!C443,StoreConfig!O443,\"\")","v":""},{"$f":"IF($B$2=StoreConfig!C443,StoreConfig!E443,\"\")","v":""},{"$f":"IF($B$2=StoreConfig!C443,RIGHT(StoreConfig!#REF!,LEN(StoreConfig!#REF!)-FIND(\"|\",StoreConfig!#REF!)),\"\")","v":""},{"$f":"IFERROR(VLOOKUP(--IF($B$2=StoreConfig!C443,LEFT(StoreConfig!#REF!,FIND(\"|\",StoreConfig!#REF!)-1),\"\"),$Q$4:$R$20,2,FALSE),\"\")","v":""},{"$f":"IF($B$2=StoreConfig!C443,LEFT(StoreConfig!G443,FIND(\"#\",StoreConfig!G443)-1),\"\")","v":""},{"$f":"IF($B$2=StoreConfig!C443,RIGHT(StoreConfig!G443,LEN(StoreConfig!G443)-FIND(\"#\",StoreConfig!G443)),\"\")","v":""},{"$f":"IF($B$2=StoreConfig!C443,IF(StoreConfig!L443=0,\"不限购\",StoreConfig!L443&\"次\"),\"\")","v":""}]
[{"$nulls":3},{"$f":"IF($B$2=StoreConfig!C444,StoreConfig!O444,\"\")","v":""},{"$f":"IF($B$2=StoreConfig!C444,StoreConfig!E444,\"\")","v":""},{"$f":"IF($B$2=StoreConfig!C444,RIGHT(StoreConfig!#REF!,LEN(StoreConfig!#REF!)-FIND(\"|\",StoreConfig!#REF!)),\"\")","v":""},{"$f":"IFERROR(VLOOKUP(--IF($B$2=StoreConfig!C444,LEFT(StoreConfig!#REF!,FIND(\"|\",StoreConfig!#REF!)-1),\"\"),$Q$4:$R$20,2,FALSE),\"\")","v":""},{"$f":"IF($B$2=StoreConfig!C444,LEFT(StoreConfig!G444,FIND(\"#\",StoreConfig!G444)-1),\"\")","v":""},{"$f":"IF($B$2=StoreConfig!C444,RIGHT(StoreConfig!G444,LEN(StoreConfig!G444)-FIND(\"#\",StoreConfig!G444)),\"\")","v":""},{"$f":"IF($B$2=StoreConfig!C444,IF(StoreConfig!L444=0,\"不限购\",StoreConfig!L444&\"次\"),\"\")","v":""}]
[{"$nulls":3},{"$f":"IF($B$2=StoreConfig!C445,StoreConfig!O445,\"\")","v":""},{"$f":"IF($B$2=StoreConfig!C445,StoreConfig!E445,\"\")","v":""},{"$f":"IF($B$2=StoreConfig!C445,RIGHT(StoreConfig!#REF!,LEN(StoreConfig!#REF!)-FIND(\"|\",StoreConfig!#REF!)),\"\")","v":""},{"$f":"IFERROR(VLOOKUP(--IF($B$2=StoreConfig!C445,LEFT(StoreConfig!#REF!,FIND(\"|\",StoreConfig!#REF!)-1),\"\"),$Q$4:$R$20,2,FALSE),\"\")","v":""},{"$f":"IF($B$2=StoreConfig!C445,LEFT(StoreConfig!G445,FIND(\"#\",StoreConfig!G445)-1),\"\")","v":""},{"$f":"IF($B$2=StoreConfig!C445,RIGHT(StoreConfig!G445,LEN(StoreConfig!G445)-FIND(\"#\",StoreConfig!G445)),\"\")","v":""},{"$f":"IF($B$2=StoreConfig!C445,IF(StoreConfig!L445=0,\"不限购\",StoreConfig!L445&\"次\"),\"\")","v":""}]
[{"$nulls":3},{"$f":"IF($B$2=StoreConfig!C446,StoreConfig!O446,\"\")","v":""},{"$f":"IF($B$2=StoreConfig!C446,StoreConfig!E446,\"\")","v":""},{"$f":"IF($B$2=StoreConfig!C446,RIGHT(StoreConfig!J446,LEN(StoreConfig!J446)-FIND(\"|\",StoreConfig!J446)),\"\")","v":""},{"$f":"IFERROR(VLOOKUP(--IF($B$2=StoreConfig!C446,LEFT(StoreConfig!J446,FIND(\"|\",StoreConfig!J446)-1),\"\"),$Q$4:$R$20,2,FALSE),\"\")","v":""},{"$f":"IF($B$2=StoreConfig!C446,LEFT(StoreConfig!G446,FIND(\"#\",StoreConfig!G446)-1),\"\")","v":""},{"$f":"IF($B$2=StoreConfig!C446,RIGHT(StoreConfig!G446,LEN(StoreConfig!G446)-FIND(\"#\",StoreConfig!G446)),\"\")","v":""},{"$f":"IF($B$2=StoreConfig!C446,IF(StoreConfig!L446=0,\"不限购\",StoreConfig!L446&\"次\"),\"\")","v":""}]
[{"$nulls":3},{"$f":"IF($B$2=StoreConfig!C447,StoreConfig!O447,\"\")","v":""},{"$f":"IF($B$2=StoreConfig!C447,StoreConfig!E447,\"\")","v":""},{"$f":"IF($B$2=StoreConfig!C447,RIGHT(StoreConfig!J447,LEN(StoreConfig!J447)-FIND(\"|\",StoreConfig!J447)),\"\")","v":""},{"$f":"IFERROR(VLOOKUP(--IF($B$2=StoreConfig!C447,LEFT(StoreConfig!J447,FIND(\"|\",StoreConfig!J447)-1),\"\"),$Q$4:$R$20,2,FALSE),\"\")","v":""},{"$f":"IF($B$2=StoreConfig!C447,LEFT(StoreConfig!G447,FIND(\"#\",StoreConfig!G447)-1),\"\")","v":""},{"$f":"IF($B$2=StoreConfig!C447,RIGHT(StoreConfig!G447,LEN(StoreConfig!G447)-FIND(\"#\",StoreConfig!G447)),\"\")","v":""},{"$f":"IF($B$2=StoreConfig!C447,IF(StoreConfig!L447=0,\"不限购\",StoreConfig!L447&\"次\"),\"\")","v":""}]
[{"$nulls":3},{"$f":"IF($B$2=StoreConfig!C448,StoreConfig!O448,\"\")","v":""},{"$f":"IF($B$2=StoreConfig!C448,StoreConfig!E448,\"\")","v":""},{"$f":"IF($B$2=StoreConfig!C448,RIGHT(StoreConfig!#REF!,LEN(StoreConfig!#REF!)-FIND(\"|\",StoreConfig!#REF!)),\"\")","v":""},{"$f":"IFERROR(VLOOKUP(--IF($B$2=StoreConfig!C448,LEFT(StoreConfig!#REF!,FIND(\"|\",StoreConfig!#REF!)-1),\"\"),$Q$4:$R$20,2,FALSE),\"\")","v":""},{"$f":"IF($B$2=StoreConfig!C448,LEFT(StoreConfig!G448,FIND(\"#\",StoreConfig!G448)-1),\"\")","v":""},{"$f":"IF($B$2=StoreConfig!C448,RIGHT(StoreConfig!G448,LEN(StoreConfig!G448)-FIND(\"#\",StoreConfig!G448)),\"\")","v":""},{"$f":"IF($B$2=StoreConfig!C448,IF(StoreConfig!L448=0,\"不限购\",StoreConfig!L448&\"次\"),\"\")","v":""}]
[{"$nulls":3},{"$f":"IF($B$2=StoreConfig!C449,StoreConfig!O449,\"\")","v":""},{"$f":"IF($B$2=StoreConfig!C449,StoreConfig!E449,\"\")","v":""},{"$f":"IF($B$2=StoreConfig!C449,RIGHT(StoreConfig!J449,LEN(StoreConfig!J449)-FIND(\"|\",StoreConfig!J449)),\"\")","v":""},{"$f":"IFERROR(VLOOKUP(--IF($B$2=StoreConfig!C449,LEFT(StoreConfig!J449,FIND(\"|\",StoreConfig!J449)-1),\"\"),$Q$4:$R$20,2,FALSE),\"\")","v":""},{"$f":"IF($B$2=StoreConfig!C449,LEFT(StoreConfig!G449,FIND(\"#\",StoreConfig!G449)-1),\"\")","v":""},{"$f":"IF($B$2=StoreConfig!C449,RIGHT(StoreConfig!G449,LEN(StoreConfig!G449)-FIND(\"#\",StoreConfig!G449)),\"\")","v":""},{"$f":"IF($B$2=StoreConfig!C449,IF(StoreConfig!L449=0,\"不限购\",StoreConfig!L449&\"次\"),\"\")","v":""}]
[{"$nulls":3},{"$f":"IF($B$2=StoreConfig!C450,StoreConfig!O450,\"\")","v":""},{"$f":"IF($B$2=StoreConfig!C450,StoreConfig!E450,\"\")","v":""},{"$f":"IF($B$2=StoreConfig!C450,RIGHT(StoreConfig!#REF!,LEN(StoreConfig!#REF!)-FIND(\"|\",StoreConfig!#REF!)),\"\")","v":""},{"$f":"IFERROR(VLOOKUP(--IF($B$2=StoreConfig!C450,LEFT(StoreConfig!#REF!,FIND(\"|\",StoreConfig!#REF!)-1),\"\"),$Q$4:$R$20,2,FALSE),\"\")","v":""},{"$f":"IF($B$2=StoreConfig!C450,LEFT(StoreConfig!G450,FIND(\"#\",StoreConfig!G450)-1),\"\")","v":""},{"$f":"IF($B$2=StoreConfig!C450,RIGHT(StoreConfig!G450,LEN(StoreConfig!G450)-FIND(\"#\",StoreConfig!G450)),\"\")","v":""},{"$f":"IF($B$2=StoreConfig!C450,IF(StoreConfig!L450=0,\"不限购\",StoreConfig!L450&\"次\"),\"\")","v":""}]
[{"$nulls":3},{"$f":"IF($B$2=StoreConfig!C451,StoreConfig!O451,\"\")","v":""},{"$f":"IF($B$2=StoreConfig!C451,StoreConfig!E451,\"\")","v":""},{"$f":"IF($B$2=StoreConfig!C451,RIGHT(StoreConfig!J451,LEN(StoreConfig!J451)-FIND(\"|\",StoreConfig!J451)),\"\")","v":""},{"$f":"IFERROR(VLOOKUP(--IF($B$2=StoreConfig!C451,LEFT(StoreConfig!J451,FIND(\"|\",StoreConfig!J451)-1),\"\"),$Q$4:$R$20,2,FALSE),\"\")","v":""},{"$f":"IF($B$2=StoreConfig!C451,LEFT(StoreConfig!G451,FIND(\"#\",StoreConfig!G451)-1),\"\")","v":""},{"$f":"IF($B$2=StoreConfig!C451,RIGHT(StoreConfig!G451,LEN(StoreConfig!G451)-FIND(\"#\",StoreConfig!G451)),\"\")","v":""},{"$f":"IF($B$2=StoreConfig!C451,IF(StoreConfig!L451=0,\"不限购\",StoreConfig!L451&\"次\"),\"\")","v":""}]
[{"$nulls":3},{"$f":"IF($B$2=StoreConfig!C452,StoreConfig!O452,\"\")","v":""},{"$f":"IF($B$2=StoreConfig!C452,StoreConfig!E452,\"\")","v":""},{"$f":"IF($B$2=StoreConfig!C452,RIGHT(StoreConfig!#REF!,LEN(StoreConfig!#REF!)-FIND(\"|\",StoreConfig!#REF!)),\"\")","v":""},{"$f":"IFERROR(VLOOKUP(--IF($B$2=StoreConfig!C452,LEFT(StoreConfig!#REF!,FIND(\"|\",StoreConfig!#REF!)-1),\"\"),$Q$4:$R$20,2,FALSE),\"\")","v":""},{"$f":"IF($B$2=StoreConfig!C452,LEFT(StoreConfig!G452,FIND(\"#\",StoreConfig!G452)-1),\"\")","v":""},{"$f":"IF($B$2=StoreConfig!C452,RIGHT(StoreConfig!G452,LEN(StoreConfig!G452)-FIND(\"#\",StoreConfig!G452)),\"\")","v":""},{"$f":"IF($B$2=StoreConfig!C452,IF(StoreConfig!L452=0,\"不限购\",StoreConfig!L452&\"次\"),\"\")","v":""}]
[{"$nulls":3},{"$f":"IF($B$2=StoreConfig!C453,StoreConfig!O453,\"\")","v":""},{"$f":"IF($B$2=StoreConfig!C453,StoreConfig!E453,\"\")","v":""},{"$f":"IF($B$2=StoreConfig!C453,RIGHT(StoreConfig!#REF!,LEN(StoreConfig!#REF!)-FIND(\"|\",StoreConfig!#REF!)),\"\")","v":""},{"$f":"IFERROR(VLOOKUP(--IF($B$2=StoreConfig!C453,LEFT(StoreConfig!#REF!,FIND(\"|\",StoreConfig!#REF!)-1),\"\"),$Q$4:$R$20,2,FALSE),\"\")","v":""},{"$f":"IF($B$2=StoreConfig!C453,LEFT(StoreConfig!G453,FIND(\"#\",StoreConfig!G453)-1),\"\")","v":""},{"$f":"IF($B$2=StoreConfig!C453,RIGHT(StoreConfig!G453,LEN(StoreConfig!G453)-FIND(\"#\",StoreConfig!G453)),\"\")","v":""},{"$f":"IF($B$2=StoreConfig!C453,IF(StoreConfig!L453=0,\"不限购\",StoreConfig!L453&\"次\"),\"\")","v":""}]
[{"$nulls":3},{"$f":"IF($B$2=StoreConfig!C454,StoreConfig!O454,\"\")","v":""},{"$f":"IF($B$2=StoreConfig!C454,StoreConfig!E454,\"\")","v":""},{"$f":"IF($B$2=StoreConfig!C454,RIGHT(StoreConfig!#REF!,LEN(StoreConfig!#REF!)-FIND(\"|\",StoreConfig!#REF!)),\"\")","v":""},{"$f":"IFERROR(VLOOKUP(--IF($B$2=StoreConfig!C454,LEFT(StoreConfig!#REF!,FIND(\"|\",StoreConfig!#REF!)-1),\"\"),$Q$4:$R$20,2,FALSE),\"\")","v":""},{"$f":"IF($B$2=StoreConfig!C454,LEFT(StoreConfig!G454,FIND(\"#\",StoreConfig!G454)-1),\"\")","v":""},{"$f":"IF($B$2=StoreConfig!C454,RIGHT(StoreConfig!G454,LEN(StoreConfig!G454)-FIND(\"#\",StoreConfig!G454)),\"\")","v":""},{"$f":"IF($B$2=StoreConfig!C454,IF(StoreConfig!L454=0,\"不限购\",StoreConfig!L454&\"次\"),\"\")","v":""}]
[{"$nulls":3},{"$f":"IF($B$2=StoreConfig!C455,StoreConfig!O455,\"\")","v":""},{"$f":"IF($B$2=StoreConfig!C455,StoreConfig!E455,\"\")","v":""},{"$f":"IF($B$2=StoreConfig!C455,RIGHT(StoreConfig!#REF!,LEN(StoreConfig!#REF!)-FIND(\"|\",StoreConfig!#REF!)),\"\")","v":""},{"$f":"IFERROR(VLOOKUP(--IF($B$2=StoreConfig!C455,LEFT(StoreConfig!#REF!,FIND(\"|\",StoreConfig!#REF!)-1),\"\"),$Q$4:$R$20,2,FALSE),\"\")","v":""},{"$f":"IF($B$2=StoreConfig!C455,LEFT(StoreConfig!G455,FIND(\"#\",StoreConfig!G455)-1),\"\")","v":""},{"$f":"IF($B$2=StoreConfig!C455,RIGHT(StoreConfig!G455,LEN(StoreConfig!G455)-FIND(\"#\",StoreConfig!G455)),\"\")","v":""},{"$f":"IF($B$2=StoreConfig!C455,IF(StoreConfig!L455=0,\"不限购\",StoreConfig!L455&\"次\"),\"\")","v":""}]
[{"$nulls":3},{"$f":"IF($B$2=StoreConfig!C456,StoreConfig!O456,\"\")","v":""},{"$f":"IF($B$2=StoreConfig!C456,StoreConfig!E456,\"\")","v":""},{"$f":"IF($B$2=StoreConfig!C456,RIGHT(StoreConfig!#REF!,LEN(StoreConfig!#REF!)-FIND(\"|\",StoreConfig!#REF!)),\"\")","v":""},{"$f":"IFERROR(VLOOKUP(--IF($B$2=StoreConfig!C456,LEFT(StoreConfig!#REF!,FIND(\"|\",StoreConfig!#REF!)-1),\"\"),$Q$4:$R$20,2,FALSE),\"\")","v":""},{"$f":"IF($B$2=StoreConfig!C456,LEFT(StoreConfig!G456,FIND(\"#\",StoreConfig!G456)-1),\"\")","v":""},{"$f":"IF($B$2=StoreConfig!C456,RIGHT(StoreConfig!G456,LEN(StoreConfig!G456)-FIND(\"#\",StoreConfig!G456)),\"\")","v":""},{"$f":"IF($B$2=StoreConfig!C456,IF(StoreConfig!L456=0,\"不限购\",StoreConfig!L456&\"次\"),\"\")","v":""}]
[{"$nulls":3},{"$f":"IF($B$2=StoreConfig!C457,StoreConfig!O457,\"\")","v":""},{"$f":"IF($B$2=StoreConfig!C457,StoreConfig!E457,\"\")","v":""},{"$f":"IF($B$2=StoreConfig!C457,RIGHT(StoreConfig!J457,LEN(StoreConfig!J457)-FIND(\"|\",StoreConfig!J457)),\"\")","v":""},{"$f":"IFERROR(VLOOKUP(--IF($B$2=StoreConfig!C457,LEFT(StoreConfig!J457,FIND(\"|\",StoreConfig!J457)-1),\"\"),$Q$4:$R$20,2,FALSE),\"\")","v":""},{"$f":"IF($B$2=StoreConfig!C457,LEFT(StoreConfig!G457,FIND(\"#\",StoreConfig!G457)-1),\"\")","v":""},{"$f":"IF($B$2=StoreConfig!C457,RIGHT(StoreConfig!G457,LEN(StoreConfig!G457)-FIND(\"#\",StoreConfig!G457)),\"\")","v":""},{"$f":"IF($B$2=StoreConfig!C457,IF(StoreConfig!L457=0,\"不限购\",StoreConfig!L457&\"次\"),\"\")","v":""}]
[{"$nulls":3},{"$f":"IF($B$2=StoreConfig!C458,StoreConfig!O458,\"\")","v":""},{"$f":"IF($B$2=StoreConfig!C458,StoreConfig!E458,\"\")","v":""},{"$f":"IF($B$2=StoreConfig!C458,RIGHT(StoreConfig!J458,LEN(StoreConfig!J458)-FIND(\"|\",StoreConfig!J458)),\"\")","v":""},{"$f":"IFERROR(VLOOKUP(--IF($B$2=StoreConfig!C458,LEFT(StoreConfig!J458,FIND(\"|\",StoreConfig!J458)-1),\"\"),$Q$4:$R$20,2,FALSE),\"\")","v":""},{"$f":"IF($B$2=StoreConfig!C458,LEFT(StoreConfig!G458,FIND(\"#\",StoreConfig!G458)-1),\"\")","v":""},{"$f":"IF($B$2=StoreConfig!C458,RIGHT(StoreConfig!G458,LEN(StoreConfig!G458)-FIND(\"#\",StoreConfig!G458)),\"\")","v":""},{"$f":"IF($B$2=StoreConfig!C458,IF(StoreConfig!L458=0,\"不限购\",StoreConfig!L458&\"次\"),\"\")","v":""}]
[{"$nulls":3},{"$f":"IF($B$2=StoreConfig!C459,StoreConfig!O459,\"\")","v":""},{"$f":"IF($B$2=StoreConfig!C459,StoreConfig!E459,\"\")","v":""},{"$f":"IF($B$2=StoreConfig!C459,RIGHT(StoreConfig!#REF!,LEN(StoreConfig!#REF!)-FIND(\"|\",StoreConfig!#REF!)),\"\")","v":""},{"$f":"IFERROR(VLOOKUP(--IF($B$2=StoreConfig!C459,LEFT(StoreConfig!#REF!,FIND(\"|\",StoreConfig!#REF!)-1),\"\"),$Q$4:$R$20,2,FALSE),\"\")","v":""},{"$f":"IF($B$2=StoreConfig!C459,LEFT(StoreConfig!G459,FIND(\"#\",StoreConfig!G459)-1),\"\")","v":""},{"$f":"IF($B$2=StoreConfig!C459,RIGHT(StoreConfig!G459,LEN(StoreConfig!G459)-FIND(\"#\",StoreConfig!G459)),\"\")","v":""},{"$f":"IF($B$2=StoreConfig!C459,IF(StoreConfig!L459=0,\"不限购\",StoreConfig!L459&\"次\"),\"\")","v":""}]
[{"$nulls":3},{"$f":"IF($B$2=StoreConfig!C460,StoreConfig!O460,\"\")","v":""},{"$f":"IF($B$2=StoreConfig!C460,StoreConfig!E460,\"\")","v":""},{"$f":"IF($B$2=StoreConfig!C460,RIGHT(StoreConfig!J460,LEN(StoreConfig!J460)-FIND(\"|\",StoreConfig!J460)),\"\")","v":""},{"$f":"IFERROR(VLOOKUP(--IF($B$2=StoreConfig!C460,LEFT(StoreConfig!J460,FIND(\"|\",StoreConfig!J460)-1),\"\"),$Q$4:$R$20,2,FALSE),\"\")","v":""},{"$f":"IF($B$2=StoreConfig!C460,LEFT(StoreConfig!G460,FIND(\"#\",StoreConfig!G460)-1),\"\")","v":""},{"$f":"IF($B$2=StoreConfig!C460,RIGHT(StoreConfig!G460,LEN(StoreConfig!G460)-FIND(\"#\",StoreConfig!G460)),\"\")","v":""},{"$f":"IF($B$2=StoreConfig!C460,IF(StoreConfig!L460=0,\"不限购\",StoreConfig!L460&\"次\"),\"\")","v":""}]
[{"$nulls":3},{"$f":"IF($B$2=StoreConfig!C461,StoreConfig!O461,\"\")","v":""},{"$f":"IF($B$2=StoreConfig!C461,StoreConfig!E461,\"\")","v":""},{"$f":"IF($B$2=StoreConfig!C461,RIGHT(StoreConfig!#REF!,LEN(StoreConfig!#REF!)-FIND(\"|\",StoreConfig!#REF!)),\"\")","v":""},{"$f":"IFERROR(VLOOKUP(--IF($B$2=StoreConfig!C461,LEFT(StoreConfig!#REF!,FIND(\"|\",StoreConfig!#REF!)-1),\"\"),$Q$4:$R$20,2,FALSE),\"\")","v":""},{"$f":"IF($B$2=StoreConfig!C461,LEFT(StoreConfig!G461,FIND(\"#\",StoreConfig!G461)-1),\"\")","v":""},{"$f":"IF($B$2=StoreConfig!C461,RIGHT(StoreConfig!G461,LEN(StoreConfig!G461)-FIND(\"#\",StoreConfig!G461)),\"\")","v":""},{"$f":"IF($B$2=StoreConfig!C461,IF(StoreConfig!L461=0,\"不限购\",StoreConfig!L461&\"次\"),\"\")","v":""}]
[{"$nulls":3},{"$f":"IF($B$2=StoreConfig!C462,StoreConfig!O462,\"\")","v":""},{"$f":"IF($B$2=StoreConfig!C462,StoreConfig!E462,\"\")","v":""},{"$f":"IF($B$2=StoreConfig!C462,RIGHT(StoreConfig!J462,LEN(StoreConfig!J462)-FIND(\"|\",StoreConfig!J462)),\"\")","v":""},{"$f":"IFERROR(VLOOKUP(--IF($B$2=StoreConfig!C462,LEFT(StoreConfig!J462,FIND(\"|\",StoreConfig!J462)-1),\"\"),$Q$4:$R$20,2,FALSE),\"\")","v":""},{"$f":"IF($B$2=StoreConfig!C462,LEFT(StoreConfig!G462,FIND(\"#\",StoreConfig!G462)-1),\"\")","v":""},{"$f":"IF($B$2=StoreConfig!C462,RIGHT(StoreConfig!G462,LEN(StoreConfig!G462)-FIND(\"#\",StoreConfig!G462)),\"\")","v":""},{"$f":"IF($B$2=StoreConfig!C462,IF(StoreConfig!L462=0,\"不限购\",StoreConfig!L462&\"次\"),\"\")","v":""}]
[{"$nulls":3},{"$f":"IF($B$2=StoreConfig!C463,StoreConfig!O463,\"\")","v":""},{"$f":"IF($B$2=StoreConfig!C463,StoreConfig!E463,\"\")","v":""},{"$f":"IF($B$2=StoreConfig!C463,RIGHT(StoreConfig!#REF!,LEN(StoreConfig!#REF!)-FIND(\"|\",StoreConfig!#REF!)),\"\")","v":""},{"$f":"IFERROR(VLOOKUP(--IF($B$2=StoreConfig!C463,LEFT(StoreConfig!#REF!,FIND(\"|\",StoreConfig!#REF!)-1),\"\"),$Q$4:$R$20,2,FALSE),\"\")","v":""},{"$f":"IF($B$2=StoreConfig!C463,LEFT(StoreConfig!G463,FIND(\"#\",StoreConfig!G463)-1),\"\")","v":""},{"$f":"IF($B$2=StoreConfig!C463,RIGHT(StoreConfig!G463,LEN(StoreConfig!G463)-FIND(\"#\",StoreConfig!G463)),\"\")","v":""},{"$f":"IF($B$2=StoreConfig!C463,IF(StoreConfig!L463=0,\"不限购\",StoreConfig!L463&\"次\"),\"\")","v":""}]
[{"$nulls":3},{"$f":"IF($B$2=StoreConfig!C464,StoreConfig!O464,\"\")","v":""},{"$f":"IF($B$2=StoreConfig!C464,StoreConfig!E464,\"\")","v":""},{"$f":"IF($B$2=StoreConfig!C464,RIGHT(StoreConfig!#REF!,LEN(StoreConfig!#REF!)-FIND(\"|\",StoreConfig!#REF!)),\"\")","v":""},{"$f":"IFERROR(VLOOKUP(--IF($B$2=StoreConfig!C464,LEFT(StoreConfig!#REF!,FIND(\"|\",StoreConfig!#REF!)-1),\"\"),$Q$4:$R$20,2,FALSE),\"\")","v":""},{"$f":"IF($B$2=StoreConfig!C464,LEFT(StoreConfig!G464,FIND(\"#\",StoreConfig!G464)-1),\"\")","v":""},{"$f":"IF($B$2=StoreConfig!C464,RIGHT(StoreConfig!G464,LEN(StoreConfig!G464)-FIND(\"#\",StoreConfig!G464)),\"\")","v":""},{"$f":"IF($B$2=StoreConfig!C464,IF(StoreConfig!L464=0,\"不限购\",StoreConfig!L464&\"次\"),\"\")","v":""}]
[{"$nulls":3},{"$f":"IF($B$2=StoreConfig!C465,StoreConfig!O465,\"\")","v":""},{"$f":"IF($B$2=StoreConfig!C465,StoreConfig!E465,\"\")","v":""},{"$f":"IF($B$2=StoreConfig!C465,RIGHT(StoreConfig!#REF!,LEN(StoreConfig!#REF!)-FIND(\"|\",StoreConfig!#REF!)),\"\")","v":""},{"$f":"IFERROR(VLOOKUP(--IF($B$2=StoreConfig!C465,LEFT(StoreConfig!#REF!,FIND(\"|\",StoreConfig!#REF!)-1),\"\"),$Q$4:$R$20,2,FALSE),\"\")","v":""},{"$f":"IF($B$2=StoreConfig!C465,LEFT(StoreConfig!G465,FIND(\"#\",StoreConfig!G465)-1),\"\")","v":""},{"$f":"IF($B$2=StoreConfig!C465,RIGHT(StoreConfig!G465,LEN(StoreConfig!G465)-FIND(\"#\",StoreConfig!G465)),\"\")","v":""},{"$f":"IF($B$2=StoreConfig!C465,IF(StoreConfig!L465=0,\"不限购\",StoreConfig!L465&\"次\"),\"\")","v":""}]
[{"$nulls":3},{"$f":"IF($B$2=StoreConfig!C466,StoreConfig!O466,\"\")","v":""},{"$f":"IF($B$2=StoreConfig!C466,StoreConfig!E466,\"\")","v":""},{"$f":"IF($B$2=StoreConfig!C466,RIGHT(StoreConfig!#REF!,LEN(StoreConfig!#REF!)-FIND(\"|\",StoreConfig!#REF!)),\"\")","v":""},{"$f":"IFERROR(VLOOKUP(--IF($B$2=StoreConfig!C466,LEFT(StoreConfig!#REF!,FIND(\"|\",StoreConfig!#REF!)-1),\"\"),$Q$4:$R$20,2,FALSE),\"\")","v":""},{"$f":"IF($B$2=StoreConfig!C466,LEFT(StoreConfig!G466,FIND(\"#\",StoreConfig!G466)-1),\"\")","v":""},{"$f":"IF($B$2=StoreConfig!C466,RIGHT(StoreConfig!G466,LEN(StoreConfig!G466)-FIND(\"#\",StoreConfig!G466)),\"\")","v":""},{"$f":"IF($B$2=StoreConfig!C466,IF(StoreConfig!L466=0,\"不限购\",StoreConfig!L466&\"次\"),\"\")","v":""}]
[{"$nulls":3},{"$f":"IF($B$2=StoreConfig!C467,StoreConfig!O467,\"\")","v":""},{"$f":"IF($B$2=StoreConfig!C467,StoreConfig!E467,\"\")","v":""},{"$f":"IF($B$2=StoreConfig!C467,RIGHT(StoreConfig!#REF!,LEN(StoreConfig!#REF!)-FIND(\"|\",StoreConfig!#REF!)),\"\")","v":""},{"$f":"IFERROR(VLOOKUP(--IF($B$2=StoreConfig!C467,LEFT(StoreConfig!#REF!,FIND(\"|\",StoreConfig!#REF!)-1),\"\"),$Q$4:$R$20,2,FALSE),\"\")","v":""},{"$f":"IF($B$2=StoreConfig!C467,LEFT(StoreConfig!G467,FIND(\"#\",StoreConfig!G467)-1),\"\")","v":""},{"$f":"IF($B$2=StoreConfig!C467,RIGHT(StoreConfig!G467,LEN(StoreConfig!G467)-FIND(\"#\",StoreConfig!G467)),\"\")","v":""},{"$f":"IF($B$2=StoreConfig!C467,IF(StoreConfig!L467=0,\"不限购\",StoreConfig!L467&\"次\"),\"\")","v":""}]
[{"$nulls":3},{"$f":"IF($B$2=StoreConfig!C468,StoreConfig!O468,\"\")","v":""},{"$f":"IF($B$2=StoreConfig!C468,StoreConfig!E468,\"\")","v":""},{"$f":"IF($B$2=StoreConfig!C468,RIGHT(StoreConfig!#REF!,LEN(StoreConfig!#REF!)-FIND(\"|\",StoreConfig!#REF!)),\"\")","v":""},{"$f":"IFERROR(VLOOKUP(--IF($B$2=StoreConfig!C468,LEFT(StoreConfig!#REF!,FIND(\"|\",StoreConfig!#REF!)-1),\"\"),$Q$4:$R$20,2,FALSE),\"\")","v":""},{"$f":"IF($B$2=StoreConfig!C468,LEFT(StoreConfig!G468,FIND(\"#\",StoreConfig!G468)-1),\"\")","v":""},{"$f":"IF($B$2=StoreConfig!C468,RIGHT(StoreConfig!G468,LEN(StoreConfig!G468)-FIND(\"#\",StoreConfig!G468)),\"\")","v":""},{"$f":"IF($B$2=StoreConfig!C468,IF(StoreConfig!L468=0,\"不限购\",StoreConfig!L468&\"次\"),\"\")","v":""}]
[{"$nulls":3},{"$f":"IF($B$2=StoreConfig!C469,StoreConfig!O469,\"\")","v":""},{"$f":"IF($B$2=StoreConfig!C469,StoreConfig!E469,\"\")","v":""},{"$f":"IF($B$2=StoreConfig!C469,RIGHT(StoreConfig!#REF!,LEN(StoreConfig!#REF!)-FIND(\"|\",StoreConfig!#REF!)),\"\")","v":""},{"$f":"IFERROR(VLOOKUP(--IF($B$2=StoreConfig!C469,LEFT(StoreConfig!#REF!,FIND(\"|\",StoreConfig!#REF!)-1),\"\"),$Q$4:$R$20,2,FALSE),\"\")","v":""},{"$f":"IF($B$2=StoreConfig!C469,LEFT(StoreConfig!G469,FIND(\"#\",StoreConfig!G469)-1),\"\")","v":""},{"$f":"IF($B$2=StoreConfig!C469,RIGHT(StoreConfig!G469,LEN(StoreConfig!G469)-FIND(\"#\",StoreConfig!G469)),\"\")","v":""},{"$f":"IF($B$2=StoreConfig!C469,IF(StoreConfig!L469=0,\"不限购\",StoreConfig!L469&\"次\"),\"\")","v":""}]
[{"$nulls":3},{"$f":"IF($B$2=StoreConfig!C470,StoreConfig!O470,\"\")","v":""},{"$f":"IF($B$2=StoreConfig!C470,StoreConfig!E470,\"\")","v":""},{"$f":"IF($B$2=StoreConfig!C470,RIGHT(StoreConfig!#REF!,LEN(StoreConfig!#REF!)-FIND(\"|\",StoreConfig!#REF!)),\"\")","v":""},{"$f":"IFERROR(VLOOKUP(--IF($B$2=StoreConfig!C470,LEFT(StoreConfig!#REF!,FIND(\"|\",StoreConfig!#REF!)-1),\"\"),$Q$4:$R$20,2,FALSE),\"\")","v":""},{"$f":"IF($B$2=StoreConfig!C470,LEFT(StoreConfig!G470,FIND(\"#\",StoreConfig!G470)-1),\"\")","v":""},{"$f":"IF($B$2=StoreConfig!C470,RIGHT(StoreConfig!G470,LEN(StoreConfig!G470)-FIND(\"#\",StoreConfig!G470)),\"\")","v":""},{"$f":"IF($B$2=StoreConfig!C470,IF(StoreConfig!L470=0,\"不限购\",StoreConfig!L470&\"次\"),\"\")","v":""}]
[{"$nulls":3},{"$f":"IF($B$2=StoreConfig!C471,StoreConfig!O471,\"\")","v":""},{"$f":"IF($B$2=StoreConfig!C471,StoreConfig!E471,\"\")","v":""},{"$f":"IF($B$2=StoreConfig!C471,RIGHT(StoreConfig!#REF!,LEN(StoreConfig!#REF!)-FIND(\"|\",StoreConfig!#REF!)),\"\")","v":""},{"$f":"IFERROR(VLOOKUP(--IF($B$2=StoreConfig!C471,LEFT(StoreConfig!#REF!,FIND(\"|\",StoreConfig!#REF!)-1),\"\"),$Q$4:$R$20,2,FALSE),\"\")","v":""},{"$f":"IF($B$2=StoreConfig!C471,LEFT(StoreConfig!G471,FIND(\"#\",StoreConfig!G471)-1),\"\")","v":""},{"$f":"IF($B$2=StoreConfig!C471,RIGHT(StoreConfig!G471,LEN(StoreConfig!G471)-FIND(\"#\",StoreConfig!G471)),\"\")","v":""},{"$f":"IF($B$2=StoreConfig!C471,IF(StoreConfig!L471=0,\"不限购\",StoreConfig!L471&\"次\"),\"\")","v":""}]
[{"$nulls":3},{"$f":"IF($B$2=StoreConfig!C472,StoreConfig!O472,\"\")","v":""},{"$f":"IF($B$2=StoreConfig!C472,StoreConfig!E472,\"\")","v":""},{"$f":"IF($B$2=StoreConfig!C472,RIGHT(StoreConfig!#REF!,LEN(StoreConfig!#REF!)-FIND(\"|\",StoreConfig!#REF!)),\"\")","v":""},{"$f":"IFERROR(VLOOKUP(--IF($B$2=StoreConfig!C472,LEFT(StoreConfig!#REF!,FIND(\"|\",StoreConfig!#REF!)-1),\"\"),$Q$4:$R$20,2,FALSE),\"\")","v":""},{"$f":"IF($B$2=StoreConfig!C472,LEFT(StoreConfig!G472,FIND(\"#\",StoreConfig!G472)-1),\"\")","v":""},{"$f":"IF($B$2=StoreConfig!C472,RIGHT(StoreConfig!G472,LEN(StoreConfig!G472)-FIND(\"#\",StoreConfig!G472)),\"\")","v":""},{"$f":"IF($B$2=StoreConfig!C472,IF(StoreConfig!L472=0,\"不限购\",StoreConfig!L472&\"次\"),\"\")","v":""}]
[{"$nulls":3},{"$f":"IF($B$2=StoreConfig!C473,StoreConfig!O473,\"\")","v":""},{"$f":"IF($B$2=StoreConfig!C473,StoreConfig!E473,\"\")","v":""},{"$f":"IF($B$2=StoreConfig!C473,RIGHT(StoreConfig!#REF!,LEN(StoreConfig!#REF!)-FIND(\"|\",StoreConfig!#REF!)),\"\")","v":""},{"$f":"IFERROR(VLOOKUP(--IF($B$2=StoreConfig!C473,LEFT(StoreConfig!#REF!,FIND(\"|\",StoreConfig!#REF!)-1),\"\"),$Q$4:$R$20,2,FALSE),\"\")","v":""},{"$f":"IF($B$2=StoreConfig!C473,LEFT(StoreConfig!G473,FIND(\"#\",StoreConfig!G473)-1),\"\")","v":""},{"$f":"IF($B$2=StoreConfig!C473,RIGHT(StoreConfig!G473,LEN(StoreConfig!G473)-FIND(\"#\",StoreConfig!G473)),\"\")","v":""},{"$f":"IF($B$2=StoreConfig!C473,IF(StoreConfig!L473=0,\"不限购\",StoreConfig!L473&\"次\"),\"\")","v":""}]
[{"$nulls":3},{"$f":"IF($B$2=StoreConfig!C474,StoreConfig!O474,\"\")","v":""},{"$f":"IF($B$2=StoreConfig!C474,StoreConfig!E474,\"\")","v":""},{"$f":"IF($B$2=StoreConfig!C474,RIGHT(StoreConfig!#REF!,LEN(StoreConfig!#REF!)-FIND(\"|\",StoreConfig!#REF!)),\"\")","v":""},{"$f":"IFERROR(VLOOKUP(--IF($B$2=StoreConfig!C474,LEFT(StoreConfig!#REF!,FIND(\"|\",StoreConfig!#REF!)-1),\"\"),$Q$4:$R$20,2,FALSE),\"\")","v":""},{"$f":"IF($B$2=StoreConfig!C474,LEFT(StoreConfig!G474,FIND(\"#\",StoreConfig!G474)-1),\"\")","v":""},{"$f":"IF($B$2=StoreConfig!C474,RIGHT(StoreConfig!G474,LEN(StoreConfig!G474)-FIND(\"#\",StoreConfig!G474)),\"\")","v":""},{"$f":"IF($B$2=StoreConfig!C474,IF(StoreConfig!L474=0,\"不限购\",StoreConfig!L474&\"次\"),\"\")","v":""}]
[{"$nulls":3},{"$f":"IF($B$2=StoreConfig!C475,StoreConfig!O475,\"\")","v":""},{"$f":"IF($B$2=StoreConfig!C475,StoreConfig!E475,\"\")","v":""},{"$f":"IF($B$2=StoreConfig!C475,RIGHT(StoreConfig!#REF!,LEN(StoreConfig!#REF!)-FIND(\"|\",StoreConfig!#REF!)),\"\")","v":""},{"$f":"IFERROR(VLOOKUP(--IF($B$2=StoreConfig!C475,LEFT(StoreConfig!#REF!,FIND(\"|\",StoreConfig!#REF!)-1),\"\"),$Q$4:$R$20,2,FALSE),\"\")","v":""},{"$f":"IF($B$2=StoreConfig!C475,LEFT(StoreConfig!G475,FIND(\"#\",StoreConfig!G475)-1),\"\")","v":""},{"$f":"IF($B$2=StoreConfig!C475,RIGHT(StoreConfig!G475,LEN(StoreConfig!G475)-FIND(\"#\",StoreConfig!G475)),\"\")","v":""},{"$f":"IF($B$2=StoreConfig!C475,IF(StoreConfig!L475=0,\"不限购\",StoreConfig!L475&\"次\"),\"\")","v":""}]
[{"$nulls":3},{"$f":"IF($B$2=StoreConfig!C476,StoreConfig!O476,\"\")","v":""},{"$f":"IF($B$2=StoreConfig!C476,StoreConfig!E476,\"\")","v":""},{"$f":"IF($B$2=StoreConfig!C476,RIGHT(StoreConfig!J476,LEN(StoreConfig!J476)-FIND(\"|\",StoreConfig!J476)),\"\")","v":""},{"$f":"IFERROR(VLOOKUP(--IF($B$2=StoreConfig!C476,LEFT(StoreConfig!J476,FIND(\"|\",StoreConfig!J476)-1),\"\"),$Q$4:$R$20,2,FALSE),\"\")","v":""},{"$f":"IF($B$2=StoreConfig!C476,LEFT(StoreConfig!G476,FIND(\"#\",StoreConfig!G476)-1),\"\")","v":""},{"$f":"IF($B$2=StoreConfig!C476,RIGHT(StoreConfig!G476,LEN(StoreConfig!G476)-FIND(\"#\",StoreConfig!G476)),\"\")","v":""},{"$f":"IF($B$2=StoreConfig!C476,IF(StoreConfig!L476=0,\"不限购\",StoreConfig!L476&\"次\"),\"\")","v":""}]
[{"$nulls":3},{"$f":"IF($B$2=StoreConfig!C477,StoreConfig!O477,\"\")","v":""},{"$f":"IF($B$2=StoreConfig!C477,StoreConfig!E477,\"\")","v":""},{"$f":"IF($B$2=StoreConfig!C477,RIGHT(StoreConfig!J477,LEN(StoreConfig!J477)-FIND(\"|\",StoreConfig!J477)),\"\")","v":""},{"$f":"IFERROR(VLOOKUP(--IF($B$2=StoreConfig!C477,LEFT(StoreConfig!J477,FIND(\"|\",StoreConfig!J477)-1),\"\"),$Q$4:$R$20,2,FALSE),\"\")","v":""},{"$f":"IF($B$2=StoreConfig!C477,LEFT(StoreConfig!G477,FIND(\"#\",StoreConfig!G477)-1),\"\")","v":""},{"$f":"IF($B$2=StoreConfig!C477,RIGHT(StoreConfig!G477,LEN(StoreConfig!G477)-FIND(\"#\",StoreConfig!G477)),\"\")","v":""},{"$f":"IF($B$2=StoreConfig!C477,IF(StoreConfig!L477=0,\"不限购\",StoreConfig!L477&\"次\"),\"\")","v":""}]
[{"$nulls":3},{"$f":"IF($B$2=StoreConfig!C478,StoreConfig!O478,\"\")","v":""},{"$f":"IF($B$2=StoreConfig!C478,StoreConfig!E478,\"\")","v":""},{"$f":"IF($B$2=StoreConfig!C478,RIGHT(StoreConfig!J478,LEN(StoreConfig!J478)-FIND(\"|\",StoreConfig!J478)),\"\")","v":""},{"$f":"IFERROR(VLOOKUP(--IF($B$2=StoreConfig!C478,LEFT(StoreConfig!J478,FIND(\"|\",StoreConfig!J478)-1),\"\"),$Q$4:$R$20,2,FALSE),\"\")","v":""},{"$f":"IF($B$2=StoreConfig!C478,LEFT(StoreConfig!G478,FIND(\"#\",StoreConfig!G478)-1),\"\")","v":""},{"$f":"IF($B$2=StoreConfig!C478,RIGHT(StoreConfig!G478,LEN(StoreConfig!G478)-FIND(\"#\",StoreConfig!G478)),\"\")","v":""},{"$f":"IF($B$2=StoreConfig!C478,IF(StoreConfig!L478=0,\"不限购\",StoreConfig!L478&\"次\"),\"\")","v":""}]
[{"$nulls":3},{"$f":"IF($B$2=StoreConfig!C479,StoreConfig!O479,\"\")","v":""},{"$f":"IF($B$2=StoreConfig!C479,StoreConfig!E479,\"\")","v":""},{"$f":"IF($B$2=StoreConfig!C479,RIGHT(StoreConfig!J479,LEN(StoreConfig!J479)-FIND(\"|\",StoreConfig!J479)),\"\")","v":""},{"$f":"IFERROR(VLOOKUP(--IF($B$2=StoreConfig!C479,LEFT(StoreConfig!J479,FIND(\"|\",StoreConfig!J479)-1),\"\"),$Q$4:$R$20,2,FALSE),\"\")","v":""},{"$f":"IF($B$2=StoreConfig!C479,LEFT(StoreConfig!G479,FIND(\"#\",StoreConfig!G479)-1),\"\")","v":""},{"$f":"IF($B$2=StoreConfig!C479,RIGHT(StoreConfig!G479,LEN(StoreConfig!G479)-FIND(\"#\",StoreConfig!G479)),\"\")","v":""},{"$f":"IF($B$2=StoreConfig!C479,IF(StoreConfig!L479=0,\"不限购\",StoreConfig!L479&\"次\"),\"\")","v":""}]
[{"$nulls":3},{"$f":"IF($B$2=StoreConfig!C480,StoreConfig!O480,\"\")","v":""},{"$f":"IF($B$2=StoreConfig!C480,StoreConfig!E480,\"\")","v":""},{"$f":"IF($B$2=StoreConfig!C480,RIGHT(StoreConfig!J480,LEN(StoreConfig!J480)-FIND(\"|\",StoreConfig!J480)),\"\")","v":""},{"$f":"IFERROR(VLOOKUP(--IF($B$2=StoreConfig!C480,LEFT(StoreConfig!J480,FIND(\"|\",StoreConfig!J480)-1),\"\"),$Q$4:$R$20,2,FALSE),\"\")","v":""},{"$f":"IF($B$2=StoreConfig!C480,LEFT(StoreConfig!G480,FIND(\"#\",StoreConfig!G480)-1),\"\")","v":""},{"$f":"IF($B$2=StoreConfig!C480,RIGHT(StoreConfig!G480,LEN(StoreConfig!G480)-FIND(\"#\",StoreConfig!G480)),\"\")","v":""},{"$f":"IF($B$2=StoreConfig!C480,IF(StoreConfig!L480=0,\"不限购\",StoreConfig!L480&\"次\"),\"\")","v":""}]
[{"$nulls":3},{"$f":"IF($B$2=StoreConfig!C481,StoreConfig!O481,\"\")","v":""},{"$f":"IF($B$2=StoreConfig!C481,StoreConfig!E481,\"\")","v":""},{"$f":"IF($B$2=StoreConfig!C481,RIGHT(StoreConfig!J481,LEN(StoreConfig!J481)-FIND(\"|\",StoreConfig!J481)),\"\")","v":""},{"$f":"IFERROR(VLOOKUP(--IF($B$2=StoreConfig!C481,LEFT(StoreConfig!J481,FIND(\"|\",StoreConfig!J481)-1),\"\"),$Q$4:$R$20,2,FALSE),\"\")","v":""},{"$f":"IF($B$2=StoreConfig!C481,LEFT(StoreConfig!G481,FIND(\"#\",StoreConfig!G481)-1),\"\")","v":""},{"$f":"IF($B$2=StoreConfig!C481,RIGHT(StoreConfig!G481,LEN(StoreConfig!G481)-FIND(\"#\",StoreConfig!G481)),\"\")","v":""},{"$f":"IF($B$2=StoreConfig!C481,IF(StoreConfig!L481=0,\"不限购\",StoreConfig!L481&\"次\"),\"\")","v":""}]
[{"$nulls":3},{"$f":"IF($B$2=StoreConfig!C482,StoreConfig!O482,\"\")","v":""},{"$f":"IF($B$2=StoreConfig!C482,StoreConfig!E482,\"\")","v":""},{"$f":"IF($B$2=StoreConfig!C482,RIGHT(StoreConfig!J482,LEN(StoreConfig!J482)-FIND(\"|\",StoreConfig!J482)),\"\")","v":""},{"$f":"IFERROR(VLOOKUP(--IF($B$2=StoreConfig!C482,LEFT(StoreConfig!J482,FIND(\"|\",StoreConfig!J482)-1),\"\"),$Q$4:$R$20,2,FALSE),\"\")","v":""},{"$f":"IF($B$2=StoreConfig!C482,LEFT(StoreConfig!G482,FIND(\"#\",StoreConfig!G482)-1),\"\")","v":""},{"$f":"IF($B$2=StoreConfig!C482,RIGHT(StoreConfig!G482,LEN(StoreConfig!G482)-FIND(\"#\",StoreConfig!G482)),\"\")","v":""},{"$f":"IF($B$2=StoreConfig!C482,IF(StoreConfig!L482=0,\"不限购\",StoreConfig!L482&\"次\"),\"\")","v":""}]
[{"$nulls":3},{"$f":"IF($B$2=StoreConfig!C483,StoreConfig!O483,\"\")","v":""},{"$f":"IF($B$2=StoreConfig!C483,StoreConfig!E483,\"\")","v":""},{"$f":"IF($B$2=StoreConfig!C483,RIGHT(StoreConfig!J483,LEN(StoreConfig!J483)-FIND(\"|\",StoreConfig!J483)),\"\")","v":""},{"$f":"IFERROR(VLOOKUP(--IF($B$2=StoreConfig!C483,LEFT(StoreConfig!J483,FIND(\"|\",StoreConfig!J483)-1),\"\"),$Q$4:$R$20,2,FALSE),\"\")","v":""},{"$f":"IF($B$2=StoreConfig!C483,LEFT(StoreConfig!G483,FIND(\"#\",StoreConfig!G483)-1),\"\")","v":""},{"$f":"IF($B$2=StoreConfig!C483,RIGHT(StoreConfig!G483,LEN(StoreConfig!G483)-FIND(\"#\",StoreConfig!G483)),\"\")","v":""},{"$f":"IF($B$2=StoreConfig!C483,IF(StoreConfig!L483=0,\"不限购\",StoreConfig!L483&\"次\"),\"\")","v":""}]
[{"$nulls":3},{"$f":"IF($B$2=StoreConfig!C484,StoreConfig!O484,\"\")","v":""},{"$f":"IF($B$2=StoreConfig!C484,StoreConfig!E484,\"\")","v":""},{"$f":"IF($B$2=StoreConfig!C484,RIGHT(StoreConfig!J484,LEN(StoreConfig!J484)-FIND(\"|\",StoreConfig!J484)),\"\")","v":""},{"$f":"IFERROR(VLOOKUP(--IF($B$2=StoreConfig!C484,LEFT(StoreConfig!J484,FIND(\"|\",StoreConfig!J484)-1),\"\"),$Q$4:$R$20,2,FALSE),\"\")","v":""},{"$f":"IF($B$2=StoreConfig!C484,LEFT(StoreConfig!G484,FIND(\"#\",StoreConfig!G484)-1),\"\")","v":""},{"$f":"IF($B$2=StoreConfig!C484,RIGHT(StoreConfig!G484,LEN(StoreConfig!G484)-FIND(\"#\",StoreConfig!G484)),\"\")","v":""},{"$f":"IF($B$2=StoreConfig!C484,IF(StoreConfig!L484=0,\"不限购\",StoreConfig!L484&\"次\"),\"\")","v":""}]
[{"$nulls":3},{"$f":"IF($B$2=StoreConfig!C485,StoreConfig!O485,\"\")","v":""},{"$f":"IF($B$2=StoreConfig!C485,StoreConfig!E485,\"\")","v":""},{"$f":"IF($B$2=StoreConfig!C485,RIGHT(StoreConfig!J485,LEN(StoreConfig!J485)-FIND(\"|\",StoreConfig!J485)),\"\")","v":""},{"$f":"IFERROR(VLOOKUP(--IF($B$2=StoreConfig!C485,LEFT(StoreConfig!J485,FIND(\"|\",StoreConfig!J485)-1),\"\"),$Q$4:$R$20,2,FALSE),\"\")","v":""},{"$f":"IF($B$2=StoreConfig!C485,LEFT(StoreConfig!G485,FIND(\"#\",StoreConfig!G485)-1),\"\")","v":""},{"$f":"IF($B$2=StoreConfig!C485,RIGHT(StoreConfig!G485,LEN(StoreConfig!G485)-FIND(\"#\",StoreConfig!G485)),\"\")","v":""},{"$f":"IF($B$2=StoreConfig!C485,IF(StoreConfig!L485=0,\"不限购\",StoreConfig!L485&\"次\"),\"\")","v":""}]
[{"$nulls":3},{"$f":"IF($B$2=StoreConfig!C486,StoreConfig!O486,\"\")","v":""},{"$f":"IF($B$2=StoreConfig!C486,StoreConfig!E486,\"\")","v":""},{"$f":"IF($B$2=StoreConfig!C486,RIGHT(StoreConfig!J486,LEN(StoreConfig!J486)-FIND(\"|\",StoreConfig!J486)),\"\")","v":""},{"$f":"IFERROR(VLOOKUP(--IF($B$2=StoreConfig!C486,LEFT(StoreConfig!J486,FIND(\"|\",StoreConfig!J486)-1),\"\"),$Q$4:$R$20,2,FALSE),\"\")","v":""},{"$f":"IF($B$2=StoreConfig!C486,LEFT(StoreConfig!G486,FIND(\"#\",StoreConfig!G486)-1),\"\")","v":""},{"$f":"IF($B$2=StoreConfig!C486,RIGHT(StoreConfig!G486,LEN(StoreConfig!G486)-FIND(\"#\",StoreConfig!G486)),\"\")","v":""},{"$f":"IF($B$2=StoreConfig!C486,IF(StoreConfig!L486=0,\"不限购\",StoreConfig!L486&\"次\"),\"\")","v":""}]
[{"$nulls":3},{"$f":"IF($B$2=StoreConfig!C487,StoreConfig!O487,\"\")","v":""},{"$f":"IF($B$2=StoreConfig!C487,StoreConfig!E487,\"\")","v":""},{"$f":"IF($B$2=StoreConfig!C487,RIGHT(StoreConfig!J487,LEN(StoreConfig!J487)-FIND(\"|\",StoreConfig!J487)),\"\")","v":""},{"$f":"IFERROR(VLOOKUP(--IF($B$2=StoreConfig!C487,LEFT(StoreConfig!J487,FIND(\"|\",StoreConfig!J487)-1),\"\"),$Q$4:$R$20,2,FALSE),\"\")","v":""},{"$f":"IF($B$2=StoreConfig!C487,LEFT(StoreConfig!G487,FIND(\"#\",StoreConfig!G487)-1),\"\")","v":""},{"$f":"IF($B$2=StoreConfig!C487,RIGHT(StoreConfig!G487,LEN(StoreConfig!G487)-FIND(\"#\",StoreConfig!G487)),\"\")","v":""},{"$f":"IF($B$2=StoreConfig!C487,IF(StoreConfig!L487=0,\"不限购\",StoreConfig!L487&\"次\"),\"\")","v":""}]
[{"$nulls":3},{"$f":"IF($B$2=StoreConfig!C488,StoreConfig!O488,\"\")","v":""},{"$f":"IF($B$2=StoreConfig!C488,StoreConfig!E488,\"\")","v":""},{"$f":"IF($B$2=StoreConfig!C488,RIGHT(StoreConfig!J488,LEN(StoreConfig!J488)-FIND(\"|\",StoreConfig!J488)),\"\")","v":""},{"$f":"IFERROR(VLOOKUP(--IF($B$2=StoreConfig!C488,LEFT(StoreConfig!J488,FIND(\"|\",StoreConfig!J488)-1),\"\"),$Q$4:$R$20,2,FALSE),\"\")","v":""},{"$f":"IF($B$2=StoreConfig!C488,LEFT(StoreConfig!G488,FIND(\"#\",StoreConfig!G488)-1),\"\")","v":""},{"$f":"IF($B$2=StoreConfig!C488,RIGHT(StoreConfig!G488,LEN(StoreConfig!G488)-FIND(\"#\",StoreConfig!G488)),\"\")","v":""},{"$f":"IF($B$2=StoreConfig!C488,IF(StoreConfig!L488=0,\"不限购\",StoreConfig!L488&\"次\"),\"\")","v":""}]
[{"$nulls":3},{"$f":"IF($B$2=StoreConfig!C489,StoreConfig!O489,\"\")","v":""},{"$f":"IF($B$2=StoreConfig!C489,StoreConfig!E489,\"\")","v":""},{"$f":"IF($B$2=StoreConfig!C489,RIGHT(StoreConfig!J489,LEN(StoreConfig!J489)-FIND(\"|\",StoreConfig!J489)),\"\")","v":""},{"$f":"IFERROR(VLOOKUP(--IF($B$2=StoreConfig!C489,LEFT(StoreConfig!J489,FIND(\"|\",StoreConfig!J489)-1),\"\"),$Q$4:$R$20,2,FALSE),\"\")","v":""},{"$f":"IF($B$2=StoreConfig!C489,LEFT(StoreConfig!G489,FIND(\"#\",StoreConfig!G489)-1),\"\")","v":""},{"$f":"IF($B$2=StoreConfig!C489,RIGHT(StoreConfig!G489,LEN(StoreConfig!G489)-FIND(\"#\",StoreConfig!G489)),\"\")","v":""},{"$f":"IF($B$2=StoreConfig!C489,IF(StoreConfig!L489=0,\"不限购\",StoreConfig!L489&\"次\"),\"\")","v":""}]
[{"$nulls":3},{"$f":"IF($B$2=StoreConfig!C490,StoreConfig!O490,\"\")","v":""},{"$f":"IF($B$2=StoreConfig!C490,StoreConfig!E490,\"\")","v":""},{"$f":"IF($B$2=StoreConfig!C490,RIGHT(StoreConfig!J490,LEN(StoreConfig!J490)-FIND(\"|\",StoreConfig!J490)),\"\")","v":""},{"$f":"IFERROR(VLOOKUP(--IF($B$2=StoreConfig!C490,LEFT(StoreConfig!J490,FIND(\"|\",StoreConfig!J490)-1),\"\"),$Q$4:$R$20,2,FALSE),\"\")","v":""},{"$f":"IF($B$2=StoreConfig!C490,LEFT(StoreConfig!G490,FIND(\"#\",StoreConfig!G490)-1),\"\")","v":""},{"$f":"IF($B$2=StoreConfig!C490,RIGHT(StoreConfig!G490,LEN(StoreConfig!G490)-FIND(\"#\",StoreConfig!G490)),\"\")","v":""},{"$f":"IF($B$2=StoreConfig!C490,IF(StoreConfig!L490=0,\"不限购\",StoreConfig!L490&\"次\"),\"\")","v":""}]
[{"$nulls":3},{"$f":"IF($B$2=StoreConfig!C491,StoreConfig!O491,\"\")","v":""},{"$f":"IF($B$2=StoreConfig!C491,StoreConfig!E491,\"\")","v":""},{"$f":"IF($B$2=StoreConfig!C491,RIGHT(StoreConfig!J491,LEN(StoreConfig!J491)-FIND(\"|\",StoreConfig!J491)),\"\")","v":""},{"$f":"IFERROR(VLOOKUP(--IF($B$2=StoreConfig!C491,LEFT(StoreConfig!J491,FIND(\"|\",StoreConfig!J491)-1),\"\"),$Q$4:$R$20,2,FALSE),\"\")","v":""},{"$f":"IF($B$2=StoreConfig!C491,LEFT(StoreConfig!G491,FIND(\"#\",StoreConfig!G491)-1),\"\")","v":""},{"$f":"IF($B$2=StoreConfig!C491,RIGHT(StoreConfig!G491,LEN(StoreConfig!G491)-FIND(\"#\",StoreConfig!G491)),\"\")","v":""},{"$f":"IF($B$2=StoreConfig!C491,IF(StoreConfig!L491=0,\"不限购\",StoreConfig!L491&\"次\"),\"\")","v":""}]
[{"$nulls":3},{"$f":"IF($B$2=StoreConfig!C546,StoreConfig!O546,\"\")","v":""},{"$f":"IF($B$2=StoreConfig!C546,StoreConfig!E546,\"\")","v":""},{"$f":"IF($B$2=StoreConfig!C546,RIGHT(StoreConfig!J546,LEN(StoreConfig!J546)-FIND(\"|\",StoreConfig!J546)),\"\")","v":""},{"$f":"IFERROR(VLOOKUP(--IF($B$2=StoreConfig!C546,LEFT(StoreConfig!J546,FIND(\"|\",StoreConfig!J546)-1),\"\"),$Q$4:$R$20,2,FALSE),\"\")","v":""},{"$f":"IF($B$2=StoreConfig!C546,LEFT(StoreConfig!G546,FIND(\"#\",StoreConfig!G546)-1),\"\")","v":""},{"$f":"IF($B$2=StoreConfig!C546,RIGHT(StoreConfig!G546,LEN(StoreConfig!G546)-FIND(\"#\",StoreConfig!G546)),\"\")","v":""},{"$f":"IF($B$2=StoreConfig!C546,IF(StoreConfig!L546=0,\"不限购\",StoreConfig!L546&\"次\"),\"\")","v":""}]
[{"$nulls":3},{"$f":"IF($B$2=StoreConfig!C547,StoreConfig!O547,\"\")","v":""},{"$f":"IF($B$2=StoreConfig!C547,StoreConfig!E547,\"\")","v":""},{"$f":"IF($B$2=StoreConfig!C547,RIGHT(StoreConfig!J547,LEN(StoreConfig!J547)-FIND(\"|\",StoreConfig!J547)),\"\")","v":""},{"$f":"IFERROR(VLOOKUP(--IF($B$2=StoreConfig!C547,LEFT(StoreConfig!J547,FIND(\"|\",StoreConfig!J547)-1),\"\"),$Q$4:$R$20,2,FALSE),\"\")","v":""},{"$f":"IF($B$2=StoreConfig!C547,LEFT(StoreConfig!G547,FIND(\"#\",StoreConfig!G547)-1),\"\")","v":""},{"$f":"IF($B$2=StoreConfig!C547,RIGHT(StoreConfig!G547,LEN(StoreConfig!G547)-FIND(\"#\",StoreConfig!G547)),\"\")","v":""},{"$f":"IF($B$2=StoreConfig!C547,IF(StoreConfig!L547=0,\"不限购\",StoreConfig!L547&\"次\"),\"\")","v":""}]
[{"$nulls":3},{"$f":"IF($B$2=StoreConfig!C548,StoreConfig!O548,\"\")","v":""},{"$f":"IF($B$2=StoreConfig!C548,StoreConfig!E548,\"\")","v":""},{"$f":"IF($B$2=StoreConfig!C548,RIGHT(StoreConfig!J548,LEN(StoreConfig!J548)-FIND(\"|\",StoreConfig!J548)),\"\")","v":""},{"$f":"IFERROR(VLOOKUP(--IF($B$2=StoreConfig!C548,LEFT(StoreConfig!J548,FIND(\"|\",StoreConfig!J548)-1),\"\"),$Q$4:$R$20,2,FALSE),\"\")","v":""},{"$f":"IF($B$2=StoreConfig!C548,LEFT(StoreConfig!G548,FIND(\"#\",StoreConfig!G548)-1),\"\")","v":""},{"$f":"IF($B$2=StoreConfig!C548,RIGHT(StoreConfig!G548,LEN(StoreConfig!G548)-FIND(\"#\",StoreConfig!G548)),\"\")","v":""},{"$f":"IF($B$2=StoreConfig!C548,IF(StoreConfig!L548=0,\"不限购\",StoreConfig!L548&\"次\"),\"\")","v":""}]
[{"$nulls":3},{"$f":"IF($B$2=StoreConfig!C549,StoreConfig!O549,\"\")","v":""},{"$f":"IF($B$2=StoreConfig!C549,StoreConfig!E549,\"\")","v":""},{"$f":"IF($B$2=StoreConfig!C549,RIGHT(StoreConfig!J549,LEN(StoreConfig!J549)-FIND(\"|\",StoreConfig!J549)),\"\")","v":""},{"$f":"IFERROR(VLOOKUP(--IF($B$2=StoreConfig!C549,LEFT(StoreConfig!J549,FIND(\"|\",StoreConfig!J549)-1),\"\"),$Q$4:$R$20,2,FALSE),\"\")","v":""},{"$f":"IF($B$2=StoreConfig!C549,LEFT(StoreConfig!G549,FIND(\"#\",StoreConfig!G549)-1),\"\")","v":""},{"$f":"IF($B$2=StoreConfig!C549,RIGHT(StoreConfig!G549,LEN(StoreConfig!G549)-FIND(\"#\",StoreConfig!G549)),\"\")","v":""},{"$f":"IF($B$2=StoreConfig!C549,IF(StoreConfig!L549=0,\"不限购\",StoreConfig!L549&\"次\"),\"\")","v":""}]
[{"$nulls":3},{"$f":"IF($B$2=StoreConfig!C550,StoreConfig!O550,\"\")","v":""},{"$f":"IF($B$2=StoreConfig!C550,StoreConfig!E550,\"\")","v":""},{"$f":"IF($B$2=StoreConfig!C550,RIGHT(StoreConfig!J550,LEN(StoreConfig!J550)-FIND(\"|\",StoreConfig!J550)),\"\")","v":""},{"$f":"IFERROR(VLOOKUP(--IF($B$2=StoreConfig!C550,LEFT(StoreConfig!J550,FIND(\"|\",StoreConfig!J550)-1),\"\"),$Q$4:$R$20,2,FALSE),\"\")","v":""},{"$f":"IF($B$2=StoreConfig!C550,LEFT(StoreConfig!G550,FIND(\"#\",StoreConfig!G550)-1),\"\")","v":""},{"$f":"IF($B$2=StoreConfig!C550,RIGHT(StoreConfig!G550,LEN(StoreConfig!G550)-FIND(\"#\",StoreConfig!G550)),\"\")","v":""},{"$f":"IF($B$2=StoreConfig!C550,IF(StoreConfig!L550=0,\"不限购\",StoreConfig!L550&\"次\"),\"\")","v":""}]
[{"$nulls":3},{"$f":"IF($B$2=StoreConfig!C551,StoreConfig!O551,\"\")","v":""},{"$f":"IF($B$2=StoreConfig!C551,StoreConfig!E551,\"\")","v":""},{"$f":"IF($B$2=StoreConfig!C551,RIGHT(StoreConfig!J551,LEN(StoreConfig!J551)-FIND(\"|\",StoreConfig!J551)),\"\")","v":""},{"$f":"IFERROR(VLOOKUP(--IF($B$2=StoreConfig!C551,LEFT(StoreConfig!J551,FIND(\"|\",StoreConfig!J551)-1),\"\"),$Q$4:$R$20,2,FALSE),\"\")","v":""},{"$f":"IF($B$2=StoreConfig!C551,LEFT(StoreConfig!G551,FIND(\"#\",StoreConfig!G551)-1),\"\")","v":""},{"$f":"IF($B$2=StoreConfig!C551,RIGHT(StoreConfig!G551,LEN(StoreConfig!G551)-FIND(\"#\",StoreConfig!G551)),\"\")","v":""},{"$f":"IF($B$2=StoreConfig!C551,IF(StoreConfig!L551=0,\"不限购\",StoreConfig!L551&\"次\"),\"\")","v":""}]
[{"$nulls":3},{"$f":"IF($B$2=StoreConfig!C552,StoreConfig!O552,\"\")","v":""},{"$f":"IF($B$2=StoreConfig!C552,StoreConfig!E552,\"\")","v":""},{"$f":"IF($B$2=StoreConfig!C552,RIGHT(StoreConfig!J552,LEN(StoreConfig!J552)-FIND(\"|\",StoreConfig!J552)),\"\")","v":""},{"$f":"IFERROR(VLOOKUP(--IF($B$2=StoreConfig!C552,LEFT(StoreConfig!J552,FIND(\"|\",StoreConfig!J552)-1),\"\"),$Q$4:$R$20,2,FALSE),\"\")","v":""},{"$f":"IF($B$2=StoreConfig!C552,LEFT(StoreConfig!G552,FIND(\"#\",StoreConfig!G552)-1),\"\")","v":""},{"$f":"IF($B$2=StoreConfig!C552,RIGHT(StoreConfig!G552,LEN(StoreConfig!G552)-FIND(\"#\",StoreConfig!G552)),\"\")","v":""},{"$f":"IF($B$2=StoreConfig!C552,IF(StoreConfig!L552=0,\"不限购\",StoreConfig!L552&\"次\"),\"\")","v":""}]
[{"$nulls":3},{"$f":"IF($B$2=StoreConfig!#REF!,StoreConfig!#REF!,\"\")","v":{"$error":"#REF!"}},{"$f":"IF($B$2=StoreConfig!#REF!,StoreConfig!#REF!,\"\")","v":{"$error":"#REF!"}},{"$f":"IF($B$2=StoreConfig!#REF!,RIGHT(StoreConfig!#REF!,LEN(StoreConfig!#REF!)-FIND(\"|\",StoreConfig!#REF!)),\"\")","v":{"$error":"#REF!"}},{"$f":"IFERROR(VLOOKUP(--IF($B$2=StoreConfig!#REF!,LEFT(StoreConfig!#REF!,FIND(\"|\",StoreConfig!#REF!)-1),\"\"),$Q$4:$R$20,2,FALSE),\"\")","v":""},{"$f":"IF($B$2=StoreConfig!#REF!,LEFT(StoreConfig!#REF!,FIND(\"#\",StoreConfig!#REF!)-1),\"\")","v":{"$error":"#REF!"}},{"$f":"IF($B$2=StoreConfig!#REF!,RIGHT(StoreConfig!#REF!,LEN(StoreConfig!#REF!)-FIND(\"#\",StoreConfig!#REF!)),\"\")","v":{"$error":"#REF!"}},{"$f":"IF($B$2=StoreConfig!#REF!,IF(StoreConfig!#REF!=0,\"不限购\",StoreConfig!#REF!&\"次\"),\"\")","v":{"$error":"#REF!"}}]
[{"$nulls":3},{"$f":"IF($B$2=StoreConfig!#REF!,StoreConfig!#REF!,\"\")","v":{"$error":"#REF!"}},{"$f":"IF($B$2=StoreConfig!#REF!,StoreConfig!#REF!,\"\")","v":{"$error":"#REF!"}},{"$f":"IF($B$2=StoreConfig!#REF!,RIGHT(StoreConfig!#REF!,LEN(StoreConfig!#REF!)-FIND(\"|\",StoreConfig!#REF!)),\"\")","v":{"$error":"#REF!"}},{"$f":"IFERROR(VLOOKUP(--IF($B$2=StoreConfig!#REF!,LEFT(StoreConfig!#REF!,FIND(\"|\",StoreConfig!#REF!)-1),\"\"),$Q$4:$R$20,2,FALSE),\"\")","v":""},{"$f":"IF($B$2=StoreConfig!#REF!,LEFT(StoreConfig!#REF!,FIND(\"#\",StoreConfig!#REF!)-1),\"\")","v":{"$error":"#REF!"}},{"$f":"IF($B$2=StoreConfig!#REF!,RIGHT(StoreConfig!#REF!,LEN(StoreConfig!#REF!)-FIND(\"#\",StoreConfig!#REF!)),\"\")","v":{"$error":"#REF!"}},{"$f":"IF($B$2=StoreConfig!#REF!,IF(StoreConfig!#REF!=0,\"不限购\",StoreConfig!#REF!&\"次\"),\"\")","v":{"$error":"#REF!"}}]
[{"$nulls":3},{"$f":"IF($B$2=StoreConfig!#REF!,StoreConfig!#REF!,\"\")","v":{"$error":"#REF!"}},{"$f":"IF($B$2=StoreConfig!#REF!,StoreConfig!#REF!,\"\")","v":{"$error":"#REF!"}},{"$f":"IF($B$2=StoreConfig!#REF!,RIGHT(StoreConfig!#REF!,LEN(StoreConfig!#REF!)-FIND(\"|\",StoreConfig!#REF!)),\"\")","v":{"$error":"#REF!"}},{"$f":"IFERROR(VLOOKUP(--IF($B$2=StoreConfig!#REF!,LEFT(StoreConfig!#REF!,FIND(\"|\",StoreConfig!#REF!)-1),\"\"),$Q$4:$R$20,2,FALSE),\"\")","v":""},{"$f":"IF($B$2=StoreConfig!#REF!,LEFT(StoreConfig!#REF!,FIND(\"#\",StoreConfig!#REF!)-1),\"\")","v":{"$error":"#REF!"}},{"$f":"IF($B$2=StoreConfig!#REF!,RIGHT(StoreConfig!#REF!,LEN(StoreConfig!#REF!)-FIND(\"#\",StoreConfig!#REF!)),\"\")","v":{"$error":"#REF!"}},{"$f":"IF($B$2=StoreConfig!#REF!,IF(StoreConfig!#REF!=0,\"不限购\",StoreConfig!#REF!&\"次\"),\"\")","v":{"$error":"#REF!"}}]
[{"$nulls":3},{"$f":"IF($B$2=StoreConfig!#REF!,StoreConfig!#REF!,\"\")","v":{"$error":"#REF!"}},{"$f":"IF($B$2=StoreConfig!#REF!,StoreConfig!#REF!,\"\")","v":{"$error":"#REF!"}},{"$f":"IF($B$2=StoreConfig!#REF!,RIGHT(StoreConfig!#REF!,LEN(StoreConfig!#REF!)-FIND(\"|\",StoreConfig!#REF!)),\"\")","v":{"$error":"#REF!"}},{"$f":"IFERROR(VLOOKUP(--IF($B$2=StoreConfig!#REF!,LEFT(StoreConfig!#REF!,FIND(\"|\",StoreConfig!#REF!)-1),\"\"),$Q$4:$R$20,2,FALSE),\"\")","v":""},{"$f":"IF($B$2=StoreConfig!#REF!,LEFT(StoreConfig!#REF!,FIND(\"#\",StoreConfig!#REF!)-1),\"\")","v":{"$error":"#REF!"}},{"$f":"IF($B$2=StoreConfig!#REF!,RIGHT(StoreConfig!#REF!,LEN(StoreConfig!#REF!)-FIND(\"#\",StoreConfig!#REF!)),\"\")","v":{"$error":"#REF!"}},{"$f":"IF($B$2=StoreConfig!#REF!,IF(StoreConfig!#REF!=0,\"不限购\",StoreConfig!#REF!&\"次\"),\"\")","v":{"$error":"#REF!"}}]
[{"$nulls":3},{"$f":"IF($B$2=StoreConfig!#REF!,StoreConfig!#REF!,\"\")","v":{"$error":"#REF!"}},{"$f":"IF($B$2=StoreConfig!#REF!,StoreConfig!#REF!,\"\")","v":{"$error":"#REF!"}},{"$f":"IF($B$2=StoreConfig!#REF!,RIGHT(StoreConfig!#REF!,LEN(StoreConfig!#REF!)-FIND(\"|\",StoreConfig!#REF!)),\"\")","v":{"$error":"#REF!"}},{"$f":"IFERROR(VLOOKUP(--IF($B$2=StoreConfig!#REF!,LEFT(StoreConfig!#REF!,FIND(\"|\",StoreConfig!#REF!)-1),\"\"),$Q$4:$R$20,2,FALSE),\"\")","v":""},{"$f":"IF($B$2=StoreConfig!#REF!,LEFT(StoreConfig!#REF!,FIND(\"#\",StoreConfig!#REF!)-1),\"\")","v":{"$error":"#REF!"}},{"$f":"IF($B$2=StoreConfig!#REF!,RIGHT(StoreConfig!#REF!,LEN(StoreConfig!#REF!)-FIND(\"#\",StoreConfig!#REF!)),\"\")","v":{"$error":"#REF!"}},{"$f":"IF($B$2=StoreConfig!#REF!,IF(StoreConfig!#REF!=0,\"不限购\",StoreConfig!#REF!&\"次\"),\"\")","v":{"$error":"#REF!"}}]
[{"$nulls":3},{"$f":"IF($B$2=StoreConfig!#REF!,StoreConfig!#REF!,\"\")","v":{"$error":"#REF!"}},{"$f":"IF($B$2=StoreConfig!#REF!,StoreConfig!#REF!,\"\")","v":{"$error":"#REF!"}},{"$f":"IF($B$2=StoreConfig!#REF!,RIGHT(StoreConfig!#REF!,LEN(StoreConfig!#REF!)-FIND(\"|\",StoreConfig!#REF!)),\"\")","v":{"$error":"#REF!"}},{"$f":"IFERROR(VLOOKUP(--IF($B$2=StoreConfig!#REF!,LEFT(StoreConfig!#REF!,FIND(\"|\",StoreConfig!#REF!)-1),\"\"),$Q$4:$R$20,2,FALSE),\"\")","v":""},{"$f":"IF($B$2=StoreConfig!#REF!,LEFT(StoreConfig!#REF!,FIND(\"#\",StoreConfig!#REF!)-1),\"\")","v":{"$error":"#REF!"}},{"$f":"IF($B$2=StoreConfig!#REF!,RIGHT(StoreConfig!#REF!,LEN(StoreConfig!#REF!)-FIND(\"#\",StoreConfig!#REF!)),\"\")","v":{"$error":"#REF!"}},{"$f":"IF($B$2=StoreConfig!#REF!,IF(StoreConfig!#REF!=0,\"不限购\",StoreConfig!#REF!&\"次\"),\"\")","v":{"$error":"#REF!"}}]
[{"$nulls":3},{"$f":"IF($B$2=StoreConfig!#REF!,StoreConfig!#REF!,\"\")","v":{"$error":"#REF!"}},{"$f":"IF($B$2=StoreConfig!#REF!,StoreConfig!#REF!,\"\")","v":{"$error":"#REF!"}},{"$f":"IF($B$2=StoreConfig!#REF!,RIGHT(StoreConfig!#REF!,LEN(StoreConfig!#REF!)-FIND(\"|\",StoreConfig!#REF!)),\"\")","v":{"$error":"#REF!"}},{"$f":"IFERROR(VLOOKUP(--IF($B$2=StoreConfig!#REF!,LEFT(StoreConfig!#REF!,FIND(\"|\",StoreConfig!#REF!)-1),\"\"),$Q$4:$R$20,2,FALSE),\"\")","v":""},{"$f":"IF($B$2=StoreConfig!#REF!,LEFT(StoreConfig!#REF!,FIND(\"#\",StoreConfig!#REF!)-1),\"\")","v":{"$error":"#REF!"}},{"$f":"IF($B$2=StoreConfig!#REF!,RIGHT(StoreConfig!#REF!,LEN(StoreConfig!#REF!)-FIND(\"#\",StoreConfig!#REF!)),\"\")","v":{"$error":"#REF!"}},{"$f":"IF($B$2=StoreConfig!#REF!,IF(StoreConfig!#REF!=0,\"不限购\",StoreConfig!#REF!&\"次\"),\"\")","v":{"$error":"#REF!"}}]
[{"$nulls":3},{"$f":"IF($B$2=StoreConfig!#REF!,StoreConfig!#REF!,\"\")","v":{"$error":"#REF!"}},{"$f":"IF($B$2=StoreConfig!#REF!,StoreConfig!#REF!,\"\")","v":{"$error":"#REF!"}},{"$f":"IF($B$2=StoreConfig!#REF!,RIGHT(StoreConfig!#REF!,LEN(StoreConfig!#REF!)-FIND(\"|\",StoreConfig!#REF!)),\"\")","v":{"$error":"#REF!"}},{"$f":"IFERROR(VLOOKUP(--IF($B$2=StoreConfig!#REF!,LEFT(StoreConfig!#REF!,FIND(\"|\",StoreConfig!#REF!)-1),\"\"),$Q$4:$R$20,2,FALSE),\"\")","v":""},{"$f":"IF($B$2=StoreConfig!#REF!,LEFT(StoreConfig!#REF!,FIND(\"#\",StoreConfig!#REF!)-1),\"\")","v":{"$error":"#REF!"}},{"$f":"IF($B$2=StoreConfig!#REF!,RIGHT(StoreConfig!#REF!,LEN(StoreConfig!#REF!)-FIND(\"#\",StoreConfig!#REF!)),\"\")","v":{"$error":"#REF!"}},{"$f":"IF($B$2=StoreConfig!#REF!,IF(StoreConfig!#REF!=0,\"不限购\",StoreConfig!#REF!&\"次\"),\"\")","v":{"$error":"#REF!"}}]
[{"$nulls":3},{"$f":"IF($B$2=StoreConfig!#REF!,StoreConfig!#REF!,\"\")","v":{"$error":"#REF!"}},{"$f":"IF($B$2=StoreConfig!#REF!,StoreConfig!#REF!,\"\")","v":{"$error":"#REF!"}},{"$f":"IF($B$2=StoreConfig!#REF!,RIGHT(StoreConfig!#REF!,LEN(StoreConfig!#REF!)-FIND(\"|\",StoreConfig!#REF!)),\"\")","v":{"$error":"#REF!"}},{"$f":"IFERROR(VLOOKUP(--IF($B$2=StoreConfig!#REF!,LEFT(StoreConfig!#REF!,FIND(\"|\",StoreConfig!#REF!)-1),\"\"),$Q$4:$R$20,2,FALSE),\"\")","v":""},{"$f":"IF($B$2=StoreConfig!#REF!,LEFT(StoreConfig!#REF!,FIND(\"#\",StoreConfig!#REF!)-1),\"\")","v":{"$error":"#REF!"}},{"$f":"IF($B$2=StoreConfig!#REF!,RIGHT(StoreConfig!#REF!,LEN(StoreConfig!#REF!)-FIND(\"#\",StoreConfig!#REF!)),\"\")","v":{"$error":"#REF!"}},{"$f":"IF($B$2=StoreConfig!#REF!,IF(StoreConfig!#REF!=0,\"不限购\",StoreConfig!#REF!&\"次\"),\"\")","v":{"$error":"#REF!"}}]
[{"$nulls":3},{"$f":"IF($B$2=StoreConfig!#REF!,StoreConfig!#REF!,\"\")","v":{"$error":"#REF!"}},{"$f":"IF($B$2=StoreConfig!#REF!,StoreConfig!#REF!,\"\")","v":{"$error":"#REF!"}},{"$f":"IF($B$2=StoreConfig!#REF!,RIGHT(StoreConfig!#REF!,LEN(StoreConfig!#REF!)-FIND(\"|\",StoreConfig!#REF!)),\"\")","v":{"$error":"#REF!"}},{"$f":"IFERROR(VLOOKUP(--IF($B$2=StoreConfig!#REF!,LEFT(StoreConfig!#REF!,FIND(\"|\",StoreConfig!#REF!)-1),\"\"),$Q$4:$R$20,2,FALSE),\"\")","v":""},{"$f":"IF($B$2=StoreConfig!#REF!,LEFT(StoreConfig!#REF!,FIND(\"#\",StoreConfig!#REF!)-1),\"\")","v":{"$error":"#REF!"}},{"$f":"IF($B$2=StoreConfig!#REF!,RIGHT(StoreConfig!#REF!,LEN(StoreConfig!#REF!)-FIND(\"#\",StoreConfig!#REF!)),\"\")","v":{"$error":"#REF!"}},{"$f":"IF($B$2=StoreConfig!#REF!,IF(StoreConfig!#REF!=0,\"不限购\",StoreConfig!#REF!&\"次\"),\"\")","v":{"$error":"#REF!"}}]
[{"$nulls":3},{"$f":"IF($B$2=StoreConfig!#REF!,StoreConfig!#REF!,\"\")","v":{"$error":"#REF!"}},{"$f":"IF($B$2=StoreConfig!#REF!,StoreConfig!#REF!,\"\")","v":{"$error":"#REF!"}},{"$f":"IF($B$2=StoreConfig!#REF!,RIGHT(StoreConfig!#REF!,LEN(StoreConfig!#REF!)-FIND(\"|\",StoreConfig!#REF!)),\"\")","v":{"$error":"#REF!"}},{"$f":"IFERROR(VLOOKUP(--IF($B$2=StoreConfig!#REF!,LEFT(StoreConfig!#REF!,FIND(\"|\",StoreConfig!#REF!)-1),\"\"),$Q$4:$R$20,2,FALSE),\"\")","v":""},{"$f":"IF($B$2=StoreConfig!#REF!,LEFT(StoreConfig!#REF!,FIND(\"#\",StoreConfig!#REF!)-1),\"\")","v":{"$error":"#REF!"}},{"$f":"IF($B$2=StoreConfig!#REF!,RIGHT(StoreConfig!#REF!,LEN(StoreConfig!#REF!)-FIND(\"#\",StoreConfig!#REF!)),\"\")","v":{"$error":"#REF!"}},{"$f":"IF($B$2=StoreConfig!#REF!,IF(StoreConfig!#REF!=0,\"不限购\",StoreConfig!#REF!&\"次\"),\"\")","v":{"$error":"#REF!"}}]
[{"$nulls":3},{"$f":"IF($B$2=StoreConfig!C833,StoreConfig!O833,\"\")","v":""},{"$f":"IF($B$2=StoreConfig!C833,StoreConfig!E833,\"\")","v":""},{"$f":"IF($B$2=StoreConfig!C833,RIGHT(StoreConfig!#REF!,LEN(StoreConfig!#REF!)-FIND(\"|\",StoreConfig!#REF!)),\"\")","v":""},{"$f":"IFERROR(VLOOKUP(--IF($B$2=StoreConfig!C833,LEFT(StoreConfig!#REF!,FIND(\"|\",StoreConfig!#REF!)-1),\"\"),$Q$4:$R$20,2,FALSE),\"\")","v":""},{"$f":"IF($B$2=StoreConfig!C833,LEFT(StoreConfig!G833,FIND(\"#\",StoreConfig!G833)-1),\"\")","v":""},{"$f":"IF($B$2=StoreConfig!C833,RIGHT(StoreConfig!G833,LEN(StoreConfig!G833)-FIND(\"#\",StoreConfig!G833)),\"\")","v":""},{"$f":"IF($B$2=StoreConfig!C833,IF(StoreConfig!L833=0,\"不限购\",StoreConfig!L833&\"次\"),\"\")","v":""}]
[{"$nulls":3},{"$f":"IF($B$2=StoreConfig!C834,StoreConfig!O834,\"\")","v":""},{"$f":"IF($B$2=StoreConfig!C834,StoreConfig!E834,\"\")","v":""},{"$f":"IF($B$2=StoreConfig!C834,RIGHT(StoreConfig!#REF!,LEN(StoreConfig!#REF!)-FIND(\"|\",StoreConfig!#REF!)),\"\")","v":""},{"$f":"IFERROR(VLOOKUP(--IF($B$2=StoreConfig!C834,LEFT(StoreConfig!#REF!,FIND(\"|\",StoreConfig!#REF!)-1),\"\"),$Q$4:$R$20,2,FALSE),\"\")","v":""},{"$f":"IF($B$2=StoreConfig!C834,LEFT(StoreConfig!G834,FIND(\"#\",StoreConfig!G834)-1),\"\")","v":""},{"$f":"IF($B$2=StoreConfig!C834,RIGHT(StoreConfig!G834,LEN(StoreConfig!G834)-FIND(\"#\",StoreConfig!G834)),\"\")","v":""},{"$f":"IF($B$2=StoreConfig!C834,IF(StoreConfig!L834=0,\"不限购\",StoreConfig!L834&\"次\"),\"\")","v":""}]
[{"$nulls":3},{"$f":"IF($B$2=StoreConfig!C835,StoreConfig!O835,\"\")","v":""},{"$f":"IF($B$2=StoreConfig!C835,StoreConfig!E835,\"\")","v":""},{"$f":"IF($B$2=StoreConfig!C835,RIGHT(StoreConfig!#REF!,LEN(StoreConfig!#REF!)-FIND(\"|\",StoreConfig!#REF!)),\"\")","v":""},{"$f":"IFERROR(VLOOKUP(--IF($B$2=StoreConfig!C835,LEFT(StoreConfig!#REF!,FIND(\"|\",StoreConfig!#REF!)-1),\"\"),$Q$4:$R$20,2,FALSE),\"\")","v":""},{"$f":"IF($B$2=StoreConfig!C835,LEFT(StoreConfig!G835,FIND(\"#\",StoreConfig!G835)-1),\"\")","v":""},{"$f":"IF($B$2=StoreConfig!C835,RIGHT(StoreConfig!G835,LEN(StoreConfig!G835)-FIND(\"#\",StoreConfig!G835)),\"\")","v":""},{"$f":"IF($B$2=StoreConfig!C835,IF(StoreConfig!L835=0,\"不限购\",StoreConfig!L835&\"次\"),\"\")","v":""}]
[{"$nulls":3},{"$f":"IF($B$2=StoreConfig!C836,StoreConfig!O836,\"\")","v":""},{"$f":"IF($B$2=StoreConfig!C836,StoreConfig!E836,\"\")","v":""},{"$f":"IF($B$2=StoreConfig!C836,RIGHT(StoreConfig!#REF!,LEN(StoreConfig!#REF!)-FIND(\"|\",StoreConfig!#REF!)),\"\")","v":""},{"$f":"IFERROR(VLOOKUP(--IF($B$2=StoreConfig!C836,LEFT(StoreConfig!#REF!,FIND(\"|\",StoreConfig!#REF!)-1),\"\"),$Q$4:$R$20,2,FALSE),\"\")","v":""},{"$f":"IF($B$2=StoreConfig!C836,LEFT(StoreConfig!G836,FIND(\"#\",StoreConfig!G836)-1),\"\")","v":""},{"$f":"IF($B$2=StoreConfig!C836,RIGHT(StoreConfig!G836,LEN(StoreConfig!G836)-FIND(\"#\",StoreConfig!G836)),\"\")","v":""},{"$f":"IF($B$2=StoreConfig!C836,IF(StoreConfig!L836=0,\"不限购\",StoreConfig!L836&\"次\"),\"\")","v":""}]
[{"$nulls":3},{"$f":"IF($B$2=StoreConfig!C837,StoreConfig!O837,\"\")","v":""},{"$f":"IF($B$2=StoreConfig!C837,StoreConfig!E837,\"\")","v":""},{"$f":"IF($B$2=StoreConfig!C837,RIGHT(StoreConfig!#REF!,LEN(StoreConfig!#REF!)-FIND(\"|\",StoreConfig!#REF!)),\"\")","v":""},{"$f":"IFERROR(VLOOKUP(--IF($B$2=StoreConfig!C837,LEFT(StoreConfig!#REF!,FIND(\"|\",StoreConfig!#REF!)-1),\"\"),$Q$4:$R$20,2,FALSE),\"\")","v":""},{"$f":"IF($B$2=StoreConfig!C837,LEFT(StoreConfig!G837,FIND(\"#\",StoreConfig!G837)-1),\"\")","v":""},{"$f":"IF($B$2=StoreConfig!C837,RIGHT(StoreConfig!G837,LEN(StoreConfig!G837)-FIND(\"#\",StoreConfig!G837)),\"\")","v":""},{"$f":"IF($B$2=StoreConfig!C837,IF(StoreConfig!L837=0,\"不限购\",StoreConfig!L837&\"次\"),\"\")","v":""}]
[{"$nulls":3},{"$f":"IF($B$2=StoreConfig!C838,StoreConfig!O838,\"\")","v":""},{"$f":"IF($B$2=StoreConfig!C838,StoreConfig!E838,\"\")","v":""},{"$f":"IF($B$2=StoreConfig!C838,RIGHT(StoreConfig!#REF!,LEN(StoreConfig!#REF!)-FIND(\"|\",StoreConfig!#REF!)),\"\")","v":""},{"$f":"IFERROR(VLOOKUP(--IF($B$2=StoreConfig!C838,LEFT(StoreConfig!#REF!,FIND(\"|\",StoreConfig!#REF!)-1),\"\"),$Q$4:$R$20,2,FALSE),\"\")","v":""},{"$f":"IF($B$2=StoreConfig!C838,LEFT(StoreConfig!G838,FIND(\"#\",StoreConfig!G838)-1),\"\")","v":""},{"$f":"IF($B$2=StoreConfig!C838,RIGHT(StoreConfig!G838,LEN(StoreConfig!G838)-FIND(\"#\",StoreConfig!G838)),\"\")","v":""},{"$f":"IF($B$2=StoreConfig!C838,IF(StoreConfig!L838=0,\"不限购\",StoreConfig!L838&\"次\"),\"\")","v":""}]
[{"$nulls":3},{"$f":"IF($B$2=StoreConfig!C839,StoreConfig!O839,\"\")","v":""},{"$f":"IF($B$2=StoreConfig!C839,StoreConfig!E839,\"\")","v":""},{"$f":"IF($B$2=StoreConfig!C839,RIGHT(StoreConfig!J839,LEN(StoreConfig!J839)-FIND(\"|\",StoreConfig!J839)),\"\")","v":""},{"$f":"IFERROR(VLOOKUP(--IF($B$2=StoreConfig!C839,LEFT(StoreConfig!J839,FIND(\"|\",StoreConfig!J839)-1),\"\"),$Q$4:$R$20,2,FALSE),\"\")","v":""},{"$f":"IF($B$2=StoreConfig!C839,LEFT(StoreConfig!G839,FIND(\"#\",StoreConfig!G839)-1),\"\")","v":""},{"$f":"IF($B$2=StoreConfig!C839,RIGHT(StoreConfig!G839,LEN(StoreConfig!G839)-FIND(\"#\",StoreConfig!G839)),\"\")","v":""},{"$f":"IF($B$2=StoreConfig!C839,IF(StoreConfig!L839=0,\"不限购\",StoreConfig!L839&\"次\"),\"\")","v":""}]
[{"$nulls":3},{"$f":"IF($B$2=StoreConfig!C840,StoreConfig!O840,\"\")","v":"无尽商店"},{"$f":"IF($B$2=StoreConfig!C840,StoreConfig!E840,\"\")","v":1},{"$f":"IF($B$2=StoreConfig!C840,RIGHT(StoreConfig!J840,LEN(StoreConfig!J840)-FIND(\"|\",StoreConfig!J840)),\"\")","v":"0#0#0#20000"},{"$f":"IFERROR(VLOOKUP(--IF($B$2=StoreConfig!C840,LEFT(StoreConfig!J840,FIND(\"|\",StoreConfig!J840)-1),\"\"),$Q$4:$R$20,2,FALSE),\"\")","v":"上古钱币"},{"$f":"IF($B$2=StoreConfig!C840,LEFT(StoreConfig!G840,FIND(\"#\",StoreConfig!G840)-1),\"\")","v":"1"},{"$f":"IF($B$2=StoreConfig!C840,RIGHT(StoreConfig!G840,LEN(StoreConfig!G840)-FIND(\"#\",StoreConfig!G840)),\"\")","v":"300"},{"$f":"IF($B$2=StoreConfig!C840,IF(StoreConfig!L840=0,\"不限购\",StoreConfig!L840&\"次\"),\"\")","v":"不限购"}]
[{"$nulls":3},{"$f":"IF($B$2=StoreConfig!C841,StoreConfig!O841,\"\")","v":""},{"$f":"IF($B$2=StoreConfig!C841,StoreConfig!E841,\"\")","v":""},{"$f":"IF($B$2=StoreConfig!C841,RIGHT(StoreConfig!J841,LEN(StoreConfig!J841)-FIND(\"|\",StoreConfig!J841)),\"\")","v":""},{"$f":"IFERROR(VLOOKUP(--IF($B$2=StoreConfig!C841,LEFT(StoreConfig!J841,FIND(\"|\",StoreConfig!J841)-1),\"\"),$Q$4:$R$20,2,FALSE),\"\")","v":""},{"$f":"IF($B$2=StoreConfig!C841,LEFT(StoreConfig!G841,FIND(\"#\",StoreConfig!G841)-1),\"\")","v":""},{"$f":"IF($B$2=StoreConfig!C841,RIGHT(StoreConfig!G841,LEN(StoreConfig!G841)-FIND(\"#\",StoreConfig!G841)),\"\")","v":""},{"$f":"IF($B$2=StoreConfig!C841,IF(StoreConfig!L841=0,\"不限购\",StoreConfig!L841&\"次\"),\"\")","v":""}]
[{"$nulls":3},{"$f":"IF($B$2=StoreConfig!C842,StoreConfig!O842,\"\")","v":""},{"$f":"IF($B$2=StoreConfig!C842,StoreConfig!E842,\"\")","v":""},{"$f":"IF($B$2=StoreConfig!C842,RIGHT(StoreConfig!J842,LEN(StoreConfig!J842)-FIND(\"|\",StoreConfig!J842)),\"\")","v":""},{"$f":"IFERROR(VLOOKUP(--IF($B$2=StoreConfig!C842,LEFT(StoreConfig!J842,FIND(\"|\",StoreConfig!J842)-1),\"\"),$Q$4:$R$20,2,FALSE),\"\")","v":""},{"$f":"IF($B$2=StoreConfig!C842,LEFT(StoreConfig!G842,FIND(\"#\",StoreConfig!G842)-1),\"\")","v":""},{"$f":"IF($B$2=StoreConfig!C842,RIGHT(StoreConfig!G842,LEN(StoreConfig!G842)-FIND(\"#\",StoreConfig!G842)),\"\")","v":""},{"$f":"IF($B$2=StoreConfig!C842,IF(StoreConfig!L842=0,\"不限购\",StoreConfig!L842&\"次\"),\"\")","v":""}]
[{"$nulls":3},{"$f":"IF($B$2=StoreConfig!C843,StoreConfig!O843,\"\")","v":""},{"$f":"IF($B$2=StoreConfig!C843,StoreConfig!E843,\"\")","v":""},{"$f":"IF($B$2=StoreConfig!C843,RIGHT(StoreConfig!J843,LEN(StoreConfig!J843)-FIND(\"|\",StoreConfig!J843)),\"\")","v":""},{"$f":"IFERROR(VLOOKUP(--IF($B$2=StoreConfig!C843,LEFT(StoreConfig!J843,FIND(\"|\",StoreConfig!J843)-1),\"\"),$Q$4:$R$20,2,FALSE),\"\")","v":""},{"$f":"IF($B$2=StoreConfig!C843,LEFT(StoreConfig!G843,FIND(\"#\",StoreConfig!G843)-1),\"\")","v":""},{"$f":"IF($B$2=StoreConfig!C843,RIGHT(StoreConfig!G843,LEN(StoreConfig!G843)-FIND(\"#\",StoreConfig!G843)),\"\")","v":""},{"$f":"IF($B$2=StoreConfig!C843,IF(StoreConfig!L843=0,\"不限购\",StoreConfig!L843&\"次\"),\"\")","v":""}]
[{"$nulls":3},{"$f":"IF($B$2=StoreConfig!C844,StoreConfig!O844,\"\")","v":""},{"$f":"IF($B$2=StoreConfig!C844,StoreConfig!E844,\"\")","v":""},{"$f":"IF($B$2=StoreConfig!C844,RIGHT(StoreConfig!J844,LEN(StoreConfig!J844)-FIND(\"|\",StoreConfig!J844)),\"\")","v":""},{"$f":"IFERROR(VLOOKUP(--IF($B$2=StoreConfig!C844,LEFT(StoreConfig!J844,FIND(\"|\",StoreConfig!J844)-1),\"\"),$Q$4:$R$20,2,FALSE),\"\")","v":""},{"$f":"IF($B$2=StoreConfig!C844,LEFT(StoreConfig!G844,FIND(\"#\",StoreConfig!G844)-1),\"\")","v":""},{"$f":"IF($B$2=StoreConfig!C844,RIGHT(StoreConfig!G844,LEN(StoreConfig!G844)-FIND(\"#\",StoreConfig!G844)),\"\")","v":""},{"$f":"IF($B$2=StoreConfig!C844,IF(StoreConfig!L844=0,\"不限购\",StoreConfig!L844&\"次\"),\"\")","v":""}]
[{"$nulls":3},{"$f":"IF($B$2=StoreConfig!C845,StoreConfig!O845,\"\")","v":""},{"$f":"IF($B$2=StoreConfig!C845,StoreConfig!E845,\"\")","v":""},{"$f":"IF($B$2=StoreConfig!C845,RIGHT(StoreConfig!J845,LEN(StoreConfig!J845)-FIND(\"|\",StoreConfig!J845)),\"\")","v":""},{"$f":"IFERROR(VLOOKUP(--IF($B$2=StoreConfig!C845,LEFT(StoreConfig!J845,FIND(\"|\",StoreConfig!J845)-1),\"\"),$Q$4:$R$20,2,FALSE),\"\")","v":""},{"$f":"IF($B$2=StoreConfig!C845,LEFT(StoreConfig!G845,FIND(\"#\",StoreConfig!G845)-1),\"\")","v":""},{"$f":"IF($B$2=StoreConfig!C845,RIGHT(StoreConfig!G845,LEN(StoreConfig!G845)-FIND(\"#\",StoreConfig!G845)),\"\")","v":""},{"$f":"IF($B$2=StoreConfig!C845,IF(StoreConfig!L845=0,\"不限购\",StoreConfig!L845&\"次\"),\"\")","v":""}]
[{"$nulls":3},{"$f":"IF($B$2=StoreConfig!C846,StoreConfig!O846,\"\")","v":""},{"$f":"IF($B$2=StoreConfig!C846,StoreConfig!E846,\"\")","v":""},{"$f":"IF($B$2=StoreConfig!C846,RIGHT(StoreConfig!J846,LEN(StoreConfig!J846)-FIND(\"|\",StoreConfig!J846)),\"\")","v":""},{"$f":"IFERROR(VLOOKUP(--IF($B$2=StoreConfig!C846,LEFT(StoreConfig!J846,FIND(\"|\",StoreConfig!J846)-1),\"\"),$Q$4:$R$20,2,FALSE),\"\")","v":""},{"$f":"IF($B$2=StoreConfig!C846,LEFT(StoreConfig!G846,FIND(\"#\",StoreConfig!G846)-1),\"\")","v":""},{"$f":"IF($B$2=StoreConfig!C846,RIGHT(StoreConfig!G846,LEN(StoreConfig!G846)-FIND(\"#\",StoreConfig!G846)),\"\")","v":""},{"$f":"IF($B$2=StoreConfig!C846,IF(StoreConfig!L846=0,\"不限购\",StoreConfig!L846&\"次\"),\"\")","v":""}]
[{"$nulls":3},{"$f":"IF($B$2=StoreConfig!C847,StoreConfig!O847,\"\")","v":""},{"$f":"IF($B$2=StoreConfig!C847,StoreConfig!E847,\"\")","v":""},{"$f":"IF($B$2=StoreConfig!C847,RIGHT(StoreConfig!J847,LEN(StoreConfig!J847)-FIND(\"|\",StoreConfig!J847)),\"\")","v":""},{"$f":"IFERROR(VLOOKUP(--IF($B$2=StoreConfig!C847,LEFT(StoreConfig!J847,FIND(\"|\",StoreConfig!J847)-1),\"\"),$Q$4:$R$20,2,FALSE),\"\")","v":""},{"$f":"IF($B$2=StoreConfig!C847,LEFT(StoreConfig!G847,FIND(\"#\",StoreConfig!G847)-1),\"\")","v":""},{"$f":"IF($B$2=StoreConfig!C847,RIGHT(StoreConfig!G847,LEN(StoreConfig!G847)-FIND(\"#\",StoreConfig!G847)),\"\")","v":""},{"$f":"IF($B$2=StoreConfig!C847,IF(StoreConfig!L847=0,\"不限购\",StoreConfig!L847&\"次\"),\"\")","v":""}]
[{"$nulls":3},{"$f":"IF($B$2=StoreConfig!C848,StoreConfig!O848,\"\")","v":""},{"$f":"IF($B$2=StoreConfig!C848,StoreConfig!E848,\"\")","v":""},{"$f":"IF($B$2=StoreConfig!C848,RIGHT(StoreConfig!J848,LEN(StoreConfig!J848)-FIND(\"|\",StoreConfig!J848)),\"\")","v":""},{"$f":"IFERROR(VLOOKUP(--IF($B$2=StoreConfig!C848,LEFT(StoreConfig!J848,FIND(\"|\",StoreConfig!J848)-1),\"\"),$Q$4:$R$20,2,FALSE),\"\")","v":""},{"$f":"IF($B$2=StoreConfig!C848,LEFT(StoreConfig!G848,FIND(\"#\",StoreConfig!G848)-1),\"\")","v":""},{"$f":"IF($B$2=StoreConfig!C848,RIGHT(StoreConfig!G848,LEN(StoreConfig!G848)-FIND(\"#\",StoreConfig!G848)),\"\")","v":""},{"$f":"IF($B$2=StoreConfig!C848,IF(StoreConfig!L848=0,\"不限购\",StoreConfig!L848&\"次\"),\"\")","v":""}]
[{"$nulls":3},{"$f":"IF($B$2=StoreConfig!C849,StoreConfig!O849,\"\")","v":""},{"$f":"IF($B$2=StoreConfig!C849,StoreConfig!E849,\"\")","v":""},{"$f":"IF($B$2=StoreConfig!C849,RIGHT(StoreConfig!J849,LEN(StoreConfig!J849)-FIND(\"|\",StoreConfig!J849)),\"\")","v":""},{"$f":"IFERROR(VLOOKUP(--IF($B$2=StoreConfig!C849,LEFT(StoreConfig!J849,FIND(\"|\",StoreConfig!J849)-1),\"\"),$Q$4:$R$20,2,FALSE),\"\")","v":""},{"$f":"IF($B$2=StoreConfig!C849,LEFT(StoreConfig!G849,FIND(\"#\",StoreConfig!G849)-1),\"\")","v":""},{"$f":"IF($B$2=StoreConfig!C849,RIGHT(StoreConfig!G849,LEN(StoreConfig!G849)-FIND(\"#\",StoreConfig!G849)),\"\")","v":""},{"$f":"IF($B$2=StoreConfig!C849,IF(StoreConfig!L849=0,\"不限购\",StoreConfig!L849&\"次\"),\"\")","v":""}]
[{"$nulls":3},{"$f":"IF($B$2=StoreConfig!C850,StoreConfig!O850,\"\")","v":""},{"$f":"IF($B$2=StoreConfig!C850,StoreConfig!E850,\"\")","v":""},{"$f":"IF($B$2=StoreConfig!C850,RIGHT(StoreConfig!J850,LEN(StoreConfig!J850)-FIND(\"|\",StoreConfig!J850)),\"\")","v":""},{"$f":"IFERROR(VLOOKUP(--IF($B$2=StoreConfig!C850,LEFT(StoreConfig!J850,FIND(\"|\",StoreConfig!J850)-1),\"\"),$Q$4:$R$20,2,FALSE),\"\")","v":""},{"$f":"IF($B$2=StoreConfig!C850,LEFT(StoreConfig!G850,FIND(\"#\",StoreConfig!G850)-1),\"\")","v":""},{"$f":"IF($B$2=StoreConfig!C850,RIGHT(StoreConfig!G850,LEN(StoreConfig!G850)-FIND(\"#\",StoreConfig!G850)),\"\")","v":""},{"$f":"IF($B$2=StoreConfig!C850,IF(StoreConfig!L850=0,\"不限购\",StoreConfig!L850&\"次\"),\"\")","v":""}]
[{"$nulls":3},{"$f":"IF($B$2=StoreConfig!C851,StoreConfig!O851,\"\")","v":""},{"$f":"IF($B$2=StoreConfig!C851,StoreConfig!E851,\"\")","v":""},{"$f":"IF($B$2=StoreConfig!C851,RIGHT(StoreConfig!J851,LEN(StoreConfig!J851)-FIND(\"|\",StoreConfig!J851)),\"\")","v":""},{"$f":"IFERROR(VLOOKUP(--IF($B$2=StoreConfig!C851,LEFT(StoreConfig!J851,FIND(\"|\",StoreConfig!J851)-1),\"\"),$Q$4:$R$20,2,FALSE),\"\")","v":""},{"$f":"IF($B$2=StoreConfig!C851,LEFT(StoreConfig!G851,FIND(\"#\",StoreConfig!G851)-1),\"\")","v":""},{"$f":"IF($B$2=StoreConfig!C851,RIGHT(StoreConfig!G851,LEN(StoreConfig!G851)-FIND(\"#\",StoreConfig!G851)),\"\")","v":""},{"$f":"IF($B$2=StoreConfig!C851,IF(StoreConfig!L851=0,\"不限购\",StoreConfig!L851&\"次\"),\"\")","v":""}]
[{"$nulls":3},{"$f":"IF($B$2=StoreConfig!C852,StoreConfig!O852,\"\")","v":""},{"$f":"IF($B$2=StoreConfig!C852,StoreConfig!E852,\"\")","v":""},{"$f":"IF($B$2=StoreConfig!C852,RIGHT(StoreConfig!J852,LEN(StoreConfig!J852)-FIND(\"|\",StoreConfig!J852)),\"\")","v":""},{"$f":"IFERROR(VLOOKUP(--IF($B$2=StoreConfig!C852,LEFT(StoreConfig!J852,FIND(\"|\",StoreConfig!J852)-1),\"\"),$Q$4:$R$20,2,FALSE),\"\")","v":""},{"$f":"IF($B$2=StoreConfig!C852,LEFT(StoreConfig!G852,FIND(\"#\",StoreConfig!G852)-1),\"\")","v":""},{"$f":"IF($B$2=StoreConfig!C852,RIGHT(StoreConfig!G852,LEN(StoreConfig!G852)-FIND(\"#\",StoreConfig!G852)),\"\")","v":""},{"$f":"IF($B$2=StoreConfig!C852,IF(StoreConfig!L852=0,\"不限购\",StoreConfig!L852&\"次\"),\"\")","v":""}]
[{"$nulls":3},{"$f":"IF($B$2=StoreConfig!C853,StoreConfig!O853,\"\")","v":""},{"$f":"IF($B$2=StoreConfig!C853,StoreConfig!E853,\"\")","v":""},{"$f":"IF($B$2=StoreConfig!C853,RIGHT(StoreConfig!#REF!,LEN(StoreConfig!#REF!)-FIND(\"|\",StoreConfig!#REF!)),\"\")","v":""},{"$f":"IFERROR(VLOOKUP(--IF($B$2=StoreConfig!C853,LEFT(StoreConfig!#REF!,FIND(\"|\",StoreConfig!#REF!)-1),\"\"),$Q$4:$R$20,2,FALSE),\"\")","v":""},{"$f":"IF($B$2=StoreConfig!C853,LEFT(StoreConfig!G853,FIND(\"#\",StoreConfig!G853)-1),\"\")","v":""},{"$f":"IF($B$2=StoreConfig!C853,RIGHT(StoreConfig!G853,LEN(StoreConfig!G853)-FIND(\"#\",StoreConfig!G853)),\"\")","v":""},{"$f":"IF($B$2=StoreConfig!C853,IF(StoreConfig!L853=0,\"不限购\",StoreConfig!L853&\"次\"),\"\")","v":""}]
[{"$nulls":3},{"$f":"IF($B$2=StoreConfig!C854,StoreConfig!O854,\"\")","v":""},{"$f":"IF($B$2=StoreConfig!C854,StoreConfig!E854,\"\")","v":""},{"$f":"IF($B$2=StoreConfig!C854,RIGHT(StoreConfig!#REF!,LEN(StoreConfig!#REF!)-FIND(\"|\",StoreConfig!#REF!)),\"\")","v":""},{"$f":"IFERROR(VLOOKUP(--IF($B$2=StoreConfig!C854,LEFT(StoreConfig!#REF!,FIND(\"|\",StoreConfig!#REF!)-1),\"\"),$Q$4:$R$20,2,FALSE),\"\")","v":""},{"$f":"IF($B$2=StoreConfig!C854,LEFT(StoreConfig!G854,FIND(\"#\",StoreConfig!G854)-1),\"\")","v":""},{"$f":"IF($B$2=StoreConfig!C854,RIGHT(StoreConfig!G854,LEN(StoreConfig!G854)-FIND(\"#\",StoreConfig!G854)),\"\")","v":""},{"$f":"IF($B$2=StoreConfig!C854,IF(StoreConfig!L854=0,\"不限购\",StoreConfig!L854&\"次\"),\"\")","v":""}]
[{"$nulls":3},{"$f":"IF($B$2=StoreConfig!C855,StoreConfig!O855,\"\")","v":""},{"$f":"IF($B$2=StoreConfig!C855,StoreConfig!E855,\"\")","v":""},{"$f":"IF($B$2=StoreConfig!C855,RIGHT(StoreConfig!#REF!,LEN(StoreConfig!#REF!)-FIND(\"|\",StoreConfig!#REF!)),\"\")","v":""},{"$f":"IFERROR(VLOOKUP(--IF($B$2=StoreConfig!C855,LEFT(StoreConfig!#REF!,FIND(\"|\",StoreConfig!#REF!)-1),\"\"),$Q$4:$R$20,2,FALSE),\"\")","v":""},{"$f":"IF($B$2=StoreConfig!C855,LEFT(StoreConfig!G855,FIND(\"#\",StoreConfig!G855)-1),\"\")","v":""},{"$f":"IF($B$2=StoreConfig!C855,RIGHT(StoreConfig!G855,LEN(StoreConfig!G855)-FIND(\"#\",StoreConfig!G855)),\"\")","v":""},{"$f":"IF($B$2=StoreConfig!C855,IF(StoreConfig!L855=0,\"不限购\",StoreConfig!L855&\"次\"),\"\")","v":""}]
[{"$nulls":3},{"$f":"IF($B$2=StoreConfig!C856,StoreConfig!O856,\"\")","v":""},{"$f":"IF($B$2=StoreConfig!C856,StoreConfig!E856,\"\")","v":""},{"$f":"IF($B$2=StoreConfig!C856,RIGHT(StoreConfig!#REF!,LEN(StoreConfig!#REF!)-FIND(\"|\",StoreConfig!#REF!)),\"\")","v":""},{"$f":"IFERROR(VLOOKUP(--IF($B$2=StoreConfig!C856,LEFT(StoreConfig!#REF!,FIND(\"|\",StoreConfig!#REF!)-1),\"\"),$Q$4:$R$20,2,FALSE),\"\")","v":""},{"$f":"IF($B$2=StoreConfig!C856,LEFT(StoreConfig!G856,FIND(\"#\",StoreConfig!G856)-1),\"\")","v":""},{"$f":"IF($B$2=StoreConfig!C856,RIGHT(StoreConfig!G856,LEN(StoreConfig!G856)-FIND(\"#\",StoreConfig!G856)),\"\")","v":""},{"$f":"IF($B$2=StoreConfig!C856,IF(StoreConfig!L856=0,\"不限购\",StoreConfig!L856&\"次\"),\"\")","v":""}]
[{"$nulls":3},{"$f":"IF($B$2=StoreConfig!C857,StoreConfig!O857,\"\")","v":""},{"$f":"IF($B$2=StoreConfig!C857,StoreConfig!E857,\"\")","v":""},{"$f":"IF($B$2=StoreConfig!C857,RIGHT(StoreConfig!#REF!,LEN(StoreConfig!#REF!)-FIND(\"|\",StoreConfig!#REF!)),\"\")","v":""},{"$f":"IFERROR(VLOOKUP(--IF($B$2=StoreConfig!C857,LEFT(StoreConfig!#REF!,FIND(\"|\",StoreConfig!#REF!)-1),\"\"),$Q$4:$R$20,2,FALSE),\"\")","v":""},{"$f":"IF($B$2=StoreConfig!C857,LEFT(StoreConfig!G857,FIND(\"#\",StoreConfig!G857)-1),\"\")","v":""},{"$f":"IF($B$2=StoreConfig!C857,RIGHT(StoreConfig!G857,LEN(StoreConfig!G857)-FIND(\"#\",StoreConfig!G857)),\"\")","v":""},{"$f":"IF($B$2=StoreConfig!C857,IF(StoreConfig!L857=0,\"不限购\",StoreConfig!L857&\"次\"),\"\")","v":""}]
[{"$nulls":3},{"$f":"IF($B$2=StoreConfig!C858,StoreConfig!O858,\"\")","v":""},{"$f":"IF($B$2=StoreConfig!C858,StoreConfig!E858,\"\")","v":""},{"$f":"IF($B$2=StoreConfig!C858,RIGHT(StoreConfig!#REF!,LEN(StoreConfig!#REF!)-FIND(\"|\",StoreConfig!#REF!)),\"\")","v":""},{"$f":"IFERROR(VLOOKUP(--IF($B$2=StoreConfig!C858,LEFT(StoreConfig!#REF!,FIND(\"|\",StoreConfig!#REF!)-1),\"\"),$Q$4:$R$20,2,FALSE),\"\")","v":""},{"$f":"IF($B$2=StoreConfig!C858,LEFT(StoreConfig!G858,FIND(\"#\",StoreConfig!G858)-1),\"\")","v":""},{"$f":"IF($B$2=StoreConfig!C858,RIGHT(StoreConfig!G858,LEN(StoreConfig!G858)-FIND(\"#\",StoreConfig!G858)),\"\")","v":""},{"$f":"IF($B$2=StoreConfig!C858,IF(StoreConfig!L858=0,\"不限购\",StoreConfig!L858&\"次\"),\"\")","v":""}]
[{"$nulls":3},{"$f":"IF($B$2=StoreConfig!C859,StoreConfig!O859,\"\")","v":""},{"$f":"IF($B$2=StoreConfig!C859,StoreConfig!E859,\"\")","v":""},{"$f":"IF($B$2=StoreConfig!C859,RIGHT(StoreConfig!#REF!,LEN(StoreConfig!#REF!)-FIND(\"|\",StoreConfig!#REF!)),\"\")","v":""},{"$f":"IFERROR(VLOOKUP(--IF($B$2=StoreConfig!C859,LEFT(StoreConfig!#REF!,FIND(\"|\",StoreConfig!#REF!)-1),\"\"),$Q$4:$R$20,2,FALSE),\"\")","v":""},{"$f":"IF($B$2=StoreConfig!C859,LEFT(StoreConfig!G859,FIND(\"#\",StoreConfig!G859)-1),\"\")","v":""},{"$f":"IF($B$2=StoreConfig!C859,RIGHT(StoreConfig!G859,LEN(StoreConfig!G859)-FIND(\"#\",StoreConfig!G859)),\"\")","v":""},{"$f":"IF($B$2=StoreConfig!C859,IF(StoreConfig!L859=0,\"不限购\",StoreConfig!L859&\"次\"),\"\")","v":""}]
[{"$nulls":3},{"$f":"IF($B$2=StoreConfig!C860,StoreConfig!O860,\"\")","v":""},{"$f":"IF($B$2=StoreConfig!C860,StoreConfig!E860,\"\")","v":""},{"$f":"IF($B$2=StoreConfig!C860,RIGHT(StoreConfig!#REF!,LEN(StoreConfig!#REF!)-FIND(\"|\",StoreConfig!#REF!)),\"\")","v":""},{"$f":"IFERROR(VLOOKUP(--IF($B$2=StoreConfig!C860,LEFT(StoreConfig!#REF!,FIND(\"|\",StoreConfig!#REF!)-1),\"\"),$Q$4:$R$20,2,FALSE),\"\")","v":""},{"$f":"IF($B$2=StoreConfig!C860,LEFT(StoreConfig!G860,FIND(\"#\",StoreConfig!G860)-1),\"\")","v":""},{"$f":"IF($B$2=StoreConfig!C860,RIGHT(StoreConfig!G860,LEN(StoreConfig!G860)-FIND(\"#\",StoreConfig!G860)),\"\")","v":""},{"$f":"IF($B$2=StoreConfig!C860,IF(StoreConfig!L860=0,\"不限购\",StoreConfig!L860&\"次\"),\"\")","v":""}]
[{"$nulls":3},{"$f":"IF($B$2=StoreConfig!C861,StoreConfig!O861,\"\")","v":""},{"$f":"IF($B$2=StoreConfig!C861,StoreConfig!E861,\"\")","v":""},{"$f":"IF($B$2=StoreConfig!C861,RIGHT(StoreConfig!#REF!,LEN(StoreConfig!#REF!)-FIND(\"|\",StoreConfig!#REF!)),\"\")","v":""},{"$f":"IFERROR(VLOOKUP(--IF($B$2=StoreConfig!C861,LEFT(StoreConfig!#REF!,FIND(\"|\",StoreConfig!#REF!)-1),\"\"),$Q$4:$R$20,2,FALSE),\"\")","v":""},{"$f":"IF($B$2=StoreConfig!C861,LEFT(StoreConfig!G861,FIND(\"#\",StoreConfig!G861)-1),\"\")","v":""},{"$f":"IF($B$2=StoreConfig!C861,RIGHT(StoreConfig!G861,LEN(StoreConfig!G861)-FIND(\"#\",StoreConfig!G861)),\"\")","v":""},{"$f":"IF($B$2=StoreConfig!C861,IF(StoreConfig!L861=0,\"不限购\",StoreConfig!L861&\"次\"),\"\")","v":""}]
[{"$nulls":3},{"$f":"IF($B$2=StoreConfig!C862,StoreConfig!O862,\"\")","v":""},{"$f":"IF($B$2=StoreConfig!C862,StoreConfig!E862,\"\")","v":""},{"$f":"IF($B$2=StoreConfig!C862,RIGHT(StoreConfig!J862,LEN(StoreConfig!J862)-FIND(\"|\",StoreConfig!J862)),\"\")","v":""},{"$f":"IFERROR(VLOOKUP(--IF($B$2=StoreConfig!C862,LEFT(StoreConfig!J862,FIND(\"|\",StoreConfig!J862)-1),\"\"),$Q$4:$R$20,2,FALSE),\"\")","v":""},{"$f":"IF($B$2=StoreConfig!C862,LEFT(StoreConfig!G862,FIND(\"#\",StoreConfig!G862)-1),\"\")","v":""},{"$f":"IF($B$2=StoreConfig!C862,RIGHT(StoreConfig!G862,LEN(StoreConfig!G862)-FIND(\"#\",StoreConfig!G862)),\"\")","v":""},{"$f":"IF($B$2=StoreConfig!C862,IF(StoreConfig!L862=0,\"不限购\",StoreConfig!L862&\"次\"),\"\")","v":""}]
[{"$nulls":3},{"$f":"IF($B$2=StoreConfig!C863,StoreConfig!O863,\"\")","v":""},{"$f":"IF($B$2=StoreConfig!C863,StoreConfig!E863,\"\")","v":""},{"$f":"IF($B$2=StoreConfig!C863,RIGHT(StoreConfig!J863,LEN(StoreConfig!J863)-FIND(\"|\",StoreConfig!J863)),\"\")","v":""},{"$f":"IFERROR(VLOOKUP(--IF($B$2=StoreConfig!C863,LEFT(StoreConfig!J863,FIND(\"|\",StoreConfig!J863)-1),\"\"),$Q$4:$R$20,2,FALSE),\"\")","v":""},{"$f":"IF($B$2=StoreConfig!C863,LEFT(StoreConfig!G863,FIND(\"#\",StoreConfig!G863)-1),\"\")","v":""},{"$f":"IF($B$2=StoreConfig!C863,RIGHT(StoreConfig!G863,LEN(StoreConfig!G863)-FIND(\"#\",StoreConfig!G863)),\"\")","v":""},{"$f":"IF($B$2=StoreConfig!C863,IF(StoreConfig!L863=0,\"不限购\",StoreConfig!L863&\"次\"),\"\")","v":""}]
[{"$nulls":3},{"$f":"IF($B$2=StoreConfig!C864,StoreConfig!O864,\"\")","v":""},{"$f":"IF($B$2=StoreConfig!C864,StoreConfig!E864,\"\")","v":""},{"$f":"IF($B$2=StoreConfig!C864,RIGHT(StoreConfig!J864,LEN(StoreConfig!J864)-FIND(\"|\",StoreConfig!J864)),\"\")","v":""},{"$f":"IFERROR(VLOOKUP(--IF($B$2=StoreConfig!C864,LEFT(StoreConfig!J864,FIND(\"|\",StoreConfig!J864)-1),\"\"),$Q$4:$R$20,2,FALSE),\"\")","v":""},{"$f":"IF($B$2=StoreConfig!C864,LEFT(StoreConfig!G864,FIND(\"#\",StoreConfig!G864)-1),\"\")","v":""},{"$f":"IF($B$2=StoreConfig!C864,RIGHT(StoreConfig!G864,LEN(StoreConfig!G864)-FIND(\"#\",StoreConfig!G864)),\"\")","v":""},{"$f":"IF($B$2=StoreConfig!C864,IF(StoreConfig!L864=0,\"不限购\",StoreConfig!L864&\"次\"),\"\")","v":""}]
[{"$nulls":3},{"$f":"IF($B$2=StoreConfig!C865,StoreConfig!O865,\"\")","v":""},{"$f":"IF($B$2=StoreConfig!C865,StoreConfig!E865,\"\")","v":""},{"$f":"IF($B$2=StoreConfig!C865,RIGHT(StoreConfig!J865,LEN(StoreConfig!J865)-FIND(\"|\",StoreConfig!J865)),\"\")","v":""},{"$f":"IFERROR(VLOOKUP(--IF($B$2=StoreConfig!C865,LEFT(StoreConfig!J865,FIND(\"|\",StoreConfig!J865)-1),\"\"),$Q$4:$R$20,2,FALSE),\"\")","v":""},{"$f":"IF($B$2=StoreConfig!C865,LEFT(StoreConfig!G865,FIND(\"#\",StoreConfig!G865)-1),\"\")","v":""},{"$f":"IF($B$2=StoreConfig!C865,RIGHT(StoreConfig!G865,LEN(StoreConfig!G865)-FIND(\"#\",StoreConfig!G865)),\"\")","v":""},{"$f":"IF($B$2=StoreConfig!C865,IF(StoreConfig!L865=0,\"不限购\",StoreConfig!L865&\"次\"),\"\")","v":""}]
[{"$nulls":3},{"$f":"IF($B$2=StoreConfig!C866,StoreConfig!O866,\"\")","v":""},{"$f":"IF($B$2=StoreConfig!C866,StoreConfig!E866,\"\")","v":""},{"$f":"IF($B$2=StoreConfig!C866,RIGHT(StoreConfig!J866,LEN(StoreConfig!J866)-FIND(\"|\",StoreConfig!J866)),\"\")","v":""},{"$f":"IFERROR(VLOOKUP(--IF($B$2=StoreConfig!C866,LEFT(StoreConfig!J866,FIND(\"|\",StoreConfig!J866)-1),\"\"),$Q$4:$R$20,2,FALSE),\"\")","v":""},{"$f":"IF($B$2=StoreConfig!C866,LEFT(StoreConfig!G866,FIND(\"#\",StoreConfig!G866)-1),\"\")","v":""},{"$f":"IF($B$2=StoreConfig!C866,RIGHT(StoreConfig!G866,LEN(StoreConfig!G866)-FIND(\"#\",StoreConfig!G866)),\"\")","v":""},{"$f":"IF($B$2=StoreConfig!C866,IF(StoreConfig!L866=0,\"不限购\",StoreConfig!L866&\"次\"),\"\")","v":""}]
[{"$nulls":3},{"$f":"IF($B$2=StoreConfig!C867,StoreConfig!O867,\"\")","v":""},{"$f":"IF($B$2=StoreConfig!C867,StoreConfig!E867,\"\")","v":""},{"$f":"IF($B$2=StoreConfig!C867,RIGHT(StoreConfig!J867,LEN(StoreConfig!J867)-FIND(\"|\",StoreConfig!J867)),\"\")","v":""},{"$f":"IFERROR(VLOOKUP(--IF($B$2=StoreConfig!C867,LEFT(StoreConfig!J867,FIND(\"|\",StoreConfig!J867)-1),\"\"),$Q$4:$R$20,2,FALSE),\"\")","v":""},{"$f":"IF($B$2=StoreConfig!C867,LEFT(StoreConfig!G867,FIND(\"#\",StoreConfig!G867)-1),\"\")","v":""},{"$f":"IF($B$2=StoreConfig!C867,RIGHT(StoreConfig!G867,LEN(StoreConfig!G867)-FIND(\"#\",StoreConfig!G867)),\"\")","v":""},{"$f":"IF($B$2=StoreConfig!C867,IF(StoreConfig!L867=0,\"不限购\",StoreConfig!L867&\"次\"),\"\")","v":""}]
[{"$nulls":3},{"$f":"IF($B$2=StoreConfig!C868,StoreConfig!O868,\"\")","v":""},{"$f":"IF($B$2=StoreConfig!C868,StoreConfig!E868,\"\")","v":""},{"$f":"IF($B$2=StoreConfig!C868,RIGHT(StoreConfig!J868,LEN(StoreConfig!J868)-FIND(\"|\",StoreConfig!J868)),\"\")","v":""},{"$f":"IFERROR(VLOOKUP(--IF($B$2=StoreConfig!C868,LEFT(StoreConfig!J868,FIND(\"|\",StoreConfig!J868)-1),\"\"),$Q$4:$R$20,2,FALSE),\"\")","v":""},{"$f":"IF($B$2=StoreConfig!C868,LEFT(StoreConfig!G868,FIND(\"#\",StoreConfig!G868)-1),\"\")","v":""},{"$f":"IF($B$2=StoreConfig!C868,RIGHT(StoreConfig!G868,LEN(StoreConfig!G868)-FIND(\"#\",StoreConfig!G868)),\"\")","v":""},{"$f":"IF($B$2=StoreConfig!C868,IF(StoreConfig!L868=0,\"不限购\",StoreConfig!L868&\"次\"),\"\")","v":""}]
[{"$nulls":3},{"$f":"IF($B$2=StoreConfig!C869,StoreConfig!O869,\"\")","v":""},{"$f":"IF($B$2=StoreConfig!C869,StoreConfig!E869,\"\")","v":""},{"$f":"IF($B$2=StoreConfig!C869,RIGHT(StoreConfig!J869,LEN(StoreConfig!J869)-FIND(\"|\",StoreConfig!J869)),\"\")","v":""},{"$f":"IFERROR(VLOOKUP(--IF($B$2=StoreConfig!C869,LEFT(StoreConfig!J869,FIND(\"|\",StoreConfig!J869)-1),\"\"),$Q$4:$R$20,2,FALSE),\"\")","v":""},{"$f":"IF($B$2=StoreConfig!C869,LEFT(StoreConfig!G869,FIND(\"#\",StoreConfig!G869)-1),\"\")","v":""},{"$f":"IF($B$2=StoreConfig!C869,RIGHT(StoreConfig!G869,LEN(StoreConfig!G869)-FIND(\"#\",StoreConfig!G869)),\"\")","v":""},{"$f":"IF($B$2=StoreConfig!C869,IF(StoreConfig!L869=0,\"不限购\",StoreConfig!L869&\"次\"),\"\")","v":""}]
[{"$nulls":3},{"$f":"IF($B$2=StoreConfig!C870,StoreConfig!O870,\"\")","v":""},{"$f":"IF($B$2=StoreConfig!C870,StoreConfig!E870,\"\")","v":""},{"$f":"IF($B$2=StoreConfig!C870,RIGHT(StoreConfig!J870,LEN(StoreConfig!J870)-FIND(\"|\",StoreConfig!J870)),\"\")","v":""},{"$f":"IFERROR(VLOOKUP(--IF($B$2=StoreConfig!C870,LEFT(StoreConfig!J870,FIND(\"|\",StoreConfig!J870)-1),\"\"),$Q$4:$R$20,2,FALSE),\"\")","v":""},{"$f":"IF($B$2=StoreConfig!C870,LEFT(StoreConfig!G870,FIND(\"#\",StoreConfig!G870)-1),\"\")","v":""},{"$f":"IF($B$2=StoreConfig!C870,RIGHT(StoreConfig!G870,LEN(StoreConfig!G870)-FIND(\"#\",StoreConfig!G870)),\"\")","v":""},{"$f":"IF($B$2=StoreConfig!C870,IF(StoreConfig!L870=0,\"不限购\",StoreConfig!L870&\"次\"),\"\")","v":""}]
[{"$nulls":3},{"$f":"IF($B$2=StoreConfig!C871,StoreConfig!O871,\"\")","v":""},{"$f":"IF($B$2=StoreConfig!C871,StoreConfig!E871,\"\")","v":""},{"$f":"IF($B$2=StoreConfig!C871,RIGHT(StoreConfig!J871,LEN(StoreConfig!J871)-FIND(\"|\",StoreConfig!J871)),\"\")","v":""},{"$f":"IFERROR(VLOOKUP(--IF($B$2=StoreConfig!C871,LEFT(StoreConfig!J871,FIND(\"|\",StoreConfig!J871)-1),\"\"),$Q$4:$R$20,2,FALSE),\"\")","v":""},{"$f":"IF($B$2=StoreConfig!C871,LEFT(StoreConfig!G871,FIND(\"#\",StoreConfig!G871)-1),\"\")","v":""},{"$f":"IF($B$2=StoreConfig!C871,RIGHT(StoreConfig!G871,LEN(StoreConfig!G871)-FIND(\"#\",StoreConfig!G871)),\"\")","v":""},{"$f":"IF($B$2=StoreConfig!C871,IF(StoreConfig!L871=0,\"不限购\",StoreConfig!L871&\"次\"),\"\")","v":""}]
[{"$nulls":3},{"$f":"IF($B$2=StoreConfig!C872,StoreConfig!O872,\"\")","v":""},{"$f":"IF($B$2=StoreConfig!C872,StoreConfig!E872,\"\")","v":""},{"$f":"IF($B$2=StoreConfig!C872,RIGHT(StoreConfig!#REF!,LEN(StoreConfig!#REF!)-FIND(\"|\",StoreConfig!#REF!)),\"\")","v":""},{"$f":"IFERROR(VLOOKUP(--IF($B$2=StoreConfig!C872,LEFT(StoreConfig!#REF!,FIND(\"|\",StoreConfig!#REF!)-1),\"\"),$Q$4:$R$20,2,FALSE),\"\")","v":""},{"$f":"IF($B$2=StoreConfig!C872,LEFT(StoreConfig!G872,FIND(\"#\",StoreConfig!G872)-1),\"\")","v":""},{"$f":"IF($B$2=StoreConfig!C872,RIGHT(StoreConfig!G872,LEN(StoreConfig!G872)-FIND(\"#\",StoreConfig!G872)),\"\")","v":""},{"$f":"IF($B$2=StoreConfig!C872,IF(StoreConfig!L872=0,\"不限购\",StoreConfig!L872&\"次\"),\"\")","v":""}]
[{"$nulls":3},{"$f":"IF($B$2=StoreConfig!C873,StoreConfig!O873,\"\")","v":""},{"$f":"IF($B$2=StoreConfig!C873,StoreConfig!E873,\"\")","v":""},{"$f":"IF($B$2=StoreConfig!C873,RIGHT(StoreConfig!#REF!,LEN(StoreConfig!#REF!)-FIND(\"|\",StoreConfig!#REF!)),\"\")","v":""},{"$f":"IFERROR(VLOOKUP(--IF($B$2=StoreConfig!C873,LEFT(StoreConfig!#REF!,FIND(\"|\",StoreConfig!#REF!)-1),\"\"),$Q$4:$R$20,2,FALSE),\"\")","v":""},{"$f":"IF($B$2=StoreConfig!C873,LEFT(StoreConfig!G873,FIND(\"#\",StoreConfig!G873)-1),\"\")","v":""},{"$f":"IF($B$2=StoreConfig!C873,RIGHT(StoreConfig!G873,LEN(StoreConfig!G873)-FIND(\"#\",StoreConfig!G873)),\"\")","v":""},{"$f":"IF($B$2=StoreConfig!C873,IF(StoreConfig!L873=0,\"不限购\",StoreConfig!L873&\"次\"),\"\")","v":""}]
[{"$nulls":3},{"$f":"IF($B$2=StoreConfig!C874,StoreConfig!O874,\"\")","v":""},{"$f":"IF($B$2=StoreConfig!C874,StoreConfig!E874,\"\")","v":""},{"$f":"IF($B$2=StoreConfig!C874,RIGHT(StoreConfig!#REF!,LEN(StoreConfig!#REF!)-FIND(\"|\",StoreConfig!#REF!)),\"\")","v":""},{"$f":"IFERROR(VLOOKUP(--IF($B$2=StoreConfig!C874,LEFT(StoreConfig!#REF!,FIND(\"|\",StoreConfig!#REF!)-1),\"\"),$Q$4:$R$20,2,FALSE),\"\")","v":""},{"$f":"IF($B$2=StoreConfig!C874,LEFT(StoreConfig!G874,FIND(\"#\",StoreConfig!G874)-1),\"\")","v":""},{"$f":"IF($B$2=StoreConfig!C874,RIGHT(StoreConfig!G874,LEN(StoreConfig!G874)-FIND(\"#\",StoreConfig!G874)),\"\")","v":""},{"$f":"IF($B$2=StoreConfig!C874,IF(StoreConfig!L874=0,\"不限购\",StoreConfig!L874&\"次\"),\"\")","v":""}]
[{"$nulls":3},{"$f":"IF($B$2=StoreConfig!C875,StoreConfig!O875,\"\")","v":""},{"$f":"IF($B$2=StoreConfig!C875,StoreConfig!E875,\"\")","v":""},{"$f":"IF($B$2=StoreConfig!C875,RIGHT(StoreConfig!#REF!,LEN(StoreConfig!#REF!)-FIND(\"|\",StoreConfig!#REF!)),\"\")","v":""},{"$f":"IFERROR(VLOOKUP(--IF($B$2=StoreConfig!C875,LEFT(StoreConfig!#REF!,FIND(\"|\",StoreConfig!#REF!)-1),\"\"),$Q$4:$R$20,2,FALSE),\"\")","v":""},{"$f":"IF($B$2=StoreConfig!C875,LEFT(StoreConfig!G875,FIND(\"#\",StoreConfig!G875)-1),\"\")","v":""},{"$f":"IF($B$2=StoreConfig!C875,RIGHT(StoreConfig!G875,LEN(StoreConfig!G875)-FIND(\"#\",StoreConfig!G875)),\"\")","v":""},{"$f":"IF($B$2=StoreConfig!C875,IF(StoreConfig!L875=0,\"不限购\",StoreConfig!L875&\"次\"),\"\")","v":""}]
[{"$nulls":3},{"$f":"IF($B$2=StoreConfig!C876,StoreConfig!O876,\"\")","v":""},{"$f":"IF($B$2=StoreConfig!C876,StoreConfig!E876,\"\")","v":""},{"$f":"IF($B$2=StoreConfig!C876,RIGHT(StoreConfig!#REF!,LEN(StoreConfig!#REF!)-FIND(\"|\",StoreConfig!#REF!)),\"\")","v":""},{"$f":"IFERROR(VLOOKUP(--IF($B$2=StoreConfig!C876,LEFT(StoreConfig!#REF!,FIND(\"|\",StoreConfig!#REF!)-1),\"\"),$Q$4:$R$20,2,FALSE),\"\")","v":""},{"$f":"IF($B$2=StoreConfig!C876,LEFT(StoreConfig!G876,FIND(\"#\",StoreConfig!G876)-1),\"\")","v":""},{"$f":"IF($B$2=StoreConfig!C876,RIGHT(StoreConfig!G876,LEN(StoreConfig!G876)-FIND(\"#\",StoreConfig!G876)),\"\")","v":""},{"$f":"IF($B$2=StoreConfig!C876,IF(StoreConfig!L876=0,\"不限购\",StoreConfig!L876&\"次\"),\"\")","v":""}]
[{"$nulls":3},{"$f":"IF($B$2=StoreConfig!C877,StoreConfig!O877,\"\")","v":""},{"$f":"IF($B$2=StoreConfig!C877,StoreConfig!E877,\"\")","v":""},{"$f":"IF($B$2=StoreConfig!C877,RIGHT(StoreConfig!#REF!,LEN(StoreConfig!#REF!)-FIND(\"|\",StoreConfig!#REF!)),\"\")","v":""},{"$f":"IFERROR(VLOOKUP(--IF($B$2=StoreConfig!C877,LEFT(StoreConfig!#REF!,FIND(\"|\",StoreConfig!#REF!)-1),\"\"),$Q$4:$R$20,2,FALSE),\"\")","v":""},{"$f":"IF($B$2=StoreConfig!C877,LEFT(StoreConfig!G877,FIND(\"#\",StoreConfig!G877)-1),\"\")","v":""},{"$f":"IF($B$2=StoreConfig!C877,RIGHT(StoreConfig!G877,LEN(StoreConfig!G877)-FIND(\"#\",StoreConfig!G877)),\"\")","v":""},{"$f":"IF($B$2=StoreConfig!C877,IF(StoreConfig!L877=0,\"不限购\",StoreConfig!L877&\"次\"),\"\")","v":""}]
[{"$nulls":3},{"$f":"IF($B$2=StoreConfig!C878,StoreConfig!O878,\"\")","v":""},{"$f":"IF($B$2=StoreConfig!C878,StoreConfig!E878,\"\")","v":""},{"$f":"IF($B$2=StoreConfig!C878,RIGHT(StoreConfig!#REF!,LEN(StoreConfig!#REF!)-FIND(\"|\",StoreConfig!#REF!)),\"\")","v":""},{"$f":"IFERROR(VLOOKUP(--IF($B$2=StoreConfig!C878,LEFT(StoreConfig!#REF!,FIND(\"|\",StoreConfig!#REF!)-1),\"\"),$Q$4:$R$20,2,FALSE),\"\")","v":""},{"$f":"IF($B$2=StoreConfig!C878,LEFT(StoreConfig!G878,FIND(\"#\",StoreConfig!G878)-1),\"\")","v":""},{"$f":"IF($B$2=StoreConfig!C878,RIGHT(StoreConfig!G878,LEN(StoreConfig!G878)-FIND(\"#\",StoreConfig!G878)),\"\")","v":""},{"$f":"IF($B$2=StoreConfig!C878,IF(StoreConfig!L878=0,\"不限购\",StoreConfig!L878&\"次\"),\"\")","v":""}]
[{"$nulls":3},{"$f":"IF($B$2=StoreConfig!C879,StoreConfig!O879,\"\")","v":""},{"$f":"IF($B$2=StoreConfig!C879,StoreConfig!E879,\"\")","v":""},{"$f":"IF($B$2=StoreConfig!C879,RIGHT(StoreConfig!#REF!,LEN(StoreConfig!#REF!)-FIND(\"|\",StoreConfig!#REF!)),\"\")","v":""},{"$f":"IFERROR(VLOOKUP(--IF($B$2=StoreConfig!C879,LEFT(StoreConfig!#REF!,FIND(\"|\",StoreConfig!#REF!)-1),\"\"),$Q$4:$R$20,2,FALSE),\"\")","v":""},{"$f":"IF($B$2=StoreConfig!C879,LEFT(StoreConfig!G879,FIND(\"#\",StoreConfig!G879)-1),\"\")","v":""},{"$f":"IF($B$2=StoreConfig!C879,RIGHT(StoreConfig!G879,LEN(StoreConfig!G879)-FIND(\"#\",StoreConfig!G879)),\"\")","v":""},{"$f":"IF($B$2=StoreConfig!C879,IF(StoreConfig!L879=0,\"不限购\",StoreConfig!L879&\"次\"),\"\")","v":""}]
[{"$nulls":3},{"$f":"IF($B$2=StoreConfig!C880,StoreConfig!O880,\"\")","v":""},{"$f":"IF($B$2=StoreConfig!C880,StoreConfig!E880,\"\")","v":""},{"$f":"IF($B$2=StoreConfig!C880,RIGHT(StoreConfig!#REF!,LEN(StoreConfig!#REF!)-FIND(\"|\",StoreConfig!#REF!)),\"\")","v":""},{"$f":"IFERROR(VLOOKUP(--IF($B$2=StoreConfig!C880,LEFT(StoreConfig!#REF!,FIND(\"|\",StoreConfig!#REF!)-1),\"\"),$Q$4:$R$20,2,FALSE),\"\")","v":""},{"$f":"IF($B$2=StoreConfig!C880,LEFT(StoreConfig!G880,FIND(\"#\",StoreConfig!G880)-1),\"\")","v":""},{"$f":"IF($B$2=StoreConfig!C880,RIGHT(StoreConfig!G880,LEN(StoreConfig!G880)-FIND(\"#\",StoreConfig!G880)),\"\")","v":""},{"$f":"IF($B$2=StoreConfig!C880,IF(StoreConfig!L880=0,\"不限购\",StoreConfig!L880&\"次\"),\"\")","v":""}]
[{"$nulls":3},{"$f":"IF($B$2=StoreConfig!C881,StoreConfig!O881,\"\")","v":""},{"$f":"IF($B$2=StoreConfig!C881,StoreConfig!E881,\"\")","v":""},{"$f":"IF($B$2=StoreConfig!C881,RIGHT(StoreConfig!#REF!,LEN(StoreConfig!#REF!)-FIND(\"|\",StoreConfig!#REF!)),\"\")","v":""},{"$f":"IFERROR(VLOOKUP(--IF($B$2=StoreConfig!C881,LEFT(StoreConfig!#REF!,FIND(\"|\",StoreConfig!#REF!)-1),\"\"),$Q$4:$R$20,2,FALSE),\"\")","v":""},{"$f":"IF($B$2=StoreConfig!C881,LEFT(StoreConfig!G881,FIND(\"#\",StoreConfig!G881)-1),\"\")","v":""},{"$f":"IF($B$2=StoreConfig!C881,RIGHT(StoreConfig!G881,LEN(StoreConfig!G881)-FIND(\"#\",StoreConfig!G881)),\"\")","v":""},{"$f":"IF($B$2=StoreConfig!C881,IF(StoreConfig!L881=0,\"不限购\",StoreConfig!L881&\"次\"),\"\")","v":""}]
[{"$nulls":3},{"$f":"IF($B$2=StoreConfig!C882,StoreConfig!O882,\"\")","v":""},{"$f":"IF($B$2=StoreConfig!C882,StoreConfig!E882,\"\")","v":""},{"$f":"IF($B$2=StoreConfig!C882,RIGHT(StoreConfig!J882,LEN(StoreConfig!J882)-FIND(\"|\",StoreConfig!J882)),\"\")","v":""},{"$f":"IFERROR(VLOOKUP(--IF($B$2=StoreConfig!C882,LEFT(StoreConfig!J882,FIND(\"|\",StoreConfig!J882)-1),\"\"),$Q$4:$R$20,2,FALSE),\"\")","v":""},{"$f":"IF($B$2=StoreConfig!C882,LEFT(StoreConfig!G882,FIND(\"#\",StoreConfig!G882)-1),\"\")","v":""},{"$f":"IF($B$2=StoreConfig!C882,RIGHT(StoreConfig!G882,LEN(StoreConfig!G882)-FIND(\"#\",StoreConfig!G882)),\"\")","v":""},{"$f":"IF($B$2=StoreConfig!C882,IF(StoreConfig!L882=0,\"不限购\",StoreConfig!L882&\"次\"),\"\")","v":""}]
[{"$nulls":3},{"$f":"IF($B$2=StoreConfig!C883,StoreConfig!O883,\"\")","v":""},{"$f":"IF($B$2=StoreConfig!C883,StoreConfig!E883,\"\")","v":""},{"$f":"IF($B$2=StoreConfig!C883,RIGHT(StoreConfig!J883,LEN(StoreConfig!J883)-FIND(\"|\",StoreConfig!J883)),\"\")","v":""},{"$f":"IFERROR(VLOOKUP(--IF($B$2=StoreConfig!C883,LEFT(StoreConfig!J883,FIND(\"|\",StoreConfig!J883)-1),\"\"),$Q$4:$R$20,2,FALSE),\"\")","v":""},{"$f":"IF($B$2=StoreConfig!C883,LEFT(StoreConfig!G883,FIND(\"#\",StoreConfig!G883)-1),\"\")","v":""},{"$f":"IF($B$2=StoreConfig!C883,RIGHT(StoreConfig!G883,LEN(StoreConfig!G883)-FIND(\"#\",StoreConfig!G883)),\"\")","v":""},{"$f":"IF($B$2=StoreConfig!C883,IF(StoreConfig!L883=0,\"不限购\",StoreConfig!L883&\"次\"),\"\")","v":""}]
[{"$nulls":3},{"$f":"IF($B$2=StoreConfig!C884,StoreConfig!O884,\"\")","v":""},{"$f":"IF($B$2=StoreConfig!C884,StoreConfig!E884,\"\")","v":""},{"$f":"IF($B$2=StoreConfig!C884,RIGHT(StoreConfig!J884,LEN(StoreConfig!J884)-FIND(\"|\",StoreConfig!J884)),\"\")","v":""},{"$f":"IFERROR(VLOOKUP(--IF($B$2=StoreConfig!C884,LEFT(StoreConfig!J884,FIND(\"|\",StoreConfig!J884)-1),\"\"),$Q$4:$R$20,2,FALSE),\"\")","v":""},{"$f":"IF($B$2=StoreConfig!C884,LEFT(StoreConfig!G884,FIND(\"#\",StoreConfig!G884)-1),\"\")","v":""},{"$f":"IF($B$2=StoreConfig!C884,RIGHT(StoreConfig!G884,LEN(StoreConfig!G884)-FIND(\"#\",StoreConfig!G884)),\"\")","v":""},{"$f":"IF($B$2=StoreConfig!C884,IF(StoreConfig!L884=0,\"不限购\",StoreConfig!L884&\"次\"),\"\")","v":""}]
[{"$nulls":3},{"$f":"IF($B$2=StoreConfig!C885,StoreConfig!O885,\"\")","v":""},{"$f":"IF($B$2=StoreConfig!C885,StoreConfig!E885,\"\")","v":""},{"$f":"IF($B$2=StoreConfig!C885,RIGHT(StoreConfig!J885,LEN(StoreConfig!J885)-FIND(\"|\",StoreConfig!J885)),\"\")","v":""},{"$f":"IFERROR(VLOOKUP(--IF($B$2=StoreConfig!C885,LEFT(StoreConfig!J885,FIND(\"|\",StoreConfig!J885)-1),\"\"),$Q$4:$R$20,2,FALSE),\"\")","v":""},{"$f":"IF($B$2=StoreConfig!C885,LEFT(StoreConfig!G885,FIND(\"#\",StoreConfig!G885)-1),\"\")","v":""},{"$f":"IF($B$2=StoreConfig!C885,RIGHT(StoreConfig!G885,LEN(StoreConfig!G885)-FIND(\"#\",StoreConfig!G885)),\"\")","v":""},{"$f":"IF($B$2=StoreConfig!C885,IF(StoreConfig!L885=0,\"不限购\",StoreConfig!L885&\"次\"),\"\")","v":""}]
[{"$nulls":3},{"$f":"IF($B$2=StoreConfig!C886,StoreConfig!O886,\"\")","v":""},{"$f":"IF($B$2=StoreConfig!C886,StoreConfig!E886,\"\")","v":""},{"$f":"IF($B$2=StoreConfig!C886,RIGHT(StoreConfig!J886,LEN(StoreConfig!J886)-FIND(\"|\",StoreConfig!J886)),\"\")","v":""},{"$f":"IFERROR(VLOOKUP(--IF($B$2=StoreConfig!C886,LEFT(StoreConfig!J886,FIND(\"|\",StoreConfig!J886)-1),\"\"),$Q$4:$R$20,2,FALSE),\"\")","v":""},{"$f":"IF($B$2=StoreConfig!C886,LEFT(StoreConfig!G886,FIND(\"#\",StoreConfig!G886)-1),\"\")","v":""},{"$f":"IF($B$2=StoreConfig!C886,RIGHT(StoreConfig!G886,LEN(StoreConfig!G886)-FIND(\"#\",StoreConfig!G886)),\"\")","v":""},{"$f":"IF($B$2=StoreConfig!C886,IF(StoreConfig!L886=0,\"不限购\",StoreConfig!L886&\"次\"),\"\")","v":""}]
[{"$nulls":3},{"$f":"IF($B$2=StoreConfig!C887,StoreConfig!O887,\"\")","v":""},{"$f":"IF($B$2=StoreConfig!C887,StoreConfig!E887,\"\")","v":""},{"$f":"IF($B$2=StoreConfig!C887,RIGHT(StoreConfig!J887,LEN(StoreConfig!J887)-FIND(\"|\",StoreConfig!J887)),\"\")","v":""},{"$f":"IFERROR(VLOOKUP(--IF($B$2=StoreConfig!C887,LEFT(StoreConfig!J887,FIND(\"|\",StoreConfig!J887)-1),\"\"),$Q$4:$R$20,2,FALSE),\"\")","v":""},{"$f":"IF($B$2=StoreConfig!C887,LEFT(StoreConfig!G887,FIND(\"#\",StoreConfig!G887)-1),\"\")","v":""},{"$f":"IF($B$2=StoreConfig!C887,RIGHT(StoreConfig!G887,LEN(StoreConfig!G887)-FIND(\"#\",StoreConfig!G887)),\"\")","v":""},{"$f":"IF($B$2=StoreConfig!C887,IF(StoreConfig!L887=0,\"不限购\",StoreConfig!L887&\"次\"),\"\")","v":""}]
[{"$nulls":3},{"$f":"IF($B$2=StoreConfig!C888,StoreConfig!O888,\"\")","v":""},{"$f":"IF($B$2=StoreConfig!C888,StoreConfig!E888,\"\")","v":""},{"$f":"IF($B$2=StoreConfig!C888,RIGHT(StoreConfig!J888,LEN(StoreConfig!J888)-FIND(\"|\",StoreConfig!J888)),\"\")","v":""},{"$f":"IFERROR(VLOOKUP(--IF($B$2=StoreConfig!C888,LEFT(StoreConfig!J888,FIND(\"|\",StoreConfig!J888)-1),\"\"),$Q$4:$R$20,2,FALSE),\"\")","v":""},{"$f":"IF($B$2=StoreConfig!C888,LEFT(StoreConfig!G888,FIND(\"#\",StoreConfig!G888)-1),\"\")","v":""},{"$f":"IF($B$2=StoreConfig!C888,RIGHT(StoreConfig!G888,LEN(StoreConfig!G888)-FIND(\"#\",StoreConfig!G888)),\"\")","v":""},{"$f":"IF($B$2=StoreConfig!C888,IF(StoreConfig!L888=0,\"不限购\",StoreConfig!L888&\"次\"),\"\")","v":""}]
[{"$nulls":3},{"$f":"IF($B$2=StoreConfig!C889,StoreConfig!O889,\"\")","v":""},{"$f":"IF($B$2=StoreConfig!C889,StoreConfig!E889,\"\")","v":""},{"$f":"IF($B$2=StoreConfig!C889,RIGHT(StoreConfig!J889,LEN(StoreConfig!J889)-FIND(\"|\",StoreConfig!J889)),\"\")","v":""},{"$f":"IFERROR(VLOOKUP(--IF($B$2=StoreConfig!C889,LEFT(StoreConfig!J889,FIND(\"|\",StoreConfig!J889)-1),\"\"),$Q$4:$R$20,2,FALSE),\"\")","v":""},{"$f":"IF($B$2=StoreConfig!C889,LEFT(StoreConfig!G889,FIND(\"#\",StoreConfig!G889)-1),\"\")","v":""},{"$f":"IF($B$2=StoreConfig!C889,RIGHT(StoreConfig!G889,LEN(StoreConfig!G889)-FIND(\"#\",StoreConfig!G889)),\"\")","v":""},{"$f":"IF($B$2=StoreConfig!C889,IF(StoreConfig!L889=0,\"不限购\",StoreConfig!L889&\"次\"),\"\")","v":""}]
[{"$nulls":3},{"$f":"IF($B$2=StoreConfig!C890,StoreConfig!O890,\"\")","v":""},{"$f":"IF($B$2=StoreConfig!C890,StoreConfig!E890,\"\")","v":""},{"$f":"IF($B$2=StoreConfig!C890,RIGHT(StoreConfig!J890,LEN(StoreConfig!J890)-FIND(\"|\",StoreConfig!J890)),\"\")","v":""},{"$f":"IFERROR(VLOOKUP(--IF($B$2=StoreConfig!C890,LEFT(StoreConfig!J890,FIND(\"|\",StoreConfig!J890)-1),\"\"),$Q$4:$R$20,2,FALSE),\"\")","v":""},{"$f":"IF($B$2=StoreConfig!C890,LEFT(StoreConfig!G890,FIND(\"#\",StoreConfig!G890)-1),\"\")","v":""},{"$f":"IF($B$2=StoreConfig!C890,RIGHT(StoreConfig!G890,LEN(StoreConfig!G890)-FIND(\"#\",StoreConfig!G890)),\"\")","v":""},{"$f":"IF($B$2=StoreConfig!C890,IF(StoreConfig!L890=0,\"不限购\",StoreConfig!L890&\"次\"),\"\")","v":""}]
[{"$nulls":3},{"$f":"IF($B$2=StoreConfig!C891,StoreConfig!O891,\"\")","v":""},{"$f":"IF($B$2=StoreConfig!C891,StoreConfig!E891,\"\")","v":""},{"$f":"IF($B$2=StoreConfig!C891,RIGHT(StoreConfig!J891,LEN(StoreConfig!J891)-FIND(\"|\",StoreConfig!J891)),\"\")","v":""},{"$f":"IFERROR(VLOOKUP(--IF($B$2=StoreConfig!C891,LEFT(StoreConfig!J891,FIND(\"|\",StoreConfig!J891)-1),\"\"),$Q$4:$R$20,2,FALSE),\"\")","v":""},{"$f":"IF($B$2=StoreConfig!C891,LEFT(StoreConfig!G891,FIND(\"#\",StoreConfig!G891)-1),\"\")","v":""},{"$f":"IF($B$2=StoreConfig!C891,RIGHT(StoreConfig!G891,LEN(StoreConfig!G891)-FIND(\"#\",StoreConfig!G891)),\"\")","v":""},{"$f":"IF($B$2=StoreConfig!C891,IF(StoreConfig!L891=0,\"不限购\",StoreConfig!L891&\"次\"),\"\")","v":""}]
[{"$nulls":3},{"$f":"IF($B$2=StoreConfig!C892,StoreConfig!O892,\"\")","v":""},{"$f":"IF($B$2=StoreConfig!C892,StoreConfig!E892,\"\")","v":""},{"$f":"IF($B$2=StoreConfig!C892,RIGHT(StoreConfig!J892,LEN(StoreConfig!J892)-FIND(\"|\",StoreConfig!J892)),\"\")","v":""},{"$f":"IFERROR(VLOOKUP(--IF($B$2=StoreConfig!C892,LEFT(StoreConfig!J892,FIND(\"|\",StoreConfig!J892)-1),\"\"),$Q$4:$R$20,2,FALSE),\"\")","v":""},{"$f":"IF($B$2=StoreConfig!C892,LEFT(StoreConfig!G892,FIND(\"#\",StoreConfig!G892)-1),\"\")","v":""},{"$f":"IF($B$2=StoreConfig!C892,RIGHT(StoreConfig!G892,LEN(StoreConfig!G892)-FIND(\"#\",StoreConfig!G892)),\"\")","v":""},{"$f":"IF($B$2=StoreConfig!C892,IF(StoreConfig!L892=0,\"不限购\",StoreConfig!L892&\"次\"),\"\")","v":""}]
[{"$nulls":3},{"$f":"IF($B$2=StoreConfig!C893,StoreConfig!O893,\"\")","v":""},{"$f":"IF($B$2=StoreConfig!C893,StoreConfig!E893,\"\")","v":""},{"$f":"IF($B$2=StoreConfig!C893,RIGHT(StoreConfig!J893,LEN(StoreConfig!J893)-FIND(\"|\",StoreConfig!J893)),\"\")","v":""},{"$f":"IFERROR(VLOOKUP(--IF($B$2=StoreConfig!C893,LEFT(StoreConfig!J893,FIND(\"|\",StoreConfig!J893)-1),\"\"),$Q$4:$R$20,2,FALSE),\"\")","v":""},{"$f":"IF($B$2=StoreConfig!C893,LEFT(StoreConfig!G893,FIND(\"#\",StoreConfig!G893)-1),\"\")","v":""},{"$f":"IF($B$2=StoreConfig!C893,RIGHT(StoreConfig!G893,LEN(StoreConfig!G893)-FIND(\"#\",StoreConfig!G893)),\"\")","v":""},{"$f":"IF($B$2=StoreConfig!C893,IF(StoreConfig!L893=0,\"不限购\",StoreConfig!L893&\"次\"),\"\")","v":""}]
[{"$nulls":3},{"$f":"IF($B$2=StoreConfig!C894,StoreConfig!O894,\"\")","v":""},{"$f":"IF($B$2=StoreConfig!C894,StoreConfig!E894,\"\")","v":""},{"$f":"IF($B$2=StoreConfig!C894,RIGHT(StoreConfig!J894,LEN(StoreConfig!J894)-FIND(\"|\",StoreConfig!J894)),\"\")","v":""},{"$f":"IFERROR(VLOOKUP(--IF($B$2=StoreConfig!C894,LEFT(StoreConfig!J894,FIND(\"|\",StoreConfig!J894)-1),\"\"),$Q$4:$R$20,2,FALSE),\"\")","v":""},{"$f":"IF($B$2=StoreConfig!C894,LEFT(StoreConfig!G894,FIND(\"#\",StoreConfig!G894)-1),\"\")","v":""},{"$f":"IF($B$2=StoreConfig!C894,RIGHT(StoreConfig!G894,LEN(StoreConfig!G894)-FIND(\"#\",StoreConfig!G894)),\"\")","v":""},{"$f":"IF($B$2=StoreConfig!C894,IF(StoreConfig!L894=0,\"不限购\",StoreConfig!L894&\"次\"),\"\")","v":""}]
[{"$nulls":3},{"$f":"IF($B$2=StoreConfig!C895,StoreConfig!O895,\"\")","v":""},{"$f":"IF($B$2=StoreConfig!C895,StoreConfig!E895,\"\")","v":""},{"$f":"IF($B$2=StoreConfig!C895,RIGHT(StoreConfig!J895,LEN(StoreConfig!J895)-FIND(\"|\",StoreConfig!J895)),\"\")","v":""},{"$f":"IFERROR(VLOOKUP(--IF($B$2=StoreConfig!C895,LEFT(StoreConfig!J895,FIND(\"|\",StoreConfig!J895)-1),\"\"),$Q$4:$R$20,2,FALSE),\"\")","v":""},{"$f":"IF($B$2=StoreConfig!C895,LEFT(StoreConfig!G895,FIND(\"#\",StoreConfig!G895)-1),\"\")","v":""},{"$f":"IF($B$2=StoreConfig!C895,RIGHT(StoreConfig!G895,LEN(StoreConfig!G895)-FIND(\"#\",StoreConfig!G895)),\"\")","v":""},{"$f":"IF($B$2=StoreConfig!C895,IF(StoreConfig!L895=0,\"不限购\",StoreConfig!L895&\"次\"),\"\")","v":""}]
[{"$nulls":3},{"$f":"IF($B$2=StoreConfig!C896,StoreConfig!O896,\"\")","v":""},{"$f":"IF($B$2=StoreConfig!C896,StoreConfig!E896,\"\")","v":""},{"$f":"IF($B$2=StoreConfig!C896,RIGHT(StoreConfig!J896,LEN(StoreConfig!J896)-FIND(\"|\",StoreConfig!J896)),\"\")","v":""},{"$f":"IFERROR(VLOOKUP(--IF($B$2=StoreConfig!C896,LEFT(StoreConfig!J896,FIND(\"|\",StoreConfig!J896)-1),\"\"),$Q$4:$R$20,2,FALSE),\"\")","v":""},{"$f":"IF($B$2=StoreConfig!C896,LEFT(StoreConfig!G896,FIND(\"#\",StoreConfig!G896)-1),\"\")","v":""},{"$f":"IF($B$2=StoreConfig!C896,RIGHT(StoreConfig!G896,LEN(StoreConfig!G896)-FIND(\"#\",StoreConfig!G896)),\"\")","v":""},{"$f":"IF($B$2=StoreConfig!C896,IF(StoreConfig!L896=0,\"不限购\",StoreConfig!L896&\"次\"),\"\")","v":""}]
[{"$nulls":3},{"$f":"IF($B$2=StoreConfig!C897,StoreConfig!O897,\"\")","v":""},{"$f":"IF($B$2=StoreConfig!C897,StoreConfig!E897,\"\")","v":""},{"$f":"IF($B$2=StoreConfig!C897,RIGHT(StoreConfig!J897,LEN(StoreConfig!J897)-FIND(\"|\",StoreConfig!J897)),\"\")","v":""},{"$f":"IFERROR(VLOOKUP(--IF($B$2=StoreConfig!C897,LEFT(StoreConfig!J897,FIND(\"|\",StoreConfig!J897)-1),\"\"),$Q$4:$R$20,2,FALSE),\"\")","v":""},{"$f":"IF($B$2=StoreConfig!C897,LEFT(StoreConfig!G897,FIND(\"#\",StoreConfig!G897)-1),\"\")","v":""},{"$f":"IF($B$2=StoreConfig!C897,RIGHT(StoreConfig!G897,LEN(StoreConfig!G897)-FIND(\"#\",StoreConfig!G897)),\"\")","v":""},{"$f":"IF($B$2=StoreConfig!C897,IF(StoreConfig!L897=0,\"不限购\",StoreConfig!L897&\"次\"),\"\")","v":""}]
[{"$nulls":3},{"$f":"IF($B$2=StoreConfig!C898,StoreConfig!O898,\"\")","v":""},{"$f":"IF($B$2=StoreConfig!C898,StoreConfig!E898,\"\")","v":""},{"$f":"IF($B$2=StoreConfig!C898,RIGHT(StoreConfig!J898,LEN(StoreConfig!J898)-FIND(\"|\",StoreConfig!J898)),\"\")","v":""},{"$f":"IFERROR(VLOOKUP(--IF($B$2=StoreConfig!C898,LEFT(StoreConfig!J898,FIND(\"|\",StoreConfig!J898)-1),\"\"),$Q$4:$R$20,2,FALSE),\"\")","v":""},{"$f":"IF($B$2=StoreConfig!C898,LEFT(StoreConfig!G898,FIND(\"#\",StoreConfig!G898)-1),\"\")","v":""},{"$f":"IF($B$2=StoreConfig!C898,RIGHT(StoreConfig!G898,LEN(StoreConfig!G898)-FIND(\"#\",StoreConfig!G898)),\"\")","v":""},{"$f":"IF($B$2=StoreConfig!C898,IF(StoreConfig!L898=0,\"不限购\",StoreConfig!L898&\"次\"),\"\")","v":""}]
[{"$nulls":3},{"$f":"IF($B$2=StoreConfig!C899,StoreConfig!O899,\"\")","v":""},{"$f":"IF($B$2=StoreConfig!C899,StoreConfig!E899,\"\")","v":""},{"$f":"IF($B$2=StoreConfig!C899,RIGHT(StoreConfig!J899,LEN(StoreConfig!J899)-FIND(\"|\",StoreConfig!J899)),\"\")","v":""},{"$f":"IFERROR(VLOOKUP(--IF($B$2=StoreConfig!C899,LEFT(StoreConfig!J899,FIND(\"|\",StoreConfig!J899)-1),\"\"),$Q$4:$R$20,2,FALSE),\"\")","v":""},{"$f":"IF($B$2=StoreConfig!C899,LEFT(StoreConfig!G899,FIND(\"#\",StoreConfig!G899)-1),\"\")","v":""},{"$f":"IF($B$2=StoreConfig!C899,RIGHT(StoreConfig!G899,LEN(StoreConfig!G899)-FIND(\"#\",StoreConfig!G899)),\"\")","v":""},{"$f":"IF($B$2=StoreConfig!C899,IF(StoreConfig!L899=0,\"不限购\",StoreConfig!L899&\"次\"),\"\")","v":""}]
[{"$nulls":3},{"$f":"IF($B$2=StoreConfig!C900,StoreConfig!O900,\"\")","v":""},{"$f":"IF($B$2=StoreConfig!C900,StoreConfig!E900,\"\")","v":""},{"$f":"IF($B$2=StoreConfig!C900,RIGHT(StoreConfig!J900,LEN(StoreConfig!J900)-FIND(\"|\",StoreConfig!J900)),\"\")","v":""},{"$f":"IFERROR(VLOOKUP(--IF($B$2=StoreConfig!C900,LEFT(StoreConfig!J900,FIND(\"|\",StoreConfig!J900)-1),\"\"),$Q$4:$R$20,2,FALSE),\"\")","v":""},{"$f":"IF($B$2=StoreConfig!C900,LEFT(StoreConfig!G900,FIND(\"#\",StoreConfig!G900)-1),\"\")","v":""},{"$f":"IF($B$2=StoreConfig!C900,RIGHT(StoreConfig!G900,LEN(StoreConfig!G900)-FIND(\"#\",StoreConfig!G900)),\"\")","v":""},{"$f":"IF($B$2=StoreConfig!C900,IF(StoreConfig!L900=0,\"不限购\",StoreConfig!L900&\"次\"),\"\")","v":""}]
[{"$nulls":3},{"$f":"IF($B$2=StoreConfig!C901,StoreConfig!O901,\"\")","v":""},{"$f":"IF($B$2=StoreConfig!C901,StoreConfig!E901,\"\")","v":""},{"$f":"IF($B$2=StoreConfig!C901,RIGHT(StoreConfig!J901,LEN(StoreConfig!J901)-FIND(\"|\",StoreConfig!J901)),\"\")","v":""},{"$f":"IFERROR(VLOOKUP(--IF($B$2=StoreConfig!C901,LEFT(StoreConfig!J901,FIND(\"|\",StoreConfig!J901)-1),\"\"),$Q$4:$R$20,2,FALSE),\"\")","v":""},{"$f":"IF($B$2=StoreConfig!C901,LEFT(StoreConfig!G901,FIND(\"#\",StoreConfig!G901)-1),\"\")","v":""},{"$f":"IF($B$2=StoreConfig!C901,RIGHT(StoreConfig!G901,LEN(StoreConfig!G901)-FIND(\"#\",StoreConfig!G901)),\"\")","v":""},{"$f":"IF($B$2=StoreConfig!C901,IF(StoreConfig!L901=0,\"不限购\",StoreConfig!L901&\"次\"),\"\")","v":""}]
[{"$nulls":3},{"$f":"IF($B$2=StoreConfig!C902,StoreConfig!O902,\"\")","v":""},{"$f":"IF($B$2=StoreConfig!C902,StoreConfig!E902,\"\")","v":""},{"$f":"IF($B$2=StoreConfig!C902,RIGHT(StoreConfig!#REF!,LEN(StoreConfig!#REF!)-FIND(\"|\",StoreConfig!#REF!)),\"\")","v":""},{"$f":"IFERROR(VLOOKUP(--IF($B$2=StoreConfig!C902,LEFT(StoreConfig!#REF!,FIND(\"|\",StoreConfig!#REF!)-1),\"\"),$Q$4:$R$20,2,FALSE),\"\")","v":""},{"$f":"IF($B$2=StoreConfig!C902,LEFT(StoreConfig!G902,FIND(\"#\",StoreConfig!G902)-1),\"\")","v":""},{"$f":"IF($B$2=StoreConfig!C902,RIGHT(StoreConfig!G902,LEN(StoreConfig!G902)-FIND(\"#\",StoreConfig!G902)),\"\")","v":""},{"$f":"IF($B$2=StoreConfig!C902,IF(StoreConfig!L902=0,\"不限购\",StoreConfig!L902&\"次\"),\"\")","v":""}]
[{"$nulls":3},{"$f":"IF($B$2=StoreConfig!C903,StoreConfig!O903,\"\")","v":""},{"$f":"IF($B$2=StoreConfig!C903,StoreConfig!E903,\"\")","v":""},{"$f":"IF($B$2=StoreConfig!C903,RIGHT(StoreConfig!#REF!,LEN(StoreConfig!#REF!)-FIND(\"|\",StoreConfig!#REF!)),\"\")","v":""},{"$f":"IFERROR(VLOOKUP(--IF($B$2=StoreConfig!C903,LEFT(StoreConfig!#REF!,FIND(\"|\",StoreConfig!#REF!)-1),\"\"),$Q$4:$R$20,2,FALSE),\"\")","v":""},{"$f":"IF($B$2=StoreConfig!C903,LEFT(StoreConfig!G903,FIND(\"#\",StoreConfig!G903)-1),\"\")","v":""},{"$f":"IF($B$2=StoreConfig!C903,RIGHT(StoreConfig!G903,LEN(StoreConfig!G903)-FIND(\"#\",StoreConfig!G903)),\"\")","v":""},{"$f":"IF($B$2=StoreConfig!C903,IF(StoreConfig!L903=0,\"不限购\",StoreConfig!L903&\"次\"),\"\")","v":""}]
[{"$nulls":3},{"$f":"IF($B$2=StoreConfig!C904,StoreConfig!O904,\"\")","v":""},{"$f":"IF($B$2=StoreConfig!C904,StoreConfig!E904,\"\")","v":""},{"$f":"IF($B$2=StoreConfig!C904,RIGHT(StoreConfig!#REF!,LEN(StoreConfig!#REF!)-FIND(\"|\",StoreConfig!#REF!)),\"\")","v":""},{"$f":"IFERROR(VLOOKUP(--IF($B$2=StoreConfig!C904,LEFT(StoreConfig!#REF!,FIND(\"|\",StoreConfig!#REF!)-1),\"\"),$Q$4:$R$20,2,FALSE),\"\")","v":""},{"$f":"IF($B$2=StoreConfig!C904,LEFT(StoreConfig!G904,FIND(\"#\",StoreConfig!G904)-1),\"\")","v":""},{"$f":"IF($B$2=StoreConfig!C904,RIGHT(StoreConfig!G904,LEN(StoreConfig!G904)-FIND(\"#\",StoreConfig!G904)),\"\")","v":""},{"$f":"IF($B$2=StoreConfig!C904,IF(StoreConfig!L904=0,\"不限购\",StoreConfig!L904&\"次\"),\"\")","v":""}]
[{"$nulls":3},{"$f":"IF($B$2=StoreConfig!C905,StoreConfig!O905,\"\")","v":""},{"$f":"IF($B$2=StoreConfig!C905,StoreConfig!E905,\"\")","v":""},{"$f":"IF($B$2=StoreConfig!C905,RIGHT(StoreConfig!#REF!,LEN(StoreConfig!#REF!)-FIND(\"|\",StoreConfig!#REF!)),\"\")","v":""},{"$f":"IFERROR(VLOOKUP(--IF($B$2=StoreConfig!C905,LEFT(StoreConfig!#REF!,FIND(\"|\",StoreConfig!#REF!)-1),\"\"),$Q$4:$R$20,2,FALSE),\"\")","v":""},{"$f":"IF($B$2=StoreConfig!C905,LEFT(StoreConfig!G905,FIND(\"#\",StoreConfig!G905)-1),\"\")","v":""},{"$f":"IF($B$2=StoreConfig!C905,RIGHT(StoreConfig!G905,LEN(StoreConfig!G905)-FIND(\"#\",StoreConfig!G905)),\"\")","v":""},{"$f":"IF($B$2=StoreConfig!C905,IF(StoreConfig!L905=0,\"不限购\",StoreConfig!L905&\"次\"),\"\")","v":""}]
[{"$nulls":3},{"$f":"IF($B$2=StoreConfig!C906,StoreConfig!O906,\"\")","v":""},{"$f":"IF($B$2=StoreConfig!C906,StoreConfig!E906,\"\")","v":""},{"$f":"IF($B$2=StoreConfig!C906,RIGHT(StoreConfig!#REF!,LEN(StoreConfig!#REF!)-FIND(\"|\",StoreConfig!#REF!)),\"\")","v":""},{"$f":"IFERROR(VLOOKUP(--IF($B$2=StoreConfig!C906,LEFT(StoreConfig!#REF!,FIND(\"|\",StoreConfig!#REF!)-1),\"\"),$Q$4:$R$20,2,FALSE),\"\")","v":""},{"$f":"IF($B$2=StoreConfig!C906,LEFT(StoreConfig!G906,FIND(\"#\",StoreConfig!G906)-1),\"\")","v":""},{"$f":"IF($B$2=StoreConfig!C906,RIGHT(StoreConfig!G906,LEN(StoreConfig!G906)-FIND(\"#\",StoreConfig!G906)),\"\")","v":""},{"$f":"IF($B$2=StoreConfig!C906,IF(StoreConfig!L906=0,\"不限购\",StoreConfig!L906&\"次\"),\"\")","v":""}]
[{"$nulls":3},{"$f":"IF($B$2=StoreConfig!C907,StoreConfig!O907,\"\")","v":""},{"$f":"IF($B$2=StoreConfig!C907,StoreConfig!E907,\"\")","v":""},{"$f":"IF($B$2=StoreConfig!C907,RIGHT(StoreConfig!#REF!,LEN(StoreConfig!#REF!)-FIND(\"|\",StoreConfig!#REF!)),\"\")","v":""},{"$f":"IFERROR(VLOOKUP(--IF($B$2=StoreConfig!C907,LEFT(StoreConfig!#REF!,FIND(\"|\",StoreConfig!#REF!)-1),\"\"),$Q$4:$R$20,2,FALSE),\"\")","v":""},{"$f":"IF($B$2=StoreConfig!C907,LEFT(StoreConfig!G907,FIND(\"#\",StoreConfig!G907)-1),\"\")","v":""},{"$f":"IF($B$2=StoreConfig!C907,RIGHT(StoreConfig!G907,LEN(StoreConfig!G907)-FIND(\"#\",StoreConfig!G907)),\"\")","v":""},{"$f":"IF($B$2=StoreConfig!C907,IF(StoreConfig!L907=0,\"不限购\",StoreConfig!L907&\"次\"),\"\")","v":""}]
[{"$nulls":3},{"$f":"IF($B$2=StoreConfig!C908,StoreConfig!O908,\"\")","v":""},{"$f":"IF($B$2=StoreConfig!C908,StoreConfig!E908,\"\")","v":""},{"$f":"IF($B$2=StoreConfig!C908,RIGHT(StoreConfig!#REF!,LEN(StoreConfig!#REF!)-FIND(\"|\",StoreConfig!#REF!)),\"\")","v":""},{"$f":"IFERROR(VLOOKUP(--IF($B$2=StoreConfig!C908,LEFT(StoreConfig!#REF!,FIND(\"|\",StoreConfig!#REF!)-1),\"\"),$Q$4:$R$20,2,FALSE),\"\")","v":""},{"$f":"IF($B$2=StoreConfig!C908,LEFT(StoreConfig!G908,FIND(\"#\",StoreConfig!G908)-1),\"\")","v":""},{"$f":"IF($B$2=StoreConfig!C908,RIGHT(StoreConfig!G908,LEN(StoreConfig!G908)-FIND(\"#\",StoreConfig!G908)),\"\")","v":""},{"$f":"IF($B$2=StoreConfig!C908,IF(StoreConfig!L908=0,\"不限购\",StoreConfig!L908&\"次\"),\"\")","v":""}]
[{"$nulls":3},{"$f":"IF($B$2=StoreConfig!C909,StoreConfig!O909,\"\")","v":""},{"$f":"IF($B$2=StoreConfig!C909,StoreConfig!E909,\"\")","v":""},{"$f":"IF($B$2=StoreConfig!C909,RIGHT(StoreConfig!#REF!,LEN(StoreConfig!#REF!)-FIND(\"|\",StoreConfig!#REF!)),\"\")","v":""},{"$f":"IFERROR(VLOOKUP(--IF($B$2=StoreConfig!C909,LEFT(StoreConfig!#REF!,FIND(\"|\",StoreConfig!#REF!)-1),\"\"),$Q$4:$R$20,2,FALSE),\"\")","v":""},{"$f":"IF($B$2=StoreConfig!C909,LEFT(StoreConfig!G909,FIND(\"#\",StoreConfig!G909)-1),\"\")","v":""},{"$f":"IF($B$2=StoreConfig!C909,RIGHT(StoreConfig!G909,LEN(StoreConfig!G909)-FIND(\"#\",StoreConfig!G909)),\"\")","v":""},{"$f":"IF($B$2=StoreConfig!C909,IF(StoreConfig!L909=0,\"不限购\",StoreConfig!L909&\"次\"),\"\")","v":""}]
[{"$nulls":3},{"$f":"IF($B$2=StoreConfig!C910,StoreConfig!O910,\"\")","v":""},{"$f":"IF($B$2=StoreConfig!C910,StoreConfig!E910,\"\")","v":""},{"$f":"IF($B$2=StoreConfig!C910,RIGHT(StoreConfig!#REF!,LEN(StoreConfig!#REF!)-FIND(\"|\",StoreConfig!#REF!)),\"\")","v":""},{"$f":"IFERROR(VLOOKUP(--IF($B$2=StoreConfig!C910,LEFT(StoreConfig!#REF!,FIND(\"|\",StoreConfig!#REF!)-1),\"\"),$Q$4:$R$20,2,FALSE),\"\")","v":""},{"$f":"IF($B$2=StoreConfig!C910,LEFT(StoreConfig!G910,FIND(\"#\",StoreConfig!G910)-1),\"\")","v":""},{"$f":"IF($B$2=StoreConfig!C910,RIGHT(StoreConfig!G910,LEN(StoreConfig!G910)-FIND(\"#\",StoreConfig!G910)),\"\")","v":""},{"$f":"IF($B$2=StoreConfig!C910,IF(StoreConfig!L910=0,\"不限购\",StoreConfig!L910&\"次\"),\"\")","v":""}]
[{"$nulls":3},{"$f":"IF($B$2=StoreConfig!C911,StoreConfig!O911,\"\")","v":""},{"$f":"IF($B$2=StoreConfig!C911,StoreConfig!E911,\"\")","v":""},{"$f":"IF($B$2=StoreConfig!C911,RIGHT(StoreConfig!#REF!,LEN(StoreConfig!#REF!)-FIND(\"|\",StoreConfig!#REF!)),\"\")","v":""},{"$f":"IFERROR(VLOOKUP(--IF($B$2=StoreConfig!C911,LEFT(StoreConfig!#REF!,FIND(\"|\",StoreConfig!#REF!)-1),\"\"),$Q$4:$R$20,2,FALSE),\"\")","v":""},{"$f":"IF($B$2=StoreConfig!C911,LEFT(StoreConfig!G911,FIND(\"#\",StoreConfig!G911)-1),\"\")","v":""},{"$f":"IF($B$2=StoreConfig!C911,RIGHT(StoreConfig!G911,LEN(StoreConfig!G911)-FIND(\"#\",StoreConfig!G911)),\"\")","v":""},{"$f":"IF($B$2=StoreConfig!C911,IF(StoreConfig!L911=0,\"不限购\",StoreConfig!L911&\"次\"),\"\")","v":""}]
[{"$nulls":3},{"$f":"IF($B$2=StoreConfig!C912,StoreConfig!O912,\"\")","v":""},{"$f":"IF($B$2=StoreConfig!C912,StoreConfig!E912,\"\")","v":""},{"$f":"IF($B$2=StoreConfig!C912,RIGHT(StoreConfig!#REF!,LEN(StoreConfig!#REF!)-FIND(\"|\",StoreConfig!#REF!)),\"\")","v":""},{"$f":"IFERROR(VLOOKUP(--IF($B$2=StoreConfig!C912,LEFT(StoreConfig!#REF!,FIND(\"|\",StoreConfig!#REF!)-1),\"\"),$Q$4:$R$20,2,FALSE),\"\")","v":""},{"$f":"IF($B$2=StoreConfig!C912,LEFT(StoreConfig!G912,FIND(\"#\",StoreConfig!G912)-1),\"\")","v":""},{"$f":"IF($B$2=StoreConfig!C912,RIGHT(StoreConfig!G912,LEN(StoreConfig!G912)-FIND(\"#\",StoreConfig!G912)),\"\")","v":""},{"$f":"IF($B$2=StoreConfig!C912,IF(StoreConfig!L912=0,\"不限购\",StoreConfig!L912&\"次\"),\"\")","v":""}]
[{"$nulls":3},{"$f":"IF($B$2=StoreConfig!C913,StoreConfig!O913,\"\")","v":""},{"$f":"IF($B$2=StoreConfig!C913,StoreConfig!E913,\"\")","v":""},{"$f":"IF($B$2=StoreConfig!C913,RIGHT(StoreConfig!#REF!,LEN(StoreConfig!#REF!)-FIND(\"|\",StoreConfig!#REF!)),\"\")","v":""},{"$f":"IFERROR(VLOOKUP(--IF($B$2=StoreConfig!C913,LEFT(StoreConfig!#REF!,FIND(\"|\",StoreConfig!#REF!)-1),\"\"),$Q$4:$R$20,2,FALSE),\"\")","v":""},{"$f":"IF($B$2=StoreConfig!C913,LEFT(StoreConfig!G913,FIND(\"#\",StoreConfig!G913)-1),\"\")","v":""},{"$f":"IF($B$2=StoreConfig!C913,RIGHT(StoreConfig!G913,LEN(StoreConfig!G913)-FIND(\"#\",StoreConfig!G913)),\"\")","v":""},{"$f":"IF($B$2=StoreConfig!C913,IF(StoreConfig!L913=0,\"不限购\",StoreConfig!L913&\"次\"),\"\")","v":""}]
[{"$nulls":3},{"$f":"IF($B$2=StoreConfig!C914,StoreConfig!O914,\"\")","v":""},{"$f":"IF($B$2=StoreConfig!C914,StoreConfig!E914,\"\")","v":""},{"$f":"IF($B$2=StoreConfig!C914,RIGHT(StoreConfig!#REF!,LEN(StoreConfig!#REF!)-FIND(\"|\",StoreConfig!#REF!)),\"\")","v":""},{"$f":"IFERROR(VLOOKUP(--IF($B$2=StoreConfig!C914,LEFT(StoreConfig!#REF!,FIND(\"|\",StoreConfig!#REF!)-1),\"\"),$Q$4:$R$20,2,FALSE),\"\")","v":""},{"$f":"IF($B$2=StoreConfig!C914,LEFT(StoreConfig!G914,FIND(\"#\",StoreConfig!G914)-1),\"\")","v":""},{"$f":"IF($B$2=StoreConfig!C914,RIGHT(StoreConfig!G914,LEN(StoreConfig!G914)-FIND(\"#\",StoreConfig!G914)),\"\")","v":""},{"$f":"IF($B$2=StoreConfig!C914,IF(StoreConfig!L914=0,\"不限购\",StoreConfig!L914&\"次\"),\"\")","v":""}]
[{"$nulls":3},{"$f":"IF($B$2=StoreConfig!C915,StoreConfig!O915,\"\")","v":""},{"$f":"IF($B$2=StoreConfig!C915,StoreConfig!E915,\"\")","v":""},{"$f":"IF($B$2=StoreConfig!C915,RIGHT(StoreConfig!#REF!,LEN(StoreConfig!#REF!)-FIND(\"|\",StoreConfig!#REF!)),\"\")","v":""},{"$f":"IFERROR(VLOOKUP(--IF($B$2=StoreConfig!C915,LEFT(StoreConfig!#REF!,FIND(\"|\",StoreConfig!#REF!)-1),\"\"),$Q$4:$R$20,2,FALSE),\"\")","v":""},{"$f":"IF($B$2=StoreConfig!C915,LEFT(StoreConfig!G915,FIND(\"#\",StoreConfig!G915)-1),\"\")","v":""},{"$f":"IF($B$2=StoreConfig!C915,RIGHT(StoreConfig!G915,LEN(StoreConfig!G915)-FIND(\"#\",StoreConfig!G915)),\"\")","v":""},{"$f":"IF($B$2=StoreConfig!C915,IF(StoreConfig!L915=0,\"不限购\",StoreConfig!L915&\"次\"),\"\")","v":""}]
[{"$nulls":3},{"$f":"IF($B$2=StoreConfig!C916,StoreConfig!O916,\"\")","v":""},{"$f":"IF($B$2=StoreConfig!C916,StoreConfig!E916,\"\")","v":""},{"$f":"IF($B$2=StoreConfig!C916,RIGHT(StoreConfig!#REF!,LEN(StoreConfig!#REF!)-FIND(\"|\",StoreConfig!#REF!)),\"\")","v":""},{"$f":"IFERROR(VLOOKUP(--IF($B$2=StoreConfig!C916,LEFT(StoreConfig!#REF!,FIND(\"|\",StoreConfig!#REF!)-1),\"\"),$Q$4:$R$20,2,FALSE),\"\")","v":""},{"$f":"IF($B$2=StoreConfig!C916,LEFT(StoreConfig!G916,FIND(\"#\",StoreConfig!G916)-1),\"\")","v":""},{"$f":"IF($B$2=StoreConfig!C916,RIGHT(StoreConfig!G916,LEN(StoreConfig!G916)-FIND(\"#\",StoreConfig!G916)),\"\")","v":""},{"$f":"IF($B$2=StoreConfig!C916,IF(StoreConfig!L916=0,\"不限购\",StoreConfig!L916&\"次\"),\"\")","v":""}]
[{"$nulls":3},{"$f":"IF($B$2=StoreConfig!C917,StoreConfig!O917,\"\")","v":""},{"$f":"IF($B$2=StoreConfig!C917,StoreConfig!E917,\"\")","v":""},{"$f":"IF($B$2=StoreConfig!C917,RIGHT(StoreConfig!#REF!,LEN(StoreConfig!#REF!)-FIND(\"|\",StoreConfig!#REF!)),\"\")","v":""},{"$f":"IFERROR(VLOOKUP(--IF($B$2=StoreConfig!C917,LEFT(StoreConfig!#REF!,FIND(\"|\",StoreConfig!#REF!)-1),\"\"),$Q$4:$R$20,2,FALSE),\"\")","v":""},{"$f":"IF($B$2=StoreConfig!C917,LEFT(StoreConfig!G917,FIND(\"#\",StoreConfig!G917)-1),\"\")","v":""},{"$f":"IF($B$2=StoreConfig!C917,RIGHT(StoreConfig!G917,LEN(StoreConfig!G917)-FIND(\"#\",StoreConfig!G917)),\"\")","v":""},{"$f":"IF($B$2=StoreConfig!C917,IF(StoreConfig!L917=0,\"不限购\",StoreConfig!L917&\"次\"),\"\")","v":""}]
[{"$nulls":3},{"$f":"IF($B$2=StoreConfig!C918,StoreConfig!O918,\"\")","v":""},{"$f":"IF($B$2=StoreConfig!C918,StoreConfig!E918,\"\")","v":""},{"$f":"IF($B$2=StoreConfig!C918,RIGHT(StoreConfig!#REF!,LEN(StoreConfig!#REF!)-FIND(\"|\",StoreConfig!#REF!)),\"\")","v":""},{"$f":"IFERROR(VLOOKUP(--IF($B$2=StoreConfig!C918,LEFT(StoreConfig!#REF!,FIND(\"|\",StoreConfig!#REF!)-1),\"\"),$Q$4:$R$20,2,FALSE),\"\")","v":""},{"$f":"IF($B$2=StoreConfig!C918,LEFT(StoreConfig!G918,FIND(\"#\",StoreConfig!G918)-1),\"\")","v":""},{"$f":"IF($B$2=StoreConfig!C918,RIGHT(StoreConfig!G918,LEN(StoreConfig!G918)-FIND(\"#\",StoreConfig!G918)),\"\")","v":""},{"$f":"IF($B$2=StoreConfig!C918,IF(StoreConfig!L918=0,\"不限购\",StoreConfig!L918&\"次\"),\"\")","v":""}]
[{"$nulls":3},{"$f":"IF($B$2=StoreConfig!C919,StoreConfig!O919,\"\")","v":""},{"$f":"IF($B$2=StoreConfig!C919,StoreConfig!E919,\"\")","v":""},{"$f":"IF($B$2=StoreConfig!C919,RIGHT(StoreConfig!#REF!,LEN(StoreConfig!#REF!)-FIND(\"|\",StoreConfig!#REF!)),\"\")","v":""},{"$f":"IFERROR(VLOOKUP(--IF($B$2=StoreConfig!C919,LEFT(StoreConfig!#REF!,FIND(\"|\",StoreConfig!#REF!)-1),\"\"),$Q$4:$R$20,2,FALSE),\"\")","v":""},{"$f":"IF($B$2=StoreConfig!C919,LEFT(StoreConfig!G919,FIND(\"#\",StoreConfig!G919)-1),\"\")","v":""},{"$f":"IF($B$2=StoreConfig!C919,RIGHT(StoreConfig!G919,LEN(StoreConfig!G919)-FIND(\"#\",StoreConfig!G919)),\"\")","v":""},{"$f":"IF($B$2=StoreConfig!C919,IF(StoreConfig!L919=0,\"不限购\",StoreConfig!L919&\"次\"),\"\")","v":""}]
[{"$nulls":3},{"$f":"IF($B$2=StoreConfig!C920,StoreConfig!O920,\"\")","v":""},{"$f":"IF($B$2=StoreConfig!C920,StoreConfig!E920,\"\")","v":""},{"$f":"IF($B$2=StoreConfig!C920,RIGHT(StoreConfig!#REF!,LEN(StoreConfig!#REF!)-FIND(\"|\",StoreConfig!#REF!)),\"\")","v":""},{"$f":"IFERROR(VLOOKUP(--IF($B$2=StoreConfig!C920,LEFT(StoreConfig!#REF!,FIND(\"|\",StoreConfig!#REF!)-1),\"\"),$Q$4:$R$20,2,FALSE),\"\")","v":""},{"$f":"IF($B$2=StoreConfig!C920,LEFT(StoreConfig!G920,FIND(\"#\",StoreConfig!G920)-1),\"\")","v":""},{"$f":"IF($B$2=StoreConfig!C920,RIGHT(StoreConfig!G920,LEN(StoreConfig!G920)-FIND(\"#\",StoreConfig!G920)),\"\")","v":""},{"$f":"IF($B$2=StoreConfig!C920,IF(StoreConfig!L920=0,\"不限购\",StoreConfig!L920&\"次\"),\"\")","v":""}]
[{"$nulls":3},{"$f":"IF($B$2=StoreConfig!C921,StoreConfig!O921,\"\")","v":""},{"$f":"IF($B$2=StoreConfig!C921,StoreConfig!E921,\"\")","v":""},{"$f":"IF($B$2=StoreConfig!C921,RIGHT(StoreConfig!#REF!,LEN(StoreConfig!#REF!)-FIND(\"|\",StoreConfig!#REF!)),\"\")","v":""},{"$f":"IFERROR(VLOOKUP(--IF($B$2=StoreConfig!C921,LEFT(StoreConfig!#REF!,FIND(\"|\",StoreConfig!#REF!)-1),\"\"),$Q$4:$R$20,2,FALSE),\"\")","v":""},{"$f":"IF($B$2=StoreConfig!C921,LEFT(StoreConfig!G921,FIND(\"#\",StoreConfig!G921)-1),\"\")","v":""},{"$f":"IF($B$2=StoreConfig!C921,RIGHT(StoreConfig!G921,LEN(StoreConfig!G921)-FIND(\"#\",StoreConfig!G921)),\"\")","v":""},{"$f":"IF($B$2=StoreConfig!C921,IF(StoreConfig!L921=0,\"不限购\",StoreConfig!L921&\"次\"),\"\")","v":""}]
[{"$nulls":3},{"$f":"IF($B$2=StoreConfig!C922,StoreConfig!O922,\"\")","v":""},{"$f":"IF($B$2=StoreConfig!C922,StoreConfig!E922,\"\")","v":""},{"$f":"IF($B$2=StoreConfig!C922,RIGHT(StoreConfig!J922,LEN(StoreConfig!J922)-FIND(\"|\",StoreConfig!J922)),\"\")","v":""},{"$f":"IFERROR(VLOOKUP(--IF($B$2=StoreConfig!C922,LEFT(StoreConfig!J922,FIND(\"|\",StoreConfig!J922)-1),\"\"),$Q$4:$R$20,2,FALSE),\"\")","v":""},{"$f":"IF($B$2=StoreConfig!C922,LEFT(StoreConfig!G922,FIND(\"#\",StoreConfig!G922)-1),\"\")","v":""},{"$f":"IF($B$2=StoreConfig!C922,RIGHT(StoreConfig!G922,LEN(StoreConfig!G922)-FIND(\"#\",StoreConfig!G922)),\"\")","v":""},{"$f":"IF($B$2=StoreConfig!C922,IF(StoreConfig!L922=0,\"不限购\",StoreConfig!L922&\"次\"),\"\")","v":""}]
[{"$nulls":3},{"$f":"IF($B$2=StoreConfig!C923,StoreConfig!O923,\"\")","v":""},{"$f":"IF($B$2=StoreConfig!C923,StoreConfig!E923,\"\")","v":""},{"$f":"IF($B$2=StoreConfig!C923,RIGHT(StoreConfig!J923,LEN(StoreConfig!J923)-FIND(\"|\",StoreConfig!J923)),\"\")","v":""},{"$f":"IFERROR(VLOOKUP(--IF($B$2=StoreConfig!C923,LEFT(StoreConfig!J923,FIND(\"|\",StoreConfig!J923)-1),\"\"),$Q$4:$R$20,2,FALSE),\"\")","v":""},{"$f":"IF($B$2=StoreConfig!C923,LEFT(StoreConfig!G923,FIND(\"#\",StoreConfig!G923)-1),\"\")","v":""},{"$f":"IF($B$2=StoreConfig!C923,RIGHT(StoreConfig!G923,LEN(StoreConfig!G923)-FIND(\"#\",StoreConfig!G923)),\"\")","v":""},{"$f":"IF($B$2=StoreConfig!C923,IF(StoreConfig!L923=0,\"不限购\",StoreConfig!L923&\"次\"),\"\")","v":""}]
[{"$nulls":3},{"$f":"IF($B$2=StoreConfig!C924,StoreConfig!O924,\"\")","v":""},{"$f":"IF($B$2=StoreConfig!C924,StoreConfig!E924,\"\")","v":""},{"$f":"IF($B$2=StoreConfig!C924,RIGHT(StoreConfig!J924,LEN(StoreConfig!J924)-FIND(\"|\",StoreConfig!J924)),\"\")","v":""},{"$f":"IFERROR(VLOOKUP(--IF($B$2=StoreConfig!C924,LEFT(StoreConfig!J924,FIND(\"|\",StoreConfig!J924)-1),\"\"),$Q$4:$R$20,2,FALSE),\"\")","v":""},{"$f":"IF($B$2=StoreConfig!C924,LEFT(StoreConfig!G924,FIND(\"#\",StoreConfig!G924)-1),\"\")","v":""},{"$f":"IF($B$2=StoreConfig!C924,RIGHT(StoreConfig!G924,LEN(StoreConfig!G924)-FIND(\"#\",StoreConfig!G924)),\"\")","v":""},{"$f":"IF($B$2=StoreConfig!C924,IF(StoreConfig!L924=0,\"不限购\",StoreConfig!L924&\"次\"),\"\")","v":""}]
[{"$nulls":3},{"$f":"IF($B$2=StoreConfig!C925,StoreConfig!O925,\"\")","v":""},{"$f":"IF($B$2=StoreConfig!C925,StoreConfig!E925,\"\")","v":""},{"$f":"IF($B$2=StoreConfig!C925,RIGHT(StoreConfig!J925,LEN(StoreConfig!J925)-FIND(\"|\",StoreConfig!J925)),\"\")","v":""},{"$f":"IFERROR(VLOOKUP(--IF($B$2=StoreConfig!C925,LEFT(StoreConfig!J925,FIND(\"|\",StoreConfig!J925)-1),\"\"),$Q$4:$R$20,2,FALSE),\"\")","v":""},{"$f":"IF($B$2=StoreConfig!C925,LEFT(StoreConfig!G925,FIND(\"#\",StoreConfig!G925)-1),\"\")","v":""},{"$f":"IF($B$2=StoreConfig!C925,RIGHT(StoreConfig!G925,LEN(StoreConfig!G925)-FIND(\"#\",StoreConfig!G925)),\"\")","v":""},{"$f":"IF($B$2=StoreConfig!C925,IF(StoreConfig!L925=0,\"不限购\",StoreConfig!L925&\"次\"),\"\")","v":""}]
[{"$nulls":3},{"$f":"IF($B$2=StoreConfig!C926,StoreConfig!O926,\"\")","v":""},{"$f":"IF($B$2=StoreConfig!C926,StoreConfig!E926,\"\")","v":""},{"$f":"IF($B$2=StoreConfig!C926,RIGHT(StoreConfig!#REF!,LEN(StoreConfig!#REF!)-FIND(\"|\",StoreConfig!#REF!)),\"\")","v":""},{"$f":"IFERROR(VLOOKUP(--IF($B$2=StoreConfig!C926,LEFT(StoreConfig!#REF!,FIND(\"|\",StoreConfig!#REF!)-1),\"\"),$Q$4:$R$20,2,FALSE),\"\")","v":""},{"$f":"IF($B$2=StoreConfig!C926,LEFT(StoreConfig!G926,FIND(\"#\",StoreConfig!G926)-1),\"\")","v":""},{"$f":"IF($B$2=StoreConfig!C926,RIGHT(StoreConfig!G926,LEN(StoreConfig!G926)-FIND(\"#\",StoreConfig!G926)),\"\")","v":""},{"$f":"IF($B$2=StoreConfig!C926,IF(StoreConfig!L926=0,\"不限购\",StoreConfig!L926&\"次\"),\"\")","v":""}]
[{"$nulls":3},{"$f":"IF($B$2=StoreConfig!C927,StoreConfig!O927,\"\")","v":""},{"$f":"IF($B$2=StoreConfig!C927,StoreConfig!E927,\"\")","v":""},{"$f":"IF($B$2=StoreConfig!C927,RIGHT(StoreConfig!#REF!,LEN(StoreConfig!#REF!)-FIND(\"|\",StoreConfig!#REF!)),\"\")","v":""},{"$f":"IFERROR(VLOOKUP(--IF($B$2=StoreConfig!C927,LEFT(StoreConfig!#REF!,FIND(\"|\",StoreConfig!#REF!)-1),\"\"),$Q$4:$R$20,2,FALSE),\"\")","v":""},{"$f":"IF($B$2=StoreConfig!C927,LEFT(StoreConfig!G927,FIND(\"#\",StoreConfig!G927)-1),\"\")","v":""},{"$f":"IF($B$2=StoreConfig!C927,RIGHT(StoreConfig!G927,LEN(StoreConfig!G927)-FIND(\"#\",StoreConfig!G927)),\"\")","v":""},{"$f":"IF($B$2=StoreConfig!C927,IF(StoreConfig!L927=0,\"不限购\",StoreConfig!L927&\"次\"),\"\")","v":""}]
[{"$nulls":3},{"$f":"IF($B$2=StoreConfig!C928,StoreConfig!O928,\"\")","v":""},{"$f":"IF($B$2=StoreConfig!C928,StoreConfig!E928,\"\")","v":""},{"$f":"IF($B$2=StoreConfig!C928,RIGHT(StoreConfig!#REF!,LEN(StoreConfig!#REF!)-FIND(\"|\",StoreConfig!#REF!)),\"\")","v":""},{"$f":"IFERROR(VLOOKUP(--IF($B$2=StoreConfig!C928,LEFT(StoreConfig!#REF!,FIND(\"|\",StoreConfig!#REF!)-1),\"\"),$Q$4:$R$20,2,FALSE),\"\")","v":""},{"$f":"IF($B$2=StoreConfig!C928,LEFT(StoreConfig!G928,FIND(\"#\",StoreConfig!G928)-1),\"\")","v":""},{"$f":"IF($B$2=StoreConfig!C928,RIGHT(StoreConfig!G928,LEN(StoreConfig!G928)-FIND(\"#\",StoreConfig!G928)),\"\")","v":""},{"$f":"IF($B$2=StoreConfig!C928,IF(StoreConfig!L928=0,\"不限购\",StoreConfig!L928&\"次\"),\"\")","v":""}]
[{"$nulls":3},{"$f":"IF($B$2=StoreConfig!C929,StoreConfig!O929,\"\")","v":""},{"$f":"IF($B$2=StoreConfig!C929,StoreConfig!E929,\"\")","v":""},{"$f":"IF($B$2=StoreConfig!C929,RIGHT(StoreConfig!#REF!,LEN(StoreConfig!#REF!)-FIND(\"|\",StoreConfig!#REF!)),\"\")","v":""},{"$f":"IFERROR(VLOOKUP(--IF($B$2=StoreConfig!C929,LEFT(StoreConfig!#REF!,FIND(\"|\",StoreConfig!#REF!)-1),\"\"),$Q$4:$R$20,2,FALSE),\"\")","v":""},{"$f":"IF($B$2=StoreConfig!C929,LEFT(StoreConfig!G929,FIND(\"#\",StoreConfig!G929)-1),\"\")","v":""},{"$f":"IF($B$2=StoreConfig!C929,RIGHT(StoreConfig!G929,LEN(StoreConfig!G929)-FIND(\"#\",StoreConfig!G929)),\"\")","v":""},{"$f":"IF($B$2=StoreConfig!C929,IF(StoreConfig!L929=0,\"不限购\",StoreConfig!L929&\"次\"),\"\")","v":""}]
[{"$nulls":3},{"$f":"IF($B$2=StoreConfig!C930,StoreConfig!O930,\"\")","v":""},{"$f":"IF($B$2=StoreConfig!C930,StoreConfig!E930,\"\")","v":""},{"$f":"IF($B$2=StoreConfig!C930,RIGHT(StoreConfig!#REF!,LEN(StoreConfig!#REF!)-FIND(\"|\",StoreConfig!#REF!)),\"\")","v":""},{"$f":"IFERROR(VLOOKUP(--IF($B$2=StoreConfig!C930,LEFT(StoreConfig!#REF!,FIND(\"|\",StoreConfig!#REF!)-1),\"\"),$Q$4:$R$20,2,FALSE),\"\")","v":""},{"$f":"IF($B$2=StoreConfig!C930,LEFT(StoreConfig!G930,FIND(\"#\",StoreConfig!G930)-1),\"\")","v":""},{"$f":"IF($B$2=StoreConfig!C930,RIGHT(StoreConfig!G930,LEN(StoreConfig!G930)-FIND(\"#\",StoreConfig!G930)),\"\")","v":""},{"$f":"IF($B$2=StoreConfig!C930,IF(StoreConfig!L930=0,\"不限购\",StoreConfig!L930&\"次\"),\"\")","v":""}]
[{"$nulls":3},{"$f":"IF($B$2=StoreConfig!C931,StoreConfig!O931,\"\")","v":""},{"$f":"IF($B$2=StoreConfig!C931,StoreConfig!E931,\"\")","v":""},{"$f":"IF($B$2=StoreConfig!C931,RIGHT(StoreConfig!#REF!,LEN(StoreConfig!#REF!)-FIND(\"|\",StoreConfig!#REF!)),\"\")","v":""},{"$f":"IFERROR(VLOOKUP(--IF($B$2=StoreConfig!C931,LEFT(StoreConfig!#REF!,FIND(\"|\",StoreConfig!#REF!)-1),\"\"),$Q$4:$R$20,2,FALSE),\"\")","v":""},{"$f":"IF($B$2=StoreConfig!C931,LEFT(StoreConfig!G931,FIND(\"#\",StoreConfig!G931)-1),\"\")","v":""},{"$f":"IF($B$2=StoreConfig!C931,RIGHT(StoreConfig!G931,LEN(StoreConfig!G931)-FIND(\"#\",StoreConfig!G931)),\"\")","v":""},{"$f":"IF($B$2=StoreConfig!C931,IF(StoreConfig!L931=0,\"不限购\",StoreConfig!L931&\"次\"),\"\")","v":""}]
[{"$nulls":3},{"$f":"IF($B$2=StoreConfig!C932,StoreConfig!O932,\"\")","v":""},{"$f":"IF($B$2=StoreConfig!C932,StoreConfig!E932,\"\")","v":""},{"$f":"IF($B$2=StoreConfig!C932,RIGHT(StoreConfig!#REF!,LEN(StoreConfig!#REF!)-FIND(\"|\",StoreConfig!#REF!)),\"\")","v":""},{"$f":"IFERROR(VLOOKUP(--IF($B$2=StoreConfig!C932,LEFT(StoreConfig!#REF!,FIND(\"|\",StoreConfig!#REF!)-1),\"\"),$Q$4:$R$20,2,FALSE),\"\")","v":""},{"$f":"IF($B$2=StoreConfig!C932,LEFT(StoreConfig!G932,FIND(\"#\",StoreConfig!G932)-1),\"\")","v":""},{"$f":"IF($B$2=StoreConfig!C932,RIGHT(StoreConfig!G932,LEN(StoreConfig!G932)-FIND(\"#\",StoreConfig!G932)),\"\")","v":""},{"$f":"IF($B$2=StoreConfig!C932,IF(StoreConfig!L932=0,\"不限购\",StoreConfig!L932&\"次\"),\"\")","v":""}]
[{"$nulls":3},{"$f":"IF($B$2=StoreConfig!C933,StoreConfig!O933,\"\")","v":""},{"$f":"IF($B$2=StoreConfig!C933,StoreConfig!E933,\"\")","v":""},{"$f":"IF($B$2=StoreConfig!C933,RIGHT(StoreConfig!#REF!,LEN(StoreConfig!#REF!)-FIND(\"|\",StoreConfig!#REF!)),\"\")","v":""},{"$f":"IFERROR(VLOOKUP(--IF($B$2=StoreConfig!C933,LEFT(StoreConfig!#REF!,FIND(\"|\",StoreConfig!#REF!)-1),\"\"),$Q$4:$R$20,2,FALSE),\"\")","v":""},{"$f":"IF($B$2=StoreConfig!C933,LEFT(StoreConfig!G933,FIND(\"#\",StoreConfig!G933)-1),\"\")","v":""},{"$f":"IF($B$2=StoreConfig!C933,RIGHT(StoreConfig!G933,LEN(StoreConfig!G933)-FIND(\"#\",StoreConfig!G933)),\"\")","v":""},{"$f":"IF($B$2=StoreConfig!C933,IF(StoreConfig!L933=0,\"不限购\",StoreConfig!L933&\"次\"),\"\")","v":""}]
[{"$nulls":3},{"$f":"IF($B$2=StoreConfig!C934,StoreConfig!O934,\"\")","v":""},{"$f":"IF($B$2=StoreConfig!C934,StoreConfig!E934,\"\")","v":""},{"$f":"IF($B$2=StoreConfig!C934,RIGHT(StoreConfig!J934,LEN(StoreConfig!J934)-FIND(\"|\",StoreConfig!J934)),\"\")","v":""},{"$f":"IFERROR(VLOOKUP(--IF($B$2=StoreConfig!C934,LEFT(StoreConfig!J934,FIND(\"|\",StoreConfig!J934)-1),\"\"),$Q$4:$R$20,2,FALSE),\"\")","v":""},{"$f":"IF($B$2=StoreConfig!C934,LEFT(StoreConfig!G934,FIND(\"#\",StoreConfig!G934)-1),\"\")","v":""},{"$f":"IF($B$2=StoreConfig!C934,RIGHT(StoreConfig!G934,LEN(StoreConfig!G934)-FIND(\"#\",StoreConfig!G934)),\"\")","v":""},{"$f":"IF($B$2=StoreConfig!C934,IF(StoreConfig!L934=0,\"不限购\",StoreConfig!L934&\"次\"),\"\")","v":""}]
[{"$nulls":3},{"$f":"IF($B$2=StoreConfig!C935,StoreConfig!O935,\"\")","v":""},{"$f":"IF($B$2=StoreConfig!C935,StoreConfig!E935,\"\")","v":""},{"$f":"IF($B$2=StoreConfig!C935,RIGHT(StoreConfig!J935,LEN(StoreConfig!J935)-FIND(\"|\",StoreConfig!J935)),\"\")","v":""},{"$f":"IFERROR(VLOOKUP(--IF($B$2=StoreConfig!C935,LEFT(StoreConfig!J935,FIND(\"|\",StoreConfig!J935)-1),\"\"),$Q$4:$R$20,2,FALSE),\"\")","v":""},{"$f":"IF($B$2=StoreConfig!C935,LEFT(StoreConfig!G935,FIND(\"#\",StoreConfig!G935)-1),\"\")","v":""},{"$f":"IF($B$2=StoreConfig!C935,RIGHT(StoreConfig!G935,LEN(StoreConfig!G935)-FIND(\"#\",StoreConfig!G935)),\"\")","v":""},{"$f":"IF($B$2=StoreConfig!C935,IF(StoreConfig!L935=0,\"不限购\",StoreConfig!L935&\"次\"),\"\")","v":""}]
[{"$nulls":3},{"$f":"IF($B$2=StoreConfig!C936,StoreConfig!O936,\"\")","v":""},{"$f":"IF($B$2=StoreConfig!C936,StoreConfig!E936,\"\")","v":""},{"$f":"IF($B$2=StoreConfig!C936,RIGHT(StoreConfig!J936,LEN(StoreConfig!J936)-FIND(\"|\",StoreConfig!J936)),\"\")","v":""},{"$f":"IFERROR(VLOOKUP(--IF($B$2=StoreConfig!C936,LEFT(StoreConfig!J936,FIND(\"|\",StoreConfig!J936)-1),\"\"),$Q$4:$R$20,2,FALSE),\"\")","v":""},{"$f":"IF($B$2=StoreConfig!C936,LEFT(StoreConfig!G936,FIND(\"#\",StoreConfig!G936)-1),\"\")","v":""},{"$f":"IF($B$2=StoreConfig!C936,RIGHT(StoreConfig!G936,LEN(StoreConfig!G936)-FIND(\"#\",StoreConfig!G936)),\"\")","v":""},{"$f":"IF($B$2=StoreConfig!C936,IF(StoreConfig!L936=0,\"不限购\",StoreConfig!L936&\"次\"),\"\")","v":""}]
[{"$nulls":3},{"$f":"IF($B$2=StoreConfig!C937,StoreConfig!O937,\"\")","v":""},{"$f":"IF($B$2=StoreConfig!C937,StoreConfig!E937,\"\")","v":""},{"$f":"IF($B$2=StoreConfig!C937,RIGHT(StoreConfig!J937,LEN(StoreConfig!J937)-FIND(\"|\",StoreConfig!J937)),\"\")","v":""},{"$f":"IFERROR(VLOOKUP(--IF($B$2=StoreConfig!C937,LEFT(StoreConfig!J937,FIND(\"|\",StoreConfig!J937)-1),\"\"),$Q$4:$R$20,2,FALSE),\"\")","v":""},{"$f":"IF($B$2=StoreConfig!C937,LEFT(StoreConfig!G937,FIND(\"#\",StoreConfig!G937)-1),\"\")","v":""},{"$f":"IF($B$2=StoreConfig!C937,RIGHT(StoreConfig!G937,LEN(StoreConfig!G937)-FIND(\"#\",StoreConfig!G937)),\"\")","v":""},{"$f":"IF($B$2=StoreConfig!C937,IF(StoreConfig!L937=0,\"不限购\",StoreConfig!L937&\"次\"),\"\")","v":""}]
[{"$nulls":3},{"$f":"IF($B$2=StoreConfig!C938,StoreConfig!O938,\"\")","v":""},{"$f":"IF($B$2=StoreConfig!C938,StoreConfig!E938,\"\")","v":""},{"$f":"IF($B$2=StoreConfig!C938,RIGHT(StoreConfig!J938,LEN(StoreConfig!J938)-FIND(\"|\",StoreConfig!J938)),\"\")","v":""},{"$f":"IFERROR(VLOOKUP(--IF($B$2=StoreConfig!C938,LEFT(StoreConfig!J938,FIND(\"|\",StoreConfig!J938)-1),\"\"),$Q$4:$R$20,2,FALSE),\"\")","v":""},{"$f":"IF($B$2=StoreConfig!C938,LEFT(StoreConfig!G938,FIND(\"#\",StoreConfig!G938)-1),\"\")","v":""},{"$f":"IF($B$2=StoreConfig!C938,RIGHT(StoreConfig!G938,LEN(StoreConfig!G938)-FIND(\"#\",StoreConfig!G938)),\"\")","v":""},{"$f":"IF($B$2=StoreConfig!C938,IF(StoreConfig!L938=0,\"不限购\",StoreConfig!L938&\"次\"),\"\")","v":""}]
[{"$nulls":3},{"$f":"IF($B$2=StoreConfig!C939,StoreConfig!O939,\"\")","v":""},{"$f":"IF($B$2=StoreConfig!C939,StoreConfig!E939,\"\")","v":""},{"$f":"IF($B$2=StoreConfig!C939,RIGHT(StoreConfig!J939,LEN(StoreConfig!J939)-FIND(\"|\",StoreConfig!J939)),\"\")","v":""},{"$f":"IFERROR(VLOOKUP(--IF($B$2=StoreConfig!C939,LEFT(StoreConfig!J939,FIND(\"|\",StoreConfig!J939)-1),\"\"),$Q$4:$R$20,2,FALSE),\"\")","v":""},{"$f":"IF($B$2=StoreConfig!C939,LEFT(StoreConfig!G939,FIND(\"#\",StoreConfig!G939)-1),\"\")","v":""},{"$f":"IF($B$2=StoreConfig!C939,RIGHT(StoreConfig!G939,LEN(StoreConfig!G939)-FIND(\"#\",StoreConfig!G939)),\"\")","v":""},{"$f":"IF($B$2=StoreConfig!C939,IF(StoreConfig!L939=0,\"不限购\",StoreConfig!L939&\"次\"),\"\")","v":""}]
[{"$nulls":3},{"$f":"IF($B$2=StoreConfig!C940,StoreConfig!O940,\"\")","v":""},{"$f":"IF($B$2=StoreConfig!C940,StoreConfig!E940,\"\")","v":""},{"$f":"IF($B$2=StoreConfig!C940,RIGHT(StoreConfig!J940,LEN(StoreConfig!J940)-FIND(\"|\",StoreConfig!J940)),\"\")","v":""},{"$f":"IFERROR(VLOOKUP(--IF($B$2=StoreConfig!C940,LEFT(StoreConfig!J940,FIND(\"|\",StoreConfig!J940)-1),\"\"),$Q$4:$R$20,2,FALSE),\"\")","v":""},{"$f":"IF($B$2=StoreConfig!C940,LEFT(StoreConfig!G940,FIND(\"#\",StoreConfig!G940)-1),\"\")","v":""},{"$f":"IF($B$2=StoreConfig!C940,RIGHT(StoreConfig!G940,LEN(StoreConfig!G940)-FIND(\"#\",StoreConfig!G940)),\"\")","v":""},{"$f":"IF($B$2=StoreConfig!C940,IF(StoreConfig!L940=0,\"不限购\",StoreConfig!L940&\"次\"),\"\")","v":""}]
[{"$nulls":3},{"$f":"IF($B$2=StoreConfig!C941,StoreConfig!O941,\"\")","v":""},{"$f":"IF($B$2=StoreConfig!C941,StoreConfig!E941,\"\")","v":""},{"$f":"IF($B$2=StoreConfig!C941,RIGHT(StoreConfig!J941,LEN(StoreConfig!J941)-FIND(\"|\",StoreConfig!J941)),\"\")","v":""},{"$f":"IFERROR(VLOOKUP(--IF($B$2=StoreConfig!C941,LEFT(StoreConfig!J941,FIND(\"|\",StoreConfig!J941)-1),\"\"),$Q$4:$R$20,2,FALSE),\"\")","v":""},{"$f":"IF($B$2=StoreConfig!C941,LEFT(StoreConfig!G941,FIND(\"#\",StoreConfig!G941)-1),\"\")","v":""},{"$f":"IF($B$2=StoreConfig!C941,RIGHT(StoreConfig!G941,LEN(StoreConfig!G941)-FIND(\"#\",StoreConfig!G941)),\"\")","v":""},{"$f":"IF($B$2=StoreConfig!C941,IF(StoreConfig!L941=0,\"不限购\",StoreConfig!L941&\"次\"),\"\")","v":""}]
[{"$nulls":3},{"$f":"IF($B$2=StoreConfig!C942,StoreConfig!O942,\"\")","v":""},{"$f":"IF($B$2=StoreConfig!C942,StoreConfig!E942,\"\")","v":""},{"$f":"IF($B$2=StoreConfig!C942,RIGHT(StoreConfig!J942,LEN(StoreConfig!J942)-FIND(\"|\",StoreConfig!J942)),\"\")","v":""},{"$f":"IFERROR(VLOOKUP(--IF($B$2=StoreConfig!C942,LEFT(StoreConfig!J942,FIND(\"|\",StoreConfig!J942)-1),\"\"),$Q$4:$R$20,2,FALSE),\"\")","v":""},{"$f":"IF($B$2=StoreConfig!C942,LEFT(StoreConfig!G942,FIND(\"#\",StoreConfig!G942)-1),\"\")","v":""},{"$f":"IF($B$2=StoreConfig!C942,RIGHT(StoreConfig!G942,LEN(StoreConfig!G942)-FIND(\"#\",StoreConfig!G942)),\"\")","v":""},{"$f":"IF($B$2=StoreConfig!C942,IF(StoreConfig!L942=0,\"不限购\",StoreConfig!L942&\"次\"),\"\")","v":""}]
[{"$nulls":3},{"$f":"IF($B$2=StoreConfig!C943,StoreConfig!O943,\"\")","v":""},{"$f":"IF($B$2=StoreConfig!C943,StoreConfig!E943,\"\")","v":""},{"$f":"IF($B$2=StoreConfig!C943,RIGHT(StoreConfig!J943,LEN(StoreConfig!J943)-FIND(\"|\",StoreConfig!J943)),\"\")","v":""},{"$f":"IFERROR(VLOOKUP(--IF($B$2=StoreConfig!C943,LEFT(StoreConfig!J943,FIND(\"|\",StoreConfig!J943)-1),\"\"),$Q$4:$R$20,2,FALSE),\"\")","v":""},{"$f":"IF($B$2=StoreConfig!C943,LEFT(StoreConfig!G943,FIND(\"#\",StoreConfig!G943)-1),\"\")","v":""},{"$f":"IF($B$2=StoreConfig!C943,RIGHT(StoreConfig!G943,LEN(StoreConfig!G943)-FIND(\"#\",StoreConfig!G943)),\"\")","v":""},{"$f":"IF($B$2=StoreConfig!C943,IF(StoreConfig!L943=0,\"不限购\",StoreConfig!L943&\"次\"),\"\")","v":""}]
[{"$nulls":3},{"$f":"IF($B$2=StoreConfig!C944,StoreConfig!O944,\"\")","v":""},{"$f":"IF($B$2=StoreConfig!C944,StoreConfig!E944,\"\")","v":""},{"$f":"IF($B$2=StoreConfig!C944,RIGHT(StoreConfig!J944,LEN(StoreConfig!J944)-FIND(\"|\",StoreConfig!J944)),\"\")","v":""},{"$f":"IFERROR(VLOOKUP(--IF($B$2=StoreConfig!C944,LEFT(StoreConfig!J944,FIND(\"|\",StoreConfig!J944)-1),\"\"),$Q$4:$R$20,2,FALSE),\"\")","v":""},{"$f":"IF($B$2=StoreConfig!C944,LEFT(StoreConfig!G944,FIND(\"#\",StoreConfig!G944)-1),\"\")","v":""},{"$f":"IF($B$2=StoreConfig!C944,RIGHT(StoreConfig!G944,LEN(StoreConfig!G944)-FIND(\"#\",StoreConfig!G944)),\"\")","v":""},{"$f":"IF($B$2=StoreConfig!C944,IF(StoreConfig!L944=0,\"不限购\",StoreConfig!L944&\"次\"),\"\")","v":""}]
[{"$nulls":3},{"$f":"IF($B$2=StoreConfig!C945,StoreConfig!O945,\"\")","v":""},{"$f":"IF($B$2=StoreConfig!C945,StoreConfig!E945,\"\")","v":""},{"$f":"IF($B$2=StoreConfig!C945,RIGHT(StoreConfig!J945,LEN(StoreConfig!J945)-FIND(\"|\",StoreConfig!J945)),\"\")","v":""},{"$f":"IFERROR(VLOOKUP(--IF($B$2=StoreConfig!C945,LEFT(StoreConfig!J945,FIND(\"|\",StoreConfig!J945)-1),\"\"),$Q$4:$R$20,2,FALSE),\"\")","v":""},{"$f":"IF($B$2=StoreConfig!C945,LEFT(StoreConfig!G945,FIND(\"#\",StoreConfig!G945)-1),\"\")","v":""},{"$f":"IF($B$2=StoreConfig!C945,RIGHT(StoreConfig!G945,LEN(StoreConfig!G945)-FIND(\"#\",StoreConfig!G945)),\"\")","v":""},{"$f":"IF($B$2=StoreConfig!C945,IF(StoreConfig!L945=0,\"不限购\",StoreConfig!L945&\"次\"),\"\")","v":""}]
[{"$nulls":3},{"$f":"IF($B$2=StoreConfig!C946,StoreConfig!O946,\"\")","v":""},{"$f":"IF($B$2=StoreConfig!C946,StoreConfig!E946,\"\")","v":""},{"$f":"IF($B$2=StoreConfig!C946,RIGHT(StoreConfig!J946,LEN(StoreConfig!J946)-FIND(\"|\",StoreConfig!J946)),\"\")","v":""},{"$f":"IFERROR(VLOOKUP(--IF($B$2=StoreConfig!C946,LEFT(StoreConfig!J946,FIND(\"|\",StoreConfig!J946)-1),\"\"),$Q$4:$R$20,2,FALSE),\"\")","v":""},{"$f":"IF($B$2=StoreConfig!C946,LEFT(StoreConfig!G946,FIND(\"#\",StoreConfig!G946)-1),\"\")","v":""},{"$f":"IF($B$2=StoreConfig!C946,RIGHT(StoreConfig!G946,LEN(StoreConfig!G946)-FIND(\"#\",StoreConfig!G946)),\"\")","v":""},{"$f":"IF($B$2=StoreConfig!C946,IF(StoreConfig!L946=0,\"不限购\",StoreConfig!L946&\"次\"),\"\")","v":""}]
[{"$nulls":3},{"$f":"IF($B$2=StoreConfig!C947,StoreConfig!O947,\"\")","v":""},{"$f":"IF($B$2=StoreConfig!C947,StoreConfig!E947,\"\")","v":""},{"$f":"IF($B$2=StoreConfig!C947,RIGHT(StoreConfig!J947,LEN(StoreConfig!J947)-FIND(\"|\",StoreConfig!J947)),\"\")","v":""},{"$f":"IFERROR(VLOOKUP(--IF($B$2=StoreConfig!C947,LEFT(StoreConfig!J947,FIND(\"|\",StoreConfig!J947)-1),\"\"),$Q$4:$R$20,2,FALSE),\"\")","v":""},{"$f":"IF($B$2=StoreConfig!C947,LEFT(StoreConfig!G947,FIND(\"#\",StoreConfig!G947)-1),\"\")","v":""},{"$f":"IF($B$2=StoreConfig!C947,RIGHT(StoreConfig!G947,LEN(StoreConfig!G947)-FIND(\"#\",StoreConfig!G947)),\"\")","v":""},{"$f":"IF($B$2=StoreConfig!C947,IF(StoreConfig!L947=0,\"不限购\",StoreConfig!L947&\"次\"),\"\")","v":""}]
[{"$nulls":3},{"$f":"IF($B$2=StoreConfig!C948,StoreConfig!O948,\"\")","v":""},{"$f":"IF($B$2=StoreConfig!C948,StoreConfig!E948,\"\")","v":""},{"$f":"IF($B$2=StoreConfig!C948,RIGHT(StoreConfig!J948,LEN(StoreConfig!J948)-FIND(\"|\",StoreConfig!J948)),\"\")","v":""},{"$f":"IFERROR(VLOOKUP(--IF($B$2=StoreConfig!C948,LEFT(StoreConfig!J948,FIND(\"|\",StoreConfig!J948)-1),\"\"),$Q$4:$R$20,2,FALSE),\"\")","v":""},{"$f":"IF($B$2=StoreConfig!C948,LEFT(StoreConfig!G948,FIND(\"#\",StoreConfig!G948)-1),\"\")","v":""},{"$f":"IF($B$2=StoreConfig!C948,RIGHT(StoreConfig!G948,LEN(StoreConfig!G948)-FIND(\"#\",StoreConfig!G948)),\"\")","v":""},{"$f":"IF($B$2=StoreConfig!C948,IF(StoreConfig!L948=0,\"不限购\",StoreConfig!L948&\"次\"),\"\")","v":""}]
[{"$nulls":3},{"$f":"IF($B$2=StoreConfig!C949,StoreConfig!O949,\"\")","v":""},{"$f":"IF($B$2=StoreConfig!C949,StoreConfig!E949,\"\")","v":""},{"$f":"IF($B$2=StoreConfig!C949,RIGHT(StoreConfig!J949,LEN(StoreConfig!J949)-FIND(\"|\",StoreConfig!J949)),\"\")","v":""},{"$f":"IFERROR(VLOOKUP(--IF($B$2=StoreConfig!C949,LEFT(StoreConfig!J949,FIND(\"|\",StoreConfig!J949)-1),\"\"),$Q$4:$R$20,2,FALSE),\"\")","v":""},{"$f":"IF($B$2=StoreConfig!C949,LEFT(StoreConfig!G949,FIND(\"#\",StoreConfig!G949)-1),\"\")","v":""},{"$f":"IF($B$2=StoreConfig!C949,RIGHT(StoreConfig!G949,LEN(StoreConfig!G949)-FIND(\"#\",StoreConfig!G949)),\"\")","v":""},{"$f":"IF($B$2=StoreConfig!C949,IF(StoreConfig!L949=0,\"不限购\",StoreConfig!L949&\"次\"),\"\")","v":""}]
[{"$nulls":3},{"$f":"IF($B$2=StoreConfig!C950,StoreConfig!O950,\"\")","v":""},{"$f":"IF($B$2=StoreConfig!C950,StoreConfig!E950,\"\")","v":""},{"$f":"IF($B$2=StoreConfig!C950,RIGHT(StoreConfig!J950,LEN(StoreConfig!J950)-FIND(\"|\",StoreConfig!J950)),\"\")","v":""},{"$f":"IFERROR(VLOOKUP(--IF($B$2=StoreConfig!C950,LEFT(StoreConfig!J950,FIND(\"|\",StoreConfig!J950)-1),\"\"),$Q$4:$R$20,2,FALSE),\"\")","v":""},{"$f":"IF($B$2=StoreConfig!C950,LEFT(StoreConfig!G950,FIND(\"#\",StoreConfig!G950)-1),\"\")","v":""},{"$f":"IF($B$2=StoreConfig!C950,RIGHT(StoreConfig!G950,LEN(StoreConfig!G950)-FIND(\"#\",StoreConfig!G950)),\"\")","v":""},{"$f":"IF($B$2=StoreConfig!C950,IF(StoreConfig!L950=0,\"不限购\",StoreConfig!L950&\"次\"),\"\")","v":""}]
[{"$nulls":3},{"$f":"IF($B$2=StoreConfig!C951,StoreConfig!O951,\"\")","v":""},{"$f":"IF($B$2=StoreConfig!C951,StoreConfig!E951,\"\")","v":""},{"$f":"IF($B$2=StoreConfig!C951,RIGHT(StoreConfig!J951,LEN(StoreConfig!J951)-FIND(\"|\",StoreConfig!J951)),\"\")","v":""},{"$f":"IFERROR(VLOOKUP(--IF($B$2=StoreConfig!C951,LEFT(StoreConfig!J951,FIND(\"|\",StoreConfig!J951)-1),\"\"),$Q$4:$R$20,2,FALSE),\"\")","v":""},{"$f":"IF($B$2=StoreConfig!C951,LEFT(StoreConfig!G951,FIND(\"#\",StoreConfig!G951)-1),\"\")","v":""},{"$f":"IF($B$2=StoreConfig!C951,RIGHT(StoreConfig!G951,LEN(StoreConfig!G951)-FIND(\"#\",StoreConfig!G951)),\"\")","v":""},{"$f":"IF($B$2=StoreConfig!C951,IF(StoreConfig!L951=0,\"不限购\",StoreConfig!L951&\"次\"),\"\")","v":""}]
[{"$nulls":3},{"$f":"IF($B$2=StoreConfig!C952,StoreConfig!O952,\"\")","v":""},{"$f":"IF($B$2=StoreConfig!C952,StoreConfig!E952,\"\")","v":""},{"$f":"IF($B$2=StoreConfig!C952,RIGHT(StoreConfig!J952,LEN(StoreConfig!J952)-FIND(\"|\",StoreConfig!J952)),\"\")","v":""},{"$f":"IFERROR(VLOOKUP(--IF($B$2=StoreConfig!C952,LEFT(StoreConfig!J952,FIND(\"|\",StoreConfig!J952)-1),\"\"),$Q$4:$R$20,2,FALSE),\"\")","v":""},{"$f":"IF($B$2=StoreConfig!C952,LEFT(StoreConfig!G952,FIND(\"#\",StoreConfig!G952)-1),\"\")","v":""},{"$f":"IF($B$2=StoreConfig!C952,RIGHT(StoreConfig!G952,LEN(StoreConfig!G952)-FIND(\"#\",StoreConfig!G952)),\"\")","v":""},{"$f":"IF($B$2=StoreConfig!C952,IF(StoreConfig!L952=0,\"不限购\",StoreConfig!L952&\"次\"),\"\")","v":""}]
[{"$nulls":3},{"$f":"IF($B$2=StoreConfig!C953,StoreConfig!O953,\"\")","v":""},{"$f":"IF($B$2=StoreConfig!C953,StoreConfig!E953,\"\")","v":""},{"$f":"IF($B$2=StoreConfig!C953,RIGHT(StoreConfig!J953,LEN(StoreConfig!J953)-FIND(\"|\",StoreConfig!J953)),\"\")","v":""},{"$f":"IFERROR(VLOOKUP(--IF($B$2=StoreConfig!C953,LEFT(StoreConfig!J953,FIND(\"|\",StoreConfig!J953)-1),\"\"),$Q$4:$R$20,2,FALSE),\"\")","v":""},{"$f":"IF($B$2=StoreConfig!C953,LEFT(StoreConfig!G953,FIND(\"#\",StoreConfig!G953)-1),\"\")","v":""},{"$f":"IF($B$2=StoreConfig!C953,RIGHT(StoreConfig!G953,LEN(StoreConfig!G953)-FIND(\"#\",StoreConfig!G953)),\"\")","v":""},{"$f":"IF($B$2=StoreConfig!C953,IF(StoreConfig!L953=0,\"不限购\",StoreConfig!L953&\"次\"),\"\")","v":""}]
[{"$nulls":3},{"$f":"IF($B$2=StoreConfig!C954,StoreConfig!O954,\"\")","v":""},{"$f":"IF($B$2=StoreConfig!C954,StoreConfig!E954,\"\")","v":""},{"$f":"IF($B$2=StoreConfig!C954,RIGHT(StoreConfig!J954,LEN(StoreConfig!J954)-FIND(\"|\",StoreConfig!J954)),\"\")","v":""},{"$f":"IFERROR(VLOOKUP(--IF($B$2=StoreConfig!C954,LEFT(StoreConfig!J954,FIND(\"|\",StoreConfig!J954)-1),\"\"),$Q$4:$R$20,2,FALSE),\"\")","v":""},{"$f":"IF($B$2=StoreConfig!C954,LEFT(StoreConfig!G954,FIND(\"#\",StoreConfig!G954)-1),\"\")","v":""},{"$f":"IF($B$2=StoreConfig!C954,RIGHT(StoreConfig!G954,LEN(StoreConfig!G954)-FIND(\"#\",StoreConfig!G954)),\"\")","v":""},{"$f":"IF($B$2=StoreConfig!C954,IF(StoreConfig!L954=0,\"不限购\",StoreConfig!L954&\"次\"),\"\")","v":""}]
[{"$nulls":3},{"$f":"IF($B$2=StoreConfig!C955,StoreConfig!O955,\"\")","v":""},{"$f":"IF($B$2=StoreConfig!C955,StoreConfig!E955,\"\")","v":""},{"$f":"IF($B$2=StoreConfig!C955,RIGHT(StoreConfig!J955,LEN(StoreConfig!J955)-FIND(\"|\",StoreConfig!J955)),\"\")","v":""},{"$f":"IFERROR(VLOOKUP(--IF($B$2=StoreConfig!C955,LEFT(StoreConfig!J955,FIND(\"|\",StoreConfig!J955)-1),\"\"),$Q$4:$R$20,2,FALSE),\"\")","v":""},{"$f":"IF($B$2=StoreConfig!C955,LEFT(StoreConfig!G955,FIND(\"#\",StoreConfig!G955)-1),\"\")","v":""},{"$f":"IF($B$2=StoreConfig!C955,RIGHT(StoreConfig!G955,LEN(StoreConfig!G955)-FIND(\"#\",StoreConfig!G955)),\"\")","v":""},{"$f":"IF($B$2=StoreConfig!C955,IF(StoreConfig!L955=0,\"不限购\",StoreConfig!L955&\"次\"),\"\")","v":""}]
[{"$nulls":3},{"$f":"IF($B$2=StoreConfig!C956,StoreConfig!O956,\"\")","v":""},{"$f":"IF($B$2=StoreConfig!C956,StoreConfig!E956,\"\")","v":""},{"$f":"IF($B$2=StoreConfig!C956,RIGHT(StoreConfig!J956,LEN(StoreConfig!J956)-FIND(\"|\",StoreConfig!J956)),\"\")","v":""},{"$f":"IFERROR(VLOOKUP(--IF($B$2=StoreConfig!C956,LEFT(StoreConfig!J956,FIND(\"|\",StoreConfig!J956)-1),\"\"),$Q$4:$R$20,2,FALSE),\"\")","v":""},{"$f":"IF($B$2=StoreConfig!C956,LEFT(StoreConfig!G956,FIND(\"#\",StoreConfig!G956)-1),\"\")","v":""},{"$f":"IF($B$2=StoreConfig!C956,RIGHT(StoreConfig!G956,LEN(StoreConfig!G956)-FIND(\"#\",StoreConfig!G956)),\"\")","v":""},{"$f":"IF($B$2=StoreConfig!C956,IF(StoreConfig!L956=0,\"不限购\",StoreConfig!L956&\"次\"),\"\")","v":""}]
[{"$nulls":3},{"$f":"IF($B$2=StoreConfig!C957,StoreConfig!O957,\"\")","v":""},{"$f":"IF($B$2=StoreConfig!C957,StoreConfig!E957,\"\")","v":""},{"$f":"IF($B$2=StoreConfig!C957,RIGHT(StoreConfig!J957,LEN(StoreConfig!J957)-FIND(\"|\",StoreConfig!J957)),\"\")","v":""},{"$f":"IFERROR(VLOOKUP(--IF($B$2=StoreConfig!C957,LEFT(StoreConfig!J957,FIND(\"|\",StoreConfig!J957)-1),\"\"),$Q$4:$R$20,2,FALSE),\"\")","v":""},{"$f":"IF($B$2=StoreConfig!C957,LEFT(StoreConfig!G957,FIND(\"#\",StoreConfig!G957)-1),\"\")","v":""},{"$f":"IF($B$2=StoreConfig!C957,RIGHT(StoreConfig!G957,LEN(StoreConfig!G957)-FIND(\"#\",StoreConfig!G957)),\"\")","v":""},{"$f":"IF($B$2=StoreConfig!C957,IF(StoreConfig!L957=0,\"不限购\",StoreConfig!L957&\"次\"),\"\")","v":""}]
[{"$nulls":3},{"$f":"IF($B$2=StoreConfig!C958,StoreConfig!O958,\"\")","v":""},{"$f":"IF($B$2=StoreConfig!C958,StoreConfig!E958,\"\")","v":""},{"$f":"IF($B$2=StoreConfig!C958,RIGHT(StoreConfig!J958,LEN(StoreConfig!J958)-FIND(\"|\",StoreConfig!J958)),\"\")","v":""},{"$f":"IFERROR(VLOOKUP(--IF($B$2=StoreConfig!C958,LEFT(StoreConfig!J958,FIND(\"|\",StoreConfig!J958)-1),\"\"),$Q$4:$R$20,2,FALSE),\"\")","v":""},{"$f":"IF($B$2=StoreConfig!C958,LEFT(StoreConfig!G958,FIND(\"#\",StoreConfig!G958)-1),\"\")","v":""},{"$f":"IF($B$2=StoreConfig!C958,RIGHT(StoreConfig!G958,LEN(StoreConfig!G958)-FIND(\"#\",StoreConfig!G958)),\"\")","v":""},{"$f":"IF($B$2=StoreConfig!C958,IF(StoreConfig!L958=0,\"不限购\",StoreConfig!L958&\"次\"),\"\")","v":""}]
[{"$nulls":3},{"$f":"IF($B$2=StoreConfig!C959,StoreConfig!O959,\"\")","v":""},{"$f":"IF($B$2=StoreConfig!C959,StoreConfig!E959,\"\")","v":""},{"$f":"IF($B$2=StoreConfig!C959,RIGHT(StoreConfig!J959,LEN(StoreConfig!J959)-FIND(\"|\",StoreConfig!J959)),\"\")","v":""},{"$f":"IFERROR(VLOOKUP(--IF($B$2=StoreConfig!C959,LEFT(StoreConfig!J959,FIND(\"|\",StoreConfig!J959)-1),\"\"),$Q$4:$R$20,2,FALSE),\"\")","v":""},{"$f":"IF($B$2=StoreConfig!C959,LEFT(StoreConfig!G959,FIND(\"#\",StoreConfig!G959)-1),\"\")","v":""},{"$f":"IF($B$2=StoreConfig!C959,RIGHT(StoreConfig!G959,LEN(StoreConfig!G959)-FIND(\"#\",StoreConfig!G959)),\"\")","v":""},{"$f":"IF($B$2=StoreConfig!C959,IF(StoreConfig!L959=0,\"不限购\",StoreConfig!L959&\"次\"),\"\")","v":""}]
[{"$nulls":3},{"$f":"IF($B$2=StoreConfig!C960,StoreConfig!O960,\"\")","v":""},{"$f":"IF($B$2=StoreConfig!C960,StoreConfig!E960,\"\")","v":""},{"$f":"IF($B$2=StoreConfig!C960,RIGHT(StoreConfig!J960,LEN(StoreConfig!J960)-FIND(\"|\",StoreConfig!J960)),\"\")","v":""},{"$f":"IFERROR(VLOOKUP(--IF($B$2=StoreConfig!C960,LEFT(StoreConfig!J960,FIND(\"|\",StoreConfig!J960)-1),\"\"),$Q$4:$R$20,2,FALSE),\"\")","v":""},{"$f":"IF($B$2=StoreConfig!C960,LEFT(StoreConfig!G960,FIND(\"#\",StoreConfig!G960)-1),\"\")","v":""},{"$f":"IF($B$2=StoreConfig!C960,RIGHT(StoreConfig!G960,LEN(StoreConfig!G960)-FIND(\"#\",StoreConfig!G960)),\"\")","v":""},{"$f":"IF($B$2=StoreConfig!C960,IF(StoreConfig!L960=0,\"不限购\",StoreConfig!L960&\"次\"),\"\")","v":""}]
[{"$nulls":3},{"$f":"IF($B$2=StoreConfig!C961,StoreConfig!O961,\"\")","v":""},{"$f":"IF($B$2=StoreConfig!C961,StoreConfig!E961,\"\")","v":""},{"$f":"IF($B$2=StoreConfig!C961,RIGHT(StoreConfig!J961,LEN(StoreConfig!J961)-FIND(\"|\",StoreConfig!J961)),\"\")","v":""},{"$f":"IFERROR(VLOOKUP(--IF($B$2=StoreConfig!C961,LEFT(StoreConfig!J961,FIND(\"|\",StoreConfig!J961)-1),\"\"),$Q$4:$R$20,2,FALSE),\"\")","v":""},{"$f":"IF($B$2=StoreConfig!C961,LEFT(StoreConfig!G961,FIND(\"#\",StoreConfig!G961)-1),\"\")","v":""},{"$f":"IF($B$2=StoreConfig!C961,RIGHT(StoreConfig!G961,LEN(StoreConfig!G961)-FIND(\"#\",StoreConfig!G961)),\"\")","v":""},{"$f":"IF($B$2=StoreConfig!C961,IF(StoreConfig!L961=0,\"不限购\",StoreConfig!L961&\"次\"),\"\")","v":""}]
[{"$nulls":3},{"$f":"IF($B$2=StoreConfig!C962,StoreConfig!O962,\"\")","v":""},{"$f":"IF($B$2=StoreConfig!C962,StoreConfig!E962,\"\")","v":""},{"$f":"IF($B$2=StoreConfig!C962,RIGHT(StoreConfig!J962,LEN(StoreConfig!J962)-FIND(\"|\",StoreConfig!J962)),\"\")","v":""},{"$f":"IFERROR(VLOOKUP(--IF($B$2=StoreConfig!C962,LEFT(StoreConfig!J962,FIND(\"|\",StoreConfig!J962)-1),\"\"),$Q$4:$R$20,2,FALSE),\"\")","v":""},{"$f":"IF($B$2=StoreConfig!C962,LEFT(StoreConfig!G962,FIND(\"#\",StoreConfig!G962)-1),\"\")","v":""},{"$f":"IF($B$2=StoreConfig!C962,RIGHT(StoreConfig!G962,LEN(StoreConfig!G962)-FIND(\"#\",StoreConfig!G962)),\"\")","v":""},{"$f":"IF($B$2=StoreConfig!C962,IF(StoreConfig!L962=0,\"不限购\",StoreConfig!L962&\"次\"),\"\")","v":""}]
[{"$nulls":3},{"$f":"IF($B$2=StoreConfig!C963,StoreConfig!O963,\"\")","v":""},{"$f":"IF($B$2=StoreConfig!C963,StoreConfig!E963,\"\")","v":""},{"$f":"IF($B$2=StoreConfig!C963,RIGHT(StoreConfig!J963,LEN(StoreConfig!J963)-FIND(\"|\",StoreConfig!J963)),\"\")","v":""},{"$f":"IFERROR(VLOOKUP(--IF($B$2=StoreConfig!C963,LEFT(StoreConfig!J963,FIND(\"|\",StoreConfig!J963)-1),\"\"),$Q$4:$R$20,2,FALSE),\"\")","v":""},{"$f":"IF($B$2=StoreConfig!C963,LEFT(StoreConfig!G963,FIND(\"#\",StoreConfig!G963)-1),\"\")","v":""},{"$f":"IF($B$2=StoreConfig!C963,RIGHT(StoreConfig!G963,LEN(StoreConfig!G963)-FIND(\"#\",StoreConfig!G963)),\"\")","v":""},{"$f":"IF($B$2=StoreConfig!C963,IF(StoreConfig!L963=0,\"不限购\",StoreConfig!L963&\"次\"),\"\")","v":""}]
[{"$nulls":3},{"$f":"IF($B$2=StoreConfig!C964,StoreConfig!O964,\"\")","v":""},{"$f":"IF($B$2=StoreConfig!C964,StoreConfig!E964,\"\")","v":""},{"$f":"IF($B$2=StoreConfig!C964,RIGHT(StoreConfig!J964,LEN(StoreConfig!J964)-FIND(\"|\",StoreConfig!J964)),\"\")","v":""},{"$f":"IFERROR(VLOOKUP(--IF($B$2=StoreConfig!C964,LEFT(StoreConfig!J964,FIND(\"|\",StoreConfig!J964)-1),\"\"),$Q$4:$R$20,2,FALSE),\"\")","v":""},{"$f":"IF($B$2=StoreConfig!C964,LEFT(StoreConfig!G964,FIND(\"#\",StoreConfig!G964)-1),\"\")","v":""},{"$f":"IF($B$2=StoreConfig!C964,RIGHT(StoreConfig!G964,LEN(StoreConfig!G964)-FIND(\"#\",StoreConfig!G964)),\"\")","v":""},{"$f":"IF($B$2=StoreConfig!C964,IF(StoreConfig!L964=0,\"不限购\",StoreConfig!L964&\"次\"),\"\")","v":""}]
[{"$nulls":3},{"$f":"IF($B$2=StoreConfig!C965,StoreConfig!O965,\"\")","v":""},{"$f":"IF($B$2=StoreConfig!C965,StoreConfig!E965,\"\")","v":""},{"$f":"IF($B$2=StoreConfig!C965,RIGHT(StoreConfig!J965,LEN(StoreConfig!J965)-FIND(\"|\",StoreConfig!J965)),\"\")","v":""},{"$f":"IFERROR(VLOOKUP(--IF($B$2=StoreConfig!C965,LEFT(StoreConfig!J965,FIND(\"|\",StoreConfig!J965)-1),\"\"),$Q$4:$R$20,2,FALSE),\"\")","v":""},{"$f":"IF($B$2=StoreConfig!C965,LEFT(StoreConfig!G965,FIND(\"#\",StoreConfig!G965)-1),\"\")","v":""},{"$f":"IF($B$2=StoreConfig!C965,RIGHT(StoreConfig!G965,LEN(StoreConfig!G965)-FIND(\"#\",StoreConfig!G965)),\"\")","v":""},{"$f":"IF($B$2=StoreConfig!C965,IF(StoreConfig!L965=0,\"不限购\",StoreConfig!L965&\"次\"),\"\")","v":""}]
[{"$nulls":3},{"$f":"IF($B$2=StoreConfig!C966,StoreConfig!O966,\"\")","v":""},{"$f":"IF($B$2=StoreConfig!C966,StoreConfig!E966,\"\")","v":""},{"$f":"IF($B$2=StoreConfig!C966,RIGHT(StoreConfig!J966,LEN(StoreConfig!J966)-FIND(\"|\",StoreConfig!J966)),\"\")","v":""},{"$f":"IFERROR(VLOOKUP(--IF($B$2=StoreConfig!C966,LEFT(StoreConfig!J966,FIND(\"|\",StoreConfig!J966)-1),\"\"),$Q$4:$R$20,2,FALSE),\"\")","v":""},{"$f":"IF($B$2=StoreConfig!C966,LEFT(StoreConfig!G966,FIND(\"#\",StoreConfig!G966)-1),\"\")","v":""},{"$f":"IF($B$2=StoreConfig!C966,RIGHT(StoreConfig!G966,LEN(StoreConfig!G966)-FIND(\"#\",StoreConfig!G966)),\"\")","v":""},{"$f":"IF($B$2=StoreConfig!C966,IF(StoreConfig!L966=0,\"不限购\",StoreConfig!L966&\"次\"),\"\")","v":""}]
[{"$nulls":3},{"$f":"IF($B$2=StoreConfig!C967,StoreConfig!O967,\"\")","v":""},{"$f":"IF($B$2=StoreConfig!C967,StoreConfig!E967,\"\")","v":""},{"$f":"IF($B$2=StoreConfig!C967,RIGHT(StoreConfig!J967,LEN(StoreConfig!J967)-FIND(\"|\",StoreConfig!J967)),\"\")","v":""},{"$f":"IFERROR(VLOOKUP(--IF($B$2=StoreConfig!C967,LEFT(StoreConfig!J967,FIND(\"|\",StoreConfig!J967)-1),\"\"),$Q$4:$R$20,2,FALSE),\"\")","v":""},{"$f":"IF($B$2=StoreConfig!C967,LEFT(StoreConfig!G967,FIND(\"#\",StoreConfig!G967)-1),\"\")","v":""},{"$f":"IF($B$2=StoreConfig!C967,RIGHT(StoreConfig!G967,LEN(StoreConfig!G967)-FIND(\"#\",StoreConfig!G967)),\"\")","v":""},{"$f":"IF($B$2=StoreConfig!C967,IF(StoreConfig!L967=0,\"不限购\",StoreConfig!L967&\"次\"),\"\")","v":""}]
[{"$nulls":3},{"$f":"IF($B$2=StoreConfig!C968,StoreConfig!O968,\"\")","v":""},{"$f":"IF($B$2=StoreConfig!C968,StoreConfig!E968,\"\")","v":""},{"$f":"IF($B$2=StoreConfig!C968,RIGHT(StoreConfig!J968,LEN(StoreConfig!J968)-FIND(\"|\",StoreConfig!J968)),\"\")","v":""},{"$f":"IFERROR(VLOOKUP(--IF($B$2=StoreConfig!C968,LEFT(StoreConfig!J968,FIND(\"|\",StoreConfig!J968)-1),\"\"),$Q$4:$R$20,2,FALSE),\"\")","v":""},{"$f":"IF($B$2=StoreConfig!C968,LEFT(StoreConfig!G968,FIND(\"#\",StoreConfig!G968)-1),\"\")","v":""},{"$f":"IF($B$2=StoreConfig!C968,RIGHT(StoreConfig!G968,LEN(StoreConfig!G968)-FIND(\"#\",StoreConfig!G968)),\"\")","v":""},{"$f":"IF($B$2=StoreConfig!C968,IF(StoreConfig!L968=0,\"不限购\",StoreConfig!L968&\"次\"),\"\")","v":""}]
[{"$nulls":3},{"$f":"IF($B$2=StoreConfig!C969,StoreConfig!O969,\"\")","v":""},{"$f":"IF($B$2=StoreConfig!C969,StoreConfig!E969,\"\")","v":""},{"$f":"IF($B$2=StoreConfig!C969,RIGHT(StoreConfig!J969,LEN(StoreConfig!J969)-FIND(\"|\",StoreConfig!J969)),\"\")","v":""},{"$f":"IFERROR(VLOOKUP(--IF($B$2=StoreConfig!C969,LEFT(StoreConfig!J969,FIND(\"|\",StoreConfig!J969)-1),\"\"),$Q$4:$R$20,2,FALSE),\"\")","v":""},{"$f":"IF($B$2=StoreConfig!C969,LEFT(StoreConfig!G969,FIND(\"#\",StoreConfig!G969)-1),\"\")","v":""},{"$f":"IF($B$2=StoreConfig!C969,RIGHT(StoreConfig!G969,LEN(StoreConfig!G969)-FIND(\"#\",StoreConfig!G969)),\"\")","v":""},{"$f":"IF($B$2=StoreConfig!C969,IF(StoreConfig!L969=0,\"不限购\",StoreConfig!L969&\"次\"),\"\")","v":""}]
[{"$nulls":3},{"$f":"IF($B$2=StoreConfig!C970,StoreConfig!O970,\"\")","v":""},{"$f":"IF($B$2=StoreConfig!C970,StoreConfig!E970,\"\")","v":""},{"$f":"IF($B$2=StoreConfig!C970,RIGHT(StoreConfig!J970,LEN(StoreConfig!J970)-FIND(\"|\",StoreConfig!J970)),\"\")","v":""},{"$f":"IFERROR(VLOOKUP(--IF($B$2=StoreConfig!C970,LEFT(StoreConfig!J970,FIND(\"|\",StoreConfig!J970)-1),\"\"),$Q$4:$R$20,2,FALSE),\"\")","v":""},{"$f":"IF($B$2=StoreConfig!C970,LEFT(StoreConfig!G970,FIND(\"#\",StoreConfig!G970)-1),\"\")","v":""},{"$f":"IF($B$2=StoreConfig!C970,RIGHT(StoreConfig!G970,LEN(StoreConfig!G970)-FIND(\"#\",StoreConfig!G970)),\"\")","v":""},{"$f":"IF($B$2=StoreConfig!C970,IF(StoreConfig!L970=0,\"不限购\",StoreConfig!L970&\"次\"),\"\")","v":""}]
[{"$nulls":3},{"$f":"IF($B$2=StoreConfig!C971,StoreConfig!O971,\"\")","v":""},{"$f":"IF($B$2=StoreConfig!C971,StoreConfig!E971,\"\")","v":""},{"$f":"IF($B$2=StoreConfig!C971,RIGHT(StoreConfig!J971,LEN(StoreConfig!J971)-FIND(\"|\",StoreConfig!J971)),\"\")","v":""},{"$f":"IFERROR(VLOOKUP(--IF($B$2=StoreConfig!C971,LEFT(StoreConfig!J971,FIND(\"|\",StoreConfig!J971)-1),\"\"),$Q$4:$R$20,2,FALSE),\"\")","v":""},{"$f":"IF($B$2=StoreConfig!C971,LEFT(StoreConfig!G971,FIND(\"#\",StoreConfig!G971)-1),\"\")","v":""},{"$f":"IF($B$2=StoreConfig!C971,RIGHT(StoreConfig!G971,LEN(StoreConfig!G971)-FIND(\"#\",StoreConfig!G971)),\"\")","v":""},{"$f":"IF($B$2=StoreConfig!C971,IF(StoreConfig!L971=0,\"不限购\",StoreConfig!L971&\"次\"),\"\")","v":""}]
[{"$nulls":3},{"$f":"IF($B$2=StoreConfig!C972,StoreConfig!O972,\"\")","v":""},{"$f":"IF($B$2=StoreConfig!C972,StoreConfig!E972,\"\")","v":""},{"$f":"IF($B$2=StoreConfig!C972,RIGHT(StoreConfig!J972,LEN(StoreConfig!J972)-FIND(\"|\",StoreConfig!J972)),\"\")","v":""},{"$f":"IFERROR(VLOOKUP(--IF($B$2=StoreConfig!C972,LEFT(StoreConfig!J972,FIND(\"|\",StoreConfig!J972)-1),\"\"),$Q$4:$R$20,2,FALSE),\"\")","v":""},{"$f":"IF($B$2=StoreConfig!C972,LEFT(StoreConfig!G972,FIND(\"#\",StoreConfig!G972)-1),\"\")","v":""},{"$f":"IF($B$2=StoreConfig!C972,RIGHT(StoreConfig!G972,LEN(StoreConfig!G972)-FIND(\"#\",StoreConfig!G972)),\"\")","v":""},{"$f":"IF($B$2=StoreConfig!C972,IF(StoreConfig!L972=0,\"不限购\",StoreConfig!L972&\"次\"),\"\")","v":""}]
[{"$nulls":3},{"$f":"IF($B$2=StoreConfig!C973,StoreConfig!O973,\"\")","v":""},{"$f":"IF($B$2=StoreConfig!C973,StoreConfig!E973,\"\")","v":""},{"$f":"IF($B$2=StoreConfig!C973,RIGHT(StoreConfig!J973,LEN(StoreConfig!J973)-FIND(\"|\",StoreConfig!J973)),\"\")","v":""},{"$f":"IFERROR(VLOOKUP(--IF($B$2=StoreConfig!C973,LEFT(StoreConfig!J973,FIND(\"|\",StoreConfig!J973)-1),\"\"),$Q$4:$R$20,2,FALSE),\"\")","v":""},{"$f":"IF($B$2=StoreConfig!C973,LEFT(StoreConfig!G973,FIND(\"#\",StoreConfig!G973)-1),\"\")","v":""},{"$f":"IF($B$2=StoreConfig!C973,RIGHT(StoreConfig!G973,LEN(StoreConfig!G973)-FIND(\"#\",StoreConfig!G973)),\"\")","v":""},{"$f":"IF($B$2=StoreConfig!C973,IF(StoreConfig!L973=0,\"不限购\",StoreConfig!L973&\"次\"),\"\")","v":""}]
[{"$nulls":3},{"$f":"IF($B$2=StoreConfig!C974,StoreConfig!O974,\"\")","v":""},{"$f":"IF($B$2=StoreConfig!C974,StoreConfig!E974,\"\")","v":""},{"$f":"IF($B$2=StoreConfig!C974,RIGHT(StoreConfig!J974,LEN(StoreConfig!J974)-FIND(\"|\",StoreConfig!J974)),\"\")","v":""},{"$f":"IFERROR(VLOOKUP(--IF($B$2=StoreConfig!C974,LEFT(StoreConfig!J974,FIND(\"|\",StoreConfig!J974)-1),\"\"),$Q$4:$R$20,2,FALSE),\"\")","v":""},{"$f":"IF($B$2=StoreConfig!C974,LEFT(StoreConfig!G974,FIND(\"#\",StoreConfig!G974)-1),\"\")","v":""},{"$f":"IF($B$2=StoreConfig!C974,RIGHT(StoreConfig!G974,LEN(StoreConfig!G974)-FIND(\"#\",StoreConfig!G974)),\"\")","v":""},{"$f":"IF($B$2=StoreConfig!C974,IF(StoreConfig!L974=0,\"不限购\",StoreConfig!L974&\"次\"),\"\")","v":""}]
[{"$nulls":3},{"$f":"IF($B$2=StoreConfig!C975,StoreConfig!O975,\"\")","v":""},{"$f":"IF($B$2=StoreConfig!C975,StoreConfig!E975,\"\")","v":""},{"$f":"IF($B$2=StoreConfig!C975,RIGHT(StoreConfig!J975,LEN(StoreConfig!J975)-FIND(\"|\",StoreConfig!J975)),\"\")","v":""},{"$f":"IFERROR(VLOOKUP(--IF($B$2=StoreConfig!C975,LEFT(StoreConfig!J975,FIND(\"|\",StoreConfig!J975)-1),\"\"),$Q$4:$R$20,2,FALSE),\"\")","v":""},{"$f":"IF($B$2=StoreConfig!C975,LEFT(StoreConfig!G975,FIND(\"#\",StoreConfig!G975)-1),\"\")","v":""},{"$f":"IF($B$2=StoreConfig!C975,RIGHT(StoreConfig!G975,LEN(StoreConfig!G975)-FIND(\"#\",StoreConfig!G975)),\"\")","v":""},{"$f":"IF($B$2=StoreConfig!C975,IF(StoreConfig!L975=0,\"不限购\",StoreConfig!L975&\"次\"),\"\")","v":""}]
[{"$nulls":3},{"$f":"IF($B$2=StoreConfig!C976,StoreConfig!O976,\"\")","v":""},{"$f":"IF($B$2=StoreConfig!C976,StoreConfig!E976,\"\")","v":""},{"$f":"IF($B$2=StoreConfig!C976,RIGHT(StoreConfig!J976,LEN(StoreConfig!J976)-FIND(\"|\",StoreConfig!J976)),\"\")","v":""},{"$f":"IFERROR(VLOOKUP(--IF($B$2=StoreConfig!C976,LEFT(StoreConfig!J976,FIND(\"|\",StoreConfig!J976)-1),\"\"),$Q$4:$R$20,2,FALSE),\"\")","v":""},{"$f":"IF($B$2=StoreConfig!C976,LEFT(StoreConfig!G976,FIND(\"#\",StoreConfig!G976)-1),\"\")","v":""},{"$f":"IF($B$2=StoreConfig!C976,RIGHT(StoreConfig!G976,LEN(StoreConfig!G976)-FIND(\"#\",StoreConfig!G976)),\"\")","v":""},{"$f":"IF($B$2=StoreConfig!C976,IF(StoreConfig!L976=0,\"不限购\",StoreConfig!L976&\"次\"),\"\")","v":""}]
[{"$nulls":3},{"$f":"IF($B$2=StoreConfig!C977,StoreConfig!O977,\"\")","v":""},{"$f":"IF($B$2=StoreConfig!C977,StoreConfig!E977,\"\")","v":""},{"$f":"IF($B$2=StoreConfig!C977,RIGHT(StoreConfig!J977,LEN(StoreConfig!J977)-FIND(\"|\",StoreConfig!J977)),\"\")","v":""},{"$f":"IFERROR(VLOOKUP(--IF($B$2=StoreConfig!C977,LEFT(StoreConfig!J977,FIND(\"|\",StoreConfig!J977)-1),\"\"),$Q$4:$R$20,2,FALSE),\"\")","v":""},{"$f":"IF($B$2=StoreConfig!C977,LEFT(StoreConfig!G977,FIND(\"#\",StoreConfig!G977)-1),\"\")","v":""},{"$f":"IF($B$2=StoreConfig!C977,RIGHT(StoreConfig!G977,LEN(StoreConfig!G977)-FIND(\"#\",StoreConfig!G977)),\"\")","v":""},{"$f":"IF($B$2=StoreConfig!C977,IF(StoreConfig!L977=0,\"不限购\",StoreConfig!L977&\"次\"),\"\")","v":""}]
[{"$nulls":3},{"$f":"IF($B$2=StoreConfig!C978,StoreConfig!O978,\"\")","v":""},{"$f":"IF($B$2=StoreConfig!C978,StoreConfig!E978,\"\")","v":""},{"$f":"IF($B$2=StoreConfig!C978,RIGHT(StoreConfig!J978,LEN(StoreConfig!J978)-FIND(\"|\",StoreConfig!J978)),\"\")","v":""},{"$f":"IFERROR(VLOOKUP(--IF($B$2=StoreConfig!C978,LEFT(StoreConfig!J978,FIND(\"|\",StoreConfig!J978)-1),\"\"),$Q$4:$R$20,2,FALSE),\"\")","v":""},{"$f":"IF($B$2=StoreConfig!C978,LEFT(StoreConfig!G978,FIND(\"#\",StoreConfig!G978)-1),\"\")","v":""},{"$f":"IF($B$2=StoreConfig!C978,RIGHT(StoreConfig!G978,LEN(StoreConfig!G978)-FIND(\"#\",StoreConfig!G978)),\"\")","v":""},{"$f":"IF($B$2=StoreConfig!C978,IF(StoreConfig!L978=0,\"不限购\",StoreConfig!L978&\"次\"),\"\")","v":""}]
[{"$nulls":3},{"$f":"IF($B$2=StoreConfig!C979,StoreConfig!O979,\"\")","v":""},{"$f":"IF($B$2=StoreConfig!C979,StoreConfig!E979,\"\")","v":""},{"$f":"IF($B$2=StoreConfig!C979,RIGHT(StoreConfig!J979,LEN(StoreConfig!J979)-FIND(\"|\",StoreConfig!J979)),\"\")","v":""},{"$f":"IFERROR(VLOOKUP(--IF($B$2=StoreConfig!C979,LEFT(StoreConfig!J979,FIND(\"|\",StoreConfig!J979)-1),\"\"),$Q$4:$R$20,2,FALSE),\"\")","v":""},{"$f":"IF($B$2=StoreConfig!C979,LEFT(StoreConfig!G979,FIND(\"#\",StoreConfig!G979)-1),\"\")","v":""},{"$f":"IF($B$2=StoreConfig!C979,RIGHT(StoreConfig!G979,LEN(StoreConfig!G979)-FIND(\"#\",StoreConfig!G979)),\"\")","v":""},{"$f":"IF($B$2=StoreConfig!C979,IF(StoreConfig!L979=0,\"不限购\",StoreConfig!L979&\"次\"),\"\")","v":""}]
[{"$nulls":3},{"$f":"IF($B$2=StoreConfig!C980,StoreConfig!O980,\"\")","v":""},{"$f":"IF($B$2=StoreConfig!C980,StoreConfig!E980,\"\")","v":""},{"$f":"IF($B$2=StoreConfig!C980,RIGHT(StoreConfig!J980,LEN(StoreConfig!J980)-FIND(\"|\",StoreConfig!J980)),\"\")","v":""},{"$f":"IFERROR(VLOOKUP(--IF($B$2=StoreConfig!C980,LEFT(StoreConfig!J980,FIND(\"|\",StoreConfig!J980)-1),\"\"),$Q$4:$R$20,2,FALSE),\"\")","v":""},{"$f":"IF($B$2=StoreConfig!C980,LEFT(StoreConfig!G980,FIND(\"#\",StoreConfig!G980)-1),\"\")","v":""},{"$f":"IF($B$2=StoreConfig!C980,RIGHT(StoreConfig!G980,LEN(StoreConfig!G980)-FIND(\"#\",StoreConfig!G980)),\"\")","v":""},{"$f":"IF($B$2=StoreConfig!C980,IF(StoreConfig!L980=0,\"不限购\",StoreConfig!L980&\"次\"),\"\")","v":""}]
[{"$nulls":3},{"$f":"IF($B$2=StoreConfig!C981,StoreConfig!O981,\"\")","v":""},{"$f":"IF($B$2=StoreConfig!C981,StoreConfig!E981,\"\")","v":""},{"$f":"IF($B$2=StoreConfig!C981,RIGHT(StoreConfig!J981,LEN(StoreConfig!J981)-FIND(\"|\",StoreConfig!J981)),\"\")","v":""},{"$f":"IFERROR(VLOOKUP(--IF($B$2=StoreConfig!C981,LEFT(StoreConfig!J981,FIND(\"|\",StoreConfig!J981)-1),\"\"),$Q$4:$R$20,2,FALSE),\"\")","v":""},{"$f":"IF($B$2=StoreConfig!C981,LEFT(StoreConfig!G981,FIND(\"#\",StoreConfig!G981)-1),\"\")","v":""},{"$f":"IF($B$2=StoreConfig!C981,RIGHT(StoreConfig!G981,LEN(StoreConfig!G981)-FIND(\"#\",StoreConfig!G981)),\"\")","v":""},{"$f":"IF($B$2=StoreConfig!C981,IF(StoreConfig!L981=0,\"不限购\",StoreConfig!L981&\"次\"),\"\")","v":""}]
[{"$nulls":3},{"$f":"IF($B$2=StoreConfig!C982,StoreConfig!O982,\"\")","v":""},{"$f":"IF($B$2=StoreConfig!C982,StoreConfig!E982,\"\")","v":""},{"$f":"IF($B$2=StoreConfig!C982,RIGHT(StoreConfig!J982,LEN(StoreConfig!J982)-FIND(\"|\",StoreConfig!J982)),\"\")","v":""},{"$f":"IFERROR(VLOOKUP(--IF($B$2=StoreConfig!C982,LEFT(StoreConfig!J982,FIND(\"|\",StoreConfig!J982)-1),\"\"),$Q$4:$R$20,2,FALSE),\"\")","v":""},{"$f":"IF($B$2=StoreConfig!C982,LEFT(StoreConfig!G982,FIND(\"#\",StoreConfig!G982)-1),\"\")","v":""},{"$f":"IF($B$2=StoreConfig!C982,RIGHT(StoreConfig!G982,LEN(StoreConfig!G982)-FIND(\"#\",StoreConfig!G982)),\"\")","v":""},{"$f":"IF($B$2=StoreConfig!C982,IF(StoreConfig!L982=0,\"不限购\",StoreConfig!L982&\"次\"),\"\")","v":""}]
[{"$nulls":3},{"$f":"IF($B$2=StoreConfig!C983,StoreConfig!O983,\"\")","v":""},{"$f":"IF($B$2=StoreConfig!C983,StoreConfig!E983,\"\")","v":""},{"$f":"IF($B$2=StoreConfig!C983,RIGHT(StoreConfig!J983,LEN(StoreConfig!J983)-FIND(\"|\",StoreConfig!J983)),\"\")","v":""},{"$f":"IFERROR(VLOOKUP(--IF($B$2=StoreConfig!C983,LEFT(StoreConfig!J983,FIND(\"|\",StoreConfig!J983)-1),\"\"),$Q$4:$R$20,2,FALSE),\"\")","v":""},{"$f":"IF($B$2=StoreConfig!C983,LEFT(StoreConfig!G983,FIND(\"#\",StoreConfig!G983)-1),\"\")","v":""},{"$f":"IF($B$2=StoreConfig!C983,RIGHT(StoreConfig!G983,LEN(StoreConfig!G983)-FIND(\"#\",StoreConfig!G983)),\"\")","v":""},{"$f":"IF($B$2=StoreConfig!C983,IF(StoreConfig!L983=0,\"不限购\",StoreConfig!L983&\"次\"),\"\")","v":""}]
[{"$nulls":3},{"$f":"IF($B$2=StoreConfig!C984,StoreConfig!O984,\"\")","v":""},{"$f":"IF($B$2=StoreConfig!C984,StoreConfig!E984,\"\")","v":""},{"$f":"IF($B$2=StoreConfig!C984,RIGHT(StoreConfig!J984,LEN(StoreConfig!J984)-FIND(\"|\",StoreConfig!J984)),\"\")","v":""},{"$f":"IFERROR(VLOOKUP(--IF($B$2=StoreConfig!C984,LEFT(StoreConfig!J984,FIND(\"|\",StoreConfig!J984)-1),\"\"),$Q$4:$R$20,2,FALSE),\"\")","v":""},{"$f":"IF($B$2=StoreConfig!C984,LEFT(StoreConfig!G984,FIND(\"#\",StoreConfig!G984)-1),\"\")","v":""},{"$f":"IF($B$2=StoreConfig!C984,RIGHT(StoreConfig!G984,LEN(StoreConfig!G984)-FIND(\"#\",StoreConfig!G984)),\"\")","v":""},{"$f":"IF($B$2=StoreConfig!C984,IF(StoreConfig!L984=0,\"不限购\",StoreConfig!L984&\"次\"),\"\")","v":""}]
[{"$nulls":3},{"$f":"IF($B$2=StoreConfig!C985,StoreConfig!O985,\"\")","v":""},{"$f":"IF($B$2=StoreConfig!C985,StoreConfig!E985,\"\")","v":""},{"$f":"IF($B$2=StoreConfig!C985,RIGHT(StoreConfig!J985,LEN(StoreConfig!J985)-FIND(\"|\",StoreConfig!J985)),\"\")","v":""},{"$f":"IFERROR(VLOOKUP(--IF($B$2=StoreConfig!C985,LEFT(StoreConfig!J985,FIND(\"|\",StoreConfig!J985)-1),\"\"),$Q$4:$R$20,2,FALSE),\"\")","v":""},{"$f":"IF($B$2=StoreConfig!C985,LEFT(StoreConfig!G985,FIND(\"#\",StoreConfig!G985)-1),\"\")","v":""},{"$f":"IF($B$2=StoreConfig!C985,RIGHT(StoreConfig!G985,LEN(StoreConfig!G985)-FIND(\"#\",StoreConfig!G985)),\"\")","v":""},{"$f":"IF($B$2=StoreConfig!C985,IF(StoreConfig!L985=0,\"不限购\",StoreConfig!L985&\"次\"),\"\")","v":""}]
[{"$nulls":3},{"$f":"IF($B$2=StoreConfig!C986,StoreConfig!O986,\"\")","v":""},{"$f":"IF($B$2=StoreConfig!C986,StoreConfig!E986,\"\")","v":""},{"$f":"IF($B$2=StoreConfig!C986,RIGHT(StoreConfig!J986,LEN(StoreConfig!J986)-FIND(\"|\",StoreConfig!J986)),\"\")","v":""},{"$f":"IFERROR(VLOOKUP(--IF($B$2=StoreConfig!C986,LEFT(StoreConfig!J986,FIND(\"|\",StoreConfig!J986)-1),\"\"),$Q$4:$R$20,2,FALSE),\"\")","v":""},{"$f":"IF($B$2=StoreConfig!C986,LEFT(StoreConfig!G986,FIND(\"#\",StoreConfig!G986)-1),\"\")","v":""},{"$f":"IF($B$2=StoreConfig!C986,RIGHT(StoreConfig!G986,LEN(StoreConfig!G986)-FIND(\"#\",StoreConfig!G986)),\"\")","v":""},{"$f":"IF($B$2=StoreConfig!C986,IF(StoreConfig!L986=0,\"不限购\",StoreConfig!L986&\"次\"),\"\")","v":""}]
[{"$nulls":3},{"$f":"IF($B$2=StoreConfig!C987,StoreConfig!O987,\"\")","v":""},{"$f":"IF($B$2=StoreConfig!C987,StoreConfig!E987,\"\")","v":""},{"$f":"IF($B$2=StoreConfig!C987,RIGHT(StoreConfig!J987,LEN(StoreConfig!J987)-FIND(\"|\",StoreConfig!J987)),\"\")","v":""},{"$f":"IFERROR(VLOOKUP(--IF($B$2=StoreConfig!C987,LEFT(StoreConfig!J987,FIND(\"|\",StoreConfig!J987)-1),\"\"),$Q$4:$R$20,2,FALSE),\"\")","v":""},{"$f":"IF($B$2=StoreConfig!C987,LEFT(StoreConfig!G987,FIND(\"#\",StoreConfig!G987)-1),\"\")","v":""},{"$f":"IF($B$2=StoreConfig!C987,RIGHT(StoreConfig!G987,LEN(StoreConfig!G987)-FIND(\"#\",StoreConfig!G987)),\"\")","v":""},{"$f":"IF($B$2=StoreConfig!C987,IF(StoreConfig!L987=0,\"不限购\",StoreConfig!L987&\"次\"),\"\")","v":""}]
[{"$nulls":3},{"$f":"IF($B$2=StoreConfig!C988,StoreConfig!O988,\"\")","v":""},{"$f":"IF($B$2=StoreConfig!C988,StoreConfig!E988,\"\")","v":""},{"$f":"IF($B$2=StoreConfig!C988,RIGHT(StoreConfig!J988,LEN(StoreConfig!J988)-FIND(\"|\",StoreConfig!J988)),\"\")","v":""},{"$f":"IFERROR(VLOOKUP(--IF($B$2=StoreConfig!C988,LEFT(StoreConfig!J988,FIND(\"|\",StoreConfig!J988)-1),\"\"),$Q$4:$R$20,2,FALSE),\"\")","v":""},{"$f":"IF($B$2=StoreConfig!C988,LEFT(StoreConfig!G988,FIND(\"#\",StoreConfig!G988)-1),\"\")","v":""},{"$f":"IF($B$2=StoreConfig!C988,RIGHT(StoreConfig!G988,LEN(StoreConfig!G988)-FIND(\"#\",StoreConfig!G988)),\"\")","v":""},{"$f":"IF($B$2=StoreConfig!C988,IF(StoreConfig!L988=0,\"不限购\",StoreConfig!L988&\"次\"),\"\")","v":""}]
[{"$nulls":3},{"$f":"IF($B$2=StoreConfig!C989,StoreConfig!O989,\"\")","v":""},{"$f":"IF($B$2=StoreConfig!C989,StoreConfig!E989,\"\")","v":""},{"$f":"IF($B$2=StoreConfig!C989,RIGHT(StoreConfig!J989,LEN(StoreConfig!J989)-FIND(\"|\",StoreConfig!J989)),\"\")","v":""},{"$f":"IFERROR(VLOOKUP(--IF($B$2=StoreConfig!C989,LEFT(StoreConfig!J989,FIND(\"|\",StoreConfig!J989)-1),\"\"),$Q$4:$R$20,2,FALSE),\"\")","v":""},{"$f":"IF($B$2=StoreConfig!C989,LEFT(StoreConfig!G989,FIND(\"#\",StoreConfig!G989)-1),\"\")","v":""},{"$f":"IF($B$2=StoreConfig!C989,RIGHT(StoreConfig!G989,LEN(StoreConfig!G989)-FIND(\"#\",StoreConfig!G989)),\"\")","v":""},{"$f":"IF($B$2=StoreConfig!C989,IF(StoreConfig!L989=0,\"不限购\",StoreConfig!L989&\"次\"),\"\")","v":""}]
[{"$nulls":3},{"$f":"IF($B$2=StoreConfig!C990,StoreConfig!O990,\"\")","v":""},{"$f":"IF($B$2=StoreConfig!C990,StoreConfig!E990,\"\")","v":""},{"$f":"IF($B$2=StoreConfig!C990,RIGHT(StoreConfig!J990,LEN(StoreConfig!J990)-FIND(\"|\",StoreConfig!J990)),\"\")","v":""},{"$f":"IFERROR(VLOOKUP(--IF($B$2=StoreConfig!C990,LEFT(StoreConfig!J990,FIND(\"|\",StoreConfig!J990)-1),\"\"),$Q$4:$R$20,2,FALSE),\"\")","v":""},{"$f":"IF($B$2=StoreConfig!C990,LEFT(StoreConfig!G990,FIND(\"#\",StoreConfig!G990)-1),\"\")","v":""},{"$f":"IF($B$2=StoreConfig!C990,RIGHT(StoreConfig!G990,LEN(StoreConfig!G990)-FIND(\"#\",StoreConfig!G990)),\"\")","v":""},{"$f":"IF($B$2=StoreConfig!C990,IF(StoreConfig!L990=0,\"不限购\",StoreConfig!L990&\"次\"),\"\")","v":""}]
[{"$nulls":3},{"$f":"IF($B$2=StoreConfig!C991,StoreConfig!O991,\"\")","v":""},{"$f":"IF($B$2=StoreConfig!C991,StoreConfig!E991,\"\")","v":""},{"$f":"IF($B$2=StoreConfig!C991,RIGHT(StoreConfig!J991,LEN(StoreConfig!J991)-FIND(\"|\",StoreConfig!J991)),\"\")","v":""},{"$f":"IFERROR(VLOOKUP(--IF($B$2=StoreConfig!C991,LEFT(StoreConfig!J991,FIND(\"|\",StoreConfig!J991)-1),\"\"),$Q$4:$R$20,2,FALSE),\"\")","v":""},{"$f":"IF($B$2=StoreConfig!C991,LEFT(StoreConfig!G991,FIND(\"#\",StoreConfig!G991)-1),\"\")","v":""},{"$f":"IF($B$2=StoreConfig!C991,RIGHT(StoreConfig!G991,LEN(StoreConfig!G991)-FIND(\"#\",StoreConfig!G991)),\"\")","v":""},{"$f":"IF($B$2=StoreConfig!C991,IF(StoreConfig!L991=0,\"不限购\",StoreConfig!L991&\"次\"),\"\")","v":""}]
[{"$nulls":3},{"$f":"IF($B$2=StoreConfig!C992,StoreConfig!O992,\"\")","v":""},{"$f":"IF($B$2=StoreConfig!C992,StoreConfig!E992,\"\")","v":""},{"$f":"IF($B$2=StoreConfig!C992,RIGHT(StoreConfig!J992,LEN(StoreConfig!J992)-FIND(\"|\",StoreConfig!J992)),\"\")","v":""},{"$f":"IFERROR(VLOOKUP(--IF($B$2=StoreConfig!C992,LEFT(StoreConfig!J992,FIND(\"|\",StoreConfig!J992)-1),\"\"),$Q$4:$R$20,2,FALSE),\"\")","v":""},{"$f":"IF($B$2=StoreConfig!C992,LEFT(StoreConfig!G992,FIND(\"#\",StoreConfig!G992)-1),\"\")","v":""},{"$f":"IF($B$2=StoreConfig!C992,RIGHT(StoreConfig!G992,LEN(StoreConfig!G992)-FIND(\"#\",StoreConfig!G992)),\"\")","v":""},{"$f":"IF($B$2=StoreConfig!C992,IF(StoreConfig!L992=0,\"不限购\",StoreConfig!L992&\"次\"),\"\")","v":""}]
[{"$nulls":3},{"$f":"IF($B$2=StoreConfig!C993,StoreConfig!O993,\"\")","v":""},{"$f":"IF($B$2=StoreConfig!C993,StoreConfig!E993,\"\")","v":""},{"$f":"IF($B$2=StoreConfig!C993,RIGHT(StoreConfig!J993,LEN(StoreConfig!J993)-FIND(\"|\",StoreConfig!J993)),\"\")","v":""},{"$f":"IFERROR(VLOOKUP(--IF($B$2=StoreConfig!C993,LEFT(StoreConfig!J993,FIND(\"|\",StoreConfig!J993)-1),\"\"),$Q$4:$R$20,2,FALSE),\"\")","v":""},{"$f":"IF($B$2=StoreConfig!C993,LEFT(StoreConfig!G993,FIND(\"#\",StoreConfig!G993)-1),\"\")","v":""},{"$f":"IF($B$2=StoreConfig!C993,RIGHT(StoreConfig!G993,LEN(StoreConfig!G993)-FIND(\"#\",StoreConfig!G993)),\"\")","v":""},{"$f":"IF($B$2=StoreConfig!C993,IF(StoreConfig!L993=0,\"不限购\",StoreConfig!L993&\"次\"),\"\")","v":""}]
[{"$nulls":3},{"$f":"IF($B$2=StoreConfig!C994,StoreConfig!O994,\"\")","v":""},{"$f":"IF($B$2=StoreConfig!C994,StoreConfig!E994,\"\")","v":""},{"$f":"IF($B$2=StoreConfig!C994,RIGHT(StoreConfig!J994,LEN(StoreConfig!J994)-FIND(\"|\",StoreConfig!J994)),\"\")","v":""},{"$f":"IFERROR(VLOOKUP(--IF($B$2=StoreConfig!C994,LEFT(StoreConfig!J994,FIND(\"|\",StoreConfig!J994)-1),\"\"),$Q$4:$R$20,2,FALSE),\"\")","v":""},{"$f":"IF($B$2=StoreConfig!C994,LEFT(StoreConfig!G994,FIND(\"#\",StoreConfig!G994)-1),\"\")","v":""},{"$f":"IF($B$2=StoreConfig!C994,RIGHT(StoreConfig!G994,LEN(StoreConfig!G994)-FIND(\"#\",StoreConfig!G994)),\"\")","v":""},{"$f":"IF($B$2=StoreConfig!C994,IF(StoreConfig!L994=0,\"不限购\",StoreConfig!L994&\"次\"),\"\")","v":""}]
[{"$nulls":3},{"$f":"IF($B$2=StoreConfig!C995,StoreConfig!O995,\"\")","v":""},{"$f":"IF($B$2=StoreConfig!C995,StoreConfig!E995,\"\")","v":""},{"$f":"IF($B$2=StoreConfig!C995,RIGHT(StoreConfig!J995,LEN(StoreConfig!J995)-FIND(\"|\",StoreConfig!J995)),\"\")","v":""},{"$f":"IFERROR(VLOOKUP(--IF($B$2=StoreConfig!C995,LEFT(StoreConfig!J995,FIND(\"|\",StoreConfig!J995)-1),\"\"),$Q$4:$R$20,2,FALSE),\"\")","v":""},{"$f":"IF($B$2=StoreConfig!C995,LEFT(StoreConfig!G995,FIND(\"#\",StoreConfig!G995)-1),\"\")","v":""},{"$f":"IF($B$2=StoreConfig!C995,RIGHT(StoreConfig!G995,LEN(StoreConfig!G995)-FIND(\"#\",StoreConfig!G995)),\"\")","v":""},{"$f":"IF($B$2=StoreConfig!C995,IF(StoreConfig!L995=0,\"不限购\",StoreConfig!L995&\"次\"),\"\")","v":""}]
[{"$nulls":3},{"$f":"IF($B$2=StoreConfig!C996,StoreConfig!O996,\"\")","v":""},{"$f":"IF($B$2=StoreConfig!C996,StoreConfig!E996,\"\")","v":""},{"$f":"IF($B$2=StoreConfig!C996,RIGHT(StoreConfig!J996,LEN(StoreConfig!J996)-FIND(\"|\",StoreConfig!J996)),\"\")","v":""},{"$f":"IFERROR(VLOOKUP(--IF($B$2=StoreConfig!C996,LEFT(StoreConfig!J996,FIND(\"|\",StoreConfig!J996)-1),\"\"),$Q$4:$R$20,2,FALSE),\"\")","v":""},{"$f":"IF($B$2=StoreConfig!C996,LEFT(StoreConfig!G996,FIND(\"#\",StoreConfig!G996)-1),\"\")","v":""},{"$f":"IF($B$2=StoreConfig!C996,RIGHT(StoreConfig!G996,LEN(StoreConfig!G996)-FIND(\"#\",StoreConfig!G996)),\"\")","v":""},{"$f":"IF($B$2=StoreConfig!C996,IF(StoreConfig!L996=0,\"不限购\",StoreConfig!L996&\"次\"),\"\")","v":""}]
[{"$nulls":3},{"$f":"IF($B$2=StoreConfig!C997,StoreConfig!O997,\"\")","v":""},{"$f":"IF($B$2=StoreConfig!C997,StoreConfig!E997,\"\")","v":""},{"$f":"IF($B$2=StoreConfig!C997,RIGHT(StoreConfig!J997,LEN(StoreConfig!J997)-FIND(\"|\",StoreConfig!J997)),\"\")","v":""},{"$f":"IFERROR(VLOOKUP(--IF($B$2=StoreConfig!C997,LEFT(StoreConfig!J997,FIND(\"|\",StoreConfig!J997)-1),\"\"),$Q$4:$R$20,2,FALSE),\"\")","v":""},{"$f":"IF($B$2=StoreConfig!C997,LEFT(StoreConfig!G997,FIND(\"#\",StoreConfig!G997)-1),\"\")","v":""},{"$f":"IF($B$2=StoreConfig!C997,RIGHT(StoreConfig!G997,LEN(StoreConfig!G997)-FIND(\"#\",StoreConfig!G997)),\"\")","v":""},{"$f":"IF($B$2=StoreConfig!C997,IF(StoreConfig!L997=0,\"不限购\",StoreConfig!L997&\"次\"),\"\")","v":""}]
[{"$nulls":3},{"$f":"IF($B$2=StoreConfig!C998,StoreConfig!O998,\"\")","v":""},{"$f":"IF($B$2=StoreConfig!C998,StoreConfig!E998,\"\")","v":""},{"$f":"IF($B$2=StoreConfig!C998,RIGHT(StoreConfig!J998,LEN(StoreConfig!J998)-FIND(\"|\",StoreConfig!J998)),\"\")","v":""},{"$f":"IFERROR(VLOOKUP(--IF($B$2=StoreConfig!C998,LEFT(StoreConfig!J998,FIND(\"|\",StoreConfig!J998)-1),\"\"),$Q$4:$R$20,2,FALSE),\"\")","v":""},{"$f":"IF($B$2=StoreConfig!C998,LEFT(StoreConfig!G998,FIND(\"#\",StoreConfig!G998)-1),\"\")","v":""},{"$f":"IF($B$2=StoreConfig!C998,RIGHT(StoreConfig!G998,LEN(StoreConfig!G998)-FIND(\"#\",StoreConfig!G998)),\"\")","v":""},{"$f":"IF($B$2=StoreConfig!C998,IF(StoreConfig!L998=0,\"不限购\",StoreConfig!L998&\"次\"),\"\")","v":""}]
[{"$nulls":3},{"$f":"IF($B$2=StoreConfig!C999,StoreConfig!O999,\"\")","v":""},{"$f":"IF($B$2=StoreConfig!C999,StoreConfig!E999,\"\")","v":""},{"$f":"IF($B$2=StoreConfig!C999,RIGHT(StoreConfig!J999,LEN(StoreConfig!J999)-FIND(\"|\",StoreConfig!J999)),\"\")","v":""},{"$f":"IFERROR(VLOOKUP(--IF($B$2=StoreConfig!C999,LEFT(StoreConfig!J999,FIND(\"|\",StoreConfig!J999)-1),\"\"),$Q$4:$R$20,2,FALSE),\"\")","v":""},{"$f":"IF($B$2=StoreConfig!C999,LEFT(StoreConfig!G999,FIND(\"#\",StoreConfig!G999)-1),\"\")","v":""},{"$f":"IF($B$2=StoreConfig!C999,RIGHT(StoreConfig!G999,LEN(StoreConfig!G999)-FIND(\"#\",StoreConfig!G999)),\"\")","v":""},{"$f":"IF($B$2=StoreConfig!C999,IF(StoreConfig!L999=0,\"不限购\",StoreConfig!L999&\"次\"),\"\")","v":""}]
[{"$nulls":3},{"$f":"IF($B$2=StoreConfig!C1000,StoreConfig!O1000,\"\")","v":""},{"$f":"IF($B$2=StoreConfig!C1000,StoreConfig!E1000,\"\")","v":""},{"$f":"IF($B$2=StoreConfig!C1000,RIGHT(StoreConfig!J1000,LEN(StoreConfig!J1000)-FIND(\"|\",StoreConfig!J1000)),\"\")","v":""},{"$f":"IFERROR(VLOOKUP(--IF($B$2=StoreConfig!C1000,LEFT(StoreConfig!J1000,FIND(\"|\",StoreConfig!J1000)-1),\"\"),$Q$4:$R$20,2,FALSE),\"\")","v":""},{"$f":"IF($B$2=StoreConfig!C1000,LEFT(StoreConfig!G1000,FIND(\"#\",StoreConfig!G1000)-1),\"\")","v":""},{"$f":"IF($B$2=StoreConfig!C1000,RIGHT(StoreConfig!G1000,LEN(StoreConfig!G1000)-FIND(\"#\",StoreConfig!G1000)),\"\")","v":""},{"$f":"IF($B$2=StoreConfig!C1000,IF(StoreConfig!L1000=0,\"不限购\",StoreConfig!L1000&\"次\"),\"\")","v":""}]
[{"$nulls":3},{"$f":"IF($B$2=StoreConfig!C1001,StoreConfig!O1001,\"\")","v":""},{"$f":"IF($B$2=StoreConfig!C1001,StoreConfig!E1001,\"\")","v":""},{"$f":"IF($B$2=StoreConfig!C1001,RIGHT(StoreConfig!J1001,LEN(StoreConfig!J1001)-FIND(\"|\",StoreConfig!J1001)),\"\")","v":""},{"$f":"IFERROR(VLOOKUP(--IF($B$2=StoreConfig!C1001,LEFT(StoreConfig!J1001,FIND(\"|\",StoreConfig!J1001)-1),\"\"),$Q$4:$R$20,2,FALSE),\"\")","v":""},{"$f":"IF($B$2=StoreConfig!C1001,LEFT(StoreConfig!G1001,FIND(\"#\",StoreConfig!G1001)-1),\"\")","v":""},{"$f":"IF($B$2=StoreConfig!C1001,RIGHT(StoreConfig!G1001,LEN(StoreConfig!G1001)-FIND(\"#\",StoreConfig!G1001)),\"\")","v":""},{"$f":"IF($B$2=StoreConfig!C1001,IF(StoreConfig!L1001=0,\"不限购\",StoreConfig!L1001&\"次\"),\"\")","v":""}]
[{"$nulls":3},{"$f":"IF($B$2=StoreConfig!C1002,StoreConfig!O1002,\"\")","v":""},{"$f":"IF($B$2=StoreConfig!C1002,StoreConfig!E1002,\"\")","v":""},{"$f":"IF($B$2=StoreConfig!C1002,RIGHT(StoreConfig!J1002,LEN(StoreConfig!J1002)-FIND(\"|\",StoreConfig!J1002)),\"\")","v":""},{"$f":"IFERROR(VLOOKUP(--IF($B$2=StoreConfig!C1002,LEFT(StoreConfig!J1002,FIND(\"|\",StoreConfig!J1002)-1),\"\"),$Q$4:$R$20,2,FALSE),\"\")","v":""},{"$f":"IF($B$2=StoreConfig!C1002,LEFT(StoreConfig!G1002,FIND(\"#\",StoreConfig!G1002)-1),\"\")","v":""},{"$f":"IF($B$2=StoreConfig!C1002,RIGHT(StoreConfig!G1002,LEN(StoreConfig!G1002)-FIND(\"#\",StoreConfig!G1002)),\"\")","v":""},{"$f":"IF($B$2=StoreConfig!C1002,IF(StoreConfig!L1002=0,\"不限购\",StoreConfig!L1002&\"次\"),\"\")","v":""}]
[{"$nulls":3},{"$f":"IF($B$2=StoreConfig!C1003,StoreConfig!O1003,\"\")","v":""},{"$f":"IF($B$2=StoreConfig!C1003,StoreConfig!E1003,\"\")","v":""},{"$f":"IF($B$2=StoreConfig!C1003,RIGHT(StoreConfig!J1003,LEN(StoreConfig!J1003)-FIND(\"|\",StoreConfig!J1003)),\"\")","v":""},{"$f":"IFERROR(VLOOKUP(--IF($B$2=StoreConfig!C1003,LEFT(StoreConfig!J1003,FIND(\"|\",StoreConfig!J1003)-1),\"\"),$Q$4:$R$20,2,FALSE),\"\")","v":""},{"$f":"IF($B$2=StoreConfig!C1003,LEFT(StoreConfig!G1003,FIND(\"#\",StoreConfig!G1003)-1),\"\")","v":""},{"$f":"IF($B$2=StoreConfig!C1003,RIGHT(StoreConfig!G1003,LEN(StoreConfig!G1003)-FIND(\"#\",StoreConfig!G1003)),\"\")","v":""},{"$f":"IF($B$2=StoreConfig!C1003,IF(StoreConfig!L1003=0,\"不限购\",StoreConfig!L1003&\"次\"),\"\")","v":""}]
[{"$nulls":3},{"$f":"IF($B$2=StoreConfig!C1004,StoreConfig!O1004,\"\")","v":""},{"$f":"IF($B$2=StoreConfig!C1004,StoreConfig!E1004,\"\")","v":""},{"$f":"IF($B$2=StoreConfig!C1004,RIGHT(StoreConfig!J1004,LEN(StoreConfig!J1004)-FIND(\"|\",StoreConfig!J1004)),\"\")","v":""},{"$f":"IFERROR(VLOOKUP(--IF($B$2=StoreConfig!C1004,LEFT(StoreConfig!J1004,FIND(\"|\",StoreConfig!J1004)-1),\"\"),$Q$4:$R$20,2,FALSE),\"\")","v":""},{"$f":"IF($B$2=StoreConfig!C1004,LEFT(StoreConfig!G1004,FIND(\"#\",StoreConfig!G1004)-1),\"\")","v":""},{"$f":"IF($B$2=StoreConfig!C1004,RIGHT(StoreConfig!G1004,LEN(StoreConfig!G1004)-FIND(\"#\",StoreConfig!G1004)),\"\")","v":""},{"$f":"IF($B$2=StoreConfig!C1004,IF(StoreConfig!L1004=0,\"不限购\",StoreConfig!L1004&\"次\"),\"\")","v":""}]
[{"$nulls":3},{"$f":"IF($B$2=StoreConfig!C1005,StoreConfig!O1005,\"\")","v":""},{"$f":"IF($B$2=StoreConfig!C1005,StoreConfig!E1005,\"\")","v":""},{"$f":"IF($B$2=StoreConfig!C1005,RIGHT(StoreConfig!J1005,LEN(StoreConfig!J1005)-FIND(\"|\",StoreConfig!J1005)),\"\")","v":""},{"$f":"IFERROR(VLOOKUP(--IF($B$2=StoreConfig!C1005,LEFT(StoreConfig!J1005,FIND(\"|\",StoreConfig!J1005)-1),\"\"),$Q$4:$R$20,2,FALSE),\"\")","v":""},{"$f":"IF($B$2=StoreConfig!C1005,LEFT(StoreConfig!G1005,FIND(\"#\",StoreConfig!G1005)-1),\"\")","v":""},{"$f":"IF($B$2=StoreConfig!C1005,RIGHT(StoreConfig!G1005,LEN(StoreConfig!G1005)-FIND(\"#\",StoreConfig!G1005)),\"\")","v":""},{"$f":"IF($B$2=StoreConfig!C1005,IF(StoreConfig!L1005=0,\"不限购\",StoreConfig!L1005&\"次\"),\"\")","v":""}]
[{"$nulls":3},{"$f":"IF($B$2=StoreConfig!C1006,StoreConfig!O1006,\"\")","v":""},{"$f":"IF($B$2=StoreConfig!C1006,StoreConfig!E1006,\"\")","v":""},{"$f":"IF($B$2=StoreConfig!C1006,RIGHT(StoreConfig!J1006,LEN(StoreConfig!J1006)-FIND(\"|\",StoreConfig!J1006)),\"\")","v":""},{"$f":"IFERROR(VLOOKUP(--IF($B$2=StoreConfig!C1006,LEFT(StoreConfig!J1006,FIND(\"|\",StoreConfig!J1006)-1),\"\"),$Q$4:$R$20,2,FALSE),\"\")","v":""},{"$f":"IF($B$2=StoreConfig!C1006,LEFT(StoreConfig!G1006,FIND(\"#\",StoreConfig!G1006)-1),\"\")","v":""},{"$f":"IF($B$2=StoreConfig!C1006,RIGHT(StoreConfig!G1006,LEN(StoreConfig!G1006)-FIND(\"#\",StoreConfig!G1006)),\"\")","v":""},{"$f":"IF($B$2=StoreConfig!C1006,IF(StoreConfig!L1006=0,\"不限购\",StoreConfig!L1006&\"次\"),\"\")","v":""}]
[{"$nulls":3},{"$f":"IF($B$2=StoreConfig!C1007,StoreConfig!O1007,\"\")","v":""},{"$f":"IF($B$2=StoreConfig!C1007,StoreConfig!E1007,\"\")","v":""},{"$f":"IF($B$2=StoreConfig!C1007,RIGHT(StoreConfig!J1007,LEN(StoreConfig!J1007)-FIND(\"|\",StoreConfig!J1007)),\"\")","v":""},{"$f":"IFERROR(VLOOKUP(--IF($B$2=StoreConfig!C1007,LEFT(StoreConfig!J1007,FIND(\"|\",StoreConfig!J1007)-1),\"\"),$Q$4:$R$20,2,FALSE),\"\")","v":""},{"$f":"IF($B$2=StoreConfig!C1007,LEFT(StoreConfig!G1007,FIND(\"#\",StoreConfig!G1007)-1),\"\")","v":""},{"$f":"IF($B$2=StoreConfig!C1007,RIGHT(StoreConfig!G1007,LEN(StoreConfig!G1007)-FIND(\"#\",StoreConfig!G1007)),\"\")","v":""},{"$f":"IF($B$2=StoreConfig!C1007,IF(StoreConfig!L1007=0,\"不限购\",StoreConfig!L1007&\"次\"),\"\")","v":""}]
[{"$nulls":3},{"$f":"IF($B$2=StoreConfig!C1008,StoreConfig!O1008,\"\")","v":""},{"$f":"IF($B$2=StoreConfig!C1008,StoreConfig!E1008,\"\")","v":""},{"$f":"IF($B$2=StoreConfig!C1008,RIGHT(StoreConfig!J1008,LEN(StoreConfig!J1008)-FIND(\"|\",StoreConfig!J1008)),\"\")","v":""},{"$f":"IFERROR(VLOOKUP(--IF($B$2=StoreConfig!C1008,LEFT(StoreConfig!J1008,FIND(\"|\",StoreConfig!J1008)-1),\"\"),$Q$4:$R$20,2,FALSE),\"\")","v":""},{"$f":"IF($B$2=StoreConfig!C1008,LEFT(StoreConfig!G1008,FIND(\"#\",StoreConfig!G1008)-1),\"\")","v":""},{"$f":"IF($B$2=StoreConfig!C1008,RIGHT(StoreConfig!G1008,LEN(StoreConfig!G1008)-FIND(\"#\",StoreConfig!G1008)),\"\")","v":""},{"$f":"IF($B$2=StoreConfig!C1008,IF(StoreConfig!L1008=0,\"不限购\",StoreConfig!L1008&\"次\"),\"\")","v":""}]
[{"$nulls":3},{"$f":"IF($B$2=StoreConfig!C1009,StoreConfig!O1009,\"\")","v":""},{"$f":"IF($B$2=StoreConfig!C1009,StoreConfig!E1009,\"\")","v":""},{"$f":"IF($B$2=StoreConfig!C1009,RIGHT(StoreConfig!J1009,LEN(StoreConfig!J1009)-FIND(\"|\",StoreConfig!J1009)),\"\")","v":""},{"$f":"IFERROR(VLOOKUP(--IF($B$2=StoreConfig!C1009,LEFT(StoreConfig!J1009,FIND(\"|\",StoreConfig!J1009)-1),\"\"),$Q$4:$R$20,2,FALSE),\"\")","v":""},{"$f":"IF($B$2=StoreConfig!C1009,LEFT(StoreConfig!G1009,FIND(\"#\",StoreConfig!G1009)-1),\"\")","v":""},{"$f":"IF($B$2=StoreConfig!C1009,RIGHT(StoreConfig!G1009,LEN(StoreConfig!G1009)-FIND(\"#\",StoreConfig!G1009)),\"\")","v":""},{"$f":"IF($B$2=StoreConfig!C1009,IF(StoreConfig!L1009=0,\"不限购\",StoreConfig!L1009&\"次\"),\"\")","v":""}]
[{"$nulls":3},{"$f":"IF($B$2=StoreConfig!C1010,StoreConfig!O1010,\"\")","v":""},{"$f":"IF($B$2=StoreConfig!C1010,StoreConfig!E1010,\"\")","v":""},{"$f":"IF($B$2=StoreConfig!C1010,RIGHT(StoreConfig!#REF!,LEN(StoreConfig!#REF!)-FIND(\"|\",StoreConfig!#REF!)),\"\")","v":""},{"$f":"IFERROR(VLOOKUP(--IF($B$2=StoreConfig!C1010,LEFT(StoreConfig!#REF!,FIND(\"|\",StoreConfig!#REF!)-1),\"\"),$Q$4:$R$20,2,FALSE),\"\")","v":""},{"$f":"IF($B$2=StoreConfig!C1010,LEFT(StoreConfig!G1010,FIND(\"#\",StoreConfig!G1010)-1),\"\")","v":""},{"$f":"IF($B$2=StoreConfig!C1010,RIGHT(StoreConfig!G1010,LEN(StoreConfig!G1010)-FIND(\"#\",StoreConfig!G1010)),\"\")","v":""},{"$f":"IF($B$2=StoreConfig!C1010,IF(StoreConfig!L1010=0,\"不限购\",StoreConfig!L1010&\"次\"),\"\")","v":""}]
[{"$nulls":3},{"$f":"IF($B$2=StoreConfig!C1011,StoreConfig!O1011,\"\")","v":""},{"$f":"IF($B$2=StoreConfig!C1011,StoreConfig!E1011,\"\")","v":""},{"$f":"IF($B$2=StoreConfig!C1011,RIGHT(StoreConfig!#REF!,LEN(StoreConfig!#REF!)-FIND(\"|\",StoreConfig!#REF!)),\"\")","v":""},{"$f":"IFERROR(VLOOKUP(--IF($B$2=StoreConfig!C1011,LEFT(StoreConfig!#REF!,FIND(\"|\",StoreConfig!#REF!)-1),\"\"),$Q$4:$R$20,2,FALSE),\"\")","v":""},{"$f":"IF($B$2=StoreConfig!C1011,LEFT(StoreConfig!G1011,FIND(\"#\",StoreConfig!G1011)-1),\"\")","v":""},{"$f":"IF($B$2=StoreConfig!C1011,RIGHT(StoreConfig!G1011,LEN(StoreConfig!G1011)-FIND(\"#\",StoreConfig!G1011)),\"\")","v":""},{"$f":"IF($B$2=StoreConfig!C1011,IF(StoreConfig!L1011=0,\"不限购\",StoreConfig!L1011&\"次\"),\"\")","v":""}]
[{"$nulls":3},{"$f":"IF($B$2=StoreConfig!C1012,StoreConfig!O1012,\"\")","v":""},{"$f":"IF($B$2=StoreConfig!C1012,StoreConfig!E1012,\"\")","v":""},{"$f":"IF($B$2=StoreConfig!C1012,RIGHT(StoreConfig!J1012,LEN(StoreConfig!J1012)-FIND(\"|\",StoreConfig!J1012)),\"\")","v":""},{"$f":"IFERROR(VLOOKUP(--IF($B$2=StoreConfig!C1012,LEFT(StoreConfig!J1012,FIND(\"|\",StoreConfig!J1012)-1),\"\"),$Q$4:$R$20,2,FALSE),\"\")","v":""},{"$f":"IF($B$2=StoreConfig!C1012,LEFT(StoreConfig!G1012,FIND(\"#\",StoreConfig!G1012)-1),\"\")","v":""},{"$f":"IF($B$2=StoreConfig!C1012,RIGHT(StoreConfig!G1012,LEN(StoreConfig!G1012)-FIND(\"#\",StoreConfig!G1012)),\"\")","v":""},{"$f":"IF($B$2=StoreConfig!C1012,IF(StoreConfig!L1012=0,\"不限购\",StoreConfig!L1012&\"次\"),\"\")","v":""}]
[{"$nulls":3},{"$f":"IF($B$2=StoreConfig!C1013,StoreConfig!O1013,\"\")","v":""},{"$f":"IF($B$2=StoreConfig!C1013,StoreConfig!E1013,\"\")","v":""},{"$f":"IF($B$2=StoreConfig!C1013,RIGHT(StoreConfig!J1013,LEN(StoreConfig!J1013)-FIND(\"|\",StoreConfig!J1013)),\"\")","v":""},{"$f":"IFERROR(VLOOKUP(--IF($B$2=StoreConfig!C1013,LEFT(StoreConfig!J1013,FIND(\"|\",StoreConfig!J1013)-1),\"\"),$Q$4:$R$20,2,FALSE),\"\")","v":""},{"$f":"IF($B$2=StoreConfig!C1013,LEFT(StoreConfig!G1013,FIND(\"#\",StoreConfig!G1013)-1),\"\")","v":""},{"$f":"IF($B$2=StoreConfig!C1013,RIGHT(StoreConfig!G1013,LEN(StoreConfig!G1013)-FIND(\"#\",StoreConfig!G1013)),\"\")","v":""},{"$f":"IF($B$2=StoreConfig!C1013,IF(StoreConfig!L1013=0,\"不限购\",StoreConfig!L1013&\"次\"),\"\")","v":""}]
[{"$nulls":3},{"$f":"IF($B$2=StoreConfig!C1014,StoreConfig!O1014,\"\")","v":""},{"$f":"IF($B$2=StoreConfig!C1014,StoreConfig!E1014,\"\")","v":""},{"$f":"IF($B$2=StoreConfig!C1014,RIGHT(StoreConfig!#REF!,LEN(StoreConfig!#REF!)-FIND(\"|\",StoreConfig!#REF!)),\"\")","v":""},{"$f":"IFERROR(VLOOKUP(--IF($B$2=StoreConfig!C1014,LEFT(StoreConfig!#REF!,FIND(\"|\",StoreConfig!#REF!)-1),\"\"),$Q$4:$R$20,2,FALSE),\"\")","v":""},{"$f":"IF($B$2=StoreConfig!C1014,LEFT(StoreConfig!G1014,FIND(\"#\",StoreConfig!G1014)-1),\"\")","v":""},{"$f":"IF($B$2=StoreConfig!C1014,RIGHT(StoreConfig!G1014,LEN(StoreConfig!G1014)-FIND(\"#\",StoreConfig!G1014)),\"\")","v":""},{"$f":"IF($B$2=StoreConfig!C1014,IF(StoreConfig!L1014=0,\"不限购\",StoreConfig!L1014&\"次\"),\"\")","v":""}]
[{"$nulls":3},{"$f":"IF($B$2=StoreConfig!C1015,StoreConfig!O1015,\"\")","v":""},{"$f":"IF($B$2=StoreConfig!C1015,StoreConfig!E1015,\"\")","v":""},{"$f":"IF($B$2=StoreConfig!C1015,RIGHT(StoreConfig!#REF!,LEN(StoreConfig!#REF!)-FIND(\"|\",StoreConfig!#REF!)),\"\")","v":""},{"$f":"IFERROR(VLOOKUP(--IF($B$2=StoreConfig!C1015,LEFT(StoreConfig!#REF!,FIND(\"|\",StoreConfig!#REF!)-1),\"\"),$Q$4:$R$20,2,FALSE),\"\")","v":""},{"$f":"IF($B$2=StoreConfig!C1015,LEFT(StoreConfig!G1015,FIND(\"#\",StoreConfig!G1015)-1),\"\")","v":""},{"$f":"IF($B$2=StoreConfig!C1015,RIGHT(StoreConfig!G1015,LEN(StoreConfig!G1015)-FIND(\"#\",StoreConfig!G1015)),\"\")","v":""},{"$f":"IF($B$2=StoreConfig!C1015,IF(StoreConfig!L1015=0,\"不限购\",StoreConfig!L1015&\"次\"),\"\")","v":""}]
[{"$nulls":3},{"$f":"IF($B$2=StoreConfig!C1016,StoreConfig!O1016,\"\")","v":""},{"$f":"IF($B$2=StoreConfig!C1016,StoreConfig!E1016,\"\")","v":""},{"$f":"IF($B$2=StoreConfig!C1016,RIGHT(StoreConfig!J1016,LEN(StoreConfig!J1016)-FIND(\"|\",StoreConfig!J1016)),\"\")","v":""},{"$f":"IFERROR(VLOOKUP(--IF($B$2=StoreConfig!C1016,LEFT(StoreConfig!J1016,FIND(\"|\",StoreConfig!J1016)-1),\"\"),$Q$4:$R$20,2,FALSE),\"\")","v":""},{"$f":"IF($B$2=StoreConfig!C1016,LEFT(StoreConfig!G1016,FIND(\"#\",StoreConfig!G1016)-1),\"\")","v":""},{"$f":"IF($B$2=StoreConfig!C1016,RIGHT(StoreConfig!G1016,LEN(StoreConfig!G1016)-FIND(\"#\",StoreConfig!G1016)),\"\")","v":""},{"$f":"IF($B$2=StoreConfig!C1016,IF(StoreConfig!L1016=0,\"不限购\",StoreConfig!L1016&\"次\"),\"\")","v":""}]
[{"$nulls":3},{"$f":"IF($B$2=StoreConfig!C1017,StoreConfig!O1017,\"\")","v":""},{"$f":"IF($B$2=StoreConfig!C1017,StoreConfig!E1017,\"\")","v":""},{"$f":"IF($B$2=StoreConfig!C1017,RIGHT(StoreConfig!J1017,LEN(StoreConfig!J1017)-FIND(\"|\",StoreConfig!J1017)),\"\")","v":""},{"$f":"IFERROR(VLOOKUP(--IF($B$2=StoreConfig!C1017,LEFT(StoreConfig!J1017,FIND(\"|\",StoreConfig!J1017)-1),\"\"),$Q$4:$R$20,2,FALSE),\"\")","v":""},{"$f":"IF($B$2=StoreConfig!C1017,LEFT(StoreConfig!G1017,FIND(\"#\",StoreConfig!G1017)-1),\"\")","v":""},{"$f":"IF($B$2=StoreConfig!C1017,RIGHT(StoreConfig!G1017,LEN(StoreConfig!G1017)-FIND(\"#\",StoreConfig!G1017)),\"\")","v":""},{"$f":"IF($B$2=StoreConfig!C1017,IF(StoreConfig!L1017=0,\"不限购\",StoreConfig!L1017&\"次\"),\"\")","v":""}]
[{"$nulls":3},{"$f":"IF($B$2=StoreConfig!C1018,StoreConfig!O1018,\"\")","v":""},{"$f":"IF($B$2=StoreConfig!C1018,StoreConfig!E1018,\"\")","v":""},{"$f":"IF($B$2=StoreConfig!C1018,RIGHT(StoreConfig!J1018,LEN(StoreConfig!J1018)-FIND(\"|\",StoreConfig!J1018)),\"\")","v":""},{"$f":"IFERROR(VLOOKUP(--IF($B$2=StoreConfig!C1018,LEFT(StoreConfig!J1018,FIND(\"|\",StoreConfig!J1018)-1),\"\"),$Q$4:$R$20,2,FALSE),\"\")","v":""},{"$f":"IF($B$2=StoreConfig!C1018,LEFT(StoreConfig!G1018,FIND(\"#\",StoreConfig!G1018)-1),\"\")","v":""},{"$f":"IF($B$2=StoreConfig!C1018,RIGHT(StoreConfig!G1018,LEN(StoreConfig!G1018)-FIND(\"#\",StoreConfig!G1018)),\"\")","v":""},{"$f":"IF($B$2=StoreConfig!C1018,IF(StoreConfig!L1018=0,\"不限购\",StoreConfig!L1018&\"次\"),\"\")","v":""}]
[{"$nulls":3},{"$f":"IF($B$2=StoreConfig!C1019,StoreConfig!O1019,\"\")","v":""},{"$f":"IF($B$2=StoreConfig!C1019,StoreConfig!E1019,\"\")","v":""},{"$f":"IF($B$2=StoreConfig!C1019,RIGHT(StoreConfig!J1019,LEN(StoreConfig!J1019)-FIND(\"|\",StoreConfig!J1019)),\"\")","v":""},{"$f":"IFERROR(VLOOKUP(--IF($B$2=StoreConfig!C1019,LEFT(StoreConfig!J1019,FIND(\"|\",StoreConfig!J1019)-1),\"\"),$Q$4:$R$20,2,FALSE),\"\")","v":""},{"$f":"IF($B$2=StoreConfig!C1019,LEFT(StoreConfig!G1019,FIND(\"#\",StoreConfig!G1019)-1),\"\")","v":""},{"$f":"IF($B$2=StoreConfig!C1019,RIGHT(StoreConfig!G1019,LEN(StoreConfig!G1019)-FIND(\"#\",StoreConfig!G1019)),\"\")","v":""},{"$f":"IF($B$2=StoreConfig!C1019,IF(StoreConfig!L1019=0,\"不限购\",StoreConfig!L1019&\"次\"),\"\")","v":""}]
[{"$nulls":3},{"$f":"IF($B$2=StoreConfig!C1020,StoreConfig!O1020,\"\")","v":""},{"$f":"IF($B$2=StoreConfig!C1020,StoreConfig!E1020,\"\")","v":""},{"$f":"IF($B$2=StoreConfig!C1020,RIGHT(StoreConfig!J1020,LEN(StoreConfig!J1020)-FIND(\"|\",StoreConfig!J1020)),\"\")","v":""},{"$f":"IFERROR(VLOOKUP(--IF($B$2=StoreConfig!C1020,LEFT(StoreConfig!J1020,FIND(\"|\",StoreConfig!J1020)-1),\"\"),$Q$4:$R$20,2,FALSE),\"\")","v":""},{"$f":"IF($B$2=StoreConfig!C1020,LEFT(StoreConfig!G1020,FIND(\"#\",StoreConfig!G1020)-1),\"\")","v":""},{"$f":"IF($B$2=StoreConfig!C1020,RIGHT(StoreConfig!G1020,LEN(StoreConfig!G1020)-FIND(\"#\",StoreConfig!G1020)),\"\")","v":""},{"$f":"IF($B$2=StoreConfig!C1020,IF(StoreConfig!L1020=0,\"不限购\",StoreConfig!L1020&\"次\"),\"\")","v":""}]
[{"$nulls":3},{"$f":"IF($B$2=StoreConfig!C1021,StoreConfig!O1021,\"\")","v":""},{"$f":"IF($B$2=StoreConfig!C1021,StoreConfig!E1021,\"\")","v":""},{"$f":"IF($B$2=StoreConfig!C1021,RIGHT(StoreConfig!J1021,LEN(StoreConfig!J1021)-FIND(\"|\",StoreConfig!J1021)),\"\")","v":""},{"$f":"IFERROR(VLOOKUP(--IF($B$2=StoreConfig!C1021,LEFT(StoreConfig!J1021,FIND(\"|\",StoreConfig!J1021)-1),\"\"),$Q$4:$R$20,2,FALSE),\"\")","v":""},{"$f":"IF($B$2=StoreConfig!C1021,LEFT(StoreConfig!G1021,FIND(\"#\",StoreConfig!G1021)-1),\"\")","v":""},{"$f":"IF($B$2=StoreConfig!C1021,RIGHT(StoreConfig!G1021,LEN(StoreConfig!G1021)-FIND(\"#\",StoreConfig!G1021)),\"\")","v":""},{"$f":"IF($B$2=StoreConfig!C1021,IF(StoreConfig!L1021=0,\"不限购\",StoreConfig!L1021&\"次\"),\"\")","v":""}]
[{"$nulls":3},{"$f":"IF($B$2=StoreConfig!C1022,StoreConfig!O1022,\"\")","v":""},{"$f":"IF($B$2=StoreConfig!C1022,StoreConfig!E1022,\"\")","v":""},{"$f":"IF($B$2=StoreConfig!C1022,RIGHT(StoreConfig!J1022,LEN(StoreConfig!J1022)-FIND(\"|\",StoreConfig!J1022)),\"\")","v":""},{"$f":"IFERROR(VLOOKUP(--IF($B$2=StoreConfig!C1022,LEFT(StoreConfig!J1022,FIND(\"|\",StoreConfig!J1022)-1),\"\"),$Q$4:$R$20,2,FALSE),\"\")","v":""},{"$f":"IF($B$2=StoreConfig!C1022,LEFT(StoreConfig!G1022,FIND(\"#\",StoreConfig!G1022)-1),\"\")","v":""},{"$f":"IF($B$2=StoreConfig!C1022,RIGHT(StoreConfig!G1022,LEN(StoreConfig!G1022)-FIND(\"#\",StoreConfig!G1022)),\"\")","v":""},{"$f":"IF($B$2=StoreConfig!C1022,IF(StoreConfig!L1022=0,\"不限购\",StoreConfig!L1022&\"次\"),\"\")","v":""}]
[{"$nulls":3},{"$f":"IF($B$2=StoreConfig!C1023,StoreConfig!O1023,\"\")","v":""},{"$f":"IF($B$2=StoreConfig!C1023,StoreConfig!E1023,\"\")","v":""},{"$f":"IF($B$2=StoreConfig!C1023,RIGHT(StoreConfig!J1023,LEN(StoreConfig!J1023)-FIND(\"|\",StoreConfig!J1023)),\"\")","v":""},{"$f":"IFERROR(VLOOKUP(--IF($B$2=StoreConfig!C1023,LEFT(StoreConfig!J1023,FIND(\"|\",StoreConfig!J1023)-1),\"\"),$Q$4:$R$20,2,FALSE),\"\")","v":""},{"$f":"IF($B$2=StoreConfig!C1023,LEFT(StoreConfig!G1023,FIND(\"#\",StoreConfig!G1023)-1),\"\")","v":""},{"$f":"IF($B$2=StoreConfig!C1023,RIGHT(StoreConfig!G1023,LEN(StoreConfig!G1023)-FIND(\"#\",StoreConfig!G1023)),\"\")","v":""},{"$f":"IF($B$2=StoreConfig!C1023,IF(StoreConfig!L1023=0,\"不限购\",StoreConfig!L1023&\"次\"),\"\")","v":""}]
[{"$nulls":3},{"$f":"IF($B$2=StoreConfig!C1024,StoreConfig!O1024,\"\")","v":""},{"$f":"IF($B$2=StoreConfig!C1024,StoreConfig!E1024,\"\")","v":""},{"$f":"IF($B$2=StoreConfig!C1024,RIGHT(StoreConfig!J1024,LEN(StoreConfig!J1024)-FIND(\"|\",StoreConfig!J1024)),\"\")","v":""},{"$f":"IFERROR(VLOOKUP(--IF($B$2=StoreConfig!C1024,LEFT(StoreConfig!J1024,FIND(\"|\",StoreConfig!J1024)-1),\"\"),$Q$4:$R$20,2,FALSE),\"\")","v":""},{"$f":"IF($B$2=StoreConfig!C1024,LEFT(StoreConfig!G1024,FIND(\"#\",StoreConfig!G1024)-1),\"\")","v":""},{"$f":"IF($B$2=StoreConfig!C1024,RIGHT(StoreConfig!G1024,LEN(StoreConfig!G1024)-FIND(\"#\",StoreConfig!G1024)),\"\")","v":""},{"$f":"IF($B$2=StoreConfig!C1024,IF(StoreConfig!L1024=0,\"不限购\",StoreConfig!L1024&\"次\"),\"\")","v":""}]
[{"$nulls":3},{"$f":"IF($B$2=StoreConfig!C1025,StoreConfig!O1025,\"\")","v":""},{"$f":"IF($B$2=StoreConfig!C1025,StoreConfig!E1025,\"\")","v":""},{"$f":"IF($B$2=StoreConfig!C1025,RIGHT(StoreConfig!J1025,LEN(StoreConfig!J1025)-FIND(\"|\",StoreConfig!J1025)),\"\")","v":""},{"$f":"IFERROR(VLOOKUP(--IF($B$2=StoreConfig!C1025,LEFT(StoreConfig!J1025,FIND(\"|\",StoreConfig!J1025)-1),\"\"),$Q$4:$R$20,2,FALSE),\"\")","v":""},{"$f":"IF($B$2=StoreConfig!C1025,LEFT(StoreConfig!G1025,FIND(\"#\",StoreConfig!G1025)-1),\"\")","v":""},{"$f":"IF($B$2=StoreConfig!C1025,RIGHT(StoreConfig!G1025,LEN(StoreConfig!G1025)-FIND(\"#\",StoreConfig!G1025)),\"\")","v":""},{"$f":"IF($B$2=StoreConfig!C1025,IF(StoreConfig!L1025=0,\"不限购\",StoreConfig!L1025&\"次\"),\"\")","v":""}]
[{"$nulls":3},{"$f":"IF($B$2=StoreConfig!C1026,StoreConfig!O1026,\"\")","v":""},{"$f":"IF($B$2=StoreConfig!C1026,StoreConfig!E1026,\"\")","v":""},{"$f":"IF($B$2=StoreConfig!C1026,RIGHT(StoreConfig!J1026,LEN(StoreConfig!J1026)-FIND(\"|\",StoreConfig!J1026)),\"\")","v":""},{"$f":"IFERROR(VLOOKUP(--IF($B$2=StoreConfig!C1026,LEFT(StoreConfig!J1026,FIND(\"|\",StoreConfig!J1026)-1),\"\"),$Q$4:$R$20,2,FALSE),\"\")","v":""},{"$f":"IF($B$2=StoreConfig!C1026,LEFT(StoreConfig!G1026,FIND(\"#\",StoreConfig!G1026)-1),\"\")","v":""},{"$f":"IF($B$2=StoreConfig!C1026,RIGHT(StoreConfig!G1026,LEN(StoreConfig!G1026)-FIND(\"#\",StoreConfig!G1026)),\"\")","v":""},{"$f":"IF($B$2=StoreConfig!C1026,IF(StoreConfig!L1026=0,\"不限购\",StoreConfig!L1026&\"次\"),\"\")","v":""}]
[{"$nulls":3},{"$f":"IF($B$2=StoreConfig!C1027,StoreConfig!O1027,\"\")","v":""},{"$f":"IF($B$2=StoreConfig!C1027,StoreConfig!E1027,\"\")","v":""},{"$f":"IF($B$2=StoreConfig!C1027,RIGHT(StoreConfig!J1027,LEN(StoreConfig!J1027)-FIND(\"|\",StoreConfig!J1027)),\"\")","v":""},{"$f":"IFERROR(VLOOKUP(--IF($B$2=StoreConfig!C1027,LEFT(StoreConfig!J1027,FIND(\"|\",StoreConfig!J1027)-1),\"\"),$Q$4:$R$20,2,FALSE),\"\")","v":""},{"$f":"IF($B$2=StoreConfig!C1027,LEFT(StoreConfig!G1027,FIND(\"#\",StoreConfig!G1027)-1),\"\")","v":""},{"$f":"IF($B$2=StoreConfig!C1027,RIGHT(StoreConfig!G1027,LEN(StoreConfig!G1027)-FIND(\"#\",StoreConfig!G1027)),\"\")","v":""},{"$f":"IF($B$2=StoreConfig!C1027,IF(StoreConfig!L1027=0,\"不限购\",StoreConfig!L1027&\"次\"),\"\")","v":""}]
[{"$nulls":3},{"$f":"IF($B$2=StoreConfig!C1028,StoreConfig!O1028,\"\")","v":""},{"$f":"IF($B$2=StoreConfig!C1028,StoreConfig!E1028,\"\")","v":""},{"$f":"IF($B$2=StoreConfig!C1028,RIGHT(StoreConfig!J1028,LEN(StoreConfig!J1028)-FIND(\"|\",StoreConfig!J1028)),\"\")","v":""},{"$f":"IFERROR(VLOOKUP(--IF($B$2=StoreConfig!C1028,LEFT(StoreConfig!J1028,FIND(\"|\",StoreConfig!J1028)-1),\"\"),$Q$4:$R$20,2,FALSE),\"\")","v":""},{"$f":"IF($B$2=StoreConfig!C1028,LEFT(StoreConfig!G1028,FIND(\"#\",StoreConfig!G1028)-1),\"\")","v":""},{"$f":"IF($B$2=StoreConfig!C1028,RIGHT(StoreConfig!G1028,LEN(StoreConfig!G1028)-FIND(\"#\",StoreConfig!G1028)),\"\")","v":""},{"$f":"IF($B$2=StoreConfig!C1028,IF(StoreConfig!L1028=0,\"不限购\",StoreConfig!L1028&\"次\"),\"\")","v":""}]
[{"$nulls":3},{"$f":"IF($B$2=StoreConfig!C1029,StoreConfig!O1029,\"\")","v":""},{"$f":"IF($B$2=StoreConfig!C1029,StoreConfig!E1029,\"\")","v":""},{"$f":"IF($B$2=StoreConfig!C1029,RIGHT(StoreConfig!J1029,LEN(StoreConfig!J1029)-FIND(\"|\",StoreConfig!J1029)),\"\")","v":""},{"$f":"IFERROR(VLOOKUP(--IF($B$2=StoreConfig!C1029,LEFT(StoreConfig!J1029,FIND(\"|\",StoreConfig!J1029)-1),\"\"),$Q$4:$R$20,2,FALSE),\"\")","v":""},{"$f":"IF($B$2=StoreConfig!C1029,LEFT(StoreConfig!G1029,FIND(\"#\",StoreConfig!G1029)-1),\"\")","v":""},{"$f":"IF($B$2=StoreConfig!C1029,RIGHT(StoreConfig!G1029,LEN(StoreConfig!G1029)-FIND(\"#\",StoreConfig!G1029)),\"\")","v":""},{"$f":"IF($B$2=StoreConfig!C1029,IF(StoreConfig!L1029=0,\"不限购\",StoreConfig!L1029&\"次\"),\"\")","v":""}]
[{"$nulls":3},{"$f":"IF($B$2=StoreConfig!C1030,StoreConfig!O1030,\"\")","v":""},{"$f":"IF($B$2=StoreConfig!C1030,StoreConfig!E1030,\"\")","v":""},{"$f":"IF($B$2=StoreConfig!C1030,RIGHT(StoreConfig!J1030,LEN(StoreConfig!J1030)-FIND(\"|\",StoreConfig!J1030)),\"\")","v":""},{"$f":"IFERROR(VLOOKUP(--IF($B$2=StoreConfig!C1030,LEFT(StoreConfig!J1030,FIND(\"|\",StoreConfig!J1030)-1),\"\"),$Q$4:$R$20,2,FALSE),\"\")","v":""},{"$f":"IF($B$2=StoreConfig!C1030,LEFT(StoreConfig!G1030,FIND(\"#\",StoreConfig!G1030)-1),\"\")","v":""},{"$f":"IF($B$2=StoreConfig!C1030,RIGHT(StoreConfig!G1030,LEN(StoreConfig!G1030)-FIND(\"#\",StoreConfig!G1030)),\"\")","v":""},{"$f":"IF($B$2=StoreConfig!C1030,IF(StoreConfig!L1030=0,\"不限购\",StoreConfig!L1030&\"次\"),\"\")","v":""}]
[{"$nulls":3},{"$f":"IF($B$2=StoreConfig!C1031,StoreConfig!O1031,\"\")","v":""},{"$f":"IF($B$2=StoreConfig!C1031,StoreConfig!E1031,\"\")","v":""},{"$f":"IF($B$2=StoreConfig!C1031,RIGHT(StoreConfig!J1031,LEN(StoreConfig!J1031)-FIND(\"|\",StoreConfig!J1031)),\"\")","v":""},{"$f":"IFERROR(VLOOKUP(--IF($B$2=StoreConfig!C1031,LEFT(StoreConfig!J1031,FIND(\"|\",StoreConfig!J1031)-1),\"\"),$Q$4:$R$20,2,FALSE),\"\")","v":""},{"$f":"IF($B$2=StoreConfig!C1031,LEFT(StoreConfig!G1031,FIND(\"#\",StoreConfig!G1031)-1),\"\")","v":""},{"$f":"IF($B$2=StoreConfig!C1031,RIGHT(StoreConfig!G1031,LEN(StoreConfig!G1031)-FIND(\"#\",StoreConfig!G1031)),\"\")","v":""},{"$f":"IF($B$2=StoreConfig!C1031,IF(StoreConfig!L1031=0,\"不限购\",StoreConfig!L1031&\"次\"),\"\")","v":""}]
[{"$nulls":3},{"$f":"IF($B$2=StoreConfig!C1032,StoreConfig!O1032,\"\")","v":""},{"$f":"IF($B$2=StoreConfig!C1032,StoreConfig!E1032,\"\")","v":""},{"$f":"IF($B$2=StoreConfig!C1032,RIGHT(StoreConfig!J1032,LEN(StoreConfig!J1032)-FIND(\"|\",StoreConfig!J1032)),\"\")","v":""},{"$f":"IFERROR(VLOOKUP(--IF($B$2=StoreConfig!C1032,LEFT(StoreConfig!J1032,FIND(\"|\",StoreConfig!J1032)-1),\"\"),$Q$4:$R$20,2,FALSE),\"\")","v":""},{"$f":"IF($B$2=StoreConfig!C1032,LEFT(StoreConfig!G1032,FIND(\"#\",StoreConfig!G1032)-1),\"\")","v":""},{"$f":"IF($B$2=StoreConfig!C1032,RIGHT(StoreConfig!G1032,LEN(StoreConfig!G1032)-FIND(\"#\",StoreConfig!G1032)),\"\")","v":""},{"$f":"IF($B$2=StoreConfig!C1032,IF(StoreConfig!L1032=0,\"不限购\",StoreConfig!L1032&\"次\"),\"\")","v":""}]
[{"$nulls":3},{"$f":"IF($B$2=StoreConfig!C1033,StoreConfig!O1033,\"\")","v":""},{"$f":"IF($B$2=StoreConfig!C1033,StoreConfig!E1033,\"\")","v":""},{"$f":"IF($B$2=StoreConfig!C1033,RIGHT(StoreConfig!J1033,LEN(StoreConfig!J1033)-FIND(\"|\",StoreConfig!J1033)),\"\")","v":""},{"$f":"IFERROR(VLOOKUP(--IF($B$2=StoreConfig!C1033,LEFT(StoreConfig!J1033,FIND(\"|\",StoreConfig!J1033)-1),\"\"),$Q$4:$R$20,2,FALSE),\"\")","v":""},{"$f":"IF($B$2=StoreConfig!C1033,LEFT(StoreConfig!G1033,FIND(\"#\",StoreConfig!G1033)-1),\"\")","v":""},{"$f":"IF($B$2=StoreConfig!C1033,RIGHT(StoreConfig!G1033,LEN(StoreConfig!G1033)-FIND(\"#\",StoreConfig!G1033)),\"\")","v":""},{"$f":"IF($B$2=StoreConfig!C1033,IF(StoreConfig!L1033=0,\"不限购\",StoreConfig!L1033&\"次\"),\"\")","v":""}]
[{"$nulls":3},{"$f":"IF($B$2=StoreConfig!C1034,StoreConfig!O1034,\"\")","v":""},{"$f":"IF($B$2=StoreConfig!C1034,StoreConfig!E1034,\"\")","v":""},{"$f":"IF($B$2=StoreConfig!C1034,RIGHT(StoreConfig!J1034,LEN(StoreConfig!J1034)-FIND(\"|\",StoreConfig!J1034)),\"\")","v":""},{"$f":"IFERROR(VLOOKUP(--IF($B$2=StoreConfig!C1034,LEFT(StoreConfig!J1034,FIND(\"|\",StoreConfig!J1034)-1),\"\"),$Q$4:$R$20,2,FALSE),\"\")","v":""},{"$f":"IF($B$2=StoreConfig!C1034,LEFT(StoreConfig!G1034,FIND(\"#\",StoreConfig!G1034)-1),\"\")","v":""},{"$f":"IF($B$2=StoreConfig!C1034,RIGHT(StoreConfig!G1034,LEN(StoreConfig!G1034)-FIND(\"#\",StoreConfig!G1034)),\"\")","v":""},{"$f":"IF($B$2=StoreConfig!C1034,IF(StoreConfig!L1034=0,\"不限购\",StoreConfig!L1034&\"次\"),\"\")","v":""}]
[{"$nulls":3},{"$f":"IF($B$2=StoreConfig!C1035,StoreConfig!O1035,\"\")","v":""},{"$f":"IF($B$2=StoreConfig!C1035,StoreConfig!E1035,\"\")","v":""},{"$f":"IF($B$2=StoreConfig!C1035,RIGHT(StoreConfig!J1035,LEN(StoreConfig!J1035)-FIND(\"|\",StoreConfig!J1035)),\"\")","v":""},{"$f":"IFERROR(VLOOKUP(--IF($B$2=StoreConfig!C1035,LEFT(StoreConfig!J1035,FIND(\"|\",StoreConfig!J1035)-1),\"\"),$Q$4:$R$20,2,FALSE),\"\")","v":""},{"$f":"IF($B$2=StoreConfig!C1035,LEFT(StoreConfig!G1035,FIND(\"#\",StoreConfig!G1035)-1),\"\")","v":""},{"$f":"IF($B$2=StoreConfig!C1035,RIGHT(StoreConfig!G1035,LEN(StoreConfig!G1035)-FIND(\"#\",StoreConfig!G1035)),\"\")","v":""},{"$f":"IF($B$2=StoreConfig!C1035,IF(StoreConfig!L1035=0,\"不限购\",StoreConfig!L1035&\"次\"),\"\")","v":""}]
[{"$nulls":3},{"$f":"IF($B$2=StoreConfig!C1036,StoreConfig!O1036,\"\")","v":""},{"$f":"IF($B$2=StoreConfig!C1036,StoreConfig!E1036,\"\")","v":""},{"$f":"IF($B$2=StoreConfig!C1036,RIGHT(StoreConfig!J1036,LEN(StoreConfig!J1036)-FIND(\"|\",StoreConfig!J1036)),\"\")","v":""},{"$f":"IFERROR(VLOOKUP(--IF($B$2=StoreConfig!C1036,LEFT(StoreConfig!J1036,FIND(\"|\",StoreConfig!J1036)-1),\"\"),$Q$4:$R$20,2,FALSE),\"\")","v":""},{"$f":"IF($B$2=StoreConfig!C1036,LEFT(StoreConfig!G1036,FIND(\"#\",StoreConfig!G1036)-1),\"\")","v":""},{"$f":"IF($B$2=StoreConfig!C1036,RIGHT(StoreConfig!G1036,LEN(StoreConfig!G1036)-FIND(\"#\",StoreConfig!G1036)),\"\")","v":""},{"$f":"IF($B$2=StoreConfig!C1036,IF(StoreConfig!L1036=0,\"不限购\",StoreConfig!L1036&\"次\"),\"\")","v":""}]
[{"$nulls":3},{"$f":"IF($B$2=StoreConfig!C1037,StoreConfig!O1037,\"\")","v":""},{"$f":"IF($B$2=StoreConfig!C1037,StoreConfig!E1037,\"\")","v":""},{"$f":"IF($B$2=StoreConfig!C1037,RIGHT(StoreConfig!J1037,LEN(StoreConfig!J1037)-FIND(\"|\",StoreConfig!J1037)),\"\")","v":""},{"$f":"IFERROR(VLOOKUP(--IF($B$2=StoreConfig!C1037,LEFT(StoreConfig!J1037,FIND(\"|\",StoreConfig!J1037)-1),\"\"),$Q$4:$R$20,2,FALSE),\"\")","v":""},{"$f":"IF($B$2=StoreConfig!C1037,LEFT(StoreConfig!G1037,FIND(\"#\",StoreConfig!G1037)-1),\"\")","v":""},{"$f":"IF($B$2=StoreConfig!C1037,RIGHT(StoreConfig!G1037,LEN(StoreConfig!G1037)-FIND(\"#\",StoreConfig!G1037)),\"\")","v":""},{"$f":"IF($B$2=StoreConfig!C1037,IF(StoreConfig!L1037=0,\"不限购\",StoreConfig!L1037&\"次\"),\"\")","v":""}]
[{"$nulls":3},{"$f":"IF($B$2=StoreConfig!C1038,StoreConfig!O1038,\"\")","v":""},{"$f":"IF($B$2=StoreConfig!C1038,StoreConfig!E1038,\"\")","v":""},{"$f":"IF($B$2=StoreConfig!C1038,RIGHT(StoreConfig!J1038,LEN(StoreConfig!J1038)-FIND(\"|\",StoreConfig!J1038)),\"\")","v":""},{"$f":"IFERROR(VLOOKUP(--IF($B$2=StoreConfig!C1038,LEFT(StoreConfig!J1038,FIND(\"|\",StoreConfig!J1038)-1),\"\"),$Q$4:$R$20,2,FALSE),\"\")","v":""},{"$f":"IF($B$2=StoreConfig!C1038,LEFT(StoreConfig!G1038,FIND(\"#\",StoreConfig!G1038)-1),\"\")","v":""},{"$f":"IF($B$2=StoreConfig!C1038,RIGHT(StoreConfig!G1038,LEN(StoreConfig!G1038)-FIND(\"#\",StoreConfig!G1038)),\"\")","v":""},{"$f":"IF($B$2=StoreConfig!C1038,IF(StoreConfig!L1038=0,\"不限购\",StoreConfig!L1038&\"次\"),\"\")","v":""}]
[{"$nulls":3},{"$f":"IF($B$2=StoreConfig!C1039,StoreConfig!O1039,\"\")","v":""},{"$f":"IF($B$2=StoreConfig!C1039,StoreConfig!E1039,\"\")","v":""},{"$f":"IF($B$2=StoreConfig!C1039,RIGHT(StoreConfig!J1039,LEN(StoreConfig!J1039)-FIND(\"|\",StoreConfig!J1039)),\"\")","v":""},{"$f":"IFERROR(VLOOKUP(--IF($B$2=StoreConfig!C1039,LEFT(StoreConfig!J1039,FIND(\"|\",StoreConfig!J1039)-1),\"\"),$Q$4:$R$20,2,FALSE),\"\")","v":""},{"$f":"IF($B$2=StoreConfig!C1039,LEFT(StoreConfig!G1039,FIND(\"#\",StoreConfig!G1039)-1),\"\")","v":""},{"$f":"IF($B$2=StoreConfig!C1039,RIGHT(StoreConfig!G1039,LEN(StoreConfig!G1039)-FIND(\"#\",StoreConfig!G1039)),\"\")","v":""},{"$f":"IF($B$2=StoreConfig!C1039,IF(StoreConfig!L1039=0,\"不限购\",StoreConfig!L1039&\"次\"),\"\")","v":""}]
[{"$nulls":3},{"$f":"IF($B$2=StoreConfig!C1040,StoreConfig!O1040,\"\")","v":""},{"$f":"IF($B$2=StoreConfig!C1040,StoreConfig!E1040,\"\")","v":""},{"$f":"IF($B$2=StoreConfig!C1040,RIGHT(StoreConfig!#REF!,LEN(StoreConfig!#REF!)-FIND(\"|\",StoreConfig!#REF!)),\"\")","v":""},{"$f":"IFERROR(VLOOKUP(--IF($B$2=StoreConfig!C1040,LEFT(StoreConfig!#REF!,FIND(\"|\",StoreConfig!#REF!)-1),\"\"),$Q$4:$R$20,2,FALSE),\"\")","v":""},{"$f":"IF($B$2=StoreConfig!C1040,LEFT(StoreConfig!G1040,FIND(\"#\",StoreConfig!G1040)-1),\"\")","v":""},{"$f":"IF($B$2=StoreConfig!C1040,RIGHT(StoreConfig!G1040,LEN(StoreConfig!G1040)-FIND(\"#\",StoreConfig!G1040)),\"\")","v":""},{"$f":"IF($B$2=StoreConfig!C1040,IF(StoreConfig!L1040=0,\"不限购\",StoreConfig!L1040&\"次\"),\"\")","v":""}]
[{"$nulls":3},{"$f":"IF($B$2=StoreConfig!C1041,StoreConfig!O1041,\"\")","v":""},{"$f":"IF($B$2=StoreConfig!C1041,StoreConfig!E1041,\"\")","v":""},{"$f":"IF($B$2=StoreConfig!C1041,RIGHT(StoreConfig!#REF!,LEN(StoreConfig!#REF!)-FIND(\"|\",StoreConfig!#REF!)),\"\")","v":""},{"$f":"IFERROR(VLOOKUP(--IF($B$2=StoreConfig!C1041,LEFT(StoreConfig!#REF!,FIND(\"|\",StoreConfig!#REF!)-1),\"\"),$Q$4:$R$20,2,FALSE),\"\")","v":""},{"$f":"IF($B$2=StoreConfig!C1041,LEFT(StoreConfig!G1041,FIND(\"#\",StoreConfig!G1041)-1),\"\")","v":""},{"$f":"IF($B$2=StoreConfig!C1041,RIGHT(StoreConfig!G1041,LEN(StoreConfig!G1041)-FIND(\"#\",StoreConfig!G1041)),\"\")","v":""},{"$f":"IF($B$2=StoreConfig!C1041,IF(StoreConfig!L1041=0,\"不限购\",StoreConfig!L1041&\"次\"),\"\")","v":""}]
[{"$nulls":3},{"$f":"IF($B$2=StoreConfig!C1042,StoreConfig!O1042,\"\")","v":""},{"$f":"IF($B$2=StoreConfig!C1042,StoreConfig!E1042,\"\")","v":""},{"$f":"IF($B$2=StoreConfig!C1042,RIGHT(StoreConfig!#REF!,LEN(StoreConfig!#REF!)-FIND(\"|\",StoreConfig!#REF!)),\"\")","v":""},{"$f":"IFERROR(VLOOKUP(--IF($B$2=StoreConfig!C1042,LEFT(StoreConfig!#REF!,FIND(\"|\",StoreConfig!#REF!)-1),\"\"),$Q$4:$R$20,2,FALSE),\"\")","v":""},{"$f":"IF($B$2=StoreConfig!C1042,LEFT(StoreConfig!G1042,FIND(\"#\",StoreConfig!G1042)-1),\"\")","v":""},{"$f":"IF($B$2=StoreConfig!C1042,RIGHT(StoreConfig!G1042,LEN(StoreConfig!G1042)-FIND(\"#\",StoreConfig!G1042)),\"\")","v":""},{"$f":"IF($B$2=StoreConfig!C1042,IF(StoreConfig!L1042=0,\"不限购\",StoreConfig!L1042&\"次\"),\"\")","v":""}]
[{"$nulls":3},{"$f":"IF($B$2=StoreConfig!C1043,StoreConfig!O1043,\"\")","v":""},{"$f":"IF($B$2=StoreConfig!C1043,StoreConfig!E1043,\"\")","v":""},{"$f":"IF($B$2=StoreConfig!C1043,RIGHT(StoreConfig!#REF!,LEN(StoreConfig!#REF!)-FIND(\"|\",StoreConfig!#REF!)),\"\")","v":""},{"$f":"IFERROR(VLOOKUP(--IF($B$2=StoreConfig!C1043,LEFT(StoreConfig!#REF!,FIND(\"|\",StoreConfig!#REF!)-1),\"\"),$Q$4:$R$20,2,FALSE),\"\")","v":""},{"$f":"IF($B$2=StoreConfig!C1043,LEFT(StoreConfig!G1043,FIND(\"#\",StoreConfig!G1043)-1),\"\")","v":""},{"$f":"IF($B$2=StoreConfig!C1043,RIGHT(StoreConfig!G1043,LEN(StoreConfig!G1043)-FIND(\"#\",StoreConfig!G1043)),\"\")","v":""},{"$f":"IF($B$2=StoreConfig!C1043,IF(StoreConfig!L1043=0,\"不限购\",StoreConfig!L1043&\"次\"),\"\")","v":""}]
[{"$nulls":3},{"$f":"IF($B$2=StoreConfig!C1044,StoreConfig!O1044,\"\")","v":""},{"$f":"IF($B$2=StoreConfig!C1044,StoreConfig!E1044,\"\")","v":""},{"$f":"IF($B$2=StoreConfig!C1044,RIGHT(StoreConfig!#REF!,LEN(StoreConfig!#REF!)-FIND(\"|\",StoreConfig!#REF!)),\"\")","v":""},{"$f":"IFERROR(VLOOKUP(--IF($B$2=StoreConfig!C1044,LEFT(StoreConfig!#REF!,FIND(\"|\",StoreConfig!#REF!)-1),\"\"),$Q$4:$R$20,2,FALSE),\"\")","v":""},{"$f":"IF($B$2=StoreConfig!C1044,LEFT(StoreConfig!G1044,FIND(\"#\",StoreConfig!G1044)-1),\"\")","v":""},{"$f":"IF($B$2=StoreConfig!C1044,RIGHT(StoreConfig!G1044,LEN(StoreConfig!G1044)-FIND(\"#\",StoreConfig!G1044)),\"\")","v":""},{"$f":"IF($B$2=StoreConfig!C1044,IF(StoreConfig!L1044=0,\"不限购\",StoreConfig!L1044&\"次\"),\"\")","v":""}]
[{"$nulls":3},{"$f":"IF($B$2=StoreConfig!C1045,StoreConfig!O1045,\"\")","v":""},{"$f":"IF($B$2=StoreConfig!C1045,StoreConfig!E1045,\"\")","v":""},{"$f":"IF($B$2=StoreConfig!C1045,RIGHT(StoreConfig!#REF!,LEN(StoreConfig!#REF!)-FIND(\"|\",StoreConfig!#REF!)),\"\")","v":""},{"$f":"IFERROR(VLOOKUP(--IF($B$2=StoreConfig!C1045,LEFT(StoreConfig!#REF!,FIND(\"|\",StoreConfig!#REF!)-1),\"\"),$Q$4:$R$20,2,FALSE),\"\")","v":""},{"$f":"IF($B$2=StoreConfig!C1045,LEFT(StoreConfig!G1045,FIND(\"#\",StoreConfig!G1045)-1),\"\")","v":""},{"$f":"IF($B$2=StoreConfig!C1045,RIGHT(StoreConfig!G1045,LEN(StoreConfig!G1045)-FIND(\"#\",StoreConfig!G1045)),\"\")","v":""},{"$f":"IF($B$2=StoreConfig!C1045,IF(StoreConfig!L1045=0,\"不限购\",StoreConfig!L1045&\"次\"),\"\")","v":""}]
[{"$nulls":3},{"$f":"IF($B$2=StoreConfig!C1046,StoreConfig!O1046,\"\")","v":""},{"$f":"IF($B$2=StoreConfig!C1046,StoreConfig!E1046,\"\")","v":""},{"$f":"IF($B$2=StoreConfig!C1046,RIGHT(StoreConfig!#REF!,LEN(StoreConfig!#REF!)-FIND(\"|\",StoreConfig!#REF!)),\"\")","v":""},{"$f":"IFERROR(VLOOKUP(--IF($B$2=StoreConfig!C1046,LEFT(StoreConfig!#REF!,FIND(\"|\",StoreConfig!#REF!)-1),\"\"),$Q$4:$R$20,2,FALSE),\"\")","v":""},{"$f":"IF($B$2=StoreConfig!C1046,LEFT(StoreConfig!G1046,FIND(\"#\",StoreConfig!G1046)-1),\"\")","v":""},{"$f":"IF($B$2=StoreConfig!C1046,RIGHT(StoreConfig!G1046,LEN(StoreConfig!G1046)-FIND(\"#\",StoreConfig!G1046)),\"\")","v":""},{"$f":"IF($B$2=StoreConfig!C1046,IF(StoreConfig!L1046=0,\"不限购\",StoreConfig!L1046&\"次\"),\"\")","v":""}]
[{"$nulls":3},{"$f":"IF($B$2=StoreConfig!C1047,StoreConfig!O1047,\"\")","v":""},{"$f":"IF($B$2=StoreConfig!C1047,StoreConfig!E1047,\"\")","v":""},{"$f":"IF($B$2=StoreConfig!C1047,RIGHT(StoreConfig!#REF!,LEN(StoreConfig!#REF!)-FIND(\"|\",StoreConfig!#REF!)),\"\")","v":""},{"$f":"IFERROR(VLOOKUP(--IF($B$2=StoreConfig!C1047,LEFT(StoreConfig!#REF!,FIND(\"|\",StoreConfig!#REF!)-1),\"\"),$Q$4:$R$20,2,FALSE),\"\")","v":""},{"$f":"IF($B$2=StoreConfig!C1047,LEFT(StoreConfig!G1047,FIND(\"#\",StoreConfig!G1047)-1),\"\")","v":""},{"$f":"IF($B$2=StoreConfig!C1047,RIGHT(StoreConfig!G1047,LEN(StoreConfig!G1047)-FIND(\"#\",StoreConfig!G1047)),\"\")","v":""},{"$f":"IF($B$2=StoreConfig!C1047,IF(StoreConfig!L1047=0,\"不限购\",StoreConfig!L1047&\"次\"),\"\")","v":""}]
[{"$nulls":3},{"$f":"IF($B$2=StoreConfig!C1048,StoreConfig!O1048,\"\")","v":""},{"$f":"IF($B$2=StoreConfig!C1048,StoreConfig!E1048,\"\")","v":""},{"$f":"IF($B$2=StoreConfig!C1048,RIGHT(StoreConfig!#REF!,LEN(StoreConfig!#REF!)-FIND(\"|\",StoreConfig!#REF!)),\"\")","v":""},{"$f":"IFERROR(VLOOKUP(--IF($B$2=StoreConfig!C1048,LEFT(StoreConfig!#REF!,FIND(\"|\",StoreConfig!#REF!)-1),\"\"),$Q$4:$R$20,2,FALSE),\"\")","v":""},{"$f":"IF($B$2=StoreConfig!C1048,LEFT(StoreConfig!G1048,FIND(\"#\",StoreConfig!G1048)-1),\"\")","v":""},{"$f":"IF($B$2=StoreConfig!C1048,RIGHT(StoreConfig!G1048,LEN(StoreConfig!G1048)-FIND(\"#\",StoreConfig!G1048)),\"\")","v":""},{"$f":"IF($B$2=StoreConfig!C1048,IF(StoreConfig!L1048=0,\"不限购\",StoreConfig!L1048&\"次\"),\"\")","v":""}]
[{"$nulls":3},{"$f":"IF($B$2=StoreConfig!C1049,StoreConfig!O1049,\"\")","v":""},{"$f":"IF($B$2=StoreConfig!C1049,StoreConfig!E1049,\"\")","v":""},{"$f":"IF($B$2=StoreConfig!C1049,RIGHT(StoreConfig!#REF!,LEN(StoreConfig!#REF!)-FIND(\"|\",StoreConfig!#REF!)),\"\")","v":""},{"$f":"IFERROR(VLOOKUP(--IF($B$2=StoreConfig!C1049,LEFT(StoreConfig!#REF!,FIND(\"|\",StoreConfig!#REF!)-1),\"\"),$Q$4:$R$20,2,FALSE),\"\")","v":""},{"$f":"IF($B$2=StoreConfig!C1049,LEFT(StoreConfig!G1049,FIND(\"#\",StoreConfig!G1049)-1),\"\")","v":""},{"$f":"IF($B$2=StoreConfig!C1049,RIGHT(StoreConfig!G1049,LEN(StoreConfig!G1049)-FIND(\"#\",StoreConfig!G1049)),\"\")","v":""},{"$f":"IF($B$2=StoreConfig!C1049,IF(StoreConfig!L1049=0,\"不限购\",StoreConfig!L1049&\"次\"),\"\")","v":""}]
[{"$nulls":3},{"$f":"IF($B$2=StoreConfig!C1050,StoreConfig!O1050,\"\")","v":""},{"$f":"IF($B$2=StoreConfig!C1050,StoreConfig!E1050,\"\")","v":""},{"$f":"IF($B$2=StoreConfig!C1050,RIGHT(StoreConfig!#REF!,LEN(StoreConfig!#REF!)-FIND(\"|\",StoreConfig!#REF!)),\"\")","v":""},{"$f":"IFERROR(VLOOKUP(--IF($B$2=StoreConfig!C1050,LEFT(StoreConfig!#REF!,FIND(\"|\",StoreConfig!#REF!)-1),\"\"),$Q$4:$R$20,2,FALSE),\"\")","v":""},{"$f":"IF($B$2=StoreConfig!C1050,LEFT(StoreConfig!G1050,FIND(\"#\",StoreConfig!G1050)-1),\"\")","v":""},{"$f":"IF($B$2=StoreConfig!C1050,RIGHT(StoreConfig!G1050,LEN(StoreConfig!G1050)-FIND(\"#\",StoreConfig!G1050)),\"\")","v":""},{"$f":"IF($B$2=StoreConfig!C1050,IF(StoreConfig!L1050=0,\"不限购\",StoreConfig!L1050&\"次\"),\"\")","v":""}]
[{"$nulls":3},{"$f":"IF($B$2=StoreConfig!C1051,StoreConfig!O1051,\"\")","v":""},{"$f":"IF($B$2=StoreConfig!C1051,StoreConfig!E1051,\"\")","v":""},{"$f":"IF($B$2=StoreConfig!C1051,RIGHT(StoreConfig!#REF!,LEN(StoreConfig!#REF!)-FIND(\"|\",StoreConfig!#REF!)),\"\")","v":""},{"$f":"IFERROR(VLOOKUP(--IF($B$2=StoreConfig!C1051,LEFT(StoreConfig!#REF!,FIND(\"|\",StoreConfig!#REF!)-1),\"\"),$Q$4:$R$20,2,FALSE),\"\")","v":""},{"$f":"IF($B$2=StoreConfig!C1051,LEFT(StoreConfig!G1051,FIND(\"#\",StoreConfig!G1051)-1),\"\")","v":""},{"$f":"IF($B$2=StoreConfig!C1051,RIGHT(StoreConfig!G1051,LEN(StoreConfig!G1051)-FIND(\"#\",StoreConfig!G1051)),\"\")","v":""},{"$f":"IF($B$2=StoreConfig!C1051,IF(StoreConfig!L1051=0,\"不限购\",StoreConfig!L1051&\"次\"),\"\")","v":""}]
[{"$nulls":3},{"$f":"IF($B$2=StoreConfig!C1052,StoreConfig!O1052,\"\")","v":""},{"$f":"IF($B$2=StoreConfig!C1052,StoreConfig!E1052,\"\")","v":""},{"$f":"IF($B$2=StoreConfig!C1052,RIGHT(StoreConfig!#REF!,LEN(StoreConfig!#REF!)-FIND(\"|\",StoreConfig!#REF!)),\"\")","v":""},{"$f":"IFERROR(VLOOKUP(--IF($B$2=StoreConfig!C1052,LEFT(StoreConfig!#REF!,FIND(\"|\",StoreConfig!#REF!)-1),\"\"),$Q$4:$R$20,2,FALSE),\"\")","v":""},{"$f":"IF($B$2=StoreConfig!C1052,LEFT(StoreConfig!G1052,FIND(\"#\",StoreConfig!G1052)-1),\"\")","v":""},{"$f":"IF($B$2=StoreConfig!C1052,RIGHT(StoreConfig!G1052,LEN(StoreConfig!G1052)-FIND(\"#\",StoreConfig!G1052)),\"\")","v":""},{"$f":"IF($B$2=StoreConfig!C1052,IF(StoreConfig!L1052=0,\"不限购\",StoreConfig!L1052&\"次\"),\"\")","v":""}]
[{"$nulls":3},{"$f":"IF($B$2=StoreConfig!C1053,StoreConfig!O1053,\"\")","v":""},{"$f":"IF($B$2=StoreConfig!C1053,StoreConfig!E1053,\"\")","v":""},{"$f":"IF($B$2=StoreConfig!C1053,RIGHT(StoreConfig!#REF!,LEN(StoreConfig!#REF!)-FIND(\"|\",StoreConfig!#REF!)),\"\")","v":""},{"$f":"IFERROR(VLOOKUP(--IF($B$2=StoreConfig!C1053,LEFT(StoreConfig!#REF!,FIND(\"|\",StoreConfig!#REF!)-1),\"\"),$Q$4:$R$20,2,FALSE),\"\")","v":""},{"$f":"IF($B$2=StoreConfig!C1053,LEFT(StoreConfig!G1053,FIND(\"#\",StoreConfig!G1053)-1),\"\")","v":""},{"$f":"IF($B$2=StoreConfig!C1053,RIGHT(StoreConfig!G1053,LEN(StoreConfig!G1053)-FIND(\"#\",StoreConfig!G1053)),\"\")","v":""},{"$f":"IF($B$2=StoreConfig!C1053,IF(StoreConfig!L1053=0,\"不限购\",StoreConfig!L1053&\"次\"),\"\")","v":""}]
[{"$nulls":3},{"$f":"IF($B$2=StoreConfig!C1054,StoreConfig!O1054,\"\")","v":""},{"$f":"IF($B$2=StoreConfig!C1054,StoreConfig!E1054,\"\")","v":""},{"$f":"IF($B$2=StoreConfig!C1054,RIGHT(StoreConfig!#REF!,LEN(StoreConfig!#REF!)-FIND(\"|\",StoreConfig!#REF!)),\"\")","v":""},{"$f":"IFERROR(VLOOKUP(--IF($B$2=StoreConfig!C1054,LEFT(StoreConfig!#REF!,FIND(\"|\",StoreConfig!#REF!)-1),\"\"),$Q$4:$R$20,2,FALSE),\"\")","v":""},{"$f":"IF($B$2=StoreConfig!C1054,LEFT(StoreConfig!G1054,FIND(\"#\",StoreConfig!G1054)-1),\"\")","v":""},{"$f":"IF($B$2=StoreConfig!C1054,RIGHT(StoreConfig!G1054,LEN(StoreConfig!G1054)-FIND(\"#\",StoreConfig!G1054)),\"\")","v":""},{"$f":"IF($B$2=StoreConfig!C1054,IF(StoreConfig!L1054=0,\"不限购\",StoreConfig!L1054&\"次\"),\"\")","v":""}]
[{"$nulls":3},{"$f":"IF($B$2=StoreConfig!C1055,StoreConfig!O1055,\"\")","v":""},{"$f":"IF($B$2=StoreConfig!C1055,StoreConfig!E1055,\"\")","v":""},{"$f":"IF($B$2=StoreConfig!C1055,RIGHT(StoreConfig!#REF!,LEN(StoreConfig!#REF!)-FIND(\"|\",StoreConfig!#REF!)),\"\")","v":""},{"$f":"IFERROR(VLOOKUP(--IF($B$2=StoreConfig!C1055,LEFT(StoreConfig!#REF!,FIND(\"|\",StoreConfig!#REF!)-1),\"\"),$Q$4:$R$20,2,FALSE),\"\")","v":""},{"$f":"IF($B$2=StoreConfig!C1055,LEFT(StoreConfig!G1055,FIND(\"#\",StoreConfig!G1055)-1),\"\")","v":""},{"$f":"IF($B$2=StoreConfig!C1055,RIGHT(StoreConfig!G1055,LEN(StoreConfig!G1055)-FIND(\"#\",StoreConfig!G1055)),\"\")","v":""},{"$f":"IF($B$2=StoreConfig!C1055,IF(StoreConfig!L1055=0,\"不限购\",StoreConfig!L1055&\"次\"),\"\")","v":""}]
[{"$nulls":3},{"$f":"IF($B$2=StoreConfig!C1056,StoreConfig!O1056,\"\")","v":""},{"$f":"IF($B$2=StoreConfig!C1056,StoreConfig!E1056,\"\")","v":""},{"$f":"IF($B$2=StoreConfig!C1056,RIGHT(StoreConfig!#REF!,LEN(StoreConfig!#REF!)-FIND(\"|\",StoreConfig!#REF!)),\"\")","v":""},{"$f":"IFERROR(VLOOKUP(--IF($B$2=StoreConfig!C1056,LEFT(StoreConfig!#REF!,FIND(\"|\",StoreConfig!#REF!)-1),\"\"),$Q$4:$R$20,2,FALSE),\"\")","v":""},{"$f":"IF($B$2=StoreConfig!C1056,LEFT(StoreConfig!G1056,FIND(\"#\",StoreConfig!G1056)-1),\"\")","v":""},{"$f":"IF($B$2=StoreConfig!C1056,RIGHT(StoreConfig!G1056,LEN(StoreConfig!G1056)-FIND(\"#\",StoreConfig!G1056)),\"\")","v":""},{"$f":"IF($B$2=StoreConfig!C1056,IF(StoreConfig!L1056=0,\"不限购\",StoreConfig!L1056&\"次\"),\"\")","v":""}]
[{"$nulls":3},{"$f":"IF($B$2=StoreConfig!C1057,StoreConfig!O1057,\"\")","v":""},{"$f":"IF($B$2=StoreConfig!C1057,StoreConfig!E1057,\"\")","v":""},{"$f":"IF($B$2=StoreConfig!C1057,RIGHT(StoreConfig!#REF!,LEN(StoreConfig!#REF!)-FIND(\"|\",StoreConfig!#REF!)),\"\")","v":""},{"$f":"IFERROR(VLOOKUP(--IF($B$2=StoreConfig!C1057,LEFT(StoreConfig!#REF!,FIND(\"|\",StoreConfig!#REF!)-1),\"\"),$Q$4:$R$20,2,FALSE),\"\")","v":""},{"$f":"IF($B$2=StoreConfig!C1057,LEFT(StoreConfig!G1057,FIND(\"#\",StoreConfig!G1057)-1),\"\")","v":""},{"$f":"IF($B$2=StoreConfig!C1057,RIGHT(StoreConfig!G1057,LEN(StoreConfig!G1057)-FIND(\"#\",StoreConfig!G1057)),\"\")","v":""},{"$f":"IF($B$2=StoreConfig!C1057,IF(StoreConfig!L1057=0,\"不限购\",StoreConfig!L1057&\"次\"),\"\")","v":""}]
[{"$nulls":3},{"$f":"IF($B$2=StoreConfig!C1058,StoreConfig!O1058,\"\")","v":""},{"$f":"IF($B$2=StoreConfig!C1058,StoreConfig!E1058,\"\")","v":""},{"$f":"IF($B$2=StoreConfig!C1058,RIGHT(StoreConfig!#REF!,LEN(StoreConfig!#REF!)-FIND(\"|\",StoreConfig!#REF!)),\"\")","v":""},{"$f":"IFERROR(VLOOKUP(--IF($B$2=StoreConfig!C1058,LEFT(StoreConfig!#REF!,FIND(\"|\",StoreConfig!#REF!)-1),\"\"),$Q$4:$R$20,2,FALSE),\"\")","v":""},{"$f":"IF($B$2=StoreConfig!C1058,LEFT(StoreConfig!G1058,FIND(\"#\",StoreConfig!G1058)-1),\"\")","v":""},{"$f":"IF($B$2=StoreConfig!C1058,RIGHT(StoreConfig!G1058,LEN(StoreConfig!G1058)-FIND(\"#\",StoreConfig!G1058)),\"\")","v":""},{"$f":"IF($B$2=StoreConfig!C1058,IF(StoreConfig!L1058=0,\"不限购\",StoreConfig!L1058&\"次\"),\"\")","v":""}]
[{"$nulls":3},{"$f":"IF($B$2=StoreConfig!C1059,StoreConfig!O1059,\"\")","v":""},{"$f":"IF($B$2=StoreConfig!C1059,StoreConfig!E1059,\"\")","v":""},{"$f":"IF($B$2=StoreConfig!C1059,RIGHT(StoreConfig!#REF!,LEN(StoreConfig!#REF!)-FIND(\"|\",StoreConfig!#REF!)),\"\")","v":""},{"$f":"IFERROR(VLOOKUP(--IF($B$2=StoreConfig!C1059,LEFT(StoreConfig!#REF!,FIND(\"|\",StoreConfig!#REF!)-1),\"\"),$Q$4:$R$20,2,FALSE),\"\")","v":""},{"$f":"IF($B$2=StoreConfig!C1059,LEFT(StoreConfig!G1059,FIND(\"#\",StoreConfig!G1059)-1),\"\")","v":""},{"$f":"IF($B$2=StoreConfig!C1059,RIGHT(StoreConfig!G1059,LEN(StoreConfig!G1059)-FIND(\"#\",StoreConfig!G1059)),\"\")","v":""},{"$f":"IF($B$2=StoreConfig!C1059,IF(StoreConfig!L1059=0,\"不限购\",StoreConfig!L1059&\"次\"),\"\")","v":""}]
[{"$nulls":3},{"$f":"IF($B$2=StoreConfig!C1060,StoreConfig!O1060,\"\")","v":""},{"$f":"IF($B$2=StoreConfig!C1060,StoreConfig!E1060,\"\")","v":""},{"$f":"IF($B$2=StoreConfig!C1060,RIGHT(StoreConfig!J1060,LEN(StoreConfig!J1060)-FIND(\"|\",StoreConfig!J1060)),\"\")","v":""},{"$f":"IFERROR(VLOOKUP(--IF($B$2=StoreConfig!C1060,LEFT(StoreConfig!J1060,FIND(\"|\",StoreConfig!J1060)-1),\"\"),$Q$4:$R$20,2,FALSE),\"\")","v":""},{"$f":"IF($B$2=StoreConfig!C1060,LEFT(StoreConfig!G1060,FIND(\"#\",StoreConfig!G1060)-1),\"\")","v":""},{"$f":"IF($B$2=StoreConfig!C1060,RIGHT(StoreConfig!G1060,LEN(StoreConfig!G1060)-FIND(\"#\",StoreConfig!G1060)),\"\")","v":""},{"$f":"IF($B$2=StoreConfig!C1060,IF(StoreConfig!L1060=0,\"不限购\",StoreConfig!L1060&\"次\"),\"\")","v":""}]
[{"$nulls":3},{"$f":"IF($B$2=StoreConfig!C1061,StoreConfig!O1061,\"\")","v":""},{"$f":"IF($B$2=StoreConfig!C1061,StoreConfig!E1061,\"\")","v":""},{"$f":"IF($B$2=StoreConfig!C1061,RIGHT(StoreConfig!J1061,LEN(StoreConfig!J1061)-FIND(\"|\",StoreConfig!J1061)),\"\")","v":""},{"$f":"IFERROR(VLOOKUP(--IF($B$2=StoreConfig!C1061,LEFT(StoreConfig!J1061,FIND(\"|\",StoreConfig!J1061)-1),\"\"),$Q$4:$R$20,2,FALSE),\"\")","v":""},{"$f":"IF($B$2=StoreConfig!C1061,LEFT(StoreConfig!G1061,FIND(\"#\",StoreConfig!G1061)-1),\"\")","v":""},{"$f":"IF($B$2=StoreConfig!C1061,RIGHT(StoreConfig!G1061,LEN(StoreConfig!G1061)-FIND(\"#\",StoreConfig!G1061)),\"\")","v":""},{"$f":"IF($B$2=StoreConfig!C1061,IF(StoreConfig!L1061=0,\"不限购\",StoreConfig!L1061&\"次\"),\"\")","v":""}]
[{"$nulls":3},{"$f":"IF($B$2=StoreConfig!C1062,StoreConfig!O1062,\"\")","v":""},{"$f":"IF($B$2=StoreConfig!C1062,StoreConfig!E1062,\"\")","v":""},{"$f":"IF($B$2=StoreConfig!C1062,RIGHT(StoreConfig!J1062,LEN(StoreConfig!J1062)-FIND(\"|\",StoreConfig!J1062)),\"\")","v":""},{"$f":"IFERROR(VLOOKUP(--IF($B$2=StoreConfig!C1062,LEFT(StoreConfig!J1062,FIND(\"|\",StoreConfig!J1062)-1),\"\"),$Q$4:$R$20,2,FALSE),\"\")","v":""},{"$f":"IF($B$2=StoreConfig!C1062,LEFT(StoreConfig!G1062,FIND(\"#\",StoreConfig!G1062)-1),\"\")","v":""},{"$f":"IF($B$2=StoreConfig!C1062,RIGHT(StoreConfig!G1062,LEN(StoreConfig!G1062)-FIND(\"#\",StoreConfig!G1062)),\"\")","v":""},{"$f":"IF($B$2=StoreConfig!C1062,IF(StoreConfig!L1062=0,\"不限购\",StoreConfig!L1062&\"次\"),\"\")","v":""}]
[{"$nulls":3},{"$f":"IF($B$2=StoreConfig!C1063,StoreConfig!O1063,\"\")","v":""},{"$f":"IF($B$2=StoreConfig!C1063,StoreConfig!E1063,\"\")","v":""},{"$f":"IF($B$2=StoreConfig!C1063,RIGHT(StoreConfig!J1063,LEN(StoreConfig!J1063)-FIND(\"|\",StoreConfig!J1063)),\"\")","v":""},{"$f":"IFERROR(VLOOKUP(--IF($B$2=StoreConfig!C1063,LEFT(StoreConfig!J1063,FIND(\"|\",StoreConfig!J1063)-1),\"\"),$Q$4:$R$20,2,FALSE),\"\")","v":""},{"$f":"IF($B$2=StoreConfig!C1063,LEFT(StoreConfig!G1063,FIND(\"#\",StoreConfig!G1063)-1),\"\")","v":""},{"$f":"IF($B$2=StoreConfig!C1063,RIGHT(StoreConfig!G1063,LEN(StoreConfig!G1063)-FIND(\"#\",StoreConfig!G1063)),\"\")","v":""},{"$f":"IF($B$2=StoreConfig!C1063,IF(StoreConfig!L1063=0,\"不限购\",StoreConfig!L1063&\"次\"),\"\")","v":""}]
[{"$nulls":3},{"$f":"IF($B$2=StoreConfig!C1064,StoreConfig!O1064,\"\")","v":""},{"$f":"IF($B$2=StoreConfig!C1064,StoreConfig!E1064,\"\")","v":""},{"$f":"IF($B$2=StoreConfig!C1064,RIGHT(StoreConfig!#REF!,LEN(StoreConfig!#REF!)-FIND(\"|\",StoreConfig!#REF!)),\"\")","v":""},{"$f":"IFERROR(VLOOKUP(--IF($B$2=StoreConfig!C1064,LEFT(StoreConfig!#REF!,FIND(\"|\",StoreConfig!#REF!)-1),\"\"),$Q$4:$R$20,2,FALSE),\"\")","v":""},{"$f":"IF($B$2=StoreConfig!C1064,LEFT(StoreConfig!G1064,FIND(\"#\",StoreConfig!G1064)-1),\"\")","v":""},{"$f":"IF($B$2=StoreConfig!C1064,RIGHT(StoreConfig!G1064,LEN(StoreConfig!G1064)-FIND(\"#\",StoreConfig!G1064)),\"\")","v":""},{"$f":"IF($B$2=StoreConfig!C1064,IF(StoreConfig!L1064=0,\"不限购\",StoreConfig!L1064&\"次\"),\"\")","v":""}]
[{"$nulls":3},{"$f":"IF($B$2=StoreConfig!C1065,StoreConfig!O1065,\"\")","v":""},{"$f":"IF($B$2=StoreConfig!C1065,StoreConfig!E1065,\"\")","v":""},{"$f":"IF($B$2=StoreConfig!C1065,RIGHT(StoreConfig!#REF!,LEN(StoreConfig!#REF!)-FIND(\"|\",StoreConfig!#REF!)),\"\")","v":""},{"$f":"IFERROR(VLOOKUP(--IF($B$2=StoreConfig!C1065,LEFT(StoreConfig!#REF!,FIND(\"|\",StoreConfig!#REF!)-1),\"\"),$Q$4:$R$20,2,FALSE),\"\")","v":""},{"$f":"IF($B$2=StoreConfig!C1065,LEFT(StoreConfig!G1065,FIND(\"#\",StoreConfig!G1065)-1),\"\")","v":""},{"$f":"IF($B$2=StoreConfig!C1065,RIGHT(StoreConfig!G1065,LEN(StoreConfig!G1065)-FIND(\"#\",StoreConfig!G1065)),\"\")","v":""},{"$f":"IF($B$2=StoreConfig!C1065,IF(StoreConfig!L1065=0,\"不限购\",StoreConfig!L1065&\"次\"),\"\")","v":""}]
[{"$nulls":3},{"$f":"IF($B$2=StoreConfig!C1066,StoreConfig!O1066,\"\")","v":""},{"$f":"IF($B$2=StoreConfig!C1066,StoreConfig!E1066,\"\")","v":""},{"$f":"IF($B$2=StoreConfig!C1066,RIGHT(StoreConfig!#REF!,LEN(StoreConfig!#REF!)-FIND(\"|\",StoreConfig!#REF!)),\"\")","v":""},{"$f":"IFERROR(VLOOKUP(--IF($B$2=StoreConfig!C1066,LEFT(StoreConfig!#REF!,FIND(\"|\",StoreConfig!#REF!)-1),\"\"),$Q$4:$R$20,2,FALSE),\"\")","v":""},{"$f":"IF($B$2=StoreConfig!C1066,LEFT(StoreConfig!G1066,FIND(\"#\",StoreConfig!G1066)-1),\"\")","v":""},{"$f":"IF($B$2=StoreConfig!C1066,RIGHT(StoreConfig!G1066,LEN(StoreConfig!G1066)-FIND(\"#\",StoreConfig!G1066)),\"\")","v":""},{"$f":"IF($B$2=StoreConfig!C1066,IF(StoreConfig!L1066=0,\"不限购\",StoreConfig!L1066&\"次\"),\"\")","v":""}]
[{"$nulls":3},{"$f":"IF($B$2=StoreConfig!C1067,StoreConfig!O1067,\"\")","v":""},{"$f":"IF($B$2=StoreConfig!C1067,StoreConfig!E1067,\"\")","v":""},{"$f":"IF($B$2=StoreConfig!C1067,RIGHT(StoreConfig!#REF!,LEN(StoreConfig!#REF!)-FIND(\"|\",StoreConfig!#REF!)),\"\")","v":""},{"$f":"IFERROR(VLOOKUP(--IF($B$2=StoreConfig!C1067,LEFT(StoreConfig!#REF!,FIND(\"|\",StoreConfig!#REF!)-1),\"\"),$Q$4:$R$20,2,FALSE),\"\")","v":""},{"$f":"IF($B$2=StoreConfig!C1067,LEFT(StoreConfig!G1067,FIND(\"#\",StoreConfig!G1067)-1),\"\")","v":""},{"$f":"IF($B$2=StoreConfig!C1067,RIGHT(StoreConfig!G1067,LEN(StoreConfig!G1067)-FIND(\"#\",StoreConfig!G1067)),\"\")","v":""},{"$f":"IF($B$2=StoreConfig!C1067,IF(StoreConfig!L1067=0,\"不限购\",StoreConfig!L1067&\"次\"),\"\")","v":""}]
[{"$nulls":3},{"$f":"IF($B$2=StoreConfig!C1068,StoreConfig!O1068,\"\")","v":""},{"$f":"IF($B$2=StoreConfig!C1068,StoreConfig!E1068,\"\")","v":""},{"$f":"IF($B$2=StoreConfig!C1068,RIGHT(StoreConfig!#REF!,LEN(StoreConfig!#REF!)-FIND(\"|\",StoreConfig!#REF!)),\"\")","v":""},{"$f":"IFERROR(VLOOKUP(--IF($B$2=StoreConfig!C1068,LEFT(StoreConfig!#REF!,FIND(\"|\",StoreConfig!#REF!)-1),\"\"),$Q$4:$R$20,2,FALSE),\"\")","v":""},{"$f":"IF($B$2=StoreConfig!C1068,LEFT(StoreConfig!G1068,FIND(\"#\",StoreConfig!G1068)-1),\"\")","v":""},{"$f":"IF($B$2=StoreConfig!C1068,RIGHT(StoreConfig!G1068,LEN(StoreConfig!G1068)-FIND(\"#\",StoreConfig!G1068)),\"\")","v":""},{"$f":"IF($B$2=StoreConfig!C1068,IF(StoreConfig!L1068=0,\"不限购\",StoreConfig!L1068&\"次\"),\"\")","v":""}]
[{"$nulls":3},{"$f":"IF($B$2=StoreConfig!C1069,StoreConfig!O1069,\"\")","v":""},{"$f":"IF($B$2=StoreConfig!C1069,StoreConfig!E1069,\"\")","v":""},{"$f":"IF($B$2=StoreConfig!C1069,RIGHT(StoreConfig!#REF!,LEN(StoreConfig!#REF!)-FIND(\"|\",StoreConfig!#REF!)),\"\")","v":""},{"$f":"IFERROR(VLOOKUP(--IF($B$2=StoreConfig!C1069,LEFT(StoreConfig!#REF!,FIND(\"|\",StoreConfig!#REF!)-1),\"\"),$Q$4:$R$20,2,FALSE),\"\")","v":""},{"$f":"IF($B$2=StoreConfig!C1069,LEFT(StoreConfig!G1069,FIND(\"#\",StoreConfig!G1069)-1),\"\")","v":""},{"$f":"IF($B$2=StoreConfig!C1069,RIGHT(StoreConfig!G1069,LEN(StoreConfig!G1069)-FIND(\"#\",StoreConfig!G1069)),\"\")","v":""},{"$f":"IF($B$2=StoreConfig!C1069,IF(StoreConfig!L1069=0,\"不限购\",StoreConfig!L1069&\"次\"),\"\")","v":""}]
[{"$nulls":3},{"$f":"IF($B$2=StoreConfig!C1070,StoreConfig!O1070,\"\")","v":""},{"$f":"IF($B$2=StoreConfig!C1070,StoreConfig!E1070,\"\")","v":""},{"$f":"IF($B$2=StoreConfig!C1070,RIGHT(StoreConfig!#REF!,LEN(StoreConfig!#REF!)-FIND(\"|\",StoreConfig!#REF!)),\"\")","v":""},{"$f":"IFERROR(VLOOKUP(--IF($B$2=StoreConfig!C1070,LEFT(StoreConfig!#REF!,FIND(\"|\",StoreConfig!#REF!)-1),\"\"),$Q$4:$R$20,2,FALSE),\"\")","v":""},{"$f":"IF($B$2=StoreConfig!C1070,LEFT(StoreConfig!G1070,FIND(\"#\",StoreConfig!G1070)-1),\"\")","v":""},{"$f":"IF($B$2=StoreConfig!C1070,RIGHT(StoreConfig!G1070,LEN(StoreConfig!G1070)-FIND(\"#\",StoreConfig!G1070)),\"\")","v":""},{"$f":"IF($B$2=StoreConfig!C1070,IF(StoreConfig!L1070=0,\"不限购\",StoreConfig!L1070&\"次\"),\"\")","v":""}]
[{"$nulls":3},{"$f":"IF($B$2=StoreConfig!C1071,StoreConfig!O1071,\"\")","v":""},{"$f":"IF($B$2=StoreConfig!C1071,StoreConfig!E1071,\"\")","v":""},{"$f":"IF($B$2=StoreConfig!C1071,RIGHT(StoreConfig!#REF!,LEN(StoreConfig!#REF!)-FIND(\"|\",StoreConfig!#REF!)),\"\")","v":""},{"$f":"IFERROR(VLOOKUP(--IF($B$2=StoreConfig!C1071,LEFT(StoreConfig!#REF!,FIND(\"|\",StoreConfig!#REF!)-1),\"\"),$Q$4:$R$20,2,FALSE),\"\")","v":""},{"$f":"IF($B$2=StoreConfig!C1071,LEFT(StoreConfig!G1071,FIND(\"#\",StoreConfig!G1071)-1),\"\")","v":""},{"$f":"IF($B$2=StoreConfig!C1071,RIGHT(StoreConfig!G1071,LEN(StoreConfig!G1071)-FIND(\"#\",StoreConfig!G1071)),\"\")","v":""},{"$f":"IF($B$2=StoreConfig!C1071,IF(StoreConfig!L1071=0,\"不限购\",StoreConfig!L1071&\"次\"),\"\")","v":""}]
[{"$nulls":3},{"$f":"IF($B$2=StoreConfig!C1072,StoreConfig!O1072,\"\")","v":""},{"$f":"IF($B$2=StoreConfig!C1072,StoreConfig!E1072,\"\")","v":""},{"$f":"IF($B$2=StoreConfig!C1072,RIGHT(StoreConfig!J1072,LEN(StoreConfig!J1072)-FIND(\"|\",StoreConfig!J1072)),\"\")","v":""},{"$f":"IFERROR(VLOOKUP(--IF($B$2=StoreConfig!C1072,LEFT(StoreConfig!J1072,FIND(\"|\",StoreConfig!J1072)-1),\"\"),$Q$4:$R$20,2,FALSE),\"\")","v":""},{"$f":"IF($B$2=StoreConfig!C1072,LEFT(StoreConfig!G1072,FIND(\"#\",StoreConfig!G1072)-1),\"\")","v":""},{"$f":"IF($B$2=StoreConfig!C1072,RIGHT(StoreConfig!G1072,LEN(StoreConfig!G1072)-FIND(\"#\",StoreConfig!G1072)),\"\")","v":""},{"$f":"IF($B$2=StoreConfig!C1072,IF(StoreConfig!L1072=0,\"不限购\",StoreConfig!L1072&\"次\"),\"\")","v":""}]
[{"$nulls":3},{"$f":"IF($B$2=StoreConfig!C1073,StoreConfig!O1073,\"\")","v":""},{"$f":"IF($B$2=StoreConfig!C1073,StoreConfig!E1073,\"\")","v":""},{"$f":"IF($B$2=StoreConfig!C1073,RIGHT(StoreConfig!J1073,LEN(StoreConfig!J1073)-FIND(\"|\",StoreConfig!J1073)),\"\")","v":""},{"$f":"IFERROR(VLOOKUP(--IF($B$2=StoreConfig!C1073,LEFT(StoreConfig!J1073,FIND(\"|\",StoreConfig!J1073)-1),\"\"),$Q$4:$R$20,2,FALSE),\"\")","v":""},{"$f":"IF($B$2=StoreConfig!C1073,LEFT(StoreConfig!G1073,FIND(\"#\",StoreConfig!G1073)-1),\"\")","v":""},{"$f":"IF($B$2=StoreConfig!C1073,RIGHT(StoreConfig!G1073,LEN(StoreConfig!G1073)-FIND(\"#\",StoreConfig!G1073)),\"\")","v":""},{"$f":"IF($B$2=StoreConfig!C1073,IF(StoreConfig!L1073=0,\"不限购\",StoreConfig!L1073&\"次\"),\"\")","v":""}]
[{"$nulls":3},{"$f":"IF($B$2=StoreConfig!C1074,StoreConfig!O1074,\"\")","v":""},{"$f":"IF($B$2=StoreConfig!C1074,StoreConfig!E1074,\"\")","v":""},{"$f":"IF($B$2=StoreConfig!C1074,RIGHT(StoreConfig!J1074,LEN(StoreConfig!J1074)-FIND(\"|\",StoreConfig!J1074)),\"\")","v":""},{"$f":"IFERROR(VLOOKUP(--IF($B$2=StoreConfig!C1074,LEFT(StoreConfig!J1074,FIND(\"|\",StoreConfig!J1074)-1),\"\"),$Q$4:$R$20,2,FALSE),\"\")","v":""},{"$f":"IF($B$2=StoreConfig!C1074,LEFT(StoreConfig!G1074,FIND(\"#\",StoreConfig!G1074)-1),\"\")","v":""},{"$f":"IF($B$2=StoreConfig!C1074,RIGHT(StoreConfig!G1074,LEN(StoreConfig!G1074)-FIND(\"#\",StoreConfig!G1074)),\"\")","v":""},{"$f":"IF($B$2=StoreConfig!C1074,IF(StoreConfig!L1074=0,\"不限购\",StoreConfig!L1074&\"次\"),\"\")","v":""}]
[{"$nulls":3},{"$f":"IF($B$2=StoreConfig!C1075,StoreConfig!O1075,\"\")","v":""},{"$f":"IF($B$2=StoreConfig!C1075,StoreConfig!E1075,\"\")","v":""},{"$f":"IF($B$2=StoreConfig!C1075,RIGHT(StoreConfig!J1075,LEN(StoreConfig!J1075)-FIND(\"|\",StoreConfig!J1075)),\"\")","v":""},{"$f":"IFERROR(VLOOKUP(--IF($B$2=StoreConfig!C1075,LEFT(StoreConfig!J1075,FIND(\"|\",StoreConfig!J1075)-1),\"\"),$Q$4:$R$20,2,FALSE),\"\")","v":""},{"$f":"IF($B$2=StoreConfig!C1075,LEFT(StoreConfig!G1075,FIND(\"#\",StoreConfig!G1075)-1),\"\")","v":""},{"$f":"IF($B$2=StoreConfig!C1075,RIGHT(StoreConfig!G1075,LEN(StoreConfig!G1075)-FIND(\"#\",StoreConfig!G1075)),\"\")","v":""},{"$f":"IF($B$2=StoreConfig!C1075,IF(StoreConfig!L1075=0,\"不限购\",StoreConfig!L1075&\"次\"),\"\")","v":""}]
[{"$nulls":3},{"$f":"IF($B$2=StoreConfig!C1076,StoreConfig!O1076,\"\")","v":""},{"$f":"IF($B$2=StoreConfig!C1076,StoreConfig!E1076,\"\")","v":""},{"$f":"IF($B$2=StoreConfig!C1076,RIGHT(StoreConfig!J1076,LEN(StoreConfig!J1076)-FIND(\"|\",StoreConfig!J1076)),\"\")","v":""},{"$f":"IFERROR(VLOOKUP(--IF($B$2=StoreConfig!C1076,LEFT(StoreConfig!J1076,FIND(\"|\",StoreConfig!J1076)-1),\"\"),$Q$4:$R$20,2,FALSE),\"\")","v":""},{"$f":"IF($B$2=StoreConfig!C1076,LEFT(StoreConfig!G1076,FIND(\"#\",StoreConfig!G1076)-1),\"\")","v":""},{"$f":"IF($B$2=StoreConfig!C1076,RIGHT(StoreConfig!G1076,LEN(StoreConfig!G1076)-FIND(\"#\",StoreConfig!G1076)),\"\")","v":""},{"$f":"IF($B$2=StoreConfig!C1076,IF(StoreConfig!L1076=0,\"不限购\",StoreConfig!L1076&\"次\"),\"\")","v":""}]
[{"$nulls":3},{"$f":"IF($B$2=StoreConfig!C1077,StoreConfig!O1077,\"\")","v":""},{"$f":"IF($B$2=StoreConfig!C1077,StoreConfig!E1077,\"\")","v":""},{"$f":"IF($B$2=StoreConfig!C1077,RIGHT(StoreConfig!J1077,LEN(StoreConfig!J1077)-FIND(\"|\",StoreConfig!J1077)),\"\")","v":""},{"$f":"IFERROR(VLOOKUP(--IF($B$2=StoreConfig!C1077,LEFT(StoreConfig!J1077,FIND(\"|\",StoreConfig!J1077)-1),\"\"),$Q$4:$R$20,2,FALSE),\"\")","v":""},{"$f":"IF($B$2=StoreConfig!C1077,LEFT(StoreConfig!G1077,FIND(\"#\",StoreConfig!G1077)-1),\"\")","v":""},{"$f":"IF($B$2=StoreConfig!C1077,RIGHT(StoreConfig!G1077,LEN(StoreConfig!G1077)-FIND(\"#\",StoreConfig!G1077)),\"\")","v":""},{"$f":"IF($B$2=StoreConfig!C1077,IF(StoreConfig!L1077=0,\"不限购\",StoreConfig!L1077&\"次\"),\"\")","v":""}]
[{"$nulls":3},{"$f":"IF($B$2=StoreConfig!C1078,StoreConfig!O1078,\"\")","v":""},{"$f":"IF($B$2=StoreConfig!C1078,StoreConfig!E1078,\"\")","v":""},{"$f":"IF($B$2=StoreConfig!C1078,RIGHT(StoreConfig!J1078,LEN(StoreConfig!J1078)-FIND(\"|\",StoreConfig!J1078)),\"\")","v":""},{"$f":"IFERROR(VLOOKUP(--IF($B$2=StoreConfig!C1078,LEFT(StoreConfig!J1078,FIND(\"|\",StoreConfig!J1078)-1),\"\"),$Q$4:$R$20,2,FALSE),\"\")","v":""},{"$f":"IF($B$2=StoreConfig!C1078,LEFT(StoreConfig!G1078,FIND(\"#\",StoreConfig!G1078)-1),\"\")","v":""},{"$f":"IF($B$2=StoreConfig!C1078,RIGHT(StoreConfig!G1078,LEN(StoreConfig!G1078)-FIND(\"#\",StoreConfig!G1078)),\"\")","v":""},{"$f":"IF($B$2=StoreConfig!C1078,IF(StoreConfig!L1078=0,\"不限购\",StoreConfig!L1078&\"次\"),\"\")","v":""}]
[{"$nulls":3},{"$f":"IF($B$2=StoreConfig!C1079,StoreConfig!O1079,\"\")","v":""},{"$f":"IF($B$2=StoreConfig!C1079,StoreConfig!E1079,\"\")","v":""},{"$f":"IF($B$2=StoreConfig!C1079,RIGHT(StoreConfig!J1079,LEN(StoreConfig!J1079)-FIND(\"|\",StoreConfig!J1079)),\"\")","v":""},{"$f":"IFERROR(VLOOKUP(--IF($B$2=StoreConfig!C1079,LEFT(StoreConfig!J1079,FIND(\"|\",StoreConfig!J1079)-1),\"\"),$Q$4:$R$20,2,FALSE),\"\")","v":""},{"$f":"IF($B$2=StoreConfig!C1079,LEFT(StoreConfig!G1079,FIND(\"#\",StoreConfig!G1079)-1),\"\")","v":""},{"$f":"IF($B$2=StoreConfig!C1079,RIGHT(StoreConfig!G1079,LEN(StoreConfig!G1079)-FIND(\"#\",StoreConfig!G1079)),\"\")","v":""},{"$f":"IF($B$2=StoreConfig!C1079,IF(StoreConfig!L1079=0,\"不限购\",StoreConfig!L1079&\"次\"),\"\")","v":""}]
[{"$nulls":3},{"$f":"IF($B$2=StoreConfig!C1080,StoreConfig!O1080,\"\")","v":""},{"$f":"IF($B$2=StoreConfig!C1080,StoreConfig!E1080,\"\")","v":""},{"$f":"IF($B$2=StoreConfig!C1080,RIGHT(StoreConfig!J1080,LEN(StoreConfig!J1080)-FIND(\"|\",StoreConfig!J1080)),\"\")","v":""},{"$f":"IFERROR(VLOOKUP(--IF($B$2=StoreConfig!C1080,LEFT(StoreConfig!J1080,FIND(\"|\",StoreConfig!J1080)-1),\"\"),$Q$4:$R$20,2,FALSE),\"\")","v":""},{"$f":"IF($B$2=StoreConfig!C1080,LEFT(StoreConfig!G1080,FIND(\"#\",StoreConfig!G1080)-1),\"\")","v":""},{"$f":"IF($B$2=StoreConfig!C1080,RIGHT(StoreConfig!G1080,LEN(StoreConfig!G1080)-FIND(\"#\",StoreConfig!G1080)),\"\")","v":""},{"$f":"IF($B$2=StoreConfig!C1080,IF(StoreConfig!L1080=0,\"不限购\",StoreConfig!L1080&\"次\"),\"\")","v":""}]
[{"$nulls":3},{"$f":"IF($B$2=StoreConfig!C1081,StoreConfig!O1081,\"\")","v":""},{"$f":"IF($B$2=StoreConfig!C1081,StoreConfig!E1081,\"\")","v":""},{"$f":"IF($B$2=StoreConfig!C1081,RIGHT(StoreConfig!J1081,LEN(StoreConfig!J1081)-FIND(\"|\",StoreConfig!J1081)),\"\")","v":""},{"$f":"IFERROR(VLOOKUP(--IF($B$2=StoreConfig!C1081,LEFT(StoreConfig!J1081,FIND(\"|\",StoreConfig!J1081)-1),\"\"),$Q$4:$R$20,2,FALSE),\"\")","v":""},{"$f":"IF($B$2=StoreConfig!C1081,LEFT(StoreConfig!G1081,FIND(\"#\",StoreConfig!G1081)-1),\"\")","v":""},{"$f":"IF($B$2=StoreConfig!C1081,RIGHT(StoreConfig!G1081,LEN(StoreConfig!G1081)-FIND(\"#\",StoreConfig!G1081)),\"\")","v":""},{"$f":"IF($B$2=StoreConfig!C1081,IF(StoreConfig!L1081=0,\"不限购\",StoreConfig!L1081&\"次\"),\"\")","v":""}]
[{"$nulls":3},{"$f":"IF($B$2=StoreConfig!C1082,StoreConfig!O1082,\"\")","v":""},{"$f":"IF($B$2=StoreConfig!C1082,StoreConfig!E1082,\"\")","v":""},{"$f":"IF($B$2=StoreConfig!C1082,RIGHT(StoreConfig!J1082,LEN(StoreConfig!J1082)-FIND(\"|\",StoreConfig!J1082)),\"\")","v":""},{"$f":"IFERROR(VLOOKUP(--IF($B$2=StoreConfig!C1082,LEFT(StoreConfig!J1082,FIND(\"|\",StoreConfig!J1082)-1),\"\"),$Q$4:$R$20,2,FALSE),\"\")","v":""},{"$f":"IF($B$2=StoreConfig!C1082,LEFT(StoreConfig!G1082,FIND(\"#\",StoreConfig!G1082)-1),\"\")","v":""},{"$f":"IF($B$2=StoreConfig!C1082,RIGHT(StoreConfig!G1082,LEN(StoreConfig!G1082)-FIND(\"#\",StoreConfig!G1082)),\"\")","v":""},{"$f":"IF($B$2=StoreConfig!C1082,IF(StoreConfig!L1082=0,\"不限购\",StoreConfig!L1082&\"次\"),\"\")","v":""}]
[{"$nulls":3},{"$f":"IF($B$2=StoreConfig!C1083,StoreConfig!O1083,\"\")","v":""},{"$f":"IF($B$2=StoreConfig!C1083,StoreConfig!E1083,\"\")","v":""},{"$f":"IF($B$2=StoreConfig!C1083,RIGHT(StoreConfig!J1083,LEN(StoreConfig!J1083)-FIND(\"|\",StoreConfig!J1083)),\"\")","v":""},{"$f":"IFERROR(VLOOKUP(--IF($B$2=StoreConfig!C1083,LEFT(StoreConfig!J1083,FIND(\"|\",StoreConfig!J1083)-1),\"\"),$Q$4:$R$20,2,FALSE),\"\")","v":""},{"$f":"IF($B$2=StoreConfig!C1083,LEFT(StoreConfig!G1083,FIND(\"#\",StoreConfig!G1083)-1),\"\")","v":""},{"$f":"IF($B$2=StoreConfig!C1083,RIGHT(StoreConfig!G1083,LEN(StoreConfig!G1083)-FIND(\"#\",StoreConfig!G1083)),\"\")","v":""},{"$f":"IF($B$2=StoreConfig!C1083,IF(StoreConfig!L1083=0,\"不限购\",StoreConfig!L1083&\"次\"),\"\")","v":""}]
[{"$nulls":3},{"$f":"IF($B$2=StoreConfig!C1084,StoreConfig!O1084,\"\")","v":""},{"$f":"IF($B$2=StoreConfig!C1084,StoreConfig!E1084,\"\")","v":""},{"$f":"IF($B$2=StoreConfig!C1084,RIGHT(StoreConfig!J1084,LEN(StoreConfig!J1084)-FIND(\"|\",StoreConfig!J1084)),\"\")","v":""},{"$f":"IFERROR(VLOOKUP(--IF($B$2=StoreConfig!C1084,LEFT(StoreConfig!J1084,FIND(\"|\",StoreConfig!J1084)-1),\"\"),$Q$4:$R$20,2,FALSE),\"\")","v":""},{"$f":"IF($B$2=StoreConfig!C1084,LEFT(StoreConfig!G1084,FIND(\"#\",StoreConfig!G1084)-1),\"\")","v":""},{"$f":"IF($B$2=StoreConfig!C1084,RIGHT(StoreConfig!G1084,LEN(StoreConfig!G1084)-FIND(\"#\",StoreConfig!G1084)),\"\")","v":""},{"$f":"IF($B$2=StoreConfig!C1084,IF(StoreConfig!L1084=0,\"不限购\",StoreConfig!L1084&\"次\"),\"\")","v":""}]
[{"$nulls":3},{"$f":"IF($B$2=StoreConfig!C1085,StoreConfig!O1085,\"\")","v":""},{"$f":"IF($B$2=StoreConfig!C1085,StoreConfig!E1085,\"\")","v":""},{"$f":"IF($B$2=StoreConfig!C1085,RIGHT(StoreConfig!J1085,LEN(StoreConfig!J1085)-FIND(\"|\",StoreConfig!J1085)),\"\")","v":""},{"$f":"IFERROR(VLOOKUP(--IF($B$2=StoreConfig!C1085,LEFT(StoreConfig!J1085,FIND(\"|\",StoreConfig!J1085)-1),\"\"),$Q$4:$R$20,2,FALSE),\"\")","v":""},{"$f":"IF($B$2=StoreConfig!C1085,LEFT(StoreConfig!G1085,FIND(\"#\",StoreConfig!G1085)-1),\"\")","v":""},{"$f":"IF($B$2=StoreConfig!C1085,RIGHT(StoreConfig!G1085,LEN(StoreConfig!G1085)-FIND(\"#\",StoreConfig!G1085)),\"\")","v":""},{"$f":"IF($B$2=StoreConfig!C1085,IF(StoreConfig!L1085=0,\"不限购\",StoreConfig!L1085&\"次\"),\"\")","v":""}]
[{"$nulls":3},{"$f":"IF($B$2=StoreConfig!C1086,StoreConfig!O1086,\"\")","v":""},{"$f":"IF($B$2=StoreConfig!C1086,StoreConfig!E1086,\"\")","v":""},{"$f":"IF($B$2=StoreConfig!C1086,RIGHT(StoreConfig!J1086,LEN(StoreConfig!J1086)-FIND(\"|\",StoreConfig!J1086)),\"\")","v":""},{"$f":"IFERROR(VLOOKUP(--IF($B$2=StoreConfig!C1086,LEFT(StoreConfig!J1086,FIND(\"|\",StoreConfig!J1086)-1),\"\"),$Q$4:$R$20,2,FALSE),\"\")","v":""},{"$f":"IF($B$2=StoreConfig!C1086,LEFT(StoreConfig!G1086,FIND(\"#\",StoreConfig!G1086)-1),\"\")","v":""},{"$f":"IF($B$2=StoreConfig!C1086,RIGHT(StoreConfig!G1086,LEN(StoreConfig!G1086)-FIND(\"#\",StoreConfig!G1086)),\"\")","v":""},{"$f":"IF($B$2=StoreConfig!C1086,IF(StoreConfig!L1086=0,\"不限购\",StoreConfig!L1086&\"次\"),\"\")","v":""}]
[{"$nulls":3},{"$f":"IF($B$2=StoreConfig!C1087,StoreConfig!O1087,\"\")","v":""},{"$f":"IF($B$2=StoreConfig!C1087,StoreConfig!E1087,\"\")","v":""},{"$f":"IF($B$2=StoreConfig!C1087,RIGHT(StoreConfig!J1087,LEN(StoreConfig!J1087)-FIND(\"|\",StoreConfig!J1087)),\"\")","v":""},{"$f":"IFERROR(VLOOKUP(--IF($B$2=StoreConfig!C1087,LEFT(StoreConfig!J1087,FIND(\"|\",StoreConfig!J1087)-1),\"\"),$Q$4:$R$20,2,FALSE),\"\")","v":""},{"$f":"IF($B$2=StoreConfig!C1087,LEFT(StoreConfig!G1087,FIND(\"#\",StoreConfig!G1087)-1),\"\")","v":""},{"$f":"IF($B$2=StoreConfig!C1087,RIGHT(StoreConfig!G1087,LEN(StoreConfig!G1087)-FIND(\"#\",StoreConfig!G1087)),\"\")","v":""},{"$f":"IF($B$2=StoreConfig!C1087,IF(StoreConfig!L1087=0,\"不限购\",StoreConfig!L1087&\"次\"),\"\")","v":""}]
[{"$nulls":3},{"$f":"IF($B$2=StoreConfig!C1088,StoreConfig!O1088,\"\")","v":""},{"$f":"IF($B$2=StoreConfig!C1088,StoreConfig!E1088,\"\")","v":""},{"$f":"IF($B$2=StoreConfig!C1088,RIGHT(StoreConfig!J1088,LEN(StoreConfig!J1088)-FIND(\"|\",StoreConfig!J1088)),\"\")","v":""},{"$f":"IFERROR(VLOOKUP(--IF($B$2=StoreConfig!C1088,LEFT(StoreConfig!J1088,FIND(\"|\",StoreConfig!J1088)-1),\"\"),$Q$4:$R$20,2,FALSE),\"\")","v":""},{"$f":"IF($B$2=StoreConfig!C1088,LEFT(StoreConfig!G1088,FIND(\"#\",StoreConfig!G1088)-1),\"\")","v":""},{"$f":"IF($B$2=StoreConfig!C1088,RIGHT(StoreConfig!G1088,LEN(StoreConfig!G1088)-FIND(\"#\",StoreConfig!G1088)),\"\")","v":""},{"$f":"IF($B$2=StoreConfig!C1088,IF(StoreConfig!L1088=0,\"不限购\",StoreConfig!L1088&\"次\"),\"\")","v":""}]
[{"$nulls":3},{"$f":"IF($B$2=StoreConfig!C1089,StoreConfig!O1089,\"\")","v":""},{"$f":"IF($B$2=StoreConfig!C1089,StoreConfig!E1089,\"\")","v":""},{"$f":"IF($B$2=StoreConfig!C1089,RIGHT(StoreConfig!J1089,LEN(StoreConfig!J1089)-FIND(\"|\",StoreConfig!J1089)),\"\")","v":""},{"$f":"IFERROR(VLOOKUP(--IF($B$2=StoreConfig!C1089,LEFT(StoreConfig!J1089,FIND(\"|\",StoreConfig!J1089)-1),\"\"),$Q$4:$R$20,2,FALSE),\"\")","v":""},{"$f":"IF($B$2=StoreConfig!C1089,LEFT(StoreConfig!G1089,FIND(\"#\",StoreConfig!G1089)-1),\"\")","v":""},{"$f":"IF($B$2=StoreConfig!C1089,RIGHT(StoreConfig!G1089,LEN(StoreConfig!G1089)-FIND(\"#\",StoreConfig!G1089)),\"\")","v":""},{"$f":"IF($B$2=StoreConfig!C1089,IF(StoreConfig!L1089=0,\"不限购\",StoreConfig!L1089&\"次\"),\"\")","v":""}]
[{"$nulls":3},{"$f":"IF($B$2=StoreConfig!C1090,StoreConfig!O1090,\"\")","v":""},{"$f":"IF($B$2=StoreConfig!C1090,StoreConfig!E1090,\"\")","v":""},{"$f":"IF($B$2=StoreConfig!C1090,RIGHT(StoreConfig!J1090,LEN(StoreConfig!J1090)-FIND(\"|\",StoreConfig!J1090)),\"\")","v":""},{"$f":"IFERROR(VLOOKUP(--IF($B$2=StoreConfig!C1090,LEFT(StoreConfig!J1090,FIND(\"|\",StoreConfig!J1090)-1),\"\"),$Q$4:$R$20,2,FALSE),\"\")","v":""},{"$f":"IF($B$2=StoreConfig!C1090,LEFT(StoreConfig!G1090,FIND(\"#\",StoreConfig!G1090)-1),\"\")","v":""},{"$f":"IF($B$2=StoreConfig!C1090,RIGHT(StoreConfig!G1090,LEN(StoreConfig!G1090)-FIND(\"#\",StoreConfig!G1090)),\"\")","v":""},{"$f":"IF($B$2=StoreConfig!C1090,IF(StoreConfig!L1090=0,\"不限购\",StoreConfig!L1090&\"次\"),\"\")","v":""}]
[{"$nulls":3},{"$f":"IF($B$2=StoreConfig!C1091,StoreConfig!O1091,\"\")","v":""},{"$f":"IF($B$2=StoreConfig!C1091,StoreConfig!E1091,\"\")","v":""},{"$f":"IF($B$2=StoreConfig!C1091,RIGHT(StoreConfig!J1091,LEN(StoreConfig!J1091)-FIND(\"|\",StoreConfig!J1091)),\"\")","v":""},{"$f":"IFERROR(VLOOKUP(--IF($B$2=StoreConfig!C1091,LEFT(StoreConfig!J1091,FIND(\"|\",StoreConfig!J1091)-1),\"\"),$Q$4:$R$20,2,FALSE),\"\")","v":""},{"$f":"IF($B$2=StoreConfig!C1091,LEFT(StoreConfig!G1091,FIND(\"#\",StoreConfig!G1091)-1),\"\")","v":""},{"$f":"IF($B$2=StoreConfig!C1091,RIGHT(StoreConfig!G1091,LEN(StoreConfig!G1091)-FIND(\"#\",StoreConfig!G1091)),\"\")","v":""},{"$f":"IF($B$2=StoreConfig!C1091,IF(StoreConfig!L1091=0,\"不限购\",StoreConfig!L1091&\"次\"),\"\")","v":""}]
[{"$nulls":3},{"$f":"IF($B$2=StoreConfig!C1092,StoreConfig!O1092,\"\")","v":""},{"$f":"IF($B$2=StoreConfig!C1092,StoreConfig!E1092,\"\")","v":""},{"$f":"IF($B$2=StoreConfig!C1092,RIGHT(StoreConfig!J1092,LEN(StoreConfig!J1092)-FIND(\"|\",StoreConfig!J1092)),\"\")","v":""},{"$f":"IFERROR(VLOOKUP(--IF($B$2=StoreConfig!C1092,LEFT(StoreConfig!J1092,FIND(\"|\",StoreConfig!J1092)-1),\"\"),$Q$4:$R$20,2,FALSE),\"\")","v":""},{"$f":"IF($B$2=StoreConfig!C1092,LEFT(StoreConfig!G1092,FIND(\"#\",StoreConfig!G1092)-1),\"\")","v":""},{"$f":"IF($B$2=StoreConfig!C1092,RIGHT(StoreConfig!G1092,LEN(StoreConfig!G1092)-FIND(\"#\",StoreConfig!G1092)),\"\")","v":""},{"$f":"IF($B$2=StoreConfig!C1092,IF(StoreConfig!L1092=0,\"不限购\",StoreConfig!L1092&\"次\"),\"\")","v":""}]
[{"$nulls":3},{"$f":"IF($B$2=StoreConfig!C1093,StoreConfig!O1093,\"\")","v":""},{"$f":"IF($B$2=StoreConfig!C1093,StoreConfig!E1093,\"\")","v":""},{"$f":"IF($B$2=StoreConfig!C1093,RIGHT(StoreConfig!J1093,LEN(StoreConfig!J1093)-FIND(\"|\",StoreConfig!J1093)),\"\")","v":""},{"$f":"IFERROR(VLOOKUP(--IF($B$2=StoreConfig!C1093,LEFT(StoreConfig!J1093,FIND(\"|\",StoreConfig!J1093)-1),\"\"),$Q$4:$R$20,2,FALSE),\"\")","v":""},{"$f":"IF($B$2=StoreConfig!C1093,LEFT(StoreConfig!G1093,FIND(\"#\",StoreConfig!G1093)-1),\"\")","v":""},{"$f":"IF($B$2=StoreConfig!C1093,RIGHT(StoreConfig!G1093,LEN(StoreConfig!G1093)-FIND(\"#\",StoreConfig!G1093)),\"\")","v":""},{"$f":"IF($B$2=StoreConfig!C1093,IF(StoreConfig!L1093=0,\"不限购\",StoreConfig!L1093&\"次\"),\"\")","v":""}]
[{"$nulls":3},{"$f":"IF($B$2=StoreConfig!C1094,StoreConfig!O1094,\"\")","v":""},{"$f":"IF($B$2=StoreConfig!C1094,StoreConfig!E1094,\"\")","v":""},{"$f":"IF($B$2=StoreConfig!C1094,RIGHT(StoreConfig!J1094,LEN(StoreConfig!J1094)-FIND(\"|\",StoreConfig!J1094)),\"\")","v":""},{"$f":"IFERROR(VLOOKUP(--IF($B$2=StoreConfig!C1094,LEFT(StoreConfig!J1094,FIND(\"|\",StoreConfig!J1094)-1),\"\"),$Q$4:$R$20,2,FALSE),\"\")","v":""},{"$f":"IF($B$2=StoreConfig!C1094,LEFT(StoreConfig!G1094,FIND(\"#\",StoreConfig!G1094)-1),\"\")","v":""},{"$f":"IF($B$2=StoreConfig!C1094,RIGHT(StoreConfig!G1094,LEN(StoreConfig!G1094)-FIND(\"#\",StoreConfig!G1094)),\"\")","v":""},{"$f":"IF($B$2=StoreConfig!C1094,IF(StoreConfig!L1094=0,\"不限购\",StoreConfig!L1094&\"次\"),\"\")","v":""}]
[{"$nulls":3},{"$f":"IF($B$2=StoreConfig!C1095,StoreConfig!O1095,\"\")","v":""},{"$f":"IF($B$2=StoreConfig!C1095,StoreConfig!E1095,\"\")","v":""},{"$f":"IF($B$2=StoreConfig!C1095,RIGHT(StoreConfig!J1095,LEN(StoreConfig!J1095)-FIND(\"|\",StoreConfig!J1095)),\"\")","v":""},{"$f":"IFERROR(VLOOKUP(--IF($B$2=StoreConfig!C1095,LEFT(StoreConfig!J1095,FIND(\"|\",StoreConfig!J1095)-1),\"\"),$Q$4:$R$20,2,FALSE),\"\")","v":""},{"$f":"IF($B$2=StoreConfig!C1095,LEFT(StoreConfig!G1095,FIND(\"#\",StoreConfig!G1095)-1),\"\")","v":""},{"$f":"IF($B$2=StoreConfig!C1095,RIGHT(StoreConfig!G1095,LEN(StoreConfig!G1095)-FIND(\"#\",StoreConfig!G1095)),\"\")","v":""},{"$f":"IF($B$2=StoreConfig!C1095,IF(StoreConfig!L1095=0,\"不限购\",StoreConfig!L1095&\"次\"),\"\")","v":""}]
[{"$nulls":3},{"$f":"IF($B$2=StoreConfig!C1096,StoreConfig!O1096,\"\")","v":""},{"$f":"IF($B$2=StoreConfig!C1096,StoreConfig!E1096,\"\")","v":""},{"$f":"IF($B$2=StoreConfig!C1096,RIGHT(StoreConfig!J1096,LEN(StoreConfig!J1096)-FIND(\"|\",StoreConfig!J1096)),\"\")","v":""},{"$f":"IFERROR(VLOOKUP(--IF($B$2=StoreConfig!C1096,LEFT(StoreConfig!J1096,FIND(\"|\",StoreConfig!J1096)-1),\"\"),$Q$4:$R$20,2,FALSE),\"\")","v":""},{"$f":"IF($B$2=StoreConfig!C1096,LEFT(StoreConfig!G1096,FIND(\"#\",StoreConfig!G1096)-1),\"\")","v":""},{"$f":"IF($B$2=StoreConfig!C1096,RIGHT(StoreConfig!G1096,LEN(StoreConfig!G1096)-FIND(\"#\",StoreConfig!G1096)),\"\")","v":""},{"$f":"IF($B$2=StoreConfig!C1096,IF(StoreConfig!L1096=0,\"不限购\",StoreConfig!L1096&\"次\"),\"\")","v":""}]
[{"$nulls":3},{"$f":"IF($B$2=StoreConfig!C1097,StoreConfig!O1097,\"\")","v":""},{"$f":"IF($B$2=StoreConfig!C1097,StoreConfig!E1097,\"\")","v":""},{"$f":"IF($B$2=StoreConfig!C1097,RIGHT(StoreConfig!J1097,LEN(StoreConfig!J1097)-FIND(\"|\",StoreConfig!J1097)),\"\")","v":""},{"$f":"IFERROR(VLOOKUP(--IF($B$2=StoreConfig!C1097,LEFT(StoreConfig!J1097,FIND(\"|\",StoreConfig!J1097)-1),\"\"),$Q$4:$R$20,2,FALSE),\"\")","v":""},{"$f":"IF($B$2=StoreConfig!C1097,LEFT(StoreConfig!G1097,FIND(\"#\",StoreConfig!G1097)-1),\"\")","v":""},{"$f":"IF($B$2=StoreConfig!C1097,RIGHT(StoreConfig!G1097,LEN(StoreConfig!G1097)-FIND(\"#\",StoreConfig!G1097)),\"\")","v":""},{"$f":"IF($B$2=StoreConfig!C1097,IF(StoreConfig!L1097=0,\"不限购\",StoreConfig!L1097&\"次\"),\"\")","v":""}]
[{"$nulls":3},{"$f":"IF($B$2=StoreConfig!C1098,StoreConfig!O1098,\"\")","v":""},{"$f":"IF($B$2=StoreConfig!C1098,StoreConfig!E1098,\"\")","v":""},{"$f":"IF($B$2=StoreConfig!C1098,RIGHT(StoreConfig!J1098,LEN(StoreConfig!J1098)-FIND(\"|\",StoreConfig!J1098)),\"\")","v":""},{"$f":"IFERROR(VLOOKUP(--IF($B$2=StoreConfig!C1098,LEFT(StoreConfig!J1098,FIND(\"|\",StoreConfig!J1098)-1),\"\"),$Q$4:$R$20,2,FALSE),\"\")","v":""},{"$f":"IF($B$2=StoreConfig!C1098,LEFT(StoreConfig!G1098,FIND(\"#\",StoreConfig!G1098)-1),\"\")","v":""},{"$f":"IF($B$2=StoreConfig!C1098,RIGHT(StoreConfig!G1098,LEN(StoreConfig!G1098)-FIND(\"#\",StoreConfig!G1098)),\"\")","v":""},{"$f":"IF($B$2=StoreConfig!C1098,IF(StoreConfig!L1098=0,\"不限购\",StoreConfig!L1098&\"次\"),\"\")","v":""}]
[{"$nulls":3},{"$f":"IF($B$2=StoreConfig!C1099,StoreConfig!O1099,\"\")","v":""},{"$f":"IF($B$2=StoreConfig!C1099,StoreConfig!E1099,\"\")","v":""},{"$f":"IF($B$2=StoreConfig!C1099,RIGHT(StoreConfig!J1099,LEN(StoreConfig!J1099)-FIND(\"|\",StoreConfig!J1099)),\"\")","v":""},{"$f":"IFERROR(VLOOKUP(--IF($B$2=StoreConfig!C1099,LEFT(StoreConfig!J1099,FIND(\"|\",StoreConfig!J1099)-1),\"\"),$Q$4:$R$20,2,FALSE),\"\")","v":""},{"$f":"IF($B$2=StoreConfig!C1099,LEFT(StoreConfig!G1099,FIND(\"#\",StoreConfig!G1099)-1),\"\")","v":""},{"$f":"IF($B$2=StoreConfig!C1099,RIGHT(StoreConfig!G1099,LEN(StoreConfig!G1099)-FIND(\"#\",StoreConfig!G1099)),\"\")","v":""},{"$f":"IF($B$2=StoreConfig!C1099,IF(StoreConfig!L1099=0,\"不限购\",StoreConfig!L1099&\"次\"),\"\")","v":""}]
[{"$nulls":3},{"$f":"IF($B$2=StoreConfig!C1100,StoreConfig!O1100,\"\")","v":""},{"$f":"IF($B$2=StoreConfig!C1100,StoreConfig!E1100,\"\")","v":""},{"$f":"IF($B$2=StoreConfig!C1100,RIGHT(StoreConfig!J1100,LEN(StoreConfig!J1100)-FIND(\"|\",StoreConfig!J1100)),\"\")","v":""},{"$f":"IFERROR(VLOOKUP(--IF($B$2=StoreConfig!C1100,LEFT(StoreConfig!J1100,FIND(\"|\",StoreConfig!J1100)-1),\"\"),$Q$4:$R$20,2,FALSE),\"\")","v":""},{"$f":"IF($B$2=StoreConfig!C1100,LEFT(StoreConfig!G1100,FIND(\"#\",StoreConfig!G1100)-1),\"\")","v":""},{"$f":"IF($B$2=StoreConfig!C1100,RIGHT(StoreConfig!G1100,LEN(StoreConfig!G1100)-FIND(\"#\",StoreConfig!G1100)),\"\")","v":""},{"$f":"IF($B$2=StoreConfig!C1100,IF(StoreConfig!L1100=0,\"不限购\",StoreConfig!L1100&\"次\"),\"\")","v":""}]
[{"$nulls":3},{"$f":"IF($B$2=StoreConfig!C1101,StoreConfig!O1101,\"\")","v":""},{"$f":"IF($B$2=StoreConfig!C1101,StoreConfig!E1101,\"\")","v":""},{"$f":"IF($B$2=StoreConfig!C1101,RIGHT(StoreConfig!J1101,LEN(StoreConfig!J1101)-FIND(\"|\",StoreConfig!J1101)),\"\")","v":""},{"$f":"IFERROR(VLOOKUP(--IF($B$2=StoreConfig!C1101,LEFT(StoreConfig!J1101,FIND(\"|\",StoreConfig!J1101)-1),\"\"),$Q$4:$R$20,2,FALSE),\"\")","v":""},{"$f":"IF($B$2=StoreConfig!C1101,LEFT(StoreConfig!G1101,FIND(\"#\",StoreConfig!G1101)-1),\"\")","v":""},{"$f":"IF($B$2=StoreConfig!C1101,RIGHT(StoreConfig!G1101,LEN(StoreConfig!G1101)-FIND(\"#\",StoreConfig!G1101)),\"\")","v":""},{"$f":"IF($B$2=StoreConfig!C1101,IF(StoreConfig!L1101=0,\"不限购\",StoreConfig!L1101&\"次\"),\"\")","v":""}]
[{"$nulls":3},{"$f":"IF($B$2=StoreConfig!C1102,StoreConfig!O1102,\"\")","v":""},{"$f":"IF($B$2=StoreConfig!C1102,StoreConfig!E1102,\"\")","v":""},{"$f":"IF($B$2=StoreConfig!C1102,RIGHT(StoreConfig!J1102,LEN(StoreConfig!J1102)-FIND(\"|\",StoreConfig!J1102)),\"\")","v":""},{"$f":"IFERROR(VLOOKUP(--IF($B$2=StoreConfig!C1102,LEFT(StoreConfig!J1102,FIND(\"|\",StoreConfig!J1102)-1),\"\"),$Q$4:$R$20,2,FALSE),\"\")","v":""},{"$f":"IF($B$2=StoreConfig!C1102,LEFT(StoreConfig!G1102,FIND(\"#\",StoreConfig!G1102)-1),\"\")","v":""},{"$f":"IF($B$2=StoreConfig!C1102,RIGHT(StoreConfig!G1102,LEN(StoreConfig!G1102)-FIND(\"#\",StoreConfig!G1102)),\"\")","v":""},{"$f":"IF($B$2=StoreConfig!C1102,IF(StoreConfig!L1102=0,\"不限购\",StoreConfig!L1102&\"次\"),\"\")","v":""}]
[{"$nulls":3},{"$f":"IF($B$2=StoreConfig!C1103,StoreConfig!O1103,\"\")","v":""},{"$f":"IF($B$2=StoreConfig!C1103,StoreConfig!E1103,\"\")","v":""},{"$f":"IF($B$2=StoreConfig!C1103,RIGHT(StoreConfig!J1103,LEN(StoreConfig!J1103)-FIND(\"|\",StoreConfig!J1103)),\"\")","v":""},{"$f":"IFERROR(VLOOKUP(--IF($B$2=StoreConfig!C1103,LEFT(StoreConfig!J1103,FIND(\"|\",StoreConfig!J1103)-1),\"\"),$Q$4:$R$20,2,FALSE),\"\")","v":""},{"$f":"IF($B$2=StoreConfig!C1103,LEFT(StoreConfig!G1103,FIND(\"#\",StoreConfig!G1103)-1),\"\")","v":""},{"$f":"IF($B$2=StoreConfig!C1103,RIGHT(StoreConfig!G1103,LEN(StoreConfig!G1103)-FIND(\"#\",StoreConfig!G1103)),\"\")","v":""},{"$f":"IF($B$2=StoreConfig!C1103,IF(StoreConfig!L1103=0,\"不限购\",StoreConfig!L1103&\"次\"),\"\")","v":""}]
[{"$nulls":3},{"$f":"IF($B$2=StoreConfig!C1104,StoreConfig!O1104,\"\")","v":""},{"$f":"IF($B$2=StoreConfig!C1104,StoreConfig!E1104,\"\")","v":""},{"$f":"IF($B$2=StoreConfig!C1104,RIGHT(StoreConfig!J1104,LEN(StoreConfig!J1104)-FIND(\"|\",StoreConfig!J1104)),\"\")","v":""},{"$f":"IFERROR(VLOOKUP(--IF($B$2=StoreConfig!C1104,LEFT(StoreConfig!J1104,FIND(\"|\",StoreConfig!J1104)-1),\"\"),$Q$4:$R$20,2,FALSE),\"\")","v":""},{"$f":"IF($B$2=StoreConfig!C1104,LEFT(StoreConfig!G1104,FIND(\"#\",StoreConfig!G1104)-1),\"\")","v":""},{"$f":"IF($B$2=StoreConfig!C1104,RIGHT(StoreConfig!G1104,LEN(StoreConfig!G1104)-FIND(\"#\",StoreConfig!G1104)),\"\")","v":""},{"$f":"IF($B$2=StoreConfig!C1104,IF(StoreConfig!L1104=0,\"不限购\",StoreConfig!L1104&\"次\"),\"\")","v":""}]
[{"$nulls":3},{"$f":"IF($B$2=StoreConfig!C1105,StoreConfig!O1105,\"\")","v":""},{"$f":"IF($B$2=StoreConfig!C1105,StoreConfig!E1105,\"\")","v":""},{"$f":"IF($B$2=StoreConfig!C1105,RIGHT(StoreConfig!J1105,LEN(StoreConfig!J1105)-FIND(\"|\",StoreConfig!J1105)),\"\")","v":""},{"$f":"IFERROR(VLOOKUP(--IF($B$2=StoreConfig!C1105,LEFT(StoreConfig!J1105,FIND(\"|\",StoreConfig!J1105)-1),\"\"),$Q$4:$R$20,2,FALSE),\"\")","v":""},{"$f":"IF($B$2=StoreConfig!C1105,LEFT(StoreConfig!G1105,FIND(\"#\",StoreConfig!G1105)-1),\"\")","v":""},{"$f":"IF($B$2=StoreConfig!C1105,RIGHT(StoreConfig!G1105,LEN(StoreConfig!G1105)-FIND(\"#\",StoreConfig!G1105)),\"\")","v":""},{"$f":"IF($B$2=StoreConfig!C1105,IF(StoreConfig!L1105=0,\"不限购\",StoreConfig!L1105&\"次\"),\"\")","v":""}]
[{"$nulls":3},{"$f":"IF($B$2=StoreConfig!C1106,StoreConfig!O1106,\"\")","v":""},{"$f":"IF($B$2=StoreConfig!C1106,StoreConfig!E1106,\"\")","v":""},{"$f":"IF($B$2=StoreConfig!C1106,RIGHT(StoreConfig!J1106,LEN(StoreConfig!J1106)-FIND(\"|\",StoreConfig!J1106)),\"\")","v":""},{"$f":"IFERROR(VLOOKUP(--IF($B$2=StoreConfig!C1106,LEFT(StoreConfig!J1106,FIND(\"|\",StoreConfig!J1106)-1),\"\"),$Q$4:$R$20,2,FALSE),\"\")","v":""},{"$f":"IF($B$2=StoreConfig!C1106,LEFT(StoreConfig!G1106,FIND(\"#\",StoreConfig!G1106)-1),\"\")","v":""},{"$f":"IF($B$2=StoreConfig!C1106,RIGHT(StoreConfig!G1106,LEN(StoreConfig!G1106)-FIND(\"#\",StoreConfig!G1106)),\"\")","v":""},{"$f":"IF($B$2=StoreConfig!C1106,IF(StoreConfig!L1106=0,\"不限购\",StoreConfig!L1106&\"次\"),\"\")","v":""}]
[{"$nulls":3},{"$f":"IF($B$2=StoreConfig!C1107,StoreConfig!O1107,\"\")","v":""},{"$f":"IF($B$2=StoreConfig!C1107,StoreConfig!E1107,\"\")","v":""},{"$f":"IF($B$2=StoreConfig!C1107,RIGHT(StoreConfig!J1107,LEN(StoreConfig!J1107)-FIND(\"|\",StoreConfig!J1107)),\"\")","v":""},{"$f":"IFERROR(VLOOKUP(--IF($B$2=StoreConfig!C1107,LEFT(StoreConfig!J1107,FIND(\"|\",StoreConfig!J1107)-1),\"\"),$Q$4:$R$20,2,FALSE),\"\")","v":""},{"$f":"IF($B$2=StoreConfig!C1107,LEFT(StoreConfig!G1107,FIND(\"#\",StoreConfig!G1107)-1),\"\")","v":""},{"$f":"IF($B$2=StoreConfig!C1107,RIGHT(StoreConfig!G1107,LEN(StoreConfig!G1107)-FIND(\"#\",StoreConfig!G1107)),\"\")","v":""},{"$f":"IF($B$2=StoreConfig!C1107,IF(StoreConfig!L1107=0,\"不限购\",StoreConfig!L1107&\"次\"),\"\")","v":""}]
[{"$nulls":3},{"$f":"IF($B$2=StoreConfig!C1108,StoreConfig!O1108,\"\")","v":""},{"$f":"IF($B$2=StoreConfig!C1108,StoreConfig!E1108,\"\")","v":""},{"$f":"IF($B$2=StoreConfig!C1108,RIGHT(StoreConfig!J1108,LEN(StoreConfig!J1108)-FIND(\"|\",StoreConfig!J1108)),\"\")","v":""},{"$f":"IFERROR(VLOOKUP(--IF($B$2=StoreConfig!C1108,LEFT(StoreConfig!J1108,FIND(\"|\",StoreConfig!J1108)-1),\"\"),$Q$4:$R$20,2,FALSE),\"\")","v":""},{"$f":"IF($B$2=StoreConfig!C1108,LEFT(StoreConfig!G1108,FIND(\"#\",StoreConfig!G1108)-1),\"\")","v":""},{"$f":"IF($B$2=StoreConfig!C1108,RIGHT(StoreConfig!G1108,LEN(StoreConfig!G1108)-FIND(\"#\",StoreConfig!G1108)),\"\")","v":""},{"$f":"IF($B$2=StoreConfig!C1108,IF(StoreConfig!L1108=0,\"不限购\",StoreConfig!L1108&\"次\"),\"\")","v":""}]
[{"$nulls":3},{"$f":"IF($B$2=StoreConfig!C1109,StoreConfig!O1109,\"\")","v":""},{"$f":"IF($B$2=StoreConfig!C1109,StoreConfig!E1109,\"\")","v":""},{"$f":"IF($B$2=StoreConfig!C1109,RIGHT(StoreConfig!J1109,LEN(StoreConfig!J1109)-FIND(\"|\",StoreConfig!J1109)),\"\")","v":""},{"$f":"IFERROR(VLOOKUP(--IF($B$2=StoreConfig!C1109,LEFT(StoreConfig!J1109,FIND(\"|\",StoreConfig!J1109)-1),\"\"),$Q$4:$R$20,2,FALSE),\"\")","v":""},{"$f":"IF($B$2=StoreConfig!C1109,LEFT(StoreConfig!G1109,FIND(\"#\",StoreConfig!G1109)-1),\"\")","v":""},{"$f":"IF($B$2=StoreConfig!C1109,RIGHT(StoreConfig!G1109,LEN(StoreConfig!G1109)-FIND(\"#\",StoreConfig!G1109)),\"\")","v":""},{"$f":"IF($B$2=StoreConfig!C1109,IF(StoreConfig!L1109=0,\"不限购\",StoreConfig!L1109&\"次\"),\"\")","v":""}]
[{"$nulls":3},{"$f":"IF($B$2=StoreConfig!C1110,StoreConfig!O1110,\"\")","v":""},{"$f":"IF($B$2=StoreConfig!C1110,StoreConfig!E1110,\"\")","v":""},{"$f":"IF($B$2=StoreConfig!C1110,RIGHT(StoreConfig!J1110,LEN(StoreConfig!J1110)-FIND(\"|\",StoreConfig!J1110)),\"\")","v":""},{"$f":"IFERROR(VLOOKUP(--IF($B$2=StoreConfig!C1110,LEFT(StoreConfig!J1110,FIND(\"|\",StoreConfig!J1110)-1),\"\"),$Q$4:$R$20,2,FALSE),\"\")","v":""},{"$f":"IF($B$2=StoreConfig!C1110,LEFT(StoreConfig!G1110,FIND(\"#\",StoreConfig!G1110)-1),\"\")","v":""},{"$f":"IF($B$2=StoreConfig!C1110,RIGHT(StoreConfig!G1110,LEN(StoreConfig!G1110)-FIND(\"#\",StoreConfig!G1110)),\"\")","v":""},{"$f":"IF($B$2=StoreConfig!C1110,IF(StoreConfig!L1110=0,\"不限购\",StoreConfig!L1110&\"次\"),\"\")","v":""}]
[{"$nulls":3},{"$f":"IF($B$2=StoreConfig!C1111,StoreConfig!O1111,\"\")","v":""},{"$f":"IF($B$2=StoreConfig!C1111,StoreConfig!E1111,\"\")","v":""},{"$f":"IF($B$2=StoreConfig!C1111,RIGHT(StoreConfig!J1111,LEN(StoreConfig!J1111)-FIND(\"|\",StoreConfig!J1111)),\"\")","v":""},{"$f":"IFERROR(VLOOKUP(--IF($B$2=StoreConfig!C1111,LEFT(StoreConfig!J1111,FIND(\"|\",StoreConfig!J1111)-1),\"\"),$Q$4:$R$20,2,FALSE),\"\")","v":""},{"$f":"IF($B$2=StoreConfig!C1111,LEFT(StoreConfig!G1111,FIND(\"#\",StoreConfig!G1111)-1),\"\")","v":""},{"$f":"IF($B$2=StoreConfig!C1111,RIGHT(StoreConfig!G1111,LEN(StoreConfig!G1111)-FIND(\"#\",StoreConfig!G1111)),\"\")","v":""},{"$f":"IF($B$2=StoreConfig!C1111,IF(StoreConfig!L1111=0,\"不限购\",StoreConfig!L1111&\"次\"),\"\")","v":""}]
[{"$nulls":3},{"$f":"IF($B$2=StoreConfig!C1112,StoreConfig!O1112,\"\")","v":""},{"$f":"IF($B$2=StoreConfig!C1112,StoreConfig!E1112,\"\")","v":""},{"$f":"IF($B$2=StoreConfig!C1112,RIGHT(StoreConfig!J1112,LEN(StoreConfig!J1112)-FIND(\"|\",StoreConfig!J1112)),\"\")","v":""},{"$f":"IFERROR(VLOOKUP(--IF($B$2=StoreConfig!C1112,LEFT(StoreConfig!J1112,FIND(\"|\",StoreConfig!J1112)-1),\"\"),$Q$4:$R$20,2,FALSE),\"\")","v":""},{"$f":"IF($B$2=StoreConfig!C1112,LEFT(StoreConfig!G1112,FIND(\"#\",StoreConfig!G1112)-1),\"\")","v":""},{"$f":"IF($B$2=StoreConfig!C1112,RIGHT(StoreConfig!G1112,LEN(StoreConfig!G1112)-FIND(\"#\",StoreConfig!G1112)),\"\")","v":""},{"$f":"IF($B$2=StoreConfig!C1112,IF(StoreConfig!L1112=0,\"不限购\",StoreConfig!L1112&\"次\"),\"\")","v":""}]
[{"$nulls":3},{"$f":"IF($B$2=StoreConfig!C1113,StoreConfig!O1113,\"\")","v":""},{"$f":"IF($B$2=StoreConfig!C1113,StoreConfig!E1113,\"\")","v":""},{"$f":"IF($B$2=StoreConfig!C1113,RIGHT(StoreConfig!J1113,LEN(StoreConfig!J1113)-FIND(\"|\",StoreConfig!J1113)),\"\")","v":""},{"$f":"IFERROR(VLOOKUP(--IF($B$2=StoreConfig!C1113,LEFT(StoreConfig!J1113,FIND(\"|\",StoreConfig!J1113)-1),\"\"),$Q$4:$R$20,2,FALSE),\"\")","v":""},{"$f":"IF($B$2=StoreConfig!C1113,LEFT(StoreConfig!G1113,FIND(\"#\",StoreConfig!G1113)-1),\"\")","v":""},{"$f":"IF($B$2=StoreConfig!C1113,RIGHT(StoreConfig!G1113,LEN(StoreConfig!G1113)-FIND(\"#\",StoreConfig!G1113)),\"\")","v":""},{"$f":"IF($B$2=StoreConfig!C1113,IF(StoreConfig!L1113=0,\"不限购\",StoreConfig!L1113&\"次\"),\"\")","v":""}]
[{"$nulls":3},{"$f":"IF($B$2=StoreConfig!C1114,StoreConfig!O1114,\"\")","v":""},{"$f":"IF($B$2=StoreConfig!C1114,StoreConfig!E1114,\"\")","v":""},{"$f":"IF($B$2=StoreConfig!C1114,RIGHT(StoreConfig!J1114,LEN(StoreConfig!J1114)-FIND(\"|\",StoreConfig!J1114)),\"\")","v":""},{"$f":"IFERROR(VLOOKUP(--IF($B$2=StoreConfig!C1114,LEFT(StoreConfig!J1114,FIND(\"|\",StoreConfig!J1114)-1),\"\"),$Q$4:$R$20,2,FALSE),\"\")","v":""},{"$f":"IF($B$2=StoreConfig!C1114,LEFT(StoreConfig!G1114,FIND(\"#\",StoreConfig!G1114)-1),\"\")","v":""},{"$f":"IF($B$2=StoreConfig!C1114,RIGHT(StoreConfig!G1114,LEN(StoreConfig!G1114)-FIND(\"#\",StoreConfig!G1114)),\"\")","v":""},{"$f":"IF($B$2=StoreConfig!C1114,IF(StoreConfig!L1114=0,\"不限购\",StoreConfig!L1114&\"次\"),\"\")","v":""}]
[{"$nulls":3},{"$f":"IF($B$2=StoreConfig!C1115,StoreConfig!O1115,\"\")","v":""},{"$f":"IF($B$2=StoreConfig!C1115,StoreConfig!E1115,\"\")","v":""},{"$f":"IF($B$2=StoreConfig!C1115,RIGHT(StoreConfig!J1115,LEN(StoreConfig!J1115)-FIND(\"|\",StoreConfig!J1115)),\"\")","v":""},{"$f":"IFERROR(VLOOKUP(--IF($B$2=StoreConfig!C1115,LEFT(StoreConfig!J1115,FIND(\"|\",StoreConfig!J1115)-1),\"\"),$Q$4:$R$20,2,FALSE),\"\")","v":""},{"$f":"IF($B$2=StoreConfig!C1115,LEFT(StoreConfig!G1115,FIND(\"#\",StoreConfig!G1115)-1),\"\")","v":""},{"$f":"IF($B$2=StoreConfig!C1115,RIGHT(StoreConfig!G1115,LEN(StoreConfig!G1115)-FIND(\"#\",StoreConfig!G1115)),\"\")","v":""},{"$f":"IF($B$2=StoreConfig!C1115,IF(StoreConfig!L1115=0,\"不限购\",StoreConfig!L1115&\"次\"),\"\")","v":""}]
[{"$nulls":3},{"$f":"IF($B$2=StoreConfig!C1116,StoreConfig!O1116,\"\")","v":""},{"$f":"IF($B$2=StoreConfig!C1116,StoreConfig!E1116,\"\")","v":""},{"$f":"IF($B$2=StoreConfig!C1116,RIGHT(StoreConfig!J1116,LEN(StoreConfig!J1116)-FIND(\"|\",StoreConfig!J1116)),\"\")","v":""},{"$f":"IFERROR(VLOOKUP(--IF($B$2=StoreConfig!C1116,LEFT(StoreConfig!J1116,FIND(\"|\",StoreConfig!J1116)-1),\"\"),$Q$4:$R$20,2,FALSE),\"\")","v":""},{"$f":"IF($B$2=StoreConfig!C1116,LEFT(StoreConfig!G1116,FIND(\"#\",StoreConfig!G1116)-1),\"\")","v":""},{"$f":"IF($B$2=StoreConfig!C1116,RIGHT(StoreConfig!G1116,LEN(StoreConfig!G1116)-FIND(\"#\",StoreConfig!G1116)),\"\")","v":""},{"$f":"IF($B$2=StoreConfig!C1116,IF(StoreConfig!L1116=0,\"不限购\",StoreConfig!L1116&\"次\"),\"\")","v":""}]
[{"$nulls":3},{"$f":"IF($B$2=StoreConfig!C1117,StoreConfig!O1117,\"\")","v":""},{"$f":"IF($B$2=StoreConfig!C1117,StoreConfig!E1117,\"\")","v":""},{"$f":"IF($B$2=StoreConfig!C1117,RIGHT(StoreConfig!J1117,LEN(StoreConfig!J1117)-FIND(\"|\",StoreConfig!J1117)),\"\")","v":""},{"$f":"IFERROR(VLOOKUP(--IF($B$2=StoreConfig!C1117,LEFT(StoreConfig!J1117,FIND(\"|\",StoreConfig!J1117)-1),\"\"),$Q$4:$R$20,2,FALSE),\"\")","v":""},{"$f":"IF($B$2=StoreConfig!C1117,LEFT(StoreConfig!G1117,FIND(\"#\",StoreConfig!G1117)-1),\"\")","v":""},{"$f":"IF($B$2=StoreConfig!C1117,RIGHT(StoreConfig!G1117,LEN(StoreConfig!G1117)-FIND(\"#\",StoreConfig!G1117)),\"\")","v":""},{"$f":"IF($B$2=StoreConfig!C1117,IF(StoreConfig!L1117=0,\"不限购\",StoreConfig!L1117&\"次\"),\"\")","v":""}]
[{"$nulls":3},{"$f":"IF($B$2=StoreConfig!C1118,StoreConfig!O1118,\"\")","v":""},{"$f":"IF($B$2=StoreConfig!C1118,StoreConfig!E1118,\"\")","v":""},{"$f":"IF($B$2=StoreConfig!C1118,RIGHT(StoreConfig!J1118,LEN(StoreConfig!J1118)-FIND(\"|\",StoreConfig!J1118)),\"\")","v":""},{"$f":"IFERROR(VLOOKUP(--IF($B$2=StoreConfig!C1118,LEFT(StoreConfig!J1118,FIND(\"|\",StoreConfig!J1118)-1),\"\"),$Q$4:$R$20,2,FALSE),\"\")","v":""},{"$f":"IF($B$2=StoreConfig!C1118,LEFT(StoreConfig!G1118,FIND(\"#\",StoreConfig!G1118)-1),\"\")","v":""},{"$f":"IF($B$2=StoreConfig!C1118,RIGHT(StoreConfig!G1118,LEN(StoreConfig!G1118)-FIND(\"#\",StoreConfig!G1118)),\"\")","v":""},{"$f":"IF($B$2=StoreConfig!C1118,IF(StoreConfig!L1118=0,\"不限购\",StoreConfig!L1118&\"次\"),\"\")","v":""}]
[{"$nulls":3},{"$f":"IF($B$2=StoreConfig!C1119,StoreConfig!O1119,\"\")","v":""},{"$f":"IF($B$2=StoreConfig!C1119,StoreConfig!E1119,\"\")","v":""},{"$f":"IF($B$2=StoreConfig!C1119,RIGHT(StoreConfig!J1119,LEN(StoreConfig!J1119)-FIND(\"|\",StoreConfig!J1119)),\"\")","v":""},{"$f":"IFERROR(VLOOKUP(--IF($B$2=StoreConfig!C1119,LEFT(StoreConfig!J1119,FIND(\"|\",StoreConfig!J1119)-1),\"\"),$Q$4:$R$20,2,FALSE),\"\")","v":""},{"$f":"IF($B$2=StoreConfig!C1119,LEFT(StoreConfig!G1119,FIND(\"#\",StoreConfig!G1119)-1),\"\")","v":""},{"$f":"IF($B$2=StoreConfig!C1119,RIGHT(StoreConfig!G1119,LEN(StoreConfig!G1119)-FIND(\"#\",StoreConfig!G1119)),\"\")","v":""},{"$f":"IF($B$2=StoreConfig!C1119,IF(StoreConfig!L1119=0,\"不限购\",StoreConfig!L1119&\"次\"),\"\")","v":""}]
[{"$nulls":3},{"$f":"IF($B$2=StoreConfig!C1120,StoreConfig!O1120,\"\")","v":""},{"$f":"IF($B$2=StoreConfig!C1120,StoreConfig!E1120,\"\")","v":""},{"$f":"IF($B$2=StoreConfig!C1120,RIGHT(StoreConfig!J1120,LEN(StoreConfig!J1120)-FIND(\"|\",StoreConfig!J1120)),\"\")","v":""},{"$f":"IFERROR(VLOOKUP(--IF($B$2=StoreConfig!C1120,LEFT(StoreConfig!J1120,FIND(\"|\",StoreConfig!J1120)-1),\"\"),$Q$4:$R$20,2,FALSE),\"\")","v":""},{"$f":"IF($B$2=StoreConfig!C1120,LEFT(StoreConfig!G1120,FIND(\"#\",StoreConfig!G1120)-1),\"\")","v":""},{"$f":"IF($B$2=StoreConfig!C1120,RIGHT(StoreConfig!G1120,LEN(StoreConfig!G1120)-FIND(\"#\",StoreConfig!G1120)),\"\")","v":""},{"$f":"IF($B$2=StoreConfig!C1120,IF(StoreConfig!L1120=0,\"不限购\",StoreConfig!L1120&\"次\"),\"\")","v":""}]
[{"$nulls":3},{"$f":"IF($B$2=StoreConfig!C1121,StoreConfig!O1121,\"\")","v":""},{"$f":"IF($B$2=StoreConfig!C1121,StoreConfig!E1121,\"\")","v":""},{"$f":"IF($B$2=StoreConfig!C1121,RIGHT(StoreConfig!J1121,LEN(StoreConfig!J1121)-FIND(\"|\",StoreConfig!J1121)),\"\")","v":""},{"$f":"IFERROR(VLOOKUP(--IF($B$2=StoreConfig!C1121,LEFT(StoreConfig!J1121,FIND(\"|\",StoreConfig!J1121)-1),\"\"),$Q$4:$R$20,2,FALSE),\"\")","v":""},{"$f":"IF($B$2=StoreConfig!C1121,LEFT(StoreConfig!G1121,FIND(\"#\",StoreConfig!G1121)-1),\"\")","v":""},{"$f":"IF($B$2=StoreConfig!C1121,RIGHT(StoreConfig!G1121,LEN(StoreConfig!G1121)-FIND(\"#\",StoreConfig!G1121)),\"\")","v":""},{"$f":"IF($B$2=StoreConfig!C1121,IF(StoreConfig!L1121=0,\"不限购\",StoreConfig!L1121&\"次\"),\"\")","v":""}]
[{"$nulls":3},{"$f":"IF($B$2=StoreConfig!C1122,StoreConfig!O1122,\"\")","v":""},{"$f":"IF($B$2=StoreConfig!C1122,StoreConfig!E1122,\"\")","v":""},{"$f":"IF($B$2=StoreConfig!C1122,RIGHT(StoreConfig!J1122,LEN(StoreConfig!J1122)-FIND(\"|\",StoreConfig!J1122)),\"\")","v":""},{"$f":"IFERROR(VLOOKUP(--IF($B$2=StoreConfig!C1122,LEFT(StoreConfig!J1122,FIND(\"|\",StoreConfig!J1122)-1),\"\"),$Q$4:$R$20,2,FALSE),\"\")","v":""},{"$f":"IF($B$2=StoreConfig!C1122,LEFT(StoreConfig!G1122,FIND(\"#\",StoreConfig!G1122)-1),\"\")","v":""},{"$f":"IF($B$2=StoreConfig!C1122,RIGHT(StoreConfig!G1122,LEN(StoreConfig!G1122)-FIND(\"#\",StoreConfig!G1122)),\"\")","v":""},{"$f":"IF($B$2=StoreConfig!C1122,IF(StoreConfig!L1122=0,\"不限购\",StoreConfig!L1122&\"次\"),\"\")","v":""}]
[{"$nulls":3},{"$f":"IF($B$2=StoreConfig!C1123,StoreConfig!O1123,\"\")","v":""},{"$f":"IF($B$2=StoreConfig!C1123,StoreConfig!E1123,\"\")","v":""},{"$f":"IF($B$2=StoreConfig!C1123,RIGHT(StoreConfig!J1123,LEN(StoreConfig!J1123)-FIND(\"|\",StoreConfig!J1123)),\"\")","v":""},{"$f":"IFERROR(VLOOKUP(--IF($B$2=StoreConfig!C1123,LEFT(StoreConfig!J1123,FIND(\"|\",StoreConfig!J1123)-1),\"\"),$Q$4:$R$20,2,FALSE),\"\")","v":""},{"$f":"IF($B$2=StoreConfig!C1123,LEFT(StoreConfig!G1123,FIND(\"#\",StoreConfig!G1123)-1),\"\")","v":""},{"$f":"IF($B$2=StoreConfig!C1123,RIGHT(StoreConfig!G1123,LEN(StoreConfig!G1123)-FIND(\"#\",StoreConfig!G1123)),\"\")","v":""},{"$f":"IF($B$2=StoreConfig!C1123,IF(StoreConfig!L1123=0,\"不限购\",StoreConfig!L1123&\"次\"),\"\")","v":""}]
[{"$nulls":3},{"$f":"IF($B$2=StoreConfig!C1124,StoreConfig!O1124,\"\")","v":""},{"$f":"IF($B$2=StoreConfig!C1124,StoreConfig!E1124,\"\")","v":""},{"$f":"IF($B$2=StoreConfig!C1124,RIGHT(StoreConfig!J1124,LEN(StoreConfig!J1124)-FIND(\"|\",StoreConfig!J1124)),\"\")","v":""},{"$f":"IFERROR(VLOOKUP(--IF($B$2=StoreConfig!C1124,LEFT(StoreConfig!J1124,FIND(\"|\",StoreConfig!J1124)-1),\"\"),$Q$4:$R$20,2,FALSE),\"\")","v":""},{"$f":"IF($B$2=StoreConfig!C1124,LEFT(StoreConfig!G1124,FIND(\"#\",StoreConfig!G1124)-1),\"\")","v":""},{"$f":"IF($B$2=StoreConfig!C1124,RIGHT(StoreConfig!G1124,LEN(StoreConfig!G1124)-FIND(\"#\",StoreConfig!G1124)),\"\")","v":""},{"$f":"IF($B$2=StoreConfig!C1124,IF(StoreConfig!L1124=0,\"不限购\",StoreConfig!L1124&\"次\"),\"\")","v":""}]
[{"$nulls":3},{"$f":"IF($B$2=StoreConfig!C1125,StoreConfig!O1125,\"\")","v":""},{"$f":"IF($B$2=StoreConfig!C1125,StoreConfig!E1125,\"\")","v":""},{"$f":"IF($B$2=StoreConfig!C1125,RIGHT(StoreConfig!J1125,LEN(StoreConfig!J1125)-FIND(\"|\",StoreConfig!J1125)),\"\")","v":""},{"$f":"IFERROR(VLOOKUP(--IF($B$2=StoreConfig!C1125,LEFT(StoreConfig!J1125,FIND(\"|\",StoreConfig!J1125)-1),\"\"),$Q$4:$R$20,2,FALSE),\"\")","v":""},{"$f":"IF($B$2=StoreConfig!C1125,LEFT(StoreConfig!G1125,FIND(\"#\",StoreConfig!G1125)-1),\"\")","v":""},{"$f":"IF($B$2=StoreConfig!C1125,RIGHT(StoreConfig!G1125,LEN(StoreConfig!G1125)-FIND(\"#\",StoreConfig!G1125)),\"\")","v":""},{"$f":"IF($B$2=StoreConfig!C1125,IF(StoreConfig!L1125=0,\"不限购\",StoreConfig!L1125&\"次\"),\"\")","v":""}]
[{"$nulls":3},{"$f":"IF($B$2=StoreConfig!C1126,StoreConfig!O1126,\"\")","v":""},{"$f":"IF($B$2=StoreConfig!C1126,StoreConfig!E1126,\"\")","v":""},{"$f":"IF($B$2=StoreConfig!C1126,RIGHT(StoreConfig!J1126,LEN(StoreConfig!J1126)-FIND(\"|\",StoreConfig!J1126)),\"\")","v":""},{"$f":"IFERROR(VLOOKUP(--IF($B$2=StoreConfig!C1126,LEFT(StoreConfig!J1126,FIND(\"|\",StoreConfig!J1126)-1),\"\"),$Q$4:$R$20,2,FALSE),\"\")","v":""},{"$f":"IF($B$2=StoreConfig!C1126,LEFT(StoreConfig!G1126,FIND(\"#\",StoreConfig!G1126)-1),\"\")","v":""},{"$f":"IF($B$2=StoreConfig!C1126,RIGHT(StoreConfig!G1126,LEN(StoreConfig!G1126)-FIND(\"#\",StoreConfig!G1126)),\"\")","v":""},{"$f":"IF($B$2=StoreConfig!C1126,IF(StoreConfig!L1126=0,\"不限购\",StoreConfig!L1126&\"次\"),\"\")","v":""}]
[{"$nulls":3},{"$f":"IF($B$2=StoreConfig!C1127,StoreConfig!O1127,\"\")","v":""},{"$f":"IF($B$2=StoreConfig!C1127,StoreConfig!E1127,\"\")","v":""},{"$f":"IF($B$2=StoreConfig!C1127,RIGHT(StoreConfig!J1127,LEN(StoreConfig!J1127)-FIND(\"|\",StoreConfig!J1127)),\"\")","v":""},{"$f":"IFERROR(VLOOKUP(--IF($B$2=StoreConfig!C1127,LEFT(StoreConfig!J1127,FIND(\"|\",StoreConfig!J1127)-1),\"\"),$Q$4:$R$20,2,FALSE),\"\")","v":""},{"$f":"IF($B$2=StoreConfig!C1127,LEFT(StoreConfig!G1127,FIND(\"#\",StoreConfig!G1127)-1),\"\")","v":""},{"$f":"IF($B$2=StoreConfig!C1127,RIGHT(StoreConfig!G1127,LEN(StoreConfig!G1127)-FIND(\"#\",StoreConfig!G1127)),\"\")","v":""},{"$f":"IF($B$2=StoreConfig!C1127,IF(StoreConfig!L1127=0,\"不限购\",StoreConfig!L1127&\"次\"),\"\")","v":""}]
[{"$nulls":3},{"$f":"IF($B$2=StoreConfig!C1128,StoreConfig!O1128,\"\")","v":""},{"$f":"IF($B$2=StoreConfig!C1128,StoreConfig!E1128,\"\")","v":""},{"$f":"IF($B$2=StoreConfig!C1128,RIGHT(StoreConfig!J1128,LEN(StoreConfig!J1128)-FIND(\"|\",StoreConfig!J1128)),\"\")","v":""},{"$f":"IFERROR(VLOOKUP(--IF($B$2=StoreConfig!C1128,LEFT(StoreConfig!J1128,FIND(\"|\",StoreConfig!J1128)-1),\"\"),$Q$4:$R$20,2,FALSE),\"\")","v":""},{"$f":"IF($B$2=StoreConfig!C1128,LEFT(StoreConfig!G1128,FIND(\"#\",StoreConfig!G1128)-1),\"\")","v":""},{"$f":"IF($B$2=StoreConfig!C1128,RIGHT(StoreConfig!G1128,LEN(StoreConfig!G1128)-FIND(\"#\",StoreConfig!G1128)),\"\")","v":""},{"$f":"IF($B$2=StoreConfig!C1128,IF(StoreConfig!L1128=0,\"不限购\",StoreConfig!L1128&\"次\"),\"\")","v":""}]
[{"$nulls":3},{"$f":"IF($B$2=StoreConfig!C1129,StoreConfig!O1129,\"\")","v":""},{"$f":"IF($B$2=StoreConfig!C1129,StoreConfig!E1129,\"\")","v":""},{"$f":"IF($B$2=StoreConfig!C1129,RIGHT(StoreConfig!J1129,LEN(StoreConfig!J1129)-FIND(\"|\",StoreConfig!J1129)),\"\")","v":""},{"$f":"IFERROR(VLOOKUP(--IF($B$2=StoreConfig!C1129,LEFT(StoreConfig!J1129,FIND(\"|\",StoreConfig!J1129)-1),\"\"),$Q$4:$R$20,2,FALSE),\"\")","v":""},{"$f":"IF($B$2=StoreConfig!C1129,LEFT(StoreConfig!G1129,FIND(\"#\",StoreConfig!G1129)-1),\"\")","v":""},{"$f":"IF($B$2=StoreConfig!C1129,RIGHT(StoreConfig!G1129,LEN(StoreConfig!G1129)-FIND(\"#\",StoreConfig!G1129)),\"\")","v":""},{"$f":"IF($B$2=StoreConfig!C1129,IF(StoreConfig!L1129=0,\"不限购\",StoreConfig!L1129&\"次\"),\"\")","v":""}]
[{"$nulls":3},{"$f":"IF($B$2=StoreConfig!C1130,StoreConfig!O1130,\"\")","v":""},{"$f":"IF($B$2=StoreConfig!C1130,StoreConfig!E1130,\"\")","v":""},{"$f":"IF($B$2=StoreConfig!C1130,RIGHT(StoreConfig!J1130,LEN(StoreConfig!J1130)-FIND(\"|\",StoreConfig!J1130)),\"\")","v":""},{"$f":"IFERROR(VLOOKUP(--IF($B$2=StoreConfig!C1130,LEFT(StoreConfig!J1130,FIND(\"|\",StoreConfig!J1130)-1),\"\"),$Q$4:$R$20,2,FALSE),\"\")","v":""},{"$f":"IF($B$2=StoreConfig!C1130,LEFT(StoreConfig!G1130,FIND(\"#\",StoreConfig!G1130)-1),\"\")","v":""},{"$f":"IF($B$2=StoreConfig!C1130,RIGHT(StoreConfig!G1130,LEN(StoreConfig!G1130)-FIND(\"#\",StoreConfig!G1130)),\"\")","v":""},{"$f":"IF($B$2=StoreConfig!C1130,IF(StoreConfig!L1130=0,\"不限购\",StoreConfig!L1130&\"次\"),\"\")","v":""}]
[{"$nulls":3},{"$f":"IF($B$2=StoreConfig!C1131,StoreConfig!O1131,\"\")","v":""},{"$f":"IF($B$2=StoreConfig!C1131,StoreConfig!E1131,\"\")","v":""},{"$f":"IF($B$2=StoreConfig!C1131,RIGHT(StoreConfig!J1131,LEN(StoreConfig!J1131)-FIND(\"|\",StoreConfig!J1131)),\"\")","v":""},{"$f":"IFERROR(VLOOKUP(--IF($B$2=StoreConfig!C1131,LEFT(StoreConfig!J1131,FIND(\"|\",StoreConfig!J1131)-1),\"\"),$Q$4:$R$20,2,FALSE),\"\")","v":""},{"$f":"IF($B$2=StoreConfig!C1131,LEFT(StoreConfig!G1131,FIND(\"#\",StoreConfig!G1131)-1),\"\")","v":""},{"$f":"IF($B$2=StoreConfig!C1131,RIGHT(StoreConfig!G1131,LEN(StoreConfig!G1131)-FIND(\"#\",StoreConfig!G1131)),\"\")","v":""},{"$f":"IF($B$2=StoreConfig!C1131,IF(StoreConfig!L1131=0,\"不限购\",StoreConfig!L1131&\"次\"),\"\")","v":""}]
[{"$nulls":3},{"$f":"IF($B$2=StoreConfig!C1132,StoreConfig!O1132,\"\")","v":""},{"$f":"IF($B$2=StoreConfig!C1132,StoreConfig!E1132,\"\")","v":""},{"$f":"IF($B$2=StoreConfig!C1132,RIGHT(StoreConfig!J1132,LEN(StoreConfig!J1132)-FIND(\"|\",StoreConfig!J1132)),\"\")","v":""},{"$f":"IFERROR(VLOOKUP(--IF($B$2=StoreConfig!C1132,LEFT(StoreConfig!J1132,FIND(\"|\",StoreConfig!J1132)-1),\"\"),$Q$4:$R$20,2,FALSE),\"\")","v":""},{"$f":"IF($B$2=StoreConfig!C1132,LEFT(StoreConfig!G1132,FIND(\"#\",StoreConfig!G1132)-1),\"\")","v":""},{"$f":"IF($B$2=StoreConfig!C1132,RIGHT(StoreConfig!G1132,LEN(StoreConfig!G1132)-FIND(\"#\",StoreConfig!G1132)),\"\")","v":""},{"$f":"IF($B$2=StoreConfig!C1132,IF(StoreConfig!L1132=0,\"不限购\",StoreConfig!L1132&\"次\"),\"\")","v":""}]
[{"$nulls":3},{"$f":"IF($B$2=StoreConfig!C1133,StoreConfig!O1133,\"\")","v":""},{"$f":"IF($B$2=StoreConfig!C1133,StoreConfig!E1133,\"\")","v":""},{"$f":"IF($B$2=StoreConfig!C1133,RIGHT(StoreConfig!J1133,LEN(StoreConfig!J1133)-FIND(\"|\",StoreConfig!J1133)),\"\")","v":""},{"$f":"IFERROR(VLOOKUP(--IF($B$2=StoreConfig!C1133,LEFT(StoreConfig!J1133,FIND(\"|\",StoreConfig!J1133)-1),\"\"),$Q$4:$R$20,2,FALSE),\"\")","v":""},{"$f":"IF($B$2=StoreConfig!C1133,LEFT(StoreConfig!G1133,FIND(\"#\",StoreConfig!G1133)-1),\"\")","v":""},{"$f":"IF($B$2=StoreConfig!C1133,RIGHT(StoreConfig!G1133,LEN(StoreConfig!G1133)-FIND(\"#\",StoreConfig!G1133)),\"\")","v":""},{"$f":"IF($B$2=StoreConfig!C1133,IF(StoreConfig!L1133=0,\"不限购\",StoreConfig!L1133&\"次\"),\"\")","v":""}]
[{"$nulls":3},{"$f":"IF($B$2=StoreConfig!C1134,StoreConfig!O1134,\"\")","v":""},{"$f":"IF($B$2=StoreConfig!C1134,StoreConfig!E1134,\"\")","v":""},{"$f":"IF($B$2=StoreConfig!C1134,RIGHT(StoreConfig!J1134,LEN(StoreConfig!J1134)-FIND(\"|\",StoreConfig!J1134)),\"\")","v":""},{"$f":"IFERROR(VLOOKUP(--IF($B$2=StoreConfig!C1134,LEFT(StoreConfig!J1134,FIND(\"|\",StoreConfig!J1134)-1),\"\"),$Q$4:$R$20,2,FALSE),\"\")","v":""},{"$f":"IF($B$2=StoreConfig!C1134,LEFT(StoreConfig!G1134,FIND(\"#\",StoreConfig!G1134)-1),\"\")","v":""},{"$f":"IF($B$2=StoreConfig!C1134,RIGHT(StoreConfig!G1134,LEN(StoreConfig!G1134)-FIND(\"#\",StoreConfig!G1134)),\"\")","v":""},{"$f":"IF($B$2=StoreConfig!C1134,IF(StoreConfig!L1134=0,\"不限购\",StoreConfig!L1134&\"次\"),\"\")","v":""}]
[{"$nulls":3},{"$f":"IF($B$2=StoreConfig!C1135,StoreConfig!O1135,\"\")","v":""},{"$f":"IF($B$2=StoreConfig!C1135,StoreConfig!E1135,\"\")","v":""},{"$f":"IF($B$2=StoreConfig!C1135,RIGHT(StoreConfig!J1135,LEN(StoreConfig!J1135)-FIND(\"|\",StoreConfig!J1135)),\"\")","v":""},{"$f":"IFERROR(VLOOKUP(--IF($B$2=StoreConfig!C1135,LEFT(StoreConfig!J1135,FIND(\"|\",StoreConfig!J1135)-1),\"\"),$Q$4:$R$20,2,FALSE),\"\")","v":""},{"$f":"IF($B$2=StoreConfig!C1135,LEFT(StoreConfig!G1135,FIND(\"#\",StoreConfig!G1135)-1),\"\")","v":""},{"$f":"IF($B$2=StoreConfig!C1135,RIGHT(StoreConfig!G1135,LEN(StoreConfig!G1135)-FIND(\"#\",StoreConfig!G1135)),\"\")","v":""},{"$f":"IF($B$2=StoreConfig!C1135,IF(StoreConfig!L1135=0,\"不限购\",StoreConfig!L1135&\"次\"),\"\")","v":""}]
[{"$nulls":3},{"$f":"IF($B$2=StoreConfig!C1136,StoreConfig!O1136,\"\")","v":""},{"$f":"IF($B$2=StoreConfig!C1136,StoreConfig!E1136,\"\")","v":""},{"$f":"IF($B$2=StoreConfig!C1136,RIGHT(StoreConfig!J1136,LEN(StoreConfig!J1136)-FIND(\"|\",StoreConfig!J1136)),\"\")","v":""},{"$f":"IFERROR(VLOOKUP(--IF($B$2=StoreConfig!C1136,LEFT(StoreConfig!J1136,FIND(\"|\",StoreConfig!J1136)-1),\"\"),$Q$4:$R$20,2,FALSE),\"\")","v":""},{"$f":"IF($B$2=StoreConfig!C1136,LEFT(StoreConfig!G1136,FIND(\"#\",StoreConfig!G1136)-1),\"\")","v":""},{"$f":"IF($B$2=StoreConfig!C1136,RIGHT(StoreConfig!G1136,LEN(StoreConfig!G1136)-FIND(\"#\",StoreConfig!G1136)),\"\")","v":""},{"$f":"IF($B$2=StoreConfig!C1136,IF(StoreConfig!L1136=0,\"不限购\",StoreConfig!L1136&\"次\"),\"\")","v":""}]
[{"$nulls":3},{"$f":"IF($B$2=StoreConfig!C1137,StoreConfig!O1137,\"\")","v":""},{"$f":"IF($B$2=StoreConfig!C1137,StoreConfig!E1137,\"\")","v":""},{"$f":"IF($B$2=StoreConfig!C1137,RIGHT(StoreConfig!J1137,LEN(StoreConfig!J1137)-FIND(\"|\",StoreConfig!J1137)),\"\")","v":""},{"$f":"IFERROR(VLOOKUP(--IF($B$2=StoreConfig!C1137,LEFT(StoreConfig!J1137,FIND(\"|\",StoreConfig!J1137)-1),\"\"),$Q$4:$R$20,2,FALSE),\"\")","v":""},{"$f":"IF($B$2=StoreConfig!C1137,LEFT(StoreConfig!G1137,FIND(\"#\",StoreConfig!G1137)-1),\"\")","v":""},{"$f":"IF($B$2=StoreConfig!C1137,RIGHT(StoreConfig!G1137,LEN(StoreConfig!G1137)-FIND(\"#\",StoreConfig!G1137)),\"\")","v":""},{"$f":"IF($B$2=StoreConfig!C1137,IF(StoreConfig!L1137=0,\"不限购\",StoreConfig!L1137&\"次\"),\"\")","v":""}]
[{"$nulls":3},{"$f":"IF($B$2=StoreConfig!C1138,StoreConfig!O1138,\"\")","v":""},{"$f":"IF($B$2=StoreConfig!C1138,StoreConfig!E1138,\"\")","v":""},{"$f":"IF($B$2=StoreConfig!C1138,RIGHT(StoreConfig!J1138,LEN(StoreConfig!J1138)-FIND(\"|\",StoreConfig!J1138)),\"\")","v":""},{"$f":"IFERROR(VLOOKUP(--IF($B$2=StoreConfig!C1138,LEFT(StoreConfig!J1138,FIND(\"|\",StoreConfig!J1138)-1),\"\"),$Q$4:$R$20,2,FALSE),\"\")","v":""},{"$f":"IF($B$2=StoreConfig!C1138,LEFT(StoreConfig!G1138,FIND(\"#\",StoreConfig!G1138)-1),\"\")","v":""},{"$f":"IF($B$2=StoreConfig!C1138,RIGHT(StoreConfig!G1138,LEN(StoreConfig!G1138)-FIND(\"#\",StoreConfig!G1138)),\"\")","v":""},{"$f":"IF($B$2=StoreConfig!C1138,IF(StoreConfig!L1138=0,\"不限购\",StoreConfig!L1138&\"次\"),\"\")","v":""}]
[{"$nulls":3},{"$f":"IF($B$2=StoreConfig!C1139,StoreConfig!O1139,\"\")","v":""},{"$f":"IF($B$2=StoreConfig!C1139,StoreConfig!E1139,\"\")","v":""},{"$f":"IF($B$2=StoreConfig!C1139,RIGHT(StoreConfig!J1139,LEN(StoreConfig!J1139)-FIND(\"|\",StoreConfig!J1139)),\"\")","v":""},{"$f":"IFERROR(VLOOKUP(--IF($B$2=StoreConfig!C1139,LEFT(StoreConfig!J1139,FIND(\"|\",StoreConfig!J1139)-1),\"\"),$Q$4:$R$20,2,FALSE),\"\")","v":""},{"$f":"IF($B$2=StoreConfig!C1139,LEFT(StoreConfig!G1139,FIND(\"#\",StoreConfig!G1139)-1),\"\")","v":""},{"$f":"IF($B$2=StoreConfig!C1139,RIGHT(StoreConfig!G1139,LEN(StoreConfig!G1139)-FIND(\"#\",StoreConfig!G1139)),\"\")","v":""},{"$f":"IF($B$2=StoreConfig!C1139,IF(StoreConfig!L1139=0,\"不限购\",StoreConfig!L1139&\"次\"),\"\")","v":""}]
[{"$nulls":3},{"$f":"IF($B$2=StoreConfig!C1140,StoreConfig!O1140,\"\")","v":""},{"$f":"IF($B$2=StoreConfig!C1140,StoreConfig!E1140,\"\")","v":""},{"$f":"IF($B$2=StoreConfig!C1140,RIGHT(StoreConfig!J1140,LEN(StoreConfig!J1140)-FIND(\"|\",StoreConfig!J1140)),\"\")","v":""},{"$f":"IFERROR(VLOOKUP(--IF($B$2=StoreConfig!C1140,LEFT(StoreConfig!J1140,FIND(\"|\",StoreConfig!J1140)-1),\"\"),$Q$4:$R$20,2,FALSE),\"\")","v":""},{"$f":"IF($B$2=StoreConfig!C1140,LEFT(StoreConfig!G1140,FIND(\"#\",StoreConfig!G1140)-1),\"\")","v":""},{"$f":"IF($B$2=StoreConfig!C1140,RIGHT(StoreConfig!G1140,LEN(StoreConfig!G1140)-FIND(\"#\",StoreConfig!G1140)),\"\")","v":""},{"$f":"IF($B$2=StoreConfig!C1140,IF(StoreConfig!L1140=0,\"不限购\",StoreConfig!L1140&\"次\"),\"\")","v":""}]
[{"$nulls":3},{"$f":"IF($B$2=StoreConfig!C1141,StoreConfig!O1141,\"\")","v":""},{"$f":"IF($B$2=StoreConfig!C1141,StoreConfig!E1141,\"\")","v":""},{"$f":"IF($B$2=StoreConfig!C1141,RIGHT(StoreConfig!J1141,LEN(StoreConfig!J1141)-FIND(\"|\",StoreConfig!J1141)),\"\")","v":""},{"$f":"IFERROR(VLOOKUP(--IF($B$2=StoreConfig!C1141,LEFT(StoreConfig!J1141,FIND(\"|\",StoreConfig!J1141)-1),\"\"),$Q$4:$R$20,2,FALSE),\"\")","v":""},{"$f":"IF($B$2=StoreConfig!C1141,LEFT(StoreConfig!G1141,FIND(\"#\",StoreConfig!G1141)-1),\"\")","v":""},{"$f":"IF($B$2=StoreConfig!C1141,RIGHT(StoreConfig!G1141,LEN(StoreConfig!G1141)-FIND(\"#\",StoreConfig!G1141)),\"\")","v":""},{"$f":"IF($B$2=StoreConfig!C1141,IF(StoreConfig!L1141=0,\"不限购\",StoreConfig!L1141&\"次\"),\"\")","v":""}]
[{"$nulls":3},{"$f":"IF($B$2=StoreConfig!C1142,StoreConfig!O1142,\"\")","v":""},{"$f":"IF($B$2=StoreConfig!C1142,StoreConfig!E1142,\"\")","v":""},{"$f":"IF($B$2=StoreConfig!C1142,RIGHT(StoreConfig!J1142,LEN(StoreConfig!J1142)-FIND(\"|\",StoreConfig!J1142)),\"\")","v":""},{"$f":"IFERROR(VLOOKUP(--IF($B$2=StoreConfig!C1142,LEFT(StoreConfig!J1142,FIND(\"|\",StoreConfig!J1142)-1),\"\"),$Q$4:$R$20,2,FALSE),\"\")","v":""},{"$f":"IF($B$2=StoreConfig!C1142,LEFT(StoreConfig!G1142,FIND(\"#\",StoreConfig!G1142)-1),\"\")","v":""},{"$f":"IF($B$2=StoreConfig!C1142,RIGHT(StoreConfig!G1142,LEN(StoreConfig!G1142)-FIND(\"#\",StoreConfig!G1142)),\"\")","v":""},{"$f":"IF($B$2=StoreConfig!C1142,IF(StoreConfig!L1142=0,\"不限购\",StoreConfig!L1142&\"次\"),\"\")","v":""}]
[{"$nulls":3},{"$f":"IF($B$2=StoreConfig!C1143,StoreConfig!O1143,\"\")","v":""},{"$f":"IF($B$2=StoreConfig!C1143,StoreConfig!E1143,\"\")","v":""},{"$f":"IF($B$2=StoreConfig!C1143,RIGHT(StoreConfig!J1143,LEN(StoreConfig!J1143)-FIND(\"|\",StoreConfig!J1143)),\"\")","v":""},{"$f":"IFERROR(VLOOKUP(--IF($B$2=StoreConfig!C1143,LEFT(StoreConfig!J1143,FIND(\"|\",StoreConfig!J1143)-1),\"\"),$Q$4:$R$20,2,FALSE),\"\")","v":""},{"$f":"IF($B$2=StoreConfig!C1143,LEFT(StoreConfig!G1143,FIND(\"#\",StoreConfig!G1143)-1),\"\")","v":""},{"$f":"IF($B$2=StoreConfig!C1143,RIGHT(StoreConfig!G1143,LEN(StoreConfig!G1143)-FIND(\"#\",StoreConfig!G1143)),\"\")","v":""},{"$f":"IF($B$2=StoreConfig!C1143,IF(StoreConfig!L1143=0,\"不限购\",StoreConfig!L1143&\"次\"),\"\")","v":""}]
[{"$nulls":3},{"$f":"IF($B$2=StoreConfig!C1144,StoreConfig!O1144,\"\")","v":""},{"$f":"IF($B$2=StoreConfig!C1144,StoreConfig!E1144,\"\")","v":""},{"$f":"IF($B$2=StoreConfig!C1144,RIGHT(StoreConfig!J1144,LEN(StoreConfig!J1144)-FIND(\"|\",StoreConfig!J1144)),\"\")","v":""},{"$f":"IFERROR(VLOOKUP(--IF($B$2=StoreConfig!C1144,LEFT(StoreConfig!J1144,FIND(\"|\",StoreConfig!J1144)-1),\"\"),$Q$4:$R$20,2,FALSE),\"\")","v":""},{"$f":"IF($B$2=StoreConfig!C1144,LEFT(StoreConfig!G1144,FIND(\"#\",StoreConfig!G1144)-1),\"\")","v":""},{"$f":"IF($B$2=StoreConfig!C1144,RIGHT(StoreConfig!G1144,LEN(StoreConfig!G1144)-FIND(\"#\",StoreConfig!G1144)),\"\")","v":""},{"$f":"IF($B$2=StoreConfig!C1144,IF(StoreConfig!L1144=0,\"不限购\",StoreConfig!L1144&\"次\"),\"\")","v":""}]
[{"$nulls":3},{"$f":"IF($B$2=StoreConfig!C1145,StoreConfig!O1145,\"\")","v":""},{"$f":"IF($B$2=StoreConfig!C1145,StoreConfig!E1145,\"\")","v":""},{"$f":"IF($B$2=StoreConfig!C1145,RIGHT(StoreConfig!J1145,LEN(StoreConfig!J1145)-FIND(\"|\",StoreConfig!J1145)),\"\")","v":""},{"$f":"IFERROR(VLOOKUP(--IF($B$2=StoreConfig!C1145,LEFT(StoreConfig!J1145,FIND(\"|\",StoreConfig!J1145)-1),\"\"),$Q$4:$R$20,2,FALSE),\"\")","v":""},{"$f":"IF($B$2=StoreConfig!C1145,LEFT(StoreConfig!G1145,FIND(\"#\",StoreConfig!G1145)-1),\"\")","v":""},{"$f":"IF($B$2=StoreConfig!C1145,RIGHT(StoreConfig!G1145,LEN(StoreConfig!G1145)-FIND(\"#\",StoreConfig!G1145)),\"\")","v":""},{"$f":"IF($B$2=StoreConfig!C1145,IF(StoreConfig!L1145=0,\"不限购\",StoreConfig!L1145&\"次\"),\"\")","v":""}]
[{"$nulls":3},{"$f":"IF($B$2=StoreConfig!C1146,StoreConfig!O1146,\"\")","v":""},{"$f":"IF($B$2=StoreConfig!C1146,StoreConfig!E1146,\"\")","v":""},{"$f":"IF($B$2=StoreConfig!C1146,RIGHT(StoreConfig!J1146,LEN(StoreConfig!J1146)-FIND(\"|\",StoreConfig!J1146)),\"\")","v":""},{"$f":"IFERROR(VLOOKUP(--IF($B$2=StoreConfig!C1146,LEFT(StoreConfig!J1146,FIND(\"|\",StoreConfig!J1146)-1),\"\"),$Q$4:$R$20,2,FALSE),\"\")","v":""},{"$f":"IF($B$2=StoreConfig!C1146,LEFT(StoreConfig!G1146,FIND(\"#\",StoreConfig!G1146)-1),\"\")","v":""},{"$f":"IF($B$2=StoreConfig!C1146,RIGHT(StoreConfig!G1146,LEN(StoreConfig!G1146)-FIND(\"#\",StoreConfig!G1146)),\"\")","v":""},{"$f":"IF($B$2=StoreConfig!C1146,IF(StoreConfig!L1146=0,\"不限购\",StoreConfig!L1146&\"次\"),\"\")","v":""}]
[{"$nulls":3},{"$f":"IF($B$2=StoreConfig!C1147,StoreConfig!O1147,\"\")","v":""},{"$f":"IF($B$2=StoreConfig!C1147,StoreConfig!E1147,\"\")","v":""},{"$f":"IF($B$2=StoreConfig!C1147,RIGHT(StoreConfig!J1147,LEN(StoreConfig!J1147)-FIND(\"|\",StoreConfig!J1147)),\"\")","v":""},{"$f":"IFERROR(VLOOKUP(--IF($B$2=StoreConfig!C1147,LEFT(StoreConfig!J1147,FIND(\"|\",StoreConfig!J1147)-1),\"\"),$Q$4:$R$20,2,FALSE),\"\")","v":""},{"$f":"IF($B$2=StoreConfig!C1147,LEFT(StoreConfig!G1147,FIND(\"#\",StoreConfig!G1147)-1),\"\")","v":""},{"$f":"IF($B$2=StoreConfig!C1147,RIGHT(StoreConfig!G1147,LEN(StoreConfig!G1147)-FIND(\"#\",StoreConfig!G1147)),\"\")","v":""},{"$f":"IF($B$2=StoreConfig!C1147,IF(StoreConfig!L1147=0,\"不限购\",StoreConfig!L1147&\"次\"),\"\")","v":""}]
[{"$nulls":3},{"$f":"IF($B$2=StoreConfig!C1148,StoreConfig!O1148,\"\")","v":""},{"$f":"IF($B$2=StoreConfig!C1148,StoreConfig!E1148,\"\")","v":""},{"$f":"IF($B$2=StoreConfig!C1148,RIGHT(StoreConfig!#REF!,LEN(StoreConfig!#REF!)-FIND(\"|\",StoreConfig!#REF!)),\"\")","v":""},{"$f":"IFERROR(VLOOKUP(--IF($B$2=StoreConfig!C1148,LEFT(StoreConfig!#REF!,FIND(\"|\",StoreConfig!#REF!)-1),\"\"),$Q$4:$R$20,2,FALSE),\"\")","v":""},{"$f":"IF($B$2=StoreConfig!C1148,LEFT(StoreConfig!G1148,FIND(\"#\",StoreConfig!G1148)-1),\"\")","v":""},{"$f":"IF($B$2=StoreConfig!C1148,RIGHT(StoreConfig!G1148,LEN(StoreConfig!G1148)-FIND(\"#\",StoreConfig!G1148)),\"\")","v":""},{"$f":"IF($B$2=StoreConfig!C1148,IF(StoreConfig!L1148=0,\"不限购\",StoreConfig!L1148&\"次\"),\"\")","v":""}]
[{"$nulls":3},{"$f":"IF($B$2=StoreConfig!C1149,StoreConfig!O1149,\"\")","v":""},{"$f":"IF($B$2=StoreConfig!C1149,StoreConfig!E1149,\"\")","v":""},{"$f":"IF($B$2=StoreConfig!C1149,RIGHT(StoreConfig!#REF!,LEN(StoreConfig!#REF!)-FIND(\"|\",StoreConfig!#REF!)),\"\")","v":""},{"$f":"IFERROR(VLOOKUP(--IF($B$2=StoreConfig!C1149,LEFT(StoreConfig!#REF!,FIND(\"|\",StoreConfig!#REF!)-1),\"\"),$Q$4:$R$20,2,FALSE),\"\")","v":""},{"$f":"IF($B$2=StoreConfig!C1149,LEFT(StoreConfig!G1149,FIND(\"#\",StoreConfig!G1149)-1),\"\")","v":""},{"$f":"IF($B$2=StoreConfig!C1149,RIGHT(StoreConfig!G1149,LEN(StoreConfig!G1149)-FIND(\"#\",StoreConfig!G1149)),\"\")","v":""},{"$f":"IF($B$2=StoreConfig!C1149,IF(StoreConfig!L1149=0,\"不限购\",StoreConfig!L1149&\"次\"),\"\")","v":""}]
[{"$nulls":3},{"$f":"IF($B$2=StoreConfig!C1150,StoreConfig!O1150,\"\")","v":""},{"$f":"IF($B$2=StoreConfig!C1150,StoreConfig!E1150,\"\")","v":""},{"$f":"IF($B$2=StoreConfig!C1150,RIGHT(StoreConfig!J1150,LEN(StoreConfig!J1150)-FIND(\"|\",StoreConfig!J1150)),\"\")","v":""},{"$f":"IFERROR(VLOOKUP(--IF($B$2=StoreConfig!C1150,LEFT(StoreConfig!J1150,FIND(\"|\",StoreConfig!J1150)-1),\"\"),$Q$4:$R$20,2,FALSE),\"\")","v":""},{"$f":"IF($B$2=StoreConfig!C1150,LEFT(StoreConfig!G1150,FIND(\"#\",StoreConfig!G1150)-1),\"\")","v":""},{"$f":"IF($B$2=StoreConfig!C1150,RIGHT(StoreConfig!G1150,LEN(StoreConfig!G1150)-FIND(\"#\",StoreConfig!G1150)),\"\")","v":""},{"$f":"IF($B$2=StoreConfig!C1150,IF(StoreConfig!L1150=0,\"不限购\",StoreConfig!L1150&\"次\"),\"\")","v":""}]
[{"$nulls":3},{"$f":"IF($B$2=StoreConfig!C1151,StoreConfig!O1151,\"\")","v":""},{"$f":"IF($B$2=StoreConfig!C1151,StoreConfig!E1151,\"\")","v":""},{"$f":"IF($B$2=StoreConfig!C1151,RIGHT(StoreConfig!J1151,LEN(StoreConfig!J1151)-FIND(\"|\",StoreConfig!J1151)),\"\")","v":""},{"$f":"IFERROR(VLOOKUP(--IF($B$2=StoreConfig!C1151,LEFT(StoreConfig!J1151,FIND(\"|\",StoreConfig!J1151)-1),\"\"),$Q$4:$R$20,2,FALSE),\"\")","v":""},{"$f":"IF($B$2=StoreConfig!C1151,LEFT(StoreConfig!G1151,FIND(\"#\",StoreConfig!G1151)-1),\"\")","v":""},{"$f":"IF($B$2=StoreConfig!C1151,RIGHT(StoreConfig!G1151,LEN(StoreConfig!G1151)-FIND(\"#\",StoreConfig!G1151)),\"\")","v":""},{"$f":"IF($B$2=StoreConfig!C1151,IF(StoreConfig!L1151=0,\"不限购\",StoreConfig!L1151&\"次\"),\"\")","v":""}]
[{"$nulls":3},{"$f":"IF($B$2=StoreConfig!C1152,StoreConfig!O1152,\"\")","v":""},{"$f":"IF($B$2=StoreConfig!C1152,StoreConfig!E1152,\"\")","v":""},{"$f":"IF($B$2=StoreConfig!C1152,RIGHT(StoreConfig!#REF!,LEN(StoreConfig!#REF!)-FIND(\"|\",StoreConfig!#REF!)),\"\")","v":""},{"$f":"IFERROR(VLOOKUP(--IF($B$2=StoreConfig!C1152,LEFT(StoreConfig!#REF!,FIND(\"|\",StoreConfig!#REF!)-1),\"\"),$Q$4:$R$20,2,FALSE),\"\")","v":""},{"$f":"IF($B$2=StoreConfig!C1152,LEFT(StoreConfig!G1152,FIND(\"#\",StoreConfig!G1152)-1),\"\")","v":""},{"$f":"IF($B$2=StoreConfig!C1152,RIGHT(StoreConfig!G1152,LEN(StoreConfig!G1152)-FIND(\"#\",StoreConfig!G1152)),\"\")","v":""},{"$f":"IF($B$2=StoreConfig!C1152,IF(StoreConfig!L1152=0,\"不限购\",StoreConfig!L1152&\"次\"),\"\")","v":""}]
[{"$nulls":3},{"$f":"IF($B$2=StoreConfig!C1153,StoreConfig!O1153,\"\")","v":""},{"$f":"IF($B$2=StoreConfig!C1153,StoreConfig!E1153,\"\")","v":""},{"$f":"IF($B$2=StoreConfig!C1153,RIGHT(StoreConfig!#REF!,LEN(StoreConfig!#REF!)-FIND(\"|\",StoreConfig!#REF!)),\"\")","v":""},{"$f":"IFERROR(VLOOKUP(--IF($B$2=StoreConfig!C1153,LEFT(StoreConfig!#REF!,FIND(\"|\",StoreConfig!#REF!)-1),\"\"),$Q$4:$R$20,2,FALSE),\"\")","v":""},{"$f":"IF($B$2=StoreConfig!C1153,LEFT(StoreConfig!G1153,FIND(\"#\",StoreConfig!G1153)-1),\"\")","v":""},{"$f":"IF($B$2=StoreConfig!C1153,RIGHT(StoreConfig!G1153,LEN(StoreConfig!G1153)-FIND(\"#\",StoreConfig!G1153)),\"\")","v":""},{"$f":"IF($B$2=StoreConfig!C1153,IF(StoreConfig!L1153=0,\"不限购\",StoreConfig!L1153&\"次\"),\"\")","v":""}]
[{"$nulls":3},{"$f":"IF($B$2=StoreConfig!C1154,StoreConfig!O1154,\"\")","v":""},{"$f":"IF($B$2=StoreConfig!C1154,StoreConfig!E1154,\"\")","v":""},{"$f":"IF($B$2=StoreConfig!C1154,RIGHT(StoreConfig!J1154,LEN(StoreConfig!J1154)-FIND(\"|\",StoreConfig!J1154)),\"\")","v":""},{"$f":"IFERROR(VLOOKUP(--IF($B$2=StoreConfig!C1154,LEFT(StoreConfig!J1154,FIND(\"|\",StoreConfig!J1154)-1),\"\"),$Q$4:$R$20,2,FALSE),\"\")","v":""},{"$f":"IF($B$2=StoreConfig!C1154,LEFT(StoreConfig!G1154,FIND(\"#\",StoreConfig!G1154)-1),\"\")","v":""},{"$f":"IF($B$2=StoreConfig!C1154,RIGHT(StoreConfig!G1154,LEN(StoreConfig!G1154)-FIND(\"#\",StoreConfig!G1154)),\"\")","v":""},{"$f":"IF($B$2=StoreConfig!C1154,IF(StoreConfig!L1154=0,\"不限购\",StoreConfig!L1154&\"次\"),\"\")","v":""}]
[{"$nulls":3},{"$f":"IF($B$2=StoreConfig!C1155,StoreConfig!O1155,\"\")","v":""},{"$f":"IF($B$2=StoreConfig!C1155,StoreConfig!E1155,\"\")","v":""},{"$f":"IF($B$2=StoreConfig!C1155,RIGHT(StoreConfig!J1155,LEN(StoreConfig!J1155)-FIND(\"|\",StoreConfig!J1155)),\"\")","v":""},{"$f":"IFERROR(VLOOKUP(--IF($B$2=StoreConfig!C1155,LEFT(StoreConfig!J1155,FIND(\"|\",StoreConfig!J1155)-1),\"\"),$Q$4:$R$20,2,FALSE),\"\")","v":""},{"$f":"IF($B$2=StoreConfig!C1155,LEFT(StoreConfig!G1155,FIND(\"#\",StoreConfig!G1155)-1),\"\")","v":""},{"$f":"IF($B$2=StoreConfig!C1155,RIGHT(StoreConfig!G1155,LEN(StoreConfig!G1155)-FIND(\"#\",StoreConfig!G1155)),\"\")","v":""},{"$f":"IF($B$2=StoreConfig!C1155,IF(StoreConfig!L1155=0,\"不限购\",StoreConfig!L1155&\"次\"),\"\")","v":""}]
[{"$nulls":3},{"$f":"IF($B$2=StoreConfig!C1156,StoreConfig!O1156,\"\")","v":""},{"$f":"IF($B$2=StoreConfig!C1156,StoreConfig!E1156,\"\")","v":""},{"$f":"IF($B$2=StoreConfig!C1156,RIGHT(StoreConfig!J1156,LEN(StoreConfig!J1156)-FIND(\"|\",StoreConfig!J1156)),\"\")","v":""},{"$f":"IFERROR(VLOOKUP(--IF($B$2=StoreConfig!C1156,LEFT(StoreConfig!J1156,FIND(\"|\",StoreConfig!J1156)-1),\"\"),$Q$4:$R$20,2,FALSE),\"\")","v":""},{"$f":"IF($B$2=StoreConfig!C1156,LEFT(StoreConfig!G1156,FIND(\"#\",StoreConfig!G1156)-1),\"\")","v":""},{"$f":"IF($B$2=StoreConfig!C1156,RIGHT(StoreConfig!G1156,LEN(StoreConfig!G1156)-FIND(\"#\",StoreConfig!G1156)),\"\")","v":""},{"$f":"IF($B$2=StoreConfig!C1156,IF(StoreConfig!L1156=0,\"不限购\",StoreConfig!L1156&\"次\"),\"\")","v":""}]
[{"$nulls":3},{"$f":"IF($B$2=StoreConfig!C1157,StoreConfig!O1157,\"\")","v":""},{"$f":"IF($B$2=StoreConfig!C1157,StoreConfig!E1157,\"\")","v":""},{"$f":"IF($B$2=StoreConfig!C1157,RIGHT(StoreConfig!J1157,LEN(StoreConfig!J1157)-FIND(\"|\",StoreConfig!J1157)),\"\")","v":""},{"$f":"IFERROR(VLOOKUP(--IF($B$2=StoreConfig!C1157,LEFT(StoreConfig!J1157,FIND(\"|\",StoreConfig!J1157)-1),\"\"),$Q$4:$R$20,2,FALSE),\"\")","v":""},{"$f":"IF($B$2=StoreConfig!C1157,LEFT(StoreConfig!G1157,FIND(\"#\",StoreConfig!G1157)-1),\"\")","v":""},{"$f":"IF($B$2=StoreConfig!C1157,RIGHT(StoreConfig!G1157,LEN(StoreConfig!G1157)-FIND(\"#\",StoreConfig!G1157)),\"\")","v":""},{"$f":"IF($B$2=StoreConfig!C1157,IF(StoreConfig!L1157=0,\"不限购\",StoreConfig!L1157&\"次\"),\"\")","v":""}]
[{"$nulls":3},{"$f":"IF($B$2=StoreConfig!C1158,StoreConfig!O1158,\"\")","v":""},{"$f":"IF($B$2=StoreConfig!C1158,StoreConfig!E1158,\"\")","v":""},{"$f":"IF($B$2=StoreConfig!C1158,RIGHT(StoreConfig!J1158,LEN(StoreConfig!J1158)-FIND(\"|\",StoreConfig!J1158)),\"\")","v":""},{"$f":"IFERROR(VLOOKUP(--IF($B$2=StoreConfig!C1158,LEFT(StoreConfig!J1158,FIND(\"|\",StoreConfig!J1158)-1),\"\"),$Q$4:$R$20,2,FALSE),\"\")","v":""},{"$f":"IF($B$2=StoreConfig!C1158,LEFT(StoreConfig!G1158,FIND(\"#\",StoreConfig!G1158)-1),\"\")","v":""},{"$f":"IF($B$2=StoreConfig!C1158,RIGHT(StoreConfig!G1158,LEN(StoreConfig!G1158)-FIND(\"#\",StoreConfig!G1158)),\"\")","v":""},{"$f":"IF($B$2=StoreConfig!C1158,IF(StoreConfig!L1158=0,\"不限购\",StoreConfig!L1158&\"次\"),\"\")","v":""}]
[{"$nulls":3},{"$f":"IF($B$2=StoreConfig!C1159,StoreConfig!O1159,\"\")","v":""},{"$f":"IF($B$2=StoreConfig!C1159,StoreConfig!E1159,\"\")","v":""},{"$f":"IF($B$2=StoreConfig!C1159,RIGHT(StoreConfig!J1159,LEN(StoreConfig!J1159)-FIND(\"|\",StoreConfig!J1159)),\"\")","v":""},{"$f":"IFERROR(VLOOKUP(--IF($B$2=StoreConfig!C1159,LEFT(StoreConfig!J1159,FIND(\"|\",StoreConfig!J1159)-1),\"\"),$Q$4:$R$20,2,FALSE),\"\")","v":""},{"$f":"IF($B$2=StoreConfig!C1159,LEFT(StoreConfig!G1159,FIND(\"#\",StoreConfig!G1159)-1),\"\")","v":""},{"$f":"IF($B$2=StoreConfig!C1159,RIGHT(StoreConfig!G1159,LEN(StoreConfig!G1159)-FIND(\"#\",StoreConfig!G1159)),\"\")","v":""},{"$f":"IF($B$2=StoreConfig!C1159,IF(StoreConfig!L1159=0,\"不限购\",StoreConfig!L1159&\"次\"),\"\")","v":""}]
[{"$nulls":3},{"$f":"IF($B$2=StoreConfig!C1160,StoreConfig!O1160,\"\")","v":""},{"$f":"IF($B$2=StoreConfig!C1160,StoreConfig!E1160,\"\")","v":""},{"$f":"IF($B$2=StoreConfig!C1160,RIGHT(StoreConfig!J1160,LEN(StoreConfig!J1160)-FIND(\"|\",StoreConfig!J1160)),\"\")","v":""},{"$f":"IFERROR(VLOOKUP(--IF($B$2=StoreConfig!C1160,LEFT(StoreConfig!J1160,FIND(\"|\",StoreConfig!J1160)-1),\"\"),$Q$4:$R$20,2,FALSE),\"\")","v":""},{"$f":"IF($B$2=StoreConfig!C1160,LEFT(StoreConfig!G1160,FIND(\"#\",StoreConfig!G1160)-1),\"\")","v":""},{"$f":"IF($B$2=StoreConfig!C1160,RIGHT(StoreConfig!G1160,LEN(StoreConfig!G1160)-FIND(\"#\",StoreConfig!G1160)),\"\")","v":""},{"$f":"IF($B$2=StoreConfig!C1160,IF(StoreConfig!L1160=0,\"不限购\",StoreConfig!L1160&\"次\"),\"\")","v":""}]
[{"$nulls":3},{"$f":"IF($B$2=StoreConfig!C1161,StoreConfig!O1161,\"\")","v":""},{"$f":"IF($B$2=StoreConfig!C1161,StoreConfig!E1161,\"\")","v":""},{"$f":"IF($B$2=StoreConfig!C1161,RIGHT(StoreConfig!J1161,LEN(StoreConfig!J1161)-FIND(\"|\",StoreConfig!J1161)),\"\")","v":""},{"$f":"IFERROR(VLOOKUP(--IF($B$2=StoreConfig!C1161,LEFT(StoreConfig!J1161,FIND(\"|\",StoreConfig!J1161)-1),\"\"),$Q$4:$R$20,2,FALSE),\"\")","v":""},{"$f":"IF($B$2=StoreConfig!C1161,LEFT(StoreConfig!G1161,FIND(\"#\",StoreConfig!G1161)-1),\"\")","v":""},{"$f":"IF($B$2=StoreConfig!C1161,RIGHT(StoreConfig!G1161,LEN(StoreConfig!G1161)-FIND(\"#\",StoreConfig!G1161)),\"\")","v":""},{"$f":"IF($B$2=StoreConfig!C1161,IF(StoreConfig!L1161=0,\"不限购\",StoreConfig!L1161&\"次\"),\"\")","v":""}]
[{"$nulls":3},{"$f":"IF($B$2=StoreConfig!C1162,StoreConfig!O1162,\"\")","v":""},{"$f":"IF($B$2=StoreConfig!C1162,StoreConfig!E1162,\"\")","v":""},{"$f":"IF($B$2=StoreConfig!C1162,RIGHT(StoreConfig!J1162,LEN(StoreConfig!J1162)-FIND(\"|\",StoreConfig!J1162)),\"\")","v":""},{"$f":"IFERROR(VLOOKUP(--IF($B$2=StoreConfig!C1162,LEFT(StoreConfig!J1162,FIND(\"|\",StoreConfig!J1162)-1),\"\"),$Q$4:$R$20,2,FALSE),\"\")","v":""},{"$f":"IF($B$2=StoreConfig!C1162,LEFT(StoreConfig!G1162,FIND(\"#\",StoreConfig!G1162)-1),\"\")","v":""},{"$f":"IF($B$2=StoreConfig!C1162,RIGHT(StoreConfig!G1162,LEN(StoreConfig!G1162)-FIND(\"#\",StoreConfig!G1162)),\"\")","v":""},{"$f":"IF($B$2=StoreConfig!C1162,IF(StoreConfig!L1162=0,\"不限购\",StoreConfig!L1162&\"次\"),\"\")","v":""}]
[{"$nulls":3},{"$f":"IF($B$2=StoreConfig!C1163,StoreConfig!O1163,\"\")","v":""},{"$f":"IF($B$2=StoreConfig!C1163,StoreConfig!E1163,\"\")","v":""},{"$f":"IF($B$2=StoreConfig!C1163,RIGHT(StoreConfig!J1163,LEN(StoreConfig!J1163)-FIND(\"|\",StoreConfig!J1163)),\"\")","v":""},{"$f":"IFERROR(VLOOKUP(--IF($B$2=StoreConfig!C1163,LEFT(StoreConfig!J1163,FIND(\"|\",StoreConfig!J1163)-1),\"\"),$Q$4:$R$20,2,FALSE),\"\")","v":""},{"$f":"IF($B$2=StoreConfig!C1163,LEFT(StoreConfig!G1163,FIND(\"#\",StoreConfig!G1163)-1),\"\")","v":""},{"$f":"IF($B$2=StoreConfig!C1163,RIGHT(StoreConfig!G1163,LEN(StoreConfig!G1163)-FIND(\"#\",StoreConfig!G1163)),\"\")","v":""},{"$f":"IF($B$2=StoreConfig!C1163,IF(StoreConfig!L1163=0,\"不限购\",StoreConfig!L1163&\"次\"),\"\")","v":""}]
[{"$nulls":3},{"$f":"IF($B$2=StoreConfig!C1164,StoreConfig!O1164,\"\")","v":""},{"$f":"IF($B$2=StoreConfig!C1164,StoreConfig!E1164,\"\")","v":""},{"$f":"IF($B$2=StoreConfig!C1164,RIGHT(StoreConfig!J1164,LEN(StoreConfig!J1164)-FIND(\"|\",StoreConfig!J1164)),\"\")","v":""},{"$f":"IFERROR(VLOOKUP(--IF($B$2=StoreConfig!C1164,LEFT(StoreConfig!J1164,FIND(\"|\",StoreConfig!J1164)-1),\"\"),$Q$4:$R$20,2,FALSE),\"\")","v":""},{"$f":"IF($B$2=StoreConfig!C1164,LEFT(StoreConfig!G1164,FIND(\"#\",StoreConfig!G1164)-1),\"\")","v":""},{"$f":"IF($B$2=StoreConfig!C1164,RIGHT(StoreConfig!G1164,LEN(StoreConfig!G1164)-FIND(\"#\",StoreConfig!G1164)),\"\")","v":""},{"$f":"IF($B$2=StoreConfig!C1164,IF(StoreConfig!L1164=0,\"不限购\",StoreConfig!L1164&\"次\"),\"\")","v":""}]
[{"$nulls":3},{"$f":"IF($B$2=StoreConfig!C1165,StoreConfig!O1165,\"\")","v":""},{"$f":"IF($B$2=StoreConfig!C1165,StoreConfig!E1165,\"\")","v":""},{"$f":"IF($B$2=StoreConfig!C1165,RIGHT(StoreConfig!J1165,LEN(StoreConfig!J1165)-FIND(\"|\",StoreConfig!J1165)),\"\")","v":""},{"$f":"IFERROR(VLOOKUP(--IF($B$2=StoreConfig!C1165,LEFT(StoreConfig!J1165,FIND(\"|\",StoreConfig!J1165)-1),\"\"),$Q$4:$R$20,2,FALSE),\"\")","v":""},{"$f":"IF($B$2=StoreConfig!C1165,LEFT(StoreConfig!G1165,FIND(\"#\",StoreConfig!G1165)-1),\"\")","v":""},{"$f":"IF($B$2=StoreConfig!C1165,RIGHT(StoreConfig!G1165,LEN(StoreConfig!G1165)-FIND(\"#\",StoreConfig!G1165)),\"\")","v":""},{"$f":"IF($B$2=StoreConfig!C1165,IF(StoreConfig!L1165=0,\"不限购\",StoreConfig!L1165&\"次\"),\"\")","v":""}]
[{"$nulls":3},{"$f":"IF($B$2=StoreConfig!C1166,StoreConfig!O1166,\"\")","v":""},{"$f":"IF($B$2=StoreConfig!C1166,StoreConfig!E1166,\"\")","v":""},{"$f":"IF($B$2=StoreConfig!C1166,RIGHT(StoreConfig!J1166,LEN(StoreConfig!J1166)-FIND(\"|\",StoreConfig!J1166)),\"\")","v":""},{"$f":"IFERROR(VLOOKUP(--IF($B$2=StoreConfig!C1166,LEFT(StoreConfig!J1166,FIND(\"|\",StoreConfig!J1166)-1),\"\"),$Q$4:$R$20,2,FALSE),\"\")","v":""},{"$f":"IF($B$2=StoreConfig!C1166,LEFT(StoreConfig!G1166,FIND(\"#\",StoreConfig!G1166)-1),\"\")","v":""},{"$f":"IF($B$2=StoreConfig!C1166,RIGHT(StoreConfig!G1166,LEN(StoreConfig!G1166)-FIND(\"#\",StoreConfig!G1166)),\"\")","v":""},{"$f":"IF($B$2=StoreConfig!C1166,IF(StoreConfig!L1166=0,\"不限购\",StoreConfig!L1166&\"次\"),\"\")","v":""}]
[{"$nulls":3},{"$f":"IF($B$2=StoreConfig!C1167,StoreConfig!O1167,\"\")","v":""},{"$f":"IF($B$2=StoreConfig!C1167,StoreConfig!E1167,\"\")","v":""},{"$f":"IF($B$2=StoreConfig!C1167,RIGHT(StoreConfig!J1167,LEN(StoreConfig!J1167)-FIND(\"|\",StoreConfig!J1167)),\"\")","v":""},{"$f":"IFERROR(VLOOKUP(--IF($B$2=StoreConfig!C1167,LEFT(StoreConfig!J1167,FIND(\"|\",StoreConfig!J1167)-1),\"\"),$Q$4:$R$20,2,FALSE),\"\")","v":""},{"$f":"IF($B$2=StoreConfig!C1167,LEFT(StoreConfig!G1167,FIND(\"#\",StoreConfig!G1167)-1),\"\")","v":""},{"$f":"IF($B$2=StoreConfig!C1167,RIGHT(StoreConfig!G1167,LEN(StoreConfig!G1167)-FIND(\"#\",StoreConfig!G1167)),\"\")","v":""},{"$f":"IF($B$2=StoreConfig!C1167,IF(StoreConfig!L1167=0,\"不限购\",StoreConfig!L1167&\"次\"),\"\")","v":""}]
[{"$nulls":3},{"$f":"IF($B$2=StoreConfig!C1168,StoreConfig!O1168,\"\")","v":""},{"$f":"IF($B$2=StoreConfig!C1168,StoreConfig!E1168,\"\")","v":""},{"$f":"IF($B$2=StoreConfig!C1168,RIGHT(StoreConfig!J1168,LEN(StoreConfig!J1168)-FIND(\"|\",StoreConfig!J1168)),\"\")","v":""},{"$f":"IFERROR(VLOOKUP(--IF($B$2=StoreConfig!C1168,LEFT(StoreConfig!J1168,FIND(\"|\",StoreConfig!J1168)-1),\"\"),$Q$4:$R$20,2,FALSE),\"\")","v":""},{"$f":"IF($B$2=StoreConfig!C1168,LEFT(StoreConfig!G1168,FIND(\"#\",StoreConfig!G1168)-1),\"\")","v":""},{"$f":"IF($B$2=StoreConfig!C1168,RIGHT(StoreConfig!G1168,LEN(StoreConfig!G1168)-FIND(\"#\",StoreConfig!G1168)),\"\")","v":""},{"$f":"IF($B$2=StoreConfig!C1168,IF(StoreConfig!L1168=0,\"不限购\",StoreConfig!L1168&\"次\"),\"\")","v":""}]
[{"$nulls":3},{"$f":"IF($B$2=StoreConfig!C1169,StoreConfig!O1169,\"\")","v":""},{"$f":"IF($B$2=StoreConfig!C1169,StoreConfig!E1169,\"\")","v":""},{"$f":"IF($B$2=StoreConfig!C1169,RIGHT(StoreConfig!J1169,LEN(StoreConfig!J1169)-FIND(\"|\",StoreConfig!J1169)),\"\")","v":""},{"$f":"IFERROR(VLOOKUP(--IF($B$2=StoreConfig!C1169,LEFT(StoreConfig!J1169,FIND(\"|\",StoreConfig!J1169)-1),\"\"),$Q$4:$R$20,2,FALSE),\"\")","v":""},{"$f":"IF($B$2=StoreConfig!C1169,LEFT(StoreConfig!G1169,FIND(\"#\",StoreConfig!G1169)-1),\"\")","v":""},{"$f":"IF($B$2=StoreConfig!C1169,RIGHT(StoreConfig!G1169,LEN(StoreConfig!G1169)-FIND(\"#\",StoreConfig!G1169)),\"\")","v":""},{"$f":"IF($B$2=StoreConfig!C1169,IF(StoreConfig!L1169=0,\"不限购\",StoreConfig!L1169&\"次\"),\"\")","v":""}]
[{"$nulls":3},{"$f":"IF($B$2=StoreConfig!C1170,StoreConfig!O1170,\"\")","v":""},{"$f":"IF($B$2=StoreConfig!C1170,StoreConfig!E1170,\"\")","v":""},{"$f":"IF($B$2=StoreConfig!C1170,RIGHT(StoreConfig!J1170,LEN(StoreConfig!J1170)-FIND(\"|\",StoreConfig!J1170)),\"\")","v":""},{"$f":"IFERROR(VLOOKUP(--IF($B$2=StoreConfig!C1170,LEFT(StoreConfig!J1170,FIND(\"|\",StoreConfig!J1170)-1),\"\"),$Q$4:$R$20,2,FALSE),\"\")","v":""},{"$f":"IF($B$2=StoreConfig!C1170,LEFT(StoreConfig!G1170,FIND(\"#\",StoreConfig!G1170)-1),\"\")","v":""},{"$f":"IF($B$2=StoreConfig!C1170,RIGHT(StoreConfig!G1170,LEN(StoreConfig!G1170)-FIND(\"#\",StoreConfig!G1170)),\"\")","v":""},{"$f":"IF($B$2=StoreConfig!C1170,IF(StoreConfig!L1170=0,\"不限购\",StoreConfig!L1170&\"次\"),\"\")","v":""}]
[{"$nulls":3},{"$f":"IF($B$2=StoreConfig!C1171,StoreConfig!O1171,\"\")","v":""},{"$f":"IF($B$2=StoreConfig!C1171,StoreConfig!E1171,\"\")","v":""},{"$f":"IF($B$2=StoreConfig!C1171,RIGHT(StoreConfig!J1171,LEN(StoreConfig!J1171)-FIND(\"|\",StoreConfig!J1171)),\"\")","v":""},{"$f":"IFERROR(VLOOKUP(--IF($B$2=StoreConfig!C1171,LEFT(StoreConfig!J1171,FIND(\"|\",StoreConfig!J1171)-1),\"\"),$Q$4:$R$20,2,FALSE),\"\")","v":""},{"$f":"IF($B$2=StoreConfig!C1171,LEFT(StoreConfig!G1171,FIND(\"#\",StoreConfig!G1171)-1),\"\")","v":""},{"$f":"IF($B$2=StoreConfig!C1171,RIGHT(StoreConfig!G1171,LEN(StoreConfig!G1171)-FIND(\"#\",StoreConfig!G1171)),\"\")","v":""},{"$f":"IF($B$2=StoreConfig!C1171,IF(StoreConfig!L1171=0,\"不限购\",StoreConfig!L1171&\"次\"),\"\")","v":""}]
[{"$nulls":3},{"$f":"IF($B$2=StoreConfig!C1172,StoreConfig!O1172,\"\")","v":""},{"$f":"IF($B$2=StoreConfig!C1172,StoreConfig!E1172,\"\")","v":""},{"$f":"IF($B$2=StoreConfig!C1172,RIGHT(StoreConfig!J1172,LEN(StoreConfig!J1172)-FIND(\"|\",StoreConfig!J1172)),\"\")","v":""},{"$f":"IFERROR(VLOOKUP(--IF($B$2=StoreConfig!C1172,LEFT(StoreConfig!J1172,FIND(\"|\",StoreConfig!J1172)-1),\"\"),$Q$4:$R$20,2,FALSE),\"\")","v":""},{"$f":"IF($B$2=StoreConfig!C1172,LEFT(StoreConfig!G1172,FIND(\"#\",StoreConfig!G1172)-1),\"\")","v":""},{"$f":"IF($B$2=StoreConfig!C1172,RIGHT(StoreConfig!G1172,LEN(StoreConfig!G1172)-FIND(\"#\",StoreConfig!G1172)),\"\")","v":""},{"$f":"IF($B$2=StoreConfig!C1172,IF(StoreConfig!L1172=0,\"不限购\",StoreConfig!L1172&\"次\"),\"\")","v":""}]
[{"$nulls":3},{"$f":"IF($B$2=StoreConfig!C1173,StoreConfig!O1173,\"\")","v":""},{"$f":"IF($B$2=StoreConfig!C1173,StoreConfig!E1173,\"\")","v":""},{"$f":"IF($B$2=StoreConfig!C1173,RIGHT(StoreConfig!J1173,LEN(StoreConfig!J1173)-FIND(\"|\",StoreConfig!J1173)),\"\")","v":""},{"$f":"IFERROR(VLOOKUP(--IF($B$2=StoreConfig!C1173,LEFT(StoreConfig!J1173,FIND(\"|\",StoreConfig!J1173)-1),\"\"),$Q$4:$R$20,2,FALSE),\"\")","v":""},{"$f":"IF($B$2=StoreConfig!C1173,LEFT(StoreConfig!G1173,FIND(\"#\",StoreConfig!G1173)-1),\"\")","v":""},{"$f":"IF($B$2=StoreConfig!C1173,RIGHT(StoreConfig!G1173,LEN(StoreConfig!G1173)-FIND(\"#\",StoreConfig!G1173)),\"\")","v":""},{"$f":"IF($B$2=StoreConfig!C1173,IF(StoreConfig!L1173=0,\"不限购\",StoreConfig!L1173&\"次\"),\"\")","v":""}]
[{"$nulls":3},{"$f":"IF($B$2=StoreConfig!C1174,StoreConfig!O1174,\"\")","v":""},{"$f":"IF($B$2=StoreConfig!C1174,StoreConfig!E1174,\"\")","v":""},{"$f":"IF($B$2=StoreConfig!C1174,RIGHT(StoreConfig!J1174,LEN(StoreConfig!J1174)-FIND(\"|\",StoreConfig!J1174)),\"\")","v":""},{"$f":"IFERROR(VLOOKUP(--IF($B$2=StoreConfig!C1174,LEFT(StoreConfig!J1174,FIND(\"|\",StoreConfig!J1174)-1),\"\"),$Q$4:$R$20,2,FALSE),\"\")","v":""},{"$f":"IF($B$2=StoreConfig!C1174,LEFT(StoreConfig!G1174,FIND(\"#\",StoreConfig!G1174)-1),\"\")","v":""},{"$f":"IF($B$2=StoreConfig!C1174,RIGHT(StoreConfig!G1174,LEN(StoreConfig!G1174)-FIND(\"#\",StoreConfig!G1174)),\"\")","v":""},{"$f":"IF($B$2=StoreConfig!C1174,IF(StoreConfig!L1174=0,\"不限购\",StoreConfig!L1174&\"次\"),\"\")","v":""}]
[{"$nulls":3},{"$f":"IF($B$2=StoreConfig!C1175,StoreConfig!O1175,\"\")","v":""},{"$f":"IF($B$2=StoreConfig!C1175,StoreConfig!E1175,\"\")","v":""},{"$f":"IF($B$2=StoreConfig!C1175,RIGHT(StoreConfig!J1175,LEN(StoreConfig!J1175)-FIND(\"|\",StoreConfig!J1175)),\"\")","v":""},{"$f":"IFERROR(VLOOKUP(--IF($B$2=StoreConfig!C1175,LEFT(StoreConfig!J1175,FIND(\"|\",StoreConfig!J1175)-1),\"\"),$Q$4:$R$20,2,FALSE),\"\")","v":""},{"$f":"IF($B$2=StoreConfig!C1175,LEFT(StoreConfig!G1175,FIND(\"#\",StoreConfig!G1175)-1),\"\")","v":""},{"$f":"IF($B$2=StoreConfig!C1175,RIGHT(StoreConfig!G1175,LEN(StoreConfig!G1175)-FIND(\"#\",StoreConfig!G1175)),\"\")","v":""},{"$f":"IF($B$2=StoreConfig!C1175,IF(StoreConfig!L1175=0,\"不限购\",StoreConfig!L1175&\"次\"),\"\")","v":""}]
[{"$nulls":3},{"$f":"IF($B$2=StoreConfig!C1176,StoreConfig!O1176,\"\")","v":""},{"$f":"IF($B$2=StoreConfig!C1176,StoreConfig!E1176,\"\")","v":""},{"$f":"IF($B$2=StoreConfig!C1176,RIGHT(StoreConfig!J1176,LEN(StoreConfig!J1176)-FIND(\"|\",StoreConfig!J1176)),\"\")","v":""},{"$f":"IFERROR(VLOOKUP(--IF($B$2=StoreConfig!C1176,LEFT(StoreConfig!J1176,FIND(\"|\",StoreConfig!J1176)-1),\"\"),$Q$4:$R$20,2,FALSE),\"\")","v":""},{"$f":"IF($B$2=StoreConfig!C1176,LEFT(StoreConfig!G1176,FIND(\"#\",StoreConfig!G1176)-1),\"\")","v":""},{"$f":"IF($B$2=StoreConfig!C1176,RIGHT(StoreConfig!G1176,LEN(StoreConfig!G1176)-FIND(\"#\",StoreConfig!G1176)),\"\")","v":""},{"$f":"IF($B$2=StoreConfig!C1176,IF(StoreConfig!L1176=0,\"不限购\",StoreConfig!L1176&\"次\"),\"\")","v":""}]
[{"$nulls":3},{"$f":"IF($B$2=StoreConfig!C1177,StoreConfig!O1177,\"\")","v":""},{"$f":"IF($B$2=StoreConfig!C1177,StoreConfig!E1177,\"\")","v":""},{"$f":"IF($B$2=StoreConfig!C1177,RIGHT(StoreConfig!J1177,LEN(StoreConfig!J1177)-FIND(\"|\",StoreConfig!J1177)),\"\")","v":""},{"$f":"IFERROR(VLOOKUP(--IF($B$2=StoreConfig!C1177,LEFT(StoreConfig!J1177,FIND(\"|\",StoreConfig!J1177)-1),\"\"),$Q$4:$R$20,2,FALSE),\"\")","v":""},{"$f":"IF($B$2=StoreConfig!C1177,LEFT(StoreConfig!G1177,FIND(\"#\",StoreConfig!G1177)-1),\"\")","v":""},{"$f":"IF($B$2=StoreConfig!C1177,RIGHT(StoreConfig!G1177,LEN(StoreConfig!G1177)-FIND(\"#\",StoreConfig!G1177)),\"\")","v":""},{"$f":"IF($B$2=StoreConfig!C1177,IF(StoreConfig!L1177=0,\"不限购\",StoreConfig!L1177&\"次\"),\"\")","v":""}]
[{"$nulls":3},{"$f":"IF($B$2=StoreConfig!C1178,StoreConfig!O1178,\"\")","v":""},{"$f":"IF($B$2=StoreConfig!C1178,StoreConfig!E1178,\"\")","v":""},{"$f":"IF($B$2=StoreConfig!C1178,RIGHT(StoreConfig!J1178,LEN(StoreConfig!J1178)-FIND(\"|\",StoreConfig!J1178)),\"\")","v":""},{"$f":"IFERROR(VLOOKUP(--IF($B$2=StoreConfig!C1178,LEFT(StoreConfig!J1178,FIND(\"|\",StoreConfig!J1178)-1),\"\"),$Q$4:$R$20,2,FALSE),\"\")","v":""},{"$f":"IF($B$2=StoreConfig!C1178,LEFT(StoreConfig!G1178,FIND(\"#\",StoreConfig!G1178)-1),\"\")","v":""},{"$f":"IF($B$2=StoreConfig!C1178,RIGHT(StoreConfig!G1178,LEN(StoreConfig!G1178)-FIND(\"#\",StoreConfig!G1178)),\"\")","v":""},{"$f":"IF($B$2=StoreConfig!C1178,IF(StoreConfig!L1178=0,\"不限购\",StoreConfig!L1178&\"次\"),\"\")","v":""}]
[{"$nulls":3},{"$f":"IF($B$2=StoreConfig!C1179,StoreConfig!O1179,\"\")","v":""},{"$f":"IF($B$2=StoreConfig!C1179,StoreConfig!E1179,\"\")","v":""},{"$f":"IF($B$2=StoreConfig!C1179,RIGHT(StoreConfig!J1179,LEN(StoreConfig!J1179)-FIND(\"|\",StoreConfig!J1179)),\"\")","v":""},{"$f":"IFERROR(VLOOKUP(--IF($B$2=StoreConfig!C1179,LEFT(StoreConfig!J1179,FIND(\"|\",StoreConfig!J1179)-1),\"\"),$Q$4:$R$20,2,FALSE),\"\")","v":""},{"$f":"IF($B$2=StoreConfig!C1179,LEFT(StoreConfig!G1179,FIND(\"#\",StoreConfig!G1179)-1),\"\")","v":""},{"$f":"IF($B$2=StoreConfig!C1179,RIGHT(StoreConfig!G1179,LEN(StoreConfig!G1179)-FIND(\"#\",StoreConfig!G1179)),\"\")","v":""},{"$f":"IF($B$2=StoreConfig!C1179,IF(StoreConfig!L1179=0,\"不限购\",StoreConfig!L1179&\"次\"),\"\")","v":""}]
[{"$nulls":3},{"$f":"IF($B$2=StoreConfig!C1180,StoreConfig!O1180,\"\")","v":""},{"$f":"IF($B$2=StoreConfig!C1180,StoreConfig!E1180,\"\")","v":""},{"$f":"IF($B$2=StoreConfig!C1180,RIGHT(StoreConfig!J1180,LEN(StoreConfig!J1180)-FIND(\"|\",StoreConfig!J1180)),\"\")","v":""},{"$f":"IFERROR(VLOOKUP(--IF($B$2=StoreConfig!C1180,LEFT(StoreConfig!J1180,FIND(\"|\",StoreConfig!J1180)-1),\"\"),$Q$4:$R$20,2,FALSE),\"\")","v":""},{"$f":"IF($B$2=StoreConfig!C1180,LEFT(StoreConfig!G1180,FIND(\"#\",StoreConfig!G1180)-1),\"\")","v":""},{"$f":"IF($B$2=StoreConfig!C1180,RIGHT(StoreConfig!G1180,LEN(StoreConfig!G1180)-FIND(\"#\",StoreConfig!G1180)),\"\")","v":""},{"$f":"IF($B$2=StoreConfig!C1180,IF(StoreConfig!L1180=0,\"不限购\",StoreConfig!L1180&\"次\"),\"\")","v":""}]
[{"$nulls":3},{"$f":"IF($B$2=StoreConfig!C1181,StoreConfig!O1181,\"\")","v":""},{"$f":"IF($B$2=StoreConfig!C1181,StoreConfig!E1181,\"\")","v":""},{"$f":"IF($B$2=StoreConfig!C1181,RIGHT(StoreConfig!J1181,LEN(StoreConfig!J1181)-FIND(\"|\",StoreConfig!J1181)),\"\")","v":""},{"$f":"IFERROR(VLOOKUP(--IF($B$2=StoreConfig!C1181,LEFT(StoreConfig!J1181,FIND(\"|\",StoreConfig!J1181)-1),\"\"),$Q$4:$R$20,2,FALSE),\"\")","v":""},{"$f":"IF($B$2=StoreConfig!C1181,LEFT(StoreConfig!G1181,FIND(\"#\",StoreConfig!G1181)-1),\"\")","v":""},{"$f":"IF($B$2=StoreConfig!C1181,RIGHT(StoreConfig!G1181,LEN(StoreConfig!G1181)-FIND(\"#\",StoreConfig!G1181)),\"\")","v":""},{"$f":"IF($B$2=StoreConfig!C1181,IF(StoreConfig!L1181=0,\"不限购\",StoreConfig!L1181&\"次\"),\"\")","v":""}]
[{"$nulls":3},{"$f":"IF($B$2=StoreConfig!C1182,StoreConfig!O1182,\"\")","v":""},{"$f":"IF($B$2=StoreConfig!C1182,StoreConfig!E1182,\"\")","v":""},{"$f":"IF($B$2=StoreConfig!C1182,RIGHT(StoreConfig!J1182,LEN(StoreConfig!J1182)-FIND(\"|\",StoreConfig!J1182)),\"\")","v":""},{"$f":"IFERROR(VLOOKUP(--IF($B$2=StoreConfig!C1182,LEFT(StoreConfig!J1182,FIND(\"|\",StoreConfig!J1182)-1),\"\"),$Q$4:$R$20,2,FALSE),\"\")","v":""},{"$f":"IF($B$2=StoreConfig!C1182,LEFT(StoreConfig!G1182,FIND(\"#\",StoreConfig!G1182)-1),\"\")","v":""},{"$f":"IF($B$2=StoreConfig!C1182,RIGHT(StoreConfig!G1182,LEN(StoreConfig!G1182)-FIND(\"#\",StoreConfig!G1182)),\"\")","v":""},{"$f":"IF($B$2=StoreConfig!C1182,IF(StoreConfig!L1182=0,\"不限购\",StoreConfig!L1182&\"次\"),\"\")","v":""}]
[{"$nulls":3},{"$f":"IF($B$2=StoreConfig!C1183,StoreConfig!O1183,\"\")","v":""},{"$f":"IF($B$2=StoreConfig!C1183,StoreConfig!E1183,\"\")","v":""},{"$f":"IF($B$2=StoreConfig!C1183,RIGHT(StoreConfig!J1183,LEN(StoreConfig!J1183)-FIND(\"|\",StoreConfig!J1183)),\"\")","v":""},{"$f":"IFERROR(VLOOKUP(--IF($B$2=StoreConfig!C1183,LEFT(StoreConfig!J1183,FIND(\"|\",StoreConfig!J1183)-1),\"\"),$Q$4:$R$20,2,FALSE),\"\")","v":""},{"$f":"IF($B$2=StoreConfig!C1183,LEFT(StoreConfig!G1183,FIND(\"#\",StoreConfig!G1183)-1),\"\")","v":""},{"$f":"IF($B$2=StoreConfig!C1183,RIGHT(StoreConfig!G1183,LEN(StoreConfig!G1183)-FIND(\"#\",StoreConfig!G1183)),\"\")","v":""},{"$f":"IF($B$2=StoreConfig!C1183,IF(StoreConfig!L1183=0,\"不限购\",StoreConfig!L1183&\"次\"),\"\")","v":""}]
[{"$nulls":3},{"$f":"IF($B$2=StoreConfig!C1184,StoreConfig!O1184,\"\")","v":""},{"$f":"IF($B$2=StoreConfig!C1184,StoreConfig!E1184,\"\")","v":""},{"$f":"IF($B$2=StoreConfig!C1184,RIGHT(StoreConfig!J1184,LEN(StoreConfig!J1184)-FIND(\"|\",StoreConfig!J1184)),\"\")","v":""},{"$f":"IFERROR(VLOOKUP(--IF($B$2=StoreConfig!C1184,LEFT(StoreConfig!J1184,FIND(\"|\",StoreConfig!J1184)-1),\"\"),$Q$4:$R$20,2,FALSE),\"\")","v":""},{"$f":"IF($B$2=StoreConfig!C1184,LEFT(StoreConfig!G1184,FIND(\"#\",StoreConfig!G1184)-1),\"\")","v":""},{"$f":"IF($B$2=StoreConfig!C1184,RIGHT(StoreConfig!G1184,LEN(StoreConfig!G1184)-FIND(\"#\",StoreConfig!G1184)),\"\")","v":""},{"$f":"IF($B$2=StoreConfig!C1184,IF(StoreConfig!L1184=0,\"不限购\",StoreConfig!L1184&\"次\"),\"\")","v":""}]
[{"$nulls":3},{"$f":"IF($B$2=StoreConfig!C1185,StoreConfig!O1185,\"\")","v":""},{"$f":"IF($B$2=StoreConfig!C1185,StoreConfig!E1185,\"\")","v":""},{"$f":"IF($B$2=StoreConfig!C1185,RIGHT(StoreConfig!J1185,LEN(StoreConfig!J1185)-FIND(\"|\",StoreConfig!J1185)),\"\")","v":""},{"$f":"IFERROR(VLOOKUP(--IF($B$2=StoreConfig!C1185,LEFT(StoreConfig!J1185,FIND(\"|\",StoreConfig!J1185)-1),\"\"),$Q$4:$R$20,2,FALSE),\"\")","v":""},{"$f":"IF($B$2=StoreConfig!C1185,LEFT(StoreConfig!G1185,FIND(\"#\",StoreConfig!G1185)-1),\"\")","v":""},{"$f":"IF($B$2=StoreConfig!C1185,RIGHT(StoreConfig!G1185,LEN(StoreConfig!G1185)-FIND(\"#\",StoreConfig!G1185)),\"\")","v":""},{"$f":"IF($B$2=StoreConfig!C1185,IF(StoreConfig!L1185=0,\"不限购\",StoreConfig!L1185&\"次\"),\"\")","v":""}]
[{"$nulls":3},{"$f":"IF($B$2=StoreConfig!C1186,StoreConfig!O1186,\"\")","v":""},{"$f":"IF($B$2=StoreConfig!C1186,StoreConfig!E1186,\"\")","v":""},{"$f":"IF($B$2=StoreConfig!C1186,RIGHT(StoreConfig!J1186,LEN(StoreConfig!J1186)-FIND(\"|\",StoreConfig!J1186)),\"\")","v":""},{"$f":"IFERROR(VLOOKUP(--IF($B$2=StoreConfig!C1186,LEFT(StoreConfig!J1186,FIND(\"|\",StoreConfig!J1186)-1),\"\"),$Q$4:$R$20,2,FALSE),\"\")","v":""},{"$f":"IF($B$2=StoreConfig!C1186,LEFT(StoreConfig!G1186,FIND(\"#\",StoreConfig!G1186)-1),\"\")","v":""},{"$f":"IF($B$2=StoreConfig!C1186,RIGHT(StoreConfig!G1186,LEN(StoreConfig!G1186)-FIND(\"#\",StoreConfig!G1186)),\"\")","v":""},{"$f":"IF($B$2=StoreConfig!C1186,IF(StoreConfig!L1186=0,\"不限购\",StoreConfig!L1186&\"次\"),\"\")","v":""}]
[{"$nulls":3},{"$f":"IF($B$2=StoreConfig!C1187,StoreConfig!O1187,\"\")","v":""},{"$f":"IF($B$2=StoreConfig!C1187,StoreConfig!E1187,\"\")","v":""},{"$f":"IF($B$2=StoreConfig!C1187,RIGHT(StoreConfig!J1187,LEN(StoreConfig!J1187)-FIND(\"|\",StoreConfig!J1187)),\"\")","v":""},{"$f":"IFERROR(VLOOKUP(--IF($B$2=StoreConfig!C1187,LEFT(StoreConfig!J1187,FIND(\"|\",StoreConfig!J1187)-1),\"\"),$Q$4:$R$20,2,FALSE),\"\")","v":""},{"$f":"IF($B$2=StoreConfig!C1187,LEFT(StoreConfig!G1187,FIND(\"#\",StoreConfig!G1187)-1),\"\")","v":""},{"$f":"IF($B$2=StoreConfig!C1187,RIGHT(StoreConfig!G1187,LEN(StoreConfig!G1187)-FIND(\"#\",StoreConfig!G1187)),\"\")","v":""},{"$f":"IF($B$2=StoreConfig!C1187,IF(StoreConfig!L1187=0,\"不限购\",StoreConfig!L1187&\"次\"),\"\")","v":""}]
[{"$nulls":3},{"$f":"IF($B$2=StoreConfig!C1188,StoreConfig!O1188,\"\")","v":""},{"$f":"IF($B$2=StoreConfig!C1188,StoreConfig!E1188,\"\")","v":""},{"$f":"IF($B$2=StoreConfig!C1188,RIGHT(StoreConfig!J1188,LEN(StoreConfig!J1188)-FIND(\"|\",StoreConfig!J1188)),\"\")","v":""},{"$f":"IFERROR(VLOOKUP(--IF($B$2=StoreConfig!C1188,LEFT(StoreConfig!J1188,FIND(\"|\",StoreConfig!J1188)-1),\"\"),$Q$4:$R$20,2,FALSE),\"\")","v":""},{"$f":"IF($B$2=StoreConfig!C1188,LEFT(StoreConfig!G1188,FIND(\"#\",StoreConfig!G1188)-1),\"\")","v":""},{"$f":"IF($B$2=StoreConfig!C1188,RIGHT(StoreConfig!G1188,LEN(StoreConfig!G1188)-FIND(\"#\",StoreConfig!G1188)),\"\")","v":""},{"$f":"IF($B$2=StoreConfig!C1188,IF(StoreConfig!L1188=0,\"不限购\",StoreConfig!L1188&\"次\"),\"\")","v":""}]
[{"$nulls":3},{"$f":"IF($B$2=StoreConfig!C1189,StoreConfig!O1189,\"\")","v":""},{"$f":"IF($B$2=StoreConfig!C1189,StoreConfig!E1189,\"\")","v":""},{"$f":"IF($B$2=StoreConfig!C1189,RIGHT(StoreConfig!J1189,LEN(StoreConfig!J1189)-FIND(\"|\",StoreConfig!J1189)),\"\")","v":""},{"$f":"IFERROR(VLOOKUP(--IF($B$2=StoreConfig!C1189,LEFT(StoreConfig!J1189,FIND(\"|\",StoreConfig!J1189)-1),\"\"),$Q$4:$R$20,2,FALSE),\"\")","v":""},{"$f":"IF($B$2=StoreConfig!C1189,LEFT(StoreConfig!G1189,FIND(\"#\",StoreConfig!G1189)-1),\"\")","v":""},{"$f":"IF($B$2=StoreConfig!C1189,RIGHT(StoreConfig!G1189,LEN(StoreConfig!G1189)-FIND(\"#\",StoreConfig!G1189)),\"\")","v":""},{"$f":"IF($B$2=StoreConfig!C1189,IF(StoreConfig!L1189=0,\"不限购\",StoreConfig!L1189&\"次\"),\"\")","v":""}]
[{"$nulls":3},{"$f":"IF($B$2=StoreConfig!C1190,StoreConfig!O1190,\"\")","v":""},{"$f":"IF($B$2=StoreConfig!C1190,StoreConfig!E1190,\"\")","v":""},{"$f":"IF($B$2=StoreConfig!C1190,RIGHT(StoreConfig!J1190,LEN(StoreConfig!J1190)-FIND(\"|\",StoreConfig!J1190)),\"\")","v":""},{"$f":"IFERROR(VLOOKUP(--IF($B$2=StoreConfig!C1190,LEFT(StoreConfig!J1190,FIND(\"|\",StoreConfig!J1190)-1),\"\"),$Q$4:$R$20,2,FALSE),\"\")","v":""},{"$f":"IF($B$2=StoreConfig!C1190,LEFT(StoreConfig!G1190,FIND(\"#\",StoreConfig!G1190)-1),\"\")","v":""},{"$f":"IF($B$2=StoreConfig!C1190,RIGHT(StoreConfig!G1190,LEN(StoreConfig!G1190)-FIND(\"#\",StoreConfig!G1190)),\"\")","v":""},{"$f":"IF($B$2=StoreConfig!C1190,IF(StoreConfig!L1190=0,\"不限购\",StoreConfig!L1190&\"次\"),\"\")","v":""}]
[{"$nulls":3},{"$f":"IF($B$2=StoreConfig!C1191,StoreConfig!O1191,\"\")","v":""},{"$f":"IF($B$2=StoreConfig!C1191,StoreConfig!E1191,\"\")","v":""},{"$f":"IF($B$2=StoreConfig!C1191,RIGHT(StoreConfig!J1191,LEN(StoreConfig!J1191)-FIND(\"|\",StoreConfig!J1191)),\"\")","v":""},{"$f":"IFERROR(VLOOKUP(--IF($B$2=StoreConfig!C1191,LEFT(StoreConfig!J1191,FIND(\"|\",StoreConfig!J1191)-1),\"\"),$Q$4:$R$20,2,FALSE),\"\")","v":""},{"$f":"IF($B$2=StoreConfig!C1191,LEFT(StoreConfig!G1191,FIND(\"#\",StoreConfig!G1191)-1),\"\")","v":""},{"$f":"IF($B$2=StoreConfig!C1191,RIGHT(StoreConfig!G1191,LEN(StoreConfig!G1191)-FIND(\"#\",StoreConfig!G1191)),\"\")","v":""},{"$f":"IF($B$2=StoreConfig!C1191,IF(StoreConfig!L1191=0,\"不限购\",StoreConfig!L1191&\"次\"),\"\")","v":""}]
[{"$nulls":3},{"$f":"IF($B$2=StoreConfig!C1192,StoreConfig!O1192,\"\")","v":""},{"$f":"IF($B$2=StoreConfig!C1192,StoreConfig!E1192,\"\")","v":""},{"$f":"IF($B$2=StoreConfig!C1192,RIGHT(StoreConfig!J1192,LEN(StoreConfig!J1192)-FIND(\"|\",StoreConfig!J1192)),\"\")","v":""},{"$f":"IFERROR(VLOOKUP(--IF($B$2=StoreConfig!C1192,LEFT(StoreConfig!J1192,FIND(\"|\",StoreConfig!J1192)-1),\"\"),$Q$4:$R$20,2,FALSE),\"\")","v":""},{"$f":"IF($B$2=StoreConfig!C1192,LEFT(StoreConfig!G1192,FIND(\"#\",StoreConfig!G1192)-1),\"\")","v":""},{"$f":"IF($B$2=StoreConfig!C1192,RIGHT(StoreConfig!G1192,LEN(StoreConfig!G1192)-FIND(\"#\",StoreConfig!G1192)),\"\")","v":""},{"$f":"IF($B$2=StoreConfig!C1192,IF(StoreConfig!L1192=0,\"不限购\",StoreConfig!L1192&\"次\"),\"\")","v":""}]
[{"$nulls":3},{"$f":"IF($B$2=StoreConfig!C1193,StoreConfig!O1193,\"\")","v":""},{"$f":"IF($B$2=StoreConfig!C1193,StoreConfig!E1193,\"\")","v":""},{"$f":"IF($B$2=StoreConfig!C1193,RIGHT(StoreConfig!J1193,LEN(StoreConfig!J1193)-FIND(\"|\",StoreConfig!J1193)),\"\")","v":""},{"$f":"IFERROR(VLOOKUP(--IF($B$2=StoreConfig!C1193,LEFT(StoreConfig!J1193,FIND(\"|\",StoreConfig!J1193)-1),\"\"),$Q$4:$R$20,2,FALSE),\"\")","v":""},{"$f":"IF($B$2=StoreConfig!C1193,LEFT(StoreConfig!G1193,FIND(\"#\",StoreConfig!G1193)-1),\"\")","v":""},{"$f":"IF($B$2=StoreConfig!C1193,RIGHT(StoreConfig!G1193,LEN(StoreConfig!G1193)-FIND(\"#\",StoreConfig!G1193)),\"\")","v":""},{"$f":"IF($B$2=StoreConfig!C1193,IF(StoreConfig!L1193=0,\"不限购\",StoreConfig!L1193&\"次\"),\"\")","v":""}]
[{"$nulls":3},{"$f":"IF($B$2=StoreConfig!C1194,StoreConfig!O1194,\"\")","v":""},{"$f":"IF($B$2=StoreConfig!C1194,StoreConfig!E1194,\"\")","v":""},{"$f":"IF($B$2=StoreConfig!C1194,RIGHT(StoreConfig!J1194,LEN(StoreConfig!J1194)-FIND(\"|\",StoreConfig!J1194)),\"\")","v":""},{"$f":"IFERROR(VLOOKUP(--IF($B$2=StoreConfig!C1194,LEFT(StoreConfig!J1194,FIND(\"|\",StoreConfig!J1194)-1),\"\"),$Q$4:$R$20,2,FALSE),\"\")","v":""},{"$f":"IF($B$2=StoreConfig!C1194,LEFT(StoreConfig!G1194,FIND(\"#\",StoreConfig!G1194)-1),\"\")","v":""},{"$f":"IF($B$2=StoreConfig!C1194,RIGHT(StoreConfig!G1194,LEN(StoreConfig!G1194)-FIND(\"#\",StoreConfig!G1194)),\"\")","v":""},{"$f":"IF($B$2=StoreConfig!C1194,IF(StoreConfig!L1194=0,\"不限购\",StoreConfig!L1194&\"次\"),\"\")","v":""}]
[{"$nulls":3},{"$f":"IF($B$2=StoreConfig!C1195,StoreConfig!O1195,\"\")","v":""},{"$f":"IF($B$2=StoreConfig!C1195,StoreConfig!E1195,\"\")","v":""},{"$f":"IF($B$2=StoreConfig!C1195,RIGHT(StoreConfig!J1195,LEN(StoreConfig!J1195)-FIND(\"|\",StoreConfig!J1195)),\"\")","v":""},{"$f":"IFERROR(VLOOKUP(--IF($B$2=StoreConfig!C1195,LEFT(StoreConfig!J1195,FIND(\"|\",StoreConfig!J1195)-1),\"\"),$Q$4:$R$20,2,FALSE),\"\")","v":""},{"$f":"IF($B$2=StoreConfig!C1195,LEFT(StoreConfig!G1195,FIND(\"#\",StoreConfig!G1195)-1),\"\")","v":""},{"$f":"IF($B$2=StoreConfig!C1195,RIGHT(StoreConfig!G1195,LEN(StoreConfig!G1195)-FIND(\"#\",StoreConfig!G1195)),\"\")","v":""},{"$f":"IF($B$2=StoreConfig!C1195,IF(StoreConfig!L1195=0,\"不限购\",StoreConfig!L1195&\"次\"),\"\")","v":""}]
[{"$nulls":3},{"$f":"IF($B$2=StoreConfig!C1196,StoreConfig!O1196,\"\")","v":""},{"$f":"IF($B$2=StoreConfig!C1196,StoreConfig!E1196,\"\")","v":""},{"$f":"IF($B$2=StoreConfig!C1196,RIGHT(StoreConfig!J1196,LEN(StoreConfig!J1196)-FIND(\"|\",StoreConfig!J1196)),\"\")","v":""},{"$f":"IFERROR(VLOOKUP(--IF($B$2=StoreConfig!C1196,LEFT(StoreConfig!J1196,FIND(\"|\",StoreConfig!J1196)-1),\"\"),$Q$4:$R$20,2,FALSE),\"\")","v":""},{"$f":"IF($B$2=StoreConfig!C1196,LEFT(StoreConfig!G1196,FIND(\"#\",StoreConfig!G1196)-1),\"\")","v":""},{"$f":"IF($B$2=StoreConfig!C1196,RIGHT(StoreConfig!G1196,LEN(StoreConfig!G1196)-FIND(\"#\",StoreConfig!G1196)),\"\")","v":""},{"$f":"IF($B$2=StoreConfig!C1196,IF(StoreConfig!L1196=0,\"不限购\",StoreConfig!L1196&\"次\"),\"\")","v":""}]
[{"$nulls":3},{"$f":"IF($B$2=StoreConfig!C1197,StoreConfig!O1197,\"\")","v":""},{"$f":"IF($B$2=StoreConfig!C1197,StoreConfig!E1197,\"\")","v":""},{"$f":"IF($B$2=StoreConfig!C1197,RIGHT(StoreConfig!J1197,LEN(StoreConfig!J1197)-FIND(\"|\",StoreConfig!J1197)),\"\")","v":""},{"$f":"IFERROR(VLOOKUP(--IF($B$2=StoreConfig!C1197,LEFT(StoreConfig!J1197,FIND(\"|\",StoreConfig!J1197)-1),\"\"),$Q$4:$R$20,2,FALSE),\"\")","v":""},{"$f":"IF($B$2=StoreConfig!C1197,LEFT(StoreConfig!G1197,FIND(\"#\",StoreConfig!G1197)-1),\"\")","v":""},{"$f":"IF($B$2=StoreConfig!C1197,RIGHT(StoreConfig!G1197,LEN(StoreConfig!G1197)-FIND(\"#\",StoreConfig!G1197)),\"\")","v":""},{"$f":"IF($B$2=StoreConfig!C1197,IF(StoreConfig!L1197=0,\"不限购\",StoreConfig!L1197&\"次\"),\"\")","v":""}]
[{"$nulls":3},{"$f":"IF($B$2=StoreConfig!C1198,StoreConfig!O1198,\"\")","v":""},{"$f":"IF($B$2=StoreConfig!C1198,StoreConfig!E1198,\"\")","v":""},{"$f":"IF($B$2=StoreConfig!C1198,RIGHT(StoreConfig!J1198,LEN(StoreConfig!J1198)-FIND(\"|\",StoreConfig!J1198)),\"\")","v":""},{"$f":"IFERROR(VLOOKUP(--IF($B$2=StoreConfig!C1198,LEFT(StoreConfig!J1198,FIND(\"|\",StoreConfig!J1198)-1),\"\"),$Q$4:$R$20,2,FALSE),\"\")","v":""},{"$f":"IF($B$2=StoreConfig!C1198,LEFT(StoreConfig!G1198,FIND(\"#\",StoreConfig!G1198)-1),\"\")","v":""},{"$f":"IF($B$2=StoreConfig!C1198,RIGHT(StoreConfig!G1198,LEN(StoreConfig!G1198)-FIND(\"#\",StoreConfig!G1198)),\"\")","v":""},{"$f":"IF($B$2=StoreConfig!C1198,IF(StoreConfig!L1198=0,\"不限购\",StoreConfig!L1198&\"次\"),\"\")","v":""}]
[{"$nulls":3},{"$f":"IF($B$2=StoreConfig!C1199,StoreConfig!O1199,\"\")","v":""},{"$f":"IF($B$2=StoreConfig!C1199,StoreConfig!E1199,\"\")","v":""},{"$f":"IF($B$2=StoreConfig!C1199,RIGHT(StoreConfig!J1199,LEN(StoreConfig!J1199)-FIND(\"|\",StoreConfig!J1199)),\"\")","v":""},{"$f":"IFERROR(VLOOKUP(--IF($B$2=StoreConfig!C1199,LEFT(StoreConfig!J1199,FIND(\"|\",StoreConfig!J1199)-1),\"\"),$Q$4:$R$20,2,FALSE),\"\")","v":""},{"$f":"IF($B$2=StoreConfig!C1199,LEFT(StoreConfig!G1199,FIND(\"#\",StoreConfig!G1199)-1),\"\")","v":""},{"$f":"IF($B$2=StoreConfig!C1199,RIGHT(StoreConfig!G1199,LEN(StoreConfig!G1199)-FIND(\"#\",StoreConfig!G1199)),\"\")","v":""},{"$f":"IF($B$2=StoreConfig!C1199,IF(StoreConfig!L1199=0,\"不限购\",StoreConfig!L1199&\"次\"),\"\")","v":""}]
[{"$nulls":3},{"$f":"IF($B$2=StoreConfig!C1200,StoreConfig!O1200,\"\")","v":""},{"$f":"IF($B$2=StoreConfig!C1200,StoreConfig!E1200,\"\")","v":""},{"$f":"IF($B$2=StoreConfig!C1200,RIGHT(StoreConfig!J1200,LEN(StoreConfig!J1200)-FIND(\"|\",StoreConfig!J1200)),\"\")","v":""},{"$f":"IFERROR(VLOOKUP(--IF($B$2=StoreConfig!C1200,LEFT(StoreConfig!J1200,FIND(\"|\",StoreConfig!J1200)-1),\"\"),$Q$4:$R$20,2,FALSE),\"\")","v":""},{"$f":"IF($B$2=StoreConfig!C1200,LEFT(StoreConfig!G1200,FIND(\"#\",StoreConfig!G1200)-1),\"\")","v":""},{"$f":"IF($B$2=StoreConfig!C1200,RIGHT(StoreConfig!G1200,LEN(StoreConfig!G1200)-FIND(\"#\",StoreConfig!G1200)),\"\")","v":""},{"$f":"IF($B$2=StoreConfig!C1200,IF(StoreConfig!L1200=0,\"不限购\",StoreConfig!L1200&\"次\"),\"\")","v":""}]
[{"$nulls":3},{"$f":"IF($B$2=StoreConfig!C1201,StoreConfig!O1201,\"\")","v":""},{"$f":"IF($B$2=StoreConfig!C1201,StoreConfig!E1201,\"\")","v":""},{"$f":"IF($B$2=StoreConfig!C1201,RIGHT(StoreConfig!J1201,LEN(StoreConfig!J1201)-FIND(\"|\",StoreConfig!J1201)),\"\")","v":""},{"$f":"IFERROR(VLOOKUP(--IF($B$2=StoreConfig!C1201,LEFT(StoreConfig!J1201,FIND(\"|\",StoreConfig!J1201)-1),\"\"),$Q$4:$R$20,2,FALSE),\"\")","v":""},{"$f":"IF($B$2=StoreConfig!C1201,LEFT(StoreConfig!G1201,FIND(\"#\",StoreConfig!G1201)-1),\"\")","v":""},{"$f":"IF($B$2=StoreConfig!C1201,RIGHT(StoreConfig!G1201,LEN(StoreConfig!G1201)-FIND(\"#\",StoreConfig!G1201)),\"\")","v":""},{"$f":"IF($B$2=StoreConfig!C1201,IF(StoreConfig!L1201=0,\"不限购\",StoreConfig!L1201&\"次\"),\"\")","v":""}]
[{"$nulls":3},{"$f":"IF($B$2=StoreConfig!C1202,StoreConfig!O1202,\"\")","v":""},{"$f":"IF($B$2=StoreConfig!C1202,StoreConfig!E1202,\"\")","v":""},{"$f":"IF($B$2=StoreConfig!C1202,RIGHT(StoreConfig!J1202,LEN(StoreConfig!J1202)-FIND(\"|\",StoreConfig!J1202)),\"\")","v":""},{"$f":"IFERROR(VLOOKUP(--IF($B$2=StoreConfig!C1202,LEFT(StoreConfig!J1202,FIND(\"|\",StoreConfig!J1202)-1),\"\"),$Q$4:$R$20,2,FALSE),\"\")","v":""},{"$f":"IF($B$2=StoreConfig!C1202,LEFT(StoreConfig!G1202,FIND(\"#\",StoreConfig!G1202)-1),\"\")","v":""},{"$f":"IF($B$2=StoreConfig!C1202,RIGHT(StoreConfig!G1202,LEN(StoreConfig!G1202)-FIND(\"#\",StoreConfig!G1202)),\"\")","v":""},{"$f":"IF($B$2=StoreConfig!C1202,IF(StoreConfig!L1202=0,\"不限购\",StoreConfig!L1202&\"次\"),\"\")","v":""}]
[{"$nulls":3},{"$f":"IF($B$2=StoreConfig!C1203,StoreConfig!O1203,\"\")","v":""},{"$f":"IF($B$2=StoreConfig!C1203,StoreConfig!E1203,\"\")","v":""},{"$f":"IF($B$2=StoreConfig!C1203,RIGHT(StoreConfig!J1203,LEN(StoreConfig!J1203)-FIND(\"|\",StoreConfig!J1203)),\"\")","v":""},{"$f":"IFERROR(VLOOKUP(--IF($B$2=StoreConfig!C1203,LEFT(StoreConfig!J1203,FIND(\"|\",StoreConfig!J1203)-1),\"\"),$Q$4:$R$20,2,FALSE),\"\")","v":""},{"$f":"IF($B$2=StoreConfig!C1203,LEFT(StoreConfig!G1203,FIND(\"#\",StoreConfig!G1203)-1),\"\")","v":""},{"$f":"IF($B$2=StoreConfig!C1203,RIGHT(StoreConfig!G1203,LEN(StoreConfig!G1203)-FIND(\"#\",StoreConfig!G1203)),\"\")","v":""},{"$f":"IF($B$2=StoreConfig!C1203,IF(StoreConfig!L1203=0,\"不限购\",StoreConfig!L1203&\"次\"),\"\")","v":""}]
[{"$nulls":3},{"$f":"IF($B$2=StoreConfig!C1204,StoreConfig!O1204,\"\")","v":""},{"$f":"IF($B$2=StoreConfig!C1204,StoreConfig!E1204,\"\")","v":""},{"$f":"IF($B$2=StoreConfig!C1204,RIGHT(StoreConfig!J1204,LEN(StoreConfig!J1204)-FIND(\"|\",StoreConfig!J1204)),\"\")","v":""},{"$f":"IFERROR(VLOOKUP(--IF($B$2=StoreConfig!C1204,LEFT(StoreConfig!J1204,FIND(\"|\",StoreConfig!J1204)-1),\"\"),$Q$4:$R$20,2,FALSE),\"\")","v":""},{"$f":"IF($B$2=StoreConfig!C1204,LEFT(StoreConfig!G1204,FIND(\"#\",StoreConfig!G1204)-1),\"\")","v":""},{"$f":"IF($B$2=StoreConfig!C1204,RIGHT(StoreConfig!G1204,LEN(StoreConfig!G1204)-FIND(\"#\",StoreConfig!G1204)),\"\")","v":""},{"$f":"IF($B$2=StoreConfig!C1204,IF(StoreConfig!L1204=0,\"不限购\",StoreConfig!L1204&\"次\"),\"\")","v":""}]
[{"$nulls":3},{"$f":"IF($B$2=StoreConfig!C1205,StoreConfig!O1205,\"\")","v":""},{"$f":"IF($B$2=StoreConfig!C1205,StoreConfig!E1205,\"\")","v":""},{"$f":"IF($B$2=StoreConfig!C1205,RIGHT(StoreConfig!J1205,LEN(StoreConfig!J1205)-FIND(\"|\",StoreConfig!J1205)),\"\")","v":""},{"$f":"IFERROR(VLOOKUP(--IF($B$2=StoreConfig!C1205,LEFT(StoreConfig!J1205,FIND(\"|\",StoreConfig!J1205)-1),\"\"),$Q$4:$R$20,2,FALSE),\"\")","v":""},{"$f":"IF($B$2=StoreConfig!C1205,LEFT(StoreConfig!G1205,FIND(\"#\",StoreConfig!G1205)-1),\"\")","v":""},{"$f":"IF($B$2=StoreConfig!C1205,RIGHT(StoreConfig!G1205,LEN(StoreConfig!G1205)-FIND(\"#\",StoreConfig!G1205)),\"\")","v":""},{"$f":"IF($B$2=StoreConfig!C1205,IF(StoreConfig!L1205=0,\"不限购\",StoreConfig!L1205&\"次\"),\"\")","v":""}]
[{"$nulls":3},{"$f":"IF($B$2=StoreConfig!C1206,StoreConfig!O1206,\"\")","v":""},{"$f":"IF($B$2=StoreConfig!C1206,StoreConfig!E1206,\"\")","v":""},{"$f":"IF($B$2=StoreConfig!C1206,RIGHT(StoreConfig!J1206,LEN(StoreConfig!J1206)-FIND(\"|\",StoreConfig!J1206)),\"\")","v":""},{"$f":"IFERROR(VLOOKUP(--IF($B$2=StoreConfig!C1206,LEFT(StoreConfig!J1206,FIND(\"|\",StoreConfig!J1206)-1),\"\"),$Q$4:$R$20,2,FALSE),\"\")","v":""},{"$f":"IF($B$2=StoreConfig!C1206,LEFT(StoreConfig!G1206,FIND(\"#\",StoreConfig!G1206)-1),\"\")","v":""},{"$f":"IF($B$2=StoreConfig!C1206,RIGHT(StoreConfig!G1206,LEN(StoreConfig!G1206)-FIND(\"#\",StoreConfig!G1206)),\"\")","v":""},{"$f":"IF($B$2=StoreConfig!C1206,IF(StoreConfig!L1206=0,\"不限购\",StoreConfig!L1206&\"次\"),\"\")","v":""}]
[{"$nulls":3},{"$f":"IF($B$2=StoreConfig!C1207,StoreConfig!O1207,\"\")","v":""},{"$f":"IF($B$2=StoreConfig!C1207,StoreConfig!E1207,\"\")","v":""},{"$f":"IF($B$2=StoreConfig!C1207,RIGHT(StoreConfig!J1207,LEN(StoreConfig!J1207)-FIND(\"|\",StoreConfig!J1207)),\"\")","v":""},{"$f":"IFERROR(VLOOKUP(--IF($B$2=StoreConfig!C1207,LEFT(StoreConfig!J1207,FIND(\"|\",StoreConfig!J1207)-1),\"\"),$Q$4:$R$20,2,FALSE),\"\")","v":""},{"$f":"IF($B$2=StoreConfig!C1207,LEFT(StoreConfig!G1207,FIND(\"#\",StoreConfig!G1207)-1),\"\")","v":""},{"$f":"IF($B$2=StoreConfig!C1207,RIGHT(StoreConfig!G1207,LEN(StoreConfig!G1207)-FIND(\"#\",StoreConfig!G1207)),\"\")","v":""},{"$f":"IF($B$2=StoreConfig!C1207,IF(StoreConfig!L1207=0,\"不限购\",StoreConfig!L1207&\"次\"),\"\")","v":""}]
[{"$nulls":3},{"$f":"IF($B$2=StoreConfig!C1208,StoreConfig!O1208,\"\")","v":""},{"$f":"IF($B$2=StoreConfig!C1208,StoreConfig!E1208,\"\")","v":""},{"$f":"IF($B$2=StoreConfig!C1208,RIGHT(StoreConfig!J1208,LEN(StoreConfig!J1208)-FIND(\"|\",StoreConfig!J1208)),\"\")","v":""},{"$f":"IFERROR(VLOOKUP(--IF($B$2=StoreConfig!C1208,LEFT(StoreConfig!J1208,FIND(\"|\",StoreConfig!J1208)-1),\"\"),$Q$4:$R$20,2,FALSE),\"\")","v":""},{"$f":"IF($B$2=StoreConfig!C1208,LEFT(StoreConfig!G1208,FIND(\"#\",StoreConfig!G1208)-1),\"\")","v":""},{"$f":"IF($B$2=StoreConfig!C1208,RIGHT(StoreConfig!G1208,LEN(StoreConfig!G1208)-FIND(\"#\",StoreConfig!G1208)),\"\")","v":""},{"$f":"IF($B$2=StoreConfig!C1208,IF(StoreConfig!L1208=0,\"不限购\",StoreConfig!L1208&\"次\"),\"\")","v":""}]
[{"$nulls":3},{"$f":"IF($B$2=StoreConfig!C1209,StoreConfig!O1209,\"\")","v":""},{"$f":"IF($B$2=StoreConfig!C1209,StoreConfig!E1209,\"\")","v":""},{"$f":"IF($B$2=StoreConfig!C1209,RIGHT(StoreConfig!J1209,LEN(StoreConfig!J1209)-FIND(\"|\",StoreConfig!J1209)),\"\")","v":""},{"$f":"IFERROR(VLOOKUP(--IF($B$2=StoreConfig!C1209,LEFT(StoreConfig!J1209,FIND(\"|\",StoreConfig!J1209)-1),\"\"),$Q$4:$R$20,2,FALSE),\"\")","v":""},{"$f":"IF($B$2=StoreConfig!C1209,LEFT(StoreConfig!G1209,FIND(\"#\",StoreConfig!G1209)-1),\"\")","v":""},{"$f":"IF($B$2=StoreConfig!C1209,RIGHT(StoreConfig!G1209,LEN(StoreConfig!G1209)-FIND(\"#\",StoreConfig!G1209)),\"\")","v":""},{"$f":"IF($B$2=StoreConfig!C1209,IF(StoreConfig!L1209=0,\"不限购\",StoreConfig!L1209&\"次\"),\"\")","v":""}]
[{"$nulls":3},{"$f":"IF($B$2=StoreConfig!C1210,StoreConfig!O1210,\"\")","v":""},{"$f":"IF($B$2=StoreConfig!C1210,StoreConfig!E1210,\"\")","v":""},{"$f":"IF($B$2=StoreConfig!C1210,RIGHT(StoreConfig!J1210,LEN(StoreConfig!J1210)-FIND(\"|\",StoreConfig!J1210)),\"\")","v":""},{"$f":"IFERROR(VLOOKUP(--IF($B$2=StoreConfig!C1210,LEFT(StoreConfig!J1210,FIND(\"|\",StoreConfig!J1210)-1),\"\"),$Q$4:$R$20,2,FALSE),\"\")","v":""},{"$f":"IF($B$2=StoreConfig!C1210,LEFT(StoreConfig!G1210,FIND(\"#\",StoreConfig!G1210)-1),\"\")","v":""},{"$f":"IF($B$2=StoreConfig!C1210,RIGHT(StoreConfig!G1210,LEN(StoreConfig!G1210)-FIND(\"#\",StoreConfig!G1210)),\"\")","v":""},{"$f":"IF($B$2=StoreConfig!C1210,IF(StoreConfig!L1210=0,\"不限购\",StoreConfig!L1210&\"次\"),\"\")","v":""}]
[{"$nulls":3},{"$f":"IF($B$2=StoreConfig!C1211,StoreConfig!O1211,\"\")","v":""},{"$f":"IF($B$2=StoreConfig!C1211,StoreConfig!E1211,\"\")","v":""},{"$f":"IF($B$2=StoreConfig!C1211,RIGHT(StoreConfig!J1211,LEN(StoreConfig!J1211)-FIND(\"|\",StoreConfig!J1211)),\"\")","v":""},{"$f":"IFERROR(VLOOKUP(--IF($B$2=StoreConfig!C1211,LEFT(StoreConfig!J1211,FIND(\"|\",StoreConfig!J1211)-1),\"\"),$Q$4:$R$20,2,FALSE),\"\")","v":""},{"$f":"IF($B$2=StoreConfig!C1211,LEFT(StoreConfig!G1211,FIND(\"#\",StoreConfig!G1211)-1),\"\")","v":""},{"$f":"IF($B$2=StoreConfig!C1211,RIGHT(StoreConfig!G1211,LEN(StoreConfig!G1211)-FIND(\"#\",StoreConfig!G1211)),\"\")","v":""},{"$f":"IF($B$2=StoreConfig!C1211,IF(StoreConfig!L1211=0,\"不限购\",StoreConfig!L1211&\"次\"),\"\")","v":""}]
[{"$nulls":3},{"$f":"IF($B$2=StoreConfig!C1212,StoreConfig!O1212,\"\")","v":""},{"$f":"IF($B$2=StoreConfig!C1212,StoreConfig!E1212,\"\")","v":""},{"$f":"IF($B$2=StoreConfig!C1212,RIGHT(StoreConfig!J1212,LEN(StoreConfig!J1212)-FIND(\"|\",StoreConfig!J1212)),\"\")","v":""},{"$f":"IFERROR(VLOOKUP(--IF($B$2=StoreConfig!C1212,LEFT(StoreConfig!J1212,FIND(\"|\",StoreConfig!J1212)-1),\"\"),$Q$4:$R$20,2,FALSE),\"\")","v":""},{"$f":"IF($B$2=StoreConfig!C1212,LEFT(StoreConfig!G1212,FIND(\"#\",StoreConfig!G1212)-1),\"\")","v":""},{"$f":"IF($B$2=StoreConfig!C1212,RIGHT(StoreConfig!G1212,LEN(StoreConfig!G1212)-FIND(\"#\",StoreConfig!G1212)),\"\")","v":""},{"$f":"IF($B$2=StoreConfig!C1212,IF(StoreConfig!L1212=0,\"不限购\",StoreConfig!L1212&\"次\"),\"\")","v":""}]
[{"$nulls":3},{"$f":"IF($B$2=StoreConfig!C1213,StoreConfig!O1213,\"\")","v":""},{"$f":"IF($B$2=StoreConfig!C1213,StoreConfig!E1213,\"\")","v":""},{"$f":"IF($B$2=StoreConfig!C1213,RIGHT(StoreConfig!J1213,LEN(StoreConfig!J1213)-FIND(\"|\",StoreConfig!J1213)),\"\")","v":""},{"$f":"IFERROR(VLOOKUP(--IF($B$2=StoreConfig!C1213,LEFT(StoreConfig!J1213,FIND(\"|\",StoreConfig!J1213)-1),\"\"),$Q$4:$R$20,2,FALSE),\"\")","v":""},{"$f":"IF($B$2=StoreConfig!C1213,LEFT(StoreConfig!G1213,FIND(\"#\",StoreConfig!G1213)-1),\"\")","v":""},{"$f":"IF($B$2=StoreConfig!C1213,RIGHT(StoreConfig!G1213,LEN(StoreConfig!G1213)-FIND(\"#\",StoreConfig!G1213)),\"\")","v":""},{"$f":"IF($B$2=StoreConfig!C1213,IF(StoreConfig!L1213=0,\"不限购\",StoreConfig!L1213&\"次\"),\"\")","v":""}]
[{"$nulls":3},{"$f":"IF($B$2=StoreConfig!C1214,StoreConfig!O1214,\"\")","v":""},{"$f":"IF($B$2=StoreConfig!C1214,StoreConfig!E1214,\"\")","v":""},{"$f":"IF($B$2=StoreConfig!C1214,RIGHT(StoreConfig!J1214,LEN(StoreConfig!J1214)-FIND(\"|\",StoreConfig!J1214)),\"\")","v":""},{"$f":"IFERROR(VLOOKUP(--IF($B$2=StoreConfig!C1214,LEFT(StoreConfig!J1214,FIND(\"|\",StoreConfig!J1214)-1),\"\"),$Q$4:$R$20,2,FALSE),\"\")","v":""},{"$f":"IF($B$2=StoreConfig!C1214,LEFT(StoreConfig!G1214,FIND(\"#\",StoreConfig!G1214)-1),\"\")","v":""},{"$f":"IF($B$2=StoreConfig!C1214,RIGHT(StoreConfig!G1214,LEN(StoreConfig!G1214)-FIND(\"#\",StoreConfig!G1214)),\"\")","v":""},{"$f":"IF($B$2=StoreConfig!C1214,IF(StoreConfig!L1214=0,\"不限购\",StoreConfig!L1214&\"次\"),\"\")","v":""}]
[{"$nulls":3},{"$f":"IF($B$2=StoreConfig!C1215,StoreConfig!O1215,\"\")","v":""},{"$f":"IF($B$2=StoreConfig!C1215,StoreConfig!E1215,\"\")","v":""},{"$f":"IF($B$2=StoreConfig!C1215,RIGHT(StoreConfig!J1215,LEN(StoreConfig!J1215)-FIND(\"|\",StoreConfig!J1215)),\"\")","v":""},{"$f":"IFERROR(VLOOKUP(--IF($B$2=StoreConfig!C1215,LEFT(StoreConfig!J1215,FIND(\"|\",StoreConfig!J1215)-1),\"\"),$Q$4:$R$20,2,FALSE),\"\")","v":""},{"$f":"IF($B$2=StoreConfig!C1215,LEFT(StoreConfig!G1215,FIND(\"#\",StoreConfig!G1215)-1),\"\")","v":""},{"$f":"IF($B$2=StoreConfig!C1215,RIGHT(StoreConfig!G1215,LEN(StoreConfig!G1215)-FIND(\"#\",StoreConfig!G1215)),\"\")","v":""},{"$f":"IF($B$2=StoreConfig!C1215,IF(StoreConfig!L1215=0,\"不限购\",StoreConfig!L1215&\"次\"),\"\")","v":""}]
[{"$nulls":3},{"$f":"IF($B$2=StoreConfig!C1216,StoreConfig!O1216,\"\")","v":""},{"$f":"IF($B$2=StoreConfig!C1216,StoreConfig!E1216,\"\")","v":""},{"$f":"IF($B$2=StoreConfig!C1216,RIGHT(StoreConfig!J1216,LEN(StoreConfig!J1216)-FIND(\"|\",StoreConfig!J1216)),\"\")","v":""},{"$f":"IFERROR(VLOOKUP(--IF($B$2=StoreConfig!C1216,LEFT(StoreConfig!J1216,FIND(\"|\",StoreConfig!J1216)-1),\"\"),$Q$4:$R$20,2,FALSE),\"\")","v":""},{"$f":"IF($B$2=StoreConfig!C1216,LEFT(StoreConfig!G1216,FIND(\"#\",StoreConfig!G1216)-1),\"\")","v":""},{"$f":"IF($B$2=StoreConfig!C1216,RIGHT(StoreConfig!G1216,LEN(StoreConfig!G1216)-FIND(\"#\",StoreConfig!G1216)),\"\")","v":""},{"$f":"IF($B$2=StoreConfig!C1216,IF(StoreConfig!L1216=0,\"不限购\",StoreConfig!L1216&\"次\"),\"\")","v":""}]
[{"$nulls":3},{"$f":"IF($B$2=StoreConfig!C1217,StoreConfig!O1217,\"\")","v":""},{"$f":"IF($B$2=StoreConfig!C1217,StoreConfig!E1217,\"\")","v":""},{"$f":"IF($B$2=StoreConfig!C1217,RIGHT(StoreConfig!J1217,LEN(StoreConfig!J1217)-FIND(\"|\",StoreConfig!J1217)),\"\")","v":""},{"$f":"IFERROR(VLOOKUP(--IF($B$2=StoreConfig!C1217,LEFT(StoreConfig!J1217,FIND(\"|\",StoreConfig!J1217)-1),\"\"),$Q$4:$R$20,2,FALSE),\"\")","v":""},{"$f":"IF($B$2=StoreConfig!C1217,LEFT(StoreConfig!G1217,FIND(\"#\",StoreConfig!G1217)-1),\"\")","v":""},{"$f":"IF($B$2=StoreConfig!C1217,RIGHT(StoreConfig!G1217,LEN(StoreConfig!G1217)-FIND(\"#\",StoreConfig!G1217)),\"\")","v":""},{"$f":"IF($B$2=StoreConfig!C1217,IF(StoreConfig!L1217=0,\"不限购\",StoreConfig!L1217&\"次\"),\"\")","v":""}]
[{"$nulls":3},{"$f":"IF($B$2=StoreConfig!C1218,StoreConfig!O1218,\"\")","v":""},{"$f":"IF($B$2=StoreConfig!C1218,StoreConfig!E1218,\"\")","v":""},{"$f":"IF($B$2=StoreConfig!C1218,RIGHT(StoreConfig!J1218,LEN(StoreConfig!J1218)-FIND(\"|\",StoreConfig!J1218)),\"\")","v":""},{"$f":"IFERROR(VLOOKUP(--IF($B$2=StoreConfig!C1218,LEFT(StoreConfig!J1218,FIND(\"|\",StoreConfig!J1218)-1),\"\"),$Q$4:$R$20,2,FALSE),\"\")","v":""},{"$f":"IF($B$2=StoreConfig!C1218,LEFT(StoreConfig!G1218,FIND(\"#\",StoreConfig!G1218)-1),\"\")","v":""},{"$f":"IF($B$2=StoreConfig!C1218,RIGHT(StoreConfig!G1218,LEN(StoreConfig!G1218)-FIND(\"#\",StoreConfig!G1218)),\"\")","v":""},{"$f":"IF($B$2=StoreConfig!C1218,IF(StoreConfig!L1218=0,\"不限购\",StoreConfig!L1218&\"次\"),\"\")","v":""}]
[{"$nulls":3},{"$f":"IF($B$2=StoreConfig!C1219,StoreConfig!O1219,\"\")","v":""},{"$f":"IF($B$2=StoreConfig!C1219,StoreConfig!E1219,\"\")","v":""},{"$f":"IF($B$2=StoreConfig!C1219,RIGHT(StoreConfig!J1219,LEN(StoreConfig!J1219)-FIND(\"|\",StoreConfig!J1219)),\"\")","v":""},{"$f":"IFERROR(VLOOKUP(--IF($B$2=StoreConfig!C1219,LEFT(StoreConfig!J1219,FIND(\"|\",StoreConfig!J1219)-1),\"\"),$Q$4:$R$20,2,FALSE),\"\")","v":""},{"$f":"IF($B$2=StoreConfig!C1219,LEFT(StoreConfig!G1219,FIND(\"#\",StoreConfig!G1219)-1),\"\")","v":""},{"$f":"IF($B$2=StoreConfig!C1219,RIGHT(StoreConfig!G1219,LEN(StoreConfig!G1219)-FIND(\"#\",StoreConfig!G1219)),\"\")","v":""},{"$f":"IF($B$2=StoreConfig!C1219,IF(StoreConfig!L1219=0,\"不限购\",StoreConfig!L1219&\"次\"),\"\")","v":""}]
[{"$nulls":3},{"$f":"IF($B$2=StoreConfig!C1220,StoreConfig!O1220,\"\")","v":""},{"$f":"IF($B$2=StoreConfig!C1220,StoreConfig!E1220,\"\")","v":""},{"$f":"IF($B$2=StoreConfig!C1220,RIGHT(StoreConfig!J1220,LEN(StoreConfig!J1220)-FIND(\"|\",StoreConfig!J1220)),\"\")","v":""},{"$f":"IFERROR(VLOOKUP(--IF($B$2=StoreConfig!C1220,LEFT(StoreConfig!J1220,FIND(\"|\",StoreConfig!J1220)-1),\"\"),$Q$4:$R$20,2,FALSE),\"\")","v":""},{"$f":"IF($B$2=StoreConfig!C1220,LEFT(StoreConfig!G1220,FIND(\"#\",StoreConfig!G1220)-1),\"\")","v":""},{"$f":"IF($B$2=StoreConfig!C1220,RIGHT(StoreConfig!G1220,LEN(StoreConfig!G1220)-FIND(\"#\",StoreConfig!G1220)),\"\")","v":""},{"$f":"IF($B$2=StoreConfig!C1220,IF(StoreConfig!L1220=0,\"不限购\",StoreConfig!L1220&\"次\"),\"\")","v":""}]
[{"$nulls":3},{"$f":"IF($B$2=StoreConfig!C1221,StoreConfig!O1221,\"\")","v":""},{"$f":"IF($B$2=StoreConfig!C1221,StoreConfig!E1221,\"\")","v":""},{"$f":"IF($B$2=StoreConfig!C1221,RIGHT(StoreConfig!J1221,LEN(StoreConfig!J1221)-FIND(\"|\",StoreConfig!J1221)),\"\")","v":""},{"$f":"IFERROR(VLOOKUP(--IF($B$2=StoreConfig!C1221,LEFT(StoreConfig!J1221,FIND(\"|\",StoreConfig!J1221)-1),\"\"),$Q$4:$R$20,2,FALSE),\"\")","v":""},{"$f":"IF($B$2=StoreConfig!C1221,LEFT(StoreConfig!G1221,FIND(\"#\",StoreConfig!G1221)-1),\"\")","v":""},{"$f":"IF($B$2=StoreConfig!C1221,RIGHT(StoreConfig!G1221,LEN(StoreConfig!G1221)-FIND(\"#\",StoreConfig!G1221)),\"\")","v":""},{"$f":"IF($B$2=StoreConfig!C1221,IF(StoreConfig!L1221=0,\"不限购\",StoreConfig!L1221&\"次\"),\"\")","v":""}]
[{"$nulls":3},{"$f":"IF($B$2=StoreConfig!C1222,StoreConfig!O1222,\"\")","v":""},{"$f":"IF($B$2=StoreConfig!C1222,StoreConfig!E1222,\"\")","v":""},{"$f":"IF($B$2=StoreConfig!C1222,RIGHT(StoreConfig!J1222,LEN(StoreConfig!J1222)-FIND(\"|\",StoreConfig!J1222)),\"\")","v":""},{"$f":"IFERROR(VLOOKUP(--IF($B$2=StoreConfig!C1222,LEFT(StoreConfig!J1222,FIND(\"|\",StoreConfig!J1222)-1),\"\"),$Q$4:$R$20,2,FALSE),\"\")","v":""},{"$f":"IF($B$2=StoreConfig!C1222,LEFT(StoreConfig!G1222,FIND(\"#\",StoreConfig!G1222)-1),\"\")","v":""},{"$f":"IF($B$2=StoreConfig!C1222,RIGHT(StoreConfig!G1222,LEN(StoreConfig!G1222)-FIND(\"#\",StoreConfig!G1222)),\"\")","v":""},{"$f":"IF($B$2=StoreConfig!C1222,IF(StoreConfig!L1222=0,\"不限购\",StoreConfig!L1222&\"次\"),\"\")","v":""}]
[{"$nulls":3},{"$f":"IF($B$2=StoreConfig!C1223,StoreConfig!O1223,\"\")","v":""},{"$f":"IF($B$2=StoreConfig!C1223,StoreConfig!E1223,\"\")","v":""},{"$f":"IF($B$2=StoreConfig!C1223,RIGHT(StoreConfig!J1223,LEN(StoreConfig!J1223)-FIND(\"|\",StoreConfig!J1223)),\"\")","v":""},{"$f":"IFERROR(VLOOKUP(--IF($B$2=StoreConfig!C1223,LEFT(StoreConfig!J1223,FIND(\"|\",StoreConfig!J1223)-1),\"\"),$Q$4:$R$20,2,FALSE),\"\")","v":""},{"$f":"IF($B$2=StoreConfig!C1223,LEFT(StoreConfig!G1223,FIND(\"#\",StoreConfig!G1223)-1),\"\")","v":""},{"$f":"IF($B$2=StoreConfig!C1223,RIGHT(StoreConfig!G1223,LEN(StoreConfig!G1223)-FIND(\"#\",StoreConfig!G1223)),\"\")","v":""},{"$f":"IF($B$2=StoreConfig!C1223,IF(StoreConfig!L1223=0,\"不限购\",StoreConfig!L1223&\"次\"),\"\")","v":""}]
[{"$nulls":3},{"$f":"IF($B$2=StoreConfig!C1224,StoreConfig!O1224,\"\")","v":""},{"$f":"IF($B$2=StoreConfig!C1224,StoreConfig!E1224,\"\")","v":""},{"$f":"IF($B$2=StoreConfig!C1224,RIGHT(StoreConfig!J1224,LEN(StoreConfig!J1224)-FIND(\"|\",StoreConfig!J1224)),\"\")","v":""},{"$f":"IFERROR(VLOOKUP(--IF($B$2=StoreConfig!C1224,LEFT(StoreConfig!J1224,FIND(\"|\",StoreConfig!J1224)-1),\"\"),$Q$4:$R$20,2,FALSE),\"\")","v":""},{"$f":"IF($B$2=StoreConfig!C1224,LEFT(StoreConfig!G1224,FIND(\"#\",StoreConfig!G1224)-1),\"\")","v":""},{"$f":"IF($B$2=StoreConfig!C1224,RIGHT(StoreConfig!G1224,LEN(StoreConfig!G1224)-FIND(\"#\",StoreConfig!G1224)),\"\")","v":""},{"$f":"IF($B$2=StoreConfig!C1224,IF(StoreConfig!L1224=0,\"不限购\",StoreConfig!L1224&\"次\"),\"\")","v":""}]
[{"$nulls":3},{"$f":"IF($B$2=StoreConfig!C1225,StoreConfig!O1225,\"\")","v":""},{"$f":"IF($B$2=StoreConfig!C1225,StoreConfig!E1225,\"\")","v":""},{"$f":"IF($B$2=StoreConfig!C1225,RIGHT(StoreConfig!J1225,LEN(StoreConfig!J1225)-FIND(\"|\",StoreConfig!J1225)),\"\")","v":""},{"$f":"IFERROR(VLOOKUP(--IF($B$2=StoreConfig!C1225,LEFT(StoreConfig!J1225,FIND(\"|\",StoreConfig!J1225)-1),\"\"),$Q$4:$R$20,2,FALSE),\"\")","v":""},{"$f":"IF($B$2=StoreConfig!C1225,LEFT(StoreConfig!G1225,FIND(\"#\",StoreConfig!G1225)-1),\"\")","v":""},{"$f":"IF($B$2=StoreConfig!C1225,RIGHT(StoreConfig!G1225,LEN(StoreConfig!G1225)-FIND(\"#\",StoreConfig!G1225)),\"\")","v":""},{"$f":"IF($B$2=StoreConfig!C1225,IF(StoreConfig!L1225=0,\"不限购\",StoreConfig!L1225&\"次\"),\"\")","v":""}]
[{"$nulls":3},{"$f":"IF($B$2=StoreConfig!C1226,StoreConfig!O1226,\"\")","v":""},{"$f":"IF($B$2=StoreConfig!C1226,StoreConfig!E1226,\"\")","v":""},{"$f":"IF($B$2=StoreConfig!C1226,RIGHT(StoreConfig!J1226,LEN(StoreConfig!J1226)-FIND(\"|\",StoreConfig!J1226)),\"\")","v":""},{"$f":"IFERROR(VLOOKUP(--IF($B$2=StoreConfig!C1226,LEFT(StoreConfig!J1226,FIND(\"|\",StoreConfig!J1226)-1),\"\"),$Q$4:$R$20,2,FALSE),\"\")","v":""},{"$f":"IF($B$2=StoreConfig!C1226,LEFT(StoreConfig!G1226,FIND(\"#\",StoreConfig!G1226)-1),\"\")","v":""},{"$f":"IF($B$2=StoreConfig!C1226,RIGHT(StoreConfig!G1226,LEN(StoreConfig!G1226)-FIND(\"#\",StoreConfig!G1226)),\"\")","v":""},{"$f":"IF($B$2=StoreConfig!C1226,IF(StoreConfig!L1226=0,\"不限购\",StoreConfig!L1226&\"次\"),\"\")","v":""}]
[{"$nulls":3},{"$f":"IF($B$2=StoreConfig!C1227,StoreConfig!O1227,\"\")","v":""},{"$f":"IF($B$2=StoreConfig!C1227,StoreConfig!E1227,\"\")","v":""},{"$f":"IF($B$2=StoreConfig!C1227,RIGHT(StoreConfig!J1227,LEN(StoreConfig!J1227)-FIND(\"|\",StoreConfig!J1227)),\"\")","v":""},{"$f":"IFERROR(VLOOKUP(--IF($B$2=StoreConfig!C1227,LEFT(StoreConfig!J1227,FIND(\"|\",StoreConfig!J1227)-1),\"\"),$Q$4:$R$20,2,FALSE),\"\")","v":""},{"$f":"IF($B$2=StoreConfig!C1227,LEFT(StoreConfig!G1227,FIND(\"#\",StoreConfig!G1227)-1),\"\")","v":""},{"$f":"IF($B$2=StoreConfig!C1227,RIGHT(StoreConfig!G1227,LEN(StoreConfig!G1227)-FIND(\"#\",StoreConfig!G1227)),\"\")","v":""},{"$f":"IF($B$2=StoreConfig!C1227,IF(StoreConfig!L1227=0,\"不限购\",StoreConfig!L1227&\"次\"),\"\")","v":""}]
[{"$nulls":3},{"$f":"IF($B$2=StoreConfig!C1228,StoreConfig!O1228,\"\")","v":""},{"$f":"IF($B$2=StoreConfig!C1228,StoreConfig!E1228,\"\")","v":""},{"$f":"IF($B$2=StoreConfig!C1228,RIGHT(StoreConfig!J1228,LEN(StoreConfig!J1228)-FIND(\"|\",StoreConfig!J1228)),\"\")","v":""},{"$f":"IFERROR(VLOOKUP(--IF($B$2=StoreConfig!C1228,LEFT(StoreConfig!J1228,FIND(\"|\",StoreConfig!J1228)-1),\"\"),$Q$4:$R$20,2,FALSE),\"\")","v":""},{"$f":"IF($B$2=StoreConfig!C1228,LEFT(StoreConfig!G1228,FIND(\"#\",StoreConfig!G1228)-1),\"\")","v":""},{"$f":"IF($B$2=StoreConfig!C1228,RIGHT(StoreConfig!G1228,LEN(StoreConfig!G1228)-FIND(\"#\",StoreConfig!G1228)),\"\")","v":""},{"$f":"IF($B$2=StoreConfig!C1228,IF(StoreConfig!L1228=0,\"不限购\",StoreConfig!L1228&\"次\"),\"\")","v":""}]
[{"$nulls":3},{"$f":"IF($B$2=StoreConfig!C1229,StoreConfig!O1229,\"\")","v":""},{"$f":"IF($B$2=StoreConfig!C1229,StoreConfig!E1229,\"\")","v":""},{"$f":"IF($B$2=StoreConfig!C1229,RIGHT(StoreConfig!J1229,LEN(StoreConfig!J1229)-FIND(\"|\",StoreConfig!J1229)),\"\")","v":""},{"$f":"IFERROR(VLOOKUP(--IF($B$2=StoreConfig!C1229,LEFT(StoreConfig!J1229,FIND(\"|\",StoreConfig!J1229)-1),\"\"),$Q$4:$R$20,2,FALSE),\"\")","v":""},{"$f":"IF($B$2=StoreConfig!C1229,LEFT(StoreConfig!G1229,FIND(\"#\",StoreConfig!G1229)-1),\"\")","v":""},{"$f":"IF($B$2=StoreConfig!C1229,RIGHT(StoreConfig!G1229,LEN(StoreConfig!G1229)-FIND(\"#\",StoreConfig!G1229)),\"\")","v":""},{"$f":"IF($B$2=StoreConfig!C1229,IF(StoreConfig!L1229=0,\"不限购\",StoreConfig!L1229&\"次\"),\"\")","v":""}]
[{"$nulls":3},{"$f":"IF($B$2=StoreConfig!C1230,StoreConfig!O1230,\"\")","v":""},{"$f":"IF($B$2=StoreConfig!C1230,StoreConfig!E1230,\"\")","v":""},{"$f":"IF($B$2=StoreConfig!C1230,RIGHT(StoreConfig!J1230,LEN(StoreConfig!J1230)-FIND(\"|\",StoreConfig!J1230)),\"\")","v":""},{"$f":"IFERROR(VLOOKUP(--IF($B$2=StoreConfig!C1230,LEFT(StoreConfig!J1230,FIND(\"|\",StoreConfig!J1230)-1),\"\"),$Q$4:$R$20,2,FALSE),\"\")","v":""},{"$f":"IF($B$2=StoreConfig!C1230,LEFT(StoreConfig!G1230,FIND(\"#\",StoreConfig!G1230)-1),\"\")","v":""},{"$f":"IF($B$2=StoreConfig!C1230,RIGHT(StoreConfig!G1230,LEN(StoreConfig!G1230)-FIND(\"#\",StoreConfig!G1230)),\"\")","v":""},{"$f":"IF($B$2=StoreConfig!C1230,IF(StoreConfig!L1230=0,\"不限购\",StoreConfig!L1230&\"次\"),\"\")","v":""}]
[{"$nulls":3},{"$f":"IF($B$2=StoreConfig!C1231,StoreConfig!O1231,\"\")","v":""},{"$f":"IF($B$2=StoreConfig!C1231,StoreConfig!E1231,\"\")","v":""},{"$f":"IF($B$2=StoreConfig!C1231,RIGHT(StoreConfig!J1231,LEN(StoreConfig!J1231)-FIND(\"|\",StoreConfig!J1231)),\"\")","v":""},{"$f":"IFERROR(VLOOKUP(--IF($B$2=StoreConfig!C1231,LEFT(StoreConfig!J1231,FIND(\"|\",StoreConfig!J1231)-1),\"\"),$Q$4:$R$20,2,FALSE),\"\")","v":""},{"$f":"IF($B$2=StoreConfig!C1231,LEFT(StoreConfig!G1231,FIND(\"#\",StoreConfig!G1231)-1),\"\")","v":""},{"$f":"IF($B$2=StoreConfig!C1231,RIGHT(StoreConfig!G1231,LEN(StoreConfig!G1231)-FIND(\"#\",StoreConfig!G1231)),\"\")","v":""},{"$f":"IF($B$2=StoreConfig!C1231,IF(StoreConfig!L1231=0,\"不限购\",StoreConfig!L1231&\"次\"),\"\")","v":""}]
[{"$nulls":3},{"$f":"IF($B$2=StoreConfig!C1232,StoreConfig!O1232,\"\")","v":""},{"$f":"IF($B$2=StoreConfig!C1232,StoreConfig!E1232,\"\")","v":""},{"$f":"IF($B$2=StoreConfig!C1232,RIGHT(StoreConfig!J1232,LEN(StoreConfig!J1232)-FIND(\"|\",StoreConfig!J1232)),\"\")","v":""},{"$f":"IFERROR(VLOOKUP(--IF($B$2=StoreConfig!C1232,LEFT(StoreConfig!J1232,FIND(\"|\",StoreConfig!J1232)-1),\"\"),$Q$4:$R$20,2,FALSE),\"\")","v":""},{"$f":"IF($B$2=StoreConfig!C1232,LEFT(StoreConfig!G1232,FIND(\"#\",StoreConfig!G1232)-1),\"\")","v":""},{"$f":"IF($B$2=StoreConfig!C1232,RIGHT(StoreConfig!G1232,LEN(StoreConfig!G1232)-FIND(\"#\",StoreConfig!G1232)),\"\")","v":""},{"$f":"IF($B$2=StoreConfig!C1232,IF(StoreConfig!L1232=0,\"不限购\",StoreConfig!L1232&\"次\"),\"\")","v":""}]
[{"$nulls":3},{"$f":"IF($B$2=StoreConfig!C1233,StoreConfig!O1233,\"\")","v":""},{"$f":"IF($B$2=StoreConfig!C1233,StoreConfig!E1233,\"\")","v":""},{"$f":"IF($B$2=StoreConfig!C1233,RIGHT(StoreConfig!J1233,LEN(StoreConfig!J1233)-FIND(\"|\",StoreConfig!J1233)),\"\")","v":""},{"$f":"IFERROR(VLOOKUP(--IF($B$2=StoreConfig!C1233,LEFT(StoreConfig!J1233,FIND(\"|\",StoreConfig!J1233)-1),\"\"),$Q$4:$R$20,2,FALSE),\"\")","v":""},{"$f":"IF($B$2=StoreConfig!C1233,LEFT(StoreConfig!G1233,FIND(\"#\",StoreConfig!G1233)-1),\"\")","v":""},{"$f":"IF($B$2=StoreConfig!C1233,RIGHT(StoreConfig!G1233,LEN(StoreConfig!G1233)-FIND(\"#\",StoreConfig!G1233)),\"\")","v":""},{"$f":"IF($B$2=StoreConfig!C1233,IF(StoreConfig!L1233=0,\"不限购\",StoreConfig!L1233&\"次\"),\"\")","v":""}]
[{"$nulls":3},{"$f":"IF($B$2=StoreConfig!C1234,StoreConfig!O1234,\"\")","v":""},{"$f":"IF($B$2=StoreConfig!C1234,StoreConfig!E1234,\"\")","v":""},{"$f":"IF($B$2=StoreConfig!C1234,RIGHT(StoreConfig!J1234,LEN(StoreConfig!J1234)-FIND(\"|\",StoreConfig!J1234)),\"\")","v":""},{"$f":"IFERROR(VLOOKUP(--IF($B$2=StoreConfig!C1234,LEFT(StoreConfig!J1234,FIND(\"|\",StoreConfig!J1234)-1),\"\"),$Q$4:$R$20,2,FALSE),\"\")","v":""},{"$f":"IF($B$2=StoreConfig!C1234,LEFT(StoreConfig!G1234,FIND(\"#\",StoreConfig!G1234)-1),\"\")","v":""},{"$f":"IF($B$2=StoreConfig!C1234,RIGHT(StoreConfig!G1234,LEN(StoreConfig!G1234)-FIND(\"#\",StoreConfig!G1234)),\"\")","v":""},{"$f":"IF($B$2=StoreConfig!C1234,IF(StoreConfig!L1234=0,\"不限购\",StoreConfig!L1234&\"次\"),\"\")","v":""}]
[{"$nulls":3},{"$f":"IF($B$2=StoreConfig!C1235,StoreConfig!O1235,\"\")","v":""},{"$f":"IF($B$2=StoreConfig!C1235,StoreConfig!E1235,\"\")","v":""},{"$f":"IF($B$2=StoreConfig!C1235,RIGHT(StoreConfig!J1235,LEN(StoreConfig!J1235)-FIND(\"|\",StoreConfig!J1235)),\"\")","v":""},{"$f":"IFERROR(VLOOKUP(--IF($B$2=StoreConfig!C1235,LEFT(StoreConfig!J1235,FIND(\"|\",StoreConfig!J1235)-1),\"\"),$Q$4:$R$20,2,FALSE),\"\")","v":""},{"$f":"IF($B$2=StoreConfig!C1235,LEFT(StoreConfig!G1235,FIND(\"#\",StoreConfig!G1235)-1),\"\")","v":""},{"$f":"IF($B$2=StoreConfig!C1235,RIGHT(StoreConfig!G1235,LEN(StoreConfig!G1235)-FIND(\"#\",StoreConfig!G1235)),\"\")","v":""},{"$f":"IF($B$2=StoreConfig!C1235,IF(StoreConfig!L1235=0,\"不限购\",StoreConfig!L1235&\"次\"),\"\")","v":""}]
[{"$nulls":3},{"$f":"IF($B$2=StoreConfig!C1236,StoreConfig!O1236,\"\")","v":""},{"$f":"IF($B$2=StoreConfig!C1236,StoreConfig!E1236,\"\")","v":""},{"$f":"IF($B$2=StoreConfig!C1236,RIGHT(StoreConfig!J1236,LEN(StoreConfig!J1236)-FIND(\"|\",StoreConfig!J1236)),\"\")","v":""},{"$f":"IFERROR(VLOOKUP(--IF($B$2=StoreConfig!C1236,LEFT(StoreConfig!J1236,FIND(\"|\",StoreConfig!J1236)-1),\"\"),$Q$4:$R$20,2,FALSE),\"\")","v":""},{"$f":"IF($B$2=StoreConfig!C1236,LEFT(StoreConfig!G1236,FIND(\"#\",StoreConfig!G1236)-1),\"\")","v":""},{"$f":"IF($B$2=StoreConfig!C1236,RIGHT(StoreConfig!G1236,LEN(StoreConfig!G1236)-FIND(\"#\",StoreConfig!G1236)),\"\")","v":""},{"$f":"IF($B$2=StoreConfig!C1236,IF(StoreConfig!L1236=0,\"不限购\",StoreConfig!L1236&\"次\"),\"\")","v":""}]
[{"$nulls":3},{"$f":"IF($B$2=StoreConfig!C1237,StoreConfig!O1237,\"\")","v":""},{"$f":"IF($B$2=StoreConfig!C1237,StoreConfig!E1237,\"\")","v":""},{"$f":"IF($B$2=StoreConfig!C1237,RIGHT(StoreConfig!J1237,LEN(StoreConfig!J1237)-FIND(\"|\",StoreConfig!J1237)),\"\")","v":""},{"$f":"IFERROR(VLOOKUP(--IF($B$2=StoreConfig!C1237,LEFT(StoreConfig!J1237,FIND(\"|\",StoreConfig!J1237)-1),\"\"),$Q$4:$R$20,2,FALSE),\"\")","v":""},{"$f":"IF($B$2=StoreConfig!C1237,LEFT(StoreConfig!G1237,FIND(\"#\",StoreConfig!G1237)-1),\"\")","v":""},{"$f":"IF($B$2=StoreConfig!C1237,RIGHT(StoreConfig!G1237,LEN(StoreConfig!G1237)-FIND(\"#\",StoreConfig!G1237)),\"\")","v":""},{"$f":"IF($B$2=StoreConfig!C1237,IF(StoreConfig!L1237=0,\"不限购\",StoreConfig!L1237&\"次\"),\"\")","v":""}]
[{"$nulls":3},{"$f":"IF($B$2=StoreConfig!C1238,StoreConfig!O1238,\"\")","v":""},{"$f":"IF($B$2=StoreConfig!C1238,StoreConfig!E1238,\"\")","v":""},{"$f":"IF($B$2=StoreConfig!C1238,RIGHT(StoreConfig!J1238,LEN(StoreConfig!J1238)-FIND(\"|\",StoreConfig!J1238)),\"\")","v":""},{"$f":"IFERROR(VLOOKUP(--IF($B$2=StoreConfig!C1238,LEFT(StoreConfig!J1238,FIND(\"|\",StoreConfig!J1238)-1),\"\"),$Q$4:$R$20,2,FALSE),\"\")","v":""},{"$f":"IF($B$2=StoreConfig!C1238,LEFT(StoreConfig!G1238,FIND(\"#\",StoreConfig!G1238)-1),\"\")","v":""},{"$f":"IF($B$2=StoreConfig!C1238,RIGHT(StoreConfig!G1238,LEN(StoreConfig!G1238)-FIND(\"#\",StoreConfig!G1238)),\"\")","v":""},{"$f":"IF($B$2=StoreConfig!C1238,IF(StoreConfig!L1238=0,\"不限购\",StoreConfig!L1238&\"次\"),\"\")","v":""}]
[{"$nulls":3},{"$f":"IF($B$2=StoreConfig!C1239,StoreConfig!O1239,\"\")","v":""},{"$f":"IF($B$2=StoreConfig!C1239,StoreConfig!E1239,\"\")","v":""},{"$f":"IF($B$2=StoreConfig!C1239,RIGHT(StoreConfig!J1239,LEN(StoreConfig!J1239)-FIND(\"|\",StoreConfig!J1239)),\"\")","v":""},{"$f":"IFERROR(VLOOKUP(--IF($B$2=StoreConfig!C1239,LEFT(StoreConfig!J1239,FIND(\"|\",StoreConfig!J1239)-1),\"\"),$Q$4:$R$20,2,FALSE),\"\")","v":""},{"$f":"IF($B$2=StoreConfig!C1239,LEFT(StoreConfig!G1239,FIND(\"#\",StoreConfig!G1239)-1),\"\")","v":""},{"$f":"IF($B$2=StoreConfig!C1239,RIGHT(StoreConfig!G1239,LEN(StoreConfig!G1239)-FIND(\"#\",StoreConfig!G1239)),\"\")","v":""},{"$f":"IF($B$2=StoreConfig!C1239,IF(StoreConfig!L1239=0,\"不限购\",StoreConfig!L1239&\"次\"),\"\")","v":""}]
[{"$nulls":3},{"$f":"IF($B$2=StoreConfig!C1240,StoreConfig!O1240,\"\")","v":""},{"$f":"IF($B$2=StoreConfig!C1240,StoreConfig!E1240,\"\")","v":""},{"$f":"IF($B$2=StoreConfig!C1240,RIGHT(StoreConfig!J1240,LEN(StoreConfig!J1240)-FIND(\"|\",StoreConfig!J1240)),\"\")","v":""},{"$f":"IFERROR(VLOOKUP(--IF($B$2=StoreConfig!C1240,LEFT(StoreConfig!J1240,FIND(\"|\",StoreConfig!J1240)-1),\"\"),$Q$4:$R$20,2,FALSE),\"\")","v":""},{"$f":"IF($B$2=StoreConfig!C1240,LEFT(StoreConfig!G1240,FIND(\"#\",StoreConfig!G1240)-1),\"\")","v":""},{"$f":"IF($B$2=StoreConfig!C1240,RIGHT(StoreConfig!G1240,LEN(StoreConfig!G1240)-FIND(\"#\",StoreConfig!G1240)),\"\")","v":""},{"$f":"IF($B$2=StoreConfig!C1240,IF(StoreConfig!L1240=0,\"不限购\",StoreConfig!L1240&\"次\"),\"\")","v":""}]
[{"$nulls":3},{"$f":"IF($B$2=StoreConfig!C1241,StoreConfig!O1241,\"\")","v":""},{"$f":"IF($B$2=StoreConfig!C1241,StoreConfig!E1241,\"\")","v":""},{"$f":"IF($B$2=StoreConfig!C1241,RIGHT(StoreConfig!J1241,LEN(StoreConfig!J1241)-FIND(\"|\",StoreConfig!J1241)),\"\")","v":""},{"$f":"IFERROR(VLOOKUP(--IF($B$2=StoreConfig!C1241,LEFT(StoreConfig!J1241,FIND(\"|\",StoreConfig!J1241)-1),\"\"),$Q$4:$R$20,2,FALSE),\"\")","v":""},{"$f":"IF($B$2=StoreConfig!C1241,LEFT(StoreConfig!G1241,FIND(\"#\",StoreConfig!G1241)-1),\"\")","v":""},{"$f":"IF($B$2=StoreConfig!C1241,RIGHT(StoreConfig!G1241,LEN(StoreConfig!G1241)-FIND(\"#\",StoreConfig!G1241)),\"\")","v":""},{"$f":"IF($B$2=StoreConfig!C1241,IF(StoreConfig!L1241=0,\"不限购\",StoreConfig!L1241&\"次\"),\"\")","v":""}]
[{"$nulls":3},{"$f":"IF($B$2=StoreConfig!C1242,StoreConfig!O1242,\"\")","v":""},{"$f":"IF($B$2=StoreConfig!C1242,StoreConfig!E1242,\"\")","v":""},{"$f":"IF($B$2=StoreConfig!C1242,RIGHT(StoreConfig!J1242,LEN(StoreConfig!J1242)-FIND(\"|\",StoreConfig!J1242)),\"\")","v":""},{"$f":"IFERROR(VLOOKUP(--IF($B$2=StoreConfig!C1242,LEFT(StoreConfig!J1242,FIND(\"|\",StoreConfig!J1242)-1),\"\"),$Q$4:$R$20,2,FALSE),\"\")","v":""},{"$f":"IF($B$2=StoreConfig!C1242,LEFT(StoreConfig!G1242,FIND(\"#\",StoreConfig!G1242)-1),\"\")","v":""},{"$f":"IF($B$2=StoreConfig!C1242,RIGHT(StoreConfig!G1242,LEN(StoreConfig!G1242)-FIND(\"#\",StoreConfig!G1242)),\"\")","v":""},{"$f":"IF($B$2=StoreConfig!C1242,IF(StoreConfig!L1242=0,\"不限购\",StoreConfig!L1242&\"次\"),\"\")","v":""}]
[{"$nulls":3},{"$f":"IF($B$2=StoreConfig!C1243,StoreConfig!O1243,\"\")","v":""},{"$f":"IF($B$2=StoreConfig!C1243,StoreConfig!E1243,\"\")","v":""},{"$f":"IF($B$2=StoreConfig!C1243,RIGHT(StoreConfig!J1243,LEN(StoreConfig!J1243)-FIND(\"|\",StoreConfig!J1243)),\"\")","v":""},{"$f":"IFERROR(VLOOKUP(--IF($B$2=StoreConfig!C1243,LEFT(StoreConfig!J1243,FIND(\"|\",StoreConfig!J1243)-1),\"\"),$Q$4:$R$20,2,FALSE),\"\")","v":""},{"$f":"IF($B$2=StoreConfig!C1243,LEFT(StoreConfig!G1243,FIND(\"#\",StoreConfig!G1243)-1),\"\")","v":""},{"$f":"IF($B$2=StoreConfig!C1243,RIGHT(StoreConfig!G1243,LEN(StoreConfig!G1243)-FIND(\"#\",StoreConfig!G1243)),\"\")","v":""},{"$f":"IF($B$2=StoreConfig!C1243,IF(StoreConfig!L1243=0,\"不限购\",StoreConfig!L1243&\"次\"),\"\")","v":""}]
[{"$nulls":3},{"$f":"IF($B$2=StoreConfig!C1244,StoreConfig!O1244,\"\")","v":""},{"$f":"IF($B$2=StoreConfig!C1244,StoreConfig!E1244,\"\")","v":""},{"$f":"IF($B$2=StoreConfig!C1244,RIGHT(StoreConfig!J1244,LEN(StoreConfig!J1244)-FIND(\"|\",StoreConfig!J1244)),\"\")","v":""},{"$f":"IFERROR(VLOOKUP(--IF($B$2=StoreConfig!C1244,LEFT(StoreConfig!J1244,FIND(\"|\",StoreConfig!J1244)-1),\"\"),$Q$4:$R$20,2,FALSE),\"\")","v":""},{"$f":"IF($B$2=StoreConfig!C1244,LEFT(StoreConfig!G1244,FIND(\"#\",StoreConfig!G1244)-1),\"\")","v":""},{"$f":"IF($B$2=StoreConfig!C1244,RIGHT(StoreConfig!G1244,LEN(StoreConfig!G1244)-FIND(\"#\",StoreConfig!G1244)),\"\")","v":""},{"$f":"IF($B$2=StoreConfig!C1244,IF(StoreConfig!L1244=0,\"不限购\",StoreConfig!L1244&\"次\"),\"\")","v":""}]
[{"$nulls":3},{"$f":"IF($B$2=StoreConfig!C1245,StoreConfig!O1245,\"\")","v":""},{"$f":"IF($B$2=StoreConfig!C1245,StoreConfig!E1245,\"\")","v":""},{"$f":"IF($B$2=StoreConfig!C1245,RIGHT(StoreConfig!J1245,LEN(StoreConfig!J1245)-FIND(\"|\",StoreConfig!J1245)),\"\")","v":""},{"$f":"IFERROR(VLOOKUP(--IF($B$2=StoreConfig!C1245,LEFT(StoreConfig!J1245,FIND(\"|\",StoreConfig!J1245)-1),\"\"),$Q$4:$R$20,2,FALSE),\"\")","v":""},{"$f":"IF($B$2=StoreConfig!C1245,LEFT(StoreConfig!G1245,FIND(\"#\",StoreConfig!G1245)-1),\"\")","v":""},{"$f":"IF($B$2=StoreConfig!C1245,RIGHT(StoreConfig!G1245,LEN(StoreConfig!G1245)-FIND(\"#\",StoreConfig!G1245)),\"\")","v":""},{"$f":"IF($B$2=StoreConfig!C1245,IF(StoreConfig!L1245=0,\"不限购\",StoreConfig!L1245&\"次\"),\"\")","v":""}]
[{"$nulls":3},{"$f":"IF($B$2=StoreConfig!C1246,StoreConfig!O1246,\"\")","v":""},{"$f":"IF($B$2=StoreConfig!C1246,StoreConfig!E1246,\"\")","v":""},{"$f":"IF($B$2=StoreConfig!C1246,RIGHT(StoreConfig!J1246,LEN(StoreConfig!J1246)-FIND(\"|\",StoreConfig!J1246)),\"\")","v":""},{"$f":"IFERROR(VLOOKUP(--IF($B$2=StoreConfig!C1246,LEFT(StoreConfig!J1246,FIND(\"|\",StoreConfig!J1246)-1),\"\"),$Q$4:$R$20,2,FALSE),\"\")","v":""},{"$f":"IF($B$2=StoreConfig!C1246,LEFT(StoreConfig!G1246,FIND(\"#\",StoreConfig!G1246)-1),\"\")","v":""},{"$f":"IF($B$2=StoreConfig!C1246,RIGHT(StoreConfig!G1246,LEN(StoreConfig!G1246)-FIND(\"#\",StoreConfig!G1246)),\"\")","v":""},{"$f":"IF($B$2=StoreConfig!C1246,IF(StoreConfig!L1246=0,\"不限购\",StoreConfig!L1246&\"次\"),\"\")","v":""}]
[{"$nulls":3},{"$f":"IF($B$2=StoreConfig!C1247,StoreConfig!O1247,\"\")","v":""},{"$f":"IF($B$2=StoreConfig!C1247,StoreConfig!E1247,\"\")","v":""},{"$f":"IF($B$2=StoreConfig!C1247,RIGHT(StoreConfig!J1247,LEN(StoreConfig!J1247)-FIND(\"|\",StoreConfig!J1247)),\"\")","v":""},{"$f":"IFERROR(VLOOKUP(--IF($B$2=StoreConfig!C1247,LEFT(StoreConfig!J1247,FIND(\"|\",StoreConfig!J1247)-1),\"\"),$Q$4:$R$20,2,FALSE),\"\")","v":""},{"$f":"IF($B$2=StoreConfig!C1247,LEFT(StoreConfig!G1247,FIND(\"#\",StoreConfig!G1247)-1),\"\")","v":""},{"$f":"IF($B$2=StoreConfig!C1247,RIGHT(StoreConfig!G1247,LEN(StoreConfig!G1247)-FIND(\"#\",StoreConfig!G1247)),\"\")","v":""},{"$f":"IF($B$2=StoreConfig!C1247,IF(StoreConfig!L1247=0,\"不限购\",StoreConfig!L1247&\"次\"),\"\")","v":""}]
[{"$nulls":3},{"$f":"IF($B$2=StoreConfig!C1248,StoreConfig!O1248,\"\")","v":""},{"$f":"IF($B$2=StoreConfig!C1248,StoreConfig!E1248,\"\")","v":""},{"$f":"IF($B$2=StoreConfig!C1248,RIGHT(StoreConfig!J1248,LEN(StoreConfig!J1248)-FIND(\"|\",StoreConfig!J1248)),\"\")","v":""},{"$f":"IFERROR(VLOOKUP(--IF($B$2=StoreConfig!C1248,LEFT(StoreConfig!J1248,FIND(\"|\",StoreConfig!J1248)-1),\"\"),$Q$4:$R$20,2,FALSE),\"\")","v":""},{"$f":"IF($B$2=StoreConfig!C1248,LEFT(StoreConfig!G1248,FIND(\"#\",StoreConfig!G1248)-1),\"\")","v":""},{"$f":"IF($B$2=StoreConfig!C1248,RIGHT(StoreConfig!G1248,LEN(StoreConfig!G1248)-FIND(\"#\",StoreConfig!G1248)),\"\")","v":""},{"$f":"IF($B$2=StoreConfig!C1248,IF(StoreConfig!L1248=0,\"不限购\",StoreConfig!L1248&\"次\"),\"\")","v":""}]
[{"$nulls":3},{"$f":"IF($B$2=StoreConfig!C1249,StoreConfig!O1249,\"\")","v":""},{"$f":"IF($B$2=StoreConfig!C1249,StoreConfig!E1249,\"\")","v":""},{"$f":"IF($B$2=StoreConfig!C1249,RIGHT(StoreConfig!J1249,LEN(StoreConfig!J1249)-FIND(\"|\",StoreConfig!J1249)),\"\")","v":""},{"$f":"IFERROR(VLOOKUP(--IF($B$2=StoreConfig!C1249,LEFT(StoreConfig!J1249,FIND(\"|\",StoreConfig!J1249)-1),\"\"),$Q$4:$R$20,2,FALSE),\"\")","v":""},{"$f":"IF($B$2=StoreConfig!C1249,LEFT(StoreConfig!G1249,FIND(\"#\",StoreConfig!G1249)-1),\"\")","v":""},{"$f":"IF($B$2=StoreConfig!C1249,RIGHT(StoreConfig!G1249,LEN(StoreConfig!G1249)-FIND(\"#\",StoreConfig!G1249)),\"\")","v":""},{"$f":"IF($B$2=StoreConfig!C1249,IF(StoreConfig!L1249=0,\"不限购\",StoreConfig!L1249&\"次\"),\"\")","v":""}]
[{"$nulls":3},{"$f":"IF($B$2=StoreConfig!C1250,StoreConfig!O1250,\"\")","v":""},{"$f":"IF($B$2=StoreConfig!C1250,StoreConfig!E1250,\"\")","v":""},{"$f":"IF($B$2=StoreConfig!C1250,RIGHT(StoreConfig!J1250,LEN(StoreConfig!J1250)-FIND(\"|\",StoreConfig!J1250)),\"\")","v":""},{"$f":"IFERROR(VLOOKUP(--IF($B$2=StoreConfig!C1250,LEFT(StoreConfig!J1250,FIND(\"|\",StoreConfig!J1250)-1),\"\"),$Q$4:$R$20,2,FALSE),\"\")","v":""},{"$f":"IF($B$2=StoreConfig!C1250,LEFT(StoreConfig!G1250,FIND(\"#\",StoreConfig!G1250)-1),\"\")","v":""},{"$f":"IF($B$2=StoreConfig!C1250,RIGHT(StoreConfig!G1250,LEN(StoreConfig!G1250)-FIND(\"#\",StoreConfig!G1250)),\"\")","v":""},{"$f":"IF($B$2=StoreConfig!C1250,IF(StoreConfig!L1250=0,\"不限购\",StoreConfig!L1250&\"次\"),\"\")","v":""}]
[{"$nulls":3},{"$f":"IF($B$2=StoreConfig!C1251,StoreConfig!O1251,\"\")","v":""},{"$f":"IF($B$2=StoreConfig!C1251,StoreConfig!E1251,\"\")","v":""},{"$f":"IF($B$2=StoreConfig!C1251,RIGHT(StoreConfig!J1251,LEN(StoreConfig!J1251)-FIND(\"|\",StoreConfig!J1251)),\"\")","v":""},{"$f":"IFERROR(VLOOKUP(--IF($B$2=StoreConfig!C1251,LEFT(StoreConfig!J1251,FIND(\"|\",StoreConfig!J1251)-1),\"\"),$Q$4:$R$20,2,FALSE),\"\")","v":""},{"$f":"IF($B$2=StoreConfig!C1251,LEFT(StoreConfig!G1251,FIND(\"#\",StoreConfig!G1251)-1),\"\")","v":""},{"$f":"IF($B$2=StoreConfig!C1251,RIGHT(StoreConfig!G1251,LEN(StoreConfig!G1251)-FIND(\"#\",StoreConfig!G1251)),\"\")","v":""},{"$f":"IF($B$2=StoreConfig!C1251,IF(StoreConfig!L1251=0,\"不限购\",StoreConfig!L1251&\"次\"),\"\")","v":""}]
[{"$nulls":3},{"$f":"IF($B$2=StoreConfig!C1252,StoreConfig!O1252,\"\")","v":""},{"$f":"IF($B$2=StoreConfig!C1252,StoreConfig!E1252,\"\")","v":""},{"$f":"IF($B$2=StoreConfig!C1252,RIGHT(StoreConfig!J1252,LEN(StoreConfig!J1252)-FIND(\"|\",StoreConfig!J1252)),\"\")","v":""},{"$f":"IFERROR(VLOOKUP(--IF($B$2=StoreConfig!C1252,LEFT(StoreConfig!J1252,FIND(\"|\",StoreConfig!J1252)-1),\"\"),$Q$4:$R$20,2,FALSE),\"\")","v":""},{"$f":"IF($B$2=StoreConfig!C1252,LEFT(StoreConfig!G1252,FIND(\"#\",StoreConfig!G1252)-1),\"\")","v":""},{"$f":"IF($B$2=StoreConfig!C1252,RIGHT(StoreConfig!G1252,LEN(StoreConfig!G1252)-FIND(\"#\",StoreConfig!G1252)),\"\")","v":""},{"$f":"IF($B$2=StoreConfig!C1252,IF(StoreConfig!L1252=0,\"不限购\",StoreConfig!L1252&\"次\"),\"\")","v":""}]
[{"$nulls":3},{"$f":"IF($B$2=StoreConfig!C1253,StoreConfig!O1253,\"\")","v":""},{"$f":"IF($B$2=StoreConfig!C1253,StoreConfig!E1253,\"\")","v":""},{"$f":"IF($B$2=StoreConfig!C1253,RIGHT(StoreConfig!J1253,LEN(StoreConfig!J1253)-FIND(\"|\",StoreConfig!J1253)),\"\")","v":""},{"$f":"IFERROR(VLOOKUP(--IF($B$2=StoreConfig!C1253,LEFT(StoreConfig!J1253,FIND(\"|\",StoreConfig!J1253)-1),\"\"),$Q$4:$R$20,2,FALSE),\"\")","v":""},{"$f":"IF($B$2=StoreConfig!C1253,LEFT(StoreConfig!G1253,FIND(\"#\",StoreConfig!G1253)-1),\"\")","v":""},{"$f":"IF($B$2=StoreConfig!C1253,RIGHT(StoreConfig!G1253,LEN(StoreConfig!G1253)-FIND(\"#\",StoreConfig!G1253)),\"\")","v":""},{"$f":"IF($B$2=StoreConfig!C1253,IF(StoreConfig!L1253=0,\"不限购\",StoreConfig!L1253&\"次\"),\"\")","v":""}]
[{"$nulls":3},{"$f":"IF($B$2=StoreConfig!C1254,StoreConfig!O1254,\"\")","v":""},{"$f":"IF($B$2=StoreConfig!C1254,StoreConfig!E1254,\"\")","v":""},{"$f":"IF($B$2=StoreConfig!C1254,RIGHT(StoreConfig!J1254,LEN(StoreConfig!J1254)-FIND(\"|\",StoreConfig!J1254)),\"\")","v":""},{"$f":"IFERROR(VLOOKUP(--IF($B$2=StoreConfig!C1254,LEFT(StoreConfig!J1254,FIND(\"|\",StoreConfig!J1254)-1),\"\"),$Q$4:$R$20,2,FALSE),\"\")","v":""},{"$f":"IF($B$2=StoreConfig!C1254,LEFT(StoreConfig!G1254,FIND(\"#\",StoreConfig!G1254)-1),\"\")","v":""},{"$f":"IF($B$2=StoreConfig!C1254,RIGHT(StoreConfig!G1254,LEN(StoreConfig!G1254)-FIND(\"#\",StoreConfig!G1254)),\"\")","v":""},{"$f":"IF($B$2=StoreConfig!C1254,IF(StoreConfig!L1254=0,\"不限购\",StoreConfig!L1254&\"次\"),\"\")","v":""}]
[{"$nulls":3},{"$f":"IF($B$2=StoreConfig!C1255,StoreConfig!O1255,\"\")","v":""},{"$f":"IF($B$2=StoreConfig!C1255,StoreConfig!E1255,\"\")","v":""},{"$f":"IF($B$2=StoreConfig!C1255,RIGHT(StoreConfig!J1255,LEN(StoreConfig!J1255)-FIND(\"|\",StoreConfig!J1255)),\"\")","v":""},{"$f":"IFERROR(VLOOKUP(--IF($B$2=StoreConfig!C1255,LEFT(StoreConfig!J1255,FIND(\"|\",StoreConfig!J1255)-1),\"\"),$Q$4:$R$20,2,FALSE),\"\")","v":""},{"$f":"IF($B$2=StoreConfig!C1255,LEFT(StoreConfig!G1255,FIND(\"#\",StoreConfig!G1255)-1),\"\")","v":""},{"$f":"IF($B$2=StoreConfig!C1255,RIGHT(StoreConfig!G1255,LEN(StoreConfig!G1255)-FIND(\"#\",StoreConfig!G1255)),\"\")","v":""},{"$f":"IF($B$2=StoreConfig!C1255,IF(StoreConfig!L1255=0,\"不限购\",StoreConfig!L1255&\"次\"),\"\")","v":""}]
[{"$nulls":3},{"$f":"IF($B$2=StoreConfig!C1256,StoreConfig!O1256,\"\")","v":""},{"$f":"IF($B$2=StoreConfig!C1256,StoreConfig!E1256,\"\")","v":""},{"$f":"IF($B$2=StoreConfig!C1256,RIGHT(StoreConfig!J1256,LEN(StoreConfig!J1256)-FIND(\"|\",StoreConfig!J1256)),\"\")","v":""},{"$f":"IFERROR(VLOOKUP(--IF($B$2=StoreConfig!C1256,LEFT(StoreConfig!J1256,FIND(\"|\",StoreConfig!J1256)-1),\"\"),$Q$4:$R$20,2,FALSE),\"\")","v":""},{"$f":"IF($B$2=StoreConfig!C1256,LEFT(StoreConfig!G1256,FIND(\"#\",StoreConfig!G1256)-1),\"\")","v":""},{"$f":"IF($B$2=StoreConfig!C1256,RIGHT(StoreConfig!G1256,LEN(StoreConfig!G1256)-FIND(\"#\",StoreConfig!G1256)),\"\")","v":""},{"$f":"IF($B$2=StoreConfig!C1256,IF(StoreConfig!L1256=0,\"不限购\",StoreConfig!L1256&\"次\"),\"\")","v":""}]
[{"$nulls":3},{"$f":"IF($B$2=StoreConfig!C1257,StoreConfig!O1257,\"\")","v":""},{"$f":"IF($B$2=StoreConfig!C1257,StoreConfig!E1257,\"\")","v":""},{"$f":"IF($B$2=StoreConfig!C1257,RIGHT(StoreConfig!J1257,LEN(StoreConfig!J1257)-FIND(\"|\",StoreConfig!J1257)),\"\")","v":""},{"$f":"IFERROR(VLOOKUP(--IF($B$2=StoreConfig!C1257,LEFT(StoreConfig!J1257,FIND(\"|\",StoreConfig!J1257)-1),\"\"),$Q$4:$R$20,2,FALSE),\"\")","v":""},{"$f":"IF($B$2=StoreConfig!C1257,LEFT(StoreConfig!G1257,FIND(\"#\",StoreConfig!G1257)-1),\"\")","v":""},{"$f":"IF($B$2=StoreConfig!C1257,RIGHT(StoreConfig!G1257,LEN(StoreConfig!G1257)-FIND(\"#\",StoreConfig!G1257)),\"\")","v":""},{"$f":"IF($B$2=StoreConfig!C1257,IF(StoreConfig!L1257=0,\"不限购\",StoreConfig!L1257&\"次\"),\"\")","v":""}]
[{"$nulls":3},{"$f":"IF($B$2=StoreConfig!C1258,StoreConfig!O1258,\"\")","v":""},{"$f":"IF($B$2=StoreConfig!C1258,StoreConfig!E1258,\"\")","v":""},{"$f":"IF($B$2=StoreConfig!C1258,RIGHT(StoreConfig!J1258,LEN(StoreConfig!J1258)-FIND(\"|\",StoreConfig!J1258)),\"\")","v":""},{"$f":"IFERROR(VLOOKUP(--IF($B$2=StoreConfig!C1258,LEFT(StoreConfig!J1258,FIND(\"|\",StoreConfig!J1258)-1),\"\"),$Q$4:$R$20,2,FALSE),\"\")","v":""},{"$f":"IF($B$2=StoreConfig!C1258,LEFT(StoreConfig!G1258,FIND(\"#\",StoreConfig!G1258)-1),\"\")","v":""},{"$f":"IF($B$2=StoreConfig!C1258,RIGHT(StoreConfig!G1258,LEN(StoreConfig!G1258)-FIND(\"#\",StoreConfig!G1258)),\"\")","v":""},{"$f":"IF($B$2=StoreConfig!C1258,IF(StoreConfig!L1258=0,\"不限购\",StoreConfig!L1258&\"次\"),\"\")","v":""}]
[{"$nulls":3},{"$f":"IF($B$2=StoreConfig!C1259,StoreConfig!O1259,\"\")","v":""},{"$f":"IF($B$2=StoreConfig!C1259,StoreConfig!E1259,\"\")","v":""},{"$f":"IF($B$2=StoreConfig!C1259,RIGHT(StoreConfig!J1259,LEN(StoreConfig!J1259)-FIND(\"|\",StoreConfig!J1259)),\"\")","v":""},{"$f":"IFERROR(VLOOKUP(--IF($B$2=StoreConfig!C1259,LEFT(StoreConfig!J1259,FIND(\"|\",StoreConfig!J1259)-1),\"\"),$Q$4:$R$20,2,FALSE),\"\")","v":""},{"$f":"IF($B$2=StoreConfig!C1259,LEFT(StoreConfig!G1259,FIND(\"#\",StoreConfig!G1259)-1),\"\")","v":""},{"$f":"IF($B$2=StoreConfig!C1259,RIGHT(StoreConfig!G1259,LEN(StoreConfig!G1259)-FIND(\"#\",StoreConfig!G1259)),\"\")","v":""},{"$f":"IF($B$2=StoreConfig!C1259,IF(StoreConfig!L1259=0,\"不限购\",StoreConfig!L1259&\"次\"),\"\")","v":""}]
[{"$nulls":3},{"$f":"IF($B$2=StoreConfig!C1260,StoreConfig!O1260,\"\")","v":""},{"$f":"IF($B$2=StoreConfig!C1260,StoreConfig!E1260,\"\")","v":""},{"$f":"IF($B$2=StoreConfig!C1260,RIGHT(StoreConfig!J1260,LEN(StoreConfig!J1260)-FIND(\"|\",StoreConfig!J1260)),\"\")","v":""},{"$f":"IFERROR(VLOOKUP(--IF($B$2=StoreConfig!C1260,LEFT(StoreConfig!J1260,FIND(\"|\",StoreConfig!J1260)-1),\"\"),$Q$4:$R$20,2,FALSE),\"\")","v":""},{"$f":"IF($B$2=StoreConfig!C1260,LEFT(StoreConfig!G1260,FIND(\"#\",StoreConfig!G1260)-1),\"\")","v":""},{"$f":"IF($B$2=StoreConfig!C1260,RIGHT(StoreConfig!G1260,LEN(StoreConfig!G1260)-FIND(\"#\",StoreConfig!G1260)),\"\")","v":""},{"$f":"IF($B$2=StoreConfig!C1260,IF(StoreConfig!L1260=0,\"不限购\",StoreConfig!L1260&\"次\"),\"\")","v":""}]
[{"$nulls":3},{"$f":"IF($B$2=StoreConfig!C1261,StoreConfig!O1261,\"\")","v":""},{"$f":"IF($B$2=StoreConfig!C1261,StoreConfig!E1261,\"\")","v":""},{"$f":"IF($B$2=StoreConfig!C1261,RIGHT(StoreConfig!J1261,LEN(StoreConfig!J1261)-FIND(\"|\",StoreConfig!J1261)),\"\")","v":""},{"$f":"IFERROR(VLOOKUP(--IF($B$2=StoreConfig!C1261,LEFT(StoreConfig!J1261,FIND(\"|\",StoreConfig!J1261)-1),\"\"),$Q$4:$R$20,2,FALSE),\"\")","v":""},{"$f":"IF($B$2=StoreConfig!C1261,LEFT(StoreConfig!G1261,FIND(\"#\",StoreConfig!G1261)-1),\"\")","v":""},{"$f":"IF($B$2=StoreConfig!C1261,RIGHT(StoreConfig!G1261,LEN(StoreConfig!G1261)-FIND(\"#\",StoreConfig!G1261)),\"\")","v":""},{"$f":"IF($B$2=StoreConfig!C1261,IF(StoreConfig!L1261=0,\"不限购\",StoreConfig!L1261&\"次\"),\"\")","v":""}]
[{"$nulls":3},{"$f":"IF($B$2=StoreConfig!C1262,StoreConfig!O1262,\"\")","v":""},{"$f":"IF($B$2=StoreConfig!C1262,StoreConfig!E1262,\"\")","v":""},{"$f":"IF($B$2=StoreConfig!C1262,RIGHT(StoreConfig!J1262,LEN(StoreConfig!J1262)-FIND(\"|\",StoreConfig!J1262)),\"\")","v":""},{"$f":"IFERROR(VLOOKUP(--IF($B$2=StoreConfig!C1262,LEFT(StoreConfig!J1262,FIND(\"|\",StoreConfig!J1262)-1),\"\"),$Q$4:$R$20,2,FALSE),\"\")","v":""},{"$f":"IF($B$2=StoreConfig!C1262,LEFT(StoreConfig!G1262,FIND(\"#\",StoreConfig!G1262)-1),\"\")","v":""},{"$f":"IF($B$2=StoreConfig!C1262,RIGHT(StoreConfig!G1262,LEN(StoreConfig!G1262)-FIND(\"#\",StoreConfig!G1262)),\"\")","v":""},{"$f":"IF($B$2=StoreConfig!C1262,IF(StoreConfig!L1262=0,\"不限购\",StoreConfig!L1262&\"次\"),\"\")","v":""}]
[{"$nulls":3},{"$f":"IF($B$2=StoreConfig!C1263,StoreConfig!O1263,\"\")","v":""},{"$f":"IF($B$2=StoreConfig!C1263,StoreConfig!E1263,\"\")","v":""},{"$f":"IF($B$2=StoreConfig!C1263,RIGHT(StoreConfig!J1263,LEN(StoreConfig!J1263)-FIND(\"|\",StoreConfig!J1263)),\"\")","v":""},{"$f":"IFERROR(VLOOKUP(--IF($B$2=StoreConfig!C1263,LEFT(StoreConfig!J1263,FIND(\"|\",StoreConfig!J1263)-1),\"\"),$Q$4:$R$20,2,FALSE),\"\")","v":""},{"$f":"IF($B$2=StoreConfig!C1263,LEFT(StoreConfig!G1263,FIND(\"#\",StoreConfig!G1263)-1),\"\")","v":""},{"$f":"IF($B$2=StoreConfig!C1263,RIGHT(StoreConfig!G1263,LEN(StoreConfig!G1263)-FIND(\"#\",StoreConfig!G1263)),\"\")","v":""},{"$f":"IF($B$2=StoreConfig!C1263,IF(StoreConfig!L1263=0,\"不限购\",StoreConfig!L1263&\"次\"),\"\")","v":""}]
[{"$nulls":3},{"$f":"IF($B$2=StoreConfig!C1264,StoreConfig!O1264,\"\")","v":""},{"$f":"IF($B$2=StoreConfig!C1264,StoreConfig!E1264,\"\")","v":""},{"$f":"IF($B$2=StoreConfig!C1264,RIGHT(StoreConfig!J1264,LEN(StoreConfig!J1264)-FIND(\"|\",StoreConfig!J1264)),\"\")","v":""},{"$f":"IFERROR(VLOOKUP(--IF($B$2=StoreConfig!C1264,LEFT(StoreConfig!J1264,FIND(\"|\",StoreConfig!J1264)-1),\"\"),$Q$4:$R$20,2,FALSE),\"\")","v":""},{"$f":"IF($B$2=StoreConfig!C1264,LEFT(StoreConfig!G1264,FIND(\"#\",StoreConfig!G1264)-1),\"\")","v":""},{"$f":"IF($B$2=StoreConfig!C1264,RIGHT(StoreConfig!G1264,LEN(StoreConfig!G1264)-FIND(\"#\",StoreConfig!G1264)),\"\")","v":""},{"$f":"IF($B$2=StoreConfig!C1264,IF(StoreConfig!L1264=0,\"不限购\",StoreConfig!L1264&\"次\"),\"\")","v":""}]
[{"$nulls":3},{"$f":"IF($B$2=StoreConfig!C1265,StoreConfig!O1265,\"\")","v":""},{"$f":"IF($B$2=StoreConfig!C1265,StoreConfig!E1265,\"\")","v":""},{"$f":"IF($B$2=StoreConfig!C1265,RIGHT(StoreConfig!J1265,LEN(StoreConfig!J1265)-FIND(\"|\",StoreConfig!J1265)),\"\")","v":""},{"$f":"IFERROR(VLOOKUP(--IF($B$2=StoreConfig!C1265,LEFT(StoreConfig!J1265,FIND(\"|\",StoreConfig!J1265)-1),\"\"),$Q$4:$R$20,2,FALSE),\"\")","v":""},{"$f":"IF($B$2=StoreConfig!C1265,LEFT(StoreConfig!G1265,FIND(\"#\",StoreConfig!G1265)-1),\"\")","v":""},{"$f":"IF($B$2=StoreConfig!C1265,RIGHT(StoreConfig!G1265,LEN(StoreConfig!G1265)-FIND(\"#\",StoreConfig!G1265)),\"\")","v":""},{"$f":"IF($B$2=StoreConfig!C1265,IF(StoreConfig!L1265=0,\"不限购\",StoreConfig!L1265&\"次\"),\"\")","v":""}]
[{"$nulls":3},{"$f":"IF($B$2=StoreConfig!C1266,StoreConfig!O1266,\"\")","v":""},{"$f":"IF($B$2=StoreConfig!C1266,StoreConfig!E1266,\"\")","v":""},{"$f":"IF($B$2=StoreConfig!C1266,RIGHT(StoreConfig!J1266,LEN(StoreConfig!J1266)-FIND(\"|\",StoreConfig!J1266)),\"\")","v":""},{"$f":"IFERROR(VLOOKUP(--IF($B$2=StoreConfig!C1266,LEFT(StoreConfig!J1266,FIND(\"|\",StoreConfig!J1266)-1),\"\"),$Q$4:$R$20,2,FALSE),\"\")","v":""},{"$f":"IF($B$2=StoreConfig!C1266,LEFT(StoreConfig!G1266,FIND(\"#\",StoreConfig!G1266)-1),\"\")","v":""},{"$f":"IF($B$2=StoreConfig!C1266,RIGHT(StoreConfig!G1266,LEN(StoreConfig!G1266)-FIND(\"#\",StoreConfig!G1266)),\"\")","v":""},{"$f":"IF($B$2=StoreConfig!C1266,IF(StoreConfig!L1266=0,\"不限购\",StoreConfig!L1266&\"次\"),\"\")","v":""}]
[{"$nulls":3},{"$f":"IF($B$2=StoreConfig!C1267,StoreConfig!O1267,\"\")","v":""},{"$f":"IF($B$2=StoreConfig!C1267,StoreConfig!E1267,\"\")","v":""},{"$f":"IF($B$2=StoreConfig!C1267,RIGHT(StoreConfig!J1267,LEN(StoreConfig!J1267)-FIND(\"|\",StoreConfig!J1267)),\"\")","v":""},{"$f":"IFERROR(VLOOKUP(--IF($B$2=StoreConfig!C1267,LEFT(StoreConfig!J1267,FIND(\"|\",StoreConfig!J1267)-1),\"\"),$Q$4:$R$20,2,FALSE),\"\")","v":""},{"$f":"IF($B$2=StoreConfig!C1267,LEFT(StoreConfig!G1267,FIND(\"#\",StoreConfig!G1267)-1),\"\")","v":""},{"$f":"IF($B$2=StoreConfig!C1267,RIGHT(StoreConfig!G1267,LEN(StoreConfig!G1267)-FIND(\"#\",StoreConfig!G1267)),\"\")","v":""},{"$f":"IF($B$2=StoreConfig!C1267,IF(StoreConfig!L1267=0,\"不限购\",StoreConfig!L1267&\"次\"),\"\")","v":""}]
[{"$nulls":3},{"$f":"IF($B$2=StoreConfig!C1268,StoreConfig!O1268,\"\")","v":""},{"$f":"IF($B$2=StoreConfig!C1268,StoreConfig!E1268,\"\")","v":""},{"$f":"IF($B$2=StoreConfig!C1268,RIGHT(StoreConfig!J1268,LEN(StoreConfig!J1268)-FIND(\"|\",StoreConfig!J1268)),\"\")","v":""},{"$f":"IFERROR(VLOOKUP(--IF($B$2=StoreConfig!C1268,LEFT(StoreConfig!J1268,FIND(\"|\",StoreConfig!J1268)-1),\"\"),$Q$4:$R$20,2,FALSE),\"\")","v":""},{"$f":"IF($B$2=StoreConfig!C1268,LEFT(StoreConfig!G1268,FIND(\"#\",StoreConfig!G1268)-1),\"\")","v":""},{"$f":"IF($B$2=StoreConfig!C1268,RIGHT(StoreConfig!G1268,LEN(StoreConfig!G1268)-FIND(\"#\",StoreConfig!G1268)),\"\")","v":""},{"$f":"IF($B$2=StoreConfig!C1268,IF(StoreConfig!L1268=0,\"不限购\",StoreConfig!L1268&\"次\"),\"\")","v":""}]
[{"$nulls":3},{"$f":"IF($B$2=StoreConfig!C1269,StoreConfig!O1269,\"\")","v":""},{"$f":"IF($B$2=StoreConfig!C1269,StoreConfig!E1269,\"\")","v":""},{"$f":"IF($B$2=StoreConfig!C1269,RIGHT(StoreConfig!J1269,LEN(StoreConfig!J1269)-FIND(\"|\",StoreConfig!J1269)),\"\")","v":""},{"$f":"IFERROR(VLOOKUP(--IF($B$2=StoreConfig!C1269,LEFT(StoreConfig!J1269,FIND(\"|\",StoreConfig!J1269)-1),\"\"),$Q$4:$R$20,2,FALSE),\"\")","v":""},{"$f":"IF($B$2=StoreConfig!C1269,LEFT(StoreConfig!G1269,FIND(\"#\",StoreConfig!G1269)-1),\"\")","v":""},{"$f":"IF($B$2=StoreConfig!C1269,RIGHT(StoreConfig!G1269,LEN(StoreConfig!G1269)-FIND(\"#\",StoreConfig!G1269)),\"\")","v":""},{"$f":"IF($B$2=StoreConfig!C1269,IF(StoreConfig!L1269=0,\"不限购\",StoreConfig!L1269&\"次\"),\"\")","v":""}]
[{"$nulls":3},{"$f":"IF($B$2=StoreConfig!C1270,StoreConfig!O1270,\"\")","v":""},{"$f":"IF($B$2=StoreConfig!C1270,StoreConfig!E1270,\"\")","v":""},{"$f":"IF($B$2=StoreConfig!C1270,RIGHT(StoreConfig!J1270,LEN(StoreConfig!J1270)-FIND(\"|\",StoreConfig!J1270)),\"\")","v":""},{"$f":"IFERROR(VLOOKUP(--IF($B$2=StoreConfig!C1270,LEFT(StoreConfig!J1270,FIND(\"|\",StoreConfig!J1270)-1),\"\"),$Q$4:$R$20,2,FALSE),\"\")","v":""},{"$f":"IF($B$2=StoreConfig!C1270,LEFT(StoreConfig!G1270,FIND(\"#\",StoreConfig!G1270)-1),\"\")","v":""},{"$f":"IF($B$2=StoreConfig!C1270,RIGHT(StoreConfig!G1270,LEN(StoreConfig!G1270)-FIND(\"#\",StoreConfig!G1270)),\"\")","v":""},{"$f":"IF($B$2=StoreConfig!C1270,IF(StoreConfig!L1270=0,\"不限购\",StoreConfig!L1270&\"次\"),\"\")","v":""}]
[{"$nulls":3},{"$f":"IF($B$2=StoreConfig!C1271,StoreConfig!O1271,\"\")","v":""},{"$f":"IF($B$2=StoreConfig!C1271,StoreConfig!E1271,\"\")","v":""},{"$f":"IF($B$2=StoreConfig!C1271,RIGHT(StoreConfig!J1271,LEN(StoreConfig!J1271)-FIND(\"|\",StoreConfig!J1271)),\"\")","v":""},{"$f":"IFERROR(VLOOKUP(--IF($B$2=StoreConfig!C1271,LEFT(StoreConfig!J1271,FIND(\"|\",StoreConfig!J1271)-1),\"\"),$Q$4:$R$20,2,FALSE),\"\")","v":""},{"$f":"IF($B$2=StoreConfig!C1271,LEFT(StoreConfig!G1271,FIND(\"#\",StoreConfig!G1271)-1),\"\")","v":""},{"$f":"IF($B$2=StoreConfig!C1271,RIGHT(StoreConfig!G1271,LEN(StoreConfig!G1271)-FIND(\"#\",StoreConfig!G1271)),\"\")","v":""},{"$f":"IF($B$2=StoreConfig!C1271,IF(StoreConfig!L1271=0,\"不限购\",StoreConfig!L1271&\"次\"),\"\")","v":""}]
[{"$nulls":3},{"$f":"IF($B$2=StoreConfig!C1272,StoreConfig!O1272,\"\")","v":""},{"$f":"IF($B$2=StoreConfig!C1272,StoreConfig!E1272,\"\")","v":""},{"$f":"IF($B$2=StoreConfig!C1272,RIGHT(StoreConfig!J1272,LEN(StoreConfig!J1272)-FIND(\"|\",StoreConfig!J1272)),\"\")","v":""},{"$f":"IFERROR(VLOOKUP(--IF($B$2=StoreConfig!C1272,LEFT(StoreConfig!J1272,FIND(\"|\",StoreConfig!J1272)-1),\"\"),$Q$4:$R$20,2,FALSE),\"\")","v":""},{"$f":"IF($B$2=StoreConfig!C1272,LEFT(StoreConfig!G1272,FIND(\"#\",StoreConfig!G1272)-1),\"\")","v":""},{"$f":"IF($B$2=StoreConfig!C1272,RIGHT(StoreConfig!G1272,LEN(StoreConfig!G1272)-FIND(\"#\",StoreConfig!G1272)),\"\")","v":""},{"$f":"IF($B$2=StoreConfig!C1272,IF(StoreConfig!L1272=0,\"不限购\",StoreConfig!L1272&\"次\"),\"\")","v":""}]
[{"$nulls":3},{"$f":"IF($B$2=StoreConfig!C1273,StoreConfig!O1273,\"\")","v":""},{"$f":"IF($B$2=StoreConfig!C1273,StoreConfig!E1273,\"\")","v":""},{"$f":"IF($B$2=StoreConfig!C1273,RIGHT(StoreConfig!J1273,LEN(StoreConfig!J1273)-FIND(\"|\",StoreConfig!J1273)),\"\")","v":""},{"$f":"IFERROR(VLOOKUP(--IF($B$2=StoreConfig!C1273,LEFT(StoreConfig!J1273,FIND(\"|\",StoreConfig!J1273)-1),\"\"),$Q$4:$R$20,2,FALSE),\"\")","v":""},{"$f":"IF($B$2=StoreConfig!C1273,LEFT(StoreConfig!G1273,FIND(\"#\",StoreConfig!G1273)-1),\"\")","v":""},{"$f":"IF($B$2=StoreConfig!C1273,RIGHT(StoreConfig!G1273,LEN(StoreConfig!G1273)-FIND(\"#\",StoreConfig!G1273)),\"\")","v":""},{"$f":"IF($B$2=StoreConfig!C1273,IF(StoreConfig!L1273=0,\"不限购\",StoreConfig!L1273&\"次\"),\"\")","v":""}]
[{"$nulls":3},{"$f":"IF($B$2=StoreConfig!C1274,StoreConfig!O1274,\"\")","v":""},{"$f":"IF($B$2=StoreConfig!C1274,StoreConfig!E1274,\"\")","v":""},{"$f":"IF($B$2=StoreConfig!C1274,RIGHT(StoreConfig!J1274,LEN(StoreConfig!J1274)-FIND(\"|\",StoreConfig!J1274)),\"\")","v":""},{"$f":"IFERROR(VLOOKUP(--IF($B$2=StoreConfig!C1274,LEFT(StoreConfig!J1274,FIND(\"|\",StoreConfig!J1274)-1),\"\"),$Q$4:$R$20,2,FALSE),\"\")","v":""},{"$f":"IF($B$2=StoreConfig!C1274,LEFT(StoreConfig!G1274,FIND(\"#\",StoreConfig!G1274)-1),\"\")","v":""},{"$f":"IF($B$2=StoreConfig!C1274,RIGHT(StoreConfig!G1274,LEN(StoreConfig!G1274)-FIND(\"#\",StoreConfig!G1274)),\"\")","v":""},{"$f":"IF($B$2=StoreConfig!C1274,IF(StoreConfig!L1274=0,\"不限购\",StoreConfig!L1274&\"次\"),\"\")","v":""}]
[{"$nulls":3},{"$f":"IF($B$2=StoreConfig!C1275,StoreConfig!O1275,\"\")","v":""},{"$f":"IF($B$2=StoreConfig!C1275,StoreConfig!E1275,\"\")","v":""},{"$f":"IF($B$2=StoreConfig!C1275,RIGHT(StoreConfig!J1275,LEN(StoreConfig!J1275)-FIND(\"|\",StoreConfig!J1275)),\"\")","v":""},{"$f":"IFERROR(VLOOKUP(--IF($B$2=StoreConfig!C1275,LEFT(StoreConfig!J1275,FIND(\"|\",StoreConfig!J1275)-1),\"\"),$Q$4:$R$20,2,FALSE),\"\")","v":""},{"$f":"IF($B$2=StoreConfig!C1275,LEFT(StoreConfig!G1275,FIND(\"#\",StoreConfig!G1275)-1),\"\")","v":""},{"$f":"IF($B$2=StoreConfig!C1275,RIGHT(StoreConfig!G1275,LEN(StoreConfig!G1275)-FIND(\"#\",StoreConfig!G1275)),\"\")","v":""},{"$f":"IF($B$2=StoreConfig!C1275,IF(StoreConfig!L1275=0,\"不限购\",StoreConfig!L1275&\"次\"),\"\")","v":""}]
[{"$nulls":3},{"$f":"IF($B$2=StoreConfig!C1276,StoreConfig!O1276,\"\")","v":""},{"$f":"IF($B$2=StoreConfig!C1276,StoreConfig!E1276,\"\")","v":""},{"$f":"IF($B$2=StoreConfig!C1276,RIGHT(StoreConfig!J1276,LEN(StoreConfig!J1276)-FIND(\"|\",StoreConfig!J1276)),\"\")","v":""},{"$f":"IFERROR(VLOOKUP(--IF($B$2=StoreConfig!C1276,LEFT(StoreConfig!J1276,FIND(\"|\",StoreConfig!J1276)-1),\"\"),$Q$4:$R$20,2,FALSE),\"\")","v":""},{"$f":"IF($B$2=StoreConfig!C1276,LEFT(StoreConfig!G1276,FIND(\"#\",StoreConfig!G1276)-1),\"\")","v":""},{"$f":"IF($B$2=StoreConfig!C1276,RIGHT(StoreConfig!G1276,LEN(StoreConfig!G1276)-FIND(\"#\",StoreConfig!G1276)),\"\")","v":""},{"$f":"IF($B$2=StoreConfig!C1276,IF(StoreConfig!L1276=0,\"不限购\",StoreConfig!L1276&\"次\"),\"\")","v":""}]
[{"$nulls":3},{"$f":"IF($B$2=StoreConfig!C1277,StoreConfig!O1277,\"\")","v":""},{"$f":"IF($B$2=StoreConfig!C1277,StoreConfig!E1277,\"\")","v":""},{"$f":"IF($B$2=StoreConfig!C1277,RIGHT(StoreConfig!J1277,LEN(StoreConfig!J1277)-FIND(\"|\",StoreConfig!J1277)),\"\")","v":""},{"$f":"IFERROR(VLOOKUP(--IF($B$2=StoreConfig!C1277,LEFT(StoreConfig!J1277,FIND(\"|\",StoreConfig!J1277)-1),\"\"),$Q$4:$R$20,2,FALSE),\"\")","v":""},{"$f":"IF($B$2=StoreConfig!C1277,LEFT(StoreConfig!G1277,FIND(\"#\",StoreConfig!G1277)-1),\"\")","v":""},{"$f":"IF($B$2=StoreConfig!C1277,RIGHT(StoreConfig!G1277,LEN(StoreConfig!G1277)-FIND(\"#\",StoreConfig!G1277)),\"\")","v":""},{"$f":"IF($B$2=StoreConfig!C1277,IF(StoreConfig!L1277=0,\"不限购\",StoreConfig!L1277&\"次\"),\"\")","v":""}]
[{"$nulls":3},{"$f":"IF($B$2=StoreConfig!C1278,StoreConfig!O1278,\"\")","v":""},{"$f":"IF($B$2=StoreConfig!C1278,StoreConfig!E1278,\"\")","v":""},{"$f":"IF($B$2=StoreConfig!C1278,RIGHT(StoreConfig!J1278,LEN(StoreConfig!J1278)-FIND(\"|\",StoreConfig!J1278)),\"\")","v":""},{"$f":"IFERROR(VLOOKUP(--IF($B$2=StoreConfig!C1278,LEFT(StoreConfig!J1278,FIND(\"|\",StoreConfig!J1278)-1),\"\"),$Q$4:$R$20,2,FALSE),\"\")","v":""},{"$f":"IF($B$2=StoreConfig!C1278,LEFT(StoreConfig!G1278,FIND(\"#\",StoreConfig!G1278)-1),\"\")","v":""},{"$f":"IF($B$2=StoreConfig!C1278,RIGHT(StoreConfig!G1278,LEN(StoreConfig!G1278)-FIND(\"#\",StoreConfig!G1278)),\"\")","v":""},{"$f":"IF($B$2=StoreConfig!C1278,IF(StoreConfig!L1278=0,\"不限购\",StoreConfig!L1278&\"次\"),\"\")","v":""}]
[{"$nulls":3},{"$f":"IF($B$2=StoreConfig!C1279,StoreConfig!O1279,\"\")","v":""},{"$f":"IF($B$2=StoreConfig!C1279,StoreConfig!E1279,\"\")","v":""},{"$f":"IF($B$2=StoreConfig!C1279,RIGHT(StoreConfig!J1279,LEN(StoreConfig!J1279)-FIND(\"|\",StoreConfig!J1279)),\"\")","v":""},{"$f":"IFERROR(VLOOKUP(--IF($B$2=StoreConfig!C1279,LEFT(StoreConfig!J1279,FIND(\"|\",StoreConfig!J1279)-1),\"\"),$Q$4:$R$20,2,FALSE),\"\")","v":""},{"$f":"IF($B$2=StoreConfig!C1279,LEFT(StoreConfig!G1279,FIND(\"#\",StoreConfig!G1279)-1),\"\")","v":""},{"$f":"IF($B$2=StoreConfig!C1279,RIGHT(StoreConfig!G1279,LEN(StoreConfig!G1279)-FIND(\"#\",StoreConfig!G1279)),\"\")","v":""},{"$f":"IF($B$2=StoreConfig!C1279,IF(StoreConfig!L1279=0,\"不限购\",StoreConfig!L1279&\"次\"),\"\")","v":""}]
[{"$nulls":3},{"$f":"IF($B$2=StoreConfig!C1280,StoreConfig!O1280,\"\")","v":""},{"$f":"IF($B$2=StoreConfig!C1280,StoreConfig!E1280,\"\")","v":""},{"$f":"IF($B$2=StoreConfig!C1280,RIGHT(StoreConfig!J1280,LEN(StoreConfig!J1280)-FIND(\"|\",StoreConfig!J1280)),\"\")","v":""},{"$f":"IFERROR(VLOOKUP(--IF($B$2=StoreConfig!C1280,LEFT(StoreConfig!J1280,FIND(\"|\",StoreConfig!J1280)-1),\"\"),$Q$4:$R$20,2,FALSE),\"\")","v":""},{"$f":"IF($B$2=StoreConfig!C1280,LEFT(StoreConfig!G1280,FIND(\"#\",StoreConfig!G1280)-1),\"\")","v":""},{"$f":"IF($B$2=StoreConfig!C1280,RIGHT(StoreConfig!G1280,LEN(StoreConfig!G1280)-FIND(\"#\",StoreConfig!G1280)),\"\")","v":""},{"$f":"IF($B$2=StoreConfig!C1280,IF(StoreConfig!L1280=0,\"不限购\",StoreConfig!L1280&\"次\"),\"\")","v":""}]
[{"$nulls":3},{"$f":"IF($B$2=StoreConfig!C1281,StoreConfig!O1281,\"\")","v":""},{"$f":"IF($B$2=StoreConfig!C1281,StoreConfig!E1281,\"\")","v":""},{"$f":"IF($B$2=StoreConfig!C1281,RIGHT(StoreConfig!J1281,LEN(StoreConfig!J1281)-FIND(\"|\",StoreConfig!J1281)),\"\")","v":""},{"$f":"IFERROR(VLOOKUP(--IF($B$2=StoreConfig!C1281,LEFT(StoreConfig!J1281,FIND(\"|\",StoreConfig!J1281)-1),\"\"),$Q$4:$R$20,2,FALSE),\"\")","v":""},{"$f":"IF($B$2=StoreConfig!C1281,LEFT(StoreConfig!G1281,FIND(\"#\",StoreConfig!G1281)-1),\"\")","v":""},{"$f":"IF($B$2=StoreConfig!C1281,RIGHT(StoreConfig!G1281,LEN(StoreConfig!G1281)-FIND(\"#\",StoreConfig!G1281)),\"\")","v":""},{"$f":"IF($B$2=StoreConfig!C1281,IF(StoreConfig!L1281=0,\"不限购\",StoreConfig!L1281&\"次\"),\"\")","v":""}]
[{"$nulls":3},{"$f":"IF($B$2=StoreConfig!C1282,StoreConfig!O1282,\"\")","v":""},{"$f":"IF($B$2=StoreConfig!C1282,StoreConfig!E1282,\"\")","v":""},{"$f":"IF($B$2=StoreConfig!C1282,RIGHT(StoreConfig!J1282,LEN(StoreConfig!J1282)-FIND(\"|\",StoreConfig!J1282)),\"\")","v":""},{"$f":"IFERROR(VLOOKUP(--IF($B$2=StoreConfig!C1282,LEFT(StoreConfig!J1282,FIND(\"|\",StoreConfig!J1282)-1),\"\"),$Q$4:$R$20,2,FALSE),\"\")","v":""},{"$f":"IF($B$2=StoreConfig!C1282,LEFT(StoreConfig!G1282,FIND(\"#\",StoreConfig!G1282)-1),\"\")","v":""},{"$f":"IF($B$2=StoreConfig!C1282,RIGHT(StoreConfig!G1282,LEN(StoreConfig!G1282)-FIND(\"#\",StoreConfig!G1282)),\"\")","v":""},{"$f":"IF($B$2=StoreConfig!C1282,IF(StoreConfig!L1282=0,\"不限购\",StoreConfig!L1282&\"次\"),\"\")","v":""}]
[{"$nulls":3},{"$f":"IF($B$2=StoreConfig!C1283,StoreConfig!O1283,\"\")","v":""},{"$f":"IF($B$2=StoreConfig!C1283,StoreConfig!E1283,\"\")","v":""},{"$f":"IF($B$2=StoreConfig!C1283,RIGHT(StoreConfig!J1283,LEN(StoreConfig!J1283)-FIND(\"|\",StoreConfig!J1283)),\"\")","v":""},{"$f":"IFERROR(VLOOKUP(--IF($B$2=StoreConfig!C1283,LEFT(StoreConfig!J1283,FIND(\"|\",StoreConfig!J1283)-1),\"\"),$Q$4:$R$20,2,FALSE),\"\")","v":""},{"$f":"IF($B$2=StoreConfig!C1283,LEFT(StoreConfig!G1283,FIND(\"#\",StoreConfig!G1283)-1),\"\")","v":""},{"$f":"IF($B$2=StoreConfig!C1283,RIGHT(StoreConfig!G1283,LEN(StoreConfig!G1283)-FIND(\"#\",StoreConfig!G1283)),\"\")","v":""},{"$f":"IF($B$2=StoreConfig!C1283,IF(StoreConfig!L1283=0,\"不限购\",StoreConfig!L1283&\"次\"),\"\")","v":""}]
[{"$nulls":3},{"$f":"IF($B$2=StoreConfig!C1284,StoreConfig!O1284,\"\")","v":""},{"$f":"IF($B$2=StoreConfig!C1284,StoreConfig!E1284,\"\")","v":""},{"$f":"IF($B$2=StoreConfig!C1284,RIGHT(StoreConfig!J1284,LEN(StoreConfig!J1284)-FIND(\"|\",StoreConfig!J1284)),\"\")","v":""},{"$f":"IFERROR(VLOOKUP(--IF($B$2=StoreConfig!C1284,LEFT(StoreConfig!J1284,FIND(\"|\",StoreConfig!J1284)-1),\"\"),$Q$4:$R$20,2,FALSE),\"\")","v":""},{"$f":"IF($B$2=StoreConfig!C1284,LEFT(StoreConfig!G1284,FIND(\"#\",StoreConfig!G1284)-1),\"\")","v":""},{"$f":"IF($B$2=StoreConfig!C1284,RIGHT(StoreConfig!G1284,LEN(StoreConfig!G1284)-FIND(\"#\",StoreConfig!G1284)),\"\")","v":""},{"$f":"IF($B$2=StoreConfig!C1284,IF(StoreConfig!L1284=0,\"不限购\",StoreConfig!L1284&\"次\"),\"\")","v":""}]
[{"$nulls":3},{"$f":"IF($B$2=StoreConfig!C1285,StoreConfig!O1285,\"\")","v":""},{"$f":"IF($B$2=StoreConfig!C1285,StoreConfig!E1285,\"\")","v":""},{"$f":"IF($B$2=StoreConfig!C1285,RIGHT(StoreConfig!J1285,LEN(StoreConfig!J1285)-FIND(\"|\",StoreConfig!J1285)),\"\")","v":""},{"$f":"IFERROR(VLOOKUP(--IF($B$2=StoreConfig!C1285,LEFT(StoreConfig!J1285,FIND(\"|\",StoreConfig!J1285)-1),\"\"),$Q$4:$R$20,2,FALSE),\"\")","v":""},{"$f":"IF($B$2=StoreConfig!C1285,LEFT(StoreConfig!G1285,FIND(\"#\",StoreConfig!G1285)-1),\"\")","v":""},{"$f":"IF($B$2=StoreConfig!C1285,RIGHT(StoreConfig!G1285,LEN(StoreConfig!G1285)-FIND(\"#\",StoreConfig!G1285)),\"\")","v":""},{"$f":"IF($B$2=StoreConfig!C1285,IF(StoreConfig!L1285=0,\"不限购\",StoreConfig!L1285&\"次\"),\"\")","v":""}]
[{"$nulls":3},{"$f":"IF($B$2=StoreConfig!C1286,StoreConfig!O1286,\"\")","v":""},{"$f":"IF($B$2=StoreConfig!C1286,StoreConfig!E1286,\"\")","v":""},{"$f":"IF($B$2=StoreConfig!C1286,RIGHT(StoreConfig!J1286,LEN(StoreConfig!J1286)-FIND(\"|\",StoreConfig!J1286)),\"\")","v":""},{"$f":"IFERROR(VLOOKUP(--IF($B$2=StoreConfig!C1286,LEFT(StoreConfig!J1286,FIND(\"|\",StoreConfig!J1286)-1),\"\"),$Q$4:$R$20,2,FALSE),\"\")","v":""},{"$f":"IF($B$2=StoreConfig!C1286,LEFT(StoreConfig!G1286,FIND(\"#\",StoreConfig!G1286)-1),\"\")","v":""},{"$f":"IF($B$2=StoreConfig!C1286,RIGHT(StoreConfig!G1286,LEN(StoreConfig!G1286)-FIND(\"#\",StoreConfig!G1286)),\"\")","v":""},{"$f":"IF($B$2=StoreConfig!C1286,IF(StoreConfig!L1286=0,\"不限购\",StoreConfig!L1286&\"次\"),\"\")","v":""}]
[{"$nulls":3},{"$f":"IF($B$2=StoreConfig!C1287,StoreConfig!O1287,\"\")","v":""},{"$f":"IF($B$2=StoreConfig!C1287,StoreConfig!E1287,\"\")","v":""},{"$f":"IF($B$2=StoreConfig!C1287,RIGHT(StoreConfig!J1287,LEN(StoreConfig!J1287)-FIND(\"|\",StoreConfig!J1287)),\"\")","v":""},{"$f":"IFERROR(VLOOKUP(--IF($B$2=StoreConfig!C1287,LEFT(StoreConfig!J1287,FIND(\"|\",StoreConfig!J1287)-1),\"\"),$Q$4:$R$20,2,FALSE),\"\")","v":""},{"$f":"IF($B$2=StoreConfig!C1287,LEFT(StoreConfig!G1287,FIND(\"#\",StoreConfig!G1287)-1),\"\")","v":""},{"$f":"IF($B$2=StoreConfig!C1287,RIGHT(StoreConfig!G1287,LEN(StoreConfig!G1287)-FIND(\"#\",StoreConfig!G1287)),\"\")","v":""},{"$f":"IF($B$2=StoreConfig!C1287,IF(StoreConfig!L1287=0,\"不限购\",StoreConfig!L1287&\"次\"),\"\")","v":""}]
[{"$nulls":3},{"$f":"IF($B$2=StoreConfig!C1288,StoreConfig!O1288,\"\")","v":""},{"$f":"IF($B$2=StoreConfig!C1288,StoreConfig!E1288,\"\")","v":""},{"$f":"IF($B$2=StoreConfig!C1288,RIGHT(StoreConfig!J1288,LEN(StoreConfig!J1288)-FIND(\"|\",StoreConfig!J1288)),\"\")","v":""},{"$f":"IFERROR(VLOOKUP(--IF($B$2=StoreConfig!C1288,LEFT(StoreConfig!J1288,FIND(\"|\",StoreConfig!J1288)-1),\"\"),$Q$4:$R$20,2,FALSE),\"\")","v":""},{"$f":"IF($B$2=StoreConfig!C1288,LEFT(StoreConfig!G1288,FIND(\"#\",StoreConfig!G1288)-1),\"\")","v":""},{"$f":"IF($B$2=StoreConfig!C1288,RIGHT(StoreConfig!G1288,LEN(StoreConfig!G1288)-FIND(\"#\",StoreConfig!G1288)),\"\")","v":""},{"$f":"IF($B$2=StoreConfig!C1288,IF(StoreConfig!L1288=0,\"不限购\",StoreConfig!L1288&\"次\"),\"\")","v":""}]
[{"$nulls":3},{"$f":"IF($B$2=StoreConfig!C1289,StoreConfig!O1289,\"\")","v":""},{"$f":"IF($B$2=StoreConfig!C1289,StoreConfig!E1289,\"\")","v":""},{"$f":"IF($B$2=StoreConfig!C1289,RIGHT(StoreConfig!J1289,LEN(StoreConfig!J1289)-FIND(\"|\",StoreConfig!J1289)),\"\")","v":""},{"$f":"IFERROR(VLOOKUP(--IF($B$2=StoreConfig!C1289,LEFT(StoreConfig!J1289,FIND(\"|\",StoreConfig!J1289)-1),\"\"),$Q$4:$R$20,2,FALSE),\"\")","v":""},{"$f":"IF($B$2=StoreConfig!C1289,LEFT(StoreConfig!G1289,FIND(\"#\",StoreConfig!G1289)-1),\"\")","v":""},{"$f":"IF($B$2=StoreConfig!C1289,RIGHT(StoreConfig!G1289,LEN(StoreConfig!G1289)-FIND(\"#\",StoreConfig!G1289)),\"\")","v":""},{"$f":"IF($B$2=StoreConfig!C1289,IF(StoreConfig!L1289=0,\"不限购\",StoreConfig!L1289&\"次\"),\"\")","v":""}]
[{"$nulls":3},{"$f":"IF($B$2=StoreConfig!C1290,StoreConfig!O1290,\"\")","v":""},{"$f":"IF($B$2=StoreConfig!C1290,StoreConfig!E1290,\"\")","v":""},{"$f":"IF($B$2=StoreConfig!C1290,RIGHT(StoreConfig!J1290,LEN(StoreConfig!J1290)-FIND(\"|\",StoreConfig!J1290)),\"\")","v":""},{"$f":"IFERROR(VLOOKUP(--IF($B$2=StoreConfig!C1290,LEFT(StoreConfig!J1290,FIND(\"|\",StoreConfig!J1290)-1),\"\"),$Q$4:$R$20,2,FALSE),\"\")","v":""},{"$f":"IF($B$2=StoreConfig!C1290,LEFT(StoreConfig!G1290,FIND(\"#\",StoreConfig!G1290)-1),\"\")","v":""},{"$f":"IF($B$2=StoreConfig!C1290,RIGHT(StoreConfig!G1290,LEN(StoreConfig!G1290)-FIND(\"#\",StoreConfig!G1290)),\"\")","v":""},{"$f":"IF($B$2=StoreConfig!C1290,IF(StoreConfig!L1290=0,\"不限购\",StoreConfig!L1290&\"次\"),\"\")","v":""}]
[{"$nulls":3},{"$f":"IF($B$2=StoreConfig!C1291,StoreConfig!O1291,\"\")","v":""},{"$f":"IF($B$2=StoreConfig!C1291,StoreConfig!E1291,\"\")","v":""},{"$f":"IF($B$2=StoreConfig!C1291,RIGHT(StoreConfig!J1291,LEN(StoreConfig!J1291)-FIND(\"|\",StoreConfig!J1291)),\"\")","v":""},{"$f":"IFERROR(VLOOKUP(--IF($B$2=StoreConfig!C1291,LEFT(StoreConfig!J1291,FIND(\"|\",StoreConfig!J1291)-1),\"\"),$Q$4:$R$20,2,FALSE),\"\")","v":""},{"$f":"IF($B$2=StoreConfig!C1291,LEFT(StoreConfig!G1291,FIND(\"#\",StoreConfig!G1291)-1),\"\")","v":""},{"$f":"IF($B$2=StoreConfig!C1291,RIGHT(StoreConfig!G1291,LEN(StoreConfig!G1291)-FIND(\"#\",StoreConfig!G1291)),\"\")","v":""},{"$f":"IF($B$2=StoreConfig!C1291,IF(StoreConfig!L1291=0,\"不限购\",StoreConfig!L1291&\"次\"),\"\")","v":""}]
[{"$nulls":3},{"$f":"IF($B$2=StoreConfig!C1292,StoreConfig!O1292,\"\")","v":""},{"$f":"IF($B$2=StoreConfig!C1292,StoreConfig!E1292,\"\")","v":""},{"$f":"IF($B$2=StoreConfig!C1292,RIGHT(StoreConfig!J1292,LEN(StoreConfig!J1292)-FIND(\"|\",StoreConfig!J1292)),\"\")","v":""},{"$f":"IFERROR(VLOOKUP(--IF($B$2=StoreConfig!C1292,LEFT(StoreConfig!J1292,FIND(\"|\",StoreConfig!J1292)-1),\"\"),$Q$4:$R$20,2,FALSE),\"\")","v":""},{"$f":"IF($B$2=StoreConfig!C1292,LEFT(StoreConfig!G1292,FIND(\"#\",StoreConfig!G1292)-1),\"\")","v":""},{"$f":"IF($B$2=StoreConfig!C1292,RIGHT(StoreConfig!G1292,LEN(StoreConfig!G1292)-FIND(\"#\",StoreConfig!G1292)),\"\")","v":""},{"$f":"IF($B$2=StoreConfig!C1292,IF(StoreConfig!L1292=0,\"不限购\",StoreConfig!L1292&\"次\"),\"\")","v":""}]
[{"$nulls":3},{"$f":"IF($B$2=StoreConfig!C1293,StoreConfig!O1293,\"\")","v":""},{"$f":"IF($B$2=StoreConfig!C1293,StoreConfig!E1293,\"\")","v":""},{"$f":"IF($B$2=StoreConfig!C1293,RIGHT(StoreConfig!J1293,LEN(StoreConfig!J1293)-FIND(\"|\",StoreConfig!J1293)),\"\")","v":""},{"$f":"IFERROR(VLOOKUP(--IF($B$2=StoreConfig!C1293,LEFT(StoreConfig!J1293,FIND(\"|\",StoreConfig!J1293)-1),\"\"),$Q$4:$R$20,2,FALSE),\"\")","v":""},{"$f":"IF($B$2=StoreConfig!C1293,LEFT(StoreConfig!G1293,FIND(\"#\",StoreConfig!G1293)-1),\"\")","v":""},{"$f":"IF($B$2=StoreConfig!C1293,RIGHT(StoreConfig!G1293,LEN(StoreConfig!G1293)-FIND(\"#\",StoreConfig!G1293)),\"\")","v":""},{"$f":"IF($B$2=StoreConfig!C1293,IF(StoreConfig!L1293=0,\"不限购\",StoreConfig!L1293&\"次\"),\"\")","v":""}]
[{"$nulls":3},{"$f":"IF($B$2=StoreConfig!C1294,StoreConfig!O1294,\"\")","v":""},{"$f":"IF($B$2=StoreConfig!C1294,StoreConfig!E1294,\"\")","v":""},{"$f":"IF($B$2=StoreConfig!C1294,RIGHT(StoreConfig!J1294,LEN(StoreConfig!J1294)-FIND(\"|\",StoreConfig!J1294)),\"\")","v":""},{"$f":"IFERROR(VLOOKUP(--IF($B$2=StoreConfig!C1294,LEFT(StoreConfig!J1294,FIND(\"|\",StoreConfig!J1294)-1),\"\"),$Q$4:$R$20,2,FALSE),\"\")","v":""},{"$f":"IF($B$2=StoreConfig!C1294,LEFT(StoreConfig!G1294,FIND(\"#\",StoreConfig!G1294)-1),\"\")","v":""},{"$f":"IF($B$2=StoreConfig!C1294,RIGHT(StoreConfig!G1294,LEN(StoreConfig!G1294)-FIND(\"#\",StoreConfig!G1294)),\"\")","v":""},{"$f":"IF($B$2=StoreConfig!C1294,IF(StoreConfig!L1294=0,\"不限购\",StoreConfig!L1294&\"次\"),\"\")","v":""}]
[{"$nulls":3},{"$f":"IF($B$2=StoreConfig!C1295,StoreConfig!O1295,\"\")","v":""},{"$f":"IF($B$2=StoreConfig!C1295,StoreConfig!E1295,\"\")","v":""},{"$f":"IF($B$2=StoreConfig!C1295,RIGHT(StoreConfig!J1295,LEN(StoreConfig!J1295)-FIND(\"|\",StoreConfig!J1295)),\"\")","v":""},{"$f":"IFERROR(VLOOKUP(--IF($B$2=StoreConfig!C1295,LEFT(StoreConfig!J1295,FIND(\"|\",StoreConfig!J1295)-1),\"\"),$Q$4:$R$20,2,FALSE),\"\")","v":""},{"$f":"IF($B$2=StoreConfig!C1295,LEFT(StoreConfig!G1295,FIND(\"#\",StoreConfig!G1295)-1),\"\")","v":""},{"$f":"IF($B$2=StoreConfig!C1295,RIGHT(StoreConfig!G1295,LEN(StoreConfig!G1295)-FIND(\"#\",StoreConfig!G1295)),\"\")","v":""},{"$f":"IF($B$2=StoreConfig!C1295,IF(StoreConfig!L1295=0,\"不限购\",StoreConfig!L1295&\"次\"),\"\")","v":""}]
[{"$nulls":3},{"$f":"IF($B$2=StoreConfig!C1296,StoreConfig!O1296,\"\")","v":""},{"$f":"IF($B$2=StoreConfig!C1296,StoreConfig!E1296,\"\")","v":""},{"$f":"IF($B$2=StoreConfig!C1296,RIGHT(StoreConfig!J1296,LEN(StoreConfig!J1296)-FIND(\"|\",StoreConfig!J1296)),\"\")","v":""},{"$f":"IFERROR(VLOOKUP(--IF($B$2=StoreConfig!C1296,LEFT(StoreConfig!J1296,FIND(\"|\",StoreConfig!J1296)-1),\"\"),$Q$4:$R$20,2,FALSE),\"\")","v":""},{"$f":"IF($B$2=StoreConfig!C1296,LEFT(StoreConfig!G1296,FIND(\"#\",StoreConfig!G1296)-1),\"\")","v":""},{"$f":"IF($B$2=StoreConfig!C1296,RIGHT(StoreConfig!G1296,LEN(StoreConfig!G1296)-FIND(\"#\",StoreConfig!G1296)),\"\")","v":""},{"$f":"IF($B$2=StoreConfig!C1296,IF(StoreConfig!L1296=0,\"不限购\",StoreConfig!L1296&\"次\"),\"\")","v":""}]
[{"$nulls":3},{"$f":"IF($B$2=StoreConfig!C1297,StoreConfig!O1297,\"\")","v":""},{"$f":"IF($B$2=StoreConfig!C1297,StoreConfig!E1297,\"\")","v":""},{"$f":"IF($B$2=StoreConfig!C1297,RIGHT(StoreConfig!J1297,LEN(StoreConfig!J1297)-FIND(\"|\",StoreConfig!J1297)),\"\")","v":""},{"$f":"IFERROR(VLOOKUP(--IF($B$2=StoreConfig!C1297,LEFT(StoreConfig!J1297,FIND(\"|\",StoreConfig!J1297)-1),\"\"),$Q$4:$R$20,2,FALSE),\"\")","v":""},{"$f":"IF($B$2=StoreConfig!C1297,LEFT(StoreConfig!G1297,FIND(\"#\",StoreConfig!G1297)-1),\"\")","v":""},{"$f":"IF($B$2=StoreConfig!C1297,RIGHT(StoreConfig!G1297,LEN(StoreConfig!G1297)-FIND(\"#\",StoreConfig!G1297)),\"\")","v":""},{"$f":"IF($B$2=StoreConfig!C1297,IF(StoreConfig!L1297=0,\"不限购\",StoreConfig!L1297&\"次\"),\"\")","v":""}]
[{"$nulls":3},{"$f":"IF($B$2=StoreConfig!C1298,StoreConfig!O1298,\"\")","v":""},{"$f":"IF($B$2=StoreConfig!C1298,StoreConfig!E1298,\"\")","v":""},{"$f":"IF($B$2=StoreConfig!C1298,RIGHT(StoreConfig!J1298,LEN(StoreConfig!J1298)-FIND(\"|\",StoreConfig!J1298)),\"\")","v":""},{"$f":"IFERROR(VLOOKUP(--IF($B$2=StoreConfig!C1298,LEFT(StoreConfig!J1298,FIND(\"|\",StoreConfig!J1298)-1),\"\"),$Q$4:$R$20,2,FALSE),\"\")","v":""},{"$f":"IF($B$2=StoreConfig!C1298,LEFT(StoreConfig!G1298,FIND(\"#\",StoreConfig!G1298)-1),\"\")","v":""},{"$f":"IF($B$2=StoreConfig!C1298,RIGHT(StoreConfig!G1298,LEN(StoreConfig!G1298)-FIND(\"#\",StoreConfig!G1298)),\"\")","v":""},{"$f":"IF($B$2=StoreConfig!C1298,IF(StoreConfig!L1298=0,\"不限购\",StoreConfig!L1298&\"次\"),\"\")","v":""}]
[{"$nulls":3},{"$f":"IF($B$2=StoreConfig!C1299,StoreConfig!O1299,\"\")","v":""},{"$f":"IF($B$2=StoreConfig!C1299,StoreConfig!E1299,\"\")","v":""},{"$f":"IF($B$2=StoreConfig!C1299,RIGHT(StoreConfig!J1299,LEN(StoreConfig!J1299)-FIND(\"|\",StoreConfig!J1299)),\"\")","v":""},{"$f":"IFERROR(VLOOKUP(--IF($B$2=StoreConfig!C1299,LEFT(StoreConfig!J1299,FIND(\"|\",StoreConfig!J1299)-1),\"\"),$Q$4:$R$20,2,FALSE),\"\")","v":""},{"$f":"IF($B$2=StoreConfig!C1299,LEFT(StoreConfig!G1299,FIND(\"#\",StoreConfig!G1299)-1),\"\")","v":""},{"$f":"IF($B$2=StoreConfig!C1299,RIGHT(StoreConfig!G1299,LEN(StoreConfig!G1299)-FIND(\"#\",StoreConfig!G1299)),\"\")","v":""},{"$f":"IF($B$2=StoreConfig!C1299,IF(StoreConfig!L1299=0,\"不限购\",StoreConfig!L1299&\"次\"),\"\")","v":""}]
[{"$nulls":3},{"$f":"IF($B$2=StoreConfig!C1300,StoreConfig!O1300,\"\")","v":""},{"$f":"IF($B$2=StoreConfig!C1300,StoreConfig!E1300,\"\")","v":""},{"$f":"IF($B$2=StoreConfig!C1300,RIGHT(StoreConfig!J1300,LEN(StoreConfig!J1300)-FIND(\"|\",StoreConfig!J1300)),\"\")","v":""},{"$f":"IFERROR(VLOOKUP(--IF($B$2=StoreConfig!C1300,LEFT(StoreConfig!J1300,FIND(\"|\",StoreConfig!J1300)-1),\"\"),$Q$4:$R$20,2,FALSE),\"\")","v":""},{"$f":"IF($B$2=StoreConfig!C1300,LEFT(StoreConfig!G1300,FIND(\"#\",StoreConfig!G1300)-1),\"\")","v":""},{"$f":"IF($B$2=StoreConfig!C1300,RIGHT(StoreConfig!G1300,LEN(StoreConfig!G1300)-FIND(\"#\",StoreConfig!G1300)),\"\")","v":""},{"$f":"IF($B$2=StoreConfig!C1300,IF(StoreConfig!L1300=0,\"不限购\",StoreConfig!L1300&\"次\"),\"\")","v":""}]
[{"$nulls":3},{"$f":"IF($B$2=StoreConfig!C1301,StoreConfig!O1301,\"\")","v":""},{"$f":"IF($B$2=StoreConfig!C1301,StoreConfig!E1301,\"\")","v":""},{"$f":"IF($B$2=StoreConfig!C1301,RIGHT(StoreConfig!J1301,LEN(StoreConfig!J1301)-FIND(\"|\",StoreConfig!J1301)),\"\")","v":""},{"$f":"IFERROR(VLOOKUP(--IF($B$2=StoreConfig!C1301,LEFT(StoreConfig!J1301,FIND(\"|\",StoreConfig!J1301)-1),\"\"),$Q$4:$R$20,2,FALSE),\"\")","v":""},{"$f":"IF($B$2=StoreConfig!C1301,LEFT(StoreConfig!G1301,FIND(\"#\",StoreConfig!G1301)-1),\"\")","v":""},{"$f":"IF($B$2=StoreConfig!C1301,RIGHT(StoreConfig!G1301,LEN(StoreConfig!G1301)-FIND(\"#\",StoreConfig!G1301)),\"\")","v":""},{"$f":"IF($B$2=StoreConfig!C1301,IF(StoreConfig!L1301=0,\"不限购\",StoreConfig!L1301&\"次\"),\"\")","v":""}]
[{"$nulls":3},{"$f":"IF($B$2=StoreConfig!C1302,StoreConfig!O1302,\"\")","v":""},{"$f":"IF($B$2=StoreConfig!C1302,StoreConfig!E1302,\"\")","v":""},{"$f":"IF($B$2=StoreConfig!C1302,RIGHT(StoreConfig!J1302,LEN(StoreConfig!J1302)-FIND(\"|\",StoreConfig!J1302)),\"\")","v":""},{"$f":"IFERROR(VLOOKUP(--IF($B$2=StoreConfig!C1302,LEFT(StoreConfig!J1302,FIND(\"|\",StoreConfig!J1302)-1),\"\"),$Q$4:$R$20,2,FALSE),\"\")","v":""},{"$f":"IF($B$2=StoreConfig!C1302,LEFT(StoreConfig!G1302,FIND(\"#\",StoreConfig!G1302)-1),\"\")","v":""},{"$f":"IF($B$2=StoreConfig!C1302,RIGHT(StoreConfig!G1302,LEN(StoreConfig!G1302)-FIND(\"#\",StoreConfig!G1302)),\"\")","v":""},{"$f":"IF($B$2=StoreConfig!C1302,IF(StoreConfig!L1302=0,\"不限购\",StoreConfig!L1302&\"次\"),\"\")","v":""}]
[{"$nulls":3},{"$f":"IF($B$2=StoreConfig!C1303,StoreConfig!O1303,\"\")","v":""},{"$f":"IF($B$2=StoreConfig!C1303,StoreConfig!E1303,\"\")","v":""},{"$f":"IF($B$2=StoreConfig!C1303,RIGHT(StoreConfig!J1303,LEN(StoreConfig!J1303)-FIND(\"|\",StoreConfig!J1303)),\"\")","v":""},{"$f":"IFERROR(VLOOKUP(--IF($B$2=StoreConfig!C1303,LEFT(StoreConfig!J1303,FIND(\"|\",StoreConfig!J1303)-1),\"\"),$Q$4:$R$20,2,FALSE),\"\")","v":""},{"$f":"IF($B$2=StoreConfig!C1303,LEFT(StoreConfig!G1303,FIND(\"#\",StoreConfig!G1303)-1),\"\")","v":""},{"$f":"IF($B$2=StoreConfig!C1303,RIGHT(StoreConfig!G1303,LEN(StoreConfig!G1303)-FIND(\"#\",StoreConfig!G1303)),\"\")","v":""},{"$f":"IF($B$2=StoreConfig!C1303,IF(StoreConfig!L1303=0,\"不限购\",StoreConfig!L1303&\"次\"),\"\")","v":""}]
[{"$nulls":3},{"$f":"IF($B$2=StoreConfig!C1304,StoreConfig!O1304,\"\")","v":""},{"$f":"IF($B$2=StoreConfig!C1304,StoreConfig!E1304,\"\")","v":""},{"$f":"IF($B$2=StoreConfig!C1304,RIGHT(StoreConfig!J1304,LEN(StoreConfig!J1304)-FIND(\"|\",StoreConfig!J1304)),\"\")","v":""},{"$f":"IFERROR(VLOOKUP(--IF($B$2=StoreConfig!C1304,LEFT(StoreConfig!J1304,FIND(\"|\",StoreConfig!J1304)-1),\"\"),$Q$4:$R$20,2,FALSE),\"\")","v":""},{"$f":"IF($B$2=StoreConfig!C1304,LEFT(StoreConfig!G1304,FIND(\"#\",StoreConfig!G1304)-1),\"\")","v":""},{"$f":"IF($B$2=StoreConfig!C1304,RIGHT(StoreConfig!G1304,LEN(StoreConfig!G1304)-FIND(\"#\",StoreConfig!G1304)),\"\")","v":""},{"$f":"IF($B$2=StoreConfig!C1304,IF(StoreConfig!L1304=0,\"不限购\",StoreConfig!L1304&\"次\"),\"\")","v":""}]
[{"$nulls":3},{"$f":"IF($B$2=StoreConfig!C1305,StoreConfig!O1305,\"\")","v":""},{"$f":"IF($B$2=StoreConfig!C1305,StoreConfig!E1305,\"\")","v":""},{"$f":"IF($B$2=StoreConfig!C1305,RIGHT(StoreConfig!J1305,LEN(StoreConfig!J1305)-FIND(\"|\",StoreConfig!J1305)),\"\")","v":""},{"$f":"IFERROR(VLOOKUP(--IF($B$2=StoreConfig!C1305,LEFT(StoreConfig!J1305,FIND(\"|\",StoreConfig!J1305)-1),\"\"),$Q$4:$R$20,2,FALSE),\"\")","v":""},{"$f":"IF($B$2=StoreConfig!C1305,LEFT(StoreConfig!G1305,FIND(\"#\",StoreConfig!G1305)-1),\"\")","v":""},{"$f":"IF($B$2=StoreConfig!C1305,RIGHT(StoreConfig!G1305,LEN(StoreConfig!G1305)-FIND(\"#\",StoreConfig!G1305)),\"\")","v":""},{"$f":"IF($B$2=StoreConfig!C1305,IF(StoreConfig!L1305=0,\"不限购\",StoreConfig!L1305&\"次\"),\"\")","v":""}]
[{"$nulls":3},{"$f":"IF($B$2=StoreConfig!C1306,StoreConfig!O1306,\"\")","v":""},{"$f":"IF($B$2=StoreConfig!C1306,StoreConfig!E1306,\"\")","v":""},{"$f":"IF($B$2=StoreConfig!C1306,RIGHT(StoreConfig!J1306,LEN(StoreConfig!J1306)-FIND(\"|\",StoreConfig!J1306)),\"\")","v":""},{"$f":"IFERROR(VLOOKUP(--IF($B$2=StoreConfig!C1306,LEFT(StoreConfig!J1306,FIND(\"|\",StoreConfig!J1306)-1),\"\"),$Q$4:$R$20,2,FALSE),\"\")","v":""},{"$f":"IF($B$2=StoreConfig!C1306,LEFT(StoreConfig!G1306,FIND(\"#\",StoreConfig!G1306)-1),\"\")","v":""},{"$f":"IF($B$2=StoreConfig!C1306,RIGHT(StoreConfig!G1306,LEN(StoreConfig!G1306)-FIND(\"#\",StoreConfig!G1306)),\"\")","v":""},{"$f":"IF($B$2=StoreConfig!C1306,IF(StoreConfig!L1306=0,\"不限购\",StoreConfig!L1306&\"次\"),\"\")","v":""}]
[{"$nulls":3},{"$f":"IF($B$2=StoreConfig!C1307,StoreConfig!O1307,\"\")","v":""},{"$f":"IF($B$2=StoreConfig!C1307,StoreConfig!E1307,\"\")","v":""},{"$f":"IF($B$2=StoreConfig!C1307,RIGHT(StoreConfig!J1307,LEN(StoreConfig!J1307)-FIND(\"|\",StoreConfig!J1307)),\"\")","v":""},{"$f":"IFERROR(VLOOKUP(--IF($B$2=StoreConfig!C1307,LEFT(StoreConfig!J1307,FIND(\"|\",StoreConfig!J1307)-1),\"\"),$Q$4:$R$20,2,FALSE),\"\")","v":""},{"$f":"IF($B$2=StoreConfig!C1307,LEFT(StoreConfig!G1307,FIND(\"#\",StoreConfig!G1307)-1),\"\")","v":""},{"$f":"IF($B$2=StoreConfig!C1307,RIGHT(StoreConfig!G1307,LEN(StoreConfig!G1307)-FIND(\"#\",StoreConfig!G1307)),\"\")","v":""},{"$f":"IF($B$2=StoreConfig!C1307,IF(StoreConfig!L1307=0,\"不限购\",StoreConfig!L1307&\"次\"),\"\")","v":""}]
[{"$nulls":3},{"$f":"IF($B$2=StoreConfig!C1308,StoreConfig!O1308,\"\")","v":""},{"$f":"IF($B$2=StoreConfig!C1308,StoreConfig!E1308,\"\")","v":""},{"$f":"IF($B$2=StoreConfig!C1308,RIGHT(StoreConfig!J1308,LEN(StoreConfig!J1308)-FIND(\"|\",StoreConfig!J1308)),\"\")","v":""},{"$f":"IFERROR(VLOOKUP(--IF($B$2=StoreConfig!C1308,LEFT(StoreConfig!J1308,FIND(\"|\",StoreConfig!J1308)-1),\"\"),$Q$4:$R$20,2,FALSE),\"\")","v":""},{"$f":"IF($B$2=StoreConfig!C1308,LEFT(StoreConfig!G1308,FIND(\"#\",StoreConfig!G1308)-1),\"\")","v":""},{"$f":"IF($B$2=StoreConfig!C1308,RIGHT(StoreConfig!G1308,LEN(StoreConfig!G1308)-FIND(\"#\",StoreConfig!G1308)),\"\")","v":""},{"$f":"IF($B$2=StoreConfig!C1308,IF(StoreConfig!L1308=0,\"不限购\",StoreConfig!L1308&\"次\"),\"\")","v":""}]
[{"$nulls":3},{"$f":"IF($B$2=StoreConfig!C1309,StoreConfig!O1309,\"\")","v":""},{"$f":"IF($B$2=StoreConfig!C1309,StoreConfig!E1309,\"\")","v":""},{"$f":"IF($B$2=StoreConfig!C1309,RIGHT(StoreConfig!J1309,LEN(StoreConfig!J1309)-FIND(\"|\",StoreConfig!J1309)),\"\")","v":""},{"$f":"IFERROR(VLOOKUP(--IF($B$2=StoreConfig!C1309,LEFT(StoreConfig!J1309,FIND(\"|\",StoreConfig!J1309)-1),\"\"),$Q$4:$R$20,2,FALSE),\"\")","v":""},{"$f":"IF($B$2=StoreConfig!C1309,LEFT(StoreConfig!G1309,FIND(\"#\",StoreConfig!G1309)-1),\"\")","v":""},{"$f":"IF($B$2=StoreConfig!C1309,RIGHT(StoreConfig!G1309,LEN(StoreConfig!G1309)-FIND(\"#\",StoreConfig!G1309)),\"\")","v":""},{"$f":"IF($B$2=StoreConfig!C1309,IF(StoreConfig!L1309=0,\"不限购\",StoreConfig!L1309&\"次\"),\"\")","v":""}]
[{"$nulls":3},{"$f":"IF($B$2=StoreConfig!C1310,StoreConfig!O1310,\"\")","v":""},{"$f":"IF($B$2=StoreConfig!C1310,StoreConfig!E1310,\"\")","v":""},{"$f":"IF($B$2=StoreConfig!C1310,RIGHT(StoreConfig!J1310,LEN(StoreConfig!J1310)-FIND(\"|\",StoreConfig!J1310)),\"\")","v":""},{"$f":"IFERROR(VLOOKUP(--IF($B$2=StoreConfig!C1310,LEFT(StoreConfig!J1310,FIND(\"|\",StoreConfig!J1310)-1),\"\"),$Q$4:$R$20,2,FALSE),\"\")","v":""},{"$f":"IF($B$2=StoreConfig!C1310,LEFT(StoreConfig!G1310,FIND(\"#\",StoreConfig!G1310)-1),\"\")","v":""},{"$f":"IF($B$2=StoreConfig!C1310,RIGHT(StoreConfig!G1310,LEN(StoreConfig!G1310)-FIND(\"#\",StoreConfig!G1310)),\"\")","v":""},{"$f":"IF($B$2=StoreConfig!C1310,IF(StoreConfig!L1310=0,\"不限购\",StoreConfig!L1310&\"次\"),\"\")","v":""}]
[{"$nulls":3},{"$f":"IF($B$2=StoreConfig!C1311,StoreConfig!O1311,\"\")","v":""},{"$f":"IF($B$2=StoreConfig!C1311,StoreConfig!E1311,\"\")","v":""},{"$f":"IF($B$2=StoreConfig!C1311,RIGHT(StoreConfig!J1311,LEN(StoreConfig!J1311)-FIND(\"|\",StoreConfig!J1311)),\"\")","v":""},{"$f":"IFERROR(VLOOKUP(--IF($B$2=StoreConfig!C1311,LEFT(StoreConfig!J1311,FIND(\"|\",StoreConfig!J1311)-1),\"\"),$Q$4:$R$20,2,FALSE),\"\")","v":""},{"$f":"IF($B$2=StoreConfig!C1311,LEFT(StoreConfig!G1311,FIND(\"#\",StoreConfig!G1311)-1),\"\")","v":""},{"$f":"IF($B$2=StoreConfig!C1311,RIGHT(StoreConfig!G1311,LEN(StoreConfig!G1311)-FIND(\"#\",StoreConfig!G1311)),\"\")","v":""},{"$f":"IF($B$2=StoreConfig!C1311,IF(StoreConfig!L1311=0,\"不限购\",StoreConfig!L1311&\"次\"),\"\")","v":""}]
[{"$nulls":3},{"$f":"IF($B$2=StoreConfig!C1312,StoreConfig!O1312,\"\")","v":""},{"$f":"IF($B$2=StoreConfig!C1312,StoreConfig!E1312,\"\")","v":""},{"$f":"IF($B$2=StoreConfig!C1312,RIGHT(StoreConfig!J1312,LEN(StoreConfig!J1312)-FIND(\"|\",StoreConfig!J1312)),\"\")","v":""},{"$f":"IFERROR(VLOOKUP(--IF($B$2=StoreConfig!C1312,LEFT(StoreConfig!J1312,FIND(\"|\",StoreConfig!J1312)-1),\"\"),$Q$4:$R$20,2,FALSE),\"\")","v":""},{"$f":"IF($B$2=StoreConfig!C1312,LEFT(StoreConfig!G1312,FIND(\"#\",StoreConfig!G1312)-1),\"\")","v":""},{"$f":"IF($B$2=StoreConfig!C1312,RIGHT(StoreConfig!G1312,LEN(StoreConfig!G1312)-FIND(\"#\",StoreConfig!G1312)),\"\")","v":""},{"$f":"IF($B$2=StoreConfig!C1312,IF(StoreConfig!L1312=0,\"不限购\",StoreConfig!L1312&\"次\"),\"\")","v":""}]
[{"$nulls":3},{"$f":"IF($B$2=StoreConfig!C1313,StoreConfig!O1313,\"\")","v":""},{"$f":"IF($B$2=StoreConfig!C1313,StoreConfig!E1313,\"\")","v":""},{"$f":"IF($B$2=StoreConfig!C1313,RIGHT(StoreConfig!J1313,LEN(StoreConfig!J1313)-FIND(\"|\",StoreConfig!J1313)),\"\")","v":""},{"$f":"IFERROR(VLOOKUP(--IF($B$2=StoreConfig!C1313,LEFT(StoreConfig!J1313,FIND(\"|\",StoreConfig!J1313)-1),\"\"),$Q$4:$R$20,2,FALSE),\"\")","v":""},{"$f":"IF($B$2=StoreConfig!C1313,LEFT(StoreConfig!G1313,FIND(\"#\",StoreConfig!G1313)-1),\"\")","v":""},{"$f":"IF($B$2=StoreConfig!C1313,RIGHT(StoreConfig!G1313,LEN(StoreConfig!G1313)-FIND(\"#\",StoreConfig!G1313)),\"\")","v":""},{"$f":"IF($B$2=StoreConfig!C1313,IF(StoreConfig!L1313=0,\"不限购\",StoreConfig!L1313&\"次\"),\"\")","v":""}]
[{"$nulls":3},{"$f":"IF($B$2=StoreConfig!C1314,StoreConfig!O1314,\"\")","v":""},{"$f":"IF($B$2=StoreConfig!C1314,StoreConfig!E1314,\"\")","v":""},{"$f":"IF($B$2=StoreConfig!C1314,RIGHT(StoreConfig!J1314,LEN(StoreConfig!J1314)-FIND(\"|\",StoreConfig!J1314)),\"\")","v":""},{"$f":"IFERROR(VLOOKUP(--IF($B$2=StoreConfig!C1314,LEFT(StoreConfig!J1314,FIND(\"|\",StoreConfig!J1314)-1),\"\"),$Q$4:$R$20,2,FALSE),\"\")","v":""},{"$f":"IF($B$2=StoreConfig!C1314,LEFT(StoreConfig!G1314,FIND(\"#\",StoreConfig!G1314)-1),\"\")","v":""},{"$f":"IF($B$2=StoreConfig!C1314,RIGHT(StoreConfig!G1314,LEN(StoreConfig!G1314)-FIND(\"#\",StoreConfig!G1314)),\"\")","v":""},{"$f":"IF($B$2=StoreConfig!C1314,IF(StoreConfig!L1314=0,\"不限购\",StoreConfig!L1314&\"次\"),\"\")","v":""}]
[{"$nulls":3},{"$f":"IF($B$2=StoreConfig!C1315,StoreConfig!O1315,\"\")","v":""},{"$f":"IF($B$2=StoreConfig!C1315,StoreConfig!E1315,\"\")","v":""},{"$f":"IF($B$2=StoreConfig!C1315,RIGHT(StoreConfig!J1315,LEN(StoreConfig!J1315)-FIND(\"|\",StoreConfig!J1315)),\"\")","v":""},{"$f":"IFERROR(VLOOKUP(--IF($B$2=StoreConfig!C1315,LEFT(StoreConfig!J1315,FIND(\"|\",StoreConfig!J1315)-1),\"\"),$Q$4:$R$20,2,FALSE),\"\")","v":""},{"$f":"IF($B$2=StoreConfig!C1315,LEFT(StoreConfig!G1315,FIND(\"#\",StoreConfig!G1315)-1),\"\")","v":""},{"$f":"IF($B$2=StoreConfig!C1315,RIGHT(StoreConfig!G1315,LEN(StoreConfig!G1315)-FIND(\"#\",StoreConfig!G1315)),\"\")","v":""},{"$f":"IF($B$2=StoreConfig!C1315,IF(StoreConfig!L1315=0,\"不限购\",StoreConfig!L1315&\"次\"),\"\")","v":""}]
[{"$nulls":3},{"$f":"IF($B$2=StoreConfig!C1316,StoreConfig!O1316,\"\")","v":""},{"$f":"IF($B$2=StoreConfig!C1316,StoreConfig!E1316,\"\")","v":""},{"$f":"IF($B$2=StoreConfig!C1316,RIGHT(StoreConfig!J1316,LEN(StoreConfig!J1316)-FIND(\"|\",StoreConfig!J1316)),\"\")","v":""},{"$f":"IFERROR(VLOOKUP(--IF($B$2=StoreConfig!C1316,LEFT(StoreConfig!J1316,FIND(\"|\",StoreConfig!J1316)-1),\"\"),$Q$4:$R$20,2,FALSE),\"\")","v":""},{"$f":"IF($B$2=StoreConfig!C1316,LEFT(StoreConfig!G1316,FIND(\"#\",StoreConfig!G1316)-1),\"\")","v":""},{"$f":"IF($B$2=StoreConfig!C1316,RIGHT(StoreConfig!G1316,LEN(StoreConfig!G1316)-FIND(\"#\",StoreConfig!G1316)),\"\")","v":""},{"$f":"IF($B$2=StoreConfig!C1316,IF(StoreConfig!L1316=0,\"不限购\",StoreConfig!L1316&\"次\"),\"\")","v":""}]
[{"$nulls":3},{"$f":"IF($B$2=StoreConfig!C1317,StoreConfig!O1317,\"\")","v":""},{"$f":"IF($B$2=StoreConfig!C1317,StoreConfig!E1317,\"\")","v":""},{"$f":"IF($B$2=StoreConfig!C1317,RIGHT(StoreConfig!J1317,LEN(StoreConfig!J1317)-FIND(\"|\",StoreConfig!J1317)),\"\")","v":""},{"$f":"IFERROR(VLOOKUP(--IF($B$2=StoreConfig!C1317,LEFT(StoreConfig!J1317,FIND(\"|\",StoreConfig!J1317)-1),\"\"),$Q$4:$R$20,2,FALSE),\"\")","v":""},{"$f":"IF($B$2=StoreConfig!C1317,LEFT(StoreConfig!G1317,FIND(\"#\",StoreConfig!G1317)-1),\"\")","v":""},{"$f":"IF($B$2=StoreConfig!C1317,RIGHT(StoreConfig!G1317,LEN(StoreConfig!G1317)-FIND(\"#\",StoreConfig!G1317)),\"\")","v":""},{"$f":"IF($B$2=StoreConfig!C1317,IF(StoreConfig!L1317=0,\"不限购\",StoreConfig!L1317&\"次\"),\"\")","v":""}]
[{"$nulls":3},{"$f":"IF($B$2=StoreConfig!C1318,StoreConfig!O1318,\"\")","v":""},{"$f":"IF($B$2=StoreConfig!C1318,StoreConfig!E1318,\"\")","v":""},{"$f":"IF($B$2=StoreConfig!C1318,RIGHT(StoreConfig!J1318,LEN(StoreConfig!J1318)-FIND(\"|\",StoreConfig!J1318)),\"\")","v":""},{"$f":"IFERROR(VLOOKUP(--IF($B$2=StoreConfig!C1318,LEFT(StoreConfig!J1318,FIND(\"|\",StoreConfig!J1318)-1),\"\"),$Q$4:$R$20,2,FALSE),\"\")","v":""},{"$f":"IF($B$2=StoreConfig!C1318,LEFT(StoreConfig!G1318,FIND(\"#\",StoreConfig!G1318)-1),\"\")","v":""},{"$f":"IF($B$2=StoreConfig!C1318,RIGHT(StoreConfig!G1318,LEN(StoreConfig!G1318)-FIND(\"#\",StoreConfig!G1318)),\"\")","v":""},{"$f":"IF($B$2=StoreConfig!C1318,IF(StoreConfig!L1318=0,\"不限购\",StoreConfig!L1318&\"次\"),\"\")","v":""}]
[{"$nulls":3},{"$f":"IF($B$2=StoreConfig!C1319,StoreConfig!O1319,\"\")","v":""},{"$f":"IF($B$2=StoreConfig!C1319,StoreConfig!E1319,\"\")","v":""},{"$f":"IF($B$2=StoreConfig!C1319,RIGHT(StoreConfig!J1319,LEN(StoreConfig!J1319)-FIND(\"|\",StoreConfig!J1319)),\"\")","v":""},{"$f":"IFERROR(VLOOKUP(--IF($B$2=StoreConfig!C1319,LEFT(StoreConfig!J1319,FIND(\"|\",StoreConfig!J1319)-1),\"\"),$Q$4:$R$20,2,FALSE),\"\")","v":""},{"$f":"IF($B$2=StoreConfig!C1319,LEFT(StoreConfig!G1319,FIND(\"#\",StoreConfig!G1319)-1),\"\")","v":""},{"$f":"IF($B$2=StoreConfig!C1319,RIGHT(StoreConfig!G1319,LEN(StoreConfig!G1319)-FIND(\"#\",StoreConfig!G1319)),\"\")","v":""},{"$f":"IF($B$2=StoreConfig!C1319,IF(StoreConfig!L1319=0,\"不限购\",StoreConfig!L1319&\"次\"),\"\")","v":""}]
[{"$nulls":3},{"$f":"IF($B$2=StoreConfig!C1320,StoreConfig!O1320,\"\")","v":""},{"$f":"IF($B$2=StoreConfig!C1320,StoreConfig!E1320,\"\")","v":""},{"$f":"IF($B$2=StoreConfig!C1320,RIGHT(StoreConfig!J1320,LEN(StoreConfig!J1320)-FIND(\"|\",StoreConfig!J1320)),\"\")","v":""},{"$f":"IFERROR(VLOOKUP(--IF($B$2=StoreConfig!C1320,LEFT(StoreConfig!J1320,FIND(\"|\",StoreConfig!J1320)-1),\"\"),$Q$4:$R$20,2,FALSE),\"\")","v":""},{"$f":"IF($B$2=StoreConfig!C1320,LEFT(StoreConfig!G1320,FIND(\"#\",StoreConfig!G1320)-1),\"\")","v":""},{"$f":"IF($B$2=StoreConfig!C1320,RIGHT(StoreConfig!G1320,LEN(StoreConfig!G1320)-FIND(\"#\",StoreConfig!G1320)),\"\")","v":""},{"$f":"IF($B$2=StoreConfig!C1320,IF(StoreConfig!L1320=0,\"不限购\",StoreConfig!L1320&\"次\"),\"\")","v":""}]
[{"$nulls":3},{"$f":"IF($B$2=StoreConfig!C1321,StoreConfig!O1321,\"\")","v":""},{"$f":"IF($B$2=StoreConfig!C1321,StoreConfig!E1321,\"\")","v":""},{"$f":"IF($B$2=StoreConfig!C1321,RIGHT(StoreConfig!J1321,LEN(StoreConfig!J1321)-FIND(\"|\",StoreConfig!J1321)),\"\")","v":""},{"$f":"IFERROR(VLOOKUP(--IF($B$2=StoreConfig!C1321,LEFT(StoreConfig!J1321,FIND(\"|\",StoreConfig!J1321)-1),\"\"),$Q$4:$R$20,2,FALSE),\"\")","v":""},{"$f":"IF($B$2=StoreConfig!C1321,LEFT(StoreConfig!G1321,FIND(\"#\",StoreConfig!G1321)-1),\"\")","v":""},{"$f":"IF($B$2=StoreConfig!C1321,RIGHT(StoreConfig!G1321,LEN(StoreConfig!G1321)-FIND(\"#\",StoreConfig!G1321)),\"\")","v":""},{"$f":"IF($B$2=StoreConfig!C1321,IF(StoreConfig!L1321=0,\"不限购\",StoreConfig!L1321&\"次\"),\"\")","v":""}]
[{"$nulls":3},{"$f":"IF($B$2=StoreConfig!C1322,StoreConfig!O1322,\"\")","v":""},{"$f":"IF($B$2=StoreConfig!C1322,StoreConfig!E1322,\"\")","v":""},{"$f":"IF($B$2=StoreConfig!C1322,RIGHT(StoreConfig!J1322,LEN(StoreConfig!J1322)-FIND(\"|\",StoreConfig!J1322)),\"\")","v":""},{"$f":"IFERROR(VLOOKUP(--IF($B$2=StoreConfig!C1322,LEFT(StoreConfig!J1322,FIND(\"|\",StoreConfig!J1322)-1),\"\"),$Q$4:$R$20,2,FALSE),\"\")","v":""},{"$f":"IF($B$2=StoreConfig!C1322,LEFT(StoreConfig!G1322,FIND(\"#\",StoreConfig!G1322)-1),\"\")","v":""},{"$f":"IF($B$2=StoreConfig!C1322,RIGHT(StoreConfig!G1322,LEN(StoreConfig!G1322)-FIND(\"#\",StoreConfig!G1322)),\"\")","v":""},{"$f":"IF($B$2=StoreConfig!C1322,IF(StoreConfig!L1322=0,\"不限购\",StoreConfig!L1322&\"次\"),\"\")","v":""}]
[{"$nulls":3},{"$f":"IF($B$2=StoreConfig!C1323,StoreConfig!O1323,\"\")","v":""},{"$f":"IF($B$2=StoreConfig!C1323,StoreConfig!E1323,\"\")","v":""},{"$f":"IF($B$2=StoreConfig!C1323,RIGHT(StoreConfig!J1323,LEN(StoreConfig!J1323)-FIND(\"|\",StoreConfig!J1323)),\"\")","v":""},{"$f":"IFERROR(VLOOKUP(--IF($B$2=StoreConfig!C1323,LEFT(StoreConfig!J1323,FIND(\"|\",StoreConfig!J1323)-1),\"\"),$Q$4:$R$20,2,FALSE),\"\")","v":""},{"$f":"IF($B$2=StoreConfig!C1323,LEFT(StoreConfig!G1323,FIND(\"#\",StoreConfig!G1323)-1),\"\")","v":""},{"$f":"IF($B$2=StoreConfig!C1323,RIGHT(StoreConfig!G1323,LEN(StoreConfig!G1323)-FIND(\"#\",StoreConfig!G1323)),\"\")","v":""},{"$f":"IF($B$2=StoreConfig!C1323,IF(StoreConfig!L1323=0,\"不限购\",StoreConfig!L1323&\"次\"),\"\")","v":""}]
[{"$nulls":3},{"$f":"IF($B$2=StoreConfig!C1324,StoreConfig!O1324,\"\")","v":""},{"$f":"IF($B$2=StoreConfig!C1324,StoreConfig!E1324,\"\")","v":""},{"$f":"IF($B$2=StoreConfig!C1324,RIGHT(StoreConfig!J1324,LEN(StoreConfig!J1324)-FIND(\"|\",StoreConfig!J1324)),\"\")","v":""},{"$f":"IFERROR(VLOOKUP(--IF($B$2=StoreConfig!C1324,LEFT(StoreConfig!J1324,FIND(\"|\",StoreConfig!J1324)-1),\"\"),$Q$4:$R$20,2,FALSE),\"\")","v":""},{"$f":"IF($B$2=StoreConfig!C1324,LEFT(StoreConfig!G1324,FIND(\"#\",StoreConfig!G1324)-1),\"\")","v":""},{"$f":"IF($B$2=StoreConfig!C1324,RIGHT(StoreConfig!G1324,LEN(StoreConfig!G1324)-FIND(\"#\",StoreConfig!G1324)),\"\")","v":""},{"$f":"IF($B$2=StoreConfig!C1324,IF(StoreConfig!L1324=0,\"不限购\",StoreConfig!L1324&\"次\"),\"\")","v":""}]
[{"$nulls":3},{"$f":"IF($B$2=StoreConfig!C1325,StoreConfig!O1325,\"\")","v":""},{"$f":"IF($B$2=StoreConfig!C1325,StoreConfig!E1325,\"\")","v":""},{"$f":"IF($B$2=StoreConfig!C1325,RIGHT(StoreConfig!J1325,LEN(StoreConfig!J1325)-FIND(\"|\",StoreConfig!J1325)),\"\")","v":""},{"$f":"IFERROR(VLOOKUP(--IF($B$2=StoreConfig!C1325,LEFT(StoreConfig!J1325,FIND(\"|\",StoreConfig!J1325)-1),\"\"),$Q$4:$R$20,2,FALSE),\"\")","v":""},{"$f":"IF($B$2=StoreConfig!C1325,LEFT(StoreConfig!G1325,FIND(\"#\",StoreConfig!G1325)-1),\"\")","v":""},{"$f":"IF($B$2=StoreConfig!C1325,RIGHT(StoreConfig!G1325,LEN(StoreConfig!G1325)-FIND(\"#\",StoreConfig!G1325)),\"\")","v":""},{"$f":"IF($B$2=StoreConfig!C1325,IF(StoreConfig!L1325=0,\"不限购\",StoreConfig!L1325&\"次\"),\"\")","v":""}]
[{"$nulls":3},{"$f":"IF($B$2=StoreConfig!C1326,StoreConfig!O1326,\"\")","v":""},{"$f":"IF($B$2=StoreConfig!C1326,StoreConfig!E1326,\"\")","v":""},{"$f":"IF($B$2=StoreConfig!C1326,RIGHT(StoreConfig!J1326,LEN(StoreConfig!J1326)-FIND(\"|\",StoreConfig!J1326)),\"\")","v":""},{"$f":"IFERROR(VLOOKUP(--IF($B$2=StoreConfig!C1326,LEFT(StoreConfig!J1326,FIND(\"|\",StoreConfig!J1326)-1),\"\"),$Q$4:$R$20,2,FALSE),\"\")","v":""},{"$f":"IF($B$2=StoreConfig!C1326,LEFT(StoreConfig!G1326,FIND(\"#\",StoreConfig!G1326)-1),\"\")","v":""},{"$f":"IF($B$2=StoreConfig!C1326,RIGHT(StoreConfig!G1326,LEN(StoreConfig!G1326)-FIND(\"#\",StoreConfig!G1326)),\"\")","v":""},{"$f":"IF($B$2=StoreConfig!C1326,IF(StoreConfig!L1326=0,\"不限购\",StoreConfig!L1326&\"次\"),\"\")","v":""}]
[{"$nulls":3},{"$f":"IF($B$2=StoreConfig!C1327,StoreConfig!O1327,\"\")","v":""},{"$f":"IF($B$2=StoreConfig!C1327,StoreConfig!E1327,\"\")","v":""},{"$f":"IF($B$2=StoreConfig!C1327,RIGHT(StoreConfig!J1327,LEN(StoreConfig!J1327)-FIND(\"|\",StoreConfig!J1327)),\"\")","v":""},{"$f":"IFERROR(VLOOKUP(--IF($B$2=StoreConfig!C1327,LEFT(StoreConfig!J1327,FIND(\"|\",StoreConfig!J1327)-1),\"\"),$Q$4:$R$20,2,FALSE),\"\")","v":""},{"$f":"IF($B$2=StoreConfig!C1327,LEFT(StoreConfig!G1327,FIND(\"#\",StoreConfig!G1327)-1),\"\")","v":""},{"$f":"IF($B$2=StoreConfig!C1327,RIGHT(StoreConfig!G1327,LEN(StoreConfig!G1327)-FIND(\"#\",StoreConfig!G1327)),\"\")","v":""},{"$f":"IF($B$2=StoreConfig!C1327,IF(StoreConfig!L1327=0,\"不限购\",StoreConfig!L1327&\"次\"),\"\")","v":""}]
[{"$nulls":3},{"$f":"IF($B$2=StoreConfig!C1328,StoreConfig!O1328,\"\")","v":""},{"$f":"IF($B$2=StoreConfig!C1328,StoreConfig!E1328,\"\")","v":""},{"$f":"IF($B$2=StoreConfig!C1328,RIGHT(StoreConfig!J1328,LEN(StoreConfig!J1328)-FIND(\"|\",StoreConfig!J1328)),\"\")","v":""},{"$f":"IFERROR(VLOOKUP(--IF($B$2=StoreConfig!C1328,LEFT(StoreConfig!J1328,FIND(\"|\",StoreConfig!J1328)-1),\"\"),$Q$4:$R$20,2,FALSE),\"\")","v":""},{"$f":"IF($B$2=StoreConfig!C1328,LEFT(StoreConfig!G1328,FIND(\"#\",StoreConfig!G1328)-1),\"\")","v":""},{"$f":"IF($B$2=StoreConfig!C1328,RIGHT(StoreConfig!G1328,LEN(StoreConfig!G1328)-FIND(\"#\",StoreConfig!G1328)),\"\")","v":""},{"$f":"IF($B$2=StoreConfig!C1328,IF(StoreConfig!L1328=0,\"不限购\",StoreConfig!L1328&\"次\"),\"\")","v":""}]
[{"$nulls":3},{"$f":"IF($B$2=StoreConfig!C1329,StoreConfig!O1329,\"\")","v":""},{"$f":"IF($B$2=StoreConfig!C1329,StoreConfig!E1329,\"\")","v":""},{"$f":"IF($B$2=StoreConfig!C1329,RIGHT(StoreConfig!J1329,LEN(StoreConfig!J1329)-FIND(\"|\",StoreConfig!J1329)),\"\")","v":""},{"$f":"IFERROR(VLOOKUP(--IF($B$2=StoreConfig!C1329,LEFT(StoreConfig!J1329,FIND(\"|\",StoreConfig!J1329)-1),\"\"),$Q$4:$R$20,2,FALSE),\"\")","v":""},{"$f":"IF($B$2=StoreConfig!C1329,LEFT(StoreConfig!G1329,FIND(\"#\",StoreConfig!G1329)-1),\"\")","v":""},{"$f":"IF($B$2=StoreConfig!C1329,RIGHT(StoreConfig!G1329,LEN(StoreConfig!G1329)-FIND(\"#\",StoreConfig!G1329)),\"\")","v":""},{"$f":"IF($B$2=StoreConfig!C1329,IF(StoreConfig!L1329=0,\"不限购\",StoreConfig!L1329&\"次\"),\"\")","v":""}]
[{"$nulls":3},{"$f":"IF($B$2=StoreConfig!C1330,StoreConfig!O1330,\"\")","v":""},{"$f":"IF($B$2=StoreConfig!C1330,StoreConfig!E1330,\"\")","v":""},{"$f":"IF($B$2=StoreConfig!C1330,RIGHT(StoreConfig!J1330,LEN(StoreConfig!J1330)-FIND(\"|\",StoreConfig!J1330)),\"\")","v":""},{"$f":"IFERROR(VLOOKUP(--IF($B$2=StoreConfig!C1330,LEFT(StoreConfig!J1330,FIND(\"|\",StoreConfig!J1330)-1),\"\"),$Q$4:$R$20,2,FALSE),\"\")","v":""},{"$f":"IF($B$2=StoreConfig!C1330,LEFT(StoreConfig!G1330,FIND(\"#\",StoreConfig!G1330)-1),\"\")","v":""},{"$f":"IF($B$2=StoreConfig!C1330,RIGHT(StoreConfig!G1330,LEN(StoreConfig!G1330)-FIND(\"#\",StoreConfig!G1330)),\"\")","v":""},{"$f":"IF($B$2=StoreConfig!C1330,IF(StoreConfig!L1330=0,\"不限购\",StoreConfig!L1330&\"次\"),\"\")","v":""}]
[{"$nulls":3},{"$f":"IF($B$2=StoreConfig!C1331,StoreConfig!O1331,\"\")","v":""},{"$f":"IF($B$2=StoreConfig!C1331,StoreConfig!E1331,\"\")","v":""},{"$f":"IF($B$2=StoreConfig!C1331,RIGHT(StoreConfig!J1331,LEN(StoreConfig!J1331)-FIND(\"|\",StoreConfig!J1331)),\"\")","v":""},{"$f":"IFERROR(VLOOKUP(--IF($B$2=StoreConfig!C1331,LEFT(StoreConfig!J1331,FIND(\"|\",StoreConfig!J1331)-1),\"\"),$Q$4:$R$20,2,FALSE),\"\")","v":""},{"$f":"IF($B$2=StoreConfig!C1331,LEFT(StoreConfig!G1331,FIND(\"#\",StoreConfig!G1331)-1),\"\")","v":""},{"$f":"IF($B$2=StoreConfig!C1331,RIGHT(StoreConfig!G1331,LEN(StoreConfig!G1331)-FIND(\"#\",StoreConfig!G1331)),\"\")","v":""},{"$f":"IF($B$2=StoreConfig!C1331,IF(StoreConfig!L1331=0,\"不限购\",StoreConfig!L1331&\"次\"),\"\")","v":""}]
[{"$nulls":3},{"$f":"IF($B$2=StoreConfig!C1332,StoreConfig!O1332,\"\")","v":""},{"$f":"IF($B$2=StoreConfig!C1332,StoreConfig!E1332,\"\")","v":""},{"$f":"IF($B$2=StoreConfig!C1332,RIGHT(StoreConfig!J1332,LEN(StoreConfig!J1332)-FIND(\"|\",StoreConfig!J1332)),\"\")","v":""},{"$f":"IFERROR(VLOOKUP(--IF($B$2=StoreConfig!C1332,LEFT(StoreConfig!J1332,FIND(\"|\",StoreConfig!J1332)-1),\"\"),$Q$4:$R$20,2,FALSE),\"\")","v":""},{"$f":"IF($B$2=StoreConfig!C1332,LEFT(StoreConfig!G1332,FIND(\"#\",StoreConfig!G1332)-1),\"\")","v":""},{"$f":"IF($B$2=StoreConfig!C1332,RIGHT(StoreConfig!G1332,LEN(StoreConfig!G1332)-FIND(\"#\",StoreConfig!G1332)),\"\")","v":""},{"$f":"IF($B$2=StoreConfig!C1332,IF(StoreConfig!L1332=0,\"不限购\",StoreConfig!L1332&\"次\"),\"\")","v":""}]
[{"$nulls":3},{"$f":"IF($B$2=StoreConfig!C1333,StoreConfig!O1333,\"\")","v":""},{"$f":"IF($B$2=StoreConfig!C1333,StoreConfig!E1333,\"\")","v":""},{"$f":"IF($B$2=StoreConfig!C1333,RIGHT(StoreConfig!J1333,LEN(StoreConfig!J1333)-FIND(\"|\",StoreConfig!J1333)),\"\")","v":""},{"$f":"IFERROR(VLOOKUP(--IF($B$2=StoreConfig!C1333,LEFT(StoreConfig!J1333,FIND(\"|\",StoreConfig!J1333)-1),\"\"),$Q$4:$R$20,2,FALSE),\"\")","v":""},{"$f":"IF($B$2=StoreConfig!C1333,LEFT(StoreConfig!G1333,FIND(\"#\",StoreConfig!G1333)-1),\"\")","v":""},{"$f":"IF($B$2=StoreConfig!C1333,RIGHT(StoreConfig!G1333,LEN(StoreConfig!G1333)-FIND(\"#\",StoreConfig!G1333)),\"\")","v":""},{"$f":"IF($B$2=StoreConfig!C1333,IF(StoreConfig!L1333=0,\"不限购\",StoreConfig!L1333&\"次\"),\"\")","v":""}]
[{"$nulls":3},{"$f":"IF($B$2=StoreConfig!C1334,StoreConfig!O1334,\"\")","v":""},{"$f":"IF($B$2=StoreConfig!C1334,StoreConfig!E1334,\"\")","v":""},{"$f":"IF($B$2=StoreConfig!C1334,RIGHT(StoreConfig!J1334,LEN(StoreConfig!J1334)-FIND(\"|\",StoreConfig!J1334)),\"\")","v":""},{"$f":"IFERROR(VLOOKUP(--IF($B$2=StoreConfig!C1334,LEFT(StoreConfig!J1334,FIND(\"|\",StoreConfig!J1334)-1),\"\"),$Q$4:$R$20,2,FALSE),\"\")","v":""},{"$f":"IF($B$2=StoreConfig!C1334,LEFT(StoreConfig!G1334,FIND(\"#\",StoreConfig!G1334)-1),\"\")","v":""},{"$f":"IF($B$2=StoreConfig!C1334,RIGHT(StoreConfig!G1334,LEN(StoreConfig!G1334)-FIND(\"#\",StoreConfig!G1334)),\"\")","v":""},{"$f":"IF($B$2=StoreConfig!C1334,IF(StoreConfig!L1334=0,\"不限购\",StoreConfig!L1334&\"次\"),\"\")","v":""}]
[{"$nulls":3},{"$f":"IF($B$2=StoreConfig!C1335,StoreConfig!O1335,\"\")","v":""},{"$f":"IF($B$2=StoreConfig!C1335,StoreConfig!E1335,\"\")","v":""},{"$f":"IF($B$2=StoreConfig!C1335,RIGHT(StoreConfig!J1335,LEN(StoreConfig!J1335)-FIND(\"|\",StoreConfig!J1335)),\"\")","v":""},{"$f":"IFERROR(VLOOKUP(--IF($B$2=StoreConfig!C1335,LEFT(StoreConfig!J1335,FIND(\"|\",StoreConfig!J1335)-1),\"\"),$Q$4:$R$20,2,FALSE),\"\")","v":""},{"$f":"IF($B$2=StoreConfig!C1335,LEFT(StoreConfig!G1335,FIND(\"#\",StoreConfig!G1335)-1),\"\")","v":""},{"$f":"IF($B$2=StoreConfig!C1335,RIGHT(StoreConfig!G1335,LEN(StoreConfig!G1335)-FIND(\"#\",StoreConfig!G1335)),\"\")","v":""},{"$f":"IF($B$2=StoreConfig!C1335,IF(StoreConfig!L1335=0,\"不限购\",StoreConfig!L1335&\"次\"),\"\")","v":""}]
[{"$nulls":3},{"$f":"IF($B$2=StoreConfig!C1336,StoreConfig!O1336,\"\")","v":""},{"$f":"IF($B$2=StoreConfig!C1336,StoreConfig!E1336,\"\")","v":""},{"$f":"IF($B$2=StoreConfig!C1336,RIGHT(StoreConfig!J1336,LEN(StoreConfig!J1336)-FIND(\"|\",StoreConfig!J1336)),\"\")","v":""},{"$f":"IFERROR(VLOOKUP(--IF($B$2=StoreConfig!C1336,LEFT(StoreConfig!J1336,FIND(\"|\",StoreConfig!J1336)-1),\"\"),$Q$4:$R$20,2,FALSE),\"\")","v":""},{"$f":"IF($B$2=StoreConfig!C1336,LEFT(StoreConfig!G1336,FIND(\"#\",StoreConfig!G1336)-1),\"\")","v":""},{"$f":"IF($B$2=StoreConfig!C1336,RIGHT(StoreConfig!G1336,LEN(StoreConfig!G1336)-FIND(\"#\",StoreConfig!G1336)),\"\")","v":""},{"$f":"IF($B$2=StoreConfig!C1336,IF(StoreConfig!L1336=0,\"不限购\",StoreConfig!L1336&\"次\"),\"\")","v":""}]
[{"$nulls":3},{"$f":"IF($B$2=StoreConfig!C1337,StoreConfig!O1337,\"\")","v":""},{"$f":"IF($B$2=StoreConfig!C1337,StoreConfig!E1337,\"\")","v":""},{"$f":"IF($B$2=StoreConfig!C1337,RIGHT(StoreConfig!J1337,LEN(StoreConfig!J1337)-FIND(\"|\",StoreConfig!J1337)),\"\")","v":""},{"$f":"IFERROR(VLOOKUP(--IF($B$2=StoreConfig!C1337,LEFT(StoreConfig!J1337,FIND(\"|\",StoreConfig!J1337)-1),\"\"),$Q$4:$R$20,2,FALSE),\"\")","v":""},{"$f":"IF($B$2=StoreConfig!C1337,LEFT(StoreConfig!G1337,FIND(\"#\",StoreConfig!G1337)-1),\"\")","v":""},{"$f":"IF($B$2=StoreConfig!C1337,RIGHT(StoreConfig!G1337,LEN(StoreConfig!G1337)-FIND(\"#\",StoreConfig!G1337)),\"\")","v":""},{"$f":"IF($B$2=StoreConfig!C1337,IF(StoreConfig!L1337=0,\"不限购\",StoreConfig!L1337&\"次\"),\"\")","v":""}]
[{"$nulls":3},{"$f":"IF($B$2=StoreConfig!C1338,StoreConfig!O1338,\"\")","v":""},{"$f":"IF($B$2=StoreConfig!C1338,StoreConfig!E1338,\"\")","v":""},{"$f":"IF($B$2=StoreConfig!C1338,RIGHT(StoreConfig!J1338,LEN(StoreConfig!J1338)-FIND(\"|\",StoreConfig!J1338)),\"\")","v":""},{"$f":"IFERROR(VLOOKUP(--IF($B$2=StoreConfig!C1338,LEFT(StoreConfig!J1338,FIND(\"|\",StoreConfig!J1338)-1),\"\"),$Q$4:$R$20,2,FALSE),\"\")","v":""},{"$f":"IF($B$2=StoreConfig!C1338,LEFT(StoreConfig!G1338,FIND(\"#\",StoreConfig!G1338)-1),\"\")","v":""},{"$f":"IF($B$2=StoreConfig!C1338,RIGHT(StoreConfig!G1338,LEN(StoreConfig!G1338)-FIND(\"#\",StoreConfig!G1338)),\"\")","v":""},{"$f":"IF($B$2=StoreConfig!C1338,IF(StoreConfig!L1338=0,\"不限购\",StoreConfig!L1338&\"次\"),\"\")","v":""}]
[{"$nulls":3},{"$f":"IF($B$2=StoreConfig!C1339,StoreConfig!O1339,\"\")","v":""},{"$f":"IF($B$2=StoreConfig!C1339,StoreConfig!E1339,\"\")","v":""},{"$f":"IF($B$2=StoreConfig!C1339,RIGHT(StoreConfig!J1339,LEN(StoreConfig!J1339)-FIND(\"|\",StoreConfig!J1339)),\"\")","v":""},{"$f":"IFERROR(VLOOKUP(--IF($B$2=StoreConfig!C1339,LEFT(StoreConfig!J1339,FIND(\"|\",StoreConfig!J1339)-1),\"\"),$Q$4:$R$20,2,FALSE),\"\")","v":""},{"$f":"IF($B$2=StoreConfig!C1339,LEFT(StoreConfig!G1339,FIND(\"#\",StoreConfig!G1339)-1),\"\")","v":""},{"$f":"IF($B$2=StoreConfig!C1339,RIGHT(StoreConfig!G1339,LEN(StoreConfig!G1339)-FIND(\"#\",StoreConfig!G1339)),\"\")","v":""},{"$f":"IF($B$2=StoreConfig!C1339,IF(StoreConfig!L1339=0,\"不限购\",StoreConfig!L1339&\"次\"),\"\")","v":""}]
[{"$nulls":3},{"$f":"IF($B$2=StoreConfig!C1340,StoreConfig!O1340,\"\")","v":""},{"$f":"IF($B$2=StoreConfig!C1340,StoreConfig!E1340,\"\")","v":""},{"$f":"IF($B$2=StoreConfig!C1340,RIGHT(StoreConfig!J1340,LEN(StoreConfig!J1340)-FIND(\"|\",StoreConfig!J1340)),\"\")","v":""},{"$f":"IFERROR(VLOOKUP(--IF($B$2=StoreConfig!C1340,LEFT(StoreConfig!J1340,FIND(\"|\",StoreConfig!J1340)-1),\"\"),$Q$4:$R$20,2,FALSE),\"\")","v":""},{"$f":"IF($B$2=StoreConfig!C1340,LEFT(StoreConfig!G1340,FIND(\"#\",StoreConfig!G1340)-1),\"\")","v":""},{"$f":"IF($B$2=StoreConfig!C1340,RIGHT(StoreConfig!G1340,LEN(StoreConfig!G1340)-FIND(\"#\",StoreConfig!G1340)),\"\")","v":""},{"$f":"IF($B$2=StoreConfig!C1340,IF(StoreConfig!L1340=0,\"不限购\",StoreConfig!L1340&\"次\"),\"\")","v":""}]
[{"$nulls":3},{"$f":"IF($B$2=StoreConfig!C1341,StoreConfig!O1341,\"\")","v":""},{"$f":"IF($B$2=StoreConfig!C1341,StoreConfig!E1341,\"\")","v":""},{"$f":"IF($B$2=StoreConfig!C1341,RIGHT(StoreConfig!J1341,LEN(StoreConfig!J1341)-FIND(\"|\",StoreConfig!J1341)),\"\")","v":""},{"$f":"IFERROR(VLOOKUP(--IF($B$2=StoreConfig!C1341,LEFT(StoreConfig!J1341,FIND(\"|\",StoreConfig!J1341)-1),\"\"),$Q$4:$R$20,2,FALSE),\"\")","v":""},{"$f":"IF($B$2=StoreConfig!C1341,LEFT(StoreConfig!G1341,FIND(\"#\",StoreConfig!G1341)-1),\"\")","v":""},{"$f":"IF($B$2=StoreConfig!C1341,RIGHT(StoreConfig!G1341,LEN(StoreConfig!G1341)-FIND(\"#\",StoreConfig!G1341)),\"\")","v":""},{"$f":"IF($B$2=StoreConfig!C1341,IF(StoreConfig!L1341=0,\"不限购\",StoreConfig!L1341&\"次\"),\"\")","v":""}]
[{"$nulls":3},{"$f":"IF($B$2=StoreConfig!C1342,StoreConfig!O1342,\"\")","v":""},{"$f":"IF($B$2=StoreConfig!C1342,StoreConfig!E1342,\"\")","v":""},{"$f":"IF($B$2=StoreConfig!C1342,RIGHT(StoreConfig!J1342,LEN(StoreConfig!J1342)-FIND(\"|\",StoreConfig!J1342)),\"\")","v":""},{"$f":"IFERROR(VLOOKUP(--IF($B$2=StoreConfig!C1342,LEFT(StoreConfig!J1342,FIND(\"|\",StoreConfig!J1342)-1),\"\"),$Q$4:$R$20,2,FALSE),\"\")","v":""},{"$f":"IF($B$2=StoreConfig!C1342,LEFT(StoreConfig!G1342,FIND(\"#\",StoreConfig!G1342)-1),\"\")","v":""},{"$f":"IF($B$2=StoreConfig!C1342,RIGHT(StoreConfig!G1342,LEN(StoreConfig!G1342)-FIND(\"#\",StoreConfig!G1342)),\"\")","v":""},{"$f":"IF($B$2=StoreConfig!C1342,IF(StoreConfig!L1342=0,\"不限购\",StoreConfig!L1342&\"次\"),\"\")","v":""}]
[{"$nulls":3},{"$f":"IF($B$2=StoreConfig!C1343,StoreConfig!O1343,\"\")","v":""},{"$f":"IF($B$2=StoreConfig!C1343,StoreConfig!E1343,\"\")","v":""},{"$f":"IF($B$2=StoreConfig!C1343,RIGHT(StoreConfig!J1343,LEN(StoreConfig!J1343)-FIND(\"|\",StoreConfig!J1343)),\"\")","v":""},{"$f":"IFERROR(VLOOKUP(--IF($B$2=StoreConfig!C1343,LEFT(StoreConfig!J1343,FIND(\"|\",StoreConfig!J1343)-1),\"\"),$Q$4:$R$20,2,FALSE),\"\")","v":""},{"$f":"IF($B$2=StoreConfig!C1343,LEFT(StoreConfig!G1343,FIND(\"#\",StoreConfig!G1343)-1),\"\")","v":""},{"$f":"IF($B$2=StoreConfig!C1343,RIGHT(StoreConfig!G1343,LEN(StoreConfig!G1343)-FIND(\"#\",StoreConfig!G1343)),\"\")","v":""},{"$f":"IF($B$2=StoreConfig!C1343,IF(StoreConfig!L1343=0,\"不限购\",StoreConfig!L1343&\"次\"),\"\")","v":""}]
[{"$nulls":3},{"$f":"IF($B$2=StoreConfig!C1344,StoreConfig!O1344,\"\")","v":""},{"$f":"IF($B$2=StoreConfig!C1344,StoreConfig!E1344,\"\")","v":""},{"$f":"IF($B$2=StoreConfig!C1344,RIGHT(StoreConfig!J1344,LEN(StoreConfig!J1344)-FIND(\"|\",StoreConfig!J1344)),\"\")","v":""},{"$f":"IFERROR(VLOOKUP(--IF($B$2=StoreConfig!C1344,LEFT(StoreConfig!J1344,FIND(\"|\",StoreConfig!J1344)-1),\"\"),$Q$4:$R$20,2,FALSE),\"\")","v":""},{"$f":"IF($B$2=StoreConfig!C1344,LEFT(StoreConfig!G1344,FIND(\"#\",StoreConfig!G1344)-1),\"\")","v":""},{"$f":"IF($B$2=StoreConfig!C1344,RIGHT(StoreConfig!G1344,LEN(StoreConfig!G1344)-FIND(\"#\",StoreConfig!G1344)),\"\")","v":""},{"$f":"IF($B$2=StoreConfig!C1344,IF(StoreConfig!L1344=0,\"不限购\",StoreConfig!L1344&\"次\"),\"\")","v":""}]
[{"$nulls":3},{"$f":"IF($B$2=StoreConfig!C1345,StoreConfig!O1345,\"\")","v":""},{"$f":"IF($B$2=StoreConfig!C1345,StoreConfig!E1345,\"\")","v":""},{"$f":"IF($B$2=StoreConfig!C1345,RIGHT(StoreConfig!J1345,LEN(StoreConfig!J1345)-FIND(\"|\",StoreConfig!J1345)),\"\")","v":""},{"$f":"IFERROR(VLOOKUP(--IF($B$2=StoreConfig!C1345,LEFT(StoreConfig!J1345,FIND(\"|\",StoreConfig!J1345)-1),\"\"),$Q$4:$R$20,2,FALSE),\"\")","v":""},{"$f":"IF($B$2=StoreConfig!C1345,LEFT(StoreConfig!G1345,FIND(\"#\",StoreConfig!G1345)-1),\"\")","v":""},{"$f":"IF($B$2=StoreConfig!C1345,RIGHT(StoreConfig!G1345,LEN(StoreConfig!G1345)-FIND(\"#\",StoreConfig!G1345)),\"\")","v":""},{"$f":"IF($B$2=StoreConfig!C1345,IF(StoreConfig!L1345=0,\"不限购\",StoreConfig!L1345&\"次\"),\"\")","v":""}]
[{"$nulls":3},{"$f":"IF($B$2=StoreConfig!C1346,StoreConfig!O1346,\"\")","v":""},{"$f":"IF($B$2=StoreConfig!C1346,StoreConfig!E1346,\"\")","v":""},{"$f":"IF($B$2=StoreConfig!C1346,RIGHT(StoreConfig!J1346,LEN(StoreConfig!J1346)-FIND(\"|\",StoreConfig!J1346)),\"\")","v":""},{"$f":"IFERROR(VLOOKUP(--IF($B$2=StoreConfig!C1346,LEFT(StoreConfig!J1346,FIND(\"|\",StoreConfig!J1346)-1),\"\"),$Q$4:$R$20,2,FALSE),\"\")","v":""},{"$f":"IF($B$2=StoreConfig!C1346,LEFT(StoreConfig!G1346,FIND(\"#\",StoreConfig!G1346)-1),\"\")","v":""},{"$f":"IF($B$2=StoreConfig!C1346,RIGHT(StoreConfig!G1346,LEN(StoreConfig!G1346)-FIND(\"#\",StoreConfig!G1346)),\"\")","v":""},{"$f":"IF($B$2=StoreConfig!C1346,IF(StoreConfig!L1346=0,\"不限购\",StoreConfig!L1346&\"次\"),\"\")","v":""}]
[{"$nulls":3},{"$f":"IF($B$2=StoreConfig!C1347,StoreConfig!O1347,\"\")","v":""},{"$f":"IF($B$2=StoreConfig!C1347,StoreConfig!E1347,\"\")","v":""},{"$f":"IF($B$2=StoreConfig!C1347,RIGHT(StoreConfig!J1347,LEN(StoreConfig!J1347)-FIND(\"|\",StoreConfig!J1347)),\"\")","v":""},{"$f":"IFERROR(VLOOKUP(--IF($B$2=StoreConfig!C1347,LEFT(StoreConfig!J1347,FIND(\"|\",StoreConfig!J1347)-1),\"\"),$Q$4:$R$20,2,FALSE),\"\")","v":""},{"$f":"IF($B$2=StoreConfig!C1347,LEFT(StoreConfig!G1347,FIND(\"#\",StoreConfig!G1347)-1),\"\")","v":""},{"$f":"IF($B$2=StoreConfig!C1347,RIGHT(StoreConfig!G1347,LEN(StoreConfig!G1347)-FIND(\"#\",StoreConfig!G1347)),\"\")","v":""},{"$f":"IF($B$2=StoreConfig!C1347,IF(StoreConfig!L1347=0,\"不限购\",StoreConfig!L1347&\"次\"),\"\")","v":""}]
[{"$nulls":3},{"$f":"IF($B$2=StoreConfig!C1348,StoreConfig!O1348,\"\")","v":""},{"$f":"IF($B$2=StoreConfig!C1348,StoreConfig!E1348,\"\")","v":""},{"$f":"IF($B$2=StoreConfig!C1348,RIGHT(StoreConfig!J1348,LEN(StoreConfig!J1348)-FIND(\"|\",StoreConfig!J1348)),\"\")","v":""},{"$f":"IFERROR(VLOOKUP(--IF($B$2=StoreConfig!C1348,LEFT(StoreConfig!J1348,FIND(\"|\",StoreConfig!J1348)-1),\"\"),$Q$4:$R$20,2,FALSE),\"\")","v":""},{"$f":"IF($B$2=StoreConfig!C1348,LEFT(StoreConfig!G1348,FIND(\"#\",StoreConfig!G1348)-1),\"\")","v":""},{"$f":"IF($B$2=StoreConfig!C1348,RIGHT(StoreConfig!G1348,LEN(StoreConfig!G1348)-FIND(\"#\",StoreConfig!G1348)),\"\")","v":""},{"$f":"IF($B$2=StoreConfig!C1348,IF(StoreConfig!L1348=0,\"不限购\",StoreConfig!L1348&\"次\"),\"\")","v":""}]
[{"$nulls":3},{"$f":"IF($B$2=StoreConfig!C1349,StoreConfig!O1349,\"\")","v":""},{"$f":"IF($B$2=StoreConfig!C1349,StoreConfig!E1349,\"\")","v":""},{"$f":"IF($B$2=StoreConfig!C1349,RIGHT(StoreConfig!J1349,LEN(StoreConfig!J1349)-FIND(\"|\",StoreConfig!J1349)),\"\")","v":""},{"$f":"IFERROR(VLOOKUP(--IF($B$2=StoreConfig!C1349,LEFT(StoreConfig!J1349,FIND(\"|\",StoreConfig!J1349)-1),\"\"),$Q$4:$R$20,2,FALSE),\"\")","v":""},{"$f":"IF($B$2=StoreConfig!C1349,LEFT(StoreConfig!G1349,FIND(\"#\",StoreConfig!G1349)-1),\"\")","v":""},{"$f":"IF($B$2=StoreConfig!C1349,RIGHT(StoreConfig!G1349,LEN(StoreConfig!G1349)-FIND(\"#\",StoreConfig!G1349)),\"\")","v":""},{"$f":"IF($B$2=StoreConfig!C1349,IF(StoreConfig!L1349=0,\"不限购\",StoreConfig!L1349&\"次\"),\"\")","v":""}]
[{"$nulls":3},{"$f":"IF($B$2=StoreConfig!C1350,StoreConfig!O1350,\"\")","v":""},{"$f":"IF($B$2=StoreConfig!C1350,StoreConfig!E1350,\"\")","v":""},{"$f":"IF($B$2=StoreConfig!C1350,RIGHT(StoreConfig!J1350,LEN(StoreConfig!J1350)-FIND(\"|\",StoreConfig!J1350)),\"\")","v":""},{"$f":"IFERROR(VLOOKUP(--IF($B$2=StoreConfig!C1350,LEFT(StoreConfig!J1350,FIND(\"|\",StoreConfig!J1350)-1),\"\"),$Q$4:$R$20,2,FALSE),\"\")","v":""},{"$f":"IF($B$2=StoreConfig!C1350,LEFT(StoreConfig!G1350,FIND(\"#\",StoreConfig!G1350)-1),\"\")","v":""},{"$f":"IF($B$2=StoreConfig!C1350,RIGHT(StoreConfig!G1350,LEN(StoreConfig!G1350)-FIND(\"#\",StoreConfig!G1350)),\"\")","v":""},{"$f":"IF($B$2=StoreConfig!C1350,IF(StoreConfig!L1350=0,\"不限购\",StoreConfig!L1350&\"次\"),\"\")","v":""}]
[{"$nulls":3},{"$f":"IF($B$2=StoreConfig!C1351,StoreConfig!O1351,\"\")","v":""},{"$f":"IF($B$2=StoreConfig!C1351,StoreConfig!E1351,\"\")","v":""},{"$f":"IF($B$2=StoreConfig!C1351,RIGHT(StoreConfig!J1351,LEN(StoreConfig!J1351)-FIND(\"|\",StoreConfig!J1351)),\"\")","v":""},{"$f":"IFERROR(VLOOKUP(--IF($B$2=StoreConfig!C1351,LEFT(StoreConfig!J1351,FIND(\"|\",StoreConfig!J1351)-1),\"\"),$Q$4:$R$20,2,FALSE),\"\")","v":""},{"$f":"IF($B$2=StoreConfig!C1351,LEFT(StoreConfig!G1351,FIND(\"#\",StoreConfig!G1351)-1),\"\")","v":""},{"$f":"IF($B$2=StoreConfig!C1351,RIGHT(StoreConfig!G1351,LEN(StoreConfig!G1351)-FIND(\"#\",StoreConfig!G1351)),\"\")","v":""},{"$f":"IF($B$2=StoreConfig!C1351,IF(StoreConfig!L1351=0,\"不限购\",StoreConfig!L1351&\"次\"),\"\")","v":""}]
[{"$nulls":3},{"$f":"IF($B$2=StoreConfig!C1352,StoreConfig!O1352,\"\")","v":""},{"$f":"IF($B$2=StoreConfig!C1352,StoreConfig!E1352,\"\")","v":""},{"$f":"IF($B$2=StoreConfig!C1352,RIGHT(StoreConfig!J1352,LEN(StoreConfig!J1352)-FIND(\"|\",StoreConfig!J1352)),\"\")","v":""},{"$f":"IFERROR(VLOOKUP(--IF($B$2=StoreConfig!C1352,LEFT(StoreConfig!J1352,FIND(\"|\",StoreConfig!J1352)-1),\"\"),$Q$4:$R$20,2,FALSE),\"\")","v":""},{"$f":"IF($B$2=StoreConfig!C1352,LEFT(StoreConfig!G1352,FIND(\"#\",StoreConfig!G1352)-1),\"\")","v":""},{"$f":"IF($B$2=StoreConfig!C1352,RIGHT(StoreConfig!G1352,LEN(StoreConfig!G1352)-FIND(\"#\",StoreConfig!G1352)),\"\")","v":""},{"$f":"IF($B$2=StoreConfig!C1352,IF(StoreConfig!L1352=0,\"不限购\",StoreConfig!L1352&\"次\"),\"\")","v":""}]
[{"$nulls":3},{"$f":"IF($B$2=StoreConfig!C1353,StoreConfig!O1353,\"\")","v":""},{"$f":"IF($B$2=StoreConfig!C1353,StoreConfig!E1353,\"\")","v":""},{"$f":"IF($B$2=StoreConfig!C1353,RIGHT(StoreConfig!J1353,LEN(StoreConfig!J1353)-FIND(\"|\",StoreConfig!J1353)),\"\")","v":""},{"$f":"IFERROR(VLOOKUP(--IF($B$2=StoreConfig!C1353,LEFT(StoreConfig!J1353,FIND(\"|\",StoreConfig!J1353)-1),\"\"),$Q$4:$R$20,2,FALSE),\"\")","v":""},{"$f":"IF($B$2=StoreConfig!C1353,LEFT(StoreConfig!G1353,FIND(\"#\",StoreConfig!G1353)-1),\"\")","v":""},{"$f":"IF($B$2=StoreConfig!C1353,RIGHT(StoreConfig!G1353,LEN(StoreConfig!G1353)-FIND(\"#\",StoreConfig!G1353)),\"\")","v":""},{"$f":"IF($B$2=StoreConfig!C1353,IF(StoreConfig!L1353=0,\"不限购\",StoreConfig!L1353&\"次\"),\"\")","v":""}]
[{"$nulls":3},{"$f":"IF($B$2=StoreConfig!C1354,StoreConfig!O1354,\"\")","v":""},{"$f":"IF($B$2=StoreConfig!C1354,StoreConfig!E1354,\"\")","v":""},{"$f":"IF($B$2=StoreConfig!C1354,RIGHT(StoreConfig!J1354,LEN(StoreConfig!J1354)-FIND(\"|\",StoreConfig!J1354)),\"\")","v":""},{"$f":"IFERROR(VLOOKUP(--IF($B$2=StoreConfig!C1354,LEFT(StoreConfig!J1354,FIND(\"|\",StoreConfig!J1354)-1),\"\"),$Q$4:$R$20,2,FALSE),\"\")","v":""},{"$f":"IF($B$2=StoreConfig!C1354,LEFT(StoreConfig!G1354,FIND(\"#\",StoreConfig!G1354)-1),\"\")","v":""},{"$f":"IF($B$2=StoreConfig!C1354,RIGHT(StoreConfig!G1354,LEN(StoreConfig!G1354)-FIND(\"#\",StoreConfig!G1354)),\"\")","v":""},{"$f":"IF($B$2=StoreConfig!C1354,IF(StoreConfig!L1354=0,\"不限购\",StoreConfig!L1354&\"次\"),\"\")","v":""}]
[{"$nulls":3},{"$f":"IF($B$2=StoreConfig!C1355,StoreConfig!O1355,\"\")","v":""},{"$f":"IF($B$2=StoreConfig!C1355,StoreConfig!E1355,\"\")","v":""},{"$f":"IF($B$2=StoreConfig!C1355,RIGHT(StoreConfig!J1355,LEN(StoreConfig!J1355)-FIND(\"|\",StoreConfig!J1355)),\"\")","v":""},{"$f":"IFERROR(VLOOKUP(--IF($B$2=StoreConfig!C1355,LEFT(StoreConfig!J1355,FIND(\"|\",StoreConfig!J1355)-1),\"\"),$Q$4:$R$20,2,FALSE),\"\")","v":""},{"$f":"IF($B$2=StoreConfig!C1355,LEFT(StoreConfig!G1355,FIND(\"#\",StoreConfig!G1355)-1),\"\")","v":""},{"$f":"IF($B$2=StoreConfig!C1355,RIGHT(StoreConfig!G1355,LEN(StoreConfig!G1355)-FIND(\"#\",StoreConfig!G1355)),\"\")","v":""},{"$f":"IF($B$2=StoreConfig!C1355,IF(StoreConfig!L1355=0,\"不限购\",StoreConfig!L1355&\"次\"),\"\")","v":""}]
[{"$nulls":3},{"$f":"IF($B$2=StoreConfig!C1356,StoreConfig!O1356,\"\")","v":""},{"$f":"IF($B$2=StoreConfig!C1356,StoreConfig!E1356,\"\")","v":""},{"$f":"IF($B$2=StoreConfig!C1356,RIGHT(StoreConfig!J1356,LEN(StoreConfig!J1356)-FIND(\"|\",StoreConfig!J1356)),\"\")","v":""},{"$f":"IFERROR(VLOOKUP(--IF($B$2=StoreConfig!C1356,LEFT(StoreConfig!J1356,FIND(\"|\",StoreConfig!J1356)-1),\"\"),$Q$4:$R$20,2,FALSE),\"\")","v":""},{"$f":"IF($B$2=StoreConfig!C1356,LEFT(StoreConfig!G1356,FIND(\"#\",StoreConfig!G1356)-1),\"\")","v":""},{"$f":"IF($B$2=StoreConfig!C1356,RIGHT(StoreConfig!G1356,LEN(StoreConfig!G1356)-FIND(\"#\",StoreConfig!G1356)),\"\")","v":""},{"$f":"IF($B$2=StoreConfig!C1356,IF(StoreConfig!L1356=0,\"不限购\",StoreConfig!L1356&\"次\"),\"\")","v":""}]
[{"$nulls":3},{"$f":"IF($B$2=StoreConfig!C1357,StoreConfig!O1357,\"\")","v":""},{"$f":"IF($B$2=StoreConfig!C1357,StoreConfig!E1357,\"\")","v":""},{"$f":"IF($B$2=StoreConfig!C1357,RIGHT(StoreConfig!J1357,LEN(StoreConfig!J1357)-FIND(\"|\",StoreConfig!J1357)),\"\")","v":""},{"$f":"IFERROR(VLOOKUP(--IF($B$2=StoreConfig!C1357,LEFT(StoreConfig!J1357,FIND(\"|\",StoreConfig!J1357)-1),\"\"),$Q$4:$R$20,2,FALSE),\"\")","v":""},{"$f":"IF($B$2=StoreConfig!C1357,LEFT(StoreConfig!G1357,FIND(\"#\",StoreConfig!G1357)-1),\"\")","v":""},{"$f":"IF($B$2=StoreConfig!C1357,RIGHT(StoreConfig!G1357,LEN(StoreConfig!G1357)-FIND(\"#\",StoreConfig!G1357)),\"\")","v":""},{"$f":"IF($B$2=StoreConfig!C1357,IF(StoreConfig!L1357=0,\"不限购\",StoreConfig!L1357&\"次\"),\"\")","v":""}]
[{"$nulls":3},{"$f":"IF($B$2=StoreConfig!C1358,StoreConfig!O1358,\"\")","v":""},{"$f":"IF($B$2=StoreConfig!C1358,StoreConfig!E1358,\"\")","v":""},{"$f":"IF($B$2=StoreConfig!C1358,RIGHT(StoreConfig!J1358,LEN(StoreConfig!J1358)-FIND(\"|\",StoreConfig!J1358)),\"\")","v":""},{"$f":"IFERROR(VLOOKUP(--IF($B$2=StoreConfig!C1358,LEFT(StoreConfig!J1358,FIND(\"|\",StoreConfig!J1358)-1),\"\"),$Q$4:$R$20,2,FALSE),\"\")","v":""},{"$f":"IF($B$2=StoreConfig!C1358,LEFT(StoreConfig!G1358,FIND(\"#\",StoreConfig!G1358)-1),\"\")","v":""},{"$f":"IF($B$2=StoreConfig!C1358,RIGHT(StoreConfig!G1358,LEN(StoreConfig!G1358)-FIND(\"#\",StoreConfig!G1358)),\"\")","v":""},{"$f":"IF($B$2=StoreConfig!C1358,IF(StoreConfig!L1358=0,\"不限购\",StoreConfig!L1358&\"次\"),\"\")","v":""}]
[{"$nulls":3},{"$f":"IF($B$2=StoreConfig!C1359,StoreConfig!O1359,\"\")","v":""},{"$f":"IF($B$2=StoreConfig!C1359,StoreConfig!E1359,\"\")","v":""},{"$f":"IF($B$2=StoreConfig!C1359,RIGHT(StoreConfig!J1359,LEN(StoreConfig!J1359)-FIND(\"|\",StoreConfig!J1359)),\"\")","v":""},{"$f":"IFERROR(VLOOKUP(--IF($B$2=StoreConfig!C1359,LEFT(StoreConfig!J1359,FIND(\"|\",StoreConfig!J1359)-1),\"\"),$Q$4:$R$20,2,FALSE),\"\")","v":""},{"$f":"IF($B$2=StoreConfig!C1359,LEFT(StoreConfig!G1359,FIND(\"#\",StoreConfig!G1359)-1),\"\")","v":""},{"$f":"IF($B$2=StoreConfig!C1359,RIGHT(StoreConfig!G1359,LEN(StoreConfig!G1359)-FIND(\"#\",StoreConfig!G1359)),\"\")","v":""},{"$f":"IF($B$2=StoreConfig!C1359,IF(StoreConfig!L1359=0,\"不限购\",StoreConfig!L1359&\"次\"),\"\")","v":""}]
[{"$nulls":3},{"$f":"IF($B$2=StoreConfig!C1360,StoreConfig!O1360,\"\")","v":""},{"$f":"IF($B$2=StoreConfig!C1360,StoreConfig!E1360,\"\")","v":""},{"$f":"IF($B$2=StoreConfig!C1360,RIGHT(StoreConfig!J1360,LEN(StoreConfig!J1360)-FIND(\"|\",StoreConfig!J1360)),\"\")","v":""},{"$f":"IFERROR(VLOOKUP(--IF($B$2=StoreConfig!C1360,LEFT(StoreConfig!J1360,FIND(\"|\",StoreConfig!J1360)-1),\"\"),$Q$4:$R$20,2,FALSE),\"\")","v":""},{"$f":"IF($B$2=StoreConfig!C1360,LEFT(StoreConfig!G1360,FIND(\"#\",StoreConfig!G1360)-1),\"\")","v":""},{"$f":"IF($B$2=StoreConfig!C1360,RIGHT(StoreConfig!G1360,LEN(StoreConfig!G1360)-FIND(\"#\",StoreConfig!G1360)),\"\")","v":""},{"$f":"IF($B$2=StoreConfig!C1360,IF(StoreConfig!L1360=0,\"不限购\",StoreConfig!L1360&\"次\"),\"\")","v":""}]
[{"$nulls":3},{"$f":"IF($B$2=StoreConfig!C1361,StoreConfig!O1361,\"\")","v":""},{"$f":"IF($B$2=StoreConfig!C1361,StoreConfig!E1361,\"\")","v":""},{"$f":"IF($B$2=StoreConfig!C1361,RIGHT(StoreConfig!J1361,LEN(StoreConfig!J1361)-FIND(\"|\",StoreConfig!J1361)),\"\")","v":""},{"$f":"IFERROR(VLOOKUP(--IF($B$2=StoreConfig!C1361,LEFT(StoreConfig!J1361,FIND(\"|\",StoreConfig!J1361)-1),\"\"),$Q$4:$R$20,2,FALSE),\"\")","v":""},{"$f":"IF($B$2=StoreConfig!C1361,LEFT(StoreConfig!G1361,FIND(\"#\",StoreConfig!G1361)-1),\"\")","v":""},{"$f":"IF($B$2=StoreConfig!C1361,RIGHT(StoreConfig!G1361,LEN(StoreConfig!G1361)-FIND(\"#\",StoreConfig!G1361)),\"\")","v":""},{"$f":"IF($B$2=StoreConfig!C1361,IF(StoreConfig!L1361=0,\"不限购\",StoreConfig!L1361&\"次\"),\"\")","v":""}]
[{"$nulls":3},{"$f":"IF($B$2=StoreConfig!C1362,StoreConfig!O1362,\"\")","v":""},{"$f":"IF($B$2=StoreConfig!C1362,StoreConfig!E1362,\"\")","v":""},{"$f":"IF($B$2=StoreConfig!C1362,RIGHT(StoreConfig!J1362,LEN(StoreConfig!J1362)-FIND(\"|\",StoreConfig!J1362)),\"\")","v":""},{"$f":"IFERROR(VLOOKUP(--IF($B$2=StoreConfig!C1362,LEFT(StoreConfig!J1362,FIND(\"|\",StoreConfig!J1362)-1),\"\"),$Q$4:$R$20,2,FALSE),\"\")","v":""},{"$f":"IF($B$2=StoreConfig!C1362,LEFT(StoreConfig!G1362,FIND(\"#\",StoreConfig!G1362)-1),\"\")","v":""},{"$f":"IF($B$2=StoreConfig!C1362,RIGHT(StoreConfig!G1362,LEN(StoreConfig!G1362)-FIND(\"#\",StoreConfig!G1362)),\"\")","v":""},{"$f":"IF($B$2=StoreConfig!C1362,IF(StoreConfig!L1362=0,\"不限购\",StoreConfig!L1362&\"次\"),\"\")","v":""}]
[{"$nulls":3},{"$f":"IF($B$2=StoreConfig!C1363,StoreConfig!O1363,\"\")","v":""},{"$f":"IF($B$2=StoreConfig!C1363,StoreConfig!E1363,\"\")","v":""},{"$f":"IF($B$2=StoreConfig!C1363,RIGHT(StoreConfig!J1363,LEN(StoreConfig!J1363)-FIND(\"|\",StoreConfig!J1363)),\"\")","v":""},{"$f":"IFERROR(VLOOKUP(--IF($B$2=StoreConfig!C1363,LEFT(StoreConfig!J1363,FIND(\"|\",StoreConfig!J1363)-1),\"\"),$Q$4:$R$20,2,FALSE),\"\")","v":""},{"$f":"IF($B$2=StoreConfig!C1363,LEFT(StoreConfig!G1363,FIND(\"#\",StoreConfig!G1363)-1),\"\")","v":""},{"$f":"IF($B$2=StoreConfig!C1363,RIGHT(StoreConfig!G1363,LEN(StoreConfig!G1363)-FIND(\"#\",StoreConfig!G1363)),\"\")","v":""},{"$f":"IF($B$2=StoreConfig!C1363,IF(StoreConfig!L1363=0,\"不限购\",StoreConfig!L1363&\"次\"),\"\")","v":""}]
[{"$nulls":3},{"$f":"IF($B$2=StoreConfig!C1364,StoreConfig!O1364,\"\")","v":""},{"$f":"IF($B$2=StoreConfig!C1364,StoreConfig!E1364,\"\")","v":""},{"$f":"IF($B$2=StoreConfig!C1364,RIGHT(StoreConfig!J1364,LEN(StoreConfig!J1364)-FIND(\"|\",StoreConfig!J1364)),\"\")","v":""},{"$f":"IFERROR(VLOOKUP(--IF($B$2=StoreConfig!C1364,LEFT(StoreConfig!J1364,FIND(\"|\",StoreConfig!J1364)-1),\"\"),$Q$4:$R$20,2,FALSE),\"\")","v":""},{"$f":"IF($B$2=StoreConfig!C1364,LEFT(StoreConfig!G1364,FIND(\"#\",StoreConfig!G1364)-1),\"\")","v":""},{"$f":"IF($B$2=StoreConfig!C1364,RIGHT(StoreConfig!G1364,LEN(StoreConfig!G1364)-FIND(\"#\",StoreConfig!G1364)),\"\")","v":""},{"$f":"IF($B$2=StoreConfig!C1364,IF(StoreConfig!L1364=0,\"不限购\",StoreConfig!L1364&\"次\"),\"\")","v":""}]
[{"$nulls":3},{"$f":"IF($B$2=StoreConfig!C1365,StoreConfig!O1365,\"\")","v":""},{"$f":"IF($B$2=StoreConfig!C1365,StoreConfig!E1365,\"\")","v":""},{"$f":"IF($B$2=StoreConfig!C1365,RIGHT(StoreConfig!J1365,LEN(StoreConfig!J1365)-FIND(\"|\",StoreConfig!J1365)),\"\")","v":""},{"$f":"IFERROR(VLOOKUP(--IF($B$2=StoreConfig!C1365,LEFT(StoreConfig!J1365,FIND(\"|\",StoreConfig!J1365)-1),\"\"),$Q$4:$R$20,2,FALSE),\"\")","v":""},{"$f":"IF($B$2=StoreConfig!C1365,LEFT(StoreConfig!G1365,FIND(\"#\",StoreConfig!G1365)-1),\"\")","v":""},{"$f":"IF($B$2=StoreConfig!C1365,RIGHT(StoreConfig!G1365,LEN(StoreConfig!G1365)-FIND(\"#\",StoreConfig!G1365)),\"\")","v":""},{"$f":"IF($B$2=StoreConfig!C1365,IF(StoreConfig!L1365=0,\"不限购\",StoreConfig!L1365&\"次\"),\"\")","v":""}]
[{"$nulls":3},{"$f":"IF($B$2=StoreConfig!C1366,StoreConfig!O1366,\"\")","v":""},{"$f":"IF($B$2=StoreConfig!C1366,StoreConfig!E1366,\"\")","v":""},{"$f":"IF($B$2=StoreConfig!C1366,RIGHT(StoreConfig!J1366,LEN(StoreConfig!J1366)-FIND(\"|\",StoreConfig!J1366)),\"\")","v":""},{"$f":"IFERROR(VLOOKUP(--IF($B$2=StoreConfig!C1366,LEFT(StoreConfig!J1366,FIND(\"|\",StoreConfig!J1366)-1),\"\"),$Q$4:$R$20,2,FALSE),\"\")","v":""},{"$f":"IF($B$2=StoreConfig!C1366,LEFT(StoreConfig!G1366,FIND(\"#\",StoreConfig!G1366)-1),\"\")","v":""},{"$f":"IF($B$2=StoreConfig!C1366,RIGHT(StoreConfig!G1366,LEN(StoreConfig!G1366)-FIND(\"#\",StoreConfig!G1366)),\"\")","v":""},{"$f":"IF($B$2=StoreConfig!C1366,IF(StoreConfig!L1366=0,\"不限购\",StoreConfig!L1366&\"次\"),\"\")","v":""}]
[{"$nulls":3},{"$f":"IF($B$2=StoreConfig!C1367,StoreConfig!O1367,\"\")","v":""},{"$f":"IF($B$2=StoreConfig!C1367,StoreConfig!E1367,\"\")","v":""},{"$f":"IF($B$2=StoreConfig!C1367,RIGHT(StoreConfig!J1367,LEN(StoreConfig!J1367)-FIND(\"|\",StoreConfig!J1367)),\"\")","v":""},{"$f":"IFERROR(VLOOKUP(--IF($B$2=StoreConfig!C1367,LEFT(StoreConfig!J1367,FIND(\"|\",StoreConfig!J1367)-1),\"\"),$Q$4:$R$20,2,FALSE),\"\")","v":""},{"$f":"IF($B$2=StoreConfig!C1367,LEFT(StoreConfig!G1367,FIND(\"#\",StoreConfig!G1367)-1),\"\")","v":""},{"$f":"IF($B$2=StoreConfig!C1367,RIGHT(StoreConfig!G1367,LEN(StoreConfig!G1367)-FIND(\"#\",StoreConfig!G1367)),\"\")","v":""},{"$f":"IF($B$2=StoreConfig!C1367,IF(StoreConfig!L1367=0,\"不限购\",StoreConfig!L1367&\"次\"),\"\")","v":""}]
[{"$nulls":3},{"$f":"IF($B$2=StoreConfig!C1368,StoreConfig!O1368,\"\")","v":""},{"$f":"IF($B$2=StoreConfig!C1368,StoreConfig!E1368,\"\")","v":""},{"$f":"IF($B$2=StoreConfig!C1368,RIGHT(StoreConfig!J1368,LEN(StoreConfig!J1368)-FIND(\"|\",StoreConfig!J1368)),\"\")","v":""},{"$f":"IFERROR(VLOOKUP(--IF($B$2=StoreConfig!C1368,LEFT(StoreConfig!J1368,FIND(\"|\",StoreConfig!J1368)-1),\"\"),$Q$4:$R$20,2,FALSE),\"\")","v":""},{"$f":"IF($B$2=StoreConfig!C1368,LEFT(StoreConfig!G1368,FIND(\"#\",StoreConfig!G1368)-1),\"\")","v":""},{"$f":"IF($B$2=StoreConfig!C1368,RIGHT(StoreConfig!G1368,LEN(StoreConfig!G1368)-FIND(\"#\",StoreConfig!G1368)),\"\")","v":""},{"$f":"IF($B$2=StoreConfig!C1368,IF(StoreConfig!L1368=0,\"不限购\",StoreConfig!L1368&\"次\"),\"\")","v":""}]
[{"$nulls":3},{"$f":"IF($B$2=StoreConfig!C1369,StoreConfig!O1369,\"\")","v":""},{"$f":"IF($B$2=StoreConfig!C1369,StoreConfig!E1369,\"\")","v":""},{"$f":"IF($B$2=StoreConfig!C1369,RIGHT(StoreConfig!J1369,LEN(StoreConfig!J1369)-FIND(\"|\",StoreConfig!J1369)),\"\")","v":""},{"$f":"IFERROR(VLOOKUP(--IF($B$2=StoreConfig!C1369,LEFT(StoreConfig!J1369,FIND(\"|\",StoreConfig!J1369)-1),\"\"),$Q$4:$R$20,2,FALSE),\"\")","v":""},{"$f":"IF($B$2=StoreConfig!C1369,LEFT(StoreConfig!G1369,FIND(\"#\",StoreConfig!G1369)-1),\"\")","v":""},{"$f":"IF($B$2=StoreConfig!C1369,RIGHT(StoreConfig!G1369,LEN(StoreConfig!G1369)-FIND(\"#\",StoreConfig!G1369)),\"\")","v":""},{"$f":"IF($B$2=StoreConfig!C1369,IF(StoreConfig!L1369=0,\"不限购\",StoreConfig!L1369&\"次\"),\"\")","v":""}]
[{"$nulls":3},{"$f":"IF($B$2=StoreConfig!C1370,StoreConfig!O1370,\"\")","v":""},{"$f":"IF($B$2=StoreConfig!C1370,StoreConfig!E1370,\"\")","v":""},{"$f":"IF($B$2=StoreConfig!C1370,RIGHT(StoreConfig!J1370,LEN(StoreConfig!J1370)-FIND(\"|\",StoreConfig!J1370)),\"\")","v":""},{"$f":"IFERROR(VLOOKUP(--IF($B$2=StoreConfig!C1370,LEFT(StoreConfig!J1370,FIND(\"|\",StoreConfig!J1370)-1),\"\"),$Q$4:$R$20,2,FALSE),\"\")","v":""},{"$f":"IF($B$2=StoreConfig!C1370,LEFT(StoreConfig!G1370,FIND(\"#\",StoreConfig!G1370)-1),\"\")","v":""},{"$f":"IF($B$2=StoreConfig!C1370,RIGHT(StoreConfig!G1370,LEN(StoreConfig!G1370)-FIND(\"#\",StoreConfig!G1370)),\"\")","v":""},{"$f":"IF($B$2=StoreConfig!C1370,IF(StoreConfig!L1370=0,\"不限购\",StoreConfig!L1370&\"次\"),\"\")","v":""}]
[{"$nulls":3},{"$f":"IF($B$2=StoreConfig!C1371,StoreConfig!O1371,\"\")","v":""},{"$f":"IF($B$2=StoreConfig!C1371,StoreConfig!E1371,\"\")","v":""},{"$f":"IF($B$2=StoreConfig!C1371,RIGHT(StoreConfig!J1371,LEN(StoreConfig!J1371)-FIND(\"|\",StoreConfig!J1371)),\"\")","v":""},{"$f":"IFERROR(VLOOKUP(--IF($B$2=StoreConfig!C1371,LEFT(StoreConfig!J1371,FIND(\"|\",StoreConfig!J1371)-1),\"\"),$Q$4:$R$20,2,FALSE),\"\")","v":""},{"$f":"IF($B$2=StoreConfig!C1371,LEFT(StoreConfig!G1371,FIND(\"#\",StoreConfig!G1371)-1),\"\")","v":""},{"$f":"IF($B$2=StoreConfig!C1371,RIGHT(StoreConfig!G1371,LEN(StoreConfig!G1371)-FIND(\"#\",StoreConfig!G1371)),\"\")","v":""},{"$f":"IF($B$2=StoreConfig!C1371,IF(StoreConfig!L1371=0,\"不限购\",StoreConfig!L1371&\"次\"),\"\")","v":""}]
[{"$nulls":3},{"$f":"IF($B$2=StoreConfig!C1372,StoreConfig!O1372,\"\")","v":""},{"$f":"IF($B$2=StoreConfig!C1372,StoreConfig!E1372,\"\")","v":""},{"$f":"IF($B$2=StoreConfig!C1372,RIGHT(StoreConfig!J1372,LEN(StoreConfig!J1372)-FIND(\"|\",StoreConfig!J1372)),\"\")","v":""},{"$f":"IFERROR(VLOOKUP(--IF($B$2=StoreConfig!C1372,LEFT(StoreConfig!J1372,FIND(\"|\",StoreConfig!J1372)-1),\"\"),$Q$4:$R$20,2,FALSE),\"\")","v":""},{"$f":"IF($B$2=StoreConfig!C1372,LEFT(StoreConfig!G1372,FIND(\"#\",StoreConfig!G1372)-1),\"\")","v":""},{"$f":"IF($B$2=StoreConfig!C1372,RIGHT(StoreConfig!G1372,LEN(StoreConfig!G1372)-FIND(\"#\",StoreConfig!G1372)),\"\")","v":""},{"$f":"IF($B$2=StoreConfig!C1372,IF(StoreConfig!L1372=0,\"不限购\",StoreConfig!L1372&\"次\"),\"\")","v":""}]
[{"$nulls":3},{"$f":"IF($B$2=StoreConfig!C1373,StoreConfig!O1373,\"\")","v":""},{"$f":"IF($B$2=StoreConfig!C1373,StoreConfig!E1373,\"\")","v":""},{"$f":"IF($B$2=StoreConfig!C1373,RIGHT(StoreConfig!J1373,LEN(StoreConfig!J1373)-FIND(\"|\",StoreConfig!J1373)),\"\")","v":""},{"$f":"IFERROR(VLOOKUP(--IF($B$2=StoreConfig!C1373,LEFT(StoreConfig!J1373,FIND(\"|\",StoreConfig!J1373)-1),\"\"),$Q$4:$R$20,2,FALSE),\"\")","v":""},{"$f":"IF($B$2=StoreConfig!C1373,LEFT(StoreConfig!G1373,FIND(\"#\",StoreConfig!G1373)-1),\"\")","v":""},{"$f":"IF($B$2=StoreConfig!C1373,RIGHT(StoreConfig!G1373,LEN(StoreConfig!G1373)-FIND(\"#\",StoreConfig!G1373)),\"\")","v":""},{"$f":"IF($B$2=StoreConfig!C1373,IF(StoreConfig!L1373=0,\"不限购\",StoreConfig!L1373&\"次\"),\"\")","v":""}]
[{"$nulls":3},{"$f":"IF($B$2=StoreConfig!C1374,StoreConfig!O1374,\"\")","v":""},{"$f":"IF($B$2=StoreConfig!C1374,StoreConfig!E1374,\"\")","v":""},{"$f":"IF($B$2=StoreConfig!C1374,RIGHT(StoreConfig!J1374,LEN(StoreConfig!J1374)-FIND(\"|\",StoreConfig!J1374)),\"\")","v":""},{"$f":"IFERROR(VLOOKUP(--IF($B$2=StoreConfig!C1374,LEFT(StoreConfig!J1374,FIND(\"|\",StoreConfig!J1374)-1),\"\"),$Q$4:$R$20,2,FALSE),\"\")","v":""},{"$f":"IF($B$2=StoreConfig!C1374,LEFT(StoreConfig!G1374,FIND(\"#\",StoreConfig!G1374)-1),\"\")","v":""},{"$f":"IF($B$2=StoreConfig!C1374,RIGHT(StoreConfig!G1374,LEN(StoreConfig!G1374)-FIND(\"#\",StoreConfig!G1374)),\"\")","v":""},{"$f":"IF($B$2=StoreConfig!C1374,IF(StoreConfig!L1374=0,\"不限购\",StoreConfig!L1374&\"次\"),\"\")","v":""}]
[{"$nulls":3},{"$f":"IF($B$2=StoreConfig!C1375,StoreConfig!O1375,\"\")","v":""},{"$f":"IF($B$2=StoreConfig!C1375,StoreConfig!E1375,\"\")","v":""},{"$f":"IF($B$2=StoreConfig!C1375,RIGHT(StoreConfig!J1375,LEN(StoreConfig!J1375)-FIND(\"|\",StoreConfig!J1375)),\"\")","v":""},{"$f":"IFERROR(VLOOKUP(--IF($B$2=StoreConfig!C1375,LEFT(StoreConfig!J1375,FIND(\"|\",StoreConfig!J1375)-1),\"\"),$Q$4:$R$20,2,FALSE),\"\")","v":""},{"$f":"IF($B$2=StoreConfig!C1375,LEFT(StoreConfig!G1375,FIND(\"#\",StoreConfig!G1375)-1),\"\")","v":""},{"$f":"IF($B$2=StoreConfig!C1375,RIGHT(StoreConfig!G1375,LEN(StoreConfig!G1375)-FIND(\"#\",StoreConfig!G1375)),\"\")","v":""},{"$f":"IF($B$2=StoreConfig!C1375,IF(StoreConfig!L1375=0,\"不限购\",StoreConfig!L1375&\"次\"),\"\")","v":""}]
[{"$nulls":3},{"$f":"IF($B$2=StoreConfig!C1376,StoreConfig!O1376,\"\")","v":""},{"$f":"IF($B$2=StoreConfig!C1376,StoreConfig!E1376,\"\")","v":""},{"$f":"IF($B$2=StoreConfig!C1376,RIGHT(StoreConfig!J1376,LEN(StoreConfig!J1376)-FIND(\"|\",StoreConfig!J1376)),\"\")","v":""},{"$f":"IFERROR(VLOOKUP(--IF($B$2=StoreConfig!C1376,LEFT(StoreConfig!J1376,FIND(\"|\",StoreConfig!J1376)-1),\"\"),$Q$4:$R$20,2,FALSE),\"\")","v":""},{"$f":"IF($B$2=StoreConfig!C1376,LEFT(StoreConfig!G1376,FIND(\"#\",StoreConfig!G1376)-1),\"\")","v":""},{"$f":"IF($B$2=StoreConfig!C1376,RIGHT(StoreConfig!G1376,LEN(StoreConfig!G1376)-FIND(\"#\",StoreConfig!G1376)),\"\")","v":""},{"$f":"IF($B$2=StoreConfig!C1376,IF(StoreConfig!L1376=0,\"不限购\",StoreConfig!L1376&\"次\"),\"\")","v":""}]
[{"$nulls":3},{"$f":"IF($B$2=StoreConfig!C1377,StoreConfig!O1377,\"\")","v":""},{"$f":"IF($B$2=StoreConfig!C1377,StoreConfig!E1377,\"\")","v":""},{"$f":"IF($B$2=StoreConfig!C1377,RIGHT(StoreConfig!J1377,LEN(StoreConfig!J1377)-FIND(\"|\",StoreConfig!J1377)),\"\")","v":""},{"$f":"IFERROR(VLOOKUP(--IF($B$2=StoreConfig!C1377,LEFT(StoreConfig!J1377,FIND(\"|\",StoreConfig!J1377)-1),\"\"),$Q$4:$R$20,2,FALSE),\"\")","v":""},{"$f":"IF($B$2=StoreConfig!C1377,LEFT(StoreConfig!G1377,FIND(\"#\",StoreConfig!G1377)-1),\"\")","v":""},{"$f":"IF($B$2=StoreConfig!C1377,RIGHT(StoreConfig!G1377,LEN(StoreConfig!G1377)-FIND(\"#\",StoreConfig!G1377)),\"\")","v":""},{"$f":"IF($B$2=StoreConfig!C1377,IF(StoreConfig!L1377=0,\"不限购\",StoreConfig!L1377&\"次\"),\"\")","v":""}]
[{"$nulls":3},{"$f":"IF($B$2=StoreConfig!C1378,StoreConfig!O1378,\"\")","v":""},{"$f":"IF($B$2=StoreConfig!C1378,StoreConfig!E1378,\"\")","v":""},{"$f":"IF($B$2=StoreConfig!C1378,RIGHT(StoreConfig!J1378,LEN(StoreConfig!J1378)-FIND(\"|\",StoreConfig!J1378)),\"\")","v":""},{"$f":"IFERROR(VLOOKUP(--IF($B$2=StoreConfig!C1378,LEFT(StoreConfig!J1378,FIND(\"|\",StoreConfig!J1378)-1),\"\"),$Q$4:$R$20,2,FALSE),\"\")","v":""},{"$f":"IF($B$2=StoreConfig!C1378,LEFT(StoreConfig!G1378,FIND(\"#\",StoreConfig!G1378)-1),\"\")","v":""},{"$f":"IF($B$2=StoreConfig!C1378,RIGHT(StoreConfig!G1378,LEN(StoreConfig!G1378)-FIND(\"#\",StoreConfig!G1378)),\"\")","v":""},{"$f":"IF($B$2=StoreConfig!C1378,IF(StoreConfig!L1378=0,\"不限购\",StoreConfig!L1378&\"次\"),\"\")","v":""}]
[{"$nulls":3},{"$f":"IF($B$2=StoreConfig!C1379,StoreConfig!O1379,\"\")","v":""},{"$f":"IF($B$2=StoreConfig!C1379,StoreConfig!E1379,\"\")","v":""},{"$f":"IF($B$2=StoreConfig!C1379,RIGHT(StoreConfig!J1379,LEN(StoreConfig!J1379)-FIND(\"|\",StoreConfig!J1379)),\"\")","v":""},{"$f":"IFERROR(VLOOKUP(--IF($B$2=StoreConfig!C1379,LEFT(StoreConfig!J1379,FIND(\"|\",StoreConfig!J1379)-1),\"\"),$Q$4:$R$20,2,FALSE),\"\")","v":""},{"$f":"IF($B$2=StoreConfig!C1379,LEFT(StoreConfig!G1379,FIND(\"#\",StoreConfig!G1379)-1),\"\")","v":""},{"$f":"IF($B$2=StoreConfig!C1379,RIGHT(StoreConfig!G1379,LEN(StoreConfig!G1379)-FIND(\"#\",StoreConfig!G1379)),\"\")","v":""},{"$f":"IF($B$2=StoreConfig!C1379,IF(StoreConfig!L1379=0,\"不限购\",StoreConfig!L1379&\"次\"),\"\")","v":""}]
[{"$nulls":3},{"$f":"IF($B$2=StoreConfig!C1380,StoreConfig!O1380,\"\")","v":""},{"$f":"IF($B$2=StoreConfig!C1380,StoreConfig!E1380,\"\")","v":""},{"$f":"IF($B$2=StoreConfig!C1380,RIGHT(StoreConfig!J1380,LEN(StoreConfig!J1380)-FIND(\"|\",StoreConfig!J1380)),\"\")","v":""},{"$f":"IFERROR(VLOOKUP(--IF($B$2=StoreConfig!C1380,LEFT(StoreConfig!J1380,FIND(\"|\",StoreConfig!J1380)-1),\"\"),$Q$4:$R$20,2,FALSE),\"\")","v":""},{"$f":"IF($B$2=StoreConfig!C1380,LEFT(StoreConfig!G1380,FIND(\"#\",StoreConfig!G1380)-1),\"\")","v":""},{"$f":"IF($B$2=StoreConfig!C1380,RIGHT(StoreConfig!G1380,LEN(StoreConfig!G1380)-FIND(\"#\",StoreConfig!G1380)),\"\")","v":""},{"$f":"IF($B$2=StoreConfig!C1380,IF(StoreConfig!L1380=0,\"不限购\",StoreConfig!L1380&\"次\"),\"\")","v":""}]
[{"$nulls":3},{"$f":"IF($B$2=StoreConfig!C1381,StoreConfig!O1381,\"\")","v":""},{"$f":"IF($B$2=StoreConfig!C1381,StoreConfig!E1381,\"\")","v":""},{"$f":"IF($B$2=StoreConfig!C1381,RIGHT(StoreConfig!J1381,LEN(StoreConfig!J1381)-FIND(\"|\",StoreConfig!J1381)),\"\")","v":""},{"$f":"IFERROR(VLOOKUP(--IF($B$2=StoreConfig!C1381,LEFT(StoreConfig!J1381,FIND(\"|\",StoreConfig!J1381)-1),\"\"),$Q$4:$R$20,2,FALSE),\"\")","v":""},{"$f":"IF($B$2=StoreConfig!C1381,LEFT(StoreConfig!G1381,FIND(\"#\",StoreConfig!G1381)-1),\"\")","v":""},{"$f":"IF($B$2=StoreConfig!C1381,RIGHT(StoreConfig!G1381,LEN(StoreConfig!G1381)-FIND(\"#\",StoreConfig!G1381)),\"\")","v":""},{"$f":"IF($B$2=StoreConfig!C1381,IF(StoreConfig!L1381=0,\"不限购\",StoreConfig!L1381&\"次\"),\"\")","v":""}]
[{"$nulls":3},{"$f":"IF($B$2=StoreConfig!C1382,StoreConfig!O1382,\"\")","v":""},{"$f":"IF($B$2=StoreConfig!C1382,StoreConfig!E1382,\"\")","v":""},{"$f":"IF($B$2=StoreConfig!C1382,RIGHT(StoreConfig!J1382,LEN(StoreConfig!J1382)-FIND(\"|\",StoreConfig!J1382)),\"\")","v":""},{"$f":"IFERROR(VLOOKUP(--IF($B$2=StoreConfig!C1382,LEFT(StoreConfig!J1382,FIND(\"|\",StoreConfig!J1382)-1),\"\"),$Q$4:$R$20,2,FALSE),\"\")","v":""},{"$f":"IF($B$2=StoreConfig!C1382,LEFT(StoreConfig!G1382,FIND(\"#\",StoreConfig!G1382)-1),\"\")","v":""},{"$f":"IF($B$2=StoreConfig!C1382,RIGHT(StoreConfig!G1382,LEN(StoreConfig!G1382)-FIND(\"#\",StoreConfig!G1382)),\"\")","v":""},{"$f":"IF($B$2=StoreConfig!C1382,IF(StoreConfig!L1382=0,\"不限购\",StoreConfig!L1382&\"次\"),\"\")","v":""}]
[{"$nulls":3},{"$f":"IF($B$2=StoreConfig!C1383,StoreConfig!O1383,\"\")","v":""},{"$f":"IF($B$2=StoreConfig!C1383,StoreConfig!E1383,\"\")","v":""},{"$f":"IF($B$2=StoreConfig!C1383,RIGHT(StoreConfig!J1383,LEN(StoreConfig!J1383)-FIND(\"|\",StoreConfig!J1383)),\"\")","v":""},{"$f":"IFERROR(VLOOKUP(--IF($B$2=StoreConfig!C1383,LEFT(StoreConfig!J1383,FIND(\"|\",StoreConfig!J1383)-1),\"\"),$Q$4:$R$20,2,FALSE),\"\")","v":""},{"$f":"IF($B$2=StoreConfig!C1383,LEFT(StoreConfig!G1383,FIND(\"#\",StoreConfig!G1383)-1),\"\")","v":""},{"$f":"IF($B$2=StoreConfig!C1383,RIGHT(StoreConfig!G1383,LEN(StoreConfig!G1383)-FIND(\"#\",StoreConfig!G1383)),\"\")","v":""},{"$f":"IF($B$2=StoreConfig!C1383,IF(StoreConfig!L1383=0,\"不限购\",StoreConfig!L1383&\"次\"),\"\")","v":""}]
[{"$nulls":3},{"$f":"IF($B$2=StoreConfig!C1384,StoreConfig!O1384,\"\")","v":""},{"$f":"IF($B$2=StoreConfig!C1384,StoreConfig!E1384,\"\")","v":""},{"$f":"IF($B$2=StoreConfig!C1384,RIGHT(StoreConfig!J1384,LEN(StoreConfig!J1384)-FIND(\"|\",StoreConfig!J1384)),\"\")","v":""},{"$f":"IFERROR(VLOOKUP(--IF($B$2=StoreConfig!C1384,LEFT(StoreConfig!J1384,FIND(\"|\",StoreConfig!J1384)-1),\"\"),$Q$4:$R$20,2,FALSE),\"\")","v":""},{"$f":"IF($B$2=StoreConfig!C1384,LEFT(StoreConfig!G1384,FIND(\"#\",StoreConfig!G1384)-1),\"\")","v":""},{"$f":"IF($B$2=StoreConfig!C1384,RIGHT(StoreConfig!G1384,LEN(StoreConfig!G1384)-FIND(\"#\",StoreConfig!G1384)),\"\")","v":""},{"$f":"IF($B$2=StoreConfig!C1384,IF(StoreConfig!L1384=0,\"不限购\",StoreConfig!L1384&\"次\"),\"\")","v":""}]
[{"$nulls":3},{"$f":"IF($B$2=StoreConfig!C1385,StoreConfig!O1385,\"\")","v":""},{"$f":"IF($B$2=StoreConfig!C1385,StoreConfig!E1385,\"\")","v":""},{"$f":"IF($B$2=StoreConfig!C1385,RIGHT(StoreConfig!J1385,LEN(StoreConfig!J1385)-FIND(\"|\",StoreConfig!J1385)),\"\")","v":""},{"$f":"IFERROR(VLOOKUP(--IF($B$2=StoreConfig!C1385,LEFT(StoreConfig!J1385,FIND(\"|\",StoreConfig!J1385)-1),\"\"),$Q$4:$R$20,2,FALSE),\"\")","v":""},{"$f":"IF($B$2=StoreConfig!C1385,LEFT(StoreConfig!G1385,FIND(\"#\",StoreConfig!G1385)-1),\"\")","v":""},{"$f":"IF($B$2=StoreConfig!C1385,RIGHT(StoreConfig!G1385,LEN(StoreConfig!G1385)-FIND(\"#\",StoreConfig!G1385)),\"\")","v":""},{"$f":"IF($B$2=StoreConfig!C1385,IF(StoreConfig!L1385=0,\"不限购\",StoreConfig!L1385&\"次\"),\"\")","v":""}]
[{"$nulls":3},{"$f":"IF($B$2=StoreConfig!C1386,StoreConfig!O1386,\"\")","v":""},{"$f":"IF($B$2=StoreConfig!C1386,StoreConfig!E1386,\"\")","v":""},{"$f":"IF($B$2=StoreConfig!C1386,RIGHT(StoreConfig!J1386,LEN(StoreConfig!J1386)-FIND(\"|\",StoreConfig!J1386)),\"\")","v":""},{"$f":"IFERROR(VLOOKUP(--IF($B$2=StoreConfig!C1386,LEFT(StoreConfig!J1386,FIND(\"|\",StoreConfig!J1386)-1),\"\"),$Q$4:$R$20,2,FALSE),\"\")","v":""},{"$f":"IF($B$2=StoreConfig!C1386,LEFT(StoreConfig!G1386,FIND(\"#\",StoreConfig!G1386)-1),\"\")","v":""},{"$f":"IF($B$2=StoreConfig!C1386,RIGHT(StoreConfig!G1386,LEN(StoreConfig!G1386)-FIND(\"#\",StoreConfig!G1386)),\"\")","v":""},{"$f":"IF($B$2=StoreConfig!C1386,IF(StoreConfig!L1386=0,\"不限购\",StoreConfig!L1386&\"次\"),\"\")","v":""}]
[{"$nulls":3},{"$f":"IF($B$2=StoreConfig!C1387,StoreConfig!O1387,\"\")","v":""},{"$f":"IF($B$2=StoreConfig!C1387,StoreConfig!E1387,\"\")","v":""},{"$f":"IF($B$2=StoreConfig!C1387,RIGHT(StoreConfig!J1387,LEN(StoreConfig!J1387)-FIND(\"|\",StoreConfig!J1387)),\"\")","v":""},{"$f":"IFERROR(VLOOKUP(--IF($B$2=StoreConfig!C1387,LEFT(StoreConfig!J1387,FIND(\"|\",StoreConfig!J1387)-1),\"\"),$Q$4:$R$20,2,FALSE),\"\")","v":""},{"$f":"IF($B$2=StoreConfig!C1387,LEFT(StoreConfig!G1387,FIND(\"#\",StoreConfig!G1387)-1),\"\")","v":""},{"$f":"IF($B$2=StoreConfig!C1387,RIGHT(StoreConfig!G1387,LEN(StoreConfig!G1387)-FIND(\"#\",StoreConfig!G1387)),\"\")","v":""},{"$f":"IF($B$2=StoreConfig!C1387,IF(StoreConfig!L1387=0,\"不限购\",StoreConfig!L1387&\"次\"),\"\")","v":""}]
[{"$nulls":3},{"$f":"IF($B$2=StoreConfig!C1388,StoreConfig!O1388,\"\")","v":""},{"$f":"IF($B$2=StoreConfig!C1388,StoreConfig!E1388,\"\")","v":""},{"$f":"IF($B$2=StoreConfig!C1388,RIGHT(StoreConfig!J1388,LEN(StoreConfig!J1388)-FIND(\"|\",StoreConfig!J1388)),\"\")","v":""},{"$f":"IFERROR(VLOOKUP(--IF($B$2=StoreConfig!C1388,LEFT(StoreConfig!J1388,FIND(\"|\",StoreConfig!J1388)-1),\"\"),$Q$4:$R$20,2,FALSE),\"\")","v":""},{"$f":"IF($B$2=StoreConfig!C1388,LEFT(StoreConfig!G1388,FIND(\"#\",StoreConfig!G1388)-1),\"\")","v":""},{"$f":"IF($B$2=StoreConfig!C1388,RIGHT(StoreConfig!G1388,LEN(StoreConfig!G1388)-FIND(\"#\",StoreConfig!G1388)),\"\")","v":""},{"$f":"IF($B$2=StoreConfig!C1388,IF(StoreConfig!L1388=0,\"不限购\",StoreConfig!L1388&\"次\"),\"\")","v":""}]
[{"$nulls":3},{"$f":"IF($B$2=StoreConfig!C1389,StoreConfig!O1389,\"\")","v":""},{"$f":"IF($B$2=StoreConfig!C1389,StoreConfig!E1389,\"\")","v":""},{"$f":"IF($B$2=StoreConfig!C1389,RIGHT(StoreConfig!J1389,LEN(StoreConfig!J1389)-FIND(\"|\",StoreConfig!J1389)),\"\")","v":""},{"$f":"IFERROR(VLOOKUP(--IF($B$2=StoreConfig!C1389,LEFT(StoreConfig!J1389,FIND(\"|\",StoreConfig!J1389)-1),\"\"),$Q$4:$R$20,2,FALSE),\"\")","v":""},{"$f":"IF($B$2=StoreConfig!C1389,LEFT(StoreConfig!G1389,FIND(\"#\",StoreConfig!G1389)-1),\"\")","v":""},{"$f":"IF($B$2=StoreConfig!C1389,RIGHT(StoreConfig!G1389,LEN(StoreConfig!G1389)-FIND(\"#\",StoreConfig!G1389)),\"\")","v":""},{"$f":"IF($B$2=StoreConfig!C1389,IF(StoreConfig!L1389=0,\"不限购\",StoreConfig!L1389&\"次\"),\"\")","v":""}]
[{"$nulls":3},{"$f":"IF($B$2=StoreConfig!C1390,StoreConfig!O1390,\"\")","v":""},{"$f":"IF($B$2=StoreConfig!C1390,StoreConfig!E1390,\"\")","v":""},{"$f":"IF($B$2=StoreConfig!C1390,RIGHT(StoreConfig!J1390,LEN(StoreConfig!J1390)-FIND(\"|\",StoreConfig!J1390)),\"\")","v":""},{"$f":"IFERROR(VLOOKUP(--IF($B$2=StoreConfig!C1390,LEFT(StoreConfig!J1390,FIND(\"|\",StoreConfig!J1390)-1),\"\"),$Q$4:$R$20,2,FALSE),\"\")","v":""},{"$f":"IF($B$2=StoreConfig!C1390,LEFT(StoreConfig!G1390,FIND(\"#\",StoreConfig!G1390)-1),\"\")","v":""},{"$f":"IF($B$2=StoreConfig!C1390,RIGHT(StoreConfig!G1390,LEN(StoreConfig!G1390)-FIND(\"#\",StoreConfig!G1390)),\"\")","v":""},{"$f":"IF($B$2=StoreConfig!C1390,IF(StoreConfig!L1390=0,\"不限购\",StoreConfig!L1390&\"次\"),\"\")","v":""}]
[{"$nulls":3},{"$f":"IF($B$2=StoreConfig!C1391,StoreConfig!O1391,\"\")","v":""},{"$f":"IF($B$2=StoreConfig!C1391,StoreConfig!E1391,\"\")","v":""},{"$f":"IF($B$2=StoreConfig!C1391,RIGHT(StoreConfig!J1391,LEN(StoreConfig!J1391)-FIND(\"|\",StoreConfig!J1391)),\"\")","v":""},{"$f":"IFERROR(VLOOKUP(--IF($B$2=StoreConfig!C1391,LEFT(StoreConfig!J1391,FIND(\"|\",StoreConfig!J1391)-1),\"\"),$Q$4:$R$20,2,FALSE),\"\")","v":""},{"$f":"IF($B$2=StoreConfig!C1391,LEFT(StoreConfig!G1391,FIND(\"#\",StoreConfig!G1391)-1),\"\")","v":""},{"$f":"IF($B$2=StoreConfig!C1391,RIGHT(StoreConfig!G1391,LEN(StoreConfig!G1391)-FIND(\"#\",StoreConfig!G1391)),\"\")","v":""},{"$f":"IF($B$2=StoreConfig!C1391,IF(StoreConfig!L1391=0,\"不限购\",StoreConfig!L1391&\"次\"),\"\")","v":""}]
[{"$nulls":3},{"$f":"IF($B$2=StoreConfig!C1392,StoreConfig!O1392,\"\")","v":""},{"$f":"IF($B$2=StoreConfig!C1392,StoreConfig!E1392,\"\")","v":""},{"$f":"IF($B$2=StoreConfig!C1392,RIGHT(StoreConfig!J1392,LEN(StoreConfig!J1392)-FIND(\"|\",StoreConfig!J1392)),\"\")","v":""},{"$f":"IFERROR(VLOOKUP(--IF($B$2=StoreConfig!C1392,LEFT(StoreConfig!J1392,FIND(\"|\",StoreConfig!J1392)-1),\"\"),$Q$4:$R$20,2,FALSE),\"\")","v":""},{"$f":"IF($B$2=StoreConfig!C1392,LEFT(StoreConfig!G1392,FIND(\"#\",StoreConfig!G1392)-1),\"\")","v":""},{"$f":"IF($B$2=StoreConfig!C1392,RIGHT(StoreConfig!G1392,LEN(StoreConfig!G1392)-FIND(\"#\",StoreConfig!G1392)),\"\")","v":""},{"$f":"IF($B$2=StoreConfig!C1392,IF(StoreConfig!L1392=0,\"不限购\",StoreConfig!L1392&\"次\"),\"\")","v":""}]
[{"$nulls":3},{"$f":"IF($B$2=StoreConfig!C1393,StoreConfig!O1393,\"\")","v":""},{"$f":"IF($B$2=StoreConfig!C1393,StoreConfig!E1393,\"\")","v":""},{"$f":"IF($B$2=StoreConfig!C1393,RIGHT(StoreConfig!J1393,LEN(StoreConfig!J1393)-FIND(\"|\",StoreConfig!J1393)),\"\")","v":""},{"$f":"IFERROR(VLOOKUP(--IF($B$2=StoreConfig!C1393,LEFT(StoreConfig!J1393,FIND(\"|\",StoreConfig!J1393)-1),\"\"),$Q$4:$R$20,2,FALSE),\"\")","v":""},{"$f":"IF($B$2=StoreConfig!C1393,LEFT(StoreConfig!G1393,FIND(\"#\",StoreConfig!G1393)-1),\"\")","v":""},{"$f":"IF($B$2=StoreConfig!C1393,RIGHT(StoreConfig!G1393,LEN(StoreConfig!G1393)-FIND(\"#\",StoreConfig!G1393)),\"\")","v":""},{"$f":"IF($B$2=StoreConfig!C1393,IF(StoreConfig!L1393=0,\"不限购\",StoreConfig!L1393&\"次\"),\"\")","v":""}]
[{"$nulls":3},{"$f":"IF($B$2=StoreConfig!C1394,StoreConfig!O1394,\"\")","v":""},{"$f":"IF($B$2=StoreConfig!C1394,StoreConfig!E1394,\"\")","v":""},{"$f":"IF($B$2=StoreConfig!C1394,RIGHT(StoreConfig!J1394,LEN(StoreConfig!J1394)-FIND(\"|\",StoreConfig!J1394)),\"\")","v":""},{"$f":"IFERROR(VLOOKUP(--IF($B$2=StoreConfig!C1394,LEFT(StoreConfig!J1394,FIND(\"|\",StoreConfig!J1394)-1),\"\"),$Q$4:$R$20,2,FALSE),\"\")","v":""},{"$f":"IF($B$2=StoreConfig!C1394,LEFT(StoreConfig!G1394,FIND(\"#\",StoreConfig!G1394)-1),\"\")","v":""},{"$f":"IF($B$2=StoreConfig!C1394,RIGHT(StoreConfig!G1394,LEN(StoreConfig!G1394)-FIND(\"#\",StoreConfig!G1394)),\"\")","v":""},{"$f":"IF($B$2=StoreConfig!C1394,IF(StoreConfig!L1394=0,\"不限购\",StoreConfig!L1394&\"次\"),\"\")","v":""}]
[{"$nulls":3},{"$f":"IF($B$2=StoreConfig!C1395,StoreConfig!O1395,\"\")","v":""},{"$f":"IF($B$2=StoreConfig!C1395,StoreConfig!E1395,\"\")","v":""},{"$f":"IF($B$2=StoreConfig!C1395,RIGHT(StoreConfig!J1395,LEN(StoreConfig!J1395)-FIND(\"|\",StoreConfig!J1395)),\"\")","v":""},{"$f":"IFERROR(VLOOKUP(--IF($B$2=StoreConfig!C1395,LEFT(StoreConfig!J1395,FIND(\"|\",StoreConfig!J1395)-1),\"\"),$Q$4:$R$20,2,FALSE),\"\")","v":""},{"$f":"IF($B$2=StoreConfig!C1395,LEFT(StoreConfig!G1395,FIND(\"#\",StoreConfig!G1395)-1),\"\")","v":""},{"$f":"IF($B$2=StoreConfig!C1395,RIGHT(StoreConfig!G1395,LEN(StoreConfig!G1395)-FIND(\"#\",StoreConfig!G1395)),\"\")","v":""},{"$f":"IF($B$2=StoreConfig!C1395,IF(StoreConfig!L1395=0,\"不限购\",StoreConfig!L1395&\"次\"),\"\")","v":""}]
[{"$nulls":3},{"$f":"IF($B$2=StoreConfig!C1396,StoreConfig!O1396,\"\")","v":""},{"$f":"IF($B$2=StoreConfig!C1396,StoreConfig!E1396,\"\")","v":""},{"$f":"IF($B$2=StoreConfig!C1396,RIGHT(StoreConfig!J1396,LEN(StoreConfig!J1396)-FIND(\"|\",StoreConfig!J1396)),\"\")","v":""},{"$f":"IFERROR(VLOOKUP(--IF($B$2=StoreConfig!C1396,LEFT(StoreConfig!J1396,FIND(\"|\",StoreConfig!J1396)-1),\"\"),$Q$4:$R$20,2,FALSE),\"\")","v":""},{"$f":"IF($B$2=StoreConfig!C1396,LEFT(StoreConfig!G1396,FIND(\"#\",StoreConfig!G1396)-1),\"\")","v":""},{"$f":"IF($B$2=StoreConfig!C1396,RIGHT(StoreConfig!G1396,LEN(StoreConfig!G1396)-FIND(\"#\",StoreConfig!G1396)),\"\")","v":""},{"$f":"IF($B$2=StoreConfig!C1396,IF(StoreConfig!L1396=0,\"不限购\",StoreConfig!L1396&\"次\"),\"\")","v":""}]
[{"$nulls":3},{"$f":"IF($B$2=StoreConfig!C1397,StoreConfig!O1397,\"\")","v":""},{"$f":"IF($B$2=StoreConfig!C1397,StoreConfig!E1397,\"\")","v":""},{"$f":"IF($B$2=StoreConfig!C1397,RIGHT(StoreConfig!J1397,LEN(StoreConfig!J1397)-FIND(\"|\",StoreConfig!J1397)),\"\")","v":""},{"$f":"IFERROR(VLOOKUP(--IF($B$2=StoreConfig!C1397,LEFT(StoreConfig!J1397,FIND(\"|\",StoreConfig!J1397)-1),\"\"),$Q$4:$R$20,2,FALSE),\"\")","v":""},{"$f":"IF($B$2=StoreConfig!C1397,LEFT(StoreConfig!G1397,FIND(\"#\",StoreConfig!G1397)-1),\"\")","v":""},{"$f":"IF($B$2=StoreConfig!C1397,RIGHT(StoreConfig!G1397,LEN(StoreConfig!G1397)-FIND(\"#\",StoreConfig!G1397)),\"\")","v":""},{"$f":"IF($B$2=StoreConfig!C1397,IF(StoreConfig!L1397=0,\"不限购\",StoreConfig!L1397&\"次\"),\"\")","v":""}]
[{"$nulls":3},{"$f":"IF($B$2=StoreConfig!C1398,StoreConfig!O1398,\"\")","v":""},{"$f":"IF($B$2=StoreConfig!C1398,StoreConfig!E1398,\"\")","v":""},{"$f":"IF($B$2=StoreConfig!C1398,RIGHT(StoreConfig!J1398,LEN(StoreConfig!J1398)-FIND(\"|\",StoreConfig!J1398)),\"\")","v":""},{"$f":"IFERROR(VLOOKUP(--IF($B$2=StoreConfig!C1398,LEFT(StoreConfig!J1398,FIND(\"|\",StoreConfig!J1398)-1),\"\"),$Q$4:$R$20,2,FALSE),\"\")","v":""},{"$f":"IF($B$2=StoreConfig!C1398,LEFT(StoreConfig!G1398,FIND(\"#\",StoreConfig!G1398)-1),\"\")","v":""},{"$f":"IF($B$2=StoreConfig!C1398,RIGHT(StoreConfig!G1398,LEN(StoreConfig!G1398)-FIND(\"#\",StoreConfig!G1398)),\"\")","v":""},{"$f":"IF($B$2=StoreConfig!C1398,IF(StoreConfig!L1398=0,\"不限购\",StoreConfig!L1398&\"次\"),\"\")","v":""}]
[{"$nulls":3},{"$f":"IF($B$2=StoreConfig!C1399,StoreConfig!O1399,\"\")","v":""},{"$f":"IF($B$2=StoreConfig!C1399,StoreConfig!E1399,\"\")","v":""},{"$f":"IF($B$2=StoreConfig!C1399,RIGHT(StoreConfig!J1399,LEN(StoreConfig!J1399)-FIND(\"|\",StoreConfig!J1399)),\"\")","v":""},{"$f":"IFERROR(VLOOKUP(--IF($B$2=StoreConfig!C1399,LEFT(StoreConfig!J1399,FIND(\"|\",StoreConfig!J1399)-1),\"\"),$Q$4:$R$20,2,FALSE),\"\")","v":""},{"$f":"IF($B$2=StoreConfig!C1399,LEFT(StoreConfig!G1399,FIND(\"#\",StoreConfig!G1399)-1),\"\")","v":""},{"$f":"IF($B$2=StoreConfig!C1399,RIGHT(StoreConfig!G1399,LEN(StoreConfig!G1399)-FIND(\"#\",StoreConfig!G1399)),\"\")","v":""},{"$f":"IF($B$2=StoreConfig!C1399,IF(StoreConfig!L1399=0,\"不限购\",StoreConfig!L1399&\"次\"),\"\")","v":""}]
[{"$nulls":3},{"$f":"IF($B$2=StoreConfig!C1400,StoreConfig!O1400,\"\")","v":""},{"$f":"IF($B$2=StoreConfig!C1400,StoreConfig!E1400,\"\")","v":""},{"$f":"IF($B$2=StoreConfig!C1400,RIGHT(StoreConfig!J1400,LEN(StoreConfig!J1400)-FIND(\"|\",StoreConfig!J1400)),\"\")","v":""},{"$f":"IFERROR(VLOOKUP(--IF($B$2=StoreConfig!C1400,LEFT(StoreConfig!J1400,FIND(\"|\",StoreConfig!J1400)-1),\"\"),$Q$4:$R$20,2,FALSE),\"\")","v":""},{"$f":"IF($B$2=StoreConfig!C1400,LEFT(StoreConfig!G1400,FIND(\"#\",StoreConfig!G1400)-1),\"\")","v":""},{"$f":"IF($B$2=StoreConfig!C1400,RIGHT(StoreConfig!G1400,LEN(StoreConfig!G1400)-FIND(\"#\",StoreConfig!G1400)),\"\")","v":""},{"$f":"IF($B$2=StoreConfig!C1400,IF(StoreConfig!L1400=0,\"不限购\",StoreConfig!L1400&\"次\"),\"\")","v":""}]
[{"$nulls":3},{"$f":"IF($B$2=StoreConfig!C1401,StoreConfig!O1401,\"\")","v":""},{"$f":"IF($B$2=StoreConfig!C1401,StoreConfig!E1401,\"\")","v":""},{"$f":"IF($B$2=StoreConfig!C1401,RIGHT(StoreConfig!J1401,LEN(StoreConfig!J1401)-FIND(\"|\",StoreConfig!J1401)),\"\")","v":""},{"$f":"IFERROR(VLOOKUP(--IF($B$2=StoreConfig!C1401,LEFT(StoreConfig!J1401,FIND(\"|\",StoreConfig!J1401)-1),\"\"),$Q$4:$R$20,2,FALSE),\"\")","v":""},{"$f":"IF($B$2=StoreConfig!C1401,LEFT(StoreConfig!G1401,FIND(\"#\",StoreConfig!G1401)-1),\"\")","v":""},{"$f":"IF($B$2=StoreConfig!C1401,RIGHT(StoreConfig!G1401,LEN(StoreConfig!G1401)-FIND(\"#\",StoreConfig!G1401)),\"\")","v":""},{"$f":"IF($B$2=StoreConfig!C1401,IF(StoreConfig!L1401=0,\"不限购\",StoreConfig!L1401&\"次\"),\"\")","v":""}]
[{"$nulls":3},{"$f":"IF($B$2=StoreConfig!C1402,StoreConfig!O1402,\"\")","v":""},{"$f":"IF($B$2=StoreConfig!C1402,StoreConfig!E1402,\"\")","v":""},{"$f":"IF($B$2=StoreConfig!C1402,RIGHT(StoreConfig!J1402,LEN(StoreConfig!J1402)-FIND(\"|\",StoreConfig!J1402)),\"\")","v":""},{"$f":"IFERROR(VLOOKUP(--IF($B$2=StoreConfig!C1402,LEFT(StoreConfig!J1402,FIND(\"|\",StoreConfig!J1402)-1),\"\"),$Q$4:$R$20,2,FALSE),\"\")","v":""},{"$f":"IF($B$2=StoreConfig!C1402,LEFT(StoreConfig!G1402,FIND(\"#\",StoreConfig!G1402)-1),\"\")","v":""},{"$f":"IF($B$2=StoreConfig!C1402,RIGHT(StoreConfig!G1402,LEN(StoreConfig!G1402)-FIND(\"#\",StoreConfig!G1402)),\"\")","v":""},{"$f":"IF($B$2=StoreConfig!C1402,IF(StoreConfig!L1402=0,\"不限购\",StoreConfig!L1402&\"次\"),\"\")","v":""}]
[{"$nulls":3},{"$f":"IF($B$2=StoreConfig!C1403,StoreConfig!O1403,\"\")","v":""},{"$f":"IF($B$2=StoreConfig!C1403,StoreConfig!E1403,\"\")","v":""},{"$f":"IF($B$2=StoreConfig!C1403,RIGHT(StoreConfig!J1403,LEN(StoreConfig!J1403)-FIND(\"|\",StoreConfig!J1403)),\"\")","v":""},{"$f":"IFERROR(VLOOKUP(--IF($B$2=StoreConfig!C1403,LEFT(StoreConfig!J1403,FIND(\"|\",StoreConfig!J1403)-1),\"\"),$Q$4:$R$20,2,FALSE),\"\")","v":""},{"$f":"IF($B$2=StoreConfig!C1403,LEFT(StoreConfig!G1403,FIND(\"#\",StoreConfig!G1403)-1),\"\")","v":""},{"$f":"IF($B$2=StoreConfig!C1403,RIGHT(StoreConfig!G1403,LEN(StoreConfig!G1403)-FIND(\"#\",StoreConfig!G1403)),\"\")","v":""},{"$f":"IF($B$2=StoreConfig!C1403,IF(StoreConfig!L1403=0,\"不限购\",StoreConfig!L1403&\"次\"),\"\")","v":""}]
[{"$nulls":3},{"$f":"IF($B$2=StoreConfig!C1404,StoreConfig!O1404,\"\")","v":""},{"$f":"IF($B$2=StoreConfig!C1404,StoreConfig!E1404,\"\")","v":""},{"$f":"IF($B$2=StoreConfig!C1404,RIGHT(StoreConfig!J1404,LEN(StoreConfig!J1404)-FIND(\"|\",StoreConfig!J1404)),\"\")","v":""},{"$f":"IFERROR(VLOOKUP(--IF($B$2=StoreConfig!C1404,LEFT(StoreConfig!J1404,FIND(\"|\",StoreConfig!J1404)-1),\"\"),$Q$4:$R$20,2,FALSE),\"\")","v":""},{"$f":"IF($B$2=StoreConfig!C1404,LEFT(StoreConfig!G1404,FIND(\"#\",StoreConfig!G1404)-1),\"\")","v":""},{"$f":"IF($B$2=StoreConfig!C1404,RIGHT(StoreConfig!G1404,LEN(StoreConfig!G1404)-FIND(\"#\",StoreConfig!G1404)),\"\")","v":""},{"$f":"IF($B$2=StoreConfig!C1404,IF(StoreConfig!L1404=0,\"不限购\",StoreConfig!L1404&\"次\"),\"\")","v":""}]
[{"$nulls":3},{"$f":"IF($B$2=StoreConfig!C1405,StoreConfig!O1405,\"\")","v":""},{"$f":"IF($B$2=StoreConfig!C1405,StoreConfig!E1405,\"\")","v":""},{"$f":"IF($B$2=StoreConfig!C1405,RIGHT(StoreConfig!J1405,LEN(StoreConfig!J1405)-FIND(\"|\",StoreConfig!J1405)),\"\")","v":""},{"$f":"IFERROR(VLOOKUP(--IF($B$2=StoreConfig!C1405,LEFT(StoreConfig!J1405,FIND(\"|\",StoreConfig!J1405)-1),\"\"),$Q$4:$R$20,2,FALSE),\"\")","v":""},{"$f":"IF($B$2=StoreConfig!C1405,LEFT(StoreConfig!G1405,FIND(\"#\",StoreConfig!G1405)-1),\"\")","v":""},{"$f":"IF($B$2=StoreConfig!C1405,RIGHT(StoreConfig!G1405,LEN(StoreConfig!G1405)-FIND(\"#\",StoreConfig!G1405)),\"\")","v":""},{"$f":"IF($B$2=StoreConfig!C1405,IF(StoreConfig!L1405=0,\"不限购\",StoreConfig!L1405&\"次\"),\"\")","v":""}]
[{"$nulls":3},{"$f":"IF($B$2=StoreConfig!C1406,StoreConfig!O1406,\"\")","v":""},{"$f":"IF($B$2=StoreConfig!C1406,StoreConfig!E1406,\"\")","v":""},{"$f":"IF($B$2=StoreConfig!C1406,RIGHT(StoreConfig!J1406,LEN(StoreConfig!J1406)-FIND(\"|\",StoreConfig!J1406)),\"\")","v":""},{"$f":"IFERROR(VLOOKUP(--IF($B$2=StoreConfig!C1406,LEFT(StoreConfig!J1406,FIND(\"|\",StoreConfig!J1406)-1),\"\"),$Q$4:$R$20,2,FALSE),\"\")","v":""},{"$f":"IF($B$2=StoreConfig!C1406,LEFT(StoreConfig!G1406,FIND(\"#\",StoreConfig!G1406)-1),\"\")","v":""},{"$f":"IF($B$2=StoreConfig!C1406,RIGHT(StoreConfig!G1406,LEN(StoreConfig!G1406)-FIND(\"#\",StoreConfig!G1406)),\"\")","v":""},{"$f":"IF($B$2=StoreConfig!C1406,IF(StoreConfig!L1406=0,\"不限购\",StoreConfig!L1406&\"次\"),\"\")","v":""}]
[{"$nulls":3},{"$f":"IF($B$2=StoreConfig!C1407,StoreConfig!O1407,\"\")","v":""},{"$f":"IF($B$2=StoreConfig!C1407,StoreConfig!E1407,\"\")","v":""},{"$f":"IF($B$2=StoreConfig!C1407,RIGHT(StoreConfig!J1407,LEN(StoreConfig!J1407)-FIND(\"|\",StoreConfig!J1407)),\"\")","v":""},{"$f":"IFERROR(VLOOKUP(--IF($B$2=StoreConfig!C1407,LEFT(StoreConfig!J1407,FIND(\"|\",StoreConfig!J1407)-1),\"\"),$Q$4:$R$20,2,FALSE),\"\")","v":""},{"$f":"IF($B$2=StoreConfig!C1407,LEFT(StoreConfig!G1407,FIND(\"#\",StoreConfig!G1407)-1),\"\")","v":""},{"$f":"IF($B$2=StoreConfig!C1407,RIGHT(StoreConfig!G1407,LEN(StoreConfig!G1407)-FIND(\"#\",StoreConfig!G1407)),\"\")","v":""},{"$f":"IF($B$2=StoreConfig!C1407,IF(StoreConfig!L1407=0,\"不限购\",StoreConfig!L1407&\"次\"),\"\")","v":""}]
[{"$nulls":3},{"$f":"IF($B$2=StoreConfig!C1408,StoreConfig!O1408,\"\")","v":""},{"$f":"IF($B$2=StoreConfig!C1408,StoreConfig!E1408,\"\")","v":""},{"$f":"IF($B$2=StoreConfig!C1408,RIGHT(StoreConfig!J1408,LEN(StoreConfig!J1408)-FIND(\"|\",StoreConfig!J1408)),\"\")","v":""},{"$f":"IFERROR(VLOOKUP(--IF($B$2=StoreConfig!C1408,LEFT(StoreConfig!J1408,FIND(\"|\",StoreConfig!J1408)-1),\"\"),$Q$4:$R$20,2,FALSE),\"\")","v":""},{"$f":"IF($B$2=StoreConfig!C1408,LEFT(StoreConfig!G1408,FIND(\"#\",StoreConfig!G1408)-1),\"\")","v":""},{"$f":"IF($B$2=StoreConfig!C1408,RIGHT(StoreConfig!G1408,LEN(StoreConfig!G1408)-FIND(\"#\",StoreConfig!G1408)),\"\")","v":""},{"$f":"IF($B$2=StoreConfig!C1408,IF(StoreConfig!L1408=0,\"不限购\",StoreConfig!L1408&\"次\"),\"\")","v":""}]
[{"$nulls":3},{"$f":"IF($B$2=StoreConfig!C1409,StoreConfig!O1409,\"\")","v":""},{"$f":"IF($B$2=StoreConfig!C1409,StoreConfig!E1409,\"\")","v":""},{"$f":"IF($B$2=StoreConfig!C1409,RIGHT(StoreConfig!J1409,LEN(StoreConfig!J1409)-FIND(\"|\",StoreConfig!J1409)),\"\")","v":""},{"$f":"IFERROR(VLOOKUP(--IF($B$2=StoreConfig!C1409,LEFT(StoreConfig!J1409,FIND(\"|\",StoreConfig!J1409)-1),\"\"),$Q$4:$R$20,2,FALSE),\"\")","v":""},{"$f":"IF($B$2=StoreConfig!C1409,LEFT(StoreConfig!G1409,FIND(\"#\",StoreConfig!G1409)-1),\"\")","v":""},{"$f":"IF($B$2=StoreConfig!C1409,RIGHT(StoreConfig!G1409,LEN(StoreConfig!G1409)-FIND(\"#\",StoreConfig!G1409)),\"\")","v":""},{"$f":"IF($B$2=StoreConfig!C1409,IF(StoreConfig!L1409=0,\"不限购\",StoreConfig!L1409&\"次\"),\"\")","v":""}]
[{"$nulls":3},{"$f":"IF($B$2=StoreConfig!C1410,StoreConfig!O1410,\"\")","v":""},{"$f":"IF($B$2=StoreConfig!C1410,StoreConfig!E1410,\"\")","v":""},{"$f":"IF($B$2=StoreConfig!C1410,RIGHT(StoreConfig!J1410,LEN(StoreConfig!J1410)-FIND(\"|\",StoreConfig!J1410)),\"\")","v":""},{"$f":"IFERROR(VLOOKUP(--IF($B$2=StoreConfig!C1410,LEFT(StoreConfig!J1410,FIND(\"|\",StoreConfig!J1410)-1),\"\"),$Q$4:$R$20,2,FALSE),\"\")","v":""},{"$f":"IF($B$2=StoreConfig!C1410,LEFT(StoreConfig!G1410,FIND(\"#\",StoreConfig!G1410)-1),\"\")","v":""},{"$f":"IF($B$2=StoreConfig!C1410,RIGHT(StoreConfig!G1410,LEN(StoreConfig!G1410)-FIND(\"#\",StoreConfig!G1410)),\"\")","v":""},{"$f":"IF($B$2=StoreConfig!C1410,IF(StoreConfig!L1410=0,\"不限购\",StoreConfig!L1410&\"次\"),\"\")","v":""}]
[{"$nulls":3},{"$f":"IF($B$2=StoreConfig!C1411,StoreConfig!O1411,\"\")","v":""},{"$f":"IF($B$2=StoreConfig!C1411,StoreConfig!E1411,\"\")","v":""},{"$f":"IF($B$2=StoreConfig!C1411,RIGHT(StoreConfig!J1411,LEN(StoreConfig!J1411)-FIND(\"|\",StoreConfig!J1411)),\"\")","v":""},{"$f":"IFERROR(VLOOKUP(--IF($B$2=StoreConfig!C1411,LEFT(StoreConfig!J1411,FIND(\"|\",StoreConfig!J1411)-1),\"\"),$Q$4:$R$20,2,FALSE),\"\")","v":""},{"$f":"IF($B$2=StoreConfig!C1411,LEFT(StoreConfig!G1411,FIND(\"#\",StoreConfig!G1411)-1),\"\")","v":""},{"$f":"IF($B$2=StoreConfig!C1411,RIGHT(StoreConfig!G1411,LEN(StoreConfig!G1411)-FIND(\"#\",StoreConfig!G1411)),\"\")","v":""},{"$f":"IF($B$2=StoreConfig!C1411,IF(StoreConfig!L1411=0,\"不限购\",StoreConfig!L1411&\"次\"),\"\")","v":""}]
[{"$nulls":3},{"$f":"IF($B$2=StoreConfig!C1412,StoreConfig!O1412,\"\")","v":""},{"$f":"IF($B$2=StoreConfig!C1412,StoreConfig!E1412,\"\")","v":""},{"$f":"IF($B$2=StoreConfig!C1412,RIGHT(StoreConfig!J1412,LEN(StoreConfig!J1412)-FIND(\"|\",StoreConfig!J1412)),\"\")","v":""},{"$f":"IFERROR(VLOOKUP(--IF($B$2=StoreConfig!C1412,LEFT(StoreConfig!J1412,FIND(\"|\",StoreConfig!J1412)-1),\"\"),$Q$4:$R$20,2,FALSE),\"\")","v":""},{"$f":"IF($B$2=StoreConfig!C1412,LEFT(StoreConfig!G1412,FIND(\"#\",StoreConfig!G1412)-1),\"\")","v":""},{"$f":"IF($B$2=StoreConfig!C1412,RIGHT(StoreConfig!G1412,LEN(StoreConfig!G1412)-FIND(\"#\",StoreConfig!G1412)),\"\")","v":""},{"$f":"IF($B$2=StoreConfig!C1412,IF(StoreConfig!L1412=0,\"不限购\",StoreConfig!L1412&\"次\"),\"\")","v":""}]
[{"$nulls":3},{"$f":"IF($B$2=StoreConfig!C1413,StoreConfig!O1413,\"\")","v":""},{"$f":"IF($B$2=StoreConfig!C1413,StoreConfig!E1413,\"\")","v":""},{"$f":"IF($B$2=StoreConfig!C1413,RIGHT(StoreConfig!J1413,LEN(StoreConfig!J1413)-FIND(\"|\",StoreConfig!J1413)),\"\")","v":""},{"$f":"IFERROR(VLOOKUP(--IF($B$2=StoreConfig!C1413,LEFT(StoreConfig!J1413,FIND(\"|\",StoreConfig!J1413)-1),\"\"),$Q$4:$R$20,2,FALSE),\"\")","v":""},{"$f":"IF($B$2=StoreConfig!C1413,LEFT(StoreConfig!G1413,FIND(\"#\",StoreConfig!G1413)-1),\"\")","v":""},{"$f":"IF($B$2=StoreConfig!C1413,RIGHT(StoreConfig!G1413,LEN(StoreConfig!G1413)-FIND(\"#\",StoreConfig!G1413)),\"\")","v":""},{"$f":"IF($B$2=StoreConfig!C1413,IF(StoreConfig!L1413=0,\"不限购\",StoreConfig!L1413&\"次\"),\"\")","v":""}]
[{"$nulls":3},{"$f":"IF($B$2=StoreConfig!C1414,StoreConfig!O1414,\"\")","v":""},{"$f":"IF($B$2=StoreConfig!C1414,StoreConfig!E1414,\"\")","v":""},{"$f":"IF($B$2=StoreConfig!C1414,RIGHT(StoreConfig!J1414,LEN(StoreConfig!J1414)-FIND(\"|\",StoreConfig!J1414)),\"\")","v":""},{"$f":"IFERROR(VLOOKUP(--IF($B$2=StoreConfig!C1414,LEFT(StoreConfig!J1414,FIND(\"|\",StoreConfig!J1414)-1),\"\"),$Q$4:$R$20,2,FALSE),\"\")","v":""},{"$f":"IF($B$2=StoreConfig!C1414,LEFT(StoreConfig!G1414,FIND(\"#\",StoreConfig!G1414)-1),\"\")","v":""},{"$f":"IF($B$2=StoreConfig!C1414,RIGHT(StoreConfig!G1414,LEN(StoreConfig!G1414)-FIND(\"#\",StoreConfig!G1414)),\"\")","v":""},{"$f":"IF($B$2=StoreConfig!C1414,IF(StoreConfig!L1414=0,\"不限购\",StoreConfig!L1414&\"次\"),\"\")","v":""}]
[{"$nulls":3},{"$f":"IF($B$2=StoreConfig!C1415,StoreConfig!O1415,\"\")","v":""},{"$f":"IF($B$2=StoreConfig!C1415,StoreConfig!E1415,\"\")","v":""},{"$f":"IF($B$2=StoreConfig!C1415,RIGHT(StoreConfig!J1415,LEN(StoreConfig!J1415)-FIND(\"|\",StoreConfig!J1415)),\"\")","v":""},{"$f":"IFERROR(VLOOKUP(--IF($B$2=StoreConfig!C1415,LEFT(StoreConfig!J1415,FIND(\"|\",StoreConfig!J1415)-1),\"\"),$Q$4:$R$20,2,FALSE),\"\")","v":""},{"$f":"IF($B$2=StoreConfig!C1415,LEFT(StoreConfig!G1415,FIND(\"#\",StoreConfig!G1415)-1),\"\")","v":""},{"$f":"IF($B$2=StoreConfig!C1415,RIGHT(StoreConfig!G1415,LEN(StoreConfig!G1415)-FIND(\"#\",StoreConfig!G1415)),\"\")","v":""},{"$f":"IF($B$2=StoreConfig!C1415,IF(StoreConfig!L1415=0,\"不限购\",StoreConfig!L1415&\"次\"),\"\")","v":""}]
[{"$nulls":3},{"$f":"IF($B$2=StoreConfig!C1416,StoreConfig!O1416,\"\")","v":""},{"$f":"IF($B$2=StoreConfig!C1416,StoreConfig!E1416,\"\")","v":""},{"$f":"IF($B$2=StoreConfig!C1416,RIGHT(StoreConfig!J1416,LEN(StoreConfig!J1416)-FIND(\"|\",StoreConfig!J1416)),\"\")","v":""},{"$f":"IFERROR(VLOOKUP(--IF($B$2=StoreConfig!C1416,LEFT(StoreConfig!J1416,FIND(\"|\",StoreConfig!J1416)-1),\"\"),$Q$4:$R$20,2,FALSE),\"\")","v":""},{"$f":"IF($B$2=StoreConfig!C1416,LEFT(StoreConfig!G1416,FIND(\"#\",StoreConfig!G1416)-1),\"\")","v":""},{"$f":"IF($B$2=StoreConfig!C1416,RIGHT(StoreConfig!G1416,LEN(StoreConfig!G1416)-FIND(\"#\",StoreConfig!G1416)),\"\")","v":""},{"$f":"IF($B$2=StoreConfig!C1416,IF(StoreConfig!L1416=0,\"不限购\",StoreConfig!L1416&\"次\"),\"\")","v":""}]
[{"$nulls":3},{"$f":"IF($B$2=StoreConfig!C1417,StoreConfig!O1417,\"\")","v":""},{"$f":"IF($B$2=StoreConfig!C1417,StoreConfig!E1417,\"\")","v":""},{"$f":"IF($B$2=StoreConfig!C1417,RIGHT(StoreConfig!J1417,LEN(StoreConfig!J1417)-FIND(\"|\",StoreConfig!J1417)),\"\")","v":""},{"$f":"IFERROR(VLOOKUP(--IF($B$2=StoreConfig!C1417,LEFT(StoreConfig!J1417,FIND(\"|\",StoreConfig!J1417)-1),\"\"),$Q$4:$R$20,2,FALSE),\"\")","v":""},{"$f":"IF($B$2=StoreConfig!C1417,LEFT(StoreConfig!G1417,FIND(\"#\",StoreConfig!G1417)-1),\"\")","v":""},{"$f":"IF($B$2=StoreConfig!C1417,RIGHT(StoreConfig!G1417,LEN(StoreConfig!G1417)-FIND(\"#\",StoreConfig!G1417)),\"\")","v":""},{"$f":"IF($B$2=StoreConfig!C1417,IF(StoreConfig!L1417=0,\"不限购\",StoreConfig!L1417&\"次\"),\"\")","v":""}]
[{"$nulls":3},{"$f":"IF($B$2=StoreConfig!C1418,StoreConfig!O1418,\"\")","v":""},{"$f":"IF($B$2=StoreConfig!C1418,StoreConfig!E1418,\"\")","v":""},{"$f":"IF($B$2=StoreConfig!C1418,RIGHT(StoreConfig!J1418,LEN(StoreConfig!J1418)-FIND(\"|\",StoreConfig!J1418)),\"\")","v":""},{"$f":"IFERROR(VLOOKUP(--IF($B$2=StoreConfig!C1418,LEFT(StoreConfig!J1418,FIND(\"|\",StoreConfig!J1418)-1),\"\"),$Q$4:$R$20,2,FALSE),\"\")","v":""},{"$f":"IF($B$2=StoreConfig!C1418,LEFT(StoreConfig!G1418,FIND(\"#\",StoreConfig!G1418)-1),\"\")","v":""},{"$f":"IF($B$2=StoreConfig!C1418,RIGHT(StoreConfig!G1418,LEN(StoreConfig!G1418)-FIND(\"#\",StoreConfig!G1418)),\"\")","v":""},{"$f":"IF($B$2=StoreConfig!C1418,IF(StoreConfig!L1418=0,\"不限购\",StoreConfig!L1418&\"次\"),\"\")","v":""}]
[{"$nulls":3},{"$f":"IF($B$2=StoreConfig!C1419,StoreConfig!O1419,\"\")","v":""},{"$f":"IF($B$2=StoreConfig!C1419,StoreConfig!E1419,\"\")","v":""},{"$f":"IF($B$2=StoreConfig!C1419,RIGHT(StoreConfig!J1419,LEN(StoreConfig!J1419)-FIND(\"|\",StoreConfig!J1419)),\"\")","v":""},{"$f":"IFERROR(VLOOKUP(--IF($B$2=StoreConfig!C1419,LEFT(StoreConfig!J1419,FIND(\"|\",StoreConfig!J1419)-1),\"\"),$Q$4:$R$20,2,FALSE),\"\")","v":""},{"$f":"IF($B$2=StoreConfig!C1419,LEFT(StoreConfig!G1419,FIND(\"#\",StoreConfig!G1419)-1),\"\")","v":""},{"$f":"IF($B$2=StoreConfig!C1419,RIGHT(StoreConfig!G1419,LEN(StoreConfig!G1419)-FIND(\"#\",StoreConfig!G1419)),\"\")","v":""},{"$f":"IF($B$2=StoreConfig!C1419,IF(StoreConfig!L1419=0,\"不限购\",StoreConfig!L1419&\"次\"),\"\")","v":""}]
[{"$nulls":3},{"$f":"IF($B$2=StoreConfig!C1420,StoreConfig!O1420,\"\")","v":""},{"$f":"IF($B$2=StoreConfig!C1420,StoreConfig!E1420,\"\")","v":""},{"$f":"IF($B$2=StoreConfig!C1420,RIGHT(StoreConfig!J1420,LEN(StoreConfig!J1420)-FIND(\"|\",StoreConfig!J1420)),\"\")","v":""},{"$f":"IFERROR(VLOOKUP(--IF($B$2=StoreConfig!C1420,LEFT(StoreConfig!J1420,FIND(\"|\",StoreConfig!J1420)-1),\"\"),$Q$4:$R$20,2,FALSE),\"\")","v":""},{"$f":"IF($B$2=StoreConfig!C1420,LEFT(StoreConfig!G1420,FIND(\"#\",StoreConfig!G1420)-1),\"\")","v":""},{"$f":"IF($B$2=StoreConfig!C1420,RIGHT(StoreConfig!G1420,LEN(StoreConfig!G1420)-FIND(\"#\",StoreConfig!G1420)),\"\")","v":""},{"$f":"IF($B$2=StoreConfig!C1420,IF(StoreConfig!L1420=0,\"不限购\",StoreConfig!L1420&\"次\"),\"\")","v":""}]
[{"$nulls":3},{"$f":"IF($B$2=StoreConfig!C1421,StoreConfig!O1421,\"\")","v":""},{"$f":"IF($B$2=StoreConfig!C1421,StoreConfig!E1421,\"\")","v":""},{"$f":"IF($B$2=StoreConfig!C1421,RIGHT(StoreConfig!J1421,LEN(StoreConfig!J1421)-FIND(\"|\",StoreConfig!J1421)),\"\")","v":""},{"$f":"IFERROR(VLOOKUP(--IF($B$2=StoreConfig!C1421,LEFT(StoreConfig!J1421,FIND(\"|\",StoreConfig!J1421)-1),\"\"),$Q$4:$R$20,2,FALSE),\"\")","v":""},{"$f":"IF($B$2=StoreConfig!C1421,LEFT(StoreConfig!G1421,FIND(\"#\",StoreConfig!G1421)-1),\"\")","v":""},{"$f":"IF($B$2=StoreConfig!C1421,RIGHT(StoreConfig!G1421,LEN(StoreConfig!G1421)-FIND(\"#\",StoreConfig!G1421)),\"\")","v":""},{"$f":"IF($B$2=StoreConfig!C1421,IF(StoreConfig!L1421=0,\"不限购\",StoreConfig!L1421&\"次\"),\"\")","v":""}]
[{"$nulls":3},{"$f":"IF($B$2=StoreConfig!C1422,StoreConfig!O1422,\"\")","v":""},{"$f":"IF($B$2=StoreConfig!C1422,StoreConfig!E1422,\"\")","v":""},{"$f":"IF($B$2=StoreConfig!C1422,RIGHT(StoreConfig!J1422,LEN(StoreConfig!J1422)-FIND(\"|\",StoreConfig!J1422)),\"\")","v":""},{"$f":"IFERROR(VLOOKUP(--IF($B$2=StoreConfig!C1422,LEFT(StoreConfig!J1422,FIND(\"|\",StoreConfig!J1422)-1),\"\"),$Q$4:$R$20,2,FALSE),\"\")","v":""},{"$f":"IF($B$2=StoreConfig!C1422,LEFT(StoreConfig!G1422,FIND(\"#\",StoreConfig!G1422)-1),\"\")","v":""},{"$f":"IF($B$2=StoreConfig!C1422,RIGHT(StoreConfig!G1422,LEN(StoreConfig!G1422)-FIND(\"#\",StoreConfig!G1422)),\"\")","v":""},{"$f":"IF($B$2=StoreConfig!C1422,IF(StoreConfig!L1422=0,\"不限购\",StoreConfig!L1422&\"次\"),\"\")","v":""}]
[{"$nulls":3},{"$f":"IF($B$2=StoreConfig!C1423,StoreConfig!O1423,\"\")","v":""},{"$f":"IF($B$2=StoreConfig!C1423,StoreConfig!E1423,\"\")","v":""},{"$f":"IF($B$2=StoreConfig!C1423,RIGHT(StoreConfig!J1423,LEN(StoreConfig!J1423)-FIND(\"|\",StoreConfig!J1423)),\"\")","v":""},{"$f":"IFERROR(VLOOKUP(--IF($B$2=StoreConfig!C1423,LEFT(StoreConfig!J1423,FIND(\"|\",StoreConfig!J1423)-1),\"\"),$Q$4:$R$20,2,FALSE),\"\")","v":""},{"$f":"IF($B$2=StoreConfig!C1423,LEFT(StoreConfig!G1423,FIND(\"#\",StoreConfig!G1423)-1),\"\")","v":""},{"$f":"IF($B$2=StoreConfig!C1423,RIGHT(StoreConfig!G1423,LEN(StoreConfig!G1423)-FIND(\"#\",StoreConfig!G1423)),\"\")","v":""},{"$f":"IF($B$2=StoreConfig!C1423,IF(StoreConfig!L1423=0,\"不限购\",StoreConfig!L1423&\"次\"),\"\")","v":""}]
[{"$nulls":3},{"$f":"IF($B$2=StoreConfig!C1424,StoreConfig!O1424,\"\")","v":""},{"$f":"IF($B$2=StoreConfig!C1424,StoreConfig!E1424,\"\")","v":""},{"$f":"IF($B$2=StoreConfig!C1424,RIGHT(StoreConfig!J1424,LEN(StoreConfig!J1424)-FIND(\"|\",StoreConfig!J1424)),\"\")","v":""},{"$f":"IFERROR(VLOOKUP(--IF($B$2=StoreConfig!C1424,LEFT(StoreConfig!J1424,FIND(\"|\",StoreConfig!J1424)-1),\"\"),$Q$4:$R$20,2,FALSE),\"\")","v":""},{"$f":"IF($B$2=StoreConfig!C1424,LEFT(StoreConfig!G1424,FIND(\"#\",StoreConfig!G1424)-1),\"\")","v":""},{"$f":"IF($B$2=StoreConfig!C1424,RIGHT(StoreConfig!G1424,LEN(StoreConfig!G1424)-FIND(\"#\",StoreConfig!G1424)),\"\")","v":""},{"$f":"IF($B$2=StoreConfig!C1424,IF(StoreConfig!L1424=0,\"不限购\",StoreConfig!L1424&\"次\"),\"\")","v":""}]
[{"$nulls":3},{"$f":"IF($B$2=StoreConfig!C1425,StoreConfig!O1425,\"\")","v":""},{"$f":"IF($B$2=StoreConfig!C1425,StoreConfig!E1425,\"\")","v":""},{"$f":"IF($B$2=StoreConfig!C1425,RIGHT(StoreConfig!J1425,LEN(StoreConfig!J1425)-FIND(\"|\",StoreConfig!J1425)),\"\")","v":""},{"$f":"IFERROR(VLOOKUP(--IF($B$2=StoreConfig!C1425,LEFT(StoreConfig!J1425,FIND(\"|\",StoreConfig!J1425)-1),\"\"),$Q$4:$R$20,2,FALSE),\"\")","v":""},{"$f":"IF($B$2=StoreConfig!C1425,LEFT(StoreConfig!G1425,FIND(\"#\",StoreConfig!G1425)-1),\"\")","v":""},{"$f":"IF($B$2=StoreConfig!C1425,RIGHT(StoreConfig!G1425,LEN(StoreConfig!G1425)-FIND(\"#\",StoreConfig!G1425)),\"\")","v":""},{"$f":"IF($B$2=StoreConfig!C1425,IF(StoreConfig!L1425=0,\"不限购\",StoreConfig!L1425&\"次\"),\"\")","v":""}]
[{"$nulls":3},{"$f":"IF($B$2=StoreConfig!C1426,StoreConfig!O1426,\"\")","v":""},{"$f":"IF($B$2=StoreConfig!C1426,StoreConfig!E1426,\"\")","v":""},{"$f":"IF($B$2=StoreConfig!C1426,RIGHT(StoreConfig!J1426,LEN(StoreConfig!J1426)-FIND(\"|\",StoreConfig!J1426)),\"\")","v":""},{"$f":"IFERROR(VLOOKUP(--IF($B$2=StoreConfig!C1426,LEFT(StoreConfig!J1426,FIND(\"|\",StoreConfig!J1426)-1),\"\"),$Q$4:$R$20,2,FALSE),\"\")","v":""},{"$f":"IF($B$2=StoreConfig!C1426,LEFT(StoreConfig!G1426,FIND(\"#\",StoreConfig!G1426)-1),\"\")","v":""},{"$f":"IF($B$2=StoreConfig!C1426,RIGHT(StoreConfig!G1426,LEN(StoreConfig!G1426)-FIND(\"#\",StoreConfig!G1426)),\"\")","v":""},{"$f":"IF($B$2=StoreConfig!C1426,IF(StoreConfig!L1426=0,\"不限购\",StoreConfig!L1426&\"次\"),\"\")","v":""}]
[{"$nulls":3},{"$f":"IF($B$2=StoreConfig!C1427,StoreConfig!O1427,\"\")","v":""},{"$f":"IF($B$2=StoreConfig!C1427,StoreConfig!E1427,\"\")","v":""},{"$f":"IF($B$2=StoreConfig!C1427,RIGHT(StoreConfig!J1427,LEN(StoreConfig!J1427)-FIND(\"|\",StoreConfig!J1427)),\"\")","v":""},{"$f":"IFERROR(VLOOKUP(--IF($B$2=StoreConfig!C1427,LEFT(StoreConfig!J1427,FIND(\"|\",StoreConfig!J1427)-1),\"\"),$Q$4:$R$20,2,FALSE),\"\")","v":""},{"$f":"IF($B$2=StoreConfig!C1427,LEFT(StoreConfig!G1427,FIND(\"#\",StoreConfig!G1427)-1),\"\")","v":""},{"$f":"IF($B$2=StoreConfig!C1427,RIGHT(StoreConfig!G1427,LEN(StoreConfig!G1427)-FIND(\"#\",StoreConfig!G1427)),\"\")","v":""},{"$f":"IF($B$2=StoreConfig!C1427,IF(StoreConfig!L1427=0,\"不限购\",StoreConfig!L1427&\"次\"),\"\")","v":""}]
[{"$nulls":3},{"$f":"IF($B$2=StoreConfig!C1428,StoreConfig!O1428,\"\")","v":""},{"$f":"IF($B$2=StoreConfig!C1428,StoreConfig!E1428,\"\")","v":""},{"$f":"IF($B$2=StoreConfig!C1428,RIGHT(StoreConfig!J1428,LEN(StoreConfig!J1428)-FIND(\"|\",StoreConfig!J1428)),\"\")","v":""},{"$f":"IFERROR(VLOOKUP(--IF($B$2=StoreConfig!C1428,LEFT(StoreConfig!J1428,FIND(\"|\",StoreConfig!J1428)-1),\"\"),$Q$4:$R$20,2,FALSE),\"\")","v":""},{"$f":"IF($B$2=StoreConfig!C1428,LEFT(StoreConfig!G1428,FIND(\"#\",StoreConfig!G1428)-1),\"\")","v":""},{"$f":"IF($B$2=StoreConfig!C1428,RIGHT(StoreConfig!G1428,LEN(StoreConfig!G1428)-FIND(\"#\",StoreConfig!G1428)),\"\")","v":""},{"$f":"IF($B$2=StoreConfig!C1428,IF(StoreConfig!L1428=0,\"不限购\",StoreConfig!L1428&\"次\"),\"\")","v":""}]
[{"$nulls":3},{"$f":"IF($B$2=StoreConfig!C1429,StoreConfig!O1429,\"\")","v":""},{"$f":"IF($B$2=StoreConfig!C1429,StoreConfig!E1429,\"\")","v":""},{"$f":"IF($B$2=StoreConfig!C1429,RIGHT(StoreConfig!J1429,LEN(StoreConfig!J1429)-FIND(\"|\",StoreConfig!J1429)),\"\")","v":""},{"$f":"IFERROR(VLOOKUP(--IF($B$2=StoreConfig!C1429,LEFT(StoreConfig!J1429,FIND(\"|\",StoreConfig!J1429)-1),\"\"),$Q$4:$R$20,2,FALSE),\"\")","v":""},{"$f":"IF($B$2=StoreConfig!C1429,LEFT(StoreConfig!G1429,FIND(\"#\",StoreConfig!G1429)-1),\"\")","v":""},{"$f":"IF($B$2=StoreConfig!C1429,RIGHT(StoreConfig!G1429,LEN(StoreConfig!G1429)-FIND(\"#\",StoreConfig!G1429)),\"\")","v":""},{"$f":"IF($B$2=StoreConfig!C1429,IF(StoreConfig!L1429=0,\"不限购\",StoreConfig!L1429&\"次\"),\"\")","v":""}]
[{"$nulls":3},{"$f":"IF($B$2=StoreConfig!C1430,StoreConfig!O1430,\"\")","v":""},{"$f":"IF($B$2=StoreConfig!C1430,StoreConfig!E1430,\"\")","v":""},{"$f":"IF($B$2=StoreConfig!C1430,RIGHT(StoreConfig!J1430,LEN(StoreConfig!J1430)-FIND(\"|\",StoreConfig!J1430)),\"\")","v":""},{"$f":"IFERROR(VLOOKUP(--IF($B$2=StoreConfig!C1430,LEFT(StoreConfig!J1430,FIND(\"|\",StoreConfig!J1430)-1),\"\"),$Q$4:$R$20,2,FALSE),\"\")","v":""},{"$f":"IF($B$2=StoreConfig!C1430,LEFT(StoreConfig!G1430,FIND(\"#\",StoreConfig!G1430)-1),\"\")","v":""},{"$f":"IF($B$2=StoreConfig!C1430,RIGHT(StoreConfig!G1430,LEN(StoreConfig!G1430)-FIND(\"#\",StoreConfig!G1430)),\"\")","v":""},{"$f":"IF($B$2=StoreConfig!C1430,IF(StoreConfig!L1430=0,\"不限购\",StoreConfig!L1430&\"次\"),\"\")","v":""}]
[{"$nulls":3},{"$f":"IF($B$2=StoreConfig!C1431,StoreConfig!O1431,\"\")","v":""},{"$f":"IF($B$2=StoreConfig!C1431,StoreConfig!E1431,\"\")","v":""},{"$f":"IF($B$2=StoreConfig!C1431,RIGHT(StoreConfig!J1431,LEN(StoreConfig!J1431)-FIND(\"|\",StoreConfig!J1431)),\"\")","v":""},{"$f":"IFERROR(VLOOKUP(--IF($B$2=StoreConfig!C1431,LEFT(StoreConfig!J1431,FIND(\"|\",StoreConfig!J1431)-1),\"\"),$Q$4:$R$20,2,FALSE),\"\")","v":""},{"$f":"IF($B$2=StoreConfig!C1431,LEFT(StoreConfig!G1431,FIND(\"#\",StoreConfig!G1431)-1),\"\")","v":""},{"$f":"IF($B$2=StoreConfig!C1431,RIGHT(StoreConfig!G1431,LEN(StoreConfig!G1431)-FIND(\"#\",StoreConfig!G1431)),\"\")","v":""},{"$f":"IF($B$2=StoreConfig!C1431,IF(StoreConfig!L1431=0,\"不限购\",StoreConfig!L1431&\"次\"),\"\")","v":""}]
[{"$nulls":3},{"$f":"IF($B$2=StoreConfig!C1432,StoreConfig!O1432,\"\")","v":""},{"$f":"IF($B$2=StoreConfig!C1432,StoreConfig!E1432,\"\")","v":""},{"$f":"IF($B$2=StoreConfig!C1432,RIGHT(StoreConfig!J1432,LEN(StoreConfig!J1432)-FIND(\"|\",StoreConfig!J1432)),\"\")","v":""},{"$f":"IFERROR(VLOOKUP(--IF($B$2=StoreConfig!C1432,LEFT(StoreConfig!J1432,FIND(\"|\",StoreConfig!J1432)-1),\"\"),$Q$4:$R$20,2,FALSE),\"\")","v":""},{"$f":"IF($B$2=StoreConfig!C1432,LEFT(StoreConfig!G1432,FIND(\"#\",StoreConfig!G1432)-1),\"\")","v":""},{"$f":"IF($B$2=StoreConfig!C1432,RIGHT(StoreConfig!G1432,LEN(StoreConfig!G1432)-FIND(\"#\",StoreConfig!G1432)),\"\")","v":""},{"$f":"IF($B$2=StoreConfig!C1432,IF(StoreConfig!L1432=0,\"不限购\",StoreConfig!L1432&\"次\"),\"\")","v":""}]
[{"$nulls":3},{"$f":"IF($B$2=StoreConfig!C1433,StoreConfig!O1433,\"\")","v":""},{"$f":"IF($B$2=StoreConfig!C1433,StoreConfig!E1433,\"\")","v":""},{"$f":"IF($B$2=StoreConfig!C1433,RIGHT(StoreConfig!J1433,LEN(StoreConfig!J1433)-FIND(\"|\",StoreConfig!J1433)),\"\")","v":""},{"$f":"IFERROR(VLOOKUP(--IF($B$2=StoreConfig!C1433,LEFT(StoreConfig!J1433,FIND(\"|\",StoreConfig!J1433)-1),\"\"),$Q$4:$R$20,2,FALSE),\"\")","v":""},{"$f":"IF($B$2=StoreConfig!C1433,LEFT(StoreConfig!G1433,FIND(\"#\",StoreConfig!G1433)-1),\"\")","v":""},{"$f":"IF($B$2=StoreConfig!C1433,RIGHT(StoreConfig!G1433,LEN(StoreConfig!G1433)-FIND(\"#\",StoreConfig!G1433)),\"\")","v":""},{"$f":"IF($B$2=StoreConfig!C1433,IF(StoreConfig!L1433=0,\"不限购\",StoreConfig!L1433&\"次\"),\"\")","v":""}]
[{"$nulls":3},{"$f":"IF($B$2=StoreConfig!C1434,StoreConfig!O1434,\"\")","v":""},{"$f":"IF($B$2=StoreConfig!C1434,StoreConfig!E1434,\"\")","v":""},{"$f":"IF($B$2=StoreConfig!C1434,RIGHT(StoreConfig!J1434,LEN(StoreConfig!J1434)-FIND(\"|\",StoreConfig!J1434)),\"\")","v":""},{"$f":"IFERROR(VLOOKUP(--IF($B$2=StoreConfig!C1434,LEFT(StoreConfig!J1434,FIND(\"|\",StoreConfig!J1434)-1),\"\"),$Q$4:$R$20,2,FALSE),\"\")","v":""},{"$f":"IF($B$2=StoreConfig!C1434,LEFT(StoreConfig!G1434,FIND(\"#\",StoreConfig!G1434)-1),\"\")","v":""},{"$f":"IF($B$2=StoreConfig!C1434,RIGHT(StoreConfig!G1434,LEN(StoreConfig!G1434)-FIND(\"#\",StoreConfig!G1434)),\"\")","v":""},{"$f":"IF($B$2=StoreConfig!C1434,IF(StoreConfig!L1434=0,\"不限购\",StoreConfig!L1434&\"次\"),\"\")","v":""}]
[{"$nulls":3},{"$f":"IF($B$2=StoreConfig!C1435,StoreConfig!O1435,\"\")","v":""},{"$f":"IF($B$2=StoreConfig!C1435,StoreConfig!E1435,\"\")","v":""},{"$f":"IF($B$2=StoreConfig!C1435,RIGHT(StoreConfig!J1435,LEN(StoreConfig!J1435)-FIND(\"|\",StoreConfig!J1435)),\"\")","v":""},{"$f":"IFERROR(VLOOKUP(--IF($B$2=StoreConfig!C1435,LEFT(StoreConfig!J1435,FIND(\"|\",StoreConfig!J1435)-1),\"\"),$Q$4:$R$20,2,FALSE),\"\")","v":""},{"$f":"IF($B$2=StoreConfig!C1435,LEFT(StoreConfig!G1435,FIND(\"#\",StoreConfig!G1435)-1),\"\")","v":""},{"$f":"IF($B$2=StoreConfig!C1435,RIGHT(StoreConfig!G1435,LEN(StoreConfig!G1435)-FIND(\"#\",StoreConfig!G1435)),\"\")","v":""},{"$f":"IF($B$2=StoreConfig!C1435,IF(StoreConfig!L1435=0,\"不限购\",StoreConfig!L1435&\"次\"),\"\")","v":""}]
[{"$nulls":3},{"$f":"IF($B$2=StoreConfig!C1436,StoreConfig!O1436,\"\")","v":""},{"$f":"IF($B$2=StoreConfig!C1436,StoreConfig!E1436,\"\")","v":""},{"$f":"IF($B$2=StoreConfig!C1436,RIGHT(StoreConfig!J1436,LEN(StoreConfig!J1436)-FIND(\"|\",StoreConfig!J1436)),\"\")","v":""},{"$f":"IFERROR(VLOOKUP(--IF($B$2=StoreConfig!C1436,LEFT(StoreConfig!J1436,FIND(\"|\",StoreConfig!J1436)-1),\"\"),$Q$4:$R$20,2,FALSE),\"\")","v":""},{"$f":"IF($B$2=StoreConfig!C1436,LEFT(StoreConfig!G1436,FIND(\"#\",StoreConfig!G1436)-1),\"\")","v":""},{"$f":"IF($B$2=StoreConfig!C1436,RIGHT(StoreConfig!G1436,LEN(StoreConfig!G1436)-FIND(\"#\",StoreConfig!G1436)),\"\")","v":""},{"$f":"IF($B$2=StoreConfig!C1436,IF(StoreConfig!L1436=0,\"不限购\",StoreConfig!L1436&\"次\"),\"\")","v":""}]
[{"$nulls":3},{"$f":"IF($B$2=StoreConfig!C1437,StoreConfig!O1437,\"\")","v":""},{"$f":"IF($B$2=StoreConfig!C1437,StoreConfig!E1437,\"\")","v":""},{"$f":"IF($B$2=StoreConfig!C1437,RIGHT(StoreConfig!J1437,LEN(StoreConfig!J1437)-FIND(\"|\",StoreConfig!J1437)),\"\")","v":""},{"$f":"IFERROR(VLOOKUP(--IF($B$2=StoreConfig!C1437,LEFT(StoreConfig!J1437,FIND(\"|\",StoreConfig!J1437)-1),\"\"),$Q$4:$R$20,2,FALSE),\"\")","v":""},{"$f":"IF($B$2=StoreConfig!C1437,LEFT(StoreConfig!G1437,FIND(\"#\",StoreConfig!G1437)-1),\"\")","v":""},{"$f":"IF($B$2=StoreConfig!C1437,RIGHT(StoreConfig!G1437,LEN(StoreConfig!G1437)-FIND(\"#\",StoreConfig!G1437)),\"\")","v":""},{"$f":"IF($B$2=StoreConfig!C1437,IF(StoreConfig!L1437=0,\"不限购\",StoreConfig!L1437&\"次\"),\"\")","v":""}]
[{"$nulls":3},{"$f":"IF($B$2=StoreConfig!C1438,StoreConfig!O1438,\"\")","v":""},{"$f":"IF($B$2=StoreConfig!C1438,StoreConfig!E1438,\"\")","v":""},{"$f":"IF($B$2=StoreConfig!C1438,RIGHT(StoreConfig!J1438,LEN(StoreConfig!J1438)-FIND(\"|\",StoreConfig!J1438)),\"\")","v":""},{"$f":"IFERROR(VLOOKUP(--IF($B$2=StoreConfig!C1438,LEFT(StoreConfig!J1438,FIND(\"|\",StoreConfig!J1438)-1),\"\"),$Q$4:$R$20,2,FALSE),\"\")","v":""},{"$f":"IF($B$2=StoreConfig!C1438,LEFT(StoreConfig!G1438,FIND(\"#\",StoreConfig!G1438)-1),\"\")","v":""},{"$f":"IF($B$2=StoreConfig!C1438,RIGHT(StoreConfig!G1438,LEN(StoreConfig!G1438)-FIND(\"#\",StoreConfig!G1438)),\"\")","v":""},{"$f":"IF($B$2=StoreConfig!C1438,IF(StoreConfig!L1438=0,\"不限购\",StoreConfig!L1438&\"次\"),\"\")","v":""}]
[{"$nulls":3},{"$f":"IF($B$2=StoreConfig!C1439,StoreConfig!O1439,\"\")","v":""},{"$f":"IF($B$2=StoreConfig!C1439,StoreConfig!E1439,\"\")","v":""},{"$f":"IF($B$2=StoreConfig!C1439,RIGHT(StoreConfig!J1439,LEN(StoreConfig!J1439)-FIND(\"|\",StoreConfig!J1439)),\"\")","v":""},{"$f":"IFERROR(VLOOKUP(--IF($B$2=StoreConfig!C1439,LEFT(StoreConfig!J1439,FIND(\"|\",StoreConfig!J1439)-1),\"\"),$Q$4:$R$20,2,FALSE),\"\")","v":""},{"$f":"IF($B$2=StoreConfig!C1439,LEFT(StoreConfig!G1439,FIND(\"#\",StoreConfig!G1439)-1),\"\")","v":""},{"$f":"IF($B$2=StoreConfig!C1439,RIGHT(StoreConfig!G1439,LEN(StoreConfig!G1439)-FIND(\"#\",StoreConfig!G1439)),\"\")","v":""},{"$f":"IF($B$2=StoreConfig!C1439,IF(StoreConfig!L1439=0,\"不限购\",StoreConfig!L1439&\"次\"),\"\")","v":""}]
[{"$nulls":3},{"$f":"IF($B$2=StoreConfig!C1440,StoreConfig!O1440,\"\")","v":""},{"$f":"IF($B$2=StoreConfig!C1440,StoreConfig!E1440,\"\")","v":""},{"$f":"IF($B$2=StoreConfig!C1440,RIGHT(StoreConfig!J1440,LEN(StoreConfig!J1440)-FIND(\"|\",StoreConfig!J1440)),\"\")","v":""},{"$f":"IFERROR(VLOOKUP(--IF($B$2=StoreConfig!C1440,LEFT(StoreConfig!J1440,FIND(\"|\",StoreConfig!J1440)-1),\"\"),$Q$4:$R$20,2,FALSE),\"\")","v":""},{"$f":"IF($B$2=StoreConfig!C1440,LEFT(StoreConfig!G1440,FIND(\"#\",StoreConfig!G1440)-1),\"\")","v":""},{"$f":"IF($B$2=StoreConfig!C1440,RIGHT(StoreConfig!G1440,LEN(StoreConfig!G1440)-FIND(\"#\",StoreConfig!G1440)),\"\")","v":""},{"$f":"IF($B$2=StoreConfig!C1440,IF(StoreConfig!L1440=0,\"不限购\",StoreConfig!L1440&\"次\"),\"\")","v":""}]
[{"$nulls":3},{"$f":"IF($B$2=StoreConfig!C1441,StoreConfig!O1441,\"\")","v":""},{"$f":"IF($B$2=StoreConfig!C1441,StoreConfig!E1441,\"\")","v":""},{"$f":"IF($B$2=StoreConfig!C1441,RIGHT(StoreConfig!J1441,LEN(StoreConfig!J1441)-FIND(\"|\",StoreConfig!J1441)),\"\")","v":""},{"$f":"IFERROR(VLOOKUP(--IF($B$2=StoreConfig!C1441,LEFT(StoreConfig!J1441,FIND(\"|\",StoreConfig!J1441)-1),\"\"),$Q$4:$R$20,2,FALSE),\"\")","v":""},{"$f":"IF($B$2=StoreConfig!C1441,LEFT(StoreConfig!G1441,FIND(\"#\",StoreConfig!G1441)-1),\"\")","v":""},{"$f":"IF($B$2=StoreConfig!C1441,RIGHT(StoreConfig!G1441,LEN(StoreConfig!G1441)-FIND(\"#\",StoreConfig!G1441)),\"\")","v":""},{"$f":"IF($B$2=StoreConfig!C1441,IF(StoreConfig!L1441=0,\"不限购\",StoreConfig!L1441&\"次\"),\"\")","v":""}]
[{"$nulls":3},{"$f":"IF($B$2=StoreConfig!C1442,StoreConfig!O1442,\"\")","v":""},{"$f":"IF($B$2=StoreConfig!C1442,StoreConfig!E1442,\"\")","v":""},{"$f":"IF($B$2=StoreConfig!C1442,RIGHT(StoreConfig!J1442,LEN(StoreConfig!J1442)-FIND(\"|\",StoreConfig!J1442)),\"\")","v":""},{"$f":"IFERROR(VLOOKUP(--IF($B$2=StoreConfig!C1442,LEFT(StoreConfig!J1442,FIND(\"|\",StoreConfig!J1442)-1),\"\"),$Q$4:$R$20,2,FALSE),\"\")","v":""},{"$f":"IF($B$2=StoreConfig!C1442,LEFT(StoreConfig!G1442,FIND(\"#\",StoreConfig!G1442)-1),\"\")","v":""},{"$f":"IF($B$2=StoreConfig!C1442,RIGHT(StoreConfig!G1442,LEN(StoreConfig!G1442)-FIND(\"#\",StoreConfig!G1442)),\"\")","v":""},{"$f":"IF($B$2=StoreConfig!C1442,IF(StoreConfig!L1442=0,\"不限购\",StoreConfig!L1442&\"次\"),\"\")","v":""}]
[{"$nulls":3},{"$f":"IF($B$2=StoreConfig!C1443,StoreConfig!O1443,\"\")","v":""},{"$f":"IF($B$2=StoreConfig!C1443,StoreConfig!E1443,\"\")","v":""},{"$f":"IF($B$2=StoreConfig!C1443,RIGHT(StoreConfig!J1443,LEN(StoreConfig!J1443)-FIND(\"|\",StoreConfig!J1443)),\"\")","v":""},{"$f":"IFERROR(VLOOKUP(--IF($B$2=StoreConfig!C1443,LEFT(StoreConfig!J1443,FIND(\"|\",StoreConfig!J1443)-1),\"\"),$Q$4:$R$20,2,FALSE),\"\")","v":""},{"$f":"IF($B$2=StoreConfig!C1443,LEFT(StoreConfig!G1443,FIND(\"#\",StoreConfig!G1443)-1),\"\")","v":""},{"$f":"IF($B$2=StoreConfig!C1443,RIGHT(StoreConfig!G1443,LEN(StoreConfig!G1443)-FIND(\"#\",StoreConfig!G1443)),\"\")","v":""},{"$f":"IF($B$2=StoreConfig!C1443,IF(StoreConfig!L1443=0,\"不限购\",StoreConfig!L1443&\"次\"),\"\")","v":""}]
[{"$nulls":3},{"$f":"IF($B$2=StoreConfig!C1444,StoreConfig!O1444,\"\")","v":""},{"$f":"IF($B$2=StoreConfig!C1444,StoreConfig!E1444,\"\")","v":""},{"$f":"IF($B$2=StoreConfig!C1444,RIGHT(StoreConfig!J1444,LEN(StoreConfig!J1444)-FIND(\"|\",StoreConfig!J1444)),\"\")","v":""},{"$f":"IFERROR(VLOOKUP(--IF($B$2=StoreConfig!C1444,LEFT(StoreConfig!J1444,FIND(\"|\",StoreConfig!J1444)-1),\"\"),$Q$4:$R$20,2,FALSE),\"\")","v":""},{"$f":"IF($B$2=StoreConfig!C1444,LEFT(StoreConfig!G1444,FIND(\"#\",StoreConfig!G1444)-1),\"\")","v":""},{"$f":"IF($B$2=StoreConfig!C1444,RIGHT(StoreConfig!G1444,LEN(StoreConfig!G1444)-FIND(\"#\",StoreConfig!G1444)),\"\")","v":""},{"$f":"IF($B$2=StoreConfig!C1444,IF(StoreConfig!L1444=0,\"不限购\",StoreConfig!L1444&\"次\"),\"\")","v":""}]
[{"$nulls":3},{"$f":"IF($B$2=StoreConfig!C1445,StoreConfig!O1445,\"\")","v":""},{"$f":"IF($B$2=StoreConfig!C1445,StoreConfig!E1445,\"\")","v":""},{"$f":"IF($B$2=StoreConfig!C1445,RIGHT(StoreConfig!J1445,LEN(StoreConfig!J1445)-FIND(\"|\",StoreConfig!J1445)),\"\")","v":""},{"$f":"IFERROR(VLOOKUP(--IF($B$2=StoreConfig!C1445,LEFT(StoreConfig!J1445,FIND(\"|\",StoreConfig!J1445)-1),\"\"),$Q$4:$R$20,2,FALSE),\"\")","v":""},{"$f":"IF($B$2=StoreConfig!C1445,LEFT(StoreConfig!G1445,FIND(\"#\",StoreConfig!G1445)-1),\"\")","v":""},{"$f":"IF($B$2=StoreConfig!C1445,RIGHT(StoreConfig!G1445,LEN(StoreConfig!G1445)-FIND(\"#\",StoreConfig!G1445)),\"\")","v":""},{"$f":"IF($B$2=StoreConfig!C1445,IF(StoreConfig!L1445=0,\"不限购\",StoreConfig!L1445&\"次\"),\"\")","v":""}]
[{"$nulls":3},{"$f":"IF($B$2=StoreConfig!C1446,StoreConfig!O1446,\"\")","v":""},{"$f":"IF($B$2=StoreConfig!C1446,StoreConfig!E1446,\"\")","v":""},{"$f":"IF($B$2=StoreConfig!C1446,RIGHT(StoreConfig!J1446,LEN(StoreConfig!J1446)-FIND(\"|\",StoreConfig!J1446)),\"\")","v":""},{"$f":"IFERROR(VLOOKUP(--IF($B$2=StoreConfig!C1446,LEFT(StoreConfig!J1446,FIND(\"|\",StoreConfig!J1446)-1),\"\"),$Q$4:$R$20,2,FALSE),\"\")","v":""},{"$f":"IF($B$2=StoreConfig!C1446,LEFT(StoreConfig!G1446,FIND(\"#\",StoreConfig!G1446)-1),\"\")","v":""},{"$f":"IF($B$2=StoreConfig!C1446,RIGHT(StoreConfig!G1446,LEN(StoreConfig!G1446)-FIND(\"#\",StoreConfig!G1446)),\"\")","v":""},{"$f":"IF($B$2=StoreConfig!C1446,IF(StoreConfig!L1446=0,\"不限购\",StoreConfig!L1446&\"次\"),\"\")","v":""}]
[{"$nulls":3},{"$f":"IF($B$2=StoreConfig!C1447,StoreConfig!O1447,\"\")","v":""},{"$f":"IF($B$2=StoreConfig!C1447,StoreConfig!E1447,\"\")","v":""},{"$f":"IF($B$2=StoreConfig!C1447,RIGHT(StoreConfig!J1447,LEN(StoreConfig!J1447)-FIND(\"|\",StoreConfig!J1447)),\"\")","v":""},{"$f":"IFERROR(VLOOKUP(--IF($B$2=StoreConfig!C1447,LEFT(StoreConfig!J1447,FIND(\"|\",StoreConfig!J1447)-1),\"\"),$Q$4:$R$20,2,FALSE),\"\")","v":""},{"$f":"IF($B$2=StoreConfig!C1447,LEFT(StoreConfig!G1447,FIND(\"#\",StoreConfig!G1447)-1),\"\")","v":""},{"$f":"IF($B$2=StoreConfig!C1447,RIGHT(StoreConfig!G1447,LEN(StoreConfig!G1447)-FIND(\"#\",StoreConfig!G1447)),\"\")","v":""},{"$f":"IF($B$2=StoreConfig!C1447,IF(StoreConfig!L1447=0,\"不限购\",StoreConfig!L1447&\"次\"),\"\")","v":""}]
[{"$nulls":3},{"$f":"IF($B$2=StoreConfig!C1448,StoreConfig!O1448,\"\")","v":""},{"$f":"IF($B$2=StoreConfig!C1448,StoreConfig!E1448,\"\")","v":""},{"$f":"IF($B$2=StoreConfig!C1448,RIGHT(StoreConfig!J1448,LEN(StoreConfig!J1448)-FIND(\"|\",StoreConfig!J1448)),\"\")","v":""},{"$f":"IFERROR(VLOOKUP(--IF($B$2=StoreConfig!C1448,LEFT(StoreConfig!J1448,FIND(\"|\",StoreConfig!J1448)-1),\"\"),$Q$4:$R$20,2,FALSE),\"\")","v":""},{"$f":"IF($B$2=StoreConfig!C1448,LEFT(StoreConfig!G1448,FIND(\"#\",StoreConfig!G1448)-1),\"\")","v":""},{"$f":"IF($B$2=StoreConfig!C1448,RIGHT(StoreConfig!G1448,LEN(StoreConfig!G1448)-FIND(\"#\",StoreConfig!G1448)),\"\")","v":""},{"$f":"IF($B$2=StoreConfig!C1448,IF(StoreConfig!L1448=0,\"不限购\",StoreConfig!L1448&\"次\"),\"\")","v":""}]
[{"$nulls":3},{"$f":"IF($B$2=StoreConfig!C1449,StoreConfig!O1449,\"\")","v":""},{"$f":"IF($B$2=StoreConfig!C1449,StoreConfig!E1449,\"\")","v":""},{"$f":"IF($B$2=StoreConfig!C1449,RIGHT(StoreConfig!J1449,LEN(StoreConfig!J1449)-FIND(\"|\",StoreConfig!J1449)),\"\")","v":""},{"$f":"IFERROR(VLOOKUP(--IF($B$2=StoreConfig!C1449,LEFT(StoreConfig!J1449,FIND(\"|\",StoreConfig!J1449)-1),\"\"),$Q$4:$R$20,2,FALSE),\"\")","v":""},{"$f":"IF($B$2=StoreConfig!C1449,LEFT(StoreConfig!G1449,FIND(\"#\",StoreConfig!G1449)-1),\"\")","v":""},{"$f":"IF($B$2=StoreConfig!C1449,RIGHT(StoreConfig!G1449,LEN(StoreConfig!G1449)-FIND(\"#\",StoreConfig!G1449)),\"\")","v":""},{"$f":"IF($B$2=StoreConfig!C1449,IF(StoreConfig!L1449=0,\"不限购\",StoreConfig!L1449&\"次\"),\"\")","v":""}]
[{"$nulls":3},{"$f":"IF($B$2=StoreConfig!C1450,StoreConfig!O1450,\"\")","v":""},{"$f":"IF($B$2=StoreConfig!C1450,StoreConfig!E1450,\"\")","v":""},{"$f":"IF($B$2=StoreConfig!C1450,RIGHT(StoreConfig!J1450,LEN(StoreConfig!J1450)-FIND(\"|\",StoreConfig!J1450)),\"\")","v":""},{"$f":"IFERROR(VLOOKUP(--IF($B$2=StoreConfig!C1450,LEFT(StoreConfig!J1450,FIND(\"|\",StoreConfig!J1450)-1),\"\"),$Q$4:$R$20,2,FALSE),\"\")","v":""},{"$f":"IF($B$2=StoreConfig!C1450,LEFT(StoreConfig!G1450,FIND(\"#\",StoreConfig!G1450)-1),\"\")","v":""},{"$f":"IF($B$2=StoreConfig!C1450,RIGHT(StoreConfig!G1450,LEN(StoreConfig!G1450)-FIND(\"#\",StoreConfig!G1450)),\"\")","v":""},{"$f":"IF($B$2=StoreConfig!C1450,IF(StoreConfig!L1450=0,\"不限购\",StoreConfig!L1450&\"次\"),\"\")","v":""}]
[{"$nulls":3},{"$f":"IF($B$2=StoreConfig!C1451,StoreConfig!O1451,\"\")","v":""},{"$f":"IF($B$2=StoreConfig!C1451,StoreConfig!E1451,\"\")","v":""},{"$f":"IF($B$2=StoreConfig!C1451,RIGHT(StoreConfig!J1451,LEN(StoreConfig!J1451)-FIND(\"|\",StoreConfig!J1451)),\"\")","v":""},{"$f":"IFERROR(VLOOKUP(--IF($B$2=StoreConfig!C1451,LEFT(StoreConfig!J1451,FIND(\"|\",StoreConfig!J1451)-1),\"\"),$Q$4:$R$20,2,FALSE),\"\")","v":""},{"$f":"IF($B$2=StoreConfig!C1451,LEFT(StoreConfig!G1451,FIND(\"#\",StoreConfig!G1451)-1),\"\")","v":""},{"$f":"IF($B$2=StoreConfig!C1451,RIGHT(StoreConfig!G1451,LEN(StoreConfig!G1451)-FIND(\"#\",StoreConfig!G1451)),\"\")","v":""},{"$f":"IF($B$2=StoreConfig!C1451,IF(StoreConfig!L1451=0,\"不限购\",StoreConfig!L1451&\"次\"),\"\")","v":""}]
[{"$nulls":3},{"$f":"IF($B$2=StoreConfig!C1452,StoreConfig!O1452,\"\")","v":""},{"$f":"IF($B$2=StoreConfig!C1452,StoreConfig!E1452,\"\")","v":""},{"$f":"IF($B$2=StoreConfig!C1452,RIGHT(StoreConfig!J1452,LEN(StoreConfig!J1452)-FIND(\"|\",StoreConfig!J1452)),\"\")","v":""},{"$f":"IFERROR(VLOOKUP(--IF($B$2=StoreConfig!C1452,LEFT(StoreConfig!J1452,FIND(\"|\",StoreConfig!J1452)-1),\"\"),$Q$4:$R$20,2,FALSE),\"\")","v":""},{"$f":"IF($B$2=StoreConfig!C1452,LEFT(StoreConfig!G1452,FIND(\"#\",StoreConfig!G1452)-1),\"\")","v":""},{"$f":"IF($B$2=StoreConfig!C1452,RIGHT(StoreConfig!G1452,LEN(StoreConfig!G1452)-FIND(\"#\",StoreConfig!G1452)),\"\")","v":""},{"$f":"IF($B$2=StoreConfig!C1452,IF(StoreConfig!L1452=0,\"不限购\",StoreConfig!L1452&\"次\"),\"\")","v":""}]
[{"$nulls":3},{"$f":"IF($B$2=StoreConfig!C1453,StoreConfig!O1453,\"\")","v":""},{"$f":"IF($B$2=StoreConfig!C1453,StoreConfig!E1453,\"\")","v":""},{"$f":"IF($B$2=StoreConfig!C1453,RIGHT(StoreConfig!J1453,LEN(StoreConfig!J1453)-FIND(\"|\",StoreConfig!J1453)),\"\")","v":""},{"$f":"IFERROR(VLOOKUP(--IF($B$2=StoreConfig!C1453,LEFT(StoreConfig!J1453,FIND(\"|\",StoreConfig!J1453)-1),\"\"),$Q$4:$R$20,2,FALSE),\"\")","v":""},{"$f":"IF($B$2=StoreConfig!C1453,LEFT(StoreConfig!G1453,FIND(\"#\",StoreConfig!G1453)-1),\"\")","v":""},{"$f":"IF($B$2=StoreConfig!C1453,RIGHT(StoreConfig!G1453,LEN(StoreConfig!G1453)-FIND(\"#\",StoreConfig!G1453)),\"\")","v":""},{"$f":"IF($B$2=StoreConfig!C1453,IF(StoreConfig!L1453=0,\"不限购\",StoreConfig!L1453&\"次\"),\"\")","v":""}]
[{"$nulls":3},{"$f":"IF($B$2=StoreConfig!C1454,StoreConfig!O1454,\"\")","v":""},{"$f":"IF($B$2=StoreConfig!C1454,StoreConfig!E1454,\"\")","v":""},{"$f":"IF($B$2=StoreConfig!C1454,RIGHT(StoreConfig!J1454,LEN(StoreConfig!J1454)-FIND(\"|\",StoreConfig!J1454)),\"\")","v":""},{"$f":"IFERROR(VLOOKUP(--IF($B$2=StoreConfig!C1454,LEFT(StoreConfig!J1454,FIND(\"|\",StoreConfig!J1454)-1),\"\"),$Q$4:$R$20,2,FALSE),\"\")","v":""},{"$f":"IF($B$2=StoreConfig!C1454,LEFT(StoreConfig!G1454,FIND(\"#\",StoreConfig!G1454)-1),\"\")","v":""},{"$f":"IF($B$2=StoreConfig!C1454,RIGHT(StoreConfig!G1454,LEN(StoreConfig!G1454)-FIND(\"#\",StoreConfig!G1454)),\"\")","v":""},{"$f":"IF($B$2=StoreConfig!C1454,IF(StoreConfig!L1454=0,\"不限购\",StoreConfig!L1454&\"次\"),\"\")","v":""}]
[{"$nulls":3},{"$f":"IF($B$2=StoreConfig!C1455,StoreConfig!O1455,\"\")","v":""},{"$f":"IF($B$2=StoreConfig!C1455,StoreConfig!E1455,\"\")","v":""},{"$f":"IF($B$2=StoreConfig!C1455,RIGHT(StoreConfig!J1455,LEN(StoreConfig!J1455)-FIND(\"|\",StoreConfig!J1455)),\"\")","v":""},{"$f":"IFERROR(VLOOKUP(--IF($B$2=StoreConfig!C1455,LEFT(StoreConfig!J1455,FIND(\"|\",StoreConfig!J1455)-1),\"\"),$Q$4:$R$20,2,FALSE),\"\")","v":""},{"$f":"IF($B$2=StoreConfig!C1455,LEFT(StoreConfig!G1455,FIND(\"#\",StoreConfig!G1455)-1),\"\")","v":""},{"$f":"IF($B$2=StoreConfig!C1455,RIGHT(StoreConfig!G1455,LEN(StoreConfig!G1455)-FIND(\"#\",StoreConfig!G1455)),\"\")","v":""},{"$f":"IF($B$2=StoreConfig!C1455,IF(StoreConfig!L1455=0,\"不限购\",StoreConfig!L1455&\"次\"),\"\")","v":""}]
[{"$nulls":3},{"$f":"IF($B$2=StoreConfig!C1456,StoreConfig!O1456,\"\")","v":""},{"$f":"IF($B$2=StoreConfig!C1456,StoreConfig!E1456,\"\")","v":""},{"$f":"IF($B$2=StoreConfig!C1456,RIGHT(StoreConfig!J1456,LEN(StoreConfig!J1456)-FIND(\"|\",StoreConfig!J1456)),\"\")","v":""},{"$f":"IFERROR(VLOOKUP(--IF($B$2=StoreConfig!C1456,LEFT(StoreConfig!J1456,FIND(\"|\",StoreConfig!J1456)-1),\"\"),$Q$4:$R$20,2,FALSE),\"\")","v":""},{"$f":"IF($B$2=StoreConfig!C1456,LEFT(StoreConfig!G1456,FIND(\"#\",StoreConfig!G1456)-1),\"\")","v":""},{"$f":"IF($B$2=StoreConfig!C1456,RIGHT(StoreConfig!G1456,LEN(StoreConfig!G1456)-FIND(\"#\",StoreConfig!G1456)),\"\")","v":""},{"$f":"IF($B$2=StoreConfig!C1456,IF(StoreConfig!L1456=0,\"不限购\",StoreConfig!L1456&\"次\"),\"\")","v":""}]
[{"$nulls":3},{"$f":"IF($B$2=StoreConfig!C1457,StoreConfig!O1457,\"\")","v":""},{"$f":"IF($B$2=StoreConfig!C1457,StoreConfig!E1457,\"\")","v":""},{"$f":"IF($B$2=StoreConfig!C1457,RIGHT(StoreConfig!J1457,LEN(StoreConfig!J1457)-FIND(\"|\",StoreConfig!J1457)),\"\")","v":""},{"$f":"IFERROR(VLOOKUP(--IF($B$2=StoreConfig!C1457,LEFT(StoreConfig!J1457,FIND(\"|\",StoreConfig!J1457)-1),\"\"),$Q$4:$R$20,2,FALSE),\"\")","v":""},{"$f":"IF($B$2=StoreConfig!C1457,LEFT(StoreConfig!G1457,FIND(\"#\",StoreConfig!G1457)-1),\"\")","v":""},{"$f":"IF($B$2=StoreConfig!C1457,RIGHT(StoreConfig!G1457,LEN(StoreConfig!G1457)-FIND(\"#\",StoreConfig!G1457)),\"\")","v":""},{"$f":"IF($B$2=StoreConfig!C1457,IF(StoreConfig!L1457=0,\"不限购\",StoreConfig!L1457&\"次\"),\"\")","v":""}]
[{"$nulls":3},{"$f":"IF($B$2=StoreConfig!C1458,StoreConfig!O1458,\"\")","v":""},{"$f":"IF($B$2=StoreConfig!C1458,StoreConfig!E1458,\"\")","v":""},{"$f":"IF($B$2=StoreConfig!C1458,RIGHT(StoreConfig!J1458,LEN(StoreConfig!J1458)-FIND(\"|\",StoreConfig!J1458)),\"\")","v":""},{"$f":"IFERROR(VLOOKUP(--IF($B$2=StoreConfig!C1458,LEFT(StoreConfig!J1458,FIND(\"|\",StoreConfig!J1458)-1),\"\"),$Q$4:$R$20,2,FALSE),\"\")","v":""},{"$f":"IF($B$2=StoreConfig!C1458,LEFT(StoreConfig!G1458,FIND(\"#\",StoreConfig!G1458)-1),\"\")","v":""},{"$f":"IF($B$2=StoreConfig!C1458,RIGHT(StoreConfig!G1458,LEN(StoreConfig!G1458)-FIND(\"#\",StoreConfig!G1458)),\"\")","v":""},{"$f":"IF($B$2=StoreConfig!C1458,IF(StoreConfig!L1458=0,\"不限购\",StoreConfig!L1458&\"次\"),\"\")","v":""}]
[{"$nulls":3},{"$f":"IF($B$2=StoreConfig!C1459,StoreConfig!O1459,\"\")","v":""},{"$f":"IF($B$2=StoreConfig!C1459,StoreConfig!E1459,\"\")","v":""},{"$f":"IF($B$2=StoreConfig!C1459,RIGHT(StoreConfig!J1459,LEN(StoreConfig!J1459)-FIND(\"|\",StoreConfig!J1459)),\"\")","v":""},{"$f":"IFERROR(VLOOKUP(--IF($B$2=StoreConfig!C1459,LEFT(StoreConfig!J1459,FIND(\"|\",StoreConfig!J1459)-1),\"\"),$Q$4:$R$20,2,FALSE),\"\")","v":""},{"$f":"IF($B$2=StoreConfig!C1459,LEFT(StoreConfig!G1459,FIND(\"#\",StoreConfig!G1459)-1),\"\")","v":""},{"$f":"IF($B$2=StoreConfig!C1459,RIGHT(StoreConfig!G1459,LEN(StoreConfig!G1459)-FIND(\"#\",StoreConfig!G1459)),\"\")","v":""},{"$f":"IF($B$2=StoreConfig!C1459,IF(StoreConfig!L1459=0,\"不限购\",StoreConfig!L1459&\"次\"),\"\")","v":""}]
[{"$nulls":3},{"$f":"IF($B$2=StoreConfig!C1460,StoreConfig!O1460,\"\")","v":""},{"$f":"IF($B$2=StoreConfig!C1460,StoreConfig!E1460,\"\")","v":""},{"$f":"IF($B$2=StoreConfig!C1460,RIGHT(StoreConfig!J1460,LEN(StoreConfig!J1460)-FIND(\"|\",StoreConfig!J1460)),\"\")","v":""},{"$f":"IFERROR(VLOOKUP(--IF($B$2=StoreConfig!C1460,LEFT(StoreConfig!J1460,FIND(\"|\",StoreConfig!J1460)-1),\"\"),$Q$4:$R$20,2,FALSE),\"\")","v":""},{"$f":"IF($B$2=StoreConfig!C1460,LEFT(StoreConfig!G1460,FIND(\"#\",StoreConfig!G1460)-1),\"\")","v":""},{"$f":"IF($B$2=StoreConfig!C1460,RIGHT(StoreConfig!G1460,LEN(StoreConfig!G1460)-FIND(\"#\",StoreConfig!G1460)),\"\")","v":""},{"$f":"IF($B$2=StoreConfig!C1460,IF(StoreConfig!L1460=0,\"不限购\",StoreConfig!L1460&\"次\"),\"\")","v":""}]
[{"$nulls":3},{"$f":"IF($B$2=StoreConfig!C1461,StoreConfig!O1461,\"\")","v":""},{"$f":"IF($B$2=StoreConfig!C1461,StoreConfig!E1461,\"\")","v":""},{"$f":"IF($B$2=StoreConfig!C1461,RIGHT(StoreConfig!J1461,LEN(StoreConfig!J1461)-FIND(\"|\",StoreConfig!J1461)),\"\")","v":""},{"$f":"IFERROR(VLOOKUP(--IF($B$2=StoreConfig!C1461,LEFT(StoreConfig!J1461,FIND(\"|\",StoreConfig!J1461)-1),\"\"),$Q$4:$R$20,2,FALSE),\"\")","v":""},{"$f":"IF($B$2=StoreConfig!C1461,LEFT(StoreConfig!G1461,FIND(\"#\",StoreConfig!G1461)-1),\"\")","v":""},{"$f":"IF($B$2=StoreConfig!C1461,RIGHT(StoreConfig!G1461,LEN(StoreConfig!G1461)-FIND(\"#\",StoreConfig!G1461)),\"\")","v":""},{"$f":"IF($B$2=StoreConfig!C1461,IF(StoreConfig!L1461=0,\"不限购\",StoreConfig!L1461&\"次\"),\"\")","v":""}]
[{"$nulls":3},{"$f":"IF($B$2=StoreConfig!C1462,StoreConfig!O1462,\"\")","v":""},{"$f":"IF($B$2=StoreConfig!C1462,StoreConfig!E1462,\"\")","v":""},{"$f":"IF($B$2=StoreConfig!C1462,RIGHT(StoreConfig!J1462,LEN(StoreConfig!J1462)-FIND(\"|\",StoreConfig!J1462)),\"\")","v":""},{"$f":"IFERROR(VLOOKUP(--IF($B$2=StoreConfig!C1462,LEFT(StoreConfig!J1462,FIND(\"|\",StoreConfig!J1462)-1),\"\"),$Q$4:$R$20,2,FALSE),\"\")","v":""},{"$f":"IF($B$2=StoreConfig!C1462,LEFT(StoreConfig!G1462,FIND(\"#\",StoreConfig!G1462)-1),\"\")","v":""},{"$f":"IF($B$2=StoreConfig!C1462,RIGHT(StoreConfig!G1462,LEN(StoreConfig!G1462)-FIND(\"#\",StoreConfig!G1462)),\"\")","v":""},{"$f":"IF($B$2=StoreConfig!C1462,IF(StoreConfig!L1462=0,\"不限购\",StoreConfig!L1462&\"次\"),\"\")","v":""}]
[{"$nulls":3},{"$f":"IF($B$2=StoreConfig!C1463,StoreConfig!O1463,\"\")","v":""},{"$f":"IF($B$2=StoreConfig!C1463,StoreConfig!E1463,\"\")","v":""},{"$f":"IF($B$2=StoreConfig!C1463,RIGHT(StoreConfig!J1463,LEN(StoreConfig!J1463)-FIND(\"|\",StoreConfig!J1463)),\"\")","v":""},{"$f":"IFERROR(VLOOKUP(--IF($B$2=StoreConfig!C1463,LEFT(StoreConfig!J1463,FIND(\"|\",StoreConfig!J1463)-1),\"\"),$Q$4:$R$20,2,FALSE),\"\")","v":""},{"$f":"IF($B$2=StoreConfig!C1463,LEFT(StoreConfig!G1463,FIND(\"#\",StoreConfig!G1463)-1),\"\")","v":""},{"$f":"IF($B$2=StoreConfig!C1463,RIGHT(StoreConfig!G1463,LEN(StoreConfig!G1463)-FIND(\"#\",StoreConfig!G1463)),\"\")","v":""},{"$f":"IF($B$2=StoreConfig!C1463,IF(StoreConfig!L1463=0,\"不限购\",StoreConfig!L1463&\"次\"),\"\")","v":""}]
[{"$nulls":3},{"$f":"IF($B$2=StoreConfig!C1464,StoreConfig!O1464,\"\")","v":""},{"$f":"IF($B$2=StoreConfig!C1464,StoreConfig!E1464,\"\")","v":""},{"$f":"IF($B$2=StoreConfig!C1464,RIGHT(StoreConfig!J1464,LEN(StoreConfig!J1464)-FIND(\"|\",StoreConfig!J1464)),\"\")","v":""},{"$f":"IFERROR(VLOOKUP(--IF($B$2=StoreConfig!C1464,LEFT(StoreConfig!J1464,FIND(\"|\",StoreConfig!J1464)-1),\"\"),$Q$4:$R$20,2,FALSE),\"\")","v":""},{"$f":"IF($B$2=StoreConfig!C1464,LEFT(StoreConfig!G1464,FIND(\"#\",StoreConfig!G1464)-1),\"\")","v":""},{"$f":"IF($B$2=StoreConfig!C1464,RIGHT(StoreConfig!G1464,LEN(StoreConfig!G1464)-FIND(\"#\",StoreConfig!G1464)),\"\")","v":""},{"$f":"IF($B$2=StoreConfig!C1464,IF(StoreConfig!L1464=0,\"不限购\",StoreConfig!L1464&\"次\"),\"\")","v":""}]
[{"$nulls":3},{"$f":"IF($B$2=StoreConfig!C1465,StoreConfig!O1465,\"\")","v":""},{"$f":"IF($B$2=StoreConfig!C1465,StoreConfig!E1465,\"\")","v":""},{"$f":"IF($B$2=StoreConfig!C1465,RIGHT(StoreConfig!J1465,LEN(StoreConfig!J1465)-FIND(\"|\",StoreConfig!J1465)),\"\")","v":""},{"$f":"IFERROR(VLOOKUP(--IF($B$2=StoreConfig!C1465,LEFT(StoreConfig!J1465,FIND(\"|\",StoreConfig!J1465)-1),\"\"),$Q$4:$R$20,2,FALSE),\"\")","v":""},{"$f":"IF($B$2=StoreConfig!C1465,LEFT(StoreConfig!G1465,FIND(\"#\",StoreConfig!G1465)-1),\"\")","v":""},{"$f":"IF($B$2=StoreConfig!C1465,RIGHT(StoreConfig!G1465,LEN(StoreConfig!G1465)-FIND(\"#\",StoreConfig!G1465)),\"\")","v":""},{"$f":"IF($B$2=StoreConfig!C1465,IF(StoreConfig!L1465=0,\"不限购\",StoreConfig!L1465&\"次\"),\"\")","v":""}]
[{"$nulls":3},{"$f":"IF($B$2=StoreConfig!C1466,StoreConfig!O1466,\"\")","v":""},{"$f":"IF($B$2=StoreConfig!C1466,StoreConfig!E1466,\"\")","v":""},{"$f":"IF($B$2=StoreConfig!C1466,RIGHT(StoreConfig!J1466,LEN(StoreConfig!J1466)-FIND(\"|\",StoreConfig!J1466)),\"\")","v":""},{"$f":"IFERROR(VLOOKUP(--IF($B$2=StoreConfig!C1466,LEFT(StoreConfig!J1466,FIND(\"|\",StoreConfig!J1466)-1),\"\"),$Q$4:$R$20,2,FALSE),\"\")","v":""},{"$f":"IF($B$2=StoreConfig!C1466,LEFT(StoreConfig!G1466,FIND(\"#\",StoreConfig!G1466)-1),\"\")","v":""},{"$f":"IF($B$2=StoreConfig!C1466,RIGHT(StoreConfig!G1466,LEN(StoreConfig!G1466)-FIND(\"#\",StoreConfig!G1466)),\"\")","v":""},{"$f":"IF($B$2=StoreConfig!C1466,IF(StoreConfig!L1466=0,\"不限购\",StoreConfig!L1466&\"次\"),\"\")","v":""}]
[{"$nulls":3},{"$f":"IF($B$2=StoreConfig!C1467,StoreConfig!O1467,\"\")","v":""},{"$f":"IF($B$2=StoreConfig!C1467,StoreConfig!E1467,\"\")","v":""},{"$f":"IF($B$2=StoreConfig!C1467,RIGHT(StoreConfig!J1467,LEN(StoreConfig!J1467)-FIND(\"|\",StoreConfig!J1467)),\"\")","v":""},{"$f":"IFERROR(VLOOKUP(--IF($B$2=StoreConfig!C1467,LEFT(StoreConfig!J1467,FIND(\"|\",StoreConfig!J1467)-1),\"\"),$Q$4:$R$20,2,FALSE),\"\")","v":""},{"$f":"IF($B$2=StoreConfig!C1467,LEFT(StoreConfig!G1467,FIND(\"#\",StoreConfig!G1467)-1),\"\")","v":""},{"$f":"IF($B$2=StoreConfig!C1467,RIGHT(StoreConfig!G1467,LEN(StoreConfig!G1467)-FIND(\"#\",StoreConfig!G1467)),\"\")","v":""},{"$f":"IF($B$2=StoreConfig!C1467,IF(StoreConfig!L1467=0,\"不限购\",StoreConfig!L1467&\"次\"),\"\")","v":""}]
[{"$nulls":3},{"$f":"IF($B$2=StoreConfig!C1468,StoreConfig!O1468,\"\")","v":""},{"$f":"IF($B$2=StoreConfig!C1468,StoreConfig!E1468,\"\")","v":""},{"$f":"IF($B$2=StoreConfig!C1468,RIGHT(StoreConfig!J1468,LEN(StoreConfig!J1468)-FIND(\"|\",StoreConfig!J1468)),\"\")","v":""},{"$f":"IFERROR(VLOOKUP(--IF($B$2=StoreConfig!C1468,LEFT(StoreConfig!J1468,FIND(\"|\",StoreConfig!J1468)-1),\"\"),$Q$4:$R$20,2,FALSE),\"\")","v":""},{"$f":"IF($B$2=StoreConfig!C1468,LEFT(StoreConfig!G1468,FIND(\"#\",StoreConfig!G1468)-1),\"\")","v":""},{"$f":"IF($B$2=StoreConfig!C1468,RIGHT(StoreConfig!G1468,LEN(StoreConfig!G1468)-FIND(\"#\",StoreConfig!G1468)),\"\")","v":""},{"$f":"IF($B$2=StoreConfig!C1468,IF(StoreConfig!L1468=0,\"不限购\",StoreConfig!L1468&\"次\"),\"\")","v":""}]
[{"$nulls":3},{"$f":"IF($B$2=StoreConfig!C1469,StoreConfig!O1469,\"\")","v":""},{"$f":"IF($B$2=StoreConfig!C1469,StoreConfig!E1469,\"\")","v":""},{"$f":"IF($B$2=StoreConfig!C1469,RIGHT(StoreConfig!J1469,LEN(StoreConfig!J1469)-FIND(\"|\",StoreConfig!J1469)),\"\")","v":""},{"$f":"IFERROR(VLOOKUP(--IF($B$2=StoreConfig!C1469,LEFT(StoreConfig!J1469,FIND(\"|\",StoreConfig!J1469)-1),\"\"),$Q$4:$R$20,2,FALSE),\"\")","v":""},{"$f":"IF($B$2=StoreConfig!C1469,LEFT(StoreConfig!G1469,FIND(\"#\",StoreConfig!G1469)-1),\"\")","v":""},{"$f":"IF($B$2=StoreConfig!C1469,RIGHT(StoreConfig!G1469,LEN(StoreConfig!G1469)-FIND(\"#\",StoreConfig!G1469)),\"\")","v":""},{"$f":"IF($B$2=StoreConfig!C1469,IF(StoreConfig!L1469=0,\"不限购\",StoreConfig!L1469&\"次\"),\"\")","v":""}]
[{"$nulls":3},{"$f":"IF($B$2=StoreConfig!C1470,StoreConfig!O1470,\"\")","v":""},{"$f":"IF($B$2=StoreConfig!C1470,StoreConfig!E1470,\"\")","v":""},{"$f":"IF($B$2=StoreConfig!C1470,RIGHT(StoreConfig!J1470,LEN(StoreConfig!J1470)-FIND(\"|\",StoreConfig!J1470)),\"\")","v":""},{"$f":"IFERROR(VLOOKUP(--IF($B$2=StoreConfig!C1470,LEFT(StoreConfig!J1470,FIND(\"|\",StoreConfig!J1470)-1),\"\"),$Q$4:$R$20,2,FALSE),\"\")","v":""},{"$f":"IF($B$2=StoreConfig!C1470,LEFT(StoreConfig!G1470,FIND(\"#\",StoreConfig!G1470)-1),\"\")","v":""},{"$f":"IF($B$2=StoreConfig!C1470,RIGHT(StoreConfig!G1470,LEN(StoreConfig!G1470)-FIND(\"#\",StoreConfig!G1470)),\"\")","v":""},{"$f":"IF($B$2=StoreConfig!C1470,IF(StoreConfig!L1470=0,\"不限购\",StoreConfig!L1470&\"次\"),\"\")","v":""}]
[{"$nulls":3},{"$f":"IF($B$2=StoreConfig!C1471,StoreConfig!O1471,\"\")","v":""},{"$f":"IF($B$2=StoreConfig!C1471,StoreConfig!E1471,\"\")","v":""},{"$f":"IF($B$2=StoreConfig!C1471,RIGHT(StoreConfig!J1471,LEN(StoreConfig!J1471)-FIND(\"|\",StoreConfig!J1471)),\"\")","v":""},{"$f":"IFERROR(VLOOKUP(--IF($B$2=StoreConfig!C1471,LEFT(StoreConfig!J1471,FIND(\"|\",StoreConfig!J1471)-1),\"\"),$Q$4:$R$20,2,FALSE),\"\")","v":""},{"$f":"IF($B$2=StoreConfig!C1471,LEFT(StoreConfig!G1471,FIND(\"#\",StoreConfig!G1471)-1),\"\")","v":""},{"$f":"IF($B$2=StoreConfig!C1471,RIGHT(StoreConfig!G1471,LEN(StoreConfig!G1471)-FIND(\"#\",StoreConfig!G1471)),\"\")","v":""},{"$f":"IF($B$2=StoreConfig!C1471,IF(StoreConfig!L1471=0,\"不限购\",StoreConfig!L1471&\"次\"),\"\")","v":""}]
[{"$nulls":3},{"$f":"IF($B$2=StoreConfig!C1472,StoreConfig!O1472,\"\")","v":""},{"$f":"IF($B$2=StoreConfig!C1472,StoreConfig!E1472,\"\")","v":""},{"$f":"IF($B$2=StoreConfig!C1472,RIGHT(StoreConfig!J1472,LEN(StoreConfig!J1472)-FIND(\"|\",StoreConfig!J1472)),\"\")","v":""},{"$f":"IFERROR(VLOOKUP(--IF($B$2=StoreConfig!C1472,LEFT(StoreConfig!J1472,FIND(\"|\",StoreConfig!J1472)-1),\"\"),$Q$4:$R$20,2,FALSE),\"\")","v":""},{"$f":"IF($B$2=StoreConfig!C1472,LEFT(StoreConfig!G1472,FIND(\"#\",StoreConfig!G1472)-1),\"\")","v":""},{"$f":"IF($B$2=StoreConfig!C1472,RIGHT(StoreConfig!G1472,LEN(StoreConfig!G1472)-FIND(\"#\",StoreConfig!G1472)),\"\")","v":""},{"$f":"IF($B$2=StoreConfig!C1472,IF(StoreConfig!L1472=0,\"不限购\",StoreConfig!L1472&\"次\"),\"\")","v":""}]
[{"$nulls":3},{"$f":"IF($B$2=StoreConfig!C1473,StoreConfig!O1473,\"\")","v":""},{"$f":"IF($B$2=StoreConfig!C1473,StoreConfig!E1473,\"\")","v":""},{"$f":"IF($B$2=StoreConfig!C1473,RIGHT(StoreConfig!J1473,LEN(StoreConfig!J1473)-FIND(\"|\",StoreConfig!J1473)),\"\")","v":""},{"$f":"IFERROR(VLOOKUP(--IF($B$2=StoreConfig!C1473,LEFT(StoreConfig!J1473,FIND(\"|\",StoreConfig!J1473)-1),\"\"),$Q$4:$R$20,2,FALSE),\"\")","v":""},{"$f":"IF($B$2=StoreConfig!C1473,LEFT(StoreConfig!G1473,FIND(\"#\",StoreConfig!G1473)-1),\"\")","v":""},{"$f":"IF($B$2=StoreConfig!C1473,RIGHT(StoreConfig!G1473,LEN(StoreConfig!G1473)-FIND(\"#\",StoreConfig!G1473)),\"\")","v":""},{"$f":"IF($B$2=StoreConfig!C1473,IF(StoreConfig!L1473=0,\"不限购\",StoreConfig!L1473&\"次\"),\"\")","v":""}]
[{"$nulls":3},{"$f":"IF($B$2=StoreConfig!C1474,StoreConfig!O1474,\"\")","v":""},{"$f":"IF($B$2=StoreConfig!C1474,StoreConfig!E1474,\"\")","v":""},{"$f":"IF($B$2=StoreConfig!C1474,RIGHT(StoreConfig!J1474,LEN(StoreConfig!J1474)-FIND(\"|\",StoreConfig!J1474)),\"\")","v":""},{"$f":"IFERROR(VLOOKUP(--IF($B$2=StoreConfig!C1474,LEFT(StoreConfig!J1474,FIND(\"|\",StoreConfig!J1474)-1),\"\"),$Q$4:$R$20,2,FALSE),\"\")","v":""},{"$f":"IF($B$2=StoreConfig!C1474,LEFT(StoreConfig!G1474,FIND(\"#\",StoreConfig!G1474)-1),\"\")","v":""},{"$f":"IF($B$2=StoreConfig!C1474,RIGHT(StoreConfig!G1474,LEN(StoreConfig!G1474)-FIND(\"#\",StoreConfig!G1474)),\"\")","v":""},{"$f":"IF($B$2=StoreConfig!C1474,IF(StoreConfig!L1474=0,\"不限购\",StoreConfig!L1474&\"次\"),\"\")","v":""}]
[{"$nulls":3},{"$f":"IF($B$2=StoreConfig!C1475,StoreConfig!O1475,\"\")","v":""},{"$f":"IF($B$2=StoreConfig!C1475,StoreConfig!E1475,\"\")","v":""},{"$f":"IF($B$2=StoreConfig!C1475,RIGHT(StoreConfig!J1475,LEN(StoreConfig!J1475)-FIND(\"|\",StoreConfig!J1475)),\"\")","v":""},{"$f":"IFERROR(VLOOKUP(--IF($B$2=StoreConfig!C1475,LEFT(StoreConfig!J1475,FIND(\"|\",StoreConfig!J1475)-1),\"\"),$Q$4:$R$20,2,FALSE),\"\")","v":""},{"$f":"IF($B$2=StoreConfig!C1475,LEFT(StoreConfig!G1475,FIND(\"#\",StoreConfig!G1475)-1),\"\")","v":""},{"$f":"IF($B$2=StoreConfig!C1475,RIGHT(StoreConfig!G1475,LEN(StoreConfig!G1475)-FIND(\"#\",StoreConfig!G1475)),\"\")","v":""},{"$f":"IF($B$2=StoreConfig!C1475,IF(StoreConfig!L1475=0,\"不限购\",StoreConfig!L1475&\"次\"),\"\")","v":""}]
[{"$nulls":3},{"$f":"IF($B$2=StoreConfig!C1476,StoreConfig!O1476,\"\")","v":""},{"$f":"IF($B$2=StoreConfig!C1476,StoreConfig!E1476,\"\")","v":""},{"$f":"IF($B$2=StoreConfig!C1476,RIGHT(StoreConfig!J1476,LEN(StoreConfig!J1476)-FIND(\"|\",StoreConfig!J1476)),\"\")","v":""},{"$f":"IFERROR(VLOOKUP(--IF($B$2=StoreConfig!C1476,LEFT(StoreConfig!J1476,FIND(\"|\",StoreConfig!J1476)-1),\"\"),$Q$4:$R$20,2,FALSE),\"\")","v":""},{"$f":"IF($B$2=StoreConfig!C1476,LEFT(StoreConfig!G1476,FIND(\"#\",StoreConfig!G1476)-1),\"\")","v":""},{"$f":"IF($B$2=StoreConfig!C1476,RIGHT(StoreConfig!G1476,LEN(StoreConfig!G1476)-FIND(\"#\",StoreConfig!G1476)),\"\")","v":""},{"$f":"IF($B$2=StoreConfig!C1476,IF(StoreConfig!L1476=0,\"不限购\",StoreConfig!L1476&\"次\"),\"\")","v":""}]
[{"$nulls":3},{"$f":"IF($B$2=StoreConfig!C1477,StoreConfig!O1477,\"\")","v":""},{"$f":"IF($B$2=StoreConfig!C1477,StoreConfig!E1477,\"\")","v":""},{"$f":"IF($B$2=StoreConfig!C1477,RIGHT(StoreConfig!J1477,LEN(StoreConfig!J1477)-FIND(\"|\",StoreConfig!J1477)),\"\")","v":""},{"$f":"IFERROR(VLOOKUP(--IF($B$2=StoreConfig!C1477,LEFT(StoreConfig!J1477,FIND(\"|\",StoreConfig!J1477)-1),\"\"),$Q$4:$R$20,2,FALSE),\"\")","v":""},{"$f":"IF($B$2=StoreConfig!C1477,LEFT(StoreConfig!G1477,FIND(\"#\",StoreConfig!G1477)-1),\"\")","v":""},{"$f":"IF($B$2=StoreConfig!C1477,RIGHT(StoreConfig!G1477,LEN(StoreConfig!G1477)-FIND(\"#\",StoreConfig!G1477)),\"\")","v":""},{"$f":"IF($B$2=StoreConfig!C1477,IF(StoreConfig!L1477=0,\"不限购\",StoreConfig!L1477&\"次\"),\"\")","v":""}]
[{"$nulls":3},{"$f":"IF($B$2=StoreConfig!C1478,StoreConfig!O1478,\"\")","v":""},{"$f":"IF($B$2=StoreConfig!C1478,StoreConfig!E1478,\"\")","v":""},{"$f":"IF($B$2=StoreConfig!C1478,RIGHT(StoreConfig!J1478,LEN(StoreConfig!J1478)-FIND(\"|\",StoreConfig!J1478)),\"\")","v":""},{"$f":"IFERROR(VLOOKUP(--IF($B$2=StoreConfig!C1478,LEFT(StoreConfig!J1478,FIND(\"|\",StoreConfig!J1478)-1),\"\"),$Q$4:$R$20,2,FALSE),\"\")","v":""},{"$f":"IF($B$2=StoreConfig!C1478,LEFT(StoreConfig!G1478,FIND(\"#\",StoreConfig!G1478)-1),\"\")","v":""},{"$f":"IF($B$2=StoreConfig!C1478,RIGHT(StoreConfig!G1478,LEN(StoreConfig!G1478)-FIND(\"#\",StoreConfig!G1478)),\"\")","v":""},{"$f":"IF($B$2=StoreConfig!C1478,IF(StoreConfig!L1478=0,\"不限购\",StoreConfig!L1478&\"次\"),\"\")","v":""}]
[{"$nulls":3},{"$f":"IF($B$2=StoreConfig!C1479,StoreConfig!O1479,\"\")","v":""},{"$f":"IF($B$2=StoreConfig!C1479,StoreConfig!E1479,\"\")","v":""},{"$f":"IF($B$2=StoreConfig!C1479,RIGHT(StoreConfig!J1479,LEN(StoreConfig!J1479)-FIND(\"|\",StoreConfig!J1479)),\"\")","v":""},{"$f":"IFERROR(VLOOKUP(--IF($B$2=StoreConfig!C1479,LEFT(StoreConfig!J1479,FIND(\"|\",StoreConfig!J1479)-1),\"\"),$Q$4:$R$20,2,FALSE),\"\")","v":""},{"$f":"IF($B$2=StoreConfig!C1479,LEFT(StoreConfig!G1479,FIND(\"#\",StoreConfig!G1479)-1),\"\")","v":""},{"$f":"IF($B$2=StoreConfig!C1479,RIGHT(StoreConfig!G1479,LEN(StoreConfig!G1479)-FIND(\"#\",StoreConfig!G1479)),\"\")","v":""},{"$f":"IF($B$2=StoreConfig!C1479,IF(StoreConfig!L1479=0,\"不限购\",StoreConfig!L1479&\"次\"),\"\")","v":""}]
[{"$nulls":3},{"$f":"IF($B$2=StoreConfig!C1480,StoreConfig!O1480,\"\")","v":""},{"$f":"IF($B$2=StoreConfig!C1480,StoreConfig!E1480,\"\")","v":""},{"$f":"IF($B$2=StoreConfig!C1480,RIGHT(StoreConfig!J1480,LEN(StoreConfig!J1480)-FIND(\"|\",StoreConfig!J1480)),\"\")","v":""},{"$f":"IFERROR(VLOOKUP(--IF($B$2=StoreConfig!C1480,LEFT(StoreConfig!J1480,FIND(\"|\",StoreConfig!J1480)-1),\"\"),$Q$4:$R$20,2,FALSE),\"\")","v":""},{"$f":"IF($B$2=StoreConfig!C1480,LEFT(StoreConfig!G1480,FIND(\"#\",StoreConfig!G1480)-1),\"\")","v":""},{"$f":"IF($B$2=StoreConfig!C1480,RIGHT(StoreConfig!G1480,LEN(StoreConfig!G1480)-FIND(\"#\",StoreConfig!G1480)),\"\")","v":""},{"$f":"IF($B$2=StoreConfig!C1480,IF(StoreConfig!L1480=0,\"不限购\",StoreConfig!L1480&\"次\"),\"\")","v":""}]
[{"$nulls":3},{"$f":"IF($B$2=StoreConfig!C1481,StoreConfig!O1481,\"\")","v":""},{"$f":"IF($B$2=StoreConfig!C1481,StoreConfig!E1481,\"\")","v":""},{"$f":"IF($B$2=StoreConfig!C1481,RIGHT(StoreConfig!J1481,LEN(StoreConfig!J1481)-FIND(\"|\",StoreConfig!J1481)),\"\")","v":""},{"$f":"IFERROR(VLOOKUP(--IF($B$2=StoreConfig!C1481,LEFT(StoreConfig!J1481,FIND(\"|\",StoreConfig!J1481)-1),\"\"),$Q$4:$R$20,2,FALSE),\"\")","v":""},{"$f":"IF($B$2=StoreConfig!C1481,LEFT(StoreConfig!G1481,FIND(\"#\",StoreConfig!G1481)-1),\"\")","v":""},{"$f":"IF($B$2=StoreConfig!C1481,RIGHT(StoreConfig!G1481,LEN(StoreConfig!G1481)-FIND(\"#\",StoreConfig!G1481)),\"\")","v":""},{"$f":"IF($B$2=StoreConfig!C1481,IF(StoreConfig!L1481=0,\"不限购\",StoreConfig!L1481&\"次\"),\"\")","v":""}]
[{"$nulls":3},{"$f":"IF($B$2=StoreConfig!C1482,StoreConfig!O1482,\"\")","v":""},{"$f":"IF($B$2=StoreConfig!C1482,StoreConfig!E1482,\"\")","v":""},{"$f":"IF($B$2=StoreConfig!C1482,RIGHT(StoreConfig!J1482,LEN(StoreConfig!J1482)-FIND(\"|\",StoreConfig!J1482)),\"\")","v":""},{"$f":"IFERROR(VLOOKUP(--IF($B$2=StoreConfig!C1482,LEFT(StoreConfig!J1482,FIND(\"|\",StoreConfig!J1482)-1),\"\"),$Q$4:$R$20,2,FALSE),\"\")","v":""},{"$f":"IF($B$2=StoreConfig!C1482,LEFT(StoreConfig!G1482,FIND(\"#\",StoreConfig!G1482)-1),\"\")","v":""},{"$f":"IF($B$2=StoreConfig!C1482,RIGHT(StoreConfig!G1482,LEN(StoreConfig!G1482)-FIND(\"#\",StoreConfig!G1482)),\"\")","v":""},{"$f":"IF($B$2=StoreConfig!C1482,IF(StoreConfig!L1482=0,\"不限购\",StoreConfig!L1482&\"次\"),\"\")","v":""}]
[{"$nulls":3},{"$f":"IF($B$2=StoreConfig!C1483,StoreConfig!O1483,\"\")","v":""},{"$f":"IF($B$2=StoreConfig!C1483,StoreConfig!E1483,\"\")","v":""},{"$f":"IF($B$2=StoreConfig!C1483,RIGHT(StoreConfig!J1483,LEN(StoreConfig!J1483)-FIND(\"|\",StoreConfig!J1483)),\"\")","v":""},{"$f":"IFERROR(VLOOKUP(--IF($B$2=StoreConfig!C1483,LEFT(StoreConfig!J1483,FIND(\"|\",StoreConfig!J1483)-1),\"\"),$Q$4:$R$20,2,FALSE),\"\")","v":""},{"$f":"IF($B$2=StoreConfig!C1483,LEFT(StoreConfig!G1483,FIND(\"#\",StoreConfig!G1483)-1),\"\")","v":""},{"$f":"IF($B$2=StoreConfig!C1483,RIGHT(StoreConfig!G1483,LEN(StoreConfig!G1483)-FIND(\"#\",StoreConfig!G1483)),\"\")","v":""},{"$f":"IF($B$2=StoreConfig!C1483,IF(StoreConfig!L1483=0,\"不限购\",StoreConfig!L1483&\"次\"),\"\")","v":""}]
[{"$nulls":3},{"$f":"IF($B$2=StoreConfig!C1484,StoreConfig!O1484,\"\")","v":""},{"$f":"IF($B$2=StoreConfig!C1484,StoreConfig!E1484,\"\")","v":""},{"$f":"IF($B$2=StoreConfig!C1484,RIGHT(StoreConfig!J1484,LEN(StoreConfig!J1484)-FIND(\"|\",StoreConfig!J1484)),\"\")","v":""},{"$f":"IFERROR(VLOOKUP(--IF($B$2=StoreConfig!C1484,LEFT(StoreConfig!J1484,FIND(\"|\",StoreConfig!J1484)-1),\"\"),$Q$4:$R$20,2,FALSE),\"\")","v":""},{"$f":"IF($B$2=StoreConfig!C1484,LEFT(StoreConfig!G1484,FIND(\"#\",StoreConfig!G1484)-1),\"\")","v":""},{"$f":"IF($B$2=StoreConfig!C1484,RIGHT(StoreConfig!G1484,LEN(StoreConfig!G1484)-FIND(\"#\",StoreConfig!G1484)),\"\")","v":""},{"$f":"IF($B$2=StoreConfig!C1484,IF(StoreConfig!L1484=0,\"不限购\",StoreConfig!L1484&\"次\"),\"\")","v":""}]
[{"$nulls":3},{"$f":"IF($B$2=StoreConfig!C1485,StoreConfig!O1485,\"\")","v":""},{"$f":"IF($B$2=StoreConfig!C1485,StoreConfig!E1485,\"\")","v":""},{"$f":"IF($B$2=StoreConfig!C1485,RIGHT(StoreConfig!J1485,LEN(StoreConfig!J1485)-FIND(\"|\",StoreConfig!J1485)),\"\")","v":""},{"$f":"IFERROR(VLOOKUP(--IF($B$2=StoreConfig!C1485,LEFT(StoreConfig!J1485,FIND(\"|\",StoreConfig!J1485)-1),\"\"),$Q$4:$R$20,2,FALSE),\"\")","v":""},{"$f":"IF($B$2=StoreConfig!C1485,LEFT(StoreConfig!G1485,FIND(\"#\",StoreConfig!G1485)-1),\"\")","v":""},{"$f":"IF($B$2=StoreConfig!C1485,RIGHT(StoreConfig!G1485,LEN(StoreConfig!G1485)-FIND(\"#\",StoreConfig!G1485)),\"\")","v":""},{"$f":"IF($B$2=StoreConfig!C1485,IF(StoreConfig!L1485=0,\"不限购\",StoreConfig!L1485&\"次\"),\"\")","v":""}]
[{"$nulls":3},{"$f":"IF($B$2=StoreConfig!C1486,StoreConfig!O1486,\"\")","v":""},{"$f":"IF($B$2=StoreConfig!C1486,StoreConfig!E1486,\"\")","v":""},{"$f":"IF($B$2=StoreConfig!C1486,RIGHT(StoreConfig!J1486,LEN(StoreConfig!J1486)-FIND(\"|\",StoreConfig!J1486)),\"\")","v":""},{"$f":"IFERROR(VLOOKUP(--IF($B$2=StoreConfig!C1486,LEFT(StoreConfig!J1486,FIND(\"|\",StoreConfig!J1486)-1),\"\"),$Q$4:$R$20,2,FALSE),\"\")","v":""},{"$f":"IF($B$2=StoreConfig!C1486,LEFT(StoreConfig!G1486,FIND(\"#\",StoreConfig!G1486)-1),\"\")","v":""},{"$f":"IF($B$2=StoreConfig!C1486,RIGHT(StoreConfig!G1486,LEN(StoreConfig!G1486)-FIND(\"#\",StoreConfig!G1486)),\"\")","v":""},{"$f":"IF($B$2=StoreConfig!C1486,IF(StoreConfig!L1486=0,\"不限购\",StoreConfig!L1486&\"次\"),\"\")","v":""}]
[{"$nulls":3},{"$f":"IF($B$2=StoreConfig!C1487,StoreConfig!O1487,\"\")","v":""},{"$f":"IF($B$2=StoreConfig!C1487,StoreConfig!E1487,\"\")","v":""},{"$f":"IF($B$2=StoreConfig!C1487,RIGHT(StoreConfig!J1487,LEN(StoreConfig!J1487)-FIND(\"|\",StoreConfig!J1487)),\"\")","v":""},{"$f":"IFERROR(VLOOKUP(--IF($B$2=StoreConfig!C1487,LEFT(StoreConfig!J1487,FIND(\"|\",StoreConfig!J1487)-1),\"\"),$Q$4:$R$20,2,FALSE),\"\")","v":""},{"$f":"IF($B$2=StoreConfig!C1487,LEFT(StoreConfig!G1487,FIND(\"#\",StoreConfig!G1487)-1),\"\")","v":""},{"$f":"IF($B$2=StoreConfig!C1487,RIGHT(StoreConfig!G1487,LEN(StoreConfig!G1487)-FIND(\"#\",StoreConfig!G1487)),\"\")","v":""},{"$f":"IF($B$2=StoreConfig!C1487,IF(StoreConfig!L1487=0,\"不限购\",StoreConfig!L1487&\"次\"),\"\")","v":""}]
[{"$nulls":3},{"$f":"IF($B$2=StoreConfig!C1488,StoreConfig!O1488,\"\")","v":""},{"$f":"IF($B$2=StoreConfig!C1488,StoreConfig!E1488,\"\")","v":""},{"$f":"IF($B$2=StoreConfig!C1488,RIGHT(StoreConfig!J1488,LEN(StoreConfig!J1488)-FIND(\"|\",StoreConfig!J1488)),\"\")","v":""},{"$f":"IFERROR(VLOOKUP(--IF($B$2=StoreConfig!C1488,LEFT(StoreConfig!J1488,FIND(\"|\",StoreConfig!J1488)-1),\"\"),$Q$4:$R$20,2,FALSE),\"\")","v":""},{"$f":"IF($B$2=StoreConfig!C1488,LEFT(StoreConfig!G1488,FIND(\"#\",StoreConfig!G1488)-1),\"\")","v":""},{"$f":"IF($B$2=StoreConfig!C1488,RIGHT(StoreConfig!G1488,LEN(StoreConfig!G1488)-FIND(\"#\",StoreConfig!G1488)),\"\")","v":""},{"$f":"IF($B$2=StoreConfig!C1488,IF(StoreConfig!L1488=0,\"不限购\",StoreConfig!L1488&\"次\"),\"\")","v":""}]
[{"$nulls":3},{"$f":"IF($B$2=StoreConfig!C1489,StoreConfig!O1489,\"\")","v":""},{"$f":"IF($B$2=StoreConfig!C1489,StoreConfig!E1489,\"\")","v":""},{"$f":"IF($B$2=StoreConfig!C1489,RIGHT(StoreConfig!J1489,LEN(StoreConfig!J1489)-FIND(\"|\",StoreConfig!J1489)),\"\")","v":""},{"$f":"IFERROR(VLOOKUP(--IF($B$2=StoreConfig!C1489,LEFT(StoreConfig!J1489,FIND(\"|\",StoreConfig!J1489)-1),\"\"),$Q$4:$R$20,2,FALSE),\"\")","v":""},{"$f":"IF($B$2=StoreConfig!C1489,LEFT(StoreConfig!G1489,FIND(\"#\",StoreConfig!G1489)-1),\"\")","v":""},{"$f":"IF($B$2=StoreConfig!C1489,RIGHT(StoreConfig!G1489,LEN(StoreConfig!G1489)-FIND(\"#\",StoreConfig!G1489)),\"\")","v":""},{"$f":"IF($B$2=StoreConfig!C1489,IF(StoreConfig!L1489=0,\"不限购\",StoreConfig!L1489&\"次\"),\"\")","v":""}]
[{"$nulls":3},{"$f":"IF($B$2=StoreConfig!C1490,StoreConfig!O1490,\"\")","v":""},{"$f":"IF($B$2=StoreConfig!C1490,StoreConfig!E1490,\"\")","v":""},{"$f":"IF($B$2=StoreConfig!C1490,RIGHT(StoreConfig!J1490,LEN(StoreConfig!J1490)-FIND(\"|\",StoreConfig!J1490)),\"\")","v":""},{"$f":"IFERROR(VLOOKUP(--IF($B$2=StoreConfig!C1490,LEFT(StoreConfig!J1490,FIND(\"|\",StoreConfig!J1490)-1),\"\"),$Q$4:$R$20,2,FALSE),\"\")","v":""},{"$f":"IF($B$2=StoreConfig!C1490,LEFT(StoreConfig!G1490,FIND(\"#\",StoreConfig!G1490)-1),\"\")","v":""},{"$f":"IF($B$2=StoreConfig!C1490,RIGHT(StoreConfig!G1490,LEN(StoreConfig!G1490)-FIND(\"#\",StoreConfig!G1490)),\"\")","v":""},{"$f":"IF($B$2=StoreConfig!C1490,IF(StoreConfig!L1490=0,\"不限购\",StoreConfig!L1490&\"次\"),\"\")","v":""}]
[{"$nulls":3},{"$f":"IF($B$2=StoreConfig!C1491,StoreConfig!O1491,\"\")","v":""},{"$f":"IF($B$2=StoreConfig!C1491,StoreConfig!E1491,\"\")","v":""},{"$f":"IF($B$2=StoreConfig!C1491,RIGHT(StoreConfig!J1491,LEN(StoreConfig!J1491)-FIND(\"|\",StoreConfig!J1491)),\"\")","v":""},{"$f":"IFERROR(VLOOKUP(--IF($B$2=StoreConfig!C1491,LEFT(StoreConfig!J1491,FIND(\"|\",StoreConfig!J1491)-1),\"\"),$Q$4:$R$20,2,FALSE),\"\")","v":""},{"$f":"IF($B$2=StoreConfig!C1491,LEFT(StoreConfig!G1491,FIND(\"#\",StoreConfig!G1491)-1),\"\")","v":""},{"$f":"IF($B$2=StoreConfig!C1491,RIGHT(StoreConfig!G1491,LEN(StoreConfig!G1491)-FIND(\"#\",StoreConfig!G1491)),\"\")","v":""},{"$f":"IF($B$2=StoreConfig!C1491,IF(StoreConfig!L1491=0,\"不限购\",StoreConfig!L1491&\"次\"),\"\")","v":""}]
[{"$nulls":3},{"$f":"IF($B$2=StoreConfig!C1492,StoreConfig!O1492,\"\")","v":""},{"$f":"IF($B$2=StoreConfig!C1492,StoreConfig!E1492,\"\")","v":""},{"$f":"IF($B$2=StoreConfig!C1492,RIGHT(StoreConfig!J1492,LEN(StoreConfig!J1492)-FIND(\"|\",StoreConfig!J1492)),\"\")","v":""},{"$f":"IFERROR(VLOOKUP(--IF($B$2=StoreConfig!C1492,LEFT(StoreConfig!J1492,FIND(\"|\",StoreConfig!J1492)-1),\"\"),$Q$4:$R$20,2,FALSE),\"\")","v":""},{"$f":"IF($B$2=StoreConfig!C1492,LEFT(StoreConfig!G1492,FIND(\"#\",StoreConfig!G1492)-1),\"\")","v":""},{"$f":"IF($B$2=StoreConfig!C1492,RIGHT(StoreConfig!G1492,LEN(StoreConfig!G1492)-FIND(\"#\",StoreConfig!G1492)),\"\")","v":""},{"$f":"IF($B$2=StoreConfig!C1492,IF(StoreConfig!L1492=0,\"不限购\",StoreConfig!L1492&\"次\"),\"\")","v":""}]
[{"$nulls":3},{"$f":"IF($B$2=StoreConfig!C1493,StoreConfig!O1493,\"\")","v":""},{"$f":"IF($B$2=StoreConfig!C1493,StoreConfig!E1493,\"\")","v":""},{"$f":"IF($B$2=StoreConfig!C1493,RIGHT(StoreConfig!J1493,LEN(StoreConfig!J1493)-FIND(\"|\",StoreConfig!J1493)),\"\")","v":""},{"$f":"IFERROR(VLOOKUP(--IF($B$2=StoreConfig!C1493,LEFT(StoreConfig!J1493,FIND(\"|\",StoreConfig!J1493)-1),\"\"),$Q$4:$R$20,2,FALSE),\"\")","v":""},{"$f":"IF($B$2=StoreConfig!C1493,LEFT(StoreConfig!G1493,FIND(\"#\",StoreConfig!G1493)-1),\"\")","v":""},{"$f":"IF($B$2=StoreConfig!C1493,RIGHT(StoreConfig!G1493,LEN(StoreConfig!G1493)-FIND(\"#\",StoreConfig!G1493)),\"\")","v":""},{"$f":"IF($B$2=StoreConfig!C1493,IF(StoreConfig!L1493=0,\"不限购\",StoreConfig!L1493&\"次\"),\"\")","v":""}]
[{"$nulls":3},{"$f":"IF($B$2=StoreConfig!C1494,StoreConfig!O1494,\"\")","v":""},{"$f":"IF($B$2=StoreConfig!C1494,StoreConfig!E1494,\"\")","v":""},{"$f":"IF($B$2=StoreConfig!C1494,RIGHT(StoreConfig!J1494,LEN(StoreConfig!J1494)-FIND(\"|\",StoreConfig!J1494)),\"\")","v":""},{"$f":"IFERROR(VLOOKUP(--IF($B$2=StoreConfig!C1494,LEFT(StoreConfig!J1494,FIND(\"|\",StoreConfig!J1494)-1),\"\"),$Q$4:$R$20,2,FALSE),\"\")","v":""},{"$f":"IF($B$2=StoreConfig!C1494,LEFT(StoreConfig!G1494,FIND(\"#\",StoreConfig!G1494)-1),\"\")","v":""},{"$f":"IF($B$2=StoreConfig!C1494,RIGHT(StoreConfig!G1494,LEN(StoreConfig!G1494)-FIND(\"#\",StoreConfig!G1494)),\"\")","v":""},{"$f":"IF($B$2=StoreConfig!C1494,IF(StoreConfig!L1494=0,\"不限购\",StoreConfig!L1494&\"次\"),\"\")","v":""}]
[{"$nulls":3},{"$f":"IF($B$2=StoreConfig!C1495,StoreConfig!O1495,\"\")","v":""},{"$f":"IF($B$2=StoreConfig!C1495,StoreConfig!E1495,\"\")","v":""},{"$f":"IF($B$2=StoreConfig!C1495,RIGHT(StoreConfig!J1495,LEN(StoreConfig!J1495)-FIND(\"|\",StoreConfig!J1495)),\"\")","v":""},{"$f":"IFERROR(VLOOKUP(--IF($B$2=StoreConfig!C1495,LEFT(StoreConfig!J1495,FIND(\"|\",StoreConfig!J1495)-1),\"\"),$Q$4:$R$20,2,FALSE),\"\")","v":""},{"$f":"IF($B$2=StoreConfig!C1495,LEFT(StoreConfig!G1495,FIND(\"#\",StoreConfig!G1495)-1),\"\")","v":""},{"$f":"IF($B$2=StoreConfig!C1495,RIGHT(StoreConfig!G1495,LEN(StoreConfig!G1495)-FIND(\"#\",StoreConfig!G1495)),\"\")","v":""},{"$f":"IF($B$2=StoreConfig!C1495,IF(StoreConfig!L1495=0,\"不限购\",StoreConfig!L1495&\"次\"),\"\")","v":""}]
[{"$nulls":3},{"$f":"IF($B$2=StoreConfig!C1496,StoreConfig!O1496,\"\")","v":""},{"$f":"IF($B$2=StoreConfig!C1496,StoreConfig!E1496,\"\")","v":""},{"$f":"IF($B$2=StoreConfig!C1496,RIGHT(StoreConfig!J1496,LEN(StoreConfig!J1496)-FIND(\"|\",StoreConfig!J1496)),\"\")","v":""},{"$f":"IFERROR(VLOOKUP(--IF($B$2=StoreConfig!C1496,LEFT(StoreConfig!J1496,FIND(\"|\",StoreConfig!J1496)-1),\"\"),$Q$4:$R$20,2,FALSE),\"\")","v":""},{"$f":"IF($B$2=StoreConfig!C1496,LEFT(StoreConfig!G1496,FIND(\"#\",StoreConfig!G1496)-1),\"\")","v":""},{"$f":"IF($B$2=StoreConfig!C1496,RIGHT(StoreConfig!G1496,LEN(StoreConfig!G1496)-FIND(\"#\",StoreConfig!G1496)),\"\")","v":""},{"$f":"IF($B$2=StoreConfig!C1496,IF(StoreConfig!L1496=0,\"不限购\",StoreConfig!L1496&\"次\"),\"\")","v":""}]
[{"$nulls":3},{"$f":"IF($B$2=StoreConfig!C1497,StoreConfig!O1497,\"\")","v":""},{"$f":"IF($B$2=StoreConfig!C1497,StoreConfig!E1497,\"\")","v":""},{"$f":"IF($B$2=StoreConfig!C1497,RIGHT(StoreConfig!J1497,LEN(StoreConfig!J1497)-FIND(\"|\",StoreConfig!J1497)),\"\")","v":""},{"$f":"IFERROR(VLOOKUP(--IF($B$2=StoreConfig!C1497,LEFT(StoreConfig!J1497,FIND(\"|\",StoreConfig!J1497)-1),\"\"),$Q$4:$R$20,2,FALSE),\"\")","v":""},{"$f":"IF($B$2=StoreConfig!C1497,LEFT(StoreConfig!G1497,FIND(\"#\",StoreConfig!G1497)-1),\"\")","v":""},{"$f":"IF($B$2=StoreConfig!C1497,RIGHT(StoreConfig!G1497,LEN(StoreConfig!G1497)-FIND(\"#\",StoreConfig!G1497)),\"\")","v":""},{"$f":"IF($B$2=StoreConfig!C1497,IF(StoreConfig!L1497=0,\"不限购\",StoreConfig!L1497&\"次\"),\"\")","v":""}]
[{"$nulls":3},{"$f":"IF($B$2=StoreConfig!C1498,StoreConfig!O1498,\"\")","v":""},{"$f":"IF($B$2=StoreConfig!C1498,StoreConfig!E1498,\"\")","v":""},{"$f":"IF($B$2=StoreConfig!C1498,RIGHT(StoreConfig!J1498,LEN(StoreConfig!J1498)-FIND(\"|\",StoreConfig!J1498)),\"\")","v":""},{"$f":"IFERROR(VLOOKUP(--IF($B$2=StoreConfig!C1498,LEFT(StoreConfig!J1498,FIND(\"|\",StoreConfig!J1498)-1),\"\"),$Q$4:$R$20,2,FALSE),\"\")","v":""},{"$f":"IF($B$2=StoreConfig!C1498,LEFT(StoreConfig!G1498,FIND(\"#\",StoreConfig!G1498)-1),\"\")","v":""},{"$f":"IF($B$2=StoreConfig!C1498,RIGHT(StoreConfig!G1498,LEN(StoreConfig!G1498)-FIND(\"#\",StoreConfig!G1498)),\"\")","v":""},{"$f":"IF($B$2=StoreConfig!C1498,IF(StoreConfig!L1498=0,\"不限购\",StoreConfig!L1498&\"次\"),\"\")","v":""}]
[{"$nulls":3},{"$f":"IF($B$2=StoreConfig!C1499,StoreConfig!O1499,\"\")","v":""},{"$f":"IF($B$2=StoreConfig!C1499,StoreConfig!E1499,\"\")","v":""},{"$f":"IF($B$2=StoreConfig!C1499,RIGHT(StoreConfig!J1499,LEN(StoreConfig!J1499)-FIND(\"|\",StoreConfig!J1499)),\"\")","v":""},{"$f":"IFERROR(VLOOKUP(--IF($B$2=StoreConfig!C1499,LEFT(StoreConfig!J1499,FIND(\"|\",StoreConfig!J1499)-1),\"\"),$Q$4:$R$20,2,FALSE),\"\")","v":""},{"$f":"IF($B$2=StoreConfig!C1499,LEFT(StoreConfig!G1499,FIND(\"#\",StoreConfig!G1499)-1),\"\")","v":""},{"$f":"IF($B$2=StoreConfig!C1499,RIGHT(StoreConfig!G1499,LEN(StoreConfig!G1499)-FIND(\"#\",StoreConfig!G1499)),\"\")","v":""},{"$f":"IF($B$2=StoreConfig!C1499,IF(StoreConfig!L1499=0,\"不限购\",StoreConfig!L1499&\"次\"),\"\")","v":""}]
[{"$nulls":3},{"$f":"IF($B$2=StoreConfig!C1500,StoreConfig!O1500,\"\")","v":""},{"$f":"IF($B$2=StoreConfig!C1500,StoreConfig!E1500,\"\")","v":""},{"$f":"IF($B$2=StoreConfig!C1500,RIGHT(StoreConfig!J1500,LEN(StoreConfig!J1500)-FIND(\"|\",StoreConfig!J1500)),\"\")","v":""},{"$f":"IFERROR(VLOOKUP(--IF($B$2=StoreConfig!C1500,LEFT(StoreConfig!J1500,FIND(\"|\",StoreConfig!J1500)-1),\"\"),$Q$4:$R$20,2,FALSE),\"\")","v":""},{"$f":"IF($B$2=StoreConfig!C1500,LEFT(StoreConfig!G1500,FIND(\"#\",StoreConfig!G1500)-1),\"\")","v":""},{"$f":"IF($B$2=StoreConfig!C1500,RIGHT(StoreConfig!G1500,LEN(StoreConfig!G1500)-FIND(\"#\",StoreConfig!G1500)),\"\")","v":""},{"$f":"IF($B$2=StoreConfig!C1500,IF(StoreConfig!L1500=0,\"不限购\",StoreConfig!L1500&\"次\"),\"\")","v":""}]
[{"$nulls":3},{"$f":"IF($B$2=StoreConfig!C1501,StoreConfig!O1501,\"\")","v":""},{"$f":"IF($B$2=StoreConfig!C1501,StoreConfig!E1501,\"\")","v":""},{"$f":"IF($B$2=StoreConfig!C1501,RIGHT(StoreConfig!J1501,LEN(StoreConfig!J1501)-FIND(\"|\",StoreConfig!J1501)),\"\")","v":""},{"$f":"IFERROR(VLOOKUP(--IF($B$2=StoreConfig!C1501,LEFT(StoreConfig!J1501,FIND(\"|\",StoreConfig!J1501)-1),\"\"),$Q$4:$R$20,2,FALSE),\"\")","v":""},{"$f":"IF($B$2=StoreConfig!C1501,LEFT(StoreConfig!G1501,FIND(\"#\",StoreConfig!G1501)-1),\"\")","v":""},{"$f":"IF($B$2=StoreConfig!C1501,RIGHT(StoreConfig!G1501,LEN(StoreConfig!G1501)-FIND(\"#\",StoreConfig!G1501)),\"\")","v":""},{"$f":"IF($B$2=StoreConfig!C1501,IF(StoreConfig!L1501=0,\"不限购\",StoreConfig!L1501&\"次\"),\"\")","v":""}]
[{"$nulls":3},{"$f":"IF($B$2=StoreConfig!C1502,StoreConfig!O1502,\"\")","v":""},{"$f":"IF($B$2=StoreConfig!C1502,StoreConfig!E1502,\"\")","v":""},{"$f":"IF($B$2=StoreConfig!C1502,RIGHT(StoreConfig!J1502,LEN(StoreConfig!J1502)-FIND(\"|\",StoreConfig!J1502)),\"\")","v":""},{"$f":"IFERROR(VLOOKUP(--IF($B$2=StoreConfig!C1502,LEFT(StoreConfig!J1502,FIND(\"|\",StoreConfig!J1502)-1),\"\"),$Q$4:$R$20,2,FALSE),\"\")","v":""},{"$f":"IF($B$2=StoreConfig!C1502,LEFT(StoreConfig!G1502,FIND(\"#\",StoreConfig!G1502)-1),\"\")","v":""},{"$f":"IF($B$2=StoreConfig!C1502,RIGHT(StoreConfig!G1502,LEN(StoreConfig!G1502)-FIND(\"#\",StoreConfig!G1502)),\"\")","v":""},{"$f":"IF($B$2=StoreConfig!C1502,IF(StoreConfig!L1502=0,\"不限购\",StoreConfig!L1502&\"次\"),\"\")","v":""}]
[{"$nulls":3},{"$f":"IF($B$2=StoreConfig!C1503,StoreConfig!O1503,\"\")","v":""},{"$f":"IF($B$2=StoreConfig!C1503,StoreConfig!E1503,\"\")","v":""},{"$f":"IF($B$2=StoreConfig!C1503,RIGHT(StoreConfig!J1503,LEN(StoreConfig!J1503)-FIND(\"|\",StoreConfig!J1503)),\"\")","v":""},{"$f":"IFERROR(VLOOKUP(--IF($B$2=StoreConfig!C1503,LEFT(StoreConfig!J1503,FIND(\"|\",StoreConfig!J1503)-1),\"\"),$Q$4:$R$20,2,FALSE),\"\")","v":""},{"$f":"IF($B$2=StoreConfig!C1503,LEFT(StoreConfig!G1503,FIND(\"#\",StoreConfig!G1503)-1),\"\")","v":""},{"$f":"IF($B$2=StoreConfig!C1503,RIGHT(StoreConfig!G1503,LEN(StoreConfig!G1503)-FIND(\"#\",StoreConfig!G1503)),\"\")","v":""},{"$f":"IF($B$2=StoreConfig!C1503,IF(StoreConfig!L1503=0,\"不限购\",StoreConfig!L1503&\"次\"),\"\")","v":""}]
[{"$nulls":3},{"$f":"IF($B$2=StoreConfig!C1504,StoreConfig!O1504,\"\")","v":""},{"$f":"IF($B$2=StoreConfig!C1504,StoreConfig!E1504,\"\")","v":""},{"$f":"IF($B$2=StoreConfig!C1504,RIGHT(StoreConfig!J1504,LEN(StoreConfig!J1504)-FIND(\"|\",StoreConfig!J1504)),\"\")","v":""},{"$f":"IFERROR(VLOOKUP(--IF($B$2=StoreConfig!C1504,LEFT(StoreConfig!J1504,FIND(\"|\",StoreConfig!J1504)-1),\"\"),$Q$4:$R$20,2,FALSE),\"\")","v":""},{"$f":"IF($B$2=StoreConfig!C1504,LEFT(StoreConfig!G1504,FIND(\"#\",StoreConfig!G1504)-1),\"\")","v":""},{"$f":"IF($B$2=StoreConfig!C1504,RIGHT(StoreConfig!G1504,LEN(StoreConfig!G1504)-FIND(\"#\",StoreConfig!G1504)),\"\")","v":""},{"$f":"IF($B$2=StoreConfig!C1504,IF(StoreConfig!L1504=0,\"不限购\",StoreConfig!L1504&\"次\"),\"\")","v":""}]
[{"$nulls":3},{"$f":"IF($B$2=StoreConfig!C1505,StoreConfig!O1505,\"\")","v":""},{"$f":"IF($B$2=StoreConfig!C1505,StoreConfig!E1505,\"\")","v":""},{"$f":"IF($B$2=StoreConfig!C1505,RIGHT(StoreConfig!J1505,LEN(StoreConfig!J1505)-FIND(\"|\",StoreConfig!J1505)),\"\")","v":""},{"$f":"IFERROR(VLOOKUP(--IF($B$2=StoreConfig!C1505,LEFT(StoreConfig!J1505,FIND(\"|\",StoreConfig!J1505)-1),\"\"),$Q$4:$R$20,2,FALSE),\"\")","v":""},{"$f":"IF($B$2=StoreConfig!C1505,LEFT(StoreConfig!G1505,FIND(\"#\",StoreConfig!G1505)-1),\"\")","v":""},{"$f":"IF($B$2=StoreConfig!C1505,RIGHT(StoreConfig!G1505,LEN(StoreConfig!G1505)-FIND(\"#\",StoreConfig!G1505)),\"\")","v":""},{"$f":"IF($B$2=StoreConfig!C1505,IF(StoreConfig!L1505=0,\"不限购\",StoreConfig!L1505&\"次\"),\"\")","v":""}]
[{"$nulls":3},{"$f":"IF($B$2=StoreConfig!C1506,StoreConfig!O1506,\"\")","v":""},{"$f":"IF($B$2=StoreConfig!C1506,StoreConfig!E1506,\"\")","v":""},{"$f":"IF($B$2=StoreConfig!C1506,RIGHT(StoreConfig!J1506,LEN(StoreConfig!J1506)-FIND(\"|\",StoreConfig!J1506)),\"\")","v":""},{"$f":"IFERROR(VLOOKUP(--IF($B$2=StoreConfig!C1506,LEFT(StoreConfig!J1506,FIND(\"|\",StoreConfig!J1506)-1),\"\"),$Q$4:$R$20,2,FALSE),\"\")","v":""},{"$f":"IF($B$2=StoreConfig!C1506,LEFT(StoreConfig!G1506,FIND(\"#\",StoreConfig!G1506)-1),\"\")","v":""},{"$f":"IF($B$2=StoreConfig!C1506,RIGHT(StoreConfig!G1506,LEN(StoreConfig!G1506)-FIND(\"#\",StoreConfig!G1506)),\"\")","v":""},{"$f":"IF($B$2=StoreConfig!C1506,IF(StoreConfig!L1506=0,\"不限购\",StoreConfig!L1506&\"次\"),\"\")","v":""}]
[{"$nulls":3},{"$f":"IF($B$2=StoreConfig!C1507,StoreConfig!O1507,\"\")","v":""},{"$f":"IF($B$2=StoreConfig!C1507,StoreConfig!E1507,\"\")","v":""},{"$f":"IF($B$2=StoreConfig!C1507,RIGHT(StoreConfig!J1507,LEN(StoreConfig!J1507)-FIND(\"|\",StoreConfig!J1507)),\"\")","v":""},{"$f":"IFERROR(VLOOKUP(--IF($B$2=StoreConfig!C1507,LEFT(StoreConfig!J1507,FIND(\"|\",StoreConfig!J1507)-1),\"\"),$Q$4:$R$20,2,FALSE),\"\")","v":""},{"$f":"IF($B$2=StoreConfig!C1507,LEFT(StoreConfig!G1507,FIND(\"#\",StoreConfig!G1507)-1),\"\")","v":""},{"$f":"IF($B$2=StoreConfig!C1507,RIGHT(StoreConfig!G1507,LEN(StoreConfig!G1507)-FIND(\"#\",StoreConfig!G1507)),\"\")","v":""},{"$f":"IF($B$2=StoreConfig!C1507,IF(StoreConfig!L1507=0,\"不限购\",StoreConfig!L1507&\"次\"),\"\")","v":""}]
[{"$nulls":3},{"$f":"IF($B$2=StoreConfig!C1508,StoreConfig!O1508,\"\")","v":""},{"$f":"IF($B$2=StoreConfig!C1508,StoreConfig!E1508,\"\")","v":""},{"$f":"IF($B$2=StoreConfig!C1508,RIGHT(StoreConfig!J1508,LEN(StoreConfig!J1508)-FIND(\"|\",StoreConfig!J1508)),\"\")","v":""},{"$f":"IFERROR(VLOOKUP(--IF($B$2=StoreConfig!C1508,LEFT(StoreConfig!J1508,FIND(\"|\",StoreConfig!J1508)-1),\"\"),$Q$4:$R$20,2,FALSE),\"\")","v":""},{"$f":"IF($B$2=StoreConfig!C1508,LEFT(StoreConfig!G1508,FIND(\"#\",StoreConfig!G1508)-1),\"\")","v":""},{"$f":"IF($B$2=StoreConfig!C1508,RIGHT(StoreConfig!G1508,LEN(StoreConfig!G1508)-FIND(\"#\",StoreConfig!G1508)),\"\")","v":""},{"$f":"IF($B$2=StoreConfig!C1508,IF(StoreConfig!L1508=0,\"不限购\",StoreConfig!L1508&\"次\"),\"\")","v":""}]
[{"$nulls":3},{"$f":"IF($B$2=StoreConfig!C1509,StoreConfig!O1509,\"\")","v":""},{"$f":"IF($B$2=StoreConfig!C1509,StoreConfig!E1509,\"\")","v":""},{"$f":"IF($B$2=StoreConfig!C1509,RIGHT(StoreConfig!J1509,LEN(StoreConfig!J1509)-FIND(\"|\",StoreConfig!J1509)),\"\")","v":""},{"$f":"IFERROR(VLOOKUP(--IF($B$2=StoreConfig!C1509,LEFT(StoreConfig!J1509,FIND(\"|\",StoreConfig!J1509)-1),\"\"),$Q$4:$R$20,2,FALSE),\"\")","v":""},{"$f":"IF($B$2=StoreConfig!C1509,LEFT(StoreConfig!G1509,FIND(\"#\",StoreConfig!G1509)-1),\"\")","v":""},{"$f":"IF($B$2=StoreConfig!C1509,RIGHT(StoreConfig!G1509,LEN(StoreConfig!G1509)-FIND(\"#\",StoreConfig!G1509)),\"\")","v":""},{"$f":"IF($B$2=StoreConfig!C1509,IF(StoreConfig!L1509=0,\"不限购\",StoreConfig!L1509&\"次\"),\"\")","v":""}]
[{"$nulls":3},{"$f":"IF($B$2=StoreConfig!C1510,StoreConfig!O1510,\"\")","v":""},{"$f":"IF($B$2=StoreConfig!C1510,StoreConfig!E1510,\"\")","v":""},{"$f":"IF($B$2=StoreConfig!C1510,RIGHT(StoreConfig!J1510,LEN(StoreConfig!J1510)-FIND(\"|\",StoreConfig!J1510)),\"\")","v":""},{"$f":"IFERROR(VLOOKUP(--IF($B$2=StoreConfig!C1510,LEFT(StoreConfig!J1510,FIND(\"|\",StoreConfig!J1510)-1),\"\"),$Q$4:$R$20,2,FALSE),\"\")","v":""},{"$f":"IF($B$2=StoreConfig!C1510,LEFT(StoreConfig!G1510,FIND(\"#\",StoreConfig!G1510)-1),\"\")","v":""},{"$f":"IF($B$2=StoreConfig!C1510,RIGHT(StoreConfig!G1510,LEN(StoreConfig!G1510)-FIND(\"#\",StoreConfig!G1510)),\"\")","v":""},{"$f":"IF($B$2=StoreConfig!C1510,IF(StoreConfig!L1510=0,\"不限购\",StoreConfig!L1510&\"次\"),\"\")","v":""}]
[{"$nulls":3},{"$f":"IF($B$2=StoreConfig!C1511,StoreConfig!O1511,\"\")","v":""},{"$f":"IF($B$2=StoreConfig!C1511,StoreConfig!E1511,\"\")","v":""},{"$f":"IF($B$2=StoreConfig!C1511,RIGHT(StoreConfig!J1511,LEN(StoreConfig!J1511)-FIND(\"|\",StoreConfig!J1511)),\"\")","v":""},{"$f":"IFERROR(VLOOKUP(--IF($B$2=StoreConfig!C1511,LEFT(StoreConfig!J1511,FIND(\"|\",StoreConfig!J1511)-1),\"\"),$Q$4:$R$20,2,FALSE),\"\")","v":""},{"$f":"IF($B$2=StoreConfig!C1511,LEFT(StoreConfig!G1511,FIND(\"#\",StoreConfig!G1511)-1),\"\")","v":""},{"$f":"IF($B$2=StoreConfig!C1511,RIGHT(StoreConfig!G1511,LEN(StoreConfig!G1511)-FIND(\"#\",StoreConfig!G1511)),\"\")","v":""},{"$f":"IF($B$2=StoreConfig!C1511,IF(StoreConfig!L1511=0,\"不限购\",StoreConfig!L1511&\"次\"),\"\")","v":""}]
[{"$nulls":3},{"$f":"IF($B$2=StoreConfig!C1512,StoreConfig!O1512,\"\")","v":""},{"$f":"IF($B$2=StoreConfig!C1512,StoreConfig!E1512,\"\")","v":""},{"$f":"IF($B$2=StoreConfig!C1512,RIGHT(StoreConfig!J1512,LEN(StoreConfig!J1512)-FIND(\"|\",StoreConfig!J1512)),\"\")","v":""},{"$f":"IFERROR(VLOOKUP(--IF($B$2=StoreConfig!C1512,LEFT(StoreConfig!J1512,FIND(\"|\",StoreConfig!J1512)-1),\"\"),$Q$4:$R$20,2,FALSE),\"\")","v":""},{"$f":"IF($B$2=StoreConfig!C1512,LEFT(StoreConfig!G1512,FIND(\"#\",StoreConfig!G1512)-1),\"\")","v":""},{"$f":"IF($B$2=StoreConfig!C1512,RIGHT(StoreConfig!G1512,LEN(StoreConfig!G1512)-FIND(\"#\",StoreConfig!G1512)),\"\")","v":""},{"$f":"IF($B$2=StoreConfig!C1512,IF(StoreConfig!L1512=0,\"不限购\",StoreConfig!L1512&\"次\"),\"\")","v":""}]
[{"$nulls":3},{"$f":"IF($B$2=StoreConfig!C1513,StoreConfig!O1513,\"\")","v":""},{"$f":"IF($B$2=StoreConfig!C1513,StoreConfig!E1513,\"\")","v":""},{"$f":"IF($B$2=StoreConfig!C1513,RIGHT(StoreConfig!J1513,LEN(StoreConfig!J1513)-FIND(\"|\",StoreConfig!J1513)),\"\")","v":""},{"$f":"IFERROR(VLOOKUP(--IF($B$2=StoreConfig!C1513,LEFT(StoreConfig!J1513,FIND(\"|\",StoreConfig!J1513)-1),\"\"),$Q$4:$R$20,2,FALSE),\"\")","v":""},{"$f":"IF($B$2=StoreConfig!C1513,LEFT(StoreConfig!G1513,FIND(\"#\",StoreConfig!G1513)-1),\"\")","v":""},{"$f":"IF($B$2=StoreConfig!C1513,RIGHT(StoreConfig!G1513,LEN(StoreConfig!G1513)-FIND(\"#\",StoreConfig!G1513)),\"\")","v":""},{"$f":"IF($B$2=StoreConfig!C1513,IF(StoreConfig!L1513=0,\"不限购\",StoreConfig!L1513&\"次\"),\"\")","v":""}]
[{"$nulls":3},{"$f":"IF($B$2=StoreConfig!C1514,StoreConfig!O1514,\"\")","v":""},{"$f":"IF($B$2=StoreConfig!C1514,StoreConfig!E1514,\"\")","v":""},{"$f":"IF($B$2=StoreConfig!C1514,RIGHT(StoreConfig!J1514,LEN(StoreConfig!J1514)-FIND(\"|\",StoreConfig!J1514)),\"\")","v":""},{"$f":"IFERROR(VLOOKUP(--IF($B$2=StoreConfig!C1514,LEFT(StoreConfig!J1514,FIND(\"|\",StoreConfig!J1514)-1),\"\"),$Q$4:$R$20,2,FALSE),\"\")","v":""},{"$f":"IF($B$2=StoreConfig!C1514,LEFT(StoreConfig!G1514,FIND(\"#\",StoreConfig!G1514)-1),\"\")","v":""},{"$f":"IF($B$2=StoreConfig!C1514,RIGHT(StoreConfig!G1514,LEN(StoreConfig!G1514)-FIND(\"#\",StoreConfig!G1514)),\"\")","v":""},{"$f":"IF($B$2=StoreConfig!C1514,IF(StoreConfig!L1514=0,\"不限购\",StoreConfig!L1514&\"次\"),\"\")","v":""}]
[{"$nulls":3},{"$f":"IF($B$2=StoreConfig!C1515,StoreConfig!O1515,\"\")","v":""},{"$f":"IF($B$2=StoreConfig!C1515,StoreConfig!E1515,\"\")","v":""},{"$f":"IF($B$2=StoreConfig!C1515,RIGHT(StoreConfig!J1515,LEN(StoreConfig!J1515)-FIND(\"|\",StoreConfig!J1515)),\"\")","v":""},{"$f":"IFERROR(VLOOKUP(--IF($B$2=StoreConfig!C1515,LEFT(StoreConfig!J1515,FIND(\"|\",StoreConfig!J1515)-1),\"\"),$Q$4:$R$20,2,FALSE),\"\")","v":""},{"$f":"IF($B$2=StoreConfig!C1515,LEFT(StoreConfig!G1515,FIND(\"#\",StoreConfig!G1515)-1),\"\")","v":""},{"$f":"IF($B$2=StoreConfig!C1515,RIGHT(StoreConfig!G1515,LEN(StoreConfig!G1515)-FIND(\"#\",StoreConfig!G1515)),\"\")","v":""},{"$f":"IF($B$2=StoreConfig!C1515,IF(StoreConfig!L1515=0,\"不限购\",StoreConfig!L1515&\"次\"),\"\")","v":""}]
[{"$nulls":3},{"$f":"IF($B$2=StoreConfig!C1516,StoreConfig!O1516,\"\")","v":""},{"$f":"IF($B$2=StoreConfig!C1516,StoreConfig!E1516,\"\")","v":""},{"$f":"IF($B$2=StoreConfig!C1516,RIGHT(StoreConfig!J1516,LEN(StoreConfig!J1516)-FIND(\"|\",StoreConfig!J1516)),\"\")","v":""},{"$f":"IFERROR(VLOOKUP(--IF($B$2=StoreConfig!C1516,LEFT(StoreConfig!J1516,FIND(\"|\",StoreConfig!J1516)-1),\"\"),$Q$4:$R$20,2,FALSE),\"\")","v":""},{"$f":"IF($B$2=StoreConfig!C1516,LEFT(StoreConfig!G1516,FIND(\"#\",StoreConfig!G1516)-1),\"\")","v":""},{"$f":"IF($B$2=StoreConfig!C1516,RIGHT(StoreConfig!G1516,LEN(StoreConfig!G1516)-FIND(\"#\",StoreConfig!G1516)),\"\")","v":""},{"$f":"IF($B$2=StoreConfig!C1516,IF(StoreConfig!L1516=0,\"不限购\",StoreConfig!L1516&\"次\"),\"\")","v":""}]
[{"$nulls":3},{"$f":"IF($B$2=StoreConfig!C1517,StoreConfig!O1517,\"\")","v":""},{"$f":"IF($B$2=StoreConfig!C1517,StoreConfig!E1517,\"\")","v":""},{"$f":"IF($B$2=StoreConfig!C1517,RIGHT(StoreConfig!J1517,LEN(StoreConfig!J1517)-FIND(\"|\",StoreConfig!J1517)),\"\")","v":""},{"$f":"IFERROR(VLOOKUP(--IF($B$2=StoreConfig!C1517,LEFT(StoreConfig!J1517,FIND(\"|\",StoreConfig!J1517)-1),\"\"),$Q$4:$R$20,2,FALSE),\"\")","v":""},{"$f":"IF($B$2=StoreConfig!C1517,LEFT(StoreConfig!G1517,FIND(\"#\",StoreConfig!G1517)-1),\"\")","v":""},{"$f":"IF($B$2=StoreConfig!C1517,RIGHT(StoreConfig!G1517,LEN(StoreConfig!G1517)-FIND(\"#\",StoreConfig!G1517)),\"\")","v":""},{"$f":"IF($B$2=StoreConfig!C1517,IF(StoreConfig!L1517=0,\"不限购\",StoreConfig!L1517&\"次\"),\"\")","v":""}]
[{"$nulls":3},{"$f":"IF($B$2=StoreConfig!C1518,StoreConfig!O1518,\"\")","v":""},{"$f":"IF($B$2=StoreConfig!C1518,StoreConfig!E1518,\"\")","v":""},{"$f":"IF($B$2=StoreConfig!C1518,RIGHT(StoreConfig!J1518,LEN(StoreConfig!J1518)-FIND(\"|\",StoreConfig!J1518)),\"\")","v":""},{"$f":"IFERROR(VLOOKUP(--IF($B$2=StoreConfig!C1518,LEFT(StoreConfig!J1518,FIND(\"|\",StoreConfig!J1518)-1),\"\"),$Q$4:$R$20,2,FALSE),\"\")","v":""},{"$f":"IF($B$2=StoreConfig!C1518,LEFT(StoreConfig!G1518,FIND(\"#\",StoreConfig!G1518)-1),\"\")","v":""},{"$f":"IF($B$2=StoreConfig!C1518,RIGHT(StoreConfig!G1518,LEN(StoreConfig!G1518)-FIND(\"#\",StoreConfig!G1518)),\"\")","v":""},{"$f":"IF($B$2=StoreConfig!C1518,IF(StoreConfig!L1518=0,\"不限购\",StoreConfig!L1518&\"次\"),\"\")","v":""}]
[{"$nulls":3},{"$f":"IF($B$2=StoreConfig!C1519,StoreConfig!O1519,\"\")","v":""},{"$f":"IF($B$2=StoreConfig!C1519,StoreConfig!E1519,\"\")","v":""},{"$f":"IF($B$2=StoreConfig!C1519,RIGHT(StoreConfig!J1519,LEN(StoreConfig!J1519)-FIND(\"|\",StoreConfig!J1519)),\"\")","v":""},{"$f":"IFERROR(VLOOKUP(--IF($B$2=StoreConfig!C1519,LEFT(StoreConfig!J1519,FIND(\"|\",StoreConfig!J1519)-1),\"\"),$Q$4:$R$20,2,FALSE),\"\")","v":""},{"$f":"IF($B$2=StoreConfig!C1519,LEFT(StoreConfig!G1519,FIND(\"#\",StoreConfig!G1519)-1),\"\")","v":""},{"$f":"IF($B$2=StoreConfig!C1519,RIGHT(StoreConfig!G1519,LEN(StoreConfig!G1519)-FIND(\"#\",StoreConfig!G1519)),\"\")","v":""},{"$f":"IF($B$2=StoreConfig!C1519,IF(StoreConfig!L1519=0,\"不限购\",StoreConfig!L1519&\"次\"),\"\")","v":""}]
[{"$nulls":3},{"$f":"IF($B$2=StoreConfig!C1520,StoreConfig!O1520,\"\")","v":""},{"$f":"IF($B$2=StoreConfig!C1520,StoreConfig!E1520,\"\")","v":""},{"$f":"IF($B$2=StoreConfig!C1520,RIGHT(StoreConfig!J1520,LEN(StoreConfig!J1520)-FIND(\"|\",StoreConfig!J1520)),\"\")","v":""},{"$f":"IFERROR(VLOOKUP(--IF($B$2=StoreConfig!C1520,LEFT(StoreConfig!J1520,FIND(\"|\",StoreConfig!J1520)-1),\"\"),$Q$4:$R$20,2,FALSE),\"\")","v":""},{"$f":"IF($B$2=StoreConfig!C1520,LEFT(StoreConfig!G1520,FIND(\"#\",StoreConfig!G1520)-1),\"\")","v":""},{"$f":"IF($B$2=StoreConfig!C1520,RIGHT(StoreConfig!G1520,LEN(StoreConfig!G1520)-FIND(\"#\",StoreConfig!G1520)),\"\")","v":""},{"$f":"IF($B$2=StoreConfig!C1520,IF(StoreConfig!L1520=0,\"不限购\",StoreConfig!L1520&\"次\"),\"\")","v":""}]
[{"$nulls":3},{"$f":"IF($B$2=StoreConfig!C1521,StoreConfig!O1521,\"\")","v":""},{"$f":"IF($B$2=StoreConfig!C1521,StoreConfig!E1521,\"\")","v":""},{"$f":"IF($B$2=StoreConfig!C1521,RIGHT(StoreConfig!J1521,LEN(StoreConfig!J1521)-FIND(\"|\",StoreConfig!J1521)),\"\")","v":""},{"$f":"IFERROR(VLOOKUP(--IF($B$2=StoreConfig!C1521,LEFT(StoreConfig!J1521,FIND(\"|\",StoreConfig!J1521)-1),\"\"),$Q$4:$R$20,2,FALSE),\"\")","v":""},{"$f":"IF($B$2=StoreConfig!C1521,LEFT(StoreConfig!G1521,FIND(\"#\",StoreConfig!G1521)-1),\"\")","v":""},{"$f":"IF($B$2=StoreConfig!C1521,RIGHT(StoreConfig!G1521,LEN(StoreConfig!G1521)-FIND(\"#\",StoreConfig!G1521)),\"\")","v":""},{"$f":"IF($B$2=StoreConfig!C1521,IF(StoreConfig!L1521=0,\"不限购\",StoreConfig!L1521&\"次\"),\"\")","v":""}]
[{"$nulls":3},{"$f":"IF($B$2=StoreConfig!C1522,StoreConfig!O1522,\"\")","v":""},{"$f":"IF($B$2=StoreConfig!C1522,StoreConfig!E1522,\"\")","v":""},{"$f":"IF($B$2=StoreConfig!C1522,RIGHT(StoreConfig!J1522,LEN(StoreConfig!J1522)-FIND(\"|\",StoreConfig!J1522)),\"\")","v":""},{"$f":"IFERROR(VLOOKUP(--IF($B$2=StoreConfig!C1522,LEFT(StoreConfig!J1522,FIND(\"|\",StoreConfig!J1522)-1),\"\"),$Q$4:$R$20,2,FALSE),\"\")","v":""},{"$f":"IF($B$2=StoreConfig!C1522,LEFT(StoreConfig!G1522,FIND(\"#\",StoreConfig!G1522)-1),\"\")","v":""},{"$f":"IF($B$2=StoreConfig!C1522,RIGHT(StoreConfig!G1522,LEN(StoreConfig!G1522)-FIND(\"#\",StoreConfig!G1522)),\"\")","v":""},{"$f":"IF($B$2=StoreConfig!C1522,IF(StoreConfig!L1522=0,\"不限购\",StoreConfig!L1522&\"次\"),\"\")","v":""}]
[{"$nulls":3},{"$f":"IF($B$2=StoreConfig!C1523,StoreConfig!O1523,\"\")","v":""},{"$f":"IF($B$2=StoreConfig!C1523,StoreConfig!E1523,\"\")","v":""},{"$f":"IF($B$2=StoreConfig!C1523,RIGHT(StoreConfig!J1523,LEN(StoreConfig!J1523)-FIND(\"|\",StoreConfig!J1523)),\"\")","v":""},{"$f":"IFERROR(VLOOKUP(--IF($B$2=StoreConfig!C1523,LEFT(StoreConfig!J1523,FIND(\"|\",StoreConfig!J1523)-1),\"\"),$Q$4:$R$20,2,FALSE),\"\")","v":""},{"$f":"IF($B$2=StoreConfig!C1523,LEFT(StoreConfig!G1523,FIND(\"#\",StoreConfig!G1523)-1),\"\")","v":""},{"$f":"IF($B$2=StoreConfig!C1523,RIGHT(StoreConfig!G1523,LEN(StoreConfig!G1523)-FIND(\"#\",StoreConfig!G1523)),\"\")","v":""},{"$f":"IF($B$2=StoreConfig!C1523,IF(StoreConfig!L1523=0,\"不限购\",StoreConfig!L1523&\"次\"),\"\")","v":""}]
[{"$nulls":3},{"$f":"IF($B$2=StoreConfig!C1524,StoreConfig!O1524,\"\")","v":""},{"$f":"IF($B$2=StoreConfig!C1524,StoreConfig!E1524,\"\")","v":""},{"$f":"IF($B$2=StoreConfig!C1524,RIGHT(StoreConfig!J1524,LEN(StoreConfig!J1524)-FIND(\"|\",StoreConfig!J1524)),\"\")","v":""},{"$f":"IFERROR(VLOOKUP(--IF($B$2=StoreConfig!C1524,LEFT(StoreConfig!J1524,FIND(\"|\",StoreConfig!J1524)-1),\"\"),$Q$4:$R$20,2,FALSE),\"\")","v":""},{"$f":"IF($B$2=StoreConfig!C1524,LEFT(StoreConfig!G1524,FIND(\"#\",StoreConfig!G1524)-1),\"\")","v":""},{"$f":"IF($B$2=StoreConfig!C1524,RIGHT(StoreConfig!G1524,LEN(StoreConfig!G1524)-FIND(\"#\",StoreConfig!G1524)),\"\")","v":""},{"$f":"IF($B$2=StoreConfig!C1524,IF(StoreConfig!L1524=0,\"不限购\",StoreConfig!L1524&\"次\"),\"\")","v":""}]
[{"$nulls":3},{"$f":"IF($B$2=StoreConfig!C1525,StoreConfig!O1525,\"\")","v":""},{"$f":"IF($B$2=StoreConfig!C1525,StoreConfig!E1525,\"\")","v":""},{"$f":"IF($B$2=StoreConfig!C1525,RIGHT(StoreConfig!J1525,LEN(StoreConfig!J1525)-FIND(\"|\",StoreConfig!J1525)),\"\")","v":""},{"$f":"IFERROR(VLOOKUP(--IF($B$2=StoreConfig!C1525,LEFT(StoreConfig!J1525,FIND(\"|\",StoreConfig!J1525)-1),\"\"),$Q$4:$R$20,2,FALSE),\"\")","v":""},{"$f":"IF($B$2=StoreConfig!C1525,LEFT(StoreConfig!G1525,FIND(\"#\",StoreConfig!G1525)-1),\"\")","v":""},{"$f":"IF($B$2=StoreConfig!C1525,RIGHT(StoreConfig!G1525,LEN(StoreConfig!G1525)-FIND(\"#\",StoreConfig!G1525)),\"\")","v":""},{"$f":"IF($B$2=StoreConfig!C1525,IF(StoreConfig!L1525=0,\"不限购\",StoreConfig!L1525&\"次\"),\"\")","v":""}]
[{"$nulls":3},{"$f":"IF($B$2=StoreConfig!C1526,StoreConfig!O1526,\"\")","v":""},{"$f":"IF($B$2=StoreConfig!C1526,StoreConfig!E1526,\"\")","v":""},{"$f":"IF($B$2=StoreConfig!C1526,RIGHT(StoreConfig!J1526,LEN(StoreConfig!J1526)-FIND(\"|\",StoreConfig!J1526)),\"\")","v":""},{"$f":"IFERROR(VLOOKUP(--IF($B$2=StoreConfig!C1526,LEFT(StoreConfig!J1526,FIND(\"|\",StoreConfig!J1526)-1),\"\"),$Q$4:$R$20,2,FALSE),\"\")","v":""},{"$f":"IF($B$2=StoreConfig!C1526,LEFT(StoreConfig!G1526,FIND(\"#\",StoreConfig!G1526)-1),\"\")","v":""},{"$f":"IF($B$2=StoreConfig!C1526,RIGHT(StoreConfig!G1526,LEN(StoreConfig!G1526)-FIND(\"#\",StoreConfig!G1526)),\"\")","v":""},{"$f":"IF($B$2=StoreConfig!C1526,IF(StoreConfig!L1526=0,\"不限购\",StoreConfig!L1526&\"次\"),\"\")","v":""}]
[{"$nulls":3},{"$f":"IF($B$2=StoreConfig!C1527,StoreConfig!O1527,\"\")","v":""},{"$f":"IF($B$2=StoreConfig!C1527,StoreConfig!E1527,\"\")","v":""},{"$f":"IF($B$2=StoreConfig!C1527,RIGHT(StoreConfig!J1527,LEN(StoreConfig!J1527)-FIND(\"|\",StoreConfig!J1527)),\"\")","v":""},{"$f":"IFERROR(VLOOKUP(--IF($B$2=StoreConfig!C1527,LEFT(StoreConfig!J1527,FIND(\"|\",StoreConfig!J1527)-1),\"\"),$Q$4:$R$20,2,FALSE),\"\")","v":""},{"$f":"IF($B$2=StoreConfig!C1527,LEFT(StoreConfig!G1527,FIND(\"#\",StoreConfig!G1527)-1),\"\")","v":""},{"$f":"IF($B$2=StoreConfig!C1527,RIGHT(StoreConfig!G1527,LEN(StoreConfig!G1527)-FIND(\"#\",StoreConfig!G1527)),\"\")","v":""},{"$f":"IF($B$2=StoreConfig!C1527,IF(StoreConfig!L1527=0,\"不限购\",StoreConfig!L1527&\"次\"),\"\")","v":""}]
[{"$nulls":3},{"$f":"IF($B$2=StoreConfig!C1528,StoreConfig!O1528,\"\")","v":""},{"$f":"IF($B$2=StoreConfig!C1528,StoreConfig!E1528,\"\")","v":""},{"$f":"IF($B$2=StoreConfig!C1528,RIGHT(StoreConfig!J1528,LEN(StoreConfig!J1528)-FIND(\"|\",StoreConfig!J1528)),\"\")","v":""},{"$f":"IFERROR(VLOOKUP(--IF($B$2=StoreConfig!C1528,LEFT(StoreConfig!J1528,FIND(\"|\",StoreConfig!J1528)-1),\"\"),$Q$4:$R$20,2,FALSE),\"\")","v":""},{"$f":"IF($B$2=StoreConfig!C1528,LEFT(StoreConfig!G1528,FIND(\"#\",StoreConfig!G1528)-1),\"\")","v":""},{"$f":"IF($B$2=StoreConfig!C1528,RIGHT(StoreConfig!G1528,LEN(StoreConfig!G1528)-FIND(\"#\",StoreConfig!G1528)),\"\")","v":""},{"$f":"IF($B$2=StoreConfig!C1528,IF(StoreConfig!L1528=0,\"不限购\",StoreConfig!L1528&\"次\"),\"\")","v":""}]
[{"$nulls":3},{"$f":"IF($B$2=StoreConfig!C1529,StoreConfig!O1529,\"\")","v":""},{"$f":"IF($B$2=StoreConfig!C1529,StoreConfig!E1529,\"\")","v":""},{"$f":"IF($B$2=StoreConfig!C1529,RIGHT(StoreConfig!J1529,LEN(StoreConfig!J1529)-FIND(\"|\",StoreConfig!J1529)),\"\")","v":""},{"$f":"IFERROR(VLOOKUP(--IF($B$2=StoreConfig!C1529,LEFT(StoreConfig!J1529,FIND(\"|\",StoreConfig!J1529)-1),\"\"),$Q$4:$R$20,2,FALSE),\"\")","v":""},{"$f":"IF($B$2=StoreConfig!C1529,LEFT(StoreConfig!G1529,FIND(\"#\",StoreConfig!G1529)-1),\"\")","v":""},{"$f":"IF($B$2=StoreConfig!C1529,RIGHT(StoreConfig!G1529,LEN(StoreConfig!G1529)-FIND(\"#\",StoreConfig!G1529)),\"\")","v":""},{"$f":"IF($B$2=StoreConfig!C1529,IF(StoreConfig!L1529=0,\"不限购\",StoreConfig!L1529&\"次\"),\"\")","v":""}]
[{"$nulls":3},{"$f":"IF($B$2=StoreConfig!C1530,StoreConfig!O1530,\"\")","v":""},{"$f":"IF($B$2=StoreConfig!C1530,StoreConfig!E1530,\"\")","v":""},{"$f":"IF($B$2=StoreConfig!C1530,RIGHT(StoreConfig!J1530,LEN(StoreConfig!J1530)-FIND(\"|\",StoreConfig!J1530)),\"\")","v":""},{"$f":"IFERROR(VLOOKUP(--IF($B$2=StoreConfig!C1530,LEFT(StoreConfig!J1530,FIND(\"|\",StoreConfig!J1530)-1),\"\"),$Q$4:$R$20,2,FALSE),\"\")","v":""},{"$f":"IF($B$2=StoreConfig!C1530,LEFT(StoreConfig!G1530,FIND(\"#\",StoreConfig!G1530)-1),\"\")","v":""},{"$f":"IF($B$2=StoreConfig!C1530,RIGHT(StoreConfig!G1530,LEN(StoreConfig!G1530)-FIND(\"#\",StoreConfig!G1530)),\"\")","v":""},{"$f":"IF($B$2=StoreConfig!C1530,IF(StoreConfig!L1530=0,\"不限购\",StoreConfig!L1530&\"次\"),\"\")","v":""}]
[{"$nulls":3},{"$f":"IF($B$2=StoreConfig!C1531,StoreConfig!O1531,\"\")","v":""},{"$f":"IF($B$2=StoreConfig!C1531,StoreConfig!E1531,\"\")","v":""},{"$f":"IF($B$2=StoreConfig!C1531,RIGHT(StoreConfig!J1531,LEN(StoreConfig!J1531)-FIND(\"|\",StoreConfig!J1531)),\"\")","v":""},{"$f":"IFERROR(VLOOKUP(--IF($B$2=StoreConfig!C1531,LEFT(StoreConfig!J1531,FIND(\"|\",StoreConfig!J1531)-1),\"\"),$Q$4:$R$20,2,FALSE),\"\")","v":""},{"$f":"IF($B$2=StoreConfig!C1531,LEFT(StoreConfig!G1531,FIND(\"#\",StoreConfig!G1531)-1),\"\")","v":""},{"$f":"IF($B$2=StoreConfig!C1531,RIGHT(StoreConfig!G1531,LEN(StoreConfig!G1531)-FIND(\"#\",StoreConfig!G1531)),\"\")","v":""},{"$f":"IF($B$2=StoreConfig!C1531,IF(StoreConfig!L1531=0,\"不限购\",StoreConfig!L1531&\"次\"),\"\")","v":""}]
[{"$nulls":3},{"$f":"IF($B$2=StoreConfig!C1532,StoreConfig!O1532,\"\")","v":""},{"$f":"IF($B$2=StoreConfig!C1532,StoreConfig!E1532,\"\")","v":""},{"$f":"IF($B$2=StoreConfig!C1532,RIGHT(StoreConfig!J1532,LEN(StoreConfig!J1532)-FIND(\"|\",StoreConfig!J1532)),\"\")","v":""},{"$f":"IFERROR(VLOOKUP(--IF($B$2=StoreConfig!C1532,LEFT(StoreConfig!J1532,FIND(\"|\",StoreConfig!J1532)-1),\"\"),$Q$4:$R$20,2,FALSE),\"\")","v":""},{"$f":"IF($B$2=StoreConfig!C1532,LEFT(StoreConfig!G1532,FIND(\"#\",StoreConfig!G1532)-1),\"\")","v":""},{"$f":"IF($B$2=StoreConfig!C1532,RIGHT(StoreConfig!G1532,LEN(StoreConfig!G1532)-FIND(\"#\",StoreConfig!G1532)),\"\")","v":""},{"$f":"IF($B$2=StoreConfig!C1532,IF(StoreConfig!L1532=0,\"不限购\",StoreConfig!L1532&\"次\"),\"\")","v":""}]
[{"$nulls":3},{"$f":"IF($B$2=StoreConfig!C1533,StoreConfig!O1533,\"\")","v":""},{"$f":"IF($B$2=StoreConfig!C1533,StoreConfig!E1533,\"\")","v":""},{"$f":"IF($B$2=StoreConfig!C1533,RIGHT(StoreConfig!J1533,LEN(StoreConfig!J1533)-FIND(\"|\",StoreConfig!J1533)),\"\")","v":""},{"$f":"IFERROR(VLOOKUP(--IF($B$2=StoreConfig!C1533,LEFT(StoreConfig!J1533,FIND(\"|\",StoreConfig!J1533)-1),\"\"),$Q$4:$R$20,2,FALSE),\"\")","v":""},{"$f":"IF($B$2=StoreConfig!C1533,LEFT(StoreConfig!G1533,FIND(\"#\",StoreConfig!G1533)-1),\"\")","v":""},{"$f":"IF($B$2=StoreConfig!C1533,RIGHT(StoreConfig!G1533,LEN(StoreConfig!G1533)-FIND(\"#\",StoreConfig!G1533)),\"\")","v":""},{"$f":"IF($B$2=StoreConfig!C1533,IF(StoreConfig!L1533=0,\"不限购\",StoreConfig!L1533&\"次\"),\"\")","v":""}]
[{"$nulls":3},{"$f":"IF($B$2=StoreConfig!C1534,StoreConfig!O1534,\"\")","v":""},{"$f":"IF($B$2=StoreConfig!C1534,StoreConfig!E1534,\"\")","v":""},{"$f":"IF($B$2=StoreConfig!C1534,RIGHT(StoreConfig!J1534,LEN(StoreConfig!J1534)-FIND(\"|\",StoreConfig!J1534)),\"\")","v":""},{"$f":"IFERROR(VLOOKUP(--IF($B$2=StoreConfig!C1534,LEFT(StoreConfig!J1534,FIND(\"|\",StoreConfig!J1534)-1),\"\"),$Q$4:$R$20,2,FALSE),\"\")","v":""},{"$f":"IF($B$2=StoreConfig!C1534,LEFT(StoreConfig!G1534,FIND(\"#\",StoreConfig!G1534)-1),\"\")","v":""},{"$f":"IF($B$2=StoreConfig!C1534,RIGHT(StoreConfig!G1534,LEN(StoreConfig!G1534)-FIND(\"#\",StoreConfig!G1534)),\"\")","v":""},{"$f":"IF($B$2=StoreConfig!C1534,IF(StoreConfig!L1534=0,\"不限购\",StoreConfig!L1534&\"次\"),\"\")","v":""}]
[{"$nulls":3},{"$f":"IF($B$2=StoreConfig!C1535,StoreConfig!O1535,\"\")","v":""},{"$f":"IF($B$2=StoreConfig!C1535,StoreConfig!E1535,\"\")","v":""},{"$f":"IF($B$2=StoreConfig!C1535,RIGHT(StoreConfig!J1535,LEN(StoreConfig!J1535)-FIND(\"|\",StoreConfig!J1535)),\"\")","v":""},{"$f":"IFERROR(VLOOKUP(--IF($B$2=StoreConfig!C1535,LEFT(StoreConfig!J1535,FIND(\"|\",StoreConfig!J1535)-1),\"\"),$Q$4:$R$20,2,FALSE),\"\")","v":""},{"$f":"IF($B$2=StoreConfig!C1535,LEFT(StoreConfig!G1535,FIND(\"#\",StoreConfig!G1535)-1),\"\")","v":""},{"$f":"IF($B$2=StoreConfig!C1535,RIGHT(StoreConfig!G1535,LEN(StoreConfig!G1535)-FIND(\"#\",StoreConfig!G1535)),\"\")","v":""},{"$f":"IF($B$2=StoreConfig!C1535,IF(StoreConfig!L1535=0,\"不限购\",StoreConfig!L1535&\"次\"),\"\")","v":""}]
[{"$nulls":3},{"$f":"IF($B$2=StoreConfig!C1536,StoreConfig!O1536,\"\")","v":""},{"$f":"IF($B$2=StoreConfig!C1536,StoreConfig!E1536,\"\")","v":""},{"$f":"IF($B$2=StoreConfig!C1536,RIGHT(StoreConfig!J1536,LEN(StoreConfig!J1536)-FIND(\"|\",StoreConfig!J1536)),\"\")","v":""},{"$f":"IFERROR(VLOOKUP(--IF($B$2=StoreConfig!C1536,LEFT(StoreConfig!J1536,FIND(\"|\",StoreConfig!J1536)-1),\"\"),$Q$4:$R$20,2,FALSE),\"\")","v":""},{"$f":"IF($B$2=StoreConfig!C1536,LEFT(StoreConfig!G1536,FIND(\"#\",StoreConfig!G1536)-1),\"\")","v":""},{"$f":"IF($B$2=StoreConfig!C1536,RIGHT(StoreConfig!G1536,LEN(StoreConfig!G1536)-FIND(\"#\",StoreConfig!G1536)),\"\")","v":""},{"$f":"IF($B$2=StoreConfig!C1536,IF(StoreConfig!L1536=0,\"不限购\",StoreConfig!L1536&\"次\"),\"\")","v":""}]
[{"$nulls":3},{"$f":"IF($B$2=StoreConfig!C1537,StoreConfig!O1537,\"\")","v":""},{"$f":"IF($B$2=StoreConfig!C1537,StoreConfig!E1537,\"\")","v":""},{"$f":"IF($B$2=StoreConfig!C1537,RIGHT(StoreConfig!J1537,LEN(StoreConfig!J1537)-FIND(\"|\",StoreConfig!J1537)),\"\")","v":""},{"$f":"IFERROR(VLOOKUP(--IF($B$2=StoreConfig!C1537,LEFT(StoreConfig!J1537,FIND(\"|\",StoreConfig!J1537)-1),\"\"),$Q$4:$R$20,2,FALSE),\"\")","v":""},{"$f":"IF($B$2=StoreConfig!C1537,LEFT(StoreConfig!G1537,FIND(\"#\",StoreConfig!G1537)-1),\"\")","v":""},{"$f":"IF($B$2=StoreConfig!C1537,RIGHT(StoreConfig!G1537,LEN(StoreConfig!G1537)-FIND(\"#\",StoreConfig!G1537)),\"\")","v":""},{"$f":"IF($B$2=StoreConfig!C1537,IF(StoreConfig!L1537=0,\"不限购\",StoreConfig!L1537&\"次\"),\"\")","v":""}]
[{"$nulls":3},{"$f":"IF($B$2=StoreConfig!C1538,StoreConfig!O1538,\"\")","v":""},{"$f":"IF($B$2=StoreConfig!C1538,StoreConfig!E1538,\"\")","v":""},{"$f":"IF($B$2=StoreConfig!C1538,RIGHT(StoreConfig!J1538,LEN(StoreConfig!J1538)-FIND(\"|\",StoreConfig!J1538)),\"\")","v":""},{"$f":"IFERROR(VLOOKUP(--IF($B$2=StoreConfig!C1538,LEFT(StoreConfig!J1538,FIND(\"|\",StoreConfig!J1538)-1),\"\"),$Q$4:$R$20,2,FALSE),\"\")","v":""},{"$f":"IF($B$2=StoreConfig!C1538,LEFT(StoreConfig!G1538,FIND(\"#\",StoreConfig!G1538)-1),\"\")","v":""},{"$f":"IF($B$2=StoreConfig!C1538,RIGHT(StoreConfig!G1538,LEN(StoreConfig!G1538)-FIND(\"#\",StoreConfig!G1538)),\"\")","v":""},{"$f":"IF($B$2=StoreConfig!C1538,IF(StoreConfig!L1538=0,\"不限购\",StoreConfig!L1538&\"次\"),\"\")","v":""}]
[{"$nulls":3},{"$f":"IF($B$2=StoreConfig!C1539,StoreConfig!O1539,\"\")","v":""},{"$f":"IF($B$2=StoreConfig!C1539,StoreConfig!E1539,\"\")","v":""},{"$f":"IF($B$2=StoreConfig!C1539,RIGHT(StoreConfig!J1539,LEN(StoreConfig!J1539)-FIND(\"|\",StoreConfig!J1539)),\"\")","v":""},{"$f":"IFERROR(VLOOKUP(--IF($B$2=StoreConfig!C1539,LEFT(StoreConfig!J1539,FIND(\"|\",StoreConfig!J1539)-1),\"\"),$Q$4:$R$20,2,FALSE),\"\")","v":""},{"$f":"IF($B$2=StoreConfig!C1539,LEFT(StoreConfig!G1539,FIND(\"#\",StoreConfig!G1539)-1),\"\")","v":""},{"$f":"IF($B$2=StoreConfig!C1539,RIGHT(StoreConfig!G1539,LEN(StoreConfig!G1539)-FIND(\"#\",StoreConfig!G1539)),\"\")","v":""},{"$f":"IF($B$2=StoreConfig!C1539,IF(StoreConfig!L1539=0,\"不限购\",StoreConfig!L1539&\"次\"),\"\")","v":""}]
[{"$nulls":3},{"$f":"IF($B$2=StoreConfig!C1540,StoreConfig!O1540,\"\")","v":""},{"$f":"IF($B$2=StoreConfig!C1540,StoreConfig!E1540,\"\")","v":""},{"$f":"IF($B$2=StoreConfig!C1540,RIGHT(StoreConfig!J1540,LEN(StoreConfig!J1540)-FIND(\"|\",StoreConfig!J1540)),\"\")","v":""},{"$f":"IFERROR(VLOOKUP(--IF($B$2=StoreConfig!C1540,LEFT(StoreConfig!J1540,FIND(\"|\",StoreConfig!J1540)-1),\"\"),$Q$4:$R$20,2,FALSE),\"\")","v":""},{"$f":"IF($B$2=StoreConfig!C1540,LEFT(StoreConfig!G1540,FIND(\"#\",StoreConfig!G1540)-1),\"\")","v":""},{"$f":"IF($B$2=StoreConfig!C1540,RIGHT(StoreConfig!G1540,LEN(StoreConfig!G1540)-FIND(\"#\",StoreConfig!G1540)),\"\")","v":""},{"$f":"IF($B$2=StoreConfig!C1540,IF(StoreConfig!L1540=0,\"不限购\",StoreConfig!L1540&\"次\"),\"\")","v":""}]
[{"$nulls":3},{"$f":"IF($B$2=StoreConfig!C1541,StoreConfig!O1541,\"\")","v":""},{"$f":"IF($B$2=StoreConfig!C1541,StoreConfig!E1541,\"\")","v":""},{"$f":"IF($B$2=StoreConfig!C1541,RIGHT(StoreConfig!J1541,LEN(StoreConfig!J1541)-FIND(\"|\",StoreConfig!J1541)),\"\")","v":""},{"$f":"IFERROR(VLOOKUP(--IF($B$2=StoreConfig!C1541,LEFT(StoreConfig!J1541,FIND(\"|\",StoreConfig!J1541)-1),\"\"),$Q$4:$R$20,2,FALSE),\"\")","v":""},{"$f":"IF($B$2=StoreConfig!C1541,LEFT(StoreConfig!G1541,FIND(\"#\",StoreConfig!G1541)-1),\"\")","v":""},{"$f":"IF($B$2=StoreConfig!C1541,RIGHT(StoreConfig!G1541,LEN(StoreConfig!G1541)-FIND(\"#\",StoreConfig!G1541)),\"\")","v":""},{"$f":"IF($B$2=StoreConfig!C1541,IF(StoreConfig!L1541=0,\"不限购\",StoreConfig!L1541&\"次\"),\"\")","v":""}]
[{"$nulls":3},{"$f":"IF($B$2=StoreConfig!C1542,StoreConfig!O1542,\"\")","v":""},{"$f":"IF($B$2=StoreConfig!C1542,StoreConfig!E1542,\"\")","v":""},{"$f":"IF($B$2=StoreConfig!C1542,RIGHT(StoreConfig!J1542,LEN(StoreConfig!J1542)-FIND(\"|\",StoreConfig!J1542)),\"\")","v":""},{"$f":"IFERROR(VLOOKUP(--IF($B$2=StoreConfig!C1542,LEFT(StoreConfig!J1542,FIND(\"|\",StoreConfig!J1542)-1),\"\"),$Q$4:$R$20,2,FALSE),\"\")","v":""},{"$f":"IF($B$2=StoreConfig!C1542,LEFT(StoreConfig!G1542,FIND(\"#\",StoreConfig!G1542)-1),\"\")","v":""},{"$f":"IF($B$2=StoreConfig!C1542,RIGHT(StoreConfig!G1542,LEN(StoreConfig!G1542)-FIND(\"#\",StoreConfig!G1542)),\"\")","v":""},{"$f":"IF($B$2=StoreConfig!C1542,IF(StoreConfig!L1542=0,\"不限购\",StoreConfig!L1542&\"次\"),\"\")","v":""}]
[{"$nulls":3},{"$f":"IF($B$2=StoreConfig!C1543,StoreConfig!O1543,\"\")","v":""},{"$f":"IF($B$2=StoreConfig!C1543,StoreConfig!E1543,\"\")","v":""},{"$f":"IF($B$2=StoreConfig!C1543,RIGHT(StoreConfig!J1543,LEN(StoreConfig!J1543)-FIND(\"|\",StoreConfig!J1543)),\"\")","v":""},{"$f":"IFERROR(VLOOKUP(--IF($B$2=StoreConfig!C1543,LEFT(StoreConfig!J1543,FIND(\"|\",StoreConfig!J1543)-1),\"\"),$Q$4:$R$20,2,FALSE),\"\")","v":""},{"$f":"IF($B$2=StoreConfig!C1543,LEFT(StoreConfig!G1543,FIND(\"#\",StoreConfig!G1543)-1),\"\")","v":""},{"$f":"IF($B$2=StoreConfig!C1543,RIGHT(StoreConfig!G1543,LEN(StoreConfig!G1543)-FIND(\"#\",StoreConfig!G1543)),\"\")","v":""},{"$f":"IF($B$2=StoreConfig!C1543,IF(StoreConfig!L1543=0,\"不限购\",StoreConfig!L1543&\"次\"),\"\")","v":""}]
[{"$nulls":3},{"$f":"IF($B$2=StoreConfig!C1544,StoreConfig!O1544,\"\")","v":""},{"$f":"IF($B$2=StoreConfig!C1544,StoreConfig!E1544,\"\")","v":""},{"$f":"IF($B$2=StoreConfig!C1544,RIGHT(StoreConfig!J1544,LEN(StoreConfig!J1544)-FIND(\"|\",StoreConfig!J1544)),\"\")","v":""},{"$f":"IFERROR(VLOOKUP(--IF($B$2=StoreConfig!C1544,LEFT(StoreConfig!J1544,FIND(\"|\",StoreConfig!J1544)-1),\"\"),$Q$4:$R$20,2,FALSE),\"\")","v":""},{"$f":"IF($B$2=StoreConfig!C1544,LEFT(StoreConfig!G1544,FIND(\"#\",StoreConfig!G1544)-1),\"\")","v":""},{"$f":"IF($B$2=StoreConfig!C1544,RIGHT(StoreConfig!G1544,LEN(StoreConfig!G1544)-FIND(\"#\",StoreConfig!G1544)),\"\")","v":""},{"$f":"IF($B$2=StoreConfig!C1544,IF(StoreConfig!L1544=0,\"不限购\",StoreConfig!L1544&\"次\"),\"\")","v":""}]
[{"$nulls":3},{"$f":"IF($B$2=StoreConfig!C1545,StoreConfig!O1545,\"\")","v":""},{"$f":"IF($B$2=StoreConfig!C1545,StoreConfig!E1545,\"\")","v":""},{"$f":"IF($B$2=StoreConfig!C1545,RIGHT(StoreConfig!J1545,LEN(StoreConfig!J1545)-FIND(\"|\",StoreConfig!J1545)),\"\")","v":""},{"$f":"IFERROR(VLOOKUP(--IF($B$2=StoreConfig!C1545,LEFT(StoreConfig!J1545,FIND(\"|\",StoreConfig!J1545)-1),\"\"),$Q$4:$R$20,2,FALSE),\"\")","v":""},{"$f":"IF($B$2=StoreConfig!C1545,LEFT(StoreConfig!G1545,FIND(\"#\",StoreConfig!G1545)-1),\"\")","v":""},{"$f":"IF($B$2=StoreConfig!C1545,RIGHT(StoreConfig!G1545,LEN(StoreConfig!G1545)-FIND(\"#\",StoreConfig!G1545)),\"\")","v":""},{"$f":"IF($B$2=StoreConfig!C1545,IF(StoreConfig!L1545=0,\"不限购\",StoreConfig!L1545&\"次\"),\"\")","v":""}]
[{"$nulls":3},{"$f":"IF($B$2=StoreConfig!C1546,StoreConfig!O1546,\"\")","v":""},{"$f":"IF($B$2=StoreConfig!C1546,StoreConfig!E1546,\"\")","v":""},{"$f":"IF($B$2=StoreConfig!C1546,RIGHT(StoreConfig!J1546,LEN(StoreConfig!J1546)-FIND(\"|\",StoreConfig!J1546)),\"\")","v":""},{"$f":"IFERROR(VLOOKUP(--IF($B$2=StoreConfig!C1546,LEFT(StoreConfig!J1546,FIND(\"|\",StoreConfig!J1546)-1),\"\"),$Q$4:$R$20,2,FALSE),\"\")","v":""},{"$f":"IF($B$2=StoreConfig!C1546,LEFT(StoreConfig!G1546,FIND(\"#\",StoreConfig!G1546)-1),\"\")","v":""},{"$f":"IF($B$2=StoreConfig!C1546,RIGHT(StoreConfig!G1546,LEN(StoreConfig!G1546)-FIND(\"#\",StoreConfig!G1546)),\"\")","v":""},{"$f":"IF($B$2=StoreConfig!C1546,IF(StoreConfig!L1546=0,\"不限购\",StoreConfig!L1546&\"次\"),\"\")","v":""}]
[{"$nulls":3},{"$f":"IF($B$2=StoreConfig!C1547,StoreConfig!O1547,\"\")","v":""},{"$f":"IF($B$2=StoreConfig!C1547,StoreConfig!E1547,\"\")","v":""},{"$f":"IF($B$2=StoreConfig!C1547,RIGHT(StoreConfig!J1547,LEN(StoreConfig!J1547)-FIND(\"|\",StoreConfig!J1547)),\"\")","v":""},{"$f":"IFERROR(VLOOKUP(--IF($B$2=StoreConfig!C1547,LEFT(StoreConfig!J1547,FIND(\"|\",StoreConfig!J1547)-1),\"\"),$Q$4:$R$20,2,FALSE),\"\")","v":""},{"$f":"IF($B$2=StoreConfig!C1547,LEFT(StoreConfig!G1547,FIND(\"#\",StoreConfig!G1547)-1),\"\")","v":""},{"$f":"IF($B$2=StoreConfig!C1547,RIGHT(StoreConfig!G1547,LEN(StoreConfig!G1547)-FIND(\"#\",StoreConfig!G1547)),\"\")","v":""},{"$f":"IF($B$2=StoreConfig!C1547,IF(StoreConfig!L1547=0,\"不限购\",StoreConfig!L1547&\"次\"),\"\")","v":""}]
[{"$nulls":3},{"$f":"IF($B$2=StoreConfig!C1548,StoreConfig!O1548,\"\")","v":""},{"$f":"IF($B$2=StoreConfig!C1548,StoreConfig!E1548,\"\")","v":""},{"$f":"IF($B$2=StoreConfig!C1548,RIGHT(StoreConfig!J1548,LEN(StoreConfig!J1548)-FIND(\"|\",StoreConfig!J1548)),\"\")","v":""},{"$f":"IFERROR(VLOOKUP(--IF($B$2=StoreConfig!C1548,LEFT(StoreConfig!J1548,FIND(\"|\",StoreConfig!J1548)-1),\"\"),$Q$4:$R$20,2,FALSE),\"\")","v":""},{"$f":"IF($B$2=StoreConfig!C1548,LEFT(StoreConfig!G1548,FIND(\"#\",StoreConfig!G1548)-1),\"\")","v":""},{"$f":"IF($B$2=StoreConfig!C1548,RIGHT(StoreConfig!G1548,LEN(StoreConfig!G1548)-FIND(\"#\",StoreConfig!G1548)),\"\")","v":""},{"$f":"IF($B$2=StoreConfig!C1548,IF(StoreConfig!L1548=0,\"不限购\",StoreConfig!L1548&\"次\"),\"\")","v":""}]
[{"$nulls":3},{"$f":"IF($B$2=StoreConfig!C1549,StoreConfig!O1549,\"\")","v":""},{"$f":"IF($B$2=StoreConfig!C1549,StoreConfig!E1549,\"\")","v":""},{"$f":"IF($B$2=StoreConfig!C1549,RIGHT(StoreConfig!J1549,LEN(StoreConfig!J1549)-FIND(\"|\",StoreConfig!J1549)),\"\")","v":""},{"$f":"IFERROR(VLOOKUP(--IF($B$2=StoreConfig!C1549,LEFT(StoreConfig!J1549,FIND(\"|\",StoreConfig!J1549)-1),\"\"),$Q$4:$R$20,2,FALSE),\"\")","v":""},{"$f":"IF($B$2=StoreConfig!C1549,LEFT(StoreConfig!G1549,FIND(\"#\",StoreConfig!G1549)-1),\"\")","v":""},{"$f":"IF($B$2=StoreConfig!C1549,RIGHT(StoreConfig!G1549,LEN(StoreConfig!G1549)-FIND(\"#\",StoreConfig!G1549)),\"\")","v":""},{"$f":"IF($B$2=StoreConfig!C1549,IF(StoreConfig!L1549=0,\"不限购\",StoreConfig!L1549&\"次\"),\"\")","v":""}]
[{"$nulls":3},{"$f":"IF($B$2=StoreConfig!C1550,StoreConfig!O1550,\"\")","v":""},{"$f":"IF($B$2=StoreConfig!C1550,StoreConfig!E1550,\"\")","v":""},{"$f":"IF($B$2=StoreConfig!C1550,RIGHT(StoreConfig!J1550,LEN(StoreConfig!J1550)-FIND(\"|\",StoreConfig!J1550)),\"\")","v":""},{"$f":"IFERROR(VLOOKUP(--IF($B$2=StoreConfig!C1550,LEFT(StoreConfig!J1550,FIND(\"|\",StoreConfig!J1550)-1),\"\"),$Q$4:$R$20,2,FALSE),\"\")","v":""},{"$f":"IF($B$2=StoreConfig!C1550,LEFT(StoreConfig!G1550,FIND(\"#\",StoreConfig!G1550)-1),\"\")","v":""},{"$f":"IF($B$2=StoreConfig!C1550,RIGHT(StoreConfig!G1550,LEN(StoreConfig!G1550)-FIND(\"#\",StoreConfig!G1550)),\"\")","v":""},{"$f":"IF($B$2=StoreConfig!C1550,IF(StoreConfig!L1550=0,\"不限购\",StoreConfig!L1550&\"次\"),\"\")","v":""}]
[{"$nulls":3},{"$f":"IF($B$2=StoreConfig!C1551,StoreConfig!O1551,\"\")","v":""},{"$f":"IF($B$2=StoreConfig!C1551,StoreConfig!E1551,\"\")","v":""},{"$f":"IF($B$2=StoreConfig!C1551,RIGHT(StoreConfig!J1551,LEN(StoreConfig!J1551)-FIND(\"|\",StoreConfig!J1551)),\"\")","v":""},{"$f":"IFERROR(VLOOKUP(--IF($B$2=StoreConfig!C1551,LEFT(StoreConfig!J1551,FIND(\"|\",StoreConfig!J1551)-1),\"\"),$Q$4:$R$20,2,FALSE),\"\")","v":""},{"$f":"IF($B$2=StoreConfig!C1551,LEFT(StoreConfig!G1551,FIND(\"#\",StoreConfig!G1551)-1),\"\")","v":""},{"$f":"IF($B$2=StoreConfig!C1551,RIGHT(StoreConfig!G1551,LEN(StoreConfig!G1551)-FIND(\"#\",StoreConfig!G1551)),\"\")","v":""},{"$f":"IF($B$2=StoreConfig!C1551,IF(StoreConfig!L1551=0,\"不限购\",StoreConfig!L1551&\"次\"),\"\")","v":""}]
[{"$nulls":3},{"$f":"IF($B$2=StoreConfig!C1552,StoreConfig!O1552,\"\")","v":""},{"$f":"IF($B$2=StoreConfig!C1552,StoreConfig!E1552,\"\")","v":""},{"$f":"IF($B$2=StoreConfig!C1552,RIGHT(StoreConfig!J1552,LEN(StoreConfig!J1552)-FIND(\"|\",StoreConfig!J1552)),\"\")","v":""},{"$f":"IFERROR(VLOOKUP(--IF($B$2=StoreConfig!C1552,LEFT(StoreConfig!J1552,FIND(\"|\",StoreConfig!J1552)-1),\"\"),$Q$4:$R$20,2,FALSE),\"\")","v":""},{"$f":"IF($B$2=StoreConfig!C1552,LEFT(StoreConfig!G1552,FIND(\"#\",StoreConfig!G1552)-1),\"\")","v":""},{"$f":"IF($B$2=StoreConfig!C1552,RIGHT(StoreConfig!G1552,LEN(StoreConfig!G1552)-FIND(\"#\",StoreConfig!G1552)),\"\")","v":""},{"$f":"IF($B$2=StoreConfig!C1552,IF(StoreConfig!L1552=0,\"不限购\",StoreConfig!L1552&\"次\"),\"\")","v":""}]
[{"$nulls":3},{"$f":"IF($B$2=StoreConfig!C1553,StoreConfig!O1553,\"\")","v":""},{"$f":"IF($B$2=StoreConfig!C1553,StoreConfig!E1553,\"\")","v":""},{"$f":"IF($B$2=StoreConfig!C1553,RIGHT(StoreConfig!J1553,LEN(StoreConfig!J1553)-FIND(\"|\",StoreConfig!J1553)),\"\")","v":""},{"$f":"IFERROR(VLOOKUP(--IF($B$2=StoreConfig!C1553,LEFT(StoreConfig!J1553,FIND(\"|\",StoreConfig!J1553)-1),\"\"),$Q$4:$R$20,2,FALSE),\"\")","v":""},{"$f":"IF($B$2=StoreConfig!C1553,LEFT(StoreConfig!G1553,FIND(\"#\",StoreConfig!G1553)-1),\"\")","v":""},{"$f":"IF($B$2=StoreConfig!C1553,RIGHT(StoreConfig!G1553,LEN(StoreConfig!G1553)-FIND(\"#\",StoreConfig!G1553)),\"\")","v":""},{"$f":"IF($B$2=StoreConfig!C1553,IF(StoreConfig!L1553=0,\"不限购\",StoreConfig!L1553&\"次\"),\"\")","v":""}]
[{"$nulls":3},{"$f":"IF($B$2=StoreConfig!C1554,StoreConfig!O1554,\"\")","v":""},{"$f":"IF($B$2=StoreConfig!C1554,StoreConfig!E1554,\"\")","v":""},{"$f":"IF($B$2=StoreConfig!C1554,RIGHT(StoreConfig!J1554,LEN(StoreConfig!J1554)-FIND(\"|\",StoreConfig!J1554)),\"\")","v":""},{"$f":"IFERROR(VLOOKUP(--IF($B$2=StoreConfig!C1554,LEFT(StoreConfig!J1554,FIND(\"|\",StoreConfig!J1554)-1),\"\"),$Q$4:$R$20,2,FALSE),\"\")","v":""},{"$f":"IF($B$2=StoreConfig!C1554,LEFT(StoreConfig!G1554,FIND(\"#\",StoreConfig!G1554)-1),\"\")","v":""},{"$f":"IF($B$2=StoreConfig!C1554,RIGHT(StoreConfig!G1554,LEN(StoreConfig!G1554)-FIND(\"#\",StoreConfig!G1554)),\"\")","v":""},{"$f":"IF($B$2=StoreConfig!C1554,IF(StoreConfig!L1554=0,\"不限购\",StoreConfig!L1554&\"次\"),\"\")","v":""}]
[{"$nulls":3},{"$f":"IF($B$2=StoreConfig!C1555,StoreConfig!O1555,\"\")","v":""},{"$f":"IF($B$2=StoreConfig!C1555,StoreConfig!E1555,\"\")","v":""},{"$f":"IF($B$2=StoreConfig!C1555,RIGHT(StoreConfig!J1555,LEN(StoreConfig!J1555)-FIND(\"|\",StoreConfig!J1555)),\"\")","v":""},{"$f":"IFERROR(VLOOKUP(--IF($B$2=StoreConfig!C1555,LEFT(StoreConfig!J1555,FIND(\"|\",StoreConfig!J1555)-1),\"\"),$Q$4:$R$20,2,FALSE),\"\")","v":""},{"$f":"IF($B$2=StoreConfig!C1555,LEFT(StoreConfig!G1555,FIND(\"#\",StoreConfig!G1555)-1),\"\")","v":""},{"$f":"IF($B$2=StoreConfig!C1555,RIGHT(StoreConfig!G1555,LEN(StoreConfig!G1555)-FIND(\"#\",StoreConfig!G1555)),\"\")","v":""},{"$f":"IF($B$2=StoreConfig!C1555,IF(StoreConfig!L1555=0,\"不限购\",StoreConfig!L1555&\"次\"),\"\")","v":""}]
[{"$nulls":3},{"$f":"IF($B$2=StoreConfig!C1556,StoreConfig!O1556,\"\")","v":""},{"$f":"IF($B$2=StoreConfig!C1556,StoreConfig!E1556,\"\")","v":""},{"$f":"IF($B$2=StoreConfig!C1556,RIGHT(StoreConfig!J1556,LEN(StoreConfig!J1556)-FIND(\"|\",StoreConfig!J1556)),\"\")","v":""},{"$f":"IFERROR(VLOOKUP(--IF($B$2=StoreConfig!C1556,LEFT(StoreConfig!J1556,FIND(\"|\",StoreConfig!J1556)-1),\"\"),$Q$4:$R$20,2,FALSE),\"\")","v":""},{"$f":"IF($B$2=StoreConfig!C1556,LEFT(StoreConfig!G1556,FIND(\"#\",StoreConfig!G1556)-1),\"\")","v":""},{"$f":"IF($B$2=StoreConfig!C1556,RIGHT(StoreConfig!G1556,LEN(StoreConfig!G1556)-FIND(\"#\",StoreConfig!G1556)),\"\")","v":""},{"$f":"IF($B$2=StoreConfig!C1556,IF(StoreConfig!L1556=0,\"不限购\",StoreConfig!L1556&\"次\"),\"\")","v":""}]
[{"$nulls":3},{"$f":"IF($B$2=StoreConfig!C1557,StoreConfig!O1557,\"\")","v":""},{"$f":"IF($B$2=StoreConfig!C1557,StoreConfig!E1557,\"\")","v":""},{"$f":"IF($B$2=StoreConfig!C1557,RIGHT(StoreConfig!J1557,LEN(StoreConfig!J1557)-FIND(\"|\",StoreConfig!J1557)),\"\")","v":""},{"$f":"IFERROR(VLOOKUP(--IF($B$2=StoreConfig!C1557,LEFT(StoreConfig!J1557,FIND(\"|\",StoreConfig!J1557)-1),\"\"),$Q$4:$R$20,2,FALSE),\"\")","v":""},{"$f":"IF($B$2=StoreConfig!C1557,LEFT(StoreConfig!G1557,FIND(\"#\",StoreConfig!G1557)-1),\"\")","v":""},{"$f":"IF($B$2=StoreConfig!C1557,RIGHT(StoreConfig!G1557,LEN(StoreConfig!G1557)-FIND(\"#\",StoreConfig!G1557)),\"\")","v":""},{"$f":"IF($B$2=StoreConfig!C1557,IF(StoreConfig!L1557=0,\"不限购\",StoreConfig!L1557&\"次\"),\"\")","v":""}]
[{"$nulls":3},{"$f":"IF($B$2=StoreConfig!C1558,StoreConfig!O1558,\"\")","v":""},{"$f":"IF($B$2=StoreConfig!C1558,StoreConfig!E1558,\"\")","v":""},{"$f":"IF($B$2=StoreConfig!C1558,RIGHT(StoreConfig!J1558,LEN(StoreConfig!J1558)-FIND(\"|\",StoreConfig!J1558)),\"\")","v":""},{"$f":"IFERROR(VLOOKUP(--IF($B$2=StoreConfig!C1558,LEFT(StoreConfig!J1558,FIND(\"|\",StoreConfig!J1558)-1),\"\"),$Q$4:$R$20,2,FALSE),\"\")","v":""},{"$f":"IF($B$2=StoreConfig!C1558,LEFT(StoreConfig!G1558,FIND(\"#\",StoreConfig!G1558)-1),\"\")","v":""},{"$f":"IF($B$2=StoreConfig!C1558,RIGHT(StoreConfig!G1558,LEN(StoreConfig!G1558)-FIND(\"#\",StoreConfig!G1558)),\"\")","v":""},{"$f":"IF($B$2=StoreConfig!C1558,IF(StoreConfig!L1558=0,\"不限购\",StoreConfig!L1558&\"次\"),\"\")","v":""}]
[{"$nulls":3},{"$f":"IF($B$2=StoreConfig!C1559,StoreConfig!O1559,\"\")","v":""},{"$f":"IF($B$2=StoreConfig!C1559,StoreConfig!E1559,\"\")","v":""},{"$f":"IF($B$2=StoreConfig!C1559,RIGHT(StoreConfig!J1559,LEN(StoreConfig!J1559)-FIND(\"|\",StoreConfig!J1559)),\"\")","v":""},{"$f":"IFERROR(VLOOKUP(--IF($B$2=StoreConfig!C1559,LEFT(StoreConfig!J1559,FIND(\"|\",StoreConfig!J1559)-1),\"\"),$Q$4:$R$20,2,FALSE),\"\")","v":""},{"$f":"IF($B$2=StoreConfig!C1559,LEFT(StoreConfig!G1559,FIND(\"#\",StoreConfig!G1559)-1),\"\")","v":""},{"$f":"IF($B$2=StoreConfig!C1559,RIGHT(StoreConfig!G1559,LEN(StoreConfig!G1559)-FIND(\"#\",StoreConfig!G1559)),\"\")","v":""},{"$f":"IF($B$2=StoreConfig!C1559,IF(StoreConfig!L1559=0,\"不限购\",StoreConfig!L1559&\"次\"),\"\")","v":""}]
[{"$nulls":3},{"$f":"IF($B$2=StoreConfig!C1560,StoreConfig!O1560,\"\")","v":""},{"$f":"IF($B$2=StoreConfig!C1560,StoreConfig!E1560,\"\")","v":""},{"$f":"IF($B$2=StoreConfig!C1560,RIGHT(StoreConfig!J1560,LEN(StoreConfig!J1560)-FIND(\"|\",StoreConfig!J1560)),\"\")","v":""},{"$f":"IFERROR(VLOOKUP(--IF($B$2=StoreConfig!C1560,LEFT(StoreConfig!J1560,FIND(\"|\",StoreConfig!J1560)-1),\"\"),$Q$4:$R$20,2,FALSE),\"\")","v":""},{"$f":"IF($B$2=StoreConfig!C1560,LEFT(StoreConfig!G1560,FIND(\"#\",StoreConfig!G1560)-1),\"\")","v":""},{"$f":"IF($B$2=StoreConfig!C1560,RIGHT(StoreConfig!G1560,LEN(StoreConfig!G1560)-FIND(\"#\",StoreConfig!G1560)),\"\")","v":""},{"$f":"IF($B$2=StoreConfig!C1560,IF(StoreConfig!L1560=0,\"不限购\",StoreConfig!L1560&\"次\"),\"\")","v":""}]
[{"$nulls":3},{"$f":"IF($B$2=StoreConfig!C1561,StoreConfig!O1561,\"\")","v":""},{"$f":"IF($B$2=StoreConfig!C1561,StoreConfig!E1561,\"\")","v":""},{"$f":"IF($B$2=StoreConfig!C1561,RIGHT(StoreConfig!J1561,LEN(StoreConfig!J1561)-FIND(\"|\",StoreConfig!J1561)),\"\")","v":""},{"$f":"IFERROR(VLOOKUP(--IF($B$2=StoreConfig!C1561,LEFT(StoreConfig!J1561,FIND(\"|\",StoreConfig!J1561)-1),\"\"),$Q$4:$R$20,2,FALSE),\"\")","v":""},{"$f":"IF($B$2=StoreConfig!C1561,LEFT(StoreConfig!G1561,FIND(\"#\",StoreConfig!G1561)-1),\"\")","v":""},{"$f":"IF($B$2=StoreConfig!C1561,RIGHT(StoreConfig!G1561,LEN(StoreConfig!G1561)-FIND(\"#\",StoreConfig!G1561)),\"\")","v":""},{"$f":"IF($B$2=StoreConfig!C1561,IF(StoreConfig!L1561=0,\"不限购\",StoreConfig!L1561&\"次\"),\"\")","v":""}]
[{"$nulls":3},{"$f":"IF($B$2=StoreConfig!C1562,StoreConfig!O1562,\"\")","v":""},{"$f":"IF($B$2=StoreConfig!C1562,StoreConfig!E1562,\"\")","v":""},{"$f":"IF($B$2=StoreConfig!C1562,RIGHT(StoreConfig!J1562,LEN(StoreConfig!J1562)-FIND(\"|\",StoreConfig!J1562)),\"\")","v":""},{"$f":"IFERROR(VLOOKUP(--IF($B$2=StoreConfig!C1562,LEFT(StoreConfig!J1562,FIND(\"|\",StoreConfig!J1562)-1),\"\"),$Q$4:$R$20,2,FALSE),\"\")","v":""},{"$f":"IF($B$2=StoreConfig!C1562,LEFT(StoreConfig!G1562,FIND(\"#\",StoreConfig!G1562)-1),\"\")","v":""},{"$f":"IF($B$2=StoreConfig!C1562,RIGHT(StoreConfig!G1562,LEN(StoreConfig!G1562)-FIND(\"#\",StoreConfig!G1562)),\"\")","v":""},{"$f":"IF($B$2=StoreConfig!C1562,IF(StoreConfig!L1562=0,\"不限购\",StoreConfig!L1562&\"次\"),\"\")","v":""}]
[{"$nulls":3},{"$f":"IF($B$2=StoreConfig!C1563,StoreConfig!O1563,\"\")","v":""},{"$f":"IF($B$2=StoreConfig!C1563,StoreConfig!E1563,\"\")","v":""},{"$f":"IF($B$2=StoreConfig!C1563,RIGHT(StoreConfig!J1563,LEN(StoreConfig!J1563)-FIND(\"|\",StoreConfig!J1563)),\"\")","v":""},{"$f":"IFERROR(VLOOKUP(--IF($B$2=StoreConfig!C1563,LEFT(StoreConfig!J1563,FIND(\"|\",StoreConfig!J1563)-1),\"\"),$Q$4:$R$20,2,FALSE),\"\")","v":""},{"$f":"IF($B$2=StoreConfig!C1563,LEFT(StoreConfig!G1563,FIND(\"#\",StoreConfig!G1563)-1),\"\")","v":""},{"$f":"IF($B$2=StoreConfig!C1563,RIGHT(StoreConfig!G1563,LEN(StoreConfig!G1563)-FIND(\"#\",StoreConfig!G1563)),\"\")","v":""},{"$f":"IF($B$2=StoreConfig!C1563,IF(StoreConfig!L1563=0,\"不限购\",StoreConfig!L1563&\"次\"),\"\")","v":""}]
[{"$nulls":3},{"$f":"IF($B$2=StoreConfig!C1564,StoreConfig!O1564,\"\")","v":""},{"$f":"IF($B$2=StoreConfig!C1564,StoreConfig!E1564,\"\")","v":""},{"$f":"IF($B$2=StoreConfig!C1564,RIGHT(StoreConfig!J1564,LEN(StoreConfig!J1564)-FIND(\"|\",StoreConfig!J1564)),\"\")","v":""},{"$f":"IFERROR(VLOOKUP(--IF($B$2=StoreConfig!C1564,LEFT(StoreConfig!J1564,FIND(\"|\",StoreConfig!J1564)-1),\"\"),$Q$4:$R$20,2,FALSE),\"\")","v":""},{"$f":"IF($B$2=StoreConfig!C1564,LEFT(StoreConfig!G1564,FIND(\"#\",StoreConfig!G1564)-1),\"\")","v":""},{"$f":"IF($B$2=StoreConfig!C1564,RIGHT(StoreConfig!G1564,LEN(StoreConfig!G1564)-FIND(\"#\",StoreConfig!G1564)),\"\")","v":""},{"$f":"IF($B$2=StoreConfig!C1564,IF(StoreConfig!L1564=0,\"不限购\",StoreConfig!L1564&\"次\"),\"\")","v":""}]
[{"$nulls":3},{"$f":"IF($B$2=StoreConfig!C1565,StoreConfig!O1565,\"\")","v":""},{"$f":"IF($B$2=StoreConfig!C1565,StoreConfig!E1565,\"\")","v":""},{"$f":"IF($B$2=StoreConfig!C1565,RIGHT(StoreConfig!J1565,LEN(StoreConfig!J1565)-FIND(\"|\",StoreConfig!J1565)),\"\")","v":""},{"$f":"IFERROR(VLOOKUP(--IF($B$2=StoreConfig!C1565,LEFT(StoreConfig!J1565,FIND(\"|\",StoreConfig!J1565)-1),\"\"),$Q$4:$R$20,2,FALSE),\"\")","v":""},{"$f":"IF($B$2=StoreConfig!C1565,LEFT(StoreConfig!G1565,FIND(\"#\",StoreConfig!G1565)-1),\"\")","v":""},{"$f":"IF($B$2=StoreConfig!C1565,RIGHT(StoreConfig!G1565,LEN(StoreConfig!G1565)-FIND(\"#\",StoreConfig!G1565)),\"\")","v":""},{"$f":"IF($B$2=StoreConfig!C1565,IF(StoreConfig!L1565=0,\"不限购\",StoreConfig!L1565&\"次\"),\"\")","v":""}]
[{"$nulls":3},{"$f":"IF($B$2=StoreConfig!C1566,StoreConfig!O1566,\"\")","v":""},{"$f":"IF($B$2=StoreConfig!C1566,StoreConfig!E1566,\"\")","v":""},{"$f":"IF($B$2=StoreConfig!C1566,RIGHT(StoreConfig!J1566,LEN(StoreConfig!J1566)-FIND(\"|\",StoreConfig!J1566)),\"\")","v":""},{"$f":"IFERROR(VLOOKUP(--IF($B$2=StoreConfig!C1566,LEFT(StoreConfig!J1566,FIND(\"|\",StoreConfig!J1566)-1),\"\"),$Q$4:$R$20,2,FALSE),\"\")","v":""},{"$f":"IF($B$2=StoreConfig!C1566,LEFT(StoreConfig!G1566,FIND(\"#\",StoreConfig!G1566)-1),\"\")","v":""},{"$f":"IF($B$2=StoreConfig!C1566,RIGHT(StoreConfig!G1566,LEN(StoreConfig!G1566)-FIND(\"#\",StoreConfig!G1566)),\"\")","v":""},{"$f":"IF($B$2=StoreConfig!C1566,IF(StoreConfig!L1566=0,\"不限购\",StoreConfig!L1566&\"次\"),\"\")","v":""}]
[{"$nulls":3},{"$f":"IF($B$2=StoreConfig!C1567,StoreConfig!O1567,\"\")","v":""},{"$f":"IF($B$2=StoreConfig!C1567,StoreConfig!E1567,\"\")","v":""},{"$f":"IF($B$2=StoreConfig!C1567,RIGHT(StoreConfig!J1567,LEN(StoreConfig!J1567)-FIND(\"|\",StoreConfig!J1567)),\"\")","v":""},{"$f":"IFERROR(VLOOKUP(--IF($B$2=StoreConfig!C1567,LEFT(StoreConfig!J1567,FIND(\"|\",StoreConfig!J1567)-1),\"\"),$Q$4:$R$20,2,FALSE),\"\")","v":""},{"$f":"IF($B$2=StoreConfig!C1567,LEFT(StoreConfig!G1567,FIND(\"#\",StoreConfig!G1567)-1),\"\")","v":""},{"$f":"IF($B$2=StoreConfig!C1567,RIGHT(StoreConfig!G1567,LEN(StoreConfig!G1567)-FIND(\"#\",StoreConfig!G1567)),\"\")","v":""},{"$f":"IF($B$2=StoreConfig!C1567,IF(StoreConfig!L1567=0,\"不限购\",StoreConfig!L1567&\"次\"),\"\")","v":""}]
[{"$nulls":3},{"$f":"IF($B$2=StoreConfig!C1568,StoreConfig!O1568,\"\")","v":""},{"$f":"IF($B$2=StoreConfig!C1568,StoreConfig!E1568,\"\")","v":""},{"$f":"IF($B$2=StoreConfig!C1568,RIGHT(StoreConfig!J1568,LEN(StoreConfig!J1568)-FIND(\"|\",StoreConfig!J1568)),\"\")","v":""},{"$f":"IFERROR(VLOOKUP(--IF($B$2=StoreConfig!C1568,LEFT(StoreConfig!J1568,FIND(\"|\",StoreConfig!J1568)-1),\"\"),$Q$4:$R$20,2,FALSE),\"\")","v":""},{"$f":"IF($B$2=StoreConfig!C1568,LEFT(StoreConfig!G1568,FIND(\"#\",StoreConfig!G1568)-1),\"\")","v":""},{"$f":"IF($B$2=StoreConfig!C1568,RIGHT(StoreConfig!G1568,LEN(StoreConfig!G1568)-FIND(\"#\",StoreConfig!G1568)),\"\")","v":""},{"$f":"IF($B$2=StoreConfig!C1568,IF(StoreConfig!L1568=0,\"不限购\",StoreConfig!L1568&\"次\"),\"\")","v":""}]
[{"$nulls":3},{"$f":"IF($B$2=StoreConfig!C1569,StoreConfig!O1569,\"\")","v":""},{"$f":"IF($B$2=StoreConfig!C1569,StoreConfig!E1569,\"\")","v":""},{"$f":"IF($B$2=StoreConfig!C1569,RIGHT(StoreConfig!J1569,LEN(StoreConfig!J1569)-FIND(\"|\",StoreConfig!J1569)),\"\")","v":""},{"$f":"IFERROR(VLOOKUP(--IF($B$2=StoreConfig!C1569,LEFT(StoreConfig!J1569,FIND(\"|\",StoreConfig!J1569)-1),\"\"),$Q$4:$R$20,2,FALSE),\"\")","v":""},{"$f":"IF($B$2=StoreConfig!C1569,LEFT(StoreConfig!G1569,FIND(\"#\",StoreConfig!G1569)-1),\"\")","v":""},{"$f":"IF($B$2=StoreConfig!C1569,RIGHT(StoreConfig!G1569,LEN(StoreConfig!G1569)-FIND(\"#\",StoreConfig!G1569)),\"\")","v":""},{"$f":"IF($B$2=StoreConfig!C1569,IF(StoreConfig!L1569=0,\"不限购\",StoreConfig!L1569&\"次\"),\"\")","v":""}]
[{"$nulls":3},{"$f":"IF($B$2=StoreConfig!C1570,StoreConfig!O1570,\"\")","v":""},{"$f":"IF($B$2=StoreConfig!C1570,StoreConfig!E1570,\"\")","v":""},{"$f":"IF($B$2=StoreConfig!C1570,RIGHT(StoreConfig!J1570,LEN(StoreConfig!J1570)-FIND(\"|\",StoreConfig!J1570)),\"\")","v":""},{"$f":"IFERROR(VLOOKUP(--IF($B$2=StoreConfig!C1570,LEFT(StoreConfig!J1570,FIND(\"|\",StoreConfig!J1570)-1),\"\"),$Q$4:$R$20,2,FALSE),\"\")","v":""},{"$f":"IF($B$2=StoreConfig!C1570,LEFT(StoreConfig!G1570,FIND(\"#\",StoreConfig!G1570)-1),\"\")","v":""},{"$f":"IF($B$2=StoreConfig!C1570,RIGHT(StoreConfig!G1570,LEN(StoreConfig!G1570)-FIND(\"#\",StoreConfig!G1570)),\"\")","v":""},{"$f":"IF($B$2=StoreConfig!C1570,IF(StoreConfig!L1570=0,\"不限购\",StoreConfig!L1570&\"次\"),\"\")","v":""}]
[{"$nulls":3},{"$f":"IF($B$2=StoreConfig!C1571,StoreConfig!O1571,\"\")","v":""},{"$f":"IF($B$2=StoreConfig!C1571,StoreConfig!E1571,\"\")","v":""},{"$f":"IF($B$2=StoreConfig!C1571,RIGHT(StoreConfig!J1571,LEN(StoreConfig!J1571)-FIND(\"|\",StoreConfig!J1571)),\"\")","v":""},{"$f":"IFERROR(VLOOKUP(--IF($B$2=StoreConfig!C1571,LEFT(StoreConfig!J1571,FIND(\"|\",StoreConfig!J1571)-1),\"\"),$Q$4:$R$20,2,FALSE),\"\")","v":""},{"$f":"IF($B$2=StoreConfig!C1571,LEFT(StoreConfig!G1571,FIND(\"#\",StoreConfig!G1571)-1),\"\")","v":""},{"$f":"IF($B$2=StoreConfig!C1571,RIGHT(StoreConfig!G1571,LEN(StoreConfig!G1571)-FIND(\"#\",StoreConfig!G1571)),\"\")","v":""},{"$f":"IF($B$2=StoreConfig!C1571,IF(StoreConfig!L1571=0,\"不限购\",StoreConfig!L1571&\"次\"),\"\")","v":""}]
[{"$nulls":3},{"$f":"IF($B$2=StoreConfig!C1572,StoreConfig!O1572,\"\")","v":""},{"$f":"IF($B$2=StoreConfig!C1572,StoreConfig!E1572,\"\")","v":""},{"$f":"IF($B$2=StoreConfig!C1572,RIGHT(StoreConfig!J1572,LEN(StoreConfig!J1572)-FIND(\"|\",StoreConfig!J1572)),\"\")","v":""},{"$f":"IFERROR(VLOOKUP(--IF($B$2=StoreConfig!C1572,LEFT(StoreConfig!J1572,FIND(\"|\",StoreConfig!J1572)-1),\"\"),$Q$4:$R$20,2,FALSE),\"\")","v":""},{"$f":"IF($B$2=StoreConfig!C1572,LEFT(StoreConfig!G1572,FIND(\"#\",StoreConfig!G1572)-1),\"\")","v":""},{"$f":"IF($B$2=StoreConfig!C1572,RIGHT(StoreConfig!G1572,LEN(StoreConfig!G1572)-FIND(\"#\",StoreConfig!G1572)),\"\")","v":""},{"$f":"IF($B$2=StoreConfig!C1572,IF(StoreConfig!L1572=0,\"不限购\",StoreConfig!L1572&\"次\"),\"\")","v":""}]
[{"$nulls":3},{"$f":"IF($B$2=StoreConfig!C1573,StoreConfig!O1573,\"\")","v":""},{"$f":"IF($B$2=StoreConfig!C1573,StoreConfig!E1573,\"\")","v":""},{"$f":"IF($B$2=StoreConfig!C1573,RIGHT(StoreConfig!J1573,LEN(StoreConfig!J1573)-FIND(\"|\",StoreConfig!J1573)),\"\")","v":""},{"$f":"IFERROR(VLOOKUP(--IF($B$2=StoreConfig!C1573,LEFT(StoreConfig!J1573,FIND(\"|\",StoreConfig!J1573)-1),\"\"),$Q$4:$R$20,2,FALSE),\"\")","v":""},{"$f":"IF($B$2=StoreConfig!C1573,LEFT(StoreConfig!G1573,FIND(\"#\",StoreConfig!G1573)-1),\"\")","v":""},{"$f":"IF($B$2=StoreConfig!C1573,RIGHT(StoreConfig!G1573,LEN(StoreConfig!G1573)-FIND(\"#\",StoreConfig!G1573)),\"\")","v":""},{"$f":"IF($B$2=StoreConfig!C1573,IF(StoreConfig!L1573=0,\"不限购\",StoreConfig!L1573&\"次\"),\"\")","v":""}]
[{"$nulls":3},{"$f":"IF($B$2=StoreConfig!C1574,StoreConfig!O1574,\"\")","v":""},{"$f":"IF($B$2=StoreConfig!C1574,StoreConfig!E1574,\"\")","v":""},{"$f":"IF($B$2=StoreConfig!C1574,RIGHT(StoreConfig!J1574,LEN(StoreConfig!J1574)-FIND(\"|\",StoreConfig!J1574)),\"\")","v":""},{"$f":"IFERROR(VLOOKUP(--IF($B$2=StoreConfig!C1574,LEFT(StoreConfig!J1574,FIND(\"|\",StoreConfig!J1574)-1),\"\"),$Q$4:$R$20,2,FALSE),\"\")","v":""},{"$f":"IF($B$2=StoreConfig!C1574,LEFT(StoreConfig!G1574,FIND(\"#\",StoreConfig!G1574)-1),\"\")","v":""},{"$f":"IF($B$2=StoreConfig!C1574,RIGHT(StoreConfig!G1574,LEN(StoreConfig!G1574)-FIND(\"#\",StoreConfig!G1574)),\"\")","v":""},{"$f":"IF($B$2=StoreConfig!C1574,IF(StoreConfig!L1574=0,\"不限购\",StoreConfig!L1574&\"次\"),\"\")","v":""}]
[{"$nulls":3},{"$f":"IF($B$2=StoreConfig!C1575,StoreConfig!O1575,\"\")","v":""},{"$f":"IF($B$2=StoreConfig!C1575,StoreConfig!E1575,\"\")","v":""},{"$f":"IF($B$2=StoreConfig!C1575,RIGHT(StoreConfig!J1575,LEN(StoreConfig!J1575)-FIND(\"|\",StoreConfig!J1575)),\"\")","v":""},{"$f":"IFERROR(VLOOKUP(--IF($B$2=StoreConfig!C1575,LEFT(StoreConfig!J1575,FIND(\"|\",StoreConfig!J1575)-1),\"\"),$Q$4:$R$20,2,FALSE),\"\")","v":""},{"$f":"IF($B$2=StoreConfig!C1575,LEFT(StoreConfig!G1575,FIND(\"#\",StoreConfig!G1575)-1),\"\")","v":""},{"$f":"IF($B$2=StoreConfig!C1575,RIGHT(StoreConfig!G1575,LEN(StoreConfig!G1575)-FIND(\"#\",StoreConfig!G1575)),\"\")","v":""},{"$f":"IF($B$2=StoreConfig!C1575,IF(StoreConfig!L1575=0,\"不限购\",StoreConfig!L1575&\"次\"),\"\")","v":""}]
[{"$nulls":3},{"$f":"IF($B$2=StoreConfig!C1576,StoreConfig!O1576,\"\")","v":""},{"$f":"IF($B$2=StoreConfig!C1576,StoreConfig!E1576,\"\")","v":""},{"$f":"IF($B$2=StoreConfig!C1576,RIGHT(StoreConfig!J1576,LEN(StoreConfig!J1576)-FIND(\"|\",StoreConfig!J1576)),\"\")","v":""},{"$f":"IFERROR(VLOOKUP(--IF($B$2=StoreConfig!C1576,LEFT(StoreConfig!J1576,FIND(\"|\",StoreConfig!J1576)-1),\"\"),$Q$4:$R$20,2,FALSE),\"\")","v":""},{"$f":"IF($B$2=StoreConfig!C1576,LEFT(StoreConfig!G1576,FIND(\"#\",StoreConfig!G1576)-1),\"\")","v":""},{"$f":"IF($B$2=StoreConfig!C1576,RIGHT(StoreConfig!G1576,LEN(StoreConfig!G1576)-FIND(\"#\",StoreConfig!G1576)),\"\")","v":""},{"$f":"IF($B$2=StoreConfig!C1576,IF(StoreConfig!L1576=0,\"不限购\",StoreConfig!L1576&\"次\"),\"\")","v":""}]
[{"$nulls":3},{"$f":"IF($B$2=StoreConfig!C1577,StoreConfig!O1577,\"\")","v":""},{"$f":"IF($B$2=StoreConfig!C1577,StoreConfig!E1577,\"\")","v":""},{"$f":"IF($B$2=StoreConfig!C1577,RIGHT(StoreConfig!J1577,LEN(StoreConfig!J1577)-FIND(\"|\",StoreConfig!J1577)),\"\")","v":""},{"$f":"IFERROR(VLOOKUP(--IF($B$2=StoreConfig!C1577,LEFT(StoreConfig!J1577,FIND(\"|\",StoreConfig!J1577)-1),\"\"),$Q$4:$R$20,2,FALSE),\"\")","v":""},{"$f":"IF($B$2=StoreConfig!C1577,LEFT(StoreConfig!G1577,FIND(\"#\",StoreConfig!G1577)-1),\"\")","v":""},{"$f":"IF($B$2=StoreConfig!C1577,RIGHT(StoreConfig!G1577,LEN(StoreConfig!G1577)-FIND(\"#\",StoreConfig!G1577)),\"\")","v":""},{"$f":"IF($B$2=StoreConfig!C1577,IF(StoreConfig!L1577=0,\"不限购\",StoreConfig!L1577&\"次\"),\"\")","v":""}]
[{"$nulls":3},{"$f":"IF($B$2=StoreConfig!C1578,StoreConfig!O1578,\"\")","v":""},{"$f":"IF($B$2=StoreConfig!C1578,StoreConfig!E1578,\"\")","v":""},{"$f":"IF($B$2=StoreConfig!C1578,RIGHT(StoreConfig!J1578,LEN(StoreConfig!J1578)-FIND(\"|\",StoreConfig!J1578)),\"\")","v":""},{"$f":"IFERROR(VLOOKUP(--IF($B$2=StoreConfig!C1578,LEFT(StoreConfig!J1578,FIND(\"|\",StoreConfig!J1578)-1),\"\"),$Q$4:$R$20,2,FALSE),\"\")","v":""},{"$f":"IF($B$2=StoreConfig!C1578,LEFT(StoreConfig!G1578,FIND(\"#\",StoreConfig!G1578)-1),\"\")","v":""},{"$f":"IF($B$2=StoreConfig!C1578,RIGHT(StoreConfig!G1578,LEN(StoreConfig!G1578)-FIND(\"#\",StoreConfig!G1578)),\"\")","v":""},{"$f":"IF($B$2=StoreConfig!C1578,IF(StoreConfig!L1578=0,\"不限购\",StoreConfig!L1578&\"次\"),\"\")","v":""}]
[{"$nulls":3},{"$f":"IF($B$2=StoreConfig!C1579,StoreConfig!O1579,\"\")","v":""},{"$f":"IF($B$2=StoreConfig!C1579,StoreConfig!E1579,\"\")","v":""},{"$f":"IF($B$2=StoreConfig!C1579,RIGHT(StoreConfig!J1579,LEN(StoreConfig!J1579)-FIND(\"|\",StoreConfig!J1579)),\"\")","v":""},{"$f":"IFERROR(VLOOKUP(--IF($B$2=StoreConfig!C1579,LEFT(StoreConfig!J1579,FIND(\"|\",StoreConfig!J1579)-1),\"\"),$Q$4:$R$20,2,FALSE),\"\")","v":""},{"$f":"IF($B$2=StoreConfig!C1579,LEFT(StoreConfig!G1579,FIND(\"#\",StoreConfig!G1579)-1),\"\")","v":""},{"$f":"IF($B$2=StoreConfig!C1579,RIGHT(StoreConfig!G1579,LEN(StoreConfig!G1579)-FIND(\"#\",StoreConfig!G1579)),\"\")","v":""},{"$f":"IF($B$2=StoreConfig!C1579,IF(StoreConfig!L1579=0,\"不限购\",StoreConfig!L1579&\"次\"),\"\")","v":""}]
[{"$nulls":3},{"$f":"IF($B$2=StoreConfig!C1580,StoreConfig!O1580,\"\")","v":""},{"$f":"IF($B$2=StoreConfig!C1580,StoreConfig!E1580,\"\")","v":""},{"$f":"IF($B$2=StoreConfig!C1580,RIGHT(StoreConfig!J1580,LEN(StoreConfig!J1580)-FIND(\"|\",StoreConfig!J1580)),\"\")","v":""},{"$f":"IFERROR(VLOOKUP(--IF($B$2=StoreConfig!C1580,LEFT(StoreConfig!J1580,FIND(\"|\",StoreConfig!J1580)-1),\"\"),$Q$4:$R$20,2,FALSE),\"\")","v":""},{"$f":"IF($B$2=StoreConfig!C1580,LEFT(StoreConfig!G1580,FIND(\"#\",StoreConfig!G1580)-1),\"\")","v":""},{"$f":"IF($B$2=StoreConfig!C1580,RIGHT(StoreConfig!G1580,LEN(StoreConfig!G1580)-FIND(\"#\",StoreConfig!G1580)),\"\")","v":""},{"$f":"IF($B$2=StoreConfig!C1580,IF(StoreConfig!L1580=0,\"不限购\",StoreConfig!L1580&\"次\"),\"\")","v":""}]
[{"$nulls":3},{"$f":"IF($B$2=StoreConfig!C1581,StoreConfig!O1581,\"\")","v":""},{"$f":"IF($B$2=StoreConfig!C1581,StoreConfig!E1581,\"\")","v":""},{"$f":"IF($B$2=StoreConfig!C1581,RIGHT(StoreConfig!J1581,LEN(StoreConfig!J1581)-FIND(\"|\",StoreConfig!J1581)),\"\")","v":""},{"$f":"IFERROR(VLOOKUP(--IF($B$2=StoreConfig!C1581,LEFT(StoreConfig!J1581,FIND(\"|\",StoreConfig!J1581)-1),\"\"),$Q$4:$R$20,2,FALSE),\"\")","v":""},{"$f":"IF($B$2=StoreConfig!C1581,LEFT(StoreConfig!G1581,FIND(\"#\",StoreConfig!G1581)-1),\"\")","v":""},{"$f":"IF($B$2=StoreConfig!C1581,RIGHT(StoreConfig!G1581,LEN(StoreConfig!G1581)-FIND(\"#\",StoreConfig!G1581)),\"\")","v":""},{"$f":"IF($B$2=StoreConfig!C1581,IF(StoreConfig!L1581=0,\"不限购\",StoreConfig!L1581&\"次\"),\"\")","v":""}]
[{"$nulls":3},{"$f":"IF($B$2=StoreConfig!C1582,StoreConfig!O1582,\"\")","v":""},{"$f":"IF($B$2=StoreConfig!C1582,StoreConfig!E1582,\"\")","v":""},{"$f":"IF($B$2=StoreConfig!C1582,RIGHT(StoreConfig!J1582,LEN(StoreConfig!J1582)-FIND(\"|\",StoreConfig!J1582)),\"\")","v":""},{"$f":"IFERROR(VLOOKUP(--IF($B$2=StoreConfig!C1582,LEFT(StoreConfig!J1582,FIND(\"|\",StoreConfig!J1582)-1),\"\"),$Q$4:$R$20,2,FALSE),\"\")","v":""},{"$f":"IF($B$2=StoreConfig!C1582,LEFT(StoreConfig!G1582,FIND(\"#\",StoreConfig!G1582)-1),\"\")","v":""},{"$f":"IF($B$2=StoreConfig!C1582,RIGHT(StoreConfig!G1582,LEN(StoreConfig!G1582)-FIND(\"#\",StoreConfig!G1582)),\"\")","v":""},{"$f":"IF($B$2=StoreConfig!C1582,IF(StoreConfig!L1582=0,\"不限购\",StoreConfig!L1582&\"次\"),\"\")","v":""}]
[{"$nulls":3},{"$f":"IF($B$2=StoreConfig!C1583,StoreConfig!O1583,\"\")","v":""},{"$f":"IF($B$2=StoreConfig!C1583,StoreConfig!E1583,\"\")","v":""},{"$f":"IF($B$2=StoreConfig!C1583,RIGHT(StoreConfig!J1583,LEN(StoreConfig!J1583)-FIND(\"|\",StoreConfig!J1583)),\"\")","v":""},{"$f":"IFERROR(VLOOKUP(--IF($B$2=StoreConfig!C1583,LEFT(StoreConfig!J1583,FIND(\"|\",StoreConfig!J1583)-1),\"\"),$Q$4:$R$20,2,FALSE),\"\")","v":""},{"$f":"IF($B$2=StoreConfig!C1583,LEFT(StoreConfig!G1583,FIND(\"#\",StoreConfig!G1583)-1),\"\")","v":""},{"$f":"IF($B$2=StoreConfig!C1583,RIGHT(StoreConfig!G1583,LEN(StoreConfig!G1583)-FIND(\"#\",StoreConfig!G1583)),\"\")","v":""},{"$f":"IF($B$2=StoreConfig!C1583,IF(StoreConfig!L1583=0,\"不限购\",StoreConfig!L1583&\"次\"),\"\")","v":""}]
[{"$nulls":3},{"$f":"IF($B$2=StoreConfig!C1584,StoreConfig!O1584,\"\")","v":""},{"$f":"IF($B$2=StoreConfig!C1584,StoreConfig!E1584,\"\")","v":""},{"$f":"IF($B$2=StoreConfig!C1584,RIGHT(StoreConfig!J1584,LEN(StoreConfig!J1584)-FIND(\"|\",StoreConfig!J1584)),\"\")","v":""},{"$f":"IFERROR(VLOOKUP(--IF($B$2=StoreConfig!C1584,LEFT(StoreConfig!J1584,FIND(\"|\",StoreConfig!J1584)-1),\"\"),$Q$4:$R$20,2,FALSE),\"\")","v":""},{"$f":"IF($B$2=StoreConfig!C1584,LEFT(StoreConfig!G1584,FIND(\"#\",StoreConfig!G1584)-1),\"\")","v":""},{"$f":"IF($B$2=StoreConfig!C1584,RIGHT(StoreConfig!G1584,LEN(StoreConfig!G1584)-FIND(\"#\",StoreConfig!G1584)),\"\")","v":""},{"$f":"IF($B$2=StoreConfig!C1584,IF(StoreConfig!L1584=0,\"不限购\",StoreConfig!L1584&\"次\"),\"\")","v":""}]
[{"$nulls":3},{"$f":"IF($B$2=StoreConfig!C1585,StoreConfig!O1585,\"\")","v":""},{"$f":"IF($B$2=StoreConfig!C1585,StoreConfig!E1585,\"\")","v":""},{"$f":"IF($B$2=StoreConfig!C1585,RIGHT(StoreConfig!J1585,LEN(StoreConfig!J1585)-FIND(\"|\",StoreConfig!J1585)),\"\")","v":""},{"$f":"IFERROR(VLOOKUP(--IF($B$2=StoreConfig!C1585,LEFT(StoreConfig!J1585,FIND(\"|\",StoreConfig!J1585)-1),\"\"),$Q$4:$R$20,2,FALSE),\"\")","v":""},{"$f":"IF($B$2=StoreConfig!C1585,LEFT(StoreConfig!G1585,FIND(\"#\",StoreConfig!G1585)-1),\"\")","v":""},{"$f":"IF($B$2=StoreConfig!C1585,RIGHT(StoreConfig!G1585,LEN(StoreConfig!G1585)-FIND(\"#\",StoreConfig!G1585)),\"\")","v":""},{"$f":"IF($B$2=StoreConfig!C1585,IF(StoreConfig!L1585=0,\"不限购\",StoreConfig!L1585&\"次\"),\"\")","v":""}]
[{"$nulls":3},{"$f":"IF($B$2=StoreConfig!C1586,StoreConfig!O1586,\"\")","v":""},{"$f":"IF($B$2=StoreConfig!C1586,StoreConfig!E1586,\"\")","v":""},{"$f":"IF($B$2=StoreConfig!C1586,RIGHT(StoreConfig!J1586,LEN(StoreConfig!J1586)-FIND(\"|\",StoreConfig!J1586)),\"\")","v":""},{"$f":"IFERROR(VLOOKUP(--IF($B$2=StoreConfig!C1586,LEFT(StoreConfig!J1586,FIND(\"|\",StoreConfig!J1586)-1),\"\"),$Q$4:$R$20,2,FALSE),\"\")","v":""},{"$f":"IF($B$2=StoreConfig!C1586,LEFT(StoreConfig!G1586,FIND(\"#\",StoreConfig!G1586)-1),\"\")","v":""},{"$f":"IF($B$2=StoreConfig!C1586,RIGHT(StoreConfig!G1586,LEN(StoreConfig!G1586)-FIND(\"#\",StoreConfig!G1586)),\"\")","v":""},{"$f":"IF($B$2=StoreConfig!C1586,IF(StoreConfig!L1586=0,\"不限购\",StoreConfig!L1586&\"次\"),\"\")","v":""}]
[{"$nulls":3},{"$f":"IF($B$2=StoreConfig!C1587,StoreConfig!O1587,\"\")","v":""},{"$f":"IF($B$2=StoreConfig!C1587,StoreConfig!E1587,\"\")","v":""},{"$f":"IF($B$2=StoreConfig!C1587,RIGHT(StoreConfig!J1587,LEN(StoreConfig!J1587)-FIND(\"|\",StoreConfig!J1587)),\"\")","v":""},{"$f":"IFERROR(VLOOKUP(--IF($B$2=StoreConfig!C1587,LEFT(StoreConfig!J1587,FIND(\"|\",StoreConfig!J1587)-1),\"\"),$Q$4:$R$20,2,FALSE),\"\")","v":""},{"$f":"IF($B$2=StoreConfig!C1587,LEFT(StoreConfig!G1587,FIND(\"#\",StoreConfig!G1587)-1),\"\")","v":""},{"$f":"IF($B$2=StoreConfig!C1587,RIGHT(StoreConfig!G1587,LEN(StoreConfig!G1587)-FIND(\"#\",StoreConfig!G1587)),\"\")","v":""},{"$f":"IF($B$2=StoreConfig!C1587,IF(StoreConfig!L1587=0,\"不限购\",StoreConfig!L1587&\"次\"),\"\")","v":""}]
[{"$nulls":3},{"$f":"IF($B$2=StoreConfig!C1588,StoreConfig!O1588,\"\")","v":""},{"$f":"IF($B$2=StoreConfig!C1588,StoreConfig!E1588,\"\")","v":""},{"$f":"IF($B$2=StoreConfig!C1588,RIGHT(StoreConfig!J1588,LEN(StoreConfig!J1588)-FIND(\"|\",StoreConfig!J1588)),\"\")","v":""},{"$f":"IFERROR(VLOOKUP(--IF($B$2=StoreConfig!C1588,LEFT(StoreConfig!J1588,FIND(\"|\",StoreConfig!J1588)-1),\"\"),$Q$4:$R$20,2,FALSE),\"\")","v":""},{"$f":"IF($B$2=StoreConfig!C1588,LEFT(StoreConfig!G1588,FIND(\"#\",StoreConfig!G1588)-1),\"\")","v":""},{"$f":"IF($B$2=StoreConfig!C1588,RIGHT(StoreConfig!G1588,LEN(StoreConfig!G1588)-FIND(\"#\",StoreConfig!G1588)),\"\")","v":""},{"$f":"IF($B$2=StoreConfig!C1588,IF(StoreConfig!L1588=0,\"不限购\",StoreConfig!L1588&\"次\"),\"\")","v":""}]
[{"$nulls":3},{"$f":"IF($B$2=StoreConfig!C1589,StoreConfig!O1589,\"\")","v":""},{"$f":"IF($B$2=StoreConfig!C1589,StoreConfig!E1589,\"\")","v":""},{"$f":"IF($B$2=StoreConfig!C1589,RIGHT(StoreConfig!J1589,LEN(StoreConfig!J1589)-FIND(\"|\",StoreConfig!J1589)),\"\")","v":""},{"$f":"IFERROR(VLOOKUP(--IF($B$2=StoreConfig!C1589,LEFT(StoreConfig!J1589,FIND(\"|\",StoreConfig!J1589)-1),\"\"),$Q$4:$R$20,2,FALSE),\"\")","v":""},{"$f":"IF($B$2=StoreConfig!C1589,LEFT(StoreConfig!G1589,FIND(\"#\",StoreConfig!G1589)-1),\"\")","v":""},{"$f":"IF($B$2=StoreConfig!C1589,RIGHT(StoreConfig!G1589,LEN(StoreConfig!G1589)-FIND(\"#\",StoreConfig!G1589)),\"\")","v":""},{"$f":"IF($B$2=StoreConfig!C1589,IF(StoreConfig!L1589=0,\"不限购\",StoreConfig!L1589&\"次\"),\"\")","v":""}]
[{"$nulls":3},{"$f":"IF($B$2=StoreConfig!C1590,StoreConfig!O1590,\"\")","v":""},{"$f":"IF($B$2=StoreConfig!C1590,StoreConfig!E1590,\"\")","v":""},{"$f":"IF($B$2=StoreConfig!C1590,RIGHT(StoreConfig!J1590,LEN(StoreConfig!J1590)-FIND(\"|\",StoreConfig!J1590)),\"\")","v":""},{"$f":"IFERROR(VLOOKUP(--IF($B$2=StoreConfig!C1590,LEFT(StoreConfig!J1590,FIND(\"|\",StoreConfig!J1590)-1),\"\"),$Q$4:$R$20,2,FALSE),\"\")","v":""},{"$f":"IF($B$2=StoreConfig!C1590,LEFT(StoreConfig!G1590,FIND(\"#\",StoreConfig!G1590)-1),\"\")","v":""},{"$f":"IF($B$2=StoreConfig!C1590,RIGHT(StoreConfig!G1590,LEN(StoreConfig!G1590)-FIND(\"#\",StoreConfig!G1590)),\"\")","v":""},{"$f":"IF($B$2=StoreConfig!C1590,IF(StoreConfig!L1590=0,\"不限购\",StoreConfig!L1590&\"次\"),\"\")","v":""}]
[{"$nulls":3},{"$f":"IF($B$2=StoreConfig!C1591,StoreConfig!O1591,\"\")","v":""},{"$f":"IF($B$2=StoreConfig!C1591,StoreConfig!E1591,\"\")","v":""},{"$f":"IF($B$2=StoreConfig!C1591,RIGHT(StoreConfig!J1591,LEN(StoreConfig!J1591)-FIND(\"|\",StoreConfig!J1591)),\"\")","v":""},{"$f":"IFERROR(VLOOKUP(--IF($B$2=StoreConfig!C1591,LEFT(StoreConfig!J1591,FIND(\"|\",StoreConfig!J1591)-1),\"\"),$Q$4:$R$20,2,FALSE),\"\")","v":""},{"$f":"IF($B$2=StoreConfig!C1591,LEFT(StoreConfig!G1591,FIND(\"#\",StoreConfig!G1591)-1),\"\")","v":""},{"$f":"IF($B$2=StoreConfig!C1591,RIGHT(StoreConfig!G1591,LEN(StoreConfig!G1591)-FIND(\"#\",StoreConfig!G1591)),\"\")","v":""},{"$f":"IF($B$2=StoreConfig!C1591,IF(StoreConfig!L1591=0,\"不限购\",StoreConfig!L1591&\"次\"),\"\")","v":""}]
[{"$nulls":3},{"$f":"IF($B$2=StoreConfig!C1592,StoreConfig!O1592,\"\")","v":""},{"$f":"IF($B$2=StoreConfig!C1592,StoreConfig!E1592,\"\")","v":""},{"$f":"IF($B$2=StoreConfig!C1592,RIGHT(StoreConfig!J1592,LEN(StoreConfig!J1592)-FIND(\"|\",StoreConfig!J1592)),\"\")","v":""},{"$f":"IFERROR(VLOOKUP(--IF($B$2=StoreConfig!C1592,LEFT(StoreConfig!J1592,FIND(\"|\",StoreConfig!J1592)-1),\"\"),$Q$4:$R$20,2,FALSE),\"\")","v":""},{"$f":"IF($B$2=StoreConfig!C1592,LEFT(StoreConfig!G1592,FIND(\"#\",StoreConfig!G1592)-1),\"\")","v":""},{"$f":"IF($B$2=StoreConfig!C1592,RIGHT(StoreConfig!G1592,LEN(StoreConfig!G1592)-FIND(\"#\",StoreConfig!G1592)),\"\")","v":""},{"$f":"IF($B$2=StoreConfig!C1592,IF(StoreConfig!L1592=0,\"不限购\",StoreConfig!L1592&\"次\"),\"\")","v":""}]
[{"$nulls":3},{"$f":"IF($B$2=StoreConfig!C1593,StoreConfig!O1593,\"\")","v":""},{"$f":"IF($B$2=StoreConfig!C1593,StoreConfig!E1593,\"\")","v":""},{"$f":"IF($B$2=StoreConfig!C1593,RIGHT(StoreConfig!J1593,LEN(StoreConfig!J1593)-FIND(\"|\",StoreConfig!J1593)),\"\")","v":""},{"$f":"IFERROR(VLOOKUP(--IF($B$2=StoreConfig!C1593,LEFT(StoreConfig!J1593,FIND(\"|\",StoreConfig!J1593)-1),\"\"),$Q$4:$R$20,2,FALSE),\"\")","v":""},{"$f":"IF($B$2=StoreConfig!C1593,LEFT(StoreConfig!G1593,FIND(\"#\",StoreConfig!G1593)-1),\"\")","v":""},{"$f":"IF($B$2=StoreConfig!C1593,RIGHT(StoreConfig!G1593,LEN(StoreConfig!G1593)-FIND(\"#\",StoreConfig!G1593)),\"\")","v":""},{"$f":"IF($B$2=StoreConfig!C1593,IF(StoreConfig!L1593=0,\"不限购\",StoreConfig!L1593&\"次\"),\"\")","v":""}]
[{"$nulls":3},{"$f":"IF($B$2=StoreConfig!C1594,StoreConfig!O1594,\"\")","v":""},{"$f":"IF($B$2=StoreConfig!C1594,StoreConfig!E1594,\"\")","v":""},{"$f":"IF($B$2=StoreConfig!C1594,RIGHT(StoreConfig!J1594,LEN(StoreConfig!J1594)-FIND(\"|\",StoreConfig!J1594)),\"\")","v":""},{"$f":"IFERROR(VLOOKUP(--IF($B$2=StoreConfig!C1594,LEFT(StoreConfig!J1594,FIND(\"|\",StoreConfig!J1594)-1),\"\"),$Q$4:$R$20,2,FALSE),\"\")","v":""},{"$f":"IF($B$2=StoreConfig!C1594,LEFT(StoreConfig!G1594,FIND(\"#\",StoreConfig!G1594)-1),\"\")","v":""},{"$f":"IF($B$2=StoreConfig!C1594,RIGHT(StoreConfig!G1594,LEN(StoreConfig!G1594)-FIND(\"#\",StoreConfig!G1594)),\"\")","v":""},{"$f":"IF($B$2=StoreConfig!C1594,IF(StoreConfig!L1594=0,\"不限购\",StoreConfig!L1594&\"次\"),\"\")","v":""}]
[{"$nulls":3},{"$f":"IF($B$2=StoreConfig!C1595,StoreConfig!O1595,\"\")","v":""},{"$f":"IF($B$2=StoreConfig!C1595,StoreConfig!E1595,\"\")","v":""},{"$f":"IF($B$2=StoreConfig!C1595,RIGHT(StoreConfig!J1595,LEN(StoreConfig!J1595)-FIND(\"|\",StoreConfig!J1595)),\"\")","v":""},{"$f":"IFERROR(VLOOKUP(--IF($B$2=StoreConfig!C1595,LEFT(StoreConfig!J1595,FIND(\"|\",StoreConfig!J1595)-1),\"\"),$Q$4:$R$20,2,FALSE),\"\")","v":""},{"$f":"IF($B$2=StoreConfig!C1595,LEFT(StoreConfig!G1595,FIND(\"#\",StoreConfig!G1595)-1),\"\")","v":""},{"$f":"IF($B$2=StoreConfig!C1595,RIGHT(StoreConfig!G1595,LEN(StoreConfig!G1595)-FIND(\"#\",StoreConfig!G1595)),\"\")","v":""},{"$f":"IF($B$2=StoreConfig!C1595,IF(StoreConfig!L1595=0,\"不限购\",StoreConfig!L1595&\"次\"),\"\")","v":""}]
[{"$nulls":3},{"$f":"IF($B$2=StoreConfig!C1596,StoreConfig!O1596,\"\")","v":""},{"$f":"IF($B$2=StoreConfig!C1596,StoreConfig!E1596,\"\")","v":""},{"$f":"IF($B$2=StoreConfig!C1596,RIGHT(StoreConfig!J1596,LEN(StoreConfig!J1596)-FIND(\"|\",StoreConfig!J1596)),\"\")","v":""},{"$f":"IFERROR(VLOOKUP(--IF($B$2=StoreConfig!C1596,LEFT(StoreConfig!J1596,FIND(\"|\",StoreConfig!J1596)-1),\"\"),$Q$4:$R$20,2,FALSE),\"\")","v":""},{"$f":"IF($B$2=StoreConfig!C1596,LEFT(StoreConfig!G1596,FIND(\"#\",StoreConfig!G1596)-1),\"\")","v":""},{"$f":"IF($B$2=StoreConfig!C1596,RIGHT(StoreConfig!G1596,LEN(StoreConfig!G1596)-FIND(\"#\",StoreConfig!G1596)),\"\")","v":""},{"$f":"IF($B$2=StoreConfig!C1596,IF(StoreConfig!L1596=0,\"不限购\",StoreConfig!L1596&\"次\"),\"\")","v":""}]
[{"$nulls":3},{"$f":"IF($B$2=StoreConfig!C1597,StoreConfig!O1597,\"\")","v":""},{"$f":"IF($B$2=StoreConfig!C1597,StoreConfig!E1597,\"\")","v":""},{"$f":"IF($B$2=StoreConfig!C1597,RIGHT(StoreConfig!J1597,LEN(StoreConfig!J1597)-FIND(\"|\",StoreConfig!J1597)),\"\")","v":""},{"$f":"IFERROR(VLOOKUP(--IF($B$2=StoreConfig!C1597,LEFT(StoreConfig!J1597,FIND(\"|\",StoreConfig!J1597)-1),\"\"),$Q$4:$R$20,2,FALSE),\"\")","v":""},{"$f":"IF($B$2=StoreConfig!C1597,LEFT(StoreConfig!G1597,FIND(\"#\",StoreConfig!G1597)-1),\"\")","v":""},{"$f":"IF($B$2=StoreConfig!C1597,RIGHT(StoreConfig!G1597,LEN(StoreConfig!G1597)-FIND(\"#\",StoreConfig!G1597)),\"\")","v":""},{"$f":"IF($B$2=StoreConfig!C1597,IF(StoreConfig!L1597=0,\"不限购\",StoreConfig!L1597&\"次\"),\"\")","v":""}]
[{"$nulls":3},{"$f":"IF($B$2=StoreConfig!C1598,StoreConfig!O1598,\"\")","v":""},{"$f":"IF($B$2=StoreConfig!C1598,StoreConfig!E1598,\"\")","v":""},{"$f":"IF($B$2=StoreConfig!C1598,RIGHT(StoreConfig!J1598,LEN(StoreConfig!J1598)-FIND(\"|\",StoreConfig!J1598)),\"\")","v":""},{"$f":"IFERROR(VLOOKUP(--IF($B$2=StoreConfig!C1598,LEFT(StoreConfig!J1598,FIND(\"|\",StoreConfig!J1598)-1),\"\"),$Q$4:$R$20,2,FALSE),\"\")","v":""},{"$f":"IF($B$2=StoreConfig!C1598,LEFT(StoreConfig!G1598,FIND(\"#\",StoreConfig!G1598)-1),\"\")","v":""},{"$f":"IF($B$2=StoreConfig!C1598,RIGHT(StoreConfig!G1598,LEN(StoreConfig!G1598)-FIND(\"#\",StoreConfig!G1598)),\"\")","v":""},{"$f":"IF($B$2=StoreConfig!C1598,IF(StoreConfig!L1598=0,\"不限购\",StoreConfig!L1598&\"次\"),\"\")","v":""}]
[{"$nulls":3},{"$f":"IF($B$2=StoreConfig!C1599,StoreConfig!O1599,\"\")","v":""},{"$f":"IF($B$2=StoreConfig!C1599,StoreConfig!E1599,\"\")","v":""},{"$f":"IF($B$2=StoreConfig!C1599,RIGHT(StoreConfig!J1599,LEN(StoreConfig!J1599)-FIND(\"|\",StoreConfig!J1599)),\"\")","v":""},{"$f":"IFERROR(VLOOKUP(--IF($B$2=StoreConfig!C1599,LEFT(StoreConfig!J1599,FIND(\"|\",StoreConfig!J1599)-1),\"\"),$Q$4:$R$20,2,FALSE),\"\")","v":""},{"$f":"IF($B$2=StoreConfig!C1599,LEFT(StoreConfig!G1599,FIND(\"#\",StoreConfig!G1599)-1),\"\")","v":""},{"$f":"IF($B$2=StoreConfig!C1599,RIGHT(StoreConfig!G1599,LEN(StoreConfig!G1599)-FIND(\"#\",StoreConfig!G1599)),\"\")","v":""},{"$f":"IF($B$2=StoreConfig!C1599,IF(StoreConfig!L1599=0,\"不限购\",StoreConfig!L1599&\"次\"),\"\")","v":""}]
[{"$nulls":3},{"$f":"IF($B$2=StoreConfig!C1600,StoreConfig!O1600,\"\")","v":""},{"$f":"IF($B$2=StoreConfig!C1600,StoreConfig!E1600,\"\")","v":""},{"$f":"IF($B$2=StoreConfig!C1600,RIGHT(StoreConfig!J1600,LEN(StoreConfig!J1600)-FIND(\"|\",StoreConfig!J1600)),\"\")","v":""},{"$f":"IFERROR(VLOOKUP(--IF($B$2=StoreConfig!C1600,LEFT(StoreConfig!J1600,FIND(\"|\",StoreConfig!J1600)-1),\"\"),$Q$4:$R$20,2,FALSE),\"\")","v":""},{"$f":"IF($B$2=StoreConfig!C1600,LEFT(StoreConfig!G1600,FIND(\"#\",StoreConfig!G1600)-1),\"\")","v":""},{"$f":"IF($B$2=StoreConfig!C1600,RIGHT(StoreConfig!G1600,LEN(StoreConfig!G1600)-FIND(\"#\",StoreConfig!G1600)),\"\")","v":""},{"$f":"IF($B$2=StoreConfig!C1600,IF(StoreConfig!L1600=0,\"不限购\",StoreConfig!L1600&\"次\"),\"\")","v":""}]
[{"$nulls":3},{"$f":"IF($B$2=StoreConfig!C1601,StoreConfig!O1601,\"\")","v":""},{"$f":"IF($B$2=StoreConfig!C1601,StoreConfig!E1601,\"\")","v":""},{"$f":"IF($B$2=StoreConfig!C1601,RIGHT(StoreConfig!J1601,LEN(StoreConfig!J1601)-FIND(\"|\",StoreConfig!J1601)),\"\")","v":""},{"$f":"IFERROR(VLOOKUP(--IF($B$2=StoreConfig!C1601,LEFT(StoreConfig!J1601,FIND(\"|\",StoreConfig!J1601)-1),\"\"),$Q$4:$R$20,2,FALSE),\"\")","v":""},{"$f":"IF($B$2=StoreConfig!C1601,LEFT(StoreConfig!G1601,FIND(\"#\",StoreConfig!G1601)-1),\"\")","v":""},{"$f":"IF($B$2=StoreConfig!C1601,RIGHT(StoreConfig!G1601,LEN(StoreConfig!G1601)-FIND(\"#\",StoreConfig!G1601)),\"\")","v":""},{"$f":"IF($B$2=StoreConfig!C1601,IF(StoreConfig!L1601=0,\"不限购\",StoreConfig!L1601&\"次\"),\"\")","v":""}]
[{"$nulls":3},{"$f":"IF($B$2=StoreConfig!C1602,StoreConfig!O1602,\"\")","v":""},{"$f":"IF($B$2=StoreConfig!C1602,StoreConfig!E1602,\"\")","v":""},{"$f":"IF($B$2=StoreConfig!C1602,RIGHT(StoreConfig!J1602,LEN(StoreConfig!J1602)-FIND(\"|\",StoreConfig!J1602)),\"\")","v":""},{"$f":"IFERROR(VLOOKUP(--IF($B$2=StoreConfig!C1602,LEFT(StoreConfig!J1602,FIND(\"|\",StoreConfig!J1602)-1),\"\"),$Q$4:$R$20,2,FALSE),\"\")","v":""},{"$f":"IF($B$2=StoreConfig!C1602,LEFT(StoreConfig!G1602,FIND(\"#\",StoreConfig!G1602)-1),\"\")","v":""},{"$f":"IF($B$2=StoreConfig!C1602,RIGHT(StoreConfig!G1602,LEN(StoreConfig!G1602)-FIND(\"#\",StoreConfig!G1602)),\"\")","v":""},{"$f":"IF($B$2=StoreConfig!C1602,IF(StoreConfig!L1602=0,\"不限购\",StoreConfig!L1602&\"次\"),\"\")","v":""}]
[{"$nulls":3},{"$f":"IF($B$2=StoreConfig!C1603,StoreConfig!O1603,\"\")","v":""},{"$f":"IF($B$2=StoreConfig!C1603,StoreConfig!E1603,\"\")","v":""},{"$f":"IF($B$2=StoreConfig!C1603,RIGHT(StoreConfig!J1603,LEN(StoreConfig!J1603)-FIND(\"|\",StoreConfig!J1603)),\"\")","v":""},{"$f":"IFERROR(VLOOKUP(--IF($B$2=StoreConfig!C1603,LEFT(StoreConfig!J1603,FIND(\"|\",StoreConfig!J1603)-1),\"\"),$Q$4:$R$20,2,FALSE),\"\")","v":""},{"$f":"IF($B$2=StoreConfig!C1603,LEFT(StoreConfig!G1603,FIND(\"#\",StoreConfig!G1603)-1),\"\")","v":""},{"$f":"IF($B$2=StoreConfig!C1603,RIGHT(StoreConfig!G1603,LEN(StoreConfig!G1603)-FIND(\"#\",StoreConfig!G1603)),\"\")","v":""},{"$f":"IF($B$2=StoreConfig!C1603,IF(StoreConfig!L1603=0,\"不限购\",StoreConfig!L1603&\"次\"),\"\")","v":""}]
[{"$nulls":3},{"$f":"IF($B$2=StoreConfig!C1604,StoreConfig!O1604,\"\")","v":""},{"$f":"IF($B$2=StoreConfig!C1604,StoreConfig!E1604,\"\")","v":""},{"$f":"IF($B$2=StoreConfig!C1604,RIGHT(StoreConfig!J1604,LEN(StoreConfig!J1604)-FIND(\"|\",StoreConfig!J1604)),\"\")","v":""},{"$f":"IFERROR(VLOOKUP(--IF($B$2=StoreConfig!C1604,LEFT(StoreConfig!J1604,FIND(\"|\",StoreConfig!J1604)-1),\"\"),$Q$4:$R$20,2,FALSE),\"\")","v":""},{"$f":"IF($B$2=StoreConfig!C1604,LEFT(StoreConfig!G1604,FIND(\"#\",StoreConfig!G1604)-1),\"\")","v":""},{"$f":"IF($B$2=StoreConfig!C1604,RIGHT(StoreConfig!G1604,LEN(StoreConfig!G1604)-FIND(\"#\",StoreConfig!G1604)),\"\")","v":""},{"$f":"IF($B$2=StoreConfig!C1604,IF(StoreConfig!L1604=0,\"不限购\",StoreConfig!L1604&\"次\"),\"\")","v":""}]
[{"$nulls":3},{"$f":"IF($B$2=StoreConfig!C1605,StoreConfig!O1605,\"\")","v":""},{"$f":"IF($B$2=StoreConfig!C1605,StoreConfig!E1605,\"\")","v":""},{"$f":"IF($B$2=StoreConfig!C1605,RIGHT(StoreConfig!J1605,LEN(StoreConfig!J1605)-FIND(\"|\",StoreConfig!J1605)),\"\")","v":""},{"$f":"IFERROR(VLOOKUP(--IF($B$2=StoreConfig!C1605,LEFT(StoreConfig!J1605,FIND(\"|\",StoreConfig!J1605)-1),\"\"),$Q$4:$R$20,2,FALSE),\"\")","v":""},{"$f":"IF($B$2=StoreConfig!C1605,LEFT(StoreConfig!G1605,FIND(\"#\",StoreConfig!G1605)-1),\"\")","v":""},{"$f":"IF($B$2=StoreConfig!C1605,RIGHT(StoreConfig!G1605,LEN(StoreConfig!G1605)-FIND(\"#\",StoreConfig!G1605)),\"\")","v":""},{"$f":"IF($B$2=StoreConfig!C1605,IF(StoreConfig!L1605=0,\"不限购\",StoreConfig!L1605&\"次\"),\"\")","v":""}]
[{"$nulls":3},{"$f":"IF($B$2=StoreConfig!C1606,StoreConfig!O1606,\"\")","v":""},{"$f":"IF($B$2=StoreConfig!C1606,StoreConfig!E1606,\"\")","v":""},{"$f":"IF($B$2=StoreConfig!C1606,RIGHT(StoreConfig!J1606,LEN(StoreConfig!J1606)-FIND(\"|\",StoreConfig!J1606)),\"\")","v":""},{"$f":"IFERROR(VLOOKUP(--IF($B$2=StoreConfig!C1606,LEFT(StoreConfig!J1606,FIND(\"|\",StoreConfig!J1606)-1),\"\"),$Q$4:$R$20,2,FALSE),\"\")","v":""},{"$f":"IF($B$2=StoreConfig!C1606,LEFT(StoreConfig!G1606,FIND(\"#\",StoreConfig!G1606)-1),\"\")","v":""},{"$f":"IF($B$2=StoreConfig!C1606,RIGHT(StoreConfig!G1606,LEN(StoreConfig!G1606)-FIND(\"#\",StoreConfig!G1606)),\"\")","v":""},{"$f":"IF($B$2=StoreConfig!C1606,IF(StoreConfig!L1606=0,\"不限购\",StoreConfig!L1606&\"次\"),\"\")","v":""}]
[{"$nulls":3},{"$f":"IF($B$2=StoreConfig!C1607,StoreConfig!O1607,\"\")","v":""},{"$f":"IF($B$2=StoreConfig!C1607,StoreConfig!E1607,\"\")","v":""},{"$f":"IF($B$2=StoreConfig!C1607,RIGHT(StoreConfig!J1607,LEN(StoreConfig!J1607)-FIND(\"|\",StoreConfig!J1607)),\"\")","v":""},{"$f":"IFERROR(VLOOKUP(--IF($B$2=StoreConfig!C1607,LEFT(StoreConfig!J1607,FIND(\"|\",StoreConfig!J1607)-1),\"\"),$Q$4:$R$20,2,FALSE),\"\")","v":""},{"$f":"IF($B$2=StoreConfig!C1607,LEFT(StoreConfig!G1607,FIND(\"#\",StoreConfig!G1607)-1),\"\")","v":""},{"$f":"IF($B$2=StoreConfig!C1607,RIGHT(StoreConfig!G1607,LEN(StoreConfig!G1607)-FIND(\"#\",StoreConfig!G1607)),\"\")","v":""},{"$f":"IF($B$2=StoreConfig!C1607,IF(StoreConfig!L1607=0,\"不限购\",StoreConfig!L1607&\"次\"),\"\")","v":""}]
[{"$nulls":3},{"$f":"IF($B$2=StoreConfig!C1608,StoreConfig!O1608,\"\")","v":""},{"$f":"IF($B$2=StoreConfig!C1608,StoreConfig!E1608,\"\")","v":""},{"$f":"IF($B$2=StoreConfig!C1608,RIGHT(StoreConfig!J1608,LEN(StoreConfig!J1608)-FIND(\"|\",StoreConfig!J1608)),\"\")","v":""},{"$f":"IFERROR(VLOOKUP(--IF($B$2=StoreConfig!C1608,LEFT(StoreConfig!J1608,FIND(\"|\",StoreConfig!J1608)-1),\"\"),$Q$4:$R$20,2,FALSE),\"\")","v":""},{"$f":"IF($B$2=StoreConfig!C1608,LEFT(StoreConfig!G1608,FIND(\"#\",StoreConfig!G1608)-1),\"\")","v":""},{"$f":"IF($B$2=StoreConfig!C1608,RIGHT(StoreConfig!G1608,LEN(StoreConfig!G1608)-FIND(\"#\",StoreConfig!G1608)),\"\")","v":""},{"$f":"IF($B$2=StoreConfig!C1608,IF(StoreConfig!L1608=0,\"不限购\",StoreConfig!L1608&\"次\"),\"\")","v":""}]
[{"$nulls":3},{"$f":"IF($B$2=StoreConfig!C1609,StoreConfig!O1609,\"\")","v":""},{"$f":"IF($B$2=StoreConfig!C1609,StoreConfig!E1609,\"\")","v":""},{"$f":"IF($B$2=StoreConfig!C1609,RIGHT(StoreConfig!J1609,LEN(StoreConfig!J1609)-FIND(\"|\",StoreConfig!J1609)),\"\")","v":""},{"$f":"IFERROR(VLOOKUP(--IF($B$2=StoreConfig!C1609,LEFT(StoreConfig!J1609,FIND(\"|\",StoreConfig!J1609)-1),\"\"),$Q$4:$R$20,2,FALSE),\"\")","v":""},{"$f":"IF($B$2=StoreConfig!C1609,LEFT(StoreConfig!G1609,FIND(\"#\",StoreConfig!G1609)-1),\"\")","v":""},{"$f":"IF($B$2=StoreConfig!C1609,RIGHT(StoreConfig!G1609,LEN(StoreConfig!G1609)-FIND(\"#\",StoreConfig!G1609)),\"\")","v":""},{"$f":"IF($B$2=StoreConfig!C1609,IF(StoreConfig!L1609=0,\"不限购\",StoreConfig!L1609&\"次\"),\"\")","v":""}]
[{"$nulls":3},{"$f":"IF($B$2=StoreConfig!C1610,StoreConfig!O1610,\"\")","v":""},{"$f":"IF($B$2=StoreConfig!C1610,StoreConfig!E1610,\"\")","v":""},{"$f":"IF($B$2=StoreConfig!C1610,RIGHT(StoreConfig!J1610,LEN(StoreConfig!J1610)-FIND(\"|\",StoreConfig!J1610)),\"\")","v":""},{"$f":"IFERROR(VLOOKUP(--IF($B$2=StoreConfig!C1610,LEFT(StoreConfig!J1610,FIND(\"|\",StoreConfig!J1610)-1),\"\"),$Q$4:$R$20,2,FALSE),\"\")","v":""},{"$f":"IF($B$2=StoreConfig!C1610,LEFT(StoreConfig!G1610,FIND(\"#\",StoreConfig!G1610)-1),\"\")","v":""},{"$f":"IF($B$2=StoreConfig!C1610,RIGHT(StoreConfig!G1610,LEN(StoreConfig!G1610)-FIND(\"#\",StoreConfig!G1610)),\"\")","v":""},{"$f":"IF($B$2=StoreConfig!C1610,IF(StoreConfig!L1610=0,\"不限购\",StoreConfig!L1610&\"次\"),\"\")","v":""}]
[{"$nulls":3},{"$f":"IF($B$2=StoreConfig!C1611,StoreConfig!O1611,\"\")","v":""},{"$f":"IF($B$2=StoreConfig!C1611,StoreConfig!E1611,\"\")","v":""},{"$f":"IF($B$2=StoreConfig!C1611,RIGHT(StoreConfig!J1611,LEN(StoreConfig!J1611)-FIND(\"|\",StoreConfig!J1611)),\"\")","v":""},{"$f":"IFERROR(VLOOKUP(--IF($B$2=StoreConfig!C1611,LEFT(StoreConfig!J1611,FIND(\"|\",StoreConfig!J1611)-1),\"\"),$Q$4:$R$20,2,FALSE),\"\")","v":""},{"$f":"IF($B$2=StoreConfig!C1611,LEFT(StoreConfig!G1611,FIND(\"#\",StoreConfig!G1611)-1),\"\")","v":""},{"$f":"IF($B$2=StoreConfig!C1611,RIGHT(StoreConfig!G1611,LEN(StoreConfig!G1611)-FIND(\"#\",StoreConfig!G1611)),\"\")","v":""},{"$f":"IF($B$2=StoreConfig!C1611,IF(StoreConfig!L1611=0,\"不限购\",StoreConfig!L1611&\"次\"),\"\")","v":""}]
[{"$nulls":3},{"$f":"IF($B$2=StoreConfig!C1612,StoreConfig!O1612,\"\")","v":""},{"$f":"IF($B$2=StoreConfig!C1612,StoreConfig!E1612,\"\")","v":""},{"$f":"IF($B$2=StoreConfig!C1612,RIGHT(StoreConfig!J1612,LEN(StoreConfig!J1612)-FIND(\"|\",StoreConfig!J1612)),\"\")","v":""},{"$f":"IFERROR(VLOOKUP(--IF($B$2=StoreConfig!C1612,LEFT(StoreConfig!J1612,FIND(\"|\",StoreConfig!J1612)-1),\"\"),$Q$4:$R$20,2,FALSE),\"\")","v":""},{"$f":"IF($B$2=StoreConfig!C1612,LEFT(StoreConfig!G1612,FIND(\"#\",StoreConfig!G1612)-1),\"\")","v":""},{"$f":"IF($B$2=StoreConfig!C1612,RIGHT(StoreConfig!G1612,LEN(StoreConfig!G1612)-FIND(\"#\",StoreConfig!G1612)),\"\")","v":""},{"$f":"IF($B$2=StoreConfig!C1612,IF(StoreConfig!L1612=0,\"不限购\",StoreConfig!L1612&\"次\"),\"\")","v":""}]
[{"$nulls":3},{"$f":"IF($B$2=StoreConfig!C1613,StoreConfig!O1613,\"\")","v":""},{"$f":"IF($B$2=StoreConfig!C1613,StoreConfig!E1613,\"\")","v":""},{"$f":"IF($B$2=StoreConfig!C1613,RIGHT(StoreConfig!J1613,LEN(StoreConfig!J1613)-FIND(\"|\",StoreConfig!J1613)),\"\")","v":""},{"$f":"IFERROR(VLOOKUP(--IF($B$2=StoreConfig!C1613,LEFT(StoreConfig!J1613,FIND(\"|\",StoreConfig!J1613)-1),\"\"),$Q$4:$R$20,2,FALSE),\"\")","v":""},{"$f":"IF($B$2=StoreConfig!C1613,LEFT(StoreConfig!G1613,FIND(\"#\",StoreConfig!G1613)-1),\"\")","v":""},{"$f":"IF($B$2=StoreConfig!C1613,RIGHT(StoreConfig!G1613,LEN(StoreConfig!G1613)-FIND(\"#\",StoreConfig!G1613)),\"\")","v":""},{"$f":"IF($B$2=StoreConfig!C1613,IF(StoreConfig!L1613=0,\"不限购\",StoreConfig!L1613&\"次\"),\"\")","v":""}]
[{"$nulls":3},{"$f":"IF($B$2=StoreConfig!C1614,StoreConfig!O1614,\"\")","v":""},{"$f":"IF($B$2=StoreConfig!C1614,StoreConfig!E1614,\"\")","v":""},{"$f":"IF($B$2=StoreConfig!C1614,RIGHT(StoreConfig!J1614,LEN(StoreConfig!J1614)-FIND(\"|\",StoreConfig!J1614)),\"\")","v":""},{"$f":"IFERROR(VLOOKUP(--IF($B$2=StoreConfig!C1614,LEFT(StoreConfig!J1614,FIND(\"|\",StoreConfig!J1614)-1),\"\"),$Q$4:$R$20,2,FALSE),\"\")","v":""},{"$f":"IF($B$2=StoreConfig!C1614,LEFT(StoreConfig!G1614,FIND(\"#\",StoreConfig!G1614)-1),\"\")","v":""},{"$f":"IF($B$2=StoreConfig!C1614,RIGHT(StoreConfig!G1614,LEN(StoreConfig!G1614)-FIND(\"#\",StoreConfig!G1614)),\"\")","v":""},{"$f":"IF($B$2=StoreConfig!C1614,IF(StoreConfig!L1614=0,\"不限购\",StoreConfig!L1614&\"次\"),\"\")","v":""}]
[{"$nulls":3},{"$f":"IF($B$2=StoreConfig!C1615,StoreConfig!O1615,\"\")","v":""},{"$f":"IF($B$2=StoreConfig!C1615,StoreConfig!E1615,\"\")","v":""},{"$f":"IF($B$2=StoreConfig!C1615,RIGHT(StoreConfig!J1615,LEN(StoreConfig!J1615)-FIND(\"|\",StoreConfig!J1615)),\"\")","v":""},{"$f":"IFERROR(VLOOKUP(--IF($B$2=StoreConfig!C1615,LEFT(StoreConfig!J1615,FIND(\"|\",StoreConfig!J1615)-1),\"\"),$Q$4:$R$20,2,FALSE),\"\")","v":""},{"$f":"IF($B$2=StoreConfig!C1615,LEFT(StoreConfig!G1615,FIND(\"#\",StoreConfig!G1615)-1),\"\")","v":""},{"$f":"IF($B$2=StoreConfig!C1615,RIGHT(StoreConfig!G1615,LEN(StoreConfig!G1615)-FIND(\"#\",StoreConfig!G1615)),\"\")","v":""},{"$f":"IF($B$2=StoreConfig!C1615,IF(StoreConfig!L1615=0,\"不限购\",StoreConfig!L1615&\"次\"),\"\")","v":""}]
[{"$nulls":3},{"$f":"IF($B$2=StoreConfig!C1616,StoreConfig!O1616,\"\")","v":""},{"$f":"IF($B$2=StoreConfig!C1616,StoreConfig!E1616,\"\")","v":""},{"$f":"IF($B$2=StoreConfig!C1616,RIGHT(StoreConfig!J1616,LEN(StoreConfig!J1616)-FIND(\"|\",StoreConfig!J1616)),\"\")","v":""},{"$f":"IFERROR(VLOOKUP(--IF($B$2=StoreConfig!C1616,LEFT(StoreConfig!J1616,FIND(\"|\",StoreConfig!J1616)-1),\"\"),$Q$4:$R$20,2,FALSE),\"\")","v":""},{"$f":"IF($B$2=StoreConfig!C1616,LEFT(StoreConfig!G1616,FIND(\"#\",StoreConfig!G1616)-1),\"\")","v":""},{"$f":"IF($B$2=StoreConfig!C1616,RIGHT(StoreConfig!G1616,LEN(StoreConfig!G1616)-FIND(\"#\",StoreConfig!G1616)),\"\")","v":""},{"$f":"IF($B$2=StoreConfig!C1616,IF(StoreConfig!L1616=0,\"不限购\",StoreConfig!L1616&\"次\"),\"\")","v":""}]
[{"$nulls":3},{"$f":"IF($B$2=StoreConfig!C1617,StoreConfig!O1617,\"\")","v":""},{"$f":"IF($B$2=StoreConfig!C1617,StoreConfig!E1617,\"\")","v":""},{"$f":"IF($B$2=StoreConfig!C1617,RIGHT(StoreConfig!J1617,LEN(StoreConfig!J1617)-FIND(\"|\",StoreConfig!J1617)),\"\")","v":""},{"$f":"IFERROR(VLOOKUP(--IF($B$2=StoreConfig!C1617,LEFT(StoreConfig!J1617,FIND(\"|\",StoreConfig!J1617)-1),\"\"),$Q$4:$R$20,2,FALSE),\"\")","v":""},{"$f":"IF($B$2=StoreConfig!C1617,LEFT(StoreConfig!G1617,FIND(\"#\",StoreConfig!G1617)-1),\"\")","v":""},{"$f":"IF($B$2=StoreConfig!C1617,RIGHT(StoreConfig!G1617,LEN(StoreConfig!G1617)-FIND(\"#\",StoreConfig!G1617)),\"\")","v":""},{"$f":"IF($B$2=StoreConfig!C1617,IF(StoreConfig!L1617=0,\"不限购\",StoreConfig!L1617&\"次\"),\"\")","v":""}]
[{"$nulls":3},{"$f":"IF($B$2=StoreConfig!C1618,StoreConfig!O1618,\"\")","v":""},{"$f":"IF($B$2=StoreConfig!C1618,StoreConfig!E1618,\"\")","v":""},{"$f":"IF($B$2=StoreConfig!C1618,RIGHT(StoreConfig!J1618,LEN(StoreConfig!J1618)-FIND(\"|\",StoreConfig!J1618)),\"\")","v":""},{"$f":"IFERROR(VLOOKUP(--IF($B$2=StoreConfig!C1618,LEFT(StoreConfig!J1618,FIND(\"|\",StoreConfig!J1618)-1),\"\"),$Q$4:$R$20,2,FALSE),\"\")","v":""},{"$f":"IF($B$2=StoreConfig!C1618,LEFT(StoreConfig!G1618,FIND(\"#\",StoreConfig!G1618)-1),\"\")","v":""},{"$f":"IF($B$2=StoreConfig!C1618,RIGHT(StoreConfig!G1618,LEN(StoreConfig!G1618)-FIND(\"#\",StoreConfig!G1618)),\"\")","v":""},{"$f":"IF($B$2=StoreConfig!C1618,IF(StoreConfig!L1618=0,\"不限购\",StoreConfig!L1618&\"次\"),\"\")","v":""}]
[{"$nulls":3},{"$f":"IF($B$2=StoreConfig!C1619,StoreConfig!O1619,\"\")","v":""},{"$f":"IF($B$2=StoreConfig!C1619,StoreConfig!E1619,\"\")","v":""},{"$f":"IF($B$2=StoreConfig!C1619,RIGHT(StoreConfig!J1619,LEN(StoreConfig!J1619)-FIND(\"|\",StoreConfig!J1619)),\"\")","v":""},{"$f":"IFERROR(VLOOKUP(--IF($B$2=StoreConfig!C1619,LEFT(StoreConfig!J1619,FIND(\"|\",StoreConfig!J1619)-1),\"\"),$Q$4:$R$20,2,FALSE),\"\")","v":""},{"$f":"IF($B$2=StoreConfig!C1619,LEFT(StoreConfig!G1619,FIND(\"#\",StoreConfig!G1619)-1),\"\")","v":""},{"$f":"IF($B$2=StoreConfig!C1619,RIGHT(StoreConfig!G1619,LEN(StoreConfig!G1619)-FIND(\"#\",StoreConfig!G1619)),\"\")","v":""},{"$f":"IF($B$2=StoreConfig!C1619,IF(StoreConfig!L1619=0,\"不限购\",StoreConfig!L1619&\"次\"),\"\")","v":""}]
[{"$nulls":3},{"$f":"IF($B$2=StoreConfig!C1620,StoreConfig!O1620,\"\")","v":""},{"$f":"IF($B$2=StoreConfig!C1620,StoreConfig!E1620,\"\")","v":""},{"$f":"IF($B$2=StoreConfig!C1620,RIGHT(StoreConfig!J1620,LEN(StoreConfig!J1620)-FIND(\"|\",StoreConfig!J1620)),\"\")","v":""},{"$f":"IFERROR(VLOOKUP(--IF($B$2=StoreConfig!C1620,LEFT(StoreConfig!J1620,FIND(\"|\",StoreConfig!J1620)-1),\"\"),$Q$4:$R$20,2,FALSE),\"\")","v":""},{"$f":"IF($B$2=StoreConfig!C1620,LEFT(StoreConfig!G1620,FIND(\"#\",StoreConfig!G1620)-1),\"\")","v":""},{"$f":"IF($B$2=StoreConfig!C1620,RIGHT(StoreConfig!G1620,LEN(StoreConfig!G1620)-FIND(\"#\",StoreConfig!G1620)),\"\")","v":""},{"$f":"IF($B$2=StoreConfig!C1620,IF(StoreConfig!L1620=0,\"不限购\",StoreConfig!L1620&\"次\"),\"\")","v":""}]
[{"$nulls":3},{"$f":"IF($B$2=StoreConfig!C1621,StoreConfig!O1621,\"\")","v":""},{"$f":"IF($B$2=StoreConfig!C1621,StoreConfig!E1621,\"\")","v":""},{"$f":"IF($B$2=StoreConfig!C1621,RIGHT(StoreConfig!J1621,LEN(StoreConfig!J1621)-FIND(\"|\",StoreConfig!J1621)),\"\")","v":""},{"$f":"IFERROR(VLOOKUP(--IF($B$2=StoreConfig!C1621,LEFT(StoreConfig!J1621,FIND(\"|\",StoreConfig!J1621)-1),\"\"),$Q$4:$R$20,2,FALSE),\"\")","v":""},{"$f":"IF($B$2=StoreConfig!C1621,LEFT(StoreConfig!G1621,FIND(\"#\",StoreConfig!G1621)-1),\"\")","v":""},{"$f":"IF($B$2=StoreConfig!C1621,RIGHT(StoreConfig!G1621,LEN(StoreConfig!G1621)-FIND(\"#\",StoreConfig!G1621)),\"\")","v":""},{"$f":"IF($B$2=StoreConfig!C1621,IF(StoreConfig!L1621=0,\"不限购\",StoreConfig!L1621&\"次\"),\"\")","v":""}]
[{"$nulls":3},{"$f":"IF($B$2=StoreConfig!C1622,StoreConfig!O1622,\"\")","v":""},{"$f":"IF($B$2=StoreConfig!C1622,StoreConfig!E1622,\"\")","v":""},{"$f":"IF($B$2=StoreConfig!C1622,RIGHT(StoreConfig!J1622,LEN(StoreConfig!J1622)-FIND(\"|\",StoreConfig!J1622)),\"\")","v":""},{"$f":"IFERROR(VLOOKUP(--IF($B$2=StoreConfig!C1622,LEFT(StoreConfig!J1622,FIND(\"|\",StoreConfig!J1622)-1),\"\"),$Q$4:$R$20,2,FALSE),\"\")","v":""},{"$f":"IF($B$2=StoreConfig!C1622,LEFT(StoreConfig!G1622,FIND(\"#\",StoreConfig!G1622)-1),\"\")","v":""},{"$f":"IF($B$2=StoreConfig!C1622,RIGHT(StoreConfig!G1622,LEN(StoreConfig!G1622)-FIND(\"#\",StoreConfig!G1622)),\"\")","v":""},{"$f":"IF($B$2=StoreConfig!C1622,IF(StoreConfig!L1622=0,\"不限购\",StoreConfig!L1622&\"次\"),\"\")","v":""}]
[{"$nulls":3},{"$f":"IF($B$2=StoreConfig!C1623,StoreConfig!O1623,\"\")","v":""},{"$f":"IF($B$2=StoreConfig!C1623,StoreConfig!E1623,\"\")","v":""},{"$f":"IF($B$2=StoreConfig!C1623,RIGHT(StoreConfig!J1623,LEN(StoreConfig!J1623)-FIND(\"|\",StoreConfig!J1623)),\"\")","v":""},{"$f":"IFERROR(VLOOKUP(--IF($B$2=StoreConfig!C1623,LEFT(StoreConfig!J1623,FIND(\"|\",StoreConfig!J1623)-1),\"\"),$Q$4:$R$20,2,FALSE),\"\")","v":""},{"$f":"IF($B$2=StoreConfig!C1623,LEFT(StoreConfig!G1623,FIND(\"#\",StoreConfig!G1623)-1),\"\")","v":""},{"$f":"IF($B$2=StoreConfig!C1623,RIGHT(StoreConfig!G1623,LEN(StoreConfig!G1623)-FIND(\"#\",StoreConfig!G1623)),\"\")","v":""},{"$f":"IF($B$2=StoreConfig!C1623,IF(StoreConfig!L1623=0,\"不限购\",StoreConfig!L1623&\"次\"),\"\")","v":""}]
[{"$nulls":3},{"$f":"IF($B$2=StoreConfig!C1624,StoreConfig!O1624,\"\")","v":""},{"$f":"IF($B$2=StoreConfig!C1624,StoreConfig!E1624,\"\")","v":""},{"$f":"IF($B$2=StoreConfig!C1624,RIGHT(StoreConfig!J1624,LEN(StoreConfig!J1624)-FIND(\"|\",StoreConfig!J1624)),\"\")","v":""},{"$f":"IFERROR(VLOOKUP(--IF($B$2=StoreConfig!C1624,LEFT(StoreConfig!J1624,FIND(\"|\",StoreConfig!J1624)-1),\"\"),$Q$4:$R$20,2,FALSE),\"\")","v":""},{"$f":"IF($B$2=StoreConfig!C1624,LEFT(StoreConfig!G1624,FIND(\"#\",StoreConfig!G1624)-1),\"\")","v":""},{"$f":"IF($B$2=StoreConfig!C1624,RIGHT(StoreConfig!G1624,LEN(StoreConfig!G1624)-FIND(\"#\",StoreConfig!G1624)),\"\")","v":""},{"$f":"IF($B$2=StoreConfig!C1624,IF(StoreConfig!L1624=0,\"不限购\",StoreConfig!L1624&\"次\"),\"\")","v":""}]
[{"$nulls":3},{"$f":"IF($B$2=StoreConfig!C1625,StoreConfig!O1625,\"\")","v":""},{"$f":"IF($B$2=StoreConfig!C1625,StoreConfig!E1625,\"\")","v":""},{"$f":"IF($B$2=StoreConfig!C1625,RIGHT(StoreConfig!J1625,LEN(StoreConfig!J1625)-FIND(\"|\",StoreConfig!J1625)),\"\")","v":""},{"$f":"IFERROR(VLOOKUP(--IF($B$2=StoreConfig!C1625,LEFT(StoreConfig!J1625,FIND(\"|\",StoreConfig!J1625)-1),\"\"),$Q$4:$R$20,2,FALSE),\"\")","v":""},{"$f":"IF($B$2=StoreConfig!C1625,LEFT(StoreConfig!G1625,FIND(\"#\",StoreConfig!G1625)-1),\"\")","v":""},{"$f":"IF($B$2=StoreConfig!C1625,RIGHT(StoreConfig!G1625,LEN(StoreConfig!G1625)-FIND(\"#\",StoreConfig!G1625)),\"\")","v":""},{"$f":"IF($B$2=StoreConfig!C1625,IF(StoreConfig!L1625=0,\"不限购\",StoreConfig!L1625&\"次\"),\"\")","v":""}]
[{"$nulls":3},{"$f":"IF($B$2=StoreConfig!C1626,StoreConfig!O1626,\"\")","v":""},{"$f":"IF($B$2=StoreConfig!C1626,StoreConfig!E1626,\"\")","v":""},{"$f":"IF($B$2=StoreConfig!C1626,RIGHT(StoreConfig!J1626,LEN(StoreConfig!J1626)-FIND(\"|\",StoreConfig!J1626)),\"\")","v":""},{"$f":"IFERROR(VLOOKUP(--IF($B$2=StoreConfig!C1626,LEFT(StoreConfig!J1626,FIND(\"|\",StoreConfig!J1626)-1),\"\"),$Q$4:$R$20,2,FALSE),\"\")","v":""},{"$f":"IF($B$2=StoreConfig!C1626,LEFT(StoreConfig!G1626,FIND(\"#\",StoreConfig!G1626)-1),\"\")","v":""},{"$f":"IF($B$2=StoreConfig!C1626,RIGHT(StoreConfig!G1626,LEN(StoreConfig!G1626)-FIND(\"#\",StoreConfig!G1626)),\"\")","v":""},{"$f":"IF($B$2=StoreConfig!C1626,IF(StoreConfig!L1626=0,\"不限购\",StoreConfig!L1626&\"次\"),\"\")","v":""}]
[{"$nulls":3},{"$f":"IF($B$2=StoreConfig!C1627,StoreConfig!O1627,\"\")","v":""},{"$f":"IF($B$2=StoreConfig!C1627,StoreConfig!E1627,\"\")","v":""},{"$f":"IF($B$2=StoreConfig!C1627,RIGHT(StoreConfig!J1627,LEN(StoreConfig!J1627)-FIND(\"|\",StoreConfig!J1627)),\"\")","v":""},{"$f":"IFERROR(VLOOKUP(--IF($B$2=StoreConfig!C1627,LEFT(StoreConfig!J1627,FIND(\"|\",StoreConfig!J1627)-1),\"\"),$Q$4:$R$20,2,FALSE),\"\")","v":""},{"$f":"IF($B$2=StoreConfig!C1627,LEFT(StoreConfig!G1627,FIND(\"#\",StoreConfig!G1627)-1),\"\")","v":""},{"$f":"IF($B$2=StoreConfig!C1627,RIGHT(StoreConfig!G1627,LEN(StoreConfig!G1627)-FIND(\"#\",StoreConfig!G1627)),\"\")","v":""},{"$f":"IF($B$2=StoreConfig!C1627,IF(StoreConfig!L1627=0,\"不限购\",StoreConfig!L1627&\"次\"),\"\")","v":""}]
[{"$nulls":3},{"$f":"IF($B$2=StoreConfig!C1628,StoreConfig!O1628,\"\")","v":""},{"$f":"IF($B$2=StoreConfig!C1628,StoreConfig!E1628,\"\")","v":""},{"$f":"IF($B$2=StoreConfig!C1628,RIGHT(StoreConfig!J1628,LEN(StoreConfig!J1628)-FIND(\"|\",StoreConfig!J1628)),\"\")","v":""},{"$f":"IFERROR(VLOOKUP(--IF($B$2=StoreConfig!C1628,LEFT(StoreConfig!J1628,FIND(\"|\",StoreConfig!J1628)-1),\"\"),$Q$4:$R$20,2,FALSE),\"\")","v":""},{"$f":"IF($B$2=StoreConfig!C1628,LEFT(StoreConfig!G1628,FIND(\"#\",StoreConfig!G1628)-1),\"\")","v":""},{"$f":"IF($B$2=StoreConfig!C1628,RIGHT(StoreConfig!G1628,LEN(StoreConfig!G1628)-FIND(\"#\",StoreConfig!G1628)),\"\")","v":""},{"$f":"IF($B$2=StoreConfig!C1628,IF(StoreConfig!L1628=0,\"不限购\",StoreConfig!L1628&\"次\"),\"\")","v":""}]
[{"$nulls":3},{"$f":"IF($B$2=StoreConfig!C1629,StoreConfig!O1629,\"\")","v":""},{"$f":"IF($B$2=StoreConfig!C1629,StoreConfig!E1629,\"\")","v":""},{"$f":"IF($B$2=StoreConfig!C1629,RIGHT(StoreConfig!J1629,LEN(StoreConfig!J1629)-FIND(\"|\",StoreConfig!J1629)),\"\")","v":""},{"$f":"IFERROR(VLOOKUP(--IF($B$2=StoreConfig!C1629,LEFT(StoreConfig!J1629,FIND(\"|\",StoreConfig!J1629)-1),\"\"),$Q$4:$R$20,2,FALSE),\"\")","v":""},{"$f":"IF($B$2=StoreConfig!C1629,LEFT(StoreConfig!G1629,FIND(\"#\",StoreConfig!G1629)-1),\"\")","v":""},{"$f":"IF($B$2=StoreConfig!C1629,RIGHT(StoreConfig!G1629,LEN(StoreConfig!G1629)-FIND(\"#\",StoreConfig!G1629)),\"\")","v":""},{"$f":"IF($B$2=StoreConfig!C1629,IF(StoreConfig!L1629=0,\"不限购\",StoreConfig!L1629&\"次\"),\"\")","v":""}]
[{"$nulls":3},{"$f":"IF($B$2=StoreConfig!C1630,StoreConfig!O1630,\"\")","v":""},{"$f":"IF($B$2=StoreConfig!C1630,StoreConfig!E1630,\"\")","v":""},{"$f":"IF($B$2=StoreConfig!C1630,RIGHT(StoreConfig!J1630,LEN(StoreConfig!J1630)-FIND(\"|\",StoreConfig!J1630)),\"\")","v":""},{"$f":"IFERROR(VLOOKUP(--IF($B$2=StoreConfig!C1630,LEFT(StoreConfig!J1630,FIND(\"|\",StoreConfig!J1630)-1),\"\"),$Q$4:$R$20,2,FALSE),\"\")","v":""},{"$f":"IF($B$2=StoreConfig!C1630,LEFT(StoreConfig!G1630,FIND(\"#\",StoreConfig!G1630)-1),\"\")","v":""},{"$f":"IF($B$2=StoreConfig!C1630,RIGHT(StoreConfig!G1630,LEN(StoreConfig!G1630)-FIND(\"#\",StoreConfig!G1630)),\"\")","v":""},{"$f":"IF($B$2=StoreConfig!C1630,IF(StoreConfig!L1630=0,\"不限购\",StoreConfig!L1630&\"次\"),\"\")","v":""}]
[{"$nulls":3},{"$f":"IF($B$2=StoreConfig!C1631,StoreConfig!O1631,\"\")","v":""},{"$f":"IF($B$2=StoreConfig!C1631,StoreConfig!E1631,\"\")","v":""},{"$f":"IF($B$2=StoreConfig!C1631,RIGHT(StoreConfig!J1631,LEN(StoreConfig!J1631)-FIND(\"|\",StoreConfig!J1631)),\"\")","v":""},{"$f":"IFERROR(VLOOKUP(--IF($B$2=StoreConfig!C1631,LEFT(StoreConfig!J1631,FIND(\"|\",StoreConfig!J1631)-1),\"\"),$Q$4:$R$20,2,FALSE),\"\")","v":""},{"$f":"IF($B$2=StoreConfig!C1631,LEFT(StoreConfig!G1631,FIND(\"#\",StoreConfig!G1631)-1),\"\")","v":""},{"$f":"IF($B$2=StoreConfig!C1631,RIGHT(StoreConfig!G1631,LEN(StoreConfig!G1631)-FIND(\"#\",StoreConfig!G1631)),\"\")","v":""},{"$f":"IF($B$2=StoreConfig!C1631,IF(StoreConfig!L1631=0,\"不限购\",StoreConfig!L1631&\"次\"),\"\")","v":""}]
[{"$nulls":3},{"$f":"IF($B$2=StoreConfig!C1632,StoreConfig!O1632,\"\")","v":""},{"$f":"IF($B$2=StoreConfig!C1632,StoreConfig!E1632,\"\")","v":""},{"$f":"IF($B$2=StoreConfig!C1632,RIGHT(StoreConfig!J1632,LEN(StoreConfig!J1632)-FIND(\"|\",StoreConfig!J1632)),\"\")","v":""},{"$f":"IFERROR(VLOOKUP(--IF($B$2=StoreConfig!C1632,LEFT(StoreConfig!J1632,FIND(\"|\",StoreConfig!J1632)-1),\"\"),$Q$4:$R$20,2,FALSE),\"\")","v":""},{"$f":"IF($B$2=StoreConfig!C1632,LEFT(StoreConfig!G1632,FIND(\"#\",StoreConfig!G1632)-1),\"\")","v":""},{"$f":"IF($B$2=StoreConfig!C1632,RIGHT(StoreConfig!G1632,LEN(StoreConfig!G1632)-FIND(\"#\",StoreConfig!G1632)),\"\")","v":""},{"$f":"IF($B$2=StoreConfig!C1632,IF(StoreConfig!L1632=0,\"不限购\",StoreConfig!L1632&\"次\"),\"\")","v":""}]
[{"$nulls":3},{"$f":"IF($B$2=StoreConfig!C1633,StoreConfig!O1633,\"\")","v":""},{"$f":"IF($B$2=StoreConfig!C1633,StoreConfig!E1633,\"\")","v":""},{"$f":"IF($B$2=StoreConfig!C1633,RIGHT(StoreConfig!J1633,LEN(StoreConfig!J1633)-FIND(\"|\",StoreConfig!J1633)),\"\")","v":""},{"$f":"IFERROR(VLOOKUP(--IF($B$2=StoreConfig!C1633,LEFT(StoreConfig!J1633,FIND(\"|\",StoreConfig!J1633)-1),\"\"),$Q$4:$R$20,2,FALSE),\"\")","v":""},{"$f":"IF($B$2=StoreConfig!C1633,LEFT(StoreConfig!G1633,FIND(\"#\",StoreConfig!G1633)-1),\"\")","v":""},{"$f":"IF($B$2=StoreConfig!C1633,RIGHT(StoreConfig!G1633,LEN(StoreConfig!G1633)-FIND(\"#\",StoreConfig!G1633)),\"\")","v":""},{"$f":"IF($B$2=StoreConfig!C1633,IF(StoreConfig!L1633=0,\"不限购\",StoreConfig!L1633&\"次\"),\"\")","v":""}]
[{"$nulls":3},{"$f":"IF($B$2=StoreConfig!C1634,StoreConfig!O1634,\"\")","v":""},{"$f":"IF($B$2=StoreConfig!C1634,StoreConfig!E1634,\"\")","v":""},{"$f":"IF($B$2=StoreConfig!C1634,RIGHT(StoreConfig!J1634,LEN(StoreConfig!J1634)-FIND(\"|\",StoreConfig!J1634)),\"\")","v":""},{"$f":"IFERROR(VLOOKUP(--IF($B$2=StoreConfig!C1634,LEFT(StoreConfig!J1634,FIND(\"|\",StoreConfig!J1634)-1),\"\"),$Q$4:$R$20,2,FALSE),\"\")","v":""},{"$f":"IF($B$2=StoreConfig!C1634,LEFT(StoreConfig!G1634,FIND(\"#\",StoreConfig!G1634)-1),\"\")","v":""},{"$f":"IF($B$2=StoreConfig!C1634,RIGHT(StoreConfig!G1634,LEN(StoreConfig!G1634)-FIND(\"#\",StoreConfig!G1634)),\"\")","v":""},{"$f":"IF($B$2=StoreConfig!C1634,IF(StoreConfig!L1634=0,\"不限购\",StoreConfig!L1634&\"次\"),\"\")","v":""}]
[{"$nulls":3},{"$f":"IF($B$2=StoreConfig!C1635,StoreConfig!O1635,\"\")","v":""},{"$f":"IF($B$2=StoreConfig!C1635,StoreConfig!E1635,\"\")","v":""},{"$f":"IF($B$2=StoreConfig!C1635,RIGHT(StoreConfig!J1635,LEN(StoreConfig!J1635)-FIND(\"|\",StoreConfig!J1635)),\"\")","v":""},{"$f":"IFERROR(VLOOKUP(--IF($B$2=StoreConfig!C1635,LEFT(StoreConfig!J1635,FIND(\"|\",StoreConfig!J1635)-1),\"\"),$Q$4:$R$20,2,FALSE),\"\")","v":""},{"$f":"IF($B$2=StoreConfig!C1635,LEFT(StoreConfig!G1635,FIND(\"#\",StoreConfig!G1635)-1),\"\")","v":""},{"$f":"IF($B$2=StoreConfig!C1635,RIGHT(StoreConfig!G1635,LEN(StoreConfig!G1635)-FIND(\"#\",StoreConfig!G1635)),\"\")","v":""},{"$f":"IF($B$2=StoreConfig!C1635,IF(StoreConfig!L1635=0,\"不限购\",StoreConfig!L1635&\"次\"),\"\")","v":""}]
[{"$nulls":3},{"$f":"IF($B$2=StoreConfig!C1636,StoreConfig!O1636,\"\")","v":""},{"$f":"IF($B$2=StoreConfig!C1636,StoreConfig!E1636,\"\")","v":""},{"$f":"IF($B$2=StoreConfig!C1636,RIGHT(StoreConfig!J1636,LEN(StoreConfig!J1636)-FIND(\"|\",StoreConfig!J1636)),\"\")","v":""},{"$f":"IFERROR(VLOOKUP(--IF($B$2=StoreConfig!C1636,LEFT(StoreConfig!J1636,FIND(\"|\",StoreConfig!J1636)-1),\"\"),$Q$4:$R$20,2,FALSE),\"\")","v":""},{"$f":"IF($B$2=StoreConfig!C1636,LEFT(StoreConfig!G1636,FIND(\"#\",StoreConfig!G1636)-1),\"\")","v":""},{"$f":"IF($B$2=StoreConfig!C1636,RIGHT(StoreConfig!G1636,LEN(StoreConfig!G1636)-FIND(\"#\",StoreConfig!G1636)),\"\")","v":""},{"$f":"IF($B$2=StoreConfig!C1636,IF(StoreConfig!L1636=0,\"不限购\",StoreConfig!L1636&\"次\"),\"\")","v":""}]
[{"$nulls":3},{"$f":"IF($B$2=StoreConfig!C1637,StoreConfig!O1637,\"\")","v":""},{"$f":"IF($B$2=StoreConfig!C1637,StoreConfig!E1637,\"\")","v":""},{"$f":"IF($B$2=StoreConfig!C1637,RIGHT(StoreConfig!J1637,LEN(StoreConfig!J1637)-FIND(\"|\",StoreConfig!J1637)),\"\")","v":""},{"$f":"IFERROR(VLOOKUP(--IF($B$2=StoreConfig!C1637,LEFT(StoreConfig!J1637,FIND(\"|\",StoreConfig!J1637)-1),\"\"),$Q$4:$R$20,2,FALSE),\"\")","v":""},{"$f":"IF($B$2=StoreConfig!C1637,LEFT(StoreConfig!G1637,FIND(\"#\",StoreConfig!G1637)-1),\"\")","v":""},{"$f":"IF($B$2=StoreConfig!C1637,RIGHT(StoreConfig!G1637,LEN(StoreConfig!G1637)-FIND(\"#\",StoreConfig!G1637)),\"\")","v":""},{"$f":"IF($B$2=StoreConfig!C1637,IF(StoreConfig!L1637=0,\"不限购\",StoreConfig!L1637&\"次\"),\"\")","v":""}]
[{"$nulls":3},{"$f":"IF($B$2=StoreConfig!C1638,StoreConfig!O1638,\"\")","v":""},{"$f":"IF($B$2=StoreConfig!C1638,StoreConfig!E1638,\"\")","v":""},{"$f":"IF($B$2=StoreConfig!C1638,RIGHT(StoreConfig!J1638,LEN(StoreConfig!J1638)-FIND(\"|\",StoreConfig!J1638)),\"\")","v":""},{"$f":"IFERROR(VLOOKUP(--IF($B$2=StoreConfig!C1638,LEFT(StoreConfig!J1638,FIND(\"|\",StoreConfig!J1638)-1),\"\"),$Q$4:$R$20,2,FALSE),\"\")","v":""},{"$f":"IF($B$2=StoreConfig!C1638,LEFT(StoreConfig!G1638,FIND(\"#\",StoreConfig!G1638)-1),\"\")","v":""},{"$f":"IF($B$2=StoreConfig!C1638,RIGHT(StoreConfig!G1638,LEN(StoreConfig!G1638)-FIND(\"#\",StoreConfig!G1638)),\"\")","v":""},{"$f":"IF($B$2=StoreConfig!C1638,IF(StoreConfig!L1638=0,\"不限购\",StoreConfig!L1638&\"次\"),\"\")","v":""}]
[{"$nulls":3},{"$f":"IF($B$2=StoreConfig!C1639,StoreConfig!O1639,\"\")","v":""},{"$f":"IF($B$2=StoreConfig!C1639,StoreConfig!E1639,\"\")","v":""},{"$f":"IF($B$2=StoreConfig!C1639,RIGHT(StoreConfig!J1639,LEN(StoreConfig!J1639)-FIND(\"|\",StoreConfig!J1639)),\"\")","v":""},{"$f":"IFERROR(VLOOKUP(--IF($B$2=StoreConfig!C1639,LEFT(StoreConfig!J1639,FIND(\"|\",StoreConfig!J1639)-1),\"\"),$Q$4:$R$20,2,FALSE),\"\")","v":""},{"$f":"IF($B$2=StoreConfig!C1639,LEFT(StoreConfig!G1639,FIND(\"#\",StoreConfig!G1639)-1),\"\")","v":""},{"$f":"IF($B$2=StoreConfig!C1639,RIGHT(StoreConfig!G1639,LEN(StoreConfig!G1639)-FIND(\"#\",StoreConfig!G1639)),\"\")","v":""},{"$f":"IF($B$2=StoreConfig!C1639,IF(StoreConfig!L1639=0,\"不限购\",StoreConfig!L1639&\"次\"),\"\")","v":""}]
[{"$nulls":3},{"$f":"IF($B$2=StoreConfig!C1640,StoreConfig!O1640,\"\")","v":""},{"$f":"IF($B$2=StoreConfig!C1640,StoreConfig!E1640,\"\")","v":""},{"$f":"IF($B$2=StoreConfig!C1640,RIGHT(StoreConfig!J1640,LEN(StoreConfig!J1640)-FIND(\"|\",StoreConfig!J1640)),\"\")","v":""},{"$f":"IFERROR(VLOOKUP(--IF($B$2=StoreConfig!C1640,LEFT(StoreConfig!J1640,FIND(\"|\",StoreConfig!J1640)-1),\"\"),$Q$4:$R$20,2,FALSE),\"\")","v":""},{"$f":"IF($B$2=StoreConfig!C1640,LEFT(StoreConfig!G1640,FIND(\"#\",StoreConfig!G1640)-1),\"\")","v":""},{"$f":"IF($B$2=StoreConfig!C1640,RIGHT(StoreConfig!G1640,LEN(StoreConfig!G1640)-FIND(\"#\",StoreConfig!G1640)),\"\")","v":""},{"$f":"IF($B$2=StoreConfig!C1640,IF(StoreConfig!L1640=0,\"不限购\",StoreConfig!L1640&\"次\"),\"\")","v":""}]
[{"$nulls":3},{"$f":"IF($B$2=StoreConfig!C1641,StoreConfig!O1641,\"\")","v":""},{"$f":"IF($B$2=StoreConfig!C1641,StoreConfig!E1641,\"\")","v":""},{"$f":"IF($B$2=StoreConfig!C1641,RIGHT(StoreConfig!J1641,LEN(StoreConfig!J1641)-FIND(\"|\",StoreConfig!J1641)),\"\")","v":""},{"$f":"IFERROR(VLOOKUP(--IF($B$2=StoreConfig!C1641,LEFT(StoreConfig!J1641,FIND(\"|\",StoreConfig!J1641)-1),\"\"),$Q$4:$R$20,2,FALSE),\"\")","v":""},{"$f":"IF($B$2=StoreConfig!C1641,LEFT(StoreConfig!G1641,FIND(\"#\",StoreConfig!G1641)-1),\"\")","v":""},{"$f":"IF($B$2=StoreConfig!C1641,RIGHT(StoreConfig!G1641,LEN(StoreConfig!G1641)-FIND(\"#\",StoreConfig!G1641)),\"\")","v":""},{"$f":"IF($B$2=StoreConfig!C1641,IF(StoreConfig!L1641=0,\"不限购\",StoreConfig!L1641&\"次\"),\"\")","v":""}]
[{"$nulls":3},{"$f":"IF($B$2=StoreConfig!C1642,StoreConfig!O1642,\"\")","v":""},{"$f":"IF($B$2=StoreConfig!C1642,StoreConfig!E1642,\"\")","v":""},{"$f":"IF($B$2=StoreConfig!C1642,RIGHT(StoreConfig!J1642,LEN(StoreConfig!J1642)-FIND(\"|\",StoreConfig!J1642)),\"\")","v":""},{"$f":"IFERROR(VLOOKUP(--IF($B$2=StoreConfig!C1642,LEFT(StoreConfig!J1642,FIND(\"|\",StoreConfig!J1642)-1),\"\"),$Q$4:$R$20,2,FALSE),\"\")","v":""},{"$f":"IF($B$2=StoreConfig!C1642,LEFT(StoreConfig!G1642,FIND(\"#\",StoreConfig!G1642)-1),\"\")","v":""},{"$f":"IF($B$2=StoreConfig!C1642,RIGHT(StoreConfig!G1642,LEN(StoreConfig!G1642)-FIND(\"#\",StoreConfig!G1642)),\"\")","v":""},{"$f":"IF($B$2=StoreConfig!C1642,IF(StoreConfig!L1642=0,\"不限购\",StoreConfig!L1642&\"次\"),\"\")","v":""}]
[{"$nulls":3},{"$f":"IF($B$2=StoreConfig!C1643,StoreConfig!O1643,\"\")","v":""},{"$f":"IF($B$2=StoreConfig!C1643,StoreConfig!E1643,\"\")","v":""},{"$f":"IF($B$2=StoreConfig!C1643,RIGHT(StoreConfig!J1643,LEN(StoreConfig!J1643)-FIND(\"|\",StoreConfig!J1643)),\"\")","v":""},{"$f":"IFERROR(VLOOKUP(--IF($B$2=StoreConfig!C1643,LEFT(StoreConfig!J1643,FIND(\"|\",StoreConfig!J1643)-1),\"\"),$Q$4:$R$20,2,FALSE),\"\")","v":""},{"$f":"IF($B$2=StoreConfig!C1643,LEFT(StoreConfig!G1643,FIND(\"#\",StoreConfig!G1643)-1),\"\")","v":""},{"$f":"IF($B$2=StoreConfig!C1643,RIGHT(StoreConfig!G1643,LEN(StoreConfig!G1643)-FIND(\"#\",StoreConfig!G1643)),\"\")","v":""},{"$f":"IF($B$2=StoreConfig!C1643,IF(StoreConfig!L1643=0,\"不限购\",StoreConfig!L1643&\"次\"),\"\")","v":""}]
[{"$nulls":3},{"$f":"IF($B$2=StoreConfig!C1644,StoreConfig!O1644,\"\")","v":""},{"$f":"IF($B$2=StoreConfig!C1644,StoreConfig!E1644,\"\")","v":""},{"$f":"IF($B$2=StoreConfig!C1644,RIGHT(StoreConfig!J1644,LEN(StoreConfig!J1644)-FIND(\"|\",StoreConfig!J1644)),\"\")","v":""},{"$f":"IFERROR(VLOOKUP(--IF($B$2=StoreConfig!C1644,LEFT(StoreConfig!J1644,FIND(\"|\",StoreConfig!J1644)-1),\"\"),$Q$4:$R$20,2,FALSE),\"\")","v":""},{"$f":"IF($B$2=StoreConfig!C1644,LEFT(StoreConfig!G1644,FIND(\"#\",StoreConfig!G1644)-1),\"\")","v":""},{"$f":"IF($B$2=StoreConfig!C1644,RIGHT(StoreConfig!G1644,LEN(StoreConfig!G1644)-FIND(\"#\",StoreConfig!G1644)),\"\")","v":""},{"$f":"IF($B$2=StoreConfig!C1644,IF(StoreConfig!L1644=0,\"不限购\",StoreConfig!L1644&\"次\"),\"\")","v":""}]
[{"$nulls":3},{"$f":"IF($B$2=StoreConfig!C1645,StoreConfig!O1645,\"\")","v":""},{"$f":"IF($B$2=StoreConfig!C1645,StoreConfig!E1645,\"\")","v":""},{"$f":"IF($B$2=StoreConfig!C1645,RIGHT(StoreConfig!J1645,LEN(StoreConfig!J1645)-FIND(\"|\",StoreConfig!J1645)),\"\")","v":""},{"$f":"IFERROR(VLOOKUP(--IF($B$2=StoreConfig!C1645,LEFT(StoreConfig!J1645,FIND(\"|\",StoreConfig!J1645)-1),\"\"),$Q$4:$R$20,2,FALSE),\"\")","v":""},{"$f":"IF($B$2=StoreConfig!C1645,LEFT(StoreConfig!G1645,FIND(\"#\",StoreConfig!G1645)-1),\"\")","v":""},{"$f":"IF($B$2=StoreConfig!C1645,RIGHT(StoreConfig!G1645,LEN(StoreConfig!G1645)-FIND(\"#\",StoreConfig!G1645)),\"\")","v":""},{"$f":"IF($B$2=StoreConfig!C1645,IF(StoreConfig!L1645=0,\"不限购\",StoreConfig!L1645&\"次\"),\"\")","v":""}]
[{"$nulls":3},{"$f":"IF($B$2=StoreConfig!C1646,StoreConfig!O1646,\"\")","v":""},{"$f":"IF($B$2=StoreConfig!C1646,StoreConfig!E1646,\"\")","v":""},{"$f":"IF($B$2=StoreConfig!C1646,RIGHT(StoreConfig!J1646,LEN(StoreConfig!J1646)-FIND(\"|\",StoreConfig!J1646)),\"\")","v":""},{"$f":"IFERROR(VLOOKUP(--IF($B$2=StoreConfig!C1646,LEFT(StoreConfig!J1646,FIND(\"|\",StoreConfig!J1646)-1),\"\"),$Q$4:$R$20,2,FALSE),\"\")","v":""},{"$f":"IF($B$2=StoreConfig!C1646,LEFT(StoreConfig!G1646,FIND(\"#\",StoreConfig!G1646)-1),\"\")","v":""},{"$f":"IF($B$2=StoreConfig!C1646,RIGHT(StoreConfig!G1646,LEN(StoreConfig!G1646)-FIND(\"#\",StoreConfig!G1646)),\"\")","v":""},{"$f":"IF($B$2=StoreConfig!C1646,IF(StoreConfig!L1646=0,\"不限购\",StoreConfig!L1646&\"次\"),\"\")","v":""}]
[{"$nulls":3},{"$f":"IF($B$2=StoreConfig!C1647,StoreConfig!O1647,\"\")","v":""},{"$f":"IF($B$2=StoreConfig!C1647,StoreConfig!E1647,\"\")","v":""},{"$f":"IF($B$2=StoreConfig!C1647,RIGHT(StoreConfig!J1647,LEN(StoreConfig!J1647)-FIND(\"|\",StoreConfig!J1647)),\"\")","v":""},{"$f":"IFERROR(VLOOKUP(--IF($B$2=StoreConfig!C1647,LEFT(StoreConfig!J1647,FIND(\"|\",StoreConfig!J1647)-1),\"\"),$Q$4:$R$20,2,FALSE),\"\")","v":""},{"$f":"IF($B$2=StoreConfig!C1647,LEFT(StoreConfig!G1647,FIND(\"#\",StoreConfig!G1647)-1),\"\")","v":""},{"$f":"IF($B$2=StoreConfig!C1647,RIGHT(StoreConfig!G1647,LEN(StoreConfig!G1647)-FIND(\"#\",StoreConfig!G1647)),\"\")","v":""},{"$f":"IF($B$2=StoreConfig!C1647,IF(StoreConfig!L1647=0,\"不限购\",StoreConfig!L1647&\"次\"),\"\")","v":""}]
[{"$nulls":3},{"$f":"IF($B$2=StoreConfig!C1648,StoreConfig!O1648,\"\")","v":""},{"$f":"IF($B$2=StoreConfig!C1648,StoreConfig!E1648,\"\")","v":""},{"$f":"IF($B$2=StoreConfig!C1648,RIGHT(StoreConfig!J1648,LEN(StoreConfig!J1648)-FIND(\"|\",StoreConfig!J1648)),\"\")","v":""},{"$f":"IFERROR(VLOOKUP(--IF($B$2=StoreConfig!C1648,LEFT(StoreConfig!J1648,FIND(\"|\",StoreConfig!J1648)-1),\"\"),$Q$4:$R$20,2,FALSE),\"\")","v":""},{"$f":"IF($B$2=StoreConfig!C1648,LEFT(StoreConfig!G1648,FIND(\"#\",StoreConfig!G1648)-1),\"\")","v":""},{"$f":"IF($B$2=StoreConfig!C1648,RIGHT(StoreConfig!G1648,LEN(StoreConfig!G1648)-FIND(\"#\",StoreConfig!G1648)),\"\")","v":""},{"$f":"IF($B$2=StoreConfig!C1648,IF(StoreConfig!L1648=0,\"不限购\",StoreConfig!L1648&\"次\"),\"\")","v":""}]
[{"$nulls":3},{"$f":"IF($B$2=StoreConfig!C1649,StoreConfig!O1649,\"\")","v":""},{"$f":"IF($B$2=StoreConfig!C1649,StoreConfig!E1649,\"\")","v":""},{"$f":"IF($B$2=StoreConfig!C1649,RIGHT(StoreConfig!J1649,LEN(StoreConfig!J1649)-FIND(\"|\",StoreConfig!J1649)),\"\")","v":""},{"$f":"IFERROR(VLOOKUP(--IF($B$2=StoreConfig!C1649,LEFT(StoreConfig!J1649,FIND(\"|\",StoreConfig!J1649)-1),\"\"),$Q$4:$R$20,2,FALSE),\"\")","v":""},{"$f":"IF($B$2=StoreConfig!C1649,LEFT(StoreConfig!G1649,FIND(\"#\",StoreConfig!G1649)-1),\"\")","v":""},{"$f":"IF($B$2=StoreConfig!C1649,RIGHT(StoreConfig!G1649,LEN(StoreConfig!G1649)-FIND(\"#\",StoreConfig!G1649)),\"\")","v":""},{"$f":"IF($B$2=StoreConfig!C1649,IF(StoreConfig!L1649=0,\"不限购\",StoreConfig!L1649&\"次\"),\"\")","v":""}]
[{"$nulls":3},{"$f":"IF($B$2=StoreConfig!C1650,StoreConfig!O1650,\"\")","v":""},{"$f":"IF($B$2=StoreConfig!C1650,StoreConfig!E1650,\"\")","v":""},{"$f":"IF($B$2=StoreConfig!C1650,RIGHT(StoreConfig!J1650,LEN(StoreConfig!J1650)-FIND(\"|\",StoreConfig!J1650)),\"\")","v":""},{"$f":"IFERROR(VLOOKUP(--IF($B$2=StoreConfig!C1650,LEFT(StoreConfig!J1650,FIND(\"|\",StoreConfig!J1650)-1),\"\"),$Q$4:$R$20,2,FALSE),\"\")","v":""},{"$f":"IF($B$2=StoreConfig!C1650,LEFT(StoreConfig!G1650,FIND(\"#\",StoreConfig!G1650)-1),\"\")","v":""},{"$f":"IF($B$2=StoreConfig!C1650,RIGHT(StoreConfig!G1650,LEN(StoreConfig!G1650)-FIND(\"#\",StoreConfig!G1650)),\"\")","v":""},{"$f":"IF($B$2=StoreConfig!C1650,IF(StoreConfig!L1650=0,\"不限购\",StoreConfig!L1650&\"次\"),\"\")","v":""}]
[{"$nulls":3},{"$f":"IF($B$2=StoreConfig!C1651,StoreConfig!O1651,\"\")","v":""},{"$f":"IF($B$2=StoreConfig!C1651,StoreConfig!E1651,\"\")","v":""},{"$f":"IF($B$2=StoreConfig!C1651,RIGHT(StoreConfig!J1651,LEN(StoreConfig!J1651)-FIND(\"|\",StoreConfig!J1651)),\"\")","v":""},{"$f":"IFERROR(VLOOKUP(--IF($B$2=StoreConfig!C1651,LEFT(StoreConfig!J1651,FIND(\"|\",StoreConfig!J1651)-1),\"\"),$Q$4:$R$20,2,FALSE),\"\")","v":""},{"$f":"IF($B$2=StoreConfig!C1651,LEFT(StoreConfig!G1651,FIND(\"#\",StoreConfig!G1651)-1),\"\")","v":""},{"$f":"IF($B$2=StoreConfig!C1651,RIGHT(StoreConfig!G1651,LEN(StoreConfig!G1651)-FIND(\"#\",StoreConfig!G1651)),\"\")","v":""},{"$f":"IF($B$2=StoreConfig!C1651,IF(StoreConfig!L1651=0,\"不限购\",StoreConfig!L1651&\"次\"),\"\")","v":""}]
[{"$nulls":3},{"$f":"IF($B$2=StoreConfig!C1652,StoreConfig!O1652,\"\")","v":""},{"$f":"IF($B$2=StoreConfig!C1652,StoreConfig!E1652,\"\")","v":""},{"$f":"IF($B$2=StoreConfig!C1652,RIGHT(StoreConfig!J1652,LEN(StoreConfig!J1652)-FIND(\"|\",StoreConfig!J1652)),\"\")","v":""},{"$f":"IFERROR(VLOOKUP(--IF($B$2=StoreConfig!C1652,LEFT(StoreConfig!J1652,FIND(\"|\",StoreConfig!J1652)-1),\"\"),$Q$4:$R$20,2,FALSE),\"\")","v":""},{"$f":"IF($B$2=StoreConfig!C1652,LEFT(StoreConfig!G1652,FIND(\"#\",StoreConfig!G1652)-1),\"\")","v":""},{"$f":"IF($B$2=StoreConfig!C1652,RIGHT(StoreConfig!G1652,LEN(StoreConfig!G1652)-FIND(\"#\",StoreConfig!G1652)),\"\")","v":""},{"$f":"IF($B$2=StoreConfig!C1652,IF(StoreConfig!L1652=0,\"不限购\",StoreConfig!L1652&\"次\"),\"\")","v":""}]
[{"$nulls":3},{"$f":"IF($B$2=StoreConfig!C1653,StoreConfig!O1653,\"\")","v":""},{"$f":"IF($B$2=StoreConfig!C1653,StoreConfig!E1653,\"\")","v":""},{"$f":"IF($B$2=StoreConfig!C1653,RIGHT(StoreConfig!J1653,LEN(StoreConfig!J1653)-FIND(\"|\",StoreConfig!J1653)),\"\")","v":""},{"$f":"IFERROR(VLOOKUP(--IF($B$2=StoreConfig!C1653,LEFT(StoreConfig!J1653,FIND(\"|\",StoreConfig!J1653)-1),\"\"),$Q$4:$R$20,2,FALSE),\"\")","v":""},{"$f":"IF($B$2=StoreConfig!C1653,LEFT(StoreConfig!G1653,FIND(\"#\",StoreConfig!G1653)-1),\"\")","v":""},{"$f":"IF($B$2=StoreConfig!C1653,RIGHT(StoreConfig!G1653,LEN(StoreConfig!G1653)-FIND(\"#\",StoreConfig!G1653)),\"\")","v":""},{"$f":"IF($B$2=StoreConfig!C1653,IF(StoreConfig!L1653=0,\"不限购\",StoreConfig!L1653&\"次\"),\"\")","v":""}]
[{"$nulls":3},{"$f":"IF($B$2=StoreConfig!C1654,StoreConfig!O1654,\"\")","v":""},{"$f":"IF($B$2=StoreConfig!C1654,StoreConfig!E1654,\"\")","v":""},{"$f":"IF($B$2=StoreConfig!C1654,RIGHT(StoreConfig!J1654,LEN(StoreConfig!J1654)-FIND(\"|\",StoreConfig!J1654)),\"\")","v":""},{"$f":"IFERROR(VLOOKUP(--IF($B$2=StoreConfig!C1654,LEFT(StoreConfig!J1654,FIND(\"|\",StoreConfig!J1654)-1),\"\"),$Q$4:$R$20,2,FALSE),\"\")","v":""},{"$f":"IF($B$2=StoreConfig!C1654,LEFT(StoreConfig!G1654,FIND(\"#\",StoreConfig!G1654)-1),\"\")","v":""},{"$f":"IF($B$2=StoreConfig!C1654,RIGHT(StoreConfig!G1654,LEN(StoreConfig!G1654)-FIND(\"#\",StoreConfig!G1654)),\"\")","v":""},{"$f":"IF($B$2=StoreConfig!C1654,IF(StoreConfig!L1654=0,\"不限购\",StoreConfig!L1654&\"次\"),\"\")","v":""}]
[{"$nulls":3},{"$f":"IF($B$2=StoreConfig!C1655,StoreConfig!O1655,\"\")","v":""},{"$f":"IF($B$2=StoreConfig!C1655,StoreConfig!E1655,\"\")","v":""},{"$f":"IF($B$2=StoreConfig!C1655,RIGHT(StoreConfig!J1655,LEN(StoreConfig!J1655)-FIND(\"|\",StoreConfig!J1655)),\"\")","v":""},{"$f":"IFERROR(VLOOKUP(--IF($B$2=StoreConfig!C1655,LEFT(StoreConfig!J1655,FIND(\"|\",StoreConfig!J1655)-1),\"\"),$Q$4:$R$20,2,FALSE),\"\")","v":""},{"$f":"IF($B$2=StoreConfig!C1655,LEFT(StoreConfig!G1655,FIND(\"#\",StoreConfig!G1655)-1),\"\")","v":""},{"$f":"IF($B$2=StoreConfig!C1655,RIGHT(StoreConfig!G1655,LEN(StoreConfig!G1655)-FIND(\"#\",StoreConfig!G1655)),\"\")","v":""},{"$f":"IF($B$2=StoreConfig!C1655,IF(StoreConfig!L1655=0,\"不限购\",StoreConfig!L1655&\"次\"),\"\")","v":""}]
[{"$nulls":3},{"$f":"IF($B$2=StoreConfig!C1656,StoreConfig!O1656,\"\")","v":""},{"$f":"IF($B$2=StoreConfig!C1656,StoreConfig!E1656,\"\")","v":""},{"$f":"IF($B$2=StoreConfig!C1656,RIGHT(StoreConfig!J1656,LEN(StoreConfig!J1656)-FIND(\"|\",StoreConfig!J1656)),\"\")","v":""},{"$f":"IFERROR(VLOOKUP(--IF($B$2=StoreConfig!C1656,LEFT(StoreConfig!J1656,FIND(\"|\",StoreConfig!J1656)-1),\"\"),$Q$4:$R$20,2,FALSE),\"\")","v":""},{"$f":"IF($B$2=StoreConfig!C1656,LEFT(StoreConfig!G1656,FIND(\"#\",StoreConfig!G1656)-1),\"\")","v":""},{"$f":"IF($B$2=StoreConfig!C1656,RIGHT(StoreConfig!G1656,LEN(StoreConfig!G1656)-FIND(\"#\",StoreConfig!G1656)),\"\")","v":""},{"$f":"IF($B$2=StoreConfig!C1656,IF(StoreConfig!L1656=0,\"不限购\",StoreConfig!L1656&\"次\"),\"\")","v":""}]
[{"$nulls":3},{"$f":"IF($B$2=StoreConfig!C1657,StoreConfig!O1657,\"\")","v":""},{"$f":"IF($B$2=StoreConfig!C1657,StoreConfig!E1657,\"\")","v":""},{"$f":"IF($B$2=StoreConfig!C1657,RIGHT(StoreConfig!J1657,LEN(StoreConfig!J1657)-FIND(\"|\",StoreConfig!J1657)),\"\")","v":""},{"$f":"IFERROR(VLOOKUP(--IF($B$2=StoreConfig!C1657,LEFT(StoreConfig!J1657,FIND(\"|\",StoreConfig!J1657)-1),\"\"),$Q$4:$R$20,2,FALSE),\"\")","v":""},{"$f":"IF($B$2=StoreConfig!C1657,LEFT(StoreConfig!G1657,FIND(\"#\",StoreConfig!G1657)-1),\"\")","v":""},{"$f":"IF($B$2=StoreConfig!C1657,RIGHT(StoreConfig!G1657,LEN(StoreConfig!G1657)-FIND(\"#\",StoreConfig!G1657)),\"\")","v":""},{"$f":"IF($B$2=StoreConfig!C1657,IF(StoreConfig!L1657=0,\"不限购\",StoreConfig!L1657&\"次\"),\"\")","v":""}]
[{"$nulls":3},{"$f":"IF($B$2=StoreConfig!C1658,StoreConfig!O1658,\"\")","v":""},{"$f":"IF($B$2=StoreConfig!C1658,StoreConfig!E1658,\"\")","v":""},{"$f":"IF($B$2=StoreConfig!C1658,RIGHT(StoreConfig!J1658,LEN(StoreConfig!J1658)-FIND(\"|\",StoreConfig!J1658)),\"\")","v":""},{"$f":"IFERROR(VLOOKUP(--IF($B$2=StoreConfig!C1658,LEFT(StoreConfig!J1658,FIND(\"|\",StoreConfig!J1658)-1),\"\"),$Q$4:$R$20,2,FALSE),\"\")","v":""},{"$f":"IF($B$2=StoreConfig!C1658,LEFT(StoreConfig!G1658,FIND(\"#\",StoreConfig!G1658)-1),\"\")","v":""},{"$f":"IF($B$2=StoreConfig!C1658,RIGHT(StoreConfig!G1658,LEN(StoreConfig!G1658)-FIND(\"#\",StoreConfig!G1658)),\"\")","v":""},{"$f":"IF($B$2=StoreConfig!C1658,IF(StoreConfig!L1658=0,\"不限购\",StoreConfig!L1658&\"次\"),\"\")","v":""}]
[{"$nulls":3},{"$f":"IF($B$2=StoreConfig!C1659,StoreConfig!O1659,\"\")","v":""},{"$f":"IF($B$2=StoreConfig!C1659,StoreConfig!E1659,\"\")","v":""},{"$f":"IF($B$2=StoreConfig!C1659,RIGHT(StoreConfig!J1659,LEN(StoreConfig!J1659)-FIND(\"|\",StoreConfig!J1659)),\"\")","v":""},{"$f":"IFERROR(VLOOKUP(--IF($B$2=StoreConfig!C1659,LEFT(StoreConfig!J1659,FIND(\"|\",StoreConfig!J1659)-1),\"\"),$Q$4:$R$20,2,FALSE),\"\")","v":""},{"$f":"IF($B$2=StoreConfig!C1659,LEFT(StoreConfig!G1659,FIND(\"#\",StoreConfig!G1659)-1),\"\")","v":""},{"$f":"IF($B$2=StoreConfig!C1659,RIGHT(StoreConfig!G1659,LEN(StoreConfig!G1659)-FIND(\"#\",StoreConfig!G1659)),\"\")","v":""},{"$f":"IF($B$2=StoreConfig!C1659,IF(StoreConfig!L1659=0,\"不限购\",StoreConfig!L1659&\"次\"),\"\")","v":""}]
[{"$nulls":3},{"$f":"IF($B$2=StoreConfig!C1660,StoreConfig!O1660,\"\")","v":""},{"$f":"IF($B$2=StoreConfig!C1660,StoreConfig!E1660,\"\")","v":""},{"$f":"IF($B$2=StoreConfig!C1660,RIGHT(StoreConfig!J1660,LEN(StoreConfig!J1660)-FIND(\"|\",StoreConfig!J1660)),\"\")","v":""},{"$f":"IFERROR(VLOOKUP(--IF($B$2=StoreConfig!C1660,LEFT(StoreConfig!J1660,FIND(\"|\",StoreConfig!J1660)-1),\"\"),$Q$4:$R$20,2,FALSE),\"\")","v":""},{"$f":"IF($B$2=StoreConfig!C1660,LEFT(StoreConfig!G1660,FIND(\"#\",StoreConfig!G1660)-1),\"\")","v":""},{"$f":"IF($B$2=StoreConfig!C1660,RIGHT(StoreConfig!G1660,LEN(StoreConfig!G1660)-FIND(\"#\",StoreConfig!G1660)),\"\")","v":""},{"$f":"IF($B$2=StoreConfig!C1660,IF(StoreConfig!L1660=0,\"不限购\",StoreConfig!L1660&\"次\"),\"\")","v":""}]
[{"$nulls":3},{"$f":"IF($B$2=StoreConfig!C1661,StoreConfig!O1661,\"\")","v":""},{"$f":"IF($B$2=StoreConfig!C1661,StoreConfig!E1661,\"\")","v":""},{"$f":"IF($B$2=StoreConfig!C1661,RIGHT(StoreConfig!J1661,LEN(StoreConfig!J1661)-FIND(\"|\",StoreConfig!J1661)),\"\")","v":""},{"$f":"IFERROR(VLOOKUP(--IF($B$2=StoreConfig!C1661,LEFT(StoreConfig!J1661,FIND(\"|\",StoreConfig!J1661)-1),\"\"),$Q$4:$R$20,2,FALSE),\"\")","v":""},{"$f":"IF($B$2=StoreConfig!C1661,LEFT(StoreConfig!G1661,FIND(\"#\",StoreConfig!G1661)-1),\"\")","v":""},{"$f":"IF($B$2=StoreConfig!C1661,RIGHT(StoreConfig!G1661,LEN(StoreConfig!G1661)-FIND(\"#\",StoreConfig!G1661)),\"\")","v":""},{"$f":"IF($B$2=StoreConfig!C1661,IF(StoreConfig!L1661=0,\"不限购\",StoreConfig!L1661&\"次\"),\"\")","v":""}]
[{"$nulls":3},{"$f":"IF($B$2=StoreConfig!C1662,StoreConfig!O1662,\"\")","v":""},{"$f":"IF($B$2=StoreConfig!C1662,StoreConfig!E1662,\"\")","v":""},{"$f":"IF($B$2=StoreConfig!C1662,RIGHT(StoreConfig!J1662,LEN(StoreConfig!J1662)-FIND(\"|\",StoreConfig!J1662)),\"\")","v":""},{"$f":"IFERROR(VLOOKUP(--IF($B$2=StoreConfig!C1662,LEFT(StoreConfig!J1662,FIND(\"|\",StoreConfig!J1662)-1),\"\"),$Q$4:$R$20,2,FALSE),\"\")","v":""},{"$f":"IF($B$2=StoreConfig!C1662,LEFT(StoreConfig!G1662,FIND(\"#\",StoreConfig!G1662)-1),\"\")","v":""},{"$f":"IF($B$2=StoreConfig!C1662,RIGHT(StoreConfig!G1662,LEN(StoreConfig!G1662)-FIND(\"#\",StoreConfig!G1662)),\"\")","v":""},{"$f":"IF($B$2=StoreConfig!C1662,IF(StoreConfig!L1662=0,\"不限购\",StoreConfig!L1662&\"次\"),\"\")","v":""}]
[{"$nulls":3},{"$f":"IF($B$2=StoreConfig!C1663,StoreConfig!O1663,\"\")","v":""},{"$f":"IF($B$2=StoreConfig!C1663,StoreConfig!E1663,\"\")","v":""},{"$f":"IF($B$2=StoreConfig!C1663,RIGHT(StoreConfig!J1663,LEN(StoreConfig!J1663)-FIND(\"|\",StoreConfig!J1663)),\"\")","v":""},{"$f":"IFERROR(VLOOKUP(--IF($B$2=StoreConfig!C1663,LEFT(StoreConfig!J1663,FIND(\"|\",StoreConfig!J1663)-1),\"\"),$Q$4:$R$20,2,FALSE),\"\")","v":""},{"$f":"IF($B$2=StoreConfig!C1663,LEFT(StoreConfig!G1663,FIND(\"#\",StoreConfig!G1663)-1),\"\")","v":""},{"$f":"IF($B$2=StoreConfig!C1663,RIGHT(StoreConfig!G1663,LEN(StoreConfig!G1663)-FIND(\"#\",StoreConfig!G1663)),\"\")","v":""},{"$f":"IF($B$2=StoreConfig!C1663,IF(StoreConfig!L1663=0,\"不限购\",StoreConfig!L1663&\"次\"),\"\")","v":""}]
[{"$nulls":3},{"$f":"IF($B$2=StoreConfig!C1664,StoreConfig!O1664,\"\")","v":""},{"$f":"IF($B$2=StoreConfig!C1664,StoreConfig!E1664,\"\")","v":""},{"$f":"IF($B$2=StoreConfig!C1664,RIGHT(StoreConfig!J1664,LEN(StoreConfig!J1664)-FIND(\"|\",StoreConfig!J1664)),\"\")","v":""},{"$f":"IFERROR(VLOOKUP(--IF($B$2=StoreConfig!C1664,LEFT(StoreConfig!J1664,FIND(\"|\",StoreConfig!J1664)-1),\"\"),$Q$4:$R$20,2,FALSE),\"\")","v":""},{"$f":"IF($B$2=StoreConfig!C1664,LEFT(StoreConfig!G1664,FIND(\"#\",StoreConfig!G1664)-1),\"\")","v":""},{"$f":"IF($B$2=StoreConfig!C1664,RIGHT(StoreConfig!G1664,LEN(StoreConfig!G1664)-FIND(\"#\",StoreConfig!G1664)),\"\")","v":""},{"$f":"IF($B$2=StoreConfig!C1664,IF(StoreConfig!L1664=0,\"不限购\",StoreConfig!L1664&\"次\"),\"\")","v":""}]
[{"$nulls":3},{"$f":"IF($B$2=StoreConfig!C1665,StoreConfig!O1665,\"\")","v":""},{"$f":"IF($B$2=StoreConfig!C1665,StoreConfig!E1665,\"\")","v":""},{"$f":"IF($B$2=StoreConfig!C1665,RIGHT(StoreConfig!J1665,LEN(StoreConfig!J1665)-FIND(\"|\",StoreConfig!J1665)),\"\")","v":""},{"$f":"IFERROR(VLOOKUP(--IF($B$2=StoreConfig!C1665,LEFT(StoreConfig!J1665,FIND(\"|\",StoreConfig!J1665)-1),\"\"),$Q$4:$R$20,2,FALSE),\"\")","v":""},{"$f":"IF($B$2=StoreConfig!C1665,LEFT(StoreConfig!G1665,FIND(\"#\",StoreConfig!G1665)-1),\"\")","v":""},{"$f":"IF($B$2=StoreConfig!C1665,RIGHT(StoreConfig!G1665,LEN(StoreConfig!G1665)-FIND(\"#\",StoreConfig!G1665)),\"\")","v":""},{"$f":"IF($B$2=StoreConfig!C1665,IF(StoreConfig!L1665=0,\"不限购\",StoreConfig!L1665&\"次\"),\"\")","v":""}]
[{"$nulls":3},{"$f":"IF($B$2=StoreConfig!C1666,StoreConfig!O1666,\"\")","v":""},{"$f":"IF($B$2=StoreConfig!C1666,StoreConfig!E1666,\"\")","v":""},{"$f":"IF($B$2=StoreConfig!C1666,RIGHT(StoreConfig!J1666,LEN(StoreConfig!J1666)-FIND(\"|\",StoreConfig!J1666)),\"\")","v":""},{"$f":"IFERROR(VLOOKUP(--IF($B$2=StoreConfig!C1666,LEFT(StoreConfig!J1666,FIND(\"|\",StoreConfig!J1666)-1),\"\"),$Q$4:$R$20,2,FALSE),\"\")","v":""},{"$f":"IF($B$2=StoreConfig!C1666,LEFT(StoreConfig!G1666,FIND(\"#\",StoreConfig!G1666)-1),\"\")","v":""},{"$f":"IF($B$2=StoreConfig!C1666,RIGHT(StoreConfig!G1666,LEN(StoreConfig!G1666)-FIND(\"#\",StoreConfig!G1666)),\"\")","v":""},{"$f":"IF($B$2=StoreConfig!C1666,IF(StoreConfig!L1666=0,\"不限购\",StoreConfig!L1666&\"次\"),\"\")","v":""}]
[{"$nulls":3},{"$f":"IF($B$2=StoreConfig!C1667,StoreConfig!O1667,\"\")","v":""},{"$f":"IF($B$2=StoreConfig!C1667,StoreConfig!E1667,\"\")","v":""},{"$f":"IF($B$2=StoreConfig!C1667,RIGHT(StoreConfig!J1667,LEN(StoreConfig!J1667)-FIND(\"|\",StoreConfig!J1667)),\"\")","v":""},{"$f":"IFERROR(VLOOKUP(--IF($B$2=StoreConfig!C1667,LEFT(StoreConfig!J1667,FIND(\"|\",StoreConfig!J1667)-1),\"\"),$Q$4:$R$20,2,FALSE),\"\")","v":""},{"$f":"IF($B$2=StoreConfig!C1667,LEFT(StoreConfig!G1667,FIND(\"#\",StoreConfig!G1667)-1),\"\")","v":""},{"$f":"IF($B$2=StoreConfig!C1667,RIGHT(StoreConfig!G1667,LEN(StoreConfig!G1667)-FIND(\"#\",StoreConfig!G1667)),\"\")","v":""},{"$f":"IF($B$2=StoreConfig!C1667,IF(StoreConfig!L1667=0,\"不限购\",StoreConfig!L1667&\"次\"),\"\")","v":""}]
[{"$nulls":3},{"$f":"IF($B$2=StoreConfig!C1668,StoreConfig!O1668,\"\")","v":""},{"$f":"IF($B$2=StoreConfig!C1668,StoreConfig!E1668,\"\")","v":""},{"$f":"IF($B$2=StoreConfig!C1668,RIGHT(StoreConfig!J1668,LEN(StoreConfig!J1668)-FIND(\"|\",StoreConfig!J1668)),\"\")","v":""},{"$f":"IFERROR(VLOOKUP(--IF($B$2=StoreConfig!C1668,LEFT(StoreConfig!J1668,FIND(\"|\",StoreConfig!J1668)-1),\"\"),$Q$4:$R$20,2,FALSE),\"\")","v":""},{"$f":"IF($B$2=StoreConfig!C1668,LEFT(StoreConfig!G1668,FIND(\"#\",StoreConfig!G1668)-1),\"\")","v":""},{"$f":"IF($B$2=StoreConfig!C1668,RIGHT(StoreConfig!G1668,LEN(StoreConfig!G1668)-FIND(\"#\",StoreConfig!G1668)),\"\")","v":""},{"$f":"IF($B$2=StoreConfig!C1668,IF(StoreConfig!L1668=0,\"不限购\",StoreConfig!L1668&\"次\"),\"\")","v":""}]
[{"$nulls":3},{"$f":"IF($B$2=StoreConfig!C1669,StoreConfig!O1669,\"\")","v":""},{"$f":"IF($B$2=StoreConfig!C1669,StoreConfig!E1669,\"\")","v":""},{"$f":"IF($B$2=StoreConfig!C1669,RIGHT(StoreConfig!J1669,LEN(StoreConfig!J1669)-FIND(\"|\",StoreConfig!J1669)),\"\")","v":""},{"$f":"IFERROR(VLOOKUP(--IF($B$2=StoreConfig!C1669,LEFT(StoreConfig!J1669,FIND(\"|\",StoreConfig!J1669)-1),\"\"),$Q$4:$R$20,2,FALSE),\"\")","v":""},{"$f":"IF($B$2=StoreConfig!C1669,LEFT(StoreConfig!G1669,FIND(\"#\",StoreConfig!G1669)-1),\"\")","v":""},{"$f":"IF($B$2=StoreConfig!C1669,RIGHT(StoreConfig!G1669,LEN(StoreConfig!G1669)-FIND(\"#\",StoreConfig!G1669)),\"\")","v":""},{"$f":"IF($B$2=StoreConfig!C1669,IF(StoreConfig!L1669=0,\"不限购\",StoreConfig!L1669&\"次\"),\"\")","v":""}]
[{"$nulls":3},{"$f":"IF($B$2=StoreConfig!C1670,StoreConfig!O1670,\"\")","v":""},{"$f":"IF($B$2=StoreConfig!C1670,StoreConfig!E1670,\"\")","v":""},{"$f":"IF($B$2=StoreConfig!C1670,RIGHT(StoreConfig!J1670,LEN(StoreConfig!J1670)-FIND(\"|\",StoreConfig!J1670)),\"\")","v":""},{"$f":"IFERROR(VLOOKUP(--IF($B$2=StoreConfig!C1670,LEFT(StoreConfig!J1670,FIND(\"|\",StoreConfig!J1670)-1),\"\"),$Q$4:$R$20,2,FALSE),\"\")","v":""},{"$f":"IF($B$2=StoreConfig!C1670,LEFT(StoreConfig!G1670,FIND(\"#\",StoreConfig!G1670)-1),\"\")","v":""},{"$f":"IF($B$2=StoreConfig!C1670,RIGHT(StoreConfig!G1670,LEN(StoreConfig!G1670)-FIND(\"#\",StoreConfig!G1670)),\"\")","v":""},{"$f":"IF($B$2=StoreConfig!C1670,IF(StoreConfig!L1670=0,\"不限购\",StoreConfig!L1670&\"次\"),\"\")","v":""}]
[{"$nulls":3},{"$f":"IF($B$2=StoreConfig!C1671,StoreConfig!O1671,\"\")","v":""},{"$f":"IF($B$2=StoreConfig!C1671,StoreConfig!E1671,\"\")","v":""},{"$f":"IF($B$2=StoreConfig!C1671,RIGHT(StoreConfig!J1671,LEN(StoreConfig!J1671)-FIND(\"|\",StoreConfig!J1671)),\"\")","v":""},{"$f":"IFERROR(VLOOKUP(--IF($B$2=StoreConfig!C1671,LEFT(StoreConfig!J1671,FIND(\"|\",StoreConfig!J1671)-1),\"\"),$Q$4:$R$20,2,FALSE),\"\")","v":""},{"$f":"IF($B$2=StoreConfig!C1671,LEFT(StoreConfig!G1671,FIND(\"#\",StoreConfig!G1671)-1),\"\")","v":""},{"$f":"IF($B$2=StoreConfig!C1671,RIGHT(StoreConfig!G1671,LEN(StoreConfig!G1671)-FIND(\"#\",StoreConfig!G1671)),\"\")","v":""},{"$f":"IF($B$2=StoreConfig!C1671,IF(StoreConfig!L1671=0,\"不限购\",StoreConfig!L1671&\"次\"),\"\")","v":""}]
[{"$nulls":3},{"$f":"IF($B$2=StoreConfig!C1672,StoreConfig!O1672,\"\")","v":""},{"$f":"IF($B$2=StoreConfig!C1672,StoreConfig!E1672,\"\")","v":""},{"$f":"IF($B$2=StoreConfig!C1672,RIGHT(StoreConfig!J1672,LEN(StoreConfig!J1672)-FIND(\"|\",StoreConfig!J1672)),\"\")","v":""},{"$f":"IFERROR(VLOOKUP(--IF($B$2=StoreConfig!C1672,LEFT(StoreConfig!J1672,FIND(\"|\",StoreConfig!J1672)-1),\"\"),$Q$4:$R$20,2,FALSE),\"\")","v":""},{"$f":"IF($B$2=StoreConfig!C1672,LEFT(StoreConfig!G1672,FIND(\"#\",StoreConfig!G1672)-1),\"\")","v":""},{"$f":"IF($B$2=StoreConfig!C1672,RIGHT(StoreConfig!G1672,LEN(StoreConfig!G1672)-FIND(\"#\",StoreConfig!G1672)),\"\")","v":""},{"$f":"IF($B$2=StoreConfig!C1672,IF(StoreConfig!L1672=0,\"不限购\",StoreConfig!L1672&\"次\"),\"\")","v":""}]
[{"$nulls":3},{"$f":"IF($B$2=StoreConfig!C1673,StoreConfig!O1673,\"\")","v":""},{"$f":"IF($B$2=StoreConfig!C1673,StoreConfig!E1673,\"\")","v":""},{"$f":"IF($B$2=StoreConfig!C1673,RIGHT(StoreConfig!J1673,LEN(StoreConfig!J1673)-FIND(\"|\",StoreConfig!J1673)),\"\")","v":""},{"$f":"IFERROR(VLOOKUP(--IF($B$2=StoreConfig!C1673,LEFT(StoreConfig!J1673,FIND(\"|\",StoreConfig!J1673)-1),\"\"),$Q$4:$R$20,2,FALSE),\"\")","v":""},{"$f":"IF($B$2=StoreConfig!C1673,LEFT(StoreConfig!G1673,FIND(\"#\",StoreConfig!G1673)-1),\"\")","v":""},{"$f":"IF($B$2=StoreConfig!C1673,RIGHT(StoreConfig!G1673,LEN(StoreConfig!G1673)-FIND(\"#\",StoreConfig!G1673)),\"\")","v":""},{"$f":"IF($B$2=StoreConfig!C1673,IF(StoreConfig!L1673=0,\"不限购\",StoreConfig!L1673&\"次\"),\"\")","v":""}]
[{"$nulls":3},{"$f":"IF($B$2=StoreConfig!C1674,StoreConfig!O1674,\"\")","v":""},{"$f":"IF($B$2=StoreConfig!C1674,StoreConfig!E1674,\"\")","v":""},{"$f":"IF($B$2=StoreConfig!C1674,RIGHT(StoreConfig!J1674,LEN(StoreConfig!J1674)-FIND(\"|\",StoreConfig!J1674)),\"\")","v":""},{"$f":"IFERROR(VLOOKUP(--IF($B$2=StoreConfig!C1674,LEFT(StoreConfig!J1674,FIND(\"|\",StoreConfig!J1674)-1),\"\"),$Q$4:$R$20,2,FALSE),\"\")","v":""},{"$f":"IF($B$2=StoreConfig!C1674,LEFT(StoreConfig!G1674,FIND(\"#\",StoreConfig!G1674)-1),\"\")","v":""},{"$f":"IF($B$2=StoreConfig!C1674,RIGHT(StoreConfig!G1674,LEN(StoreConfig!G1674)-FIND(\"#\",StoreConfig!G1674)),\"\")","v":""},{"$f":"IF($B$2=StoreConfig!C1674,IF(StoreConfig!L1674=0,\"不限购\",StoreConfig!L1674&\"次\"),\"\")","v":""}]
[{"$nulls":3},{"$f":"IF($B$2=StoreConfig!C1675,StoreConfig!O1675,\"\")","v":""},{"$f":"IF($B$2=StoreConfig!C1675,StoreConfig!E1675,\"\")","v":""},{"$f":"IF($B$2=StoreConfig!C1675,RIGHT(StoreConfig!J1675,LEN(StoreConfig!J1675)-FIND(\"|\",StoreConfig!J1675)),\"\")","v":""},{"$f":"IFERROR(VLOOKUP(--IF($B$2=StoreConfig!C1675,LEFT(StoreConfig!J1675,FIND(\"|\",StoreConfig!J1675)-1),\"\"),$Q$4:$R$20,2,FALSE),\"\")","v":""},{"$f":"IF($B$2=StoreConfig!C1675,LEFT(StoreConfig!G1675,FIND(\"#\",StoreConfig!G1675)-1),\"\")","v":""},{"$f":"IF($B$2=StoreConfig!C1675,RIGHT(StoreConfig!G1675,LEN(StoreConfig!G1675)-FIND(\"#\",StoreConfig!G1675)),\"\")","v":""},{"$f":"IF($B$2=StoreConfig!C1675,IF(StoreConfig!L1675=0,\"不限购\",StoreConfig!L1675&\"次\"),\"\")","v":""}]
[{"$nulls":3},{"$f":"IF($B$2=StoreConfig!C1676,StoreConfig!O1676,\"\")","v":""},{"$f":"IF($B$2=StoreConfig!C1676,StoreConfig!E1676,\"\")","v":""},{"$f":"IF($B$2=StoreConfig!C1676,RIGHT(StoreConfig!J1676,LEN(StoreConfig!J1676)-FIND(\"|\",StoreConfig!J1676)),\"\")","v":""},{"$f":"IFERROR(VLOOKUP(--IF($B$2=StoreConfig!C1676,LEFT(StoreConfig!J1676,FIND(\"|\",StoreConfig!J1676)-1),\"\"),$Q$4:$R$20,2,FALSE),\"\")","v":""},{"$f":"IF($B$2=StoreConfig!C1676,LEFT(StoreConfig!G1676,FIND(\"#\",StoreConfig!G1676)-1),\"\")","v":""},{"$f":"IF($B$2=StoreConfig!C1676,RIGHT(StoreConfig!G1676,LEN(StoreConfig!G1676)-FIND(\"#\",StoreConfig!G1676)),\"\")","v":""},{"$f":"IF($B$2=StoreConfig!C1676,IF(StoreConfig!L1676=0,\"不限购\",StoreConfig!L1676&\"次\"),\"\")","v":""}]
[{"$nulls":3},{"$f":"IF($B$2=StoreConfig!C1677,StoreConfig!O1677,\"\")","v":""},{"$f":"IF($B$2=StoreConfig!C1677,StoreConfig!E1677,\"\")","v":""},{"$f":"IF($B$2=StoreConfig!C1677,RIGHT(StoreConfig!J1677,LEN(StoreConfig!J1677)-FIND(\"|\",StoreConfig!J1677)),\"\")","v":""},{"$f":"IFERROR(VLOOKUP(--IF($B$2=StoreConfig!C1677,LEFT(StoreConfig!J1677,FIND(\"|\",StoreConfig!J1677)-1),\"\"),$Q$4:$R$20,2,FALSE),\"\")","v":""},{"$f":"IF($B$2=StoreConfig!C1677,LEFT(StoreConfig!G1677,FIND(\"#\",StoreConfig!G1677)-1),\"\")","v":""},{"$f":"IF($B$2=StoreConfig!C1677,RIGHT(StoreConfig!G1677,LEN(StoreConfig!G1677)-FIND(\"#\",StoreConfig!G1677)),\"\")","v":""},{"$f":"IF($B$2=StoreConfig!C1677,IF(StoreConfig!L1677=0,\"不限购\",StoreConfig!L1677&\"次\"),\"\")","v":""}]
[{"$nulls":3},{"$f":"IF($B$2=StoreConfig!C1678,StoreConfig!O1678,\"\")","v":""},{"$f":"IF($B$2=StoreConfig!C1678,StoreConfig!E1678,\"\")","v":""},{"$f":"IF($B$2=StoreConfig!C1678,RIGHT(StoreConfig!J1678,LEN(StoreConfig!J1678)-FIND(\"|\",StoreConfig!J1678)),\"\")","v":""},{"$f":"IFERROR(VLOOKUP(--IF($B$2=StoreConfig!C1678,LEFT(StoreConfig!J1678,FIND(\"|\",StoreConfig!J1678)-1),\"\"),$Q$4:$R$20,2,FALSE),\"\")","v":""},{"$f":"IF($B$2=StoreConfig!C1678,LEFT(StoreConfig!G1678,FIND(\"#\",StoreConfig!G1678)-1),\"\")","v":""},{"$f":"IF($B$2=StoreConfig!C1678,RIGHT(StoreConfig!G1678,LEN(StoreConfig!G1678)-FIND(\"#\",StoreConfig!G1678)),\"\")","v":""},{"$f":"IF($B$2=StoreConfig!C1678,IF(StoreConfig!L1678=0,\"不限购\",StoreConfig!L1678&\"次\"),\"\")","v":""}]
[{"$nulls":3},{"$f":"IF($B$2=StoreConfig!C1679,StoreConfig!O1679,\"\")","v":""},{"$f":"IF($B$2=StoreConfig!C1679,StoreConfig!E1679,\"\")","v":""},{"$f":"IF($B$2=StoreConfig!C1679,RIGHT(StoreConfig!J1679,LEN(StoreConfig!J1679)-FIND(\"|\",StoreConfig!J1679)),\"\")","v":""},{"$f":"IFERROR(VLOOKUP(--IF($B$2=StoreConfig!C1679,LEFT(StoreConfig!J1679,FIND(\"|\",StoreConfig!J1679)-1),\"\"),$Q$4:$R$20,2,FALSE),\"\")","v":""},{"$f":"IF($B$2=StoreConfig!C1679,LEFT(StoreConfig!G1679,FIND(\"#\",StoreConfig!G1679)-1),\"\")","v":""},{"$f":"IF($B$2=StoreConfig!C1679,RIGHT(StoreConfig!G1679,LEN(StoreConfig!G1679)-FIND(\"#\",StoreConfig!G1679)),\"\")","v":""},{"$f":"IF($B$2=StoreConfig!C1679,IF(StoreConfig!L1679=0,\"不限购\",StoreConfig!L1679&\"次\"),\"\")","v":""}]
[{"$nulls":3},{"$f":"IF($B$2=StoreConfig!C1680,StoreConfig!O1680,\"\")","v":""},{"$f":"IF($B$2=StoreConfig!C1680,StoreConfig!E1680,\"\")","v":""},{"$f":"IF($B$2=StoreConfig!C1680,RIGHT(StoreConfig!J1680,LEN(StoreConfig!J1680)-FIND(\"|\",StoreConfig!J1680)),\"\")","v":""},{"$f":"IFERROR(VLOOKUP(--IF($B$2=StoreConfig!C1680,LEFT(StoreConfig!J1680,FIND(\"|\",StoreConfig!J1680)-1),\"\"),$Q$4:$R$20,2,FALSE),\"\")","v":""},{"$f":"IF($B$2=StoreConfig!C1680,LEFT(StoreConfig!G1680,FIND(\"#\",StoreConfig!G1680)-1),\"\")","v":""},{"$f":"IF($B$2=StoreConfig!C1680,RIGHT(StoreConfig!G1680,LEN(StoreConfig!G1680)-FIND(\"#\",StoreConfig!G1680)),\"\")","v":""},{"$f":"IF($B$2=StoreConfig!C1680,IF(StoreConfig!L1680=0,\"不限购\",StoreConfig!L1680&\"次\"),\"\")","v":""}]
[{"$nulls":3},{"$f":"IF($B$2=StoreConfig!C1681,StoreConfig!O1681,\"\")","v":""},{"$f":"IF($B$2=StoreConfig!C1681,StoreConfig!E1681,\"\")","v":""},{"$f":"IF($B$2=StoreConfig!C1681,RIGHT(StoreConfig!J1681,LEN(StoreConfig!J1681)-FIND(\"|\",StoreConfig!J1681)),\"\")","v":""},{"$f":"IFERROR(VLOOKUP(--IF($B$2=StoreConfig!C1681,LEFT(StoreConfig!J1681,FIND(\"|\",StoreConfig!J1681)-1),\"\"),$Q$4:$R$20,2,FALSE),\"\")","v":""},{"$f":"IF($B$2=StoreConfig!C1681,LEFT(StoreConfig!G1681,FIND(\"#\",StoreConfig!G1681)-1),\"\")","v":""},{"$f":"IF($B$2=StoreConfig!C1681,RIGHT(StoreConfig!G1681,LEN(StoreConfig!G1681)-FIND(\"#\",StoreConfig!G1681)),\"\")","v":""},{"$f":"IF($B$2=StoreConfig!C1681,IF(StoreConfig!L1681=0,\"不限购\",StoreConfig!L1681&\"次\"),\"\")","v":""}]
[{"$nulls":3},{"$f":"IF($B$2=StoreConfig!C1682,StoreConfig!O1682,\"\")","v":""},{"$f":"IF($B$2=StoreConfig!C1682,StoreConfig!E1682,\"\")","v":""},{"$f":"IF($B$2=StoreConfig!C1682,RIGHT(StoreConfig!J1682,LEN(StoreConfig!J1682)-FIND(\"|\",StoreConfig!J1682)),\"\")","v":""},{"$f":"IFERROR(VLOOKUP(--IF($B$2=StoreConfig!C1682,LEFT(StoreConfig!J1682,FIND(\"|\",StoreConfig!J1682)-1),\"\"),$Q$4:$R$20,2,FALSE),\"\")","v":""},{"$f":"IF($B$2=StoreConfig!C1682,LEFT(StoreConfig!G1682,FIND(\"#\",StoreConfig!G1682)-1),\"\")","v":""},{"$f":"IF($B$2=StoreConfig!C1682,RIGHT(StoreConfig!G1682,LEN(StoreConfig!G1682)-FIND(\"#\",StoreConfig!G1682)),\"\")","v":""},{"$f":"IF($B$2=StoreConfig!C1682,IF(StoreConfig!L1682=0,\"不限购\",StoreConfig!L1682&\"次\"),\"\")","v":""}]
[{"$nulls":3},{"$f":"IF($B$2=StoreConfig!C1683,StoreConfig!O1683,\"\")","v":""},{"$f":"IF($B$2=StoreConfig!C1683,StoreConfig!E1683,\"\")","v":""},{"$f":"IF($B$2=StoreConfig!C1683,RIGHT(StoreConfig!J1683,LEN(StoreConfig!J1683)-FIND(\"|\",StoreConfig!J1683)),\"\")","v":""},{"$f":"IFERROR(VLOOKUP(--IF($B$2=StoreConfig!C1683,LEFT(StoreConfig!J1683,FIND(\"|\",StoreConfig!J1683)-1),\"\"),$Q$4:$R$20,2,FALSE),\"\")","v":""},{"$f":"IF($B$2=StoreConfig!C1683,LEFT(StoreConfig!G1683,FIND(\"#\",StoreConfig!G1683)-1),\"\")","v":""},{"$f":"IF($B$2=StoreConfig!C1683,RIGHT(StoreConfig!G1683,LEN(StoreConfig!G1683)-FIND(\"#\",StoreConfig!G1683)),\"\")","v":""},{"$f":"IF($B$2=StoreConfig!C1683,IF(StoreConfig!L1683=0,\"不限购\",StoreConfig!L1683&\"次\"),\"\")","v":""}]
[{"$nulls":3},{"$f":"IF($B$2=StoreConfig!C1684,StoreConfig!O1684,\"\")","v":""},{"$f":"IF($B$2=StoreConfig!C1684,StoreConfig!E1684,\"\")","v":""},{"$f":"IF($B$2=StoreConfig!C1684,RIGHT(StoreConfig!J1684,LEN(StoreConfig!J1684)-FIND(\"|\",StoreConfig!J1684)),\"\")","v":""},{"$f":"IFERROR(VLOOKUP(--IF($B$2=StoreConfig!C1684,LEFT(StoreConfig!J1684,FIND(\"|\",StoreConfig!J1684)-1),\"\"),$Q$4:$R$20,2,FALSE),\"\")","v":""},{"$f":"IF($B$2=StoreConfig!C1684,LEFT(StoreConfig!G1684,FIND(\"#\",StoreConfig!G1684)-1),\"\")","v":""},{"$f":"IF($B$2=StoreConfig!C1684,RIGHT(StoreConfig!G1684,LEN(StoreConfig!G1684)-FIND(\"#\",StoreConfig!G1684)),\"\")","v":""},{"$f":"IF($B$2=StoreConfig!C1684,IF(StoreConfig!L1684=0,\"不限购\",StoreConfig!L1684&\"次\"),\"\")","v":""}]
[{"$nulls":3},{"$f":"IF($B$2=StoreConfig!C1685,StoreConfig!O1685,\"\")","v":""},{"$f":"IF($B$2=StoreConfig!C1685,StoreConfig!E1685,\"\")","v":""},{"$f":"IF($B$2=StoreConfig!C1685,RIGHT(StoreConfig!J1685,LEN(StoreConfig!J1685)-FIND(\"|\",StoreConfig!J1685)),\"\")","v":""},{"$f":"IFERROR(VLOOKUP(--IF($B$2=StoreConfig!C1685,LEFT(StoreConfig!J1685,FIND(\"|\",StoreConfig!J1685)-1),\"\"),$Q$4:$R$20,2,FALSE),\"\")","v":""},{"$f":"IF($B$2=StoreConfig!C1685,LEFT(StoreConfig!G1685,FIND(\"#\",StoreConfig!G1685)-1),\"\")","v":""},{"$f":"IF($B$2=StoreConfig!C1685,RIGHT(StoreConfig!G1685,LEN(StoreConfig!G1685)-FIND(\"#\",StoreConfig!G1685)),\"\")","v":""},{"$f":"IF($B$2=StoreConfig!C1685,IF(StoreConfig!L1685=0,\"不限购\",StoreConfig!L1685&\"次\"),\"\")","v":""}]
[{"$nulls":3},{"$f":"IF($B$2=StoreConfig!C1686,StoreConfig!O1686,\"\")","v":""},{"$f":"IF($B$2=StoreConfig!C1686,StoreConfig!E1686,\"\")","v":""},{"$f":"IF($B$2=StoreConfig!C1686,RIGHT(StoreConfig!J1686,LEN(StoreConfig!J1686)-FIND(\"|\",StoreConfig!J1686)),\"\")","v":""},{"$f":"IFERROR(VLOOKUP(--IF($B$2=StoreConfig!C1686,LEFT(StoreConfig!J1686,FIND(\"|\",StoreConfig!J1686)-1),\"\"),$Q$4:$R$20,2,FALSE),\"\")","v":""},{"$f":"IF($B$2=StoreConfig!C1686,LEFT(StoreConfig!G1686,FIND(\"#\",StoreConfig!G1686)-1),\"\")","v":""},{"$f":"IF($B$2=StoreConfig!C1686,RIGHT(StoreConfig!G1686,LEN(StoreConfig!G1686)-FIND(\"#\",StoreConfig!G1686)),\"\")","v":""},{"$f":"IF($B$2=StoreConfig!C1686,IF(StoreConfig!L1686=0,\"不限购\",StoreConfig!L1686&\"次\"),\"\")","v":""}]
[{"$nulls":3},{"$f":"IF($B$2=StoreConfig!C1687,StoreConfig!O1687,\"\")","v":""},{"$f":"IF($B$2=StoreConfig!C1687,StoreConfig!E1687,\"\")","v":""},{"$f":"IF($B$2=StoreConfig!C1687,RIGHT(StoreConfig!J1687,LEN(StoreConfig!J1687)-FIND(\"|\",StoreConfig!J1687)),\"\")","v":""},{"$f":"IFERROR(VLOOKUP(--IF($B$2=StoreConfig!C1687,LEFT(StoreConfig!J1687,FIND(\"|\",StoreConfig!J1687)-1),\"\"),$Q$4:$R$20,2,FALSE),\"\")","v":""},{"$f":"IF($B$2=StoreConfig!C1687,LEFT(StoreConfig!G1687,FIND(\"#\",StoreConfig!G1687)-1),\"\")","v":""},{"$f":"IF($B$2=StoreConfig!C1687,RIGHT(StoreConfig!G1687,LEN(StoreConfig!G1687)-FIND(\"#\",StoreConfig!G1687)),\"\")","v":""},{"$f":"IF($B$2=StoreConfig!C1687,IF(StoreConfig!L1687=0,\"不限购\",StoreConfig!L1687&\"次\"),\"\")","v":""}]
[{"$nulls":3},{"$f":"IF($B$2=StoreConfig!C1688,StoreConfig!O1688,\"\")","v":""},{"$f":"IF($B$2=StoreConfig!C1688,StoreConfig!E1688,\"\")","v":""},{"$f":"IF($B$2=StoreConfig!C1688,RIGHT(StoreConfig!J1688,LEN(StoreConfig!J1688)-FIND(\"|\",StoreConfig!J1688)),\"\")","v":""},{"$f":"IFERROR(VLOOKUP(--IF($B$2=StoreConfig!C1688,LEFT(StoreConfig!J1688,FIND(\"|\",StoreConfig!J1688)-1),\"\"),$Q$4:$R$20,2,FALSE),\"\")","v":""},{"$f":"IF($B$2=StoreConfig!C1688,LEFT(StoreConfig!G1688,FIND(\"#\",StoreConfig!G1688)-1),\"\")","v":""},{"$f":"IF($B$2=StoreConfig!C1688,RIGHT(StoreConfig!G1688,LEN(StoreConfig!G1688)-FIND(\"#\",StoreConfig!G1688)),\"\")","v":""},{"$f":"IF($B$2=StoreConfig!C1688,IF(StoreConfig!L1688=0,\"不限购\",StoreConfig!L1688&\"次\"),\"\")","v":""}]
[{"$nulls":3},{"$f":"IF($B$2=StoreConfig!C1689,StoreConfig!O1689,\"\")","v":""},{"$f":"IF($B$2=StoreConfig!C1689,StoreConfig!E1689,\"\")","v":""},{"$f":"IF($B$2=StoreConfig!C1689,RIGHT(StoreConfig!J1689,LEN(StoreConfig!J1689)-FIND(\"|\",StoreConfig!J1689)),\"\")","v":""},{"$f":"IFERROR(VLOOKUP(--IF($B$2=StoreConfig!C1689,LEFT(StoreConfig!J1689,FIND(\"|\",StoreConfig!J1689)-1),\"\"),$Q$4:$R$20,2,FALSE),\"\")","v":""},{"$f":"IF($B$2=StoreConfig!C1689,LEFT(StoreConfig!G1689,FIND(\"#\",StoreConfig!G1689)-1),\"\")","v":""},{"$f":"IF($B$2=StoreConfig!C1689,RIGHT(StoreConfig!G1689,LEN(StoreConfig!G1689)-FIND(\"#\",StoreConfig!G1689)),\"\")","v":""},{"$f":"IF($B$2=StoreConfig!C1689,IF(StoreConfig!L1689=0,\"不限购\",StoreConfig!L1689&\"次\"),\"\")","v":""}]
[{"$nulls":3},{"$f":"IF($B$2=StoreConfig!C1690,StoreConfig!O1690,\"\")","v":""},{"$f":"IF($B$2=StoreConfig!C1690,StoreConfig!E1690,\"\")","v":""},{"$f":"IF($B$2=StoreConfig!C1690,RIGHT(StoreConfig!J1690,LEN(StoreConfig!J1690)-FIND(\"|\",StoreConfig!J1690)),\"\")","v":""},{"$f":"IFERROR(VLOOKUP(--IF($B$2=StoreConfig!C1690,LEFT(StoreConfig!J1690,FIND(\"|\",StoreConfig!J1690)-1),\"\"),$Q$4:$R$20,2,FALSE),\"\")","v":""},{"$f":"IF($B$2=StoreConfig!C1690,LEFT(StoreConfig!G1690,FIND(\"#\",StoreConfig!G1690)-1),\"\")","v":""},{"$f":"IF($B$2=StoreConfig!C1690,RIGHT(StoreConfig!G1690,LEN(StoreConfig!G1690)-FIND(\"#\",StoreConfig!G1690)),\"\")","v":""},{"$f":"IF($B$2=StoreConfig!C1690,IF(StoreConfig!L1690=0,\"不限购\",StoreConfig!L1690&\"次\"),\"\")","v":""}]
[{"$nulls":3},{"$f":"IF($B$2=StoreConfig!C1691,StoreConfig!O1691,\"\")","v":""},{"$f":"IF($B$2=StoreConfig!C1691,StoreConfig!E1691,\"\")","v":""},{"$f":"IF($B$2=StoreConfig!C1691,RIGHT(StoreConfig!J1691,LEN(StoreConfig!J1691)-FIND(\"|\",StoreConfig!J1691)),\"\")","v":""},{"$f":"IFERROR(VLOOKUP(--IF($B$2=StoreConfig!C1691,LEFT(StoreConfig!J1691,FIND(\"|\",StoreConfig!J1691)-1),\"\"),$Q$4:$R$20,2,FALSE),\"\")","v":""},{"$f":"IF($B$2=StoreConfig!C1691,LEFT(StoreConfig!G1691,FIND(\"#\",StoreConfig!G1691)-1),\"\")","v":""},{"$f":"IF($B$2=StoreConfig!C1691,RIGHT(StoreConfig!G1691,LEN(StoreConfig!G1691)-FIND(\"#\",StoreConfig!G1691)),\"\")","v":""},{"$f":"IF($B$2=StoreConfig!C1691,IF(StoreConfig!L1691=0,\"不限购\",StoreConfig!L1691&\"次\"),\"\")","v":""}]
[{"$nulls":3},{"$f":"IF($B$2=StoreConfig!C1692,StoreConfig!O1692,\"\")","v":""},{"$f":"IF($B$2=StoreConfig!C1692,StoreConfig!E1692,\"\")","v":""},{"$f":"IF($B$2=StoreConfig!C1692,RIGHT(StoreConfig!J1692,LEN(StoreConfig!J1692)-FIND(\"|\",StoreConfig!J1692)),\"\")","v":""},{"$f":"IFERROR(VLOOKUP(--IF($B$2=StoreConfig!C1692,LEFT(StoreConfig!J1692,FIND(\"|\",StoreConfig!J1692)-1),\"\"),$Q$4:$R$20,2,FALSE),\"\")","v":""},{"$f":"IF($B$2=StoreConfig!C1692,LEFT(StoreConfig!G1692,FIND(\"#\",StoreConfig!G1692)-1),\"\")","v":""},{"$f":"IF($B$2=StoreConfig!C1692,RIGHT(StoreConfig!G1692,LEN(StoreConfig!G1692)-FIND(\"#\",StoreConfig!G1692)),\"\")","v":""},{"$f":"IF($B$2=StoreConfig!C1692,IF(StoreConfig!L1692=0,\"不限购\",StoreConfig!L1692&\"次\"),\"\")","v":""}]
[{"$nulls":3},{"$f":"IF($B$2=StoreConfig!C1693,StoreConfig!O1693,\"\")","v":""},{"$f":"IF($B$2=StoreConfig!C1693,StoreConfig!E1693,\"\")","v":""},{"$f":"IF($B$2=StoreConfig!C1693,RIGHT(StoreConfig!J1693,LEN(StoreConfig!J1693)-FIND(\"|\",StoreConfig!J1693)),\"\")","v":""},{"$f":"IFERROR(VLOOKUP(--IF($B$2=StoreConfig!C1693,LEFT(StoreConfig!J1693,FIND(\"|\",StoreConfig!J1693)-1),\"\"),$Q$4:$R$20,2,FALSE),\"\")","v":""},{"$f":"IF($B$2=StoreConfig!C1693,LEFT(StoreConfig!G1693,FIND(\"#\",StoreConfig!G1693)-1),\"\")","v":""},{"$f":"IF($B$2=StoreConfig!C1693,RIGHT(StoreConfig!G1693,LEN(StoreConfig!G1693)-FIND(\"#\",StoreConfig!G1693)),\"\")","v":""},{"$f":"IF($B$2=StoreConfig!C1693,IF(StoreConfig!L1693=0,\"不限购\",StoreConfig!L1693&\"次\"),\"\")","v":""}]
[{"$nulls":3},{"$f":"IF($B$2=StoreConfig!C1694,StoreConfig!O1694,\"\")","v":""},{"$f":"IF($B$2=StoreConfig!C1694,StoreConfig!E1694,\"\")","v":""},{"$f":"IF($B$2=StoreConfig!C1694,RIGHT(StoreConfig!J1694,LEN(StoreConfig!J1694)-FIND(\"|\",StoreConfig!J1694)),\"\")","v":""},{"$f":"IFERROR(VLOOKUP(--IF($B$2=StoreConfig!C1694,LEFT(StoreConfig!J1694,FIND(\"|\",StoreConfig!J1694)-1),\"\"),$Q$4:$R$20,2,FALSE),\"\")","v":""},{"$f":"IF($B$2=StoreConfig!C1694,LEFT(StoreConfig!G1694,FIND(\"#\",StoreConfig!G1694)-1),\"\")","v":""},{"$f":"IF($B$2=StoreConfig!C1694,RIGHT(StoreConfig!G1694,LEN(StoreConfig!G1694)-FIND(\"#\",StoreConfig!G1694)),\"\")","v":""},{"$f":"IF($B$2=StoreConfig!C1694,IF(StoreConfig!L1694=0,\"不限购\",StoreConfig!L1694&\"次\"),\"\")","v":""}]
[{"$nulls":3},{"$f":"IF($B$2=StoreConfig!C1695,StoreConfig!O1695,\"\")","v":""},{"$f":"IF($B$2=StoreConfig!C1695,StoreConfig!E1695,\"\")","v":""},{"$f":"IF($B$2=StoreConfig!C1695,RIGHT(StoreConfig!J1695,LEN(StoreConfig!J1695)-FIND(\"|\",StoreConfig!J1695)),\"\")","v":""},{"$f":"IFERROR(VLOOKUP(--IF($B$2=StoreConfig!C1695,LEFT(StoreConfig!J1695,FIND(\"|\",StoreConfig!J1695)-1),\"\"),$Q$4:$R$20,2,FALSE),\"\")","v":""},{"$f":"IF($B$2=StoreConfig!C1695,LEFT(StoreConfig!G1695,FIND(\"#\",StoreConfig!G1695)-1),\"\")","v":""},{"$f":"IF($B$2=StoreConfig!C1695,RIGHT(StoreConfig!G1695,LEN(StoreConfig!G1695)-FIND(\"#\",StoreConfig!G1695)),\"\")","v":""},{"$f":"IF($B$2=StoreConfig!C1695,IF(StoreConfig!L1695=0,\"不限购\",StoreConfig!L1695&\"次\"),\"\")","v":""}]
[{"$nulls":3},{"$f":"IF($B$2=StoreConfig!C1696,StoreConfig!O1696,\"\")","v":""},{"$f":"IF($B$2=StoreConfig!C1696,StoreConfig!E1696,\"\")","v":""},{"$f":"IF($B$2=StoreConfig!C1696,RIGHT(StoreConfig!J1696,LEN(StoreConfig!J1696)-FIND(\"|\",StoreConfig!J1696)),\"\")","v":""},{"$f":"IFERROR(VLOOKUP(--IF($B$2=StoreConfig!C1696,LEFT(StoreConfig!J1696,FIND(\"|\",StoreConfig!J1696)-1),\"\"),$Q$4:$R$20,2,FALSE),\"\")","v":""},{"$f":"IF($B$2=StoreConfig!C1696,LEFT(StoreConfig!G1696,FIND(\"#\",StoreConfig!G1696)-1),\"\")","v":""},{"$f":"IF($B$2=StoreConfig!C1696,RIGHT(StoreConfig!G1696,LEN(StoreConfig!G1696)-FIND(\"#\",StoreConfig!G1696)),\"\")","v":""},{"$f":"IF($B$2=StoreConfig!C1696,IF(StoreConfig!L1696=0,\"不限购\",StoreConfig!L1696&\"次\"),\"\")","v":""}]
[{"$nulls":3},{"$f":"IF($B$2=StoreConfig!C1697,StoreConfig!O1697,\"\")","v":""},{"$f":"IF($B$2=StoreConfig!C1697,StoreConfig!E1697,\"\")","v":""},{"$f":"IF($B$2=StoreConfig!C1697,RIGHT(StoreConfig!J1697,LEN(StoreConfig!J1697)-FIND(\"|\",StoreConfig!J1697)),\"\")","v":""},{"$f":"IFERROR(VLOOKUP(--IF($B$2=StoreConfig!C1697,LEFT(StoreConfig!J1697,FIND(\"|\",StoreConfig!J1697)-1),\"\"),$Q$4:$R$20,2,FALSE),\"\")","v":""},{"$f":"IF($B$2=StoreConfig!C1697,LEFT(StoreConfig!G1697,FIND(\"#\",StoreConfig!G1697)-1),\"\")","v":""},{"$f":"IF($B$2=StoreConfig!C1697,RIGHT(StoreConfig!G1697,LEN(StoreConfig!G1697)-FIND(\"#\",StoreConfig!G1697)),\"\")","v":""},{"$f":"IF($B$2=StoreConfig!C1697,IF(StoreConfig!L1697=0,\"不限购\",StoreConfig!L1697&\"次\"),\"\")","v":""}]
[{"$nulls":3},{"$f":"IF($B$2=StoreConfig!C1698,StoreConfig!O1698,\"\")","v":""},{"$f":"IF($B$2=StoreConfig!C1698,StoreConfig!E1698,\"\")","v":""},{"$f":"IF($B$2=StoreConfig!C1698,RIGHT(StoreConfig!J1698,LEN(StoreConfig!J1698)-FIND(\"|\",StoreConfig!J1698)),\"\")","v":""},{"$f":"IFERROR(VLOOKUP(--IF($B$2=StoreConfig!C1698,LEFT(StoreConfig!J1698,FIND(\"|\",StoreConfig!J1698)-1),\"\"),$Q$4:$R$20,2,FALSE),\"\")","v":""},{"$f":"IF($B$2=StoreConfig!C1698,LEFT(StoreConfig!G1698,FIND(\"#\",StoreConfig!G1698)-1),\"\")","v":""},{"$f":"IF($B$2=StoreConfig!C1698,RIGHT(StoreConfig!G1698,LEN(StoreConfig!G1698)-FIND(\"#\",StoreConfig!G1698)),\"\")","v":""},{"$f":"IF($B$2=StoreConfig!C1698,IF(StoreConfig!L1698=0,\"不限购\",StoreConfig!L1698&\"次\"),\"\")","v":""}]
[{"$nulls":3},{"$f":"IF($B$2=StoreConfig!C1699,StoreConfig!O1699,\"\")","v":""},{"$f":"IF($B$2=StoreConfig!C1699,StoreConfig!E1699,\"\")","v":""},{"$f":"IF($B$2=StoreConfig!C1699,RIGHT(StoreConfig!J1699,LEN(StoreConfig!J1699)-FIND(\"|\",StoreConfig!J1699)),\"\")","v":""},{"$f":"IFERROR(VLOOKUP(--IF($B$2=StoreConfig!C1699,LEFT(StoreConfig!J1699,FIND(\"|\",StoreConfig!J1699)-1),\"\"),$Q$4:$R$20,2,FALSE),\"\")","v":""},{"$f":"IF($B$2=StoreConfig!C1699,LEFT(StoreConfig!G1699,FIND(\"#\",StoreConfig!G1699)-1),\"\")","v":""},{"$f":"IF($B$2=StoreConfig!C1699,RIGHT(StoreConfig!G1699,LEN(StoreConfig!G1699)-FIND(\"#\",StoreConfig!G1699)),\"\")","v":""},{"$f":"IF($B$2=StoreConfig!C1699,IF(StoreConfig!L1699=0,\"不限购\",StoreConfig!L1699&\"次\"),\"\")","v":""}]
[{"$nulls":3},{"$f":"IF($B$2=StoreConfig!C1700,StoreConfig!O1700,\"\")","v":""},{"$f":"IF($B$2=StoreConfig!C1700,StoreConfig!E1700,\"\")","v":""},{"$f":"IF($B$2=StoreConfig!C1700,RIGHT(StoreConfig!J1700,LEN(StoreConfig!J1700)-FIND(\"|\",StoreConfig!J1700)),\"\")","v":""},{"$f":"IFERROR(VLOOKUP(--IF($B$2=StoreConfig!C1700,LEFT(StoreConfig!J1700,FIND(\"|\",StoreConfig!J1700)-1),\"\"),$Q$4:$R$20,2,FALSE),\"\")","v":""},{"$f":"IF($B$2=StoreConfig!C1700,LEFT(StoreConfig!G1700,FIND(\"#\",StoreConfig!G1700)-1),\"\")","v":""},{"$f":"IF($B$2=StoreConfig!C1700,RIGHT(StoreConfig!G1700,LEN(StoreConfig!G1700)-FIND(\"#\",StoreConfig!G1700)),\"\")","v":""},{"$f":"IF($B$2=StoreConfig!C1700,IF(StoreConfig!L1700=0,\"不限购\",StoreConfig!L1700&\"次\"),\"\")","v":""}]
[{"$nulls":3},{"$f":"IF($B$2=StoreConfig!C1701,StoreConfig!O1701,\"\")","v":""},{"$f":"IF($B$2=StoreConfig!C1701,StoreConfig!E1701,\"\")","v":""},{"$f":"IF($B$2=StoreConfig!C1701,RIGHT(StoreConfig!J1701,LEN(StoreConfig!J1701)-FIND(\"|\",StoreConfig!J1701)),\"\")","v":""},{"$f":"IFERROR(VLOOKUP(--IF($B$2=StoreConfig!C1701,LEFT(StoreConfig!J1701,FIND(\"|\",StoreConfig!J1701)-1),\"\"),$Q$4:$R$20,2,FALSE),\"\")","v":""},{"$f":"IF($B$2=StoreConfig!C1701,LEFT(StoreConfig!G1701,FIND(\"#\",StoreConfig!G1701)-1),\"\")","v":""},{"$f":"IF($B$2=StoreConfig!C1701,RIGHT(StoreConfig!G1701,LEN(StoreConfig!G1701)-FIND(\"#\",StoreConfig!G1701)),\"\")","v":""},{"$f":"IF($B$2=StoreConfig!C1701,IF(StoreConfig!L1701=0,\"不限购\",StoreConfig!L1701&\"次\"),\"\")","v":""}]
[{"$nulls":3},{"$f":"IF($B$2=StoreConfig!C1702,StoreConfig!O1702,\"\")","v":""},{"$f":"IF($B$2=StoreConfig!C1702,StoreConfig!E1702,\"\")","v":""},{"$f":"IF($B$2=StoreConfig!C1702,RIGHT(StoreConfig!J1702,LEN(StoreConfig!J1702)-FIND(\"|\",StoreConfig!J1702)),\"\")","v":""},{"$f":"IFERROR(VLOOKUP(--IF($B$2=StoreConfig!C1702,LEFT(StoreConfig!J1702,FIND(\"|\",StoreConfig!J1702)-1),\"\"),$Q$4:$R$20,2,FALSE),\"\")","v":""},{"$f":"IF($B$2=StoreConfig!C1702,LEFT(StoreConfig!G1702,FIND(\"#\",StoreConfig!G1702)-1),\"\")","v":""},{"$f":"IF($B$2=StoreConfig!C1702,RIGHT(StoreConfig!G1702,LEN(StoreConfig!G1702)-FIND(\"#\",StoreConfig!G1702)),\"\")","v":""},{"$f":"IF($B$2=StoreConfig!C1702,IF(StoreConfig!L1702=0,\"不限购\",StoreConfig!L1702&\"次\"),\"\")","v":""}]
[{"$nulls":3},{"$f":"IF($B$2=StoreConfig!C1703,StoreConfig!O1703,\"\")","v":""},{"$f":"IF($B$2=StoreConfig!C1703,StoreConfig!E1703,\"\")","v":""},{"$f":"IF($B$2=StoreConfig!C1703,RIGHT(StoreConfig!J1703,LEN(StoreConfig!J1703)-FIND(\"|\",StoreConfig!J1703)),\"\")","v":""},{"$f":"IFERROR(VLOOKUP(--IF($B$2=StoreConfig!C1703,LEFT(StoreConfig!J1703,FIND(\"|\",StoreConfig!J1703)-1),\"\"),$Q$4:$R$20,2,FALSE),\"\")","v":""},{"$f":"IF($B$2=StoreConfig!C1703,LEFT(StoreConfig!G1703,FIND(\"#\",StoreConfig!G1703)-1),\"\")","v":""},{"$f":"IF($B$2=StoreConfig!C1703,RIGHT(StoreConfig!G1703,LEN(StoreConfig!G1703)-FIND(\"#\",StoreConfig!G1703)),\"\")","v":""},{"$f":"IF($B$2=StoreConfig!C1703,IF(StoreConfig!L1703=0,\"不限购\",StoreConfig!L1703&\"次\"),\"\")","v":""}]
[{"$nulls":3},{"$f":"IF($B$2=StoreConfig!C1704,StoreConfig!O1704,\"\")","v":""},{"$f":"IF($B$2=StoreConfig!C1704,StoreConfig!E1704,\"\")","v":""},{"$f":"IF($B$2=StoreConfig!C1704,RIGHT(StoreConfig!J1704,LEN(StoreConfig!J1704)-FIND(\"|\",StoreConfig!J1704)),\"\")","v":""},{"$f":"IFERROR(VLOOKUP(--IF($B$2=StoreConfig!C1704,LEFT(StoreConfig!J1704,FIND(\"|\",StoreConfig!J1704)-1),\"\"),$Q$4:$R$20,2,FALSE),\"\")","v":""},{"$f":"IF($B$2=StoreConfig!C1704,LEFT(StoreConfig!G1704,FIND(\"#\",StoreConfig!G1704)-1),\"\")","v":""},{"$f":"IF($B$2=StoreConfig!C1704,RIGHT(StoreConfig!G1704,LEN(StoreConfig!G1704)-FIND(\"#\",StoreConfig!G1704)),\"\")","v":""},{"$f":"IF($B$2=StoreConfig!C1704,IF(StoreConfig!L1704=0,\"不限购\",StoreConfig!L1704&\"次\"),\"\")","v":""}]
[{"$nulls":3},{"$f":"IF($B$2=StoreConfig!C1705,StoreConfig!O1705,\"\")","v":""},{"$f":"IF($B$2=StoreConfig!C1705,StoreConfig!E1705,\"\")","v":""},{"$f":"IF($B$2=StoreConfig!C1705,RIGHT(StoreConfig!J1705,LEN(StoreConfig!J1705)-FIND(\"|\",StoreConfig!J1705)),\"\")","v":""},{"$f":"IFERROR(VLOOKUP(--IF($B$2=StoreConfig!C1705,LEFT(StoreConfig!J1705,FIND(\"|\",StoreConfig!J1705)-1),\"\"),$Q$4:$R$20,2,FALSE),\"\")","v":""},{"$f":"IF($B$2=StoreConfig!C1705,LEFT(StoreConfig!G1705,FIND(\"#\",StoreConfig!G1705)-1),\"\")","v":""},{"$f":"IF($B$2=StoreConfig!C1705,RIGHT(StoreConfig!G1705,LEN(StoreConfig!G1705)-FIND(\"#\",StoreConfig!G1705)),\"\")","v":""},{"$f":"IF($B$2=StoreConfig!C1705,IF(StoreConfig!L1705=0,\"不限购\",StoreConfig!L1705&\"次\"),\"\")","v":""}]
[{"$nulls":3},{"$f":"IF($B$2=StoreConfig!C1706,StoreConfig!O1706,\"\")","v":""},{"$f":"IF($B$2=StoreConfig!C1706,StoreConfig!E1706,\"\")","v":""},{"$f":"IF($B$2=StoreConfig!C1706,RIGHT(StoreConfig!J1706,LEN(StoreConfig!J1706)-FIND(\"|\",StoreConfig!J1706)),\"\")","v":""},{"$f":"IFERROR(VLOOKUP(--IF($B$2=StoreConfig!C1706,LEFT(StoreConfig!J1706,FIND(\"|\",StoreConfig!J1706)-1),\"\"),$Q$4:$R$20,2,FALSE),\"\")","v":""},{"$f":"IF($B$2=StoreConfig!C1706,LEFT(StoreConfig!G1706,FIND(\"#\",StoreConfig!G1706)-1),\"\")","v":""},{"$f":"IF($B$2=StoreConfig!C1706,RIGHT(StoreConfig!G1706,LEN(StoreConfig!G1706)-FIND(\"#\",StoreConfig!G1706)),\"\")","v":""},{"$f":"IF($B$2=StoreConfig!C1706,IF(StoreConfig!L1706=0,\"不限购\",StoreConfig!L1706&\"次\"),\"\")","v":""}]
[{"$nulls":3},{"$f":"IF($B$2=StoreConfig!C1707,StoreConfig!O1707,\"\")","v":""},{"$f":"IF($B$2=StoreConfig!C1707,StoreConfig!E1707,\"\")","v":""},{"$f":"IF($B$2=StoreConfig!C1707,RIGHT(StoreConfig!J1707,LEN(StoreConfig!J1707)-FIND(\"|\",StoreConfig!J1707)),\"\")","v":""},{"$f":"IFERROR(VLOOKUP(--IF($B$2=StoreConfig!C1707,LEFT(StoreConfig!J1707,FIND(\"|\",StoreConfig!J1707)-1),\"\"),$Q$4:$R$20,2,FALSE),\"\")","v":""},{"$f":"IF($B$2=StoreConfig!C1707,LEFT(StoreConfig!G1707,FIND(\"#\",StoreConfig!G1707)-1),\"\")","v":""},{"$f":"IF($B$2=StoreConfig!C1707,RIGHT(StoreConfig!G1707,LEN(StoreConfig!G1707)-FIND(\"#\",StoreConfig!G1707)),\"\")","v":""},{"$f":"IF($B$2=StoreConfig!C1707,IF(StoreConfig!L1707=0,\"不限购\",StoreConfig!L1707&\"次\"),\"\")","v":""}]
[{"$nulls":3},{"$f":"IF($B$2=StoreConfig!C1708,StoreConfig!O1708,\"\")","v":""},{"$f":"IF($B$2=StoreConfig!C1708,StoreConfig!E1708,\"\")","v":""},{"$f":"IF($B$2=StoreConfig!C1708,RIGHT(StoreConfig!J1708,LEN(StoreConfig!J1708)-FIND(\"|\",StoreConfig!J1708)),\"\")","v":""},{"$f":"IFERROR(VLOOKUP(--IF($B$2=StoreConfig!C1708,LEFT(StoreConfig!J1708,FIND(\"|\",StoreConfig!J1708)-1),\"\"),$Q$4:$R$20,2,FALSE),\"\")","v":""},{"$f":"IF($B$2=StoreConfig!C1708,LEFT(StoreConfig!G1708,FIND(\"#\",StoreConfig!G1708)-1),\"\")","v":""},{"$f":"IF($B$2=StoreConfig!C1708,RIGHT(StoreConfig!G1708,LEN(StoreConfig!G1708)-FIND(\"#\",StoreConfig!G1708)),\"\")","v":""},{"$f":"IF($B$2=StoreConfig!C1708,IF(StoreConfig!L1708=0,\"不限购\",StoreConfig!L1708&\"次\"),\"\")","v":""}]
[{"$nulls":3},{"$f":"IF($B$2=StoreConfig!C1709,StoreConfig!O1709,\"\")","v":""},{"$f":"IF($B$2=StoreConfig!C1709,StoreConfig!E1709,\"\")","v":""},{"$f":"IF($B$2=StoreConfig!C1709,RIGHT(StoreConfig!J1709,LEN(StoreConfig!J1709)-FIND(\"|\",StoreConfig!J1709)),\"\")","v":""},{"$f":"IFERROR(VLOOKUP(--IF($B$2=StoreConfig!C1709,LEFT(StoreConfig!J1709,FIND(\"|\",StoreConfig!J1709)-1),\"\"),$Q$4:$R$20,2,FALSE),\"\")","v":""},{"$f":"IF($B$2=StoreConfig!C1709,LEFT(StoreConfig!G1709,FIND(\"#\",StoreConfig!G1709)-1),\"\")","v":""},{"$f":"IF($B$2=StoreConfig!C1709,RIGHT(StoreConfig!G1709,LEN(StoreConfig!G1709)-FIND(\"#\",StoreConfig!G1709)),\"\")","v":""},{"$f":"IF($B$2=StoreConfig!C1709,IF(StoreConfig!L1709=0,\"不限购\",StoreConfig!L1709&\"次\"),\"\")","v":""}]
[{"$nulls":3},{"$f":"IF($B$2=StoreConfig!C1710,StoreConfig!O1710,\"\")","v":""},{"$f":"IF($B$2=StoreConfig!C1710,StoreConfig!E1710,\"\")","v":""},{"$f":"IF($B$2=StoreConfig!C1710,RIGHT(StoreConfig!J1710,LEN(StoreConfig!J1710)-FIND(\"|\",StoreConfig!J1710)),\"\")","v":""},{"$f":"IFERROR(VLOOKUP(--IF($B$2=StoreConfig!C1710,LEFT(StoreConfig!J1710,FIND(\"|\",StoreConfig!J1710)-1),\"\"),$Q$4:$R$20,2,FALSE),\"\")","v":""},{"$f":"IF($B$2=StoreConfig!C1710,LEFT(StoreConfig!G1710,FIND(\"#\",StoreConfig!G1710)-1),\"\")","v":""},{"$f":"IF($B$2=StoreConfig!C1710,RIGHT(StoreConfig!G1710,LEN(StoreConfig!G1710)-FIND(\"#\",StoreConfig!G1710)),\"\")","v":""},{"$f":"IF($B$2=StoreConfig!C1710,IF(StoreConfig!L1710=0,\"不限购\",StoreConfig!L1710&\"次\"),\"\")","v":""}]
[{"$nulls":3},{"$f":"IF($B$2=StoreConfig!C1711,StoreConfig!O1711,\"\")","v":""},{"$f":"IF($B$2=StoreConfig!C1711,StoreConfig!E1711,\"\")","v":""},{"$f":"IF($B$2=StoreConfig!C1711,RIGHT(StoreConfig!J1711,LEN(StoreConfig!J1711)-FIND(\"|\",StoreConfig!J1711)),\"\")","v":""},{"$f":"IFERROR(VLOOKUP(--IF($B$2=StoreConfig!C1711,LEFT(StoreConfig!J1711,FIND(\"|\",StoreConfig!J1711)-1),\"\"),$Q$4:$R$20,2,FALSE),\"\")","v":""},{"$f":"IF($B$2=StoreConfig!C1711,LEFT(StoreConfig!G1711,FIND(\"#\",StoreConfig!G1711)-1),\"\")","v":""},{"$f":"IF($B$2=StoreConfig!C1711,RIGHT(StoreConfig!G1711,LEN(StoreConfig!G1711)-FIND(\"#\",StoreConfig!G1711)),\"\")","v":""},{"$f":"IF($B$2=StoreConfig!C1711,IF(StoreConfig!L1711=0,\"不限购\",StoreConfig!L1711&\"次\"),\"\")","v":""}]
[{"$nulls":3},{"$f":"IF($B$2=StoreConfig!C1712,StoreConfig!O1712,\"\")","v":""},{"$f":"IF($B$2=StoreConfig!C1712,StoreConfig!E1712,\"\")","v":""},{"$f":"IF($B$2=StoreConfig!C1712,RIGHT(StoreConfig!J1712,LEN(StoreConfig!J1712)-FIND(\"|\",StoreConfig!J1712)),\"\")","v":""},{"$f":"IFERROR(VLOOKUP(--IF($B$2=StoreConfig!C1712,LEFT(StoreConfig!J1712,FIND(\"|\",StoreConfig!J1712)-1),\"\"),$Q$4:$R$20,2,FALSE),\"\")","v":""},{"$f":"IF($B$2=StoreConfig!C1712,LEFT(StoreConfig!G1712,FIND(\"#\",StoreConfig!G1712)-1),\"\")","v":""},{"$f":"IF($B$2=StoreConfig!C1712,RIGHT(StoreConfig!G1712,LEN(StoreConfig!G1712)-FIND(\"#\",StoreConfig!G1712)),\"\")","v":""},{"$f":"IF($B$2=StoreConfig!C1712,IF(StoreConfig!L1712=0,\"不限购\",StoreConfig!L1712&\"次\"),\"\")","v":""}]
[{"$nulls":3},{"$f":"IF($B$2=StoreConfig!C1713,StoreConfig!O1713,\"\")","v":""},{"$f":"IF($B$2=StoreConfig!C1713,StoreConfig!E1713,\"\")","v":""},{"$f":"IF($B$2=StoreConfig!C1713,RIGHT(StoreConfig!J1713,LEN(StoreConfig!J1713)-FIND(\"|\",StoreConfig!J1713)),\"\")","v":""},{"$f":"IFERROR(VLOOKUP(--IF($B$2=StoreConfig!C1713,LEFT(StoreConfig!J1713,FIND(\"|\",StoreConfig!J1713)-1),\"\"),$Q$4:$R$20,2,FALSE),\"\")","v":""},{"$f":"IF($B$2=StoreConfig!C1713,LEFT(StoreConfig!G1713,FIND(\"#\",StoreConfig!G1713)-1),\"\")","v":""},{"$f":"IF($B$2=StoreConfig!C1713,RIGHT(StoreConfig!G1713,LEN(StoreConfig!G1713)-FIND(\"#\",StoreConfig!G1713)),\"\")","v":""},{"$f":"IF($B$2=StoreConfig!C1713,IF(StoreConfig!L1713=0,\"不限购\",StoreConfig!L1713&\"次\"),\"\")","v":""}]
[{"$nulls":3},{"$f":"IF($B$2=StoreConfig!C1714,StoreConfig!O1714,\"\")","v":""},{"$f":"IF($B$2=StoreConfig!C1714,StoreConfig!E1714,\"\")","v":""},{"$f":"IF($B$2=StoreConfig!C1714,RIGHT(StoreConfig!J1714,LEN(StoreConfig!J1714)-FIND(\"|\",StoreConfig!J1714)),\"\")","v":""},{"$f":"IFERROR(VLOOKUP(--IF($B$2=StoreConfig!C1714,LEFT(StoreConfig!J1714,FIND(\"|\",StoreConfig!J1714)-1),\"\"),$Q$4:$R$20,2,FALSE),\"\")","v":""},{"$f":"IF($B$2=StoreConfig!C1714,LEFT(StoreConfig!G1714,FIND(\"#\",StoreConfig!G1714)-1),\"\")","v":""},{"$f":"IF($B$2=StoreConfig!C1714,RIGHT(StoreConfig!G1714,LEN(StoreConfig!G1714)-FIND(\"#\",StoreConfig!G1714)),\"\")","v":""},{"$f":"IF($B$2=StoreConfig!C1714,IF(StoreConfig!L1714=0,\"不限购\",StoreConfig!L1714&\"次\"),\"\")","v":""}]
[{"$nulls":3},{"$f":"IF($B$2=StoreConfig!C1715,StoreConfig!O1715,\"\")","v":""},{"$f":"IF($B$2=StoreConfig!C1715,StoreConfig!E1715,\"\")","v":""},{"$f":"IF($B$2=StoreConfig!C1715,RIGHT(StoreConfig!J1715,LEN(StoreConfig!J1715)-FIND(\"|\",StoreConfig!J1715)),\"\")","v":""},{"$f":"IFERROR(VLOOKUP(--IF($B$2=StoreConfig!C1715,LEFT(StoreConfig!J1715,FIND(\"|\",StoreConfig!J1715)-1),\"\"),$Q$4:$R$20,2,FALSE),\"\")","v":""},{"$f":"IF($B$2=StoreConfig!C1715,LEFT(StoreConfig!G1715,FIND(\"#\",StoreConfig!G1715)-1),\"\")","v":""},{"$f":"IF($B$2=StoreConfig!C1715,RIGHT(StoreConfig!G1715,LEN(StoreConfig!G1715)-FIND(\"#\",StoreConfig!G1715)),\"\")","v":""},{"$f":"IF($B$2=StoreConfig!C1715,IF(StoreConfig!L1715=0,\"不限购\",StoreConfig!L1715&\"次\"),\"\")","v":""}]
[{"$nulls":3},{"$f":"IF($B$2=StoreConfig!C1716,StoreConfig!O1716,\"\")","v":""},{"$f":"IF($B$2=StoreConfig!C1716,StoreConfig!E1716,\"\")","v":""},{"$f":"IF($B$2=StoreConfig!C1716,RIGHT(StoreConfig!J1716,LEN(StoreConfig!J1716)-FIND(\"|\",StoreConfig!J1716)),\"\")","v":""},{"$f":"IFERROR(VLOOKUP(--IF($B$2=StoreConfig!C1716,LEFT(StoreConfig!J1716,FIND(\"|\",StoreConfig!J1716)-1),\"\"),$Q$4:$R$20,2,FALSE),\"\")","v":""},{"$f":"IF($B$2=StoreConfig!C1716,LEFT(StoreConfig!G1716,FIND(\"#\",StoreConfig!G1716)-1),\"\")","v":""},{"$f":"IF($B$2=StoreConfig!C1716,RIGHT(StoreConfig!G1716,LEN(StoreConfig!G1716)-FIND(\"#\",StoreConfig!G1716)),\"\")","v":""},{"$f":"IF($B$2=StoreConfig!C1716,IF(StoreConfig!L1716=0,\"不限购\",StoreConfig!L1716&\"次\"),\"\")","v":""}]
[{"$nulls":3},{"$f":"IF($B$2=StoreConfig!C1717,StoreConfig!O1717,\"\")","v":""},{"$f":"IF($B$2=StoreConfig!C1717,StoreConfig!E1717,\"\")","v":""},{"$f":"IF($B$2=StoreConfig!C1717,RIGHT(StoreConfig!J1717,LEN(StoreConfig!J1717)-FIND(\"|\",StoreConfig!J1717)),\"\")","v":""},{"$f":"IFERROR(VLOOKUP(--IF($B$2=StoreConfig!C1717,LEFT(StoreConfig!J1717,FIND(\"|\",StoreConfig!J1717)-1),\"\"),$Q$4:$R$20,2,FALSE),\"\")","v":""},{"$f":"IF($B$2=StoreConfig!C1717,LEFT(StoreConfig!G1717,FIND(\"#\",StoreConfig!G1717)-1),\"\")","v":""},{"$f":"IF($B$2=StoreConfig!C1717,RIGHT(StoreConfig!G1717,LEN(StoreConfig!G1717)-FIND(\"#\",StoreConfig!G1717)),\"\")","v":""},{"$f":"IF($B$2=StoreConfig!C1717,IF(StoreConfig!L1717=0,\"不限购\",StoreConfig!L1717&\"次\"),\"\")","v":""}]
[{"$nulls":3},{"$f":"IF($B$2=StoreConfig!C1718,StoreConfig!O1718,\"\")","v":""},{"$f":"IF($B$2=StoreConfig!C1718,StoreConfig!E1718,\"\")","v":""},{"$f":"IF($B$2=StoreConfig!C1718,RIGHT(StoreConfig!J1718,LEN(StoreConfig!J1718)-FIND(\"|\",StoreConfig!J1718)),\"\")","v":""},{"$f":"IFERROR(VLOOKUP(--IF($B$2=StoreConfig!C1718,LEFT(StoreConfig!J1718,FIND(\"|\",StoreConfig!J1718)-1),\"\"),$Q$4:$R$20,2,FALSE),\"\")","v":""},{"$f":"IF($B$2=StoreConfig!C1718,LEFT(StoreConfig!G1718,FIND(\"#\",StoreConfig!G1718)-1),\"\")","v":""},{"$f":"IF($B$2=StoreConfig!C1718,RIGHT(StoreConfig!G1718,LEN(StoreConfig!G1718)-FIND(\"#\",StoreConfig!G1718)),\"\")","v":""},{"$f":"IF($B$2=StoreConfig!C1718,IF(StoreConfig!L1718=0,\"不限购\",StoreConfig!L1718&\"次\"),\"\")","v":""}]
[{"$nulls":3},{"$f":"IF($B$2=StoreConfig!C1719,StoreConfig!O1719,\"\")","v":""},{"$f":"IF($B$2=StoreConfig!C1719,StoreConfig!E1719,\"\")","v":""},{"$f":"IF($B$2=StoreConfig!C1719,RIGHT(StoreConfig!J1719,LEN(StoreConfig!J1719)-FIND(\"|\",StoreConfig!J1719)),\"\")","v":""},{"$f":"IFERROR(VLOOKUP(--IF($B$2=StoreConfig!C1719,LEFT(StoreConfig!J1719,FIND(\"|\",StoreConfig!J1719)-1),\"\"),$Q$4:$R$20,2,FALSE),\"\")","v":""},{"$f":"IF($B$2=StoreConfig!C1719,LEFT(StoreConfig!G1719,FIND(\"#\",StoreConfig!G1719)-1),\"\")","v":""},{"$f":"IF($B$2=StoreConfig!C1719,RIGHT(StoreConfig!G1719,LEN(StoreConfig!G1719)-FIND(\"#\",StoreConfig!G1719)),\"\")","v":""},{"$f":"IF($B$2=StoreConfig!C1719,IF(StoreConfig!L1719=0,\"不限购\",StoreConfig!L1719&\"次\"),\"\")","v":""}]
[{"$nulls":3},{"$f":"IF($B$2=StoreConfig!C1720,StoreConfig!O1720,\"\")","v":""},{"$f":"IF($B$2=StoreConfig!C1720,StoreConfig!E1720,\"\")","v":""},{"$f":"IF($B$2=StoreConfig!C1720,RIGHT(StoreConfig!J1720,LEN(StoreConfig!J1720)-FIND(\"|\",StoreConfig!J1720)),\"\")","v":""},{"$f":"IFERROR(VLOOKUP(--IF($B$2=StoreConfig!C1720,LEFT(StoreConfig!J1720,FIND(\"|\",StoreConfig!J1720)-1),\"\"),$Q$4:$R$20,2,FALSE),\"\")","v":""},{"$f":"IF($B$2=StoreConfig!C1720,LEFT(StoreConfig!G1720,FIND(\"#\",StoreConfig!G1720)-1),\"\")","v":""},{"$f":"IF($B$2=StoreConfig!C1720,RIGHT(StoreConfig!G1720,LEN(StoreConfig!G1720)-FIND(\"#\",StoreConfig!G1720)),\"\")","v":""},{"$f":"IF($B$2=StoreConfig!C1720,IF(StoreConfig!L1720=0,\"不限购\",StoreConfig!L1720&\"次\"),\"\")","v":""}]
[{"$nulls":3},{"$f":"IF($B$2=StoreConfig!C1721,StoreConfig!O1721,\"\")","v":""},{"$f":"IF($B$2=StoreConfig!C1721,StoreConfig!E1721,\"\")","v":""},{"$f":"IF($B$2=StoreConfig!C1721,RIGHT(StoreConfig!J1721,LEN(StoreConfig!J1721)-FIND(\"|\",StoreConfig!J1721)),\"\")","v":""},{"$f":"IFERROR(VLOOKUP(--IF($B$2=StoreConfig!C1721,LEFT(StoreConfig!J1721,FIND(\"|\",StoreConfig!J1721)-1),\"\"),$Q$4:$R$20,2,FALSE),\"\")","v":""},{"$f":"IF($B$2=StoreConfig!C1721,LEFT(StoreConfig!G1721,FIND(\"#\",StoreConfig!G1721)-1),\"\")","v":""},{"$f":"IF($B$2=StoreConfig!C1721,RIGHT(StoreConfig!G1721,LEN(StoreConfig!G1721)-FIND(\"#\",StoreConfig!G1721)),\"\")","v":""},{"$f":"IF($B$2=StoreConfig!C1721,IF(StoreConfig!L1721=0,\"不限购\",StoreConfig!L1721&\"次\"),\"\")","v":""}]
[{"$nulls":3},{"$f":"IF($B$2=StoreConfig!C1722,StoreConfig!O1722,\"\")","v":""},{"$f":"IF($B$2=StoreConfig!C1722,StoreConfig!E1722,\"\")","v":""},{"$f":"IF($B$2=StoreConfig!C1722,RIGHT(StoreConfig!J1722,LEN(StoreConfig!J1722)-FIND(\"|\",StoreConfig!J1722)),\"\")","v":""},{"$f":"IFERROR(VLOOKUP(--IF($B$2=StoreConfig!C1722,LEFT(StoreConfig!J1722,FIND(\"|\",StoreConfig!J1722)-1),\"\"),$Q$4:$R$20,2,FALSE),\"\")","v":""},{"$f":"IF($B$2=StoreConfig!C1722,LEFT(StoreConfig!G1722,FIND(\"#\",StoreConfig!G1722)-1),\"\")","v":""},{"$f":"IF($B$2=StoreConfig!C1722,RIGHT(StoreConfig!G1722,LEN(StoreConfig!G1722)-FIND(\"#\",StoreConfig!G1722)),\"\")","v":""},{"$f":"IF($B$2=StoreConfig!C1722,IF(StoreConfig!L1722=0,\"不限购\",StoreConfig!L1722&\"次\"),\"\")","v":""}]
[{"$nulls":3},{"$f":"IF($B$2=StoreConfig!C1723,StoreConfig!O1723,\"\")","v":""},{"$f":"IF($B$2=StoreConfig!C1723,StoreConfig!E1723,\"\")","v":""},{"$f":"IF($B$2=StoreConfig!C1723,RIGHT(StoreConfig!J1723,LEN(StoreConfig!J1723)-FIND(\"|\",StoreConfig!J1723)),\"\")","v":""},{"$f":"IFERROR(VLOOKUP(--IF($B$2=StoreConfig!C1723,LEFT(StoreConfig!J1723,FIND(\"|\",StoreConfig!J1723)-1),\"\"),$Q$4:$R$20,2,FALSE),\"\")","v":""},{"$f":"IF($B$2=StoreConfig!C1723,LEFT(StoreConfig!G1723,FIND(\"#\",StoreConfig!G1723)-1),\"\")","v":""},{"$f":"IF($B$2=StoreConfig!C1723,RIGHT(StoreConfig!G1723,LEN(StoreConfig!G1723)-FIND(\"#\",StoreConfig!G1723)),\"\")","v":""},{"$f":"IF($B$2=StoreConfig!C1723,IF(StoreConfig!L1723=0,\"不限购\",StoreConfig!L1723&\"次\"),\"\")","v":""}]
[{"$nulls":3},{"$f":"IF($B$2=StoreConfig!C1724,StoreConfig!O1724,\"\")","v":""},{"$f":"IF($B$2=StoreConfig!C1724,StoreConfig!E1724,\"\")","v":""},{"$f":"IF($B$2=StoreConfig!C1724,RIGHT(StoreConfig!J1724,LEN(StoreConfig!J1724)-FIND(\"|\",StoreConfig!J1724)),\"\")","v":""},{"$f":"IFERROR(VLOOKUP(--IF($B$2=StoreConfig!C1724,LEFT(StoreConfig!J1724,FIND(\"|\",StoreConfig!J1724)-1),\"\"),$Q$4:$R$20,2,FALSE),\"\")","v":""},{"$f":"IF($B$2=StoreConfig!C1724,LEFT(StoreConfig!G1724,FIND(\"#\",StoreConfig!G1724)-1),\"\")","v":""},{"$f":"IF($B$2=StoreConfig!C1724,RIGHT(StoreConfig!G1724,LEN(StoreConfig!G1724)-FIND(\"#\",StoreConfig!G1724)),\"\")","v":""},{"$f":"IF($B$2=StoreConfig!C1724,IF(StoreConfig!L1724=0,\"不限购\",StoreConfig!L1724&\"次\"),\"\")","v":""}]
[{"$nulls":3},{"$f":"IF($B$2=StoreConfig!C1725,StoreConfig!O1725,\"\")","v":""},{"$f":"IF($B$2=StoreConfig!C1725,StoreConfig!E1725,\"\")","v":""},{"$f":"IF($B$2=StoreConfig!C1725,RIGHT(StoreConfig!J1725,LEN(StoreConfig!J1725)-FIND(\"|\",StoreConfig!J1725)),\"\")","v":""},{"$f":"IFERROR(VLOOKUP(--IF($B$2=StoreConfig!C1725,LEFT(StoreConfig!J1725,FIND(\"|\",StoreConfig!J1725)-1),\"\"),$Q$4:$R$20,2,FALSE),\"\")","v":""},{"$f":"IF($B$2=StoreConfig!C1725,LEFT(StoreConfig!G1725,FIND(\"#\",StoreConfig!G1725)-1),\"\")","v":""},{"$f":"IF($B$2=StoreConfig!C1725,RIGHT(StoreConfig!G1725,LEN(StoreConfig!G1725)-FIND(\"#\",StoreConfig!G1725)),\"\")","v":""},{"$f":"IF($B$2=StoreConfig!C1725,IF(StoreConfig!L1725=0,\"不限购\",StoreConfig!L1725&\"次\"),\"\")","v":""}]
[{"$nulls":3},{"$f":"IF($B$2=StoreConfig!C1726,StoreConfig!O1726,\"\")","v":"混沌商店"},{"$f":"IF($B$2=StoreConfig!C1726,StoreConfig!E1726,\"\")","v":1},{"$f":"IF($B$2=StoreConfig!C1726,RIGHT(StoreConfig!#REF!,LEN(StoreConfig!#REF!)-FIND(\"|\",StoreConfig!#REF!)),\"\")","v":{"$error":"#REF!"}},{"$f":"IFERROR(VLOOKUP(--IF($B$2=StoreConfig!C1726,LEFT(StoreConfig!#REF!,FIND(\"|\",StoreConfig!#REF!)-1),\"\"),$Q$4:$R$20,2,FALSE),\"\")","v":""},{"$f":"IF($B$2=StoreConfig!C1726,LEFT(StoreConfig!G1726,FIND(\"#\",StoreConfig!G1726)-1),\"\")","v":"1"},{"$f":"IF($B$2=StoreConfig!C1726,RIGHT(StoreConfig!G1726,LEN(StoreConfig!G1726)-FIND(\"#\",StoreConfig!G1726)),\"\")","v":"300"},{"$f":"IF($B$2=StoreConfig!C1726,IF(StoreConfig!L1726=0,\"不限购\",StoreConfig!L1726&\"次\"),\"\")","v":"不限购"}]
[{"$nulls":3},{"$f":"IF($B$2=StoreConfig!C1727,StoreConfig!O1727,\"\")","v":""},{"$f":"IF($B$2=StoreConfig!C1727,StoreConfig!E1727,\"\")","v":""},{"$f":"IF($B$2=StoreConfig!C1727,RIGHT(StoreConfig!#REF!,LEN(StoreConfig!#REF!)-FIND(\"|\",StoreConfig!#REF!)),\"\")","v":""},{"$f":"IFERROR(VLOOKUP(--IF($B$2=StoreConfig!C1727,LEFT(StoreConfig!#REF!,FIND(\"|\",StoreConfig!#REF!)-1),\"\"),$Q$4:$R$20,2,FALSE),\"\")","v":""},{"$f":"IF($B$2=StoreConfig!C1727,LEFT(StoreConfig!G1727,FIND(\"#\",StoreConfig!G1727)-1),\"\")","v":""},{"$f":"IF($B$2=StoreConfig!C1727,RIGHT(StoreConfig!G1727,LEN(StoreConfig!G1727)-FIND(\"#\",StoreConfig!G1727)),\"\")","v":""},{"$f":"IF($B$2=StoreConfig!C1727,IF(StoreConfig!L1727=0,\"不限购\",StoreConfig!L1727&\"次\"),\"\")","v":""}]
[{"$nulls":3},{"$f":"IF($B$2=StoreConfig!C1728,StoreConfig!O1728,\"\")","v":""},{"$f":"IF($B$2=StoreConfig!C1728,StoreConfig!E1728,\"\")","v":""},{"$f":"IF($B$2=StoreConfig!C1728,RIGHT(StoreConfig!#REF!,LEN(StoreConfig!#REF!)-FIND(\"|\",StoreConfig!#REF!)),\"\")","v":""},{"$f":"IFERROR(VLOOKUP(--IF($B$2=StoreConfig!C1728,LEFT(StoreConfig!#REF!,FIND(\"|\",StoreConfig!#REF!)-1),\"\"),$Q$4:$R$20,2,FALSE),\"\")","v":""},{"$f":"IF($B$2=StoreConfig!C1728,LEFT(StoreConfig!G1728,FIND(\"#\",StoreConfig!G1728)-1),\"\")","v":""},{"$f":"IF($B$2=StoreConfig!C1728,RIGHT(StoreConfig!G1728,LEN(StoreConfig!G1728)-FIND(\"#\",StoreConfig!G1728)),\"\")","v":""},{"$f":"IF($B$2=StoreConfig!C1728,IF(StoreConfig!L1728=0,\"不限购\",StoreConfig!L1728&\"次\"),\"\")","v":""}]
[{"$nulls":3},{"$f":"IF($B$2=StoreConfig!C1729,StoreConfig!O1729,\"\")","v":""},{"$f":"IF($B$2=StoreConfig!C1729,StoreConfig!E1729,\"\")","v":""},{"$f":"IF($B$2=StoreConfig!C1729,RIGHT(StoreConfig!#REF!,LEN(StoreConfig!#REF!)-FIND(\"|\",StoreConfig!#REF!)),\"\")","v":""},{"$f":"IFERROR(VLOOKUP(--IF($B$2=StoreConfig!C1729,LEFT(StoreConfig!#REF!,FIND(\"|\",StoreConfig!#REF!)-1),\"\"),$Q$4:$R$20,2,FALSE),\"\")","v":""},{"$f":"IF($B$2=StoreConfig!C1729,LEFT(StoreConfig!G1729,FIND(\"#\",StoreConfig!G1729)-1),\"\")","v":""},{"$f":"IF($B$2=StoreConfig!C1729,RIGHT(StoreConfig!G1729,LEN(StoreConfig!G1729)-FIND(\"#\",StoreConfig!G1729)),\"\")","v":""},{"$f":"IF($B$2=StoreConfig!C1729,IF(StoreConfig!L1729=0,\"不限购\",StoreConfig!L1729&\"次\"),\"\")","v":""}]
[{"$nulls":3},{"$f":"IF($B$2=StoreConfig!C1730,StoreConfig!O1730,\"\")","v":""},{"$f":"IF($B$2=StoreConfig!C1730,StoreConfig!E1730,\"\")","v":""},{"$f":"IF($B$2=StoreConfig!C1730,RIGHT(StoreConfig!#REF!,LEN(StoreConfig!#REF!)-FIND(\"|\",StoreConfig!#REF!)),\"\")","v":""},{"$f":"IFERROR(VLOOKUP(--IF($B$2=StoreConfig!C1730,LEFT(StoreConfig!#REF!,FIND(\"|\",StoreConfig!#REF!)-1),\"\"),$Q$4:$R$20,2,FALSE),\"\")","v":""},{"$f":"IF($B$2=StoreConfig!C1730,LEFT(StoreConfig!G1730,FIND(\"#\",StoreConfig!G1730)-1),\"\")","v":""},{"$f":"IF($B$2=StoreConfig!C1730,RIGHT(StoreConfig!G1730,LEN(StoreConfig!G1730)-FIND(\"#\",StoreConfig!G1730)),\"\")","v":""},{"$f":"IF($B$2=StoreConfig!C1730,IF(StoreConfig!L1730=0,\"不限购\",StoreConfig!L1730&\"次\"),\"\")","v":""}]
[{"$nulls":3},{"$f":"IF($B$2=StoreConfig!C1731,StoreConfig!O1731,\"\")","v":""},{"$f":"IF($B$2=StoreConfig!C1731,StoreConfig!E1731,\"\")","v":""},{"$f":"IF($B$2=StoreConfig!C1731,RIGHT(StoreConfig!#REF!,LEN(StoreConfig!#REF!)-FIND(\"|\",StoreConfig!#REF!)),\"\")","v":""},{"$f":"IFERROR(VLOOKUP(--IF($B$2=StoreConfig!C1731,LEFT(StoreConfig!#REF!,FIND(\"|\",StoreConfig!#REF!)-1),\"\"),$Q$4:$R$20,2,FALSE),\"\")","v":""},{"$f":"IF($B$2=StoreConfig!C1731,LEFT(StoreConfig!G1731,FIND(\"#\",StoreConfig!G1731)-1),\"\")","v":""},{"$f":"IF($B$2=StoreConfig!C1731,RIGHT(StoreConfig!G1731,LEN(StoreConfig!G1731)-FIND(\"#\",StoreConfig!G1731)),\"\")","v":""},{"$f":"IF($B$2=StoreConfig!C1731,IF(StoreConfig!L1731=0,\"不限购\",StoreConfig!L1731&\"次\"),\"\")","v":""}]
[{"$nulls":3},{"$f":"IF($B$2=StoreConfig!C1732,StoreConfig!O1732,\"\")","v":""},{"$f":"IF($B$2=StoreConfig!C1732,StoreConfig!E1732,\"\")","v":""},{"$f":"IF($B$2=StoreConfig!C1732,RIGHT(StoreConfig!#REF!,LEN(StoreConfig!#REF!)-FIND(\"|\",StoreConfig!#REF!)),\"\")","v":""},{"$f":"IFERROR(VLOOKUP(--IF($B$2=StoreConfig!C1732,LEFT(StoreConfig!#REF!,FIND(\"|\",StoreConfig!#REF!)-1),\"\"),$Q$4:$R$20,2,FALSE),\"\")","v":""},{"$f":"IF($B$2=StoreConfig!C1732,LEFT(StoreConfig!G1732,FIND(\"#\",StoreConfig!G1732)-1),\"\")","v":""},{"$f":"IF($B$2=StoreConfig!C1732,RIGHT(StoreConfig!G1732,LEN(StoreConfig!G1732)-FIND(\"#\",StoreConfig!G1732)),\"\")","v":""},{"$f":"IF($B$2=StoreConfig!C1732,IF(StoreConfig!L1732=0,\"不限购\",StoreConfig!L1732&\"次\"),\"\")","v":""}]
[{"$nulls":3},{"$f":"IF($B$2=StoreConfig!C1733,StoreConfig!O1733,\"\")","v":""},{"$f":"IF($B$2=StoreConfig!C1733,StoreConfig!E1733,\"\")","v":""},{"$f":"IF($B$2=StoreConfig!C1733,RIGHT(StoreConfig!#REF!,LEN(StoreConfig!#REF!)-FIND(\"|\",StoreConfig!#REF!)),\"\")","v":""},{"$f":"IFERROR(VLOOKUP(--IF($B$2=StoreConfig!C1733,LEFT(StoreConfig!#REF!,FIND(\"|\",StoreConfig!#REF!)-1),\"\"),$Q$4:$R$20,2,FALSE),\"\")","v":""},{"$f":"IF($B$2=StoreConfig!C1733,LEFT(StoreConfig!G1733,FIND(\"#\",StoreConfig!G1733)-1),\"\")","v":""},{"$f":"IF($B$2=StoreConfig!C1733,RIGHT(StoreConfig!G1733,LEN(StoreConfig!G1733)-FIND(\"#\",StoreConfig!G1733)),\"\")","v":""},{"$f":"IF($B$2=StoreConfig!C1733,IF(StoreConfig!L1733=0,\"不限购\",StoreConfig!L1733&\"次\"),\"\")","v":""}]
[{"$nulls":3},{"$f":"IF($B$2=StoreConfig!C1734,StoreConfig!O1734,\"\")","v":""},{"$f":"IF($B$2=StoreConfig!C1734,StoreConfig!E1734,\"\")","v":""},{"$f":"IF($B$2=StoreConfig!C1734,RIGHT(StoreConfig!#REF!,LEN(StoreConfig!#REF!)-FIND(\"|\",StoreConfig!#REF!)),\"\")","v":""},{"$f":"IFERROR(VLOOKUP(--IF($B$2=StoreConfig!C1734,LEFT(StoreConfig!#REF!,FIND(\"|\",StoreConfig!#REF!)-1),\"\"),$Q$4:$R$20,2,FALSE),\"\")","v":""},{"$f":"IF($B$2=StoreConfig!C1734,LEFT(StoreConfig!G1734,FIND(\"#\",StoreConfig!G1734)-1),\"\")","v":""},{"$f":"IF($B$2=StoreConfig!C1734,RIGHT(StoreConfig!G1734,LEN(StoreConfig!G1734)-FIND(\"#\",StoreConfig!G1734)),\"\")","v":""},{"$f":"IF($B$2=StoreConfig!C1734,IF(StoreConfig!L1734=0,\"不限购\",StoreConfig!L1734&\"次\"),\"\")","v":""}]
[{"$nulls":3},{"$f":"IF($B$2=StoreConfig!C1735,StoreConfig!O1735,\"\")","v":""},{"$f":"IF($B$2=StoreConfig!C1735,StoreConfig!E1735,\"\")","v":""},{"$f":"IF($B$2=StoreConfig!C1735,RIGHT(StoreConfig!J1735,LEN(StoreConfig!J1735)-FIND(\"|\",StoreConfig!J1735)),\"\")","v":""},{"$f":"IFERROR(VLOOKUP(--IF($B$2=StoreConfig!C1735,LEFT(StoreConfig!J1735,FIND(\"|\",StoreConfig!J1735)-1),\"\"),$Q$4:$R$20,2,FALSE),\"\")","v":""},{"$f":"IF($B$2=StoreConfig!C1735,LEFT(StoreConfig!G1735,FIND(\"#\",StoreConfig!G1735)-1),\"\")","v":""},{"$f":"IF($B$2=StoreConfig!C1735,RIGHT(StoreConfig!G1735,LEN(StoreConfig!G1735)-FIND(\"#\",StoreConfig!G1735)),\"\")","v":""},{"$f":"IF($B$2=StoreConfig!C1735,IF(StoreConfig!L1735=0,\"不限购\",StoreConfig!L1735&\"次\"),\"\")","v":""}]
[{"$nulls":3},{"$f":"IF($B$2=StoreConfig!C1736,StoreConfig!O1736,\"\")","v":""},{"$f":"IF($B$2=StoreConfig!C1736,StoreConfig!E1736,\"\")","v":""},{"$f":"IF($B$2=StoreConfig!C1736,RIGHT(StoreConfig!J1736,LEN(StoreConfig!J1736)-FIND(\"|\",StoreConfig!J1736)),\"\")","v":""},{"$f":"IFERROR(VLOOKUP(--IF($B$2=StoreConfig!C1736,LEFT(StoreConfig!J1736,FIND(\"|\",StoreConfig!J1736)-1),\"\"),$Q$4:$R$20,2,FALSE),\"\")","v":""},{"$f":"IF($B$2=StoreConfig!C1736,LEFT(StoreConfig!G1736,FIND(\"#\",StoreConfig!G1736)-1),\"\")","v":""},{"$f":"IF($B$2=StoreConfig!C1736,RIGHT(StoreConfig!G1736,LEN(StoreConfig!G1736)-FIND(\"#\",StoreConfig!G1736)),\"\")","v":""},{"$f":"IF($B$2=StoreConfig!C1736,IF(StoreConfig!L1736=0,\"不限购\",StoreConfig!L1736&\"次\"),\"\")","v":""}]
[{"$nulls":3},{"$f":"IF($B$2=StoreConfig!C1737,StoreConfig!O1737,\"\")","v":""},{"$f":"IF($B$2=StoreConfig!C1737,StoreConfig!E1737,\"\")","v":""},{"$f":"IF($B$2=StoreConfig!C1737,RIGHT(StoreConfig!J1737,LEN(StoreConfig!J1737)-FIND(\"|\",StoreConfig!J1737)),\"\")","v":""},{"$f":"IFERROR(VLOOKUP(--IF($B$2=StoreConfig!C1737,LEFT(StoreConfig!J1737,FIND(\"|\",StoreConfig!J1737)-1),\"\"),$Q$4:$R$20,2,FALSE),\"\")","v":""},{"$f":"IF($B$2=StoreConfig!C1737,LEFT(StoreConfig!G1737,FIND(\"#\",StoreConfig!G1737)-1),\"\")","v":""},{"$f":"IF($B$2=StoreConfig!C1737,RIGHT(StoreConfig!G1737,LEN(StoreConfig!G1737)-FIND(\"#\",StoreConfig!G1737)),\"\")","v":""},{"$f":"IF($B$2=StoreConfig!C1737,IF(StoreConfig!L1737=0,\"不限购\",StoreConfig!L1737&\"次\"),\"\")","v":""}]
[{"$nulls":3},{"$f":"IF($B$2=StoreConfig!C1738,StoreConfig!O1738,\"\")","v":""},{"$f":"IF($B$2=StoreConfig!C1738,StoreConfig!E1738,\"\")","v":""},{"$f":"IF($B$2=StoreConfig!C1738,RIGHT(StoreConfig!J1738,LEN(StoreConfig!J1738)-FIND(\"|\",StoreConfig!J1738)),\"\")","v":""},{"$f":"IFERROR(VLOOKUP(--IF($B$2=StoreConfig!C1738,LEFT(StoreConfig!J1738,FIND(\"|\",StoreConfig!J1738)-1),\"\"),$Q$4:$R$20,2,FALSE),\"\")","v":""},{"$f":"IF($B$2=StoreConfig!C1738,LEFT(StoreConfig!G1738,FIND(\"#\",StoreConfig!G1738)-1),\"\")","v":""},{"$f":"IF($B$2=StoreConfig!C1738,RIGHT(StoreConfig!G1738,LEN(StoreConfig!G1738)-FIND(\"#\",StoreConfig!G1738)),\"\")","v":""},{"$f":"IF($B$2=StoreConfig!C1738,IF(StoreConfig!L1738=0,\"不限购\",StoreConfig!L1738&\"次\"),\"\")","v":""}]
[{"$nulls":3},{"$f":"IF($B$2=StoreConfig!C1739,StoreConfig!O1739,\"\")","v":""},{"$f":"IF($B$2=StoreConfig!C1739,StoreConfig!E1739,\"\")","v":""},{"$f":"IF($B$2=StoreConfig!C1739,RIGHT(StoreConfig!J1739,LEN(StoreConfig!J1739)-FIND(\"|\",StoreConfig!J1739)),\"\")","v":""},{"$f":"IFERROR(VLOOKUP(--IF($B$2=StoreConfig!C1739,LEFT(StoreConfig!J1739,FIND(\"|\",StoreConfig!J1739)-1),\"\"),$Q$4:$R$20,2,FALSE),\"\")","v":""},{"$f":"IF($B$2=StoreConfig!C1739,LEFT(StoreConfig!G1739,FIND(\"#\",StoreConfig!G1739)-1),\"\")","v":""},{"$f":"IF($B$2=StoreConfig!C1739,RIGHT(StoreConfig!G1739,LEN(StoreConfig!G1739)-FIND(\"#\",StoreConfig!G1739)),\"\")","v":""},{"$f":"IF($B$2=StoreConfig!C1739,IF(StoreConfig!L1739=0,\"不限购\",StoreConfig!L1739&\"次\"),\"\")","v":""}]
[{"$nulls":3},{"$f":"IF($B$2=StoreConfig!C1740,StoreConfig!O1740,\"\")","v":""},{"$f":"IF($B$2=StoreConfig!C1740,StoreConfig!E1740,\"\")","v":""},{"$f":"IF($B$2=StoreConfig!C1740,RIGHT(StoreConfig!J1740,LEN(StoreConfig!J1740)-FIND(\"|\",StoreConfig!J1740)),\"\")","v":""},{"$f":"IFERROR(VLOOKUP(--IF($B$2=StoreConfig!C1740,LEFT(StoreConfig!J1740,FIND(\"|\",StoreConfig!J1740)-1),\"\"),$Q$4:$R$20,2,FALSE),\"\")","v":""},{"$f":"IF($B$2=StoreConfig!C1740,LEFT(StoreConfig!G1740,FIND(\"#\",StoreConfig!G1740)-1),\"\")","v":""},{"$f":"IF($B$2=StoreConfig!C1740,RIGHT(StoreConfig!G1740,LEN(StoreConfig!G1740)-FIND(\"#\",StoreConfig!G1740)),\"\")","v":""},{"$f":"IF($B$2=StoreConfig!C1740,IF(StoreConfig!L1740=0,\"不限购\",StoreConfig!L1740&\"次\"),\"\")","v":""}]
[{"$nulls":3},{"$f":"IF($B$2=StoreConfig!C1741,StoreConfig!O1741,\"\")","v":""},{"$f":"IF($B$2=StoreConfig!C1741,StoreConfig!E1741,\"\")","v":""},{"$f":"IF($B$2=StoreConfig!C1741,RIGHT(StoreConfig!J1741,LEN(StoreConfig!J1741)-FIND(\"|\",StoreConfig!J1741)),\"\")","v":""},{"$f":"IFERROR(VLOOKUP(--IF($B$2=StoreConfig!C1741,LEFT(StoreConfig!J1741,FIND(\"|\",StoreConfig!J1741)-1),\"\"),$Q$4:$R$20,2,FALSE),\"\")","v":""},{"$f":"IF($B$2=StoreConfig!C1741,LEFT(StoreConfig!G1741,FIND(\"#\",StoreConfig!G1741)-1),\"\")","v":""},{"$f":"IF($B$2=StoreConfig!C1741,RIGHT(StoreConfig!G1741,LEN(StoreConfig!G1741)-FIND(\"#\",StoreConfig!G1741)),\"\")","v":""},{"$f":"IF($B$2=StoreConfig!C1741,IF(StoreConfig!L1741=0,\"不限购\",StoreConfig!L1741&\"次\"),\"\")","v":""}]
[{"$nulls":3},{"$f":"IF($B$2=StoreConfig!C1742,StoreConfig!O1742,\"\")","v":""},{"$f":"IF($B$2=StoreConfig!C1742,StoreConfig!E1742,\"\")","v":""},{"$f":"IF($B$2=StoreConfig!C1742,RIGHT(StoreConfig!J1742,LEN(StoreConfig!J1742)-FIND(\"|\",StoreConfig!J1742)),\"\")","v":""},{"$f":"IFERROR(VLOOKUP(--IF($B$2=StoreConfig!C1742,LEFT(StoreConfig!J1742,FIND(\"|\",StoreConfig!J1742)-1),\"\"),$Q$4:$R$20,2,FALSE),\"\")","v":""},{"$f":"IF($B$2=StoreConfig!C1742,LEFT(StoreConfig!G1742,FIND(\"#\",StoreConfig!G1742)-1),\"\")","v":""},{"$f":"IF($B$2=StoreConfig!C1742,RIGHT(StoreConfig!G1742,LEN(StoreConfig!G1742)-FIND(\"#\",StoreConfig!G1742)),\"\")","v":""},{"$f":"IF($B$2=StoreConfig!C1742,IF(StoreConfig!L1742=0,\"不限购\",StoreConfig!L1742&\"次\"),\"\")","v":""}]
[{"$nulls":3},{"$f":"IF($B$2=StoreConfig!C1743,StoreConfig!O1743,\"\")","v":""},{"$f":"IF($B$2=StoreConfig!C1743,StoreConfig!E1743,\"\")","v":""},{"$f":"IF($B$2=StoreConfig!C1743,RIGHT(StoreConfig!#REF!,LEN(StoreConfig!#REF!)-FIND(\"|\",StoreConfig!#REF!)),\"\")","v":""},{"$f":"IFERROR(VLOOKUP(--IF($B$2=StoreConfig!C1743,LEFT(StoreConfig!#REF!,FIND(\"|\",StoreConfig!#REF!)-1),\"\"),$Q$4:$R$20,2,FALSE),\"\")","v":""},{"$f":"IF($B$2=StoreConfig!C1743,LEFT(StoreConfig!G1743,FIND(\"#\",StoreConfig!G1743)-1),\"\")","v":""},{"$f":"IF($B$2=StoreConfig!C1743,RIGHT(StoreConfig!G1743,LEN(StoreConfig!G1743)-FIND(\"#\",StoreConfig!G1743)),\"\")","v":""},{"$f":"IF($B$2=StoreConfig!C1743,IF(StoreConfig!L1743=0,\"不限购\",StoreConfig!L1743&\"次\"),\"\")","v":""}]
[{"$nulls":3},{"$f":"IF($B$2=StoreConfig!C1744,StoreConfig!O1744,\"\")","v":""},{"$f":"IF($B$2=StoreConfig!C1744,StoreConfig!E1744,\"\")","v":""},{"$f":"IF($B$2=StoreConfig!C1744,RIGHT(StoreConfig!#REF!,LEN(StoreConfig!#REF!)-FIND(\"|\",StoreConfig!#REF!)),\"\")","v":""},{"$f":"IFERROR(VLOOKUP(--IF($B$2=StoreConfig!C1744,LEFT(StoreConfig!#REF!,FIND(\"|\",StoreConfig!#REF!)-1),\"\"),$Q$4:$R$20,2,FALSE),\"\")","v":""},{"$f":"IF($B$2=StoreConfig!C1744,LEFT(StoreConfig!G1744,FIND(\"#\",StoreConfig!G1744)-1),\"\")","v":""},{"$f":"IF($B$2=StoreConfig!C1744,RIGHT(StoreConfig!G1744,LEN(StoreConfig!G1744)-FIND(\"#\",StoreConfig!G1744)),\"\")","v":""},{"$f":"IF($B$2=StoreConfig!C1744,IF(StoreConfig!L1744=0,\"不限购\",StoreConfig!L1744&\"次\"),\"\")","v":""}]
[{"$nulls":3},{"$f":"IF($B$2=StoreConfig!C1745,StoreConfig!O1745,\"\")","v":""},{"$f":"IF($B$2=StoreConfig!C1745,StoreConfig!E1745,\"\")","v":""},{"$f":"IF($B$2=StoreConfig!C1745,RIGHT(StoreConfig!#REF!,LEN(StoreConfig!#REF!)-FIND(\"|\",StoreConfig!#REF!)),\"\")","v":""},{"$f":"IFERROR(VLOOKUP(--IF($B$2=StoreConfig!C1745,LEFT(StoreConfig!#REF!,FIND(\"|\",StoreConfig!#REF!)-1),\"\"),$Q$4:$R$20,2,FALSE),\"\")","v":""},{"$f":"IF($B$2=StoreConfig!C1745,LEFT(StoreConfig!G1745,FIND(\"#\",StoreConfig!G1745)-1),\"\")","v":""},{"$f":"IF($B$2=StoreConfig!C1745,RIGHT(StoreConfig!G1745,LEN(StoreConfig!G1745)-FIND(\"#\",StoreConfig!G1745)),\"\")","v":""},{"$f":"IF($B$2=StoreConfig!C1745,IF(StoreConfig!L1745=0,\"不限购\",StoreConfig!L1745&\"次\"),\"\")","v":""}]
[{"$nulls":3},{"$f":"IF($B$2=StoreConfig!C1746,StoreConfig!O1746,\"\")","v":""},{"$f":"IF($B$2=StoreConfig!C1746,StoreConfig!E1746,\"\")","v":""},{"$f":"IF($B$2=StoreConfig!C1746,RIGHT(StoreConfig!#REF!,LEN(StoreConfig!#REF!)-FIND(\"|\",StoreConfig!#REF!)),\"\")","v":""},{"$f":"IFERROR(VLOOKUP(--IF($B$2=StoreConfig!C1746,LEFT(StoreConfig!#REF!,FIND(\"|\",StoreConfig!#REF!)-1),\"\"),$Q$4:$R$20,2,FALSE),\"\")","v":""},{"$f":"IF($B$2=StoreConfig!C1746,LEFT(StoreConfig!G1746,FIND(\"#\",StoreConfig!G1746)-1),\"\")","v":""},{"$f":"IF($B$2=StoreConfig!C1746,RIGHT(StoreConfig!G1746,LEN(StoreConfig!G1746)-FIND(\"#\",StoreConfig!G1746)),\"\")","v":""},{"$f":"IF($B$2=StoreConfig!C1746,IF(StoreConfig!L1746=0,\"不限购\",StoreConfig!L1746&\"次\"),\"\")","v":""}]
[{"$nulls":3},{"$f":"IF($B$2=StoreConfig!C1747,StoreConfig!O1747,\"\")","v":""},{"$f":"IF($B$2=StoreConfig!C1747,StoreConfig!E1747,\"\")","v":""},{"$f":"IF($B$2=StoreConfig!C1747,RIGHT(StoreConfig!#REF!,LEN(StoreConfig!#REF!)-FIND(\"|\",StoreConfig!#REF!)),\"\")","v":""},{"$f":"IFERROR(VLOOKUP(--IF($B$2=StoreConfig!C1747,LEFT(StoreConfig!#REF!,FIND(\"|\",StoreConfig!#REF!)-1),\"\"),$Q$4:$R$20,2,FALSE),\"\")","v":""},{"$f":"IF($B$2=StoreConfig!C1747,LEFT(StoreConfig!G1747,FIND(\"#\",StoreConfig!G1747)-1),\"\")","v":""},{"$f":"IF($B$2=StoreConfig!C1747,RIGHT(StoreConfig!G1747,LEN(StoreConfig!G1747)-FIND(\"#\",StoreConfig!G1747)),\"\")","v":""},{"$f":"IF($B$2=StoreConfig!C1747,IF(StoreConfig!L1747=0,\"不限购\",StoreConfig!L1747&\"次\"),\"\")","v":""}]
[{"$nulls":3},{"$f":"IF($B$2=StoreConfig!C1748,StoreConfig!O1748,\"\")","v":""},{"$f":"IF($B$2=StoreConfig!C1748,StoreConfig!E1748,\"\")","v":""},{"$f":"IF($B$2=StoreConfig!C1748,RIGHT(StoreConfig!#REF!,LEN(StoreConfig!#REF!)-FIND(\"|\",StoreConfig!#REF!)),\"\")","v":""},{"$f":"IFERROR(VLOOKUP(--IF($B$2=StoreConfig!C1748,LEFT(StoreConfig!#REF!,FIND(\"|\",StoreConfig!#REF!)-1),\"\"),$Q$4:$R$20,2,FALSE),\"\")","v":""},{"$f":"IF($B$2=StoreConfig!C1748,LEFT(StoreConfig!G1748,FIND(\"#\",StoreConfig!G1748)-1),\"\")","v":""},{"$f":"IF($B$2=StoreConfig!C1748,RIGHT(StoreConfig!G1748,LEN(StoreConfig!G1748)-FIND(\"#\",StoreConfig!G1748)),\"\")","v":""},{"$f":"IF($B$2=StoreConfig!C1748,IF(StoreConfig!L1748=0,\"不限购\",StoreConfig!L1748&\"次\"),\"\")","v":""}]
[{"$nulls":3},{"$f":"IF($B$2=StoreConfig!C1749,StoreConfig!O1749,\"\")","v":""},{"$f":"IF($B$2=StoreConfig!C1749,StoreConfig!E1749,\"\")","v":""},{"$f":"IF($B$2=StoreConfig!C1749,RIGHT(StoreConfig!#REF!,LEN(StoreConfig!#REF!)-FIND(\"|\",StoreConfig!#REF!)),\"\")","v":""},{"$f":"IFERROR(VLOOKUP(--IF($B$2=StoreConfig!C1749,LEFT(StoreConfig!#REF!,FIND(\"|\",StoreConfig!#REF!)-1),\"\"),$Q$4:$R$20,2,FALSE),\"\")","v":""},{"$f":"IF($B$2=StoreConfig!C1749,LEFT(StoreConfig!G1749,FIND(\"#\",StoreConfig!G1749)-1),\"\")","v":""},{"$f":"IF($B$2=StoreConfig!C1749,RIGHT(StoreConfig!G1749,LEN(StoreConfig!G1749)-FIND(\"#\",StoreConfig!G1749)),\"\")","v":""},{"$f":"IF($B$2=StoreConfig!C1749,IF(StoreConfig!L1749=0,\"不限购\",StoreConfig!L1749&\"次\"),\"\")","v":""}]
[{"$nulls":3},{"$f":"IF($B$2=StoreConfig!C1750,StoreConfig!O1750,\"\")","v":""},{"$f":"IF($B$2=StoreConfig!C1750,StoreConfig!E1750,\"\")","v":""},{"$f":"IF($B$2=StoreConfig!C1750,RIGHT(StoreConfig!#REF!,LEN(StoreConfig!#REF!)-FIND(\"|\",StoreConfig!#REF!)),\"\")","v":""},{"$f":"IFERROR(VLOOKUP(--IF($B$2=StoreConfig!C1750,LEFT(StoreConfig!#REF!,FIND(\"|\",StoreConfig!#REF!)-1),\"\"),$Q$4:$R$20,2,FALSE),\"\")","v":""},{"$f":"IF($B$2=StoreConfig!C1750,LEFT(StoreConfig!G1750,FIND(\"#\",StoreConfig!G1750)-1),\"\")","v":""},{"$f":"IF($B$2=StoreConfig!C1750,RIGHT(StoreConfig!G1750,LEN(StoreConfig!G1750)-FIND(\"#\",StoreConfig!G1750)),\"\")","v":""},{"$f":"IF($B$2=StoreConfig!C1750,IF(StoreConfig!L1750=0,\"不限购\",StoreConfig!L1750&\"次\"),\"\")","v":""}]
[{"$nulls":3},{"$f":"IF($B$2=StoreConfig!C1751,StoreConfig!O1751,\"\")","v":""},{"$f":"IF($B$2=StoreConfig!C1751,StoreConfig!E1751,\"\")","v":""},{"$f":"IF($B$2=StoreConfig!C1751,RIGHT(StoreConfig!#REF!,LEN(StoreConfig!#REF!)-FIND(\"|\",StoreConfig!#REF!)),\"\")","v":""},{"$f":"IFERROR(VLOOKUP(--IF($B$2=StoreConfig!C1751,LEFT(StoreConfig!#REF!,FIND(\"|\",StoreConfig!#REF!)-1),\"\"),$Q$4:$R$20,2,FALSE),\"\")","v":""},{"$f":"IF($B$2=StoreConfig!C1751,LEFT(StoreConfig!G1751,FIND(\"#\",StoreConfig!G1751)-1),\"\")","v":""},{"$f":"IF($B$2=StoreConfig!C1751,RIGHT(StoreConfig!G1751,LEN(StoreConfig!G1751)-FIND(\"#\",StoreConfig!G1751)),\"\")","v":""},{"$f":"IF($B$2=StoreConfig!C1751,IF(StoreConfig!L1751=0,\"不限购\",StoreConfig!L1751&\"次\"),\"\")","v":""}]
[{"$nulls":3},{"$f":"IF($B$2=StoreConfig!C1752,StoreConfig!O1752,\"\")","v":""},{"$f":"IF($B$2=StoreConfig!C1752,StoreConfig!E1752,\"\")","v":""},{"$f":"IF($B$2=StoreConfig!C1752,RIGHT(StoreConfig!J1752,LEN(StoreConfig!J1752)-FIND(\"|\",StoreConfig!J1752)),\"\")","v":""},{"$f":"IFERROR(VLOOKUP(--IF($B$2=StoreConfig!C1752,LEFT(StoreConfig!J1752,FIND(\"|\",StoreConfig!J1752)-1),\"\"),$Q$4:$R$20,2,FALSE),\"\")","v":""},{"$f":"IF($B$2=StoreConfig!C1752,LEFT(StoreConfig!G1752,FIND(\"#\",StoreConfig!G1752)-1),\"\")","v":""},{"$f":"IF($B$2=StoreConfig!C1752,RIGHT(StoreConfig!G1752,LEN(StoreConfig!G1752)-FIND(\"#\",StoreConfig!G1752)),\"\")","v":""},{"$f":"IF($B$2=StoreConfig!C1752,IF(StoreConfig!L1752=0,\"不限购\",StoreConfig!L1752&\"次\"),\"\")","v":""}]
[{"$nulls":3},{"$f":"IF($B$2=StoreConfig!C1753,StoreConfig!O1753,\"\")","v":""},{"$f":"IF($B$2=StoreConfig!C1753,StoreConfig!E1753,\"\")","v":""},{"$f":"IF($B$2=StoreConfig!C1753,RIGHT(StoreConfig!J1753,LEN(StoreConfig!J1753)-FIND(\"|\",StoreConfig!J1753)),\"\")","v":""},{"$f":"IFERROR(VLOOKUP(--IF($B$2=StoreConfig!C1753,LEFT(StoreConfig!J1753,FIND(\"|\",StoreConfig!J1753)-1),\"\"),$Q$4:$R$20,2,FALSE),\"\")","v":""},{"$f":"IF($B$2=StoreConfig!C1753,LEFT(StoreConfig!G1753,FIND(\"#\",StoreConfig!G1753)-1),\"\")","v":""},{"$f":"IF($B$2=StoreConfig!C1753,RIGHT(StoreConfig!G1753,LEN(StoreConfig!G1753)-FIND(\"#\",StoreConfig!G1753)),\"\")","v":""},{"$f":"IF($B$2=StoreConfig!C1753,IF(StoreConfig!L1753=0,\"不限购\",StoreConfig!L1753&\"次\"),\"\")","v":""}]
[{"$nulls":3},{"$f":"IF($B$2=StoreConfig!C1754,StoreConfig!O1754,\"\")","v":""},{"$f":"IF($B$2=StoreConfig!C1754,StoreConfig!E1754,\"\")","v":""},{"$f":"IF($B$2=StoreConfig!C1754,RIGHT(StoreConfig!J1754,LEN(StoreConfig!J1754)-FIND(\"|\",StoreConfig!J1754)),\"\")","v":""},{"$f":"IFERROR(VLOOKUP(--IF($B$2=StoreConfig!C1754,LEFT(StoreConfig!J1754,FIND(\"|\",StoreConfig!J1754)-1),\"\"),$Q$4:$R$20,2,FALSE),\"\")","v":""},{"$f":"IF($B$2=StoreConfig!C1754,LEFT(StoreConfig!G1754,FIND(\"#\",StoreConfig!G1754)-1),\"\")","v":""},{"$f":"IF($B$2=StoreConfig!C1754,RIGHT(StoreConfig!G1754,LEN(StoreConfig!G1754)-FIND(\"#\",StoreConfig!G1754)),\"\")","v":""},{"$f":"IF($B$2=StoreConfig!C1754,IF(StoreConfig!L1754=0,\"不限购\",StoreConfig!L1754&\"次\"),\"\")","v":""}]
[{"$nulls":3},{"$f":"IF($B$2=StoreConfig!C1755,StoreConfig!O1755,\"\")","v":""},{"$f":"IF($B$2=StoreConfig!C1755,StoreConfig!E1755,\"\")","v":""},{"$f":"IF($B$2=StoreConfig!C1755,RIGHT(StoreConfig!J1755,LEN(StoreConfig!J1755)-FIND(\"|\",StoreConfig!J1755)),\"\")","v":""},{"$f":"IFERROR(VLOOKUP(--IF($B$2=StoreConfig!C1755,LEFT(StoreConfig!J1755,FIND(\"|\",StoreConfig!J1755)-1),\"\"),$Q$4:$R$20,2,FALSE),\"\")","v":""},{"$f":"IF($B$2=StoreConfig!C1755,LEFT(StoreConfig!G1755,FIND(\"#\",StoreConfig!G1755)-1),\"\")","v":""},{"$f":"IF($B$2=StoreConfig!C1755,RIGHT(StoreConfig!G1755,LEN(StoreConfig!G1755)-FIND(\"#\",StoreConfig!G1755)),\"\")","v":""},{"$f":"IF($B$2=StoreConfig!C1755,IF(StoreConfig!L1755=0,\"不限购\",StoreConfig!L1755&\"次\"),\"\")","v":""}]
[{"$nulls":3},{"$f":"IF($B$2=StoreConfig!C1756,StoreConfig!O1756,\"\")","v":""},{"$f":"IF($B$2=StoreConfig!C1756,StoreConfig!E1756,\"\")","v":""},{"$f":"IF($B$2=StoreConfig!C1756,RIGHT(StoreConfig!J1756,LEN(StoreConfig!J1756)-FIND(\"|\",StoreConfig!J1756)),\"\")","v":""},{"$f":"IFERROR(VLOOKUP(--IF($B$2=StoreConfig!C1756,LEFT(StoreConfig!J1756,FIND(\"|\",StoreConfig!J1756)-1),\"\"),$Q$4:$R$20,2,FALSE),\"\")","v":""},{"$f":"IF($B$2=StoreConfig!C1756,LEFT(StoreConfig!G1756,FIND(\"#\",StoreConfig!G1756)-1),\"\")","v":""},{"$f":"IF($B$2=StoreConfig!C1756,RIGHT(StoreConfig!G1756,LEN(StoreConfig!G1756)-FIND(\"#\",StoreConfig!G1756)),\"\")","v":""},{"$f":"IF($B$2=StoreConfig!C1756,IF(StoreConfig!L1756=0,\"不限购\",StoreConfig!L1756&\"次\"),\"\")","v":""}]
[{"$nulls":3},{"$f":"IF($B$2=StoreConfig!C1757,StoreConfig!O1757,\"\")","v":""},{"$f":"IF($B$2=StoreConfig!C1757,StoreConfig!E1757,\"\")","v":""},{"$f":"IF($B$2=StoreConfig!C1757,RIGHT(StoreConfig!J1757,LEN(StoreConfig!J1757)-FIND(\"|\",StoreConfig!J1757)),\"\")","v":""},{"$f":"IFERROR(VLOOKUP(--IF($B$2=StoreConfig!C1757,LEFT(StoreConfig!J1757,FIND(\"|\",StoreConfig!J1757)-1),\"\"),$Q$4:$R$20,2,FALSE),\"\")","v":""},{"$f":"IF($B$2=StoreConfig!C1757,LEFT(StoreConfig!G1757,FIND(\"#\",StoreConfig!G1757)-1),\"\")","v":""},{"$f":"IF($B$2=StoreConfig!C1757,RIGHT(StoreConfig!G1757,LEN(StoreConfig!G1757)-FIND(\"#\",StoreConfig!G1757)),\"\")","v":""},{"$f":"IF($B$2=StoreConfig!C1757,IF(StoreConfig!L1757=0,\"不限购\",StoreConfig!L1757&\"次\"),\"\")","v":""}]
[{"$nulls":3},{"$f":"IF($B$2=StoreConfig!C1758,StoreConfig!O1758,\"\")","v":""},{"$f":"IF($B$2=StoreConfig!C1758,StoreConfig!E1758,\"\")","v":""},{"$f":"IF($B$2=StoreConfig!C1758,RIGHT(StoreConfig!J1758,LEN(StoreConfig!J1758)-FIND(\"|\",StoreConfig!J1758)),\"\")","v":""},{"$f":"IFERROR(VLOOKUP(--IF($B$2=StoreConfig!C1758,LEFT(StoreConfig!J1758,FIND(\"|\",StoreConfig!J1758)-1),\"\"),$Q$4:$R$20,2,FALSE),\"\")","v":""},{"$f":"IF($B$2=StoreConfig!C1758,LEFT(StoreConfig!G1758,FIND(\"#\",StoreConfig!G1758)-1),\"\")","v":""},{"$f":"IF($B$2=StoreConfig!C1758,RIGHT(StoreConfig!G1758,LEN(StoreConfig!G1758)-FIND(\"#\",StoreConfig!G1758)),\"\")","v":""},{"$f":"IF($B$2=StoreConfig!C1758,IF(StoreConfig!L1758=0,\"不限购\",StoreConfig!L1758&\"次\"),\"\")","v":""}]
[{"$nulls":3},{"$f":"IF($B$2=StoreConfig!C1759,StoreConfig!O1759,\"\")","v":""},{"$f":"IF($B$2=StoreConfig!C1759,StoreConfig!E1759,\"\")","v":""},{"$f":"IF($B$2=StoreConfig!C1759,RIGHT(StoreConfig!J1759,LEN(StoreConfig!J1759)-FIND(\"|\",StoreConfig!J1759)),\"\")","v":""},{"$f":"IFERROR(VLOOKUP(--IF($B$2=StoreConfig!C1759,LEFT(StoreConfig!J1759,FIND(\"|\",StoreConfig!J1759)-1),\"\"),$Q$4:$R$20,2,FALSE),\"\")","v":""},{"$f":"IF($B$2=StoreConfig!C1759,LEFT(StoreConfig!G1759,FIND(\"#\",StoreConfig!G1759)-1),\"\")","v":""},{"$f":"IF($B$2=StoreConfig!C1759,RIGHT(StoreConfig!G1759,LEN(StoreConfig!G1759)-FIND(\"#\",StoreConfig!G1759)),\"\")","v":""},{"$f":"IF($B$2=StoreConfig!C1759,IF(StoreConfig!L1759=0,\"不限购\",StoreConfig!L1759&\"次\"),\"\")","v":""}]
[{"$nulls":3},{"$f":"IF($B$2=StoreConfig!C1760,StoreConfig!O1760,\"\")","v":""},{"$f":"IF($B$2=StoreConfig!C1760,StoreConfig!E1760,\"\")","v":""},{"$f":"IF($B$2=StoreConfig!C1760,RIGHT(StoreConfig!#REF!,LEN(StoreConfig!#REF!)-FIND(\"|\",StoreConfig!#REF!)),\"\")","v":""},{"$f":"IFERROR(VLOOKUP(--IF($B$2=StoreConfig!C1760,LEFT(StoreConfig!#REF!,FIND(\"|\",StoreConfig!#REF!)-1),\"\"),$Q$4:$R$20,2,FALSE),\"\")","v":""},{"$f":"IF($B$2=StoreConfig!C1760,LEFT(StoreConfig!G1760,FIND(\"#\",StoreConfig!G1760)-1),\"\")","v":""},{"$f":"IF($B$2=StoreConfig!C1760,RIGHT(StoreConfig!G1760,LEN(StoreConfig!G1760)-FIND(\"#\",StoreConfig!G1760)),\"\")","v":""},{"$f":"IF($B$2=StoreConfig!C1760,IF(StoreConfig!L1760=0,\"不限购\",StoreConfig!L1760&\"次\"),\"\")","v":""}]
[{"$nulls":3},{"$f":"IF($B$2=StoreConfig!C1761,StoreConfig!O1761,\"\")","v":""},{"$f":"IF($B$2=StoreConfig!C1761,StoreConfig!E1761,\"\")","v":""},{"$f":"IF($B$2=StoreConfig!C1761,RIGHT(StoreConfig!#REF!,LEN(StoreConfig!#REF!)-FIND(\"|\",StoreConfig!#REF!)),\"\")","v":""},{"$f":"IFERROR(VLOOKUP(--IF($B$2=StoreConfig!C1761,LEFT(StoreConfig!#REF!,FIND(\"|\",StoreConfig!#REF!)-1),\"\"),$Q$4:$R$20,2,FALSE),\"\")","v":""},{"$f":"IF($B$2=StoreConfig!C1761,LEFT(StoreConfig!G1761,FIND(\"#\",StoreConfig!G1761)-1),\"\")","v":""},{"$f":"IF($B$2=StoreConfig!C1761,RIGHT(StoreConfig!G1761,LEN(StoreConfig!G1761)-FIND(\"#\",StoreConfig!G1761)),\"\")","v":""},{"$f":"IF($B$2=StoreConfig!C1761,IF(StoreConfig!L1761=0,\"不限购\",StoreConfig!L1761&\"次\"),\"\")","v":""}]
[{"$nulls":3},{"$f":"IF($B$2=StoreConfig!C1762,StoreConfig!O1762,\"\")","v":""},{"$f":"IF($B$2=StoreConfig!C1762,StoreConfig!E1762,\"\")","v":""},{"$f":"IF($B$2=StoreConfig!C1762,RIGHT(StoreConfig!#REF!,LEN(StoreConfig!#REF!)-FIND(\"|\",StoreConfig!#REF!)),\"\")","v":""},{"$f":"IFERROR(VLOOKUP(--IF($B$2=StoreConfig!C1762,LEFT(StoreConfig!#REF!,FIND(\"|\",StoreConfig!#REF!)-1),\"\"),$Q$4:$R$20,2,FALSE),\"\")","v":""},{"$f":"IF($B$2=StoreConfig!C1762,LEFT(StoreConfig!G1762,FIND(\"#\",StoreConfig!G1762)-1),\"\")","v":""},{"$f":"IF($B$2=StoreConfig!C1762,RIGHT(StoreConfig!G1762,LEN(StoreConfig!G1762)-FIND(\"#\",StoreConfig!G1762)),\"\")","v":""},{"$f":"IF($B$2=StoreConfig!C1762,IF(StoreConfig!L1762=0,\"不限购\",StoreConfig!L1762&\"次\"),\"\")","v":""}]
[{"$nulls":3},{"$f":"IF($B$2=StoreConfig!C1763,StoreConfig!O1763,\"\")","v":""},{"$f":"IF($B$2=StoreConfig!C1763,StoreConfig!E1763,\"\")","v":""},{"$f":"IF($B$2=StoreConfig!C1763,RIGHT(StoreConfig!#REF!,LEN(StoreConfig!#REF!)-FIND(\"|\",StoreConfig!#REF!)),\"\")","v":""},{"$f":"IFERROR(VLOOKUP(--IF($B$2=StoreConfig!C1763,LEFT(StoreConfig!#REF!,FIND(\"|\",StoreConfig!#REF!)-1),\"\"),$Q$4:$R$20,2,FALSE),\"\")","v":""},{"$f":"IF($B$2=StoreConfig!C1763,LEFT(StoreConfig!G1763,FIND(\"#\",StoreConfig!G1763)-1),\"\")","v":""},{"$f":"IF($B$2=StoreConfig!C1763,RIGHT(StoreConfig!G1763,LEN(StoreConfig!G1763)-FIND(\"#\",StoreConfig!G1763)),\"\")","v":""},{"$f":"IF($B$2=StoreConfig!C1763,IF(StoreConfig!L1763=0,\"不限购\",StoreConfig!L1763&\"次\"),\"\")","v":""}]
[{"$nulls":3},{"$f":"IF($B$2=StoreConfig!C1764,StoreConfig!O1764,\"\")","v":""},{"$f":"IF($B$2=StoreConfig!C1764,StoreConfig!E1764,\"\")","v":""},{"$f":"IF($B$2=StoreConfig!C1764,RIGHT(StoreConfig!#REF!,LEN(StoreConfig!#REF!)-FIND(\"|\",StoreConfig!#REF!)),\"\")","v":""},{"$f":"IFERROR(VLOOKUP(--IF($B$2=StoreConfig!C1764,LEFT(StoreConfig!#REF!,FIND(\"|\",StoreConfig!#REF!)-1),\"\"),$Q$4:$R$20,2,FALSE),\"\")","v":""},{"$f":"IF($B$2=StoreConfig!C1764,LEFT(StoreConfig!G1764,FIND(\"#\",StoreConfig!G1764)-1),\"\")","v":""},{"$f":"IF($B$2=StoreConfig!C1764,RIGHT(StoreConfig!G1764,LEN(StoreConfig!G1764)-FIND(\"#\",StoreConfig!G1764)),\"\")","v":""},{"$f":"IF($B$2=StoreConfig!C1764,IF(StoreConfig!L1764=0,\"不限购\",StoreConfig!L1764&\"次\"),\"\")","v":""}]
[{"$nulls":3},{"$f":"IF($B$2=StoreConfig!C1765,StoreConfig!O1765,\"\")","v":""},{"$f":"IF($B$2=StoreConfig!C1765,StoreConfig!E1765,\"\")","v":""},{"$f":"IF($B$2=StoreConfig!C1765,RIGHT(StoreConfig!#REF!,LEN(StoreConfig!#REF!)-FIND(\"|\",StoreConfig!#REF!)),\"\")","v":""},{"$f":"IFERROR(VLOOKUP(--IF($B$2=StoreConfig!C1765,LEFT(StoreConfig!#REF!,FIND(\"|\",StoreConfig!#REF!)-1),\"\"),$Q$4:$R$20,2,FALSE),\"\")","v":""},{"$f":"IF($B$2=StoreConfig!C1765,LEFT(StoreConfig!G1765,FIND(\"#\",StoreConfig!G1765)-1),\"\")","v":""},{"$f":"IF($B$2=StoreConfig!C1765,RIGHT(StoreConfig!G1765,LEN(StoreConfig!G1765)-FIND(\"#\",StoreConfig!G1765)),\"\")","v":""},{"$f":"IF($B$2=StoreConfig!C1765,IF(StoreConfig!L1765=0,\"不限购\",StoreConfig!L1765&\"次\"),\"\")","v":""}]
[{"$nulls":3},{"$f":"IF($B$2=StoreConfig!C1766,StoreConfig!O1766,\"\")","v":""},{"$f":"IF($B$2=StoreConfig!C1766,StoreConfig!E1766,\"\")","v":""},{"$f":"IF($B$2=StoreConfig!C1766,RIGHT(StoreConfig!#REF!,LEN(StoreConfig!#REF!)-FIND(\"|\",StoreConfig!#REF!)),\"\")","v":""},{"$f":"IFERROR(VLOOKUP(--IF($B$2=StoreConfig!C1766,LEFT(StoreConfig!#REF!,FIND(\"|\",StoreConfig!#REF!)-1),\"\"),$Q$4:$R$20,2,FALSE),\"\")","v":""},{"$f":"IF($B$2=StoreConfig!C1766,LEFT(StoreConfig!G1766,FIND(\"#\",StoreConfig!G1766)-1),\"\")","v":""},{"$f":"IF($B$2=StoreConfig!C1766,RIGHT(StoreConfig!G1766,LEN(StoreConfig!G1766)-FIND(\"#\",StoreConfig!G1766)),\"\")","v":""},{"$f":"IF($B$2=StoreConfig!C1766,IF(StoreConfig!L1766=0,\"不限购\",StoreConfig!L1766&\"次\"),\"\")","v":""}]
[{"$nulls":3},{"$f":"IF($B$2=StoreConfig!C1767,StoreConfig!O1767,\"\")","v":""},{"$f":"IF($B$2=StoreConfig!C1767,StoreConfig!E1767,\"\")","v":""},{"$f":"IF($B$2=StoreConfig!C1767,RIGHT(StoreConfig!#REF!,LEN(StoreConfig!#REF!)-FIND(\"|\",StoreConfig!#REF!)),\"\")","v":""},{"$f":"IFERROR(VLOOKUP(--IF($B$2=StoreConfig!C1767,LEFT(StoreConfig!#REF!,FIND(\"|\",StoreConfig!#REF!)-1),\"\"),$Q$4:$R$20,2,FALSE),\"\")","v":""},{"$f":"IF($B$2=StoreConfig!C1767,LEFT(StoreConfig!G1767,FIND(\"#\",StoreConfig!G1767)-1),\"\")","v":""},{"$f":"IF($B$2=StoreConfig!C1767,RIGHT(StoreConfig!G1767,LEN(StoreConfig!G1767)-FIND(\"#\",StoreConfig!G1767)),\"\")","v":""},{"$f":"IF($B$2=StoreConfig!C1767,IF(StoreConfig!L1767=0,\"不限购\",StoreConfig!L1767&\"次\"),\"\")","v":""}]
[{"$nulls":3},{"$f":"IF($B$2=StoreConfig!C1768,StoreConfig!O1768,\"\")","v":""},{"$f":"IF($B$2=StoreConfig!C1768,StoreConfig!E1768,\"\")","v":""},{"$f":"IF($B$2=StoreConfig!C1768,RIGHT(StoreConfig!#REF!,LEN(StoreConfig!#REF!)-FIND(\"|\",StoreConfig!#REF!)),\"\")","v":""},{"$f":"IFERROR(VLOOKUP(--IF($B$2=StoreConfig!C1768,LEFT(StoreConfig!#REF!,FIND(\"|\",StoreConfig!#REF!)-1),\"\"),$Q$4:$R$20,2,FALSE),\"\")","v":""},{"$f":"IF($B$2=StoreConfig!C1768,LEFT(StoreConfig!G1768,FIND(\"#\",StoreConfig!G1768)-1),\"\")","v":""},{"$f":"IF($B$2=StoreConfig!C1768,RIGHT(StoreConfig!G1768,LEN(StoreConfig!G1768)-FIND(\"#\",StoreConfig!G1768)),\"\")","v":""},{"$f":"IF($B$2=StoreConfig!C1768,IF(StoreConfig!L1768=0,\"不限购\",StoreConfig!L1768&\"次\"),\"\")","v":""}]
[{"$nulls":3},{"$f":"IF($B$2=StoreConfig!C1769,StoreConfig!O1769,\"\")","v":""},{"$f":"IF($B$2=StoreConfig!C1769,StoreConfig!E1769,\"\")","v":""},{"$f":"IF($B$2=StoreConfig!C1769,RIGHT(StoreConfig!J1769,LEN(StoreConfig!J1769)-FIND(\"|\",StoreConfig!J1769)),\"\")","v":""},{"$f":"IFERROR(VLOOKUP(--IF($B$2=StoreConfig!C1769,LEFT(StoreConfig!J1769,FIND(\"|\",StoreConfig!J1769)-1),\"\"),$Q$4:$R$20,2,FALSE),\"\")","v":""},{"$f":"IF($B$2=StoreConfig!C1769,LEFT(StoreConfig!G1769,FIND(\"#\",StoreConfig!G1769)-1),\"\")","v":""},{"$f":"IF($B$2=StoreConfig!C1769,RIGHT(StoreConfig!G1769,LEN(StoreConfig!G1769)-FIND(\"#\",StoreConfig!G1769)),\"\")","v":""},{"$f":"IF($B$2=StoreConfig!C1769,IF(StoreConfig!L1769=0,\"不限购\",StoreConfig!L1769&\"次\"),\"\")","v":""}]
[{"$nulls":3},{"$f":"IF($B$2=StoreConfig!C1770,StoreConfig!O1770,\"\")","v":""},{"$f":"IF($B$2=StoreConfig!C1770,StoreConfig!E1770,\"\")","v":""},{"$f":"IF($B$2=StoreConfig!C1770,RIGHT(StoreConfig!J1770,LEN(StoreConfig!J1770)-FIND(\"|\",StoreConfig!J1770)),\"\")","v":""},{"$f":"IFERROR(VLOOKUP(--IF($B$2=StoreConfig!C1770,LEFT(StoreConfig!J1770,FIND(\"|\",StoreConfig!J1770)-1),\"\"),$Q$4:$R$20,2,FALSE),\"\")","v":""},{"$f":"IF($B$2=StoreConfig!C1770,LEFT(StoreConfig!G1770,FIND(\"#\",StoreConfig!G1770)-1),\"\")","v":""},{"$f":"IF($B$2=StoreConfig!C1770,RIGHT(StoreConfig!G1770,LEN(StoreConfig!G1770)-FIND(\"#\",StoreConfig!G1770)),\"\")","v":""},{"$f":"IF($B$2=StoreConfig!C1770,IF(StoreConfig!L1770=0,\"不限购\",StoreConfig!L1770&\"次\"),\"\")","v":""}]
[{"$nulls":3},{"$f":"IF($B$2=StoreConfig!C1771,StoreConfig!O1771,\"\")","v":""},{"$f":"IF($B$2=StoreConfig!C1771,StoreConfig!E1771,\"\")","v":""},{"$f":"IF($B$2=StoreConfig!C1771,RIGHT(StoreConfig!J1771,LEN(StoreConfig!J1771)-FIND(\"|\",StoreConfig!J1771)),\"\")","v":""},{"$f":"IFERROR(VLOOKUP(--IF($B$2=StoreConfig!C1771,LEFT(StoreConfig!J1771,FIND(\"|\",StoreConfig!J1771)-1),\"\"),$Q$4:$R$20,2,FALSE),\"\")","v":""},{"$f":"IF($B$2=StoreConfig!C1771,LEFT(StoreConfig!G1771,FIND(\"#\",StoreConfig!G1771)-1),\"\")","v":""},{"$f":"IF($B$2=StoreConfig!C1771,RIGHT(StoreConfig!G1771,LEN(StoreConfig!G1771)-FIND(\"#\",StoreConfig!G1771)),\"\")","v":""},{"$f":"IF($B$2=StoreConfig!C1771,IF(StoreConfig!L1771=0,\"不限购\",StoreConfig!L1771&\"次\"),\"\")","v":""}]
[{"$nulls":3},{"$f":"IF($B$2=StoreConfig!C1772,StoreConfig!O1772,\"\")","v":""},{"$f":"IF($B$2=StoreConfig!C1772,StoreConfig!E1772,\"\")","v":""},{"$f":"IF($B$2=StoreConfig!C1772,RIGHT(StoreConfig!J1772,LEN(StoreConfig!J1772)-FIND(\"|\",StoreConfig!J1772)),\"\")","v":""},{"$f":"IFERROR(VLOOKUP(--IF($B$2=StoreConfig!C1772,LEFT(StoreConfig!J1772,FIND(\"|\",StoreConfig!J1772)-1),\"\"),$Q$4:$R$20,2,FALSE),\"\")","v":""},{"$f":"IF($B$2=StoreConfig!C1772,LEFT(StoreConfig!G1772,FIND(\"#\",StoreConfig!G1772)-1),\"\")","v":""},{"$f":"IF($B$2=StoreConfig!C1772,RIGHT(StoreConfig!G1772,LEN(StoreConfig!G1772)-FIND(\"#\",StoreConfig!G1772)),\"\")","v":""},{"$f":"IF($B$2=StoreConfig!C1772,IF(StoreConfig!L1772=0,\"不限购\",StoreConfig!L1772&\"次\"),\"\")","v":""}]
[{"$nulls":3},{"$f":"IF($B$2=StoreConfig!C1773,StoreConfig!O1773,\"\")","v":""},{"$f":"IF($B$2=StoreConfig!C1773,StoreConfig!E1773,\"\")","v":""},{"$f":"IF($B$2=StoreConfig!C1773,RIGHT(StoreConfig!J1773,LEN(StoreConfig!J1773)-FIND(\"|\",StoreConfig!J1773)),\"\")","v":""},{"$f":"IFERROR(VLOOKUP(--IF($B$2=StoreConfig!C1773,LEFT(StoreConfig!J1773,FIND(\"|\",StoreConfig!J1773)-1),\"\"),$Q$4:$R$20,2,FALSE),\"\")","v":""},{"$f":"IF($B$2=StoreConfig!C1773,LEFT(StoreConfig!G1773,FIND(\"#\",StoreConfig!G1773)-1),\"\")","v":""},{"$f":"IF($B$2=StoreConfig!C1773,RIGHT(StoreConfig!G1773,LEN(StoreConfig!G1773)-FIND(\"#\",StoreConfig!G1773)),\"\")","v":""},{"$f":"IF($B$2=StoreConfig!C1773,IF(StoreConfig!L1773=0,\"不限购\",StoreConfig!L1773&\"次\"),\"\")","v":""}]
[{"$nulls":3},{"$f":"IF($B$2=StoreConfig!C1774,StoreConfig!O1774,\"\")","v":""},{"$f":"IF($B$2=StoreConfig!C1774,StoreConfig!E1774,\"\")","v":""},{"$f":"IF($B$2=StoreConfig!C1774,RIGHT(StoreConfig!J1774,LEN(StoreConfig!J1774)-FIND(\"|\",StoreConfig!J1774)),\"\")","v":""},{"$f":"IFERROR(VLOOKUP(--IF($B$2=StoreConfig!C1774,LEFT(StoreConfig!J1774,FIND(\"|\",StoreConfig!J1774)-1),\"\"),$Q$4:$R$20,2,FALSE),\"\")","v":""},{"$f":"IF($B$2=StoreConfig!C1774,LEFT(StoreConfig!G1774,FIND(\"#\",StoreConfig!G1774)-1),\"\")","v":""},{"$f":"IF($B$2=StoreConfig!C1774,RIGHT(StoreConfig!G1774,LEN(StoreConfig!G1774)-FIND(\"#\",StoreConfig!G1774)),\"\")","v":""},{"$f":"IF($B$2=StoreConfig!C1774,IF(StoreConfig!L1774=0,\"不限购\",StoreConfig!L1774&\"次\"),\"\")","v":""}]
[{"$nulls":3},{"$f":"IF($B$2=StoreConfig!C1775,StoreConfig!O1775,\"\")","v":""},{"$f":"IF($B$2=StoreConfig!C1775,StoreConfig!E1775,\"\")","v":""},{"$f":"IF($B$2=StoreConfig!C1775,RIGHT(StoreConfig!J1775,LEN(StoreConfig!J1775)-FIND(\"|\",StoreConfig!J1775)),\"\")","v":""},{"$f":"IFERROR(VLOOKUP(--IF($B$2=StoreConfig!C1775,LEFT(StoreConfig!J1775,FIND(\"|\",StoreConfig!J1775)-1),\"\"),$Q$4:$R$20,2,FALSE),\"\")","v":""},{"$f":"IF($B$2=StoreConfig!C1775,LEFT(StoreConfig!G1775,FIND(\"#\",StoreConfig!G1775)-1),\"\")","v":""},{"$f":"IF($B$2=StoreConfig!C1775,RIGHT(StoreConfig!G1775,LEN(StoreConfig!G1775)-FIND(\"#\",StoreConfig!G1775)),\"\")","v":""},{"$f":"IF($B$2=StoreConfig!C1775,IF(StoreConfig!L1775=0,\"不限购\",StoreConfig!L1775&\"次\"),\"\")","v":""}]
[{"$nulls":3},{"$f":"IF($B$2=StoreConfig!C1776,StoreConfig!O1776,\"\")","v":""},{"$f":"IF($B$2=StoreConfig!C1776,StoreConfig!E1776,\"\")","v":""},{"$f":"IF($B$2=StoreConfig!C1776,RIGHT(StoreConfig!J1776,LEN(StoreConfig!J1776)-FIND(\"|\",StoreConfig!J1776)),\"\")","v":""},{"$f":"IFERROR(VLOOKUP(--IF($B$2=StoreConfig!C1776,LEFT(StoreConfig!J1776,FIND(\"|\",StoreConfig!J1776)-1),\"\"),$Q$4:$R$20,2,FALSE),\"\")","v":""},{"$f":"IF($B$2=StoreConfig!C1776,LEFT(StoreConfig!G1776,FIND(\"#\",StoreConfig!G1776)-1),\"\")","v":""},{"$f":"IF($B$2=StoreConfig!C1776,RIGHT(StoreConfig!G1776,LEN(StoreConfig!G1776)-FIND(\"#\",StoreConfig!G1776)),\"\")","v":""},{"$f":"IF($B$2=StoreConfig!C1776,IF(StoreConfig!L1776=0,\"不限购\",StoreConfig!L1776&\"次\"),\"\")","v":""}]
[{"$nulls":3},{"$f":"IF($B$2=StoreConfig!C1777,StoreConfig!O1777,\"\")","v":""},{"$f":"IF($B$2=StoreConfig!C1777,StoreConfig!E1777,\"\")","v":""},{"$f":"IF($B$2=StoreConfig!C1777,RIGHT(StoreConfig!#REF!,LEN(StoreConfig!#REF!)-FIND(\"|\",StoreConfig!#REF!)),\"\")","v":""},{"$f":"IFERROR(VLOOKUP(--IF($B$2=StoreConfig!C1777,LEFT(StoreConfig!#REF!,FIND(\"|\",StoreConfig!#REF!)-1),\"\"),$Q$4:$R$20,2,FALSE),\"\")","v":""},{"$f":"IF($B$2=StoreConfig!C1777,LEFT(StoreConfig!G1777,FIND(\"#\",StoreConfig!G1777)-1),\"\")","v":""},{"$f":"IF($B$2=StoreConfig!C1777,RIGHT(StoreConfig!G1777,LEN(StoreConfig!G1777)-FIND(\"#\",StoreConfig!G1777)),\"\")","v":""},{"$f":"IF($B$2=StoreConfig!C1777,IF(StoreConfig!L1777=0,\"不限购\",StoreConfig!L1777&\"次\"),\"\")","v":""}]
[{"$nulls":3},{"$f":"IF($B$2=StoreConfig!C1778,StoreConfig!O1778,\"\")","v":""},{"$f":"IF($B$2=StoreConfig!C1778,StoreConfig!E1778,\"\")","v":""},{"$f":"IF($B$2=StoreConfig!C1778,RIGHT(StoreConfig!#REF!,LEN(StoreConfig!#REF!)-FIND(\"|\",StoreConfig!#REF!)),\"\")","v":""},{"$f":"IFERROR(VLOOKUP(--IF($B$2=StoreConfig!C1778,LEFT(StoreConfig!#REF!,FIND(\"|\",StoreConfig!#REF!)-1),\"\"),$Q$4:$R$20,2,FALSE),\"\")","v":""},{"$f":"IF($B$2=StoreConfig!C1778,LEFT(StoreConfig!G1778,FIND(\"#\",StoreConfig!G1778)-1),\"\")","v":""},{"$f":"IF($B$2=StoreConfig!C1778,RIGHT(StoreConfig!G1778,LEN(StoreConfig!G1778)-FIND(\"#\",StoreConfig!G1778)),\"\")","v":""},{"$f":"IF($B$2=StoreConfig!C1778,IF(StoreConfig!L1778=0,\"不限购\",StoreConfig!L1778&\"次\"),\"\")","v":""}]
[{"$nulls":3},{"$f":"IF($B$2=StoreConfig!C1779,StoreConfig!O1779,\"\")","v":""},{"$f":"IF($B$2=StoreConfig!C1779,StoreConfig!E1779,\"\")","v":""},{"$f":"IF($B$2=StoreConfig!C1779,RIGHT(StoreConfig!#REF!,LEN(StoreConfig!#REF!)-FIND(\"|\",StoreConfig!#REF!)),\"\")","v":""},{"$f":"IFERROR(VLOOKUP(--IF($B$2=StoreConfig!C1779,LEFT(StoreConfig!#REF!,FIND(\"|\",StoreConfig!#REF!)-1),\"\"),$Q$4:$R$20,2,FALSE),\"\")","v":""},{"$f":"IF($B$2=StoreConfig!C1779,LEFT(StoreConfig!G1779,FIND(\"#\",StoreConfig!G1779)-1),\"\")","v":""},{"$f":"IF($B$2=StoreConfig!C1779,RIGHT(StoreConfig!G1779,LEN(StoreConfig!G1779)-FIND(\"#\",StoreConfig!G1779)),\"\")","v":""},{"$f":"IF($B$2=StoreConfig!C1779,IF(StoreConfig!L1779=0,\"不限购\",StoreConfig!L1779&\"次\"),\"\")","v":""}]
[{"$nulls":3},{"$f":"IF($B$2=StoreConfig!C1780,StoreConfig!O1780,\"\")","v":""},{"$f":"IF($B$2=StoreConfig!C1780,StoreConfig!E1780,\"\")","v":""},{"$f":"IF($B$2=StoreConfig!C1780,RIGHT(StoreConfig!#REF!,LEN(StoreConfig!#REF!)-FIND(\"|\",StoreConfig!#REF!)),\"\")","v":""},{"$f":"IFERROR(VLOOKUP(--IF($B$2=StoreConfig!C1780,LEFT(StoreConfig!#REF!,FIND(\"|\",StoreConfig!#REF!)-1),\"\"),$Q$4:$R$20,2,FALSE),\"\")","v":""},{"$f":"IF($B$2=StoreConfig!C1780,LEFT(StoreConfig!G1780,FIND(\"#\",StoreConfig!G1780)-1),\"\")","v":""},{"$f":"IF($B$2=StoreConfig!C1780,RIGHT(StoreConfig!G1780,LEN(StoreConfig!G1780)-FIND(\"#\",StoreConfig!G1780)),\"\")","v":""},{"$f":"IF($B$2=StoreConfig!C1780,IF(StoreConfig!L1780=0,\"不限购\",StoreConfig!L1780&\"次\"),\"\")","v":""}]
[{"$nulls":3},{"$f":"IF($B$2=StoreConfig!C1781,StoreConfig!O1781,\"\")","v":""},{"$f":"IF($B$2=StoreConfig!C1781,StoreConfig!E1781,\"\")","v":""},{"$f":"IF($B$2=StoreConfig!C1781,RIGHT(StoreConfig!#REF!,LEN(StoreConfig!#REF!)-FIND(\"|\",StoreConfig!#REF!)),\"\")","v":""},{"$f":"IFERROR(VLOOKUP(--IF($B$2=StoreConfig!C1781,LEFT(StoreConfig!#REF!,FIND(\"|\",StoreConfig!#REF!)-1),\"\"),$Q$4:$R$20,2,FALSE),\"\")","v":""},{"$f":"IF($B$2=StoreConfig!C1781,LEFT(StoreConfig!G1781,FIND(\"#\",StoreConfig!G1781)-1),\"\")","v":""},{"$f":"IF($B$2=StoreConfig!C1781,RIGHT(StoreConfig!G1781,LEN(StoreConfig!G1781)-FIND(\"#\",StoreConfig!G1781)),\"\")","v":""},{"$f":"IF($B$2=StoreConfig!C1781,IF(StoreConfig!L1781=0,\"不限购\",StoreConfig!L1781&\"次\"),\"\")","v":""}]
[{"$nulls":3},{"$f":"IF($B$2=StoreConfig!C1782,StoreConfig!O1782,\"\")","v":""},{"$f":"IF($B$2=StoreConfig!C1782,StoreConfig!E1782,\"\")","v":""},{"$f":"IF($B$2=StoreConfig!C1782,RIGHT(StoreConfig!#REF!,LEN(StoreConfig!#REF!)-FIND(\"|\",StoreConfig!#REF!)),\"\")","v":""},{"$f":"IFERROR(VLOOKUP(--IF($B$2=StoreConfig!C1782,LEFT(StoreConfig!#REF!,FIND(\"|\",StoreConfig!#REF!)-1),\"\"),$Q$4:$R$20,2,FALSE),\"\")","v":""},{"$f":"IF($B$2=StoreConfig!C1782,LEFT(StoreConfig!G1782,FIND(\"#\",StoreConfig!G1782)-1),\"\")","v":""},{"$f":"IF($B$2=StoreConfig!C1782,RIGHT(StoreConfig!G1782,LEN(StoreConfig!G1782)-FIND(\"#\",StoreConfig!G1782)),\"\")","v":""},{"$f":"IF($B$2=StoreConfig!C1782,IF(StoreConfig!L1782=0,\"不限购\",StoreConfig!L1782&\"次\"),\"\")","v":""}]
[{"$nulls":3},{"$f":"IF($B$2=StoreConfig!C1783,StoreConfig!O1783,\"\")","v":""},{"$f":"IF($B$2=StoreConfig!C1783,StoreConfig!E1783,\"\")","v":""},{"$f":"IF($B$2=StoreConfig!C1783,RIGHT(StoreConfig!#REF!,LEN(StoreConfig!#REF!)-FIND(\"|\",StoreConfig!#REF!)),\"\")","v":""},{"$f":"IFERROR(VLOOKUP(--IF($B$2=StoreConfig!C1783,LEFT(StoreConfig!#REF!,FIND(\"|\",StoreConfig!#REF!)-1),\"\"),$Q$4:$R$20,2,FALSE),\"\")","v":""},{"$f":"IF($B$2=StoreConfig!C1783,LEFT(StoreConfig!G1783,FIND(\"#\",StoreConfig!G1783)-1),\"\")","v":""},{"$f":"IF($B$2=StoreConfig!C1783,RIGHT(StoreConfig!G1783,LEN(StoreConfig!G1783)-FIND(\"#\",StoreConfig!G1783)),\"\")","v":""},{"$f":"IF($B$2=StoreConfig!C1783,IF(StoreConfig!L1783=0,\"不限购\",StoreConfig!L1783&\"次\"),\"\")","v":""}]
[{"$nulls":3},{"$f":"IF($B$2=StoreConfig!C1784,StoreConfig!O1784,\"\")","v":""},{"$f":"IF($B$2=StoreConfig!C1784,StoreConfig!E1784,\"\")","v":""},{"$f":"IF($B$2=StoreConfig!C1784,RIGHT(StoreConfig!#REF!,LEN(StoreConfig!#REF!)-FIND(\"|\",StoreConfig!#REF!)),\"\")","v":""},{"$f":"IFERROR(VLOOKUP(--IF($B$2=StoreConfig!C1784,LEFT(StoreConfig!#REF!,FIND(\"|\",StoreConfig!#REF!)-1),\"\"),$Q$4:$R$20,2,FALSE),\"\")","v":""},{"$f":"IF($B$2=StoreConfig!C1784,LEFT(StoreConfig!G1784,FIND(\"#\",StoreConfig!G1784)-1),\"\")","v":""},{"$f":"IF($B$2=StoreConfig!C1784,RIGHT(StoreConfig!G1784,LEN(StoreConfig!G1784)-FIND(\"#\",StoreConfig!G1784)),\"\")","v":""},{"$f":"IF($B$2=StoreConfig!C1784,IF(StoreConfig!L1784=0,\"不限购\",StoreConfig!L1784&\"次\"),\"\")","v":""}]
[{"$nulls":3},{"$f":"IF($B$2=StoreConfig!C1785,StoreConfig!O1785,\"\")","v":""},{"$f":"IF($B$2=StoreConfig!C1785,StoreConfig!E1785,\"\")","v":""},{"$f":"IF($B$2=StoreConfig!C1785,RIGHT(StoreConfig!#REF!,LEN(StoreConfig!#REF!)-FIND(\"|\",StoreConfig!#REF!)),\"\")","v":""},{"$f":"IFERROR(VLOOKUP(--IF($B$2=StoreConfig!C1785,LEFT(StoreConfig!#REF!,FIND(\"|\",StoreConfig!#REF!)-1),\"\"),$Q$4:$R$20,2,FALSE),\"\")","v":""},{"$f":"IF($B$2=StoreConfig!C1785,LEFT(StoreConfig!G1785,FIND(\"#\",StoreConfig!G1785)-1),\"\")","v":""},{"$f":"IF($B$2=StoreConfig!C1785,RIGHT(StoreConfig!G1785,LEN(StoreConfig!G1785)-FIND(\"#\",StoreConfig!G1785)),\"\")","v":""},{"$f":"IF($B$2=StoreConfig!C1785,IF(StoreConfig!L1785=0,\"不限购\",StoreConfig!L1785&\"次\"),\"\")","v":""}]
[{"$nulls":3},{"$f":"IF($B$2=StoreConfig!C1786,StoreConfig!O1786,\"\")","v":""},{"$f":"IF($B$2=StoreConfig!C1786,StoreConfig!E1786,\"\")","v":""},{"$f":"IF($B$2=StoreConfig!C1786,RIGHT(StoreConfig!J1786,LEN(StoreConfig!J1786)-FIND(\"|\",StoreConfig!J1786)),\"\")","v":""},{"$f":"IFERROR(VLOOKUP(--IF($B$2=StoreConfig!C1786,LEFT(StoreConfig!J1786,FIND(\"|\",StoreConfig!J1786)-1),\"\"),$Q$4:$R$20,2,FALSE),\"\")","v":""},{"$f":"IF($B$2=StoreConfig!C1786,LEFT(StoreConfig!G1786,FIND(\"#\",StoreConfig!G1786)-1),\"\")","v":""},{"$f":"IF($B$2=StoreConfig!C1786,RIGHT(StoreConfig!G1786,LEN(StoreConfig!G1786)-FIND(\"#\",StoreConfig!G1786)),\"\")","v":""},{"$f":"IF($B$2=StoreConfig!C1786,IF(StoreConfig!L1786=0,\"不限购\",StoreConfig!L1786&\"次\"),\"\")","v":""}]
[{"$nulls":3},{"$f":"IF($B$2=StoreConfig!C1787,StoreConfig!O1787,\"\")","v":""},{"$f":"IF($B$2=StoreConfig!C1787,StoreConfig!E1787,\"\")","v":""},{"$f":"IF($B$2=StoreConfig!C1787,RIGHT(StoreConfig!#REF!,LEN(StoreConfig!#REF!)-FIND(\"|\",StoreConfig!#REF!)),\"\")","v":""},{"$f":"IFERROR(VLOOKUP(--IF($B$2=StoreConfig!C1787,LEFT(StoreConfig!#REF!,FIND(\"|\",StoreConfig!#REF!)-1),\"\"),$Q$4:$R$20,2,FALSE),\"\")","v":""},{"$f":"IF($B$2=StoreConfig!C1787,LEFT(StoreConfig!G1787,FIND(\"#\",StoreConfig!G1787)-1),\"\")","v":""},{"$f":"IF($B$2=StoreConfig!C1787,RIGHT(StoreConfig!G1787,LEN(StoreConfig!G1787)-FIND(\"#\",StoreConfig!G1787)),\"\")","v":""},{"$f":"IF($B$2=StoreConfig!C1787,IF(StoreConfig!L1787=0,\"不限购\",StoreConfig!L1787&\"次\"),\"\")","v":""}]
[{"$nulls":3},{"$f":"IF($B$2=StoreConfig!C1788,StoreConfig!O1788,\"\")","v":""},{"$f":"IF($B$2=StoreConfig!C1788,StoreConfig!E1788,\"\")","v":""},{"$f":"IF($B$2=StoreConfig!C1788,RIGHT(StoreConfig!J1788,LEN(StoreConfig!J1788)-FIND(\"|\",StoreConfig!J1788)),\"\")","v":""},{"$f":"IFERROR(VLOOKUP(--IF($B$2=StoreConfig!C1788,LEFT(StoreConfig!J1788,FIND(\"|\",StoreConfig!J1788)-1),\"\"),$Q$4:$R$20,2,FALSE),\"\")","v":""},{"$f":"IF($B$2=StoreConfig!C1788,LEFT(StoreConfig!G1788,FIND(\"#\",StoreConfig!G1788)-1),\"\")","v":""},{"$f":"IF($B$2=StoreConfig!C1788,RIGHT(StoreConfig!G1788,LEN(StoreConfig!G1788)-FIND(\"#\",StoreConfig!G1788)),\"\")","v":""},{"$f":"IF($B$2=StoreConfig!C1788,IF(StoreConfig!L1788=0,\"不限购\",StoreConfig!L1788&\"次\"),\"\")","v":""}]
[{"$nulls":3},{"$f":"IF($B$2=StoreConfig!C1789,StoreConfig!O1789,\"\")","v":""},{"$f":"IF($B$2=StoreConfig!C1789,StoreConfig!E1789,\"\")","v":""},{"$f":"IF($B$2=StoreConfig!C1789,RIGHT(StoreConfig!J1789,LEN(StoreConfig!J1789)-FIND(\"|\",StoreConfig!J1789)),\"\")","v":""},{"$f":"IFERROR(VLOOKUP(--IF($B$2=StoreConfig!C1789,LEFT(StoreConfig!J1789,FIND(\"|\",StoreConfig!J1789)-1),\"\"),$Q$4:$R$20,2,FALSE),\"\")","v":""},{"$f":"IF($B$2=StoreConfig!C1789,LEFT(StoreConfig!G1789,FIND(\"#\",StoreConfig!G1789)-1),\"\")","v":""},{"$f":"IF($B$2=StoreConfig!C1789,RIGHT(StoreConfig!G1789,LEN(StoreConfig!G1789)-FIND(\"#\",StoreConfig!G1789)),\"\")","v":""},{"$f":"IF($B$2=StoreConfig!C1789,IF(StoreConfig!L1789=0,\"不限购\",StoreConfig!L1789&\"次\"),\"\")","v":""}]
[{"$nulls":3},{"$f":"IF($B$2=StoreConfig!C1790,StoreConfig!O1790,\"\")","v":""},{"$f":"IF($B$2=StoreConfig!C1790,StoreConfig!E1790,\"\")","v":""},{"$f":"IF($B$2=StoreConfig!C1790,RIGHT(StoreConfig!J1790,LEN(StoreConfig!J1790)-FIND(\"|\",StoreConfig!J1790)),\"\")","v":""},{"$f":"IFERROR(VLOOKUP(--IF($B$2=StoreConfig!C1790,LEFT(StoreConfig!J1790,FIND(\"|\",StoreConfig!J1790)-1),\"\"),$Q$4:$R$20,2,FALSE),\"\")","v":""},{"$f":"IF($B$2=StoreConfig!C1790,LEFT(StoreConfig!G1790,FIND(\"#\",StoreConfig!G1790)-1),\"\")","v":""},{"$f":"IF($B$2=StoreConfig!C1790,RIGHT(StoreConfig!G1790,LEN(StoreConfig!G1790)-FIND(\"#\",StoreConfig!G1790)),\"\")","v":""},{"$f":"IF($B$2=StoreConfig!C1790,IF(StoreConfig!L1790=0,\"不限购\",StoreConfig!L1790&\"次\"),\"\")","v":""}]
[{"$nulls":3},{"$f":"IF($B$2=StoreConfig!C1791,StoreConfig!O1791,\"\")","v":""},{"$f":"IF($B$2=StoreConfig!C1791,StoreConfig!E1791,\"\")","v":""},{"$f":"IF($B$2=StoreConfig!C1791,RIGHT(StoreConfig!J1791,LEN(StoreConfig!J1791)-FIND(\"|\",StoreConfig!J1791)),\"\")","v":""},{"$f":"IFERROR(VLOOKUP(--IF($B$2=StoreConfig!C1791,LEFT(StoreConfig!J1791,FIND(\"|\",StoreConfig!J1791)-1),\"\"),$Q$4:$R$20,2,FALSE),\"\")","v":""},{"$f":"IF($B$2=StoreConfig!C1791,LEFT(StoreConfig!G1791,FIND(\"#\",StoreConfig!G1791)-1),\"\")","v":""},{"$f":"IF($B$2=StoreConfig!C1791,RIGHT(StoreConfig!G1791,LEN(StoreConfig!G1791)-FIND(\"#\",StoreConfig!G1791)),\"\")","v":""},{"$f":"IF($B$2=StoreConfig!C1791,IF(StoreConfig!L1791=0,\"不限购\",StoreConfig!L1791&\"次\"),\"\")","v":""}]
[{"$nulls":3},{"$f":"IF($B$2=StoreConfig!C1792,StoreConfig!O1792,\"\")","v":""},{"$f":"IF($B$2=StoreConfig!C1792,StoreConfig!E1792,\"\")","v":""},{"$f":"IF($B$2=StoreConfig!C1792,RIGHT(StoreConfig!J1792,LEN(StoreConfig!J1792)-FIND(\"|\",StoreConfig!J1792)),\"\")","v":""},{"$f":"IFERROR(VLOOKUP(--IF($B$2=StoreConfig!C1792,LEFT(StoreConfig!J1792,FIND(\"|\",StoreConfig!J1792)-1),\"\"),$Q$4:$R$20,2,FALSE),\"\")","v":""},{"$f":"IF($B$2=StoreConfig!C1792,LEFT(StoreConfig!G1792,FIND(\"#\",StoreConfig!G1792)-1),\"\")","v":""},{"$f":"IF($B$2=StoreConfig!C1792,RIGHT(StoreConfig!G1792,LEN(StoreConfig!G1792)-FIND(\"#\",StoreConfig!G1792)),\"\")","v":""},{"$f":"IF($B$2=StoreConfig!C1792,IF(StoreConfig!L1792=0,\"不限购\",StoreConfig!L1792&\"次\"),\"\")","v":""}]
[{"$nulls":3},{"$f":"IF($B$2=StoreConfig!C1793,StoreConfig!O1793,\"\")","v":""},{"$f":"IF($B$2=StoreConfig!C1793,StoreConfig!E1793,\"\")","v":""},{"$f":"IF($B$2=StoreConfig!C1793,RIGHT(StoreConfig!J1793,LEN(StoreConfig!J1793)-FIND(\"|\",StoreConfig!J1793)),\"\")","v":""},{"$f":"IFERROR(VLOOKUP(--IF($B$2=StoreConfig!C1793,LEFT(StoreConfig!J1793,FIND(\"|\",StoreConfig!J1793)-1),\"\"),$Q$4:$R$20,2,FALSE),\"\")","v":""},{"$f":"IF($B$2=StoreConfig!C1793,LEFT(StoreConfig!G1793,FIND(\"#\",StoreConfig!G1793)-1),\"\")","v":""},{"$f":"IF($B$2=StoreConfig!C1793,RIGHT(StoreConfig!G1793,LEN(StoreConfig!G1793)-FIND(\"#\",StoreConfig!G1793)),\"\")","v":""},{"$f":"IF($B$2=StoreConfig!C1793,IF(StoreConfig!L1793=0,\"不限购\",StoreConfig!L1793&\"次\"),\"\")","v":""}]
[{"$nulls":3},{"$f":"IF($B$2=StoreConfig!C1794,StoreConfig!O1794,\"\")","v":""},{"$f":"IF($B$2=StoreConfig!C1794,StoreConfig!E1794,\"\")","v":""},{"$f":"IF($B$2=StoreConfig!C1794,RIGHT(StoreConfig!J1794,LEN(StoreConfig!J1794)-FIND(\"|\",StoreConfig!J1794)),\"\")","v":""},{"$f":"IFERROR(VLOOKUP(--IF($B$2=StoreConfig!C1794,LEFT(StoreConfig!J1794,FIND(\"|\",StoreConfig!J1794)-1),\"\"),$Q$4:$R$20,2,FALSE),\"\")","v":""},{"$f":"IF($B$2=StoreConfig!C1794,LEFT(StoreConfig!G1794,FIND(\"#\",StoreConfig!G1794)-1),\"\")","v":""},{"$f":"IF($B$2=StoreConfig!C1794,RIGHT(StoreConfig!G1794,LEN(StoreConfig!G1794)-FIND(\"#\",StoreConfig!G1794)),\"\")","v":""},{"$f":"IF($B$2=StoreConfig!C1794,IF(StoreConfig!L1794=0,\"不限购\",StoreConfig!L1794&\"次\"),\"\")","v":""}]
[{"$nulls":3},{"$f":"IF($B$2=StoreConfig!C1795,StoreConfig!O1795,\"\")","v":""},{"$f":"IF($B$2=StoreConfig!C1795,StoreConfig!E1795,\"\")","v":""},{"$f":"IF($B$2=StoreConfig!C1795,RIGHT(StoreConfig!J1795,LEN(StoreConfig!J1795)-FIND(\"|\",StoreConfig!J1795)),\"\")","v":""},{"$f":"IFERROR(VLOOKUP(--IF($B$2=StoreConfig!C1795,LEFT(StoreConfig!J1795,FIND(\"|\",StoreConfig!J1795)-1),\"\"),$Q$4:$R$20,2,FALSE),\"\")","v":""},{"$f":"IF($B$2=StoreConfig!C1795,LEFT(StoreConfig!G1795,FIND(\"#\",StoreConfig!G1795)-1),\"\")","v":""},{"$f":"IF($B$2=StoreConfig!C1795,RIGHT(StoreConfig!G1795,LEN(StoreConfig!G1795)-FIND(\"#\",StoreConfig!G1795)),\"\")","v":""},{"$f":"IF($B$2=StoreConfig!C1795,IF(StoreConfig!L1795=0,\"不限购\",StoreConfig!L1795&\"次\"),\"\")","v":""}]
[{"$nulls":3},{"$f":"IF($B$2=StoreConfig!C1796,StoreConfig!O1796,\"\")","v":""},{"$f":"IF($B$2=StoreConfig!C1796,StoreConfig!E1796,\"\")","v":""},{"$f":"IF($B$2=StoreConfig!C1796,RIGHT(StoreConfig!J1796,LEN(StoreConfig!J1796)-FIND(\"|\",StoreConfig!J1796)),\"\")","v":""},{"$f":"IFERROR(VLOOKUP(--IF($B$2=StoreConfig!C1796,LEFT(StoreConfig!J1796,FIND(\"|\",StoreConfig!J1796)-1),\"\"),$Q$4:$R$20,2,FALSE),\"\")","v":""},{"$f":"IF($B$2=StoreConfig!C1796,LEFT(StoreConfig!G1796,FIND(\"#\",StoreConfig!G1796)-1),\"\")","v":""},{"$f":"IF($B$2=StoreConfig!C1796,RIGHT(StoreConfig!G1796,LEN(StoreConfig!G1796)-FIND(\"#\",StoreConfig!G1796)),\"\")","v":""},{"$f":"IF($B$2=StoreConfig!C1796,IF(StoreConfig!L1796=0,\"不限购\",StoreConfig!L1796&\"次\"),\"\")","v":""}]
[{"$nulls":3},{"$f":"IF($B$2=StoreConfig!C1797,StoreConfig!O1797,\"\")","v":""},{"$f":"IF($B$2=StoreConfig!C1797,StoreConfig!E1797,\"\")","v":""},{"$f":"IF($B$2=StoreConfig!C1797,RIGHT(StoreConfig!J1797,LEN(StoreConfig!J1797)-FIND(\"|\",StoreConfig!J1797)),\"\")","v":""},{"$f":"IFERROR(VLOOKUP(--IF($B$2=StoreConfig!C1797,LEFT(StoreConfig!J1797,FIND(\"|\",StoreConfig!J1797)-1),\"\"),$Q$4:$R$20,2,FALSE),\"\")","v":""},{"$f":"IF($B$2=StoreConfig!C1797,LEFT(StoreConfig!G1797,FIND(\"#\",StoreConfig!G1797)-1),\"\")","v":""},{"$f":"IF($B$2=StoreConfig!C1797,RIGHT(StoreConfig!G1797,LEN(StoreConfig!G1797)-FIND(\"#\",StoreConfig!G1797)),\"\")","v":""},{"$f":"IF($B$2=StoreConfig!C1797,IF(StoreConfig!L1797=0,\"不限购\",StoreConfig!L1797&\"次\"),\"\")","v":""}]
[{"$nulls":3},{"$f":"IF($B$2=StoreConfig!C1798,StoreConfig!O1798,\"\")","v":""},{"$f":"IF($B$2=StoreConfig!C1798,StoreConfig!E1798,\"\")","v":""},{"$f":"IF($B$2=StoreConfig!C1798,RIGHT(StoreConfig!J1798,LEN(StoreConfig!J1798)-FIND(\"|\",StoreConfig!J1798)),\"\")","v":""},{"$f":"IFERROR(VLOOKUP(--IF($B$2=StoreConfig!C1798,LEFT(StoreConfig!J1798,FIND(\"|\",StoreConfig!J1798)-1),\"\"),$Q$4:$R$20,2,FALSE),\"\")","v":""},{"$f":"IF($B$2=StoreConfig!C1798,LEFT(StoreConfig!G1798,FIND(\"#\",StoreConfig!G1798)-1),\"\")","v":""},{"$f":"IF($B$2=StoreConfig!C1798,RIGHT(StoreConfig!G1798,LEN(StoreConfig!G1798)-FIND(\"#\",StoreConfig!G1798)),\"\")","v":""},{"$f":"IF($B$2=StoreConfig!C1798,IF(StoreConfig!L1798=0,\"不限购\",StoreConfig!L1798&\"次\"),\"\")","v":""}]
[{"$nulls":3},{"$f":"IF($B$2=StoreConfig!C1799,StoreConfig!O1799,\"\")","v":""},{"$f":"IF($B$2=StoreConfig!C1799,StoreConfig!E1799,\"\")","v":""},{"$f":"IF($B$2=StoreConfig!C1799,RIGHT(StoreConfig!J1799,LEN(StoreConfig!J1799)-FIND(\"|\",StoreConfig!J1799)),\"\")","v":""},{"$f":"IFERROR(VLOOKUP(--IF($B$2=StoreConfig!C1799,LEFT(StoreConfig!J1799,FIND(\"|\",StoreConfig!J1799)-1),\"\"),$Q$4:$R$20,2,FALSE),\"\")","v":""},{"$f":"IF($B$2=StoreConfig!C1799,LEFT(StoreConfig!G1799,FIND(\"#\",StoreConfig!G1799)-1),\"\")","v":""},{"$f":"IF($B$2=StoreConfig!C1799,RIGHT(StoreConfig!G1799,LEN(StoreConfig!G1799)-FIND(\"#\",StoreConfig!G1799)),\"\")","v":""},{"$f":"IF($B$2=StoreConfig!C1799,IF(StoreConfig!L1799=0,\"不限购\",StoreConfig!L1799&\"次\"),\"\")","v":""}]
[{"$nulls":3},{"$f":"IF($B$2=StoreConfig!C1800,StoreConfig!O1800,\"\")","v":""},{"$f":"IF($B$2=StoreConfig!C1800,StoreConfig!E1800,\"\")","v":""},{"$f":"IF($B$2=StoreConfig!C1800,RIGHT(StoreConfig!J1800,LEN(StoreConfig!J1800)-FIND(\"|\",StoreConfig!J1800)),\"\")","v":""},{"$f":"IFERROR(VLOOKUP(--IF($B$2=StoreConfig!C1800,LEFT(StoreConfig!J1800,FIND(\"|\",StoreConfig!J1800)-1),\"\"),$Q$4:$R$20,2,FALSE),\"\")","v":""},{"$f":"IF($B$2=StoreConfig!C1800,LEFT(StoreConfig!G1800,FIND(\"#\",StoreConfig!G1800)-1),\"\")","v":""},{"$f":"IF($B$2=StoreConfig!C1800,RIGHT(StoreConfig!G1800,LEN(StoreConfig!G1800)-FIND(\"#\",StoreConfig!G1800)),\"\")","v":""},{"$f":"IF($B$2=StoreConfig!C1800,IF(StoreConfig!L1800=0,\"不限购\",StoreConfig!L1800&\"次\"),\"\")","v":""}]
[{"$nulls":3},{"$f":"IF($B$2=StoreConfig!C1801,StoreConfig!O1801,\"\")","v":""},{"$f":"IF($B$2=StoreConfig!C1801,StoreConfig!E1801,\"\")","v":""},{"$f":"IF($B$2=StoreConfig!C1801,RIGHT(StoreConfig!J1801,LEN(StoreConfig!J1801)-FIND(\"|\",StoreConfig!J1801)),\"\")","v":""},{"$f":"IFERROR(VLOOKUP(--IF($B$2=StoreConfig!C1801,LEFT(StoreConfig!J1801,FIND(\"|\",StoreConfig!J1801)-1),\"\"),$Q$4:$R$20,2,FALSE),\"\")","v":""},{"$f":"IF($B$2=StoreConfig!C1801,LEFT(StoreConfig!G1801,FIND(\"#\",StoreConfig!G1801)-1),\"\")","v":""},{"$f":"IF($B$2=StoreConfig!C1801,RIGHT(StoreConfig!G1801,LEN(StoreConfig!G1801)-FIND(\"#\",StoreConfig!G1801)),\"\")","v":""},{"$f":"IF($B$2=StoreConfig!C1801,IF(StoreConfig!L1801=0,\"不限购\",StoreConfig!L1801&\"次\"),\"\")","v":""}]
[{"$nulls":3},{"$f":"IF($B$2=StoreConfig!C1802,StoreConfig!O1802,\"\")","v":""},{"$f":"IF($B$2=StoreConfig!C1802,StoreConfig!E1802,\"\")","v":""},{"$f":"IF($B$2=StoreConfig!C1802,RIGHT(StoreConfig!J1802,LEN(StoreConfig!J1802)-FIND(\"|\",StoreConfig!J1802)),\"\")","v":""},{"$f":"IFERROR(VLOOKUP(--IF($B$2=StoreConfig!C1802,LEFT(StoreConfig!J1802,FIND(\"|\",StoreConfig!J1802)-1),\"\"),$Q$4:$R$20,2,FALSE),\"\")","v":""},{"$f":"IF($B$2=StoreConfig!C1802,LEFT(StoreConfig!G1802,FIND(\"#\",StoreConfig!G1802)-1),\"\")","v":""},{"$f":"IF($B$2=StoreConfig!C1802,RIGHT(StoreConfig!G1802,LEN(StoreConfig!G1802)-FIND(\"#\",StoreConfig!G1802)),\"\")","v":""},{"$f":"IF($B$2=StoreConfig!C1802,IF(StoreConfig!L1802=0,\"不限购\",StoreConfig!L1802&\"次\"),\"\")","v":""}]
[{"$nulls":3},{"$f":"IF($B$2=StoreConfig!C1803,StoreConfig!O1803,\"\")","v":""},{"$f":"IF($B$2=StoreConfig!C1803,StoreConfig!E1803,\"\")","v":""},{"$f":"IF($B$2=StoreConfig!C1803,RIGHT(StoreConfig!J1803,LEN(StoreConfig!J1803)-FIND(\"|\",StoreConfig!J1803)),\"\")","v":""},{"$f":"IFERROR(VLOOKUP(--IF($B$2=StoreConfig!C1803,LEFT(StoreConfig!J1803,FIND(\"|\",StoreConfig!J1803)-1),\"\"),$Q$4:$R$20,2,FALSE),\"\")","v":""},{"$f":"IF($B$2=StoreConfig!C1803,LEFT(StoreConfig!G1803,FIND(\"#\",StoreConfig!G1803)-1),\"\")","v":""},{"$f":"IF($B$2=StoreConfig!C1803,RIGHT(StoreConfig!G1803,LEN(StoreConfig!G1803)-FIND(\"#\",StoreConfig!G1803)),\"\")","v":""},{"$f":"IF($B$2=StoreConfig!C1803,IF(StoreConfig!L1803=0,\"不限购\",StoreConfig!L1803&\"次\"),\"\")","v":""}]
[{"$nulls":3},{"$f":"IF($B$2=StoreConfig!C1804,StoreConfig!O1804,\"\")","v":""},{"$f":"IF($B$2=StoreConfig!C1804,StoreConfig!E1804,\"\")","v":""},{"$f":"IF($B$2=StoreConfig!C1804,RIGHT(StoreConfig!J1804,LEN(StoreConfig!J1804)-FIND(\"|\",StoreConfig!J1804)),\"\")","v":""},{"$f":"IFERROR(VLOOKUP(--IF($B$2=StoreConfig!C1804,LEFT(StoreConfig!J1804,FIND(\"|\",StoreConfig!J1804)-1),\"\"),$Q$4:$R$20,2,FALSE),\"\")","v":""},{"$f":"IF($B$2=StoreConfig!C1804,LEFT(StoreConfig!G1804,FIND(\"#\",StoreConfig!G1804)-1),\"\")","v":""},{"$f":"IF($B$2=StoreConfig!C1804,RIGHT(StoreConfig!G1804,LEN(StoreConfig!G1804)-FIND(\"#\",StoreConfig!G1804)),\"\")","v":""},{"$f":"IF($B$2=StoreConfig!C1804,IF(StoreConfig!L1804=0,\"不限购\",StoreConfig!L1804&\"次\"),\"\")","v":""}]
[{"$nulls":3},{"$f":"IF($B$2=StoreConfig!C1805,StoreConfig!O1805,\"\")","v":""},{"$f":"IF($B$2=StoreConfig!C1805,StoreConfig!E1805,\"\")","v":""},{"$f":"IF($B$2=StoreConfig!C1805,RIGHT(StoreConfig!J1805,LEN(StoreConfig!J1805)-FIND(\"|\",StoreConfig!J1805)),\"\")","v":""},{"$f":"IFERROR(VLOOKUP(--IF($B$2=StoreConfig!C1805,LEFT(StoreConfig!J1805,FIND(\"|\",StoreConfig!J1805)-1),\"\"),$Q$4:$R$20,2,FALSE),\"\")","v":""},{"$f":"IF($B$2=StoreConfig!C1805,LEFT(StoreConfig!G1805,FIND(\"#\",StoreConfig!G1805)-1),\"\")","v":""},{"$f":"IF($B$2=StoreConfig!C1805,RIGHT(StoreConfig!G1805,LEN(StoreConfig!G1805)-FIND(\"#\",StoreConfig!G1805)),\"\")","v":""},{"$f":"IF($B$2=StoreConfig!C1805,IF(StoreConfig!L1805=0,\"不限购\",StoreConfig!L1805&\"次\"),\"\")","v":""}]
[{"$nulls":3},{"$f":"IF($B$2=StoreConfig!C1806,StoreConfig!O1806,\"\")","v":""},{"$f":"IF($B$2=StoreConfig!C1806,StoreConfig!E1806,\"\")","v":""},{"$f":"IF($B$2=StoreConfig!C1806,RIGHT(StoreConfig!J1806,LEN(StoreConfig!J1806)-FIND(\"|\",StoreConfig!J1806)),\"\")","v":""},{"$f":"IFERROR(VLOOKUP(--IF($B$2=StoreConfig!C1806,LEFT(StoreConfig!J1806,FIND(\"|\",StoreConfig!J1806)-1),\"\"),$Q$4:$R$20,2,FALSE),\"\")","v":""},{"$f":"IF($B$2=StoreConfig!C1806,LEFT(StoreConfig!G1806,FIND(\"#\",StoreConfig!G1806)-1),\"\")","v":""},{"$f":"IF($B$2=StoreConfig!C1806,RIGHT(StoreConfig!G1806,LEN(StoreConfig!G1806)-FIND(\"#\",StoreConfig!G1806)),\"\")","v":""},{"$f":"IF($B$2=StoreConfig!C1806,IF(StoreConfig!L1806=0,\"不限购\",StoreConfig!L1806&\"次\"),\"\")","v":""}]
[{"$nulls":3},{"$f":"IF($B$2=StoreConfig!C1807,StoreConfig!O1807,\"\")","v":""},{"$f":"IF($B$2=StoreConfig!C1807,StoreConfig!E1807,\"\")","v":""},{"$f":"IF($B$2=StoreConfig!C1807,RIGHT(StoreConfig!J1807,LEN(StoreConfig!J1807)-FIND(\"|\",StoreConfig!J1807)),\"\")","v":""},{"$f":"IFERROR(VLOOKUP(--IF($B$2=StoreConfig!C1807,LEFT(StoreConfig!J1807,FIND(\"|\",StoreConfig!J1807)-1),\"\"),$Q$4:$R$20,2,FALSE),\"\")","v":""},{"$f":"IF($B$2=StoreConfig!C1807,LEFT(StoreConfig!G1807,FIND(\"#\",StoreConfig!G1807)-1),\"\")","v":""},{"$f":"IF($B$2=StoreConfig!C1807,RIGHT(StoreConfig!G1807,LEN(StoreConfig!G1807)-FIND(\"#\",StoreConfig!G1807)),\"\")","v":""},{"$f":"IF($B$2=StoreConfig!C1807,IF(StoreConfig!L1807=0,\"不限购\",StoreConfig!L1807&\"次\"),\"\")","v":""}]
[{"$nulls":3},{"$f":"IF($B$2=StoreConfig!C1808,StoreConfig!O1808,\"\")","v":""},{"$f":"IF($B$2=StoreConfig!C1808,StoreConfig!E1808,\"\")","v":""},{"$f":"IF($B$2=StoreConfig!C1808,RIGHT(StoreConfig!J1808,LEN(StoreConfig!J1808)-FIND(\"|\",StoreConfig!J1808)),\"\")","v":""},{"$f":"IFERROR(VLOOKUP(--IF($B$2=StoreConfig!C1808,LEFT(StoreConfig!J1808,FIND(\"|\",StoreConfig!J1808)-1),\"\"),$Q$4:$R$20,2,FALSE),\"\")","v":""},{"$f":"IF($B$2=StoreConfig!C1808,LEFT(StoreConfig!G1808,FIND(\"#\",StoreConfig!G1808)-1),\"\")","v":""},{"$f":"IF($B$2=StoreConfig!C1808,RIGHT(StoreConfig!G1808,LEN(StoreConfig!G1808)-FIND(\"#\",StoreConfig!G1808)),\"\")","v":""},{"$f":"IF($B$2=StoreConfig!C1808,IF(StoreConfig!L1808=0,\"不限购\",StoreConfig!L1808&\"次\"),\"\")","v":""}]
[{"$nulls":3},{"$f":"IF($B$2=StoreConfig!C1809,StoreConfig!O1809,\"\")","v":""},{"$f":"IF($B$2=StoreConfig!C1809,StoreConfig!E1809,\"\")","v":""},{"$f":"IF($B$2=StoreConfig!C1809,RIGHT(StoreConfig!J1809,LEN(StoreConfig!J1809)-FIND(\"|\",StoreConfig!J1809)),\"\")","v":""},{"$f":"IFERROR(VLOOKUP(--IF($B$2=StoreConfig!C1809,LEFT(StoreConfig!J1809,FIND(\"|\",StoreConfig!J1809)-1),\"\"),$Q$4:$R$20,2,FALSE),\"\")","v":""},{"$f":"IF($B$2=StoreConfig!C1809,LEFT(StoreConfig!G1809,FIND(\"#\",StoreConfig!G1809)-1),\"\")","v":""},{"$f":"IF($B$2=StoreConfig!C1809,RIGHT(StoreConfig!G1809,LEN(StoreConfig!G1809)-FIND(\"#\",StoreConfig!G1809)),\"\")","v":""},{"$f":"IF($B$2=StoreConfig!C1809,IF(StoreConfig!L1809=0,\"不限购\",StoreConfig!L1809&\"次\"),\"\")","v":""}]
[{"$nulls":3},{"$f":"IF($B$2=StoreConfig!C1810,StoreConfig!O1810,\"\")","v":""},{"$f":"IF($B$2=StoreConfig!C1810,StoreConfig!E1810,\"\")","v":""},{"$f":"IF($B$2=StoreConfig!C1810,RIGHT(StoreConfig!J1810,LEN(StoreConfig!J1810)-FIND(\"|\",StoreConfig!J1810)),\"\")","v":""},{"$f":"IFERROR(VLOOKUP(--IF($B$2=StoreConfig!C1810,LEFT(StoreConfig!J1810,FIND(\"|\",StoreConfig!J1810)-1),\"\"),$Q$4:$R$20,2,FALSE),\"\")","v":""},{"$f":"IF($B$2=StoreConfig!C1810,LEFT(StoreConfig!G1810,FIND(\"#\",StoreConfig!G1810)-1),\"\")","v":""},{"$f":"IF($B$2=StoreConfig!C1810,RIGHT(StoreConfig!G1810,LEN(StoreConfig!G1810)-FIND(\"#\",StoreConfig!G1810)),\"\")","v":""},{"$f":"IF($B$2=StoreConfig!C1810,IF(StoreConfig!L1810=0,\"不限购\",StoreConfig!L1810&\"次\"),\"\")","v":""}]
[{"$nulls":3},{"$f":"IF($B$2=StoreConfig!C1811,StoreConfig!O1811,\"\")","v":""},{"$f":"IF($B$2=StoreConfig!C1811,StoreConfig!E1811,\"\")","v":""},{"$f":"IF($B$2=StoreConfig!C1811,RIGHT(StoreConfig!J1811,LEN(StoreConfig!J1811)-FIND(\"|\",StoreConfig!J1811)),\"\")","v":""},{"$f":"IFERROR(VLOOKUP(--IF($B$2=StoreConfig!C1811,LEFT(StoreConfig!J1811,FIND(\"|\",StoreConfig!J1811)-1),\"\"),$Q$4:$R$20,2,FALSE),\"\")","v":""},{"$f":"IF($B$2=StoreConfig!C1811,LEFT(StoreConfig!G1811,FIND(\"#\",StoreConfig!G1811)-1),\"\")","v":""},{"$f":"IF($B$2=StoreConfig!C1811,RIGHT(StoreConfig!G1811,LEN(StoreConfig!G1811)-FIND(\"#\",StoreConfig!G1811)),\"\")","v":""},{"$f":"IF($B$2=StoreConfig!C1811,IF(StoreConfig!L1811=0,\"不限购\",StoreConfig!L1811&\"次\"),\"\")","v":""}]
[{"$nulls":3},{"$f":"IF($B$2=StoreConfig!C1812,StoreConfig!O1812,\"\")","v":""},{"$f":"IF($B$2=StoreConfig!C1812,StoreConfig!E1812,\"\")","v":""},{"$f":"IF($B$2=StoreConfig!C1812,RIGHT(StoreConfig!J1812,LEN(StoreConfig!J1812)-FIND(\"|\",StoreConfig!J1812)),\"\")","v":""},{"$f":"IFERROR(VLOOKUP(--IF($B$2=StoreConfig!C1812,LEFT(StoreConfig!J1812,FIND(\"|\",StoreConfig!J1812)-1),\"\"),$Q$4:$R$20,2,FALSE),\"\")","v":""},{"$f":"IF($B$2=StoreConfig!C1812,LEFT(StoreConfig!G1812,FIND(\"#\",StoreConfig!G1812)-1),\"\")","v":""},{"$f":"IF($B$2=StoreConfig!C1812,RIGHT(StoreConfig!G1812,LEN(StoreConfig!G1812)-FIND(\"#\",StoreConfig!G1812)),\"\")","v":""},{"$f":"IF($B$2=StoreConfig!C1812,IF(StoreConfig!L1812=0,\"不限购\",StoreConfig!L1812&\"次\"),\"\")","v":""}]
[{"$nulls":3},{"$f":"IF($B$2=StoreConfig!C1813,StoreConfig!O1813,\"\")","v":""},{"$f":"IF($B$2=StoreConfig!C1813,StoreConfig!E1813,\"\")","v":""},{"$f":"IF($B$2=StoreConfig!C1813,RIGHT(StoreConfig!J1813,LEN(StoreConfig!J1813)-FIND(\"|\",StoreConfig!J1813)),\"\")","v":""},{"$f":"IFERROR(VLOOKUP(--IF($B$2=StoreConfig!C1813,LEFT(StoreConfig!J1813,FIND(\"|\",StoreConfig!J1813)-1),\"\"),$Q$4:$R$20,2,FALSE),\"\")","v":""},{"$f":"IF($B$2=StoreConfig!C1813,LEFT(StoreConfig!G1813,FIND(\"#\",StoreConfig!G1813)-1),\"\")","v":""},{"$f":"IF($B$2=StoreConfig!C1813,RIGHT(StoreConfig!G1813,LEN(StoreConfig!G1813)-FIND(\"#\",StoreConfig!G1813)),\"\")","v":""},{"$f":"IF($B$2=StoreConfig!C1813,IF(StoreConfig!L1813=0,\"不限购\",StoreConfig!L1813&\"次\"),\"\")","v":""}]
[{"$nulls":3},{"$f":"IF($B$2=StoreConfig!C1814,StoreConfig!O1814,\"\")","v":""},{"$f":"IF($B$2=StoreConfig!C1814,StoreConfig!E1814,\"\")","v":""},{"$f":"IF($B$2=StoreConfig!C1814,RIGHT(StoreConfig!J1814,LEN(StoreConfig!J1814)-FIND(\"|\",StoreConfig!J1814)),\"\")","v":""},{"$f":"IFERROR(VLOOKUP(--IF($B$2=StoreConfig!C1814,LEFT(StoreConfig!J1814,FIND(\"|\",StoreConfig!J1814)-1),\"\"),$Q$4:$R$20,2,FALSE),\"\")","v":""},{"$f":"IF($B$2=StoreConfig!C1814,LEFT(StoreConfig!G1814,FIND(\"#\",StoreConfig!G1814)-1),\"\")","v":""},{"$f":"IF($B$2=StoreConfig!C1814,RIGHT(StoreConfig!G1814,LEN(StoreConfig!G1814)-FIND(\"#\",StoreConfig!G1814)),\"\")","v":""},{"$f":"IF($B$2=StoreConfig!C1814,IF(StoreConfig!L1814=0,\"不限购\",StoreConfig!L1814&\"次\"),\"\")","v":""}]
[{"$nulls":3},{"$f":"IF($B$2=StoreConfig!C1815,StoreConfig!O1815,\"\")","v":""},{"$f":"IF($B$2=StoreConfig!C1815,StoreConfig!E1815,\"\")","v":""},{"$f":"IF($B$2=StoreConfig!C1815,RIGHT(StoreConfig!J1815,LEN(StoreConfig!J1815)-FIND(\"|\",StoreConfig!J1815)),\"\")","v":""},{"$f":"IFERROR(VLOOKUP(--IF($B$2=StoreConfig!C1815,LEFT(StoreConfig!J1815,FIND(\"|\",StoreConfig!J1815)-1),\"\"),$Q$4:$R$20,2,FALSE),\"\")","v":""},{"$f":"IF($B$2=StoreConfig!C1815,LEFT(StoreConfig!G1815,FIND(\"#\",StoreConfig!G1815)-1),\"\")","v":""},{"$f":"IF($B$2=StoreConfig!C1815,RIGHT(StoreConfig!G1815,LEN(StoreConfig!G1815)-FIND(\"#\",StoreConfig!G1815)),\"\")","v":""},{"$f":"IF($B$2=StoreConfig!C1815,IF(StoreConfig!L1815=0,\"不限购\",StoreConfig!L1815&\"次\"),\"\")","v":""}]
[{"$nulls":3},{"$f":"IF($B$2=StoreConfig!C1816,StoreConfig!O1816,\"\")","v":""},{"$f":"IF($B$2=StoreConfig!C1816,StoreConfig!E1816,\"\")","v":""},{"$f":"IF($B$2=StoreConfig!C1816,RIGHT(StoreConfig!J1816,LEN(StoreConfig!J1816)-FIND(\"|\",StoreConfig!J1816)),\"\")","v":""},{"$f":"IFERROR(VLOOKUP(--IF($B$2=StoreConfig!C1816,LEFT(StoreConfig!J1816,FIND(\"|\",StoreConfig!J1816)-1),\"\"),$Q$4:$R$20,2,FALSE),\"\")","v":""},{"$f":"IF($B$2=StoreConfig!C1816,LEFT(StoreConfig!G1816,FIND(\"#\",StoreConfig!G1816)-1),\"\")","v":""},{"$f":"IF($B$2=StoreConfig!C1816,RIGHT(StoreConfig!G1816,LEN(StoreConfig!G1816)-FIND(\"#\",StoreConfig!G1816)),\"\")","v":""},{"$f":"IF($B$2=StoreConfig!C1816,IF(StoreConfig!L1816=0,\"不限购\",StoreConfig!L1816&\"次\"),\"\")","v":""}]
[{"$nulls":3},{"$f":"IF($B$2=StoreConfig!C1817,StoreConfig!O1817,\"\")","v":""},{"$f":"IF($B$2=StoreConfig!C1817,StoreConfig!E1817,\"\")","v":""},{"$f":"IF($B$2=StoreConfig!C1817,RIGHT(StoreConfig!J1817,LEN(StoreConfig!J1817)-FIND(\"|\",StoreConfig!J1817)),\"\")","v":""},{"$f":"IFERROR(VLOOKUP(--IF($B$2=StoreConfig!C1817,LEFT(StoreConfig!J1817,FIND(\"|\",StoreConfig!J1817)-1),\"\"),$Q$4:$R$20,2,FALSE),\"\")","v":""},{"$f":"IF($B$2=StoreConfig!C1817,LEFT(StoreConfig!G1817,FIND(\"#\",StoreConfig!G1817)-1),\"\")","v":""},{"$f":"IF($B$2=StoreConfig!C1817,RIGHT(StoreConfig!G1817,LEN(StoreConfig!G1817)-FIND(\"#\",StoreConfig!G1817)),\"\")","v":""},{"$f":"IF($B$2=StoreConfig!C1817,IF(StoreConfig!L1817=0,\"不限购\",StoreConfig!L1817&\"次\"),\"\")","v":""}]
[{"$nulls":3},{"$f":"IF($B$2=StoreConfig!C1818,StoreConfig!O1818,\"\")","v":""},{"$f":"IF($B$2=StoreConfig!C1818,StoreConfig!E1818,\"\")","v":""},{"$f":"IF($B$2=StoreConfig!C1818,RIGHT(StoreConfig!J1818,LEN(StoreConfig!J1818)-FIND(\"|\",StoreConfig!J1818)),\"\")","v":""},{"$f":"IFERROR(VLOOKUP(--IF($B$2=StoreConfig!C1818,LEFT(StoreConfig!J1818,FIND(\"|\",StoreConfig!J1818)-1),\"\"),$Q$4:$R$20,2,FALSE),\"\")","v":""},{"$f":"IF($B$2=StoreConfig!C1818,LEFT(StoreConfig!G1818,FIND(\"#\",StoreConfig!G1818)-1),\"\")","v":""},{"$f":"IF($B$2=StoreConfig!C1818,RIGHT(StoreConfig!G1818,LEN(StoreConfig!G1818)-FIND(\"#\",StoreConfig!G1818)),\"\")","v":""},{"$f":"IF($B$2=StoreConfig!C1818,IF(StoreConfig!L1818=0,\"不限购\",StoreConfig!L1818&\"次\"),\"\")","v":""}]
[{"$nulls":3},{"$f":"IF($B$2=StoreConfig!C1819,StoreConfig!O1819,\"\")","v":""},{"$f":"IF($B$2=StoreConfig!C1819,StoreConfig!E1819,\"\")","v":""},{"$f":"IF($B$2=StoreConfig!C1819,RIGHT(StoreConfig!J1819,LEN(StoreConfig!J1819)-FIND(\"|\",StoreConfig!J1819)),\"\")","v":""},{"$f":"IFERROR(VLOOKUP(--IF($B$2=StoreConfig!C1819,LEFT(StoreConfig!J1819,FIND(\"|\",StoreConfig!J1819)-1),\"\"),$Q$4:$R$20,2,FALSE),\"\")","v":""},{"$f":"IF($B$2=StoreConfig!C1819,LEFT(StoreConfig!G1819,FIND(\"#\",StoreConfig!G1819)-1),\"\")","v":""},{"$f":"IF($B$2=StoreConfig!C1819,RIGHT(StoreConfig!G1819,LEN(StoreConfig!G1819)-FIND(\"#\",StoreConfig!G1819)),\"\")","v":""},{"$f":"IF($B$2=StoreConfig!C1819,IF(StoreConfig!L1819=0,\"不限购\",StoreConfig!L1819&\"次\"),\"\")","v":""}]
[{"$nulls":3},{"$f":"IF($B$2=StoreConfig!C1820,StoreConfig!O1820,\"\")","v":""},{"$f":"IF($B$2=StoreConfig!C1820,StoreConfig!E1820,\"\")","v":""},{"$f":"IF($B$2=StoreConfig!C1820,RIGHT(StoreConfig!J1820,LEN(StoreConfig!J1820)-FIND(\"|\",StoreConfig!J1820)),\"\")","v":""},{"$f":"IFERROR(VLOOKUP(--IF($B$2=StoreConfig!C1820,LEFT(StoreConfig!J1820,FIND(\"|\",StoreConfig!J1820)-1),\"\"),$Q$4:$R$20,2,FALSE),\"\")","v":""},{"$f":"IF($B$2=StoreConfig!C1820,LEFT(StoreConfig!G1820,FIND(\"#\",StoreConfig!G1820)-1),\"\")","v":""},{"$f":"IF($B$2=StoreConfig!C1820,RIGHT(StoreConfig!G1820,LEN(StoreConfig!G1820)-FIND(\"#\",StoreConfig!G1820)),\"\")","v":""},{"$f":"IF($B$2=StoreConfig!C1820,IF(StoreConfig!L1820=0,\"不限购\",StoreConfig!L1820&\"次\"),\"\")","v":""}]
[{"$nulls":3},{"$f":"IF($B$2=StoreConfig!C1821,StoreConfig!O1821,\"\")","v":""},{"$f":"IF($B$2=StoreConfig!C1821,StoreConfig!E1821,\"\")","v":""},{"$f":"IF($B$2=StoreConfig!C1821,RIGHT(StoreConfig!J1821,LEN(StoreConfig!J1821)-FIND(\"|\",StoreConfig!J1821)),\"\")","v":""},{"$f":"IFERROR(VLOOKUP(--IF($B$2=StoreConfig!C1821,LEFT(StoreConfig!J1821,FIND(\"|\",StoreConfig!J1821)-1),\"\"),$Q$4:$R$20,2,FALSE),\"\")","v":""},{"$f":"IF($B$2=StoreConfig!C1821,LEFT(StoreConfig!G1821,FIND(\"#\",StoreConfig!G1821)-1),\"\")","v":""},{"$f":"IF($B$2=StoreConfig!C1821,RIGHT(StoreConfig!G1821,LEN(StoreConfig!G1821)-FIND(\"#\",StoreConfig!G1821)),\"\")","v":""},{"$f":"IF($B$2=StoreConfig!C1821,IF(StoreConfig!L1821=0,\"不限购\",StoreConfig!L1821&\"次\"),\"\")","v":""}]
[{"$nulls":3},{"$f":"IF($B$2=StoreConfig!C1822,StoreConfig!O1822,\"\")","v":""},{"$f":"IF($B$2=StoreConfig!C1822,StoreConfig!E1822,\"\")","v":""},{"$f":"IF($B$2=StoreConfig!C1822,RIGHT(StoreConfig!J1822,LEN(StoreConfig!J1822)-FIND(\"|\",StoreConfig!J1822)),\"\")","v":""},{"$f":"IFERROR(VLOOKUP(--IF($B$2=StoreConfig!C1822,LEFT(StoreConfig!J1822,FIND(\"|\",StoreConfig!J1822)-1),\"\"),$Q$4:$R$20,2,FALSE),\"\")","v":""},{"$f":"IF($B$2=StoreConfig!C1822,LEFT(StoreConfig!G1822,FIND(\"#\",StoreConfig!G1822)-1),\"\")","v":""},{"$f":"IF($B$2=StoreConfig!C1822,RIGHT(StoreConfig!G1822,LEN(StoreConfig!G1822)-FIND(\"#\",StoreConfig!G1822)),\"\")","v":""},{"$f":"IF($B$2=StoreConfig!C1822,IF(StoreConfig!L1822=0,\"不限购\",StoreConfig!L1822&\"次\"),\"\")","v":""}]
[{"$nulls":3},{"$f":"IF($B$2=StoreConfig!C1823,StoreConfig!O1823,\"\")","v":""},{"$f":"IF($B$2=StoreConfig!C1823,StoreConfig!E1823,\"\")","v":""},{"$f":"IF($B$2=StoreConfig!C1823,RIGHT(StoreConfig!J1823,LEN(StoreConfig!J1823)-FIND(\"|\",StoreConfig!J1823)),\"\")","v":""},{"$f":"IFERROR(VLOOKUP(--IF($B$2=StoreConfig!C1823,LEFT(StoreConfig!J1823,FIND(\"|\",StoreConfig!J1823)-1),\"\"),$Q$4:$R$20,2,FALSE),\"\")","v":""},{"$f":"IF($B$2=StoreConfig!C1823,LEFT(StoreConfig!G1823,FIND(\"#\",StoreConfig!G1823)-1),\"\")","v":""},{"$f":"IF($B$2=StoreConfig!C1823,RIGHT(StoreConfig!G1823,LEN(StoreConfig!G1823)-FIND(\"#\",StoreConfig!G1823)),\"\")","v":""},{"$f":"IF($B$2=StoreConfig!C1823,IF(StoreConfig!L1823=0,\"不限购\",StoreConfig!L1823&\"次\"),\"\")","v":""}]
[{"$nulls":3},{"$f":"IF($B$2=StoreConfig!C1824,StoreConfig!O1824,\"\")","v":""},{"$f":"IF($B$2=StoreConfig!C1824,StoreConfig!E1824,\"\")","v":""},{"$f":"IF($B$2=StoreConfig!C1824,RIGHT(StoreConfig!J1824,LEN(StoreConfig!J1824)-FIND(\"|\",StoreConfig!J1824)),\"\")","v":""},{"$f":"IFERROR(VLOOKUP(--IF($B$2=StoreConfig!C1824,LEFT(StoreConfig!J1824,FIND(\"|\",StoreConfig!J1824)-1),\"\"),$Q$4:$R$20,2,FALSE),\"\")","v":""},{"$f":"IF($B$2=StoreConfig!C1824,LEFT(StoreConfig!G1824,FIND(\"#\",StoreConfig!G1824)-1),\"\")","v":""},{"$f":"IF($B$2=StoreConfig!C1824,RIGHT(StoreConfig!G1824,LEN(StoreConfig!G1824)-FIND(\"#\",StoreConfig!G1824)),\"\")","v":""},{"$f":"IF($B$2=StoreConfig!C1824,IF(StoreConfig!L1824=0,\"不限购\",StoreConfig!L1824&\"次\"),\"\")","v":""}]
[{"$nulls":3},{"$f":"IF($B$2=StoreConfig!C1825,StoreConfig!O1825,\"\")","v":""},{"$f":"IF($B$2=StoreConfig!C1825,StoreConfig!E1825,\"\")","v":""},{"$f":"IF($B$2=StoreConfig!C1825,RIGHT(StoreConfig!J1825,LEN(StoreConfig!J1825)-FIND(\"|\",StoreConfig!J1825)),\"\")","v":""},{"$f":"IFERROR(VLOOKUP(--IF($B$2=StoreConfig!C1825,LEFT(StoreConfig!J1825,FIND(\"|\",StoreConfig!J1825)-1),\"\"),$Q$4:$R$20,2,FALSE),\"\")","v":""},{"$f":"IF($B$2=StoreConfig!C1825,LEFT(StoreConfig!G1825,FIND(\"#\",StoreConfig!G1825)-1),\"\")","v":""},{"$f":"IF($B$2=StoreConfig!C1825,RIGHT(StoreConfig!G1825,LEN(StoreConfig!G1825)-FIND(\"#\",StoreConfig!G1825)),\"\")","v":""},{"$f":"IF($B$2=StoreConfig!C1825,IF(StoreConfig!L1825=0,\"不限购\",StoreConfig!L1825&\"次\"),\"\")","v":""}]
[{"$nulls":3},{"$f":"IF($B$2=StoreConfig!C1826,StoreConfig!O1826,\"\")","v":""},{"$f":"IF($B$2=StoreConfig!C1826,StoreConfig!E1826,\"\")","v":""},{"$f":"IF($B$2=StoreConfig!C1826,RIGHT(StoreConfig!J1826,LEN(StoreConfig!J1826)-FIND(\"|\",StoreConfig!J1826)),\"\")","v":""},{"$f":"IFERROR(VLOOKUP(--IF($B$2=StoreConfig!C1826,LEFT(StoreConfig!J1826,FIND(\"|\",StoreConfig!J1826)-1),\"\"),$Q$4:$R$20,2,FALSE),\"\")","v":""},{"$f":"IF($B$2=StoreConfig!C1826,LEFT(StoreConfig!G1826,FIND(\"#\",StoreConfig!G1826)-1),\"\")","v":""},{"$f":"IF($B$2=StoreConfig!C1826,RIGHT(StoreConfig!G1826,LEN(StoreConfig!G1826)-FIND(\"#\",StoreConfig!G1826)),\"\")","v":""},{"$f":"IF($B$2=StoreConfig!C1826,IF(StoreConfig!L1826=0,\"不限购\",StoreConfig!L1826&\"次\"),\"\")","v":""}]
[{"$nulls":3},{"$f":"IF($B$2=StoreConfig!C1827,StoreConfig!O1827,\"\")","v":""},{"$f":"IF($B$2=StoreConfig!C1827,StoreConfig!E1827,\"\")","v":""},{"$f":"IF($B$2=StoreConfig!C1827,RIGHT(StoreConfig!J1827,LEN(StoreConfig!J1827)-FIND(\"|\",StoreConfig!J1827)),\"\")","v":""},{"$f":"IFERROR(VLOOKUP(--IF($B$2=StoreConfig!C1827,LEFT(StoreConfig!J1827,FIND(\"|\",StoreConfig!J1827)-1),\"\"),$Q$4:$R$20,2,FALSE),\"\")","v":""},{"$f":"IF($B$2=StoreConfig!C1827,LEFT(StoreConfig!G1827,FIND(\"#\",StoreConfig!G1827)-1),\"\")","v":""},{"$f":"IF($B$2=StoreConfig!C1827,RIGHT(StoreConfig!G1827,LEN(StoreConfig!G1827)-FIND(\"#\",StoreConfig!G1827)),\"\")","v":""},{"$f":"IF($B$2=StoreConfig!C1827,IF(StoreConfig!L1827=0,\"不限购\",StoreConfig!L1827&\"次\"),\"\")","v":""}]
[{"$nulls":3},{"$f":"IF($B$2=StoreConfig!C1828,StoreConfig!O1828,\"\")","v":""},{"$f":"IF($B$2=StoreConfig!C1828,StoreConfig!E1828,\"\")","v":""},{"$f":"IF($B$2=StoreConfig!C1828,RIGHT(StoreConfig!J1828,LEN(StoreConfig!J1828)-FIND(\"|\",StoreConfig!J1828)),\"\")","v":""},{"$f":"IFERROR(VLOOKUP(--IF($B$2=StoreConfig!C1828,LEFT(StoreConfig!J1828,FIND(\"|\",StoreConfig!J1828)-1),\"\"),$Q$4:$R$20,2,FALSE),\"\")","v":""},{"$f":"IF($B$2=StoreConfig!C1828,LEFT(StoreConfig!G1828,FIND(\"#\",StoreConfig!G1828)-1),\"\")","v":""},{"$f":"IF($B$2=StoreConfig!C1828,RIGHT(StoreConfig!G1828,LEN(StoreConfig!G1828)-FIND(\"#\",StoreConfig!G1828)),\"\")","v":""},{"$f":"IF($B$2=StoreConfig!C1828,IF(StoreConfig!L1828=0,\"不限购\",StoreConfig!L1828&\"次\"),\"\")","v":""}]
[{"$nulls":3},{"$f":"IF($B$2=StoreConfig!C1829,StoreConfig!O1829,\"\")","v":""},{"$f":"IF($B$2=StoreConfig!C1829,StoreConfig!E1829,\"\")","v":""},{"$f":"IF($B$2=StoreConfig!C1829,RIGHT(StoreConfig!J1829,LEN(StoreConfig!J1829)-FIND(\"|\",StoreConfig!J1829)),\"\")","v":""},{"$f":"IFERROR(VLOOKUP(--IF($B$2=StoreConfig!C1829,LEFT(StoreConfig!J1829,FIND(\"|\",StoreConfig!J1829)-1),\"\"),$Q$4:$R$20,2,FALSE),\"\")","v":""},{"$f":"IF($B$2=StoreConfig!C1829,LEFT(StoreConfig!G1829,FIND(\"#\",StoreConfig!G1829)-1),\"\")","v":""},{"$f":"IF($B$2=StoreConfig!C1829,RIGHT(StoreConfig!G1829,LEN(StoreConfig!G1829)-FIND(\"#\",StoreConfig!G1829)),\"\")","v":""},{"$f":"IF($B$2=StoreConfig!C1829,IF(StoreConfig!L1829=0,\"不限购\",StoreConfig!L1829&\"次\"),\"\")","v":""}]
[{"$nulls":3},{"$f":"IF($B$2=StoreConfig!C1830,StoreConfig!O1830,\"\")","v":""},{"$f":"IF($B$2=StoreConfig!C1830,StoreConfig!E1830,\"\")","v":""},{"$f":"IF($B$2=StoreConfig!C1830,RIGHT(StoreConfig!J1830,LEN(StoreConfig!J1830)-FIND(\"|\",StoreConfig!J1830)),\"\")","v":""},{"$f":"IFERROR(VLOOKUP(--IF($B$2=StoreConfig!C1830,LEFT(StoreConfig!J1830,FIND(\"|\",StoreConfig!J1830)-1),\"\"),$Q$4:$R$20,2,FALSE),\"\")","v":""},{"$f":"IF($B$2=StoreConfig!C1830,LEFT(StoreConfig!G1830,FIND(\"#\",StoreConfig!G1830)-1),\"\")","v":""},{"$f":"IF($B$2=StoreConfig!C1830,RIGHT(StoreConfig!G1830,LEN(StoreConfig!G1830)-FIND(\"#\",StoreConfig!G1830)),\"\")","v":""},{"$f":"IF($B$2=StoreConfig!C1830,IF(StoreConfig!L1830=0,\"不限购\",StoreConfig!L1830&\"次\"),\"\")","v":""}]
[{"$nulls":3},{"$f":"IF($B$2=StoreConfig!C1831,StoreConfig!O1831,\"\")","v":""},{"$f":"IF($B$2=StoreConfig!C1831,StoreConfig!E1831,\"\")","v":""},{"$f":"IF($B$2=StoreConfig!C1831,RIGHT(StoreConfig!J1831,LEN(StoreConfig!J1831)-FIND(\"|\",StoreConfig!J1831)),\"\")","v":""},{"$f":"IFERROR(VLOOKUP(--IF($B$2=StoreConfig!C1831,LEFT(StoreConfig!J1831,FIND(\"|\",StoreConfig!J1831)-1),\"\"),$Q$4:$R$20,2,FALSE),\"\")","v":""},{"$f":"IF($B$2=StoreConfig!C1831,LEFT(StoreConfig!G1831,FIND(\"#\",StoreConfig!G1831)-1),\"\")","v":""},{"$f":"IF($B$2=StoreConfig!C1831,RIGHT(StoreConfig!G1831,LEN(StoreConfig!G1831)-FIND(\"#\",StoreConfig!G1831)),\"\")","v":""},{"$f":"IF($B$2=StoreConfig!C1831,IF(StoreConfig!L1831=0,\"不限购\",StoreConfig!L1831&\"次\"),\"\")","v":""}]
[{"$nulls":3},{"$f":"IF($B$2=StoreConfig!C1832,StoreConfig!O1832,\"\")","v":""},{"$f":"IF($B$2=StoreConfig!C1832,StoreConfig!E1832,\"\")","v":""},{"$f":"IF($B$2=StoreConfig!C1832,RIGHT(StoreConfig!J1832,LEN(StoreConfig!J1832)-FIND(\"|\",StoreConfig!J1832)),\"\")","v":""},{"$f":"IFERROR(VLOOKUP(--IF($B$2=StoreConfig!C1832,LEFT(StoreConfig!J1832,FIND(\"|\",StoreConfig!J1832)-1),\"\"),$Q$4:$R$20,2,FALSE),\"\")","v":""},{"$f":"IF($B$2=StoreConfig!C1832,LEFT(StoreConfig!G1832,FIND(\"#\",StoreConfig!G1832)-1),\"\")","v":""},{"$f":"IF($B$2=StoreConfig!C1832,RIGHT(StoreConfig!G1832,LEN(StoreConfig!G1832)-FIND(\"#\",StoreConfig!G1832)),\"\")","v":""},{"$f":"IF($B$2=StoreConfig!C1832,IF(StoreConfig!L1832=0,\"不限购\",StoreConfig!L1832&\"次\"),\"\")","v":""}]
[{"$nulls":3},{"$f":"IF($B$2=StoreConfig!C1833,StoreConfig!O1833,\"\")","v":""},{"$f":"IF($B$2=StoreConfig!C1833,StoreConfig!E1833,\"\")","v":""},{"$f":"IF($B$2=StoreConfig!C1833,RIGHT(StoreConfig!J1833,LEN(StoreConfig!J1833)-FIND(\"|\",StoreConfig!J1833)),\"\")","v":""},{"$f":"IFERROR(VLOOKUP(--IF($B$2=StoreConfig!C1833,LEFT(StoreConfig!J1833,FIND(\"|\",StoreConfig!J1833)-1),\"\"),$Q$4:$R$20,2,FALSE),\"\")","v":""},{"$f":"IF($B$2=StoreConfig!C1833,LEFT(StoreConfig!G1833,FIND(\"#\",StoreConfig!G1833)-1),\"\")","v":""},{"$f":"IF($B$2=StoreConfig!C1833,RIGHT(StoreConfig!G1833,LEN(StoreConfig!G1833)-FIND(\"#\",StoreConfig!G1833)),\"\")","v":""},{"$f":"IF($B$2=StoreConfig!C1833,IF(StoreConfig!L1833=0,\"不限购\",StoreConfig!L1833&\"次\"),\"\")","v":""}]
[{"$nulls":3},{"$f":"IF($B$2=StoreConfig!C1834,StoreConfig!O1834,\"\")","v":""},{"$f":"IF($B$2=StoreConfig!C1834,StoreConfig!E1834,\"\")","v":""},{"$f":"IF($B$2=StoreConfig!C1834,RIGHT(StoreConfig!J1834,LEN(StoreConfig!J1834)-FIND(\"|\",StoreConfig!J1834)),\"\")","v":""},{"$f":"IFERROR(VLOOKUP(--IF($B$2=StoreConfig!C1834,LEFT(StoreConfig!J1834,FIND(\"|\",StoreConfig!J1834)-1),\"\"),$Q$4:$R$20,2,FALSE),\"\")","v":""},{"$f":"IF($B$2=StoreConfig!C1834,LEFT(StoreConfig!G1834,FIND(\"#\",StoreConfig!G1834)-1),\"\")","v":""},{"$f":"IF($B$2=StoreConfig!C1834,RIGHT(StoreConfig!G1834,LEN(StoreConfig!G1834)-FIND(\"#\",StoreConfig!G1834)),\"\")","v":""},{"$f":"IF($B$2=StoreConfig!C1834,IF(StoreConfig!L1834=0,\"不限购\",StoreConfig!L1834&\"次\"),\"\")","v":""}]
[{"$nulls":3},{"$f":"IF($B$2=StoreConfig!C1835,StoreConfig!O1835,\"\")","v":""},{"$f":"IF($B$2=StoreConfig!C1835,StoreConfig!E1835,\"\")","v":""},{"$f":"IF($B$2=StoreConfig!C1835,RIGHT(StoreConfig!J1835,LEN(StoreConfig!J1835)-FIND(\"|\",StoreConfig!J1835)),\"\")","v":""},{"$f":"IFERROR(VLOOKUP(--IF($B$2=StoreConfig!C1835,LEFT(StoreConfig!J1835,FIND(\"|\",StoreConfig!J1835)-1),\"\"),$Q$4:$R$20,2,FALSE),\"\")","v":""},{"$f":"IF($B$2=StoreConfig!C1835,LEFT(StoreConfig!G1835,FIND(\"#\",StoreConfig!G1835)-1),\"\")","v":""},{"$f":"IF($B$2=StoreConfig!C1835,RIGHT(StoreConfig!G1835,LEN(StoreConfig!G1835)-FIND(\"#\",StoreConfig!G1835)),\"\")","v":""},{"$f":"IF($B$2=StoreConfig!C1835,IF(StoreConfig!L1835=0,\"不限购\",StoreConfig!L1835&\"次\"),\"\")","v":""}]
[{"$nulls":3},{"$f":"IF($B$2=StoreConfig!C1836,StoreConfig!O1836,\"\")","v":""},{"$f":"IF($B$2=StoreConfig!C1836,StoreConfig!E1836,\"\")","v":""},{"$f":"IF($B$2=StoreConfig!C1836,RIGHT(StoreConfig!J1836,LEN(StoreConfig!J1836)-FIND(\"|\",StoreConfig!J1836)),\"\")","v":""},{"$f":"IFERROR(VLOOKUP(--IF($B$2=StoreConfig!C1836,LEFT(StoreConfig!J1836,FIND(\"|\",StoreConfig!J1836)-1),\"\"),$Q$4:$R$20,2,FALSE),\"\")","v":""},{"$f":"IF($B$2=StoreConfig!C1836,LEFT(StoreConfig!G1836,FIND(\"#\",StoreConfig!G1836)-1),\"\")","v":""},{"$f":"IF($B$2=StoreConfig!C1836,RIGHT(StoreConfig!G1836,LEN(StoreConfig!G1836)-FIND(\"#\",StoreConfig!G1836)),\"\")","v":""},{"$f":"IF($B$2=StoreConfig!C1836,IF(StoreConfig!L1836=0,\"不限购\",StoreConfig!L1836&\"次\"),\"\")","v":""}]
[{"$nulls":3},{"$f":"IF($B$2=StoreConfig!C1837,StoreConfig!O1837,\"\")","v":""},{"$f":"IF($B$2=StoreConfig!C1837,StoreConfig!E1837,\"\")","v":""},{"$f":"IF($B$2=StoreConfig!C1837,RIGHT(StoreConfig!J1837,LEN(StoreConfig!J1837)-FIND(\"|\",StoreConfig!J1837)),\"\")","v":""},{"$f":"IFERROR(VLOOKUP(--IF($B$2=StoreConfig!C1837,LEFT(StoreConfig!J1837,FIND(\"|\",StoreConfig!J1837)-1),\"\"),$Q$4:$R$20,2,FALSE),\"\")","v":""},{"$f":"IF($B$2=StoreConfig!C1837,LEFT(StoreConfig!G1837,FIND(\"#\",StoreConfig!G1837)-1),\"\")","v":""},{"$f":"IF($B$2=StoreConfig!C1837,RIGHT(StoreConfig!G1837,LEN(StoreConfig!G1837)-FIND(\"#\",StoreConfig!G1837)),\"\")","v":""},{"$f":"IF($B$2=StoreConfig!C1837,IF(StoreConfig!L1837=0,\"不限购\",StoreConfig!L1837&\"次\"),\"\")","v":""}]
[{"$nulls":3},{"$f":"IF($B$2=StoreConfig!C1838,StoreConfig!O1838,\"\")","v":""},{"$f":"IF($B$2=StoreConfig!C1838,StoreConfig!E1838,\"\")","v":""},{"$f":"IF($B$2=StoreConfig!C1838,RIGHT(StoreConfig!J1838,LEN(StoreConfig!J1838)-FIND(\"|\",StoreConfig!J1838)),\"\")","v":""},{"$f":"IFERROR(VLOOKUP(--IF($B$2=StoreConfig!C1838,LEFT(StoreConfig!J1838,FIND(\"|\",StoreConfig!J1838)-1),\"\"),$Q$4:$R$20,2,FALSE),\"\")","v":""},{"$f":"IF($B$2=StoreConfig!C1838,LEFT(StoreConfig!G1838,FIND(\"#\",StoreConfig!G1838)-1),\"\")","v":""},{"$f":"IF($B$2=StoreConfig!C1838,RIGHT(StoreConfig!G1838,LEN(StoreConfig!G1838)-FIND(\"#\",StoreConfig!G1838)),\"\")","v":""},{"$f":"IF($B$2=StoreConfig!C1838,IF(StoreConfig!L1838=0,\"不限购\",StoreConfig!L1838&\"次\"),\"\")","v":""}]
[{"$nulls":3},{"$f":"IF($B$2=StoreConfig!C1839,StoreConfig!O1839,\"\")","v":""},{"$f":"IF($B$2=StoreConfig!C1839,StoreConfig!E1839,\"\")","v":""},{"$f":"IF($B$2=StoreConfig!C1839,RIGHT(StoreConfig!J1839,LEN(StoreConfig!J1839)-FIND(\"|\",StoreConfig!J1839)),\"\")","v":""},{"$f":"IFERROR(VLOOKUP(--IF($B$2=StoreConfig!C1839,LEFT(StoreConfig!J1839,FIND(\"|\",StoreConfig!J1839)-1),\"\"),$Q$4:$R$20,2,FALSE),\"\")","v":""},{"$f":"IF($B$2=StoreConfig!C1839,LEFT(StoreConfig!G1839,FIND(\"#\",StoreConfig!G1839)-1),\"\")","v":""},{"$f":"IF($B$2=StoreConfig!C1839,RIGHT(StoreConfig!G1839,LEN(StoreConfig!G1839)-FIND(\"#\",StoreConfig!G1839)),\"\")","v":""},{"$f":"IF($B$2=StoreConfig!C1839,IF(StoreConfig!L1839=0,\"不限购\",StoreConfig!L1839&\"次\"),\"\")","v":""}]
[{"$nulls":3},{"$f":"IF($B$2=StoreConfig!C1840,StoreConfig!O1840,\"\")","v":""},{"$f":"IF($B$2=StoreConfig!C1840,StoreConfig!E1840,\"\")","v":""},{"$f":"IF($B$2=StoreConfig!C1840,RIGHT(StoreConfig!J1840,LEN(StoreConfig!J1840)-FIND(\"|\",StoreConfig!J1840)),\"\")","v":""},{"$f":"IFERROR(VLOOKUP(--IF($B$2=StoreConfig!C1840,LEFT(StoreConfig!J1840,FIND(\"|\",StoreConfig!J1840)-1),\"\"),$Q$4:$R$20,2,FALSE),\"\")","v":""},{"$f":"IF($B$2=StoreConfig!C1840,LEFT(StoreConfig!G1840,FIND(\"#\",StoreConfig!G1840)-1),\"\")","v":""},{"$f":"IF($B$2=StoreConfig!C1840,RIGHT(StoreConfig!G1840,LEN(StoreConfig!G1840)-FIND(\"#\",StoreConfig!G1840)),\"\")","v":""},{"$f":"IF($B$2=StoreConfig!C1840,IF(StoreConfig!L1840=0,\"不限购\",StoreConfig!L1840&\"次\"),\"\")","v":""}]
[{"$nulls":3},{"$f":"IF($B$2=StoreConfig!C1841,StoreConfig!O1841,\"\")","v":""},{"$f":"IF($B$2=StoreConfig!C1841,StoreConfig!E1841,\"\")","v":""},{"$f":"IF($B$2=StoreConfig!C1841,RIGHT(StoreConfig!J1841,LEN(StoreConfig!J1841)-FIND(\"|\",StoreConfig!J1841)),\"\")","v":""},{"$f":"IFERROR(VLOOKUP(--IF($B$2=StoreConfig!C1841,LEFT(StoreConfig!J1841,FIND(\"|\",StoreConfig!J1841)-1),\"\"),$Q$4:$R$20,2,FALSE),\"\")","v":""},{"$f":"IF($B$2=StoreConfig!C1841,LEFT(StoreConfig!G1841,FIND(\"#\",StoreConfig!G1841)-1),\"\")","v":""},{"$f":"IF($B$2=StoreConfig!C1841,RIGHT(StoreConfig!G1841,LEN(StoreConfig!G1841)-FIND(\"#\",StoreConfig!G1841)),\"\")","v":""},{"$f":"IF($B$2=StoreConfig!C1841,IF(StoreConfig!L1841=0,\"不限购\",StoreConfig!L1841&\"次\"),\"\")","v":""}]
[{"$nulls":3},{"$f":"IF($B$2=StoreConfig!C1842,StoreConfig!O1842,\"\")","v":""},{"$f":"IF($B$2=StoreConfig!C1842,StoreConfig!E1842,\"\")","v":""},{"$f":"IF($B$2=StoreConfig!C1842,RIGHT(StoreConfig!J1842,LEN(StoreConfig!J1842)-FIND(\"|\",StoreConfig!J1842)),\"\")","v":""},{"$f":"IFERROR(VLOOKUP(--IF($B$2=StoreConfig!C1842,LEFT(StoreConfig!J1842,FIND(\"|\",StoreConfig!J1842)-1),\"\"),$Q$4:$R$20,2,FALSE),\"\")","v":""},{"$f":"IF($B$2=StoreConfig!C1842,LEFT(StoreConfig!G1842,FIND(\"#\",StoreConfig!G1842)-1),\"\")","v":""},{"$f":"IF($B$2=StoreConfig!C1842,RIGHT(StoreConfig!G1842,LEN(StoreConfig!G1842)-FIND(\"#\",StoreConfig!G1842)),\"\")","v":""},{"$f":"IF($B$2=StoreConfig!C1842,IF(StoreConfig!L1842=0,\"不限购\",StoreConfig!L1842&\"次\"),\"\")","v":""}]
[{"$nulls":3},{"$f":"IF($B$2=StoreConfig!C1843,StoreConfig!O1843,\"\")","v":""},{"$f":"IF($B$2=StoreConfig!C1843,StoreConfig!E1843,\"\")","v":""},{"$f":"IF($B$2=StoreConfig!C1843,RIGHT(StoreConfig!J1843,LEN(StoreConfig!J1843)-FIND(\"|\",StoreConfig!J1843)),\"\")","v":""},{"$f":"IFERROR(VLOOKUP(--IF($B$2=StoreConfig!C1843,LEFT(StoreConfig!J1843,FIND(\"|\",StoreConfig!J1843)-1),\"\"),$Q$4:$R$20,2,FALSE),\"\")","v":""},{"$f":"IF($B$2=StoreConfig!C1843,LEFT(StoreConfig!G1843,FIND(\"#\",StoreConfig!G1843)-1),\"\")","v":""},{"$f":"IF($B$2=StoreConfig!C1843,RIGHT(StoreConfig!G1843,LEN(StoreConfig!G1843)-FIND(\"#\",StoreConfig!G1843)),\"\")","v":""},{"$f":"IF($B$2=StoreConfig!C1843,IF(StoreConfig!L1843=0,\"不限购\",StoreConfig!L1843&\"次\"),\"\")","v":""}]
[{"$nulls":3},{"$f":"IF($B$2=StoreConfig!C1844,StoreConfig!O1844,\"\")","v":""},{"$f":"IF($B$2=StoreConfig!C1844,StoreConfig!E1844,\"\")","v":""},{"$f":"IF($B$2=StoreConfig!C1844,RIGHT(StoreConfig!J1844,LEN(StoreConfig!J1844)-FIND(\"|\",StoreConfig!J1844)),\"\")","v":""},{"$f":"IFERROR(VLOOKUP(--IF($B$2=StoreConfig!C1844,LEFT(StoreConfig!J1844,FIND(\"|\",StoreConfig!J1844)-1),\"\"),$Q$4:$R$20,2,FALSE),\"\")","v":""},{"$f":"IF($B$2=StoreConfig!C1844,LEFT(StoreConfig!G1844,FIND(\"#\",StoreConfig!G1844)-1),\"\")","v":""},{"$f":"IF($B$2=StoreConfig!C1844,RIGHT(StoreConfig!G1844,LEN(StoreConfig!G1844)-FIND(\"#\",StoreConfig!G1844)),\"\")","v":""},{"$f":"IF($B$2=StoreConfig!C1844,IF(StoreConfig!L1844=0,\"不限购\",StoreConfig!L1844&\"次\"),\"\")","v":""}]
[{"$nulls":3},{"$f":"IF($B$2=StoreConfig!C1845,StoreConfig!O1845,\"\")","v":""},{"$f":"IF($B$2=StoreConfig!C1845,StoreConfig!E1845,\"\")","v":""},{"$f":"IF($B$2=StoreConfig!C1845,RIGHT(StoreConfig!J1845,LEN(StoreConfig!J1845)-FIND(\"|\",StoreConfig!J1845)),\"\")","v":""},{"$f":"IFERROR(VLOOKUP(--IF($B$2=StoreConfig!C1845,LEFT(StoreConfig!J1845,FIND(\"|\",StoreConfig!J1845)-1),\"\"),$Q$4:$R$20,2,FALSE),\"\")","v":""},{"$f":"IF($B$2=StoreConfig!C1845,LEFT(StoreConfig!G1845,FIND(\"#\",StoreConfig!G1845)-1),\"\")","v":""},{"$f":"IF($B$2=StoreConfig!C1845,RIGHT(StoreConfig!G1845,LEN(StoreConfig!G1845)-FIND(\"#\",StoreConfig!G1845)),\"\")","v":""},{"$f":"IF($B$2=StoreConfig!C1845,IF(StoreConfig!L1845=0,\"不限购\",StoreConfig!L1845&\"次\"),\"\")","v":""}]
[{"$nulls":3},{"$f":"IF($B$2=StoreConfig!C1846,StoreConfig!O1846,\"\")","v":""},{"$f":"IF($B$2=StoreConfig!C1846,StoreConfig!E1846,\"\")","v":""},{"$f":"IF($B$2=StoreConfig!C1846,RIGHT(StoreConfig!J1846,LEN(StoreConfig!J1846)-FIND(\"|\",StoreConfig!J1846)),\"\")","v":""},{"$f":"IFERROR(VLOOKUP(--IF($B$2=StoreConfig!C1846,LEFT(StoreConfig!J1846,FIND(\"|\",StoreConfig!J1846)-1),\"\"),$Q$4:$R$20,2,FALSE),\"\")","v":""},{"$f":"IF($B$2=StoreConfig!C1846,LEFT(StoreConfig!G1846,FIND(\"#\",StoreConfig!G1846)-1),\"\")","v":""},{"$f":"IF($B$2=StoreConfig!C1846,RIGHT(StoreConfig!G1846,LEN(StoreConfig!G1846)-FIND(\"#\",StoreConfig!G1846)),\"\")","v":""},{"$f":"IF($B$2=StoreConfig!C1846,IF(StoreConfig!L1846=0,\"不限购\",StoreConfig!L1846&\"次\"),\"\")","v":""}]
[{"$nulls":3},{"$f":"IF($B$2=StoreConfig!C1847,StoreConfig!O1847,\"\")","v":""},{"$f":"IF($B$2=StoreConfig!C1847,StoreConfig!E1847,\"\")","v":""},{"$f":"IF($B$2=StoreConfig!C1847,RIGHT(StoreConfig!J1847,LEN(StoreConfig!J1847)-FIND(\"|\",StoreConfig!J1847)),\"\")","v":""},{"$f":"IFERROR(VLOOKUP(--IF($B$2=StoreConfig!C1847,LEFT(StoreConfig!J1847,FIND(\"|\",StoreConfig!J1847)-1),\"\"),$Q$4:$R$20,2,FALSE),\"\")","v":""},{"$f":"IF($B$2=StoreConfig!C1847,LEFT(StoreConfig!G1847,FIND(\"#\",StoreConfig!G1847)-1),\"\")","v":""},{"$f":"IF($B$2=StoreConfig!C1847,RIGHT(StoreConfig!G1847,LEN(StoreConfig!G1847)-FIND(\"#\",StoreConfig!G1847)),\"\")","v":""},{"$f":"IF($B$2=StoreConfig!C1847,IF(StoreConfig!L1847=0,\"不限购\",StoreConfig!L1847&\"次\"),\"\")","v":""}]
[{"$nulls":3},{"$f":"IF($B$2=StoreConfig!C1848,StoreConfig!O1848,\"\")","v":""},{"$f":"IF($B$2=StoreConfig!C1848,StoreConfig!E1848,\"\")","v":""},{"$f":"IF($B$2=StoreConfig!C1848,RIGHT(StoreConfig!J1848,LEN(StoreConfig!J1848)-FIND(\"|\",StoreConfig!J1848)),\"\")","v":""},{"$f":"IFERROR(VLOOKUP(--IF($B$2=StoreConfig!C1848,LEFT(StoreConfig!J1848,FIND(\"|\",StoreConfig!J1848)-1),\"\"),$Q$4:$R$20,2,FALSE),\"\")","v":""},{"$f":"IF($B$2=StoreConfig!C1848,LEFT(StoreConfig!G1848,FIND(\"#\",StoreConfig!G1848)-1),\"\")","v":""},{"$f":"IF($B$2=StoreConfig!C1848,RIGHT(StoreConfig!G1848,LEN(StoreConfig!G1848)-FIND(\"#\",StoreConfig!G1848)),\"\")","v":""},{"$f":"IF($B$2=StoreConfig!C1848,IF(StoreConfig!L1848=0,\"不限购\",StoreConfig!L1848&\"次\"),\"\")","v":""}]
[{"$nulls":3},{"$f":"IF($B$2=StoreConfig!C1849,StoreConfig!O1849,\"\")","v":""},{"$f":"IF($B$2=StoreConfig!C1849,StoreConfig!E1849,\"\")","v":""},{"$f":"IF($B$2=StoreConfig!C1849,RIGHT(StoreConfig!J1849,LEN(StoreConfig!J1849)-FIND(\"|\",StoreConfig!J1849)),\"\")","v":""},{"$f":"IFERROR(VLOOKUP(--IF($B$2=StoreConfig!C1849,LEFT(StoreConfig!J1849,FIND(\"|\",StoreConfig!J1849)-1),\"\"),$Q$4:$R$20,2,FALSE),\"\")","v":""},{"$f":"IF($B$2=StoreConfig!C1849,LEFT(StoreConfig!G1849,FIND(\"#\",StoreConfig!G1849)-1),\"\")","v":""},{"$f":"IF($B$2=StoreConfig!C1849,RIGHT(StoreConfig!G1849,LEN(StoreConfig!G1849)-FIND(\"#\",StoreConfig!G1849)),\"\")","v":""},{"$f":"IF($B$2=StoreConfig!C1849,IF(StoreConfig!L1849=0,\"不限购\",StoreConfig!L1849&\"次\"),\"\")","v":""}]
[{"$nulls":3},{"$f":"IF($B$2=StoreConfig!C1850,StoreConfig!O1850,\"\")","v":""},{"$f":"IF($B$2=StoreConfig!C1850,StoreConfig!E1850,\"\")","v":""},{"$f":"IF($B$2=StoreConfig!C1850,RIGHT(StoreConfig!J1850,LEN(StoreConfig!J1850)-FIND(\"|\",StoreConfig!J1850)),\"\")","v":""},{"$f":"IFERROR(VLOOKUP(--IF($B$2=StoreConfig!C1850,LEFT(StoreConfig!J1850,FIND(\"|\",StoreConfig!J1850)-1),\"\"),$Q$4:$R$20,2,FALSE),\"\")","v":""},{"$f":"IF($B$2=StoreConfig!C1850,LEFT(StoreConfig!G1850,FIND(\"#\",StoreConfig!G1850)-1),\"\")","v":""},{"$f":"IF($B$2=StoreConfig!C1850,RIGHT(StoreConfig!G1850,LEN(StoreConfig!G1850)-FIND(\"#\",StoreConfig!G1850)),\"\")","v":""},{"$f":"IF($B$2=StoreConfig!C1850,IF(StoreConfig!L1850=0,\"不限购\",StoreConfig!L1850&\"次\"),\"\")","v":""}]
[{"$nulls":3},{"$f":"IF($B$2=StoreConfig!C1851,StoreConfig!O1851,\"\")","v":""},{"$f":"IF($B$2=StoreConfig!C1851,StoreConfig!E1851,\"\")","v":""},{"$f":"IF($B$2=StoreConfig!C1851,RIGHT(StoreConfig!J1851,LEN(StoreConfig!J1851)-FIND(\"|\",StoreConfig!J1851)),\"\")","v":""},{"$f":"IFERROR(VLOOKUP(--IF($B$2=StoreConfig!C1851,LEFT(StoreConfig!J1851,FIND(\"|\",StoreConfig!J1851)-1),\"\"),$Q$4:$R$20,2,FALSE),\"\")","v":""},{"$f":"IF($B$2=StoreConfig!C1851,LEFT(StoreConfig!G1851,FIND(\"#\",StoreConfig!G1851)-1),\"\")","v":""},{"$f":"IF($B$2=StoreConfig!C1851,RIGHT(StoreConfig!G1851,LEN(StoreConfig!G1851)-FIND(\"#\",StoreConfig!G1851)),\"\")","v":""},{"$f":"IF($B$2=StoreConfig!C1851,IF(StoreConfig!L1851=0,\"不限购\",StoreConfig!L1851&\"次\"),\"\")","v":""}]
[{"$nulls":3},{"$f":"IF($B$2=StoreConfig!C1852,StoreConfig!O1852,\"\")","v":""},{"$f":"IF($B$2=StoreConfig!C1852,StoreConfig!E1852,\"\")","v":""},{"$f":"IF($B$2=StoreConfig!C1852,RIGHT(StoreConfig!J1852,LEN(StoreConfig!J1852)-FIND(\"|\",StoreConfig!J1852)),\"\")","v":""},{"$f":"IFERROR(VLOOKUP(--IF($B$2=StoreConfig!C1852,LEFT(StoreConfig!J1852,FIND(\"|\",StoreConfig!J1852)-1),\"\"),$Q$4:$R$20,2,FALSE),\"\")","v":""},{"$f":"IF($B$2=StoreConfig!C1852,LEFT(StoreConfig!G1852,FIND(\"#\",StoreConfig!G1852)-1),\"\")","v":""},{"$f":"IF($B$2=StoreConfig!C1852,RIGHT(StoreConfig!G1852,LEN(StoreConfig!G1852)-FIND(\"#\",StoreConfig!G1852)),\"\")","v":""},{"$f":"IF($B$2=StoreConfig!C1852,IF(StoreConfig!L1852=0,\"不限购\",StoreConfig!L1852&\"次\"),\"\")","v":""}]
[{"$nulls":3},{"$f":"IF($B$2=StoreConfig!C1853,StoreConfig!O1853,\"\")","v":""},{"$f":"IF($B$2=StoreConfig!C1853,StoreConfig!E1853,\"\")","v":""},{"$f":"IF($B$2=StoreConfig!C1853,RIGHT(StoreConfig!J1853,LEN(StoreConfig!J1853)-FIND(\"|\",StoreConfig!J1853)),\"\")","v":""},{"$f":"IFERROR(VLOOKUP(--IF($B$2=StoreConfig!C1853,LEFT(StoreConfig!J1853,FIND(\"|\",StoreConfig!J1853)-1),\"\"),$Q$4:$R$20,2,FALSE),\"\")","v":""},{"$f":"IF($B$2=StoreConfig!C1853,LEFT(StoreConfig!G1853,FIND(\"#\",StoreConfig!G1853)-1),\"\")","v":""},{"$f":"IF($B$2=StoreConfig!C1853,RIGHT(StoreConfig!G1853,LEN(StoreConfig!G1853)-FIND(\"#\",StoreConfig!G1853)),\"\")","v":""},{"$f":"IF($B$2=StoreConfig!C1853,IF(StoreConfig!L1853=0,\"不限购\",StoreConfig!L1853&\"次\"),\"\")","v":""}]
[{"$nulls":3},{"$f":"IF($B$2=StoreConfig!C1854,StoreConfig!O1854,\"\")","v":""},{"$f":"IF($B$2=StoreConfig!C1854,StoreConfig!E1854,\"\")","v":""},{"$f":"IF($B$2=StoreConfig!C1854,RIGHT(StoreConfig!J1854,LEN(StoreConfig!J1854)-FIND(\"|\",StoreConfig!J1854)),\"\")","v":""},{"$f":"IFERROR(VLOOKUP(--IF($B$2=StoreConfig!C1854,LEFT(StoreConfig!J1854,FIND(\"|\",StoreConfig!J1854)-1),\"\"),$Q$4:$R$20,2,FALSE),\"\")","v":""},{"$f":"IF($B$2=StoreConfig!C1854,LEFT(StoreConfig!G1854,FIND(\"#\",StoreConfig!G1854)-1),\"\")","v":""},{"$f":"IF($B$2=StoreConfig!C1854,RIGHT(StoreConfig!G1854,LEN(StoreConfig!G1854)-FIND(\"#\",StoreConfig!G1854)),\"\")","v":""},{"$f":"IF($B$2=StoreConfig!C1854,IF(StoreConfig!L1854=0,\"不限购\",StoreConfig!L1854&\"次\"),\"\")","v":""}]
[{"$nulls":3},{"$f":"IF($B$2=StoreConfig!C1855,StoreConfig!O1855,\"\")","v":""},{"$f":"IF($B$2=StoreConfig!C1855,StoreConfig!E1855,\"\")","v":""},{"$f":"IF($B$2=StoreConfig!C1855,RIGHT(StoreConfig!J1855,LEN(StoreConfig!J1855)-FIND(\"|\",StoreConfig!J1855)),\"\")","v":""},{"$f":"IFERROR(VLOOKUP(--IF($B$2=StoreConfig!C1855,LEFT(StoreConfig!J1855,FIND(\"|\",StoreConfig!J1855)-1),\"\"),$Q$4:$R$20,2,FALSE),\"\")","v":""},{"$f":"IF($B$2=StoreConfig!C1855,LEFT(StoreConfig!G1855,FIND(\"#\",StoreConfig!G1855)-1),\"\")","v":""},{"$f":"IF($B$2=StoreConfig!C1855,RIGHT(StoreConfig!G1855,LEN(StoreConfig!G1855)-FIND(\"#\",StoreConfig!G1855)),\"\")","v":""},{"$f":"IF($B$2=StoreConfig!C1855,IF(StoreConfig!L1855=0,\"不限购\",StoreConfig!L1855&\"次\"),\"\")","v":""}]
[{"$nulls":3},{"$f":"IF($B$2=StoreConfig!C1856,StoreConfig!O1856,\"\")","v":""},{"$f":"IF($B$2=StoreConfig!C1856,StoreConfig!E1856,\"\")","v":""},{"$f":"IF($B$2=StoreConfig!C1856,RIGHT(StoreConfig!J1856,LEN(StoreConfig!J1856)-FIND(\"|\",StoreConfig!J1856)),\"\")","v":""},{"$f":"IFERROR(VLOOKUP(--IF($B$2=StoreConfig!C1856,LEFT(StoreConfig!J1856,FIND(\"|\",StoreConfig!J1856)-1),\"\"),$Q$4:$R$20,2,FALSE),\"\")","v":""},{"$f":"IF($B$2=StoreConfig!C1856,LEFT(StoreConfig!G1856,FIND(\"#\",StoreConfig!G1856)-1),\"\")","v":""},{"$f":"IF($B$2=StoreConfig!C1856,RIGHT(StoreConfig!G1856,LEN(StoreConfig!G1856)-FIND(\"#\",StoreConfig!G1856)),\"\")","v":""},{"$f":"IF($B$2=StoreConfig!C1856,IF(StoreConfig!L1856=0,\"不限购\",StoreConfig!L1856&\"次\"),\"\")","v":""}]
[{"$nulls":3},{"$f":"IF($B$2=StoreConfig!C1857,StoreConfig!O1857,\"\")","v":""},{"$f":"IF($B$2=StoreConfig!C1857,StoreConfig!E1857,\"\")","v":""},{"$f":"IF($B$2=StoreConfig!C1857,RIGHT(StoreConfig!J1857,LEN(StoreConfig!J1857)-FIND(\"|\",StoreConfig!J1857)),\"\")","v":""},{"$f":"IFERROR(VLOOKUP(--IF($B$2=StoreConfig!C1857,LEFT(StoreConfig!J1857,FIND(\"|\",StoreConfig!J1857)-1),\"\"),$Q$4:$R$20,2,FALSE),\"\")","v":""},{"$f":"IF($B$2=StoreConfig!C1857,LEFT(StoreConfig!G1857,FIND(\"#\",StoreConfig!G1857)-1),\"\")","v":""},{"$f":"IF($B$2=StoreConfig!C1857,RIGHT(StoreConfig!G1857,LEN(StoreConfig!G1857)-FIND(\"#\",StoreConfig!G1857)),\"\")","v":""},{"$f":"IF($B$2=StoreConfig!C1857,IF(StoreConfig!L1857=0,\"不限购\",StoreConfig!L1857&\"次\"),\"\")","v":""}]
[{"$nulls":3},{"$f":"IF($B$2=StoreConfig!C1858,StoreConfig!O1858,\"\")","v":""},{"$f":"IF($B$2=StoreConfig!C1858,StoreConfig!E1858,\"\")","v":""},{"$f":"IF($B$2=StoreConfig!C1858,RIGHT(StoreConfig!J1858,LEN(StoreConfig!J1858)-FIND(\"|\",StoreConfig!J1858)),\"\")","v":""},{"$f":"IFERROR(VLOOKUP(--IF($B$2=StoreConfig!C1858,LEFT(StoreConfig!J1858,FIND(\"|\",StoreConfig!J1858)-1),\"\"),$Q$4:$R$20,2,FALSE),\"\")","v":""},{"$f":"IF($B$2=StoreConfig!C1858,LEFT(StoreConfig!G1858,FIND(\"#\",StoreConfig!G1858)-1),\"\")","v":""},{"$f":"IF($B$2=StoreConfig!C1858,RIGHT(StoreConfig!G1858,LEN(StoreConfig!G1858)-FIND(\"#\",StoreConfig!G1858)),\"\")","v":""},{"$f":"IF($B$2=StoreConfig!C1858,IF(StoreConfig!L1858=0,\"不限购\",StoreConfig!L1858&\"次\"),\"\")","v":""}]
[{"$nulls":3},{"$f":"IF($B$2=StoreConfig!C1859,StoreConfig!O1859,\"\")","v":""},{"$f":"IF($B$2=StoreConfig!C1859,StoreConfig!E1859,\"\")","v":""},{"$f":"IF($B$2=StoreConfig!C1859,RIGHT(StoreConfig!J1859,LEN(StoreConfig!J1859)-FIND(\"|\",StoreConfig!J1859)),\"\")","v":""},{"$f":"IFERROR(VLOOKUP(--IF($B$2=StoreConfig!C1859,LEFT(StoreConfig!J1859,FIND(\"|\",StoreConfig!J1859)-1),\"\"),$Q$4:$R$20,2,FALSE),\"\")","v":""},{"$f":"IF($B$2=StoreConfig!C1859,LEFT(StoreConfig!G1859,FIND(\"#\",StoreConfig!G1859)-1),\"\")","v":""},{"$f":"IF($B$2=StoreConfig!C1859,RIGHT(StoreConfig!G1859,LEN(StoreConfig!G1859)-FIND(\"#\",StoreConfig!G1859)),\"\")","v":""},{"$f":"IF($B$2=StoreConfig!C1859,IF(StoreConfig!L1859=0,\"不限购\",StoreConfig!L1859&\"次\"),\"\")","v":""}]
[{"$nulls":3},{"$f":"IF($B$2=StoreConfig!C1860,StoreConfig!O1860,\"\")","v":""},{"$f":"IF($B$2=StoreConfig!C1860,StoreConfig!E1860,\"\")","v":""},{"$f":"IF($B$2=StoreConfig!C1860,RIGHT(StoreConfig!J1860,LEN(StoreConfig!J1860)-FIND(\"|\",StoreConfig!J1860)),\"\")","v":""},{"$f":"IFERROR(VLOOKUP(--IF($B$2=StoreConfig!C1860,LEFT(StoreConfig!J1860,FIND(\"|\",StoreConfig!J1860)-1),\"\"),$Q$4:$R$20,2,FALSE),\"\")","v":""},{"$f":"IF($B$2=StoreConfig!C1860,LEFT(StoreConfig!G1860,FIND(\"#\",StoreConfig!G1860)-1),\"\")","v":""},{"$f":"IF($B$2=StoreConfig!C1860,RIGHT(StoreConfig!G1860,LEN(StoreConfig!G1860)-FIND(\"#\",StoreConfig!G1860)),\"\")","v":""},{"$f":"IF($B$2=StoreConfig!C1860,IF(StoreConfig!L1860=0,\"不限购\",StoreConfig!L1860&\"次\"),\"\")","v":""}]
[{"$nulls":3},{"$f":"IF($B$2=StoreConfig!C1861,StoreConfig!O1861,\"\")","v":""},{"$f":"IF($B$2=StoreConfig!C1861,StoreConfig!E1861,\"\")","v":""},{"$f":"IF($B$2=StoreConfig!C1861,RIGHT(StoreConfig!J1861,LEN(StoreConfig!J1861)-FIND(\"|\",StoreConfig!J1861)),\"\")","v":""},{"$f":"IFERROR(VLOOKUP(--IF($B$2=StoreConfig!C1861,LEFT(StoreConfig!J1861,FIND(\"|\",StoreConfig!J1861)-1),\"\"),$Q$4:$R$20,2,FALSE),\"\")","v":""},{"$f":"IF($B$2=StoreConfig!C1861,LEFT(StoreConfig!G1861,FIND(\"#\",StoreConfig!G1861)-1),\"\")","v":""},{"$f":"IF($B$2=StoreConfig!C1861,RIGHT(StoreConfig!G1861,LEN(StoreConfig!G1861)-FIND(\"#\",StoreConfig!G1861)),\"\")","v":""},{"$f":"IF($B$2=StoreConfig!C1861,IF(StoreConfig!L1861=0,\"不限购\",StoreConfig!L1861&\"次\"),\"\")","v":""}]
[{"$nulls":3},{"$f":"IF($B$2=StoreConfig!C1862,StoreConfig!O1862,\"\")","v":""},{"$f":"IF($B$2=StoreConfig!C1862,StoreConfig!E1862,\"\")","v":""},{"$f":"IF($B$2=StoreConfig!C1862,RIGHT(StoreConfig!J1862,LEN(StoreConfig!J1862)-FIND(\"|\",StoreConfig!J1862)),\"\")","v":""},{"$f":"IFERROR(VLOOKUP(--IF($B$2=StoreConfig!C1862,LEFT(StoreConfig!J1862,FIND(\"|\",StoreConfig!J1862)-1),\"\"),$Q$4:$R$20,2,FALSE),\"\")","v":""},{"$f":"IF($B$2=StoreConfig!C1862,LEFT(StoreConfig!G1862,FIND(\"#\",StoreConfig!G1862)-1),\"\")","v":""},{"$f":"IF($B$2=StoreConfig!C1862,RIGHT(StoreConfig!G1862,LEN(StoreConfig!G1862)-FIND(\"#\",StoreConfig!G1862)),\"\")","v":""},{"$f":"IF($B$2=StoreConfig!C1862,IF(StoreConfig!L1862=0,\"不限购\",StoreConfig!L1862&\"次\"),\"\")","v":""}]
[{"$nulls":3},{"$f":"IF($B$2=StoreConfig!C1863,StoreConfig!O1863,\"\")","v":""},{"$f":"IF($B$2=StoreConfig!C1863,StoreConfig!E1863,\"\")","v":""},{"$f":"IF($B$2=StoreConfig!C1863,RIGHT(StoreConfig!J1863,LEN(StoreConfig!J1863)-FIND(\"|\",StoreConfig!J1863)),\"\")","v":""},{"$f":"IFERROR(VLOOKUP(--IF($B$2=StoreConfig!C1863,LEFT(StoreConfig!J1863,FIND(\"|\",StoreConfig!J1863)-1),\"\"),$Q$4:$R$20,2,FALSE),\"\")","v":""},{"$f":"IF($B$2=StoreConfig!C1863,LEFT(StoreConfig!G1863,FIND(\"#\",StoreConfig!G1863)-1),\"\")","v":""},{"$f":"IF($B$2=StoreConfig!C1863,RIGHT(StoreConfig!G1863,LEN(StoreConfig!G1863)-FIND(\"#\",StoreConfig!G1863)),\"\")","v":""},{"$f":"IF($B$2=StoreConfig!C1863,IF(StoreConfig!L1863=0,\"不限购\",StoreConfig!L1863&\"次\"),\"\")","v":""}]
[{"$nulls":3},{"$f":"IF($B$2=StoreConfig!C1864,StoreConfig!O1864,\"\")","v":""},{"$f":"IF($B$2=StoreConfig!C1864,StoreConfig!E1864,\"\")","v":""},{"$f":"IF($B$2=StoreConfig!C1864,RIGHT(StoreConfig!J1864,LEN(StoreConfig!J1864)-FIND(\"|\",StoreConfig!J1864)),\"\")","v":""},{"$f":"IFERROR(VLOOKUP(--IF($B$2=StoreConfig!C1864,LEFT(StoreConfig!J1864,FIND(\"|\",StoreConfig!J1864)-1),\"\"),$Q$4:$R$20,2,FALSE),\"\")","v":""},{"$f":"IF($B$2=StoreConfig!C1864,LEFT(StoreConfig!G1864,FIND(\"#\",StoreConfig!G1864)-1),\"\")","v":""},{"$f":"IF($B$2=StoreConfig!C1864,RIGHT(StoreConfig!G1864,LEN(StoreConfig!G1864)-FIND(\"#\",StoreConfig!G1864)),\"\")","v":""},{"$f":"IF($B$2=StoreConfig!C1864,IF(StoreConfig!L1864=0,\"不限购\",StoreConfig!L1864&\"次\"),\"\")","v":""}]
[{"$nulls":3},{"$f":"IF($B$2=StoreConfig!C1865,StoreConfig!O1865,\"\")","v":""},{"$f":"IF($B$2=StoreConfig!C1865,StoreConfig!E1865,\"\")","v":""},{"$f":"IF($B$2=StoreConfig!C1865,RIGHT(StoreConfig!J1865,LEN(StoreConfig!J1865)-FIND(\"|\",StoreConfig!J1865)),\"\")","v":""},{"$f":"IFERROR(VLOOKUP(--IF($B$2=StoreConfig!C1865,LEFT(StoreConfig!J1865,FIND(\"|\",StoreConfig!J1865)-1),\"\"),$Q$4:$R$20,2,FALSE),\"\")","v":""},{"$f":"IF($B$2=StoreConfig!C1865,LEFT(StoreConfig!G1865,FIND(\"#\",StoreConfig!G1865)-1),\"\")","v":""},{"$f":"IF($B$2=StoreConfig!C1865,RIGHT(StoreConfig!G1865,LEN(StoreConfig!G1865)-FIND(\"#\",StoreConfig!G1865)),\"\")","v":""},{"$f":"IF($B$2=StoreConfig!C1865,IF(StoreConfig!L1865=0,\"不限购\",StoreConfig!L1865&\"次\"),\"\")","v":""}]
[{"$nulls":3},{"$f":"IF($B$2=StoreConfig!C1866,StoreConfig!O1866,\"\")","v":""},{"$f":"IF($B$2=StoreConfig!C1866,StoreConfig!E1866,\"\")","v":""},{"$f":"IF($B$2=StoreConfig!C1866,RIGHT(StoreConfig!J1866,LEN(StoreConfig!J1866)-FIND(\"|\",StoreConfig!J1866)),\"\")","v":""},{"$f":"IFERROR(VLOOKUP(--IF($B$2=StoreConfig!C1866,LEFT(StoreConfig!J1866,FIND(\"|\",StoreConfig!J1866)-1),\"\"),$Q$4:$R$20,2,FALSE),\"\")","v":""},{"$f":"IF($B$2=StoreConfig!C1866,LEFT(StoreConfig!G1866,FIND(\"#\",StoreConfig!G1866)-1),\"\")","v":""},{"$f":"IF($B$2=StoreConfig!C1866,RIGHT(StoreConfig!G1866,LEN(StoreConfig!G1866)-FIND(\"#\",StoreConfig!G1866)),\"\")","v":""},{"$f":"IF($B$2=StoreConfig!C1866,IF(StoreConfig!L1866=0,\"不限购\",StoreConfig!L1866&\"次\"),\"\")","v":""}]
[{"$nulls":3},{"$f":"IF($B$2=StoreConfig!C1867,StoreConfig!O1867,\"\")","v":""},{"$f":"IF($B$2=StoreConfig!C1867,StoreConfig!E1867,\"\")","v":""},{"$f":"IF($B$2=StoreConfig!C1867,RIGHT(StoreConfig!J1867,LEN(StoreConfig!J1867)-FIND(\"|\",StoreConfig!J1867)),\"\")","v":""},{"$f":"IFERROR(VLOOKUP(--IF($B$2=StoreConfig!C1867,LEFT(StoreConfig!J1867,FIND(\"|\",StoreConfig!J1867)-1),\"\"),$Q$4:$R$20,2,FALSE),\"\")","v":""},{"$f":"IF($B$2=StoreConfig!C1867,LEFT(StoreConfig!G1867,FIND(\"#\",StoreConfig!G1867)-1),\"\")","v":""},{"$f":"IF($B$2=StoreConfig!C1867,RIGHT(StoreConfig!G1867,LEN(StoreConfig!G1867)-FIND(\"#\",StoreConfig!G1867)),\"\")","v":""},{"$f":"IF($B$2=StoreConfig!C1867,IF(StoreConfig!L1867=0,\"不限购\",StoreConfig!L1867&\"次\"),\"\")","v":""}]
[{"$nulls":3},{"$f":"IF($B$2=StoreConfig!C1868,StoreConfig!O1868,\"\")","v":""},{"$f":"IF($B$2=StoreConfig!C1868,StoreConfig!E1868,\"\")","v":""},{"$f":"IF($B$2=StoreConfig!C1868,RIGHT(StoreConfig!J1868,LEN(StoreConfig!J1868)-FIND(\"|\",StoreConfig!J1868)),\"\")","v":""},{"$f":"IFERROR(VLOOKUP(--IF($B$2=StoreConfig!C1868,LEFT(StoreConfig!J1868,FIND(\"|\",StoreConfig!J1868)-1),\"\"),$Q$4:$R$20,2,FALSE),\"\")","v":""},{"$f":"IF($B$2=StoreConfig!C1868,LEFT(StoreConfig!G1868,FIND(\"#\",StoreConfig!G1868)-1),\"\")","v":""},{"$f":"IF($B$2=StoreConfig!C1868,RIGHT(StoreConfig!G1868,LEN(StoreConfig!G1868)-FIND(\"#\",StoreConfig!G1868)),\"\")","v":""},{"$f":"IF($B$2=StoreConfig!C1868,IF(StoreConfig!L1868=0,\"不限购\",StoreConfig!L1868&\"次\"),\"\")","v":""}]
[{"$nulls":3},{"$f":"IF($B$2=StoreConfig!C1869,StoreConfig!O1869,\"\")","v":""},{"$f":"IF($B$2=StoreConfig!C1869,StoreConfig!E1869,\"\")","v":""},{"$f":"IF($B$2=StoreConfig!C1869,RIGHT(StoreConfig!J1869,LEN(StoreConfig!J1869)-FIND(\"|\",StoreConfig!J1869)),\"\")","v":""},{"$f":"IFERROR(VLOOKUP(--IF($B$2=StoreConfig!C1869,LEFT(StoreConfig!J1869,FIND(\"|\",StoreConfig!J1869)-1),\"\"),$Q$4:$R$20,2,FALSE),\"\")","v":""},{"$f":"IF($B$2=StoreConfig!C1869,LEFT(StoreConfig!G1869,FIND(\"#\",StoreConfig!G1869)-1),\"\")","v":""},{"$f":"IF($B$2=StoreConfig!C1869,RIGHT(StoreConfig!G1869,LEN(StoreConfig!G1869)-FIND(\"#\",StoreConfig!G1869)),\"\")","v":""},{"$f":"IF($B$2=StoreConfig!C1869,IF(StoreConfig!L1869=0,\"不限购\",StoreConfig!L1869&\"次\"),\"\")","v":""}]
[{"$nulls":3},{"$f":"IF($B$2=StoreConfig!C1870,StoreConfig!O1870,\"\")","v":""},{"$f":"IF($B$2=StoreConfig!C1870,StoreConfig!E1870,\"\")","v":""},{"$f":"IF($B$2=StoreConfig!C1870,RIGHT(StoreConfig!J1870,LEN(StoreConfig!J1870)-FIND(\"|\",StoreConfig!J1870)),\"\")","v":""},{"$f":"IFERROR(VLOOKUP(--IF($B$2=StoreConfig!C1870,LEFT(StoreConfig!J1870,FIND(\"|\",StoreConfig!J1870)-1),\"\"),$Q$4:$R$20,2,FALSE),\"\")","v":""},{"$f":"IF($B$2=StoreConfig!C1870,LEFT(StoreConfig!G1870,FIND(\"#\",StoreConfig!G1870)-1),\"\")","v":""},{"$f":"IF($B$2=StoreConfig!C1870,RIGHT(StoreConfig!G1870,LEN(StoreConfig!G1870)-FIND(\"#\",StoreConfig!G1870)),\"\")","v":""},{"$f":"IF($B$2=StoreConfig!C1870,IF(StoreConfig!L1870=0,\"不限购\",StoreConfig!L1870&\"次\"),\"\")","v":""}]
[{"$nulls":3},{"$f":"IF($B$2=StoreConfig!C1871,StoreConfig!O1871,\"\")","v":""},{"$f":"IF($B$2=StoreConfig!C1871,StoreConfig!E1871,\"\")","v":""},{"$f":"IF($B$2=StoreConfig!C1871,RIGHT(StoreConfig!J1871,LEN(StoreConfig!J1871)-FIND(\"|\",StoreConfig!J1871)),\"\")","v":""},{"$f":"IFERROR(VLOOKUP(--IF($B$2=StoreConfig!C1871,LEFT(StoreConfig!J1871,FIND(\"|\",StoreConfig!J1871)-1),\"\"),$Q$4:$R$20,2,FALSE),\"\")","v":""},{"$f":"IF($B$2=StoreConfig!C1871,LEFT(StoreConfig!G1871,FIND(\"#\",StoreConfig!G1871)-1),\"\")","v":""},{"$f":"IF($B$2=StoreConfig!C1871,RIGHT(StoreConfig!G1871,LEN(StoreConfig!G1871)-FIND(\"#\",StoreConfig!G1871)),\"\")","v":""},{"$f":"IF($B$2=StoreConfig!C1871,IF(StoreConfig!L1871=0,\"不限购\",StoreConfig!L1871&\"次\"),\"\")","v":""}]
[{"$nulls":3},{"$f":"IF($B$2=StoreConfig!C1872,StoreConfig!O1872,\"\")","v":""},{"$f":"IF($B$2=StoreConfig!C1872,StoreConfig!E1872,\"\")","v":""},{"$f":"IF($B$2=StoreConfig!C1872,RIGHT(StoreConfig!J1872,LEN(StoreConfig!J1872)-FIND(\"|\",StoreConfig!J1872)),\"\")","v":""},{"$f":"IFERROR(VLOOKUP(--IF($B$2=StoreConfig!C1872,LEFT(StoreConfig!J1872,FIND(\"|\",StoreConfig!J1872)-1),\"\"),$Q$4:$R$20,2,FALSE),\"\")","v":""},{"$f":"IF($B$2=StoreConfig!C1872,LEFT(StoreConfig!G1872,FIND(\"#\",StoreConfig!G1872)-1),\"\")","v":""},{"$f":"IF($B$2=StoreConfig!C1872,RIGHT(StoreConfig!G1872,LEN(StoreConfig!G1872)-FIND(\"#\",StoreConfig!G1872)),\"\")","v":""},{"$f":"IF($B$2=StoreConfig!C1872,IF(StoreConfig!L1872=0,\"不限购\",StoreConfig!L1872&\"次\"),\"\")","v":""}]
[{"$nulls":3},{"$f":"IF($B$2=StoreConfig!C1873,StoreConfig!O1873,\"\")","v":""},{"$f":"IF($B$2=StoreConfig!C1873,StoreConfig!E1873,\"\")","v":""},{"$f":"IF($B$2=StoreConfig!C1873,RIGHT(StoreConfig!J1873,LEN(StoreConfig!J1873)-FIND(\"|\",StoreConfig!J1873)),\"\")","v":""},{"$f":"IFERROR(VLOOKUP(--IF($B$2=StoreConfig!C1873,LEFT(StoreConfig!J1873,FIND(\"|\",StoreConfig!J1873)-1),\"\"),$Q$4:$R$20,2,FALSE),\"\")","v":""},{"$f":"IF($B$2=StoreConfig!C1873,LEFT(StoreConfig!G1873,FIND(\"#\",StoreConfig!G1873)-1),\"\")","v":""},{"$f":"IF($B$2=StoreConfig!C1873,RIGHT(StoreConfig!G1873,LEN(StoreConfig!G1873)-FIND(\"#\",StoreConfig!G1873)),\"\")","v":""},{"$f":"IF($B$2=StoreConfig!C1873,IF(StoreConfig!L1873=0,\"不限购\",StoreConfig!L1873&\"次\"),\"\")","v":""}]
[{"$nulls":3},{"$f":"IF($B$2=StoreConfig!C1874,StoreConfig!O1874,\"\")","v":""},{"$f":"IF($B$2=StoreConfig!C1874,StoreConfig!E1874,\"\")","v":""},{"$f":"IF($B$2=StoreConfig!C1874,RIGHT(StoreConfig!J1874,LEN(StoreConfig!J1874)-FIND(\"|\",StoreConfig!J1874)),\"\")","v":""},{"$f":"IFERROR(VLOOKUP(--IF($B$2=StoreConfig!C1874,LEFT(StoreConfig!J1874,FIND(\"|\",StoreConfig!J1874)-1),\"\"),$Q$4:$R$20,2,FALSE),\"\")","v":""},{"$f":"IF($B$2=StoreConfig!C1874,LEFT(StoreConfig!G1874,FIND(\"#\",StoreConfig!G1874)-1),\"\")","v":""},{"$f":"IF($B$2=StoreConfig!C1874,RIGHT(StoreConfig!G1874,LEN(StoreConfig!G1874)-FIND(\"#\",StoreConfig!G1874)),\"\")","v":""},{"$f":"IF($B$2=StoreConfig!C1874,IF(StoreConfig!L1874=0,\"不限购\",StoreConfig!L1874&\"次\"),\"\")","v":""}]
[{"$nulls":3},{"$f":"IF($B$2=StoreConfig!C1875,StoreConfig!O1875,\"\")","v":""},{"$f":"IF($B$2=StoreConfig!C1875,StoreConfig!E1875,\"\")","v":""},{"$f":"IF($B$2=StoreConfig!C1875,RIGHT(StoreConfig!J1875,LEN(StoreConfig!J1875)-FIND(\"|\",StoreConfig!J1875)),\"\")","v":""},{"$f":"IFERROR(VLOOKUP(--IF($B$2=StoreConfig!C1875,LEFT(StoreConfig!J1875,FIND(\"|\",StoreConfig!J1875)-1),\"\"),$Q$4:$R$20,2,FALSE),\"\")","v":""},{"$f":"IF($B$2=StoreConfig!C1875,LEFT(StoreConfig!G1875,FIND(\"#\",StoreConfig!G1875)-1),\"\")","v":""},{"$f":"IF($B$2=StoreConfig!C1875,RIGHT(StoreConfig!G1875,LEN(StoreConfig!G1875)-FIND(\"#\",StoreConfig!G1875)),\"\")","v":""},{"$f":"IF($B$2=StoreConfig!C1875,IF(StoreConfig!L1875=0,\"不限购\",StoreConfig!L1875&\"次\"),\"\")","v":""}]
[{"$nulls":3},{"$f":"IF($B$2=StoreConfig!C1876,StoreConfig!O1876,\"\")","v":""},{"$f":"IF($B$2=StoreConfig!C1876,StoreConfig!E1876,\"\")","v":""},{"$f":"IF($B$2=StoreConfig!C1876,RIGHT(StoreConfig!J1876,LEN(StoreConfig!J1876)-FIND(\"|\",StoreConfig!J1876)),\"\")","v":""},{"$f":"IFERROR(VLOOKUP(--IF($B$2=StoreConfig!C1876,LEFT(StoreConfig!J1876,FIND(\"|\",StoreConfig!J1876)-1),\"\"),$Q$4:$R$20,2,FALSE),\"\")","v":""},{"$f":"IF($B$2=StoreConfig!C1876,LEFT(StoreConfig!G1876,FIND(\"#\",StoreConfig!G1876)-1),\"\")","v":""},{"$f":"IF($B$2=StoreConfig!C1876,RIGHT(StoreConfig!G1876,LEN(StoreConfig!G1876)-FIND(\"#\",StoreConfig!G1876)),\"\")","v":""},{"$f":"IF($B$2=StoreConfig!C1876,IF(StoreConfig!L1876=0,\"不限购\",StoreConfig!L1876&\"次\"),\"\")","v":""}]
[{"$nulls":3},{"$f":"IF($B$2=StoreConfig!C1877,StoreConfig!O1877,\"\")","v":""},{"$f":"IF($B$2=StoreConfig!C1877,StoreConfig!E1877,\"\")","v":""},{"$f":"IF($B$2=StoreConfig!C1877,RIGHT(StoreConfig!J1877,LEN(StoreConfig!J1877)-FIND(\"|\",StoreConfig!J1877)),\"\")","v":""},{"$f":"IFERROR(VLOOKUP(--IF($B$2=StoreConfig!C1877,LEFT(StoreConfig!J1877,FIND(\"|\",StoreConfig!J1877)-1),\"\"),$Q$4:$R$20,2,FALSE),\"\")","v":""},{"$f":"IF($B$2=StoreConfig!C1877,LEFT(StoreConfig!G1877,FIND(\"#\",StoreConfig!G1877)-1),\"\")","v":""},{"$f":"IF($B$2=StoreConfig!C1877,RIGHT(StoreConfig!G1877,LEN(StoreConfig!G1877)-FIND(\"#\",StoreConfig!G1877)),\"\")","v":""},{"$f":"IF($B$2=StoreConfig!C1877,IF(StoreConfig!L1877=0,\"不限购\",StoreConfig!L1877&\"次\"),\"\")","v":""}]
[{"$nulls":3},{"$f":"IF($B$2=StoreConfig!C1878,StoreConfig!O1878,\"\")","v":""},{"$f":"IF($B$2=StoreConfig!C1878,StoreConfig!E1878,\"\")","v":""},{"$f":"IF($B$2=StoreConfig!C1878,RIGHT(StoreConfig!J1878,LEN(StoreConfig!J1878)-FIND(\"|\",StoreConfig!J1878)),\"\")","v":""},{"$f":"IFERROR(VLOOKUP(--IF($B$2=StoreConfig!C1878,LEFT(StoreConfig!J1878,FIND(\"|\",StoreConfig!J1878)-1),\"\"),$Q$4:$R$20,2,FALSE),\"\")","v":""},{"$f":"IF($B$2=StoreConfig!C1878,LEFT(StoreConfig!G1878,FIND(\"#\",StoreConfig!G1878)-1),\"\")","v":""},{"$f":"IF($B$2=StoreConfig!C1878,RIGHT(StoreConfig!G1878,LEN(StoreConfig!G1878)-FIND(\"#\",StoreConfig!G1878)),\"\")","v":""},{"$f":"IF($B$2=StoreConfig!C1878,IF(StoreConfig!L1878=0,\"不限购\",StoreConfig!L1878&\"次\"),\"\")","v":""}]
[{"$nulls":3},{"$f":"IF($B$2=StoreConfig!C1879,StoreConfig!O1879,\"\")","v":""},{"$f":"IF($B$2=StoreConfig!C1879,StoreConfig!E1879,\"\")","v":""},{"$f":"IF($B$2=StoreConfig!C1879,RIGHT(StoreConfig!J1879,LEN(StoreConfig!J1879)-FIND(\"|\",StoreConfig!J1879)),\"\")","v":""},{"$f":"IFERROR(VLOOKUP(--IF($B$2=StoreConfig!C1879,LEFT(StoreConfig!J1879,FIND(\"|\",StoreConfig!J1879)-1),\"\"),$Q$4:$R$20,2,FALSE),\"\")","v":""},{"$f":"IF($B$2=StoreConfig!C1879,LEFT(StoreConfig!G1879,FIND(\"#\",StoreConfig!G1879)-1),\"\")","v":""},{"$f":"IF($B$2=StoreConfig!C1879,RIGHT(StoreConfig!G1879,LEN(StoreConfig!G1879)-FIND(\"#\",StoreConfig!G1879)),\"\")","v":""},{"$f":"IF($B$2=StoreConfig!C1879,IF(StoreConfig!L1879=0,\"不限购\",StoreConfig!L1879&\"次\"),\"\")","v":""}]
[{"$nulls":3},{"$f":"IF($B$2=StoreConfig!C1880,StoreConfig!O1880,\"\")","v":""},{"$f":"IF($B$2=StoreConfig!C1880,StoreConfig!E1880,\"\")","v":""},{"$f":"IF($B$2=StoreConfig!C1880,RIGHT(StoreConfig!J1880,LEN(StoreConfig!J1880)-FIND(\"|\",StoreConfig!J1880)),\"\")","v":""},{"$f":"IFERROR(VLOOKUP(--IF($B$2=StoreConfig!C1880,LEFT(StoreConfig!J1880,FIND(\"|\",StoreConfig!J1880)-1),\"\"),$Q$4:$R$20,2,FALSE),\"\")","v":""},{"$f":"IF($B$2=StoreConfig!C1880,LEFT(StoreConfig!G1880,FIND(\"#\",StoreConfig!G1880)-1),\"\")","v":""},{"$f":"IF($B$2=StoreConfig!C1880,RIGHT(StoreConfig!G1880,LEN(StoreConfig!G1880)-FIND(\"#\",StoreConfig!G1880)),\"\")","v":""},{"$f":"IF($B$2=StoreConfig!C1880,IF(StoreConfig!L1880=0,\"不限购\",StoreConfig!L1880&\"次\"),\"\")","v":""}]
[{"$nulls":3},{"$f":"IF($B$2=StoreConfig!C1881,StoreConfig!O1881,\"\")","v":""},{"$f":"IF($B$2=StoreConfig!C1881,StoreConfig!E1881,\"\")","v":""},{"$f":"IF($B$2=StoreConfig!C1881,RIGHT(StoreConfig!J1881,LEN(StoreConfig!J1881)-FIND(\"|\",StoreConfig!J1881)),\"\")","v":""},{"$f":"IFERROR(VLOOKUP(--IF($B$2=StoreConfig!C1881,LEFT(StoreConfig!J1881,FIND(\"|\",StoreConfig!J1881)-1),\"\"),$Q$4:$R$20,2,FALSE),\"\")","v":""},{"$f":"IF($B$2=StoreConfig!C1881,LEFT(StoreConfig!G1881,FIND(\"#\",StoreConfig!G1881)-1),\"\")","v":""},{"$f":"IF($B$2=StoreConfig!C1881,RIGHT(StoreConfig!G1881,LEN(StoreConfig!G1881)-FIND(\"#\",StoreConfig!G1881)),\"\")","v":""},{"$f":"IF($B$2=StoreConfig!C1881,IF(StoreConfig!L1881=0,\"不限购\",StoreConfig!L1881&\"次\"),\"\")","v":""}]
[{"$nulls":3},{"$f":"IF($B$2=StoreConfig!C1882,StoreConfig!O1882,\"\")","v":""},{"$f":"IF($B$2=StoreConfig!C1882,StoreConfig!E1882,\"\")","v":""},{"$f":"IF($B$2=StoreConfig!C1882,RIGHT(StoreConfig!J1882,LEN(StoreConfig!J1882)-FIND(\"|\",StoreConfig!J1882)),\"\")","v":""},{"$f":"IFERROR(VLOOKUP(--IF($B$2=StoreConfig!C1882,LEFT(StoreConfig!J1882,FIND(\"|\",StoreConfig!J1882)-1),\"\"),$Q$4:$R$20,2,FALSE),\"\")","v":""},{"$f":"IF($B$2=StoreConfig!C1882,LEFT(StoreConfig!G1882,FIND(\"#\",StoreConfig!G1882)-1),\"\")","v":""},{"$f":"IF($B$2=StoreConfig!C1882,RIGHT(StoreConfig!G1882,LEN(StoreConfig!G1882)-FIND(\"#\",StoreConfig!G1882)),\"\")","v":""},{"$f":"IF($B$2=StoreConfig!C1882,IF(StoreConfig!L1882=0,\"不限购\",StoreConfig!L1882&\"次\"),\"\")","v":""}]
[{"$nulls":3},{"$f":"IF($B$2=StoreConfig!C1883,StoreConfig!O1883,\"\")","v":""},{"$f":"IF($B$2=StoreConfig!C1883,StoreConfig!E1883,\"\")","v":""},{"$f":"IF($B$2=StoreConfig!C1883,RIGHT(StoreConfig!J1883,LEN(StoreConfig!J1883)-FIND(\"|\",StoreConfig!J1883)),\"\")","v":""},{"$f":"IFERROR(VLOOKUP(--IF($B$2=StoreConfig!C1883,LEFT(StoreConfig!J1883,FIND(\"|\",StoreConfig!J1883)-1),\"\"),$Q$4:$R$20,2,FALSE),\"\")","v":""},{"$f":"IF($B$2=StoreConfig!C1883,LEFT(StoreConfig!G1883,FIND(\"#\",StoreConfig!G1883)-1),\"\")","v":""},{"$f":"IF($B$2=StoreConfig!C1883,RIGHT(StoreConfig!G1883,LEN(StoreConfig!G1883)-FIND(\"#\",StoreConfig!G1883)),\"\")","v":""},{"$f":"IF($B$2=StoreConfig!C1883,IF(StoreConfig!L1883=0,\"不限购\",StoreConfig!L1883&\"次\"),\"\")","v":""}]
[{"$nulls":3},{"$f":"IF($B$2=StoreConfig!C1884,StoreConfig!O1884,\"\")","v":""},{"$f":"IF($B$2=StoreConfig!C1884,StoreConfig!E1884,\"\")","v":""},{"$f":"IF($B$2=StoreConfig!C1884,RIGHT(StoreConfig!J1884,LEN(StoreConfig!J1884)-FIND(\"|\",StoreConfig!J1884)),\"\")","v":""},{"$f":"IFERROR(VLOOKUP(--IF($B$2=StoreConfig!C1884,LEFT(StoreConfig!J1884,FIND(\"|\",StoreConfig!J1884)-1),\"\"),$Q$4:$R$20,2,FALSE),\"\")","v":""},{"$f":"IF($B$2=StoreConfig!C1884,LEFT(StoreConfig!G1884,FIND(\"#\",StoreConfig!G1884)-1),\"\")","v":""},{"$f":"IF($B$2=StoreConfig!C1884,RIGHT(StoreConfig!G1884,LEN(StoreConfig!G1884)-FIND(\"#\",StoreConfig!G1884)),\"\")","v":""},{"$f":"IF($B$2=StoreConfig!C1884,IF(StoreConfig!L1884=0,\"不限购\",StoreConfig!L1884&\"次\"),\"\")","v":""}]
[{"$nulls":3},{"$f":"IF($B$2=StoreConfig!C1885,StoreConfig!O1885,\"\")","v":""},{"$f":"IF($B$2=StoreConfig!C1885,StoreConfig!E1885,\"\")","v":""},{"$f":"IF($B$2=StoreConfig!C1885,RIGHT(StoreConfig!J1885,LEN(StoreConfig!J1885)-FIND(\"|\",StoreConfig!J1885)),\"\")","v":""},{"$f":"IFERROR(VLOOKUP(--IF($B$2=StoreConfig!C1885,LEFT(StoreConfig!J1885,FIND(\"|\",StoreConfig!J1885)-1),\"\"),$Q$4:$R$20,2,FALSE),\"\")","v":""},{"$f":"IF($B$2=StoreConfig!C1885,LEFT(StoreConfig!G1885,FIND(\"#\",StoreConfig!G1885)-1),\"\")","v":""},{"$f":"IF($B$2=StoreConfig!C1885,RIGHT(StoreConfig!G1885,LEN(StoreConfig!G1885)-FIND(\"#\",StoreConfig!G1885)),\"\")","v":""},{"$f":"IF($B$2=StoreConfig!C1885,IF(StoreConfig!L1885=0,\"不限购\",StoreConfig!L1885&\"次\"),\"\")","v":""}]
[{"$nulls":3},{"$f":"IF($B$2=StoreConfig!C1886,StoreConfig!O1886,\"\")","v":""},{"$f":"IF($B$2=StoreConfig!C1886,StoreConfig!E1886,\"\")","v":""},{"$f":"IF($B$2=StoreConfig!C1886,RIGHT(StoreConfig!J1886,LEN(StoreConfig!J1886)-FIND(\"|\",StoreConfig!J1886)),\"\")","v":""},{"$f":"IFERROR(VLOOKUP(--IF($B$2=StoreConfig!C1886,LEFT(StoreConfig!J1886,FIND(\"|\",StoreConfig!J1886)-1),\"\"),$Q$4:$R$20,2,FALSE),\"\")","v":""},{"$f":"IF($B$2=StoreConfig!C1886,LEFT(StoreConfig!G1886,FIND(\"#\",StoreConfig!G1886)-1),\"\")","v":""},{"$f":"IF($B$2=StoreConfig!C1886,RIGHT(StoreConfig!G1886,LEN(StoreConfig!G1886)-FIND(\"#\",StoreConfig!G1886)),\"\")","v":""},{"$f":"IF($B$2=StoreConfig!C1886,IF(StoreConfig!L1886=0,\"不限购\",StoreConfig!L1886&\"次\"),\"\")","v":""}]
[{"$nulls":3},{"$f":"IF($B$2=StoreConfig!C1887,StoreConfig!O1887,\"\")","v":""},{"$f":"IF($B$2=StoreConfig!C1887,StoreConfig!E1887,\"\")","v":""},{"$f":"IF($B$2=StoreConfig!C1887,RIGHT(StoreConfig!J1887,LEN(StoreConfig!J1887)-FIND(\"|\",StoreConfig!J1887)),\"\")","v":""},{"$f":"IFERROR(VLOOKUP(--IF($B$2=StoreConfig!C1887,LEFT(StoreConfig!J1887,FIND(\"|\",StoreConfig!J1887)-1),\"\"),$Q$4:$R$20,2,FALSE),\"\")","v":""},{"$f":"IF($B$2=StoreConfig!C1887,LEFT(StoreConfig!G1887,FIND(\"#\",StoreConfig!G1887)-1),\"\")","v":""},{"$f":"IF($B$2=StoreConfig!C1887,RIGHT(StoreConfig!G1887,LEN(StoreConfig!G1887)-FIND(\"#\",StoreConfig!G1887)),\"\")","v":""},{"$f":"IF($B$2=StoreConfig!C1887,IF(StoreConfig!L1887=0,\"不限购\",StoreConfig!L1887&\"次\"),\"\")","v":""}]
[{"$nulls":3},{"$f":"IF($B$2=StoreConfig!C1888,StoreConfig!O1888,\"\")","v":""},{"$f":"IF($B$2=StoreConfig!C1888,StoreConfig!E1888,\"\")","v":""},{"$f":"IF($B$2=StoreConfig!C1888,RIGHT(StoreConfig!J1888,LEN(StoreConfig!J1888)-FIND(\"|\",StoreConfig!J1888)),\"\")","v":""},{"$f":"IFERROR(VLOOKUP(--IF($B$2=StoreConfig!C1888,LEFT(StoreConfig!J1888,FIND(\"|\",StoreConfig!J1888)-1),\"\"),$Q$4:$R$20,2,FALSE),\"\")","v":""},{"$f":"IF($B$2=StoreConfig!C1888,LEFT(StoreConfig!G1888,FIND(\"#\",StoreConfig!G1888)-1),\"\")","v":""},{"$f":"IF($B$2=StoreConfig!C1888,RIGHT(StoreConfig!G1888,LEN(StoreConfig!G1888)-FIND(\"#\",StoreConfig!G1888)),\"\")","v":""},{"$f":"IF($B$2=StoreConfig!C1888,IF(StoreConfig!L1888=0,\"不限购\",StoreConfig!L1888&\"次\"),\"\")","v":""}]
[{"$nulls":3},{"$f":"IF($B$2=StoreConfig!C1889,StoreConfig!O1889,\"\")","v":""},{"$f":"IF($B$2=StoreConfig!C1889,StoreConfig!E1889,\"\")","v":""},{"$f":"IF($B$2=StoreConfig!C1889,RIGHT(StoreConfig!J1889,LEN(StoreConfig!J1889)-FIND(\"|\",StoreConfig!J1889)),\"\")","v":""},{"$f":"IFERROR(VLOOKUP(--IF($B$2=StoreConfig!C1889,LEFT(StoreConfig!J1889,FIND(\"|\",StoreConfig!J1889)-1),\"\"),$Q$4:$R$20,2,FALSE),\"\")","v":""},{"$f":"IF($B$2=StoreConfig!C1889,LEFT(StoreConfig!G1889,FIND(\"#\",StoreConfig!G1889)-1),\"\")","v":""},{"$f":"IF($B$2=StoreConfig!C1889,RIGHT(StoreConfig!G1889,LEN(StoreConfig!G1889)-FIND(\"#\",StoreConfig!G1889)),\"\")","v":""},{"$f":"IF($B$2=StoreConfig!C1889,IF(StoreConfig!L1889=0,\"不限购\",StoreConfig!L1889&\"次\"),\"\")","v":""}]
[{"$nulls":3},{"$f":"IF($B$2=StoreConfig!C1890,StoreConfig!O1890,\"\")","v":""},{"$f":"IF($B$2=StoreConfig!C1890,StoreConfig!E1890,\"\")","v":""},{"$f":"IF($B$2=StoreConfig!C1890,RIGHT(StoreConfig!J1890,LEN(StoreConfig!J1890)-FIND(\"|\",StoreConfig!J1890)),\"\")","v":""},{"$f":"IFERROR(VLOOKUP(--IF($B$2=StoreConfig!C1890,LEFT(StoreConfig!J1890,FIND(\"|\",StoreConfig!J1890)-1),\"\"),$Q$4:$R$20,2,FALSE),\"\")","v":""},{"$f":"IF($B$2=StoreConfig!C1890,LEFT(StoreConfig!G1890,FIND(\"#\",StoreConfig!G1890)-1),\"\")","v":""},{"$f":"IF($B$2=StoreConfig!C1890,RIGHT(StoreConfig!G1890,LEN(StoreConfig!G1890)-FIND(\"#\",StoreConfig!G1890)),\"\")","v":""},{"$f":"IF($B$2=StoreConfig!C1890,IF(StoreConfig!L1890=0,\"不限购\",StoreConfig!L1890&\"次\"),\"\")","v":""}]
[{"$nulls":3},{"$f":"IF($B$2=StoreConfig!C1891,StoreConfig!O1891,\"\")","v":""},{"$f":"IF($B$2=StoreConfig!C1891,StoreConfig!E1891,\"\")","v":""},{"$f":"IF($B$2=StoreConfig!C1891,RIGHT(StoreConfig!J1891,LEN(StoreConfig!J1891)-FIND(\"|\",StoreConfig!J1891)),\"\")","v":""},{"$f":"IFERROR(VLOOKUP(--IF($B$2=StoreConfig!C1891,LEFT(StoreConfig!J1891,FIND(\"|\",StoreConfig!J1891)-1),\"\"),$Q$4:$R$20,2,FALSE),\"\")","v":""},{"$f":"IF($B$2=StoreConfig!C1891,LEFT(StoreConfig!G1891,FIND(\"#\",StoreConfig!G1891)-1),\"\")","v":""},{"$f":"IF($B$2=StoreConfig!C1891,RIGHT(StoreConfig!G1891,LEN(StoreConfig!G1891)-FIND(\"#\",StoreConfig!G1891)),\"\")","v":""},{"$f":"IF($B$2=StoreConfig!C1891,IF(StoreConfig!L1891=0,\"不限购\",StoreConfig!L1891&\"次\"),\"\")","v":""}]
[{"$nulls":3},{"$f":"IF($B$2=StoreConfig!C1892,StoreConfig!O1892,\"\")","v":""},{"$f":"IF($B$2=StoreConfig!C1892,StoreConfig!E1892,\"\")","v":""},{"$f":"IF($B$2=StoreConfig!C1892,RIGHT(StoreConfig!J1892,LEN(StoreConfig!J1892)-FIND(\"|\",StoreConfig!J1892)),\"\")","v":""},{"$f":"IFERROR(VLOOKUP(--IF($B$2=StoreConfig!C1892,LEFT(StoreConfig!J1892,FIND(\"|\",StoreConfig!J1892)-1),\"\"),$Q$4:$R$20,2,FALSE),\"\")","v":""},{"$f":"IF($B$2=StoreConfig!C1892,LEFT(StoreConfig!G1892,FIND(\"#\",StoreConfig!G1892)-1),\"\")","v":""},{"$f":"IF($B$2=StoreConfig!C1892,RIGHT(StoreConfig!G1892,LEN(StoreConfig!G1892)-FIND(\"#\",StoreConfig!G1892)),\"\")","v":""},{"$f":"IF($B$2=StoreConfig!C1892,IF(StoreConfig!L1892=0,\"不限购\",StoreConfig!L1892&\"次\"),\"\")","v":""}]
[{"$nulls":3},{"$f":"IF($B$2=StoreConfig!C1893,StoreConfig!O1893,\"\")","v":""},{"$f":"IF($B$2=StoreConfig!C1893,StoreConfig!E1893,\"\")","v":""},{"$f":"IF($B$2=StoreConfig!C1893,RIGHT(StoreConfig!J1893,LEN(StoreConfig!J1893)-FIND(\"|\",StoreConfig!J1893)),\"\")","v":""},{"$f":"IFERROR(VLOOKUP(--IF($B$2=StoreConfig!C1893,LEFT(StoreConfig!J1893,FIND(\"|\",StoreConfig!J1893)-1),\"\"),$Q$4:$R$20,2,FALSE),\"\")","v":""},{"$f":"IF($B$2=StoreConfig!C1893,LEFT(StoreConfig!G1893,FIND(\"#\",StoreConfig!G1893)-1),\"\")","v":""},{"$f":"IF($B$2=StoreConfig!C1893,RIGHT(StoreConfig!G1893,LEN(StoreConfig!G1893)-FIND(\"#\",StoreConfig!G1893)),\"\")","v":""},{"$f":"IF($B$2=StoreConfig!C1893,IF(StoreConfig!L1893=0,\"不限购\",StoreConfig!L1893&\"次\"),\"\")","v":""}]
[{"$nulls":3},{"$f":"IF($B$2=StoreConfig!C1894,StoreConfig!O1894,\"\")","v":""},{"$f":"IF($B$2=StoreConfig!C1894,StoreConfig!E1894,\"\")","v":""},{"$f":"IF($B$2=StoreConfig!C1894,RIGHT(StoreConfig!J1894,LEN(StoreConfig!J1894)-FIND(\"|\",StoreConfig!J1894)),\"\")","v":""},{"$f":"IFERROR(VLOOKUP(--IF($B$2=StoreConfig!C1894,LEFT(StoreConfig!J1894,FIND(\"|\",StoreConfig!J1894)-1),\"\"),$Q$4:$R$20,2,FALSE),\"\")","v":""},{"$f":"IF($B$2=StoreConfig!C1894,LEFT(StoreConfig!G1894,FIND(\"#\",StoreConfig!G1894)-1),\"\")","v":""},{"$f":"IF($B$2=StoreConfig!C1894,RIGHT(StoreConfig!G1894,LEN(StoreConfig!G1894)-FIND(\"#\",StoreConfig!G1894)),\"\")","v":""},{"$f":"IF($B$2=StoreConfig!C1894,IF(StoreConfig!L1894=0,\"不限购\",StoreConfig!L1894&\"次\"),\"\")","v":""}]
[{"$nulls":3},{"$f":"IF($B$2=StoreConfig!C1895,StoreConfig!O1895,\"\")","v":""},{"$f":"IF($B$2=StoreConfig!C1895,StoreConfig!E1895,\"\")","v":""},{"$f":"IF($B$2=StoreConfig!C1895,RIGHT(StoreConfig!J1895,LEN(StoreConfig!J1895)-FIND(\"|\",StoreConfig!J1895)),\"\")","v":""},{"$f":"IFERROR(VLOOKUP(--IF($B$2=StoreConfig!C1895,LEFT(StoreConfig!J1895,FIND(\"|\",StoreConfig!J1895)-1),\"\"),$Q$4:$R$20,2,FALSE),\"\")","v":""},{"$f":"IF($B$2=StoreConfig!C1895,LEFT(StoreConfig!G1895,FIND(\"#\",StoreConfig!G1895)-1),\"\")","v":""},{"$f":"IF($B$2=StoreConfig!C1895,RIGHT(StoreConfig!G1895,LEN(StoreConfig!G1895)-FIND(\"#\",StoreConfig!G1895)),\"\")","v":""},{"$f":"IF($B$2=StoreConfig!C1895,IF(StoreConfig!L1895=0,\"不限购\",StoreConfig!L1895&\"次\"),\"\")","v":""}]
[{"$nulls":3},{"$f":"IF($B$2=StoreConfig!C1896,StoreConfig!O1896,\"\")","v":""},{"$f":"IF($B$2=StoreConfig!C1896,StoreConfig!E1896,\"\")","v":""},{"$f":"IF($B$2=StoreConfig!C1896,RIGHT(StoreConfig!J1896,LEN(StoreConfig!J1896)-FIND(\"|\",StoreConfig!J1896)),\"\")","v":""},{"$f":"IFERROR(VLOOKUP(--IF($B$2=StoreConfig!C1896,LEFT(StoreConfig!J1896,FIND(\"|\",StoreConfig!J1896)-1),\"\"),$Q$4:$R$20,2,FALSE),\"\")","v":""},{"$f":"IF($B$2=StoreConfig!C1896,LEFT(StoreConfig!G1896,FIND(\"#\",StoreConfig!G1896)-1),\"\")","v":""},{"$f":"IF($B$2=StoreConfig!C1896,RIGHT(StoreConfig!G1896,LEN(StoreConfig!G1896)-FIND(\"#\",StoreConfig!G1896)),\"\")","v":""},{"$f":"IF($B$2=StoreConfig!C1896,IF(StoreConfig!L1896=0,\"不限购\",StoreConfig!L1896&\"次\"),\"\")","v":""}]
[{"$nulls":3},{"$f":"IF($B$2=StoreConfig!C1897,StoreConfig!O1897,\"\")","v":""},{"$f":"IF($B$2=StoreConfig!C1897,StoreConfig!E1897,\"\")","v":""},{"$f":"IF($B$2=StoreConfig!C1897,RIGHT(StoreConfig!J1897,LEN(StoreConfig!J1897)-FIND(\"|\",StoreConfig!J1897)),\"\")","v":""},{"$f":"IFERROR(VLOOKUP(--IF($B$2=StoreConfig!C1897,LEFT(StoreConfig!J1897,FIND(\"|\",StoreConfig!J1897)-1),\"\"),$Q$4:$R$20,2,FALSE),\"\")","v":""},{"$f":"IF($B$2=StoreConfig!C1897,LEFT(StoreConfig!G1897,FIND(\"#\",StoreConfig!G1897)-1),\"\")","v":""},{"$f":"IF($B$2=StoreConfig!C1897,RIGHT(StoreConfig!G1897,LEN(StoreConfig!G1897)-FIND(\"#\",StoreConfig!G1897)),\"\")","v":""},{"$f":"IF($B$2=StoreConfig!C1897,IF(StoreConfig!L1897=0,\"不限购\",StoreConfig!L1897&\"次\"),\"\")","v":""}]
[{"$nulls":3},{"$f":"IF($B$2=StoreConfig!C1898,StoreConfig!O1898,\"\")","v":""},{"$f":"IF($B$2=StoreConfig!C1898,StoreConfig!E1898,\"\")","v":""},{"$f":"IF($B$2=StoreConfig!C1898,RIGHT(StoreConfig!J1898,LEN(StoreConfig!J1898)-FIND(\"|\",StoreConfig!J1898)),\"\")","v":""},{"$f":"IFERROR(VLOOKUP(--IF($B$2=StoreConfig!C1898,LEFT(StoreConfig!J1898,FIND(\"|\",StoreConfig!J1898)-1),\"\"),$Q$4:$R$20,2,FALSE),\"\")","v":""},{"$f":"IF($B$2=StoreConfig!C1898,LEFT(StoreConfig!G1898,FIND(\"#\",StoreConfig!G1898)-1),\"\")","v":""},{"$f":"IF($B$2=StoreConfig!C1898,RIGHT(StoreConfig!G1898,LEN(StoreConfig!G1898)-FIND(\"#\",StoreConfig!G1898)),\"\")","v":""},{"$f":"IF($B$2=StoreConfig!C1898,IF(StoreConfig!L1898=0,\"不限购\",StoreConfig!L1898&\"次\"),\"\")","v":""}]
[{"$nulls":3},{"$f":"IF($B$2=StoreConfig!C1899,StoreConfig!O1899,\"\")","v":""},{"$f":"IF($B$2=StoreConfig!C1899,StoreConfig!E1899,\"\")","v":""},{"$f":"IF($B$2=StoreConfig!C1899,RIGHT(StoreConfig!J1899,LEN(StoreConfig!J1899)-FIND(\"|\",StoreConfig!J1899)),\"\")","v":""},{"$f":"IFERROR(VLOOKUP(--IF($B$2=StoreConfig!C1899,LEFT(StoreConfig!J1899,FIND(\"|\",StoreConfig!J1899)-1),\"\"),$Q$4:$R$20,2,FALSE),\"\")","v":""},{"$f":"IF($B$2=StoreConfig!C1899,LEFT(StoreConfig!G1899,FIND(\"#\",StoreConfig!G1899)-1),\"\")","v":""},{"$f":"IF($B$2=StoreConfig!C1899,RIGHT(StoreConfig!G1899,LEN(StoreConfig!G1899)-FIND(\"#\",StoreConfig!G1899)),\"\")","v":""},{"$f":"IF($B$2=StoreConfig!C1899,IF(StoreConfig!L1899=0,\"不限购\",StoreConfig!L1899&\"次\"),\"\")","v":""}]
[{"$nulls":3},{"$f":"IF($B$2=StoreConfig!C1900,StoreConfig!O1900,\"\")","v":""},{"$f":"IF($B$2=StoreConfig!C1900,StoreConfig!E1900,\"\")","v":""},{"$f":"IF($B$2=StoreConfig!C1900,RIGHT(StoreConfig!J1900,LEN(StoreConfig!J1900)-FIND(\"|\",StoreConfig!J1900)),\"\")","v":""},{"$f":"IFERROR(VLOOKUP(--IF($B$2=StoreConfig!C1900,LEFT(StoreConfig!J1900,FIND(\"|\",StoreConfig!J1900)-1),\"\"),$Q$4:$R$20,2,FALSE),\"\")","v":""},{"$f":"IF($B$2=StoreConfig!C1900,LEFT(StoreConfig!G1900,FIND(\"#\",StoreConfig!G1900)-1),\"\")","v":""},{"$f":"IF($B$2=StoreConfig!C1900,RIGHT(StoreConfig!G1900,LEN(StoreConfig!G1900)-FIND(\"#\",StoreConfig!G1900)),\"\")","v":""},{"$f":"IF($B$2=StoreConfig!C1900,IF(StoreConfig!L1900=0,\"不限购\",StoreConfig!L1900&\"次\"),\"\")","v":""}]
[{"$nulls":3},{"$f":"IF($B$2=StoreConfig!C1901,StoreConfig!O1901,\"\")","v":""},{"$f":"IF($B$2=StoreConfig!C1901,StoreConfig!E1901,\"\")","v":""},{"$f":"IF($B$2=StoreConfig!C1901,RIGHT(StoreConfig!J1901,LEN(StoreConfig!J1901)-FIND(\"|\",StoreConfig!J1901)),\"\")","v":""},{"$f":"IFERROR(VLOOKUP(--IF($B$2=StoreConfig!C1901,LEFT(StoreConfig!J1901,FIND(\"|\",StoreConfig!J1901)-1),\"\"),$Q$4:$R$20,2,FALSE),\"\")","v":""},{"$f":"IF($B$2=StoreConfig!C1901,LEFT(StoreConfig!G1901,FIND(\"#\",StoreConfig!G1901)-1),\"\")","v":""},{"$f":"IF($B$2=StoreConfig!C1901,RIGHT(StoreConfig!G1901,LEN(StoreConfig!G1901)-FIND(\"#\",StoreConfig!G1901)),\"\")","v":""},{"$f":"IF($B$2=StoreConfig!C1901,IF(StoreConfig!L1901=0,\"不限购\",StoreConfig!L1901&\"次\"),\"\")","v":""}]
[{"$nulls":3},{"$f":"IF($B$2=StoreConfig!C1902,StoreConfig!O1902,\"\")","v":""},{"$f":"IF($B$2=StoreConfig!C1902,StoreConfig!E1902,\"\")","v":""},{"$f":"IF($B$2=StoreConfig!C1902,RIGHT(StoreConfig!J1902,LEN(StoreConfig!J1902)-FIND(\"|\",StoreConfig!J1902)),\"\")","v":""},{"$f":"IFERROR(VLOOKUP(--IF($B$2=StoreConfig!C1902,LEFT(StoreConfig!J1902,FIND(\"|\",StoreConfig!J1902)-1),\"\"),$Q$4:$R$20,2,FALSE),\"\")","v":""},{"$f":"IF($B$2=StoreConfig!C1902,LEFT(StoreConfig!G1902,FIND(\"#\",StoreConfig!G1902)-1),\"\")","v":""},{"$f":"IF($B$2=StoreConfig!C1902,RIGHT(StoreConfig!G1902,LEN(StoreConfig!G1902)-FIND(\"#\",StoreConfig!G1902)),\"\")","v":""},{"$f":"IF($B$2=StoreConfig!C1902,IF(StoreConfig!L1902=0,\"不限购\",StoreConfig!L1902&\"次\"),\"\")","v":""}]
[{"$nulls":3},{"$f":"IF($B$2=StoreConfig!C1903,StoreConfig!O1903,\"\")","v":""},{"$f":"IF($B$2=StoreConfig!C1903,StoreConfig!E1903,\"\")","v":""},{"$f":"IF($B$2=StoreConfig!C1903,RIGHT(StoreConfig!J1903,LEN(StoreConfig!J1903)-FIND(\"|\",StoreConfig!J1903)),\"\")","v":""},{"$f":"IFERROR(VLOOKUP(--IF($B$2=StoreConfig!C1903,LEFT(StoreConfig!J1903,FIND(\"|\",StoreConfig!J1903)-1),\"\"),$Q$4:$R$20,2,FALSE),\"\")","v":""},{"$f":"IF($B$2=StoreConfig!C1903,LEFT(StoreConfig!G1903,FIND(\"#\",StoreConfig!G1903)-1),\"\")","v":""},{"$f":"IF($B$2=StoreConfig!C1903,RIGHT(StoreConfig!G1903,LEN(StoreConfig!G1903)-FIND(\"#\",StoreConfig!G1903)),\"\")","v":""},{"$f":"IF($B$2=StoreConfig!C1903,IF(StoreConfig!L1903=0,\"不限购\",StoreConfig!L1903&\"次\"),\"\")","v":""}]
[{"$nulls":3},{"$f":"IF($B$2=StoreConfig!C1904,StoreConfig!O1904,\"\")","v":""},{"$f":"IF($B$2=StoreConfig!C1904,StoreConfig!E1904,\"\")","v":""},{"$f":"IF($B$2=StoreConfig!C1904,RIGHT(StoreConfig!J1904,LEN(StoreConfig!J1904)-FIND(\"|\",StoreConfig!J1904)),\"\")","v":""},{"$f":"IFERROR(VLOOKUP(--IF($B$2=StoreConfig!C1904,LEFT(StoreConfig!J1904,FIND(\"|\",StoreConfig!J1904)-1),\"\"),$Q$4:$R$20,2,FALSE),\"\")","v":""},{"$f":"IF($B$2=StoreConfig!C1904,LEFT(StoreConfig!G1904,FIND(\"#\",StoreConfig!G1904)-1),\"\")","v":""},{"$f":"IF($B$2=StoreConfig!C1904,RIGHT(StoreConfig!G1904,LEN(StoreConfig!G1904)-FIND(\"#\",StoreConfig!G1904)),\"\")","v":""},{"$f":"IF($B$2=StoreConfig!C1904,IF(StoreConfig!L1904=0,\"不限购\",StoreConfig!L1904&\"次\"),\"\")","v":""}]
[{"$nulls":3},{"$f":"IF($B$2=StoreConfig!C1905,StoreConfig!O1905,\"\")","v":""},{"$f":"IF($B$2=StoreConfig!C1905,StoreConfig!E1905,\"\")","v":""},{"$f":"IF($B$2=StoreConfig!C1905,RIGHT(StoreConfig!J1905,LEN(StoreConfig!J1905)-FIND(\"|\",StoreConfig!J1905)),\"\")","v":""},{"$f":"IFERROR(VLOOKUP(--IF($B$2=StoreConfig!C1905,LEFT(StoreConfig!J1905,FIND(\"|\",StoreConfig!J1905)-1),\"\"),$Q$4:$R$20,2,FALSE),\"\")","v":""},{"$f":"IF($B$2=StoreConfig!C1905,LEFT(StoreConfig!G1905,FIND(\"#\",StoreConfig!G1905)-1),\"\")","v":""},{"$f":"IF($B$2=StoreConfig!C1905,RIGHT(StoreConfig!G1905,LEN(StoreConfig!G1905)-FIND(\"#\",StoreConfig!G1905)),\"\")","v":""},{"$f":"IF($B$2=StoreConfig!C1905,IF(StoreConfig!L1905=0,\"不限购\",StoreConfig!L1905&\"次\"),\"\")","v":""}]
[{"$nulls":3},{"$f":"IF($B$2=StoreConfig!C1906,StoreConfig!O1906,\"\")","v":""},{"$f":"IF($B$2=StoreConfig!C1906,StoreConfig!E1906,\"\")","v":""},{"$f":"IF($B$2=StoreConfig!C1906,RIGHT(StoreConfig!J1906,LEN(StoreConfig!J1906)-FIND(\"|\",StoreConfig!J1906)),\"\")","v":""},{"$f":"IFERROR(VLOOKUP(--IF($B$2=StoreConfig!C1906,LEFT(StoreConfig!J1906,FIND(\"|\",StoreConfig!J1906)-1),\"\"),$Q$4:$R$20,2,FALSE),\"\")","v":""},{"$f":"IF($B$2=StoreConfig!C1906,LEFT(StoreConfig!G1906,FIND(\"#\",StoreConfig!G1906)-1),\"\")","v":""},{"$f":"IF($B$2=StoreConfig!C1906,RIGHT(StoreConfig!G1906,LEN(StoreConfig!G1906)-FIND(\"#\",StoreConfig!G1906)),\"\")","v":""},{"$f":"IF($B$2=StoreConfig!C1906,IF(StoreConfig!L1906=0,\"不限购\",StoreConfig!L1906&\"次\"),\"\")","v":""}]
[{"$nulls":3},{"$f":"IF($B$2=StoreConfig!C1907,StoreConfig!O1907,\"\")","v":""},{"$f":"IF($B$2=StoreConfig!C1907,StoreConfig!E1907,\"\")","v":""},{"$f":"IF($B$2=StoreConfig!C1907,RIGHT(StoreConfig!J1907,LEN(StoreConfig!J1907)-FIND(\"|\",StoreConfig!J1907)),\"\")","v":""},{"$f":"IFERROR(VLOOKUP(--IF($B$2=StoreConfig!C1907,LEFT(StoreConfig!J1907,FIND(\"|\",StoreConfig!J1907)-1),\"\"),$Q$4:$R$20,2,FALSE),\"\")","v":""},{"$f":"IF($B$2=StoreConfig!C1907,LEFT(StoreConfig!G1907,FIND(\"#\",StoreConfig!G1907)-1),\"\")","v":""},{"$f":"IF($B$2=StoreConfig!C1907,RIGHT(StoreConfig!G1907,LEN(StoreConfig!G1907)-FIND(\"#\",StoreConfig!G1907)),\"\")","v":""},{"$f":"IF($B$2=StoreConfig!C1907,IF(StoreConfig!L1907=0,\"不限购\",StoreConfig!L1907&\"次\"),\"\")","v":""}]
[{"$nulls":3},{"$f":"IF($B$2=StoreConfig!C1908,StoreConfig!O1908,\"\")","v":""},{"$f":"IF($B$2=StoreConfig!C1908,StoreConfig!E1908,\"\")","v":""},{"$f":"IF($B$2=StoreConfig!C1908,RIGHT(StoreConfig!J1908,LEN(StoreConfig!J1908)-FIND(\"|\",StoreConfig!J1908)),\"\")","v":""},{"$f":"IFERROR(VLOOKUP(--IF($B$2=StoreConfig!C1908,LEFT(StoreConfig!J1908,FIND(\"|\",StoreConfig!J1908)-1),\"\"),$Q$4:$R$20,2,FALSE),\"\")","v":""},{"$f":"IF($B$2=StoreConfig!C1908,LEFT(StoreConfig!G1908,FIND(\"#\",StoreConfig!G1908)-1),\"\")","v":""},{"$f":"IF($B$2=StoreConfig!C1908,RIGHT(StoreConfig!G1908,LEN(StoreConfig!G1908)-FIND(\"#\",StoreConfig!G1908)),\"\")","v":""},{"$f":"IF($B$2=StoreConfig!C1908,IF(StoreConfig!L1908=0,\"不限购\",StoreConfig!L1908&\"次\"),\"\")","v":""}]
[{"$nulls":3},{"$f":"IF($B$2=StoreConfig!C1909,StoreConfig!O1909,\"\")","v":""},{"$f":"IF($B$2=StoreConfig!C1909,StoreConfig!E1909,\"\")","v":""},{"$f":"IF($B$2=StoreConfig!C1909,RIGHT(StoreConfig!J1909,LEN(StoreConfig!J1909)-FIND(\"|\",StoreConfig!J1909)),\"\")","v":""},{"$f":"IFERROR(VLOOKUP(--IF($B$2=StoreConfig!C1909,LEFT(StoreConfig!J1909,FIND(\"|\",StoreConfig!J1909)-1),\"\"),$Q$4:$R$20,2,FALSE),\"\")","v":""},{"$f":"IF($B$2=StoreConfig!C1909,LEFT(StoreConfig!G1909,FIND(\"#\",StoreConfig!G1909)-1),\"\")","v":""},{"$f":"IF($B$2=StoreConfig!C1909,RIGHT(StoreConfig!G1909,LEN(StoreConfig!G1909)-FIND(\"#\",StoreConfig!G1909)),\"\")","v":""},{"$f":"IF($B$2=StoreConfig!C1909,IF(StoreConfig!L1909=0,\"不限购\",StoreConfig!L1909&\"次\"),\"\")","v":""}]
[{"$nulls":3},{"$f":"IF($B$2=StoreConfig!C1910,StoreConfig!O1910,\"\")","v":""},{"$f":"IF($B$2=StoreConfig!C1910,StoreConfig!E1910,\"\")","v":""},{"$f":"IF($B$2=StoreConfig!C1910,RIGHT(StoreConfig!J1910,LEN(StoreConfig!J1910)-FIND(\"|\",StoreConfig!J1910)),\"\")","v":""},{"$f":"IFERROR(VLOOKUP(--IF($B$2=StoreConfig!C1910,LEFT(StoreConfig!J1910,FIND(\"|\",StoreConfig!J1910)-1),\"\"),$Q$4:$R$20,2,FALSE),\"\")","v":""},{"$f":"IF($B$2=StoreConfig!C1910,LEFT(StoreConfig!G1910,FIND(\"#\",StoreConfig!G1910)-1),\"\")","v":""},{"$f":"IF($B$2=StoreConfig!C1910,RIGHT(StoreConfig!G1910,LEN(StoreConfig!G1910)-FIND(\"#\",StoreConfig!G1910)),\"\")","v":""},{"$f":"IF($B$2=StoreConfig!C1910,IF(StoreConfig!L1910=0,\"不限购\",StoreConfig!L1910&\"次\"),\"\")","v":""}]
[{"$nulls":3},{"$f":"IF($B$2=StoreConfig!C1911,StoreConfig!O1911,\"\")","v":""},{"$f":"IF($B$2=StoreConfig!C1911,StoreConfig!E1911,\"\")","v":""},{"$f":"IF($B$2=StoreConfig!C1911,RIGHT(StoreConfig!J1911,LEN(StoreConfig!J1911)-FIND(\"|\",StoreConfig!J1911)),\"\")","v":""},{"$f":"IFERROR(VLOOKUP(--IF($B$2=StoreConfig!C1911,LEFT(StoreConfig!J1911,FIND(\"|\",StoreConfig!J1911)-1),\"\"),$Q$4:$R$20,2,FALSE),\"\")","v":""},{"$f":"IF($B$2=StoreConfig!C1911,LEFT(StoreConfig!G1911,FIND(\"#\",StoreConfig!G1911)-1),\"\")","v":""},{"$f":"IF($B$2=StoreConfig!C1911,RIGHT(StoreConfig!G1911,LEN(StoreConfig!G1911)-FIND(\"#\",StoreConfig!G1911)),\"\")","v":""},{"$f":"IF($B$2=StoreConfig!C1911,IF(StoreConfig!L1911=0,\"不限购\",StoreConfig!L1911&\"次\"),\"\")","v":""}]
[{"$nulls":3},{"$f":"IF($B$2=StoreConfig!C1912,StoreConfig!O1912,\"\")","v":""},{"$f":"IF($B$2=StoreConfig!C1912,StoreConfig!E1912,\"\")","v":""},{"$f":"IF($B$2=StoreConfig!C1912,RIGHT(StoreConfig!J1912,LEN(StoreConfig!J1912)-FIND(\"|\",StoreConfig!J1912)),\"\")","v":""},{"$f":"IFERROR(VLOOKUP(--IF($B$2=StoreConfig!C1912,LEFT(StoreConfig!J1912,FIND(\"|\",StoreConfig!J1912)-1),\"\"),$Q$4:$R$20,2,FALSE),\"\")","v":""},{"$f":"IF($B$2=StoreConfig!C1912,LEFT(StoreConfig!G1912,FIND(\"#\",StoreConfig!G1912)-1),\"\")","v":""},{"$f":"IF($B$2=StoreConfig!C1912,RIGHT(StoreConfig!G1912,LEN(StoreConfig!G1912)-FIND(\"#\",StoreConfig!G1912)),\"\")","v":""},{"$f":"IF($B$2=StoreConfig!C1912,IF(StoreConfig!L1912=0,\"不限购\",StoreConfig!L1912&\"次\"),\"\")","v":""}]
[{"$nulls":3},{"$f":"IF($B$2=StoreConfig!C1913,StoreConfig!O1913,\"\")","v":""},{"$f":"IF($B$2=StoreConfig!C1913,StoreConfig!E1913,\"\")","v":""},{"$f":"IF($B$2=StoreConfig!C1913,RIGHT(StoreConfig!J1913,LEN(StoreConfig!J1913)-FIND(\"|\",StoreConfig!J1913)),\"\")","v":""},{"$f":"IFERROR(VLOOKUP(--IF($B$2=StoreConfig!C1913,LEFT(StoreConfig!J1913,FIND(\"|\",StoreConfig!J1913)-1),\"\"),$Q$4:$R$20,2,FALSE),\"\")","v":""},{"$f":"IF($B$2=StoreConfig!C1913,LEFT(StoreConfig!G1913,FIND(\"#\",StoreConfig!G1913)-1),\"\")","v":""},{"$f":"IF($B$2=StoreConfig!C1913,RIGHT(StoreConfig!G1913,LEN(StoreConfig!G1913)-FIND(\"#\",StoreConfig!G1913)),\"\")","v":""},{"$f":"IF($B$2=StoreConfig!C1913,IF(StoreConfig!L1913=0,\"不限购\",StoreConfig!L1913&\"次\"),\"\")","v":""}]
[{"$nulls":3},{"$f":"IF($B$2=StoreConfig!C1914,StoreConfig!O1914,\"\")","v":""},{"$f":"IF($B$2=StoreConfig!C1914,StoreConfig!E1914,\"\")","v":""},{"$f":"IF($B$2=StoreConfig!C1914,RIGHT(StoreConfig!J1914,LEN(StoreConfig!J1914)-FIND(\"|\",StoreConfig!J1914)),\"\")","v":""},{"$f":"IFERROR(VLOOKUP(--IF($B$2=StoreConfig!C1914,LEFT(StoreConfig!J1914,FIND(\"|\",StoreConfig!J1914)-1),\"\"),$Q$4:$R$20,2,FALSE),\"\")","v":""},{"$f":"IF($B$2=StoreConfig!C1914,LEFT(StoreConfig!G1914,FIND(\"#\",StoreConfig!G1914)-1),\"\")","v":""},{"$f":"IF($B$2=StoreConfig!C1914,RIGHT(StoreConfig!G1914,LEN(StoreConfig!G1914)-FIND(\"#\",StoreConfig!G1914)),\"\")","v":""},{"$f":"IF($B$2=StoreConfig!C1914,IF(StoreConfig!L1914=0,\"不限购\",StoreConfig!L1914&\"次\"),\"\")","v":""}]
[{"$nulls":3},{"$f":"IF($B$2=StoreConfig!C1915,StoreConfig!O1915,\"\")","v":""},{"$f":"IF($B$2=StoreConfig!C1915,StoreConfig!E1915,\"\")","v":""},{"$f":"IF($B$2=StoreConfig!C1915,RIGHT(StoreConfig!J1915,LEN(StoreConfig!J1915)-FIND(\"|\",StoreConfig!J1915)),\"\")","v":""},{"$f":"IFERROR(VLOOKUP(--IF($B$2=StoreConfig!C1915,LEFT(StoreConfig!J1915,FIND(\"|\",StoreConfig!J1915)-1),\"\"),$Q$4:$R$20,2,FALSE),\"\")","v":""},{"$f":"IF($B$2=StoreConfig!C1915,LEFT(StoreConfig!G1915,FIND(\"#\",StoreConfig!G1915)-1),\"\")","v":""},{"$f":"IF($B$2=StoreConfig!C1915,RIGHT(StoreConfig!G1915,LEN(StoreConfig!G1915)-FIND(\"#\",StoreConfig!G1915)),\"\")","v":""},{"$f":"IF($B$2=StoreConfig!C1915,IF(StoreConfig!L1915=0,\"不限购\",StoreConfig!L1915&\"次\"),\"\")","v":""}]
[{"$nulls":3},{"$f":"IF($B$2=StoreConfig!C1916,StoreConfig!O1916,\"\")","v":""},{"$f":"IF($B$2=StoreConfig!C1916,StoreConfig!E1916,\"\")","v":""},{"$f":"IF($B$2=StoreConfig!C1916,RIGHT(StoreConfig!J1916,LEN(StoreConfig!J1916)-FIND(\"|\",StoreConfig!J1916)),\"\")","v":""},{"$f":"IFERROR(VLOOKUP(--IF($B$2=StoreConfig!C1916,LEFT(StoreConfig!J1916,FIND(\"|\",StoreConfig!J1916)-1),\"\"),$Q$4:$R$20,2,FALSE),\"\")","v":""},{"$f":"IF($B$2=StoreConfig!C1916,LEFT(StoreConfig!G1916,FIND(\"#\",StoreConfig!G1916)-1),\"\")","v":""},{"$f":"IF($B$2=StoreConfig!C1916,RIGHT(StoreConfig!G1916,LEN(StoreConfig!G1916)-FIND(\"#\",StoreConfig!G1916)),\"\")","v":""},{"$f":"IF($B$2=StoreConfig!C1916,IF(StoreConfig!L1916=0,\"不限购\",StoreConfig!L1916&\"次\"),\"\")","v":""}]
[{"$nulls":3},{"$f":"IF($B$2=StoreConfig!C1917,StoreConfig!O1917,\"\")","v":""},{"$f":"IF($B$2=StoreConfig!C1917,StoreConfig!E1917,\"\")","v":""},{"$f":"IF($B$2=StoreConfig!C1917,RIGHT(StoreConfig!J1917,LEN(StoreConfig!J1917)-FIND(\"|\",StoreConfig!J1917)),\"\")","v":""},{"$f":"IFERROR(VLOOKUP(--IF($B$2=StoreConfig!C1917,LEFT(StoreConfig!J1917,FIND(\"|\",StoreConfig!J1917)-1),\"\"),$Q$4:$R$20,2,FALSE),\"\")","v":""},{"$f":"IF($B$2=StoreConfig!C1917,LEFT(StoreConfig!G1917,FIND(\"#\",StoreConfig!G1917)-1),\"\")","v":""},{"$f":"IF($B$2=StoreConfig!C1917,RIGHT(StoreConfig!G1917,LEN(StoreConfig!G1917)-FIND(\"#\",StoreConfig!G1917)),\"\")","v":""},{"$f":"IF($B$2=StoreConfig!C1917,IF(StoreConfig!L1917=0,\"不限购\",StoreConfig!L1917&\"次\"),\"\")","v":""}]
[{"$nulls":3},{"$f":"IF($B$2=StoreConfig!C1918,StoreConfig!O1918,\"\")","v":""},{"$f":"IF($B$2=StoreConfig!C1918,StoreConfig!E1918,\"\")","v":""},{"$f":"IF($B$2=StoreConfig!C1918,RIGHT(StoreConfig!J1918,LEN(StoreConfig!J1918)-FIND(\"|\",StoreConfig!J1918)),\"\")","v":""},{"$f":"IFERROR(VLOOKUP(--IF($B$2=StoreConfig!C1918,LEFT(StoreConfig!J1918,FIND(\"|\",StoreConfig!J1918)-1),\"\"),$Q$4:$R$20,2,FALSE),\"\")","v":""},{"$f":"IF($B$2=StoreConfig!C1918,LEFT(StoreConfig!G1918,FIND(\"#\",StoreConfig!G1918)-1),\"\")","v":""},{"$f":"IF($B$2=StoreConfig!C1918,RIGHT(StoreConfig!G1918,LEN(StoreConfig!G1918)-FIND(\"#\",StoreConfig!G1918)),\"\")","v":""},{"$f":"IF($B$2=StoreConfig!C1918,IF(StoreConfig!L1918=0,\"不限购\",StoreConfig!L1918&\"次\"),\"\")","v":""}]
[{"$nulls":3},{"$f":"IF($B$2=StoreConfig!C1919,StoreConfig!O1919,\"\")","v":""},{"$f":"IF($B$2=StoreConfig!C1919,StoreConfig!E1919,\"\")","v":""},{"$f":"IF($B$2=StoreConfig!C1919,RIGHT(StoreConfig!J1919,LEN(StoreConfig!J1919)-FIND(\"|\",StoreConfig!J1919)),\"\")","v":""},{"$f":"IFERROR(VLOOKUP(--IF($B$2=StoreConfig!C1919,LEFT(StoreConfig!J1919,FIND(\"|\",StoreConfig!J1919)-1),\"\"),$Q$4:$R$20,2,FALSE),\"\")","v":""},{"$f":"IF($B$2=StoreConfig!C1919,LEFT(StoreConfig!G1919,FIND(\"#\",StoreConfig!G1919)-1),\"\")","v":""},{"$f":"IF($B$2=StoreConfig!C1919,RIGHT(StoreConfig!G1919,LEN(StoreConfig!G1919)-FIND(\"#\",StoreConfig!G1919)),\"\")","v":""},{"$f":"IF($B$2=StoreConfig!C1919,IF(StoreConfig!L1919=0,\"不限购\",StoreConfig!L1919&\"次\"),\"\")","v":""}]
[{"$nulls":3},{"$f":"IF($B$2=StoreConfig!C1920,StoreConfig!O1920,\"\")","v":""},{"$f":"IF($B$2=StoreConfig!C1920,StoreConfig!E1920,\"\")","v":""},{"$f":"IF($B$2=StoreConfig!C1920,RIGHT(StoreConfig!J1920,LEN(StoreConfig!J1920)-FIND(\"|\",StoreConfig!J1920)),\"\")","v":""},{"$f":"IFERROR(VLOOKUP(--IF($B$2=StoreConfig!C1920,LEFT(StoreConfig!J1920,FIND(\"|\",StoreConfig!J1920)-1),\"\"),$Q$4:$R$20,2,FALSE),\"\")","v":""},{"$f":"IF($B$2=StoreConfig!C1920,LEFT(StoreConfig!G1920,FIND(\"#\",StoreConfig!G1920)-1),\"\")","v":""},{"$f":"IF($B$2=StoreConfig!C1920,RIGHT(StoreConfig!G1920,LEN(StoreConfig!G1920)-FIND(\"#\",StoreConfig!G1920)),\"\")","v":""},{"$f":"IF($B$2=StoreConfig!C1920,IF(StoreConfig!L1920=0,\"不限购\",StoreConfig!L1920&\"次\"),\"\")","v":""}]
[{"$nulls":3},{"$f":"IF($B$2=StoreConfig!C1921,StoreConfig!O1921,\"\")","v":""},{"$f":"IF($B$2=StoreConfig!C1921,StoreConfig!E1921,\"\")","v":""},{"$f":"IF($B$2=StoreConfig!C1921,RIGHT(StoreConfig!J1921,LEN(StoreConfig!J1921)-FIND(\"|\",StoreConfig!J1921)),\"\")","v":""},{"$f":"IFERROR(VLOOKUP(--IF($B$2=StoreConfig!C1921,LEFT(StoreConfig!J1921,FIND(\"|\",StoreConfig!J1921)-1),\"\"),$Q$4:$R$20,2,FALSE),\"\")","v":""},{"$f":"IF($B$2=StoreConfig!C1921,LEFT(StoreConfig!G1921,FIND(\"#\",StoreConfig!G1921)-1),\"\")","v":""},{"$f":"IF($B$2=StoreConfig!C1921,RIGHT(StoreConfig!G1921,LEN(StoreConfig!G1921)-FIND(\"#\",StoreConfig!G1921)),\"\")","v":""},{"$f":"IF($B$2=StoreConfig!C1921,IF(StoreConfig!L1921=0,\"不限购\",StoreConfig!L1921&\"次\"),\"\")","v":""}]
[{"$nulls":3},{"$f":"IF($B$2=StoreConfig!C1922,StoreConfig!O1922,\"\")","v":""},{"$f":"IF($B$2=StoreConfig!C1922,StoreConfig!E1922,\"\")","v":""},{"$f":"IF($B$2=StoreConfig!C1922,RIGHT(StoreConfig!J1922,LEN(StoreConfig!J1922)-FIND(\"|\",StoreConfig!J1922)),\"\")","v":""},{"$f":"IFERROR(VLOOKUP(--IF($B$2=StoreConfig!C1922,LEFT(StoreConfig!J1922,FIND(\"|\",StoreConfig!J1922)-1),\"\"),$Q$4:$R$20,2,FALSE),\"\")","v":""},{"$f":"IF($B$2=StoreConfig!C1922,LEFT(StoreConfig!G1922,FIND(\"#\",StoreConfig!G1922)-1),\"\")","v":""},{"$f":"IF($B$2=StoreConfig!C1922,RIGHT(StoreConfig!G1922,LEN(StoreConfig!G1922)-FIND(\"#\",StoreConfig!G1922)),\"\")","v":""},{"$f":"IF($B$2=StoreConfig!C1922,IF(StoreConfig!L1922=0,\"不限购\",StoreConfig!L1922&\"次\"),\"\")","v":""}]
[{"$nulls":3},{"$f":"IF($B$2=StoreConfig!C1923,StoreConfig!O1923,\"\")","v":""},{"$f":"IF($B$2=StoreConfig!C1923,StoreConfig!E1923,\"\")","v":""},{"$f":"IF($B$2=StoreConfig!C1923,RIGHT(StoreConfig!J1923,LEN(StoreConfig!J1923)-FIND(\"|\",StoreConfig!J1923)),\"\")","v":""},{"$f":"IFERROR(VLOOKUP(--IF($B$2=StoreConfig!C1923,LEFT(StoreConfig!J1923,FIND(\"|\",StoreConfig!J1923)-1),\"\"),$Q$4:$R$20,2,FALSE),\"\")","v":""},{"$f":"IF($B$2=StoreConfig!C1923,LEFT(StoreConfig!G1923,FIND(\"#\",StoreConfig!G1923)-1),\"\")","v":""},{"$f":"IF($B$2=StoreConfig!C1923,RIGHT(StoreConfig!G1923,LEN(StoreConfig!G1923)-FIND(\"#\",StoreConfig!G1923)),\"\")","v":""},{"$f":"IF($B$2=StoreConfig!C1923,IF(StoreConfig!L1923=0,\"不限购\",StoreConfig!L1923&\"次\"),\"\")","v":""}]
[{"$nulls":3},{"$f":"IF($B$2=StoreConfig!C1924,StoreConfig!O1924,\"\")","v":""},{"$f":"IF($B$2=StoreConfig!C1924,StoreConfig!E1924,\"\")","v":""},{"$f":"IF($B$2=StoreConfig!C1924,RIGHT(StoreConfig!J1924,LEN(StoreConfig!J1924)-FIND(\"|\",StoreConfig!J1924)),\"\")","v":""},{"$f":"IFERROR(VLOOKUP(--IF($B$2=StoreConfig!C1924,LEFT(StoreConfig!J1924,FIND(\"|\",StoreConfig!J1924)-1),\"\"),$Q$4:$R$20,2,FALSE),\"\")","v":""},{"$f":"IF($B$2=StoreConfig!C1924,LEFT(StoreConfig!G1924,FIND(\"#\",StoreConfig!G1924)-1),\"\")","v":""},{"$f":"IF($B$2=StoreConfig!C1924,RIGHT(StoreConfig!G1924,LEN(StoreConfig!G1924)-FIND(\"#\",StoreConfig!G1924)),\"\")","v":""},{"$f":"IF($B$2=StoreConfig!C1924,IF(StoreConfig!L1924=0,\"不限购\",StoreConfig!L1924&\"次\"),\"\")","v":""}]
[{"$nulls":3},{"$f":"IF($B$2=StoreConfig!C1925,StoreConfig!O1925,\"\")","v":""},{"$f":"IF($B$2=StoreConfig!C1925,StoreConfig!E1925,\"\")","v":""},{"$f":"IF($B$2=StoreConfig!C1925,RIGHT(StoreConfig!J1925,LEN(StoreConfig!J1925)-FIND(\"|\",StoreConfig!J1925)),\"\")","v":""},{"$f":"IFERROR(VLOOKUP(--IF($B$2=StoreConfig!C1925,LEFT(StoreConfig!J1925,FIND(\"|\",StoreConfig!J1925)-1),\"\"),$Q$4:$R$20,2,FALSE),\"\")","v":""},{"$f":"IF($B$2=StoreConfig!C1925,LEFT(StoreConfig!G1925,FIND(\"#\",StoreConfig!G1925)-1),\"\")","v":""},{"$f":"IF($B$2=StoreConfig!C1925,RIGHT(StoreConfig!G1925,LEN(StoreConfig!G1925)-FIND(\"#\",StoreConfig!G1925)),\"\")","v":""},{"$f":"IF($B$2=StoreConfig!C1925,IF(StoreConfig!L1925=0,\"不限购\",StoreConfig!L1925&\"次\"),\"\")","v":""}]
[{"$nulls":3},{"$f":"IF($B$2=StoreConfig!C1926,StoreConfig!O1926,\"\")","v":""},{"$f":"IF($B$2=StoreConfig!C1926,StoreConfig!E1926,\"\")","v":""},{"$f":"IF($B$2=StoreConfig!C1926,RIGHT(StoreConfig!J1926,LEN(StoreConfig!J1926)-FIND(\"|\",StoreConfig!J1926)),\"\")","v":""},{"$f":"IFERROR(VLOOKUP(--IF($B$2=StoreConfig!C1926,LEFT(StoreConfig!J1926,FIND(\"|\",StoreConfig!J1926)-1),\"\"),$Q$4:$R$20,2,FALSE),\"\")","v":""},{"$f":"IF($B$2=StoreConfig!C1926,LEFT(StoreConfig!G1926,FIND(\"#\",StoreConfig!G1926)-1),\"\")","v":""},{"$f":"IF($B$2=StoreConfig!C1926,RIGHT(StoreConfig!G1926,LEN(StoreConfig!G1926)-FIND(\"#\",StoreConfig!G1926)),\"\")","v":""},{"$f":"IF($B$2=StoreConfig!C1926,IF(StoreConfig!L1926=0,\"不限购\",StoreConfig!L1926&\"次\"),\"\")","v":""}]
[{"$nulls":3},{"$f":"IF($B$2=StoreConfig!C1927,StoreConfig!O1927,\"\")","v":""},{"$f":"IF($B$2=StoreConfig!C1927,StoreConfig!E1927,\"\")","v":""},{"$f":"IF($B$2=StoreConfig!C1927,RIGHT(StoreConfig!J1927,LEN(StoreConfig!J1927)-FIND(\"|\",StoreConfig!J1927)),\"\")","v":""},{"$f":"IFERROR(VLOOKUP(--IF($B$2=StoreConfig!C1927,LEFT(StoreConfig!J1927,FIND(\"|\",StoreConfig!J1927)-1),\"\"),$Q$4:$R$20,2,FALSE),\"\")","v":""},{"$f":"IF($B$2=StoreConfig!C1927,LEFT(StoreConfig!G1927,FIND(\"#\",StoreConfig!G1927)-1),\"\")","v":""},{"$f":"IF($B$2=StoreConfig!C1927,RIGHT(StoreConfig!G1927,LEN(StoreConfig!G1927)-FIND(\"#\",StoreConfig!G1927)),\"\")","v":""},{"$f":"IF($B$2=StoreConfig!C1927,IF(StoreConfig!L1927=0,\"不限购\",StoreConfig!L1927&\"次\"),\"\")","v":""}]
[{"$nulls":3},{"$f":"IF($B$2=StoreConfig!C1928,StoreConfig!O1928,\"\")","v":""},{"$f":"IF($B$2=StoreConfig!C1928,StoreConfig!E1928,\"\")","v":""},{"$f":"IF($B$2=StoreConfig!C1928,RIGHT(StoreConfig!J1928,LEN(StoreConfig!J1928)-FIND(\"|\",StoreConfig!J1928)),\"\")","v":""},{"$f":"IFERROR(VLOOKUP(--IF($B$2=StoreConfig!C1928,LEFT(StoreConfig!J1928,FIND(\"|\",StoreConfig!J1928)-1),\"\"),$Q$4:$R$20,2,FALSE),\"\")","v":""},{"$f":"IF($B$2=StoreConfig!C1928,LEFT(StoreConfig!G1928,FIND(\"#\",StoreConfig!G1928)-1),\"\")","v":""},{"$f":"IF($B$2=StoreConfig!C1928,RIGHT(StoreConfig!G1928,LEN(StoreConfig!G1928)-FIND(\"#\",StoreConfig!G1928)),\"\")","v":""},{"$f":"IF($B$2=StoreConfig!C1928,IF(StoreConfig!L1928=0,\"不限购\",StoreConfig!L1928&\"次\"),\"\")","v":""}]
[{"$nulls":3},{"$f":"IF($B$2=StoreConfig!C1929,StoreConfig!O1929,\"\")","v":""},{"$f":"IF($B$2=StoreConfig!C1929,StoreConfig!E1929,\"\")","v":""},{"$f":"IF($B$2=StoreConfig!C1929,RIGHT(StoreConfig!J1929,LEN(StoreConfig!J1929)-FIND(\"|\",StoreConfig!J1929)),\"\")","v":""},{"$f":"IFERROR(VLOOKUP(--IF($B$2=StoreConfig!C1929,LEFT(StoreConfig!J1929,FIND(\"|\",StoreConfig!J1929)-1),\"\"),$Q$4:$R$20,2,FALSE),\"\")","v":""},{"$f":"IF($B$2=StoreConfig!C1929,LEFT(StoreConfig!G1929,FIND(\"#\",StoreConfig!G1929)-1),\"\")","v":""},{"$f":"IF($B$2=StoreConfig!C1929,RIGHT(StoreConfig!G1929,LEN(StoreConfig!G1929)-FIND(\"#\",StoreConfig!G1929)),\"\")","v":""},{"$f":"IF($B$2=StoreConfig!C1929,IF(StoreConfig!L1929=0,\"不限购\",StoreConfig!L1929&\"次\"),\"\")","v":""}]
[{"$nulls":3},{"$f":"IF($B$2=StoreConfig!C1930,StoreConfig!O1930,\"\")","v":""},{"$f":"IF($B$2=StoreConfig!C1930,StoreConfig!E1930,\"\")","v":""},{"$f":"IF($B$2=StoreConfig!C1930,RIGHT(StoreConfig!J1930,LEN(StoreConfig!J1930)-FIND(\"|\",StoreConfig!J1930)),\"\")","v":""},{"$f":"IFERROR(VLOOKUP(--IF($B$2=StoreConfig!C1930,LEFT(StoreConfig!J1930,FIND(\"|\",StoreConfig!J1930)-1),\"\"),$Q$4:$R$20,2,FALSE),\"\")","v":""},{"$f":"IF($B$2=StoreConfig!C1930,LEFT(StoreConfig!G1930,FIND(\"#\",StoreConfig!G1930)-1),\"\")","v":""},{"$f":"IF($B$2=StoreConfig!C1930,RIGHT(StoreConfig!G1930,LEN(StoreConfig!G1930)-FIND(\"#\",StoreConfig!G1930)),\"\")","v":""},{"$f":"IF($B$2=StoreConfig!C1930,IF(StoreConfig!L1930=0,\"不限购\",StoreConfig!L1930&\"次\"),\"\")","v":""}]
[{"$nulls":3},{"$f":"IF($B$2=StoreConfig!C1931,StoreConfig!O1931,\"\")","v":""},{"$f":"IF($B$2=StoreConfig!C1931,StoreConfig!E1931,\"\")","v":""},{"$f":"IF($B$2=StoreConfig!C1931,RIGHT(StoreConfig!J1931,LEN(StoreConfig!J1931)-FIND(\"|\",StoreConfig!J1931)),\"\")","v":""},{"$f":"IFERROR(VLOOKUP(--IF($B$2=StoreConfig!C1931,LEFT(StoreConfig!J1931,FIND(\"|\",StoreConfig!J1931)-1),\"\"),$Q$4:$R$20,2,FALSE),\"\")","v":""},{"$f":"IF($B$2=StoreConfig!C1931,LEFT(StoreConfig!G1931,FIND(\"#\",StoreConfig!G1931)-1),\"\")","v":""},{"$f":"IF($B$2=StoreConfig!C1931,RIGHT(StoreConfig!G1931,LEN(StoreConfig!G1931)-FIND(\"#\",StoreConfig!G1931)),\"\")","v":""},{"$f":"IF($B$2=StoreConfig!C1931,IF(StoreConfig!L1931=0,\"不限购\",StoreConfig!L1931&\"次\"),\"\")","v":""}]
[{"$nulls":3},{"$f":"IF($B$2=StoreConfig!C1932,StoreConfig!O1932,\"\")","v":""},{"$f":"IF($B$2=StoreConfig!C1932,StoreConfig!E1932,\"\")","v":""},{"$f":"IF($B$2=StoreConfig!C1932,RIGHT(StoreConfig!J1932,LEN(StoreConfig!J1932)-FIND(\"|\",StoreConfig!J1932)),\"\")","v":""},{"$f":"IFERROR(VLOOKUP(--IF($B$2=StoreConfig!C1932,LEFT(StoreConfig!J1932,FIND(\"|\",StoreConfig!J1932)-1),\"\"),$Q$4:$R$20,2,FALSE),\"\")","v":""},{"$f":"IF($B$2=StoreConfig!C1932,LEFT(StoreConfig!G1932,FIND(\"#\",StoreConfig!G1932)-1),\"\")","v":""},{"$f":"IF($B$2=StoreConfig!C1932,RIGHT(StoreConfig!G1932,LEN(StoreConfig!G1932)-FIND(\"#\",StoreConfig!G1932)),\"\")","v":""},{"$f":"IF($B$2=StoreConfig!C1932,IF(StoreConfig!L1932=0,\"不限购\",StoreConfig!L1932&\"次\"),\"\")","v":""}]
[{"$nulls":3},{"$f":"IF($B$2=StoreConfig!C1933,StoreConfig!O1933,\"\")","v":""},{"$f":"IF($B$2=StoreConfig!C1933,StoreConfig!E1933,\"\")","v":""},{"$f":"IF($B$2=StoreConfig!C1933,RIGHT(StoreConfig!J1933,LEN(StoreConfig!J1933)-FIND(\"|\",StoreConfig!J1933)),\"\")","v":""},{"$f":"IFERROR(VLOOKUP(--IF($B$2=StoreConfig!C1933,LEFT(StoreConfig!J1933,FIND(\"|\",StoreConfig!J1933)-1),\"\"),$Q$4:$R$20,2,FALSE),\"\")","v":""},{"$f":"IF($B$2=StoreConfig!C1933,LEFT(StoreConfig!G1933,FIND(\"#\",StoreConfig!G1933)-1),\"\")","v":""},{"$f":"IF($B$2=StoreConfig!C1933,RIGHT(StoreConfig!G1933,LEN(StoreConfig!G1933)-FIND(\"#\",StoreConfig!G1933)),\"\")","v":""},{"$f":"IF($B$2=StoreConfig!C1933,IF(StoreConfig!L1933=0,\"不限购\",StoreConfig!L1933&\"次\"),\"\")","v":""}]
[{"$nulls":3},{"$f":"IF($B$2=StoreConfig!C1934,StoreConfig!O1934,\"\")","v":""},{"$f":"IF($B$2=StoreConfig!C1934,StoreConfig!E1934,\"\")","v":""},{"$f":"IF($B$2=StoreConfig!C1934,RIGHT(StoreConfig!J1934,LEN(StoreConfig!J1934)-FIND(\"|\",StoreConfig!J1934)),\"\")","v":""},{"$f":"IFERROR(VLOOKUP(--IF($B$2=StoreConfig!C1934,LEFT(StoreConfig!J1934,FIND(\"|\",StoreConfig!J1934)-1),\"\"),$Q$4:$R$20,2,FALSE),\"\")","v":""},{"$f":"IF($B$2=StoreConfig!C1934,LEFT(StoreConfig!G1934,FIND(\"#\",StoreConfig!G1934)-1),\"\")","v":""},{"$f":"IF($B$2=StoreConfig!C1934,RIGHT(StoreConfig!G1934,LEN(StoreConfig!G1934)-FIND(\"#\",StoreConfig!G1934)),\"\")","v":""},{"$f":"IF($B$2=StoreConfig!C1934,IF(StoreConfig!L1934=0,\"不限购\",StoreConfig!L1934&\"次\"),\"\")","v":""}]
[{"$nulls":3},{"$f":"IF($B$2=StoreConfig!C1935,StoreConfig!O1935,\"\")","v":""},{"$f":"IF($B$2=StoreConfig!C1935,StoreConfig!E1935,\"\")","v":""},{"$f":"IF($B$2=StoreConfig!C1935,RIGHT(StoreConfig!J1935,LEN(StoreConfig!J1935)-FIND(\"|\",StoreConfig!J1935)),\"\")","v":""},{"$f":"IFERROR(VLOOKUP(--IF($B$2=StoreConfig!C1935,LEFT(StoreConfig!J1935,FIND(\"|\",StoreConfig!J1935)-1),\"\"),$Q$4:$R$20,2,FALSE),\"\")","v":""},{"$f":"IF($B$2=StoreConfig!C1935,LEFT(StoreConfig!G1935,FIND(\"#\",StoreConfig!G1935)-1),\"\")","v":""},{"$f":"IF($B$2=StoreConfig!C1935,RIGHT(StoreConfig!G1935,LEN(StoreConfig!G1935)-FIND(\"#\",StoreConfig!G1935)),\"\")","v":""},{"$f":"IF($B$2=StoreConfig!C1935,IF(StoreConfig!L1935=0,\"不限购\",StoreConfig!L1935&\"次\"),\"\")","v":""}]
[{"$nulls":3},{"$f":"IF($B$2=StoreConfig!C1936,StoreConfig!O1936,\"\")","v":""},{"$f":"IF($B$2=StoreConfig!C1936,StoreConfig!E1936,\"\")","v":""},{"$f":"IF($B$2=StoreConfig!C1936,RIGHT(StoreConfig!J1936,LEN(StoreConfig!J1936)-FIND(\"|\",StoreConfig!J1936)),\"\")","v":""},{"$f":"IFERROR(VLOOKUP(--IF($B$2=StoreConfig!C1936,LEFT(StoreConfig!J1936,FIND(\"|\",StoreConfig!J1936)-1),\"\"),$Q$4:$R$20,2,FALSE),\"\")","v":""},{"$f":"IF($B$2=StoreConfig!C1936,LEFT(StoreConfig!G1936,FIND(\"#\",StoreConfig!G1936)-1),\"\")","v":""},{"$f":"IF($B$2=StoreConfig!C1936,RIGHT(StoreConfig!G1936,LEN(StoreConfig!G1936)-FIND(\"#\",StoreConfig!G1936)),\"\")","v":""},{"$f":"IF($B$2=StoreConfig!C1936,IF(StoreConfig!L1936=0,\"不限购\",StoreConfig!L1936&\"次\"),\"\")","v":""}]
[{"$nulls":3},{"$f":"IF($B$2=StoreConfig!C1937,StoreConfig!O1937,\"\")","v":""},{"$f":"IF($B$2=StoreConfig!C1937,StoreConfig!E1937,\"\")","v":""},{"$f":"IF($B$2=StoreConfig!C1937,RIGHT(StoreConfig!J1937,LEN(StoreConfig!J1937)-FIND(\"|\",StoreConfig!J1937)),\"\")","v":""},{"$f":"IFERROR(VLOOKUP(--IF($B$2=StoreConfig!C1937,LEFT(StoreConfig!J1937,FIND(\"|\",StoreConfig!J1937)-1),\"\"),$Q$4:$R$20,2,FALSE),\"\")","v":""},{"$f":"IF($B$2=StoreConfig!C1937,LEFT(StoreConfig!G1937,FIND(\"#\",StoreConfig!G1937)-1),\"\")","v":""},{"$f":"IF($B$2=StoreConfig!C1937,RIGHT(StoreConfig!G1937,LEN(StoreConfig!G1937)-FIND(\"#\",StoreConfig!G1937)),\"\")","v":""},{"$f":"IF($B$2=StoreConfig!C1937,IF(StoreConfig!L1937=0,\"不限购\",StoreConfig!L1937&\"次\"),\"\")","v":""}]
[{"$nulls":3},{"$f":"IF($B$2=StoreConfig!C1938,StoreConfig!O1938,\"\")","v":""},{"$f":"IF($B$2=StoreConfig!C1938,StoreConfig!E1938,\"\")","v":""},{"$f":"IF($B$2=StoreConfig!C1938,RIGHT(StoreConfig!J1938,LEN(StoreConfig!J1938)-FIND(\"|\",StoreConfig!J1938)),\"\")","v":""},{"$f":"IFERROR(VLOOKUP(--IF($B$2=StoreConfig!C1938,LEFT(StoreConfig!J1938,FIND(\"|\",StoreConfig!J1938)-1),\"\"),$Q$4:$R$20,2,FALSE),\"\")","v":""},{"$f":"IF($B$2=StoreConfig!C1938,LEFT(StoreConfig!G1938,FIND(\"#\",StoreConfig!G1938)-1),\"\")","v":""},{"$f":"IF($B$2=StoreConfig!C1938,RIGHT(StoreConfig!G1938,LEN(StoreConfig!G1938)-FIND(\"#\",StoreConfig!G1938)),\"\")","v":""},{"$f":"IF($B$2=StoreConfig!C1938,IF(StoreConfig!L1938=0,\"不限购\",StoreConfig!L1938&\"次\"),\"\")","v":""}]
[{"$nulls":3},{"$f":"IF($B$2=StoreConfig!C1939,StoreConfig!O1939,\"\")","v":""},{"$f":"IF($B$2=StoreConfig!C1939,StoreConfig!E1939,\"\")","v":""},{"$f":"IF($B$2=StoreConfig!C1939,RIGHT(StoreConfig!J1939,LEN(StoreConfig!J1939)-FIND(\"|\",StoreConfig!J1939)),\"\")","v":""},{"$f":"IFERROR(VLOOKUP(--IF($B$2=StoreConfig!C1939,LEFT(StoreConfig!J1939,FIND(\"|\",StoreConfig!J1939)-1),\"\"),$Q$4:$R$20,2,FALSE),\"\")","v":""},{"$f":"IF($B$2=StoreConfig!C1939,LEFT(StoreConfig!G1939,FIND(\"#\",StoreConfig!G1939)-1),\"\")","v":""},{"$f":"IF($B$2=StoreConfig!C1939,RIGHT(StoreConfig!G1939,LEN(StoreConfig!G1939)-FIND(\"#\",StoreConfig!G1939)),\"\")","v":""},{"$f":"IF($B$2=StoreConfig!C1939,IF(StoreConfig!L1939=0,\"不限购\",StoreConfig!L1939&\"次\"),\"\")","v":""}]
[{"$nulls":3},{"$f":"IF($B$2=StoreConfig!C1940,StoreConfig!O1940,\"\")","v":""},{"$f":"IF($B$2=StoreConfig!C1940,StoreConfig!E1940,\"\")","v":""},{"$f":"IF($B$2=StoreConfig!C1940,RIGHT(StoreConfig!J1940,LEN(StoreConfig!J1940)-FIND(\"|\",StoreConfig!J1940)),\"\")","v":""},{"$f":"IFERROR(VLOOKUP(--IF($B$2=StoreConfig!C1940,LEFT(StoreConfig!J1940,FIND(\"|\",StoreConfig!J1940)-1),\"\"),$Q$4:$R$20,2,FALSE),\"\")","v":""},{"$f":"IF($B$2=StoreConfig!C1940,LEFT(StoreConfig!G1940,FIND(\"#\",StoreConfig!G1940)-1),\"\")","v":""},{"$f":"IF($B$2=StoreConfig!C1940,RIGHT(StoreConfig!G1940,LEN(StoreConfig!G1940)-FIND(\"#\",StoreConfig!G1940)),\"\")","v":""},{"$f":"IF($B$2=StoreConfig!C1940,IF(StoreConfig!L1940=0,\"不限购\",StoreConfig!L1940&\"次\"),\"\")","v":""}]
[{"$nulls":3},{"$f":"IF($B$2=StoreConfig!C1941,StoreConfig!O1941,\"\")","v":""},{"$f":"IF($B$2=StoreConfig!C1941,StoreConfig!E1941,\"\")","v":""},{"$f":"IF($B$2=StoreConfig!C1941,RIGHT(StoreConfig!J1941,LEN(StoreConfig!J1941)-FIND(\"|\",StoreConfig!J1941)),\"\")","v":""},{"$f":"IFERROR(VLOOKUP(--IF($B$2=StoreConfig!C1941,LEFT(StoreConfig!J1941,FIND(\"|\",StoreConfig!J1941)-1),\"\"),$Q$4:$R$20,2,FALSE),\"\")","v":""},{"$f":"IF($B$2=StoreConfig!C1941,LEFT(StoreConfig!G1941,FIND(\"#\",StoreConfig!G1941)-1),\"\")","v":""},{"$f":"IF($B$2=StoreConfig!C1941,RIGHT(StoreConfig!G1941,LEN(StoreConfig!G1941)-FIND(\"#\",StoreConfig!G1941)),\"\")","v":""},{"$f":"IF($B$2=StoreConfig!C1941,IF(StoreConfig!L1941=0,\"不限购\",StoreConfig!L1941&\"次\"),\"\")","v":""}]
[{"$nulls":3},{"$f":"IF($B$2=StoreConfig!C1942,StoreConfig!O1942,\"\")","v":""},{"$f":"IF($B$2=StoreConfig!C1942,StoreConfig!E1942,\"\")","v":""},{"$f":"IF($B$2=StoreConfig!C1942,RIGHT(StoreConfig!J1942,LEN(StoreConfig!J1942)-FIND(\"|\",StoreConfig!J1942)),\"\")","v":""},{"$f":"IFERROR(VLOOKUP(--IF($B$2=StoreConfig!C1942,LEFT(StoreConfig!J1942,FIND(\"|\",StoreConfig!J1942)-1),\"\"),$Q$4:$R$20,2,FALSE),\"\")","v":""},{"$f":"IF($B$2=StoreConfig!C1942,LEFT(StoreConfig!G1942,FIND(\"#\",StoreConfig!G1942)-1),\"\")","v":""},{"$f":"IF($B$2=StoreConfig!C1942,RIGHT(StoreConfig!G1942,LEN(StoreConfig!G1942)-FIND(\"#\",StoreConfig!G1942)),\"\")","v":""},{"$f":"IF($B$2=StoreConfig!C1942,IF(StoreConfig!L1942=0,\"不限购\",StoreConfig!L1942&\"次\"),\"\")","v":""}]
[{"$nulls":3},{"$f":"IF($B$2=StoreConfig!C1943,StoreConfig!O1943,\"\")","v":""},{"$f":"IF($B$2=StoreConfig!C1943,StoreConfig!E1943,\"\")","v":""},{"$f":"IF($B$2=StoreConfig!C1943,RIGHT(StoreConfig!J1943,LEN(StoreConfig!J1943)-FIND(\"|\",StoreConfig!J1943)),\"\")","v":""},{"$f":"IFERROR(VLOOKUP(--IF($B$2=StoreConfig!C1943,LEFT(StoreConfig!J1943,FIND(\"|\",StoreConfig!J1943)-1),\"\"),$Q$4:$R$20,2,FALSE),\"\")","v":""},{"$f":"IF($B$2=StoreConfig!C1943,LEFT(StoreConfig!G1943,FIND(\"#\",StoreConfig!G1943)-1),\"\")","v":""},{"$f":"IF($B$2=StoreConfig!C1943,RIGHT(StoreConfig!G1943,LEN(StoreConfig!G1943)-FIND(\"#\",StoreConfig!G1943)),\"\")","v":""},{"$f":"IF($B$2=StoreConfig!C1943,IF(StoreConfig!L1943=0,\"不限购\",StoreConfig!L1943&\"次\"),\"\")","v":""}]
[{"$nulls":3},{"$f":"IF($B$2=StoreConfig!C1944,StoreConfig!O1944,\"\")","v":""},{"$f":"IF($B$2=StoreConfig!C1944,StoreConfig!E1944,\"\")","v":""},{"$f":"IF($B$2=StoreConfig!C1944,RIGHT(StoreConfig!J1944,LEN(StoreConfig!J1944)-FIND(\"|\",StoreConfig!J1944)),\"\")","v":""},{"$f":"IFERROR(VLOOKUP(--IF($B$2=StoreConfig!C1944,LEFT(StoreConfig!J1944,FIND(\"|\",StoreConfig!J1944)-1),\"\"),$Q$4:$R$20,2,FALSE),\"\")","v":""},{"$f":"IF($B$2=StoreConfig!C1944,LEFT(StoreConfig!G1944,FIND(\"#\",StoreConfig!G1944)-1),\"\")","v":""},{"$f":"IF($B$2=StoreConfig!C1944,RIGHT(StoreConfig!G1944,LEN(StoreConfig!G1944)-FIND(\"#\",StoreConfig!G1944)),\"\")","v":""},{"$f":"IF($B$2=StoreConfig!C1944,IF(StoreConfig!L1944=0,\"不限购\",StoreConfig!L1944&\"次\"),\"\")","v":""}]
[{"$nulls":3},{"$f":"IF($B$2=StoreConfig!C1945,StoreConfig!O1945,\"\")","v":""},{"$f":"IF($B$2=StoreConfig!C1945,StoreConfig!E1945,\"\")","v":""},{"$f":"IF($B$2=StoreConfig!C1945,RIGHT(StoreConfig!J1945,LEN(StoreConfig!J1945)-FIND(\"|\",StoreConfig!J1945)),\"\")","v":""},{"$f":"IFERROR(VLOOKUP(--IF($B$2=StoreConfig!C1945,LEFT(StoreConfig!J1945,FIND(\"|\",StoreConfig!J1945)-1),\"\"),$Q$4:$R$20,2,FALSE),\"\")","v":""},{"$f":"IF($B$2=StoreConfig!C1945,LEFT(StoreConfig!G1945,FIND(\"#\",StoreConfig!G1945)-1),\"\")","v":""},{"$f":"IF($B$2=StoreConfig!C1945,RIGHT(StoreConfig!G1945,LEN(StoreConfig!G1945)-FIND(\"#\",StoreConfig!G1945)),\"\")","v":""},{"$f":"IF($B$2=StoreConfig!C1945,IF(StoreConfig!L1945=0,\"不限购\",StoreConfig!L1945&\"次\"),\"\")","v":""}]
[{"$nulls":3},{"$f":"IF($B$2=StoreConfig!C1946,StoreConfig!O1946,\"\")","v":""},{"$f":"IF($B$2=StoreConfig!C1946,StoreConfig!E1946,\"\")","v":""},{"$f":"IF($B$2=StoreConfig!C1946,RIGHT(StoreConfig!J1946,LEN(StoreConfig!J1946)-FIND(\"|\",StoreConfig!J1946)),\"\")","v":""},{"$f":"IFERROR(VLOOKUP(--IF($B$2=StoreConfig!C1946,LEFT(StoreConfig!J1946,FIND(\"|\",StoreConfig!J1946)-1),\"\"),$Q$4:$R$20,2,FALSE),\"\")","v":""},{"$f":"IF($B$2=StoreConfig!C1946,LEFT(StoreConfig!G1946,FIND(\"#\",StoreConfig!G1946)-1),\"\")","v":""},{"$f":"IF($B$2=StoreConfig!C1946,RIGHT(StoreConfig!G1946,LEN(StoreConfig!G1946)-FIND(\"#\",StoreConfig!G1946)),\"\")","v":""},{"$f":"IF($B$2=StoreConfig!C1946,IF(StoreConfig!L1946=0,\"不限购\",StoreConfig!L1946&\"次\"),\"\")","v":""}]
[{"$nulls":3},{"$f":"IF($B$2=StoreConfig!C1947,StoreConfig!O1947,\"\")","v":""},{"$f":"IF($B$2=StoreConfig!C1947,StoreConfig!E1947,\"\")","v":""},{"$f":"IF($B$2=StoreConfig!C1947,RIGHT(StoreConfig!J1947,LEN(StoreConfig!J1947)-FIND(\"|\",StoreConfig!J1947)),\"\")","v":""},{"$f":"IFERROR(VLOOKUP(--IF($B$2=StoreConfig!C1947,LEFT(StoreConfig!J1947,FIND(\"|\",StoreConfig!J1947)-1),\"\"),$Q$4:$R$20,2,FALSE),\"\")","v":""},{"$f":"IF($B$2=StoreConfig!C1947,LEFT(StoreConfig!G1947,FIND(\"#\",StoreConfig!G1947)-1),\"\")","v":""},{"$f":"IF($B$2=StoreConfig!C1947,RIGHT(StoreConfig!G1947,LEN(StoreConfig!G1947)-FIND(\"#\",StoreConfig!G1947)),\"\")","v":""},{"$f":"IF($B$2=StoreConfig!C1947,IF(StoreConfig!L1947=0,\"不限购\",StoreConfig!L1947&\"次\"),\"\")","v":""}]
[{"$nulls":3},{"$f":"IF($B$2=StoreConfig!C1948,StoreConfig!O1948,\"\")","v":""},{"$f":"IF($B$2=StoreConfig!C1948,StoreConfig!E1948,\"\")","v":""},{"$f":"IF($B$2=StoreConfig!C1948,RIGHT(StoreConfig!J1948,LEN(StoreConfig!J1948)-FIND(\"|\",StoreConfig!J1948)),\"\")","v":""},{"$f":"IFERROR(VLOOKUP(--IF($B$2=StoreConfig!C1948,LEFT(StoreConfig!J1948,FIND(\"|\",StoreConfig!J1948)-1),\"\"),$Q$4:$R$20,2,FALSE),\"\")","v":""},{"$f":"IF($B$2=StoreConfig!C1948,LEFT(StoreConfig!G1948,FIND(\"#\",StoreConfig!G1948)-1),\"\")","v":""},{"$f":"IF($B$2=StoreConfig!C1948,RIGHT(StoreConfig!G1948,LEN(StoreConfig!G1948)-FIND(\"#\",StoreConfig!G1948)),\"\")","v":""},{"$f":"IF($B$2=StoreConfig!C1948,IF(StoreConfig!L1948=0,\"不限购\",StoreConfig!L1948&\"次\"),\"\")","v":""}]
[{"$nulls":3},{"$f":"IF($B$2=StoreConfig!C1949,StoreConfig!O1949,\"\")","v":""},{"$f":"IF($B$2=StoreConfig!C1949,StoreConfig!E1949,\"\")","v":""},{"$f":"IF($B$2=StoreConfig!C1949,RIGHT(StoreConfig!J1949,LEN(StoreConfig!J1949)-FIND(\"|\",StoreConfig!J1949)),\"\")","v":""},{"$f":"IFERROR(VLOOKUP(--IF($B$2=StoreConfig!C1949,LEFT(StoreConfig!J1949,FIND(\"|\",StoreConfig!J1949)-1),\"\"),$Q$4:$R$20,2,FALSE),\"\")","v":""},{"$f":"IF($B$2=StoreConfig!C1949,LEFT(StoreConfig!G1949,FIND(\"#\",StoreConfig!G1949)-1),\"\")","v":""},{"$f":"IF($B$2=StoreConfig!C1949,RIGHT(StoreConfig!G1949,LEN(StoreConfig!G1949)-FIND(\"#\",StoreConfig!G1949)),\"\")","v":""},{"$f":"IF($B$2=StoreConfig!C1949,IF(StoreConfig!L1949=0,\"不限购\",StoreConfig!L1949&\"次\"),\"\")","v":""}]
[{"$nulls":3},{"$f":"IF($B$2=StoreConfig!C1950,StoreConfig!O1950,\"\")","v":""},{"$f":"IF($B$2=StoreConfig!C1950,StoreConfig!E1950,\"\")","v":""},{"$f":"IF($B$2=StoreConfig!C1950,RIGHT(StoreConfig!J1950,LEN(StoreConfig!J1950)-FIND(\"|\",StoreConfig!J1950)),\"\")","v":""},{"$f":"IFERROR(VLOOKUP(--IF($B$2=StoreConfig!C1950,LEFT(StoreConfig!J1950,FIND(\"|\",StoreConfig!J1950)-1),\"\"),$Q$4:$R$20,2,FALSE),\"\")","v":""},{"$f":"IF($B$2=StoreConfig!C1950,LEFT(StoreConfig!G1950,FIND(\"#\",StoreConfig!G1950)-1),\"\")","v":""},{"$f":"IF($B$2=StoreConfig!C1950,RIGHT(StoreConfig!G1950,LEN(StoreConfig!G1950)-FIND(\"#\",StoreConfig!G1950)),\"\")","v":""},{"$f":"IF($B$2=StoreConfig!C1950,IF(StoreConfig!L1950=0,\"不限购\",StoreConfig!L1950&\"次\"),\"\")","v":""}]
[{"$nulls":3},{"$f":"IF($B$2=StoreConfig!C1951,StoreConfig!O1951,\"\")","v":""},{"$f":"IF($B$2=StoreConfig!C1951,StoreConfig!E1951,\"\")","v":""},{"$f":"IF($B$2=StoreConfig!C1951,RIGHT(StoreConfig!J1951,LEN(StoreConfig!J1951)-FIND(\"|\",StoreConfig!J1951)),\"\")","v":""},{"$f":"IFERROR(VLOOKUP(--IF($B$2=StoreConfig!C1951,LEFT(StoreConfig!J1951,FIND(\"|\",StoreConfig!J1951)-1),\"\"),$Q$4:$R$20,2,FALSE),\"\")","v":""},{"$f":"IF($B$2=StoreConfig!C1951,LEFT(StoreConfig!G1951,FIND(\"#\",StoreConfig!G1951)-1),\"\")","v":""},{"$f":"IF($B$2=StoreConfig!C1951,RIGHT(StoreConfig!G1951,LEN(StoreConfig!G1951)-FIND(\"#\",StoreConfig!G1951)),\"\")","v":""},{"$f":"IF($B$2=StoreConfig!C1951,IF(StoreConfig!L1951=0,\"不限购\",StoreConfig!L1951&\"次\"),\"\")","v":""}]
[{"$nulls":3},{"$f":"IF($B$2=StoreConfig!C1952,StoreConfig!O1952,\"\")","v":""},{"$f":"IF($B$2=StoreConfig!C1952,StoreConfig!E1952,\"\")","v":""},{"$f":"IF($B$2=StoreConfig!C1952,RIGHT(StoreConfig!J1952,LEN(StoreConfig!J1952)-FIND(\"|\",StoreConfig!J1952)),\"\")","v":""},{"$f":"IFERROR(VLOOKUP(--IF($B$2=StoreConfig!C1952,LEFT(StoreConfig!J1952,FIND(\"|\",StoreConfig!J1952)-1),\"\"),$Q$4:$R$20,2,FALSE),\"\")","v":""},{"$f":"IF($B$2=StoreConfig!C1952,LEFT(StoreConfig!G1952,FIND(\"#\",StoreConfig!G1952)-1),\"\")","v":""},{"$f":"IF($B$2=StoreConfig!C1952,RIGHT(StoreConfig!G1952,LEN(StoreConfig!G1952)-FIND(\"#\",StoreConfig!G1952)),\"\")","v":""},{"$f":"IF($B$2=StoreConfig!C1952,IF(StoreConfig!L1952=0,\"不限购\",StoreConfig!L1952&\"次\"),\"\")","v":""}]
[{"$nulls":3},{"$f":"IF($B$2=StoreConfig!C1953,StoreConfig!O1953,\"\")","v":""},{"$f":"IF($B$2=StoreConfig!C1953,StoreConfig!E1953,\"\")","v":""},{"$f":"IF($B$2=StoreConfig!C1953,RIGHT(StoreConfig!J1953,LEN(StoreConfig!J1953)-FIND(\"|\",StoreConfig!J1953)),\"\")","v":""},{"$f":"IFERROR(VLOOKUP(--IF($B$2=StoreConfig!C1953,LEFT(StoreConfig!J1953,FIND(\"|\",StoreConfig!J1953)-1),\"\"),$Q$4:$R$20,2,FALSE),\"\")","v":""},{"$f":"IF($B$2=StoreConfig!C1953,LEFT(StoreConfig!G1953,FIND(\"#\",StoreConfig!G1953)-1),\"\")","v":""},{"$f":"IF($B$2=StoreConfig!C1953,RIGHT(StoreConfig!G1953,LEN(StoreConfig!G1953)-FIND(\"#\",StoreConfig!G1953)),\"\")","v":""},{"$f":"IF($B$2=StoreConfig!C1953,IF(StoreConfig!L1953=0,\"不限购\",StoreConfig!L1953&\"次\"),\"\")","v":""}]
[{"$nulls":3},{"$f":"IF($B$2=StoreConfig!C1954,StoreConfig!O1954,\"\")","v":""},{"$f":"IF($B$2=StoreConfig!C1954,StoreConfig!E1954,\"\")","v":""},{"$f":"IF($B$2=StoreConfig!C1954,RIGHT(StoreConfig!J1954,LEN(StoreConfig!J1954)-FIND(\"|\",StoreConfig!J1954)),\"\")","v":""},{"$f":"IFERROR(VLOOKUP(--IF($B$2=StoreConfig!C1954,LEFT(StoreConfig!J1954,FIND(\"|\",StoreConfig!J1954)-1),\"\"),$Q$4:$R$20,2,FALSE),\"\")","v":""},{"$f":"IF($B$2=StoreConfig!C1954,LEFT(StoreConfig!G1954,FIND(\"#\",StoreConfig!G1954)-1),\"\")","v":""},{"$f":"IF($B$2=StoreConfig!C1954,RIGHT(StoreConfig!G1954,LEN(StoreConfig!G1954)-FIND(\"#\",StoreConfig!G1954)),\"\")","v":""},{"$f":"IF($B$2=StoreConfig!C1954,IF(StoreConfig!L1954=0,\"不限购\",StoreConfig!L1954&\"次\"),\"\")","v":""}]
[{"$nulls":3},{"$f":"IF($B$2=StoreConfig!C1955,StoreConfig!O1955,\"\")","v":""},{"$f":"IF($B$2=StoreConfig!C1955,StoreConfig!E1955,\"\")","v":""},{"$f":"IF($B$2=StoreConfig!C1955,RIGHT(StoreConfig!J1955,LEN(StoreConfig!J1955)-FIND(\"|\",StoreConfig!J1955)),\"\")","v":""},{"$f":"IFERROR(VLOOKUP(--IF($B$2=StoreConfig!C1955,LEFT(StoreConfig!J1955,FIND(\"|\",StoreConfig!J1955)-1),\"\"),$Q$4:$R$20,2,FALSE),\"\")","v":""},{"$f":"IF($B$2=StoreConfig!C1955,LEFT(StoreConfig!G1955,FIND(\"#\",StoreConfig!G1955)-1),\"\")","v":""},{"$f":"IF($B$2=StoreConfig!C1955,RIGHT(StoreConfig!G1955,LEN(StoreConfig!G1955)-FIND(\"#\",StoreConfig!G1955)),\"\")","v":""},{"$f":"IF($B$2=StoreConfig!C1955,IF(StoreConfig!L1955=0,\"不限购\",StoreConfig!L1955&\"次\"),\"\")","v":""}]
[{"$nulls":3},{"$f":"IF($B$2=StoreConfig!C1956,StoreConfig!O1956,\"\")","v":""},{"$f":"IF($B$2=StoreConfig!C1956,StoreConfig!E1956,\"\")","v":""},{"$f":"IF($B$2=StoreConfig!C1956,RIGHT(StoreConfig!J1956,LEN(StoreConfig!J1956)-FIND(\"|\",StoreConfig!J1956)),\"\")","v":""},{"$f":"IFERROR(VLOOKUP(--IF($B$2=StoreConfig!C1956,LEFT(StoreConfig!J1956,FIND(\"|\",StoreConfig!J1956)-1),\"\"),$Q$4:$R$20,2,FALSE),\"\")","v":""},{"$f":"IF($B$2=StoreConfig!C1956,LEFT(StoreConfig!G1956,FIND(\"#\",StoreConfig!G1956)-1),\"\")","v":""},{"$f":"IF($B$2=StoreConfig!C1956,RIGHT(StoreConfig!G1956,LEN(StoreConfig!G1956)-FIND(\"#\",StoreConfig!G1956)),\"\")","v":""},{"$f":"IF($B$2=StoreConfig!C1956,IF(StoreConfig!L1956=0,\"不限购\",StoreConfig!L1956&\"次\"),\"\")","v":""}]
[{"$nulls":3},{"$f":"IF($B$2=StoreConfig!C1957,StoreConfig!O1957,\"\")","v":""},{"$f":"IF($B$2=StoreConfig!C1957,StoreConfig!E1957,\"\")","v":""},{"$f":"IF($B$2=StoreConfig!C1957,RIGHT(StoreConfig!J1957,LEN(StoreConfig!J1957)-FIND(\"|\",StoreConfig!J1957)),\"\")","v":""},{"$f":"IFERROR(VLOOKUP(--IF($B$2=StoreConfig!C1957,LEFT(StoreConfig!J1957,FIND(\"|\",StoreConfig!J1957)-1),\"\"),$Q$4:$R$20,2,FALSE),\"\")","v":""},{"$f":"IF($B$2=StoreConfig!C1957,LEFT(StoreConfig!G1957,FIND(\"#\",StoreConfig!G1957)-1),\"\")","v":""},{"$f":"IF($B$2=StoreConfig!C1957,RIGHT(StoreConfig!G1957,LEN(StoreConfig!G1957)-FIND(\"#\",StoreConfig!G1957)),\"\")","v":""},{"$f":"IF($B$2=StoreConfig!C1957,IF(StoreConfig!L1957=0,\"不限购\",StoreConfig!L1957&\"次\"),\"\")","v":""}]
[{"$nulls":3},{"$f":"IF($B$2=StoreConfig!C1958,StoreConfig!O1958,\"\")","v":""},{"$f":"IF($B$2=StoreConfig!C1958,StoreConfig!E1958,\"\")","v":""},{"$f":"IF($B$2=StoreConfig!C1958,RIGHT(StoreConfig!J1958,LEN(StoreConfig!J1958)-FIND(\"|\",StoreConfig!J1958)),\"\")","v":""},{"$f":"IFERROR(VLOOKUP(--IF($B$2=StoreConfig!C1958,LEFT(StoreConfig!J1958,FIND(\"|\",StoreConfig!J1958)-1),\"\"),$Q$4:$R$20,2,FALSE),\"\")","v":""},{"$f":"IF($B$2=StoreConfig!C1958,LEFT(StoreConfig!G1958,FIND(\"#\",StoreConfig!G1958)-1),\"\")","v":""},{"$f":"IF($B$2=StoreConfig!C1958,RIGHT(StoreConfig!G1958,LEN(StoreConfig!G1958)-FIND(\"#\",StoreConfig!G1958)),\"\")","v":""},{"$f":"IF($B$2=StoreConfig!C1958,IF(StoreConfig!L1958=0,\"不限购\",StoreConfig!L1958&\"次\"),\"\")","v":""}]
[{"$nulls":3},{"$f":"IF($B$2=StoreConfig!C1959,StoreConfig!O1959,\"\")","v":""},{"$f":"IF($B$2=StoreConfig!C1959,StoreConfig!E1959,\"\")","v":""},{"$f":"IF($B$2=StoreConfig!C1959,RIGHT(StoreConfig!J1959,LEN(StoreConfig!J1959)-FIND(\"|\",StoreConfig!J1959)),\"\")","v":""},{"$f":"IFERROR(VLOOKUP(--IF($B$2=StoreConfig!C1959,LEFT(StoreConfig!J1959,FIND(\"|\",StoreConfig!J1959)-1),\"\"),$Q$4:$R$20,2,FALSE),\"\")","v":""},{"$f":"IF($B$2=StoreConfig!C1959,LEFT(StoreConfig!G1959,FIND(\"#\",StoreConfig!G1959)-1),\"\")","v":""},{"$f":"IF($B$2=StoreConfig!C1959,RIGHT(StoreConfig!G1959,LEN(StoreConfig!G1959)-FIND(\"#\",StoreConfig!G1959)),\"\")","v":""},{"$f":"IF($B$2=StoreConfig!C1959,IF(StoreConfig!L1959=0,\"不限购\",StoreConfig!L1959&\"次\"),\"\")","v":""}]
[{"$nulls":3},{"$f":"IF($B$2=StoreConfig!C1960,StoreConfig!O1960,\"\")","v":""},{"$f":"IF($B$2=StoreConfig!C1960,StoreConfig!E1960,\"\")","v":""},{"$f":"IF($B$2=StoreConfig!C1960,RIGHT(StoreConfig!J1960,LEN(StoreConfig!J1960)-FIND(\"|\",StoreConfig!J1960)),\"\")","v":""},{"$f":"IFERROR(VLOOKUP(--IF($B$2=StoreConfig!C1960,LEFT(StoreConfig!J1960,FIND(\"|\",StoreConfig!J1960)-1),\"\"),$Q$4:$R$20,2,FALSE),\"\")","v":""},{"$f":"IF($B$2=StoreConfig!C1960,LEFT(StoreConfig!G1960,FIND(\"#\",StoreConfig!G1960)-1),\"\")","v":""},{"$f":"IF($B$2=StoreConfig!C1960,RIGHT(StoreConfig!G1960,LEN(StoreConfig!G1960)-FIND(\"#\",StoreConfig!G1960)),\"\")","v":""},{"$f":"IF($B$2=StoreConfig!C1960,IF(StoreConfig!L1960=0,\"不限购\",StoreConfig!L1960&\"次\"),\"\")","v":""}]
[{"$nulls":3},{"$f":"IF($B$2=StoreConfig!C1961,StoreConfig!O1961,\"\")","v":""},{"$f":"IF($B$2=StoreConfig!C1961,StoreConfig!E1961,\"\")","v":""},{"$f":"IF($B$2=StoreConfig!C1961,RIGHT(StoreConfig!J1961,LEN(StoreConfig!J1961)-FIND(\"|\",StoreConfig!J1961)),\"\")","v":""},{"$f":"IFERROR(VLOOKUP(--IF($B$2=StoreConfig!C1961,LEFT(StoreConfig!J1961,FIND(\"|\",StoreConfig!J1961)-1),\"\"),$Q$4:$R$20,2,FALSE),\"\")","v":""},{"$f":"IF($B$2=StoreConfig!C1961,LEFT(StoreConfig!G1961,FIND(\"#\",StoreConfig!G1961)-1),\"\")","v":""},{"$f":"IF($B$2=StoreConfig!C1961,RIGHT(StoreConfig!G1961,LEN(StoreConfig!G1961)-FIND(\"#\",StoreConfig!G1961)),\"\")","v":""},{"$f":"IF($B$2=StoreConfig!C1961,IF(StoreConfig!L1961=0,\"不限购\",StoreConfig!L1961&\"次\"),\"\")","v":""}]
[{"$nulls":3},{"$f":"IF($B$2=StoreConfig!C1962,StoreConfig!O1962,\"\")","v":""},{"$f":"IF($B$2=StoreConfig!C1962,StoreConfig!E1962,\"\")","v":""},{"$f":"IF($B$2=StoreConfig!C1962,RIGHT(StoreConfig!J1962,LEN(StoreConfig!J1962)-FIND(\"|\",StoreConfig!J1962)),\"\")","v":""},{"$f":"IFERROR(VLOOKUP(--IF($B$2=StoreConfig!C1962,LEFT(StoreConfig!J1962,FIND(\"|\",StoreConfig!J1962)-1),\"\"),$Q$4:$R$20,2,FALSE),\"\")","v":""},{"$f":"IF($B$2=StoreConfig!C1962,LEFT(StoreConfig!G1962,FIND(\"#\",StoreConfig!G1962)-1),\"\")","v":""},{"$f":"IF($B$2=StoreConfig!C1962,RIGHT(StoreConfig!G1962,LEN(StoreConfig!G1962)-FIND(\"#\",StoreConfig!G1962)),\"\")","v":""},{"$f":"IF($B$2=StoreConfig!C1962,IF(StoreConfig!L1962=0,\"不限购\",StoreConfig!L1962&\"次\"),\"\")","v":""}]
[{"$nulls":3},{"$f":"IF($B$2=StoreConfig!C1963,StoreConfig!O1963,\"\")","v":""},{"$f":"IF($B$2=StoreConfig!C1963,StoreConfig!E1963,\"\")","v":""},{"$f":"IF($B$2=StoreConfig!C1963,RIGHT(StoreConfig!J1963,LEN(StoreConfig!J1963)-FIND(\"|\",StoreConfig!J1963)),\"\")","v":""},{"$f":"IFERROR(VLOOKUP(--IF($B$2=StoreConfig!C1963,LEFT(StoreConfig!J1963,FIND(\"|\",StoreConfig!J1963)-1),\"\"),$Q$4:$R$20,2,FALSE),\"\")","v":""},{"$f":"IF($B$2=StoreConfig!C1963,LEFT(StoreConfig!G1963,FIND(\"#\",StoreConfig!G1963)-1),\"\")","v":""},{"$f":"IF($B$2=StoreConfig!C1963,RIGHT(StoreConfig!G1963,LEN(StoreConfig!G1963)-FIND(\"#\",StoreConfig!G1963)),\"\")","v":""},{"$f":"IF($B$2=StoreConfig!C1963,IF(StoreConfig!L1963=0,\"不限购\",StoreConfig!L1963&\"次\"),\"\")","v":""}]
[{"$nulls":3},{"$f":"IF($B$2=StoreConfig!C1964,StoreConfig!O1964,\"\")","v":""},{"$f":"IF($B$2=StoreConfig!C1964,StoreConfig!E1964,\"\")","v":""},{"$f":"IF($B$2=StoreConfig!C1964,RIGHT(StoreConfig!J1964,LEN(StoreConfig!J1964)-FIND(\"|\",StoreConfig!J1964)),\"\")","v":""},{"$f":"IFERROR(VLOOKUP(--IF($B$2=StoreConfig!C1964,LEFT(StoreConfig!J1964,FIND(\"|\",StoreConfig!J1964)-1),\"\"),$Q$4:$R$20,2,FALSE),\"\")","v":""},{"$f":"IF($B$2=StoreConfig!C1964,LEFT(StoreConfig!G1964,FIND(\"#\",StoreConfig!G1964)-1),\"\")","v":""},{"$f":"IF($B$2=StoreConfig!C1964,RIGHT(StoreConfig!G1964,LEN(StoreConfig!G1964)-FIND(\"#\",StoreConfig!G1964)),\"\")","v":""},{"$f":"IF($B$2=StoreConfig!C1964,IF(StoreConfig!L1964=0,\"不限购\",StoreConfig!L1964&\"次\"),\"\")","v":""}]
[{"$nulls":3},{"$f":"IF($B$2=StoreConfig!C1965,StoreConfig!O1965,\"\")","v":""},{"$f":"IF($B$2=StoreConfig!C1965,StoreConfig!E1965,\"\")","v":""},{"$f":"IF($B$2=StoreConfig!C1965,RIGHT(StoreConfig!J1965,LEN(StoreConfig!J1965)-FIND(\"|\",StoreConfig!J1965)),\"\")","v":""},{"$f":"IFERROR(VLOOKUP(--IF($B$2=StoreConfig!C1965,LEFT(StoreConfig!J1965,FIND(\"|\",StoreConfig!J1965)-1),\"\"),$Q$4:$R$20,2,FALSE),\"\")","v":""},{"$f":"IF($B$2=StoreConfig!C1965,LEFT(StoreConfig!G1965,FIND(\"#\",StoreConfig!G1965)-1),\"\")","v":""},{"$f":"IF($B$2=StoreConfig!C1965,RIGHT(StoreConfig!G1965,LEN(StoreConfig!G1965)-FIND(\"#\",StoreConfig!G1965)),\"\")","v":""},{"$f":"IF($B$2=StoreConfig!C1965,IF(StoreConfig!L1965=0,\"不限购\",StoreConfig!L1965&\"次\"),\"\")","v":""}]
[{"$nulls":3},{"$f":"IF($B$2=StoreConfig!C1966,StoreConfig!O1966,\"\")","v":""},{"$f":"IF($B$2=StoreConfig!C1966,StoreConfig!E1966,\"\")","v":""},{"$f":"IF($B$2=StoreConfig!C1966,RIGHT(StoreConfig!J1966,LEN(StoreConfig!J1966)-FIND(\"|\",StoreConfig!J1966)),\"\")","v":""},{"$f":"IFERROR(VLOOKUP(--IF($B$2=StoreConfig!C1966,LEFT(StoreConfig!J1966,FIND(\"|\",StoreConfig!J1966)-1),\"\"),$Q$4:$R$20,2,FALSE),\"\")","v":""},{"$f":"IF($B$2=StoreConfig!C1966,LEFT(StoreConfig!G1966,FIND(\"#\",StoreConfig!G1966)-1),\"\")","v":""},{"$f":"IF($B$2=StoreConfig!C1966,RIGHT(StoreConfig!G1966,LEN(StoreConfig!G1966)-FIND(\"#\",StoreConfig!G1966)),\"\")","v":""},{"$f":"IF($B$2=StoreConfig!C1966,IF(StoreConfig!L1966=0,\"不限购\",StoreConfig!L1966&\"次\"),\"\")","v":""}]
[{"$nulls":3},{"$f":"IF($B$2=StoreConfig!C1967,StoreConfig!O1967,\"\")","v":""},{"$f":"IF($B$2=StoreConfig!C1967,StoreConfig!E1967,\"\")","v":""},{"$f":"IF($B$2=StoreConfig!C1967,RIGHT(StoreConfig!J1967,LEN(StoreConfig!J1967)-FIND(\"|\",StoreConfig!J1967)),\"\")","v":""},{"$f":"IFERROR(VLOOKUP(--IF($B$2=StoreConfig!C1967,LEFT(StoreConfig!J1967,FIND(\"|\",StoreConfig!J1967)-1),\"\"),$Q$4:$R$20,2,FALSE),\"\")","v":""},{"$f":"IF($B$2=StoreConfig!C1967,LEFT(StoreConfig!G1967,FIND(\"#\",StoreConfig!G1967)-1),\"\")","v":""},{"$f":"IF($B$2=StoreConfig!C1967,RIGHT(StoreConfig!G1967,LEN(StoreConfig!G1967)-FIND(\"#\",StoreConfig!G1967)),\"\")","v":""},{"$f":"IF($B$2=StoreConfig!C1967,IF(StoreConfig!L1967=0,\"不限购\",StoreConfig!L1967&\"次\"),\"\")","v":""}]
[{"$nulls":4},{"$f":"IF($B$2=StoreConfig!C1968,StoreConfig!E1968,\"\")","v":""},{"$f":"IF($B$2=StoreConfig!C1968,RIGHT(StoreConfig!J1968,LEN(StoreConfig!J1968)-FIND(\"|\",StoreConfig!J1968)),\"\")","v":""},{"$f":"IFERROR(VLOOKUP(--IF($B$2=StoreConfig!C1968,LEFT(StoreConfig!J1968,FIND(\"|\",StoreConfig!J1968)-1),\"\"),$Q$4:$R$20,2,FALSE),\"\")","v":""},{"$f":"IF($B$2=StoreConfig!C1968,LEFT(StoreConfig!G1968,FIND(\"#\",StoreConfig!G1968)-1),\"\")","v":""},{"$f":"IF($B$2=StoreConfig!C1968,RIGHT(StoreConfig!G1968,LEN(StoreConfig!G1968)-FIND(\"#\",StoreConfig!G1968)),\"\")","v":""},{"$f":"IF($B$2=StoreConfig!C1968,IF(StoreConfig!L1968=0,\"不限购\",StoreConfig!L1968&\"次\"),\"\")","v":""}]

{"sheet":"Sheet4","index":7,"n_rows":1656,"n_cols":22,"rows_kept":1656}
[{"$nulls":8},"Cost",{"$nulls":7},"Goods"]
[{"$nulls":8},"mut,int#int,2",{"$nulls":7},"mut,int","int,2"]
[{"$nulls":8},2,{"$nulls":7},2]
[{"$nulls":8},"购买道具","价格公式（ax^3+bx^2+cx+d)",{"$nulls":6},"物品id","数量"]
[{"$nulls":8},"null",{"$nulls":7},"null"]
[{"$nulls":10},"|0#0#0#","#","|"]
[]
[{"$nulls":3},26,15385,3250,null,4,26,5000,{"$f":"D8&$K$6&E8","v":"26|0#0#0#15385"},{"$nulls":5},11011,50]
[{"$nulls":3},26,15385,3250,null,4,26,5000,"26|0#0#0#15385",{"$nulls":5},11023,50]
[{"$nulls":3},26,15385,3250,null,4,26,5000,"26|0#0#0#15385",{"$nulls":5},11001,50]
[{"$nulls":3},26,15385,3250,null,4,26,5000,"26|0#0#0#15385",{"$nulls":5},11026,50]
[{"$nulls":3},26,12308,2600,null,4,26,4000,"26|0#0#0#12308",{"$nulls":5},11002,50]
[{"$nulls":3},26,12308,2600,null,4,26,4000,"26|0#0#0#12308",{"$nulls":5},11015,50]
[{"$nulls":3},26,12308,2600,null,4,26,4000,"26|0#0#0#12308",{"$nulls":5},11017,50]
[{"$nulls":3},26,12308,2600,null,4,26,4000,"26|0#0#0#12308",{"$nulls":5},11042,50]
[{"$nulls":3},26,7692,1625,null,4,26,2500,"26|0#0#0#7692",{"$nulls":5},11045,50]
[{"$nulls":3},26,7692,1625,null,4,26,2500,"26|0#0#0#7692",{"$nulls":5},11030,50]
[{"$nulls":3},26,7692,1625,null,4,26,2500,"26|0#0#0#7692",{"$nulls":5},11036,50]
[{"$nulls":3},26,7692,1625,null,4,26,2500,"26|0#0#0#7692",{"$nulls":5},11038,50]
[null,null,"不要了",25,{"$error":"#VALUE!"},40000,null,"不动",25,200,{"$f":"StoreConfig!J20","v":"25|0#0#0#200"},{"$nulls":5},90001,1]
[null,null,"不要了",25,{"$error":"#VALUE!"},40000,null,"不动",25,200,{"$f":"StoreConfig!J21","v":"25|0#0#0#200"},{"$nulls":5},90002,1]
[null,null,"不要了",25,{"$error":"#VALUE!"},40000,null,"不动",25,200,{"$f":"StoreConfig!J22","v":"25|0#0#0#200"},{"$nulls":5},90003,1]
[null,null,"不要了",25,{"$error":"#VALUE!"},40000,null,"不动",25,200,{"$f":"StoreConfig!J23","v":"25|0#0#0#200"},{"$nulls":5},90004,1]
[null,null,"不要了",25,{"$error":"#VALUE!"},40000,null,"不动",25,200,{"$f":"StoreConfig!J24","v":"25|0#0#0#200"},{"$nulls":5},90005,1]
[null,null,"不要了",25,{"$error":"#VALUE!"},40000,null,"不动",25,200,{"$f":"StoreConfig!J25","v":"25|0#0#0#200"},{"$nulls":5},90001,1]
[null,null,"不要了",25,{"$error":"#VALUE!"},40000,null,"不动",25,200,{"$f":"StoreConfig!J26","v":"25|0#0#0#200"},{"$nulls":5},90002,1]
[null,null,"不要了",25,{"$error":"#VALUE!"},40000,null,"不动",25,200,{"$f":"StoreConfig!J27","v":"25|0#0#0#200"},{"$nulls":5},90003,1]
[null,null,"不要了",25,{"$error":"#VALUE!"},40000,null,"不动",25,200,{"$f":"StoreConfig!J28","v":"25|0#0#0#200"},{"$nulls":5},90004,1]
[null,null,"不要了",25,{"$error":"#VALUE!"},40000,null,"不动",25,200,{"$f":"StoreConfig!J29","v":"25|0#0#0#200"},{"$nulls":5},90005,1]
[null,null,"不要了",25,{"$error":"#N/A"},300000,null,"不动",25,1500,{"$f":"StoreConfig!J30","v":"25|0#0#0#1500"},{"$nulls":5},90201,1]
[null,null,"不要了",25,{"$error":"#N/A"},300000,null,"不动",25,1500,{"$f":"StoreConfig!J31","v":"25|0#0#0#1500"},{"$nulls":5},90202,1]
[null,null,"不要了",25,{"$error":"#N/A"},300000,null,"不动",25,1500,{"$f":"StoreConfig!J32","v":"25|0#0#0#1500"},{"$nulls":5},90203,1]
[null,null,"不要了",25,{"$error":"#N/A"},300000,null,"不动",25,1500,{"$f":"StoreConfig!J33","v":"25|0#0#0#1500"},{"$nulls":5},90204,1]
[null,null,"不要了",25,{"$error":"#N/A"},300000,null,"不动",25,1500,{"$f":"StoreConfig!J34","v":"25|0#0#0#1500"},{"$nulls":5},90205,1]
[null,null,"不要了",25,{"$error":"#N/A"},300000,null,"不动",25,1500,{"$f":"StoreConfig!J35","v":"25|0#0#0#1500"},{"$nulls":5},90201,1]
[null,null,"不要了",25,{"$error":"#N/A"},300000,null,"不动",25,1500,{"$f":"StoreConfig!J36","v":"25|0#0#0#1500"},{"$nulls":5},90202,1]
[null,null,"不要了",25,{"$error":"#N/A"},300000,null,"不动",25,1500,{"$f":"StoreConfig!J37","v":"25|0#0#0#1500"},{"$nulls":5},90203,1]
[null,null,"不要了",25,{"$error":"#N/A"},300000,null,"不动",25,1500,{"$f":"StoreConfig!J38","v":"25|0#0#0#1500"},{"$nulls":5},90204,1]
[null,null,"不要了",25,{"$error":"#N/A"},300000,null,"不动",25,1500,{"$f":"StoreConfig!J39","v":"25|0#0#0#1500"},{"$nulls":5},90205,1]
[null,null,"不要了",25,{"$error":"#N/A"},120000,null,"不动",25,600,{"$f":"StoreConfig!J40","v":"25|0#0#0#600"},{"$nulls":5},60095,1]
[null,null,"不要了",25,{"$error":"#N/A"},120000,null,"不动",25,600,{"$f":"StoreConfig!J41","v":"25|0#0#0#600"},{"$nulls":5},60098,1]
[null,null,"不要了",25,4,480000,null,"不动",25,2400,{"$f":"StoreConfig!J42","v":"25|0#0#0#2400"},{"$nulls":5},60101,1]
[null,null,"不要了",25,{"$error":"#N/A"},480000,null,"不动",25,2400,{"$f":"StoreConfig!J43","v":"25|0#0#0#2400"},{"$nulls":5},60106,1]
[null,null,"不要了",25,{"$error":"#N/A"},480000,null,"不动",25,2400,{"$f":"StoreConfig!J44","v":"25|0#0#0#2400"},{"$nulls":5},60111,1]
[null,null,"不要了",25,{"$error":"#N/A"},480000,null,"不动",25,2400,{"$f":"StoreConfig!J45","v":"25|0#0#0#2400"},{"$nulls":5},60116,1]
[null,null,"不要了",25,{"$error":"#N/A"},480000,null,"不动",25,2400,{"$f":"StoreConfig!J46","v":"25|0#0#0#2400"},{"$nulls":5},60121,1]
[null,null,"不要了",25,4,480000,null,"不动",25,2400,{"$f":"StoreConfig!J47","v":"25|0#0#0#2400"},{"$nulls":5},60126,1]
[null,null,"不要了",25,{"$error":"#N/A"},480000,null,"不动",25,2400,{"$f":"StoreConfig!J48","v":"25|0#0#0#2400"},{"$nulls":5},60131,1]
[null,null,"不要了",25,4,480000,null,"不动",25,2400,{"$f":"StoreConfig!J49","v":"25|0#0#0#2400"},{"$nulls":5},60136,1]
[null,null,"不要了",25,4,480000,null,"不动",25,2400,{"$f":"StoreConfig!J50","v":"25|0#0#0#2400"},{"$nulls":5},60141,1]
[null,null,"不要了",25,{"$error":"#N/A"},480000,null,"不动",25,2400,{"$f":"StoreConfig!J51","v":"25|0#0#0#2400"},{"$nulls":5},60146,1]
[null,null,"不要了",25,{"$error":"#N/A"},480000,null,"不动",25,2400,{"$f":"StoreConfig!J52","v":"25|0#0#0#2400"},{"$nulls":5},60151,1]
[null,null,"不要了",25,{"$error":"#N/A"},480000,null,"不动",25,2400,{"$f":"StoreConfig!J53","v":"25|0#0#0#2400"},{"$nulls":5},3007,1]
[null,null,"不要了",25,{"$error":"#N/A"},480000,null,"不动",25,2400,{"$f":"StoreConfig!J54","v":"25|0#0#0#2400"},{"$nulls":5},3008,1]
[null,null,"不要了",25,{"$error":"#N/A"},480000,null,"不动",25,2400,{"$f":"StoreConfig!J55","v":"25|0#0#0#2400"},{"$nulls":5},3009,1]
[null,null,"不要了",25,{"$error":"#N/A"},480000,null,"不动",25,2400,{"$f":"StoreConfig!J56","v":"25|0#0#0#2400"},{"$nulls":5},3010,1]
[null,null,"不要了",25,{"$error":"#N/A"},480000,null,"不动",25,2400,{"$f":"StoreConfig!J57","v":"25|0#0#0#2400"},{"$nulls":5},3011,1]
[null,null,"不要了",25,{"$error":"#N/A"},480000,null,"不动",25,2400,{"$f":"StoreConfig!J58","v":"25|0#0#0#2400"},{"$nulls":5},3012,1]
[null,null,"不要了",25,{"$error":"#N/A"},480000,null,"不动",25,2400,{"$f":"StoreConfig!J59","v":"25|0#0#0#2400"},{"$nulls":5},3013,1]
[null,null,"不要了",25,{"$error":"#N/A"},480000,null,"不动",25,2400,{"$f":"StoreConfig!J60","v":"25|0#0#0#2400"},{"$nulls":5},3014,1]
[null,null,"不要了",25,{"$error":"#N/A"},480000,null,"不动",25,2400,{"$f":"StoreConfig!J61","v":"25|0#0#0#2400"},{"$nulls":5},3015,1]
[null,null,"不要了",25,{"$error":"#N/A"},480000,null,"不动",25,2400,{"$f":"StoreConfig!J62","v":"25|0#0#0#2400"},{"$nulls":5},3016,1]
[null,null,"不要了",25,{"$error":"#N/A"},480000,null,"不动",25,2400,{"$f":"StoreConfig!J63","v":"25|0#0#0#2400"},{"$nulls":5},3017,1]
[null,null,"不要了",25,{"$error":"#N/A"},480000,null,"不动",25,2400,{"$f":"StoreConfig!J64","v":"25|0#0#0#2400"},{"$nulls":5},3018,1]
[null,null,"不要了",24,{"$error":"#N/A"},75,null,"不动",24,60,{"$f":"StoreConfig!J65","v":"24|0#0#0#60"},{"$nulls":5},6001,1]
[null,null,"不要了",24,{"$error":"#N/A"},75,null,"不动",24,60,{"$f":"StoreConfig!J66","v":"24|0#0#0#60"},{"$nulls":5},6002,1]
[null,null,"不要了",24,{"$error":"#N/A"},75,null,"不动",24,60,{"$f":"StoreConfig!J67","v":"24|0#0#0#60"},{"$nulls":5},6003,1]
[null,null,"不要了",24,{"$error":"#N/A"},75,null,"不动",24,60,{"$f":"StoreConfig!J68","v":"24|0#0#0#60"},{"$nulls":5},6004,1]
[null,null,"不要了",24,{"$error":"#N/A"},75,null,"不动",24,60,{"$f":"StoreConfig!J69","v":"24|0#0#0#60"},{"$nulls":5},6005,1]
[null,null,"不要了",24,{"$error":"#N/A"},75,null,"不动",24,60,{"$f":"StoreConfig!J70","v":"24|0#0#0#60"},{"$nulls":5},6006,1]
[null,null,"不要了",24,{"$error":"#N/A"},75,null,"不动",24,60,{"$f":"StoreConfig!J71","v":"24|0#0#0#60"},{"$nulls":5},6007,1]
[null,null,"不要了",24,{"$error":"#N/A"},75,null,"不动",24,60,{"$f":"StoreConfig!J72","v":"24|0#0#0#60"},{"$nulls":5},6008,1]
[null,null,"不要了",24,{"$error":"#N/A"},75,null,"不动",24,60,{"$f":"StoreConfig!J73","v":"24|0#0#0#60"},{"$nulls":5},6009,1]
[null,null,"不要了",24,{"$error":"#N/A"},75,null,"不动",24,60,{"$f":"StoreConfig!J74","v":"24|0#0#0#60"},{"$nulls":5},6010,1]
[null,null,"不要了",24,{"$error":"#N/A"},75,null,"不动",24,60,{"$f":"StoreConfig!J75","v":"24|0#0#0#60"},{"$nulls":5},6011,1]
[null,null,"不要了",24,{"$error":"#N/A"},75,null,"不动",24,60,{"$f":"StoreConfig!J76","v":"24|0#0#0#60"},{"$nulls":5},6012,1]
[null,null,"不要了",24,{"$error":"#N/A"},225,null,"不动",24,180,{"$f":"StoreConfig!J77","v":"24|0#0#0#180"},{"$nulls":5},6025,1]
[null,null,"不要了",24,{"$error":"#N/A"},225,null,"不动",24,180,{"$f":"StoreConfig!J78","v":"24|0#0#0#180"},{"$nulls":5},6026,1]
[null,null,"不要了",24,{"$error":"#N/A"},225,null,"不动",24,180,{"$f":"StoreConfig!J79","v":"24|0#0#0#180"},{"$nulls":5},6027,1]
[null,null,"不要了",24,{"$error":"#N/A"},225,null,"不动",24,180,{"$f":"StoreConfig!J80","v":"24|0#0#0#180"},{"$nulls":5},6028,1]
[null,null,"不要了",24,{"$error":"#N/A"},225,null,"不动",24,180,{"$f":"StoreConfig!J81","v":"24|0#0#0#180"},{"$nulls":5},6029,1]
[null,null,"不要了",24,{"$error":"#N/A"},225,null,"不动",24,180,{"$f":"StoreConfig!J82","v":"24|0#0#0#180"},{"$nulls":5},6030,1]
[null,null,"不要了",24,{"$error":"#N/A"},225,null,"不动",24,180,{"$f":"StoreConfig!J83","v":"24|0#0#0#180"},{"$nulls":5},6031,1]
[null,null,"不要了",24,{"$error":"#N/A"},225,null,"不动",24,180,{"$f":"StoreConfig!J84","v":"24|0#0#0#180"},{"$nulls":5},6032,1]
[null,null,"不要了",24,{"$error":"#VALUE!"},18.75,null,"不动",24,15,{"$f":"StoreConfig!J85","v":"24|0#0#0#15"},{"$nulls":5},5,150]
[null,null,"不要了",22,{"$error":"#N/A"},"缺少价值对比",null,"不动",22,55,{"$f":"StoreConfig!J86","v":"22|0#0#0#55"},{"$nulls":5},6001,1]
[null,null,"不要了",22,{"$error":"#N/A"},"缺少价值对比",null,"不动",22,55,{"$f":"StoreConfig!J87","v":"22|0#0#0#55"},{"$nulls":5},6002,1]
[null,null,"不要了",22,{"$error":"#N/A"},"缺少价值对比",null,"不动",22,55,{"$f":"StoreConfig!J88","v":"22|0#0#0#55"},{"$nulls":5},6003,1]
[null,null,"不要了",22,{"$error":"#N/A"},"缺少价值对比",null,"不动",22,55,{"$f":"StoreConfig!J89","v":"22|0#0#0#55"},{"$nulls":5},6004,1]
[null,null,"不要了",22,{"$error":"#N/A"},"缺少价值对比",null,"不动",22,55,{"$f":"StoreConfig!J90","v":"22|0#0#0#55"},{"$nulls":5},6005,1]
[null,null,"不要了",22,{"$error":"#N/A"},"缺少价值对比",null,"不动",22,55,{"$f":"StoreConfig!J91","v":"22|0#0#0#55"},{"$nulls":5},6006,1]
[null,null,"不要了",22,{"$error":"#N/A"},"缺少价值对比",null,"不动",22,55,{"$f":"StoreConfig!J92","v":"22|0#0#0#55"},{"$nulls":5},6007,1]
[null,null,"不要了",22,{"$error":"#N/A"},"缺少价值对比",null,"不动",22,55,{"$f":"StoreConfig!J93","v":"22|0#0#0#55"},{"$nulls":5},6008,1]
[null,null,"不要了",22,{"$error":"#N/A"},"缺少价值对比",null,"不动",22,55,{"$f":"StoreConfig!J94","v":"22|0#0#0#55"},{"$nulls":5},6009,1]
[null,null,"不要了",22,{"$error":"#N/A"},"缺少价值对比",null,"不动",22,55,{"$f":"StoreConfig!J95","v":"22|0#0#0#55"},{"$nulls":5},6010,1]
[null,null,"不要了",22,{"$error":"#N/A"},"缺少价值对比",null,"不动",22,55,{"$f":"StoreConfig!J96","v":"22|0#0#0#55"},{"$nulls":5},6011,1]
[null,null,"不要了",22,{"$error":"#N/A"},"缺少价值对比",null,"不动",22,55,{"$f":"StoreConfig!J97","v":"22|0#0#0#55"},{"$nulls":5},6012,1]
[null,null,"不要了",22,{"$error":"#N/A"},"缺少价值对比",null,"不动",22,180,{"$f":"StoreConfig!J98","v":"22|0#0#0#180"},{"$nulls":5},6013,1]
[null,null,"不要了",22,{"$error":"#N/A"},"缺少价值对比",null,"不动",22,180,{"$f":"StoreConfig!J99","v":"22|0#0#0#180"},{"$nulls":5},6014,1]
[null,null,"不要了",22,{"$error":"#N/A"},"缺少价值对比",null,"不动",22,180,{"$f":"StoreConfig!J100","v":"22|0#0#0#180"},{"$nulls":5},6015,1]
[null,null,"不要了",22,{"$error":"#N/A"},"缺少价值对比",null,"不动",22,180,{"$f":"StoreConfig!J101","v":"22|0#0#0#180"},{"$nulls":5},6016,1]
[null,null,"不要了",22,{"$error":"#N/A"},"缺少价值对比",null,"不动",22,180,{"$f":"StoreConfig!J102","v":"22|0#0#0#180"},{"$nulls":5},6017,1]
[null,null,"不要了",22,{"$error":"#N/A"},"缺少价值对比",null,"不动",22,180,{"$f":"StoreConfig!J103","v":"22|0#0#0#180"},{"$nulls":5},6018,1]
[null,null,"不要了",22,{"$error":"#N/A"},"缺少价值对比",null,"不动",22,180,{"$f":"StoreConfig!J104","v":"22|0#0#0#180"},{"$nulls":5},6019,1]
[null,null,"不要了",22,{"$error":"#N/A"},"缺少价值对比",null,"不动",22,180,{"$f":"StoreConfig!J105","v":"22|0#0#0#180"},{"$nulls":5},6020,1]
[null,null,"不要了",22,{"$error":"#N/A"},"缺少价值对比",null,"不动",22,180,{"$f":"StoreConfig!J106","v":"22|0#0#0#180"},{"$nulls":5},6021,1]
[null,null,"不要了",22,{"$error":"#N/A"},"缺少价值对比",null,"不动",22,180,{"$f":"StoreConfig!J107","v":"22|0#0#0#180"},{"$nulls":5},6022,1]
[null,null,"不要了",22,{"$error":"#N/A"},"缺少价值对比",null,"不动",22,180,{"$f":"StoreConfig!J108","v":"22|0#0#0#180"},{"$nulls":5},6023,1]
[null,null,"不要了",22,{"$error":"#N/A"},"缺少价值对比",null,"不动",22,180,{"$f":"StoreConfig!J109","v":"22|0#0#0#180"},{"$nulls":5},6024,1]
[null,null,"不要了",22,{"$error":"#N/A"},"缺少价值对比",null,"不动",22,180,{"$f":"StoreConfig!J110","v":"22|0#0#0#180"},{"$nulls":5},6025,1]
[null,null,"不要了",22,{"$error":"#N/A"},"缺少价值对比",null,"不动",22,180,{"$f":"StoreConfig!J111","v":"22|0#0#0#180"},{"$nulls":5},6026,1]
[null,null,"不要了",22,{"$error":"#N/A"},"缺少价值对比",null,"不动",22,180,{"$f":"StoreConfig!J112","v":"22|0#0#0#180"},{"$nulls":5},6027,1]
[null,null,"不要了",22,{"$error":"#N/A"},"缺少价值对比",null,"不动",22,180,{"$f":"StoreConfig!J113","v":"22|0#0#0#180"},{"$nulls":5},6028,1]
[null,null,"不要了",22,{"$error":"#N/A"},"缺少价值对比",null,"不动",22,180,{"$f":"StoreConfig!J114","v":"22|0#0#0#180"},{"$nulls":5},6029,1]
[null,null,"不要了",22,{"$error":"#N/A"},"缺少价值对比",null,"不动",22,180,{"$f":"StoreConfig!J115","v":"22|0#0#0#180"},{"$nulls":5},6030,1]
[null,null,"不要了",22,{"$error":"#N/A"},"缺少价值对比",null,"不动",22,180,{"$f":"StoreConfig!J116","v":"22|0#0#0#180"},{"$nulls":5},6031,1]
[null,null,"不要了",22,{"$error":"#N/A"},"缺少价值对比",null,"不动",22,180,{"$f":"StoreConfig!J117","v":"22|0#0#0#180"},{"$nulls":5},6032,1]
[null,null,"不要了",22,{"$error":"#VALUE!"},"缺少价值对比",null,"不动",22,10,{"$f":"StoreConfig!J118","v":"22|0#0#0#10"},{"$nulls":5},5,100]
[null,null,"不处理",16,250,250,null,"不动",16,250,{"$f":"StoreConfig!J119","v":"16|0#0#0#250"},{"$nulls":5},19,1]
[null,null,"不处理",16,2500,2250,null,9,16,2250,{"$f":"StoreConfig!J120","v":"16|0#0#0#2500"},{"$nulls":5},19,10]
[null,null,"不处理",16,{"$error":"#VALUE!"},100,null,"不动",16,100,{"$f":"StoreConfig!J121","v":"16|0#0#0#100"},{"$nulls":4},{"$f":"R121*50","v":100},60,2]
[null,null,"不处理",16,{"$error":"#VALUE!"},880,null,"不动",16,880,{"$f":"StoreConfig!J122","v":"16|0#0#0#250"},{"$nulls":4},250,60,5]
[null,null,"不处理",16,5,0,null,0,16,0,{"$f":"StoreConfig!J123","v":"16|0#0#0#0"},{"$nulls":5},14,25000]
[null,null,"不处理",16,{"$error":"#N/A"},"缺少价值对比",null,"不动",16,"50#50#100#100#150#200#300#400#500",{"$f":"StoreConfig!J124","v":"16|50#50#100#100#150#200#300#400#500"},{"$nulls":5},2,100]
[null,null,"不处理",16,20,20,null,"不动",16,20,{"$f":"StoreConfig!J125","v":"16|0#0#0#20"},{"$nulls":5},23,1]
[null,null,"不处理",47,{"$error":"#N/A"},"缺少价值对比",null,"不动",47,1,{"$f":"StoreConfig!J126","v":"47|0#0#0#1"},{"$nulls":5},0,0]
[null,null,"不处理",16,{"$error":"#N/A"},"缺少价值对比",null,"不动",16,"0#0#20#20",{"$f":"StoreConfig!J127","v":"16|0#0#20#20"},{"$nulls":5},27,1]
[null,null,"不处理",16,{"$error":"#N/A"},"缺少价值对比",null,"不动",16,"0#0#150#100",{"$f":"StoreConfig!J128","v":"16|0#0#150#100"},{"$nulls":5},28,1]
[null,null,"不处理",16,{"$error":"#N/A"},"缺少价值对比",null,"不动",16,"0#200#400#400#600#600#1000",{"$f":"StoreConfig!J129","v":"16|0#200#400#400#600#600#1000"},{"$nulls":5},0,0]
[null,null,"不处理",16,{"$error":"#N/A"},"缺少价值对比",null,"不动",16,"20#20#40#40#60#80#100#120#160#200",{"$f":"StoreConfig!J130","v":"16|20#20#40#40#60#80#100#120#160#200"},{"$nulls":5},44,1]
[null,null,"不处理",15,{"$error":"#N/A"},"缺少价值对比",null,"不动",16,1,{"$f":"StoreConfig!J131","v":"16|0#0#0#1"},{"$nulls":5},16,10]
[null,null,"不处理",15,{"$error":"#N/A"},"缺少价值对比",null,"不动",16,30,{"$f":"StoreConfig!J132","v":"16|0#0#0#30"},{"$nulls":5},46,1]
[null,null,"不处理",16,{"$error":"#N/A"},"缺少价值对比",null,"不动",16,"50#100#200#200#200#200#200#200#200#200#200",{"$f":"StoreConfig!J133","v":"16|50#100#200#200#200#200#200#200#200#200#200"},{"$nulls":5},0,0]
[null,null,"不处理",16,{"$error":"#N/A"},"缺少价值对比",null,"不动",16,"0#0#100#150",{"$f":"StoreConfig!J134","v":"16|0#0#100#150"},{"$nulls":5},1,100]
[null,null,"不处理",16,{"$error":"#N/A"},20,null,"不动",16,20,{"$f":"StoreConfig!J135","v":"16|0#0#0#20"},{"$nulls":5},53,1]
[null,null,"不处理",16,{"$error":"#N/A"},500,null,"不动",16,500,{"$f":"StoreConfig!J136","v":"16|0#0#0#500"},{"$nulls":5},64,1]
[null,null,"不处理",16,{"$error":"#N/A"},100,null,"不动",16,100,{"$f":"StoreConfig!J137","v":"16|0#0#0#100"},{"$nulls":5},0,0]
[null,null,"不处理",16,{"$error":"#N/A"},"缺少价值对比",null,"不动",16,"0#0#10#10",{"$f":"StoreConfig!J138","v":"16|0#0#10#10"},{"$nulls":5},0,0]
[null,null,"不处理",16,{"$error":"#N/A"},50,null,"不动",16,50,{"$f":"StoreConfig!J139","v":"16|0#0#0#50"},{"$nulls":5},90,0]
[null,null,"不处理",16,{"$error":"#N/A"},50,null,"不动",16,50,{"$f":"StoreConfig!J140","v":"16|0#0#0#50"},{"$nulls":5},90,0]
[null,null,"不处理",16,{"$error":"#N/A"},50,null,"不动",16,50,{"$f":"StoreConfig!J141","v":"16|0#0#0#50"},{"$nulls":5},90,0]
[null,null,"不处理",16,{"$error":"#N/A"},50,null,"不动",16,50,{"$f":"StoreConfig!J142","v":"16|0#0#0#50"},{"$nulls":5},90,0]
[null,null,"不处理",16,{"$error":"#N/A"},50,null,"不动",16,50,{"$f":"StoreConfig!J143","v":"16|0#0#0#50"},{"$nulls":5},90,0]
[null,null,"不要了",16,10,20,null,"不动",16,20,{"$f":"StoreConfig!J144","v":"16|0#0#0#20"},{"$nulls":5},14,50000]
[null,null,"不要了",16,25,50,null,"不动",16,50,{"$f":"StoreConfig!J145","v":"16|0#0#0#50"},{"$nulls":5},14,125000]
[null,null,"不处理",16,{"$error":"#N/A"},"缺少价值对比",null,"不动",16,"300#500#800#1000",{"$f":"StoreConfig!J146","v":"16|300#500#800#1000"},{"$nulls":5},0,0]
[null,null,"不处理",16,{"$error":"#N/A"},100,null,"不动",16,100,{"$f":"StoreConfig!J147","v":"16|0#0#0#100"},{"$nulls":5},31,1]
[null,null,"不处理",16,{"$error":"#N/A"},50,null,"不动",16,50,{"$f":"StoreConfig!J148","v":"16|50#100#200#200#200#200#200#200"},{"$nulls":5},71,0]
[null,null,"不要了",16,100,100,null,"不动",16,100,{"$f":"StoreConfig!J150","v":"16|0#0#0#100"},{"$nulls":5},3,100000]
[null,null,"不要了",16,200,200,null,"不动",16,200,{"$f":"StoreConfig!J151","v":"16|0#0#0#200"},{"$nulls":5},3,200000]
[null,null,"不要了",16,400,400,null,"不动",16,400,{"$f":"StoreConfig!J152","v":"16|0#0#0#400"},{"$nulls":5},3,400000]
[null,null,"不要了",16,2500,2500,null,"不动",16,2500,{"$f":"StoreConfig!J153","v":"16|0#0#0#2500"},{"$nulls":5},20,1]
[null,null,"不要了",16,2500,2500,null,"不动",16,2500,{"$f":"StoreConfig!J154","v":"16|0#0#0#2500"},{"$nulls":5},20,1]
[null,null,"不要了",16,250,250,null,"不动",16,250,{"$f":"StoreConfig!J155","v":"16|0#0#0#250"},{"$nulls":5},19,1]
[null,null,"不要了",16,750,750,null,"不动",16,750,{"$f":"StoreConfig!J156","v":"16|0#0#0#750"},{"$nulls":5},19,3]
[null,null,"不要了",16,1250,1250,null,"不动",16,1250,{"$f":"StoreConfig!J157","v":"16|0#0#0#1250"},{"$nulls":5},19,5]
[null,null,"不要了",16,12,150,null,"不动",16,150,{"$f":"StoreConfig!J158","v":"16|0#0#0#150"},{"$nulls":4},{"$f":"R157*50","v":150},60,3]
[null,null,"不要了",16,20,250,null,"不动",16,250,{"$f":"StoreConfig!J159","v":"16|0#0#0#250"},{"$nulls":4},250,60,5]
[null,null,"不要了",16,40,500,null,"不动",16,500,{"$f":"StoreConfig!J160","v":"16|0#0#0#500"},{"$nulls":4},500,60,10]
[null,null,"不要了",16,500,500,null,"不动",16,500,{"$f":"StoreConfig!J161","v":"16|0#0#0#500"},{"$nulls":5},4,500]
[null,null,"不要了",16,1000,1000,null,"不动",16,1000,{"$f":"StoreConfig!J162","v":"16|0#0#0#1000"},{"$nulls":5},4,1000]
[null,null,"不要了",16,60,60,null,"不动",16,60,{"$f":"StoreConfig!J163","v":"16|0#0#0#60"},{"$nulls":5},23,3]
[null,null,"不要了",16,100,100,null,"不动",16,100,{"$f":"StoreConfig!J164","v":"16|0#0#0#100"},{"$nulls":5},23,5]
[null,null,"不要了",16,200,200,null,"不动",16,200,{"$f":"StoreConfig!J165","v":"16|0#0#0#200"},{"$nulls":5},23,10]
[null,null,"不要了",16,6000,6000,null,"不动",16,6000,{"$f":"StoreConfig!J166","v":"16|0#0#0#6000"},{"$nulls":5},12009,50]
[null,null,"不要了",16,6000,6000,null,"不动",16,6000,{"$f":"StoreConfig!J167","v":"16|0#0#0#6000"},{"$nulls":5},12011,50]
[null,null,"不要了",16,6000,6000,null,"不动",16,6000,{"$f":"StoreConfig!J168","v":"16|0#0#0#6000"},{"$nulls":5},12008,50]
[null,null,"不要了",16,6000,6000,null,"不动",16,6000,{"$f":"StoreConfig!J169","v":"16|0#0#0#6000"},{"$nulls":5},12010,50]
[null,null,"不要了",16,6000,6000,null,"不动",16,6000,{"$f":"StoreConfig!J170","v":"16|0#0#0#6000"},{"$nulls":5},12013,50]
[null,null,"不要了",14,500000,100,null,"不动",14,500000,{"$f":"StoreConfig!J171","v":"14|0#0#0#500000"},{"$nulls":5},3,100000]
[null,null,"不要了",14,1000000,200,null,"不动",14,1000000,{"$f":"StoreConfig!J172","v":"14|0#0#0#1000000"},{"$nulls":5},3,200000]
[null,null,"不要了",14,2000000,400,null,"不动",14,2000000,{"$f":"StoreConfig!J173","v":"14|0#0#0#2000000"},{"$nulls":5},3,400000]
[null,null,"不要了",14,300000,60,null,"不动",14,300000,{"$f":"StoreConfig!J174","v":"14|0#0#0#300000"},{"$nulls":5},23,3]
[null,null,"不要了",14,500000,100,null,"不动",14,500000,{"$f":"StoreConfig!J175","v":"14|0#0#0#500000"},{"$nulls":5},23,5]
[null,null,"不要了",14,1000000,200,null,"不动",14,1000000,{"$f":"StoreConfig!J176","v":"14|0#0#0#1000000"},{"$nulls":5},23,10]
[null,null,"不要了",14,2500000,500,null,"不动",14,2500000,{"$f":"StoreConfig!J177","v":"14|0#0#0#2500000"},{"$nulls":5},4,500]
[null,null,"不要了",14,5000000,1000,null,"不动",14,5000000,{"$f":"StoreConfig!J178","v":"14|0#0#0#5000000"},{"$nulls":5},4,1000]
[null,null,"不要了",16,100,100,null,"不动",16,100,{"$f":"StoreConfig!J179","v":"16|0#0#0#100"},{"$nulls":5},3,100000]
[null,null,"不要了",16,200,200,null,"不动",16,200,{"$f":"StoreConfig!J180","v":"16|0#0#0#200"},{"$nulls":5},3,200000]
[null,null,"不要了",16,400,400,null,"不动",16,400,{"$f":"StoreConfig!J181","v":"16|0#0#0#400"},{"$nulls":5},3,400000]
[null,null,"不要了",16,2500,2500,null,"不动",16,2500,{"$f":"StoreConfig!J182","v":"16|0#0#0#2500"},{"$nulls":5},20,1]
[null,null,"不要了",16,2500,2500,null,"不动",16,2500,{"$f":"StoreConfig!J183","v":"16|0#0#0#2500"},{"$nulls":5},20,1]
[null,null,"不要了",16,250,250,null,"不动",16,250,{"$f":"StoreConfig!J184","v":"16|0#0#0#250"},{"$nulls":5},19,1]
[null,null,"不要了",16,750,750,null,"不动",16,750,{"$f":"StoreConfig!J185","v":"16|0#0#0#750"},{"$nulls":5},19,3]
[null,null,"不要了",16,1250,1250,null,"不动",16,1250,{"$f":"StoreConfig!J186","v":"16|0#0#0#1250"},{"$nulls":5},19,5]
[null,null,"不要了",16,12,150,null,"不动",16,150,{"$f":"StoreConfig!J187","v":"16|0#0#0#150"},{"$nulls":4},{"$f":"R186*50","v":150},60,3]
[null,null,"不要了",16,20,250,null,"不动",16,250,{"$f":"StoreConfig!J188","v":"16|0#0#0#250"},{"$nulls":4},250,60,5]
[null,null,"不要了",16,40,500,null,"不动",16,500,{"$f":"StoreConfig!J189","v":"16|0#0#0#500"},{"$nulls":4},500,60,10]
[null,null,"不要了",16,500,500,null,"不动",16,500,{"$f":"StoreConfig!J190","v":"16|0#0#0#500"},{"$nulls":5},4,500]
[null,null,"不要了",16,1000,1000,null,"不动",16,1000,{"$f":"StoreConfig!J191","v":"16|0#0#0#1000"},{"$nulls":5},4,1000]
[null,null,"不要了",16,60,60,null,"不动",16,60,{"$f":"StoreConfig!J192","v":"16|0#0#0#60"},{"$nulls":5},23,3]
[null,null,"不要了",16,100,100,null,"不动",16,100,{"$f":"StoreConfig!J193","v":"16|0#0#0#100"},{"$nulls":5},23,5]
[null,null,"不要了",16,200,200,null,"不动",16,200,{"$f":"StoreConfig!J194","v":"16|0#0#0#200"},{"$nulls":5},23,10]
[null,null,"不要了",16,6000,6000,null,"不动",16,6000,{"$f":"StoreConfig!J195","v":"16|0#0#0#6000"},{"$nulls":5},12009,50]
[null,null,"不要了",16,6000,6000,null,"不动",16,6000,{"$f":"StoreConfig!J196","v":"16|0#0#0#6000"},{"$nulls":5},12011,50]
[null,null,"不要了",16,6000,6000,null,"不动",16,6000,{"$f":"StoreConfig!J197","v":"16|0#0#0#6000"},{"$nulls":5},12008,50]
[null,null,"不要了",16,6000,6000,null,"不动",16,6000,{"$f":"StoreConfig!J198","v":"16|0#0#0#6000"},{"$nulls":5},12010,50]
[null,null,"不要了",16,6000,6000,null,"不动",16,6000,{"$f":"StoreConfig!J199","v":"16|0#0#0#6000"},{"$nulls":5},12013,50]
[null,null,"不要了",14,500000,100,null,"不动",14,500000,{"$f":"StoreConfig!J200","v":"14|0#0#0#500000"},{"$nulls":5},3,100000]
[null,null,"不要了",14,1000000,200,null,"不动",14,1000000,{"$f":"StoreConfig!J201","v":"14|0#0#0#1000000"},{"$nulls":5},3,200000]
[null,null,"不要了",14,2000000,400,null,"不动",14,2000000,{"$f":"StoreConfig!J202","v":"14|0#0#0#2000000"},{"$nulls":5},3,400000]
[null,null,"不要了",14,300000,60,null,"不动",14,300000,{"$f":"StoreConfig!J203","v":"14|0#0#0#300000"},{"$nulls":5},23,3]
[null,null,"不要了",14,500000,100,null,"不动",14,500000,{"$f":"StoreConfig!J204","v":"14|0#0#0#500000"},{"$nulls":5},23,5]
[null,null,"不要了",14,1000000,200,null,"不动",14,1000000,{"$f":"StoreConfig!J205","v":"14|0#0#0#1000000"},{"$nulls":5},23,10]
[null,null,"不要了",14,2500000,500,null,"不动",14,2500000,{"$f":"StoreConfig!J206","v":"14|0#0#0#2500000"},{"$nulls":5},4,500]
[null,null,"不要了",14,5000000,1000,null,"不动",14,5000000,{"$f":"StoreConfig!J207","v":"14|0#0#0#5000000"},{"$nulls":5},4,1000]
[null,null,"不要了",16,100,100,null,"不动",16,100,{"$f":"StoreConfig!J208","v":"16|0#0#0#100"},{"$nulls":5},3,100000]
[null,null,"不要了",16,200,200,null,"不动",16,200,{"$f":"StoreConfig!J209","v":"16|0#0#0#200"},{"$nulls":5},3,200000]
[null,null,"不要了",16,400,400,null,"不动",16,400,{"$f":"StoreConfig!J210","v":"16|0#0#0#400"},{"$nulls":5},3,400000]
[null,null,"不要了",16,2500,2500,null,"不动",16,2500,{"$f":"StoreConfig!J211","v":"16|0#0#0#2500"},{"$nulls":5},20,1]
[null,null,"不要了",16,2500,2500,null,"不动",16,2500,{"$f":"StoreConfig!J212","v":"16|0#0#0#2500"},{"$nulls":5},20,1]
[null,null,"不要了",16,250,250,null,"不动",16,250,{"$f":"StoreConfig!J213","v":"16|0#0#0#250"},{"$nulls":5},19,1]
[null,null,"不要了",16,750,750,null,"不动",16,750,{"$f":"StoreConfig!J214","v":"16|0#0#0#750"},{"$nulls":5},19,3]
[null,null,"不要了",16,1250,1250,null,"不动",16,1250,{"$f":"StoreConfig!J215","v":"16|0#0#0#1250"},{"$nulls":5},19,5]
[null,null,"不要了",16,12,150,null,"不动",16,150,{"$f":"StoreConfig!J216","v":"16|0#0#0#150"},{"$nulls":4},{"$f":"R215*50","v":150},60,3]
[null,null,"不要了",16,20,250,null,"不动",16,250,{"$f":"StoreConfig!J217","v":"16|0#0#0#250"},{"$nulls":4},250,60,5]
[null,null,"不要了",16,40,500,null,"不动",16,500,{"$f":"StoreConfig!J218","v":"16|0#0#0#500"},{"$nulls":4},500,60,10]
[null,null,"不要了",16,500,500,null,"不动",16,500,{"$f":"StoreConfig!J219","v":"16|0#0#0#500"},{"$nulls":5},4,500]
[null,null,"不要了",16,1000,1000,null,"不动",16,1000,{"$f":"StoreConfig!J220","v":"16|0#0#0#1000"},{"$nulls":5},4,1000]
[null,null,"不要了",16,60,60,null,"不动",16,60,{"$f":"StoreConfig!J221","v":"16|0#0#0#60"},{"$nulls":5},23,3]
[null,null,"不要了",16,100,100,null,"不动",16,100,{"$f":"StoreConfig!J222","v":"16|0#0#0#100"},{"$nulls":5},23,5]
[null,null,"不要了",16,200,200,null,"不动",16,200,{"$f":"StoreConfig!J223","v":"16|0#0#0#200"},{"$nulls":5},23,10]
[null,null,"不要了",16,6000,6000,null,"不动",16,6000,{"$f":"StoreConfig!J224","v":"16|0#0#0#6000"},{"$nulls":5},12009,50]
[null,null,"不要了",16,6000,6000,null,"不动",16,6000,{"$f":"StoreConfig!J225","v":"16|0#0#0#6000"},{"$nulls":5},12011,50]
[null,null,"不要了",16,6000,6000,null,"不动",16,6000,{"$f":"StoreConfig!J226","v":"16|0#0#0#6000"},{"$nulls":5},12008,50]
[null,null,"不要了",16,6000,6000,null,"不动",16,6000,{"$f":"StoreConfig!J227","v":"16|0#0#0#6000"},{"$nulls":5},12010,50]
[null,null,"不要了",16,6000,6000,null,"不动",16,6000,{"$f":"StoreConfig!J228","v":"16|0#0#0#6000"},{"$nulls":5},12013,50]
[null,null,"不要了",14,500000,100,null,"不动",14,500000,{"$f":"StoreConfig!J229","v":"14|0#0#0#500000"},{"$nulls":5},3,100000]
[null,null,"不要了",14,1000000,200,null,"不动",14,1000000,{"$f":"StoreConfig!J230","v":"14|0#0#0#1000000"},{"$nulls":5},3,200000]
[null,null,"不要了",14,2000000,400,null,"不动",14,2000000,{"$f":"StoreConfig!J231","v":"14|0#0#0#2000000"},{"$nulls":5},3,400000]
[null,null,"不要了",14,300000,60,null,"不动",14,300000,{"$f":"StoreConfig!J232","v":"14|0#0#0#300000"},{"$nulls":5},23,3]
[null,null,"不要了",14,500000,100,null,"不动",14,500000,{"$f":"StoreConfig!J233","v":"14|0#0#0#500000"},{"$nulls":5},23,5]
[null,null,"不要了",14,1000000,200,null,"不动",14,1000000,{"$f":"StoreConfig!J234","v":"14|0#0#0#1000000"},{"$nulls":5},23,10]
[null,null,"不要了",14,2500000,500,null,"不动",14,2500000,{"$f":"StoreConfig!J235","v":"14|0#0#0#2500000"},{"$nulls":5},4,500]
[null,null,"不要了",14,5000000,1000,null,"不动",14,5000000,{"$f":"StoreConfig!J236","v":"14|0#0#0#5000000"},{"$nulls":5},4,1000]
[{"$nulls":3},24,960,4375,null,"不动",24,3500,{"$f":"StoreConfig!J237","v":"24|0#0#0#3500"},{"$nulls":5},12008,10]
[{"$nulls":3},24,960,4375,null,"不动",24,3500,{"$f":"StoreConfig!J238","v":"24|0#0#0#3500"},{"$nulls":5},12011,10]
[{"$nulls":3},24,960,4375,null,"不动",24,3500,{"$f":"StoreConfig!J239","v":"24|0#0#0#3500"},{"$nulls":5},12009,10]
[{"$nulls":3},24,960,4375,null,"不动",24,3500,{"$f":"StoreConfig!J240","v":"24|0#0#0#3500"},{"$nulls":5},12010,10]
[{"$nulls":3},24,2000,2500,null,"不动",24,2000,{"$f":"StoreConfig!J241","v":"24|0#0#0#2000"},{"$nulls":5},20,1]
[{"$nulls":3},24,80,312.5,null,"不动",24,250,{"$f":"StoreConfig!J242","v":"24|0#0#0#80"},{"$nulls":5},4,100]
[{"$nulls":3},24,1600,5000,null,"不动",24,4000,{"$f":"StoreConfig!J243","v":"24|0#0#0#4000"},{"$nulls":5},11006,10]
[{"$nulls":3},24,1600,5000,null,"不动",24,4000,{"$f":"StoreConfig!J244","v":"24|0#0#0#4000"},{"$nulls":5},11077,10]
[{"$nulls":3},24,1600,5000,null,"不动",24,4000,{"$f":"StoreConfig!J245","v":"24|0#0#0#4000"},{"$nulls":5},11009,10]
[{"$nulls":3},24,1600,5000,null,"不动",24,4000,{"$f":"StoreConfig!J246","v":"24|0#0#0#4000"},{"$nulls":5},11041,10]
[{"$nulls":3},24,800,1250,null,"不动",24,1000,{"$f":"StoreConfig!J247","v":"24|0#0#0#1000"},{"$nulls":5},48,1]
[null,null,"不要了",86,2000,40,null,1,86,100,{"$f":"StoreConfig!J248","v":"86|0#0#0#100"},{"$nulls":5},12002,40]
[null,null,"不要了",86,2000,40,null,1,86,100,{"$f":"StoreConfig!J249","v":"86|0#0#0#100"},{"$nulls":5},12003,40]
[null,null,"不要了",86,2000,40,null,1,86,100,{"$f":"StoreConfig!J250","v":"86|0#0#0#100"},{"$nulls":5},12004,40]
[null,null,"不要了",86,2000,40,null,1,86,100,{"$f":"StoreConfig!J251","v":"86|0#0#0#100"},{"$nulls":5},12005,40]
[null,null,"不要了",86,15000,320,null,1,86,800,{"$f":"StoreConfig!J252","v":"86|0#0#0#800"},{"$nulls":5},12013,50]
[null,null,"不要了",86,15000,320,null,1,86,800,{"$f":"StoreConfig!J253","v":"86|0#0#0#800"},{"$nulls":5},12008,50]
[null,null,"不要了",86,15000,320,null,1,86,800,{"$f":"StoreConfig!J254","v":"86|0#0#0#800"},{"$nulls":5},12009,50]
[null,null,"不要了",86,15000,320,null,1,86,800,{"$f":"StoreConfig!J255","v":"86|0#0#0#800"},{"$nulls":5},12010,50]
[null,null,"不要了",86,15000,320,null,1,86,800,{"$f":"StoreConfig!J256","v":"86|0#0#0#800"},{"$nulls":5},12011,50]
[null,null,"不要了",86,25000,400,null,1,86,1000,{"$f":"StoreConfig!J257","v":"86|0#0#0#1000"},{"$nulls":5},11022,50]
[null,null,"不要了",86,20000,800,null,1,86,2000,{"$f":"StoreConfig!J258","v":"86|0#0#0#2000"},{"$nulls":5},11004,50]
[null,null,"不要了",86,20000,1200,null,2,86,3000,{"$f":"StoreConfig!J259","v":"86|0#0#0#3000"},{"$nulls":5},11015,50]
[null,null,"不要了",25,{"$error":"#N/A"},300000,null,"不动",25,1500,{"$f":"StoreConfig!J260","v":"25|0#0#0#1500"},{"$nulls":5},90201,1]
[null,null,"不要了",25,{"$error":"#N/A"},300000,null,"不动",25,1500,{"$f":"StoreConfig!J261","v":"25|0#0#0#1500"},{"$nulls":5},90202,1]
[null,null,"不要了",25,{"$error":"#N/A"},300000,null,"不动",25,1500,{"$f":"StoreConfig!J262","v":"25|0#0#0#1500"},{"$nulls":5},90203,1]
[null,null,"不要了",25,{"$error":"#N/A"},300000,null,"不动",25,1500,{"$f":"StoreConfig!J263","v":"25|0#0#0#1500"},{"$nulls":5},90204,1]
[null,null,"不要了",25,{"$error":"#N/A"},300000,null,"不动",25,1500,{"$f":"StoreConfig!J264","v":"25|0#0#0#1500"},{"$nulls":5},90205,1]
[null,null,"不要了",25,{"$error":"#N/A"},300000,null,"不动",25,1500,{"$f":"StoreConfig!J265","v":"25|0#0#0#1500"},{"$nulls":5},90201,1]
[null,null,"不要了",25,{"$error":"#N/A"},300000,null,"不动",25,1500,{"$f":"StoreConfig!J266","v":"25|0#0#0#1500"},{"$nulls":5},90202,1]
[null,null,"不要了",25,{"$error":"#N/A"},300000,null,"不动",25,1500,{"$f":"StoreConfig!J267","v":"25|0#0#0#1500"},{"$nulls":5},90203,1]
[null,null,"不要了",25,{"$error":"#N/A"},300000,null,"不动",25,1500,{"$f":"StoreConfig!J268","v":"25|0#0#0#1500"},{"$nulls":5},90204,1]
[null,null,"不要了",25,{"$error":"#N/A"},300000,null,"不动",25,1500,{"$f":"StoreConfig!J269","v":"25|0#0#0#1500"},{"$nulls":5},90205,1]
[null,null,"不要了",25,{"$error":"#N/A"},300000,null,"不动",25,1500,{"$f":"StoreConfig!J270","v":"25|0#0#0#1500"},{"$nulls":5},90201,1]
[null,null,"不要了",25,{"$error":"#N/A"},300000,null,"不动",25,1500,{"$f":"StoreConfig!J271","v":"25|0#0#0#1500"},{"$nulls":5},90202,1]
[null,null,"不要了",25,{"$error":"#N/A"},300000,null,"不动",25,1500,{"$f":"StoreConfig!J272","v":"25|0#0#0#1500"},{"$nulls":5},90203,1]
[null,null,"不要了",25,{"$error":"#N/A"},300000,null,"不动",25,1500,{"$f":"StoreConfig!J273","v":"25|0#0#0#1500"},{"$nulls":5},90204,1]
[null,null,"不要了",25,{"$error":"#N/A"},300000,null,"不动",25,1500,{"$f":"StoreConfig!J274","v":"25|0#0#0#1500"},{"$nulls":5},90205,1]
[null,null,"不要了",25,{"$error":"#N/A"},2400000,null,"不动",25,12000,{"$f":"StoreConfig!J275","v":"25|0#0#0#12000"},{"$nulls":5},90401,1]
[null,null,"不要了",25,{"$error":"#N/A"},2400000,null,"不动",25,12000,{"$f":"StoreConfig!J276","v":"25|0#0#0#12000"},{"$nulls":5},90402,1]
[null,null,"不要了",25,{"$error":"#N/A"},2400000,null,"不动",25,12000,{"$f":"StoreConfig!J277","v":"25|0#0#0#12000"},{"$nulls":5},90403,1]
[null,null,"不要了",25,{"$error":"#N/A"},2400000,null,"不动",25,12000,{"$f":"StoreConfig!J278","v":"25|0#0#0#12000"},{"$nulls":5},90404,1]
[null,null,"不要了",25,{"$error":"#N/A"},2400000,null,"不动",25,12000,{"$f":"StoreConfig!J279","v":"25|0#0#0#12000"},{"$nulls":5},90405,1]
[null,null,"不要了",25,{"$error":"#N/A"},2400000,null,"不动",25,12000,{"$f":"StoreConfig!J280","v":"25|0#0#0#12000"},{"$nulls":5},90406,1]
[null,null,"不要了",25,{"$error":"#N/A"},2400000,null,"不动",25,12000,{"$f":"StoreConfig!J281","v":"25|0#0#0#12000"},{"$nulls":5},90401,1]
[null,null,"不要了",25,{"$error":"#N/A"},2400000,null,"不动",25,12000,{"$f":"StoreConfig!J282","v":"25|0#0#0#12000"},{"$nulls":5},90402,1]
[null,null,"不要了",25,{"$error":"#N/A"},2400000,null,"不动",25,12000,{"$f":"StoreConfig!J283","v":"25|0#0#0#12000"},{"$nulls":5},90403,1]
[null,null,"不要了",25,{"$error":"#N/A"},2400000,null,"不动",25,12000,{"$f":"StoreConfig!J284","v":"25|0#0#0#12000"},{"$nulls":5},90404,1]
[null,null,"不要了",25,{"$error":"#N/A"},2400000,null,"不动",25,12000,{"$f":"StoreConfig!J285","v":"25|0#0#0#12000"},{"$nulls":5},90405,1]
[null,null,"不要了",25,{"$error":"#N/A"},2400000,null,"不动",25,12000,{"$f":"StoreConfig!J286","v":"25|0#0#0#12000"},{"$nulls":5},90406,1]
[null,null,"不要了",25,{"$error":"#N/A"},2400000,null,"不动",25,12000,{"$f":"StoreConfig!J287","v":"25|0#0#0#12000"},{"$nulls":5},90403,1]
[null,null,"不要了",25,{"$error":"#N/A"},2400000,null,"不动",25,12000,{"$f":"StoreConfig!J288","v":"25|0#0#0#12000"},{"$nulls":5},90404,1]
[null,null,"不要了",25,{"$error":"#N/A"},2400000,null,"不动",25,12000,{"$f":"StoreConfig!J289","v":"25|0#0#0#12000"},{"$nulls":5},90405,1]
[null,null,"不要了",25,{"$error":"#N/A"},2400000,null,"不动",25,12000,{"$f":"StoreConfig!J290","v":"25|0#0#0#12000"},{"$nulls":5},90406,1]
[null,null,"不要了",25,{"$error":"#N/A"},2400000,null,"不动",25,12000,{"$f":"StoreConfig!J291","v":"25|0#0#0#12000"},{"$nulls":5},90401,1]
[null,null,"不要了",25,{"$error":"#N/A"},2400000,null,"不动",25,12000,{"$f":"StoreConfig!J292","v":"25|0#0#0#12000"},{"$nulls":5},90402,1]
[null,null,"不要了",25,{"$error":"#N/A"},2400000,null,"不动",25,12000,{"$f":"StoreConfig!J293","v":"25|0#0#0#12000"},{"$nulls":5},90403,1]
[null,null,"不要了",25,{"$error":"#N/A"},2400000,null,"不动",25,12000,{"$f":"StoreConfig!J294","v":"25|0#0#0#12000"},{"$nulls":5},90404,1]
[null,null,"不要了",25,{"$error":"#N/A"},2400000,null,"不动",25,12000,{"$f":"StoreConfig!J295","v":"25|0#0#0#12000"},{"$nulls":5},90405,1]
[null,null,"不要了",25,{"$error":"#N/A"},2400000,null,"不动",25,12000,{"$f":"StoreConfig!J296","v":"25|0#0#0#12000"},{"$nulls":5},90406,1]
[null,null,"不要了",25,{"$error":"#N/A"},540000,null,"不动",25,2700,{"$f":"StoreConfig!J297","v":"25|0#0#0#2700"},{"$nulls":5},60122,1]
[null,null,"不要了",25,6,540000,null,"不动",25,2700,{"$f":"StoreConfig!J298","v":"25|0#0#0#2700"},{"$nulls":5},60127,1]
[null,null,"不要了",25,{"$error":"#N/A"},540000,null,"不动",25,2700,{"$f":"StoreConfig!J299","v":"25|0#0#0#2700"},{"$nulls":5},60132,1]
[null,null,"不要了",25,6,540000,null,"不动",25,2700,{"$f":"StoreConfig!J300","v":"25|0#0#0#2700"},{"$nulls":5},60137,1]
[null,null,"不要了",25,6,540000,null,"不动",25,2700,{"$f":"StoreConfig!J301","v":"25|0#0#0#2700"},{"$nulls":5},60142,1]
[null,null,"不要了",25,{"$error":"#N/A"},540000,null,"不动",25,2700,{"$f":"StoreConfig!J302","v":"25|0#0#0#2700"},{"$nulls":5},60147,1]
[null,null,"不要了",25,{"$error":"#N/A"},540000,null,"不动",25,2700,{"$f":"StoreConfig!J303","v":"25|0#0#0#2700"},{"$nulls":5},60152,1]
[null,null,"不要了",25,11,540000,null,"不动",25,2700,{"$f":"StoreConfig!J304","v":"25|0#0#0#2700"},{"$nulls":5},60103,1]
[null,null,"不要了",25,{"$error":"#N/A"},540000,null,"不动",25,2700,{"$f":"StoreConfig!J305","v":"25|0#0#0#2700"},{"$nulls":5},60108,1]
[null,null,"不要了",25,{"$error":"#N/A"},540000,null,"不动",25,2700,{"$f":"StoreConfig!J306","v":"25|0#0#0#2700"},{"$nulls":5},60113,1]
[null,null,"不要了",25,{"$error":"#N/A"},540000,null,"不动",25,2700,{"$f":"StoreConfig!J307","v":"25|0#0#0#2700"},{"$nulls":5},60118,1]
[null,null,"不要了",25,{"$error":"#N/A"},540000,null,"不动",25,2700,{"$f":"StoreConfig!J308","v":"25|0#0#0#2700"},{"$nulls":5},60123,1]
[null,null,"不要了",25,11,540000,null,"不动",25,2700,{"$f":"StoreConfig!J309","v":"25|0#0#0#2700"},{"$nulls":5},60103,1]
[null,null,"不要了",25,{"$error":"#N/A"},540000,null,"不动",25,2700,{"$f":"StoreConfig!J310","v":"25|0#0#0#2700"},{"$nulls":5},60108,1]
[null,null,"不要了",25,{"$error":"#N/A"},540000,null,"不动",25,2700,{"$f":"StoreConfig!J311","v":"25|0#0#0#2700"},{"$nulls":5},60113,1]
[null,null,"不要了",25,{"$error":"#N/A"},540000,null,"不动",25,2700,{"$f":"StoreConfig!J312","v":"25|0#0#0#2700"},{"$nulls":5},60118,1]
[null,null,"不要了",25,{"$error":"#N/A"},540000,null,"不动",25,2700,{"$f":"StoreConfig!J313","v":"25|0#0#0#2700"},{"$nulls":5},60123,1]
[null,null,"不要了",25,11,540000,null,"不动",25,2700,{"$f":"StoreConfig!J314","v":"25|0#0#0#2700"},{"$nulls":5},60103,1]
[null,null,"不要了",25,{"$error":"#N/A"},540000,null,"不动",25,2700,{"$f":"StoreConfig!J315","v":"25|0#0#0#2700"},{"$nulls":5},60108,1]
[null,null,"不要了",25,{"$error":"#N/A"},540000,null,"不动",25,2700,{"$f":"StoreConfig!J316","v":"25|0#0#0#2700"},{"$nulls":5},60113,1]
[null,null,"不要了",25,{"$error":"#N/A"},540000,null,"不动",25,2700,{"$f":"StoreConfig!J317","v":"25|0#0#0#2700"},{"$nulls":5},60118,1]
[null,null,"不要了",25,{"$error":"#N/A"},540000,null,"不动",25,2700,{"$f":"StoreConfig!J318","v":"25|0#0#0#2700"},{"$nulls":5},60123,1]
[null,null,"不要了",25,11,540000,null,"不动",25,2700,{"$f":"StoreConfig!J319","v":"25|0#0#0#2700"},{"$nulls":5},60103,1]
[null,null,"不要了",25,{"$error":"#N/A"},540000,null,"不动",25,2700,{"$f":"StoreConfig!J320","v":"25|0#0#0#2700"},{"$nulls":5},60108,1]
[null,null,"不要了",25,{"$error":"#N/A"},540000,null,"不动",25,2700,{"$f":"StoreConfig!J321","v":"25|0#0#0#2700"},{"$nulls":5},60113,1]
[null,null,"不要了",25,{"$error":"#N/A"},540000,null,"不动",25,2700,{"$f":"StoreConfig!J322","v":"25|0#0#0#2700"},{"$nulls":5},60118,1]
[null,null,"不要了",25,{"$error":"#N/A"},540000,null,"不动",25,2700,{"$f":"StoreConfig!J323","v":"25|0#0#0#2700"},{"$nulls":5},60123,1]
[null,null,"不要了",25,{"$error":"#N/A"},540000,null,"不动",25,2700,{"$f":"StoreConfig!J324","v":"25|0#0#0#2700"},{"$nulls":5},60123,1]
[null,null,"不要了",25,{"$error":"#N/A"},1600000,null,"不动",25,8000,{"$f":"StoreConfig!J325","v":"25|0#0#0#8000"},{"$nulls":5},3023,1]
[null,null,"不要了",25,{"$error":"#N/A"},1600000,null,"不动",25,8000,{"$f":"StoreConfig!J326","v":"25|0#0#0#8000"},{"$nulls":5},3024,1]
[null,null,"不要了",25,{"$error":"#N/A"},1600000,null,"不动",25,8000,{"$f":"StoreConfig!J327","v":"25|0#0#0#8000"},{"$nulls":5},3025,1]
[null,null,"不要了",25,{"$error":"#N/A"},1600000,null,"不动",25,8000,{"$f":"StoreConfig!J328","v":"25|0#0#0#8000"},{"$nulls":5},3026,1]
[null,null,"不要了",25,{"$error":"#N/A"},1600000,null,"不动",25,8000,{"$f":"StoreConfig!J329","v":"25|0#0#0#8000"},{"$nulls":5},3027,1]
[null,null,"不要了",25,{"$error":"#N/A"},1600000,null,"不动",25,8000,{"$f":"StoreConfig!J330","v":"25|0#0#0#8000"},{"$nulls":5},3028,1]
[null,null,"不要了",25,{"$error":"#N/A"},1600000,null,"不动",25,8000,{"$f":"StoreConfig!J331","v":"25|0#0#0#8000"},{"$nulls":5},3029,1]
[null,null,"不要了",25,{"$error":"#N/A"},1600000,null,"不动",25,8000,{"$f":"StoreConfig!J332","v":"25|0#0#0#8000"},{"$nulls":5},3030,1]
[null,null,"不要了",25,{"$error":"#N/A"},1600000,null,"不动",25,8000,{"$f":"StoreConfig!J333","v":"25|0#0#0#8000"},{"$nulls":5},3031,1]
[null,null,"不要了",25,{"$error":"#N/A"},1600000,null,"不动",25,8000,{"$f":"StoreConfig!J334","v":"25|0#0#0#8000"},{"$nulls":5},3032,1]
[null,null,"不要了",25,{"$error":"#N/A"},1600000,null,"不动",25,8000,{"$f":"StoreConfig!J335","v":"25|0#0#0#8000"},{"$nulls":5},3033,1]
[null,null,"不要了",25,{"$error":"#N/A"},1600000,null,"不动",25,8000,{"$f":"StoreConfig!J336","v":"25|0#0#0#8000"},{"$nulls":5},3034,1]
[null,null,"不要了",25,{"$error":"#N/A"},1600000,null,"不动",25,8000,{"$f":"StoreConfig!J337","v":"25|0#0#0#8000"},{"$nulls":5},3035,1]
[null,null,"不要了",25,{"$error":"#N/A"},1600000,null,"不动",25,8000,{"$f":"StoreConfig!J338","v":"25|0#0#0#8000"},{"$nulls":5},3036,1]
[null,null,"不要了",25,{"$error":"#N/A"},1600000,null,"不动",25,8000,{"$f":"StoreConfig!J339","v":"25|0#0#0#8000"},{"$nulls":5},3037,1]
[null,null,"不要了",25,{"$error":"#N/A"},1600000,null,"不动",25,8000,{"$f":"StoreConfig!J340","v":"25|0#0#0#8000"},{"$nulls":5},3038,1]
[null,null,"不要了",25,{"$error":"#N/A"},1600000,null,"不动",25,8000,{"$f":"StoreConfig!J341","v":"25|0#0#0#8000"},{"$nulls":5},3039,1]
[null,null,"不要了",25,{"$error":"#N/A"},1600000,null,"不动",25,8000,{"$f":"StoreConfig!J342","v":"25|0#0#0#8000"},{"$nulls":5},3040,1]
[null,null,"15改成16",16,5,50,null,"不动",16,"50#50#50#50",{"$f":"StoreConfig!J343","v":"16|50#50#50#50"},{"$nulls":5},14,25000]
[null,null,"15改成16",16,10,100,null,"不动",16,"100#100#100#100",{"$f":"StoreConfig!J344","v":"16|100#100#100#100"},{"$nulls":5},14,50000]
[null,null,"15改成16",16,20,200,null,"不动",16,"200#200#200#200",{"$f":"StoreConfig!J345","v":"16|200#200#200#200"},{"$nulls":5},14,100000]
[null,null,"15改成16",16,2150,50,null,1,16,"50#50#50#50",{"$f":"D345&$M$6&E345&$L$6&E345&$L$6&E345&$L$6&E345","v":"16|2150#2150#2150#2150"},{"$nulls":5},60128,1]
[null,null,"不处理",16,{"$error":"#N/A"},100,null,"不动",16,"100#100#100#100",{"$f":"StoreConfig!J347","v":"16|100#100#100#100"},{"$nulls":5},60148,1]
[null,null,"不处理",16,{"$error":"#N/A"},200,null,"不动",16,"200#200#200#200",{"$f":"StoreConfig!J348","v":"16|200#200#200#200"},{"$nulls":5},60153,1]
[null,null,"不处理",16,{"$error":"#N/A"},50,null,"不动",16,"50#50#50#50",{"$f":"StoreConfig!J349","v":"16|50#50#50#50"},{"$nulls":5},6001,1]
[null,null,"不处理",16,{"$error":"#N/A"},100,null,"不动",16,"100#100#100#100",{"$f":"StoreConfig!J350","v":"16|100#100#100#100"},{"$nulls":5},6002,1]
[null,null,"不处理",16,{"$error":"#N/A"},200,null,"不动",16,"200#200#200#200",{"$f":"StoreConfig!J351","v":"16|200#200#200#200"},{"$nulls":5},6003,1]
[null,null,"15改成16",16,12500,50,null,1,16,"50#50#50#50",{"$f":"D351&$M$6&E351&$L$6&E351&$L$6&E351&$L$6&E351","v":"16|12500#12500#12500#12500"},{"$nulls":5},20,"5|16",100]
[null,null,"15改成16",16,25000,100,null,1,16,"100#100#100#100",{"$f":"D352&$M$6&E352&$L$6&E352&$L$6&E352&$L$6&E352","v":"16|25000#25000#25000#25000"},{"$nulls":5},20,"10|16",200]
[null,null,"15改成16",16,50000,200,null,1,16,"200#200#200#200",{"$f":"D353&$M$6&E353&$L$6&E353&$L$6&E353&$L$6&E353","v":"16|50000#50000#50000#50000"},{"$nulls":5},20,"20|16",400]
[null,null,"未处理",16,{"$error":"#VALUE!"},50,null,"不动",16,"50#50#50#50",{"$f":"StoreConfig!J355","v":"16|50#50#50#50"},{"$nulls":5},21,"5|16",100]
[null,null,"未处理",16,{"$error":"#VALUE!"},100,null,"不动",16,"100#100#100#100",{"$f":"StoreConfig!J356","v":"16|100#100#100#100"},{"$nulls":5},21,"10|16",200]
[null,null,"未处理",16,{"$error":"#VALUE!"},200,null,"不动",16,"200#200#200#200",{"$f":"StoreConfig!J357","v":"16|200#200#200#200"},{"$nulls":5},21,"20|16",400]
[null,null,"15改成16",16,5,50,null,"不动",16,"50#50#50#50",{"$f":"StoreConfig!J358","v":"16|50#50#50#50"},{"$nulls":5},14,25000]
[null,null,"15改成16",16,10,100,null,"不动",16,"100#100#100#100",{"$f":"StoreConfig!J359","v":"16|100#100#100#100"},{"$nulls":5},14,50000]
[null,null,"15改成16",16,20,200,null,"不动",16,"200#200#200#200",{"$f":"StoreConfig!J360","v":"16|200#200#200#200"},{"$nulls":5},14,100000]
[null,null,"15改成16",16,5,50,null,"不动",16,"50#50#50#50",{"$f":"StoreConfig!J361","v":"16|50#50#50#50"},{"$nulls":5},14,25000]
[null,null,"15改成16",16,10,100,null,"不动",16,"100#100#100#100",{"$f":"StoreConfig!J362","v":"16|100#100#100#100"},{"$nulls":5},14,50000]
[null,null,"15改成16",16,20,200,null,"不动",16,"200#200#200#200",{"$f":"StoreConfig!J363","v":"16|200#200#200#200"},{"$nulls":5},14,100000]
[null,null,"15改成16",16,2150,50,null,1,16,"50#50#50#50",{"$f":"D363&$M$6&E363&$L$6&E363&$L$6&E363&$L$6&E363","v":"16|2150#2150#2150#2150"},{"$nulls":5},60128,1]
[null,null,"不处理",16,{"$error":"#N/A"},100,null,"不动",16,"100#100#100#100",{"$f":"StoreConfig!J365","v":"16|100#100#100#100"},{"$nulls":5},60148,1]
[null,null,"不处理",16,{"$error":"#N/A"},200,null,"不动",16,"200#200#200#200",{"$f":"StoreConfig!J366","v":"16|200#200#200#200"},{"$nulls":5},60153,1]
[null,null,"不处理",16,{"$error":"#N/A"},50,null,"不动",16,"50#50#50#50",{"$f":"StoreConfig!J367","v":"16|50#50#50#50"},{"$nulls":5},6001,1]
[null,null,"不处理",16,{"$error":"#N/A"},100,null,"不动",16,"100#100#100#100",{"$f":"StoreConfig!J368","v":"16|100#100#100#100"},{"$nulls":5},6002,1]
[null,null,"不处理",16,{"$error":"#N/A"},200,null,"不动",16,"200#200#200#200",{"$f":"StoreConfig!J369","v":"16|200#200#200#200"},{"$nulls":5},6003,1]
[null,null,"15改成16",16,12500,50,null,1,16,"50#50#50#50",{"$f":"D369&$M$6&E369&$L$6&E369&$L$6&E369&$L$6&E369","v":"16|12500#12500#12500#12500"},{"$nulls":5},20,"5|16",100]
[null,null,"15改成16",16,25000,100,null,1,16,"100#100#100#100",{"$f":"D370&$M$6&E370&$L$6&E370&$L$6&E370&$L$6&E370","v":"16|25000#25000#25000#25000"},{"$nulls":5},20,"10|16",200]
[null,null,"15改成16",16,50000,200,null,1,16,"200#200#200#200",{"$f":"D371&$M$6&E371&$L$6&E371&$L$6&E371&$L$6&E371","v":"16|50000#50000#50000#50000"},{"$nulls":5},20,"20|16",400]
[null,null,"未处理",16,{"$error":"#VALUE!"},50,null,"不动",16,"50#50#50#50",{"$f":"StoreConfig!J373","v":"16|50#50#50#50"},{"$nulls":5},21,"5|16",100]
[null,null,"未处理",16,{"$error":"#VALUE!"},100,null,"不动",16,"100#100#100#100",{"$f":"StoreConfig!J374","v":"16|100#100#100#100"},{"$nulls":5},21,"10|16",200]
[null,null,"未处理",16,{"$error":"#VALUE!"},200,null,"不动",16,"200#200#200#200",{"$f":"StoreConfig!J375","v":"16|200#200#200#200"},{"$nulls":5},21,"20|16",400]
[null,null,"15改成16",16,5,50,null,"不动",16,"50#50#50#50",{"$f":"StoreConfig!J376","v":"16|50#50#50#50"},{"$nulls":5},14,25000]
[null,null,"15改成16",16,10,100,null,"不动",16,"100#100#100#100",{"$f":"StoreConfig!J377","v":"16|100#100#100#100"},{"$nulls":5},14,50000]
[null,null,"15改成16",16,20,200,null,"不动",16,"200#200#200#200",{"$f":"StoreConfig!J378","v":"16|200#200#200#200"},{"$nulls":5},14,100000]
[null,null,"15改成16",16,5,50,null,"不动",16,"50#50#50#50",{"$f":"StoreConfig!J379","v":"16|50#50#50#50"},{"$nulls":5},14,25000]
[null,null,"15改成16",16,10,100,null,"不动",16,"100#100#100#100",{"$f":"StoreConfig!J380","v":"16|100#100#100#100"},{"$nulls":5},14,50000]
[null,null,"15改成16",16,20,200,null,"不动",16,"200#200#200#200",{"$f":"StoreConfig!J381","v":"16|200#200#200#200"},{"$nulls":5},14,100000]
[null,null,"15改成16",16,2150,50,null,1,16,"50#50#50#50",{"$f":"D381&$M$6&E381&$L$6&E381&$L$6&E381&$L$6&E381","v":"16|2150#2150#2150#2150"},{"$nulls":5},60128,1]
[null,null,"不处理",16,{"$error":"#N/A"},100,null,"不动",16,"100#100#100#100",{"$f":"StoreConfig!J383","v":"16|100#100#100#100"},{"$nulls":5},60148,1]
[null,null,"不处理",16,{"$error":"#N/A"},200,null,"不动",16,"200#200#200#200",{"$f":"StoreConfig!J384","v":"16|200#200#200#200"},{"$nulls":5},60153,1]
[null,null,"不处理",16,{"$error":"#N/A"},50,null,"不动",16,"50#50#50#50",{"$f":"StoreConfig!J385","v":"16|50#50#50#50"},{"$nulls":5},6001,1]
[null,null,"不处理",16,{"$error":"#N/A"},100,null,"不动",16,"100#100#100#100",{"$f":"StoreConfig!J386","v":"16|100#100#100#100"},{"$nulls":5},6002,1]
[null,null,"不处理",16,{"$error":"#N/A"},200,null,"不动",16,"200#200#200#200",{"$f":"StoreConfig!J387","v":"16|200#200#200#200"},{"$nulls":5},6003,1]
[null,null,"未处理",16,{"$error":"#VALUE!"},50,null,"不动",16,"50#50#50#50",{"$f":"StoreConfig!J388","v":"16|50#50#50#50"},{"$nulls":5},21,"5|16",100]
[null,null,"未处理",16,{"$error":"#VALUE!"},100,null,"不动",16,"100#100#100#100",{"$f":"StoreConfig!J389","v":"16|100#100#100#100"},{"$nulls":5},21,"10|16",200]
[null,null,"未处理",16,{"$error":"#VALUE!"},200,null,"不动",16,"200#200#200#200",{"$f":"StoreConfig!J390","v":"16|200#200#200#200"},{"$nulls":5},21,"20|16",400]
[null,null,"15改成16",16,5,50,null,"不动",16,"50#50#50#50",{"$f":"StoreConfig!J391","v":"16|50#50#50#50"},{"$nulls":5},14,25000]
[null,null,"15改成16",16,10,100,null,"不动",16,"100#100#100#100",{"$f":"StoreConfig!J392","v":"16|100#100#100#100"},{"$nulls":5},14,50000]
[null,null,"15改成16",16,20,200,null,"不动",16,"200#200#200#200",{"$f":"StoreConfig!J393","v":"16|200#200#200#200"},{"$nulls":5},14,100000]
[{"$nulls":3},16,200,88,null,5,16,88,{"$f":"D393&$K$6&E393","v":"16|0#0#0#200"},{"$nulls":5},11006,"1|14","5000|3",200]
[null,null,"15改成16",16,4,0,null,0,16,0,{"$f":"D394&$K$6&E394","v":"16|0#0#0#4"},{"$nulls":4},{"$f":"R394*50","v":50},60,1]
[null,null,"不处理",16,{"$error":"#N/A"},980,null,"不动",16,980,{"$f":"StoreConfig!J396","v":"16|0#0#0#980"},{"$nulls":5},81,"1|19","5|4",200]
[null,null,"不处理",16,{"$error":"#N/A"},1980,null,"不动",16,1980,{"$f":"StoreConfig!J397","v":"16|0#0#0#1980"},{"$nulls":5},82,"1|20","1|19",10]
[{"$nulls":3},16,20,20,null,"不动",16,20,{"$f":"StoreConfig!J398","v":"16|0#0#0#20"},{"$nulls":5},4,20]
[{"$nulls":3},16,300,300,null,"不动",16,300,{"$f":"StoreConfig!J399","v":"16|0#0#0#300"},{"$nulls":5},4,300]
[{"$nulls":3},16,600,600,null,"不动",16,600,{"$f":"StoreConfig!J400","v":"16|0#0#0#600"},{"$nulls":5},11071,30]
[{"$nulls":3},16,20,50,null,"不动",16,50,{"$f":"StoreConfig!J401","v":"16|0#0#0#50"},{"$nulls":5},23,1]
[{"$nulls":3},16,600,600,null,"不动",16,600,{"$f":"StoreConfig!J402","v":"16|0#0#0#600"},{"$nulls":5},12012,30]
[{"$nulls":3},16,10000,10000,null,"不动",16,10000,{"$f":"StoreConfig!J403","v":"16|0#0#0#10000"},{"$nulls":5},20,4]
[{"$nulls":3},16,20,20,null,"不动",16,20,{"$f":"StoreConfig!J404","v":"16|0#0#0#20"},{"$nulls":5},80,1]
[{"$nulls":3},16,1000,1000,null,"不动",16,1000,{"$f":"StoreConfig!J405","v":"16|0#0#0#1000"},{"$nulls":5},19,4]
[{"$nulls":3},16,6000,5000,null,9,16,5000,{"$f":"D405&$K$6&E405","v":"16|0#0#0#6000"},{"$nulls":5},12013,50]
[{"$nulls":3},16,63,20,null,4,16,20,{"$f":"D406&$K$6&E406","v":"16|0#0#0#63"},{"$nulls":5},24,50]
[{"$nulls":3},16,2000,2000,null,"不动",16,2000,{"$f":"StoreConfig!J408","v":"16|0#0#0#2000"},{"$nulls":5},1001,20000]
[{"$nulls":3},16,5000,5000,null,"不动",16,5000,{"$f":"StoreConfig!J409","v":"16|0#0#0#5000"},{"$nulls":5},1001,50000]
[{"$nulls":3},16,4,50,null,"不动",16,50,{"$f":"StoreConfig!J410","v":"16|0#0#0#50"},{"$nulls":4},{"$f":"R409*50","v":50},60,1]
[{"$nulls":3},16,1000,1000,null,"不动",16,1000,{"$f":"StoreConfig!J411","v":"16|0#0#0#1000"},{"$nulls":5},19,4]
[{"$nulls":3},16,160,2000,null,"不动",16,2000,{"$f":"StoreConfig!J412","v":"16|0#0#0#2000"},{"$nulls":4},{"$f":"R411*50","v":2000},60,40]
[{"$nulls":3},16,20,20,null,"不动",16,20,{"$f":"StoreConfig!J413","v":"16|0#0#0#20"},{"$nulls":5},14,100000]
[{"$nulls":3},16,3000,3000,null,"不动",16,3000,{"$f":"StoreConfig!J414","v":"16|0#0#0#3000"},{"$nulls":5},5000016,1]
[{"$nulls":3},16,5000,5000,null,"不动",16,5000,{"$f":"StoreConfig!J415","v":"16|0#0#0#5000"},{"$nulls":5},61,5]
[{"$nulls":3},16,250,15,null,1,16,15,{"$f":"D415&$K$6&E415","v":"16|0#0#0#250"},{"$nulls":5},19,1]
[{"$nulls":3},16,8000,6000,null,8,16,6000,"16|0#0#0#8000",{"$nulls":5},81128,1]
[{"$nulls":3},16,6000,5000,null,9,16,5000,"16|0#0#0#6000",{"$nulls":5},12013,50]
[{"$nulls":3},67,1000,2000,null,3,67,250,"67|0#0#0#1000",{"$nulls":5},11013,50]
[{"$nulls":3},67,313,800,null,4,67,100,"67|0#0#0#313",{"$nulls":5},20,1]
[{"$nulls":3},67,31,80,null,4,67,10,"67|0#0#0#31",{"$nulls":5},19,1]
[{"$nulls":3},67,750,1600,null,3,67,200,"67|0#0#0#750",{"$nulls":5},12013,50]
[{"$nulls":3},67,125,400,null,4,67,50,"67|0#0#0#125",{"$nulls":5},61,1]
[{"$nulls":3},67,31,240,null,"不动",67,30,{"$f":"StoreConfig!J424","v":"67|0#0#0#30"},{"$nulls":5},19,1]
[{"$nulls":3},67,13,80,null,8,67,10,{"$f":"D424&$K$6&E424","v":"67|0#0#0#13"},{"$nulls":5},1001,1000]
[{"$nulls":3},67,1,8,null,8,67,1,{"$f":"D425&$K$6&E425","v":"67|0#0#0#1"},{"$nulls":5},4,10]
[{"$nulls":3},67,1,8,null,8,67,1,{"$f":"D426&$K$6&E426","v":"67|0#0#0#1"},{"$nulls":5},14,50000]
[{"$nulls":3},67,1,8,null,8,67,1,{"$f":"D427&$K$6&E427","v":"67|0#0#0#1"},{"$nulls":5},3,10000]
[{"$nulls":3},67,5,40,null,"不动",67,5,{"$f":"StoreConfig!J429","v":"67|0#0#0#62"},{"$nulls":4},{"$f":"R428*50","v":500},60,10]
[{"$nulls":3},67,1250,2000,null,2,67,250,{"$f":"D429&$K$6&E429","v":"67|0#0#0#1250"},{"$nulls":5},11008,50]
[{"$nulls":3},67,313,800,null,4,67,100,{"$f":"D430&$K$6&E430","v":"67|0#0#0#313"},{"$nulls":5},20,1]
[{"$nulls":3},67,31,80,null,4,67,10,{"$f":"D431&$K$6&E431","v":"67|0#0#0#31"},{"$nulls":5},19,1]
[{"$nulls":3},67,750,1600,null,3,67,200,{"$f":"D432&$K$6&E432","v":"67|0#0#0#750"},{"$nulls":5},12013,50]
[{"$nulls":3},67,125,400,null,4,67,50,{"$f":"D433&$K$6&E433","v":"67|0#0#0#125"},{"$nulls":5},61,1]
[{"$nulls":3},67,31,240,null,"不动",67,30,{"$f":"StoreConfig!J435","v":"67|0#0#0#30"},{"$nulls":5},19,1]
[{"$nulls":3},67,13,80,null,8,67,10,{"$f":"D435&$K$6&E435","v":"67|0#0#0#13"},{"$nulls":5},1001,1000]
[{"$nulls":3},67,1,8,null,8,67,1,{"$f":"D436&$K$6&E436","v":"67|0#0#0#1"},{"$nulls":5},4,10]
[{"$nulls":3},67,1,8,null,8,67,1,{"$f":"D437&$K$6&E437","v":"67|0#0#0#1"},{"$nulls":5},14,50000]
[{"$nulls":3},67,1,8,null,8,67,1,{"$f":"D438&$K$6&E438","v":"67|0#0#0#1"},{"$nulls":5},3,10000]
[{"$nulls":3},67,5,40,null,"不动",67,5,{"$f":"StoreConfig!J440","v":"67|0#0#0#60"},{"$nulls":4},{"$f":"R439*50","v":500},60,10]
[{"$nulls":3},67,1000,2400,null,3,67,300,{"$f":"D440&$K$6&E440","v":"67|0#0#0#1000"},{"$nulls":5},11016,50]
[{"$nulls":3},67,313,240,null,1,67,30,{"$f":"D441&$K$6&E441","v":"67|0#0#0#313"},{"$nulls":5},20,1]
[{"$nulls":3},67,125,280,null,3,67,35,{"$f":"D442&$K$6&E442","v":"67|0#0#0#125"},{"$nulls":5},61,1]
[{"$nulls":3},67,750,1920,null,4,67,240,{"$f":"D443&$K$6&E443","v":"67|0#0#0#750"},{"$nulls":5},12013,50]
[{"$nulls":3},67,31,120,null,5,67,15,{"$f":"D444&$K$6&E444","v":"67|0#0#0#31"},{"$nulls":5},19,1]
[null,null,"未处理",67,{"$error":"#VALUE!"},48,null,"不动",67,6,{"$f":"StoreConfig!J446","v":"67|0#0#0#25"},{"$nulls":4},{"$f":"R445*50","v":200},60,4]
[{"$nulls":3},67,1,24,null,"不动",67,3,{"$f":"StoreConfig!J447","v":"67|0#0#0#6"},{"$nulls":4},50,60,1]
[{"$nulls":3},67,25,48,null,3,67,6,{"$f":"D447&$K$6&E447","v":"67|0#0#0#25"},{"$nulls":5},12012,10]
[null,null,"未处理",67,{"$error":"#VALUE!"},24,null,"不动",67,3,{"$f":"StoreConfig!J449","v":"67|0#0#0#3"},{"$nulls":5},5,50]
[{"$nulls":3},67,6,16,null,4,67,2,{"$f":"D449&$K$6&E449","v":"67|0#0#0#6"},{"$nulls":5},4,50]
[{"$nulls":3},67,1,24,null,"不动",67,3,{"$f":"StoreConfig!J451","v":"67|0#0#0#3"},{"$nulls":5},14,30000]
[{"$nulls":3},67,1250,2400,null,3,67,300,{"$f":"D451&$K$6&E451","v":"67|0#0#0#1250"},{"$nulls":5},11009,50]
[{"$nulls":3},67,313,240,null,1,67,30,{"$f":"D452&$K$6&E452","v":"67|0#0#0#313"},{"$nulls":5},20,1]
[{"$nulls":3},67,125,280,null,3,67,35,{"$f":"D453&$K$6&E453","v":"67|0#0#0#125"},{"$nulls":5},61,1]
[{"$nulls":3},67,750,1920,null,4,67,240,{"$f":"D454&$K$6&E454","v":"67|0#0#0#750"},{"$nulls":5},12013,50]
[{"$nulls":3},67,31,120,null,5,67,15,{"$f":"D455&$K$6&E455","v":"67|0#0#0#31"},{"$nulls":5},19,1]
[null,null,"未处理",67,{"$error":"#VALUE!"},48,null,"不动",67,6,{"$f":"StoreConfig!J457","v":"67|0#0#0#62"},{"$nulls":4},{"$f":"R456*50","v":500},60,10]
[{"$nulls":3},67,1,24,null,"不动",67,3,{"$f":"StoreConfig!J458","v":"67|0#0#0#6"},{"$nulls":4},50,60,1]
[{"$nulls":3},67,25,48,null,3,67,6,{"$f":"D458&$K$6&E458","v":"67|0#0#0#25"},{"$nulls":5},12012,10]
[null,null,"未处理",67,{"$error":"#VALUE!"},24,null,"不动",67,3,{"$f":"StoreConfig!J460","v":"67|0#0#0#3"},{"$nulls":5},5,50]
[{"$nulls":3},67,6,16,null,4,67,2,{"$f":"D460&$K$6&E460","v":"67|0#0#0#6"},{"$nulls":5},4,50]
[{"$nulls":3},67,1,24,null,"不动",67,3,{"$f":"StoreConfig!J462","v":"67|0#0#0#3"},{"$nulls":5},14,30000]
[{"$nulls":3},65,6000,150,null,3,65,1500,{"$f":"D462&$K$6&E462","v":"65|0#0#0#6000"},{"$nulls":5},11057,30]
[{"$nulls":3},65,6000,150,null,3,65,1500,"65|0#0#0#6000",{"$nulls":5},11061,30]
[{"$nulls":3},65,6000,150,null,3,65,1500,"65|0#0#0#6000",{"$nulls":5},11065,30]
[{"$nulls":3},65,6000,150,null,3,65,1500,"65|0#0#0#6000",{"$nulls":5},11069,30]
[{"$nulls":3},65,80000,1500,null,2,65,15000,"65|0#0#0#80000",{"$nulls":5},11003,50]
[{"$nulls":3},65,80000,1500,null,2,65,15000,"65|0#0#0#80000",{"$nulls":5},11010,50]
[{"$nulls":3},65,80000,1500,null,2,65,15000,"65|0#0#0#80000",{"$nulls":5},11016,50]
[{"$nulls":3},65,80000,1500,null,2,65,15000,"65|0#0#0#80000",{"$nulls":5},11019,50]
[{"$nulls":3},65,12000,250,null,3,65,2500,"65|0#0#0#12000",{"$nulls":5},12025,10]
[{"$nulls":3},65,109450,2000,null,2,65,20000,"65|0#0#0#109450",{"$nulls":5},60157,1]
[{"$nulls":3},65,109450,2000,null,2,65,20000,"65|0#0#0#109450",{"$nulls":5},60182,1]
[{"$nulls":3},65,63650,2000,null,4,65,20000,"65|0#0#0#63650",{"$nulls":5},60191,1]
[{"$nulls":3},65,109450,2000,null,2,65,20000,"65|0#0#0#109450",{"$nulls":5},60197,1]
[{"$nulls":3},65,40,5,null,"不动",65,50,{"$f":"StoreConfig!J476","v":"65|0#0#0#50"},{"$nulls":4},{"$f":"R475*50","v":50},91,1]
[null,null,"不要了",1201,{"$error":"#N/A"},"缺少价值对比",null,"不动",1201,20000,{"$f":"StoreConfig!J477","v":"1201|0#0#0#20000"},{"$nulls":5},11014,10]
[null,null,"不要了",1201,{"$error":"#N/A"},"缺少价值对比",null,"不动",1201,5000,{"$f":"StoreConfig!J478","v":"1201|0#0#0#20000"},{"$nulls":5},11007,10]
[null,null,"不要了",1201,{"$error":"#N/A"},"缺少价值对比",null,"不动",1201,5000,{"$f":"StoreConfig!J479","v":"1201|0#0#0#20000"},{"$nulls":5},11006,10]
[null,null,"不要了",1201,{"$error":"#N/A"},"缺少价值对比",null,"不动",1201,5000,{"$f":"StoreConfig!J480","v":"1201|0#0#0#20000"},{"$nulls":5},11003,10]
[null,null,"不要了",1201,{"$error":"#N/A"},"缺少价值对比",null,"不动",1201,5000,{"$f":"StoreConfig!J481","v":"1201|0#0#0#20000"},{"$nulls":5},11022,10]
[null,null,"不要了",1201,{"$error":"#N/A"},"缺少价值对比",null,"不动",1201,150,{"$f":"StoreConfig!J482","v":"1201|0#0#0#20000"},{"$nulls":5},11025,1]
[null,null,"不要了",1201,{"$error":"#N/A"},"缺少价值对比",null,"不动",1201,150,{"$f":"StoreConfig!J483","v":"1201|0#0#0#20000"},{"$nulls":5},11030,1]
[null,null,"不要了",1201,{"$error":"#N/A"},"缺少价值对比",null,"不动",1201,150,{"$f":"StoreConfig!J484","v":"1201|0#0#0#20000"},{"$nulls":5},11036,1]
[null,null,"不要了",1201,{"$error":"#N/A"},"缺少价值对比",null,"不动",1201,150,{"$f":"StoreConfig!J485","v":"1201|0#0#0#20000"},{"$nulls":5},11045,1]
[null,null,"不要了",1201,{"$error":"#N/A"},"缺少价值对比",null,"不动",1201,78,{"$f":"StoreConfig!J486","v":"1201|0#0#0#20000"},{"$nulls":5},50204,1]
[null,null,"不要了",1201,{"$error":"#N/A"},"缺少价值对比",null,"不动",1201,78,{"$f":"StoreConfig!J487","v":"1201|0#0#0#20000"},{"$nulls":5},50205,1]
[null,null,"不要了",1201,{"$error":"#N/A"},"缺少价值对比",null,"不动",1201,78,{"$f":"StoreConfig!J488","v":"1201|0#0#0#20000"},{"$nulls":5},50206,1]
[null,null,"不要了",1201,{"$error":"#N/A"},"缺少价值对比",null,"不动",1201,78,{"$f":"StoreConfig!J489","v":"1201|0#0#0#20000"},{"$nulls":5},50207,1]
[null,null,"不要了",1201,{"$error":"#N/A"},"缺少价值对比",null,"不动",1201,78,{"$f":"StoreConfig!J490","v":"1201|0#0#0#20000"},{"$nulls":5},50208,1]
[null,null,"不要了",1201,{"$error":"#N/A"},"缺少价值对比",null,"不动",1201,78,{"$f":"StoreConfig!J491","v":"1201|0#0#0#20000"},{"$nulls":5},50201,1]
[null,null,"不要了",1201,{"$error":"#N/A"},"缺少价值对比",null,"不动",1201,78,{"$f":"StoreConfig!J546","v":"1201|0#0#0#3125"},{"$nulls":5},50202,1]
[null,null,"不要了",1201,{"$error":"#N/A"},"缺少价值对比",null,"不动",1201,78,{"$f":"StoreConfig!J547","v":"1201|0#0#0#3125"},{"$nulls":5},50203,1]
[null,null,"不要了",1201,{"$error":"#N/A"},"缺少价值对比",null,"不动",1201,78,{"$f":"StoreConfig!J548","v":"1201|0#0#0#3125"},{"$nulls":5},50204,1]
[null,null,"不要了",1201,{"$error":"#N/A"},"缺少价值对比",null,"不动",1201,78,{"$f":"StoreConfig!J549","v":"1201|0#0#0#5375"},{"$nulls":5},50205,1]
[null,null,"不要了",1201,{"$error":"#N/A"},"缺少价值对比",null,"不动",1201,78,{"$f":"StoreConfig!J550","v":"1201|0#0#0#5375"},{"$nulls":5},50206,1]
[null,null,"不要了",1201,{"$error":"#N/A"},"缺少价值对比",null,"不动",1201,78,{"$f":"StoreConfig!J551","v":"1201|0#0#0#5375"},{"$nulls":5},50207,1]
[null,null,"不要了",1201,{"$error":"#N/A"},"缺少价值对比",null,"不动",1201,78,{"$f":"StoreConfig!J552","v":"1201|0#0#0#5375"},{"$nulls":5},50208,1]
[null,null,"不要了",1201,{"$error":"#N/A"},"缺少价值对比",null,"不动",1201,280,{"$f":"StoreConfig!#REF!","v":{"$error":"#REF!"}},{"$nulls":5},50301,1]
[null,null,"不要了",1201,{"$error":"#N/A"},"缺少价值对比",null,"不动",1201,280,{"$f":"StoreConfig!#REF!","v":{"$error":"#REF!"}},{"$nulls":5},50302,1]
[null,null,"不要了",1201,{"$error":"#N/A"},"缺少价值对比",null,"不动",1201,280,{"$f":"StoreConfig!#REF!","v":{"$error":"#REF!"}},{"$nulls":5},50303,1]
[null,null,"不要了",1201,{"$error":"#N/A"},"缺少价值对比",null,"不动",1201,280,{"$f":"StoreConfig!#REF!","v":{"$error":"#REF!"}},{"$nulls":5},50304,1]
[null,null,"不要了",1201,{"$error":"#N/A"},"缺少价值对比",null,"不动",1201,280,{"$f":"StoreConfig!#REF!","v":{"$error":"#REF!"}},{"$nulls":5},50305,1]
[null,null,"不要了",1201,{"$error":"#N/A"},"缺少价值对比",null,"不动",1201,280,{"$f":"StoreConfig!#REF!","v":{"$error":"#REF!"}},{"$nulls":5},50306,1]
[null,null,"不要了",1201,{"$error":"#N/A"},"缺少价值对比",null,"不动",1201,280,{"$f":"StoreConfig!#REF!","v":{"$error":"#REF!"}},{"$nulls":5},50307,1]
[null,null,"不要了",1201,{"$error":"#N/A"},"缺少价值对比",null,"不动",1201,280,{"$f":"StoreConfig!#REF!","v":{"$error":"#REF!"}},{"$nulls":5},50308,1]
[null,null,"不要了",1201,{"$error":"#N/A"},"缺少价值对比",null,"不动",1201,280,{"$f":"StoreConfig!#REF!","v":{"$error":"#REF!"}},{"$nulls":5},50309,1]
[null,null,"不要了",1201,{"$error":"#N/A"},"缺少价值对比",null,"不动",1201,280,{"$f":"StoreConfig!#REF!","v":{"$error":"#REF!"}},{"$nulls":5},50310,1]
[null,null,"不要了",1201,{"$error":"#N/A"},"缺少价值对比",null,"不动",1201,280,{"$f":"StoreConfig!#REF!","v":{"$error":"#REF!"}},{"$nulls":5},50311,1]
[{"$nulls":3},16,1000,660,null,7,16,660,{"$f":"D509&$K$6&E509","v":"16|0#0#0#1000"},{"$nulls":5},4,1000]
[{"$nulls":3},16,2500,2500,null,"不动",16,2500,{"$f":"#REF!","v":{"$error":"#REF!"}},{"$nulls":5},19,10]
[null,null,"未处理",16,{"$error":"#VALUE!"},1000,null,"不动",16,1000,{"$f":"#REF!","v":{"$error":"#REF!"}},{"$nulls":4},{"$f":"R511*50","v":100},60,2]
[{"$nulls":3},16,600,600,null,"不动",16,600,{"$f":"#REF!","v":{"$error":"#REF!"}},{"$nulls":5},23,30]
[{"$nulls":3},16,12500,2500,null,2,16,2500,{"$f":"D513&$K$6&E513","v":"16|0#0#0#12500"},{"$nulls":5},20,5]
[{"$nulls":3},16,6000,3000,null,5,16,3000,{"$f":"D514&$K$6&E514","v":"16|0#0#0#6000"},{"$nulls":5},12013,50]
[{"$nulls":3},16,1500,1600,null,"不动",16,1600,{"$f":"StoreConfig!J839","v":"16|0#0#0#1600"},{"$nulls":5},19,6]
[null,null,"不要了",1201,{"$error":"#N/A"},"缺少价值对比",null,"不动",1201,20000,{"$f":"StoreConfig!J840","v":"1201|0#0#0#20000"},{"$nulls":5},11014,10]
[null,null,"不要了",1201,{"$error":"#N/A"},"缺少价值对比",null,"不动",1201,5000,{"$f":"StoreConfig!J841","v":"1201|0#0#0#5000"},{"$nulls":5},11007,10]
[null,null,"不要了",1201,{"$error":"#N/A"},"缺少价值对比",null,"不动",1201,5000,{"$f":"StoreConfig!J842","v":"1201|0#0#0#5000"},{"$nulls":5},11006,10]
[null,null,"不要了",1201,{"$error":"#N/A"},"缺少价值对比",null,"不动",1201,5000,{"$f":"StoreConfig!J843","v":"1201|0#0#0#5000"},{"$nulls":5},11003,10]
[null,null,"不要了",1201,{"$error":"#N/A"},"缺少价值对比",null,"不动",1201,5000,{"$f":"StoreConfig!J844","v":"1201|0#0#0#5000"},{"$nulls":5},11022,10]
[null,null,"不要了",1201,{"$error":"#N/A"},"缺少价值对比",null,"不动",1201,150,{"$f":"StoreConfig!J845","v":"1201|0#0#0#150"},{"$nulls":5},11025,1]
[null,null,"不要了",1201,{"$error":"#N/A"},"缺少价值对比",null,"不动",1201,150,{"$f":"StoreConfig!J846","v":"1201|0#0#0#150"},{"$nulls":5},11030,1]
[null,null,"不要了",1201,{"$error":"#N/A"},"缺少价值对比",null,"不动",1201,150,{"$f":"StoreConfig!J847","v":"1201|0#0#0#150"},{"$nulls":5},11036,1]
[null,null,"不要了",1201,{"$error":"#N/A"},"缺少价值对比",null,"不动",1201,150,{"$f":"StoreConfig!J848","v":"1201|0#0#0#150"},{"$nulls":5},11045,1]
[null,null,"不要了",1201,{"$error":"#VALUE!"},"缺少价值对比",null,"不动",1201,100,{"$f":"StoreConfig!J849","v":"1201|0#0#0#20"},{"$nulls":4},{"$f":"R525*50","v":250},60,5]
[null,null,"不要了",1201,{"$error":"#N/A"},"缺少价值对比",null,"不动",1201,500,{"$f":"StoreConfig!J850","v":"1201|0#0#0#500"},{"$nulls":5},20,1]
[null,null,"不要了",1201,{"$error":"#N/A"},"缺少价值对比",null,"不动",1201,600,{"$f":"StoreConfig!J851","v":"1201|0#0#0#600"},{"$nulls":5},33,1]
[null,null,"不要了",1201,{"$error":"#N/A"},"缺少价值对比",null,"不动",1201,1500,{"$f":"StoreConfig!J852","v":"1201|0#0#0#1500"},{"$nulls":5},81106,1]
[{"$nulls":3},93,6000,1000,null,9,93,5000,{"$f":"D529&$K$6&E529","v":"93|0#0#0#6000"},{"$nulls":5},12013,10]
[{"$nulls":3},93,1000,200,null,"不动",93,1000,{"$f":"#REF!","v":{"$error":"#REF!"}},{"$nulls":5},12003,10]
[{"$nulls":3},93,1000,200,null,"不动",93,1000,{"$f":"#REF!","v":{"$error":"#REF!"}},{"$nulls":5},12002,10]
[{"$nulls":3},93,1000,200,null,"不动",93,1000,{"$f":"#REF!","v":{"$error":"#REF!"}},{"$nulls":5},12004,10]
[{"$nulls":3},93,1000,200,null,"不动",93,1000,{"$f":"#REF!","v":{"$error":"#REF!"}},{"$nulls":5},12005,10]
[{"$nulls":3},93,50000,9000,null,9,93,45000,{"$f":"D534&$K$6&E534","v":"93|0#0#0#50000"},{"$nulls":5},11008,50]
[{"$nulls":3},93,50000,9000,null,9,93,45000,{"$f":"D535&$K$6&E535","v":"93|0#0#0#50000"},{"$nulls":5},11022,50]
[{"$nulls":3},93,50000,9000,null,9,93,45000,{"$f":"D536&$K$6&E536","v":"93|0#0#0#50000"},{"$nulls":5},11014,50]
[{"$nulls":3},93,50000,9000,null,9,93,45000,{"$f":"D537&$K$6&E537","v":"93|0#0#0#50000"},{"$nulls":5},11076,50]
[null,null,"未处理",16,{"$error":"#VALUE!"},6,null,"不动",16,6,{"$f":"StoreConfig!J862","v":"16|0#0#0#6"},{"$nulls":5},16,"60|19","1|47","2|14",100000]
[null,null,"未处理",16,{"$error":"#VALUE!"},30,null,"不动",16,30,{"$f":"StoreConfig!J863","v":"16|0#0#0#30"},{"$nulls":5},16,"300|19","5|47","2|3",5000]
[null,null,"未处理",16,{"$error":"#VALUE!"},70,null,"不动",16,70,{"$f":"StoreConfig!J864","v":"16|0#0#0#70"},{"$nulls":5},16,"700|81002","2|47","2|4",1000]
[null,null,"未处理",16,{"$error":"#VALUE!"},198,null,"不动",16,198,{"$f":"StoreConfig!J865","v":"16|0#0#0#198"},{"$nulls":5},16,"1980|10007","1|47","4|19",10]
[null,null,"未处理",16,{"$error":"#VALUE!"},398,null,"不动",16,398,{"$f":"StoreConfig!J866","v":"16|0#0#0#398"},{"$nulls":5},16,"3980|49","1|47","6|21",40]
[null,null,"未处理",16,{"$error":"#VALUE!"},650,null,"不动",16,650,{"$f":"StoreConfig!J867","v":"16|0#0#0#650"},{"$nulls":5},16,"6500|10015","1|47","8|20",10]
[{"$nulls":3},16,1000,300,"不动",3,16,300,{"$f":"D544&$K$6&E544","v":"16|0#0#0#1000"},{"$nulls":5},48,"1|19",6]
[{"$nulls":3},16,1500,500,"不动",4,16,500,{"$f":"D545&$K$6&E545","v":"16|0#0#0#1500"},{"$nulls":5},19,"6|10004",1]
[{"$nulls":3},16,8000,500,"不动",1,16,500,{"$f":"D546&$K$6&E546","v":"16|0#0#0#8000"},{"$nulls":5},10004,"1|39",1]
[null,null,"此处不处理",16,{"$error":"#N/A"},500,null,"不动",16,500,{"$f":"StoreConfig!J871","v":"16|0#0#0#500"},{"$nulls":5},39,"1|19",10]
[{"$nulls":3},16,48,0,null,0,16,0,{"$f":"D548&$K$6&E548","v":"16|0#0#0#48"},{"$nulls":5},14,"200000|3","100000|60",2]
[{"$nulls":3},16,700,238,null,4,16,238,"16|0#0#0#700",{"$nulls":5},4,"300|60","3|14",2000000]
[{"$nulls":3},16,2600,688,null,3,16,688,"16|0#0#0#2600",{"$nulls":5},12012,"30|4","300|3",2000000]
[{"$nulls":3},16,1800,988,null,6,16,988,"16|0#0#0#1800",{"$nulls":5},61,"1|20","1|14",4000000]
[{"$nulls":3},16,10000,1888,null,2,16,1888,"16|0#0#0#10000",{"$nulls":5},12013,"50|20","1|3",4000000]
[{"$nulls":3},16,7200,2288,null,4,16,2288,"16|0#0#0#7200",{"$nulls":5},12010,"50|20","1|14",6000000]
[{"$nulls":3},16,16000,3888,null,3,16,3888,"16|0#0#0#16000",{"$nulls":5},11026,"50|20","2|3",6000000]
[{"$nulls":3},16,11600,4188,null,4,16,4188,"16|0#0#0#11600",{"$nulls":5},11026,"50|20","3|14",8000000]
[{"$nulls":3},16,21700,5888,null,3,16,5888,"16|0#0#0#21700",{"$nulls":5},11014,"50|20","5|3","8000000|60155",1]
[{"$nulls":3},16,20700,6388,null,4,16,6388,"16|0#0#0#20700",{"$nulls":5},11022,"50|20","5|14","10000000|60195","1|1001",50000]
[null,null,"未处理",16,{"$error":"#N/A"},9888,null,"不动",16,9888,{"$f":"StoreConfig!J882","v":"16|0#0#0#9888"},{"$nulls":5},11014,"50|3","10000000|81129","1|60180","1|1001",100000]
[null,null,"未处理",16,{"$error":"#N/A"},10888,null,"不动",16,10888,{"$f":"StoreConfig!J883","v":"16|0#0#0#10888"},{"$nulls":5},11022,"50|14","15000000|81129","1|60190","1|1001",200000]
[null,null,"未处理",16,{"$error":"#N/A"},15888,null,"不动",16,15888,{"$f":"StoreConfig!J884","v":"16|0#0#0#15888"},{"$nulls":5},11011,"50|3","15000000|81129","1|20","10|1001",300000]
[null,null,"未处理",16,{"$error":"#N/A"},16888,null,"不动",16,16888,{"$f":"StoreConfig!J885","v":"16|0#0#0#16888"},{"$nulls":5},11011,"50|14","20000000|81129","2|20","10|1001",400000]
[{"$nulls":3},16,600,600,null,"不动",16,600,{"$f":"StoreConfig!J886","v":"16|0#0#0#600"},{"$nulls":5},11057,30]
[{"$nulls":3},16,600,600,null,"不动",16,600,{"$f":"StoreConfig!J887","v":"16|0#0#0#600"},{"$nulls":5},11058,30]
[{"$nulls":3},16,600,600,null,"不动",16,600,{"$f":"StoreConfig!J888","v":"16|0#0#0#600"},{"$nulls":5},11059,30]
[{"$nulls":3},16,600,600,null,"不动",16,600,{"$f":"StoreConfig!J889","v":"16|0#0#0#600"},{"$nulls":5},11060,30]
[{"$nulls":3},16,600,600,null,"不动",16,600,{"$f":"StoreConfig!J890","v":"16|0#0#0#600"},{"$nulls":5},11061,30]
[{"$nulls":3},16,600,600,null,"不动",16,600,{"$f":"StoreConfig!J891","v":"16|0#0#0#600"},{"$nulls":5},11062,30]
[{"$nulls":3},16,600,600,null,"不动",16,600,{"$f":"StoreConfig!J892","v":"16|0#0#0#600"},{"$nulls":5},11063,30]
[{"$nulls":3},16,600,600,null,"不动",16,600,{"$f":"StoreConfig!J893","v":"16|0#0#0#600"},{"$nulls":5},11064,30]
[{"$nulls":3},16,600,600,null,"不动",16,600,{"$f":"StoreConfig!J894","v":"16|0#0#0#600"},{"$nulls":5},11065,30]
[{"$nulls":3},16,600,600,null,"不动",16,600,{"$f":"StoreConfig!J895","v":"16|0#0#0#600"},{"$nulls":5},11066,30]
[{"$nulls":3},16,600,600,null,"不动",16,600,{"$f":"StoreConfig!J896","v":"16|0#0#0#600"},{"$nulls":5},11067,30]
[{"$nulls":3},16,600,600,null,"不动",16,600,{"$f":"StoreConfig!J897","v":"16|0#0#0#600"},{"$nulls":5},11068,30]
[{"$nulls":3},16,600,600,null,"不动",16,600,{"$f":"StoreConfig!J898","v":"16|0#0#0#600"},{"$nulls":5},11069,30]
[{"$nulls":3},16,600,600,null,"不动",16,600,{"$f":"StoreConfig!J899","v":"16|0#0#0#600"},{"$nulls":5},11070,30]
[{"$nulls":3},16,600,600,null,"不动",16,600,{"$f":"StoreConfig!J900","v":"16|0#0#0#600"},{"$nulls":5},11071,30]
[{"$nulls":3},16,600,600,null,"不动",16,600,{"$f":"StoreConfig!J901","v":"16|0#0#0#600"},{"$nulls":5},11072,30]
[{"$nulls":3},14,3000000,360,null,6,14,1800000,{"$f":"D578&$K$6&E578","v":"14|0#0#0#3000000"},{"$nulls":5},11057,30]
[{"$nulls":3},14,3000000,360,null,6,14,1800000,"14|0#0#0#3000000",{"$nulls":5},11058,30]
[{"$nulls":3},14,3000000,360,null,6,14,1800000,"14|0#0#0#3000000",{"$nulls":5},11059,30]
[{"$nulls":3},14,3000000,360,null,6,14,1800000,"14|0#0#0#3000000",{"$nulls":5},11060,30]
[{"$nulls":3},14,3000000,360,null,6,14,1800000,"14|0#0#0#3000000",{"$nulls":5},11061,30]
[{"$nulls":3},14,3000000,360,null,6,14,1800000,"14|0#0#0#3000000",{"$nulls":5},11062,30]
[{"$nulls":3},14,3000000,360,null,6,14,1800000,"14|0#0#0#3000000",{"$nulls":5},11063,30]
[{"$nulls":3},14,3000000,360,null,6,14,1800000,"14|0#0#0#3000000",{"$nulls":5},11064,30]
[{"$nulls":3},14,3000000,360,null,6,14,1800000,"14|0#0#0#3000000",{"$nulls":5},11065,30]
[{"$nulls":3},14,3000000,360,null,6,14,1800000,"14|0#0#0#3000000",{"$nulls":5},11066,30]
[{"$nulls":3},14,3000000,360,null,6,14,1800000,"14|0#0#0#3000000",{"$nulls":5},11067,30]
[{"$nulls":3},14,3000000,360,null,6,14,1800000,"14|0#0#0#3000000",{"$nulls":5},11068,30]
[{"$nulls":3},14,3000000,360,null,6,14,1800000,"14|0#0#0#3000000",{"$nulls":5},11069,30]
[{"$nulls":3},14,3000000,360,null,6,14,1800000,"14|0#0#0#3000000",{"$nulls":5},11070,30]
[{"$nulls":3},14,3000000,360,null,6,14,1800000,"14|0#0#0#3000000",{"$nulls":5},11071,30]
[{"$nulls":3},14,3000000,360,null,6,14,1800000,"14|0#0#0#3000000",{"$nulls":5},11072,30]
[{"$nulls":3},16,400,100,null,3,16,100,"16|0#0#0#400",{"$nulls":5},11047,20]
[{"$nulls":3},16,400,100,null,3,16,100,"16|0#0#0#400",{"$nulls":5},11048,20]
[{"$nulls":3},16,400,100,null,3,16,100,"16|0#0#0#400",{"$nulls":5},11049,20]
[{"$nulls":3},16,400,100,null,3,16,100,"16|0#0#0#400",{"$nulls":5},11050,20]
[{"$nulls":3},16,100,100,null,"不动",16,100,{"$f":"StoreConfig!J922","v":"16|0#0#0#100"},{"$nulls":5},11051,20]
[{"$nulls":3},16,100,100,null,"不动",16,100,{"$f":"StoreConfig!J923","v":"16|0#0#0#100"},{"$nulls":5},11052,20]
[{"$nulls":3},16,100,100,null,"不动",16,100,{"$f":"StoreConfig!J924","v":"16|0#0#0#100"},{"$nulls":5},11053,20]
[{"$nulls":3},16,100,100,null,"不动",16,100,{"$f":"StoreConfig!J925","v":"16|0#0#0#100"},{"$nulls":5},11054,20]
[{"$nulls":3},14,2000000,70,null,2,14,350000,{"$f":"D602&$K$6&E602","v":"14|0#0#0#2000000"},{"$nulls":5},11047,20]
[{"$nulls":3},14,2000000,70,null,2,14,350000,"14|0#0#0#2000000",{"$nulls":5},11048,20]
[{"$nulls":3},14,2000000,70,null,2,14,350000,"14|0#0#0#2000000",{"$nulls":5},11049,20]
[{"$nulls":3},14,2000000,70,null,2,14,350000,"14|0#0#0#2000000",{"$nulls":5},11050,20]
[{"$nulls":3},14,500000,70,null,7,14,350000,"14|0#0#0#500000",{"$nulls":5},11051,20]
[{"$nulls":3},14,500000,70,null,7,14,350000,"14|0#0#0#500000",{"$nulls":5},11052,20]
[{"$nulls":3},14,500000,70,null,7,14,350000,"14|0#0#0#500000",{"$nulls":5},11053,20]
[{"$nulls":3},14,500000,70,null,7,14,350000,"14|0#0#0#500000",{"$nulls":5},11054,20]
[{"$nulls":3},16,18,20,null,"不动",16,20,{"$f":"StoreConfig!J934","v":"16|0#0#0#20"},{"$nulls":5},60002,1]
[{"$nulls":3},16,18,20,null,"不动",16,20,{"$f":"StoreConfig!J935","v":"16|0#0#0#20"},{"$nulls":5},60017,1]
[{"$nulls":3},16,18,20,null,"不动",16,20,{"$f":"StoreConfig!J936","v":"16|0#0#0#20"},{"$nulls":5},60023,1]
[{"$nulls":3},16,18,20,null,"不动",16,20,{"$f":"StoreConfig!J937","v":"16|0#0#0#20"},{"$nulls":5},60026,1]
[{"$nulls":3},14,90000,20,null,"不动",14,100000,{"$f":"StoreConfig!J938","v":"14|0#0#0#100000"},{"$nulls":5},60002,1]
[{"$nulls":3},14,90000,20,null,"不动",14,100000,{"$f":"StoreConfig!J939","v":"14|0#0#0#100000"},{"$nulls":5},60017,1]
[{"$nulls":3},14,90000,20,null,"不动",14,100000,{"$f":"StoreConfig!J940","v":"14|0#0#0#100000"},{"$nulls":5},60023,1]
[{"$nulls":3},14,90000,20,null,"不动",14,100000,{"$f":"StoreConfig!J941","v":"14|0#0#0#100000"},{"$nulls":5},60026,1]
[{"$nulls":3},16,30,30,null,"不动",16,30,{"$f":"StoreConfig!J942","v":"16|0#0#0#30"},{"$nulls":5},60034,1]
[{"$nulls":3},16,30,30,null,"不动",16,30,{"$f":"StoreConfig!J943","v":"16|0#0#0#30"},{"$nulls":5},60049,1]
[{"$nulls":3},16,30,30,null,"不动",16,30,{"$f":"StoreConfig!J944","v":"16|0#0#0#30"},{"$nulls":5},60055,1]
[{"$nulls":3},16,30,30,null,"不动",16,30,{"$f":"StoreConfig!J945","v":"16|0#0#0#30"},{"$nulls":5},60058,1]
[{"$nulls":3},14,150000,30,null,"不动",14,150000,{"$f":"StoreConfig!J946","v":"14|0#0#0#150000"},{"$nulls":5},60034,1]
[{"$nulls":3},14,150000,30,null,"不动",14,150000,{"$f":"StoreConfig!J947","v":"14|0#0#0#150000"},{"$nulls":5},60049,1]
[{"$nulls":3},14,150000,30,null,"不动",14,150000,{"$f":"StoreConfig!J948","v":"14|0#0#0#150000"},{"$nulls":5},60055,1]
[{"$nulls":3},14,150000,30,null,"不动",14,150000,{"$f":"StoreConfig!J949","v":"14|0#0#0#150000"},{"$nulls":5},60058,1]
[{"$nulls":3},16,50,50,null,"不动",16,50,{"$f":"StoreConfig!J950","v":"16|0#0#0#50"},{"$nulls":5},60035,1]
[{"$nulls":3},16,50,50,null,"不动",16,50,{"$f":"StoreConfig!J951","v":"16|0#0#0#50"},{"$nulls":5},60050,1]
[{"$nulls":3},16,50,50,null,"不动",16,50,{"$f":"StoreConfig!J952","v":"16|0#0#0#50"},{"$nulls":5},60056,1]
[{"$nulls":3},16,50,50,null,"不动",16,50,{"$f":"StoreConfig!J953","v":"16|0#0#0#50"},{"$nulls":5},60059,1]
[{"$nulls":3},14,250000,50,null,"不动",14,250000,{"$f":"StoreConfig!J954","v":"14|0#0#0#250000"},{"$nulls":5},60035,1]
[{"$nulls":3},14,250000,50,null,"不动",14,250000,{"$f":"StoreConfig!J955","v":"14|0#0#0#250000"},{"$nulls":5},60050,1]
[{"$nulls":3},14,250000,50,null,"不动",14,250000,{"$f":"StoreConfig!J956","v":"14|0#0#0#250000"},{"$nulls":5},60056,1]
[{"$nulls":3},14,250000,50,null,"不动",14,250000,{"$f":"StoreConfig!J957","v":"14|0#0#0#250000"},{"$nulls":5},60059,1]
[{"$nulls":3},16,86,85,null,"不动",16,85,{"$f":"StoreConfig!J958","v":"16|0#0#0#85"},{"$nulls":5},60067,1]
[{"$nulls":3},16,86,85,null,"不动",16,85,{"$f":"StoreConfig!J959","v":"16|0#0#0#85"},{"$nulls":5},60082,1]
[{"$nulls":3},16,86,85,null,"不动",16,85,{"$f":"StoreConfig!J960","v":"16|0#0#0#85"},{"$nulls":5},60088,1]
[{"$nulls":3},16,86,85,null,"不动",16,85,{"$f":"StoreConfig!J961","v":"16|0#0#0#85"},{"$nulls":5},60091,1]
[{"$nulls":3},14,430000,85,null,"不动",14,425000,{"$f":"StoreConfig!J962","v":"14|0#0#0#425000"},{"$nulls":5},60067,1]
[{"$nulls":3},14,430000,85,null,"不动",14,425000,{"$f":"StoreConfig!J963","v":"14|0#0#0#425000"},{"$nulls":5},60082,1]
[{"$nulls":3},14,430000,85,null,"不动",14,425000,{"$f":"StoreConfig!J964","v":"14|0#0#0#425000"},{"$nulls":5},60088,1]
[{"$nulls":3},14,430000,85,null,"不动",14,425000,{"$f":"StoreConfig!J965","v":"14|0#0#0#425000"},{"$nulls":5},60091,1]
[{"$nulls":3},16,146,145,null,"不动",16,145,{"$f":"StoreConfig!J966","v":"16|0#0#0#145"},{"$nulls":5},60068,1]
[{"$nulls":3},16,146,145,null,"不动",16,145,{"$f":"StoreConfig!J967","v":"16|0#0#0#145"},{"$nulls":5},60083,1]
[{"$nulls":3},16,146,145,null,"不动",16,145,{"$f":"StoreConfig!J968","v":"16|0#0#0#145"},{"$nulls":5},60089,1]
[{"$nulls":3},16,146,145,null,"不动",16,145,{"$f":"StoreConfig!J969","v":"16|0#0#0#145"},{"$nulls":5},60092,1]
[{"$nulls":3},14,730000,145,null,"不动",14,725000,{"$f":"StoreConfig!J970","v":"14|0#0#0#725000"},{"$nulls":5},60068,1]
[{"$nulls":3},14,730000,145,null,"不动",14,725000,{"$f":"StoreConfig!J971","v":"14|0#0#0#725000"},{"$nulls":5},60083,1]
[{"$nulls":3},14,730000,145,null,"不动",14,725000,{"$f":"StoreConfig!J972","v":"14|0#0#0#725000"},{"$nulls":5},60089,1]
[{"$nulls":3},14,730000,145,null,"不动",14,725000,{"$f":"StoreConfig!J973","v":"14|0#0#0#725000"},{"$nulls":5},60092,1]
[{"$nulls":3},16,250,250,null,"不动",16,250,{"$f":"StoreConfig!J974","v":"16|0#0#0#250"},{"$nulls":5},60069,1]
[{"$nulls":3},16,250,250,null,"不动",16,250,{"$f":"StoreConfig!J975","v":"16|0#0#0#250"},{"$nulls":5},60084,1]
[{"$nulls":3},16,250,250,null,"不动",16,250,{"$f":"StoreConfig!J976","v":"16|0#0#0#250"},{"$nulls":5},60090,1]
[{"$nulls":3},16,250,250,null,"不动",16,250,{"$f":"StoreConfig!J977","v":"16|0#0#0#250"},{"$nulls":5},60093,1]
[{"$nulls":3},14,1250000,250,null,"不动",14,1250000,{"$f":"StoreConfig!J978","v":"14|0#0#0#1250000"},{"$nulls":5},60069,1]
[{"$nulls":3},14,1250000,250,null,"不动",14,1250000,{"$f":"StoreConfig!J979","v":"14|0#0#0#1250000"},{"$nulls":5},60084,1]
[{"$nulls":3},14,1250000,250,null,"不动",14,1250000,{"$f":"StoreConfig!J980","v":"14|0#0#0#1250000"},{"$nulls":5},60090,1]
[{"$nulls":3},14,1250000,250,null,"不动",14,1250000,{"$f":"StoreConfig!J981","v":"14|0#0#0#1250000"},{"$nulls":5},60093,1]
[{"$nulls":3},16,430,430,null,"不动",16,430,{"$f":"StoreConfig!J982","v":"16|0#0#0#430"},{"$nulls":5},60100,1]
[{"$nulls":3},16,430,430,null,"不动",16,430,{"$f":"StoreConfig!J983","v":"16|0#0#0#430"},{"$nulls":5},60125,1]
[{"$nulls":3},16,430,430,null,"不动",16,430,{"$f":"StoreConfig!J984","v":"16|0#0#0#430"},{"$nulls":5},60135,1]
[{"$nulls":3},16,430,430,null,"不动",16,430,{"$f":"StoreConfig!J985","v":"16|0#0#0#430"},{"$nulls":5},60140,1]
[{"$nulls":3},14,2150000,430,null,"不动",14,2150000,{"$f":"StoreConfig!J986","v":"14|0#0#0#2150000"},{"$nulls":5},60100,1]
[{"$nulls":3},14,2150000,430,null,"不动",14,2150000,{"$f":"StoreConfig!J987","v":"14|0#0#0#2150000"},{"$nulls":5},60125,1]
[{"$nulls":3},14,2150000,430,null,"不动",14,2150000,{"$f":"StoreConfig!J988","v":"14|0#0#0#2150000"},{"$nulls":5},60135,1]
[{"$nulls":3},14,2150000,430,null,"不动",14,2150000,{"$f":"StoreConfig!J989","v":"14|0#0#0#2150000"},{"$nulls":5},60140,1]
[{"$nulls":3},16,730,730,null,"不动",16,730,{"$f":"StoreConfig!J990","v":"16|0#0#0#730"},{"$nulls":5},60101,1]
[{"$nulls":3},16,730,730,null,"不动",16,730,{"$f":"StoreConfig!J991","v":"16|0#0#0#730"},{"$nulls":5},60126,1]
[{"$nulls":3},16,730,730,null,"不动",16,730,{"$f":"StoreConfig!J992","v":"16|0#0#0#730"},{"$nulls":5},60136,1]
[{"$nulls":3},16,730,730,null,"不动",16,730,{"$f":"StoreConfig!J993","v":"16|0#0#0#730"},{"$nulls":5},60141,1]
[{"$nulls":3},14,3650000,730,null,"不动",14,3650000,{"$f":"StoreConfig!J994","v":"14|0#0#0#3650000"},{"$nulls":5},60101,1]
[{"$nulls":3},14,3650000,730,null,"不动",14,3650000,{"$f":"StoreConfig!J995","v":"14|0#0#0#3650000"},{"$nulls":5},60126,1]
[{"$nulls":3},14,3650000,730,null,"不动",14,3650000,{"$f":"StoreConfig!J996","v":"14|0#0#0#3650000"},{"$nulls":5},60136,1]
[{"$nulls":3},14,3650000,730,null,"不动",14,3650000,{"$f":"StoreConfig!J997","v":"14|0#0#0#3650000"},{"$nulls":5},60141,1]
[{"$nulls":3},16,1250,1250,null,"不动",16,1250,{"$f":"StoreConfig!J998","v":"16|0#0#0#1250"},{"$nulls":5},60102,1]
[{"$nulls":3},16,1250,1250,null,"不动",16,1250,{"$f":"StoreConfig!J999","v":"16|0#0#0#1250"},{"$nulls":5},60127,1]
[{"$nulls":3},16,1250,1250,null,"不动",16,1250,{"$f":"StoreConfig!J1000","v":"16|0#0#0#1250"},{"$nulls":5},60137,1]
[{"$nulls":3},16,1250,1250,null,"不动",16,1250,{"$f":"StoreConfig!J1001","v":"16|0#0#0#1250"},{"$nulls":5},60142,1]
[{"$nulls":3},14,6250000,1250,null,"不动",14,6250000,{"$f":"StoreConfig!J1002","v":"14|0#0#0#6250000"},{"$nulls":5},60102,1]
[{"$nulls":3},14,6250000,1250,null,"不动",14,6250000,{"$f":"StoreConfig!J1003","v":"14|0#0#0#6250000"},{"$nulls":5},60127,1]
[{"$nulls":3},14,6250000,1250,null,"不动",14,6250000,{"$f":"StoreConfig!J1004","v":"14|0#0#0#6250000"},{"$nulls":5},60137,1]
[{"$nulls":3},14,6250000,1250,null,"不动",14,6250000,{"$f":"StoreConfig!J1005","v":"14|0#0#0#6250000"},{"$nulls":5},60142,1]
[{"$nulls":3},16,2150,2150,null,"不动",16,2150,{"$f":"StoreConfig!J1006","v":"16|0#0#0#2150"},{"$nulls":5},60103,1]
[{"$nulls":3},16,2150,2150,null,"不动",16,2150,{"$f":"StoreConfig!J1007","v":"16|0#0#0#2150"},{"$nulls":5},60128,1]
[{"$nulls":3},16,2150,2150,null,"不动",16,2150,{"$f":"StoreConfig!J1008","v":"16|0#0#0#2150"},{"$nulls":5},60138,1]
[{"$nulls":3},16,2150,2150,null,"不动",16,2150,{"$f":"StoreConfig!J1009","v":"16|0#0#0#2150"},{"$nulls":5},60144,1]
[{"$nulls":3},14,100000,2,null,1,14,10000,{"$f":"D686&$K$6&E686","v":"14|0#0#0#100000"},{"$nulls":5},23,1]
[{"$nulls":3},16,20,14,null,7,16,14,{"$f":"D687&$K$6&E687","v":"16|0#0#0#20"},{"$nulls":5},23,1]
[{"$nulls":3},14,20000,4,null,"不动",14,20000,{"$f":"StoreConfig!J1012","v":"14|0#0#0#250000"},{"$nulls":4},{"$f":"R688*50","v":50},91,1]
[{"$nulls":3},16,100,100,null,"不动",16,100,{"$f":"StoreConfig!J1013","v":"16|0#0#0#100"},{"$nulls":5},4,100]
[{"$nulls":3},14,500000,20,null,2,14,100000,{"$f":"D690&$K$6&E690","v":"14|0#0#0#500000"},{"$nulls":5},4,100]
[{"$nulls":3},16,250,150,null,6,16,150,{"$f":"D691&$K$6&E691","v":"16|0#0#0#250"},{"$nulls":5},19,1]
[{"$nulls":3},14,20000,4,null,"不动",14,20000,{"$f":"StoreConfig!J1016","v":"14|0#0#0#250000"},{"$nulls":4},{"$f":"R692*50","v":50},60,1]
[{"$nulls":3},16,40,300,null,"不动",16,300,{"$f":"StoreConfig!J1017","v":"16|0#0#0#500"},{"$nulls":4},500,60,10]
[{"$nulls":3},16,100,100,null,"不动",16,100,{"$f":"StoreConfig!J1018","v":"16|0#0#0#100"},{"$nulls":5},3,100000]
[{"$nulls":3},16,50,50,null,"不动",16,50,{"$f":"StoreConfig!J1019","v":"16|0#0#0#50"},{"$nulls":5},3,50000]
[{"$nulls":3},14,500000,100,null,"不动",14,500000,{"$f":"StoreConfig!J1020","v":"14|0#0#0#500000"},{"$nulls":5},3,100000]
[{"$nulls":3},16,20,20,null,"不动",16,20,{"$f":"StoreConfig!J1021","v":"16|0#0#0#20"},{"$nulls":5},3,20000]
[{"$nulls":3},14,250000,50,null,"不动",14,250000,{"$f":"StoreConfig!J1022","v":"14|0#0#0#250000"},{"$nulls":5},3,50000]
[{"$nulls":3},14,100000,20,null,"不动",14,100000,{"$f":"StoreConfig!J1023","v":"14|0#0#0#100000"},{"$nulls":5},3,20000]
[{"$nulls":3},16,600,600,null,"不动",16,600,{"$f":"StoreConfig!J1024","v":"16|0#0#0#600"},{"$nulls":5},11057,30]
[{"$nulls":3},16,600,600,null,"不动",16,600,{"$f":"StoreConfig!J1025","v":"16|0#0#0#600"},{"$nulls":5},11058,30]
[{"$nulls":3},16,600,600,null,"不动",16,600,{"$f":"StoreConfig!J1026","v":"16|0#0#0#600"},{"$nulls":5},11059,30]
[{"$nulls":3},16,600,600,null,"不动",16,600,{"$f":"StoreConfig!J1027","v":"16|0#0#0#600"},{"$nulls":5},11060,30]
[{"$nulls":3},16,600,600,null,"不动",16,600,{"$f":"StoreConfig!J1028","v":"16|0#0#0#600"},{"$nulls":5},11061,30]
[{"$nulls":3},16,600,600,null,"不动",16,600,{"$f":"StoreConfig!J1029","v":"16|0#0#0#600"},{"$nulls":5},11062,30]
[{"$nulls":3},16,600,600,null,"不动",16,600,{"$f":"StoreConfig!J1030","v":"16|0#0#0#600"},{"$nulls":5},11063,30]
[{"$nulls":3},16,600,600,null,"不动",16,600,{"$f":"StoreConfig!J1031","v":"16|0#0#0#600"},{"$nulls":5},11064,30]
[{"$nulls":3},16,600,600,null,"不动",16,600,{"$f":"StoreConfig!J1032","v":"16|0#0#0#600"},{"$nulls":5},11065,30]
[{"$nulls":3},16,600,600,null,"不动",16,600,{"$f":"StoreConfig!J1033","v":"16|0#0#0#600"},{"$nulls":5},11066,30]
[{"$nulls":3},16,600,600,null,"不动",16,600,{"$f":"StoreConfig!J1034","v":"16|0#0#0#600"},{"$nulls":5},11067,30]
[{"$nulls":3},16,600,600,null,"不动",16,600,{"$f":"StoreConfig!J1035","v":"16|0#0#0#600"},{"$nulls":5},11068,30]
[{"$nulls":3},16,600,600,null,"不动",16,600,{"$f":"StoreConfig!J1036","v":"16|0#0#0#600"},{"$nulls":5},11069,30]
[{"$nulls":3},16,600,600,null,"不动",16,600,{"$f":"StoreConfig!J1037","v":"16|0#0#0#600"},{"$nulls":5},11070,30]
[{"$nulls":3},16,600,600,null,"不动",16,600,{"$f":"StoreConfig!J1038","v":"16|0#0#0#600"},{"$nulls":5},11071,30]
[{"$nulls":3},16,600,600,null,"不动",16,600,{"$f":"StoreConfig!J1039","v":"16|0#0#0#600"},{"$nulls":5},11072,30]
[{"$nulls":3},14,3000000,360,null,6,14,1800000,{"$f":"D716&$K$6&E716","v":"14|0#0#0#3000000"},{"$nulls":5},11057,30]
[{"$nulls":3},14,3000000,360,null,6,14,1800000,"14|0#0#0#3000000",{"$nulls":5},11058,30]
[{"$nulls":3},14,3000000,360,null,6,14,1800000,"14|0#0#0#3000000",{"$nulls":5},11059,30]
[{"$nulls":3},14,3000000,360,null,6,14,1800000,"14|0#0#0#3000000",{"$nulls":5},11060,30]
[{"$nulls":3},14,3000000,360,null,6,14,1800000,"14|0#0#0#3000000",{"$nulls":5},11061,30]
[{"$nulls":3},14,3000000,360,null,6,14,1800000,"14|0#0#0#3000000",{"$nulls":5},11062,30]
[{"$nulls":3},14,3000000,360,null,6,14,1800000,"14|0#0#0#3000000",{"$nulls":5},11063,30]
[{"$nulls":3},14,3000000,360,null,6,14,1800000,"14|0#0#0#3000000",{"$nulls":5},11064,30]
[{"$nulls":3},14,3000000,360,null,6,14,1800000,"14|0#0#0#3000000",{"$nulls":5},11065,30]
[{"$nulls":3},14,3000000,360,null,6,14,1800000,"14|0#0#0#3000000",{"$nulls":5},11066,30]
[{"$nulls":3},14,3000000,360,null,6,14,1800000,"14|0#0#0#3000000",{"$nulls":5},11067,30]
[{"$nulls":3},14,3000000,360,null,6,14,1800000,"14|0#0#0#3000000",{"$nulls":5},11068,30]
[{"$nulls":3},14,3000000,360,null,6,14,1800000,"14|0#0#0#3000000",{"$nulls":5},11069,30]
[{"$nulls":3},14,3000000,360,null,6,14,1800000,"14|0#0#0#3000000",{"$nulls":5},11070,30]
[{"$nulls":3},14,3000000,360,null,6,14,1800000,"14|0#0#0#3000000",{"$nulls":5},11071,30]
[{"$nulls":3},14,3000000,360,null,6,14,1800000,"14|0#0#0#3000000",{"$nulls":5},11072,30]
[{"$nulls":3},16,400,100,null,3,16,100,"16|0#0#0#400",{"$nulls":5},11047,20]
[{"$nulls":3},16,400,100,null,3,16,100,"16|0#0#0#400",{"$nulls":5},11048,20]
[{"$nulls":3},16,400,100,null,3,16,100,"16|0#0#0#400",{"$nulls":5},11049,20]
[{"$nulls":3},16,400,100,null,3,16,100,"16|0#0#0#400",{"$nulls":5},11050,20]
[{"$nulls":3},16,100,100,null,"不动",16,100,{"$f":"StoreConfig!J1060","v":"16|0#0#0#100"},{"$nulls":5},11051,20]
[{"$nulls":3},16,100,100,null,"不动",16,100,{"$f":"StoreConfig!J1061","v":"16|0#0#0#100"},{"$nulls":5},11052,20]
[{"$nulls":3},16,100,100,null,"不动",16,100,{"$f":"StoreConfig!J1062","v":"16|0#0#0#100"},{"$nulls":5},11053,20]
[{"$nulls":3},16,100,100,null,"不动",16,100,{"$f":"StoreConfig!J1063","v":"16|0#0#0#100"},{"$nulls":5},11054,20]
[{"$nulls":3},14,2000000,70,null,2,14,350000,{"$f":"D740&$K$6&E740","v":"14|0#0#0#2000000"},{"$nulls":5},11047,20]
[{"$nulls":3},14,2000000,70,null,2,14,350000,"14|0#0#0#2000000",{"$nulls":5},11048,20]
[{"$nulls":3},14,2000000,70,null,2,14,350000,"14|0#0#0#2000000",{"$nulls":5},11049,20]
[{"$nulls":3},14,2000000,70,null,2,14,350000,"14|0#0#0#2000000",{"$nulls":5},11050,20]
[{"$nulls":3},14,500000,70,null,7,14,350000,"14|0#0#0#500000",{"$nulls":5},11051,20]
[{"$nulls":3},14,500000,70,null,7,14,350000,"14|0#0#0#500000",{"$nulls":5},11052,20]
[{"$nulls":3},14,500000,70,null,7,14,350000,"14|0#0#0#500000",{"$nulls":5},11053,20]
[{"$nulls":3},14,500000,70,null,7,14,350000,"14|0#0#0#500000",{"$nulls":5},11054,20]
[{"$nulls":3},16,18,20,null,"不动",16,20,{"$f":"StoreConfig!J1072","v":"16|0#0#0#20"},{"$nulls":5},60002,1]
[{"$nulls":3},16,18,20,null,"不动",16,20,{"$f":"StoreConfig!J1073","v":"16|0#0#0#20"},{"$nulls":5},60017,1]
[{"$nulls":3},16,18,20,null,"不动",16,20,{"$f":"StoreConfig!J1074","v":"16|0#0#0#20"},{"$nulls":5},60023,1]
[{"$nulls":3},16,18,20,null,"不动",16,20,{"$f":"StoreConfig!J1075","v":"16|0#0#0#20"},{"$nulls":5},60026,1]
[{"$nulls":3},14,90000,20,null,"不动",14,100000,{"$f":"StoreConfig!J1076","v":"14|0#0#0#100000"},{"$nulls":5},60002,1]
[{"$nulls":3},14,90000,20,null,"不动",14,100000,{"$f":"StoreConfig!J1077","v":"14|0#0#0#100000"},{"$nulls":5},60017,1]
[{"$nulls":3},14,90000,20,null,"不动",14,100000,{"$f":"StoreConfig!J1078","v":"14|0#0#0#100000"},{"$nulls":5},60023,1]
[{"$nulls":3},14,90000,20,null,"不动",14,100000,{"$f":"StoreConfig!J1079","v":"14|0#0#0#100000"},{"$nulls":5},60026,1]
[{"$nulls":3},16,30,30,null,"不动",16,30,{"$f":"StoreConfig!J1080","v":"16|0#0#0#30"},{"$nulls":5},60034,1]
[{"$nulls":3},16,30,30,null,"不动",16,30,{"$f":"StoreConfig!J1081","v":"16|0#0#0#30"},{"$nulls":5},60049,1]
[{"$nulls":3},16,30,30,null,"不动",16,30,{"$f":"StoreConfig!J1082","v":"16|0#0#0#30"},{"$nulls":5},60055,1]
[{"$nulls":3},16,30,30,null,"不动",16,30,{"$f":"StoreConfig!J1083","v":"16|0#0#0#30"},{"$nulls":5},60058,1]
[{"$nulls":3},14,150000,30,null,"不动",14,150000,{"$f":"StoreConfig!J1084","v":"14|0#0#0#150000"},{"$nulls":5},60034,1]
[{"$nulls":3},14,150000,30,null,"不动",14,150000,{"$f":"StoreConfig!J1085","v":"14|0#0#0#150000"},{"$nulls":5},60049,1]
[{"$nulls":3},14,150000,30,null,"不动",14,150000,{"$f":"StoreConfig!J1086","v":"14|0#0#0#150000"},{"$nulls":5},60055,1]
[{"$nulls":3},14,150000,30,null,"不动",14,150000,{"$f":"StoreConfig!J1087","v":"14|0#0#0#150000"},{"$nulls":5},60058,1]
[{"$nulls":3},16,50,50,null,"不动",16,50,{"$f":"StoreConfig!J1088","v":"16|0#0#0#50"},{"$nulls":5},60035,1]
[{"$nulls":3},16,50,50,null,"不动",16,50,{"$f":"StoreConfig!J1089","v":"16|0#0#0#50"},{"$nulls":5},60050,1]
[{"$nulls":3},16,50,50,null,"不动",16,50,{"$f":"StoreConfig!J1090","v":"16|0#0#0#50"},{"$nulls":5},60056,1]
[{"$nulls":3},16,50,50,null,"不动",16,50,{"$f":"StoreConfig!J1091","v":"16|0#0#0#50"},{"$nulls":5},60059,1]
[{"$nulls":3},14,250000,50,null,"不动",14,250000,{"$f":"StoreConfig!J1092","v":"14|0#0#0#250000"},{"$nulls":5},60035,1]
[{"$nulls":3},14,250000,50,null,"不动",14,250000,{"$f":"StoreConfig!J1093","v":"14|0#0#0#250000"},{"$nulls":5},60050,1]
[{"$nulls":3},14,250000,50,null,"不动",14,250000,{"$f":"StoreConfig!J1094","v":"14|0#0#0#250000"},{"$nulls":5},60056,1]
[{"$nulls":3},14,250000,50,null,"不动",14,250000,{"$f":"StoreConfig!J1095","v":"14|0#0#0#250000"},{"$nulls":5},60059,1]
[{"$nulls":3},16,86,85,null,"不动",16,85,{"$f":"StoreConfig!J1096","v":"16|0#0#0#85"},{"$nulls":5},60067,1]
[{"$nulls":3},16,86,85,null,"不动",16,85,{"$f":"StoreConfig!J1097","v":"16|0#0#0#85"},{"$nulls":5},60082,1]
[{"$nulls":3},16,86,85,null,"不动",16,85,{"$f":"StoreConfig!J1098","v":"16|0#0#0#85"},{"$nulls":5},60088,1]
[{"$nulls":3},16,86,85,null,"不动",16,85,{"$f":"StoreConfig!J1099","v":"16|0#0#0#85"},{"$nulls":5},60091,1]
[{"$nulls":3},14,430000,85,null,"不动",14,425000,{"$f":"StoreConfig!J1100","v":"14|0#0#0#425000"},{"$nulls":5},60067,1]
[{"$nulls":3},14,430000,85,null,"不动",14,425000,{"$f":"StoreConfig!J1101","v":"14|0#0#0#425000"},{"$nulls":5},60082,1]
[{"$nulls":3},14,430000,85,null,"不动",14,425000,{"$f":"StoreConfig!J1102","v":"14|0#0#0#425000"},{"$nulls":5},60088,1]
[{"$nulls":3},14,430000,85,null,"不动",14,425000,{"$f":"StoreConfig!J1103","v":"14|0#0#0#425000"},{"$nulls":5},60091,1]
[{"$nulls":3},16,146,145,null,"不动",16,145,{"$f":"StoreConfig!J1104","v":"16|0#0#0#145"},{"$nulls":5},60068,1]
[{"$nulls":3},16,146,145,null,"不动",16,145,{"$f":"StoreConfig!J1105","v":"16|0#0#0#145"},{"$nulls":5},60083,1]
[{"$nulls":3},16,146,145,null,"不动",16,145,{"$f":"StoreConfig!J1106","v":"16|0#0#0#145"},{"$nulls":5},60089,1]
[{"$nulls":3},16,146,145,null,"不动",16,145,{"$f":"StoreConfig!J1107","v":"16|0#0#0#145"},{"$nulls":5},60092,1]
[{"$nulls":3},14,730000,145,null,"不动",14,725000,{"$f":"StoreConfig!J1108","v":"14|0#0#0#725000"},{"$nulls":5},60068,1]
[{"$nulls":3},14,730000,145,null,"不动",14,725000,{"$f":"StoreConfig!J1109","v":"14|0#0#0#725000"},{"$nulls":5},60083,1]
[{"$nulls":3},14,730000,145,null,"不动",14,725000,{"$f":"StoreConfig!J1110","v":"14|0#0#0#725000"},{"$nulls":5},60089,1]
[{"$nulls":3},14,730000,145,null,"不动",14,725000,{"$f":"StoreConfig!J1111","v":"14|0#0#0#725000"},{"$nulls":5},60092,1]
[{"$nulls":3},16,250,250,null,"不动",16,250,{"$f":"StoreConfig!J1112","v":"16|0#0#0#250"},{"$nulls":5},60069,1]
[{"$nulls":3},16,250,250,null,"不动",16,250,{"$f":"StoreConfig!J1113","v":"16|0#0#0#250"},{"$nulls":5},60084,1]
[{"$nulls":3},16,250,250,null,"不动",16,250,{"$f":"StoreConfig!J1114","v":"16|0#0#0#250"},{"$nulls":5},60090,1]
[{"$nulls":3},16,250,250,null,"不动",16,250,{"$f":"StoreConfig!J1115","v":"16|0#0#0#250"},{"$nulls":5},60093,1]
[{"$nulls":3},14,1250000,250,null,"不动",14,1250000,{"$f":"StoreConfig!J1116","v":"14|0#0#0#1250000"},{"$nulls":5},60069,1]
[{"$nulls":3},14,1250000,250,null,"不动",14,1250000,{"$f":"StoreConfig!J1117","v":"14|0#0#0#1250000"},{"$nulls":5},60084,1]
[{"$nulls":3},14,1250000,250,null,"不动",14,1250000,{"$f":"StoreConfig!J1118","v":"14|0#0#0#1250000"},{"$nulls":5},60090,1]
[{"$nulls":3},14,1250000,250,null,"不动",14,1250000,{"$f":"StoreConfig!J1119","v":"14|0#0#0#1250000"},{"$nulls":5},60093,1]
[{"$nulls":3},16,430,430,null,"不动",16,430,{"$f":"StoreConfig!J1120","v":"16|0#0#0#430"},{"$nulls":5},60100,1]
[{"$nulls":3},16,430,430,null,"不动",16,430,{"$f":"StoreConfig!J1121","v":"16|0#0#0#430"},{"$nulls":5},60125,1]
[{"$nulls":3},16,430,430,null,"不动",16,430,{"$f":"StoreConfig!J1122","v":"16|0#0#0#430"},{"$nulls":5},60135,1]
[{"$nulls":3},16,430,430,null,"不动",16,430,{"$f":"StoreConfig!J1123","v":"16|0#0#0#430"},{"$nulls":5},60140,1]
[{"$nulls":3},14,2150000,430,null,"不动",14,2150000,{"$f":"StoreConfig!J1124","v":"14|0#0#0#2150000"},{"$nulls":5},60100,1]
[{"$nulls":3},14,2150000,430,null,"不动",14,2150000,{"$f":"StoreConfig!J1125","v":"14|0#0#0#2150000"},{"$nulls":5},60125,1]
[{"$nulls":3},14,2150000,430,null,"不动",14,2150000,{"$f":"StoreConfig!J1126","v":"14|0#0#0#2150000"},{"$nulls":5},60135,1]
[{"$nulls":3},14,2150000,430,null,"不动",14,2150000,{"$f":"StoreConfig!J1127","v":"14|0#0#0#2150000"},{"$nulls":5},60140,1]
[{"$nulls":3},16,730,730,null,"不动",16,730,{"$f":"StoreConfig!J1128","v":"16|0#0#0#730"},{"$nulls":5},60101,1]
[{"$nulls":3},16,730,730,null,"不动",16,730,{"$f":"StoreConfig!J1129","v":"16|0#0#0#730"},{"$nulls":5},60126,1]
[{"$nulls":3},16,730,730,null,"不动",16,730,{"$f":"StoreConfig!J1130","v":"16|0#0#0#730"},{"$nulls":5},60136,1]
[{"$nulls":3},16,730,730,null,"不动",16,730,{"$f":"StoreConfig!J1131","v":"16|0#0#0#730"},{"$nulls":5},60141,1]
[{"$nulls":3},14,3650000,730,null,"不动",14,3650000,{"$f":"StoreConfig!J1132","v":"14|0#0#0#3650000"},{"$nulls":5},60101,1]
[{"$nulls":3},14,3650000,730,null,"不动",14,3650000,{"$f":"StoreConfig!J1133","v":"14|0#0#0#3650000"},{"$nulls":5},60126,1]
[{"$nulls":3},14,3650000,730,null,"不动",14,3650000,{"$f":"StoreConfig!J1134","v":"14|0#0#0#3650000"},{"$nulls":5},60136,1]
[{"$nulls":3},14,3650000,730,null,"不动",14,3650000,{"$f":"StoreConfig!J1135","v":"14|0#0#0#3650000"},{"$nulls":5},60141,1]
[{"$nulls":3},16,1250,1250,null,"不动",16,1250,{"$f":"StoreConfig!J1136","v":"16|0#0#0#1250"},{"$nulls":5},60102,1]
[{"$nulls":3},16,1250,1250,null,"不动",16,1250,{"$f":"StoreConfig!J1137","v":"16|0#0#0#1250"},{"$nulls":5},60127,1]
[{"$nulls":3},16,1250,1250,null,"不动",16,1250,{"$f":"StoreConfig!J1138","v":"16|0#0#0#1250"},{"$nulls":5},60137,1]
[{"$nulls":3},16,1250,1250,null,"不动",16,1250,{"$f":"StoreConfig!J1139","v":"16|0#0#0#1250"},{"$nulls":5},60142,1]
[{"$nulls":3},14,6250000,1250,null,"不动",14,6250000,{"$f":"StoreConfig!J1140","v":"14|0#0#0#6250000"},{"$nulls":5},60102,1]
[{"$nulls":3},14,6250000,1250,null,"不动",14,6250000,{"$f":"StoreConfig!J1141","v":"14|0#0#0#6250000"},{"$nulls":5},60127,1]
[{"$nulls":3},14,6250000,1250,null,"不动",14,6250000,{"$f":"StoreConfig!J1142","v":"14|0#0#0#6250000"},{"$nulls":5},60137,1]
[{"$nulls":3},14,6250000,1250,null,"不动",14,6250000,{"$f":"StoreConfig!J1143","v":"14|0#0#0#6250000"},{"$nulls":5},60142,1]
[{"$nulls":3},16,2150,2150,null,"不动",16,2150,{"$f":"StoreConfig!J1144","v":"16|0#0#0#2150"},{"$nulls":5},60103,1]
[{"$nulls":3},16,2150,2150,null,"不动",16,2150,{"$f":"StoreConfig!J1145","v":"16|0#0#0#2150"},{"$nulls":5},60128,1]
[{"$nulls":3},16,2150,2150,null,"不动",16,2150,{"$f":"StoreConfig!J1146","v":"16|0#0#0#2150"},{"$nulls":5},60138,1]
[{"$nulls":3},16,2150,2150,null,"不动",16,2150,{"$f":"StoreConfig!J1147","v":"16|0#0#0#2150"},{"$nulls":5},60144,1]
[{"$nulls":3},14,100000,2,null,1,14,10000,{"$f":"D824&$K$6&E824","v":"14|0#0#0#100000"},{"$nulls":5},23,1]
[{"$nulls":3},16,20,14,null,7,16,14,{"$f":"D825&$K$6&E825","v":"16|0#0#0#20"},{"$nulls":5},23,1]
[{"$nulls":3},14,20000,4,null,"不动",14,20000,{"$f":"StoreConfig!J1150","v":"14|0#0#0#250000"},{"$nulls":4},{"$f":"R826*50","v":50},91,1]
[{"$nulls":3},16,100,100,null,"不动",16,100,{"$f":"StoreConfig!J1151","v":"16|0#0#0#100"},{"$nulls":5},4,100]
[{"$nulls":3},14,500000,20,null,2,14,100000,{"$f":"D828&$K$6&E828","v":"14|0#0#0#500000"},{"$nulls":5},4,100]
[{"$nulls":3},16,250,150,null,6,16,150,{"$f":"D829&$K$6&E829","v":"16|0#0#0#250"},{"$nulls":5},19,1]
[{"$nulls":3},14,20000,4,null,"不动",14,20000,{"$f":"StoreConfig!J1154","v":"14|0#0#0#250000"},{"$nulls":4},{"$f":"R830*50","v":50},60,1]
[{"$nulls":3},16,40,300,null,"不动",16,300,{"$f":"StoreConfig!J1155","v":"16|0#0#0#500"},{"$nulls":4},500,60,10]
[{"$nulls":3},16,100,100,null,"不动",16,100,{"$f":"StoreConfig!J1156","v":"16|0#0#0#100"},{"$nulls":5},3,100000]
[{"$nulls":3},16,50,50,null,"不动",16,50,{"$f":"StoreConfig!J1157","v":"16|0#0#0#50"},{"$nulls":5},3,50000]
[{"$nulls":3},14,500000,100,null,"不动",14,500000,{"$f":"StoreConfig!J1158","v":"14|0#0#0#500000"},{"$nulls":5},3,100000]
[{"$nulls":3},16,20,20,null,"不动",16,20,{"$f":"StoreConfig!J1159","v":"16|0#0#0#20"},{"$nulls":5},3,20000]
[{"$nulls":3},14,250000,50,null,"不动",14,250000,{"$f":"StoreConfig!J1160","v":"14|0#0#0#250000"},{"$nulls":5},3,50000]
[{"$nulls":3},14,100000,20,null,"不动",14,100000,{"$f":"StoreConfig!J1161","v":"14|0#0#0#100000"},{"$nulls":5},3,20000]
[{"$nulls":3},66,800,800,null,"不动",66,800,{"$f":"StoreConfig!J1162","v":"66|0#0#0#800"},{"$nulls":5},5000001,1]
[{"$nulls":3},66,800,800,null,"不动",66,800,{"$f":"StoreConfig!J1163","v":"66|0#0#0#800"},{"$nulls":5},5000002,1]
[{"$nulls":3},66,800,800,null,"不动",66,800,{"$f":"StoreConfig!J1164","v":"66|0#0#0#800"},{"$nulls":5},5000003,1]
[{"$nulls":3},66,800,800,null,"不动",66,800,{"$f":"StoreConfig!J1165","v":"66|0#0#0#800"},{"$nulls":5},5000004,1]
[{"$nulls":3},66,800,800,null,"不动",66,800,{"$f":"StoreConfig!J1166","v":"66|0#0#0#800"},{"$nulls":5},5000005,1]
[{"$nulls":3},66,800,800,null,"不动",66,800,{"$f":"StoreConfig!J1167","v":"66|0#0#0#800"},{"$nulls":5},5000006,1]
[{"$nulls":3},66,800,800,null,"不动",66,800,{"$f":"StoreConfig!J1168","v":"66|0#0#0#800"},{"$nulls":5},5000007,1]
[{"$nulls":3},66,800,800,null,"不动",66,800,{"$f":"StoreConfig!J1169","v":"66|0#0#0#800"},{"$nulls":5},5000008,1]
[{"$nulls":3},66,3000,3000,null,"不动",66,3000,{"$f":"StoreConfig!J1170","v":"66|0#0#0#3000"},{"$nulls":5},5000009,1]
[{"$nulls":3},66,3000,3000,null,"不动",66,3000,{"$f":"StoreConfig!J1171","v":"66|0#0#0#3000"},{"$nulls":5},5000010,1]
[{"$nulls":3},66,3000,3000,null,"不动",66,3000,{"$f":"StoreConfig!J1172","v":"66|0#0#0#3000"},{"$nulls":5},5000011,1]
[{"$nulls":3},66,3000,3000,null,"不动",66,3000,{"$f":"StoreConfig!J1173","v":"66|0#0#0#3000"},{"$nulls":5},5000012,1]
[{"$nulls":3},66,3000,3000,null,"不动",66,3000,{"$f":"StoreConfig!J1174","v":"66|0#0#0#3000"},{"$nulls":5},5000013,1]
[{"$nulls":3},66,3000,3000,null,"不动",66,3000,{"$f":"StoreConfig!J1175","v":"66|0#0#0#3000"},{"$nulls":5},5000014,1]
[{"$nulls":3},66,3000,3000,null,"不动",66,3000,{"$f":"StoreConfig!J1176","v":"66|0#0#0#3000"},{"$nulls":5},5000015,1]
[{"$nulls":3},66,3000,3000,null,"不动",66,3000,{"$f":"StoreConfig!J1177","v":"66|0#0#0#3000"},{"$nulls":5},5000016,1]
[{"$nulls":3},66,3000,3000,null,"不动",66,3000,{"$f":"StoreConfig!J1178","v":"66|0#0#0#3000"},{"$nulls":5},5000017,1]
[{"$nulls":3},66,3000,3000,null,"不动",66,3000,{"$f":"StoreConfig!J1179","v":"66|0#0#0#3000"},{"$nulls":5},5000018,1]
[{"$nulls":3},66,3000,3000,null,"不动",66,3000,{"$f":"StoreConfig!J1180","v":"66|0#0#0#3000"},{"$nulls":5},5000019,1]
[{"$nulls":3},66,3000,3000,null,"不动",66,3000,{"$f":"StoreConfig!J1181","v":"66|0#0#0#3000"},{"$nulls":5},5000020,1]
[{"$nulls":3},66,3000,3000,null,"不动",66,3000,{"$f":"StoreConfig!J1182","v":"66|0#0#0#3000"},{"$nulls":5},5000021,1]
[{"$nulls":3},66,3000,3000,null,"不动",66,3000,{"$f":"StoreConfig!J1183","v":"66|0#0#0#3000"},{"$nulls":5},5000022,1]
[{"$nulls":3},66,3000,3000,null,"不动",66,3000,{"$f":"StoreConfig!J1184","v":"66|0#0#0#3000"},{"$nulls":5},5000023,1]
[{"$nulls":3},66,3000,3000,null,"不动",66,3000,{"$f":"StoreConfig!J1185","v":"66|0#0#0#3000"},{"$nulls":5},5000024,1]
[{"$nulls":3},66,3000,3000,null,"不动",66,3000,{"$f":"StoreConfig!J1186","v":"66|0#0#0#3000"},{"$nulls":5},5000025,1]
[{"$nulls":3},66,3000,3000,null,"不动",66,3000,{"$f":"StoreConfig!J1187","v":"66|0#0#0#3000"},{"$nulls":5},5000026,1]
[{"$nulls":3},66,3000,3000,null,"不动",66,3000,{"$f":"StoreConfig!J1188","v":"66|0#0#0#3000"},{"$nulls":5},5000027,1]
[{"$nulls":3},66,3000,3000,null,"不动",66,3000,{"$f":"StoreConfig!J1189","v":"66|0#0#0#3000"},{"$nulls":5},5000028,1]
[{"$nulls":3},66,3000,3000,null,"不动",66,3000,{"$f":"StoreConfig!J1190","v":"66|0#0#0#3000"},{"$nulls":5},5000029,1]
[{"$nulls":3},66,3000,3000,null,"不动",66,3000,{"$f":"StoreConfig!J1191","v":"66|0#0#0#3000"},{"$nulls":5},5000030,1]
[{"$nulls":3},66,3000,3000,null,"不动",66,3000,{"$f":"StoreConfig!J1192","v":"66|0#0#0#3000"},{"$nulls":5},5000031,1]
[{"$nulls":3},66,3000,3000,null,"不动",66,3000,{"$f":"StoreConfig!J1193","v":"66|0#0#0#3000"},{"$nulls":5},5000032,1]
[{"$nulls":3},66,10000,10000,null,"不动",66,10000,{"$f":"StoreConfig!J1194","v":"66|0#0#0#10000"},{"$nulls":5},5000033,1]
[{"$nulls":3},66,10000,10000,null,"不动",66,10000,{"$f":"StoreConfig!J1195","v":"66|0#0#0#10000"},{"$nulls":5},5000034,1]
[{"$nulls":3},66,10000,10000,null,"不动",66,10000,{"$f":"StoreConfig!J1196","v":"66|0#0#0#10000"},{"$nulls":5},5000035,1]
[{"$nulls":3},66,10000,10000,null,"不动",66,10000,{"$f":"StoreConfig!J1197","v":"66|0#0#0#10000"},{"$nulls":5},5000036,1]
[{"$nulls":3},66,10000,10000,null,"不动",66,10000,{"$f":"StoreConfig!J1198","v":"66|0#0#0#10000"},{"$nulls":5},5000037,1]
[{"$nulls":3},66,10000,10000,null,"不动",66,10000,{"$f":"StoreConfig!J1199","v":"66|0#0#0#10000"},{"$nulls":5},5000038,1]
[{"$nulls":3},66,10000,10000,null,"不动",66,10000,{"$f":"StoreConfig!J1200","v":"66|0#0#0#10000"},{"$nulls":5},5000039,1]
[{"$nulls":3},66,10000,10000,null,"不动",66,10000,{"$f":"StoreConfig!J1201","v":"66|0#0#0#10000"},{"$nulls":5},5000040,1]
[{"$nulls":3},66,10000,10000,null,"不动",66,10000,{"$f":"StoreConfig!J1202","v":"66|0#0#0#10000"},{"$nulls":5},5000041,1]
[{"$nulls":3},66,10000,10000,null,"不动",66,10000,{"$f":"StoreConfig!J1203","v":"66|0#0#0#10000"},{"$nulls":5},5000042,1]
[{"$nulls":3},66,10000,10000,null,"不动",66,10000,{"$f":"StoreConfig!J1204","v":"66|0#0#0#10000"},{"$nulls":5},5000043,1]
[{"$nulls":3},66,10000,10000,null,"不动",66,10000,{"$f":"StoreConfig!J1205","v":"66|0#0#0#10000"},{"$nulls":5},5000044,1]
[{"$nulls":3},66,10000,10000,null,"不动",66,10000,{"$f":"StoreConfig!J1206","v":"66|0#0#0#10000"},{"$nulls":5},5000045,1]
[{"$nulls":3},66,10000,10000,null,"不动",66,10000,{"$f":"StoreConfig!J1207","v":"66|0#0#0#10000"},{"$nulls":5},5000046,1]
[{"$nulls":3},66,10000,10000,null,"不动",66,10000,{"$f":"StoreConfig!J1208","v":"66|0#0#0#10000"},{"$nulls":5},5000047,1]
[{"$nulls":3},16,800,800,null,"不动",16,800,{"$f":"StoreConfig!J1209","v":"16|0#0#0#800"},{"$nulls":5},5000001,1]
[{"$nulls":3},16,800,800,null,"不动",16,800,{"$f":"StoreConfig!J1210","v":"16|0#0#0#800"},{"$nulls":5},5000002,1]
[{"$nulls":3},16,800,800,null,"不动",16,800,{"$f":"StoreConfig!J1211","v":"16|0#0#0#800"},{"$nulls":5},5000003,1]
[{"$nulls":3},16,800,800,null,"不动",16,800,{"$f":"StoreConfig!J1212","v":"16|0#0#0#800"},{"$nulls":5},5000004,1]
[{"$nulls":3},16,800,800,null,"不动",16,800,{"$f":"StoreConfig!J1213","v":"16|0#0#0#800"},{"$nulls":5},5000005,1]
[{"$nulls":3},16,800,800,null,"不动",16,800,{"$f":"StoreConfig!J1214","v":"16|0#0#0#800"},{"$nulls":5},5000006,1]
[{"$nulls":3},16,800,800,null,"不动",16,800,{"$f":"StoreConfig!J1215","v":"16|0#0#0#800"},{"$nulls":5},5000007,1]
[{"$nulls":3},16,800,800,null,"不动",16,800,{"$f":"StoreConfig!J1216","v":"16|0#0#0#800"},{"$nulls":5},5000008,1]
[{"$nulls":3},16,3000,3000,null,"不动",16,3000,{"$f":"StoreConfig!J1217","v":"16|0#0#0#3000"},{"$nulls":5},5000009,1]
[{"$nulls":3},16,3000,3000,null,"不动",16,3000,{"$f":"StoreConfig!J1218","v":"16|0#0#0#3000"},{"$nulls":5},5000010,1]
[{"$nulls":3},16,3000,3000,null,"不动",16,3000,{"$f":"StoreConfig!J1219","v":"16|0#0#0#3000"},{"$nulls":5},5000011,1]
[{"$nulls":3},16,3000,3000,null,"不动",16,3000,{"$f":"StoreConfig!J1220","v":"16|0#0#0#3000"},{"$nulls":5},5000012,1]
[{"$nulls":3},16,3000,3000,null,"不动",16,3000,{"$f":"StoreConfig!J1221","v":"16|0#0#0#3000"},{"$nulls":5},5000013,1]
[{"$nulls":3},16,3000,3000,null,"不动",16,3000,{"$f":"StoreConfig!J1222","v":"16|0#0#0#3000"},{"$nulls":5},5000014,1]
[{"$nulls":3},16,3000,3000,null,"不动",16,3000,{"$f":"StoreConfig!J1223","v":"16|0#0#0#3000"},{"$nulls":5},5000015,1]
[{"$nulls":3},16,3000,3000,null,"不动",16,3000,{"$f":"StoreConfig!J1224","v":"16|0#0#0#3000"},{"$nulls":5},5000016,1]
[{"$nulls":3},16,3000,3000,null,"不动",16,3000,{"$f":"StoreConfig!J1225","v":"16|0#0#0#3000"},{"$nulls":5},5000017,1]
[{"$nulls":3},16,3000,3000,null,"不动",16,3000,{"$f":"StoreConfig!J1226","v":"16|0#0#0#3000"},{"$nulls":5},5000018,1]
[{"$nulls":3},16,3000,3000,null,"不动",16,3000,{"$f":"StoreConfig!J1227","v":"16|0#0#0#3000"},{"$nulls":5},5000019,1]
[{"$nulls":3},16,3000,3000,null,"不动",16,3000,{"$f":"StoreConfig!J1228","v":"16|0#0#0#3000"},{"$nulls":5},5000020,1]
[{"$nulls":3},16,3000,3000,null,"不动",16,3000,{"$f":"StoreConfig!J1229","v":"16|0#0#0#3000"},{"$nulls":5},5000021,1]
[{"$nulls":3},16,3000,3000,null,"不动",16,3000,{"$f":"StoreConfig!J1230","v":"16|0#0#0#3000"},{"$nulls":5},5000022,1]
[{"$nulls":3},16,3000,3000,null,"不动",16,3000,{"$f":"StoreConfig!J1231","v":"16|0#0#0#3000"},{"$nulls":5},5000023,1]
[{"$nulls":3},16,3000,3000,null,"不动",16,3000,{"$f":"StoreConfig!J1232","v":"16|0#0#0#3000"},{"$nulls":5},5000024,1]
[{"$nulls":3},16,3000,3000,null,"不动",16,3000,{"$f":"StoreConfig!J1233","v":"16|0#0#0#3000"},{"$nulls":5},5000025,1]
[{"$nulls":3},16,3000,3000,null,"不动",16,3000,{"$f":"StoreConfig!J1234","v":"16|0#0#0#3000"},{"$nulls":5},5000026,1]
[{"$nulls":3},16,3000,3000,null,"不动",16,3000,{"$f":"StoreConfig!J1235","v":"16|0#0#0#3000"},{"$nulls":5},5000027,1]
[{"$nulls":3},16,3000,3000,null,"不动",16,3000,{"$f":"StoreConfig!J1236","v":"16|0#0#0#3000"},{"$nulls":5},5000028,1]
[{"$nulls":3},16,3000,3000,null,"不动",16,3000,{"$f":"StoreConfig!J1237","v":"16|0#0#0#3000"},{"$nulls":5},5000029,1]
[{"$nulls":3},16,3000,3000,null,"不动",16,3000,{"$f":"StoreConfig!J1238","v":"16|0#0#0#3000"},{"$nulls":5},5000030,1]
[{"$nulls":3},16,3000,3000,null,"不动",16,3000,{"$f":"StoreConfig!J1239","v":"16|0#0#0#3000"},{"$nulls":5},5000031,1]
[{"$nulls":3},16,3000,3000,null,"不动",16,3000,{"$f":"StoreConfig!J1240","v":"16|0#0#0#3000"},{"$nulls":5},5000032,1]
[{"$nulls":3},16,10000,10000,null,"不动",16,10000,{"$f":"StoreConfig!J1241","v":"16|0#0#0#10000"},{"$nulls":5},5000033,1]
[{"$nulls":3},16,10000,10000,null,"不动",16,10000,{"$f":"StoreConfig!J1242","v":"16|0#0#0#10000"},{"$nulls":5},5000034,1]
[{"$nulls":3},16,10000,10000,null,"不动",16,10000,{"$f":"StoreConfig!J1243","v":"16|0#0#0#10000"},{"$nulls":5},5000035,1]
[{"$nulls":3},16,10000,10000,null,"不动",16,10000,{"$f":"StoreConfig!J1244","v":"16|0#0#0#10000"},{"$nulls":5},5000036,1]
[{"$nulls":3},16,10000,10000,null,"不动",16,10000,{"$f":"StoreConfig!J1245","v":"16|0#0#0#10000"},{"$nulls":5},5000037,1]
[{"$nulls":3},16,10000,10000,null,"不动",16,10000,{"$f":"StoreConfig!J1246","v":"16|0#0#0#10000"},{"$nulls":5},5000038,1]
[{"$nulls":3},16,10000,10000,null,"不动",16,10000,{"$f":"StoreConfig!J1247","v":"16|0#0#0#10000"},{"$nulls":5},5000039,1]
[{"$nulls":3},16,10000,10000,null,"不动",16,10000,{"$f":"StoreConfig!J1248","v":"16|0#0#0#10000"},{"$nulls":5},5000040,1]
[{"$nulls":3},16,10000,10000,null,"不动",16,10000,{"$f":"StoreConfig!J1249","v":"16|0#0#0#10000"},{"$nulls":5},5000041,1]
[{"$nulls":3},16,10000,10000,null,"不动",16,10000,{"$f":"StoreConfig!J1250","v":"16|0#0#0#10000"},{"$nulls":5},5000042,1]
[{"$nulls":3},16,10000,10000,null,"不动",16,10000,{"$f":"StoreConfig!J1251","v":"16|0#0#0#10000"},{"$nulls":5},5000043,1]
[{"$nulls":3},16,10000,10000,null,"不动",16,10000,{"$f":"StoreConfig!J1252","v":"16|0#0#0#10000"},{"$nulls":5},5000044,1]
[{"$nulls":3},16,10000,10000,null,"不动",16,10000,{"$f":"StoreConfig!J1253","v":"16|0#0#0#10000"},{"$nulls":5},5000045,1]
[{"$nulls":3},16,10000,10000,null,"不动",16,10000,{"$f":"StoreConfig!J1254","v":"16|0#0#0#10000"},{"$nulls":5},5000046,1]
[{"$nulls":3},16,10000,10000,null,"不动",16,10000,{"$f":"StoreConfig!J1255","v":"16|0#0#0#10000"},{"$nulls":5},5000047,1]
[{"$nulls":3},66,800,800,null,"不动",66,800,{"$f":"StoreConfig!J1256","v":"66|0#0#0#800"},{"$nulls":5},5000001,1]
[{"$nulls":3},66,800,800,null,"不动",66,800,{"$f":"StoreConfig!J1257","v":"66|0#0#0#800"},{"$nulls":5},5000002,1]
[{"$nulls":3},66,800,800,null,"不动",66,800,{"$f":"StoreConfig!J1258","v":"66|0#0#0#800"},{"$nulls":5},5000003,1]
[{"$nulls":3},66,800,800,null,"不动",66,800,{"$f":"StoreConfig!J1259","v":"66|0#0#0#800"},{"$nulls":5},5000004,1]
[{"$nulls":3},66,800,800,null,"不动",66,800,{"$f":"StoreConfig!J1260","v":"66|0#0#0#800"},{"$nulls":5},5000005,1]
[{"$nulls":3},66,800,800,null,"不动",66,800,{"$f":"StoreConfig!J1261","v":"66|0#0#0#800"},{"$nulls":5},5000006,1]
[{"$nulls":3},66,800,800,null,"不动",66,800,{"$f":"StoreConfig!J1262","v":"66|0#0#0#800"},{"$nulls":5},5000007,1]
[{"$nulls":3},66,800,800,null,"不动",66,800,{"$f":"StoreConfig!J1263","v":"66|0#0#0#800"},{"$nulls":5},5000008,1]
[{"$nulls":3},66,3000,3000,null,"不动",66,3000,{"$f":"StoreConfig!J1264","v":"66|0#0#0#3000"},{"$nulls":5},5000009,1]
[{"$nulls":3},66,3000,3000,null,"不动",66,3000,{"$f":"StoreConfig!J1265","v":"66|0#0#0#3000"},{"$nulls":5},5000010,1]
[{"$nulls":3},66,3000,3000,null,"不动",66,3000,{"$f":"StoreConfig!J1266","v":"66|0#0#0#3000"},{"$nulls":5},5000011,1]
[{"$nulls":3},66,3000,3000,null,"不动",66,3000,{"$f":"StoreConfig!J1267","v":"66|0#0#0#3000"},{"$nulls":5},5000012,1]
[{"$nulls":3},66,3000,3000,null,"不动",66,3000,{"$f":"StoreConfig!J1268","v":"66|0#0#0#3000"},{"$nulls":5},5000013,1]
[{"$nulls":3},66,3000,3000,null,"不动",66,3000,{"$f":"StoreConfig!J1269","v":"66|0#0#0#3000"},{"$nulls":5},5000014,1]
[{"$nulls":3},66,3000,3000,null,"不动",66,3000,{"$f":"StoreConfig!J1270","v":"66|0#0#0#3000"},{"$nulls":5},5000015,1]
[{"$nulls":3},66,3000,3000,null,"不动",66,3000,{"$f":"StoreConfig!J1271","v":"66|0#0#0#3000"},{"$nulls":5},5000016,1]
[{"$nulls":3},66,3000,3000,null,"不动",66,3000,{"$f":"StoreConfig!J1272","v":"66|0#0#0#3000"},{"$nulls":5},5000017,1]
[{"$nulls":3},66,3000,3000,null,"不动",66,3000,{"$f":"StoreConfig!J1273","v":"66|0#0#0#3000"},{"$nulls":5},5000018,1]
[{"$nulls":3},66,3000,3000,null,"不动",66,3000,{"$f":"StoreConfig!J1274","v":"66|0#0#0#3000"},{"$nulls":5},5000019,1]
[{"$nulls":3},66,3000,3000,null,"不动",66,3000,{"$f":"StoreConfig!J1275","v":"66|0#0#0#3000"},{"$nulls":5},5000020,1]
[{"$nulls":3},66,3000,3000,null,"不动",66,3000,{"$f":"StoreConfig!J1276","v":"66|0#0#0#3000"},{"$nulls":5},5000021,1]
[{"$nulls":3},66,3000,3000,null,"不动",66,3000,{"$f":"StoreConfig!J1277","v":"66|0#0#0#3000"},{"$nulls":5},5000022,1]
[{"$nulls":3},66,3000,3000,null,"不动",66,3000,{"$f":"StoreConfig!J1278","v":"66|0#0#0#3000"},{"$nulls":5},5000023,1]
[{"$nulls":3},66,3000,3000,null,"不动",66,3000,{"$f":"StoreConfig!J1279","v":"66|0#0#0#3000"},{"$nulls":5},5000024,1]
[{"$nulls":3},66,3000,3000,null,"不动",66,3000,{"$f":"StoreConfig!J1280","v":"66|0#0#0#3000"},{"$nulls":5},5000025,1]
[{"$nulls":3},66,3000,3000,null,"不动",66,3000,{"$f":"StoreConfig!J1281","v":"66|0#0#0#3000"},{"$nulls":5},5000026,1]
[{"$nulls":3},66,3000,3000,null,"不动",66,3000,{"$f":"StoreConfig!J1282","v":"66|0#0#0#3000"},{"$nulls":5},5000027,1]
[{"$nulls":3},66,3000,3000,null,"不动",66,3000,{"$f":"StoreConfig!J1283","v":"66|0#0#0#3000"},{"$nulls":5},5000028,1]
[{"$nulls":3},66,3000,3000,null,"不动",66,3000,{"$f":"StoreConfig!J1284","v":"66|0#0#0#3000"},{"$nulls":5},5000029,1]
[{"$nulls":3},66,3000,3000,null,"不动",66,3000,{"$f":"StoreConfig!J1285","v":"66|0#0#0#3000"},{"$nulls":5},5000030,1]
[{"$nulls":3},66,3000,3000,null,"不动",66,3000,{"$f":"StoreConfig!J1286","v":"66|0#0#0#3000"},{"$nulls":5},5000031,1]
[{"$nulls":3},66,3000,3000,null,"不动",66,3000,{"$f":"StoreConfig!J1287","v":"66|0#0#0#3000"},{"$nulls":5},5000032,1]
[{"$nulls":3},66,10000,10000,null,"不动",66,10000,{"$f":"StoreConfig!J1288","v":"66|0#0#0#10000"},{"$nulls":5},5000033,1]
[{"$nulls":3},66,10000,10000,null,"不动",66,10000,{"$f":"StoreConfig!J1289","v":"66|0#0#0#10000"},{"$nulls":5},5000034,1]
[{"$nulls":3},66,10000,10000,null,"不动",66,10000,{"$f":"StoreConfig!J1290","v":"66|0#0#0#10000"},{"$nulls":5},5000035,1]
[{"$nulls":3},66,10000,10000,null,"不动",66,10000,{"$f":"StoreConfig!J1291","v":"66|0#0#0#10000"},{"$nulls":5},5000036,1]
[{"$nulls":3},66,10000,10000,null,"不动",66,10000,{"$f":"StoreConfig!J1292","v":"66|0#0#0#10000"},{"$nulls":5},5000037,1]
[{"$nulls":3},66,10000,10000,null,"不动",66,10000,{"$f":"StoreConfig!J1293","v":"66|0#0#0#10000"},{"$nulls":5},5000038,1]
[{"$nulls":3},66,10000,10000,null,"不动",66,10000,{"$f":"StoreConfig!J1294","v":"66|0#0#0#10000"},{"$nulls":5},5000039,1]
[{"$nulls":3},66,10000,10000,null,"不动",66,10000,{"$f":"StoreConfig!J1295","v":"66|0#0#0#10000"},{"$nulls":5},5000040,1]
[{"$nulls":3},66,10000,10000,null,"不动",66,10000,{"$f":"StoreConfig!J1296","v":"66|0#0#0#10000"},{"$nulls":5},5000041,1]
[{"$nulls":3},66,10000,10000,null,"不动",66,10000,{"$f":"StoreConfig!J1297","v":"66|0#0#0#10000"},{"$nulls":5},5000042,1]
[{"$nulls":3},66,10000,10000,null,"不动",66,10000,{"$f":"StoreConfig!J1298","v":"66|0#0#0#10000"},{"$nulls":5},5000043,1]
[{"$nulls":3},66,10000,10000,null,"不动",66,10000,{"$f":"StoreConfig!J1299","v":"66|0#0#0#10000"},{"$nulls":5},5000044,1]
[{"$nulls":3},66,10000,10000,null,"不动",66,10000,{"$f":"StoreConfig!J1300","v":"66|0#0#0#10000"},{"$nulls":5},5000045,1]
[{"$nulls":3},66,10000,10000,null,"不动",66,10000,{"$f":"StoreConfig!J1301","v":"66|0#0#0#10000"},{"$nulls":5},5000046,1]
[{"$nulls":3},66,10000,10000,null,"不动",66,10000,{"$f":"StoreConfig!J1302","v":"66|0#0#0#10000"},{"$nulls":5},5000047,1]
[{"$nulls":3},16,800,800,null,"不动",16,800,{"$f":"StoreConfig!J1303","v":"16|0#0#0#800"},{"$nulls":5},5000001,1]
[{"$nulls":3},16,800,800,null,"不动",16,800,{"$f":"StoreConfig!J1304","v":"16|0#0#0#800"},{"$nulls":5},5000002,1]
[{"$nulls":3},16,800,800,null,"不动",16,800,{"$f":"StoreConfig!J1305","v":"16|0#0#0#800"},{"$nulls":5},5000003,1]
[{"$nulls":3},16,800,800,null,"不动",16,800,{"$f":"StoreConfig!J1306","v":"16|0#0#0#800"},{"$nulls":5},5000004,1]
[{"$nulls":3},16,800,800,null,"不动",16,800,{"$f":"StoreConfig!J1307","v":"16|0#0#0#800"},{"$nulls":5},5000005,1]
[{"$nulls":3},16,800,800,null,"不动",16,800,{"$f":"StoreConfig!J1308","v":"16|0#0#0#800"},{"$nulls":5},5000006,1]
[{"$nulls":3},16,800,800,null,"不动",16,800,{"$f":"StoreConfig!J1309","v":"16|0#0#0#800"},{"$nulls":5},5000007,1]
[{"$nulls":3},16,800,800,null,"不动",16,800,{"$f":"StoreConfig!J1310","v":"16|0#0#0#800"},{"$nulls":5},5000008,1]
[{"$nulls":3},16,3000,3000,null,"不动",16,3000,{"$f":"StoreConfig!J1311","v":"16|0#0#0#3000"},{"$nulls":5},5000009,1]
[{"$nulls":3},16,3000,3000,null,"不动",16,3000,{"$f":"StoreConfig!J1312","v":"16|0#0#0#3000"},{"$nulls":5},5000010,1]
[{"$nulls":3},16,3000,3000,null,"不动",16,3000,{"$f":"StoreConfig!J1313","v":"16|0#0#0#3000"},{"$nulls":5},5000011,1]
[{"$nulls":3},16,3000,3000,null,"不动",16,3000,{"$f":"StoreConfig!J1314","v":"16|0#0#0#3000"},{"$nulls":5},5000012,1]
[{"$nulls":3},16,3000,3000,null,"不动",16,3000,{"$f":"StoreConfig!J1315","v":"16|0#0#0#3000"},{"$nulls":5},5000013,1]
[{"$nulls":3},16,3000,3000,null,"不动",16,3000,{"$f":"StoreConfig!J1316","v":"16|0#0#0#3000"},{"$nulls":5},5000014,1]
[{"$nulls":3},16,3000,3000,null,"不动",16,3000,{"$f":"StoreConfig!J1317","v":"16|0#0#0#3000"},{"$nulls":5},5000015,1]
[{"$nulls":3},16,3000,3000,null,"不动",16,3000,{"$f":"StoreConfig!J1318","v":"16|0#0#0#3000"},{"$nulls":5},5000016,1]
[{"$nulls":3},16,3000,3000,null,"不动",16,3000,{"$f":"StoreConfig!J1319","v":"16|0#0#0#3000"},{"$nulls":5},5000017,1]
[{"$nulls":3},16,3000,3000,null,"不动",16,3000,{"$f":"StoreConfig!J1320","v":"16|0#0#0#3000"},{"$nulls":5},5000018,1]
[{"$nulls":3},16,3000,3000,null,"不动",16,3000,{"$f":"StoreConfig!J1321","v":"16|0#0#0#3000"},{"$nulls":5},5000019,1]
[{"$nulls":3},16,3000,3000,null,"不动",16,3000,{"$f":"StoreConfig!J1322","v":"16|0#0#0#3000"},{"$nulls":5},5000020,1]
[{"$nulls":3},16,3000,3000,null,"不动",16,3000,{"$f":"StoreConfig!J1323","v":"16|0#0#0#3000"},{"$nulls":5},5000021,1]
[{"$nulls":3},16,3000,3000,null,"不动",16,3000,{"$f":"StoreConfig!J1324","v":"16|0#0#0#3000"},{"$nulls":5},5000022,1]
[{"$nulls":3},16,3000,3000,null,"不动",16,3000,{"$f":"StoreConfig!J1325","v":"16|0#0#0#3000"},{"$nulls":5},5000023,1]
[{"$nulls":3},16,3000,3000,null,"不动",16,3000,{"$f":"StoreConfig!J1326","v":"16|0#0#0#3000"},{"$nulls":5},5000024,1]
[{"$nulls":3},16,3000,3000,null,"不动",16,3000,{"$f":"StoreConfig!J1327","v":"16|0#0#0#3000"},{"$nulls":5},5000025,1]
[{"$nulls":3},16,3000,3000,null,"不动",16,3000,{"$f":"StoreConfig!J1328","v":"16|0#0#0#3000"},{"$nulls":5},5000026,1]
[{"$nulls":3},16,3000,3000,null,"不动",16,3000,{"$f":"StoreConfig!J1329","v":"16|0#0#0#3000"},{"$nulls":5},5000027,1]
[{"$nulls":3},16,3000,3000,null,"不动",16,3000,{"$f":"StoreConfig!J1330","v":"16|0#0#0#3000"},{"$nulls":5},5000028,1]
[{"$nulls":3},16,3000,3000,null,"不动",16,3000,{"$f":"StoreConfig!J1331","v":"16|0#0#0#3000"},{"$nulls":5},5000029,1]
[{"$nulls":3},16,3000,3000,null,"不动",16,3000,{"$f":"StoreConfig!J1332","v":"16|0#0#0#3000"},{"$nulls":5},5000030,1]
[{"$nulls":3},16,3000,3000,null,"不动",16,3000,{"$f":"StoreConfig!J1333","v":"16|0#0#0#3000"},{"$nulls":5},5000031,1]
[{"$nulls":3},16,3000,3000,null,"不动",16,3000,{"$f":"StoreConfig!J1334","v":"16|0#0#0#3000"},{"$nulls":5},5000032,1]
[{"$nulls":3},16,10000,10000,null,"不动",16,10000,{"$f":"StoreConfig!J1335","v":"16|0#0#0#10000"},{"$nulls":5},5000033,1]
[{"$nulls":3},16,10000,10000,null,"不动",16,10000,{"$f":"StoreConfig!J1336","v":"16|0#0#0#10000"},{"$nulls":5},5000034,1]
[{"$nulls":3},16,10000,10000,null,"不动",16,10000,{"$f":"StoreConfig!J1337","v":"16|0#0#0#10000"},{"$nulls":5},5000035,1]
[{"$nulls":3},16,10000,10000,null,"不动",16,10000,{"$f":"StoreConfig!J1338","v":"16|0#0#0#10000"},{"$nulls":5},5000036,1]
[{"$nulls":3},16,10000,10000,null,"不动",16,10000,{"$f":"StoreConfig!J1339","v":"16|0#0#0#10000"},{"$nulls":5},5000037,1]
[{"$nulls":3},16,10000,10000,null,"不动",16,10000,{"$f":"StoreConfig!J1340","v":"16|0#0#0#10000"},{"$nulls":5},5000038,1]
[{"$nulls":3},16,10000,10000,null,"不动",16,10000,{"$f":"StoreConfig!J1341","v":"16|0#0#0#10000"},{"$nulls":5},5000039,1]
[{"$nulls":3},16,10000,10000,null,"不动",16,10000,{"$f":"StoreConfig!J1342","v":"16|0#0#0#10000"},{"$nulls":5},5000040,1]
[{"$nulls":3},16,10000,10000,null,"不动",16,10000,{"$f":"StoreConfig!J1343","v":"16|0#0#0#10000"},{"$nulls":5},5000041,1]
[{"$nulls":3},16,10000,10000,null,"不动",16,10000,{"$f":"StoreConfig!J1344","v":"16|0#0#0#10000"},{"$nulls":5},5000042,1]
[{"$nulls":3},16,10000,10000,null,"不动",16,10000,{"$f":"StoreConfig!J1345","v":"16|0#0#0#10000"},{"$nulls":5},5000043,1]
[{"$nulls":3},16,10000,10000,null,"不动",16,10000,{"$f":"StoreConfig!J1346","v":"16|0#0#0#10000"},{"$nulls":5},5000044,1]
[{"$nulls":3},16,10000,10000,null,"不动",16,10000,{"$f":"StoreConfig!J1347","v":"16|0#0#0#10000"},{"$nulls":5},5000045,1]
[{"$nulls":3},16,10000,10000,null,"不动",16,10000,{"$f":"StoreConfig!J1348","v":"16|0#0#0#10000"},{"$nulls":5},5000046,1]
[{"$nulls":3},16,10000,10000,null,"不动",16,10000,{"$f":"StoreConfig!J1349","v":"16|0#0#0#10000"},{"$nulls":5},5000047,1]
[{"$nulls":3},66,800,800,null,"不动",66,800,{"$f":"StoreConfig!J1350","v":"66|0#0#0#800"},{"$nulls":5},5000001,1]
[{"$nulls":3},66,800,800,null,"不动",66,800,{"$f":"StoreConfig!J1351","v":"66|0#0#0#800"},{"$nulls":5},5000002,1]
[{"$nulls":3},66,800,800,null,"不动",66,800,{"$f":"StoreConfig!J1352","v":"66|0#0#0#800"},{"$nulls":5},5000003,1]
[{"$nulls":3},66,800,800,null,"不动",66,800,{"$f":"StoreConfig!J1353","v":"66|0#0#0#800"},{"$nulls":5},5000004,1]
[{"$nulls":3},66,800,800,null,"不动",66,800,{"$f":"StoreConfig!J1354","v":"66|0#0#0#800"},{"$nulls":5},5000005,1]
[{"$nulls":3},66,800,800,null,"不动",66,800,{"$f":"StoreConfig!J1355","v":"66|0#0#0#800"},{"$nulls":5},5000006,1]
[{"$nulls":3},66,800,800,null,"不动",66,800,{"$f":"StoreConfig!J1356","v":"66|0#0#0#800"},{"$nulls":5},5000007,1]
[{"$nulls":3},66,800,800,null,"不动",66,800,{"$f":"StoreConfig!J1357","v":"66|0#0#0#800"},{"$nulls":5},5000008,1]
[{"$nulls":3},66,3000,3000,null,"不动",66,3000,{"$f":"StoreConfig!J1358","v":"66|0#0#0#3000"},{"$nulls":5},5000009,1]
[{"$nulls":3},66,3000,3000,null,"不动",66,3000,{"$f":"StoreConfig!J1359","v":"66|0#0#0#3000"},{"$nulls":5},5000010,1]
[{"$nulls":3},66,3000,3000,null,"不动",66,3000,{"$f":"StoreConfig!J1360","v":"66|0#0#0#3000"},{"$nulls":5},5000011,1]
[{"$nulls":3},66,3000,3000,null,"不动",66,3000,{"$f":"StoreConfig!J1361","v":"66|0#0#0#3000"},{"$nulls":5},5000012,1]
[{"$nulls":3},66,3000,3000,null,"不动",66,3000,{"$f":"StoreConfig!J1362","v":"66|0#0#0#3000"},{"$nulls":5},5000013,1]
[{"$nulls":3},66,3000,3000,null,"不动",66,3000,{"$f":"StoreConfig!J1363","v":"66|0#0#0#3000"},{"$nulls":5},5000014,1]
[{"$nulls":3},66,3000,3000,null,"不动",66,3000,{"$f":"StoreConfig!J1364","v":"66|0#0#0#3000"},{"$nulls":5},5000015,1]
[{"$nulls":3},66,3000,3000,null,"不动",66,3000,{"$f":"StoreConfig!J1365","v":"66|0#0#0#3000"},{"$nulls":5},5000016,1]
[{"$nulls":3},66,3000,3000,null,"不动",66,3000,{"$f":"StoreConfig!J1366","v":"66|0#0#0#3000"},{"$nulls":5},5000017,1]
[{"$nulls":3},66,3000,3000,null,"不动",66,3000,{"$f":"StoreConfig!J1367","v":"66|0#0#0#3000"},{"$nulls":5},5000018,1]
[{"$nulls":3},66,3000,3000,null,"不动",66,3000,{"$f":"StoreConfig!J1368","v":"66|0#0#0#3000"},{"$nulls":5},5000019,1]
[{"$nulls":3},66,3000,3000,null,"不动",66,3000,{"$f":"StoreConfig!J1369","v":"66|0#0#0#3000"},{"$nulls":5},5000020,1]
[{"$nulls":3},66,3000,3000,null,"不动",66,3000,{"$f":"StoreConfig!J1370","v":"66|0#0#0#3000"},{"$nulls":5},5000021,1]
[{"$nulls":3},66,3000,3000,null,"不动",66,3000,{"$f":"StoreConfig!J1371","v":"66|0#0#0#3000"},{"$nulls":5},5000022,1]
[{"$nulls":3},66,3000,3000,null,"不动",66,3000,{"$f":"StoreConfig!J1372","v":"66|0#0#0#3000"},{"$nulls":5},5000023,1]
[{"$nulls":3},66,3000,3000,null,"不动",66,3000,{"$f":"StoreConfig!J1373","v":"66|0#0#0#3000"},{"$nulls":5},5000024,1]
[{"$nulls":3},66,3000,3000,null,"不动",66,3000,{"$f":"StoreConfig!J1374","v":"66|0#0#0#3000"},{"$nulls":5},5000025,1]
[{"$nulls":3},66,3000,3000,null,"不动",66,3000,{"$f":"StoreConfig!J1375","v":"66|0#0#0#3000"},{"$nulls":5},5000026,1]
[{"$nulls":3},66,3000,3000,null,"不动",66,3000,{"$f":"StoreConfig!J1376","v":"66|0#0#0#3000"},{"$nulls":5},5000027,1]
[{"$nulls":3},66,3000,3000,null,"不动",66,3000,{"$f":"StoreConfig!J1377","v":"66|0#0#0#3000"},{"$nulls":5},5000028,1]
[{"$nulls":3},66,3000,3000,null,"不动",66,3000,{"$f":"StoreConfig!J1378","v":"66|0#0#0#3000"},{"$nulls":5},5000029,1]
[{"$nulls":3},66,3000,3000,null,"不动",66,3000,{"$f":"StoreConfig!J1379","v":"66|0#0#0#3000"},{"$nulls":5},5000030,1]
[{"$nulls":3},66,3000,3000,null,"不动",66,3000,{"$f":"StoreConfig!J1380","v":"66|0#0#0#3000"},{"$nulls":5},5000031,1]
[{"$nulls":3},66,3000,3000,null,"不动",66,3000,{"$f":"StoreConfig!J1381","v":"66|0#0#0#3000"},{"$nulls":5},5000032,1]
[{"$nulls":3},66,10000,10000,null,"不动",66,10000,{"$f":"StoreConfig!J1382","v":"66|0#0#0#10000"},{"$nulls":5},5000033,1]
[{"$nulls":3},66,10000,10000,null,"不动",66,10000,{"$f":"StoreConfig!J1383","v":"66|0#0#0#10000"},{"$nulls":5},5000034,1]
[{"$nulls":3},66,10000,10000,null,"不动",66,10000,{"$f":"StoreConfig!J1384","v":"66|0#0#0#10000"},{"$nulls":5},5000035,1]
[{"$nulls":3},66,10000,10000,null,"不动",66,10000,{"$f":"StoreConfig!J1385","v":"66|0#0#0#10000"},{"$nulls":5},5000036,1]
[{"$nulls":3},66,10000,10000,null,"不动",66,10000,{"$f":"StoreConfig!J1386","v":"66|0#0#0#10000"},{"$nulls":5},5000037,1]
[{"$nulls":3},66,10000,10000,null,"不动",66,10000,{"$f":"StoreConfig!J1387","v":"66|0#0#0#10000"},{"$nulls":5},5000038,1]
[{"$nulls":3},66,10000,10000,null,"不动",66,10000,{"$f":"StoreConfig!J1388","v":"66|0#0#0#10000"},{"$nulls":5},5000039,1]
[{"$nulls":3},66,10000,10000,null,"不动",66,10000,{"$f":"StoreConfig!J1389","v":"66|0#0#0#10000"},{"$nulls":5},5000040,1]
[{"$nulls":3},66,10000,10000,null,"不动",66,10000,{"$f":"StoreConfig!J1390","v":"66|0#0#0#10000"},{"$nulls":5},5000041,1]
[{"$nulls":3},66,10000,10000,null,"不动",66,10000,{"$f":"StoreConfig!J1391","v":"66|0#0#0#10000"},{"$nulls":5},5000042,1]
[{"$nulls":3},66,10000,10000,null,"不动",66,10000,{"$f":"StoreConfig!J1392","v":"66|0#0#0#10000"},{"$nulls":5},5000043,1]
[{"$nulls":3},66,10000,10000,null,"不动",66,10000,{"$f":"StoreConfig!J1393","v":"66|0#0#0#10000"},{"$nulls":5},5000044,1]
[{"$nulls":3},66,10000,10000,null,"不动",66,10000,{"$f":"StoreConfig!J1394","v":"66|0#0#0#10000"},{"$nulls":5},5000045,1]
[{"$nulls":3},66,10000,10000,null,"不动",66,10000,{"$f":"StoreConfig!J1395","v":"66|0#0#0#10000"},{"$nulls":5},5000046,1]
[{"$nulls":3},66,10000,10000,null,"不动",66,10000,{"$f":"StoreConfig!J1396","v":"66|0#0#0#10000"},{"$nulls":5},5000047,1]
[{"$nulls":3},16,800,800,null,"不动",16,800,{"$f":"StoreConfig!J1397","v":"16|0#0#0#800"},{"$nulls":5},5000001,1]
[{"$nulls":3},16,800,800,null,"不动",16,800,{"$f":"StoreConfig!J1398","v":"16|0#0#0#800"},{"$nulls":5},5000002,1]
[{"$nulls":3},16,800,800,null,"不动",16,800,{"$f":"StoreConfig!J1399","v":"16|0#0#0#800"},{"$nulls":5},5000003,1]
[{"$nulls":3},16,800,800,null,"不动",16,800,{"$f":"StoreConfig!J1400","v":"16|0#0#0#800"},{"$nulls":5},5000004,1]
[{"$nulls":3},16,800,800,null,"不动",16,800,{"$f":"StoreConfig!J1401","v":"16|0#0#0#800"},{"$nulls":5},5000005,1]
[{"$nulls":3},16,800,800,null,"不动",16,800,{"$f":"StoreConfig!J1402","v":"16|0#0#0#800"},{"$nulls":5},5000006,1]
[{"$nulls":3},16,800,800,null,"不动",16,800,{"$f":"StoreConfig!J1403","v":"16|0#0#0#800"},{"$nulls":5},5000007,1]
[{"$nulls":3},16,800,800,null,"不动",16,800,{"$f":"StoreConfig!J1404","v":"16|0#0#0#800"},{"$nulls":5},5000008,1]
[{"$nulls":3},16,3000,3000,null,"不动",16,3000,{"$f":"StoreConfig!J1405","v":"16|0#0#0#3000"},{"$nulls":5},5000009,1]
[{"$nulls":3},16,3000,3000,null,"不动",16,3000,{"$f":"StoreConfig!J1406","v":"16|0#0#0#3000"},{"$nulls":5},5000010,1]
[{"$nulls":3},16,3000,3000,null,"不动",16,3000,{"$f":"StoreConfig!J1407","v":"16|0#0#0#3000"},{"$nulls":5},5000011,1]
[{"$nulls":3},16,3000,3000,null,"不动",16,3000,{"$f":"StoreConfig!J1408","v":"16|0#0#0#3000"},{"$nulls":5},5000012,1]
[{"$nulls":3},16,3000,3000,null,"不动",16,3000,{"$f":"StoreConfig!J1409","v":"16|0#0#0#3000"},{"$nulls":5},5000013,1]
[{"$nulls":3},16,3000,3000,null,"不动",16,3000,{"$f":"StoreConfig!J1410","v":"16|0#0#0#3000"},{"$nulls":5},5000014,1]
[{"$nulls":3},16,3000,3000,null,"不动",16,3000,{"$f":"StoreConfig!J1411","v":"16|0#0#0#3000"},{"$nulls":5},5000015,1]
[{"$nulls":3},16,3000,3000,null,"不动",16,3000,{"$f":"StoreConfig!J1412","v":"16|0#0#0#3000"},{"$nulls":5},5000016,1]
[{"$nulls":3},16,3000,3000,null,"不动",16,3000,{"$f":"StoreConfig!J1413","v":"16|0#0#0#3000"},{"$nulls":5},5000017,1]
[{"$nulls":3},16,3000,3000,null,"不动",16,3000,{"$f":"StoreConfig!J1414","v":"16|0#0#0#3000"},{"$nulls":5},5000018,1]
[{"$nulls":3},16,3000,3000,null,"不动",16,3000,{"$f":"StoreConfig!J1415","v":"16|0#0#0#3000"},{"$nulls":5},5000019,1]
[{"$nulls":3},16,3000,3000,null,"不动",16,3000,{"$f":"StoreConfig!J1416","v":"16|0#0#0#3000"},{"$nulls":5},5000020,1]
[{"$nulls":3},16,3000,3000,null,"不动",16,3000,{"$f":"StoreConfig!J1417","v":"16|0#0#0#3000"},{"$nulls":5},5000021,1]
[{"$nulls":3},16,3000,3000,null,"不动",16,3000,{"$f":"StoreConfig!J1418","v":"16|0#0#0#3000"},{"$nulls":5},5000022,1]
[{"$nulls":3},16,3000,3000,null,"不动",16,3000,{"$f":"StoreConfig!J1419","v":"16|0#0#0#3000"},{"$nulls":5},5000023,1]
[{"$nulls":3},16,3000,3000,null,"不动",16,3000,{"$f":"StoreConfig!J1420","v":"16|0#0#0#3000"},{"$nulls":5},5000024,1]
[{"$nulls":3},16,3000,3000,null,"不动",16,3000,{"$f":"StoreConfig!J1421","v":"16|0#0#0#3000"},{"$nulls":5},5000025,1]
[{"$nulls":3},16,3000,3000,null,"不动",16,3000,{"$f":"StoreConfig!J1422","v":"16|0#0#0#3000"},{"$nulls":5},5000026,1]
[{"$nulls":3},16,3000,3000,null,"不动",16,3000,{"$f":"StoreConfig!J1423","v":"16|0#0#0#3000"},{"$nulls":5},5000027,1]
[{"$nulls":3},16,3000,3000,null,"不动",16,3000,{"$f":"StoreConfig!J1424","v":"16|0#0#0#3000"},{"$nulls":5},5000028,1]
[{"$nulls":3},16,3000,3000,null,"不动",16,3000,{"$f":"StoreConfig!J1425","v":"16|0#0#0#3000"},{"$nulls":5},5000029,1]
[{"$nulls":3},16,3000,3000,null,"不动",16,3000,{"$f":"StoreConfig!J1426","v":"16|0#0#0#3000"},{"$nulls":5},5000030,1]
[{"$nulls":3},16,3000,3000,null,"不动",16,3000,{"$f":"StoreConfig!J1427","v":"16|0#0#0#3000"},{"$nulls":5},5000031,1]
[{"$nulls":3},16,3000,3000,null,"不动",16,3000,{"$f":"StoreConfig!J1428","v":"16|0#0#0#3000"},{"$nulls":5},5000032,1]
[{"$nulls":3},16,10000,10000,null,"不动",16,10000,{"$f":"StoreConfig!J1429","v":"16|0#0#0#10000"},{"$nulls":5},5000033,1]
[{"$nulls":3},16,10000,10000,null,"不动",16,10000,{"$f":"StoreConfig!J1430","v":"16|0#0#0#10000"},{"$nulls":5},5000034,1]
[{"$nulls":3},16,10000,10000,null,"不动",16,10000,{"$f":"StoreConfig!J1431","v":"16|0#0#0#10000"},{"$nulls":5},5000035,1]
[{"$nulls":3},16,10000,10000,null,"不动",16,10000,{"$f":"StoreConfig!J1432","v":"16|0#0#0#10000"},{"$nulls":5},5000036,1]
[{"$nulls":3},16,10000,10000,null,"不动",16,10000,{"$f":"StoreConfig!J1433","v":"16|0#0#0#10000"},{"$nulls":5},5000037,1]
[{"$nulls":3},16,10000,10000,null,"不动",16,10000,{"$f":"StoreConfig!J1434","v":"16|0#0#0#10000"},{"$nulls":5},5000038,1]
[{"$nulls":3},16,10000,10000,null,"不动",16,10000,{"$f":"StoreConfig!J1435","v":"16|0#0#0#10000"},{"$nulls":5},5000039,1]
[{"$nulls":3},16,10000,10000,null,"不动",16,10000,{"$f":"StoreConfig!J1436","v":"16|0#0#0#10000"},{"$nulls":5},5000040,1]
[{"$nulls":3},16,10000,10000,null,"不动",16,10000,{"$f":"StoreConfig!J1437","v":"16|0#0#0#10000"},{"$nulls":5},5000041,1]
[{"$nulls":3},16,10000,10000,null,"不动",16,10000,{"$f":"StoreConfig!J1438","v":"16|0#0#0#10000"},{"$nulls":5},5000042,1]
[{"$nulls":3},16,10000,10000,null,"不动",16,10000,{"$f":"StoreConfig!J1439","v":"16|0#0#0#10000"},{"$nulls":5},5000043,1]
[{"$nulls":3},16,10000,10000,null,"不动",16,10000,{"$f":"StoreConfig!J1440","v":"16|0#0#0#10000"},{"$nulls":5},5000044,1]
[{"$nulls":3},16,10000,10000,null,"不动",16,10000,{"$f":"StoreConfig!J1441","v":"16|0#0#0#10000"},{"$nulls":5},5000045,1]
[{"$nulls":3},16,10000,10000,null,"不动",16,10000,{"$f":"StoreConfig!J1442","v":"16|0#0#0#10000"},{"$nulls":5},5000046,1]
[{"$nulls":3},16,10000,10000,null,"不动",16,10000,{"$f":"StoreConfig!J1443","v":"16|0#0#0#10000"},{"$nulls":5},5000047,1]
[{"$nulls":3},66,800,800,null,"不动",66,800,{"$f":"StoreConfig!J1444","v":"66|0#0#0#800"},{"$nulls":5},5000001,1]
[{"$nulls":3},66,800,800,null,"不动",66,800,{"$f":"StoreConfig!J1445","v":"66|0#0#0#800"},{"$nulls":5},5000002,1]
[{"$nulls":3},66,800,800,null,"不动",66,800,{"$f":"StoreConfig!J1446","v":"66|0#0#0#800"},{"$nulls":5},5000003,1]
[{"$nulls":3},66,800,800,null,"不动",66,800,{"$f":"StoreConfig!J1447","v":"66|0#0#0#800"},{"$nulls":5},5000004,1]
[{"$nulls":3},66,800,800,null,"不动",66,800,{"$f":"StoreConfig!J1448","v":"66|0#0#0#800"},{"$nulls":5},5000005,1]
[{"$nulls":3},66,800,800,null,"不动",66,800,{"$f":"StoreConfig!J1449","v":"66|0#0#0#800"},{"$nulls":5},5000006,1]
[{"$nulls":3},66,800,800,null,"不动",66,800,{"$f":"StoreConfig!J1450","v":"66|0#0#0#800"},{"$nulls":5},5000007,1]
[{"$nulls":3},66,800,800,null,"不动",66,800,{"$f":"StoreConfig!J1451","v":"66|0#0#0#800"},{"$nulls":5},5000008,1]
[{"$nulls":3},66,3000,3000,null,"不动",66,3000,{"$f":"StoreConfig!J1452","v":"66|0#0#0#3000"},{"$nulls":5},5000009,1]
[{"$nulls":3},66,3000,3000,null,"不动",66,3000,{"$f":"StoreConfig!J1453","v":"66|0#0#0#3000"},{"$nulls":5},5000010,1]
[{"$nulls":3},66,3000,3000,null,"不动",66,3000,{"$f":"StoreConfig!J1454","v":"66|0#0#0#3000"},{"$nulls":5},5000011,1]
[{"$nulls":3},66,3000,3000,null,"不动",66,3000,{"$f":"StoreConfig!J1455","v":"66|0#0#0#3000"},{"$nulls":5},5000012,1]
[{"$nulls":3},66,3000,3000,null,"不动",66,3000,{"$f":"StoreConfig!J1456","v":"66|0#0#0#3000"},{"$nulls":5},5000013,1]
[{"$nulls":3},66,3000,3000,null,"不动",66,3000,{"$f":"StoreConfig!J1457","v":"66|0#0#0#3000"},{"$nulls":5},5000014,1]
[{"$nulls":3},66,3000,3000,null,"不动",66,3000,{"$f":"StoreConfig!J1458","v":"66|0#0#0#3000"},{"$nulls":5},5000015,1]
[{"$nulls":3},66,3000,3000,null,"不动",66,3000,{"$f":"StoreConfig!J1459","v":"66|0#0#0#3000"},{"$nulls":5},5000016,1]
[{"$nulls":3},66,3000,3000,null,"不动",66,3000,{"$f":"StoreConfig!J1460","v":"66|0#0#0#3000"},{"$nulls":5},5000017,1]
[{"$nulls":3},66,3000,3000,null,"不动",66,3000,{"$f":"StoreConfig!J1461","v":"66|0#0#0#3000"},{"$nulls":5},5000018,1]
[{"$nulls":3},66,3000,3000,null,"不动",66,3000,{"$f":"StoreConfig!J1462","v":"66|0#0#0#3000"},{"$nulls":5},5000019,1]
[{"$nulls":3},66,3000,3000,null,"不动",66,3000,{"$f":"StoreConfig!J1463","v":"66|0#0#0#3000"},{"$nulls":5},5000020,1]
[{"$nulls":3},66,3000,3000,null,"不动",66,3000,{"$f":"StoreConfig!J1464","v":"66|0#0#0#3000"},{"$nulls":5},5000021,1]
[{"$nulls":3},66,3000,3000,null,"不动",66,3000,{"$f":"StoreConfig!J1465","v":"66|0#0#0#3000"},{"$nulls":5},5000022,1]
[{"$nulls":3},66,3000,3000,null,"不动",66,3000,{"$f":"StoreConfig!J1466","v":"66|0#0#0#3000"},{"$nulls":5},5000023,1]
[{"$nulls":3},66,3000,3000,null,"不动",66,3000,{"$f":"StoreConfig!J1467","v":"66|0#0#0#3000"},{"$nulls":5},5000024,1]
[{"$nulls":3},66,3000,3000,null,"不动",66,3000,{"$f":"StoreConfig!J1468","v":"66|0#0#0#3000"},{"$nulls":5},5000025,1]
[{"$nulls":3},66,3000,3000,null,"不动",66,3000,{"$f":"StoreConfig!J1469","v":"66|0#0#0#3000"},{"$nulls":5},5000026,1]
[{"$nulls":3},66,3000,3000,null,"不动",66,3000,{"$f":"StoreConfig!J1470","v":"66|0#0#0#3000"},{"$nulls":5},5000027,1]
[{"$nulls":3},66,3000,3000,null,"不动",66,3000,{"$f":"StoreConfig!J1471","v":"66|0#0#0#3000"},{"$nulls":5},5000028,1]
[{"$nulls":3},66,3000,3000,null,"不动",66,3000,{"$f":"StoreConfig!J1472","v":"66|0#0#0#3000"},{"$nulls":5},5000029,1]
[{"$nulls":3},66,3000,3000,null,"不动",66,3000,{"$f":"StoreConfig!J1473","v":"66|0#0#0#3000"},{"$nulls":5},5000030,1]
[{"$nulls":3},66,3000,3000,null,"不动",66,3000,{"$f":"StoreConfig!J1474","v":"66|0#0#0#3000"},{"$nulls":5},5000031,1]
[{"$nulls":3},66,3000,3000,null,"不动",66,3000,{"$f":"StoreConfig!J1475","v":"66|0#0#0#3000"},{"$nulls":5},5000032,1]
[{"$nulls":3},66,10000,10000,null,"不动",66,10000,{"$f":"StoreConfig!J1476","v":"66|0#0#0#10000"},{"$nulls":5},5000033,1]
[{"$nulls":3},66,10000,10000,null,"不动",66,10000,{"$f":"StoreConfig!J1477","v":"66|0#0#0#10000"},{"$nulls":5},5000034,1]
[{"$nulls":3},66,10000,10000,null,"不动",66,10000,{"$f":"StoreConfig!J1478","v":"66|0#0#0#10000"},{"$nulls":5},5000035,1]
[{"$nulls":3},66,10000,10000,null,"不动",66,10000,{"$f":"StoreConfig!J1479","v":"66|0#0#0#10000"},{"$nulls":5},5000036,1]
[{"$nulls":3},66,10000,10000,null,"不动",66,10000,{"$f":"StoreConfig!J1480","v":"66|0#0#0#10000"},{"$nulls":5},5000037,1]
[{"$nulls":3},66,10000,10000,null,"不动",66,10000,{"$f":"StoreConfig!J1481","v":"66|0#0#0#10000"},{"$nulls":5},5000038,1]
[{"$nulls":3},66,10000,10000,null,"不动",66,10000,{"$f":"StoreConfig!J1482","v":"66|0#0#0#10000"},{"$nulls":5},5000039,1]
[{"$nulls":3},66,10000,10000,null,"不动",66,10000,{"$f":"StoreConfig!J1483","v":"66|0#0#0#10000"},{"$nulls":5},5000040,1]
[{"$nulls":3},66,10000,10000,null,"不动",66,10000,{"$f":"StoreConfig!J1484","v":"66|0#0#0#10000"},{"$nulls":5},5000041,1]
[{"$nulls":3},66,10000,10000,null,"不动",66,10000,{"$f":"StoreConfig!J1485","v":"66|0#0#0#10000"},{"$nulls":5},5000042,1]
[{"$nulls":3},66,10000,10000,null,"不动",66,10000,{"$f":"StoreConfig!J1486","v":"66|0#0#0#10000"},{"$nulls":5},5000043,1]
[{"$nulls":3},66,10000,10000,null,"不动",66,10000,{"$f":"StoreConfig!J1487","v":"66|0#0#0#10000"},{"$nulls":5},5000044,1]
[{"$nulls":3},66,10000,10000,null,"不动",66,10000,{"$f":"StoreConfig!J1488","v":"66|0#0#0#10000"},{"$nulls":5},5000045,1]
[{"$nulls":3},66,10000,10000,null,"不动",66,10000,{"$f":"StoreConfig!J1489","v":"66|0#0#0#10000"},{"$nulls":5},5000046,1]
[{"$nulls":3},66,10000,10000,null,"不动",66,10000,{"$f":"StoreConfig!J1490","v":"66|0#0#0#10000"},{"$nulls":5},5000047,1]
[{"$nulls":3},16,800,800,null,"不动",16,800,{"$f":"StoreConfig!J1491","v":"16|0#0#0#800"},{"$nulls":5},5000001,1]
[{"$nulls":3},16,800,800,null,"不动",16,800,{"$f":"StoreConfig!J1492","v":"16|0#0#0#800"},{"$nulls":5},5000002,1]
[{"$nulls":3},16,800,800,null,"不动",16,800,{"$f":"StoreConfig!J1493","v":"16|0#0#0#800"},{"$nulls":5},5000003,1]
[{"$nulls":3},16,800,800,null,"不动",16,800,{"$f":"StoreConfig!J1494","v":"16|0#0#0#800"},{"$nulls":5},5000004,1]
[{"$nulls":3},16,800,800,null,"不动",16,800,{"$f":"StoreConfig!J1495","v":"16|0#0#0#800"},{"$nulls":5},5000005,1]
[{"$nulls":3},16,800,800,null,"不动",16,800,{"$f":"StoreConfig!J1496","v":"16|0#0#0#800"},{"$nulls":5},5000006,1]
[{"$nulls":3},16,800,800,null,"不动",16,800,{"$f":"StoreConfig!J1497","v":"16|0#0#0#800"},{"$nulls":5},5000007,1]
[{"$nulls":3},16,800,800,null,"不动",16,800,{"$f":"StoreConfig!J1498","v":"16|0#0#0#800"},{"$nulls":5},5000008,1]
[{"$nulls":3},16,3000,3000,null,"不动",16,3000,{"$f":"StoreConfig!J1499","v":"16|0#0#0#3000"},{"$nulls":5},5000009,1]
[{"$nulls":3},16,3000,3000,null,"不动",16,3000,{"$f":"StoreConfig!J1500","v":"16|0#0#0#3000"},{"$nulls":5},5000010,1]
[{"$nulls":3},16,3000,3000,null,"不动",16,3000,{"$f":"StoreConfig!J1501","v":"16|0#0#0#3000"},{"$nulls":5},5000011,1]
[{"$nulls":3},16,3000,3000,null,"不动",16,3000,{"$f":"StoreConfig!J1502","v":"16|0#0#0#3000"},{"$nulls":5},5000012,1]
[{"$nulls":3},16,3000,3000,null,"不动",16,3000,{"$f":"StoreConfig!J1503","v":"16|0#0#0#3000"},{"$nulls":5},5000013,1]
[{"$nulls":3},16,3000,3000,null,"不动",16,3000,{"$f":"StoreConfig!J1504","v":"16|0#0#0#3000"},{"$nulls":5},5000014,1]
[{"$nulls":3},16,3000,3000,null,"不动",16,3000,{"$f":"StoreConfig!J1505","v":"16|0#0#0#3000"},{"$nulls":5},5000015,1]
[{"$nulls":3},16,3000,3000,null,"不动",16,3000,{"$f":"StoreConfig!J1506","v":"16|0#0#0#3000"},{"$nulls":5},5000016,1]
[{"$nulls":3},16,3000,3000,null,"不动",16,3000,{"$f":"StoreConfig!J1507","v":"16|0#0#0#3000"},{"$nulls":5},5000017,1]
[{"$nulls":3},16,3000,3000,null,"不动",16,3000,{"$f":"StoreConfig!J1508","v":"16|0#0#0#3000"},{"$nulls":5},5000018,1]
[{"$nulls":3},16,3000,3000,null,"不动",16,3000,{"$f":"StoreConfig!J1509","v":"16|0#0#0#3000"},{"$nulls":5},5000019,1]
[{"$nulls":3},16,3000,3000,null,"不动",16,3000,{"$f":"StoreConfig!J1510","v":"16|0#0#0#3000"},{"$nulls":5},5000020,1]
[{"$nulls":3},16,3000,3000,null,"不动",16,3000,{"$f":"StoreConfig!J1511","v":"16|0#0#0#3000"},{"$nulls":5},5000021,1]
[{"$nulls":3},16,3000,3000,null,"不动",16,3000,{"$f":"StoreConfig!J1512","v":"16|0#0#0#3000"},{"$nulls":5},5000022,1]
[{"$nulls":3},16,3000,3000,null,"不动",16,3000,{"$f":"StoreConfig!J1513","v":"16|0#0#0#3000"},{"$nulls":5},5000023,1]
[{"$nulls":3},16,3000,3000,null,"不动",16,3000,{"$f":"StoreConfig!J1514","v":"16|0#0#0#3000"},{"$nulls":5},5000024,1]
[{"$nulls":3},16,3000,3000,null,"不动",16,3000,{"$f":"StoreConfig!J1515","v":"16|0#0#0#3000"},{"$nulls":5},5000025,1]
[{"$nulls":3},16,3000,3000,null,"不动",16,3000,{"$f":"StoreConfig!J1516","v":"16|0#0#0#3000"},{"$nulls":5},5000026,1]
[{"$nulls":3},16,3000,3000,null,"不动",16,3000,{"$f":"StoreConfig!J1517","v":"16|0#0#0#3000"},{"$nulls":5},5000027,1]
[{"$nulls":3},16,3000,3000,null,"不动",16,3000,{"$f":"StoreConfig!J1518","v":"16|0#0#0#3000"},{"$nulls":5},5000028,1]
[{"$nulls":3},16,3000,3000,null,"不动",16,3000,{"$f":"StoreConfig!J1519","v":"16|0#0#0#3000"},{"$nulls":5},5000029,1]
[{"$nulls":3},16,3000,3000,null,"不动",16,3000,{"$f":"StoreConfig!J1520","v":"16|0#0#0#3000"},{"$nulls":5},5000030,1]
[{"$nulls":3},16,3000,3000,null,"不动",16,3000,{"$f":"StoreConfig!J1521","v":"16|0#0#0#3000"},{"$nulls":5},5000031,1]
[{"$nulls":3},16,3000,3000,null,"不动",16,3000,{"$f":"StoreConfig!J1522","v":"16|0#0#0#3000"},{"$nulls":5},5000032,1]
[{"$nulls":3},16,10000,10000,null,"不动",16,10000,{"$f":"StoreConfig!J1523","v":"16|0#0#0#10000"},{"$nulls":5},5000033,1]
[{"$nulls":3},16,10000,10000,null,"不动",16,10000,{"$f":"StoreConfig!J1524","v":"16|0#0#0#10000"},{"$nulls":5},5000034,1]
[{"$nulls":3},16,10000,10000,null,"不动",16,10000,{"$f":"StoreConfig!J1525","v":"16|0#0#0#10000"},{"$nulls":5},5000035,1]
[{"$nulls":3},16,10000,10000,null,"不动",16,10000,{"$f":"StoreConfig!J1526","v":"16|0#0#0#10000"},{"$nulls":5},5000036,1]
[{"$nulls":3},16,10000,10000,null,"不动",16,10000,{"$f":"StoreConfig!J1527","v":"16|0#0#0#10000"},{"$nulls":5},5000037,1]
[{"$nulls":3},16,10000,10000,null,"不动",16,10000,{"$f":"StoreConfig!J1528","v":"16|0#0#0#10000"},{"$nulls":5},5000038,1]
[{"$nulls":3},16,10000,10000,null,"不动",16,10000,{"$f":"StoreConfig!J1529","v":"16|0#0#0#10000"},{"$nulls":5},5000039,1]
[{"$nulls":3},16,10000,10000,null,"不动",16,10000,{"$f":"StoreConfig!J1530","v":"16|0#0#0#10000"},{"$nulls":5},5000040,1]
[{"$nulls":3},16,10000,10000,null,"不动",16,10000,{"$f":"StoreConfig!J1531","v":"16|0#0#0#10000"},{"$nulls":5},5000041,1]
[{"$nulls":3},16,10000,10000,null,"不动",16,10000,{"$f":"StoreConfig!J1532","v":"16|0#0#0#10000"},{"$nulls":5},5000042,1]
[{"$nulls":3},16,10000,10000,null,"不动",16,10000,{"$f":"StoreConfig!J1533","v":"16|0#0#0#10000"},{"$nulls":5},5000043,1]
[{"$nulls":3},16,10000,10000,null,"不动",16,10000,{"$f":"StoreConfig!J1534","v":"16|0#0#0#10000"},{"$nulls":5},5000044,1]
[{"$nulls":3},16,10000,10000,null,"不动",16,10000,{"$f":"StoreConfig!J1535","v":"16|0#0#0#10000"},{"$nulls":5},5000045,1]
[{"$nulls":3},16,10000,10000,null,"不动",16,10000,{"$f":"StoreConfig!J1536","v":"16|0#0#0#10000"},{"$nulls":5},5000046,1]
[{"$nulls":3},16,10000,10000,null,"不动",16,10000,{"$f":"StoreConfig!J1537","v":"16|0#0#0#10000"},{"$nulls":5},5000047,1]
[{"$nulls":3},66,800,800,null,"不动",66,800,{"$f":"StoreConfig!J1538","v":"66|0#0#0#800"},{"$nulls":5},5000001,1]
[{"$nulls":3},66,800,800,null,"不动",66,800,{"$f":"StoreConfig!J1539","v":"66|0#0#0#800"},{"$nulls":5},5000002,1]
[{"$nulls":3},66,800,800,null,"不动",66,800,{"$f":"StoreConfig!J1540","v":"66|0#0#0#800"},{"$nulls":5},5000003,1]
[{"$nulls":3},66,800,800,null,"不动",66,800,{"$f":"StoreConfig!J1541","v":"66|0#0#0#800"},{"$nulls":5},5000004,1]
[{"$nulls":3},66,800,800,null,"不动",66,800,{"$f":"StoreConfig!J1542","v":"66|0#0#0#800"},{"$nulls":5},5000005,1]
[{"$nulls":3},66,800,800,null,"不动",66,800,{"$f":"StoreConfig!J1543","v":"66|0#0#0#800"},{"$nulls":5},5000006,1]
[{"$nulls":3},66,800,800,null,"不动",66,800,{"$f":"StoreConfig!J1544","v":"66|0#0#0#800"},{"$nulls":5},5000007,1]
[{"$nulls":3},66,800,800,null,"不动",66,800,{"$f":"StoreConfig!J1545","v":"66|0#0#0#800"},{"$nulls":5},5000008,1]
[{"$nulls":3},66,3000,3000,null,"不动",66,3000,{"$f":"StoreConfig!J1546","v":"66|0#0#0#3000"},{"$nulls":5},5000009,1]
[{"$nulls":3},66,3000,3000,null,"不动",66,3000,{"$f":"StoreConfig!J1547","v":"66|0#0#0#3000"},{"$nulls":5},5000010,1]
[{"$nulls":3},66,3000,3000,null,"不动",66,3000,{"$f":"StoreConfig!J1548","v":"66|0#0#0#3000"},{"$nulls":5},5000011,1]
[{"$nulls":3},66,3000,3000,null,"不动",66,3000,{"$f":"StoreConfig!J1549","v":"66|0#0#0#3000"},{"$nulls":5},5000012,1]
[{"$nulls":3},66,3000,3000,null,"不动",66,3000,{"$f":"StoreConfig!J1550","v":"66|0#0#0#3000"},{"$nulls":5},5000013,1]
[{"$nulls":3},66,3000,3000,null,"不动",66,3000,{"$f":"StoreConfig!J1551","v":"66|0#0#0#3000"},{"$nulls":5},5000014,1]
[{"$nulls":3},66,3000,3000,null,"不动",66,3000,{"$f":"StoreConfig!J1552","v":"66|0#0#0#3000"},{"$nulls":5},5000015,1]
[{"$nulls":3},66,3000,3000,null,"不动",66,3000,{"$f":"StoreConfig!J1553","v":"66|0#0#0#3000"},{"$nulls":5},5000016,1]
[{"$nulls":3},66,3000,3000,null,"不动",66,3000,{"$f":"StoreConfig!J1554","v":"66|0#0#0#3000"},{"$nulls":5},5000017,1]
[{"$nulls":3},66,3000,3000,null,"不动",66,3000,{"$f":"StoreConfig!J1555","v":"66|0#0#0#3000"},{"$nulls":5},5000018,1]
[{"$nulls":3},66,3000,3000,null,"不动",66,3000,{"$f":"StoreConfig!J1556","v":"66|0#0#0#3000"},{"$nulls":5},5000019,1]
[{"$nulls":3},66,3000,3000,null,"不动",66,3000,{"$f":"StoreConfig!J1557","v":"66|0#0#0#3000"},{"$nulls":5},5000020,1]
[{"$nulls":3},66,3000,3000,null,"不动",66,3000,{"$f":"StoreConfig!J1558","v":"66|0#0#0#3000"},{"$nulls":5},5000021,1]
[{"$nulls":3},66,3000,3000,null,"不动",66,3000,{"$f":"StoreConfig!J1559","v":"66|0#0#0#3000"},{"$nulls":5},5000022,1]
[{"$nulls":3},66,3000,3000,null,"不动",66,3000,{"$f":"StoreConfig!J1560","v":"66|0#0#0#3000"},{"$nulls":5},5000023,1]
[{"$nulls":3},66,3000,3000,null,"不动",66,3000,{"$f":"StoreConfig!J1561","v":"66|0#0#0#3000"},{"$nulls":5},5000024,1]
[{"$nulls":3},66,3000,3000,null,"不动",66,3000,{"$f":"StoreConfig!J1562","v":"66|0#0#0#3000"},{"$nulls":5},5000025,1]
[{"$nulls":3},66,3000,3000,null,"不动",66,3000,{"$f":"StoreConfig!J1563","v":"66|0#0#0#3000"},{"$nulls":5},5000026,1]
[{"$nulls":3},66,3000,3000,null,"不动",66,3000,{"$f":"StoreConfig!J1564","v":"66|0#0#0#3000"},{"$nulls":5},5000027,1]
[{"$nulls":3},66,3000,3000,null,"不动",66,3000,{"$f":"StoreConfig!J1565","v":"66|0#0#0#3000"},{"$nulls":5},5000028,1]
[{"$nulls":3},66,3000,3000,null,"不动",66,3000,{"$f":"StoreConfig!J1566","v":"66|0#0#0#3000"},{"$nulls":5},5000029,1]
[{"$nulls":3},66,3000,3000,null,"不动",66,3000,{"$f":"StoreConfig!J1567","v":"66|0#0#0#3000"},{"$nulls":5},5000030,1]
[{"$nulls":3},66,3000,3000,null,"不动",66,3000,{"$f":"StoreConfig!J1568","v":"66|0#0#0#3000"},{"$nulls":5},5000031,1]
[{"$nulls":3},66,3000,3000,null,"不动",66,3000,{"$f":"StoreConfig!J1569","v":"66|0#0#0#3000"},{"$nulls":5},5000032,1]
[{"$nulls":3},66,10000,10000,null,"不动",66,10000,{"$f":"StoreConfig!J1570","v":"66|0#0#0#10000"},{"$nulls":5},5000033,1]
[{"$nulls":3},66,10000,10000,null,"不动",66,10000,{"$f":"StoreConfig!J1571","v":"66|0#0#0#10000"},{"$nulls":5},5000034,1]
[{"$nulls":3},66,10000,10000,null,"不动",66,10000,{"$f":"StoreConfig!J1572","v":"66|0#0#0#10000"},{"$nulls":5},5000035,1]
[{"$nulls":3},66,10000,10000,null,"不动",66,10000,{"$f":"StoreConfig!J1573","v":"66|0#0#0#10000"},{"$nulls":5},5000036,1]
[{"$nulls":3},66,10000,10000,null,"不动",66,10000,{"$f":"StoreConfig!J1574","v":"66|0#0#0#10000"},{"$nulls":5},5000037,1]
[{"$nulls":3},66,10000,10000,null,"不动",66,10000,{"$f":"StoreConfig!J1575","v":"66|0#0#0#10000"},{"$nulls":5},5000038,1]
[{"$nulls":3},66,10000,10000,null,"不动",66,10000,{"$f":"StoreConfig!J1576","v":"66|0#0#0#10000"},{"$nulls":5},5000039,1]
[{"$nulls":3},66,10000,10000,null,"不动",66,10000,{"$f":"StoreConfig!J1577","v":"66|0#0#0#10000"},{"$nulls":5},5000040,1]
[{"$nulls":3},66,10000,10000,null,"不动",66,10000,{"$f":"StoreConfig!J1578","v":"66|0#0#0#10000"},{"$nulls":5},5000041,1]
[{"$nulls":3},66,10000,10000,null,"不动",66,10000,{"$f":"StoreConfig!J1579","v":"66|0#0#0#10000"},{"$nulls":5},5000042,1]
[{"$nulls":3},66,10000,10000,null,"不动",66,10000,{"$f":"StoreConfig!J1580","v":"66|0#0#0#10000"},{"$nulls":5},5000043,1]
[{"$nulls":3},66,10000,10000,null,"不动",66,10000,{"$f":"StoreConfig!J1581","v":"66|0#0#0#10000"},{"$nulls":5},5000044,1]
[{"$nulls":3},66,10000,10000,null,"不动",66,10000,{"$f":"StoreConfig!J1582","v":"66|0#0#0#10000"},{"$nulls":5},5000045,1]
[{"$nulls":3},66,10000,10000,null,"不动",66,10000,{"$f":"StoreConfig!J1583","v":"66|0#0#0#10000"},{"$nulls":5},5000046,1]
[{"$nulls":3},66,10000,10000,null,"不动",66,10000,{"$f":"StoreConfig!J1584","v":"66|0#0#0#10000"},{"$nulls":5},5000047,1]
[{"$nulls":3},16,800,800,null,"不动",16,800,{"$f":"StoreConfig!J1585","v":"16|0#0#0#800"},{"$nulls":5},5000001,1]
[{"$nulls":3},16,800,800,null,"不动",16,800,{"$f":"StoreConfig!J1586","v":"16|0#0#0#800"},{"$nulls":5},5000002,1]
[{"$nulls":3},16,800,800,null,"不动",16,800,{"$f":"StoreConfig!J1587","v":"16|0#0#0#800"},{"$nulls":5},5000003,1]
[{"$nulls":3},16,800,800,null,"不动",16,800,{"$f":"StoreConfig!J1588","v":"16|0#0#0#800"},{"$nulls":5},5000004,1]
[{"$nulls":3},16,800,800,null,"不动",16,800,{"$f":"StoreConfig!J1589","v":"16|0#0#0#800"},{"$nulls":5},5000005,1]
[{"$nulls":3},16,800,800,null,"不动",16,800,{"$f":"StoreConfig!J1590","v":"16|0#0#0#800"},{"$nulls":5},5000006,1]
[{"$nulls":3},16,800,800,null,"不动",16,800,{"$f":"StoreConfig!J1591","v":"16|0#0#0#800"},{"$nulls":5},5000007,1]
[{"$nulls":3},16,800,800,null,"不动",16,800,{"$f":"StoreConfig!J1592","v":"16|0#0#0#800"},{"$nulls":5},5000008,1]
[{"$nulls":3},16,3000,3000,null,"不动",16,3000,{"$f":"StoreConfig!J1593","v":"16|0#0#0#3000"},{"$nulls":5},5000009,1]
[{"$nulls":3},16,3000,3000,null,"不动",16,3000,{"$f":"StoreConfig!J1594","v":"16|0#0#0#3000"},{"$nulls":5},5000010,1]
[{"$nulls":3},16,3000,3000,null,"不动",16,3000,{"$f":"StoreConfig!J1595","v":"16|0#0#0#3000"},{"$nulls":5},5000011,1]
[{"$nulls":3},16,3000,3000,null,"不动",16,3000,{"$f":"StoreConfig!J1596","v":"16|0#0#0#3000"},{"$nulls":5},5000012,1]
[{"$nulls":3},16,3000,3000,null,"不动",16,3000,{"$f":"StoreConfig!J1597","v":"16|0#0#0#3000"},{"$nulls":5},5000013,1]
[{"$nulls":3},16,3000,3000,null,"不动",16,3000,{"$f":"StoreConfig!J1598","v":"16|0#0#0#3000"},{"$nulls":5},5000014,1]
[{"$nulls":3},16,3000,3000,null,"不动",16,3000,{"$f":"StoreConfig!J1599","v":"16|0#0#0#3000"},{"$nulls":5},5000015,1]
[{"$nulls":3},16,3000,3000,null,"不动",16,3000,{"$f":"StoreConfig!J1600","v":"16|0#0#0#3000"},{"$nulls":5},5000016,1]
[{"$nulls":3},16,3000,3000,null,"不动",16,3000,{"$f":"StoreConfig!J1601","v":"16|0#0#0#3000"},{"$nulls":5},5000017,1]
[{"$nulls":3},16,3000,3000,null,"不动",16,3000,{"$f":"StoreConfig!J1602","v":"16|0#0#0#3000"},{"$nulls":5},5000018,1]
[{"$nulls":3},16,3000,3000,null,"不动",16,3000,{"$f":"StoreConfig!J1603","v":"16|0#0#0#3000"},{"$nulls":5},5000019,1]
[{"$nulls":3},16,3000,3000,null,"不动",16,3000,{"$f":"StoreConfig!J1604","v":"16|0#0#0#3000"},{"$nulls":5},5000020,1]
[{"$nulls":3},16,3000,3000,null,"不动",16,3000,{"$f":"StoreConfig!J1605","v":"16|0#0#0#3000"},{"$nulls":5},5000021,1]
[{"$nulls":3},16,3000,3000,null,"不动",16,3000,{"$f":"StoreConfig!J1606","v":"16|0#0#0#3000"},{"$nulls":5},5000022,1]
[{"$nulls":3},16,3000,3000,null,"不动",16,3000,{"$f":"StoreConfig!J1607","v":"16|0#0#0#3000"},{"$nulls":5},5000023,1]
[{"$nulls":3},16,3000,3000,null,"不动",16,3000,{"$f":"StoreConfig!J1608","v":"16|0#0#0#3000"},{"$nulls":5},5000024,1]
[{"$nulls":3},16,3000,3000,null,"不动",16,3000,{"$f":"StoreConfig!J1609","v":"16|0#0#0#3000"},{"$nulls":5},5000025,1]
[{"$nulls":3},16,3000,3000,null,"不动",16,3000,{"$f":"StoreConfig!J1610","v":"16|0#0#0#3000"},{"$nulls":5},5000026,1]
[{"$nulls":3},16,3000,3000,null,"不动",16,3000,{"$f":"StoreConfig!J1611","v":"16|0#0#0#3000"},{"$nulls":5},5000027,1]
[{"$nulls":3},16,3000,3000,null,"不动",16,3000,{"$f":"StoreConfig!J1612","v":"16|0#0#0#3000"},{"$nulls":5},5000028,1]
[{"$nulls":3},16,3000,3000,null,"不动",16,3000,{"$f":"StoreConfig!J1613","v":"16|0#0#0#3000"},{"$nulls":5},5000029,1]
[{"$nulls":3},16,3000,3000,null,"不动",16,3000,{"$f":"StoreConfig!J1614","v":"16|0#0#0#3000"},{"$nulls":5},5000030,1]
[{"$nulls":3},16,3000,3000,null,"不动",16,3000,{"$f":"StoreConfig!J1615","v":"16|0#0#0#3000"},{"$nulls":5},5000031,1]
[{"$nulls":3},16,3000,3000,null,"不动",16,3000,{"$f":"StoreConfig!J1616","v":"16|0#0#0#3000"},{"$nulls":5},5000032,1]
[{"$nulls":3},16,10000,10000,null,"不动",16,10000,{"$f":"StoreConfig!J1617","v":"16|0#0#0#10000"},{"$nulls":5},5000033,1]
[{"$nulls":3},16,10000,10000,null,"不动",16,10000,{"$f":"StoreConfig!J1618","v":"16|0#0#0#10000"},{"$nulls":5},5000034,1]
[{"$nulls":3},16,10000,10000,null,"不动",16,10000,{"$f":"StoreConfig!J1619","v":"16|0#0#0#10000"},{"$nulls":5},5000035,1]
[{"$nulls":3},16,10000,10000,null,"不动",16,10000,{"$f":"StoreConfig!J1620","v":"16|0#0#0#10000"},{"$nulls":5},5000036,1]
[{"$nulls":3},16,10000,10000,null,"不动",16,10000,{"$f":"StoreConfig!J1621","v":"16|0#0#0#10000"},{"$nulls":5},5000037,1]
[{"$nulls":3},16,10000,10000,null,"不动",16,10000,{"$f":"StoreConfig!J1622","v":"16|0#0#0#10000"},{"$nulls":5},5000038,1]
[{"$nulls":3},16,10000,10000,null,"不动",16,10000,{"$f":"StoreConfig!J1623","v":"16|0#0#0#10000"},{"$nulls":5},5000039,1]
[{"$nulls":3},16,10000,10000,null,"不动",16,10000,{"$f":"StoreConfig!J1624","v":"16|0#0#0#10000"},{"$nulls":5},5000040,1]
[{"$nulls":3},16,10000,10000,null,"不动",16,10000,{"$f":"StoreConfig!J1625","v":"16|0#0#0#10000"},{"$nulls":5},5000041,1]
[{"$nulls":3},16,10000,10000,null,"不动",16,10000,{"$f":"StoreConfig!J1626","v":"16|0#0#0#10000"},{"$nulls":5},5000042,1]
[{"$nulls":3},16,10000,10000,null,"不动",16,10000,{"$f":"StoreConfig!J1627","v":"16|0#0#0#10000"},{"$nulls":5},5000043,1]
[{"$nulls":3},16,10000,10000,null,"不动",16,10000,{"$f":"StoreConfig!J1628","v":"16|0#0#0#10000"},{"$nulls":5},5000044,1]
[{"$nulls":3},16,10000,10000,null,"不动",16,10000,{"$f":"StoreConfig!J1629","v":"16|0#0#0#10000"},{"$nulls":5},5000045,1]
[{"$nulls":3},16,10000,10000,null,"不动",16,10000,{"$f":"StoreConfig!J1630","v":"16|0#0#0#10000"},{"$nulls":5},5000046,1]
[{"$nulls":3},16,10000,10000,null,"不动",16,10000,{"$f":"StoreConfig!J1631","v":"16|0#0#0#10000"},{"$nulls":5},5000047,1]
[{"$nulls":3},66,800,800,null,"不动",66,800,{"$f":"StoreConfig!J1632","v":"66|0#0#0#800"},{"$nulls":5},5000001,1]
[{"$nulls":3},66,800,800,null,"不动",66,800,{"$f":"StoreConfig!J1633","v":"66|0#0#0#800"},{"$nulls":5},5000002,1]
[{"$nulls":3},66,800,800,null,"不动",66,800,{"$f":"StoreConfig!J1634","v":"66|0#0#0#800"},{"$nulls":5},5000003,1]
[{"$nulls":3},66,800,800,null,"不动",66,800,{"$f":"StoreConfig!J1635","v":"66|0#0#0#800"},{"$nulls":5},5000004,1]
[{"$nulls":3},66,800,800,null,"不动",66,800,{"$f":"StoreConfig!J1636","v":"66|0#0#0#800"},{"$nulls":5},5000005,1]
[{"$nulls":3},66,800,800,null,"不动",66,800,{"$f":"StoreConfig!J1637","v":"66|0#0#0#800"},{"$nulls":5},5000006,1]
[{"$nulls":3},66,800,800,null,"不动",66,800,{"$f":"StoreConfig!J1638","v":"66|0#0#0#800"},{"$nulls":5},5000007,1]
[{"$nulls":3},66,800,800,null,"不动",66,800,{"$f":"StoreConfig!J1639","v":"66|0#0#0#800"},{"$nulls":5},5000008,1]
[{"$nulls":3},66,3000,3000,null,"不动",66,3000,{"$f":"StoreConfig!J1640","v":"66|0#0#0#3000"},{"$nulls":5},5000009,1]
[{"$nulls":3},66,3000,3000,null,"不动",66,3000,{"$f":"StoreConfig!J1641","v":"66|0#0#0#3000"},{"$nulls":5},5000010,1]
[{"$nulls":3},66,3000,3000,null,"不动",66,3000,{"$f":"StoreConfig!J1642","v":"66|0#0#0#3000"},{"$nulls":5},5000011,1]
[{"$nulls":3},66,3000,3000,null,"不动",66,3000,{"$f":"StoreConfig!J1643","v":"66|0#0#0#3000"},{"$nulls":5},5000012,1]
[{"$nulls":3},66,3000,3000,null,"不动",66,3000,{"$f":"StoreConfig!J1644","v":"66|0#0#0#3000"},{"$nulls":5},5000013,1]
[{"$nulls":3},66,3000,3000,null,"不动",66,3000,{"$f":"StoreConfig!J1645","v":"66|0#0#0#3000"},{"$nulls":5},5000014,1]
[{"$nulls":3},66,3000,3000,null,"不动",66,3000,{"$f":"StoreConfig!J1646","v":"66|0#0#0#3000"},{"$nulls":5},5000015,1]
[{"$nulls":3},66,3000,3000,null,"不动",66,3000,{"$f":"StoreConfig!J1647","v":"66|0#0#0#3000"},{"$nulls":5},5000016,1]
[{"$nulls":3},66,3000,3000,null,"不动",66,3000,{"$f":"StoreConfig!J1648","v":"66|0#0#0#3000"},{"$nulls":5},5000017,1]
[{"$nulls":3},66,3000,3000,null,"不动",66,3000,{"$f":"StoreConfig!J1649","v":"66|0#0#0#3000"},{"$nulls":5},5000018,1]
[{"$nulls":3},66,3000,3000,null,"不动",66,3000,{"$f":"StoreConfig!J1650","v":"66|0#0#0#3000"},{"$nulls":5},5000019,1]
[{"$nulls":3},66,3000,3000,null,"不动",66,3000,{"$f":"StoreConfig!J1651","v":"66|0#0#0#3000"},{"$nulls":5},5000020,1]
[{"$nulls":3},66,3000,3000,null,"不动",66,3000,{"$f":"StoreConfig!J1652","v":"66|0#0#0#3000"},{"$nulls":5},5000021,1]
[{"$nulls":3},66,3000,3000,null,"不动",66,3000,{"$f":"StoreConfig!J1653","v":"66|0#0#0#3000"},{"$nulls":5},5000022,1]
[{"$nulls":3},66,3000,3000,null,"不动",66,3000,{"$f":"StoreConfig!J1654","v":"66|0#0#0#3000"},{"$nulls":5},5000023,1]
[{"$nulls":3},66,3000,3000,null,"不动",66,3000,{"$f":"StoreConfig!J1655","v":"66|0#0#0#3000"},{"$nulls":5},5000024,1]
[{"$nulls":3},66,3000,3000,null,"不动",66,3000,{"$f":"StoreConfig!J1656","v":"66|0#0#0#3000"},{"$nulls":5},5000025,1]
[{"$nulls":3},66,3000,3000,null,"不动",66,3000,{"$f":"StoreConfig!J1657","v":"66|0#0#0#3000"},{"$nulls":5},5000026,1]
[{"$nulls":3},66,3000,3000,null,"不动",66,3000,{"$f":"StoreConfig!J1658","v":"66|0#0#0#3000"},{"$nulls":5},5000027,1]
[{"$nulls":3},66,3000,3000,null,"不动",66,3000,{"$f":"StoreConfig!J1659","v":"66|0#0#0#3000"},{"$nulls":5},5000028,1]
[{"$nulls":3},66,3000,3000,null,"不动",66,3000,{"$f":"StoreConfig!J1660","v":"66|0#0#0#3000"},{"$nulls":5},5000029,1]
[{"$nulls":3},66,3000,3000,null,"不动",66,3000,{"$f":"StoreConfig!J1661","v":"66|0#0#0#3000"},{"$nulls":5},5000030,1]
[{"$nulls":3},66,3000,3000,null,"不动",66,3000,{"$f":"StoreConfig!J1662","v":"66|0#0#0#3000"},{"$nulls":5},5000031,1]
[{"$nulls":3},66,3000,3000,null,"不动",66,3000,{"$f":"StoreConfig!J1663","v":"66|0#0#0#3000"},{"$nulls":5},5000032,1]
[{"$nulls":3},66,10000,10000,null,"不动",66,10000,{"$f":"StoreConfig!J1664","v":"66|0#0#0#10000"},{"$nulls":5},5000033,1]
[{"$nulls":3},66,10000,10000,null,"不动",66,10000,{"$f":"StoreConfig!J1665","v":"66|0#0#0#10000"},{"$nulls":5},5000034,1]
[{"$nulls":3},66,10000,10000,null,"不动",66,10000,{"$f":"StoreConfig!J1666","v":"66|0#0#0#10000"},{"$nulls":5},5000035,1]
[{"$nulls":3},66,10000,10000,null,"不动",66,10000,{"$f":"StoreConfig!J1667","v":"66|0#0#0#10000"},{"$nulls":5},5000036,1]
[{"$nulls":3},66,10000,10000,null,"不动",66,10000,{"$f":"StoreConfig!J1668","v":"66|0#0#0#10000"},{"$nulls":5},5000037,1]
[{"$nulls":3},66,10000,10000,null,"不动",66,10000,{"$f":"StoreConfig!J1669","v":"66|0#0#0#10000"},{"$nulls":5},5000038,1]
[{"$nulls":3},66,10000,10000,null,"不动",66,10000,{"$f":"StoreConfig!J1670","v":"66|0#0#0#10000"},{"$nulls":5},5000039,1]
[{"$nulls":3},66,10000,10000,null,"不动",66,10000,{"$f":"StoreConfig!J1671","v":"66|0#0#0#10000"},{"$nulls":5},5000040,1]
[{"$nulls":3},66,10000,10000,null,"不动",66,10000,{"$f":"StoreConfig!J1672","v":"66|0#0#0#10000"},{"$nulls":5},5000041,1]
[{"$nulls":3},66,10000,10000,null,"不动",66,10000,{"$f":"StoreConfig!J1673","v":"66|0#0#0#10000"},{"$nulls":5},5000042,1]
[{"$nulls":3},66,10000,10000,null,"不动",66,10000,{"$f":"StoreConfig!J1674","v":"66|0#0#0#10000"},{"$nulls":5},5000043,1]
[{"$nulls":3},66,10000,10000,null,"不动",66,10000,{"$f":"StoreConfig!J1675","v":"66|0#0#0#10000"},{"$nulls":5},5000044,1]
[{"$nulls":3},66,10000,10000,null,"不动",66,10000,{"$f":"StoreConfig!J1676","v":"66|0#0#0#10000"},{"$nulls":5},5000045,1]
[{"$nulls":3},66,10000,10000,null,"不动",66,10000,{"$f":"StoreConfig!J1677","v":"66|0#0#0#10000"},{"$nulls":5},5000046,1]
[{"$nulls":3},66,10000,10000,null,"不动",66,10000,{"$f":"StoreConfig!J1678","v":"66|0#0#0#10000"},{"$nulls":5},5000047,1]
[{"$nulls":3},16,800,800,null,"不动",16,800,{"$f":"StoreConfig!J1679","v":"16|0#0#0#800"},{"$nulls":5},5000001,1]
[{"$nulls":3},16,800,800,null,"不动",16,800,{"$f":"StoreConfig!J1680","v":"16|0#0#0#800"},{"$nulls":5},5000002,1]
[{"$nulls":3},16,800,800,null,"不动",16,800,{"$f":"StoreConfig!J1681","v":"16|0#0#0#800"},{"$nulls":5},5000003,1]
[{"$nulls":3},16,800,800,null,"不动",16,800,{"$f":"StoreConfig!J1682","v":"16|0#0#0#800"},{"$nulls":5},5000004,1]
[{"$nulls":3},16,800,800,null,"不动",16,800,{"$f":"StoreConfig!J1683","v":"16|0#0#0#800"},{"$nulls":5},5000005,1]
[{"$nulls":3},16,800,800,null,"不动",16,800,{"$f":"StoreConfig!J1684","v":"16|0#0#0#800"},{"$nulls":5},5000006,1]
[{"$nulls":3},16,800,800,null,"不动",16,800,{"$f":"StoreConfig!J1685","v":"16|0#0#0#800"},{"$nulls":5},5000007,1]
[{"$nulls":3},16,800,800,null,"不动",16,800,{"$f":"StoreConfig!J1686","v":"16|0#0#0#800"},{"$nulls":5},5000008,1]
[{"$nulls":3},16,3000,3000,null,"不动",16,3000,{"$f":"StoreConfig!J1687","v":"16|0#0#0#3000"},{"$nulls":5},5000009,1]
[{"$nulls":3},16,3000,3000,null,"不动",16,3000,{"$f":"StoreConfig!J1688","v":"16|0#0#0#3000"},{"$nulls":5},5000010,1]
[{"$nulls":3},16,3000,3000,null,"不动",16,3000,{"$f":"StoreConfig!J1689","v":"16|0#0#0#3000"},{"$nulls":5},5000011,1]
[{"$nulls":3},16,3000,3000,null,"不动",16,3000,{"$f":"StoreConfig!J1690","v":"16|0#0#0#3000"},{"$nulls":5},5000012,1]
[{"$nulls":3},16,3000,3000,null,"不动",16,3000,{"$f":"StoreConfig!J1691","v":"16|0#0#0#3000"},{"$nulls":5},5000013,1]
[{"$nulls":3},16,3000,3000,null,"不动",16,3000,{"$f":"StoreConfig!J1692","v":"16|0#0#0#3000"},{"$nulls":5},5000014,1]
[{"$nulls":3},16,3000,3000,null,"不动",16,3000,{"$f":"StoreConfig!J1693","v":"16|0#0#0#3000"},{"$nulls":5},5000015,1]
[{"$nulls":3},16,3000,3000,null,"不动",16,3000,{"$f":"StoreConfig!J1694","v":"16|0#0#0#3000"},{"$nulls":5},5000016,1]
[{"$nulls":3},16,3000,3000,null,"不动",16,3000,{"$f":"StoreConfig!J1695","v":"16|0#0#0#3000"},{"$nulls":5},5000017,1]
[{"$nulls":3},16,3000,3000,null,"不动",16,3000,{"$f":"StoreConfig!J1696","v":"16|0#0#0#3000"},{"$nulls":5},5000018,1]
[{"$nulls":3},16,3000,3000,null,"不动",16,3000,{"$f":"StoreConfig!J1697","v":"16|0#0#0#3000"},{"$nulls":5},5000019,1]
[{"$nulls":3},16,3000,3000,null,"不动",16,3000,{"$f":"StoreConfig!J1698","v":"16|0#0#0#3000"},{"$nulls":5},5000020,1]
[{"$nulls":3},16,3000,3000,null,"不动",16,3000,{"$f":"StoreConfig!J1699","v":"16|0#0#0#3000"},{"$nulls":5},5000021,1]
[{"$nulls":3},16,3000,3000,null,"不动",16,3000,{"$f":"StoreConfig!J1700","v":"16|0#0#0#3000"},{"$nulls":5},5000022,1]
[{"$nulls":3},16,3000,3000,null,"不动",16,3000,{"$f":"StoreConfig!J1701","v":"16|0#0#0#3000"},{"$nulls":5},5000023,1]
[{"$nulls":3},16,3000,3000,null,"不动",16,3000,{"$f":"StoreConfig!J1702","v":"16|0#0#0#3000"},{"$nulls":5},5000024,1]
[{"$nulls":3},16,3000,3000,null,"不动",16,3000,{"$f":"StoreConfig!J1703","v":"16|0#0#0#3000"},{"$nulls":5},5000025,1]
[{"$nulls":3},16,3000,3000,null,"不动",16,3000,{"$f":"StoreConfig!J1704","v":"16|0#0#0#3000"},{"$nulls":5},5000026,1]
[{"$nulls":3},16,3000,3000,null,"不动",16,3000,{"$f":"StoreConfig!J1705","v":"16|0#0#0#3000"},{"$nulls":5},5000027,1]
[{"$nulls":3},16,3000,3000,null,"不动",16,3000,{"$f":"StoreConfig!J1706","v":"16|0#0#0#3000"},{"$nulls":5},5000028,1]
[{"$nulls":3},16,3000,3000,null,"不动",16,3000,{"$f":"StoreConfig!J1707","v":"16|0#0#0#3000"},{"$nulls":5},5000029,1]
[{"$nulls":3},16,3000,3000,null,"不动",16,3000,{"$f":"StoreConfig!J1708","v":"16|0#0#0#3000"},{"$nulls":5},5000030,1]
[{"$nulls":3},16,3000,3000,null,"不动",16,3000,{"$f":"StoreConfig!J1709","v":"16|0#0#0#3000"},{"$nulls":5},5000031,1]
[{"$nulls":3},16,3000,3000,null,"不动",16,3000,{"$f":"StoreConfig!J1710","v":"16|0#0#0#3000"},{"$nulls":5},5000032,1]
[{"$nulls":3},16,10000,10000,null,"不动",16,10000,{"$f":"StoreConfig!J1711","v":"16|0#0#0#10000"},{"$nulls":5},5000033,1]
[{"$nulls":3},16,10000,10000,null,"不动",16,10000,{"$f":"StoreConfig!J1712","v":"16|0#0#0#10000"},{"$nulls":5},5000034,1]
[{"$nulls":3},16,10000,10000,null,"不动",16,10000,{"$f":"StoreConfig!J1713","v":"16|0#0#0#10000"},{"$nulls":5},5000035,1]
[{"$nulls":3},16,10000,10000,null,"不动",16,10000,{"$f":"StoreConfig!J1714","v":"16|0#0#0#10000"},{"$nulls":5},5000036,1]
[{"$nulls":3},16,10000,10000,null,"不动",16,10000,{"$f":"StoreConfig!J1715","v":"16|0#0#0#10000"},{"$nulls":5},5000037,1]
[{"$nulls":3},16,10000,10000,null,"不动",16,10000,{"$f":"StoreConfig!J1716","v":"16|0#0#0#10000"},{"$nulls":5},5000038,1]
[{"$nulls":3},16,10000,10000,null,"不动",16,10000,{"$f":"StoreConfig!J1717","v":"16|0#0#0#10000"},{"$nulls":5},5000039,1]
[{"$nulls":3},16,10000,10000,null,"不动",16,10000,{"$f":"StoreConfig!J1718","v":"16|0#0#0#10000"},{"$nulls":5},5000040,1]
[{"$nulls":3},16,10000,10000,null,"不动",16,10000,{"$f":"StoreConfig!J1719","v":"16|0#0#0#10000"},{"$nulls":5},5000041,1]
[{"$nulls":3},16,10000,10000,null,"不动",16,10000,{"$f":"StoreConfig!J1720","v":"16|0#0#0#10000"},{"$nulls":5},5000042,1]
[{"$nulls":3},16,10000,10000,null,"不动",16,10000,{"$f":"StoreConfig!J1721","v":"16|0#0#0#10000"},{"$nulls":5},5000043,1]
[{"$nulls":3},16,10000,10000,null,"不动",16,10000,{"$f":"StoreConfig!J1722","v":"16|0#0#0#10000"},{"$nulls":5},5000044,1]
[{"$nulls":3},16,10000,10000,null,"不动",16,10000,{"$f":"StoreConfig!J1723","v":"16|0#0#0#10000"},{"$nulls":5},5000045,1]
[{"$nulls":3},16,10000,10000,null,"不动",16,10000,{"$f":"StoreConfig!J1724","v":"16|0#0#0#10000"},{"$nulls":5},5000046,1]
[{"$nulls":3},16,10000,10000,null,"不动",16,10000,{"$f":"StoreConfig!J1725","v":"16|0#0#0#10000"},{"$nulls":5},5000047,1]
[{"$nulls":3},74,50,9000,null,9,74,45,{"$f":"D1402&$K$6&E1402","v":"74|0#0#0#50"},{"$nulls":5},11011,50]
[{"$nulls":3},74,50,9000,null,9,74,45,"74|0#0#0#50",{"$nulls":5},11008,50]
[{"$nulls":3},74,50,9000,null,9,74,45,"74|0#0#0#50",{"$nulls":5},11006,50]
[{"$nulls":3},74,50,9000,null,9,74,45,"74|0#0#0#50",{"$nulls":5},11073,50]
[{"$nulls":3},74,40,7000,null,9,74,35,"74|0#0#0#40",{"$nulls":5},11002,50]
[{"$nulls":3},74,40,7000,null,9,74,35,"74|0#0#0#40",{"$nulls":5},11018,50]
[{"$nulls":3},74,40,7000,null,9,74,35,"74|0#0#0#40",{"$nulls":5},11003,50]
[{"$nulls":3},74,40,7000,null,9,74,35,"74|0#0#0#40",{"$nulls":5},11005,50]
[{"$nulls":3},74,40,7000,null,9,74,35,"74|0#0#0#40",{"$nulls":5},11020,50]
[{"$nulls":3},74,25,5000,null,"不动",74,25,{"$f":"StoreConfig!J1735","v":"74|0#0#0#25"},{"$nulls":5},11044,50]
[{"$nulls":3},74,25,5000,null,"不动",74,25,{"$f":"StoreConfig!J1736","v":"74|0#0#0#25"},{"$nulls":5},11031,50]
[{"$nulls":3},74,25,5000,null,"不动",74,25,{"$f":"StoreConfig!J1737","v":"74|0#0#0#25"},{"$nulls":5},11028,50]
[{"$nulls":3},74,25,5000,null,"不动",74,25,{"$f":"StoreConfig!J1738","v":"74|0#0#0#25"},{"$nulls":5},11045,50]
[{"$nulls":3},74,3,1000,null,"不动",74,5,{"$f":"StoreConfig!J1739","v":"74|0#0#0#5"},{"$nulls":5},11057,30]
[{"$nulls":3},74,3,1000,null,"不动",74,5,{"$f":"StoreConfig!J1740","v":"74|0#0#0#5"},{"$nulls":5},11058,30]
[{"$nulls":3},74,3,1000,null,"不动",74,5,{"$f":"StoreConfig!J1741","v":"74|0#0#0#5"},{"$nulls":5},11059,30]
[{"$nulls":3},74,3,1000,null,"不动",74,5,{"$f":"StoreConfig!J1742","v":"74|0#0#0#5"},{"$nulls":5},11060,30]
[{"$nulls":3},74,50,9000,null,9,74,45,{"$f":"D1419&$K$6&E1419","v":"74|0#0#0#50"},{"$nulls":5},11023,50]
[{"$nulls":3},74,50,9000,null,9,74,45,"74|0#0#0#50",{"$nulls":5},11022,50]
[{"$nulls":3},74,50,9000,null,9,74,45,"74|0#0#0#50",{"$nulls":5},11077,50]
[{"$nulls":3},74,50,9000,null,9,74,45,"74|0#0#0#50",{"$nulls":5},11074,50]
[{"$nulls":3},74,40,7000,null,9,74,35,"74|0#0#0#40",{"$nulls":5},11007,50]
[{"$nulls":3},74,40,7000,null,9,74,35,"74|0#0#0#40",{"$nulls":5},11010,50]
[{"$nulls":3},74,40,7000,null,9,74,35,"74|0#0#0#40",{"$nulls":5},11033,50]
[{"$nulls":3},74,40,7000,null,9,74,35,"74|0#0#0#40",{"$nulls":5},11015,50]
[{"$nulls":3},74,40,7000,null,9,74,35,"74|0#0#0#40",{"$nulls":5},11012,50]
[{"$nulls":3},74,25,5000,null,"不动",74,25,{"$f":"StoreConfig!J1752","v":"74|0#0#0#25"},{"$nulls":5},11034,50]
[{"$nulls":3},74,25,5000,null,"不动",74,25,{"$f":"StoreConfig!J1753","v":"74|0#0#0#25"},{"$nulls":5},11039,50]
[{"$nulls":3},74,25,5000,null,"不动",74,25,{"$f":"StoreConfig!J1754","v":"74|0#0#0#25"},{"$nulls":5},11029,50]
[{"$nulls":3},74,25,5000,null,"不动",74,25,{"$f":"StoreConfig!J1755","v":"74|0#0#0#25"},{"$nulls":5},11030,50]
[{"$nulls":3},74,3,1000,null,"不动",74,5,{"$f":"StoreConfig!J1756","v":"74|0#0#0#5"},{"$nulls":5},11061,30]
[{"$nulls":3},74,3,1000,null,"不动",74,5,{"$f":"StoreConfig!J1757","v":"74|0#0#0#5"},{"$nulls":5},11062,30]
[{"$nulls":3},74,3,1000,null,"不动",74,5,{"$f":"StoreConfig!J1758","v":"74|0#0#0#5"},{"$nulls":5},11063,30]
[{"$nulls":3},74,3,1000,null,"不动",74,5,{"$f":"StoreConfig!J1759","v":"74|0#0#0#5"},{"$nulls":5},11064,30]
[{"$nulls":3},74,50,9000,null,9,74,45,{"$f":"D1436&$K$6&E1436","v":"74|0#0#0#50"},{"$nulls":5},11001,50]
[{"$nulls":3},74,50,9000,null,9,74,45,"74|0#0#0#50",{"$nulls":5},11014,50]
[{"$nulls":3},74,50,9000,null,9,74,45,"74|0#0#0#50",{"$nulls":5},11009,50]
[{"$nulls":3},74,50,9000,null,9,74,45,"74|0#0#0#50",{"$nulls":5},11040,50]
[{"$nulls":3},74,40,7000,null,9,74,35,"74|0#0#0#40",{"$nulls":5},11004,50]
[{"$nulls":3},74,40,7000,null,9,74,35,"74|0#0#0#40",{"$nulls":5},11016,50]
[{"$nulls":3},74,40,7000,null,9,74,35,"74|0#0#0#40",{"$nulls":5},11021,50]
[{"$nulls":3},74,40,7000,null,9,74,35,"74|0#0#0#40",{"$nulls":5},11017,50]
[{"$nulls":3},74,40,7000,null,9,74,35,"74|0#0#0#40",{"$nulls":5},11075,50]
[{"$nulls":3},74,25,5000,null,"不动",74,25,{"$f":"StoreConfig!J1769","v":"74|0#0#0#25"},{"$nulls":5},11046,50]
[{"$nulls":3},74,25,5000,null,"不动",74,25,{"$f":"StoreConfig!J1770","v":"74|0#0#0#25"},{"$nulls":5},11032,50]
[{"$nulls":3},74,25,5000,null,"不动",74,25,{"$f":"StoreConfig!J1771","v":"74|0#0#0#25"},{"$nulls":5},11035,50]
[{"$nulls":3},74,25,5000,null,"不动",74,25,{"$f":"StoreConfig!J1772","v":"74|0#0#0#25"},{"$nulls":5},11036,50]
[{"$nulls":3},74,3,1000,null,"不动",74,5,{"$f":"StoreConfig!J1773","v":"74|0#0#0#5"},{"$nulls":5},11065,30]
[{"$nulls":3},74,3,1000,null,"不动",74,5,{"$f":"StoreConfig!J1774","v":"74|0#0#0#5"},{"$nulls":5},11066,30]
[{"$nulls":3},74,3,1000,null,"不动",74,5,{"$f":"StoreConfig!J1775","v":"74|0#0#0#5"},{"$nulls":5},11067,30]
[{"$nulls":3},74,3,1000,null,"不动",74,5,{"$f":"StoreConfig!J1776","v":"74|0#0#0#5"},{"$nulls":5},11068,30]
[{"$nulls":3},74,50,9000,null,9,74,45,{"$f":"D1453&$K$6&E1453","v":"74|0#0#0#50"},{"$nulls":5},11076,50]
[{"$nulls":3},74,50,9000,null,9,74,45,"74|0#0#0#50",{"$nulls":5},11026,50]
[{"$nulls":3},74,50,9000,null,9,74,45,"74|0#0#0#50",{"$nulls":5},11041,50]
[{"$nulls":3},74,50,9000,null,9,74,45,"74|0#0#0#50",{"$nulls":5},11078,50]
[{"$nulls":3},74,40,7000,null,9,74,35,"74|0#0#0#40",{"$nulls":5},11024,50]
[{"$nulls":3},74,40,7000,null,9,74,35,"74|0#0#0#40",{"$nulls":5},11019,50]
[{"$nulls":3},74,40,7000,null,9,74,35,"74|0#0#0#40",{"$nulls":5},11042,50]
[{"$nulls":3},74,40,7000,null,9,74,35,"74|0#0#0#40",{"$nulls":5},11043,50]
[{"$nulls":3},74,40,7000,null,9,74,35,"74|0#0#0#40",{"$nulls":5},11013,50]
[{"$nulls":3},74,25,5000,null,"不动",74,25,{"$f":"StoreConfig!J1786","v":"74|0#0#0#25"},{"$nulls":5},11025,50]
[{"$nulls":3},74,40,5000,null,7,74,25,{"$f":"D1463&$K$6&E1463","v":"74|0#0#0#40"},{"$nulls":5},11037,50]
[{"$nulls":3},74,25,5000,null,"不动",74,25,{"$f":"StoreConfig!J1788","v":"74|0#0#0#25"},{"$nulls":5},11027,50]
[{"$nulls":3},74,25,5000,null,"不动",74,25,{"$f":"StoreConfig!J1789","v":"74|0#0#0#25"},{"$nulls":5},11038,50]
[{"$nulls":3},74,3,1000,null,"不动",74,5,{"$f":"StoreConfig!J1790","v":"74|0#0#0#5"},{"$nulls":5},11069,30]
[{"$nulls":3},74,3,1000,null,"不动",74,5,{"$f":"StoreConfig!J1791","v":"74|0#0#0#5"},{"$nulls":5},11070,30]
[{"$nulls":3},74,3,1000,null,"不动",74,5,{"$f":"StoreConfig!J1792","v":"74|0#0#0#5"},{"$nulls":5},11071,30]
[{"$nulls":3},74,3,1000,null,"不动",74,5,{"$f":"StoreConfig!J1793","v":"74|0#0#0#5"},{"$nulls":5},11072,30]
[{"$nulls":3},16,3000,3000,null,"不动",16,3000,{"$f":"StoreConfig!J1794","v":"16|0#0#0#3000"},{"$nulls":5},12009,25]
[{"$nulls":3},16,3000,3000,null,"不动",16,3000,{"$f":"StoreConfig!J1795","v":"16|0#0#0#3000"},{"$nulls":5},12008,25]
[{"$nulls":3},16,3000,3000,null,"不动",16,3000,{"$f":"StoreConfig!J1796","v":"16|0#0#0#3000"},{"$nulls":5},12010,25]
[{"$nulls":3},16,3000,3000,null,"不动",16,3000,{"$f":"StoreConfig!J1797","v":"16|0#0#0#3000"},{"$nulls":5},12011,25]
[{"$nulls":3},16,3000,3000,null,"不动",16,3000,{"$f":"StoreConfig!J1798","v":"16|0#0#0#3000"},{"$nulls":5},12013,25]
[{"$nulls":3},16,2400,2400,null,"不动",16,2400,{"$f":"StoreConfig!J1799","v":"16|0#0#0#2400"},{"$nulls":5},12009,20]
[{"$nulls":3},16,2400,2400,null,"不动",16,2400,{"$f":"StoreConfig!J1800","v":"16|0#0#0#2400"},{"$nulls":5},12008,20]
[{"$nulls":3},16,2400,2400,null,"不动",16,2400,{"$f":"StoreConfig!J1801","v":"16|0#0#0#2400"},{"$nulls":5},12010,20]
[{"$nulls":3},16,2400,2400,null,"不动",16,2400,{"$f":"StoreConfig!J1802","v":"16|0#0#0#2400"},{"$nulls":5},12011,20]
[{"$nulls":3},16,2400,2400,null,"不动",16,2400,{"$f":"StoreConfig!J1803","v":"16|0#0#0#2400"},{"$nulls":5},12013,20]
[{"$nulls":3},16,1800,1800,null,"不动",16,1800,{"$f":"StoreConfig!J1804","v":"16|0#0#0#1800"},{"$nulls":5},12009,15]
[{"$nulls":3},16,1800,1800,null,"不动",16,1800,{"$f":"StoreConfig!J1805","v":"16|0#0#0#1800"},{"$nulls":5},12008,15]
[{"$nulls":3},16,1800,1800,null,"不动",16,1800,{"$f":"StoreConfig!J1806","v":"16|0#0#0#1800"},{"$nulls":5},12010,15]
[{"$nulls":3},16,1800,1800,null,"不动",16,1800,{"$f":"StoreConfig!J1807","v":"16|0#0#0#1800"},{"$nulls":5},12011,15]
[{"$nulls":3},16,1800,1800,null,"不动",16,1800,{"$f":"StoreConfig!J1808","v":"16|0#0#0#1800"},{"$nulls":5},12013,15]
[{"$nulls":3},16,1200,1200,null,"不动",16,1200,{"$f":"StoreConfig!J1809","v":"16|0#0#0#1200"},{"$nulls":5},12009,10]
[{"$nulls":3},16,1200,1200,null,"不动",16,1200,{"$f":"StoreConfig!J1810","v":"16|0#0#0#1200"},{"$nulls":5},12008,10]
[{"$nulls":3},16,1200,1200,null,"不动",16,1200,{"$f":"StoreConfig!J1811","v":"16|0#0#0#1200"},{"$nulls":5},12010,10]
[{"$nulls":3},16,1200,1200,null,"不动",16,1200,{"$f":"StoreConfig!J1812","v":"16|0#0#0#1200"},{"$nulls":5},12011,10]
[{"$nulls":3},16,1200,1200,null,"不动",16,1200,{"$f":"StoreConfig!J1813","v":"16|0#0#0#1200"},{"$nulls":5},12013,10]
[{"$nulls":3},16,1250,1250,null,"不动",16,1250,{"$f":"StoreConfig!J1814","v":"16|0#0#0#1250"},{"$nulls":5},60102,1]
[{"$nulls":3},16,1250,1250,null,"不动",16,1250,{"$f":"StoreConfig!J1815","v":"16|0#0#0#1250"},{"$nulls":5},60127,1]
[{"$nulls":3},16,1250,1250,null,"不动",16,1250,{"$f":"StoreConfig!J1816","v":"16|0#0#0#1250"},{"$nulls":5},60137,1]
[{"$nulls":3},16,1250,1250,null,"不动",16,1250,{"$f":"StoreConfig!J1817","v":"16|0#0#0#1250"},{"$nulls":5},60142,1]
[{"$nulls":3},16,2150,2150,null,"不动",16,2150,{"$f":"StoreConfig!J1818","v":"16|0#0#0#2150"},{"$nulls":5},60103,1]
[{"$nulls":3},16,2150,2150,null,"不动",16,2150,{"$f":"StoreConfig!J1819","v":"16|0#0#0#2150"},{"$nulls":5},60128,1]
[{"$nulls":3},16,2150,2150,null,"不动",16,2150,{"$f":"StoreConfig!J1820","v":"16|0#0#0#2150"},{"$nulls":5},60138,1]
[{"$nulls":3},16,2150,2150,null,"不动",16,2150,{"$f":"StoreConfig!J1821","v":"16|0#0#0#2150"},{"$nulls":5},60144,1]
[{"$nulls":3},16,3700,3500,null,"不动",16,3500,{"$f":"StoreConfig!J1822","v":"16|0#0#0#3500"},{"$nulls":5},60155,1]
[{"$nulls":3},16,3700,3500,null,"不动",16,3500,{"$f":"StoreConfig!J1823","v":"16|0#0#0#3500"},{"$nulls":5},60180,1]
[{"$nulls":3},16,3700,3500,null,"不动",16,3500,{"$f":"StoreConfig!J1824","v":"16|0#0#0#3500"},{"$nulls":5},60190,1]
[{"$nulls":3},16,3700,3500,null,"不动",16,3500,{"$f":"StoreConfig!J1825","v":"16|0#0#0#3500"},{"$nulls":5},60195,1]
[{"$nulls":3},16,3000,3000,null,"不动",16,3000,{"$f":"StoreConfig!J1826","v":"16|0#0#0#3000"},{"$nulls":5},12009,25]
[{"$nulls":3},16,3000,3000,null,"不动",16,3000,{"$f":"StoreConfig!J1827","v":"16|0#0#0#3000"},{"$nulls":5},12008,25]
[{"$nulls":3},16,3000,3000,null,"不动",16,3000,{"$f":"StoreConfig!J1828","v":"16|0#0#0#3000"},{"$nulls":5},12010,25]
[{"$nulls":3},16,3000,3000,null,"不动",16,3000,{"$f":"StoreConfig!J1829","v":"16|0#0#0#3000"},{"$nulls":5},12011,25]
[{"$nulls":3},16,3000,3000,null,"不动",16,3000,{"$f":"StoreConfig!J1830","v":"16|0#0#0#3000"},{"$nulls":5},12013,25]
[{"$nulls":3},16,2400,2400,null,"不动",16,2400,{"$f":"StoreConfig!J1831","v":"16|0#0#0#2400"},{"$nulls":5},12009,20]
[{"$nulls":3},16,2400,2400,null,"不动",16,2400,{"$f":"StoreConfig!J1832","v":"16|0#0#0#2400"},{"$nulls":5},12008,20]
[{"$nulls":3},16,2400,2400,null,"不动",16,2400,{"$f":"StoreConfig!J1833","v":"16|0#0#0#2400"},{"$nulls":5},12010,20]
[{"$nulls":3},16,2400,2400,null,"不动",16,2400,{"$f":"StoreConfig!J1834","v":"16|0#0#0#2400"},{"$nulls":5},12011,20]
[{"$nulls":3},16,2400,2400,null,"不动",16,2400,{"$f":"StoreConfig!J1835","v":"16|0#0#0#2400"},{"$nulls":5},12013,20]
[{"$nulls":3},16,1800,1800,null,"不动",16,1800,{"$f":"StoreConfig!J1836","v":"16|0#0#0#1800"},{"$nulls":5},12009,15]
[{"$nulls":3},16,1800,1800,null,"不动",16,1800,{"$f":"StoreConfig!J1837","v":"16|0#0#0#1800"},{"$nulls":5},12008,15]
[{"$nulls":3},16,1800,1800,null,"不动",16,1800,{"$f":"StoreConfig!J1838","v":"16|0#0#0#1800"},{"$nulls":5},12010,15]
[{"$nulls":3},16,1800,1800,null,"不动",16,1800,{"$f":"StoreConfig!J1839","v":"16|0#0#0#1800"},{"$nulls":5},12011,15]
[{"$nulls":3},16,1800,1800,null,"不动",16,1800,{"$f":"StoreConfig!J1840","v":"16|0#0#0#1800"},{"$nulls":5},12013,15]
[{"$nulls":3},16,1200,1200,null,"不动",16,1200,{"$f":"StoreConfig!J1841","v":"16|0#0#0#1200"},{"$nulls":5},12009,10]
[{"$nulls":3},16,1200,1200,null,"不动",16,1200,{"$f":"StoreConfig!J1842","v":"16|0#0#0#1200"},{"$nulls":5},12008,10]
[{"$nulls":3},16,1200,1200,null,"不动",16,1200,{"$f":"StoreConfig!J1843","v":"16|0#0#0#1200"},{"$nulls":5},12010,10]
[{"$nulls":3},16,1200,1200,null,"不动",16,1200,{"$f":"StoreConfig!J1844","v":"16|0#0#0#1200"},{"$nulls":5},12011,10]
[{"$nulls":3},16,1200,1200,null,"不动",16,1200,{"$f":"StoreConfig!J1845","v":"16|0#0#0#1200"},{"$nulls":5},12013,10]
[{"$nulls":3},16,1250,1250,null,"不动",16,1250,{"$f":"StoreConfig!J1846","v":"16|0#0#0#1250"},{"$nulls":5},60102,1]
[{"$nulls":3},16,1250,1250,null,"不动",16,1250,{"$f":"StoreConfig!J1847","v":"16|0#0#0#1250"},{"$nulls":5},60127,1]
[{"$nulls":3},16,1250,1250,null,"不动",16,1250,{"$f":"StoreConfig!J1848","v":"16|0#0#0#1250"},{"$nulls":5},60137,1]
[{"$nulls":3},16,1250,1250,null,"不动",16,1250,{"$f":"StoreConfig!J1849","v":"16|0#0#0#1250"},{"$nulls":5},60142,1]
[{"$nulls":3},16,2150,2150,null,"不动",16,2150,{"$f":"StoreConfig!J1850","v":"16|0#0#0#2150"},{"$nulls":5},60103,1]
[{"$nulls":3},16,2150,2150,null,"不动",16,2150,{"$f":"StoreConfig!J1851","v":"16|0#0#0#2150"},{"$nulls":5},60128,1]
[{"$nulls":3},16,2150,2150,null,"不动",16,2150,{"$f":"StoreConfig!J1852","v":"16|0#0#0#2150"},{"$nulls":5},60138,1]
[{"$nulls":3},16,2150,2150,null,"不动",16,2150,{"$f":"StoreConfig!J1853","v":"16|0#0#0#2150"},{"$nulls":5},60144,1]
[{"$nulls":3},16,3700,3500,null,"不动",16,3500,{"$f":"StoreConfig!J1854","v":"16|0#0#0#3500"},{"$nulls":5},60155,1]
[{"$nulls":3},16,3700,3500,null,"不动",16,3500,{"$f":"StoreConfig!J1855","v":"16|0#0#0#3500"},{"$nulls":5},60180,1]
[{"$nulls":3},16,3700,3500,null,"不动",16,3500,{"$f":"StoreConfig!J1856","v":"16|0#0#0#3500"},{"$nulls":5},60190,1]
[{"$nulls":3},16,3700,3500,null,"不动",16,3500,{"$f":"StoreConfig!J1857","v":"16|0#0#0#3500"},{"$nulls":5},60195,1]
[{"$nulls":3},16,3000,3000,null,"不动",16,3000,{"$f":"StoreConfig!J1858","v":"16|0#0#0#3000"},{"$nulls":5},12009,25]
[{"$nulls":3},16,3000,3000,null,"不动",16,3000,{"$f":"StoreConfig!J1859","v":"16|0#0#0#3000"},{"$nulls":5},12008,25]
[{"$nulls":3},16,3000,3000,null,"不动",16,3000,{"$f":"StoreConfig!J1860","v":"16|0#0#0#3000"},{"$nulls":5},12010,25]
[{"$nulls":3},16,3000,3000,null,"不动",16,3000,{"$f":"StoreConfig!J1861","v":"16|0#0#0#3000"},{"$nulls":5},12011,25]
[{"$nulls":3},16,3000,3000,null,"不动",16,3000,{"$f":"StoreConfig!J1862","v":"16|0#0#0#3000"},{"$nulls":5},12013,25]
[{"$nulls":3},16,2400,2400,null,"不动",16,2400,{"$f":"StoreConfig!J1863","v":"16|0#0#0#2400"},{"$nulls":5},12009,20]
[{"$nulls":3},16,2400,2400,null,"不动",16,2400,{"$f":"StoreConfig!J1864","v":"16|0#0#0#2400"},{"$nulls":5},12008,20]
[{"$nulls":3},16,2400,2400,null,"不动",16,2400,{"$f":"StoreConfig!J1865","v":"16|0#0#0#2400"},{"$nulls":5},12010,20]
[{"$nulls":3},16,2400,2400,null,"不动",16,2400,{"$f":"StoreConfig!J1866","v":"16|0#0#0#2400"},{"$nulls":5},12011,20]
[{"$nulls":3},16,2400,2400,null,"不动",16,2400,{"$f":"StoreConfig!J1867","v":"16|0#0#0#2400"},{"$nulls":5},12013,20]
[{"$nulls":3},16,1800,1800,null,"不动",16,1800,{"$f":"StoreConfig!J1868","v":"16|0#0#0#1800"},{"$nulls":5},12009,15]
[{"$nulls":3},16,1800,1800,null,"不动",16,1800,{"$f":"StoreConfig!J1869","v":"16|0#0#0#1800"},{"$nulls":5},12008,15]
[{"$nulls":3},16,1800,1800,null,"不动",16,1800,{"$f":"StoreConfig!J1870","v":"16|0#0#0#1800"},{"$nulls":5},12010,15]
[{"$nulls":3},16,1800,1800,null,"不动",16,1800,{"$f":"StoreConfig!J1871","v":"16|0#0#0#1800"},{"$nulls":5},12011,15]
[{"$nulls":3},16,1800,1800,null,"不动",16,1800,{"$f":"StoreConfig!J1872","v":"16|0#0#0#1800"},{"$nulls":5},12013,15]
[{"$nulls":3},16,1200,1200,null,"不动",16,1200,{"$f":"StoreConfig!J1873","v":"16|0#0#0#1200"},{"$nulls":5},12009,10]
[{"$nulls":3},16,1200,1200,null,"不动",16,1200,{"$f":"StoreConfig!J1874","v":"16|0#0#0#1200"},{"$nulls":5},12008,10]
[{"$nulls":3},16,1200,1200,null,"不动",16,1200,{"$f":"StoreConfig!J1875","v":"16|0#0#0#1200"},{"$nulls":5},12010,10]
[{"$nulls":3},16,1200,1200,null,"不动",16,1200,{"$f":"StoreConfig!J1876","v":"16|0#0#0#1200"},{"$nulls":5},12011,10]
[{"$nulls":3},16,1200,1200,null,"不动",16,1200,{"$f":"StoreConfig!J1877","v":"16|0#0#0#1200"},{"$nulls":5},12013,10]
[{"$nulls":3},16,1250,1250,null,"不动",16,1250,{"$f":"StoreConfig!J1878","v":"16|0#0#0#1250"},{"$nulls":5},60102,1]
[{"$nulls":3},16,1250,1250,null,"不动",16,1250,{"$f":"StoreConfig!J1879","v":"16|0#0#0#1250"},{"$nulls":5},60127,1]
[{"$nulls":3},16,1250,1250,null,"不动",16,1250,{"$f":"StoreConfig!J1880","v":"16|0#0#0#1250"},{"$nulls":5},60137,1]
[{"$nulls":3},16,1250,1250,null,"不动",16,1250,{"$f":"StoreConfig!J1881","v":"16|0#0#0#1250"},{"$nulls":5},60142,1]
[{"$nulls":3},16,2150,2150,null,"不动",16,2150,{"$f":"StoreConfig!J1882","v":"16|0#0#0#2150"},{"$nulls":5},60103,1]
[{"$nulls":3},16,2150,2150,null,"不动",16,2150,{"$f":"StoreConfig!J1883","v":"16|0#0#0#2150"},{"$nulls":5},60128,1]
[{"$nulls":3},16,2150,2150,null,"不动",16,2150,{"$f":"StoreConfig!J1884","v":"16|0#0#0#2150"},{"$nulls":5},60138,1]
[{"$nulls":3},16,2150,2150,null,"不动",16,2150,{"$f":"StoreConfig!J1885","v":"16|0#0#0#2150"},{"$nulls":5},60144,1]
[{"$nulls":3},16,3700,3500,null,"不动",16,3500,{"$f":"StoreConfig!J1886","v":"16|0#0#0#3500"},{"$nulls":5},60155,1]
[{"$nulls":3},16,3700,3500,null,"不动",16,3500,{"$f":"StoreConfig!J1887","v":"16|0#0#0#3500"},{"$nulls":5},60180,1]
[{"$nulls":3},16,3700,3500,null,"不动",16,3500,{"$f":"StoreConfig!J1888","v":"16|0#0#0#3500"},{"$nulls":5},60190,1]
[{"$nulls":3},16,3700,3500,null,"不动",16,3500,{"$f":"StoreConfig!J1889","v":"16|0#0#0#3500"},{"$nulls":5},60195,1]
[{"$nulls":3},16,3000,3000,null,"不动",16,3000,{"$f":"StoreConfig!J1890","v":"16|0#0#0#3000"},{"$nulls":5},12009,25]
[{"$nulls":3},16,3000,3000,null,"不动",16,3000,{"$f":"StoreConfig!J1891","v":"16|0#0#0#3000"},{"$nulls":5},12008,25]
[{"$nulls":3},16,3000,3000,null,"不动",16,3000,{"$f":"StoreConfig!J1892","v":"16|0#0#0#3000"},{"$nulls":5},12010,25]
[{"$nulls":3},16,3000,3000,null,"不动",16,3000,{"$f":"StoreConfig!J1893","v":"16|0#0#0#3000"},{"$nulls":5},12011,25]
[{"$nulls":3},16,3000,3000,null,"不动",16,3000,{"$f":"StoreConfig!J1894","v":"16|0#0#0#3000"},{"$nulls":5},12013,25]
[{"$nulls":3},16,2400,2400,null,"不动",16,2400,{"$f":"StoreConfig!J1895","v":"16|0#0#0#2400"},{"$nulls":5},12009,20]
[{"$nulls":3},16,2400,2400,null,"不动",16,2400,{"$f":"StoreConfig!J1896","v":"16|0#0#0#2400"},{"$nulls":5},12008,20]
[{"$nulls":3},16,2400,2400,null,"不动",16,2400,{"$f":"StoreConfig!J1897","v":"16|0#0#0#2400"},{"$nulls":5},12010,20]
[{"$nulls":3},16,2400,2400,null,"不动",16,2400,{"$f":"StoreConfig!J1898","v":"16|0#0#0#2400"},{"$nulls":5},12011,20]
[{"$nulls":3},16,2400,2400,null,"不动",16,2400,{"$f":"StoreConfig!J1899","v":"16|0#0#0#2400"},{"$nulls":5},12013,20]
[{"$nulls":3},16,1800,1800,null,"不动",16,1800,{"$f":"StoreConfig!J1900","v":"16|0#0#0#1800"},{"$nulls":5},12009,15]
[{"$nulls":3},16,1800,1800,null,"不动",16,1800,{"$f":"StoreConfig!J1901","v":"16|0#0#0#1800"},{"$nulls":5},12008,15]
[{"$nulls":3},16,1800,1800,null,"不动",16,1800,{"$f":"StoreConfig!J1902","v":"16|0#0#0#1800"},{"$nulls":5},12010,15]
[{"$nulls":3},16,1800,1800,null,"不动",16,1800,{"$f":"StoreConfig!J1903","v":"16|0#0#0#1800"},{"$nulls":5},12011,15]
[{"$nulls":3},16,1800,1800,null,"不动",16,1800,{"$f":"StoreConfig!J1904","v":"16|0#0#0#1800"},{"$nulls":5},12013,15]
[{"$nulls":3},16,1200,1200,null,"不动",16,1200,{"$f":"StoreConfig!J1905","v":"16|0#0#0#1200"},{"$nulls":5},12009,10]
[{"$nulls":3},16,1200,1200,null,"不动",16,1200,{"$f":"StoreConfig!J1906","v":"16|0#0#0#1200"},{"$nulls":5},12008,10]
[{"$nulls":3},16,1200,1200,null,"不动",16,1200,{"$f":"StoreConfig!J1907","v":"16|0#0#0#1200"},{"$nulls":5},12010,10]
[{"$nulls":3},16,1200,1200,null,"不动",16,1200,{"$f":"StoreConfig!J1908","v":"16|0#0#0#1200"},{"$nulls":5},12011,10]
[{"$nulls":3},16,1200,1200,null,"不动",16,1200,{"$f":"StoreConfig!J1909","v":"16|0#0#0#1200"},{"$nulls":5},12013,10]
[{"$nulls":3},16,1250,1250,null,"不动",16,1250,{"$f":"StoreConfig!J1910","v":"16|0#0#0#1250"},{"$nulls":5},60102,1]
[{"$nulls":3},16,1250,1250,null,"不动",16,1250,{"$f":"StoreConfig!J1911","v":"16|0#0#0#1250"},{"$nulls":5},60127,1]
[{"$nulls":3},16,1250,1250,null,"不动",16,1250,{"$f":"StoreConfig!J1912","v":"16|0#0#0#1250"},{"$nulls":5},60137,1]
[{"$nulls":3},16,1250,1250,null,"不动",16,1250,{"$f":"StoreConfig!J1913","v":"16|0#0#0#1250"},{"$nulls":5},60142,1]
[{"$nulls":3},16,2150,2150,null,"不动",16,2150,{"$f":"StoreConfig!J1914","v":"16|0#0#0#2150"},{"$nulls":5},60103,1]
[{"$nulls":3},16,2150,2150,null,"不动",16,2150,{"$f":"StoreConfig!J1915","v":"16|0#0#0#2150"},{"$nulls":5},60128,1]
[{"$nulls":3},16,2150,2150,null,"不动",16,2150,{"$f":"StoreConfig!J1916","v":"16|0#0#0#2150"},{"$nulls":5},60138,1]
[{"$nulls":3},16,2150,2150,null,"不动",16,2150,{"$f":"StoreConfig!J1917","v":"16|0#0#0#2150"},{"$nulls":5},60144,1]
[{"$nulls":3},16,3700,3500,null,"不动",16,3500,{"$f":"StoreConfig!J1918","v":"16|0#0#0#3500"},{"$nulls":5},60155,1]
[{"$nulls":3},16,3700,3500,null,"不动",16,3500,{"$f":"StoreConfig!J1919","v":"16|0#0#0#3500"},{"$nulls":5},60180,1]
[{"$nulls":3},16,3700,3500,null,"不动",16,3500,{"$f":"StoreConfig!J1920","v":"16|0#0#0#3500"},{"$nulls":5},60190,1]
[{"$nulls":3},16,3700,3500,null,"不动",16,3500,{"$f":"StoreConfig!J1921","v":"16|0#0#0#3500"},{"$nulls":5},60195,1]
[{"$nulls":3},1003,500,28800,null,"不动",1003,480,{"$f":"StoreConfig!J1922","v":"1003|0#0#0#480"},{"$nulls":5},5000048,1]
[{"$nulls":3},1003,500,28800,null,"不动",1003,480,{"$f":"StoreConfig!J1923","v":"1003|0#0#0#480"},{"$nulls":5},5000049,1]
[{"$nulls":3},1003,500,28800,null,"不动",1003,480,{"$f":"StoreConfig!J1924","v":"1003|0#0#0#480"},{"$nulls":5},5000050,1]
[{"$nulls":3},1003,500,28800,null,"不动",1003,480,{"$f":"StoreConfig!J1925","v":"1003|0#0#0#480"},{"$nulls":5},5000051,1]
[{"$nulls":3},1003,500,28800,null,"不动",1003,480,{"$f":"StoreConfig!J1926","v":"1003|0#0#0#480"},{"$nulls":5},5000052,1]
[{"$nulls":3},1003,500,28800,null,"不动",1003,480,{"$f":"StoreConfig!J1927","v":"1003|0#0#0#480"},{"$nulls":5},5000053,1]
[{"$nulls":3},1003,500,28800,null,"不动",1003,480,{"$f":"StoreConfig!J1928","v":"1003|0#0#0#480"},{"$nulls":5},5000054,1]
[{"$nulls":3},1003,500,28800,null,"不动",1003,480,{"$f":"StoreConfig!J1929","v":"1003|0#0#0#480"},{"$nulls":5},5000055,1]
[{"$nulls":3},1003,500,28800,null,"不动",1003,480,{"$f":"StoreConfig!J1930","v":"1003|0#0#0#480"},{"$nulls":5},5000056,1]
[{"$nulls":3},1003,500,28800,null,"不动",1003,480,{"$f":"StoreConfig!J1931","v":"1003|0#0#0#480"},{"$nulls":5},5000057,1]
[{"$nulls":3},1003,500,28800,null,"不动",1003,480,{"$f":"StoreConfig!J1932","v":"1003|0#0#0#480"},{"$nulls":5},5000058,1]
[{"$nulls":3},1003,500,28800,null,"不动",1003,480,{"$f":"StoreConfig!J1933","v":"1003|0#0#0#480"},{"$nulls":5},5000059,1]
[{"$nulls":3},1003,167,9600,null,"不动",1003,160,{"$f":"StoreConfig!J1934","v":"1003|0#0#0#160"},{"$nulls":5},5000044,1]
[{"$nulls":3},1003,167,9600,null,"不动",1003,160,{"$f":"StoreConfig!J1935","v":"1003|0#0#0#160"},{"$nulls":5},5000045,1]
[{"$nulls":3},1003,167,9600,null,"不动",1003,160,{"$f":"StoreConfig!J1936","v":"1003|0#0#0#160"},{"$nulls":5},5000046,1]
[{"$nulls":3},1003,167,9600,null,"不动",1003,160,{"$f":"StoreConfig!J1937","v":"1003|0#0#0#160"},{"$nulls":5},5000036,1]
[{"$nulls":3},1003,167,9600,null,"不动",1003,160,{"$f":"StoreConfig!J1938","v":"1003|0#0#0#160"},{"$nulls":5},5000037,1]
[{"$nulls":3},1003,167,9600,null,"不动",1003,160,{"$f":"StoreConfig!J1939","v":"1003|0#0#0#160"},{"$nulls":5},5000038,1]
[{"$nulls":3},1003,167,9600,null,"不动",1003,160,{"$f":"StoreConfig!J1940","v":"1003|0#0#0#160"},{"$nulls":5},5000043,1]
[{"$nulls":3},1003,167,9600,null,"不动",1003,160,{"$f":"StoreConfig!J1941","v":"1003|0#0#0#160"},{"$nulls":5},5000039,1]
[{"$nulls":3},1003,167,9600,null,"不动",1003,160,{"$f":"StoreConfig!J1942","v":"1003|0#0#0#160"},{"$nulls":5},5000047,1]
[{"$nulls":3},1003,167,9600,null,"不动",1003,160,{"$f":"StoreConfig!J1943","v":"1003|0#0#0#160"},{"$nulls":5},5000040,1]
[{"$nulls":3},1003,167,9600,null,"不动",1003,160,{"$f":"StoreConfig!J1944","v":"1003|0#0#0#160"},{"$nulls":5},5000033,1]
[{"$nulls":3},1003,167,9600,null,"不动",1003,160,{"$f":"StoreConfig!J1945","v":"1003|0#0#0#160"},{"$nulls":5},5000042,1]
[{"$nulls":3},1003,167,9600,null,"不动",1003,160,{"$f":"StoreConfig!J1946","v":"1003|0#0#0#160"},{"$nulls":5},5000034,1]
[{"$nulls":3},1003,167,9600,null,"不动",1003,160,{"$f":"StoreConfig!J1947","v":"1003|0#0#0#160"},{"$nulls":5},5000041,1]
[{"$nulls":3},1003,167,9600,null,"不动",1003,160,{"$f":"StoreConfig!J1948","v":"1003|0#0#0#160"},{"$nulls":5},5000035,1]
[{"$nulls":3},1003,50,3000,null,"不动",1003,50,{"$f":"StoreConfig!J1949","v":"1003|0#0#0#50"},{"$nulls":5},5000009,1]
[{"$nulls":3},1003,50,3000,null,"不动",1003,50,{"$f":"StoreConfig!J1950","v":"1003|0#0#0#50"},{"$nulls":5},5000010,1]
[{"$nulls":3},1003,50,3000,null,"不动",1003,50,{"$f":"StoreConfig!J1951","v":"1003|0#0#0#50"},{"$nulls":5},5000011,1]
[{"$nulls":3},1003,50,3000,null,"不动",1003,50,{"$f":"StoreConfig!J1952","v":"1003|0#0#0#50"},{"$nulls":5},5000012,1]
[{"$nulls":3},1003,50,3000,null,"不动",1003,50,{"$f":"StoreConfig!J1953","v":"1003|0#0#0#50"},{"$nulls":5},5000013,1]
[{"$nulls":3},1003,50,3000,null,"不动",1003,50,{"$f":"StoreConfig!J1954","v":"1003|0#0#0#50"},{"$nulls":5},5000014,1]
[{"$nulls":3},1003,50,3000,null,"不动",1003,50,{"$f":"StoreConfig!J1955","v":"1003|0#0#0#50"},{"$nulls":5},5000015,1]
[{"$nulls":3},1003,50,3000,null,"不动",1003,50,{"$f":"StoreConfig!J1956","v":"1003|0#0#0#50"},{"$nulls":5},5000016,1]
[{"$nulls":3},1003,50,3000,null,"不动",1003,50,{"$f":"StoreConfig!J1957","v":"1003|0#0#0#50"},{"$nulls":5},5000017,1]
[{"$nulls":3},1003,50,3000,null,"不动",1003,50,{"$f":"StoreConfig!J1958","v":"1003|0#0#0#50"},{"$nulls":5},5000018,1]
[{"$nulls":3},1003,50,3000,null,"不动",1003,50,{"$f":"StoreConfig!J1959","v":"1003|0#0#0#50"},{"$nulls":5},5000019,1]
[{"$nulls":3},1003,50,3000,null,"不动",1003,50,{"$f":"StoreConfig!J1960","v":"1003|0#0#0#50"},{"$nulls":5},5000020,1]
[{"$nulls":3},1003,50,3000,null,"不动",1003,50,{"$f":"StoreConfig!J1961","v":"1003|0#0#0#50"},{"$nulls":5},5000021,1]
[{"$nulls":3},1003,50,3000,null,"不动",1003,50,{"$f":"StoreConfig!J1962","v":"1003|0#0#0#50"},{"$nulls":5},5000022,1]
[{"$nulls":3},1003,50,3000,null,"不动",1003,50,{"$f":"StoreConfig!J1963","v":"1003|0#0#0#50"},{"$nulls":5},5000023,1]
[{"$nulls":3},1003,50,3000,null,"不动",1003,50,{"$f":"StoreConfig!J1964","v":"1003|0#0#0#50"},{"$nulls":5},5000024,1]
[{"$nulls":3},1003,50,3000,null,"不动",1003,50,{"$f":"StoreConfig!J1965","v":"1003|0#0#0#50"},{"$nulls":5},5000025,1]
[{"$nulls":3},1003,50,3000,null,"不动",1003,50,{"$f":"StoreConfig!J1966","v":"1003|0#0#0#50"},{"$nulls":5},5000026,1]
[{"$nulls":3},1003,50,3000,null,"不动",1003,50,{"$f":"StoreConfig!J1967","v":"1003|0#0#0#50"},{"$nulls":5},5000027,1]
[{"$nulls":3},1003,50,3000,null,"不动",1003,50,{"$f":"StoreConfig!J1968","v":"1003|0#0#0#50"},{"$nulls":5},5000028,1]
[{"$nulls":3},1003,50,3000,null,"不动",1003,50,{"$f":"StoreConfig!J1969","v":"1003|0#0#0#50"},{"$nulls":5},5000029,1]
[{"$nulls":3},1003,50,3000,null,"不动",1003,50,{"$f":"StoreConfig!J1970","v":"1003|0#0#0#50"},{"$nulls":5},5000030,1]
[{"$nulls":3},1003,50,3000,null,"不动",1003,50,{"$f":"StoreConfig!J1971","v":"1003|0#0#0#50"},{"$nulls":5},5000031,1]
[{"$nulls":3},1003,50,3000,null,"不动",1003,50,{"$f":"StoreConfig!J1972","v":"1003|0#0#0#50"},{"$nulls":5},5000032,1]
[{"$nulls":16},23,1]
[{"$nulls":16},4,50]
[{"$nulls":16},4,10]
[{"$nulls":16},12013,1]
[{"$nulls":16},19,1]
[{"$nulls":16},20,1]
[{"$nulls":16},61,1]
[{"$nulls":15},{"$f":"R1656*50","v":500},60,10]