{"text_format":"3","workbook":"xlsx","n_sheets":3,"sheets":["TrialGameConfig","boss及奖励分配表","mappoint辅助表"],"not_rendered":{"comments":1},"read":"whole","date_system":"1900"}

{"sheet":"TrialGameConfig","index":0,"n_rows":63,"n_cols":8,"rows_kept":63}
[null,"Id","Type","RewardID","Weight","Min","Max","UnlockLv"]
[null,"int","int","int","int","int","int","int"]
[null,2,2,2,2,2,2,2]
[null,"ID","类型\n16福星\n17转盘\n18挖矿","奖励道具id","权重","奖励数量下限","奖励数量上限","奖励入库等级"]
["默认值",0,0,null,null,"null",0,1]
["正确性校对"]
["校对值"]
[null,1,16,3,100,20000,23000,55]
[null,2,16,3,100,23000,26000,65]
[null,3,16,3,100,26000,29000,75]
[null,4,16,3,100,29000,32000,85]
[null,5,16,3,100,32000,35000,95]
[null,6,16,3,100,35000,38000,105]
[null,7,16,3,100,38000,41000,115]
[null,8,16,3,100,41000,44000,125]
[null,9,16,3,100,44000,47000,135]
[null,10,16,3,100,47000,50000,145]
[null,11,16,3,100,20000,23000,55]
[null,12,16,3,100,23000,26000,65]
[null,13,16,3,100,26000,29000,75]
[null,14,16,3,100,29000,32000,85]
[null,15,16,3,100,32000,35000,95]
[null,16,16,3,100,35000,38000,105]
[null,17,16,3,100,38000,41000,115]
[null,18,16,3,100,41000,44000,125]
[null,19,16,3,100,44000,47000,135]
[null,20,16,3,100,47000,50000,145]
[null,21,17,16,100,100,100,55]
[null,22,17,16,200,50,50,55]
[null,23,17,14,5000,80000,80000,55]
[null,24,17,14,3000,100000,100000,55]
[null,25,17,14,2000,120000,120000,55]
[null,26,17,14,1000,150000,150000,55]
[null,27,17,3,5000,30000,30000,55]
[null,28,17,3,3000,40000,40000,55]
[null,29,17,3,2000,50000,50000,55]
[null,30,17,3,1000,60000,60000,55]
[null,31,17,1001,5000,300,300,55]
[null,32,17,1001,3000,400,400,55]
[null,33,17,1001,2000,500,500,55]
[null,34,17,1001,1000,600,600,55]
[null,35,17,66,5000,30,30,55]
[null,36,17,66,3000,40,40,55]
[null,37,17,66,2000,50,50,55]
[null,38,17,66,1000,60,60,55]
[null,63,18,16,100,100,100,55]
[null,64,18,16,200,50,50,55]
[null,65,18,14,5000,80000,80000,55]
[null,66,18,14,3000,100000,100000,55]
[null,67,18,14,2000,120000,120000,55]
[null,68,18,14,1000,150000,150000,55]
[null,69,18,3,5000,30000,30000,55]
[null,70,18,3,3000,40000,40000,55]
[null,71,18,3,2000,50000,50000,55]
[null,72,18,3,1000,60000,60000,55]
[null,73,18,1001,5000,300,300,55]
[null,74,18,1001,3000,400,400,55]
[null,75,18,1001,2000,500,500,55]
[null,76,18,1001,1000,600,600,55]
[null,77,18,66,5000,30,30,55]
[null,78,18,66,3000,40,40,55]
[null,79,18,66,2000,50,50,55]
[null,80,18,66,1000,60,60,55]

{"sheet":"boss及奖励分配表","index":1,"n_rows":202,"n_cols":73,"rows_kept":202}
[{"$nulls":4},11,16,14,100,100000,120000,55]
[{"$nulls":4},12,16,14,100,120000,140000,65,{"$nulls":7},"天数","关卡","层数","天数","战斗概率","其他事件","具体天数","boss个数",{"$nulls":10},"天数","层数","累计层数","扫荡层数","金币获取","累计获取","铁矿石获取","累计获取","钻石获取","钻石累计获取","突破石获取","累计获取",{"$nulls":4},"层数","金币","累计","铁矿石","累计","钻石","概率","实际钻石","累计","突破石","概率","实际获取","累计"]
[{"$nulls":4},13,16,14,100,140000,160000,75,{"$nulls":7},1,{"$f":"VLOOKUP(V3,#REF!,3,TRUE)","v":{"$error":"#REF!"}},1,1,0.8,0.2,0.5,3,10023,{"$f":"VLOOKUP(AA3,$AG:$AH,2,FALSE)","v":"荧荧"},10021,"清然",10005,"兰卿",{"$nulls":4},1,{"$f":"COUNTIFS(V:V,AK3)","v":12},{"$f":"AL3","v":12},{"$f":"_xlfn.FLOOR.MATH(AM3,5)","v":10},{"$f":"VLOOKUP(AN3,$BA:$BC,3,0)","v":9500},{"$f":"SUM($AO$3:AO3)","v":9500},{"$f":"VLOOKUP(AN3,$BA:$BE,5,0)","v":525},{"$f":"SUM($AQ$3:AQ3)","v":525},{"$f":"VLOOKUP(AN3,$BA:$BI,9,0)","v":5.999999999999999},{"$f":"SUM($AS$3:AS3)","v":5.999999999999999},{"$f":"VLOOKUP(AN3,$BA:$BM,13)","v":20},{"$f":"SUM($AU$3:AU3)","v":20},{"$nulls":4},1,500,{"$f":"SUM($BB$3:BB3)","v":500},30,{"$f":"SUM($BD$3:BD3)","v":30},5,0.12,{"$f":"BF3*BG3","v":0.6},{"$f":"SUM($BH$3:BH3)","v":0.6},10,0.2,{"$f":"BJ3*BK3","v":2},{"$f":"SUM($BL$3:BL3)","v":2},null,null,"荧荧",10023,"岑以璇",10021,"端木葵",10005]
[{"$nulls":4},14,16,14,100,160000,180000,85,{"$nulls":7},1,{"$f":"VLOOKUP(V4,#REF!,3,TRUE)","v":{"$error":"#REF!"}},2,1,0.8,0.2,0.6,2,10018,{"$f":"VLOOKUP(AA4,$AG:$AH,2,FALSE)","v":"紫苏"},10001,{"$f":"VLOOKUP(AC4,$AG:$AH,2,FALSE)","v":"夏侯鸿天"},{"$error":"#N/A"},{"$f":"VLOOKUP(AE4,$AG:$AH,2,FALSE)","v":{"$error":"#N/A"}},{"$nulls":4},2,8,{"$f":"SUM($AL$3:AL4)","v":20},20,{"$f":"VLOOKUP(AN4,$BA:$BC,3,0)","v":29000},{"$f":"SUM($AO$3:AO4)","v":38500},{"$f":"VLOOKUP(AN4,$BA:$BE,5,0)","v":1550},{"$f":"SUM($AQ$3:AQ4)","v":2075},{"$f":"VLOOKUP(AN4,$BA:$BI,9,0)","v":11.999999999999996},{"$f":"SUM($AS$3:AS4)","v":17.999999999999996},{"$f":"VLOOKUP(AN4,$BA:$BM,13)","v":40},{"$f":"SUM($AU$3:AU4)","v":60},{"$nulls":4},2,600,{"$f":"SUM($BB$3:BB4)","v":1100},35,{"$f":"SUM($BD$3:BD4)","v":65},5,0.12,{"$f":"BF4*BG4","v":0.6},{"$f":"SUM($BH$3:BH4)","v":1.2},10,0.2,{"$f":"BJ4*BK4","v":2},{"$f":"SUM($BL$3:BL4)","v":4},null,null,"朱贺",10018,"石御霏",10001,"",{"$error":"#N/A"}]
[{"$nulls":4},15,16,14,100,180000,200000,95,{"$nulls":7},1,{"$f":"VLOOKUP(V5,#REF!,3,TRUE)","v":{"$error":"#REF!"}},3,1,0.8,0.2,0.7,3,10002,"石御霏",10005,"兰卿",10018,"紫苏",{"$nulls":4},3,6,{"$f":"SUM($AL$3:AL5)","v":26},25,42500,{"$f":"SUM($AO$3:AO5)","v":81000},2250,{"$f":"SUM($AQ$3:AQ5)","v":4325},14.999999999999995,{"$f":"SUM($AS$3:AS5)","v":32.99999999999999},50,{"$f":"SUM($AU$3:AU5)","v":110},{"$nulls":4},3,700,{"$f":"SUM($BB$3:BB5)","v":1800},40,{"$f":"SUM($BD$3:BD5)","v":105},5,0.12,0.6,{"$f":"SUM($BH$3:BH5)","v":1.7999999999999998},10,0.2,2,{"$f":"SUM($BL$3:BL5)","v":6},null,null,"楚恒",10002,"端木葵",10005,"朱贺",10018]
[{"$nulls":4},16,16,14,100,200000,220000,105,{"$nulls":7},1,{"$f":"VLOOKUP(V6,#REF!,3,TRUE)","v":{"$error":"#REF!"}},4,1,0.8,0.2,0.8,3,10017,"解幽",10009,"祁菲",10016,"枫元正","id","角色名","id",null,4,4,{"$f":"SUM($AL$3:AL6)","v":30},30,58500,{"$f":"SUM($AO$3:AO6)","v":139500},3075,{"$f":"SUM($AQ$3:AQ6)","v":7400},18,{"$f":"SUM($AS$3:AS6)","v":50.99999999999999},60,{"$f":"SUM($AU$3:AU6)","v":170},{"$nulls":4},4,800,{"$f":"SUM($BB$3:BB6)","v":2600},45,{"$f":"SUM($BD$3:BD6)","v":150},5,0.12,0.6,{"$f":"SUM($BH$3:BH6)","v":2.4},10,0.2,2,{"$f":"SUM($BL$3:BL6)","v":8},null,null,"影蓟",10017,"祁菲",10009,"岑以航",10016]
[null,null,"扫荡奖励主要",null,17,16,14,100,220000,240000,115,{"$nulls":7},1,{"$f":"VLOOKUP(V7,#REF!,3,TRUE)","v":{"$error":"#REF!"}},5,1,1,0,0.8,2,10012,{"$f":"VLOOKUP(AA7,$AG:$AH,2,FALSE)","v":"慕容子期"},{"$error":"#N/A"},{"$f":"VLOOKUP(AC7,$AG:$AH,2,FALSE)","v":{"$error":"#N/A"}},{"$error":"#N/A"},{"$error":"#N/A"},10001,"夏侯鸿天",10001,"嘲讽+双抗+眩晕",5,4,{"$f":"SUM($AL$3:AL7)","v":34},30,58500,{"$f":"SUM($AO$3:AO7)","v":198000},3075,{"$f":"SUM($AQ$3:AQ7)","v":10475},18,{"$f":"SUM($AS$3:AS7)","v":69},60,{"$f":"SUM($AU$3:AU7)","v":230},{"$nulls":4},5,900,{"$f":"SUM($BB$3:BB7)","v":3500},50,{"$f":"SUM($BD$3:BD7)","v":200},5,0.12,0.6,{"$f":"SUM($BH$3:BH7)","v":3},10,0.2,2,{"$f":"SUM($BL$3:BL7)","v":10},null,null,"朱贺",10018,"石御霏",10001,"",{"$error":"#N/A"}]
[{"$nulls":3},"金币",18,16,14,100,240000,260000,125,{"$nulls":7},1,{"$f":"VLOOKUP(V8,#REF!,3,TRUE)","v":{"$error":"#REF!"}},6,1,0.8,0.2,0.9,2,10014,"颜无诡",10012,"慕容子期",{"$error":"#N/A"},{"$error":"#N/A"},10002,"石御霏",10002,"嘲讽+攻击+伤害吸收盾",6,4,{"$f":"SUM($AL$3:AL8)","v":38},35,77000,{"$f":"SUM($AO$3:AO8)","v":275000},4025,{"$f":"SUM($AQ$3:AQ8)","v":14500},21.000000000000007,{"$f":"SUM($AS$3:AS8)","v":90},70,{"$f":"SUM($AU$3:AU8)","v":300},{"$nulls":3}," ",6,1000,{"$f":"SUM($BB$3:BB8)","v":4500},55,{"$f":"SUM($BD$3:BD8)","v":255},5,0.12,0.6,{"$f":"SUM($BH$3:BH8)","v":3.6},10,0.2,2,{"$f":"SUM($BL$3:BL8)","v":12},null,null,"耿陶",10014,"慕容子期",10012,"",{"$error":"#N/A"}]
[{"$nulls":3},"铁矿石",19,16,14,100,260000,280000,135,{"$nulls":7},1,{"$f":"VLOOKUP(V9,#REF!,3,TRUE)","v":{"$error":"#REF!"}},7,1,0.8,0.2,0.9,3,10020,"司空染",10016,"枫元正",10007,"应茹",10003,"叶辽",10003,"伤害转化生命+嘲讽+削弱魔抗",7,2,{"$f":"SUM($AL$3:AL9)","v":40},40,98000,{"$f":"SUM($AO$3:AO9)","v":373000},5100,{"$f":"SUM($AQ$3:AQ9)","v":19600},24.000000000000014,{"$f":"SUM($AS$3:AS9)","v":114.00000000000001},80,{"$f":"SUM($AU$3:AU9)","v":380},{"$nulls":4},7,1100,{"$f":"SUM($BB$3:BB9)","v":5600},60,{"$f":"SUM($BD$3:BD9)","v":315},5,0.12,0.6,{"$f":"SUM($BH$3:BH9)","v":4.2},10,0.2,2,{"$f":"SUM($BL$3:BL9)","v":14},null,null,"颜无雍",10020,"岑以航",10016,"靖之",10007]
[{"$nulls":4},20,16,14,100,280000,300000,145,{"$nulls":7},1,{"$f":"VLOOKUP(V10,#REF!,3,TRUE)","v":{"$error":"#REF!"}},8,1,0.8,0.2,0.9,3,10015,"凝儿",10010,"颜祈佳",10010,"颜祈佳",10004,"孔谦",10004,"单体治疗+全体治疗",8,2,{"$f":"SUM($AL$3:AL10)","v":42},40,98000,{"$f":"SUM($AO$3:AO10)","v":471000},5100,{"$f":"SUM($AQ$3:AQ10)","v":24700},24.000000000000014,{"$f":"SUM($AS$3:AS10)","v":138.00000000000003},80,{"$f":"SUM($AU$3:AU10)","v":460},{"$nulls":4},8,1200,{"$f":"SUM($BB$3:BB10)","v":6800},65,{"$f":"SUM($BD$3:BD10)","v":380},5,0.12,0.6,{"$f":"SUM($BH$3:BH10)","v":4.8},10,0.2,2,{"$f":"SUM($BL$3:BL10)","v":16},null,null,"云",10015,"颜祈佳",10010,"颜祈佳",10010]
[null,null,"随机部分",{"$nulls":15},1,{"$f":"VLOOKUP(V11,#REF!,3,TRUE)","v":{"$error":"#REF!"}},9,1,0.8,0.2,0.9,1,10006,{"$f":"VLOOKUP(AA11,$AG:$AH,2,FALSE)","v":"朱贺"},10017,{"$f":"VLOOKUP(AC11,$AG:$AH,2,FALSE)","v":"解幽"},{"$error":"#N/A"},{"$error":"#N/A"},10005,"兰卿",10005,"自身治疗+提攻+全体治疗",9,2,{"$f":"SUM($AL$3:AL11)","v":44},40,98000,{"$f":"SUM($AO$3:AO11)","v":569000},5100,{"$f":"SUM($AQ$3:AQ11)","v":29800},24.000000000000014,{"$f":"SUM($AS$3:AS11)","v":162.00000000000006},80,{"$f":"SUM($AU$3:AU11)","v":540},{"$nulls":4},9,1300,{"$f":"SUM($BB$3:BB11)","v":8100},70,{"$f":"SUM($BD$3:BD11)","v":450},5,0.12,0.6,{"$f":"SUM($BH$3:BH11)","v":5.3999999999999995},10,0.2,2,{"$f":"SUM($BL$3:BL11)","v":18},null,null,"慕容子期",10012,"",{"$error":"#N/A"},"",{"$error":"#N/A"}]
[{"$nulls":3},"天堂铸造石",{"$nulls":14},1,{"$f":"VLOOKUP(V12,#REF!,3,TRUE)","v":{"$error":"#REF!"}},10,1,1,0,1,2,10015,"凝儿",10012,"慕容子期",10011,"尹正霄",10006,"朱贺",10006,"提全体攻+降全体攻",10,1,{"$f":"SUM($AL$3:AL12)","v":45},45,121500,{"$f":"SUM($AO$3:AO12)","v":690500},6300,{"$f":"SUM($AQ$3:AQ12)","v":36100},27.00000000000002,{"$f":"SUM($AS$3:AS12)","v":189.00000000000009},90,{"$f":"SUM($AU$3:AU12)","v":630},{"$nulls":4},10,1400,{"$f":"SUM($BB$3:BB12)","v":9500},75,{"$f":"SUM($BD$3:BD12)","v":525},5,0.12,0.6,{"$f":"SUM($BH$3:BH12)","v":5.999999999999999},10,0.2,2,{"$f":"SUM($BL$3:BL12)","v":20},null,null,"白梦凡",10008,"颜无雍",10020,"",{"$error":"#N/A"}]
[{"$nulls":3},"金币",{"$nulls":14},1,{"$f":"VLOOKUP(V13,#REF!,3,TRUE)","v":{"$error":"#REF!"}},11,1,0.8,0.2,1.2,3,10018,"紫苏",10021,"清然",10005,"兰卿",10007,"应茹",10007,"降单体防御+清CD",11,1,{"$f":"SUM($AL$3:AL13)","v":46},45,121500,{"$f":"SUM($AO$3:AO13)","v":812000},6300,{"$f":"SUM($AQ$3:AQ13)","v":42400},27.00000000000002,{"$f":"SUM($AS$3:AS13)","v":216.0000000000001},90,{"$f":"SUM($AU$3:AU13)","v":720},{"$nulls":4},11,1500,{"$f":"SUM($BB$3:BB13)","v":11000},80,{"$f":"SUM($BD$3:BD13)","v":605},5,0.12,0.6,{"$f":"SUM($BH$3:BH13)","v":6.599999999999999},10,0.2,2,{"$f":"SUM($BL$3:BL13)","v":22},null,null,"朱贺",10018,"岑以璇",10021,"端木葵",10005]
[{"$nulls":3},"突破石",{"$nulls":14},1,{"$f":"VLOOKUP(V14,#REF!,3,TRUE)","v":{"$error":"#REF!"}},12,1,0.8,0.2,1.4,1,10022,"云灵",{"$error":"#N/A"},{"$error":"#N/A"},{"$error":"#N/A"},{"$error":"#N/A"},10008,"颜无雍",10008,"生花伤害+眩晕",12,1,{"$f":"SUM($AL$3:AL14)","v":47},45,121500,{"$f":"SUM($AO$3:AO14)","v":933500},6300,{"$f":"SUM($AQ$3:AQ14)","v":48700},27.00000000000002,{"$f":"SUM($AS$3:AS14)","v":243.00000000000014},90,{"$f":"SUM($AU$3:AU14)","v":810},{"$nulls":4},12,1600,{"$f":"SUM($BB$3:BB14)","v":12600},85,{"$f":"SUM($BD$3:BD14)","v":690},5,0.12,0.6,{"$f":"SUM($BH$3:BH14)","v":7.199999999999998},10,0.2,2,{"$f":"SUM($BL$3:BL14)","v":24},null,null,"颜无诡",10022,"",{"$error":"#N/A"},"",{"$error":"#N/A"}]
[{"$nulls":18},2,{"$f":"VLOOKUP(V15,#REF!,3,TRUE)","v":{"$error":"#REF!"}},13,2,0.8,0.2,1.5,1,10003,"叶辽",{"$error":"#N/A"},{"$error":"#N/A"},{"$error":"#N/A"},{"$error":"#N/A"},10009,"祁菲",10009,"燃烧+燃烧加伤+减伤盾",13,1,{"$f":"SUM($AL$3:AL15)","v":48},45,121500,{"$f":"SUM($AO$3:AO15)","v":1055000},6300,{"$f":"SUM($AQ$3:AQ15)","v":55000},27.00000000000002,{"$f":"SUM($AS$3:AS15)","v":270.00000000000017},90,{"$f":"SUM($AU$3:AU15)","v":900},{"$nulls":4},13,1700,{"$f":"SUM($BB$3:BB15)","v":14300},90,{"$f":"SUM($BD$3:BD15)","v":780},5,0.12,0.6,{"$f":"SUM($BH$3:BH15)","v":7.799999999999998},10,0.2,2,{"$f":"SUM($BL$3:BL15)","v":26},null,null,"夏侯鸿天",10003,"",{"$error":"#N/A"},"",{"$error":"#N/A"}]
[{"$nulls":18},2,{"$f":"VLOOKUP(V16,#REF!,3,TRUE)","v":{"$error":"#REF!"}},14,2,0.8,0.2,1.6,2,10002,"石御霏",10005,"兰卿",{"$error":"#N/A"},{"$error":"#N/A"},10010,"颜祈佳",10010,"武卫伤害+加CD",14,1,{"$f":"SUM($AL$3:AL16)","v":49},45,121500,{"$f":"SUM($AO$3:AO16)","v":1176500},6300,{"$f":"SUM($AQ$3:AQ16)","v":61300},27.00000000000002,{"$f":"SUM($AS$3:AS16)","v":297.00000000000017},90,{"$f":"SUM($AU$3:AU16)","v":990},{"$nulls":4},14,1800,{"$f":"SUM($BB$3:BB16)","v":16100},95,{"$f":"SUM($BD$3:BD16)","v":875},5,0.12,0.6,{"$f":"SUM($BH$3:BH16)","v":8.399999999999999},10,0.2,2,{"$f":"SUM($BL$3:BL16)","v":28},null,null,"应茹",10004,"颜无雍",10020,"",{"$error":"#N/A"}]
[null,null,"buff",null,50,null,100,null,180,{"$nulls":9},2,{"$f":"VLOOKUP(V17,#REF!,3,TRUE)","v":{"$error":"#REF!"}},15,2,1,0,1.7,3,10002,"石御霏",10008,"颜无雍",10016,"枫元正",10011,"尹正霄",10011,"中毒+中毒晕眩",15,1,{"$f":"SUM($AL$3:AL17)","v":50},50,147500,{"$f":"SUM($AO$3:AO17)","v":1324000},7625,{"$f":"SUM($AQ$3:AQ17)","v":68925},30.00000000000003,{"$f":"SUM($AS$3:AS17)","v":327.0000000000002},100,{"$f":"SUM($AU$3:AU17)","v":1090},{"$nulls":4},15,1900,{"$f":"SUM($BB$3:BB17)","v":18000},100,{"$f":"SUM($BD$3:BD17)","v":975},5,0.12,0.6,{"$f":"SUM($BH$3:BH17)","v":8.999999999999998},10,0.2,2,{"$f":"SUM($BL$3:BL17)","v":30},null,null,"端木葵",10005,"叶延",10011,"慕容子期",10012]
[{"$nulls":3},"恢复药剂","全队生命恢复20%",null,"全队生命恢复50%",null,"全队生命恢复100%",{"$nulls":9},2,{"$f":"VLOOKUP(V18,#REF!,3,TRUE)","v":{"$error":"#REF!"}},16,2,0.8,0.2,1.8,3,10022,"云灵",10015,"凝儿",10012,"慕容子期",10012,"慕容子期",10012,"中毒+禁疗",16,0,{"$f":"SUM($AL$3:AL18)","v":50},50,147500,{"$f":"SUM($AO$3:AO18)","v":1471500},7625,{"$f":"SUM($AQ$3:AQ18)","v":76550},30.00000000000003,{"$f":"SUM($AS$3:AS18)","v":357.0000000000002},100,{"$f":"SUM($AU$3:AU18)","v":1190},{"$nulls":4},16,2000,{"$f":"SUM($BB$3:BB18)","v":20000},105,{"$f":"SUM($BD$3:BD18)","v":1080},5,0.12,0.6,{"$f":"SUM($BH$3:BH18)","v":9.599999999999998},10,0.2,2,{"$f":"SUM($BL$3:BL18)","v":32},null,null,"颜无诡",10022,"云",10015,"慕容子期",10012]
[{"$nulls":3},"buff药剂","攻击3%",null,"攻击6%",null,"攻击15%",{"$nulls":9},2,{"$f":"VLOOKUP(V19,#REF!,3,TRUE)","v":{"$error":"#REF!"}},17,2,0.8,0.2,1.9,2,10009,"祁菲",10010,"颜祈佳",{"$error":"#N/A"},{"$error":"#N/A"},10013,"白梦凡",10013,"暴击+暴伤+追加伤害",17,1,{"$f":"SUM($AL$3:AL19)","v":51},50,147500,{"$f":"SUM($AO$3:AO19)","v":1619000},7625,{"$f":"SUM($AQ$3:AQ19)","v":84175},30.00000000000003,{"$f":"SUM($AS$3:AS19)","v":387.0000000000002},100,{"$f":"SUM($AU$3:AU19)","v":1290},{"$nulls":4},17,2100,{"$f":"SUM($BB$3:BB19)","v":22100},110,{"$f":"SUM($BD$3:BD19)","v":1190},5,0.12,0.6,{"$f":"SUM($BH$3:BH19)","v":10.199999999999998},10,0.2,2,{"$f":"SUM($BL$3:BL19)","v":34},null,null,"祁菲",10009,"颜祈佳",10010,"",{"$error":"#N/A"}]
[{"$nulls":4},"暴击3%",null,"暴击6%",null,"暴击15%",{"$nulls":9},2,{"$f":"VLOOKUP(V20,#REF!,3,TRUE)","v":{"$error":"#REF!"}},18,2,0.8,0.2,2,3,10018,"紫苏",10019,"云",10006,"朱贺",10014,"颜无诡",10014,"击杀清CD+提攻+提效果命中",18,0,{"$f":"SUM($AL$3:AL20)","v":51},50,147500,{"$f":"SUM($AO$3:AO20)","v":1766500},7625,{"$f":"SUM($AQ$3:AQ20)","v":91800},30.00000000000003,{"$f":"SUM($AS$3:AS20)","v":417.0000000000002},100,{"$f":"SUM($AU$3:AU20)","v":1390},{"$nulls":4},18,2200,{"$f":"SUM($BB$3:BB20)","v":24300},115,{"$f":"SUM($BD$3:BD20)","v":1305},5,0.12,0.6,{"$f":"SUM($BH$3:BH20)","v":10.799999999999997},10,0.2,2,{"$f":"SUM($BL$3:BL20)","v":36},null,null,"朱贺",10018,"应茹",10004,"兰卿",10006]
[{"$nulls":4},"暴击伤害8%",null,"暴击伤害16%",null,"暴击伤害35%",{"$nulls":9},2,{"$f":"VLOOKUP(V21,#REF!,3,TRUE)","v":{"$error":"#REF!"}},19,2,0.8,0.2,2.1,2,10022,"云灵",10014,"颜无诡",{"$error":"#N/A"},{"$error":"#N/A"},10015,"凝儿",10015,"伤害转化生命+偷攻击+暴击",19,1,{"$f":"SUM($AL$3:AL21)","v":52},50,147500,{"$f":"SUM($AO$3:AO21)","v":1914000},7625,{"$f":"SUM($AQ$3:AQ21)","v":99425},30.00000000000003,{"$f":"SUM($AS$3:AS21)","v":447.0000000000002},100,{"$f":"SUM($AU$3:AU21)","v":1490},{"$nulls":4},19,2300,{"$f":"SUM($BB$3:BB21)","v":26600},120,{"$f":"SUM($BD$3:BD21)","v":1425},5,0.12,0.6,{"$f":"SUM($BH$3:BH21)","v":11.399999999999997},10,0.2,2,{"$f":"SUM($BL$3:BL21)","v":38},null,null,"颜无诡",10022,"耿陶",10014,"",{"$error":"#N/A"}]
[null,null,"商人",{"$nulls":15},2,{"$f":"VLOOKUP(V22,#REF!,3,TRUE)","v":{"$error":"#REF!"}},20,2,1,0,2.2,3,10002,"石御霏",10020,"司空染",10005,"兰卿",10016,"枫元正",10016,"控制状态额外攻击+持续状态额外伤害+提攻",20,0,{"$f":"SUM($AL$3:AL22)","v":52},50,147500,{"$f":"SUM($AO$3:AO22)","v":2061500},7625,{"$f":"SUM($AQ$3:AQ22)","v":107050},30.00000000000003,{"$f":"SUM($AS$3:AS22)","v":477.0000000000002},100,{"$f":"SUM($AU$3:AU22)","v":1590},{"$nulls":4},20,2400,{"$f":"SUM($BB$3:BB22)","v":29000},125,{"$f":"SUM($BD$3:BD22)","v":1550},5,0.12,0.6,{"$f":"SUM($BH$3:BH22)","v":11.999999999999996},10,0.2,2,{"$f":"SUM($BL$3:BL22)","v":40},null,null,"颜无诡",10022,"云",10015,"兰卿",10006]
[null,null,11,"初级商人","正常价格","高级招募卷、成长护符、竞技场挑战、突破石",{"$nulls":5},"高级招募卷（钻石）",null,"成长护符（钻石、金币）",null,"竞技场挑战券（钻石、金币）",null,"突破石（钻石、金币）",3,{"$f":"VLOOKUP(V23,#REF!,3,TRUE)","v":{"$error":"#REF!"}},21,3,0.8,0.2,2.5,2,10023,"荧荧",10008,"颜无雍",{"$error":"#N/A"},{"$error":"#N/A"},10017,"解幽",10017,"降护甲+沉默+沉默额外伤害",21,1,{"$f":"SUM($AL$3:AL23)","v":53},50,147500,{"$f":"SUM($AO$3:AO23)","v":2209000},7625,{"$f":"SUM($AQ$3:AQ23)","v":114675},30.00000000000003,{"$f":"SUM($AS$3:AS23)","v":507.0000000000002},100,{"$f":"SUM($AU$3:AU23)","v":1690},{"$nulls":4},21,2500,{"$f":"SUM($BB$3:BB23)","v":31500},130,{"$f":"SUM($BD$3:BD23)","v":1680},5,0.12,0.6,{"$f":"SUM($BH$3:BH23)","v":12.599999999999996},10,0.2,2,{"$f":"SUM($BL$3:BL23)","v":42},null,null,"荧荧",10023,"白梦凡",10008,"",{"$error":"#N/A"}]
[null,null,5,"终极商人","部分折扣","4星角色碎片、先知宝珠",null,null,"（初级有的东西，可以折扣出售，8-9折为主）",{"$nulls":9},3,{"$f":"VLOOKUP(V24,#REF!,3,TRUE)","v":{"$error":"#REF!"}},22,3,0.8,0.2,2.7,3,10002,"石御霏",10014,"颜无诡",10017,"解幽",10018,"紫苏",10018,"偷攻击+流血",22,0,{"$f":"SUM($AL$3:AL24)","v":53},50,147500,{"$f":"SUM($AO$3:AO24)","v":2356500},7625,{"$f":"SUM($AQ$3:AQ24)","v":122300},30.00000000000003,{"$f":"SUM($AS$3:AS24)","v":537.0000000000002},100,{"$f":"SUM($AU$3:AU24)","v":1790},{"$nulls":4},22,2600,{"$f":"SUM($BB$3:BB24)","v":34100},135,{"$f":"SUM($BD$3:BD24)","v":1815},5,0.12,0.6,{"$f":"SUM($BH$3:BH24)","v":13.199999999999996},10,0.2,2,{"$f":"SUM($BL$3:BL24)","v":44},null,null,"楚恒",10002,"耿陶",10014,"影蓟",10017]
[null,null,4,"高级商人","不分折扣","5星万能碎片（初级中级有的东西，6-7折折扣）",{"$nulls":12},3,{"$f":"VLOOKUP(V25,#REF!,3,TRUE)","v":{"$error":"#REF!"}},23,3,0.8,0.2,2.9,2,10012,"慕容子期",10012,"慕容子期",{"$error":"#N/A"},{"$error":"#N/A"},10019,"云",10019,"提攻+暴伤+减全体CD",23,1,{"$f":"SUM($AL$3:AL25)","v":54},50,147500,{"$f":"SUM($AO$3:AO25)","v":2504000},7625,{"$f":"SUM($AQ$3:AQ25)","v":129925},30.00000000000003,{"$f":"SUM($AS$3:AS25)","v":567.0000000000002},100,{"$f":"SUM($AU$3:AU25)","v":1890},{"$nulls":4},23,2700,{"$f":"SUM($BB$3:BB25)","v":36800},140,{"$f":"SUM($BD$3:BD25)","v":1955},5,0.12,0.6,{"$f":"SUM($BH$3:BH25)","v":13.799999999999995},10,0.2,2,{"$f":"SUM($BL$3:BL25)","v":46},null,null,"慕容子期",10012,"慕容子期",10012,"",{"$error":"#N/A"}]
[{"$nulls":18},3,{"$f":"VLOOKUP(V26,#REF!,3,TRUE)","v":{"$error":"#REF!"}},24,3,0.8,0.2,3.1,2,10023,"荧荧",10003,"叶辽",{"$error":"#N/A"},{"$error":"#N/A"},10020,"司空染",10020,"2名治疗+减伤盾",24,0,{"$f":"SUM($AL$3:AL26)","v":54},50,147500,{"$f":"SUM($AO$3:AO26)","v":2651500},7625,{"$f":"SUM($AQ$3:AQ26)","v":137550},30.00000000000003,{"$f":"SUM($AS$3:AS26)","v":597.0000000000002},100,{"$f":"SUM($AU$3:AU26)","v":1990},{"$nulls":4},24,2800,{"$f":"SUM($BB$3:BB26)","v":39600},145,{"$f":"SUM($BD$3:BD26)","v":2100},5,0.12,0.6,{"$f":"SUM($BH$3:BH26)","v":14.399999999999995},10,0.2,2,{"$f":"SUM($BL$3:BL26)","v":48},null,null,"荧荧",10023,"夏侯鸿天",10003,"",{"$error":"#N/A"}]
[{"$nulls":18},3,{"$f":"VLOOKUP(V27,#REF!,3,TRUE)","v":{"$error":"#REF!"}},25,3,1,0,3.3,1,10004,"孔谦",10018,"紫苏",{"$error":"#N/A"},{"$error":"#N/A"},10021,"清然",10021,"减速+致盲",25,1,{"$f":"SUM($AL$3:AL27)","v":55},55,176000,{"$f":"SUM($AO$3:AO27)","v":2827500},9075,{"$f":"SUM($AQ$3:AQ27)","v":146625},33.000000000000036,{"$f":"SUM($AS$3:AS27)","v":630.0000000000002},110,{"$f":"SUM($AU$3:AU27)","v":2100},{"$nulls":4},25,2900,{"$f":"SUM($BB$3:BB27)","v":42500},150,{"$f":"SUM($BD$3:BD27)","v":2250},5,0.12,0.6,{"$f":"SUM($BH$3:BH27)","v":14.999999999999995},10,0.2,2,{"$f":"SUM($BL$3:BL27)","v":50},null,null,"兰卿",10006,"",{"$error":"#N/A"},"",{"$error":"#N/A"}]
[{"$nulls":18},3,{"$f":"VLOOKUP(V28,#REF!,3,TRUE)","v":{"$error":"#REF!"}},26,3,0.8,0.2,3.3,3,10009,"祁菲",10005,"兰卿",10008,"颜无雍",10022,"云灵",10022,"暴击+暴伤+击杀额外伤",26,0,{"$f":"SUM($AL$3:AL28)","v":55},55,176000,{"$f":"SUM($AO$3:AO28)","v":3003500},9075,{"$f":"SUM($AQ$3:AQ28)","v":155700},33.000000000000036,{"$f":"SUM($AS$3:AS28)","v":663.0000000000002},110,{"$f":"SUM($AU$3:AU28)","v":2210},{"$nulls":4},26,3000,{"$f":"SUM($BB$3:BB28)","v":45500},155,{"$f":"SUM($BD$3:BD28)","v":2405},5,0.12,0.6,{"$f":"SUM($BH$3:BH28)","v":15.599999999999994},10,0.2,2,{"$f":"SUM($BL$3:BL28)","v":52},null,null,"祁菲",10009,"端木葵",10005,"白梦凡",10008]
[null,null,"福利怪",{"$nulls":15},4,{"$f":"VLOOKUP(V29,#REF!,3,TRUE)","v":{"$error":"#REF!"}},27,4,0.8,0.2,3.5,1,10016,"枫元正",{"$error":"#N/A"},{"$error":"#N/A"},{"$error":"#N/A"},{"$error":"#N/A"},10023,"荧荧",10023,"秘法暴击+暴伤",27,1,{"$f":"SUM($AL$3:AL29)","v":56},55,176000,{"$f":"SUM($AO$3:AO29)","v":3179500},9075,{"$f":"SUM($AQ$3:AQ29)","v":164775},33.000000000000036,{"$f":"SUM($AS$3:AS29)","v":696.0000000000002},110,{"$f":"SUM($AU$3:AU29)","v":2320},{"$nulls":4},27,3100,{"$f":"SUM($BB$3:BB29)","v":48600},160,{"$f":"SUM($BD$3:BD29)","v":2565},5,0.12,0.6,{"$f":"SUM($BH$3:BH29)","v":16.199999999999996},10,0.2,2,{"$f":"SUM($BL$3:BL29)","v":54},null,null,"岑以航",10016,"",{"$error":"#N/A"},"",{"$error":"#N/A"}]
[{"$nulls":3},"炸弹人",{"$nulls":14},4,{"$f":"VLOOKUP(V30,#REF!,3,TRUE)","v":{"$error":"#REF!"}},28,4,0.8,0.2,3.8,2,10017,"解幽",10014,"颜无诡",{"$error":"#N/A"},{"$error":"#N/A"},10024,"许槿然",10024,null,28,0,{"$f":"SUM($AL$3:AL30)","v":56},55,176000,{"$f":"SUM($AO$3:AO30)","v":3355500},9075,{"$f":"SUM($AQ$3:AQ30)","v":173850},33.000000000000036,{"$f":"SUM($AS$3:AS30)","v":729.0000000000002},110,{"$f":"SUM($AU$3:AU30)","v":2430},{"$nulls":4},28,3200,{"$f":"SUM($BB$3:BB30)","v":51800},165,{"$f":"SUM($BD$3:BD30)","v":2730},5,0.12,0.6,{"$f":"SUM($BH$3:BH30)","v":16.799999999999997},10,0.2,2,{"$f":"SUM($BL$3:BL30)","v":56},null,null,"影蓟",10017,"耿陶",10014,"",{"$error":"#N/A"}]
[{"$nulls":3},"送大量物资",{"$nulls":14},4,{"$f":"VLOOKUP(V31,#REF!,3,TRUE)","v":{"$error":"#REF!"}},29,4,0.8,0.2,4.1,3,10006,"朱贺",10002,"石御霏",10007,"应茹",10025,"炎琪儿",10025,null,29,1,{"$f":"SUM($AL$3:AL31)","v":57},55,176000,{"$f":"SUM($AO$3:AO31)","v":3531500},9075,{"$f":"SUM($AQ$3:AQ31)","v":182925},33.000000000000036,{"$f":"SUM($AS$3:AS31)","v":762.0000000000002},110,{"$f":"SUM($AU$3:AU31)","v":2540},{"$nulls":4},29,3300,{"$f":"SUM($BB$3:BB31)","v":55100},170,{"$f":"SUM($BD$3:BD31)","v":2900},5,0.12,0.6,{"$f":"SUM($BH$3:BH31)","v":17.4},10,0.2,2,{"$f":"SUM($BL$3:BL31)","v":58},null,null,"兰卿",10006,"楚恒",10002,"靖之",10007]
[{"$nulls":18},4,{"$f":"VLOOKUP(V32,#REF!,3,TRUE)","v":{"$error":"#REF!"}},30,4,1,0,4.4,1,10011,"尹正霄",10012,"慕容子期",10012,"慕容子期",10026,"楚恒",10026,null,30,0,{"$f":"SUM($AL$3:AL32)","v":57},55,176000,{"$f":"SUM($AO$3:AO32)","v":3707500},9075,{"$f":"SUM($AQ$3:AQ32)","v":192000},33.000000000000036,{"$f":"SUM($AS$3:AS32)","v":795.0000000000002},110,{"$f":"SUM($AU$3:AU32)","v":2650},{"$nulls":4},30,3400,{"$f":"SUM($BB$3:BB32)","v":58500},175,{"$f":"SUM($BD$3:BD32)","v":3075},5,0.12,0.6,{"$f":"SUM($BH$3:BH32)","v":18},10,0.2,2,{"$f":"SUM($BL$3:BL32)","v":60},null,null,"颜祈佳",10010,"",{"$error":"#N/A"},"",{"$error":"#N/A"}]
[{"$nulls":18},5,{"$f":"VLOOKUP(V33,#REF!,3,TRUE)","v":{"$error":"#REF!"}},31,5,0.8,0.2,4.5,2,10023,"荧荧",10021,"清然",{"$error":"#N/A"},{"$error":"#N/A"},10027,"柳月",10027,null,31,1,{"$f":"SUM($AL$3:AL33)","v":58},55,176000,{"$f":"SUM($AO$3:AO33)","v":3883500},9075,{"$f":"SUM($AQ$3:AQ33)","v":201075},33.000000000000036,{"$f":"SUM($AS$3:AS33)","v":828.0000000000002},110,{"$f":"SUM($AU$3:AU33)","v":2760},{"$nulls":4},31,3500,{"$f":"SUM($BB$3:BB33)","v":62000},180,{"$f":"SUM($BD$3:BD33)","v":3255},5,0.12,0.6,{"$f":"SUM($BH$3:BH33)","v":18.6},10,0.2,2,{"$f":"SUM($BL$3:BL33)","v":62},null,null,"荧荧",10023,"岑以璇",10021,"",{"$error":"#N/A"}]
[{"$nulls":18},5,{"$f":"VLOOKUP(V34,#REF!,3,TRUE)","v":{"$error":"#REF!"}},32,5,0.8,0.2,4.8,2,10022,"云灵",10015,"凝儿",{"$error":"#N/A"},{"$error":"#N/A"},10028,"岑以航",10028,null,32,0,{"$f":"SUM($AL$3:AL34)","v":58},55,176000,{"$f":"SUM($AO$3:AO34)","v":4059500},9075,{"$f":"SUM($AQ$3:AQ34)","v":210150},33.000000000000036,{"$f":"SUM($AS$3:AS34)","v":861.0000000000002},110,{"$f":"SUM($AU$3:AU34)","v":2870},{"$nulls":4},32,3600,{"$f":"SUM($BB$3:BB34)","v":65600},185,{"$f":"SUM($BD$3:BD34)","v":3440},5,0.12,0.6,{"$f":"SUM($BH$3:BH34)","v":19.200000000000003},10,0.2,2,{"$f":"SUM($BL$3:BL34)","v":64},null,null,"颜无诡",10022,"云",10015,"",{"$error":"#N/A"}]
[{"$nulls":18},5,{"$f":"VLOOKUP(V35,#REF!,3,TRUE)","v":{"$error":"#REF!"}},33,5,0.8,0.2,5.1,1,10022,"云灵",{"$error":"#N/A"},{"$error":"#N/A"},{"$error":"#N/A"},{"$error":"#N/A"},10029,"姜燧",10029,null,33,{"$f":"COUNTIFS(V:V,AK35)","v":1},{"$f":"SUM($AL$3:AL35)","v":59},{"$f":"_xlfn.FLOOR.MATH(AM35,5)","v":55},176000,{"$f":"SUM($AO$3:AO35)","v":4235500},9075,{"$f":"SUM($AQ$3:AQ35)","v":219225},33.000000000000036,{"$f":"SUM($AS$3:AS35)","v":894.0000000000002},110,{"$f":"SUM($AU$3:AU35)","v":2980},{"$nulls":4},33,3700,{"$f":"SUM($BB$3:BB35)","v":69300},190,{"$f":"SUM($BD$3:BD35)","v":3630},5,0.12,0.6,{"$f":"SUM($BH$3:BH35)","v":19.800000000000004},10,0.2,2,{"$f":"SUM($BL$3:BL35)","v":66},null,null,"颜无诡",10022,"",{"$error":"#N/A"},"",{"$error":"#N/A"}]
[{"$nulls":18},5,{"$f":"VLOOKUP(V36,#REF!,3,TRUE)","v":{"$error":"#REF!"}},34,5,0.8,0.2,5.4,1,10006,{"$f":"VLOOKUP(AA36,$AG:$AH,2,FALSE)","v":"朱贺"},{"$error":"#N/A"},{"$f":"VLOOKUP(AC36,$AG:$AH,2,FALSE)","v":{"$error":"#N/A"}},{"$error":"#N/A"},{"$f":"VLOOKUP(AE36,$AG:$AH,2,FALSE)","v":{"$error":"#N/A"}},10030,"晏息",10030,null,34,0,{"$f":"SUM($AL$3:AL36)","v":59},55,176000,{"$f":"SUM($AO$3:AO36)","v":4411500},9075,{"$f":"SUM($AQ$3:AQ36)","v":228300},33.000000000000036,{"$f":"SUM($AS$3:AS36)","v":927.0000000000002},110,{"$f":"SUM($AU$3:AU36)","v":3090},{"$nulls":4},34,3800,{"$f":"SUM($BB$3:BB36)","v":73100},195,{"$f":"SUM($BD$3:BD36)","v":3825},5,0.12,0.6,{"$f":"SUM($BH$3:BH36)","v":20.400000000000006},10,0.2,2,{"$f":"SUM($BL$3:BL36)","v":68},null,null,"兰卿",10006,"",{"$error":"#N/A"},"",{"$error":"#N/A"}]
[{"$nulls":8},"积分","buff商人代币","每次打","每层积累代币","平均出现buff商人","平均出现层数","出现身上货币",{"$nulls":3},6,{"$f":"VLOOKUP(V37,#REF!,3,TRUE)","v":{"$error":"#REF!"}},35,6,1,0,5.5,1,10004,{"$f":"VLOOKUP(AA37,$AG:$AH,2,FALSE)","v":"孔谦"},10011,"尹正霄",10016,"枫元正",10031,"冉宜",10031,null,35,1,{"$f":"SUM($AL$3:AL37)","v":60},60,207000,{"$f":"SUM($AO$3:AO37)","v":4618500},10650,{"$f":"SUM($AQ$3:AQ37)","v":238950},36.00000000000004,{"$f":"SUM($AS$3:AS37)","v":963.0000000000002},120,{"$f":"SUM($AU$3:AU37)","v":3210},{"$nulls":4},35,3900,{"$f":"SUM($BB$3:BB37)","v":77000},200,{"$f":"SUM($BD$3:BD37)","v":4025},5,0.12,0.6,{"$f":"SUM($BH$3:BH37)","v":21.000000000000007},10,0.2,2,{"$f":"SUM($BL$3:BL37)","v":70},null,null,"朱贺",10018,"",{"$error":"#N/A"},"",{"$error":"#N/A"}]
["每场战斗抹掉1%",null,"普通怪","每层抹掉3-5%的队伍生命",5,null,"buff商人代币",null,20,2,5,{"$f":"J38*K38","v":10},{"$f":"80*0.2/3","v":5.333333333333333},{"$f":"100/M38","v":18.75},{"$f":"$N$38*L38","v":187.5},{"$nulls":3},6,{"$f":"VLOOKUP(V38,#REF!,3,TRUE)","v":{"$error":"#REF!"}},36,6,0.8,0.2,5.8,1,10019,"云",{"$error":"#N/A"},{"$error":"#N/A"},{"$error":"#N/A"},{"$error":"#N/A"},10032,"孙晴",10032,null,36,0,{"$f":"SUM($AL$3:AL38)","v":60},60,207000,{"$f":"SUM($AO$3:AO38)","v":4825500},10650,{"$f":"SUM($AQ$3:AQ38)","v":249600},36.00000000000004,{"$f":"SUM($AS$3:AS38)","v":999.0000000000002},120,{"$f":"SUM($AU$3:AU38)","v":3330},{"$nulls":4},36,4000,{"$f":"SUM($BB$3:BB38)","v":81000},205,{"$f":"SUM($BD$3:BD38)","v":4230},5,0.12,0.6,{"$f":"SUM($BH$3:BH38)","v":21.60000000000001},10,0.2,2,{"$f":"SUM($BL$3:BL38)","v":72},null,null,"孔谦",10019,"",{"$error":"#N/A"},"",{"$error":"#N/A"}]
["每场战斗抹掉3%",null,"精英怪","每层抹掉7-10%的队伍生命",3,null,"buff商人代币",null,34,5,3,{"$f":"J39*K39","v":15},null,null,{"$f":"$N$38*L39","v":281.25},{"$nulls":3},6,{"$f":"VLOOKUP(V39,#REF!,3,TRUE)","v":{"$error":"#REF!"}},37,6,0.8,0.2,6.1,1,10012,"慕容子期",{"$error":"#N/A"},{"$error":"#N/A"},{"$error":"#N/A"},{"$error":"#N/A"},10033,"艾欣",10033,null,37,1,{"$f":"SUM($AL$3:AL39)","v":61},60,207000,{"$f":"SUM($AO$3:AO39)","v":5032500},10650,{"$f":"SUM($AQ$3:AQ39)","v":260250},36.00000000000004,{"$f":"SUM($AS$3:AS39)","v":1035.0000000000002},120,{"$f":"SUM($AU$3:AU39)","v":3450},{"$nulls":4},37,4100,{"$f":"SUM($BB$3:BB39)","v":85100},210,{"$f":"SUM($BD$3:BD39)","v":4440},5,0.12,0.6,{"$f":"SUM($BH$3:BH39)","v":22.20000000000001},10,0.2,2,{"$f":"SUM($BL$3:BL39)","v":74},null,null,"慕容子期",10012,"",{"$error":"#N/A"},"",{"$error":"#N/A"}]
[{"$nulls":18},6,{"$f":"VLOOKUP(V40,#REF!,3,TRUE)","v":{"$error":"#REF!"}},38,6,0.8,0.2,6.4,3,10023,"荧荧",10012,"慕容子期",10003,"叶辽",10034,"影蓟",10034,null,38,0,{"$f":"SUM($AL$3:AL40)","v":61},60,207000,{"$f":"SUM($AO$3:AO40)","v":5239500},10650,{"$f":"SUM($AQ$3:AQ40)","v":270900},36.00000000000004,{"$f":"SUM($AS$3:AS40)","v":1071.0000000000002},120,{"$f":"SUM($AU$3:AU40)","v":3570},{"$nulls":4},38,4200,{"$f":"SUM($BB$3:BB40)","v":89300},215,{"$f":"SUM($BD$3:BD40)","v":4655},5,0.12,0.6,{"$f":"SUM($BH$3:BH40)","v":22.80000000000001},10,0.2,2,{"$f":"SUM($BL$3:BL40)","v":76},null,null,"慕容子期",10012,"荧荧",10023,"夏侯鸿天",10003]
[{"$nulls":18},7,{"$f":"VLOOKUP(V41,#REF!,3,TRUE)","v":{"$error":"#REF!"}},39,7,0.8,0.2,6.5,2,10008,"颜无雍",10019,"云",{"$error":"#N/A"},{"$error":"#N/A"},10035,"辛夷",10035,null,39,1,{"$f":"SUM($AL$3:AL41)","v":62},60,207000,{"$f":"SUM($AO$3:AO41)","v":5446500},10650,{"$f":"SUM($AQ$3:AQ41)","v":281550},36.00000000000004,{"$f":"SUM($AS$3:AS41)","v":1107.0000000000002},120,{"$f":"SUM($AU$3:AU41)","v":3690},{"$nulls":4},39,4300,{"$f":"SUM($BB$3:BB41)","v":93600},220,{"$f":"SUM($BD$3:BD41)","v":4875},5,0.12,0.6,{"$f":"SUM($BH$3:BH41)","v":23.400000000000013},10,0.2,2,{"$f":"SUM($BL$3:BL41)","v":78},null,null,"白梦凡",10008,"孔谦",10019,"",{"$error":"#N/A"}]
[{"$nulls":18},7,{"$f":"VLOOKUP(V42,#REF!,3,TRUE)","v":{"$error":"#REF!"}},40,7,1,0,7,2,10005,"兰卿",10018,"紫苏",10018,"紫苏",10036,"岑以璇",10036,null,40,0,{"$f":"SUM($AL$3:AL42)","v":62},60,207000,{"$f":"SUM($AO$3:AO42)","v":5653500},10650,{"$f":"SUM($AQ$3:AQ42)","v":292200},36.00000000000004,{"$f":"SUM($AS$3:AS42)","v":1143.0000000000002},120,{"$f":"SUM($AU$3:AU42)","v":3810},{"$nulls":4},40,4400,{"$f":"SUM($BB$3:BB42)","v":98000},225,{"$f":"SUM($BD$3:BD42)","v":5100},5,0.12,0.6,{"$f":"SUM($BH$3:BH42)","v":24.000000000000014},10,0.2,2,{"$f":"SUM($BL$3:BL42)","v":80},null,null,"楚恒",10002,"朱贺",10018,"",{"$error":"#N/A"}]
[{"$nulls":18},8,{"$f":"VLOOKUP(V43,#REF!,3,TRUE)","v":{"$error":"#REF!"}},41,8,0.8,0.2,7.5,3,10006,"朱贺",10008,"颜无雍",10019,"云",10037,"薛苓",10037,null,41,1,{"$f":"SUM($AL$3:AL43)","v":63},60,207000,{"$f":"SUM($AO$3:AO43)","v":5860500},10650,{"$f":"SUM($AQ$3:AQ43)","v":302850},36.00000000000004,{"$f":"SUM($AS$3:AS43)","v":1179.0000000000002},120,{"$f":"SUM($AU$3:AU43)","v":3930},{"$nulls":4},41,4500,{"$f":"SUM($BB$3:BB43)","v":102500},230,{"$f":"SUM($BD$3:BD43)","v":5330},5,0.12,0.6,{"$f":"SUM($BH$3:BH43)","v":24.600000000000016},10,0.2,2,{"$f":"SUM($BL$3:BL43)","v":82},null,null,"兰卿",10006,"白梦凡",10008,"孔谦",10019]
[{"$nulls":18},8,{"$f":"VLOOKUP(V44,#REF!,3,TRUE)","v":{"$error":"#REF!"}},42,8,0.8,0.2,8,3,10020,"司空染",10018,"紫苏",10018,"紫苏",10038,"伏冥",10038,null,42,0,{"$f":"SUM($AL$3:AL44)","v":63},60,207000,{"$f":"SUM($AO$3:AO44)","v":6067500},10650,{"$f":"SUM($AQ$3:AQ44)","v":313500},36.00000000000004,{"$f":"SUM($AS$3:AS44)","v":1215.0000000000002},120,{"$f":"SUM($AU$3:AU44)","v":4050},{"$nulls":4},42,4600,{"$f":"SUM($BB$3:BB44)","v":107100},235,{"$f":"SUM($BD$3:BD44)","v":5565},5,0.12,0.6,{"$f":"SUM($BH$3:BH44)","v":25.200000000000017},10,0.2,2,{"$f":"SUM($BL$3:BL44)","v":84},null,null,"朱贺",10018,"朱贺",10018,"颜无雍",10020]
[{"$nulls":18},9,{"$f":"VLOOKUP(V45,#REF!,3,TRUE)","v":{"$error":"#REF!"}},43,9,0.8,0.2,8.5,3,10008,"颜无雍",10018,"紫苏",10006,"朱贺",10039,"呼延腾",10039,null,43,1,{"$f":"SUM($AL$3:AL45)","v":64},60,207000,{"$f":"SUM($AO$3:AO45)","v":6274500},10650,{"$f":"SUM($AQ$3:AQ45)","v":324150},36.00000000000004,{"$f":"SUM($AS$3:AS45)","v":1251.0000000000002},120,{"$f":"SUM($AU$3:AU45)","v":4170},{"$nulls":4},43,4700,{"$f":"SUM($BB$3:BB45)","v":111800},240,{"$f":"SUM($BD$3:BD45)","v":5805},5,0.12,0.6,{"$f":"SUM($BH$3:BH45)","v":25.80000000000002},10,0.2,2,{"$f":"SUM($BL$3:BL45)","v":86},null,null,"应茹",10004,"朱贺",10018,"兰卿",10006]
[{"$nulls":18},9,{"$f":"VLOOKUP(V46,#REF!,3,TRUE)","v":{"$error":"#REF!"}},44,9,0.8,0.2,9,2,10012,"慕容子期",10020,"司空染",{"$error":"#N/A"},{"$error":"#N/A"},10040,"贾裴武",10040,null,44,0,{"$f":"SUM($AL$3:AL46)","v":64},60,207000,{"$f":"SUM($AO$3:AO46)","v":6481500},10650,{"$f":"SUM($AQ$3:AQ46)","v":334800},36.00000000000004,{"$f":"SUM($AS$3:AS46)","v":1287.0000000000002},120,{"$f":"SUM($AU$3:AU46)","v":4290},{"$nulls":4},44,4800,{"$f":"SUM($BB$3:BB46)","v":116600},245,{"$f":"SUM($BD$3:BD46)","v":6050},5,0.12,0.6,{"$f":"SUM($BH$3:BH46)","v":26.40000000000002},10,0.2,2,{"$f":"SUM($BL$3:BL46)","v":88},null,null,"慕容子期",10012,"颜无雍",10020,"",{"$error":"#N/A"}]
[{"$nulls":18},10,{"$f":"VLOOKUP(V47,#REF!,3,TRUE)","v":{"$error":"#REF!"}},45,10,1,0,9.5,2,10009,"祁菲",10004,"孔谦",10012,"慕容子期",10041,"孟灿",10041,null,45,1,{"$f":"SUM($AL$3:AL47)","v":65},65,240500,{"$f":"SUM($AO$3:AO47)","v":6722000},12350,{"$f":"SUM($AQ$3:AQ47)","v":347150},39.00000000000005,{"$f":"SUM($AS$3:AS47)","v":1326.0000000000002},130,{"$f":"SUM($AU$3:AU47)","v":4420},{"$nulls":4},45,4900,{"$f":"SUM($BB$3:BB47)","v":121500},250,{"$f":"SUM($BD$3:BD47)","v":6300},5,0.12,0.6,{"$f":"SUM($BH$3:BH47)","v":27.00000000000002},10,0.2,2,{"$f":"SUM($BL$3:BL47)","v":90},null,null,"云灵",10013,"云灵",10013,"",{"$error":"#N/A"}]
[{"$nulls":18},11,{"$f":"VLOOKUP(V48,#REF!,3,TRUE)","v":{"$error":"#REF!"}},46,11,0.8,0.2,10.5,3,10015,"凝儿",10020,"司空染",10018,"紫苏",10042,"白木",10042,null,46,0,{"$f":"SUM($AL$3:AL48)","v":65},65,240500,{"$f":"SUM($AO$3:AO48)","v":6962500},12350,{"$f":"SUM($AQ$3:AQ48)","v":359500},39.00000000000005,{"$f":"SUM($AS$3:AS48)","v":1365.0000000000002},130,{"$f":"SUM($AU$3:AU48)","v":4550},{"$nulls":4},46,5000,{"$f":"SUM($BB$3:BB48)","v":126500},255,{"$f":"SUM($BD$3:BD48)","v":6555},5,0.12,0.6,{"$f":"SUM($BH$3:BH48)","v":27.600000000000023},10,0.2,2,{"$f":"SUM($BL$3:BL48)","v":92},null,null,"云",10015,"颜无雍",10020,"朱贺",10018]
[{"$nulls":18},12,{"$f":"VLOOKUP(V49,#REF!,3,TRUE)","v":{"$error":"#REF!"}},47,12,0.8,0.2,11.5,2,10008,"颜无雍",10014,"颜无诡",{"$error":"#N/A"},{"$error":"#N/A"},10043,"紫川",10043,null,47,1,{"$f":"SUM($AL$3:AL49)","v":66},65,240500,{"$f":"SUM($AO$3:AO49)","v":7203000},12350,{"$f":"SUM($AQ$3:AQ49)","v":371850},39.00000000000005,{"$f":"SUM($AS$3:AS49)","v":1404.0000000000002},130,{"$f":"SUM($AU$3:AU49)","v":4680},{"$nulls":4},47,5100,{"$f":"SUM($BB$3:BB49)","v":131600},260,{"$f":"SUM($BD$3:BD49)","v":6815},5,0.12,0.6,{"$f":"SUM($BH$3:BH49)","v":28.200000000000024},10,0.2,2,{"$f":"SUM($BL$3:BL49)","v":94},null,null,"白梦凡",10008,"耿陶",10014,"",{"$error":"#N/A"}]
[{"$nulls":18},13,{"$f":"VLOOKUP(V50,#REF!,3,TRUE)","v":{"$error":"#REF!"}},48,13,0.8,0.2,12.5,3,10003,"叶辽",10017,"解幽",10019,"云",10044,"靖之",10044,null,48,0,{"$f":"SUM($AL$3:AL50)","v":66},65,240500,{"$f":"SUM($AO$3:AO50)","v":7443500},12350,{"$f":"SUM($AQ$3:AQ50)","v":384200},39.00000000000005,{"$f":"SUM($AS$3:AS50)","v":1443.0000000000002},130,{"$f":"SUM($AU$3:AU50)","v":4810},{"$nulls":4},48,5200,{"$f":"SUM($BB$3:BB50)","v":136800},265,{"$f":"SUM($BD$3:BD50)","v":7080},5,0.12,0.6,{"$f":"SUM($BH$3:BH50)","v":28.800000000000026},10,0.2,2,{"$f":"SUM($BL$3:BL50)","v":96},null,null,"夏侯鸿天",10003,"影蓟",10017,"孔谦",10019]
[{"$nulls":18},14,{"$f":"VLOOKUP(V51,#REF!,3,TRUE)","v":{"$error":"#REF!"}},49,14,0.8,0.2,13.5,2,10010,"颜祈佳",10004,"孔谦",{"$error":"#N/A"},{"$error":"#N/A"},10045,"殷婉儿",10045,null,49,1,{"$f":"SUM($AL$3:AL51)","v":67},65,240500,{"$f":"SUM($AO$3:AO51)","v":7684000},12350,{"$f":"SUM($AQ$3:AQ51)","v":396550},39.00000000000005,{"$f":"SUM($AS$3:AS51)","v":1482.0000000000002},130,{"$f":"SUM($AU$3:AU51)","v":4940},{"$nulls":4},49,5300,{"$f":"SUM($BB$3:BB51)","v":142100},270,{"$f":"SUM($BD$3:BD51)","v":7350},5,0.12,0.6,{"$f":"SUM($BH$3:BH51)","v":29.400000000000027},10,0.2,2,{"$f":"SUM($BL$3:BL51)","v":98},null,null,"石御霏",10001,"应茹",10004,"",{"$error":"#N/A"}]
[{"$nulls":18},15,{"$f":"VLOOKUP(V52,#REF!,3,TRUE)","v":{"$error":"#REF!"}},50,15,1,0,14.5,1,10001,"夏侯鸿天",10009,"祁菲",10005,"兰卿",10046,"林越",10046,null,50,0,{"$f":"SUM($AL$3:AL52)","v":67},65,240500,{"$f":"SUM($AO$3:AO52)","v":7924500},12350,{"$f":"SUM($AQ$3:AQ52)","v":408900},39.00000000000005,{"$f":"SUM($AS$3:AS52)","v":1521.0000000000002},130,{"$f":"SUM($AU$3:AU52)","v":5070},{"$nulls":4},50,5400,{"$f":"SUM($BB$3:BB52)","v":147500},275,{"$f":"SUM($BD$3:BD52)","v":7625},5,0.12,0.6,{"$f":"SUM($BH$3:BH52)","v":30.00000000000003},10,0.2,2,{"$f":"SUM($BL$3:BL52)","v":100},null,null,"应茹",10004,"",{"$error":"#N/A"},"",{"$error":"#N/A"}]
[{"$nulls":18},17,{"$f":"VLOOKUP(V53,#REF!,3,TRUE)","v":{"$error":"#REF!"}},51,17,0.8,0.2,16.5,3,10007,"应茹",10001,"夏侯鸿天",10013,"白梦凡",10047,"赤肥肥",10047,null,51,1,{"$f":"SUM($AL$3:AL53)","v":68},65,240500,{"$f":"SUM($AO$3:AO53)","v":8165000},12350,{"$f":"SUM($AQ$3:AQ53)","v":421250},39.00000000000005,{"$f":"SUM($AS$3:AS53)","v":1560.0000000000002},130,{"$f":"SUM($AU$3:AU53)","v":5200},{"$nulls":4},51,5500,{"$f":"SUM($BB$3:BB53)","v":153000},280,{"$f":"SUM($BD$3:BD53)","v":7905},5,0.12,0.6,{"$f":"SUM($BH$3:BH53)","v":30.60000000000003},10,0.2,2,{"$f":"SUM($BL$3:BL53)","v":102},null,null,"靖之",10007,"石御霏",10001,"云灵",10013]
[{"$nulls":18},19,{"$f":"VLOOKUP(V54,#REF!,3,TRUE)","v":{"$error":"#REF!"}},52,19,0.8,0.2,18.5,1,10019,"云",{"$error":"#N/A"},{"$error":"#N/A"},{"$error":"#N/A"},{"$error":"#N/A"},10048,"银肥肥",10048,null,52,0,{"$f":"SUM($AL$3:AL54)","v":68},65,240500,{"$f":"SUM($AO$3:AO54)","v":8405500},12350,{"$f":"SUM($AQ$3:AQ54)","v":433600},39.00000000000005,{"$f":"SUM($AS$3:AS54)","v":1599.0000000000002},130,{"$f":"SUM($AU$3:AU54)","v":5330},{"$nulls":4},52,5600,{"$f":"SUM($BB$3:BB54)","v":158600},285,{"$f":"SUM($BD$3:BD54)","v":8190},5,0.12,0.6,{"$f":"SUM($BH$3:BH54)","v":31.20000000000003},10,0.2,2,{"$f":"SUM($BL$3:BL54)","v":104},null,null,"孔谦",10019,"",{"$error":"#N/A"},"",{"$error":"#N/A"}]
[{"$nulls":18},21,{"$f":"VLOOKUP(V55,#REF!,3,TRUE)","v":{"$error":"#REF!"}},53,21,0.8,0.2,20.5,3,10010,{"$f":"VLOOKUP(AA55,$AG:$AH,2,FALSE)","v":"颜祈佳"},10015,"凝儿",10015,"凝儿",10049,"苍肥肥",10049,null,53,1,{"$f":"SUM($AL$3:AL55)","v":69},65,240500,{"$f":"SUM($AO$3:AO55)","v":8646000},12350,{"$f":"SUM($AQ$3:AQ55)","v":445950},39.00000000000005,{"$f":"SUM($AS$3:AS55)","v":1638.0000000000002},130,{"$f":"SUM($AU$3:AU55)","v":5460},{"$nulls":4},53,5700,{"$f":"SUM($BB$3:BB55)","v":164300},290,{"$f":"SUM($BD$3:BD55)","v":8480},5,0.12,0.6,{"$f":"SUM($BH$3:BH55)","v":31.800000000000033},10,0.2,2,{"$f":"SUM($BL$3:BL55)","v":106},null,null,"云",10015,"颜祈佳",10010,"云",10015]
[{"$nulls":18},23,{"$f":"VLOOKUP(V56,#REF!,3,TRUE)","v":{"$error":"#REF!"}},54,23,0.8,0.2,22.5,1,10005,"兰卿",{"$error":"#N/A"},{"$error":"#N/A"},{"$error":"#N/A"},{"$error":"#N/A"},10050,"金肥肥",10050,null,54,0,{"$f":"SUM($AL$3:AL56)","v":69},65,240500,{"$f":"SUM($AO$3:AO56)","v":8886500},12350,{"$f":"SUM($AQ$3:AQ56)","v":458300},39.00000000000005,{"$f":"SUM($AS$3:AS56)","v":1677.0000000000002},130,{"$f":"SUM($AU$3:AU56)","v":5590},{"$nulls":4},54,5800,{"$f":"SUM($BB$3:BB56)","v":170100},295,{"$f":"SUM($BD$3:BD56)","v":8775},5,0.12,0.6,{"$f":"SUM($BH$3:BH56)","v":32.400000000000034},10,0.2,2,{"$f":"SUM($BL$3:BL56)","v":108},null,null,"端木葵",10005,"",{"$error":"#N/A"},"",{"$error":"#N/A"}]
[{"$nulls":18},25,{"$f":"VLOOKUP(V57,#REF!,3,TRUE)","v":{"$error":"#REF!"}},55,25,1,0,24.5,1,10006,{"$f":"VLOOKUP(AA57,$AG:$AH,2,FALSE)","v":"朱贺"},10013,{"$f":"VLOOKUP(AC57,$AG:$AH,2,FALSE)","v":"白梦凡"},{"$error":"#N/A"},{"$error":"#N/A"},10051,"阳魔",10051,null,55,1,{"$f":"SUM($AL$3:AL57)","v":70},70,276500,{"$f":"SUM($AO$3:AO57)","v":9163000},14175,{"$f":"SUM($AQ$3:AQ57)","v":472475},42.00000000000006,{"$f":"SUM($AS$3:AS57)","v":1719.0000000000002},140,{"$f":"SUM($AU$3:AU57)","v":5730},{"$nulls":4},55,5900,{"$f":"SUM($BB$3:BB57)","v":176000},300,{"$f":"SUM($BD$3:BD57)","v":9075},5,0.12,0.6,{"$f":"SUM($BH$3:BH57)","v":33.000000000000036},10,0.2,2,{"$f":"SUM($BL$3:BL57)","v":110},null,null,"慕容子期",10012,"",{"$error":"#N/A"},"",{"$error":"#N/A"}]
[{"$nulls":18},27,{"$f":"VLOOKUP(V58,#REF!,3,TRUE)","v":{"$error":"#REF!"}},56,27,0.8,0.2,26.5,2,10013,"白梦凡",10017,"解幽",{"$error":"#N/A"},{"$error":"#N/A"},10052,"阴魔",10052,null,56,0,{"$f":"SUM($AL$3:AL58)","v":70},70,276500,{"$f":"SUM($AO$3:AO58)","v":9439500},14175,{"$f":"SUM($AQ$3:AQ58)","v":486650},42.00000000000006,{"$f":"SUM($AS$3:AS58)","v":1761.0000000000002},140,{"$f":"SUM($AU$3:AU58)","v":5870},{"$nulls":4},56,6000,{"$f":"SUM($BB$3:BB58)","v":182000},305,{"$f":"SUM($BD$3:BD58)","v":9380},5,0.12,0.6,{"$f":"SUM($BH$3:BH58)","v":33.60000000000004},10,0.2,2,{"$f":"SUM($BL$3:BL58)","v":112},null,null,"云灵",10013,"影蓟",10017,"",{"$error":"#N/A"}]
[{"$nulls":18},29,{"$f":"VLOOKUP(V59,#REF!,3,TRUE)","v":{"$error":"#REF!"}},57,29,0.8,0.2,28.5,2,10019,"云",10023,"荧荧",{"$error":"#N/A"},{"$error":"#N/A"},{"$nulls":4},57,1,{"$f":"SUM($AL$3:AL59)","v":71},70,276500,{"$f":"SUM($AO$3:AO59)","v":9716000},14175,{"$f":"SUM($AQ$3:AQ59)","v":500825},42.00000000000006,{"$f":"SUM($AS$3:AS59)","v":1803.0000000000002},140,{"$f":"SUM($AU$3:AU59)","v":6010},{"$nulls":4},57,6100,{"$f":"SUM($BB$3:BB59)","v":188100},310,{"$f":"SUM($BD$3:BD59)","v":9690},5,0.12,0.6,{"$f":"SUM($BH$3:BH59)","v":34.20000000000004},10,0.2,2,{"$f":"SUM($BL$3:BL59)","v":114},null,null,"孔谦",10019,"荧荧",10023,"",{"$error":"#N/A"}]
[{"$nulls":18},31,{"$f":"VLOOKUP(V60,#REF!,3,TRUE)","v":{"$error":"#REF!"}},58,31,0.8,0.2,30.5,1,10023,"荧荧",{"$error":"#N/A"},{"$error":"#N/A"},{"$error":"#N/A"},{"$error":"#N/A"},{"$nulls":4},58,0,{"$f":"SUM($AL$3:AL60)","v":71},70,276500,{"$f":"SUM($AO$3:AO60)","v":9992500},14175,{"$f":"SUM($AQ$3:AQ60)","v":515000},42.00000000000006,{"$f":"SUM($AS$3:AS60)","v":1845.0000000000002},140,{"$f":"SUM($AU$3:AU60)","v":6150},{"$nulls":4},58,6200,{"$f":"SUM($BB$3:BB60)","v":194300},315,{"$f":"SUM($BD$3:BD60)","v":10005},5,0.12,0.6,{"$f":"SUM($BH$3:BH60)","v":34.80000000000004},10,0.2,2,{"$f":"SUM($BL$3:BL60)","v":116},null,null,"荧荧",10023,"",{"$error":"#N/A"},"",{"$error":"#N/A"}]
[{"$nulls":18},33,{"$f":"VLOOKUP(V61,#REF!,3,TRUE)","v":{"$error":"#REF!"}},59,33,0.8,0.2,32.5,2,10014,"颜无诡",10008,"颜无雍",{"$error":"#N/A"},{"$error":"#N/A"},{"$nulls":4},59,1,{"$f":"SUM($AL$3:AL61)","v":72},70,276500,{"$f":"SUM($AO$3:AO61)","v":10269000},14175,{"$f":"SUM($AQ$3:AQ61)","v":529175},42.00000000000006,{"$f":"SUM($AS$3:AS61)","v":1887.0000000000002},140,{"$f":"SUM($AU$3:AU61)","v":6290},{"$nulls":4},59,6300,{"$f":"SUM($BB$3:BB61)","v":200600},320,{"$f":"SUM($BD$3:BD61)","v":10325},5,0.12,0.6,{"$f":"SUM($BH$3:BH61)","v":35.40000000000004},10,0.2,2,{"$f":"SUM($BL$3:BL61)","v":118},null,null,"耿陶",10014,"白梦凡",10008,"",{"$error":"#N/A"}]
[{"$nulls":18},35,{"$f":"VLOOKUP(V62,#REF!,3,TRUE)","v":{"$error":"#REF!"}},60,35,1,0,34.5,1,10017,"解幽",10016,"枫元正",10012,"慕容子期",{"$nulls":4},60,0,{"$f":"SUM($AL$3:AL62)","v":72},70,276500,{"$f":"SUM($AO$3:AO62)","v":10545500},14175,{"$f":"SUM($AQ$3:AQ62)","v":543350},42.00000000000006,{"$f":"SUM($AS$3:AS62)","v":1929.0000000000002},140,{"$f":"SUM($AU$3:AU62)","v":6430},{"$nulls":4},60,6400,{"$f":"SUM($BB$3:BB62)","v":207000},325,{"$f":"SUM($BD$3:BD62)","v":10650},5,0.12,0.6,{"$f":"SUM($BH$3:BH62)","v":36.00000000000004},10,0.2,2,{"$f":"SUM($BL$3:BL62)","v":120},null,null,"岑以璇",10021,"",{"$error":"#N/A"},"",{"$error":"#N/A"}]
[{"$nulls":18},37,{"$f":"VLOOKUP(V63,#REF!,3,TRUE)","v":{"$error":"#REF!"}},61,37,0.8,0.2,36.5,3,10001,"夏侯鸿天",10004,"孔谦",10005,"兰卿",{"$nulls":4},61,1,{"$f":"SUM($AL$3:AL63)","v":73},70,276500,{"$f":"SUM($AO$3:AO63)","v":10822000},14175,{"$f":"SUM($AQ$3:AQ63)","v":557525},42.00000000000006,{"$f":"SUM($AS$3:AS63)","v":1971.0000000000002},140,{"$f":"SUM($AU$3:AU63)","v":6570},{"$nulls":4},61,6500,{"$f":"SUM($BB$3:BB63)","v":213500},330,{"$f":"SUM($BD$3:BD63)","v":10980},5,0.12,0.6,{"$f":"SUM($BH$3:BH63)","v":36.600000000000044},10,0.2,2,{"$f":"SUM($BL$3:BL63)","v":122},null,null,"石御霏",10001,"应茹",10004,"端木葵",10005]
[{"$nulls":18},39,{"$f":"VLOOKUP(V64,#REF!,3,TRUE)","v":{"$error":"#REF!"}},62,39,0.8,0.2,38.5,1,10011,"尹正霄",{"$error":"#N/A"},{"$error":"#N/A"},{"$error":"#N/A"},{"$error":"#N/A"},{"$nulls":4},62,0,{"$f":"SUM($AL$3:AL64)","v":73},70,276500,{"$f":"SUM($AO$3:AO64)","v":11098500},14175,{"$f":"SUM($AQ$3:AQ64)","v":571700},42.00000000000006,{"$f":"SUM($AS$3:AS64)","v":2013.0000000000002},140,{"$f":"SUM($AU$3:AU64)","v":6710},{"$nulls":4},62,6600,{"$f":"SUM($BB$3:BB64)","v":220100},335,{"$f":"SUM($BD$3:BD64)","v":11315},5,0.12,0.6,{"$f":"SUM($BH$3:BH64)","v":37.200000000000045},10,0.2,2,{"$f":"SUM($BL$3:BL64)","v":124},null,null,"叶延",10011,"",{"$error":"#N/A"},"",{"$error":"#N/A"}]
[{"$nulls":18},41,{"$f":"VLOOKUP(V65,#REF!,3,TRUE)","v":{"$error":"#REF!"}},63,41,0.8,0.2,40.5,2,10021,"清然",10002,"石御霏",{"$error":"#N/A"},{"$error":"#N/A"},{"$nulls":4},63,1,{"$f":"SUM($AL$3:AL65)","v":74},70,276500,{"$f":"SUM($AO$3:AO65)","v":11375000},14175,{"$f":"SUM($AQ$3:AQ65)","v":585875},42.00000000000006,{"$f":"SUM($AS$3:AS65)","v":2055.0000000000005},140,{"$f":"SUM($AU$3:AU65)","v":6850},{"$nulls":4},63,6700,{"$f":"SUM($BB$3:BB65)","v":226800},340,{"$f":"SUM($BD$3:BD65)","v":11655},5,0.12,0.6,{"$f":"SUM($BH$3:BH65)","v":37.80000000000005},10,0.2,2,{"$f":"SUM($BL$3:BL65)","v":126},null,null,"岑以璇",10021,"楚恒",10002,"",{"$error":"#N/A"}]
[{"$nulls":18},43,{"$f":"VLOOKUP(V66,#REF!,3,TRUE)","v":{"$error":"#REF!"}},64,43,0.8,0.2,42.5,2,10020,"司空染",10013,"白梦凡",{"$error":"#N/A"},{"$error":"#N/A"},{"$nulls":4},64,0,{"$f":"SUM($AL$3:AL66)","v":74},70,276500,{"$f":"SUM($AO$3:AO66)","v":11651500},14175,{"$f":"SUM($AQ$3:AQ66)","v":600050},42.00000000000006,{"$f":"SUM($AS$3:AS66)","v":2097.0000000000005},140,{"$f":"SUM($AU$3:AU66)","v":6990},{"$nulls":4},64,6800,{"$f":"SUM($BB$3:BB66)","v":233600},345,{"$f":"SUM($BD$3:BD66)","v":12000},5,0.12,0.6,{"$f":"SUM($BH$3:BH66)","v":38.40000000000005},10,0.2,2,{"$f":"SUM($BL$3:BL66)","v":128},null,null,"颜无雍",10020,"云灵",10013,"",{"$error":"#N/A"}]
[{"$nulls":18},45,{"$f":"VLOOKUP(V67,#REF!,3,TRUE)","v":{"$error":"#REF!"}},65,45,1,0,44.5,2,10009,"祁菲",10016,"枫元正",{"$error":"#N/A"},{"$error":"#N/A"},{"$nulls":4},65,{"$f":"COUNTIFS(V:V,AK67)","v":1},{"$f":"SUM($AL$3:AL67)","v":75},{"$f":"_xlfn.FLOOR.MATH(AM67,5)","v":75},315000,{"$f":"SUM($AO$3:AO67)","v":11966500},16125,{"$f":"SUM($AQ$3:AQ67)","v":616175},45.000000000000064,{"$f":"SUM($AS$3:AS67)","v":2142.0000000000005},150,{"$f":"SUM($AU$3:AU67)","v":7140},{"$nulls":4},65,6900,{"$f":"SUM($BB$3:BB67)","v":240500},350,{"$f":"SUM($BD$3:BD67)","v":12350},5,0.12,0.6,{"$f":"SUM($BH$3:BH67)","v":39.00000000000005},10,0.2,2,{"$f":"SUM($BL$3:BL67)","v":130},null,null,"朱贺",10018,"慕容子期",10012,"",{"$error":"#N/A"}]
[{"$nulls":18},47,{"$f":"VLOOKUP(V68,#REF!,3,TRUE)","v":{"$error":"#REF!"}},66,47,0.8,0.2,46.5,1,10006,{"$f":"VLOOKUP(AA68,$AG:$AH,2,FALSE)","v":"朱贺"},{"$error":"#N/A"},{"$f":"VLOOKUP(AC68,$AG:$AH,2,FALSE)","v":{"$error":"#N/A"}},{"$error":"#N/A"},{"$f":"VLOOKUP(AE68,$AG:$AH,2,FALSE)","v":{"$error":"#N/A"}},{"$nulls":4},66,0,{"$f":"SUM($AL$3:AL68)","v":75},75,{"$f":"VLOOKUP(AN68,$BA:$BC,3,0)","v":315000},{"$f":"SUM($AO$3:AO68)","v":12281500},{"$f":"VLOOKUP(AN68,$BA:$BE,5,0)","v":16125},{"$f":"SUM($AQ$3:AQ68)","v":632300},{"$f":"VLOOKUP(AN68,$BA:$BI,9,0)","v":45.000000000000064},{"$f":"SUM($AS$3:AS68)","v":2187.0000000000005},{"$f":"VLOOKUP(AN68,$BA:$BM,13)","v":150},{"$f":"SUM($AU$3:AU68)","v":7290},{"$nulls":4},66,7000,{"$f":"SUM($BB$3:BB68)","v":247500},355,{"$f":"SUM($BD$3:BD68)","v":12705},5,0.12,{"$f":"BF68*BG68","v":0.6},{"$f":"SUM($BH$3:BH68)","v":39.60000000000005},10,0.2,{"$f":"BJ68*BK68","v":2},{"$f":"SUM($BL$3:BL68)","v":132},null,null,"兰卿",10006,"",{"$error":"#N/A"},"",{"$error":"#N/A"}]
[{"$nulls":18},49,{"$f":"VLOOKUP(V69,#REF!,3,TRUE)","v":{"$error":"#REF!"}},67,49,0.8,0.2,48.5,2,10017,"解幽",10008,"颜无雍",{"$error":"#N/A"},{"$error":"#N/A"},{"$nulls":4},67,1,{"$f":"SUM($AL$3:AL69)","v":76},75,315000,{"$f":"SUM($AO$3:AO69)","v":12596500},16125,{"$f":"SUM($AQ$3:AQ69)","v":648425},45.000000000000064,{"$f":"SUM($AS$3:AS69)","v":2232.0000000000005},150,{"$f":"SUM($AU$3:AU69)","v":7440},{"$nulls":4},67,7100,{"$f":"SUM($BB$3:BB69)","v":254600},360,{"$f":"SUM($BD$3:BD69)","v":13065},5,0.12,0.6,{"$f":"SUM($BH$3:BH69)","v":40.20000000000005},10,0.2,2,{"$f":"SUM($BL$3:BL69)","v":134},null,null,"影蓟",10017,"白梦凡",10008,"",{"$error":"#N/A"}]
[{"$nulls":18},51,{"$f":"VLOOKUP(V70,#REF!,3,TRUE)","v":{"$error":"#REF!"}},68,51,0.8,0.2,50.5,2,10013,"白梦凡",10008,"颜无雍",{"$error":"#N/A"},{"$error":"#N/A"},{"$nulls":4},68,0,{"$f":"SUM($AL$3:AL70)","v":76},75,315000,{"$f":"SUM($AO$3:AO70)","v":12911500},16125,{"$f":"SUM($AQ$3:AQ70)","v":664550},45.000000000000064,{"$f":"SUM($AS$3:AS70)","v":2277.0000000000005},150,{"$f":"SUM($AU$3:AU70)","v":7590},{"$nulls":4},68,7200,{"$f":"SUM($BB$3:BB70)","v":261800},365,{"$f":"SUM($BD$3:BD70)","v":13430},5,0.12,0.6,{"$f":"SUM($BH$3:BH70)","v":40.800000000000054},10,0.2,2,{"$f":"SUM($BL$3:BL70)","v":136},null,null,"云灵",10013,"白梦凡",10008,"",{"$error":"#N/A"}]
[{"$nulls":18},53,{"$f":"VLOOKUP(V71,#REF!,3,TRUE)","v":{"$error":"#REF!"}},69,53,0.8,0.2,52.5,2,10012,"慕容子期",10010,"颜祈佳",{"$error":"#N/A"},{"$error":"#N/A"},{"$nulls":4},69,1,{"$f":"SUM($AL$3:AL71)","v":77},75,315000,{"$f":"SUM($AO$3:AO71)","v":13226500},16125,{"$f":"SUM($AQ$3:AQ71)","v":680675},45.000000000000064,{"$f":"SUM($AS$3:AS71)","v":2322.0000000000005},150,{"$f":"SUM($AU$3:AU71)","v":7740},{"$nulls":4},69,7300,{"$f":"SUM($BB$3:BB71)","v":269100},370,{"$f":"SUM($BD$3:BD71)","v":13800},5,0.12,0.6,{"$f":"SUM($BH$3:BH71)","v":41.400000000000055},10,0.2,2,{"$f":"SUM($BL$3:BL71)","v":138},null,null,"慕容子期",10012,"颜祈佳",10010,"",{"$error":"#N/A"}]
[{"$nulls":18},55,{"$f":"VLOOKUP(V72,#REF!,3,TRUE)","v":{"$error":"#REF!"}},70,55,1,0,54.5,3,10012,{"$f":"VLOOKUP(AA72,$AG:$AH,2,FALSE)","v":"慕容子期"},10011,{"$f":"VLOOKUP(AC72,$AG:$AH,2,FALSE)","v":"尹正霄"},10015,"凝儿",{"$nulls":4},70,0,{"$f":"SUM($AL$3:AL72)","v":77},75,315000,{"$f":"SUM($AO$3:AO72)","v":13541500},16125,{"$f":"SUM($AQ$3:AQ72)","v":696800},45.000000000000064,{"$f":"SUM($AS$3:AS72)","v":2367.0000000000005},150,{"$f":"SUM($AU$3:AU72)","v":7890},{"$nulls":4},70,7400,{"$f":"SUM($BB$3:BB72)","v":276500},375,{"$f":"SUM($BD$3:BD72)","v":14175},5,0.12,0.6,{"$f":"SUM($BH$3:BH72)","v":42.00000000000006},10,0.2,2,{"$f":"SUM($BL$3:BL72)","v":140},null,null,"颜祈佳",10010,"耿陶",10014,"慕容子期",10012]
[{"$nulls":18},57,{"$f":"VLOOKUP(V73,#REF!,3,TRUE)","v":{"$error":"#REF!"}},71,57,0.8,0.2,56.5,2,10010,"颜祈佳",10009,"祁菲",{"$error":"#N/A"},{"$error":"#N/A"},{"$nulls":4},71,1,{"$f":"SUM($AL$3:AL73)","v":78},75,315000,{"$f":"SUM($AO$3:AO73)","v":13856500},16125,{"$f":"SUM($AQ$3:AQ73)","v":712925},45.000000000000064,{"$f":"SUM($AS$3:AS73)","v":2412.0000000000005},150,{"$f":"SUM($AU$3:AU73)","v":8040},{"$nulls":4},71,7500,{"$f":"SUM($BB$3:BB73)","v":284000},380,{"$f":"SUM($BD$3:BD73)","v":14555},5,0.12,0.6,{"$f":"SUM($BH$3:BH73)","v":42.60000000000006},10,0.2,2,{"$f":"SUM($BL$3:BL73)","v":142},null,null,"颜祈佳",10010,"祁菲",10009,"",{"$error":"#N/A"}]
[{"$nulls":18},59,{"$f":"VLOOKUP(V74,#REF!,3,TRUE)","v":{"$error":"#REF!"}},72,59,0.8,0.2,58.5,3,10023,"荧荧",10011,"尹正霄",10005,"兰卿",{"$nulls":4},72,0,{"$f":"SUM($AL$3:AL74)","v":78},75,315000,{"$f":"SUM($AO$3:AO74)","v":14171500},16125,{"$f":"SUM($AQ$3:AQ74)","v":729050},45.000000000000064,{"$f":"SUM($AS$3:AS74)","v":2457.0000000000005},150,{"$f":"SUM($AU$3:AU74)","v":8190},{"$nulls":4},72,7600,{"$f":"SUM($BB$3:BB74)","v":291600},385,{"$f":"SUM($BD$3:BD74)","v":14940},5,0.12,0.6,{"$f":"SUM($BH$3:BH74)","v":43.20000000000006},10,0.2,2,{"$f":"SUM($BL$3:BL74)","v":144},null,null,"荧荧",10023,"叶延",10011,"端木葵",10005]
[{"$nulls":18},61,{"$f":"VLOOKUP(V75,#REF!,3,TRUE)","v":{"$error":"#REF!"}},73,61,0.8,0.2,60.5,1,10002,"石御霏",{"$error":"#N/A"},{"$error":"#N/A"},{"$error":"#N/A"},{"$error":"#N/A"},{"$nulls":4},73,1,{"$f":"SUM($AL$3:AL75)","v":79},75,315000,{"$f":"SUM($AO$3:AO75)","v":14486500},16125,{"$f":"SUM($AQ$3:AQ75)","v":745175},45.000000000000064,{"$f":"SUM($AS$3:AS75)","v":2502.0000000000005},150,{"$f":"SUM($AU$3:AU75)","v":8340},{"$nulls":4},73,7700,{"$f":"SUM($BB$3:BB75)","v":299300},390,{"$f":"SUM($BD$3:BD75)","v":15330},5,0.12,0.6,{"$f":"SUM($BH$3:BH75)","v":43.80000000000006},10,0.2,2,{"$f":"SUM($BL$3:BL75)","v":146},null,null,"楚恒",10002,"",{"$error":"#N/A"},"",{"$error":"#N/A"}]
[{"$nulls":18},63,{"$f":"VLOOKUP(V76,#REF!,3,TRUE)","v":{"$error":"#REF!"}},74,63,0.8,0.2,62.5,1,10008,"颜无雍",{"$error":"#N/A"},{"$error":"#N/A"},{"$error":"#N/A"},{"$error":"#N/A"},{"$nulls":4},74,0,{"$f":"SUM($AL$3:AL76)","v":79},75,315000,{"$f":"SUM($AO$3:AO76)","v":14801500},16125,{"$f":"SUM($AQ$3:AQ76)","v":761300},45.000000000000064,{"$f":"SUM($AS$3:AS76)","v":2547.0000000000005},150,{"$f":"SUM($AU$3:AU76)","v":8490},{"$nulls":4},74,7800,{"$f":"SUM($BB$3:BB76)","v":307100},395,{"$f":"SUM($BD$3:BD76)","v":15725},5,0.12,0.6,{"$f":"SUM($BH$3:BH76)","v":44.40000000000006},10,0.2,2,{"$f":"SUM($BL$3:BL76)","v":148},null,null,"白梦凡",10008,"",{"$error":"#N/A"},"",{"$error":"#N/A"}]
[{"$nulls":18},65,{"$f":"VLOOKUP(V77,#REF!,3,TRUE)","v":{"$error":"#REF!"}},75,65,1,0,64.5,3,10005,{"$f":"VLOOKUP(AA77,$AG:$AH,2,FALSE)","v":"兰卿"},10022,"云灵",10018,"紫苏",{"$nulls":4},75,1,{"$f":"SUM($AL$3:AL77)","v":80},80,356000,{"$f":"SUM($AO$3:AO77)","v":15157500},18200,{"$f":"SUM($AQ$3:AQ77)","v":779500},48.00000000000007,{"$f":"SUM($AS$3:AS77)","v":2595.0000000000005},160,{"$f":"SUM($AU$3:AU77)","v":8650},{"$nulls":4},75,7900,{"$f":"SUM($BB$3:BB77)","v":315000},400,{"$f":"SUM($BD$3:BD77)","v":16125},5,0.12,0.6,{"$f":"SUM($BH$3:BH77)","v":45.000000000000064},10,0.2,2,{"$f":"SUM($BL$3:BL77)","v":150},null,null,"云",10015,"颜祈佳",10010,"荧荧",10023]
[{"$nulls":18},67,{"$f":"VLOOKUP(V78,#REF!,3,TRUE)","v":{"$error":"#REF!"}},76,67,0.8,0.2,66.5,3,10023,"荧荧",10011,"尹正霄",10014,"颜无诡",{"$nulls":4},76,0,{"$f":"SUM($AL$3:AL78)","v":80},80,356000,{"$f":"SUM($AO$3:AO78)","v":15513500},18200,{"$f":"SUM($AQ$3:AQ78)","v":797700},48.00000000000007,{"$f":"SUM($AS$3:AS78)","v":2643.0000000000005},160,{"$f":"SUM($AU$3:AU78)","v":8810},{"$nulls":4},76,8000,{"$f":"SUM($BB$3:BB78)","v":323000},405,{"$f":"SUM($BD$3:BD78)","v":16530},5,0.12,0.6,{"$f":"SUM($BH$3:BH78)","v":45.600000000000065},10,0.2,2,{"$f":"SUM($BL$3:BL78)","v":152},null,null,"荧荧",10023,"叶延",10011,"耿陶",10014]
[{"$nulls":18},69,{"$f":"VLOOKUP(V79,#REF!,3,TRUE)","v":{"$error":"#REF!"}},77,69,0.8,0.2,68.5,1,10010,"颜祈佳",{"$error":"#N/A"},{"$error":"#N/A"},{"$error":"#N/A"},{"$error":"#N/A"},{"$nulls":4},77,1,{"$f":"SUM($AL$3:AL79)","v":81},80,356000,{"$f":"SUM($AO$3:AO79)","v":15869500},18200,{"$f":"SUM($AQ$3:AQ79)","v":815900},48.00000000000007,{"$f":"SUM($AS$3:AS79)","v":2691.0000000000005},160,{"$f":"SUM($AU$3:AU79)","v":8970},{"$nulls":4},77,8100,{"$f":"SUM($BB$3:BB79)","v":331100},410,{"$f":"SUM($BD$3:BD79)","v":16940},5,0.12,0.6,{"$f":"SUM($BH$3:BH79)","v":46.20000000000007},10,0.2,2,{"$f":"SUM($BL$3:BL79)","v":154},null,null,"颜祈佳",10010,"",{"$error":"#N/A"},"",{"$error":"#N/A"}]
[{"$nulls":18},71,{"$f":"VLOOKUP(V80,#REF!,3,TRUE)","v":{"$error":"#REF!"}},78,71,0.8,0.2,70.5,1,10009,"祁菲",{"$error":"#N/A"},{"$error":"#N/A"},{"$error":"#N/A"},{"$error":"#N/A"},{"$nulls":4},78,0,{"$f":"SUM($AL$3:AL80)","v":81},80,356000,{"$f":"SUM($AO$3:AO80)","v":16225500},18200,{"$f":"SUM($AQ$3:AQ80)","v":834100},48.00000000000007,{"$f":"SUM($AS$3:AS80)","v":2739.0000000000005},160,{"$f":"SUM($AU$3:AU80)","v":9130},{"$nulls":4},78,8200,{"$f":"SUM($BB$3:BB80)","v":339300},415,{"$f":"SUM($BD$3:BD80)","v":17355},5,0.12,0.6,{"$f":"SUM($BH$3:BH80)","v":46.80000000000007},10,0.2,2,{"$f":"SUM($BL$3:BL80)","v":156},null,null,"祁菲",10009,"",{"$error":"#N/A"},"",{"$error":"#N/A"}]
[{"$nulls":18},73,{"$f":"VLOOKUP(V81,#REF!,3,TRUE)","v":{"$error":"#REF!"}},79,73,0.8,0.2,72.5,1,10019,"云",{"$error":"#N/A"},{"$error":"#N/A"},{"$error":"#N/A"},{"$error":"#N/A"},{"$nulls":4},79,1,{"$f":"SUM($AL$3:AL81)","v":82},80,356000,{"$f":"SUM($AO$3:AO81)","v":16581500},18200,{"$f":"SUM($AQ$3:AQ81)","v":852300},48.00000000000007,{"$f":"SUM($AS$3:AS81)","v":2787.0000000000005},160,{"$f":"SUM($AU$3:AU81)","v":9290},{"$nulls":4},79,8300,{"$f":"SUM($BB$3:BB81)","v":347600},420,{"$f":"SUM($BD$3:BD81)","v":17775},5,0.12,0.6,{"$f":"SUM($BH$3:BH81)","v":47.40000000000007},10,0.2,2,{"$f":"SUM($BL$3:BL81)","v":158},null,null,"孔谦",10019,"",{"$error":"#N/A"},"",{"$error":"#N/A"}]
[{"$nulls":18},75,{"$f":"VLOOKUP(V82,#REF!,3,TRUE)","v":{"$error":"#REF!"}},80,75,1,0,74.5,2,10004,{"$f":"VLOOKUP(AA82,$AG:$AH,2,FALSE)","v":"孔谦"},10018,{"$f":"VLOOKUP(AC82,$AG:$AH,2,FALSE)","v":"紫苏"},10012,"慕容子期",{"$nulls":4},80,0,{"$f":"SUM($AL$3:AL82)","v":82},80,356000,{"$f":"SUM($AO$3:AO82)","v":16937500},18200,{"$f":"SUM($AQ$3:AQ82)","v":870500},48.00000000000007,{"$f":"SUM($AS$3:AS82)","v":2835.0000000000005},160,{"$f":"SUM($AU$3:AU82)","v":9450},{"$nulls":4},80,8400,{"$f":"SUM($BB$3:BB82)","v":356000},425,{"$f":"SUM($BD$3:BD82)","v":18200},5,0.12,0.6,{"$f":"SUM($BH$3:BH82)","v":48.00000000000007},10,0.2,2,{"$f":"SUM($BL$3:BL82)","v":160},null,null,"耿陶",10014,"应茹",10004,"",{"$error":"#N/A"}]
[{"$nulls":18},77,{"$f":"VLOOKUP(V83,#REF!,3,TRUE)","v":{"$error":"#REF!"}},81,77,0.8,0.2,76.5,3,10011,"尹正霄",10017,"解幽",10009,"祁菲",{"$nulls":4},81,1,{"$f":"SUM($AL$3:AL83)","v":83},80,356000,{"$f":"SUM($AO$3:AO83)","v":17293500},18200,{"$f":"SUM($AQ$3:AQ83)","v":888700},48.00000000000007,{"$f":"SUM($AS$3:AS83)","v":2883.0000000000005},160,{"$f":"SUM($AU$3:AU83)","v":9610},{"$nulls":4},81,8500,{"$f":"SUM($BB$3:BB83)","v":364500},430,{"$f":"SUM($BD$3:BD83)","v":18630},5,0.12,0.6,{"$f":"SUM($BH$3:BH83)","v":48.60000000000007},10,0.2,2,{"$f":"SUM($BL$3:BL83)","v":162},null,null,"叶延",10011,"影蓟",10017,"祁菲",10009]
[{"$nulls":18},79,{"$f":"VLOOKUP(V84,#REF!,3,TRUE)","v":{"$error":"#REF!"}},82,79,0.8,0.2,78.5,1,10003,"叶辽",{"$error":"#N/A"},{"$error":"#N/A"},{"$error":"#N/A"},{"$error":"#N/A"},{"$nulls":4},82,0,{"$f":"SUM($AL$3:AL84)","v":83},80,356000,{"$f":"SUM($AO$3:AO84)","v":17649500},18200,{"$f":"SUM($AQ$3:AQ84)","v":906900},48.00000000000007,{"$f":"SUM($AS$3:AS84)","v":2931.0000000000005},160,{"$f":"SUM($AU$3:AU84)","v":9770},{"$nulls":4},82,8600,{"$f":"SUM($BB$3:BB84)","v":373100},435,{"$f":"SUM($BD$3:BD84)","v":19065},5,0.12,0.6,{"$f":"SUM($BH$3:BH84)","v":49.200000000000074},10,0.2,2,{"$f":"SUM($BL$3:BL84)","v":164},null,null,"夏侯鸿天",10003,"",{"$error":"#N/A"},"",{"$error":"#N/A"}]
[{"$nulls":18},81,{"$f":"VLOOKUP(V85,#REF!,3,TRUE)","v":{"$error":"#REF!"}},83,81,0.8,0.2,80.5,3,10014,"颜无诡",10006,"朱贺",10022,"云灵",{"$nulls":4},83,1,{"$f":"SUM($AL$3:AL85)","v":84},80,356000,{"$f":"SUM($AO$3:AO85)","v":18005500},18200,{"$f":"SUM($AQ$3:AQ85)","v":925100},48.00000000000007,{"$f":"SUM($AS$3:AS85)","v":2979.0000000000005},160,{"$f":"SUM($AU$3:AU85)","v":9930},{"$nulls":4},83,8700,{"$f":"SUM($BB$3:BB85)","v":381800},440,{"$f":"SUM($BD$3:BD85)","v":19505},5,0.12,0.6,{"$f":"SUM($BH$3:BH85)","v":49.800000000000075},10,0.2,2,{"$f":"SUM($BL$3:BL85)","v":166},null,null,"耿陶",10014,"兰卿",10006,"颜无诡",10022]
[{"$nulls":18},83,{"$f":"VLOOKUP(V86,#REF!,3,TRUE)","v":{"$error":"#REF!"}},84,83,0.8,0.2,82.5,2,10019,"云",10004,"孔谦",{"$error":"#N/A"},{"$error":"#N/A"},{"$nulls":4},84,0,{"$f":"SUM($AL$3:AL86)","v":84},80,356000,{"$f":"SUM($AO$3:AO86)","v":18361500},18200,{"$f":"SUM($AQ$3:AQ86)","v":943300},48.00000000000007,{"$f":"SUM($AS$3:AS86)","v":3027.0000000000005},160,{"$f":"SUM($AU$3:AU86)","v":10090},{"$nulls":4},84,8800,{"$f":"SUM($BB$3:BB86)","v":390600},445,{"$f":"SUM($BD$3:BD86)","v":19950},5,0.12,0.6,{"$f":"SUM($BH$3:BH86)","v":50.40000000000008},10,0.2,2,{"$f":"SUM($BL$3:BL86)","v":168},null,null,"孔谦",10019,"应茹",10004,"",{"$error":"#N/A"}]
[{"$nulls":18},85,{"$f":"VLOOKUP(V87,#REF!,3,TRUE)","v":{"$error":"#REF!"}},85,85,1,0,84.5,3,10006,{"$f":"VLOOKUP(AA87,$AG:$AH,2,FALSE)","v":"朱贺"},10017,{"$f":"VLOOKUP(AC87,$AG:$AH,2,FALSE)","v":"解幽"},10012,"慕容子期",{"$nulls":4},85,1,{"$f":"SUM($AL$3:AL87)","v":85},85,399500,{"$f":"SUM($AO$3:AO87)","v":18761000},20400,{"$f":"SUM($AQ$3:AQ87)","v":963700},51.00000000000008,{"$f":"SUM($AS$3:AS87)","v":3078.0000000000005},170,{"$f":"SUM($AU$3:AU87)","v":10260},{"$nulls":4},85,8900,{"$f":"SUM($BB$3:BB87)","v":399500},450,{"$f":"SUM($BD$3:BD87)","v":20400},5,0.12,0.6,{"$f":"SUM($BH$3:BH87)","v":51.00000000000008},10,0.2,2,{"$f":"SUM($BL$3:BL87)","v":170},null,null,"颜祈佳",10010,"颜无诡",10022,"夏侯鸿天",10003]
[{"$nulls":18},87,{"$f":"VLOOKUP(V88,#REF!,3,TRUE)","v":{"$error":"#REF!"}},86,87,0.8,0.2,86.5,1,10008,"颜无雍",{"$error":"#N/A"},{"$error":"#N/A"},{"$error":"#N/A"},{"$error":"#N/A"},{"$nulls":4},86,0,{"$f":"SUM($AL$3:AL88)","v":85},85,399500,{"$f":"SUM($AO$3:AO88)","v":19160500},20400,{"$f":"SUM($AQ$3:AQ88)","v":984100},51.00000000000008,{"$f":"SUM($AS$3:AS88)","v":3129.0000000000005},170,{"$f":"SUM($AU$3:AU88)","v":10430},{"$nulls":4},86,9000,{"$f":"SUM($BB$3:BB88)","v":408500},455,{"$f":"SUM($BD$3:BD88)","v":20855},5,0.12,0.6,{"$f":"SUM($BH$3:BH88)","v":51.60000000000008},10,0.2,2,{"$f":"SUM($BL$3:BL88)","v":172},null,null,"白梦凡",10008,"",{"$error":"#N/A"},"",{"$error":"#N/A"}]
[{"$nulls":18},89,{"$f":"VLOOKUP(V89,#REF!,3,TRUE)","v":{"$error":"#REF!"}},87,89,0.8,0.2,88.5,3,10019,"云",10005,"兰卿",10020,"司空染",{"$nulls":4},87,1,{"$f":"SUM($AL$3:AL89)","v":86},85,399500,{"$f":"SUM($AO$3:AO89)","v":19560000},20400,{"$f":"SUM($AQ$3:AQ89)","v":1004500},51.00000000000008,{"$f":"SUM($AS$3:AS89)","v":3180.0000000000005},170,{"$f":"SUM($AU$3:AU89)","v":10600},{"$nulls":4},87,9100,{"$f":"SUM($BB$3:BB89)","v":417600},460,{"$f":"SUM($BD$3:BD89)","v":21315},5,0.12,0.6,{"$f":"SUM($BH$3:BH89)","v":52.20000000000008},10,0.2,2,{"$f":"SUM($BL$3:BL89)","v":174},null,null,"孔谦",10019,"端木葵",10005,"颜无雍",10020]
[{"$nulls":18},91,{"$f":"VLOOKUP(V90,#REF!,3,TRUE)","v":{"$error":"#REF!"}},88,91,0.8,0.2,90.5,2,10006,"朱贺",10022,"云灵",{"$error":"#N/A"},{"$error":"#N/A"},{"$nulls":4},88,0,{"$f":"SUM($AL$3:AL90)","v":86},85,399500,{"$f":"SUM($AO$3:AO90)","v":19959500},20400,{"$f":"SUM($AQ$3:AQ90)","v":1024900},51.00000000000008,{"$f":"SUM($AS$3:AS90)","v":3231.0000000000005},170,{"$f":"SUM($AU$3:AU90)","v":10770},{"$nulls":4},88,9200,{"$f":"SUM($BB$3:BB90)","v":426800},465,{"$f":"SUM($BD$3:BD90)","v":21780},5,0.12,0.6,{"$f":"SUM($BH$3:BH90)","v":52.80000000000008},10,0.2,2,{"$f":"SUM($BL$3:BL90)","v":176},null,null,"兰卿",10006,"颜无诡",10022,"",{"$error":"#N/A"}]
[{"$nulls":18},93,{"$f":"VLOOKUP(V91,#REF!,3,TRUE)","v":{"$error":"#REF!"}},89,93,0.8,0.2,92.5,2,10018,"紫苏",10001,"夏侯鸿天",{"$error":"#N/A"},{"$error":"#N/A"},{"$nulls":4},89,1,{"$f":"SUM($AL$3:AL91)","v":87},85,399500,{"$f":"SUM($AO$3:AO91)","v":20359000},20400,{"$f":"SUM($AQ$3:AQ91)","v":1045300},51.00000000000008,{"$f":"SUM($AS$3:AS91)","v":3282.0000000000005},170,{"$f":"SUM($AU$3:AU91)","v":10940},{"$nulls":4},89,9300,{"$f":"SUM($BB$3:BB91)","v":436100},470,{"$f":"SUM($BD$3:BD91)","v":22250},5,0.12,0.6,{"$f":"SUM($BH$3:BH91)","v":53.400000000000084},10,0.2,2,{"$f":"SUM($BL$3:BL91)","v":178},null,null,"朱贺",10018,"石御霏",10001,"",{"$error":"#N/A"}]
[{"$nulls":18},95,{"$f":"VLOOKUP(V92,#REF!,3,TRUE)","v":{"$error":"#REF!"}},90,95,1,0,94.5,3,10001,"夏侯鸿天",10016,"枫元正",10022,"云灵",{"$nulls":4},90,0,{"$f":"SUM($AL$3:AL92)","v":87},85,399500,{"$f":"SUM($AO$3:AO92)","v":20758500},20400,{"$f":"SUM($AQ$3:AQ92)","v":1065700},51.00000000000008,{"$f":"SUM($AS$3:AS92)","v":3333.0000000000005},170,{"$f":"SUM($AU$3:AU92)","v":11110},{"$nulls":4},90,9400,{"$f":"SUM($BB$3:BB92)","v":445500},475,{"$f":"SUM($BD$3:BD92)","v":22725},5,0.12,0.6,{"$f":"SUM($BH$3:BH92)","v":54.000000000000085},10,0.2,2,{"$f":"SUM($BL$3:BL92)","v":180},null,null,"应茹",10004,"岑以航",10016,"慕容子期",10012]
[{"$nulls":18},97,{"$f":"VLOOKUP(V93,#REF!,3,TRUE)","v":{"$error":"#REF!"}},91,97,0.8,0.2,96.5,3,10012,"慕容子期",10017,"解幽",10002,"石御霏",{"$nulls":4},91,1,{"$f":"SUM($AL$3:AL93)","v":88},85,399500,{"$f":"SUM($AO$3:AO93)","v":21158000},20400,{"$f":"SUM($AQ$3:AQ93)","v":1086100},51.00000000000008,{"$f":"SUM($AS$3:AS93)","v":3384.0000000000005},170,{"$f":"SUM($AU$3:AU93)","v":11280},{"$nulls":4},91,9500,{"$f":"SUM($BB$3:BB93)","v":455000},480,{"$f":"SUM($BD$3:BD93)","v":23205},5,0.12,0.6,{"$f":"SUM($BH$3:BH93)","v":54.60000000000009},10,0.2,2,{"$f":"SUM($BL$3:BL93)","v":182},null,null,"慕容子期",10012,"影蓟",10017,"楚恒",10002]
[{"$nulls":18},99,{"$f":"VLOOKUP(V94,#REF!,3,TRUE)","v":{"$error":"#REF!"}},92,99,0.8,0.2,98.5,2,10006,"朱贺",10001,"夏侯鸿天",{"$error":"#N/A"},{"$error":"#N/A"},{"$nulls":4},92,0,{"$f":"SUM($AL$3:AL94)","v":88},85,399500,{"$f":"SUM($AO$3:AO94)","v":21557500},20400,{"$f":"SUM($AQ$3:AQ94)","v":1106500},51.00000000000008,{"$f":"SUM($AS$3:AS94)","v":3435.0000000000005},170,{"$f":"SUM($AU$3:AU94)","v":11450},{"$nulls":4},92,9600,{"$f":"SUM($BB$3:BB94)","v":464600},485,{"$f":"SUM($BD$3:BD94)","v":23690},5,0.12,0.6,{"$f":"SUM($BH$3:BH94)","v":55.20000000000009},10,0.2,2,{"$f":"SUM($BL$3:BL94)","v":184},null,null,"兰卿",10006,"石御霏",10001,"",{"$error":"#N/A"}]
[{"$nulls":18},101,{"$f":"VLOOKUP(V95,#REF!,3,TRUE)","v":{"$error":"#REF!"}},93,101,0.8,0.2,100.5,1,10001,"夏侯鸿天",{"$error":"#N/A"},{"$error":"#N/A"},{"$error":"#N/A"},{"$error":"#N/A"},{"$nulls":4},93,1,{"$f":"SUM($AL$3:AL95)","v":89},85,399500,{"$f":"SUM($AO$3:AO95)","v":21957000},20400,{"$f":"SUM($AQ$3:AQ95)","v":1126900},51.00000000000008,{"$f":"SUM($AS$3:AS95)","v":3486.0000000000005},170,{"$f":"SUM($AU$3:AU95)","v":11620},{"$nulls":4},93,9700,{"$f":"SUM($BB$3:BB95)","v":474300},490,{"$f":"SUM($BD$3:BD95)","v":24180},5,0.12,0.6,{"$f":"SUM($BH$3:BH95)","v":55.80000000000009},10,0.2,2,{"$f":"SUM($BL$3:BL95)","v":186},null,null,"石御霏",10001,"",{"$error":"#N/A"},"",{"$error":"#N/A"}]
[{"$nulls":18},103,{"$f":"VLOOKUP(V96,#REF!,3,TRUE)","v":{"$error":"#REF!"}},94,103,0.8,0.2,102.5,3,10005,"兰卿",10003,"叶辽",10009,"祁菲",{"$nulls":4},94,0,{"$f":"SUM($AL$3:AL96)","v":89},85,399500,{"$f":"SUM($AO$3:AO96)","v":22356500},20400,{"$f":"SUM($AQ$3:AQ96)","v":1147300},51.00000000000008,{"$f":"SUM($AS$3:AS96)","v":3537.0000000000005},170,{"$f":"SUM($AU$3:AU96)","v":11790},{"$nulls":4},94,9800,{"$f":"SUM($BB$3:BB96)","v":484100},495,{"$f":"SUM($BD$3:BD96)","v":24675},5,0.12,0.6,{"$f":"SUM($BH$3:BH96)","v":56.40000000000009},10,0.2,2,{"$f":"SUM($BL$3:BL96)","v":188},null,null,"端木葵",10005,"夏侯鸿天",10003,"祁菲",10009]
[{"$nulls":18},105,{"$f":"VLOOKUP(V97,#REF!,3,TRUE)","v":{"$error":"#REF!"}},95,105,1,0,104.5,3,10015,"凝儿",10012,"慕容子期",10013,"白梦凡",{"$nulls":4},95,1,{"$f":"SUM($AL$3:AL97)","v":90},90,445500,{"$f":"SUM($AO$3:AO97)","v":22802000},22725,{"$f":"SUM($AQ$3:AQ97)","v":1170025},54.000000000000085,{"$f":"SUM($AS$3:AS97)","v":3591.0000000000005},180,{"$f":"SUM($AU$3:AU97)","v":11970},{"$nulls":4},95,9900,{"$f":"SUM($BB$3:BB97)","v":494000},500,{"$f":"SUM($BD$3:BD97)","v":25175},5,0.12,0.6,{"$f":"SUM($BH$3:BH97)","v":57.00000000000009},10,0.2,2,{"$f":"SUM($BL$3:BL97)","v":190},null,null,"端木葵",10005,"颜祈佳",10010,"应茹",10004]
[{"$nulls":18},107,{"$f":"VLOOKUP(V98,#REF!,3,TRUE)","v":{"$error":"#REF!"}},96,107,0.8,0.2,106.5,2,10009,"祁菲",10015,"凝儿",{"$error":"#N/A"},{"$error":"#N/A"},{"$nulls":4},96,0,{"$f":"SUM($AL$3:AL98)","v":90},90,445500,{"$f":"SUM($AO$3:AO98)","v":23247500},22725,{"$f":"SUM($AQ$3:AQ98)","v":1192750},54.000000000000085,{"$f":"SUM($AS$3:AS98)","v":3645.0000000000005},180,{"$f":"SUM($AU$3:AU98)","v":12150},{"$nulls":4},96,10000,{"$f":"SUM($BB$3:BB98)","v":504000},505,{"$f":"SUM($BD$3:BD98)","v":25680},5,0.12,0.6,{"$f":"SUM($BH$3:BH98)","v":57.600000000000094},10,0.2,2,{"$f":"SUM($BL$3:BL98)","v":192},null,null,"祁菲",10009,"云",10015,"",{"$error":"#N/A"}]
[{"$nulls":18},109,{"$f":"VLOOKUP(V99,#REF!,3,TRUE)","v":{"$error":"#REF!"}},97,109,0.8,0.2,108.5,3,10017,"解幽",10003,"叶辽",10010,"颜祈佳",{"$nulls":4},97,{"$f":"COUNTIFS(V:V,AK99)","v":1},{"$f":"SUM($AL$3:AL99)","v":91},{"$f":"_xlfn.FLOOR.MATH(AM99,5)","v":90},445500,{"$f":"SUM($AO$3:AO99)","v":23693000},22725,{"$f":"SUM($AQ$3:AQ99)","v":1215475},54.000000000000085,{"$f":"SUM($AS$3:AS99)","v":3699.0000000000005},180,{"$f":"SUM($AU$3:AU99)","v":12330},{"$nulls":4},97,10100,{"$f":"SUM($BB$3:BB99)","v":514100},510,{"$f":"SUM($BD$3:BD99)","v":26190},5,0.12,0.6,{"$f":"SUM($BH$3:BH99)","v":58.200000000000095},10,0.2,2,{"$f":"SUM($BL$3:BL99)","v":194},null,null,"影蓟",10017,"夏侯鸿天",10003,"颜祈佳",10010]
[{"$nulls":18},111,{"$f":"VLOOKUP(V100,#REF!,3,TRUE)","v":{"$error":"#REF!"}},98,111,0.8,0.2,110.5,1,10016,{"$f":"VLOOKUP(AA100,$AG:$AH,2,FALSE)","v":"枫元正"},{"$error":"#N/A"},{"$f":"VLOOKUP(AC100,$AG:$AH,2,FALSE)","v":{"$error":"#N/A"}},{"$error":"#N/A"},{"$f":"VLOOKUP(AE100,$AG:$AH,2,FALSE)","v":{"$error":"#N/A"}},{"$nulls":4},98,0,{"$f":"SUM($AL$3:AL100)","v":91},90,445500,{"$f":"SUM($AO$3:AO100)","v":24138500},22725,{"$f":"SUM($AQ$3:AQ100)","v":1238200},54.000000000000085,{"$f":"SUM($AS$3:AS100)","v":3753.0000000000005},180,{"$f":"SUM($AU$3:AU100)","v":12510},{"$nulls":4},98,10200,{"$f":"SUM($BB$3:BB100)","v":524300},515,{"$f":"SUM($BD$3:BD100)","v":26705},5,0.12,0.6,{"$f":"SUM($BH$3:BH100)","v":58.8000000000001},10,0.2,2,{"$f":"SUM($BL$3:BL100)","v":196},null,null,"岑以航",10016,"",{"$error":"#N/A"},"",{"$error":"#N/A"}]
[{"$nulls":18},113,{"$f":"VLOOKUP(V101,#REF!,3,TRUE)","v":{"$error":"#REF!"}},99,113,0.8,0.2,112.5,2,10014,"颜无诡",10022,"云灵",{"$error":"#N/A"},{"$f":"VLOOKUP(AE101,$AG:$AH,2,FALSE)","v":{"$error":"#N/A"}},{"$nulls":4},99,1,{"$f":"SUM($AL$3:AL101)","v":92},90,445500,{"$f":"SUM($AO$3:AO101)","v":24584000},22725,{"$f":"SUM($AQ$3:AQ101)","v":1260925},54.000000000000085,{"$f":"SUM($AS$3:AS101)","v":3807.0000000000005},180,{"$f":"SUM($AU$3:AU101)","v":12690},{"$nulls":4},99,10300,{"$f":"SUM($BB$3:BB101)","v":534600},520,{"$f":"SUM($BD$3:BD101)","v":27225},5,0.12,0.6,{"$f":"SUM($BH$3:BH101)","v":59.4000000000001},10,0.2,2,{"$f":"SUM($BL$3:BL101)","v":198},null,null,"耿陶",10014,"颜无诡",10022,"",{"$error":"#N/A"}]
[{"$nulls":18},115,{"$f":"VLOOKUP(V102,#REF!,3,TRUE)","v":{"$error":"#REF!"}},100,115,1,0,114.5,3,10004,"孔谦",10006,"朱贺",10012,{"$f":"VLOOKUP(AE102,$AG:$AH,2,FALSE)","v":"慕容子期"},{"$nulls":4},100,0,{"$f":"SUM($AL$3:AL102)","v":92},90,445500,{"$f":"SUM($AO$3:AO102)","v":25029500},22725,{"$f":"SUM($AQ$3:AQ102)","v":1283650},54.000000000000085,{"$f":"SUM($AS$3:AS102)","v":3861.0000000000005},180,{"$f":"SUM($AU$3:AU102)","v":12870},{"$nulls":4},100,10400,{"$f":"SUM($BB$3:BB102)","v":545000},525,{"$f":"SUM($BD$3:BD102)","v":27750},5,0.12,0.6,{"$f":"SUM($BH$3:BH102)","v":60.0000000000001},10,0.2,2,{"$f":"SUM($BL$3:BL102)","v":200},null,null,"影蓟",10017,"影蓟",10017,"耿陶",10014]
[{"$nulls":18},117,{"$f":"VLOOKUP(V103,#REF!,3,TRUE)","v":{"$error":"#REF!"}},101,117,0.9,0.1,116.5,1,10001,"夏侯鸿天",null,{"$error":"#N/A"},null,{"$f":"VLOOKUP(AE103,$AG:$AH,2,FALSE)","v":{"$error":"#N/A"}},{"$nulls":4},101,1,{"$f":"SUM($AL$3:AL103)","v":93},90,445500,{"$f":"SUM($AO$3:AO103)","v":25475000},22725,{"$f":"SUM($AQ$3:AQ103)","v":1306375},54.000000000000085,{"$f":"SUM($AS$3:AS103)","v":3915.0000000000005},180,{"$f":"SUM($AU$3:AU103)","v":13050}]
[{"$nulls":18},119,{"$f":"VLOOKUP(V104,#REF!,3,TRUE)","v":{"$error":"#REF!"}},102,119,0.9,0.1,118.5,2,10002,"石御霏",10008,"颜无雍",null,{"$error":"#N/A"},{"$nulls":4},102,0,{"$f":"SUM($AL$3:AL104)","v":93},90,445500,{"$f":"SUM($AO$3:AO104)","v":25920500},22725,{"$f":"SUM($AQ$3:AQ104)","v":1329100},54.000000000000085,{"$f":"SUM($AS$3:AS104)","v":3969.0000000000005},180,{"$f":"SUM($AU$3:AU104)","v":13230}]
[{"$nulls":18},121,{"$f":"VLOOKUP(V105,#REF!,3,TRUE)","v":{"$error":"#REF!"}},103,121,0.9,0.1,120.5,3,10003,"叶辽",10015,"凝儿",10015,"凝儿",{"$nulls":4},103,1,{"$f":"SUM($AL$3:AL105)","v":94},90,445500,{"$f":"SUM($AO$3:AO105)","v":26366000},22725,{"$f":"SUM($AQ$3:AQ105)","v":1351825},54.000000000000085,{"$f":"SUM($AS$3:AS105)","v":4023.0000000000005},180,{"$f":"SUM($AU$3:AU105)","v":13410}]
[{"$nulls":18},123,{"$f":"VLOOKUP(V106,#REF!,3,TRUE)","v":{"$error":"#REF!"}},104,123,0.9,0.1,122.5,2,10019,"云",10021,"清然",null,{"$error":"#N/A"},{"$nulls":4},104,0,{"$f":"SUM($AL$3:AL106)","v":94},90,445500,{"$f":"SUM($AO$3:AO106)","v":26811500},22725,{"$f":"SUM($AQ$3:AQ106)","v":1374550},54.000000000000085,{"$f":"SUM($AS$3:AS106)","v":4077.0000000000005},180,{"$f":"SUM($AU$3:AU106)","v":13590}]
[{"$nulls":18},125,{"$f":"VLOOKUP(V107,#REF!,3,TRUE)","v":{"$error":"#REF!"}},105,125,1,0,124.5,3,10002,"石御霏",10008,"颜无雍",10016,"枫元正",{"$nulls":4},105,1,{"$f":"SUM($AL$3:AL107)","v":95},95,494000,{"$f":"SUM($AO$3:AO107)","v":27305500},25175,{"$f":"SUM($AQ$3:AQ107)","v":1399725},57.00000000000009,{"$f":"SUM($AS$3:AS107)","v":4134.000000000001},190,{"$f":"SUM($AU$3:AU107)","v":13780}]
[{"$nulls":18},127,{"$f":"VLOOKUP(V108,#REF!,3,TRUE)","v":{"$error":"#REF!"}},106,127,0.9,0.1,126.5,1,10018,{"$f":"VLOOKUP(AA108,$AG:$AH,2,FALSE)","v":"紫苏"},null,{"$error":"#N/A"},null,{"$error":"#N/A"},{"$nulls":4},106,0,{"$f":"SUM($AL$3:AL108)","v":95},95,494000,{"$f":"SUM($AO$3:AO108)","v":27799500},25175,{"$f":"SUM($AQ$3:AQ108)","v":1424900},57.00000000000009,{"$f":"SUM($AS$3:AS108)","v":4191.000000000001},190,{"$f":"SUM($AU$3:AU108)","v":13970}]
[{"$nulls":18},129,{"$f":"VLOOKUP(V109,#REF!,3,TRUE)","v":{"$error":"#REF!"}},107,129,0.9,0.1,128.5,2,10022,{"$f":"VLOOKUP(AA109,$AG:$AH,2,FALSE)","v":"云灵"},10023,"荧荧",{"$error":"#N/A"},{"$error":"#N/A"},{"$nulls":4},107,1,{"$f":"SUM($AL$3:AL109)","v":96},95,494000,{"$f":"SUM($AO$3:AO109)","v":28293500},25175,{"$f":"SUM($AQ$3:AQ109)","v":1450075},57.00000000000009,{"$f":"SUM($AS$3:AS109)","v":4248.000000000001},190,{"$f":"SUM($AU$3:AU109)","v":14160}]
[{"$nulls":18},131,{"$f":"VLOOKUP(V110,#REF!,3,TRUE)","v":{"$error":"#REF!"}},108,131,0.9,0.1,130.5,3,10011,{"$f":"VLOOKUP(AA110,$AG:$AH,2,FALSE)","v":"尹正霄"},10017,"解幽",10009,"祁菲",{"$nulls":4},108,0,{"$f":"SUM($AL$3:AL110)","v":96},95,494000,{"$f":"SUM($AO$3:AO110)","v":28787500},25175,{"$f":"SUM($AQ$3:AQ110)","v":1475250},57.00000000000009,{"$f":"SUM($AS$3:AS110)","v":4305.000000000001},190,{"$f":"SUM($AU$3:AU110)","v":14350}]
[{"$nulls":18},133,{"$f":"VLOOKUP(V111,#REF!,3,TRUE)","v":{"$error":"#REF!"}},109,133,0.9,0.1,132.5,2,10002,{"$f":"VLOOKUP(AA111,$AG:$AH,2,FALSE)","v":"石御霏"},10005,"兰卿",{"$error":"#N/A"},{"$error":"#N/A"},{"$nulls":4},109,1,{"$f":"SUM($AL$3:AL111)","v":97},95,494000,{"$f":"SUM($AO$3:AO111)","v":29281500},25175,{"$f":"SUM($AQ$3:AQ111)","v":1500425},57.00000000000009,{"$f":"SUM($AS$3:AS111)","v":4362.000000000001},190,{"$f":"SUM($AU$3:AU111)","v":14540}]
[{"$nulls":18},135,{"$f":"VLOOKUP(V112,#REF!,3,TRUE)","v":{"$error":"#REF!"}},110,135,1,0,134.5,3,10009,{"$f":"VLOOKUP(AA112,$AG:$AH,2,FALSE)","v":"祁菲"},10004,{"$f":"VLOOKUP(AC112,$AG:$AH,2,FALSE)","v":"孔谦"},10012,"慕容子期",{"$nulls":4},110,0,{"$f":"SUM($AL$3:AL112)","v":97},95,494000,{"$f":"SUM($AO$3:AO112)","v":29775500},25175,{"$f":"SUM($AQ$3:AQ112)","v":1525600},57.00000000000009,{"$f":"SUM($AS$3:AS112)","v":4419.000000000001},190,{"$f":"SUM($AU$3:AU112)","v":14730}]
[{"$nulls":18},137,{"$f":"VLOOKUP(V113,#REF!,3,TRUE)","v":{"$error":"#REF!"}},111,137,0.9,0.1,136.5,1,10006,{"$f":"VLOOKUP(AA113,$AG:$AH,2,FALSE)","v":"朱贺"},null,{"$error":"#N/A"},null,{"$error":"#N/A"},{"$nulls":4},111,1,{"$f":"SUM($AL$3:AL113)","v":98},95,494000,{"$f":"SUM($AO$3:AO113)","v":30269500},25175,{"$f":"SUM($AQ$3:AQ113)","v":1550775},57.00000000000009,{"$f":"SUM($AS$3:AS113)","v":4476.000000000001},190,{"$f":"SUM($AU$3:AU113)","v":14920}]
[{"$nulls":18},139,{"$f":"VLOOKUP(V114,#REF!,3,TRUE)","v":{"$error":"#REF!"}},112,139,0.9,0.1,138.5,2,10020,{"$f":"VLOOKUP(AA114,$AG:$AH,2,FALSE)","v":"司空染"},10018,"紫苏",null,{"$error":"#N/A"},{"$nulls":4},112,0,{"$f":"SUM($AL$3:AL114)","v":98},95,494000,{"$f":"SUM($AO$3:AO114)","v":30763500},25175,{"$f":"SUM($AQ$3:AQ114)","v":1575950},57.00000000000009,{"$f":"SUM($AS$3:AS114)","v":4533.000000000001},190,{"$f":"SUM($AU$3:AU114)","v":15110}]
[{"$nulls":18},141,{"$f":"VLOOKUP(V115,#REF!,3,TRUE)","v":{"$error":"#REF!"}},113,141,0.9,0.1,140.5,3,10008,{"$f":"VLOOKUP(AA115,$AG:$AH,2,FALSE)","v":"颜无雍"},10018,"紫苏",10006,"朱贺",{"$nulls":4},113,1,{"$f":"SUM($AL$3:AL115)","v":99},95,494000,{"$f":"SUM($AO$3:AO115)","v":31257500},25175,{"$f":"SUM($AQ$3:AQ115)","v":1601125},57.00000000000009,{"$f":"SUM($AS$3:AS115)","v":4590.000000000001},190,{"$f":"SUM($AU$3:AU115)","v":15300}]
[{"$nulls":18},143,{"$f":"VLOOKUP(V116,#REF!,3,TRUE)","v":{"$error":"#REF!"}},114,143,0.9,0.1,142.5,2,10012,{"$f":"VLOOKUP(AA116,$AG:$AH,2,FALSE)","v":"慕容子期"},10020,"司空染",{"$error":"#N/A"},{"$error":"#N/A"},{"$nulls":4},114,0,{"$f":"SUM($AL$3:AL116)","v":99},95,494000,{"$f":"SUM($AO$3:AO116)","v":31751500},25175,{"$f":"SUM($AQ$3:AQ116)","v":1626300},57.00000000000009,{"$f":"SUM($AS$3:AS116)","v":4647.000000000001},190,{"$f":"SUM($AU$3:AU116)","v":15490}]
[{"$nulls":18},145,{"$f":"VLOOKUP(V117,#REF!,3,TRUE)","v":{"$error":"#REF!"}},115,145,1,0,144.5,3,10011,{"$f":"VLOOKUP(AA117,$AG:$AH,2,FALSE)","v":"尹正霄"},10012,{"$f":"VLOOKUP(AC117,$AG:$AH,2,FALSE)","v":"慕容子期"},10012,"慕容子期",{"$nulls":4},115,1,{"$f":"SUM($AL$3:AL117)","v":100},100,545000,{"$f":"SUM($AO$3:AO117)","v":32296500},27750,{"$f":"SUM($AQ$3:AQ117)","v":1654050},60.0000000000001,{"$f":"SUM($AS$3:AS117)","v":4707.000000000001},200,{"$f":"SUM($AU$3:AU117)","v":15690}]
[{"$nulls":18},147,{"$f":"VLOOKUP(V118,#REF!,3,TRUE)","v":{"$error":"#REF!"}},116,147,0.9,0.1,146.5,1,10005,{"$f":"VLOOKUP(AA118,$AG:$AH,2,FALSE)","v":"兰卿"},null,{"$error":"#N/A"},null,{"$error":"#N/A"},{"$nulls":4},116,0,{"$f":"SUM($AL$3:AL118)","v":100},100,545000,{"$f":"SUM($AO$3:AO118)","v":32841500},27750,{"$f":"SUM($AQ$3:AQ118)","v":1681800},60.0000000000001,{"$f":"SUM($AS$3:AS118)","v":4767.000000000001},200,{"$f":"SUM($AU$3:AU118)","v":15890}]
[{"$nulls":18},149,{"$f":"VLOOKUP(V119,#REF!,3,TRUE)","v":{"$error":"#REF!"}},117,149,0.9,0.1,148.5,2,10019,{"$f":"VLOOKUP(AA119,$AG:$AH,2,FALSE)","v":"云"},10013,"白梦凡",{"$error":"#N/A"},{"$error":"#N/A"},{"$nulls":4},117,1,{"$f":"SUM($AL$3:AL119)","v":101},100,545000,{"$f":"SUM($AO$3:AO119)","v":33386500},27750,{"$f":"SUM($AQ$3:AQ119)","v":1709550},60.0000000000001,{"$f":"SUM($AS$3:AS119)","v":4827.000000000001},200,{"$f":"SUM($AU$3:AU119)","v":16090}]
[{"$nulls":18},151,{"$f":"VLOOKUP(V120,#REF!,3,TRUE)","v":{"$error":"#REF!"}},118,151,0.9,0.1,150.5,3,10010,{"$f":"VLOOKUP(AA120,$AG:$AH,2,FALSE)","v":"颜祈佳"},10015,"凝儿",10015,"凝儿",{"$nulls":4},118,0,{"$f":"SUM($AL$3:AL120)","v":101},100,545000,{"$f":"SUM($AO$3:AO120)","v":33931500},27750,{"$f":"SUM($AQ$3:AQ120)","v":1737300},60.0000000000001,{"$f":"SUM($AS$3:AS120)","v":4887.000000000001},200,{"$f":"SUM($AU$3:AU120)","v":16290}]
[{"$nulls":18},153,{"$f":"VLOOKUP(V121,#REF!,3,TRUE)","v":{"$error":"#REF!"}},119,153,0.9,0.1,152.5,2,10007,{"$f":"VLOOKUP(AA121,$AG:$AH,2,FALSE)","v":"应茹"},10001,"夏侯鸿天",null,{"$error":"#N/A"},{"$nulls":4},119,1,{"$f":"SUM($AL$3:AL121)","v":102},100,545000,{"$f":"SUM($AO$3:AO121)","v":34476500},27750,{"$f":"SUM($AQ$3:AQ121)","v":1765050},60.0000000000001,{"$f":"SUM($AS$3:AS121)","v":4947.000000000001},200,{"$f":"SUM($AU$3:AU121)","v":16490}]
[{"$nulls":18},155,{"$f":"VLOOKUP(V122,#REF!,3,TRUE)","v":{"$error":"#REF!"}},120,155,1,0,154.5,3,10004,{"$f":"VLOOKUP(AA122,$AG:$AH,2,FALSE)","v":"孔谦"},10006,{"$f":"VLOOKUP(AC122,$AG:$AH,2,FALSE)","v":"朱贺"},10012,"慕容子期",{"$nulls":4},120,0,{"$f":"SUM($AL$3:AL122)","v":102},100,545000,{"$f":"SUM($AO$3:AO122)","v":35021500},27750,{"$f":"SUM($AQ$3:AQ122)","v":1792800},60.0000000000001,{"$f":"SUM($AS$3:AS122)","v":5007.000000000001},200,{"$f":"SUM($AU$3:AU122)","v":16690}]
[{"$nulls":18},157,{"$f":"VLOOKUP(V123,#REF!,3,TRUE)","v":{"$error":"#REF!"}},121,157,0.9,0.1,156.5,1,10023,{"$f":"VLOOKUP(AA123,$AG:$AH,2,FALSE)","v":"荧荧"},null,{"$error":"#N/A"},null,{"$error":"#N/A"},{"$nulls":4},121,1,{"$f":"SUM($AL$3:AL123)","v":103},100,545000,{"$f":"SUM($AO$3:AO123)","v":35566500},27750,{"$f":"SUM($AQ$3:AQ123)","v":1820550},60.0000000000001,{"$f":"SUM($AS$3:AS123)","v":5067.000000000001},200,{"$f":"SUM($AU$3:AU123)","v":16890}]
[{"$nulls":18},159,{"$f":"VLOOKUP(V124,#REF!,3,TRUE)","v":{"$error":"#REF!"}},122,159,0.9,0.1,158.5,2,10018,{"$f":"VLOOKUP(AA124,$AG:$AH,2,FALSE)","v":"紫苏"},10001,"夏侯鸿天",{"$error":"#N/A"},{"$error":"#N/A"},{"$nulls":4},122,0,{"$f":"SUM($AL$3:AL124)","v":103},100,545000,{"$f":"SUM($AO$3:AO124)","v":36111500},27750,{"$f":"SUM($AQ$3:AQ124)","v":1848300},60.0000000000001,{"$f":"SUM($AS$3:AS124)","v":5127.000000000001},200,{"$f":"SUM($AU$3:AU124)","v":17090}]
[{"$nulls":18},161,{"$f":"VLOOKUP(V125,#REF!,3,TRUE)","v":{"$error":"#REF!"}},123,161,0.9,0.1,160.5,3,10002,{"$f":"VLOOKUP(AA125,$AG:$AH,2,FALSE)","v":"石御霏"},10005,"兰卿",10018,"紫苏",{"$nulls":4},123,1,{"$f":"SUM($AL$3:AL125)","v":104},100,545000,{"$f":"SUM($AO$3:AO125)","v":36656500},27750,{"$f":"SUM($AQ$3:AQ125)","v":1876050},60.0000000000001,{"$f":"SUM($AS$3:AS125)","v":5187.000000000001},200,{"$f":"SUM($AU$3:AU125)","v":17290}]
[{"$nulls":18},163,{"$f":"VLOOKUP(V126,#REF!,3,TRUE)","v":{"$error":"#REF!"}},124,163,0.9,0.1,162.5,2,10017,{"$f":"VLOOKUP(AA126,$AG:$AH,2,FALSE)","v":"解幽"},10009,"祁菲",null,{"$error":"#N/A"},{"$nulls":4},124,0,{"$f":"SUM($AL$3:AL126)","v":104},100,545000,{"$f":"SUM($AO$3:AO126)","v":37201500},27750,{"$f":"SUM($AQ$3:AQ126)","v":1903800},60.0000000000001,{"$f":"SUM($AS$3:AS126)","v":5247.000000000001},200,{"$f":"SUM($AU$3:AU126)","v":17490}]
[{"$nulls":18},165,{"$f":"VLOOKUP(V127,#REF!,3,TRUE)","v":{"$error":"#REF!"}},125,165,1,0,164.5,3,10002,{"$f":"VLOOKUP(AA127,$AG:$AH,2,FALSE)","v":"石御霏"},10008,{"$f":"VLOOKUP(AC127,$AG:$AH,2,FALSE)","v":"颜无雍"},10016,"枫元正",{"$nulls":4},125,1,{"$f":"SUM($AL$3:AL127)","v":105},105,{"$error":"#N/A"},{"$f":"SUM($AO$3:AO127)","v":{"$error":"#N/A"}},{"$error":"#N/A"},{"$f":"SUM($AQ$3:AQ127)","v":{"$error":"#N/A"}},{"$error":"#N/A"},{"$f":"SUM($AS$3:AS127)","v":{"$error":"#N/A"}},200,{"$f":"SUM($AU$3:AU127)","v":17690}]
[{"$nulls":18},167,{"$f":"VLOOKUP(V128,#REF!,3,TRUE)","v":{"$error":"#REF!"}},126,167,0.9,0.1,166.5,1,10022,"云灵",null,"凝儿",null,{"$error":"#N/A"},{"$nulls":4},126,0,{"$f":"SUM($AL$3:AL128)","v":105},105,{"$error":"#N/A"},{"$f":"SUM($AO$3:AO128)","v":{"$error":"#N/A"}},{"$error":"#N/A"},{"$f":"SUM($AQ$3:AQ128)","v":{"$error":"#N/A"}},{"$error":"#N/A"},{"$f":"SUM($AS$3:AS128)","v":{"$error":"#N/A"}},200,{"$f":"SUM($AU$3:AU128)","v":17890}]
[{"$nulls":18},169,{"$f":"VLOOKUP(V129,#REF!,3,TRUE)","v":{"$error":"#REF!"}},127,169,0.9,0.1,168.5,2,10009,"祁菲",10010,"颜祈佳",{"$error":"#N/A"},{"$error":"#N/A"},{"$nulls":4},127,1,{"$f":"SUM($AL$3:AL129)","v":106},105,{"$error":"#N/A"},{"$f":"SUM($AO$3:AO129)","v":{"$error":"#N/A"}},{"$error":"#N/A"},{"$f":"SUM($AQ$3:AQ129)","v":{"$error":"#N/A"}},{"$error":"#N/A"},{"$f":"SUM($AS$3:AS129)","v":{"$error":"#N/A"}},200,{"$f":"SUM($AU$3:AU129)","v":18090}]
[{"$nulls":18},171,{"$f":"VLOOKUP(V130,#REF!,3,TRUE)","v":{"$error":"#REF!"}},128,171,0.9,0.1,170.5,3,10018,"紫苏",10019,"云",10006,"朱贺",{"$nulls":4},128,0,{"$f":"SUM($AL$3:AL130)","v":106},105,{"$error":"#N/A"},{"$f":"SUM($AO$3:AO130)","v":{"$error":"#N/A"}},{"$error":"#N/A"},{"$f":"SUM($AQ$3:AQ130)","v":{"$error":"#N/A"}},{"$error":"#N/A"},{"$f":"SUM($AS$3:AS130)","v":{"$error":"#N/A"}},200,{"$f":"SUM($AU$3:AU130)","v":18290}]
[{"$nulls":18},173,{"$f":"VLOOKUP(V131,#REF!,3,TRUE)","v":{"$error":"#REF!"}},129,173,0.9,0.1,172.5,2,10022,"云灵",10014,"颜无诡",{"$error":"#N/A"},{"$error":"#N/A"},{"$nulls":4},129,{"$f":"COUNTIFS(V:V,AK131)","v":1},{"$f":"SUM($AL$3:AL131)","v":107},{"$f":"_xlfn.FLOOR.MATH(AM131,5)","v":105},{"$error":"#N/A"},{"$f":"SUM($AO$3:AO131)","v":{"$error":"#N/A"}},{"$error":"#N/A"},{"$f":"SUM($AQ$3:AQ131)","v":{"$error":"#N/A"}},{"$error":"#N/A"},{"$f":"SUM($AS$3:AS131)","v":{"$error":"#N/A"}},200,{"$f":"SUM($AU$3:AU131)","v":18490}]
[{"$nulls":18},175,{"$f":"VLOOKUP(V132,#REF!,3,TRUE)","v":{"$error":"#REF!"}},130,175,1,0,174.5,2,10003,{"$f":"VLOOKUP(AA132,$AG:$AH,2,FALSE)","v":"叶辽"},10009,{"$f":"VLOOKUP(AC132,$AG:$AH,2,FALSE)","v":"祁菲"},null,{"$error":"#N/A"},{"$nulls":4},130,0,{"$f":"SUM($AL$3:AL132)","v":107},105,{"$f":"VLOOKUP(AN132,$BA:$BC,3,0)","v":{"$error":"#N/A"}},{"$f":"SUM($AO$3:AO132)","v":{"$error":"#N/A"}},{"$f":"VLOOKUP(AN132,$BA:$BE,5,0)","v":{"$error":"#N/A"}},{"$f":"SUM($AQ$3:AQ132)","v":{"$error":"#N/A"}},{"$f":"VLOOKUP(AN132,$BA:$BI,9,0)","v":{"$error":"#N/A"}},{"$f":"SUM($AS$3:AS132)","v":{"$error":"#N/A"}},{"$f":"VLOOKUP(AN132,$BA:$BM,13)","v":200},{"$f":"SUM($AU$3:AU132)","v":18690}]
[{"$nulls":18},177,{"$f":"VLOOKUP(V133,#REF!,3,TRUE)","v":{"$error":"#REF!"}},131,177,0.9,0.1,176.5,1,10014,"颜无诡",null,{"$error":"#N/A"},{"$error":"#N/A"},{"$error":"#N/A"},{"$nulls":4},131,1,{"$f":"SUM($AL$3:AL133)","v":108},105,{"$error":"#N/A"},{"$f":"SUM($AO$3:AO133)","v":{"$error":"#N/A"}},{"$error":"#N/A"},{"$f":"SUM($AQ$3:AQ133)","v":{"$error":"#N/A"}},{"$error":"#N/A"},{"$f":"SUM($AS$3:AS133)","v":{"$error":"#N/A"}},200,{"$f":"SUM($AU$3:AU133)","v":18890}]
[{"$nulls":18},179,{"$f":"VLOOKUP(V134,#REF!,3,TRUE)","v":{"$error":"#REF!"}},132,179,0.9,0.1,178.5,2,10020,"司空染",10016,"枫元正",null,{"$error":"#N/A"},{"$nulls":4},132,0,{"$f":"SUM($AL$3:AL134)","v":108},105,{"$error":"#N/A"},{"$f":"SUM($AO$3:AO134)","v":{"$error":"#N/A"}},{"$error":"#N/A"},{"$f":"SUM($AQ$3:AQ134)","v":{"$error":"#N/A"}},{"$error":"#N/A"},{"$f":"SUM($AS$3:AS134)","v":{"$error":"#N/A"}},200,{"$f":"SUM($AU$3:AU134)","v":19090}]
[{"$nulls":14},10001,"夏侯鸿天",10001,"嘲讽+双抗+眩晕",181,{"$f":"VLOOKUP(V135,#REF!,3,TRUE)","v":{"$error":"#REF!"}},133,181,0.9,0.1,180.5,3,10015,"凝儿",10010,"颜祈佳",10010,{"$f":"VLOOKUP(AE135,$AG:$AH,2,FALSE)","v":"颜祈佳"},{"$nulls":4},133,1,{"$f":"SUM($AL$3:AL135)","v":109},105,{"$error":"#N/A"},{"$f":"SUM($AO$3:AO135)","v":{"$error":"#N/A"}},{"$error":"#N/A"},{"$f":"SUM($AQ$3:AQ135)","v":{"$error":"#N/A"}},{"$error":"#N/A"},{"$f":"SUM($AS$3:AS135)","v":{"$error":"#N/A"}},200,{"$f":"SUM($AU$3:AU135)","v":19290}]
[{"$nulls":14},10002,"石御霏",10002,"嘲讽+攻击+伤害吸收盾",183,{"$f":"VLOOKUP(V136,#REF!,3,TRUE)","v":{"$error":"#REF!"}},134,183,0.9,0.1,182.5,2,10006,"朱贺",10017,"解幽",{"$error":"#N/A"},{"$error":"#N/A"},{"$nulls":4},134,0,{"$f":"SUM($AL$3:AL136)","v":109},105,{"$error":"#N/A"},{"$f":"SUM($AO$3:AO136)","v":{"$error":"#N/A"}},{"$error":"#N/A"},{"$f":"SUM($AQ$3:AQ136)","v":{"$error":"#N/A"}},{"$error":"#N/A"},{"$f":"SUM($AS$3:AS136)","v":{"$error":"#N/A"}},200,{"$f":"SUM($AU$3:AU136)","v":19490}]
[{"$nulls":14},10003,"叶辽",10003,"伤害转化生命+嘲讽+削弱魔抗",185,{"$f":"VLOOKUP(V137,#REF!,3,TRUE)","v":{"$error":"#REF!"}},135,185,1,0,184.5,3,10004,"孔谦",10011,"尹正霄",10012,"慕容子期",{"$nulls":4},135,1,{"$f":"SUM($AL$3:AL137)","v":110},110,{"$error":"#N/A"},{"$f":"SUM($AO$3:AO137)","v":{"$error":"#N/A"}},{"$error":"#N/A"},{"$f":"SUM($AQ$3:AQ137)","v":{"$error":"#N/A"}},{"$error":"#N/A"},{"$f":"SUM($AS$3:AS137)","v":{"$error":"#N/A"}},200,{"$f":"SUM($AU$3:AU137)","v":19690}]
[{"$nulls":14},10004,"孔谦",10004,"单体治疗+全体治疗",187,{"$f":"VLOOKUP(V138,#REF!,3,TRUE)","v":{"$error":"#REF!"}},136,187,0.9,0.1,186.5,1,10013,{"$f":"VLOOKUP(AA138,$AG:$AH,2,FALSE)","v":"白梦凡"},null,{"$error":"#N/A"},{"$error":"#N/A"},{"$error":"#N/A"},{"$nulls":4},136,0,{"$f":"SUM($AL$3:AL138)","v":110},110,{"$error":"#N/A"},{"$f":"SUM($AO$3:AO138)","v":{"$error":"#N/A"}},{"$error":"#N/A"},{"$f":"SUM($AQ$3:AQ138)","v":{"$error":"#N/A"}},{"$error":"#N/A"},{"$f":"SUM($AS$3:AS138)","v":{"$error":"#N/A"}},200,{"$f":"SUM($AU$3:AU138)","v":19890}]
[{"$nulls":14},10005,"兰卿",10005,"自身治疗+提攻+全体治疗",189,{"$f":"VLOOKUP(V139,#REF!,3,TRUE)","v":{"$error":"#REF!"}},137,189,0.9,0.1,188.5,2,10019,{"$f":"VLOOKUP(AA139,$AG:$AH,2,FALSE)","v":"云"},10023,"荧荧",{"$error":"#N/A"},{"$error":"#N/A"},{"$nulls":4},137,1,{"$f":"SUM($AL$3:AL139)","v":111},110,{"$error":"#N/A"},{"$f":"SUM($AO$3:AO139)","v":{"$error":"#N/A"}},{"$error":"#N/A"},{"$f":"SUM($AQ$3:AQ139)","v":{"$error":"#N/A"}},{"$error":"#N/A"},{"$f":"SUM($AS$3:AS139)","v":{"$error":"#N/A"}},200,{"$f":"SUM($AU$3:AU139)","v":20090}]
[{"$nulls":14},10006,"朱贺",10006,"提全体攻+降全体攻",191,{"$f":"VLOOKUP(V140,#REF!,3,TRUE)","v":{"$error":"#REF!"}},138,191,0.9,0.1,190.5,1,10023,{"$f":"VLOOKUP(AA140,$AG:$AH,2,FALSE)","v":"荧荧"},{"$error":"#N/A"},{"$error":"#N/A"},{"$error":"#N/A"},{"$error":"#N/A"},{"$nulls":4},138,0,{"$f":"SUM($AL$3:AL140)","v":111},110,{"$error":"#N/A"},{"$f":"SUM($AO$3:AO140)","v":{"$error":"#N/A"}},{"$error":"#N/A"},{"$f":"SUM($AQ$3:AQ140)","v":{"$error":"#N/A"}},{"$error":"#N/A"},{"$f":"SUM($AS$3:AS140)","v":{"$error":"#N/A"}},200,{"$f":"SUM($AU$3:AU140)","v":20290}]
[{"$nulls":14},10007,"应茹",10007,"降单体防御+清CD",193,{"$f":"VLOOKUP(V141,#REF!,3,TRUE)","v":{"$error":"#REF!"}},139,193,0.9,0.1,192.5,2,10014,{"$f":"VLOOKUP(AA141,$AG:$AH,2,FALSE)","v":"颜无诡"},10008,"颜无雍",{"$error":"#N/A"},{"$error":"#N/A"},{"$nulls":4},139,1,{"$f":"SUM($AL$3:AL141)","v":112},110,{"$error":"#N/A"},{"$f":"SUM($AO$3:AO141)","v":{"$error":"#N/A"}},{"$error":"#N/A"},{"$f":"SUM($AQ$3:AQ141)","v":{"$error":"#N/A"}},{"$error":"#N/A"},{"$f":"SUM($AS$3:AS141)","v":{"$error":"#N/A"}},200,{"$f":"SUM($AU$3:AU141)","v":20490}]
[{"$nulls":14},10008,"颜无雍",10008,"生花伤害+眩晕",195,{"$f":"VLOOKUP(V142,#REF!,3,TRUE)","v":{"$error":"#REF!"}},140,195,1,0,194.5,3,10001,{"$f":"VLOOKUP(AA142,$AG:$AH,2,FALSE)","v":"夏侯鸿天"},10016,{"$f":"VLOOKUP(AC142,$AG:$AH,2,FALSE)","v":"枫元正"},10006,"朱贺",{"$nulls":4},140,0,{"$f":"SUM($AL$3:AL142)","v":112},110,{"$error":"#N/A"},{"$f":"SUM($AO$3:AO142)","v":{"$error":"#N/A"}},{"$error":"#N/A"},{"$f":"SUM($AQ$3:AQ142)","v":{"$error":"#N/A"}},{"$error":"#N/A"},{"$f":"SUM($AS$3:AS142)","v":{"$error":"#N/A"}},200,{"$f":"SUM($AU$3:AU142)","v":20690}]
[{"$nulls":14},10009,"祁菲",10009,"燃烧+燃烧加伤+减伤盾",197,{"$f":"VLOOKUP(V143,#REF!,3,TRUE)","v":{"$error":"#REF!"}},141,197,0.9,0.1,196.5,2,10006,{"$f":"VLOOKUP(AA143,$AG:$AH,2,FALSE)","v":"朱贺"},10008,"颜无雍",null,{"$error":"#N/A"},{"$nulls":4},141,1,{"$f":"SUM($AL$3:AL143)","v":113},110,{"$error":"#N/A"},{"$f":"SUM($AO$3:AO143)","v":{"$error":"#N/A"}},{"$error":"#N/A"},{"$f":"SUM($AQ$3:AQ143)","v":{"$error":"#N/A"}},{"$error":"#N/A"},{"$f":"SUM($AS$3:AS143)","v":{"$error":"#N/A"}},200,{"$f":"SUM($AU$3:AU143)","v":20890}]
[{"$nulls":14},10010,"颜祈佳",10010,"武卫伤害+加CD",199,{"$f":"VLOOKUP(V144,#REF!,3,TRUE)","v":{"$error":"#REF!"}},142,199,0.9,0.1,198.5,3,10020,{"$f":"VLOOKUP(AA144,$AG:$AH,2,FALSE)","v":"司空染"},10018,"紫苏",10018,"紫苏",{"$nulls":4},142,0,{"$f":"SUM($AL$3:AL144)","v":113},110,{"$error":"#N/A"},{"$f":"SUM($AO$3:AO144)","v":{"$error":"#N/A"}},{"$error":"#N/A"},{"$f":"SUM($AQ$3:AQ144)","v":{"$error":"#N/A"}},{"$error":"#N/A"},{"$f":"SUM($AS$3:AS144)","v":{"$error":"#N/A"}},200,{"$f":"SUM($AU$3:AU144)","v":21090}]
[{"$nulls":14},10011,"尹正霄",10011,"中毒+中毒晕眩",201,{"$f":"VLOOKUP(V145,#REF!,3,TRUE)","v":{"$error":"#REF!"}},143,201,0.9,0.1,200.5,1,10008,{"$f":"VLOOKUP(AA145,$AG:$AH,2,FALSE)","v":"颜无雍"},null,{"$error":"#N/A"},null,{"$error":"#N/A"},{"$nulls":4},143,1,{"$f":"SUM($AL$3:AL145)","v":114},110,{"$error":"#N/A"},{"$f":"SUM($AO$3:AO145)","v":{"$error":"#N/A"}},{"$error":"#N/A"},{"$f":"SUM($AQ$3:AQ145)","v":{"$error":"#N/A"}},{"$error":"#N/A"},{"$f":"SUM($AS$3:AS145)","v":{"$error":"#N/A"}},200,{"$f":"SUM($AU$3:AU145)","v":21290}]
[{"$nulls":14},10012,"慕容子期",10012,"中毒+禁疗",203,{"$f":"VLOOKUP(V146,#REF!,3,TRUE)","v":{"$error":"#REF!"}},144,203,0.9,0.1,202.5,2,10012,{"$f":"VLOOKUP(AA146,$AG:$AH,2,FALSE)","v":"慕容子期"},10020,"司空染",{"$error":"#N/A"},{"$error":"#N/A"},{"$nulls":4},144,0,{"$f":"SUM($AL$3:AL146)","v":114},110,{"$error":"#N/A"},{"$f":"SUM($AO$3:AO146)","v":{"$error":"#N/A"}},{"$error":"#N/A"},{"$f":"SUM($AQ$3:AQ146)","v":{"$error":"#N/A"}},{"$error":"#N/A"},{"$f":"SUM($AS$3:AS146)","v":{"$error":"#N/A"}},200,{"$f":"SUM($AU$3:AU146)","v":21490}]
[{"$nulls":14},10013,"白梦凡",10013,"暴击+暴伤+追加伤害",205,{"$f":"VLOOKUP(V147,#REF!,3,TRUE)","v":{"$error":"#REF!"}},145,205,1,0,204.5,2,10005,"兰卿",10006,{"$f":"VLOOKUP(AC147,$AG:$AH,2,FALSE)","v":"朱贺"},null,{"$error":"#N/A"},{"$nulls":4},145,1,{"$f":"SUM($AL$3:AL147)","v":115},115,{"$error":"#N/A"},{"$f":"SUM($AO$3:AO147)","v":{"$error":"#N/A"}},{"$error":"#N/A"},{"$f":"SUM($AQ$3:AQ147)","v":{"$error":"#N/A"}},{"$error":"#N/A"},{"$f":"SUM($AS$3:AS147)","v":{"$error":"#N/A"}},200,{"$f":"SUM($AU$3:AU147)","v":21690}]
[{"$nulls":14},10014,"颜无诡",10014,"击杀清CD+提攻+提效果命中",207,{"$f":"VLOOKUP(V148,#REF!,3,TRUE)","v":{"$error":"#REF!"}},146,207,0.9,0.1,206.5,3,10011,{"$f":"VLOOKUP(AA148,$AG:$AH,2,FALSE)","v":"尹正霄"},10017,"解幽",10009,"祁菲",{"$nulls":4},146,0,{"$f":"SUM($AL$3:AL148)","v":115},115,{"$error":"#N/A"},{"$f":"SUM($AO$3:AO148)","v":{"$error":"#N/A"}},{"$error":"#N/A"},{"$f":"SUM($AQ$3:AQ148)","v":{"$error":"#N/A"}},{"$error":"#N/A"},{"$f":"SUM($AS$3:AS148)","v":{"$error":"#N/A"}},200,{"$f":"SUM($AU$3:AU148)","v":21890}]
[{"$nulls":14},10015,"凝儿",10015,"伤害转化生命+偷攻击+暴击",209,{"$f":"VLOOKUP(V149,#REF!,3,TRUE)","v":{"$error":"#REF!"}},147,209,0.9,0.1,208.5,1,10003,{"$f":"VLOOKUP(AA149,$AG:$AH,2,FALSE)","v":"叶辽"},{"$error":"#N/A"},{"$error":"#N/A"},{"$error":"#N/A"},{"$error":"#N/A"},{"$nulls":4},147,1,{"$f":"SUM($AL$3:AL149)","v":116},115,{"$error":"#N/A"},{"$f":"SUM($AO$3:AO149)","v":{"$error":"#N/A"}},{"$error":"#N/A"},{"$f":"SUM($AQ$3:AQ149)","v":{"$error":"#N/A"}},{"$error":"#N/A"},{"$f":"SUM($AS$3:AS149)","v":{"$error":"#N/A"}},200,{"$f":"SUM($AU$3:AU149)","v":22090}]
[{"$nulls":14},10016,"枫元正",10016,"控制状态额外攻击+持续状态额外伤害+提攻",211,{"$f":"VLOOKUP(V150,#REF!,3,TRUE)","v":{"$error":"#REF!"}},148,211,0.9,0.1,210.5,3,10014,{"$f":"VLOOKUP(AA150,$AG:$AH,2,FALSE)","v":"颜无诡"},10006,"朱贺",10022,"云灵",{"$nulls":4},148,0,{"$f":"SUM($AL$3:AL150)","v":116},115,{"$error":"#N/A"},{"$f":"SUM($AO$3:AO150)","v":{"$error":"#N/A"}},{"$error":"#N/A"},{"$f":"SUM($AQ$3:AQ150)","v":{"$error":"#N/A"}},{"$error":"#N/A"},{"$f":"SUM($AS$3:AS150)","v":{"$error":"#N/A"}},200,{"$f":"SUM($AU$3:AU150)","v":22290}]
[{"$nulls":14},10017,"解幽",10017,"降护甲+沉默+沉默额外伤害",213,{"$f":"VLOOKUP(V151,#REF!,3,TRUE)","v":{"$error":"#REF!"}},149,213,0.9,0.1,212.5,2,10019,{"$f":"VLOOKUP(AA151,$AG:$AH,2,FALSE)","v":"云"},10004,"孔谦",{"$error":"#N/A"},{"$error":"#N/A"},{"$nulls":4},149,1,{"$f":"SUM($AL$3:AL151)","v":117},115,{"$error":"#N/A"},{"$f":"SUM($AO$3:AO151)","v":{"$error":"#N/A"}},{"$error":"#N/A"},{"$f":"SUM($AQ$3:AQ151)","v":{"$error":"#N/A"}},{"$error":"#N/A"},{"$f":"SUM($AS$3:AS151)","v":{"$error":"#N/A"}},200,{"$f":"SUM($AU$3:AU151)","v":22490}]
[{"$nulls":14},10018,"紫苏",10018,"偷攻击+流血",215,{"$f":"VLOOKUP(V152,#REF!,3,TRUE)","v":{"$error":"#REF!"}},150,215,1,0,214.5,3,10002,"石御霏",10018,{"$f":"VLOOKUP(AC152,$AG:$AH,2,FALSE)","v":"紫苏"},10018,"紫苏",{"$nulls":4},150,0,{"$f":"SUM($AL$3:AL152)","v":117},115,{"$error":"#N/A"},{"$f":"SUM($AO$3:AO152)","v":{"$error":"#N/A"}},{"$error":"#N/A"},{"$f":"SUM($AQ$3:AQ152)","v":{"$error":"#N/A"}},{"$error":"#N/A"},{"$f":"SUM($AS$3:AS152)","v":{"$error":"#N/A"}},200,{"$f":"SUM($AU$3:AU152)","v":22690}]
[{"$nulls":14},10019,"云",10019,"提攻+暴伤+减全体CD",217,{"$f":"VLOOKUP(V153,#REF!,3,TRUE)","v":{"$error":"#REF!"}},151,217,0.9,0.1,216.5,2,10010,{"$f":"VLOOKUP(AA153,$AG:$AH,2,FALSE)","v":"颜祈佳"},10009,"祁菲",{"$error":"#N/A"},{"$error":"#N/A"}]
[{"$nulls":14},10020,"司空染",10020,"2名治疗+减伤盾",219,{"$f":"VLOOKUP(V154,#REF!,3,TRUE)","v":{"$error":"#REF!"}},152,219,0.9,0.1,218.5,3,10023,{"$f":"VLOOKUP(AA154,$AG:$AH,2,FALSE)","v":"荧荧"},10011,"尹正霄",10005,"兰卿"]
[{"$nulls":14},10021,"清然",10021,"减速+致盲",221,{"$f":"VLOOKUP(V155,#REF!,3,TRUE)","v":{"$error":"#REF!"}},153,221,0.9,0.1,220.5,1,10002,{"$f":"VLOOKUP(AA155,$AG:$AH,2,FALSE)","v":"石御霏"},{"$error":"#N/A"},{"$error":"#N/A"},{"$error":"#N/A"},{"$error":"#N/A"}]
[{"$nulls":14},10022,"云灵",10022,"暴击+暴伤+击杀额外伤",223,{"$f":"VLOOKUP(V156,#REF!,3,TRUE)","v":{"$error":"#REF!"}},154,223,0.9,0.1,222.5,2,10008,{"$f":"VLOOKUP(AA156,$AG:$AH,2,FALSE)","v":"颜无雍"},10015,{"$f":"VLOOKUP(AC156,$AG:$AH,2,FALSE)","v":"凝儿"},{"$error":"#N/A"},{"$error":"#N/A"}]
[{"$nulls":14},10023,"荧荧",10023,"秘法暴击+暴伤",225,{"$f":"VLOOKUP(V157,#REF!,3,TRUE)","v":{"$error":"#REF!"}},155,225,1,0,224.5,3,10004,"孔谦",10012,"慕容子期",10012,"慕容子期"]
[{"$nulls":18},227,{"$f":"VLOOKUP(V158,#REF!,3,TRUE)","v":{"$error":"#REF!"}},156,227,0.9,0.1,226.5,{"$f":"Z103","v":1},10001,"夏侯鸿天",{"$f":"AC103","v":0},{"$error":"#N/A"},{"$f":"AE103","v":0},{"$error":"#N/A"}]
[{"$nulls":18},229,{"$f":"VLOOKUP(V159,#REF!,3,TRUE)","v":{"$error":"#REF!"}},157,229,0.9,0.1,228.5,{"$f":"Z104","v":2},{"$f":"AA104","v":10002},"石御霏",10008,"颜无雍",0,{"$error":"#N/A"}]
[{"$nulls":18},231,{"$f":"VLOOKUP(V160,#REF!,3,TRUE)","v":{"$error":"#REF!"}},158,231,0.9,0.1,230.5,{"$f":"Z105","v":3},10003,"叶辽",10015,"凝儿",10015,"凝儿"]
[{"$nulls":18},233,{"$f":"VLOOKUP(V161,#REF!,3,TRUE)","v":{"$error":"#REF!"}},159,233,0.9,0.1,232.5,{"$f":"Z106","v":2},10019,"云",10021,"清然",0,{"$error":"#N/A"}]
[{"$nulls":18},235,{"$f":"VLOOKUP(V162,#REF!,3,TRUE)","v":{"$error":"#REF!"}},160,235,1,0,234.5,3,10005,"兰卿",10006,"朱贺",10006,"朱贺"]
[{"$nulls":18},237,{"$f":"VLOOKUP(V163,#REF!,3,TRUE)","v":{"$error":"#REF!"}},161,237,0.9,0.1,236.5,1,10018,"紫苏",0,{"$error":"#N/A"},0,{"$error":"#N/A"}]
[{"$nulls":18},239,{"$f":"VLOOKUP(V164,#REF!,3,TRUE)","v":{"$error":"#REF!"}},162,239,0.9,0.1,238.5,2,{"$f":"AA109","v":10022},"云灵",10023,"荧荧",{"$error":"#N/A"},{"$error":"#N/A"}]
[{"$nulls":18},241,{"$f":"VLOOKUP(V165,#REF!,3,TRUE)","v":{"$error":"#REF!"}},163,241,0.9,0.1,240.5,3,10011,"尹正霄",10017,"解幽",10009,"祁菲"]
[{"$nulls":18},243,{"$f":"VLOOKUP(V166,#REF!,3,TRUE)","v":{"$error":"#REF!"}},164,243,0.9,0.1,242.5,2,10002,"石御霏",10005,"兰卿",{"$error":"#N/A"},{"$error":"#N/A"}]
[{"$nulls":18},245,{"$f":"VLOOKUP(V167,#REF!,3,TRUE)","v":{"$error":"#REF!"}},165,245,1,0,244.5,3,10003,"叶辽",10009,{"$f":"VLOOKUP(AC167,$AG:$AH,2,FALSE)","v":"祁菲"},10009,{"$f":"VLOOKUP(AE167,$AG:$AH,2,FALSE)","v":"祁菲"}]
[{"$nulls":18},247,{"$f":"VLOOKUP(V168,#REF!,3,TRUE)","v":{"$error":"#REF!"}},166,247,0.9,0.1,246.5,1,10006,"朱贺",{"$f":"AC113","v":0},{"$error":"#N/A"},{"$f":"AE113","v":0},{"$error":"#N/A"}]
[{"$nulls":18},249,{"$f":"VLOOKUP(V169,#REF!,3,TRUE)","v":{"$error":"#REF!"}},167,249,0.9,0.1,248.5,2,10020,"司空染",10018,"紫苏",0,{"$error":"#N/A"}]
[{"$nulls":18},251,{"$f":"VLOOKUP(V170,#REF!,3,TRUE)","v":{"$error":"#REF!"}},168,251,0.9,0.1,250.5,3,10008,"颜无雍",10018,"紫苏",10006,"朱贺"]
[{"$nulls":18},253,{"$f":"VLOOKUP(V171,#REF!,3,TRUE)","v":{"$error":"#REF!"}},169,253,0.9,0.1,252.5,2,10012,"慕容子期",10020,"司空染",{"$error":"#N/A"},{"$error":"#N/A"}]
[{"$nulls":18},255,{"$f":"VLOOKUP(V172,#REF!,3,TRUE)","v":{"$error":"#REF!"}},170,255,1,0,254.5,3,10004,{"$f":"VLOOKUP(AA172,$AG:$AH,2,FALSE)","v":"孔谦"},10008,"颜无雍",10016,"枫元正"]
[{"$nulls":18},257,{"$f":"VLOOKUP(V173,#REF!,3,TRUE)","v":{"$error":"#REF!"}},171,257,0.9,0.1,256.5,{"$f":"Z118","v":1},{"$f":"AA118","v":10005},"兰卿",{"$f":"AC118","v":0},{"$error":"#N/A"},{"$f":"AE118","v":0},{"$error":"#N/A"}]
[{"$nulls":18},259,{"$f":"VLOOKUP(V174,#REF!,3,TRUE)","v":{"$error":"#REF!"}},172,259,0.9,0.1,258.5,2,10019,"云",10013,"白梦凡",{"$error":"#N/A"},{"$error":"#N/A"}]
[{"$nulls":18},261,{"$f":"VLOOKUP(V175,#REF!,3,TRUE)","v":{"$error":"#REF!"}},173,261,0.9,0.1,260.5,3,10010,"颜祈佳",10015,"凝儿",10015,"凝儿"]
[{"$nulls":18},263,{"$f":"VLOOKUP(V176,#REF!,3,TRUE)","v":{"$error":"#REF!"}},174,263,0.9,0.1,262.5,2,10007,"应茹",10001,"夏侯鸿天",0,{"$error":"#N/A"}]
[{"$nulls":18},265,{"$f":"VLOOKUP(V177,#REF!,3,TRUE)","v":{"$error":"#REF!"}},175,265,1,0,264.5,3,10006,"朱贺",10009,"祁菲",10009,"祁菲"]
[{"$nulls":18},267,{"$f":"VLOOKUP(V178,#REF!,3,TRUE)","v":{"$error":"#REF!"}},176,267,0.9,0.1,266.5,{"$f":"Z123","v":1},{"$f":"AA123","v":10023},"荧荧",{"$f":"AC123","v":0},{"$error":"#N/A"},{"$f":"AE123","v":0},{"$error":"#N/A"}]
[{"$nulls":18},269,{"$f":"VLOOKUP(V179,#REF!,3,TRUE)","v":{"$error":"#REF!"}},177,269,0.9,0.1,268.5,2,10018,"紫苏",10001,"夏侯鸿天",{"$error":"#N/A"},{"$error":"#N/A"}]
[{"$nulls":18},271,{"$f":"VLOOKUP(V180,#REF!,3,TRUE)","v":{"$error":"#REF!"}},178,271,0.9,0.1,270.5,3,10002,"石御霏",10005,"兰卿",10018,"紫苏"]
[{"$nulls":18},273,{"$f":"VLOOKUP(V181,#REF!,3,TRUE)","v":{"$error":"#REF!"}},179,273,0.9,0.1,272.5,2,10017,"解幽",10009,"祁菲",0,{"$error":"#N/A"}]
[{"$nulls":18},275,{"$f":"VLOOKUP(V182,#REF!,3,TRUE)","v":{"$error":"#REF!"}},180,275,1,0,274.5,3,10002,"石御霏",10018,"紫苏",10018,"紫苏"]
[{"$nulls":18},277,{"$f":"VLOOKUP(V183,#REF!,3,TRUE)","v":{"$error":"#REF!"}},181,277,0.9,0.1,276.5,{"$f":"Z128","v":1},{"$f":"AA128","v":10022},"云灵",{"$f":"AC128","v":0},{"$error":"#N/A"},{"$f":"AE128","v":0},{"$error":"#N/A"}]
[{"$nulls":18},279,{"$f":"VLOOKUP(V184,#REF!,3,TRUE)","v":{"$error":"#REF!"}},182,279,0.9,0.1,278.5,2,10009,"祁菲",10010,"颜祈佳",{"$error":"#N/A"},{"$error":"#N/A"}]
[{"$nulls":18},281,{"$f":"VLOOKUP(V185,#REF!,3,TRUE)","v":{"$error":"#REF!"}},183,281,0.9,0.1,280.5,3,10018,"紫苏",10019,"云",10006,"朱贺"]
[{"$nulls":18},283,{"$f":"VLOOKUP(V186,#REF!,3,TRUE)","v":{"$error":"#REF!"}},184,283,0.9,0.1,282.5,2,10022,"云灵",10014,"颜无诡",{"$error":"#N/A"},{"$error":"#N/A"}]
[{"$nulls":18},285,{"$f":"VLOOKUP(V187,#REF!,3,TRUE)","v":{"$error":"#REF!"}},185,285,1,0,284.5,3,10004,"孔谦",10012,"慕容子期",10012,"慕容子期"]
[{"$nulls":18},287,{"$f":"VLOOKUP(V188,#REF!,3,TRUE)","v":{"$error":"#REF!"}},186,287,0.9,0.1,286.5,{"$f":"Z133","v":1},{"$f":"AA133","v":10014},"颜无诡",{"$f":"AC133","v":0},{"$error":"#N/A"},{"$f":"AE133","v":{"$error":"#N/A"}},{"$error":"#N/A"}]
[{"$nulls":18},289,{"$f":"VLOOKUP(V189,#REF!,3,TRUE)","v":{"$error":"#REF!"}},187,289,0.9,0.1,288.5,2,10020,"司空染",10016,"枫元正",0,{"$error":"#N/A"}]
[{"$nulls":18},291,{"$f":"VLOOKUP(V190,#REF!,3,TRUE)","v":{"$error":"#REF!"}},188,291,0.9,0.1,290.5,3,10015,"凝儿",10010,"颜祈佳",10010,"颜祈佳"]
[{"$nulls":18},293,{"$f":"VLOOKUP(V191,#REF!,3,TRUE)","v":{"$error":"#REF!"}},189,293,0.9,0.1,292.5,2,10006,"朱贺",10017,"解幽",{"$error":"#N/A"},{"$error":"#N/A"}]
[{"$nulls":18},295,{"$f":"VLOOKUP(V192,#REF!,3,TRUE)","v":{"$error":"#REF!"}},190,295,1,0,294.5,3,10005,"兰卿",10006,"朱贺",10006,"朱贺"]
[{"$nulls":18},297,{"$f":"VLOOKUP(V193,#REF!,3,TRUE)","v":{"$error":"#REF!"}},191,297,0.9,0.1,296.5,{"$f":"Z138","v":1},{"$f":"AA138","v":10013},"白梦凡",{"$f":"AC138","v":0},{"$error":"#N/A"},{"$f":"AE138","v":{"$error":"#N/A"}},{"$error":"#N/A"}]
[{"$nulls":18},299,{"$f":"VLOOKUP(V194,#REF!,3,TRUE)","v":{"$error":"#REF!"}},192,299,0.9,0.1,298.5,2,10019,"云",10023,"荧荧",{"$error":"#N/A"},{"$error":"#N/A"}]
[{"$nulls":18},301,{"$f":"VLOOKUP(V195,#REF!,3,TRUE)","v":{"$error":"#REF!"}},193,301,0.9,0.1,300.5,1,10023,"荧荧",{"$error":"#N/A"},{"$error":"#N/A"},{"$error":"#N/A"},{"$error":"#N/A"}]
[{"$nulls":18},303,{"$f":"VLOOKUP(V196,#REF!,3,TRUE)","v":{"$error":"#REF!"}},194,303,0.9,0.1,302.5,2,10014,"颜无诡",10008,"颜无雍",{"$error":"#N/A"},{"$error":"#N/A"}]
[{"$nulls":18},305,{"$f":"VLOOKUP(V197,#REF!,3,TRUE)","v":{"$error":"#REF!"}},195,305,1,0,304.5,3,10004,"孔谦",10006,"朱贺",10012,"慕容子期"]
[{"$nulls":18},307,{"$f":"VLOOKUP(V198,#REF!,3,TRUE)","v":{"$error":"#REF!"}},196,307,0.9,0.1,306.5,{"$f":"Z143","v":2},{"$f":"AA143","v":10006},"朱贺",{"$f":"AC143","v":10008},"颜无雍",{"$f":"AE143","v":0},{"$error":"#N/A"}]
[{"$nulls":18},309,{"$f":"VLOOKUP(V199,#REF!,3,TRUE)","v":{"$error":"#REF!"}},197,309,0.9,0.1,308.5,3,10020,"司空染",10018,{"$f":"VLOOKUP(AC199,$AG:$AH,2,FALSE)","v":"紫苏"},10018,{"$f":"VLOOKUP(AE199,$AG:$AH,2,FALSE)","v":"紫苏"}]
[{"$nulls":18},311,{"$f":"VLOOKUP(V200,#REF!,3,TRUE)","v":{"$error":"#REF!"}},198,311,0.9,0.1,310.5,1,10008,"颜无雍",0,{"$f":"VLOOKUP(AC200,$AG:$AH,2,FALSE)","v":{"$error":"#N/A"}},0,{"$f":"VLOOKUP(AE200,$AG:$AH,2,FALSE)","v":{"$error":"#N/A"}}]
[{"$nulls":18},313,{"$f":"VLOOKUP(V201,#REF!,3,TRUE)","v":{"$error":"#REF!"}},199,313,0.9,0.1,312.5,2,10012,"慕容子期",10020,{"$f":"VLOOKUP(AC201,$AG:$AH,2,FALSE)","v":"司空染"},{"$error":"#N/A"},{"$f":"VLOOKUP(AE201,$AG:$AH,2,FALSE)","v":{"$error":"#N/A"}}]
[{"$nulls":18},315,{"$f":"VLOOKUP(V202,#REF!,3,TRUE)","v":{"$error":"#REF!"}},200,315,1,0,314.5,1,10002,"石御霏",10008,{"$f":"VLOOKUP(AC202,$AG:$AH,2,FALSE)","v":"颜无雍"},10016,{"$f":"VLOOKUP(AE202,$AG:$AH,2,FALSE)","v":"枫元正"}]

{"sheet":"mappoint辅助表","index":2,"n_rows":207,"n_cols":29,"rows_kept":207}
[{"$nulls":4},"RandomMonsterType",null,null,"MonsterCount","RandomBossType",null,"RandomMapPointId"]
[{"$nulls":4},"mut,int#int,2",null,null,"mut,int#int,1","mut,int#int,2",null,"mut,int#int,3"]
[{"$nulls":4},2,null,null,4,4,null,4]
[1,2,3,4,"类型#怪物MapPointid\n1普通\n2精英",null,null,"怪物数量","类型#权重\n1boss\n2福利怪\n3补给点\n4商店",null,"对应MapPointid",10000,null,null,0.2,null,null,0.1]
[{"$nulls":4},"null",null,null,"1#1","null",null,"null",{"$nulls":3},0.07,null,null,0.03]
[{"$nulls":14},0.07,0.07,{"$f":"ROUND(P6/4*10000,0)","v":175},0.04,{"$f":"R6/4*10000","v":100}]
[{"$nulls":14},0.06,null,null,0.03,"其他事件","战斗概率",{"$nulls":3},"怪物组MapPoint","扫荡奖励"]
[{"$nulls":4},{"$f":"$A$4&\"#\"&F8&\"|\"&$B$4&\"#\"&G8","v":"1#2001001|2#2001002"},2001001,2001002,"5#3","1#8000|2#700|3#700|4#600",null,{"$f":"IF(S8=0,L8&\"#\"&$L$4&\",\"&M8&\"#\"&$L$4&\",\"&N8&\"#\"&$L$4&\",\"&R8,L8&\"#\"&T8*100&\",\"&M8&\"#\"&$L$4&\",\"&N8&\"#\"&$L$4&\",\"&R8)","v":"2001003#80,2001004#10000,2001005#10000,2001009"},2001003,2001004,2001005,2001006,{"$f":"O8+1","v":2001007},{"$f":"P8+1","v":2001008},{"$f":"Q8+1","v":2001009},0.2,0.8,{"$f":"IF(S8=0,L8&\"#\"&$L$4,\"\")","v":""},{"$f":"O8&\"#\"&$Q$6&\"|\"&P8&\"#\"&$Q$6&\"|\"&Q8&\"#\"&$Q$6&\"|\"&R8&\"#\"&$Q$6","v":"2001006#175|2001007#175|2001008#175|2001009#175"},{"$f":"IF(S8=0,\"\",L8&\"#\"&T8*10000&\",\"&M8&\"#\"&70&\",\"&V8&\",\"&N8&\"#\"&60)","v":"2001003#8000,2001004#70,2001006#175|2001007#175|2001008#175|2001009#175,2001005#60"},{"$f":"_xlfn.TEXTJOIN(\"\",TRUE,U8,W8)","v":"2001003#8000,2001004#70,2001006#175|2001007#175|2001008#175|2001009#175,2001005#60"},{"$f":"_xlfn.TEXTJOIN(\"#\",TRUE,Z8:AC8)","v":"60001#41#42#61000"},60001,41,42,61000]
[{"$nulls":4},{"$f":"$A$4&\"#\"&F9&\"|\"&$B$4&\"#\"&G9","v":"1#2002001|2#2002002"},{"$f":"F8+1000","v":2002001},2002002,"5#3","1#8000|2#700|3#700|4#600",null,{"$f":"L9&\"#\"&$L$4&\",\"&M9&\"#\"&$L$4&\",\"&N9&\"#\"&$L$4&\",\"&R9&\"#\"&$L$4","v":"2002003#10000,2002004#10000,2002005#10000,2001009#10000"},{"$f":"L8+1000","v":2002003},2002004,2002005,{"$f":"O8","v":2001006},{"$f":"P8","v":2001007},{"$f":"Q8","v":2001008},{"$f":"R8","v":2001009},0.2,0.8,{"$f":"IF(S9=0,L9&\"#\"&$L$4,\"\")","v":""},{"$f":"O9&\"#\"&$Q$6&\"|\"&P9&\"#\"&$Q$6&\"|\"&Q9&\"#\"&$Q$6&\"|\"&R9&\"#\"&$Q$6","v":"2001006#175|2001007#175|2001008#175|2001009#175"},{"$f":"IF(S9=0,\"\",L9&\"#\"&T9*10000&\",\"&M9&\"#\"&70&\",\"&V9&\",\"&N9&\"#\"&60)","v":"2002003#8000,2002004#70,2001006#175|2001007#175|2001008#175|2001009#175,2002005#60"},{"$f":"_xlfn.TEXTJOIN(\"\",TRUE,U9,W9)","v":"2002003#8000,2002004#70,2001006#175|2001007#175|2001008#175|2001009#175,2002005#60"},{"$f":"_xlfn.TEXTJOIN(\"#\",TRUE,Z9:AC9)","v":"60002#41#42#61000"},{"$f":"Z8+1","v":60002},{"$f":"AA8","v":41},{"$f":"AB8","v":42},{"$f":"AC8","v":61000}]
[{"$nulls":4},{"$f":"$A$4&\"#\"&F10&\"|\"&$B$4&\"#\"&G10","v":"1#2003001|2#2003002"},2003001,2003002,"5#3","1#8000|2#700|3#700|4#600",null,{"$f":"L10&\"#\"&$L$4&\",\"&M10&\"#\"&$L$4&\",\"&N10&\"#\"&$L$4&\",\"&R10&\"#\"&$L$4","v":"2003003#10000,2003004#10000,2003005#10000,2001009#10000"},2003003,2003004,2003005,{"$f":"O9","v":2001006},{"$f":"P9","v":2001007},{"$f":"Q9","v":2001008},{"$f":"R9","v":2001009},0.2,0.8,"","2001006#175|2001007#175|2001008#175|2001009#175","2003003#8000,2003004#70,2001006#175|2001007#175|2001008#175|2001009#175,2003005#60","2003003#8000,2003004#70,2001006#175|2001007#175|2001008#175|2001009#175,2003005#60",{"$f":"_xlfn.TEXTJOIN(\"#\",TRUE,Z10:AC10)","v":"60003#41#42#61000"},{"$f":"Z9+1","v":60003},{"$f":"AA9","v":41},{"$f":"AB9","v":42},{"$f":"AC9","v":61000}]
[{"$nulls":4},{"$f":"$A$4&\"#\"&F11&\"|\"&$B$4&\"#\"&G11","v":"1#2004001|2#2004002"},2004001,2004002,"5#3","1#8000|2#700|3#700|4#600",null,{"$f":"L11&\"#\"&$L$4&\",\"&M11&\"#\"&$L$4&\",\"&N11&\"#\"&$L$4&\",\"&R11&\"#\"&$L$4","v":"2004003#10000,2004004#10000,2004005#10000,2001009#10000"},2004003,2004004,2004005,2001006,2001007,2001008,2001009,0.2,0.8,"","2001006#175|2001007#175|2001008#175|2001009#175","2004003#8000,2004004#70,2001006#175|2001007#175|2001008#175|2001009#175,2004005#60","2004003#8000,2004004#70,2001006#175|2001007#175|2001008#175|2001009#175,2004005#60","60004#41#42#61000",60004,41,42,61000]
[{"$nulls":4},{"$f":"$A$4&\"#\"&F12&\"|\"&$B$4&\"#\"&G12","v":"1#2005001|2#2005002"},2005001,2005002,"5#3","1#10000",null,{"$f":"L12&\"#\"&$L$4&\",\"&M12&\"#\"&$L$4&\",\"&N12&\"#\"&$L$4&\",\"&R12&\"#\"&$L$4","v":"2005003#10000,2005004#10000,2005005#10000,2001009#10000"},2005003,2005004,2005005,2001006,2001007,2001008,2001009,0,1,"2005003#10000","2001006#175|2001007#175|2001008#175|2001009#175","","2005003#10000","60005#41#42#61000",60005,41,42,61000]
[{"$nulls":4},{"$f":"$A$4&\"#\"&F13&\"|\"&$B$4&\"#\"&G13","v":"1#2006001|2#2006002"},{"$f":"F12+1000","v":2006001},{"$f":"G12+1000","v":2006002},"5#3",{"$f":"I8","v":"1#8000|2#700|3#700|4#600"},null,{"$f":"L13&\"#\"&$L$4&\",\"&M13&\"#\"&$L$4&\",\"&N13&\"#\"&$L$4&\",\"&R13&\"#\"&$L$4","v":"2006003#10000,2006004#10000,2006005#10000,2001009#10000"},{"$f":"L12+1000","v":2006003},{"$f":"M12+1000","v":2006004},{"$f":"N12+1000","v":2006005},2001006,2001007,2001008,2001009,0.2,0.8,"","2001006#175|2001007#175|2001008#175|2001009#175","2006003#8000,2006004#70,2001006#175|2001007#175|2001008#175|2001009#175,2006005#60","2006003#8000,2006004#70,2001006#175|2001007#175|2001008#175|2001009#175,2006005#60","60006#41#42#61000",60006,41,42,61000]
[{"$nulls":4},"1#2007001|2#2007002",2007001,2007002,"5#3",{"$f":"I9","v":"1#8000|2#700|3#700|4#600"},null,"2007003#10000,2007004#10000,2007005#10000,2001009#10000",2007003,2007004,2007005,2001006,2001007,2001008,2001009,0.2,0.8,"","2001006#175|2001007#175|2001008#175|2001009#175","2007003#8000,2007004#70,2001006#175|2001007#175|2001008#175|2001009#175,2007005#60","2007003#8000,2007004#70,2001006#175|2001007#175|2001008#175|2001009#175,2007005#60","60007#41#42#61000",60007,41,42,61000]
[{"$nulls":4},"1#2008001|2#2008002",2008001,2008002,"5#3","1#8000|2#700|3#700|4#600",null,"2008003#10000,2008004#10000,2008005#10000,2001009#10000",2008003,2008004,2008005,2001006,2001007,2001008,2001009,0.2,0.8,"","2001006#175|2001007#175|2001008#175|2001009#175","2008003#8000,2008004#70,2001006#175|2001007#175|2001008#175|2001009#175,2008005#60","2008003#8000,2008004#70,2001006#175|2001007#175|2001008#175|2001009#175,2008005#60","60008#41#42#61000",60008,41,42,61000]
[{"$nulls":4},"1#2009001|2#2009002",2009001,2009002,"5#3","1#8000|2#700|3#700|4#600",null,"2009003#10000,2009004#10000,2009005#10000,2001009#10000",2009003,2009004,2009005,2001006,2001007,2001008,2001009,0.2,0.8,"","2001006#175|2001007#175|2001008#175|2001009#175","2009003#8000,2009004#70,2001006#175|2001007#175|2001008#175|2001009#175,2009005#60","2009003#8000,2009004#70,2001006#175|2001007#175|2001008#175|2001009#175,2009005#60","60009#41#42#61000",60009,41,42,61000]
[{"$nulls":4},"1#2010001|2#2010002",2010001,2010002,"5#3","1#10000",null,"2010003#10000,2010004#10000,2010005#10000,2001009#10000",2010003,2010004,2010005,2001006,2001007,2001008,2001009,0,1,"2010003#10000","2001006#175|2001007#175|2001008#175|2001009#175","","2010003#10000","60010#41#42#61000",60010,41,42,61000]
[{"$nulls":4},"1#2011001|2#2011002",2011001,2011002,"5#3","1#8000|2#700|3#700|4#600",null,"2011003#10000,2011004#10000,2011005#10000,2001009#10000",2011003,2011004,2011005,2001006,2001007,2001008,2001009,0.2,0.8,"","2001006#175|2001007#175|2001008#175|2001009#175","2011003#8000,2011004#70,2001006#175|2001007#175|2001008#175|2001009#175,2011005#60","2011003#8000,2011004#70,2001006#175|2001007#175|2001008#175|2001009#175,2011005#60","60011#41#42#61000",60011,41,42,61000]
[{"$nulls":4},"1#2012001|2#2012002",2012001,2012002,"5#3","1#8000|2#700|3#700|4#600",null,"2012003#10000,2012004#10000,2012005#10000,2001009#10000",2012003,2012004,2012005,2001006,2001007,2001008,2001009,0.2,0.8,"","2001006#175|2001007#175|2001008#175|2001009#175","2012003#8000,2012004#70,2001006#175|2001007#175|2001008#175|2001009#175,2012005#60","2012003#8000,2012004#70,2001006#175|2001007#175|2001008#175|2001009#175,2012005#60","60012#41#42#61000",60012,41,42,61000]
[{"$nulls":4},"1#2013001|2#2013002",2013001,2013002,"5#3","1#8000|2#700|3#700|4#600",null,"2013003#10000,2013004#10000,2013005#10000,2001009#10000",2013003,2013004,2013005,2001006,2001007,2001008,2001009,0.2,0.8,"","2001006#175|2001007#175|2001008#175|2001009#175","2013003#8000,2013004#70,2001006#175|2001007#175|2001008#175|2001009#175,2013005#60","2013003#8000,2013004#70,2001006#175|2001007#175|2001008#175|2001009#175,2013005#60","60013#41#42#61000",60013,41,42,61000]
[{"$nulls":4},"1#2014001|2#2014002",2014001,2014002,"5#3","1#8000|2#700|3#700|4#600",null,"2014003#10000,2014004#10000,2014005#10000,2001009#10000",2014003,2014004,2014005,2001006,2001007,2001008,2001009,0.2,0.8,"","2001006#175|2001007#175|2001008#175|2001009#175","2014003#8000,2014004#70,2001006#175|2001007#175|2001008#175|2001009#175,2014005#60","2014003#8000,2014004#70,2001006#175|2001007#175|2001008#175|2001009#175,2014005#60","60014#41#42#61000",60014,41,42,61000]
[{"$nulls":4},"1#2015001|2#2015002",2015001,2015002,"5#3","1#10000",null,"2015003#10000,2015004#10000,2015005#10000,2001009#10000",2015003,2015004,2015005,2001006,2001007,2001008,2001009,0,1,"2015003#10000","2001006#175|2001007#175|2001008#175|2001009#175","","2015003#10000","60015#41#42#61000",60015,41,42,61000]
[{"$nulls":4},"1#2016001|2#2016002",2016001,2016002,"5#3","1#8000|2#700|3#700|4#600",null,"2016003#10000,2016004#10000,2016005#10000,2001009#10000",2016003,2016004,2016005,2001006,2001007,2001008,2001009,0.2,0.8,"","2001006#175|2001007#175|2001008#175|2001009#175","2016003#8000,2016004#70,2001006#175|2001007#175|2001008#175|2001009#175,2016005#60","2016003#8000,2016004#70,2001006#175|2001007#175|2001008#175|2001009#175,2016005#60","60016#41#42#61000",60016,41,42,61000]
[{"$nulls":4},"1#2017001|2#2017002",2017001,2017002,"5#3","1#8000|2#700|3#700|4#600",null,"2017003#10000,2017004#10000,2017005#10000,2001009#10000",2017003,2017004,2017005,2001006,2001007,2001008,2001009,0.2,0.8,"","2001006#175|2001007#175|2001008#175|2001009#175","2017003#8000,2017004#70,2001006#175|2001007#175|2001008#175|2001009#175,2017005#60","2017003#8000,2017004#70,2001006#175|2001007#175|2001008#175|2001009#175,2017005#60","60017#41#42#61000",60017,41,42,61000]
[{"$nulls":4},"1#2018001|2#2018002",2018001,2018002,"5#3","1#8000|2#700|3#700|4#600",null,"2018003#10000,2018004#10000,2018005#10000,2001009#10000",2018003,2018004,2018005,2001006,2001007,2001008,2001009,0.2,0.8,"","2001006#175|2001007#175|2001008#175|2001009#175","2018003#8000,2018004#70,2001006#175|2001007#175|2001008#175|2001009#175,2018005#60","2018003#8000,2018004#70,2001006#175|2001007#175|2001008#175|2001009#175,2018005#60","60018#41#42#61000",60018,41,42,61000]
[{"$nulls":4},"1#2019001|2#2019002",2019001,2019002,"5#3","1#8000|2#700|3#700|4#600",null,"2019003#10000,2019004#10000,2019005#10000,2001009#10000",2019003,2019004,2019005,2001006,2001007,2001008,2001009,0.2,0.8,"","2001006#175|2001007#175|2001008#175|2001009#175","2019003#8000,2019004#70,2001006#175|2001007#175|2001008#175|2001009#175,2019005#60","2019003#8000,2019004#70,2001006#175|2001007#175|2001008#175|2001009#175,2019005#60","60019#41#42#61000",60019,41,42,61000]
[{"$nulls":4},"1#2020001|2#2020002",2020001,2020002,"5#3","1#10000",null,"2020003#10000,2020004#10000,2020005#10000,2001009#10000",2020003,2020004,2020005,2001006,2001007,2001008,2001009,0,1,"2020003#10000","2001006#175|2001007#175|2001008#175|2001009#175","","2020003#10000","60020#41#42#61000",60020,41,42,61000]
[{"$nulls":4},"1#2021001|2#2021002",2021001,2021002,"5#3","1#8000|2#700|3#700|4#600",null,"2021003#10000,2021004#10000,2021005#10000,2001009#10000",2021003,2021004,2021005,2001006,2001007,2001008,2001009,0.2,0.8,"","2001006#175|2001007#175|2001008#175|2001009#175","2021003#8000,2021004#70,2001006#175|2001007#175|2001008#175|2001009#175,2021005#60","2021003#8000,2021004#70,2001006#175|2001007#175|2001008#175|2001009#175,2021005#60","60021#41#42#61000",60021,41,42,61000]
[{"$nulls":4},"1#2022001|2#2022002",2022001,2022002,"5#3","1#8000|2#700|3#700|4#600",null,"2022003#10000,2022004#10000,2022005#10000,2001009#10000",2022003,2022004,2022005,2001006,2001007,2001008,2001009,0.2,0.8,"","2001006#175|2001007#175|2001008#175|2001009#175","2022003#8000,2022004#70,2001006#175|2001007#175|2001008#175|2001009#175,2022005#60","2022003#8000,2022004#70,2001006#175|2001007#175|2001008#175|2001009#175,2022005#60","60022#41#42#61000",60022,41,42,61000]
[{"$nulls":4},"1#2023001|2#2023002",2023001,2023002,"5#3","1#8000|2#700|3#700|4#600",null,"2023003#10000,2023004#10000,2023005#10000,2001009#10000",2023003,2023004,2023005,2001006,2001007,2001008,2001009,0.2,0.8,"","2001006#175|2001007#175|2001008#175|2001009#175","2023003#8000,2023004#70,2001006#175|2001007#175|2001008#175|2001009#175,2023005#60","2023003#8000,2023004#70,2001006#175|2001007#175|2001008#175|2001009#175,2023005#60","60023#41#42#61000",60023,41,42,61000]
[{"$nulls":4},"1#2024001|2#2024002",2024001,2024002,"5#3","1#8000|2#700|3#700|4#600",null,"2024003#10000,2024004#10000,2024005#10000,2001009#10000",2024003,2024004,2024005,2001006,2001007,2001008,2001009,0.2,0.8,"","2001006#175|2001007#175|2001008#175|2001009#175","2024003#8000,2024004#70,2001006#175|2001007#175|2001008#175|2001009#175,2024005#60","2024003#8000,2024004#70,2001006#175|2001007#175|2001008#175|2001009#175,2024005#60","60024#41#42#61000",60024,41,42,61000]
[{"$nulls":4},"1#2025001|2#2025002",2025001,2025002,"5#3","1#10000",null,"2025003#10000,2025004#10000,2025005#10000,2001009#10000",2025003,2025004,2025005,2001006,2001007,2001008,2001009,0,1,"2025003#10000","2001006#175|2001007#175|2001008#175|2001009#175","","2025003#10000","60025#41#42#61000",60025,41,42,61000]
[{"$nulls":4},"1#2026001|2#2026002",2026001,2026002,"5#3","1#8000|2#700|3#700|4#600",null,"2026003#10000,2026004#10000,2026005#10000,2001009#10000",2026003,2026004,2026005,2001006,2001007,2001008,2001009,0.2,0.8,"","2001006#175|2001007#175|2001008#175|2001009#175","2026003#8000,2026004#70,2001006#175|2001007#175|2001008#175|2001009#175,2026005#60","2026003#8000,2026004#70,2001006#175|2001007#175|2001008#175|2001009#175,2026005#60","60026#41#42#61000",60026,41,42,61000]
[{"$nulls":4},"1#2027001|2#2027002",2027001,2027002,"5#3","1#8000|2#700|3#700|4#600",null,"2027003#10000,2027004#10000,2027005#10000,2001009#10000",2027003,2027004,2027005,2001006,2001007,2001008,2001009,0.2,0.8,"","2001006#175|2001007#175|2001008#175|2001009#175","2027003#8000,2027004#70,2001006#175|2001007#175|2001008#175|2001009#175,2027005#60","2027003#8000,2027004#70,2001006#175|2001007#175|2001008#175|2001009#175,2027005#60","60027#41#42#61000",60027,41,42,61000]
[{"$nulls":4},"1#2028001|2#2028002",2028001,2028002,"5#3","1#8000|2#700|3#700|4#600",null,"2028003#10000,2028004#10000,2028005#10000,2001009#10000",2028003,2028004,2028005,2001006,2001007,2001008,2001009,0.2,0.8,"","2001006#175|2001007#175|2001008#175|2001009#175","2028003#8000,2028004#70,2001006#175|2001007#175|2001008#175|2001009#175,2028005#60","2028003#8000,2028004#70,2001006#175|2001007#175|2001008#175|2001009#175,2028005#60","60028#41#42#61000",60028,41,42,61000]
[{"$nulls":4},"1#2029001|2#2029002",2029001,2029002,"5#3","1#8000|2#700|3#700|4#600",null,"2029003#10000,2029004#10000,2029005#10000,2001009#10000",2029003,2029004,2029005,2001006,2001007,2001008,2001009,0.2,0.8,"","2001006#175|2001007#175|2001008#175|2001009#175","2029003#8000,2029004#70,2001006#175|2001007#175|2001008#175|2001009#175,2029005#60","2029003#8000,2029004#70,2001006#175|2001007#175|2001008#175|2001009#175,2029005#60","60029#41#42#61000",60029,41,42,61000]
[{"$nulls":4},"1#2030001|2#2030002",2030001,2030002,"5#3","1#10000",null,"2030003#10000,2030004#10000,2030005#10000,2001009#10000",2030003,2030004,2030005,2001006,2001007,2001008,2001009,0,1,"2030003#10000","2001006#175|2001007#175|2001008#175|2001009#175","","2030003#10000","60030#41#42#61000",60030,41,42,61000]
[{"$nulls":4},"1#2031001|2#2031002",2031001,2031002,"5#3","1#8000|2#700|3#700|4#600",null,"2031003#10000,2031004#10000,2031005#10000,2001009#10000",2031003,2031004,2031005,2001006,2001007,2001008,2001009,0.2,0.8,"","2001006#175|2001007#175|2001008#175|2001009#175","2031003#8000,2031004#70,2001006#175|2001007#175|2001008#175|2001009#175,2031005#60","2031003#8000,2031004#70,2001006#175|2001007#175|2001008#175|2001009#175,2031005#60","60031#41#42#61000",60031,41,42,61000]
[{"$nulls":4},"1#2032001|2#2032002",2032001,2032002,"5#3","1#8000|2#700|3#700|4#600",null,"2032003#10000,2032004#10000,2032005#10000,2001009#10000",2032003,2032004,2032005,2001006,2001007,2001008,2001009,0.2,0.8,"","2001006#175|2001007#175|2001008#175|2001009#175","2032003#8000,2032004#70,2001006#175|2001007#175|2001008#175|2001009#175,2032005#60","2032003#8000,2032004#70,2001006#175|2001007#175|2001008#175|2001009#175,2032005#60","60032#41#42#61000",60032,41,42,61000]
[{"$nulls":4},"1#2033001|2#2033002",2033001,2033002,"5#3","1#8000|2#700|3#700|4#600",null,"2033003#10000,2033004#10000,2033005#10000,2001009#10000",2033003,2033004,2033005,2001006,2001007,2001008,2001009,0.2,0.8,"","2001006#175|2001007#175|2001008#175|2001009#175","2033003#8000,2033004#70,2001006#175|2001007#175|2001008#175|2001009#175,2033005#60","2033003#8000,2033004#70,2001006#175|2001007#175|2001008#175|2001009#175,2033005#60","60033#41#42#61000",60033,41,42,61000]
[{"$nulls":4},"1#2034001|2#2034002",2034001,2034002,"5#3","1#8000|2#700|3#700|4#600",null,"2034003#10000,2034004#10000,2034005#10000,2001009#10000",2034003,2034004,2034005,2001006,2001007,2001008,2001009,0.2,0.8,{"$f":"IF(S41=0,L41&\"#\"&$L$4,\"\")","v":""},{"$f":"O41&\"#\"&$Q$6&\"|\"&P41&\"#\"&$Q$6&\"|\"&Q41&\"#\"&$Q$6&\"|\"&R41&\"#\"&$Q$6","v":"2001006#175|2001007#175|2001008#175|2001009#175"},{"$f":"IF(S41=0,\"\",L41&\"#\"&T41*10000&\",\"&M41&\"#\"&70&\",\"&V41&\",\"&N41&\"#\"&60)","v":"2034003#8000,2034004#70,2001006#175|2001007#175|2001008#175|2001009#175,2034005#60"},{"$f":"_xlfn.TEXTJOIN(\"\",TRUE,U41,W41)","v":"2034003#8000,2034004#70,2001006#175|2001007#175|2001008#175|2001009#175,2034005#60"},"60034#41#42#61000",60034,41,42,61000]
[{"$nulls":4},"1#2035001|2#2035002",2035001,2035002,"5#3","1#10000",null,"2035003#10000,2035004#10000,2035005#10000,2001009#10000",2035003,2035004,2035005,{"$f":"O41","v":2001006},{"$f":"P41","v":2001007},{"$f":"Q41","v":2001008},{"$f":"R41","v":2001009},0,1,"2035003#10000","2001006#175|2001007#175|2001008#175|2001009#175","","2035003#10000",{"$f":"_xlfn.TEXTJOIN(\"#\",TRUE,Z42:AC42)","v":"60035#41#42#61000"},{"$f":"Z41+1","v":60035},{"$f":"AA41","v":41},{"$f":"AB41","v":42},{"$f":"AC41","v":61000}]
[{"$nulls":4},"1#2036001|2#2036002",2036001,2036002,"5#3","1#8000|2#700|3#700|4#600",null,"2036003#10000,2036004#10000,2036005#10000,2001009#10000",2036003,2036004,2036005,2001006,2001007,2001008,2001009,0.2,0.8,"","2001006#175|2001007#175|2001008#175|2001009#175","2036003#8000,2036004#70,2001006#175|2001007#175|2001008#175|2001009#175,2036005#60","2036003#8000,2036004#70,2001006#175|2001007#175|2001008#175|2001009#175,2036005#60","60036#41#42#61000",60036,41,42,61000]
[{"$nulls":4},"1#2037001|2#2037002",2037001,2037002,"5#3","1#8000|2#700|3#700|4#600",null,"2037003#10000,2037004#10000,2037005#10000,2001009#10000",2037003,2037004,2037005,2001006,2001007,2001008,2001009,0.2,0.8,"","2001006#175|2001007#175|2001008#175|2001009#175","2037003#8000,2037004#70,2001006#175|2001007#175|2001008#175|2001009#175,2037005#60","2037003#8000,2037004#70,2001006#175|2001007#175|2001008#175|2001009#175,2037005#60","60037#41#42#61000",60037,41,42,61000]
[{"$nulls":4},{"$f":"$A$4&\"#\"&F45&\"|\"&$B$4&\"#\"&G45","v":"1#2038001|2#2038002"},{"$f":"F44+1000","v":2038001},{"$f":"G44+1000","v":2038002},"5#3","1#8000|2#700|3#700|4#600",null,{"$f":"L45&\"#\"&$L$4&\",\"&M45&\"#\"&$L$4&\",\"&N45&\"#\"&$L$4&\",\"&R45&\"#\"&$L$4","v":"2038003#10000,2038004#10000,2038005#10000,2001009#10000"},{"$f":"L44+1000","v":2038003},{"$f":"M44+1000","v":2038004},{"$f":"N44+1000","v":2038005},2001006,2001007,2001008,2001009,0.2,0.8,"","2001006#175|2001007#175|2001008#175|2001009#175","2038003#8000,2038004#70,2001006#175|2001007#175|2001008#175|2001009#175,2038005#60","2038003#8000,2038004#70,2001006#175|2001007#175|2001008#175|2001009#175,2038005#60","60038#41#42#61000",60038,41,42,61000]
[{"$nulls":4},"1#2039001|2#2039002",2039001,2039002,"5#3",{"$f":"I41","v":"1#8000|2#700|3#700|4#600"},null,"2039003#10000,2039004#10000,2039005#10000,2001009#10000",2039003,2039004,2039005,2001006,2001007,2001008,2001009,0.2,0.8,"","2001006#175|2001007#175|2001008#175|2001009#175","2039003#8000,2039004#70,2001006#175|2001007#175|2001008#175|2001009#175,2039005#60","2039003#8000,2039004#70,2001006#175|2001007#175|2001008#175|2001009#175,2039005#60","60039#41#42#61000",60039,41,42,61000]
[{"$nulls":4},"1#2040001|2#2040002",2040001,2040002,"5#3","1#10000",null,"2040003#10000,2040004#10000,2040005#10000,2001009#10000",2040003,2040004,2040005,2001006,2001007,2001008,2001009,0,1,"2040003#10000","2001006#175|2001007#175|2001008#175|2001009#175","","2040003#10000","60040#41#42#61000",60040,41,42,61000]
[{"$nulls":4},"1#2041001|2#2041002",2041001,2041002,"5#3","1#8000|2#700|3#700|4#600",null,"2041003#10000,2041004#10000,2041005#10000,2001009#10000",2041003,2041004,2041005,2001006,2001007,2001008,2001009,0.2,0.8,"","2001006#175|2001007#175|2001008#175|2001009#175","2041003#8000,2041004#70,2001006#175|2001007#175|2001008#175|2001009#175,2041005#60","2041003#8000,2041004#70,2001006#175|2001007#175|2001008#175|2001009#175,2041005#60","60041#41#42#61000",60041,41,42,61000]
[{"$nulls":4},"1#2042001|2#2042002",2042001,2042002,"5#3","1#8000|2#700|3#700|4#600",null,"2042003#10000,2042004#10000,2042005#10000,2001009#10000",2042003,2042004,2042005,2001006,2001007,2001008,2001009,0.2,0.8,"","2001006#175|2001007#175|2001008#175|2001009#175","2042003#8000,2042004#70,2001006#175|2001007#175|2001008#175|2001009#175,2042005#60","2042003#8000,2042004#70,2001006#175|2001007#175|2001008#175|2001009#175,2042005#60","60042#41#42#61000",60042,41,42,61000]
[{"$nulls":4},"1#2043001|2#2043002",2043001,2043002,"5#3","1#8000|2#700|3#700|4#600",null,"2043003#10000,2043004#10000,2043005#10000,2001009#10000",2043003,2043004,2043005,2001006,2001007,2001008,2001009,0.2,0.8,"","2001006#175|2001007#175|2001008#175|2001009#175","2043003#8000,2043004#70,2001006#175|2001007#175|2001008#175|2001009#175,2043005#60","2043003#8000,2043004#70,2001006#175|2001007#175|2001008#175|2001009#175,2043005#60","60043#41#42#61000",60043,41,42,61000]
[{"$nulls":4},"1#2044001|2#2044002",2044001,2044002,"5#3","1#8000|2#700|3#700|4#600",null,"2044003#10000,2044004#10000,2044005#10000,2001009#10000",2044003,2044004,2044005,2001006,2001007,2001008,2001009,0.2,0.8,"","2001006#175|2001007#175|2001008#175|2001009#175","2044003#8000,2044004#70,2001006#175|2001007#175|2001008#175|2001009#175,2044005#60","2044003#8000,2044004#70,2001006#175|2001007#175|2001008#175|2001009#175,2044005#60","60044#41#42#61000",60044,41,42,61000]
[{"$nulls":4},"1#2045001|2#2045002",2045001,2045002,"5#3","1#10000",null,"2045003#10000,2045004#10000,2045005#10000,2001009#10000",2045003,2045004,2045005,2001006,2001007,2001008,2001009,0,1,"2045003#10000","2001006#175|2001007#175|2001008#175|2001009#175","","2045003#10000","60045#41#42#61000",60045,41,42,61000]
[{"$nulls":4},"1#2046001|2#2046002",2046001,2046002,"5#3","1#8000|2#700|3#700|4#600",null,"2046003#10000,2046004#10000,2046005#10000,2001009#10000",2046003,2046004,2046005,2001006,2001007,2001008,2001009,0.2,0.8,"","2001006#175|2001007#175|2001008#175|2001009#175","2046003#8000,2046004#70,2001006#175|2001007#175|2001008#175|2001009#175,2046005#60","2046003#8000,2046004#70,2001006#175|2001007#175|2001008#175|2001009#175,2046005#60","60046#41#42#61000",60046,41,42,61000]
[{"$nulls":4},"1#2047001|2#2047002",2047001,2047002,"5#3","1#8000|2#700|3#700|4#600",null,"2047003#10000,2047004#10000,2047005#10000,2001009#10000",2047003,2047004,2047005,2001006,2001007,2001008,2001009,0.2,0.8,"","2001006#175|2001007#175|2001008#175|2001009#175","2047003#8000,2047004#70,2001006#175|2001007#175|2001008#175|2001009#175,2047005#60","2047003#8000,2047004#70,2001006#175|2001007#175|2001008#175|2001009#175,2047005#60","60047#41#42#61000",60047,41,42,61000]
[{"$nulls":4},"1#2048001|2#2048002",2048001,2048002,"5#3","1#8000|2#700|3#700|4#600",null,"2048003#10000,2048004#10000,2048005#10000,2001009#10000",2048003,2048004,2048005,2001006,2001007,2001008,2001009,0.2,0.8,"","2001006#175|2001007#175|2001008#175|2001009#175","2048003#8000,2048004#70,2001006#175|2001007#175|2001008#175|2001009#175,2048005#60","2048003#8000,2048004#70,2001006#175|2001007#175|2001008#175|2001009#175,2048005#60","60048#41#42#61000",60048,41,42,61000]
[{"$nulls":4},"1#2049001|2#2049002",2049001,2049002,"5#3","1#8000|2#700|3#700|4#600",null,"2049003#10000,2049004#10000,2049005#10000,2001009#10000",2049003,2049004,2049005,2001006,2001007,2001008,2001009,0.2,0.8,"","2001006#175|2001007#175|2001008#175|2001009#175","2049003#8000,2049004#70,2001006#175|2001007#175|2001008#175|2001009#175,2049005#60","2049003#8000,2049004#70,2001006#175|2001007#175|2001008#175|2001009#175,2049005#60","60049#41#42#61000",60049,41,42,61000]
[{"$nulls":4},"1#2050001|2#2050002",2050001,2050002,"5#3","1#10000",null,"2050003#10000,2050004#10000,2050005#10000,2001009#10000",2050003,2050004,2050005,2001006,2001007,2001008,2001009,0,1,"2050003#10000","2001006#175|2001007#175|2001008#175|2001009#175","","2050003#10000","60050#41#42#61000",60050,41,42,61000]
[{"$nulls":4},"1#2051001|2#2051002",2051001,2051002,"5#3","1#8000|2#700|3#700|4#600",null,"2051003#10000,2051004#10000,2051005#10000,2001009#10000",2051003,2051004,2051005,2001006,2001007,2001008,2001009,0.2,0.8,"","2001006#175|2001007#175|2001008#175|2001009#175","2051003#8000,2051004#70,2001006#175|2001007#175|2001008#175|2001009#175,2051005#60","2051003#8000,2051004#70,2001006#175|2001007#175|2001008#175|2001009#175,2051005#60","60051#41#42#61000",60051,41,42,61000]
[{"$nulls":4},"1#2052001|2#2052002",2052001,2052002,"5#3","1#8000|2#700|3#700|4#600",null,"2052003#10000,2052004#10000,2052005#10000,2001009#10000",2052003,2052004,2052005,2001006,2001007,2001008,2001009,0.2,0.8,"","2001006#175|2001007#175|2001008#175|2001009#175","2052003#8000,2052004#70,2001006#175|2001007#175|2001008#175|2001009#175,2052005#60","2052003#8000,2052004#70,2001006#175|2001007#175|2001008#175|2001009#175,2052005#60","60052#41#42#61000",60052,41,42,61000]
[{"$nulls":4},"1#2053001|2#2053002",2053001,2053002,"5#3","1#8000|2#700|3#700|4#600",null,"2053003#10000,2053004#10000,2053005#10000,2001009#10000",2053003,2053004,2053005,2001006,2001007,2001008,2001009,0.2,0.8,"","2001006#175|2001007#175|2001008#175|2001009#175","2053003#8000,2053004#70,2001006#175|2001007#175|2001008#175|2001009#175,2053005#60","2053003#8000,2053004#70,2001006#175|2001007#175|2001008#175|2001009#175,2053005#60","60053#41#42#61000",60053,41,42,61000]
[{"$nulls":4},"1#2054001|2#2054002",2054001,2054002,"5#3","1#8000|2#700|3#700|4#600",null,"2054003#10000,2054004#10000,2054005#10000,2001009#10000",2054003,2054004,2054005,2001006,2001007,2001008,2001009,0.2,0.8,"","2001006#175|2001007#175|2001008#175|2001009#175","2054003#8000,2054004#70,2001006#175|2001007#175|2001008#175|2001009#175,2054005#60","2054003#8000,2054004#70,2001006#175|2001007#175|2001008#175|2001009#175,2054005#60","60054#41#42#61000",60054,41,42,61000]
[{"$nulls":4},"1#2055001|2#2055002",2055001,2055002,"5#3","1#10000",null,"2055003#10000,2055004#10000,2055005#10000,2001009#10000",2055003,2055004,2055005,2001006,2001007,2001008,2001009,0,1,"2055003#10000","2001006#175|2001007#175|2001008#175|2001009#175","","2055003#10000","60055#41#42#61000",60055,41,42,61000]
[{"$nulls":4},"1#2056001|2#2056002",2056001,2056002,"5#3","1#8000|2#700|3#700|4#600",null,"2056003#10000,2056004#10000,2056005#10000,2001009#10000",2056003,2056004,2056005,2001006,2001007,2001008,2001009,0.2,0.8,"","2001006#175|2001007#175|2001008#175|2001009#175","2056003#8000,2056004#70,2001006#175|2001007#175|2001008#175|2001009#175,2056005#60","2056003#8000,2056004#70,2001006#175|2001007#175|2001008#175|2001009#175,2056005#60","60056#41#42#61000",60056,41,42,61000]
[{"$nulls":4},"1#2057001|2#2057002",2057001,2057002,"5#3","1#8000|2#700|3#700|4#600",null,"2057003#10000,2057004#10000,2057005#10000,2001009#10000",2057003,2057004,2057005,2001006,2001007,2001008,2001009,0.2,0.8,"","2001006#175|2001007#175|2001008#175|2001009#175","2057003#8000,2057004#70,2001006#175|2001007#175|2001008#175|2001009#175,2057005#60","2057003#8000,2057004#70,2001006#175|2001007#175|2001008#175|2001009#175,2057005#60","60057#41#42#61000",60057,41,42,61000]
[{"$nulls":4},"1#2058001|2#2058002",2058001,2058002,"5#3","1#8000|2#700|3#700|4#600",null,"2058003#10000,2058004#10000,2058005#10000,2001009#10000",2058003,2058004,2058005,2001006,2001007,2001008,2001009,0.2,0.8,"","2001006#175|2001007#175|2001008#175|2001009#175","2058003#8000,2058004#70,2001006#175|2001007#175|2001008#175|2001009#175,2058005#60","2058003#8000,2058004#70,2001006#175|2001007#175|2001008#175|2001009#175,2058005#60","60058#41#42#61000",60058,41,42,61000]
[{"$nulls":4},"1#2059001|2#2059002",2059001,2059002,"5#3","1#8000|2#700|3#700|4#600",null,"2059003#10000,2059004#10000,2059005#10000,2001009#10000",2059003,2059004,2059005,2001006,2001007,2001008,2001009,0.2,0.8,"","2001006#175|2001007#175|2001008#175|2001009#175","2059003#8000,2059004#70,2001006#175|2001007#175|2001008#175|2001009#175,2059005#60","2059003#8000,2059004#70,2001006#175|2001007#175|2001008#175|2001009#175,2059005#60","60059#41#42#61000",60059,41,42,61000]
[{"$nulls":4},"1#2060001|2#2060002",2060001,2060002,"5#3","1#10000",null,"2060003#10000,2060004#10000,2060005#10000,2001009#10000",2060003,2060004,2060005,2001006,2001007,2001008,2001009,0,1,"2060003#10000","2001006#175|2001007#175|2001008#175|2001009#175","","2060003#10000","60060#41#42#61000",60060,41,42,61000]
[{"$nulls":4},"1#2061001|2#2061002",2061001,2061002,"5#3","1#8000|2#700|3#700|4#600",null,"2061003#10000,2061004#10000,2061005#10000,2001009#10000",2061003,2061004,2061005,2001006,2001007,2001008,2001009,0.2,0.8,"","2001006#175|2001007#175|2001008#175|2001009#175","2061003#8000,2061004#70,2001006#175|2001007#175|2001008#175|2001009#175,2061005#60","2061003#8000,2061004#70,2001006#175|2001007#175|2001008#175|2001009#175,2061005#60","60061#41#42#61000",60061,41,42,61000]
[{"$nulls":4},"1#2062001|2#2062002",2062001,2062002,"5#3","1#8000|2#700|3#700|4#600",null,"2062003#10000,2062004#10000,2062005#10000,2001009#10000",2062003,2062004,2062005,2001006,2001007,2001008,2001009,0.2,0.8,"","2001006#175|2001007#175|2001008#175|2001009#175","2062003#8000,2062004#70,2001006#175|2001007#175|2001008#175|2001009#175,2062005#60","2062003#8000,2062004#70,2001006#175|2001007#175|2001008#175|2001009#175,2062005#60","60062#41#42#61000",60062,41,42,61000]
[{"$nulls":4},"1#2063001|2#2063002",2063001,2063002,"5#3","1#8000|2#700|3#700|4#600",null,"2063003#10000,2063004#10000,2063005#10000,2001009#10000",2063003,2063004,2063005,2001006,2001007,2001008,2001009,0.2,0.8,"","2001006#175|2001007#175|2001008#175|2001009#175","2063003#8000,2063004#70,2001006#175|2001007#175|2001008#175|2001009#175,2063005#60","2063003#8000,2063004#70,2001006#175|2001007#175|2001008#175|2001009#175,2063005#60","60063#41#42#61000",60063,41,42,61000]
[{"$nulls":4},"1#2064001|2#2064002",2064001,2064002,"5#3","1#8000|2#700|3#700|4#600",null,"2064003#10000,2064004#10000,2064005#10000,2001009#10000",2064003,2064004,2064005,2001006,2001007,2001008,2001009,0.2,0.8,"","2001006#175|2001007#175|2001008#175|2001009#175","2064003#8000,2064004#70,2001006#175|2001007#175|2001008#175|2001009#175,2064005#60","2064003#8000,2064004#70,2001006#175|2001007#175|2001008#175|2001009#175,2064005#60","60064#41#42#61000",60064,41,42,61000]
[{"$nulls":4},"1#2065001|2#2065002",2065001,2065002,"5#3","1#10000",null,"2065003#10000,2065004#10000,2065005#10000,2001009#10000",2065003,2065004,2065005,2001006,2001007,2001008,2001009,0,1,"2065003#10000","2001006#175|2001007#175|2001008#175|2001009#175","","2065003#10000","60065#41#42#61000",60065,41,42,61000]
[{"$nulls":4},"1#2066001|2#2066002",2066001,2066002,"5#3","1#8000|2#700|3#700|4#600",null,"2066003#10000,2066004#10000,2066005#10000,2001009#10000",2066003,2066004,2066005,2001006,2001007,2001008,2001009,0.2,0.8,{"$f":"IF(S73=0,L73&\"#\"&$L$4,\"\")","v":""},{"$f":"O73&\"#\"&$Q$6&\"|\"&P73&\"#\"&$Q$6&\"|\"&Q73&\"#\"&$Q$6&\"|\"&R73&\"#\"&$Q$6","v":"2001006#175|2001007#175|2001008#175|2001009#175"},{"$f":"IF(S73=0,\"\",L73&\"#\"&T73*10000&\",\"&M73&\"#\"&70&\",\"&V73&\",\"&N73&\"#\"&60)","v":"2066003#8000,2066004#70,2001006#175|2001007#175|2001008#175|2001009#175,2066005#60"},{"$f":"_xlfn.TEXTJOIN(\"\",TRUE,U73,W73)","v":"2066003#8000,2066004#70,2001006#175|2001007#175|2001008#175|2001009#175,2066005#60"},"60066#41#42#61000",60066,41,42,61000]
[{"$nulls":4},"1#2067001|2#2067002",2067001,2067002,"5#3","1#8000|2#700|3#700|4#600",null,"2067003#10000,2067004#10000,2067005#10000,2001009#10000",2067003,2067004,2067005,{"$f":"O73","v":2001006},{"$f":"P73","v":2001007},{"$f":"Q73","v":2001008},{"$f":"R73","v":2001009},0.2,0.8,"","2001006#175|2001007#175|2001008#175|2001009#175","2067003#8000,2067004#70,2001006#175|2001007#175|2001008#175|2001009#175,2067005#60","2067003#8000,2067004#70,2001006#175|2001007#175|2001008#175|2001009#175,2067005#60",{"$f":"_xlfn.TEXTJOIN(\"#\",TRUE,Z74:AC74)","v":"60067#41#42#61000"},{"$f":"Z73+1","v":60067},{"$f":"AA73","v":41},{"$f":"AB73","v":42},{"$f":"AC73","v":61000}]
[{"$nulls":4},"1#2068001|2#2068002",2068001,2068002,"5#3","1#8000|2#700|3#700|4#600",null,"2068003#10000,2068004#10000,2068005#10000,2001009#10000",2068003,2068004,2068005,2001006,2001007,2001008,2001009,0.2,0.8,"","2001006#175|2001007#175|2001008#175|2001009#175","2068003#8000,2068004#70,2001006#175|2001007#175|2001008#175|2001009#175,2068005#60","2068003#8000,2068004#70,2001006#175|2001007#175|2001008#175|2001009#175,2068005#60","60068#41#42#61000",60068,41,42,61000]
[{"$nulls":4},"1#2069001|2#2069002",2069001,2069002,"5#3","1#8000|2#700|3#700|4#600",null,"2069003#10000,2069004#10000,2069005#10000,2001009#10000",2069003,2069004,2069005,2001006,2001007,2001008,2001009,0.2,0.8,"","2001006#175|2001007#175|2001008#175|2001009#175","2069003#8000,2069004#70,2001006#175|2001007#175|2001008#175|2001009#175,2069005#60","2069003#8000,2069004#70,2001006#175|2001007#175|2001008#175|2001009#175,2069005#60","60069#41#42#61000",60069,41,42,61000]
[{"$nulls":4},{"$f":"$A$4&\"#\"&F77&\"|\"&$B$4&\"#\"&G77","v":"1#2070001|2#2070002"},{"$f":"F76+1000","v":2070001},{"$f":"G76+1000","v":2070002},"5#3","1#10000",null,{"$f":"L77&\"#\"&$L$4&\",\"&M77&\"#\"&$L$4&\",\"&N77&\"#\"&$L$4&\",\"&R77&\"#\"&$L$4","v":"2070003#10000,2070004#10000,2070005#10000,2001009#10000"},{"$f":"L76+1000","v":2070003},{"$f":"M76+1000","v":2070004},{"$f":"N76+1000","v":2070005},2001006,2001007,2001008,2001009,0,1,"2070003#10000","2001006#175|2001007#175|2001008#175|2001009#175","","2070003#10000","60070#41#42#61000",60070,41,42,61000]
[{"$nulls":4},"1#2071001|2#2071002",2071001,2071002,"5#3",{"$f":"I73","v":"1#8000|2#700|3#700|4#600"},null,"2071003#10000,2071004#10000,2071005#10000,2001009#10000",2071003,2071004,2071005,2001006,2001007,2001008,2001009,0.2,0.8,"","2001006#175|2001007#175|2001008#175|2001009#175","2071003#8000,2071004#70,2001006#175|2001007#175|2001008#175|2001009#175,2071005#60","2071003#8000,2071004#70,2001006#175|2001007#175|2001008#175|2001009#175,2071005#60","60071#41#42#61000",60071,41,42,61000]
[{"$nulls":4},"1#2072001|2#2072002",2072001,2072002,"5#3","1#8000|2#700|3#700|4#600",null,"2072003#10000,2072004#10000,2072005#10000,2001009#10000",2072003,2072004,2072005,2001006,2001007,2001008,2001009,0.2,0.8,"","2001006#175|2001007#175|2001008#175|2001009#175","2072003#8000,2072004#70,2001006#175|2001007#175|2001008#175|2001009#175,2072005#60","2072003#8000,2072004#70,2001006#175|2001007#175|2001008#175|2001009#175,2072005#60","60072#41#42#61000",60072,41,42,61000]
[{"$nulls":4},"1#2073001|2#2073002",2073001,2073002,"5#3","1#8000|2#700|3#700|4#600",null,"2073003#10000,2073004#10000,2073005#10000,2001009#10000",2073003,2073004,2073005,2001006,2001007,2001008,2001009,0.2,0.8,"","2001006#175|2001007#175|2001008#175|2001009#175","2073003#8000,2073004#70,2001006#175|2001007#175|2001008#175|2001009#175,2073005#60","2073003#8000,2073004#70,2001006#175|2001007#175|2001008#175|2001009#175,2073005#60","60073#41#42#61000",60073,41,42,61000]
[{"$nulls":4},"1#2074001|2#2074002",2074001,2074002,"5#3","1#8000|2#700|3#700|4#600",null,"2074003#10000,2074004#10000,2074005#10000,2001009#10000",2074003,2074004,2074005,2001006,2001007,2001008,2001009,0.2,0.8,"","2001006#175|2001007#175|2001008#175|2001009#175","2074003#8000,2074004#70,2001006#175|2001007#175|2001008#175|2001009#175,2074005#60","2074003#8000,2074004#70,2001006#175|2001007#175|2001008#175|2001009#175,2074005#60","60074#41#42#61000",60074,41,42,61000]
[{"$nulls":4},"1#2075001|2#2075002",2075001,2075002,"5#3","1#10000",null,"2075003#10000,2075004#10000,2075005#10000,2001009#10000",2075003,2075004,2075005,2001006,2001007,2001008,2001009,0,1,"2075003#10000","2001006#175|2001007#175|2001008#175|2001009#175","","2075003#10000","60075#41#42#61000",60075,41,42,61000]
[{"$nulls":4},"1#2076001|2#2076002",2076001,2076002,"5#3","1#8000|2#700|3#700|4#600",null,"2076003#10000,2076004#10000,2076005#10000,2001009#10000",2076003,2076004,2076005,2001006,2001007,2001008,2001009,0.2,0.8,"","2001006#175|2001007#175|2001008#175|2001009#175","2076003#8000,2076004#70,2001006#175|2001007#175|2001008#175|2001009#175,2076005#60","2076003#8000,2076004#70,2001006#175|2001007#175|2001008#175|2001009#175,2076005#60","60076#41#42#61000",60076,41,42,61000]
[{"$nulls":4},"1#2077001|2#2077002",2077001,2077002,"5#3","1#8000|2#700|3#700|4#600",null,"2077003#10000,2077004#10000,2077005#10000,2001009#10000",2077003,2077004,2077005,2001006,2001007,2001008,2001009,0.2,0.8,"","2001006#175|2001007#175|2001008#175|2001009#175","2077003#8000,2077004#70,2001006#175|2001007#175|2001008#175|2001009#175,2077005#60","2077003#8000,2077004#70,2001006#175|2001007#175|2001008#175|2001009#175,2077005#60","60077#41#42#61000",60077,41,42,61000]
[{"$nulls":4},"1#2078001|2#2078002",2078001,2078002,"5#3","1#8000|2#700|3#700|4#600",null,"2078003#10000,2078004#10000,2078005#10000,2001009#10000",2078003,2078004,2078005,2001006,2001007,2001008,2001009,0.2,0.8,"","2001006#175|2001007#175|2001008#175|2001009#175","2078003#8000,2078004#70,2001006#175|2001007#175|2001008#175|2001009#175,2078005#60","2078003#8000,2078004#70,2001006#175|2001007#175|2001008#175|2001009#175,2078005#60","60078#41#42#61000",60078,41,42,61000]
[{"$nulls":4},"1#2079001|2#2079002",2079001,2079002,"5#3","1#8000|2#700|3#700|4#600",null,"2079003#10000,2079004#10000,2079005#10000,2001009#10000",2079003,2079004,2079005,2001006,2001007,2001008,2001009,0.2,0.8,"","2001006#175|2001007#175|2001008#175|2001009#175","2079003#8000,2079004#70,2001006#175|2001007#175|2001008#175|2001009#175,2079005#60","2079003#8000,2079004#70,2001006#175|2001007#175|2001008#175|2001009#175,2079005#60","60079#41#42#61000",60079,41,42,61000]
[{"$nulls":4},"1#2080001|2#2080002",2080001,2080002,"5#3","1#10000",null,"2080003#10000,2080004#10000,2080005#10000,2001009#10000",2080003,2080004,2080005,2001006,2001007,2001008,2001009,0,1,"2080003#10000","2001006#175|2001007#175|2001008#175|2001009#175","","2080003#10000","60080#41#42#61000",60080,41,42,61000]
[{"$nulls":4},"1#2081001|2#2081002",2081001,2081002,"5#3","1#8000|2#700|3#700|4#600",null,"2081003#10000,2081004#10000,2081005#10000,2001009#10000",2081003,2081004,2081005,2001006,2001007,2001008,2001009,0.2,0.8,"","2001006#175|2001007#175|2001008#175|2001009#175","2081003#8000,2081004#70,2001006#175|2001007#175|2001008#175|2001009#175,2081005#60","2081003#8000,2081004#70,2001006#175|2001007#175|2001008#175|2001009#175,2081005#60","60081#41#42#61000",60081,41,42,61000]
[{"$nulls":4},"1#2082001|2#2082002",2082001,2082002,"5#3","1#8000|2#700|3#700|4#600",null,"2082003#10000,2082004#10000,2082005#10000,2001009#10000",2082003,2082004,2082005,2001006,2001007,2001008,2001009,0.2,0.8,"","2001006#175|2001007#175|2001008#175|2001009#175","2082003#8000,2082004#70,2001006#175|2001007#175|2001008#175|2001009#175,2082005#60","2082003#8000,2082004#70,2001006#175|2001007#175|2001008#175|2001009#175,2082005#60","60082#41#42#61000",60082,41,42,61000]
[{"$nulls":4},"1#2083001|2#2083002",2083001,2083002,"5#3","1#8000|2#700|3#700|4#600",null,"2083003#10000,2083004#10000,2083005#10000,2001009#10000",2083003,2083004,2083005,2001006,2001007,2001008,2001009,0.2,0.8,"","2001006#175|2001007#175|2001008#175|2001009#175","2083003#8000,2083004#70,2001006#175|2001007#175|2001008#175|2001009#175,2083005#60","2083003#8000,2083004#70,2001006#175|2001007#175|2001008#175|2001009#175,2083005#60","60083#41#42#61000",60083,41,42,61000]
[{"$nulls":4},"1#2084001|2#2084002",2084001,2084002,"5#3","1#8000|2#700|3#700|4#600",null,"2084003#10000,2084004#10000,2084005#10000,2001009#10000",2084003,2084004,2084005,2001006,2001007,2001008,2001009,0.2,0.8,"","2001006#175|2001007#175|2001008#175|2001009#175","2084003#8000,2084004#70,2001006#175|2001007#175|2001008#175|2001009#175,2084005#60","2084003#8000,2084004#70,2001006#175|2001007#175|2001008#175|2001009#175,2084005#60","60084#41#42#61000",60084,41,42,61000]
[{"$nulls":4},"1#2085001|2#2085002",2085001,2085002,"5#3","1#10000",null,"2085003#10000,2085004#10000,2085005#10000,2001009#10000",2085003,2085004,2085005,2001006,2001007,2001008,2001009,0,1,"2085003#10000","2001006#175|2001007#175|2001008#175|2001009#175","","2085003#10000","60085#41#42#61000",60085,41,42,61000]
[{"$nulls":4},"1#2086001|2#2086002",2086001,2086002,"5#3","1#8000|2#700|3#700|4#600",null,"2086003#10000,2086004#10000,2086005#10000,2001009#10000",2086003,2086004,2086005,2001006,2001007,2001008,2001009,0.2,0.8,"","2001006#175|2001007#175|2001008#175|2001009#175","2086003#8000,2086004#70,2001006#175|2001007#175|2001008#175|2001009#175,2086005#60","2086003#8000,2086004#70,2001006#175|2001007#175|2001008#175|2001009#175,2086005#60","60086#41#42#61000",60086,41,42,61000]
[{"$nulls":4},"1#2087001|2#2087002",2087001,2087002,"5#3","1#8000|2#700|3#700|4#600",null,"2087003#10000,2087004#10000,2087005#10000,2001009#10000",2087003,2087004,2087005,2001006,2001007,2001008,2001009,0.2,0.8,"","2001006#175|2001007#175|2001008#175|2001009#175","2087003#8000,2087004#70,2001006#175|2001007#175|2001008#175|2001009#175,2087005#60","2087003#8000,2087004#70,2001006#175|2001007#175|2001008#175|2001009#175,2087005#60","60087#41#42#61000",60087,41,42,61000]
[{"$nulls":4},"1#2088001|2#2088002",2088001,2088002,"5#3","1#8000|2#700|3#700|4#600",null,"2088003#10000,2088004#10000,2088005#10000,2001009#10000",2088003,2088004,2088005,2001006,2001007,2001008,2001009,0.2,0.8,"","2001006#175|2001007#175|2001008#175|2001009#175","2088003#8000,2088004#70,2001006#175|2001007#175|2001008#175|2001009#175,2088005#60","2088003#8000,2088004#70,2001006#175|2001007#175|2001008#175|2001009#175,2088005#60","60088#41#42#61000",60088,41,42,61000]
[{"$nulls":4},"1#2089001|2#2089002",2089001,2089002,"5#3","1#8000|2#700|3#700|4#600",null,"2089003#10000,2089004#10000,2089005#10000,2001009#10000",2089003,2089004,2089005,2001006,2001007,2001008,2001009,0.2,0.8,"","2001006#175|2001007#175|2001008#175|2001009#175","2089003#8000,2089004#70,2001006#175|2001007#175|2001008#175|2001009#175,2089005#60","2089003#8000,2089004#70,2001006#175|2001007#175|2001008#175|2001009#175,2089005#60","60089#41#42#61000",60089,41,42,61000]
[{"$nulls":4},"1#2090001|2#2090002",2090001,2090002,"5#3","1#10000",null,"2090003#10000,2090004#10000,2090005#10000,2001009#10000",2090003,2090004,2090005,2001006,2001007,2001008,2001009,0,1,"2090003#10000","2001006#175|2001007#175|2001008#175|2001009#175","","2090003#10000","60090#41#42#61000",60090,41,42,61000]
[{"$nulls":4},"1#2091001|2#2091002",2091001,2091002,"5#3","1#8000|2#700|3#700|4#600",null,"2091003#10000,2091004#10000,2091005#10000,2001009#10000",2091003,2091004,2091005,2001006,2001007,2001008,2001009,0.2,0.8,"","2001006#175|2001007#175|2001008#175|2001009#175","2091003#8000,2091004#70,2001006#175|2001007#175|2001008#175|2001009#175,2091005#60","2091003#8000,2091004#70,2001006#175|2001007#175|2001008#175|2001009#175,2091005#60","60091#41#42#61000",60091,41,42,61000]
[{"$nulls":4},"1#2092001|2#2092002",2092001,2092002,"5#3","1#8000|2#700|3#700|4#600",null,"2092003#10000,2092004#10000,2092005#10000,2001009#10000",2092003,2092004,2092005,2001006,2001007,2001008,2001009,0.2,0.8,"","2001006#175|2001007#175|2001008#175|2001009#175","2092003#8000,2092004#70,2001006#175|2001007#175|2001008#175|2001009#175,2092005#60","2092003#8000,2092004#70,2001006#175|2001007#175|2001008#175|2001009#175,2092005#60","60092#41#42#61000",60092,41,42,61000]
[{"$nulls":4},"1#2093001|2#2093002",2093001,2093002,"5#3","1#8000|2#700|3#700|4#600",null,"2093003#10000,2093004#10000,2093005#10000,2001009#10000",2093003,2093004,2093005,2001006,2001007,2001008,2001009,0.2,0.8,"","2001006#175|2001007#175|2001008#175|2001009#175","2093003#8000,2093004#70,2001006#175|2001007#175|2001008#175|2001009#175,2093005#60","2093003#8000,2093004#70,2001006#175|2001007#175|2001008#175|2001009#175,2093005#60","60093#41#42#61000",60093,41,42,61000]
[{"$nulls":4},"1#2094001|2#2094002",2094001,2094002,"5#3","1#8000|2#700|3#700|4#600",null,"2094003#10000,2094004#10000,2094005#10000,2001009#10000",2094003,2094004,2094005,2001006,2001007,2001008,2001009,0.2,0.8,"","2001006#175|2001007#175|2001008#175|2001009#175","2094003#8000,2094004#70,2001006#175|2001007#175|2001008#175|2001009#175,2094005#60","2094003#8000,2094004#70,2001006#175|2001007#175|2001008#175|2001009#175,2094005#60","60094#41#42#61000",60094,41,42,61000]
[{"$nulls":4},"1#2095001|2#2095002",2095001,2095002,"5#3","1#10000",null,"2095003#10000,2095004#10000,2095005#10000,2001009#10000",2095003,2095004,2095005,2001006,2001007,2001008,2001009,0,1,"2095003#10000","2001006#175|2001007#175|2001008#175|2001009#175","","2095003#10000","60095#41#42#61000",60095,41,42,61000]
[{"$nulls":4},"1#2096001|2#2096002",2096001,2096002,"5#3","1#8000|2#700|3#700|4#600",null,"2096003#10000,2096004#10000,2096005#10000,2001009#10000",2096003,2096004,2096005,2001006,2001007,2001008,2001009,0.2,0.8,"","2001006#175|2001007#175|2001008#175|2001009#175","2096003#8000,2096004#70,2001006#175|2001007#175|2001008#175|2001009#175,2096005#60","2096003#8000,2096004#70,2001006#175|2001007#175|2001008#175|2001009#175,2096005#60","60096#41#42#61000",60096,41,42,61000]
[{"$nulls":4},"1#2097001|2#2097002",2097001,2097002,"5#3","1#8000|2#700|3#700|4#600",null,"2097003#10000,2097004#10000,2097005#10000,2001009#10000",2097003,2097004,2097005,2001006,2001007,2001008,2001009,0.2,0.8,"","2001006#175|2001007#175|2001008#175|2001009#175","2097003#8000,2097004#70,2001006#175|2001007#175|2001008#175|2001009#175,2097005#60","2097003#8000,2097004#70,2001006#175|2001007#175|2001008#175|2001009#175,2097005#60","60097#41#42#61000",60097,41,42,61000]
[{"$nulls":4},"1#2098001|2#2098002",2098001,2098002,"5#3","1#8000|2#700|3#700|4#600",null,"2098003#10000,2098004#10000,2098005#10000,2001009#10000",2098003,2098004,2098005,2001006,2001007,2001008,2001009,0.2,0.8,"","2001006#175|2001007#175|2001008#175|2001009#175","2098003#8000,2098004#70,2001006#175|2001007#175|2001008#175|2001009#175,2098005#60","2098003#8000,2098004#70,2001006#175|2001007#175|2001008#175|2001009#175,2098005#60","60098#41#42#61000",60098,41,42,61000]
[{"$nulls":4},"1#2099001|2#2099002",2099001,2099002,"5#3","1#8000|2#700|3#700|4#600",null,"2099003#10000,2099004#10000,2099005#10000,2001009#10000",2099003,2099004,2099005,{"$f":"O105","v":2001006},2001007,2001008,2001009,0.2,0.8,"","2001006#175|2001007#175|2001008#175|2001009#175","2099003#8000,2099004#70,2001006#175|2001007#175|2001008#175|2001009#175,2099005#60","2099003#8000,2099004#70,2001006#175|2001007#175|2001008#175|2001009#175,2099005#60",{"$f":"_xlfn.TEXTJOIN(\"#\",TRUE,Z106:AC106)","v":"60099#41#42#61000"},{"$f":"Z105+1","v":60099},{"$f":"AA105","v":41},{"$f":"AB105","v":42},{"$f":"AC105","v":61000}]
[{"$nulls":4},"1#2100001|2#2100002",2100001,2100002,"5#3","1#10000",null,"2100003#10000,2100004#10000,2100005#10000,2001009#10000",2100003,2100004,2100005,2001006,2001007,2001008,2001009,0,1,"2100003#10000","2001006#175|2001007#175|2001008#175|2001009#175","","2100003#10000","60100#41#42#61000",60100,41,42,61000]
[{"$nulls":4},{"$f":"$A$4&\"#\"&F108&\"|\"&$B$4&\"#\"&G108","v":"1#2101001|2#2101002"},2101001,2101002,"5#3","1#9000|2#300|3#400|4#300",null,{"$f":"L108&\"#\"&$L$4&\",\"&M108&\"#\"&$L$4&\",\"&N108&\"#\"&$L$4&\",\"&R108&\"#\"&$L$4","v":"2101003#10000,2101004#10000,2101005#10000,2001009#10000"},{"$f":"L107+1000","v":2101003},{"$f":"M107+1000","v":2101004},{"$f":"N107+1000","v":2101005},{"$f":"O107","v":2001006},{"$f":"P107","v":2001007},{"$f":"Q107","v":2001008},{"$f":"R107","v":2001009},0.1,0.9,{"$f":"IF(S108=0,L108&\"#\"&$L$4,\"\")","v":""},{"$f":"O108&\"#\"&$S$6&\"|\"&P108&\"#\"&$S$6&\"|\"&Q108&\"#\"&$S$6&\"|\"&R108&\"#\"&$S$6","v":"2001006#100|2001007#100|2001008#100|2001009#100"},{"$f":"IF(S108=0,\"\",L108&\"#\"&T108*10000&\",\"&M108&\"#\"&$R$5*10000&\",\"&V108&\",\"&N108&\"#\"&$R$7*10000)","v":"2101003#9000,2101004#300,2001006#100|2001007#100|2001008#100|2001009#100,2101005#300"},{"$f":"_xlfn.TEXTJOIN(\"\",TRUE,U108,W108)","v":"2101003#9000,2101004#300,2001006#100|2001007#100|2001008#100|2001009#100,2101005#300"},"60101#41#42#61000",60101,41,42,61000]
[{"$nulls":4},"1#2102001|2#2102002",2102001,2102002,"5#3","1#9000|2#300|3#400|4#300",null,"2102003#10000,2102004#10000,2102005#10000,2001009#10000",2102003,2102004,2102005,2001006,2001007,2001008,2001009,0.1,0.9,"",{"$f":"O109&\"#\"&$S$6&\"|\"&P109&\"#\"&$S$6&\"|\"&Q109&\"#\"&$S$6&\"|\"&R109&\"#\"&$S$6","v":"2001006#100|2001007#100|2001008#100|2001009#100"},{"$f":"IF(S109=0,\"\",L109&\"#\"&T109*10000&\",\"&M109&\"#\"&$R$5*10000&\",\"&V109&\",\"&N109&\"#\"&$R$7*10000)","v":"2102003#9000,2102004#300,2001006#100|2001007#100|2001008#100|2001009#100,2102005#300"},"2102003#9000,2102004#300,2001006#100|2001007#100|2001008#100|2001009#100,2102005#300","60102#41#42#61000",60102,41,42,61000]
[{"$nulls":4},"1#2103001|2#2103002",2103001,2103002,"5#3","1#9000|2#300|3#400|4#300",null,"2103003#10000,2103004#10000,2103005#10000,2001009#10000",2103003,2103004,2103005,2001006,2001007,2001008,2001009,0.1,0.9,"","2001006#100|2001007#100|2001008#100|2001009#100","2103003#9000,2103004#300,2001006#100|2001007#100|2001008#100|2001009#100,2103005#300","2103003#9000,2103004#300,2001006#100|2001007#100|2001008#100|2001009#100,2103005#300","60103#41#42#61000",60103,41,42,61000]
[{"$nulls":4},"1#2104001|2#2104002",2104001,2104002,"5#3","1#9000|2#300|3#400|4#300",null,"2104003#10000,2104004#10000,2104005#10000,2001009#10000",2104003,2104004,2104005,2001006,2001007,2001008,2001009,0.1,0.9,"","2001006#100|2001007#100|2001008#100|2001009#100","2104003#9000,2104004#300,2001006#100|2001007#100|2001008#100|2001009#100,2104005#300","2104003#9000,2104004#300,2001006#100|2001007#100|2001008#100|2001009#100,2104005#300","60104#41#42#61000",60104,41,42,61000]
[{"$nulls":4},"1#2105001|2#2105002",{"$f":"F111+1000","v":2105001},{"$f":"G111+1000","v":2105002},"5#3",{"$f":"I107","v":"1#10000"},null,"2105003#10000,2105004#10000,2105005#10000,2001009#10000",2105003,2105004,2105005,2001006,2001007,2001008,2001009,0,1,"2105003#10000","2001006#100|2001007#100|2001008#100|2001009#100","","2105003#10000","60105#41#42#61000",60105,41,42,61000]
[{"$nulls":4},"1#2106001|2#2106002",2106001,2106002,"5#3","1#9000|2#300|3#400|4#300",null,"2106003#10000,2106004#10000,2106005#10000,2001009#10000",2106003,2106004,2106005,2001006,2001007,2001008,2001009,0.1,0.9,"","2001006#100|2001007#100|2001008#100|2001009#100","2106003#9000,2106004#300,2001006#100|2001007#100|2001008#100|2001009#100,2106005#300","2106003#9000,2106004#300,2001006#100|2001007#100|2001008#100|2001009#100,2106005#300","60106#41#42#61000",60106,41,42,61000]
[{"$nulls":4},"1#2107001|2#2107002",2107001,2107002,"5#3","1#9000|2#300|3#400|4#300",null,"2107003#10000,2107004#10000,2107005#10000,2001009#10000",2107003,2107004,2107005,2001006,2001007,2001008,2001009,0.1,0.9,"","2001006#100|2001007#100|2001008#100|2001009#100","2107003#9000,2107004#300,2001006#100|2001007#100|2001008#100|2001009#100,2107005#300","2107003#9000,2107004#300,2001006#100|2001007#100|2001008#100|2001009#100,2107005#300","60107#41#42#61000",60107,41,42,61000]
[{"$nulls":4},"1#2108001|2#2108002",2108001,2108002,"5#3","1#9000|2#300|3#400|4#300",null,"2108003#10000,2108004#10000,2108005#10000,2001009#10000",2108003,2108004,2108005,2001006,2001007,2001008,2001009,0.1,0.9,"","2001006#100|2001007#100|2001008#100|2001009#100","2108003#9000,2108004#300,2001006#100|2001007#100|2001008#100|2001009#100,2108005#300","2108003#9000,2108004#300,2001006#100|2001007#100|2001008#100|2001009#100,2108005#300","60108#41#42#61000",60108,41,42,61000]
[{"$nulls":4},"1#2109001|2#2109002",2109001,2109002,"5#3","1#9000|2#300|3#400|4#300",null,"2109003#10000,2109004#10000,2109005#10000,2001009#10000",2109003,2109004,2109005,2001006,2001007,2001008,2001009,0.1,0.9,"","2001006#100|2001007#100|2001008#100|2001009#100","2109003#9000,2109004#300,2001006#100|2001007#100|2001008#100|2001009#100,2109005#300","2109003#9000,2109004#300,2001006#100|2001007#100|2001008#100|2001009#100,2109005#300","60109#41#42#61000",60109,41,42,61000]
[{"$nulls":4},"1#2110001|2#2110002",2110001,2110002,"5#3","1#10000",null,"2110003#10000,2110004#10000,2110005#10000,2001009#10000",2110003,2110004,2110005,2001006,2001007,2001008,2001009,0,1,"2110003#10000","2001006#100|2001007#100|2001008#100|2001009#100","","2110003#10000","60110#41#42#61000",60110,41,42,61000]
[{"$nulls":4},"1#2111001|2#2111002",{"$f":"F117+1000","v":2111001},{"$f":"G117+1000","v":2111002},"5#3","1#9000|2#300|3#400|4#300",null,"2111003#10000,2111004#10000,2111005#10000,2001009#10000",2111003,2111004,2111005,2001006,2001007,2001008,2001009,0.1,0.9,"","2001006#100|2001007#100|2001008#100|2001009#100","2111003#9000,2111004#300,2001006#100|2001007#100|2001008#100|2001009#100,2111005#300","2111003#9000,2111004#300,2001006#100|2001007#100|2001008#100|2001009#100,2111005#300","60111#41#42#61000",60111,41,42,61000]
[{"$nulls":4},"1#2112001|2#2112002",2112001,2112002,"5#3","1#9000|2#300|3#400|4#300",null,"2112003#10000,2112004#10000,2112005#10000,2001009#10000",2112003,2112004,2112005,2001006,2001007,2001008,2001009,0.1,0.9,"","2001006#100|2001007#100|2001008#100|2001009#100","2112003#9000,2112004#300,2001006#100|2001007#100|2001008#100|2001009#100,2112005#300","2112003#9000,2112004#300,2001006#100|2001007#100|2001008#100|2001009#100,2112005#300","60112#41#42#61000",60112,41,42,61000]
[{"$nulls":4},"1#2113001|2#2113002",2113001,2113002,"5#3","1#9000|2#300|3#400|4#300",null,"2113003#10000,2113004#10000,2113005#10000,2001009#10000",2113003,2113004,2113005,2001006,2001007,2001008,2001009,0.1,0.9,"","2001006#100|2001007#100|2001008#100|2001009#100","2113003#9000,2113004#300,2001006#100|2001007#100|2001008#100|2001009#100,2113005#300","2113003#9000,2113004#300,2001006#100|2001007#100|2001008#100|2001009#100,2113005#300","60113#41#42#61000",60113,41,42,61000]
[{"$nulls":4},"1#2114001|2#2114002",2114001,2114002,"5#3","1#9000|2#300|3#400|4#300",null,"2114003#10000,2114004#10000,2114005#10000,2001009#10000",2114003,2114004,2114005,2001006,2001007,2001008,2001009,0.1,0.9,"","2001006#100|2001007#100|2001008#100|2001009#100","2114003#9000,2114004#300,2001006#100|2001007#100|2001008#100|2001009#100,2114005#300","2114003#9000,2114004#300,2001006#100|2001007#100|2001008#100|2001009#100,2114005#300","60114#41#42#61000",60114,41,42,61000]
[{"$nulls":4},"1#2115001|2#2115002",2115001,2115002,"5#3","1#10000",null,"2115003#10000,2115004#10000,2115005#10000,2001009#10000",2115003,2115004,2115005,2001006,2001007,2001008,2001009,0,1,"2115003#10000","2001006#100|2001007#100|2001008#100|2001009#100","","2115003#10000","60115#41#42#61000",60115,41,42,61000]
[{"$nulls":4},"1#2116001|2#2116002",2116001,2116002,"5#3","1#9000|2#300|3#400|4#300",null,"2116003#10000,2116004#10000,2116005#10000,2001009#10000",2116003,2116004,2116005,2001006,2001007,2001008,2001009,0.1,0.9,"","2001006#100|2001007#100|2001008#100|2001009#100","2116003#9000,2116004#300,2001006#100|2001007#100|2001008#100|2001009#100,2116005#300","2116003#9000,2116004#300,2001006#100|2001007#100|2001008#100|2001009#100,2116005#300","60116#41#42#61000",60116,41,42,61000]
[{"$nulls":4},"1#2117001|2#2117002",2117001,2117002,"5#3","1#9000|2#300|3#400|4#300",null,"2117003#10000,2117004#10000,2117005#10000,2001009#10000",2117003,2117004,2117005,2001006,2001007,2001008,2001009,0.1,0.9,"","2001006#100|2001007#100|2001008#100|2001009#100","2117003#9000,2117004#300,2001006#100|2001007#100|2001008#100|2001009#100,2117005#300","2117003#9000,2117004#300,2001006#100|2001007#100|2001008#100|2001009#100,2117005#300","60117#41#42#61000",60117,41,42,61000]
[{"$nulls":4},"1#2118001|2#2118002",2118001,2118002,"5#3","1#9000|2#300|3#400|4#300",null,"2118003#10000,2118004#10000,2118005#10000,2001009#10000",2118003,2118004,2118005,2001006,2001007,2001008,2001009,0.1,0.9,"","2001006#100|2001007#100|2001008#100|2001009#100","2118003#9000,2118004#300,2001006#100|2001007#100|2001008#100|2001009#100,2118005#300","2118003#9000,2118004#300,2001006#100|2001007#100|2001008#100|2001009#100,2118005#300","60118#41#42#61000",60118,41,42,61000]
[{"$nulls":4},"1#2119001|2#2119002",2119001,2119002,"5#3","1#9000|2#300|3#400|4#300",null,"2119003#10000,2119004#10000,2119005#10000,2001009#10000",{"$f":"L125+1000","v":2119003},{"$f":"M125+1000","v":2119004},{"$f":"N125+1000","v":2119005},{"$f":"O125","v":2001006},{"$f":"P125","v":2001007},{"$f":"Q125","v":2001008},{"$f":"R125","v":2001009},0.1,0.9,"","2001006#100|2001007#100|2001008#100|2001009#100","2119003#9000,2119004#300,2001006#100|2001007#100|2001008#100|2001009#100,2119005#300","2119003#9000,2119004#300,2001006#100|2001007#100|2001008#100|2001009#100,2119005#300","60119#41#42#61000",60119,41,42,61000]
[{"$nulls":4},"1#2120001|2#2120002",2120001,2120002,"5#3","1#10000",null,"2120003#10000,2120004#10000,2120005#10000,2001009#10000",2120003,2120004,2120005,2001006,2001007,2001008,2001009,0,1,"2120003#10000","2001006#100|2001007#100|2001008#100|2001009#100","","2120003#10000","60120#41#42#61000",60120,41,42,61000]
[{"$nulls":4},"1#2121001|2#2121002",2121001,2121002,"5#3","1#9000|2#300|3#400|4#300",null,"2121003#10000,2121004#10000,2121005#10000,2001009#10000",2121003,2121004,2121005,2001006,2001007,2001008,2001009,0.1,0.9,"","2001006#100|2001007#100|2001008#100|2001009#100","2121003#9000,2121004#300,2001006#100|2001007#100|2001008#100|2001009#100,2121005#300","2121003#9000,2121004#300,2001006#100|2001007#100|2001008#100|2001009#100,2121005#300","60121#41#42#61000",60121,41,42,61000]
[{"$nulls":4},"1#2122001|2#2122002",2122001,2122002,"5#3","1#9000|2#300|3#400|4#300",null,"2122003#10000,2122004#10000,2122005#10000,2001009#10000",2122003,2122004,2122005,2001006,2001007,2001008,2001009,0.1,0.9,"","2001006#100|2001007#100|2001008#100|2001009#100","2122003#9000,2122004#300,2001006#100|2001007#100|2001008#100|2001009#100,2122005#300","2122003#9000,2122004#300,2001006#100|2001007#100|2001008#100|2001009#100,2122005#300","60122#41#42#61000",60122,41,42,61000]
[{"$nulls":4},"1#2123001|2#2123002",2123001,2123002,"5#3","1#9000|2#300|3#400|4#300",null,"2123003#10000,2123004#10000,2123005#10000,2001009#10000",2123003,2123004,2123005,2001006,2001007,2001008,2001009,0.1,0.9,"","2001006#100|2001007#100|2001008#100|2001009#100","2123003#9000,2123004#300,2001006#100|2001007#100|2001008#100|2001009#100,2123005#300","2123003#9000,2123004#300,2001006#100|2001007#100|2001008#100|2001009#100,2123005#300","60123#41#42#61000",60123,41,42,61000]
[{"$nulls":4},"1#2124001|2#2124002",2124001,2124002,"5#3","1#9000|2#300|3#400|4#300",null,"2124003#10000,2124004#10000,2124005#10000,2001009#10000",2124003,2124004,2124005,2001006,2001007,2001008,2001009,0.1,0.9,"","2001006#100|2001007#100|2001008#100|2001009#100","2124003#9000,2124004#300,2001006#100|2001007#100|2001008#100|2001009#100,2124005#300","2124003#9000,2124004#300,2001006#100|2001007#100|2001008#100|2001009#100,2124005#300","60124#41#42#61000",60124,41,42,61000]
[{"$nulls":4},"1#2125001|2#2125002",2125001,2125002,"5#3","1#10000",null,"2125003#10000,2125004#10000,2125005#10000,2001009#10000",2125003,2125004,2125005,2001006,2001007,2001008,2001009,0,1,"2125003#10000","2001006#100|2001007#100|2001008#100|2001009#100","","2125003#10000","60125#41#42#61000",60125,41,42,61000]
[{"$nulls":4},"1#2126001|2#2126002",2126001,2126002,"5#3","1#9000|2#300|3#400|4#300",null,"2126003#10000,2126004#10000,2126005#10000,2001009#10000",2126003,2126004,2126005,2001006,2001007,2001008,2001009,0.1,0.9,"","2001006#100|2001007#100|2001008#100|2001009#100","2126003#9000,2126004#300,2001006#100|2001007#100|2001008#100|2001009#100,2126005#300","2126003#9000,2126004#300,2001006#100|2001007#100|2001008#100|2001009#100,2126005#300","60126#41#42#61000",60126,41,42,61000]
[{"$nulls":4},"1#2127001|2#2127002",2127001,2127002,"5#3","1#9000|2#300|3#400|4#300",null,"2127003#10000,2127004#10000,2127005#10000,2001009#10000",2127003,2127004,2127005,2001006,2001007,2001008,2001009,0.1,0.9,"","2001006#100|2001007#100|2001008#100|2001009#100","2127003#9000,2127004#300,2001006#100|2001007#100|2001008#100|2001009#100,2127005#300","2127003#9000,2127004#300,2001006#100|2001007#100|2001008#100|2001009#100,2127005#300","60127#41#42#61000",60127,41,42,61000]
[{"$nulls":4},"1#2128001|2#2128002",2128001,2128002,"5#3","1#9000|2#300|3#400|4#300",null,"2128003#10000,2128004#10000,2128005#10000,2001009#10000",2128003,2128004,2128005,2001006,2001007,2001008,2001009,0.1,0.9,"","2001006#100|2001007#100|2001008#100|2001009#100","2128003#9000,2128004#300,2001006#100|2001007#100|2001008#100|2001009#100,2128005#300","2128003#9000,2128004#300,2001006#100|2001007#100|2001008#100|2001009#100,2128005#300","60128#41#42#61000",60128,41,42,61000]
[{"$nulls":4},"1#2129001|2#2129002",2129001,2129002,"5#3","1#9000|2#300|3#400|4#300",null,"2129003#10000,2129004#10000,2129005#10000,2001009#10000",2129003,2129004,2129005,2001006,2001007,2001008,2001009,0.1,0.9,"","2001006#100|2001007#100|2001008#100|2001009#100","2129003#9000,2129004#300,2001006#100|2001007#100|2001008#100|2001009#100,2129005#300","2129003#9000,2129004#300,2001006#100|2001007#100|2001008#100|2001009#100,2129005#300","60129#41#42#61000",60129,41,42,61000]
[{"$nulls":4},"1#2130001|2#2130002",2130001,2130002,"5#3","1#10000",null,"2130003#10000,2130004#10000,2130005#10000,2001009#10000",2130003,2130004,2130005,2001006,2001007,2001008,2001009,0,1,"2130003#10000","2001006#100|2001007#100|2001008#100|2001009#100","","2130003#10000","60130#41#42#61000",60130,41,42,61000]
[{"$nulls":4},"1#2131001|2#2131002",2131001,2131002,"5#3","1#9000|2#300|3#400|4#300",null,"2131003#10000,2131004#10000,2131005#10000,2001009#10000",2131003,2131004,2131005,2001006,2001007,2001008,2001009,0.1,0.9,"","2001006#100|2001007#100|2001008#100|2001009#100","2131003#9000,2131004#300,2001006#100|2001007#100|2001008#100|2001009#100,2131005#300","2131003#9000,2131004#300,2001006#100|2001007#100|2001008#100|2001009#100,2131005#300",{"$f":"_xlfn.TEXTJOIN(\"#\",TRUE,Z138:AC138)","v":"60131#41#42#61000"},{"$f":"Z137+1","v":60131},{"$f":"AA137","v":41},{"$f":"AB137","v":42},{"$f":"AC137","v":61000}]
[{"$nulls":4},"1#2132001|2#2132002",2132001,2132002,"5#3","1#9000|2#300|3#400|4#300",null,"2132003#10000,2132004#10000,2132005#10000,2001009#10000",2132003,2132004,2132005,2001006,2001007,2001008,2001009,0.1,0.9,"","2001006#100|2001007#100|2001008#100|2001009#100","2132003#9000,2132004#300,2001006#100|2001007#100|2001008#100|2001009#100,2132005#300","2132003#9000,2132004#300,2001006#100|2001007#100|2001008#100|2001009#100,2132005#300","60132#41#42#61000",60132,41,42,61000]
[{"$nulls":4},{"$f":"$A$4&\"#\"&F140&\"|\"&$B$4&\"#\"&G140","v":"1#2133001|2#2133002"},2133001,2133002,"5#3",{"$f":"I135","v":"1#9000|2#300|3#400|4#300"},null,{"$f":"L140&\"#\"&$L$4&\",\"&M140&\"#\"&$L$4&\",\"&N140&\"#\"&$L$4&\",\"&R140&\"#\"&$L$4","v":"2133003#10000,2133004#10000,2133005#10000,2001009#10000"},2133003,2133004,2133005,2001006,2001007,2001008,2001009,0.1,0.9,{"$f":"IF(S140=0,L140&\"#\"&$L$4,\"\")","v":""},"2001006#100|2001007#100|2001008#100|2001009#100","2133003#9000,2133004#300,2001006#100|2001007#100|2001008#100|2001009#100,2133005#300",{"$f":"_xlfn.TEXTJOIN(\"\",TRUE,U140,W140)","v":"2133003#9000,2133004#300,2001006#100|2001007#100|2001008#100|2001009#100,2133005#300"},"60133#41#42#61000",60133,41,42,61000]
[{"$nulls":4},"1#2134001|2#2134002",2134001,2134002,"5#3","1#9000|2#300|3#400|4#300",null,"2134003#10000,2134004#10000,2134005#10000,2001009#10000",2134003,2134004,2134005,2001006,2001007,2001008,2001009,0.1,0.9,"",{"$f":"O141&\"#\"&$S$6&\"|\"&P141&\"#\"&$S$6&\"|\"&Q141&\"#\"&$S$6&\"|\"&R141&\"#\"&$S$6","v":"2001006#100|2001007#100|2001008#100|2001009#100"},{"$f":"IF(S141=0,\"\",L141&\"#\"&T141*10000&\",\"&M141&\"#\"&$R$5*10000&\",\"&V141&\",\"&N141&\"#\"&$R$7*10000)","v":"2134003#9000,2134004#300,2001006#100|2001007#100|2001008#100|2001009#100,2134005#300"},"2134003#9000,2134004#300,2001006#100|2001007#100|2001008#100|2001009#100,2134005#300","60134#41#42#61000",60134,41,42,61000]
[{"$nulls":4},"1#2135001|2#2135002",2135001,2135002,"5#3","1#10000",null,"2135003#10000,2135004#10000,2135005#10000,2001009#10000",2135003,2135004,2135005,2001006,2001007,2001008,2001009,0,1,"2135003#10000","2001006#100|2001007#100|2001008#100|2001009#100","","2135003#10000","60135#41#42#61000",60135,41,42,61000]
[{"$nulls":4},"1#2136001|2#2136002",2136001,2136002,"5#3","1#9000|2#300|3#400|4#300",null,"2136003#10000,2136004#10000,2136005#10000,2001009#10000",2136003,2136004,2136005,2001006,2001007,2001008,2001009,0.1,0.9,"","2001006#100|2001007#100|2001008#100|2001009#100","2136003#9000,2136004#300,2001006#100|2001007#100|2001008#100|2001009#100,2136005#300","2136003#9000,2136004#300,2001006#100|2001007#100|2001008#100|2001009#100,2136005#300","60136#41#42#61000",60136,41,42,61000]
[{"$nulls":4},"1#2137001|2#2137002",2137001,2137002,"5#3","1#9000|2#300|3#400|4#300",null,"2137003#10000,2137004#10000,2137005#10000,2001009#10000",2137003,2137004,2137005,2001006,2001007,2001008,2001009,0.1,0.9,"","2001006#100|2001007#100|2001008#100|2001009#100","2137003#9000,2137004#300,2001006#100|2001007#100|2001008#100|2001009#100,2137005#300","2137003#9000,2137004#300,2001006#100|2001007#100|2001008#100|2001009#100,2137005#300","60137#41#42#61000",60137,41,42,61000]
[{"$nulls":4},"1#2138001|2#2138002",2138001,2138002,"5#3","1#9000|2#300|3#400|4#300",null,"2138003#10000,2138004#10000,2138005#10000,2001009#10000",2138003,2138004,2138005,2001006,2001007,2001008,2001009,0.1,0.9,"","2001006#100|2001007#100|2001008#100|2001009#100","2138003#9000,2138004#300,2001006#100|2001007#100|2001008#100|2001009#100,2138005#300","2138003#9000,2138004#300,2001006#100|2001007#100|2001008#100|2001009#100,2138005#300","60138#41#42#61000",60138,41,42,61000]
[{"$nulls":4},"1#2139001|2#2139002",2139001,2139002,"5#3","1#9000|2#300|3#400|4#300",null,"2139003#10000,2139004#10000,2139005#10000,2001009#10000",2139003,2139004,2139005,2001006,2001007,2001008,2001009,0.1,0.9,"","2001006#100|2001007#100|2001008#100|2001009#100","2139003#9000,2139004#300,2001006#100|2001007#100|2001008#100|2001009#100,2139005#300","2139003#9000,2139004#300,2001006#100|2001007#100|2001008#100|2001009#100,2139005#300","60139#41#42#61000",60139,41,42,61000]
[{"$nulls":4},"1#2140001|2#2140002",2140001,2140002,"5#3","1#10000",null,"2140003#10000,2140004#10000,2140005#10000,2001009#10000",2140003,2140004,2140005,2001006,2001007,2001008,2001009,0,1,"2140003#10000","2001006#100|2001007#100|2001008#100|2001009#100","","2140003#10000","60140#41#42#61000",60140,41,42,61000]
[{"$nulls":4},"1#2141001|2#2141002",2141001,2141002,"5#3","1#9000|2#300|3#400|4#300",null,"2141003#10000,2141004#10000,2141005#10000,2001009#10000",2141003,2141004,2141005,2001006,2001007,2001008,2001009,0.1,0.9,"","2001006#100|2001007#100|2001008#100|2001009#100","2141003#9000,2141004#300,2001006#100|2001007#100|2001008#100|2001009#100,2141005#300","2141003#9000,2141004#300,2001006#100|2001007#100|2001008#100|2001009#100,2141005#300","60141#41#42#61000",60141,41,42,61000]
[{"$nulls":4},"1#2142001|2#2142002",2142001,2142002,"5#3","1#9000|2#300|3#400|4#300",null,"2142003#10000,2142004#10000,2142005#10000,2001009#10000",2142003,2142004,2142005,2001006,2001007,2001008,2001009,0.1,0.9,"","2001006#100|2001007#100|2001008#100|2001009#100","2142003#9000,2142004#300,2001006#100|2001007#100|2001008#100|2001009#100,2142005#300","2142003#9000,2142004#300,2001006#100|2001007#100|2001008#100|2001009#100,2142005#300","60142#41#42#61000",60142,41,42,61000]
[{"$nulls":4},"1#2143001|2#2143002",{"$f":"F149+1000","v":2143001},{"$f":"G149+1000","v":2143002},"5#3","1#9000|2#300|3#400|4#300",null,"2143003#10000,2143004#10000,2143005#10000,2001009#10000",2143003,2143004,2143005,2001006,2001007,2001008,2001009,0.1,0.9,"","2001006#100|2001007#100|2001008#100|2001009#100","2143003#9000,2143004#300,2001006#100|2001007#100|2001008#100|2001009#100,2143005#300","2143003#9000,2143004#300,2001006#100|2001007#100|2001008#100|2001009#100,2143005#300","60143#41#42#61000",60143,41,42,61000]
[{"$nulls":4},"1#2144001|2#2144002",2144001,2144002,"5#3","1#9000|2#300|3#400|4#300",null,"2144003#10000,2144004#10000,2144005#10000,2001009#10000",2144003,2144004,2144005,2001006,2001007,2001008,2001009,0.1,0.9,"","2001006#100|2001007#100|2001008#100|2001009#100","2144003#9000,2144004#300,2001006#100|2001007#100|2001008#100|2001009#100,2144005#300","2144003#9000,2144004#300,2001006#100|2001007#100|2001008#100|2001009#100,2144005#300","60144#41#42#61000",60144,41,42,61000]
[{"$nulls":4},"1#2145001|2#2145002",2145001,2145002,"5#3","1#10000",null,"2145003#10000,2145004#10000,2145005#10000,2001009#10000",2145003,2145004,2145005,2001006,2001007,2001008,2001009,0,1,"2145003#10000","2001006#100|2001007#100|2001008#100|2001009#100","","2145003#10000","60145#41#42#61000",60145,41,42,61000]
[{"$nulls":4},"1#2146001|2#2146002",2146001,2146002,"5#3","1#9000|2#300|3#400|4#300",null,"2146003#10000,2146004#10000,2146005#10000,2001009#10000",2146003,2146004,2146005,2001006,2001007,2001008,2001009,0.1,0.9,"","2001006#100|2001007#100|2001008#100|2001009#100","2146003#9000,2146004#300,2001006#100|2001007#100|2001008#100|2001009#100,2146005#300","2146003#9000,2146004#300,2001006#100|2001007#100|2001008#100|2001009#100,2146005#300","60146#41#42#61000",60146,41,42,61000]
[{"$nulls":4},"1#2147001|2#2147002",2147001,2147002,"5#3","1#9000|2#300|3#400|4#300",null,"2147003#10000,2147004#10000,2147005#10000,2001009#10000",2147003,2147004,2147005,2001006,2001007,2001008,2001009,0.1,0.9,"","2001006#100|2001007#100|2001008#100|2001009#100","2147003#9000,2147004#300,2001006#100|2001007#100|2001008#100|2001009#100,2147005#300","2147003#9000,2147004#300,2001006#100|2001007#100|2001008#100|2001009#100,2147005#300","60147#41#42#61000",60147,41,42,61000]
[{"$nulls":4},"1#2148001|2#2148002",2148001,2148002,"5#3","1#9000|2#300|3#400|4#300",null,"2148003#10000,2148004#10000,2148005#10000,2001009#10000",2148003,2148004,2148005,2001006,2001007,2001008,2001009,0.1,0.9,"","2001006#100|2001007#100|2001008#100|2001009#100","2148003#9000,2148004#300,2001006#100|2001007#100|2001008#100|2001009#100,2148005#300","2148003#9000,2148004#300,2001006#100|2001007#100|2001008#100|2001009#100,2148005#300","60148#41#42#61000",60148,41,42,61000]
[{"$nulls":4},"1#2149001|2#2149002",2149001,2149002,"5#3","1#9000|2#300|3#400|4#300",null,"2149003#10000,2149004#10000,2149005#10000,2001009#10000",2149003,2149004,2149005,2001006,2001007,2001008,2001009,0.1,0.9,"","2001006#100|2001007#100|2001008#100|2001009#100","2149003#9000,2149004#300,2001006#100|2001007#100|2001008#100|2001009#100,2149005#300","2149003#9000,2149004#300,2001006#100|2001007#100|2001008#100|2001009#100,2149005#300","60149#41#42#61000",60149,41,42,61000]
[{"$nulls":4},"1#2150001|2#2150002",2150001,2150002,"5#3","1#10000",null,"2150003#10000,2150004#10000,2150005#10000,2001009#10000",2150003,2150004,2150005,2001006,2001007,2001008,2001009,0,1,"2150003#10000","2001006#100|2001007#100|2001008#100|2001009#100","","2150003#10000","60150#41#42#61000",60150,41,42,61000]
[{"$nulls":4},"1#2151001|2#2151002",2151001,2151002,"5#3","1#9000|2#300|3#400|4#300",null,"2151003#10000,2151004#10000,2151005#10000,2001009#10000",2151003,2151004,2151005,2001006,2001007,2001008,2001009,0.1,0.9,"","2001006#100|2001007#100|2001008#100|2001009#100","2151003#9000,2151004#300,2001006#100|2001007#100|2001008#100|2001009#100,2151005#300","2151003#9000,2151004#300,2001006#100|2001007#100|2001008#100|2001009#100,2151005#300","60151#41#42#61000",60151,41,42,61000]
[{"$nulls":4},"1#2152001|2#2152002",2152001,2152002,"5#3","1#9000|2#300|3#400|4#300",null,"2152003#10000,2152004#10000,2152005#10000,2001009#10000",2152003,2152004,2152005,2001006,2001007,2001008,2001009,0.1,0.9,"","2001006#100|2001007#100|2001008#100|2001009#100","2152003#9000,2152004#300,2001006#100|2001007#100|2001008#100|2001009#100,2152005#300","2152003#9000,2152004#300,2001006#100|2001007#100|2001008#100|2001009#100,2152005#300","60152#41#42#61000",60152,41,42,61000]
[{"$nulls":4},"1#2153001|2#2153002",2153001,2153002,"5#3","1#9000|2#300|3#400|4#300",null,"2153003#10000,2153004#10000,2153005#10000,2001009#10000",2153003,2153004,2153005,2001006,2001007,2001008,2001009,0.1,0.9,"","2001006#100|2001007#100|2001008#100|2001009#100","2153003#9000,2153004#300,2001006#100|2001007#100|2001008#100|2001009#100,2153005#300","2153003#9000,2153004#300,2001006#100|2001007#100|2001008#100|2001009#100,2153005#300","60153#41#42#61000",60153,41,42,61000]
[{"$nulls":4},"1#2154001|2#2154002",2154001,2154002,"5#3","1#9000|2#300|3#400|4#300",null,"2154003#10000,2154004#10000,2154005#10000,2001009#10000",2154003,2154004,2154005,2001006,2001007,2001008,2001009,0.1,0.9,"","2001006#100|2001007#100|2001008#100|2001009#100","2154003#9000,2154004#300,2001006#100|2001007#100|2001008#100|2001009#100,2154005#300","2154003#9000,2154004#300,2001006#100|2001007#100|2001008#100|2001009#100,2154005#300","60154#41#42#61000",60154,41,42,61000]
[{"$nulls":4},"1#2155001|2#2155002",2155001,2155002,"5#3","1#10000",null,"2155003#10000,2155004#10000,2155005#10000,2001009#10000",2155003,2155004,2155005,2001006,2001007,2001008,2001009,0,1,"2155003#10000","2001006#100|2001007#100|2001008#100|2001009#100","","2155003#10000","60155#41#42#61000",60155,41,42,61000]
[{"$nulls":4},"1#2156001|2#2156002",2156001,2156002,"5#3","1#9000|2#300|3#400|4#300",null,"2156003#10000,2156004#10000,2156005#10000,2001009#10000",2156003,2156004,2156005,2001006,2001007,2001008,2001009,0.1,0.9,"","2001006#100|2001007#100|2001008#100|2001009#100","2156003#9000,2156004#300,2001006#100|2001007#100|2001008#100|2001009#100,2156005#300","2156003#9000,2156004#300,2001006#100|2001007#100|2001008#100|2001009#100,2156005#300","60156#41#42#61000",60156,41,42,61000]
[{"$nulls":4},"1#2157001|2#2157002",2157001,2157002,"5#3","1#9000|2#300|3#400|4#300",null,"2157003#10000,2157004#10000,2157005#10000,2001009#10000",2157003,2157004,2157005,2001006,2001007,2001008,2001009,0.1,0.9,"","2001006#100|2001007#100|2001008#100|2001009#100","2157003#9000,2157004#300,2001006#100|2001007#100|2001008#100|2001009#100,2157005#300","2157003#9000,2157004#300,2001006#100|2001007#100|2001008#100|2001009#100,2157005#300","60157#41#42#61000",60157,41,42,61000]
[{"$nulls":4},"1#2158001|2#2158002",2158001,2158002,"5#3","1#9000|2#300|3#400|4#300",null,"2158003#10000,2158004#10000,2158005#10000,2001009#10000",2158003,2158004,2158005,2001006,2001007,2001008,2001009,0.1,0.9,"","2001006#100|2001007#100|2001008#100|2001009#100","2158003#9000,2158004#300,2001006#100|2001007#100|2001008#100|2001009#100,2158005#300","2158003#9000,2158004#300,2001006#100|2001007#100|2001008#100|2001009#100,2158005#300","60158#41#42#61000",60158,41,42,61000]
[{"$nulls":4},"1#2159001|2#2159002",2159001,2159002,"5#3","1#9000|2#300|3#400|4#300",null,"2159003#10000,2159004#10000,2159005#10000,2001009#10000",2159003,2159004,2159005,2001006,2001007,2001008,2001009,0.1,0.9,"","2001006#100|2001007#100|2001008#100|2001009#100","2159003#9000,2159004#300,2001006#100|2001007#100|2001008#100|2001009#100,2159005#300","2159003#9000,2159004#300,2001006#100|2001007#100|2001008#100|2001009#100,2159005#300","60159#41#42#61000",60159,41,42,61000]
[{"$nulls":4},"1#2160001|2#2160002",2160001,2160002,"5#3","1#10000",null,"2160003#10000,2160004#10000,2160005#10000,2001009#10000",2160003,2160004,2160005,2001006,2001007,2001008,2001009,0,1,"2160003#10000","2001006#100|2001007#100|2001008#100|2001009#100","","2160003#10000","60160#41#42#61000",60160,41,42,61000]
[{"$nulls":4},"1#2161001|2#2161002",2161001,2161002,"5#3","1#9000|2#300|3#400|4#300",null,"2161003#10000,2161004#10000,2161005#10000,2001009#10000",2161003,2161004,2161005,2001006,2001007,2001008,2001009,0.1,0.9,"","2001006#100|2001007#100|2001008#100|2001009#100","2161003#9000,2161004#300,2001006#100|2001007#100|2001008#100|2001009#100,2161005#300","2161003#9000,2161004#300,2001006#100|2001007#100|2001008#100|2001009#100,2161005#300","60161#41#42#61000",60161,41,42,61000]
[{"$nulls":4},"1#2162001|2#2162002",2162001,2162002,"5#3","1#9000|2#300|3#400|4#300",null,"2162003#10000,2162004#10000,2162005#10000,2001009#10000",2162003,2162004,2162005,2001006,2001007,2001008,2001009,0.1,0.9,"","2001006#100|2001007#100|2001008#100|2001009#100","2162003#9000,2162004#300,2001006#100|2001007#100|2001008#100|2001009#100,2162005#300","2162003#9000,2162004#300,2001006#100|2001007#100|2001008#100|2001009#100,2162005#300","60162#41#42#61000",60162,41,42,61000]
[{"$nulls":4},"1#2163001|2#2163002",2163001,2163002,"5#3","1#9000|2#300|3#400|4#300",null,"2163003#10000,2163004#10000,2163005#10000,2001009#10000",2163003,2163004,2163005,2001006,2001007,2001008,2001009,0.1,0.9,"","2001006#100|2001007#100|2001008#100|2001009#100","2163003#9000,2163004#300,2001006#100|2001007#100|2001008#100|2001009#100,2163005#300","2163003#9000,2163004#300,2001006#100|2001007#100|2001008#100|2001009#100,2163005#300",{"$f":"_xlfn.TEXTJOIN(\"#\",TRUE,Z170:AC170)","v":"60163#41#42#61000"},{"$f":"Z169+1","v":60163},{"$f":"AA169","v":41},{"$f":"AB169","v":42},{"$f":"AC169","v":61000}]
[{"$nulls":4},"1#2164001|2#2164002",2164001,2164002,"5#3","1#9000|2#300|3#400|4#300",null,"2164003#10000,2164004#10000,2164005#10000,2001009#10000",2164003,2164004,2164005,2001006,2001007,2001008,2001009,0.1,0.9,"","2001006#100|2001007#100|2001008#100|2001009#100","2164003#9000,2164004#300,2001006#100|2001007#100|2001008#100|2001009#100,2164005#300","2164003#9000,2164004#300,2001006#100|2001007#100|2001008#100|2001009#100,2164005#300","60164#41#42#61000",60164,41,42,61000]
[{"$nulls":4},{"$f":"$A$4&\"#\"&F172&\"|\"&$B$4&\"#\"&G172","v":"1#2165001|2#2165002"},2165001,2165002,"5#3",{"$f":"I167","v":"1#10000"},null,{"$f":"L172&\"#\"&$L$4&\",\"&M172&\"#\"&$L$4&\",\"&N172&\"#\"&$L$4&\",\"&R172&\"#\"&$L$4","v":"2165003#10000,2165004#10000,2165005#10000,2001009#10000"},2165003,2165004,2165005,2001006,2001007,2001008,2001009,0,1,{"$f":"IF(S172=0,L172&\"#\"&$L$4,\"\")","v":"2165003#10000"},"2001006#100|2001007#100|2001008#100|2001009#100","",{"$f":"_xlfn.TEXTJOIN(\"\",TRUE,U172,W172)","v":"2165003#10000"},"60165#41#42#61000",60165,41,42,61000]
[{"$nulls":4},"1#2166001|2#2166002",2166001,2166002,"5#3","1#9000|2#300|3#400|4#300",null,"2166003#10000,2166004#10000,2166005#10000,2001009#10000",2166003,2166004,2166005,2001006,2001007,2001008,2001009,0.1,0.9,"",{"$f":"O173&\"#\"&$S$6&\"|\"&P173&\"#\"&$S$6&\"|\"&Q173&\"#\"&$S$6&\"|\"&R173&\"#\"&$S$6","v":"2001006#100|2001007#100|2001008#100|2001009#100"},{"$f":"IF(S173=0,\"\",L173&\"#\"&T173*10000&\",\"&M173&\"#\"&$R$5*10000&\",\"&V173&\",\"&N173&\"#\"&$R$7*10000)","v":"2166003#9000,2166004#300,2001006#100|2001007#100|2001008#100|2001009#100,2166005#300"},"2166003#9000,2166004#300,2001006#100|2001007#100|2001008#100|2001009#100,2166005#300","60166#41#42#61000",60166,41,42,61000]
[{"$nulls":4},"1#2167001|2#2167002",2167001,2167002,"5#3","1#9000|2#300|3#400|4#300",null,"2167003#10000,2167004#10000,2167005#10000,2001009#10000",2167003,2167004,2167005,2001006,2001007,2001008,2001009,0.1,0.9,"","2001006#100|2001007#100|2001008#100|2001009#100","2167003#9000,2167004#300,2001006#100|2001007#100|2001008#100|2001009#100,2167005#300","2167003#9000,2167004#300,2001006#100|2001007#100|2001008#100|2001009#100,2167005#300","60167#41#42#61000",60167,41,42,61000]
[{"$nulls":4},"1#2168001|2#2168002",2168001,2168002,"5#3","1#9000|2#300|3#400|4#300",null,"2168003#10000,2168004#10000,2168005#10000,2001009#10000",2168003,2168004,2168005,2001006,2001007,2001008,2001009,0.1,0.9,"","2001006#100|2001007#100|2001008#100|2001009#100","2168003#9000,2168004#300,2001006#100|2001007#100|2001008#100|2001009#100,2168005#300","2168003#9000,2168004#300,2001006#100|2001007#100|2001008#100|2001009#100,2168005#300","60168#41#42#61000",60168,41,42,61000]
[{"$nulls":4},"1#2169001|2#2169002",2169001,2169002,"5#3","1#9000|2#300|3#400|4#300",null,"2169003#10000,2169004#10000,2169005#10000,2001009#10000",2169003,2169004,2169005,2001006,2001007,2001008,2001009,0.1,0.9,"","2001006#100|2001007#100|2001008#100|2001009#100","2169003#9000,2169004#300,2001006#100|2001007#100|2001008#100|2001009#100,2169005#300","2169003#9000,2169004#300,2001006#100|2001007#100|2001008#100|2001009#100,2169005#300","60169#41#42#61000",60169,41,42,61000]
[{"$nulls":4},"1#2170001|2#2170002",2170001,2170002,"5#3","1#10000",null,"2170003#10000,2170004#10000,2170005#10000,2001009#10000",2170003,2170004,2170005,2001006,2001007,2001008,2001009,0,1,"2170003#10000","2001006#100|2001007#100|2001008#100|2001009#100","","2170003#10000","60170#41#42#61000",60170,41,42,61000]
[{"$nulls":4},"1#2171001|2#2171002",2171001,2171002,"5#3","1#9000|2#300|3#400|4#300",null,"2171003#10000,2171004#10000,2171005#10000,2001009#10000",2171003,2171004,2171005,2001006,2001007,2001008,2001009,0.1,0.9,"","2001006#100|2001007#100|2001008#100|2001009#100","2171003#9000,2171004#300,2001006#100|2001007#100|2001008#100|2001009#100,2171005#300","2171003#9000,2171004#300,2001006#100|2001007#100|2001008#100|2001009#100,2171005#300","60171#41#42#61000",60171,41,42,61000]
[{"$nulls":4},"1#2172001|2#2172002",2172001,2172002,"5#3","1#9000|2#300|3#400|4#300",null,"2172003#10000,2172004#10000,2172005#10000,2001009#10000",2172003,2172004,2172005,2001006,2001007,2001008,2001009,0.1,0.9,"","2001006#100|2001007#100|2001008#100|2001009#100","2172003#9000,2172004#300,2001006#100|2001007#100|2001008#100|2001009#100,2172005#300","2172003#9000,2172004#300,2001006#100|2001007#100|2001008#100|2001009#100,2172005#300","60172#41#42#61000",60172,41,42,61000]
[{"$nulls":4},"1#2173001|2#2173002",2173001,2173002,"5#3","1#9000|2#300|3#400|4#300",null,"2173003#10000,2173004#10000,2173005#10000,2001009#10000",2173003,2173004,2173005,2001006,2001007,2001008,2001009,0.1,0.9,"","2001006#100|2001007#100|2001008#100|2001009#100","2173003#9000,2173004#300,2001006#100|2001007#100|2001008#100|2001009#100,2173005#300","2173003#9000,2173004#300,2001006#100|2001007#100|2001008#100|2001009#100,2173005#300","60173#41#42#61000",60173,41,42,61000]
[{"$nulls":4},"1#2174001|2#2174002",2174001,2174002,"5#3","1#9000|2#300|3#400|4#300",null,"2174003#10000,2174004#10000,2174005#10000,2001009#10000",2174003,2174004,2174005,2001006,2001007,2001008,2001009,0.1,0.9,"","2001006#100|2001007#100|2001008#100|2001009#100","2174003#9000,2174004#300,2001006#100|2001007#100|2001008#100|2001009#100,2174005#300","2174003#9000,2174004#300,2001006#100|2001007#100|2001008#100|2001009#100,2174005#300","60174#41#42#61000",60174,41,42,61000]
[{"$nulls":4},"1#2175001|2#2175002",{"$f":"F181+1000","v":2175001},{"$f":"G181+1000","v":2175002},"5#3","1#10000",null,"2175003#10000,2175004#10000,2175005#10000,2001009#10000",2175003,2175004,2175005,2001006,2001007,2001008,2001009,0,1,"2175003#10000","2001006#100|2001007#100|2001008#100|2001009#100","","2175003#10000","60175#41#42#61000",60175,41,42,61000]
[{"$nulls":4},"1#2176001|2#2176002",2176001,2176002,"5#3","1#9000|2#300|3#400|4#300",null,"2176003#10000,2176004#10000,2176005#10000,2001009#10000",2176003,2176004,2176005,2001006,2001007,2001008,2001009,0.1,0.9,"","2001006#100|2001007#100|2001008#100|2001009#100","2176003#9000,2176004#300,2001006#100|2001007#100|2001008#100|2001009#100,2176005#300","2176003#9000,2176004#300,2001006#100|2001007#100|2001008#100|2001009#100,2176005#300","60176#41#42#61000",60176,41,42,61000]
[{"$nulls":4},"1#2177001|2#2177002",2177001,2177002,"5#3","1#9000|2#300|3#400|4#300",null,"2177003#10000,2177004#10000,2177005#10000,2001009#10000",2177003,2177004,2177005,2001006,2001007,2001008,2001009,0.1,0.9,"","2001006#100|2001007#100|2001008#100|2001009#100","2177003#9000,2177004#300,2001006#100|2001007#100|2001008#100|2001009#100,2177005#300","2177003#9000,2177004#300,2001006#100|2001007#100|2001008#100|2001009#100,2177005#300","60177#41#42#61000",60177,41,42,61000]
[{"$nulls":4},"1#2178001|2#2178002",2178001,2178002,"5#3","1#9000|2#300|3#400|4#300",null,"2178003#10000,2178004#10000,2178005#10000,2001009#10000",2178003,2178004,2178005,2001006,2001007,2001008,2001009,0.1,0.9,"","2001006#100|2001007#100|2001008#100|2001009#100","2178003#9000,2178004#300,2001006#100|2001007#100|2001008#100|2001009#100,2178005#300","2178003#9000,2178004#300,2001006#100|2001007#100|2001008#100|2001009#100,2178005#300","60178#41#42#61000",60178,41,42,61000]
[{"$nulls":4},"1#2179001|2#2179002",2179001,2179002,"5#3","1#9000|2#300|3#400|4#300",null,"2179003#10000,2179004#10000,2179005#10000,2001009#10000",2179003,2179004,2179005,2001006,2001007,2001008,2001009,0.1,0.9,"","2001006#100|2001007#100|2001008#100|2001009#100","2179003#9000,2179004#300,2001006#100|2001007#100|2001008#100|2001009#100,2179005#300","2179003#9000,2179004#300,2001006#100|2001007#100|2001008#100|2001009#100,2179005#300","60179#41#42#61000",60179,41,42,61000]
[{"$nulls":4},"1#2180001|2#2180002",2180001,2180002,"5#3","1#10000",null,"2180003#10000,2180004#10000,2180005#10000,2001009#10000",2180003,2180004,2180005,2001006,2001007,2001008,2001009,0,1,"2180003#10000","2001006#100|2001007#100|2001008#100|2001009#100","","2180003#10000","60180#41#42#61000",60180,41,42,61000]
[{"$nulls":4},"1#2181001|2#2181002",2181001,2181002,"5#3","1#9000|2#300|3#400|4#300",null,"2181003#10000,2181004#10000,2181005#10000,2001009#10000",2181003,2181004,2181005,2001006,2001007,2001008,2001009,0.1,0.9,"","2001006#100|2001007#100|2001008#100|2001009#100","2181003#9000,2181004#300,2001006#100|2001007#100|2001008#100|2001009#100,2181005#300","2181003#9000,2181004#300,2001006#100|2001007#100|2001008#100|2001009#100,2181005#300","60181#41#42#61000",60181,41,42,61000]
[{"$nulls":4},"1#2182001|2#2182002",2182001,2182002,"5#3","1#9000|2#300|3#400|4#300",null,"2182003#10000,2182004#10000,2182005#10000,2001009#10000",2182003,2182004,2182005,2001006,2001007,2001008,2001009,0.1,0.9,"","2001006#100|2001007#100|2001008#100|2001009#100","2182003#9000,2182004#300,2001006#100|2001007#100|2001008#100|2001009#100,2182005#300","2182003#9000,2182004#300,2001006#100|2001007#100|2001008#100|2001009#100,2182005#300","60182#41#42#61000",60182,41,42,61000]
[{"$nulls":4},"1#2183001|2#2183002",2183001,2183002,"5#3","1#9000|2#300|3#400|4#300",null,"2183003#10000,2183004#10000,2183005#10000,2001009#10000",{"$f":"L189+1000","v":2183003},2183004,2183005,{"$f":"O189","v":2001006},2001007,2001008,2001009,0.1,0.9,"","2001006#100|2001007#100|2001008#100|2001009#100","2183003#9000,2183004#300,2001006#100|2001007#100|2001008#100|2001009#100,2183005#300","2183003#9000,2183004#300,2001006#100|2001007#100|2001008#100|2001009#100,2183005#300","60183#41#42#61000",60183,41,42,61000]
[{"$nulls":4},"1#2184001|2#2184002",2184001,2184002,"5#3","1#9000|2#300|3#400|4#300",null,"2184003#10000,2184004#10000,2184005#10000,2001009#10000",{"$f":"L190+1000","v":2184003},2184004,2184005,{"$f":"O190","v":2001006},2001007,2001008,2001009,0.1,0.9,"","2001006#100|2001007#100|2001008#100|2001009#100","2184003#9000,2184004#300,2001006#100|2001007#100|2001008#100|2001009#100,2184005#300","2184003#9000,2184004#300,2001006#100|2001007#100|2001008#100|2001009#100,2184005#300","60184#41#42#61000",60184,41,42,61000]
[{"$nulls":4},"1#2185001|2#2185002",2185001,2185002,"5#3","1#10000",null,"2185003#10000,2185004#10000,2185005#10000,2001009#10000",{"$f":"L191+1000","v":2185003},2185004,2185005,{"$f":"O191","v":2001006},2001007,2001008,2001009,0,1,"2185003#10000","2001006#100|2001007#100|2001008#100|2001009#100","","2185003#10000","60185#41#42#61000",60185,41,42,61000]
[{"$nulls":4},"1#2186001|2#2186002",2186001,2186002,"5#3","1#9000|2#300|3#400|4#300",null,"2186003#10000,2186004#10000,2186005#10000,2001009#10000",{"$f":"L192+1000","v":2186003},2186004,2186005,{"$f":"O192","v":2001006},2001007,2001008,2001009,0.1,0.9,"","2001006#100|2001007#100|2001008#100|2001009#100","2186003#9000,2186004#300,2001006#100|2001007#100|2001008#100|2001009#100,2186005#300","2186003#9000,2186004#300,2001006#100|2001007#100|2001008#100|2001009#100,2186005#300","60186#41#42#61000",60186,41,42,61000]
[{"$nulls":4},"1#2187001|2#2187002",2187001,2187002,"5#3","1#9000|2#300|3#400|4#300",null,"2187003#10000,2187004#10000,2187005#10000,2001009#10000",{"$f":"L193+1000","v":2187003},2187004,2187005,{"$f":"O193","v":2001006},2001007,2001008,2001009,0.1,0.9,"","2001006#100|2001007#100|2001008#100|2001009#100","2187003#9000,2187004#300,2001006#100|2001007#100|2001008#100|2001009#100,2187005#300","2187003#9000,2187004#300,2001006#100|2001007#100|2001008#100|2001009#100,2187005#300","60187#41#42#61000",60187,41,42,61000]
[{"$nulls":4},"1#2188001|2#2188002",2188001,2188002,"5#3","1#9000|2#300|3#400|4#300",null,"2188003#10000,2188004#10000,2188005#10000,2001009#10000",{"$f":"L194+1000","v":2188003},2188004,2188005,{"$f":"O194","v":2001006},2001007,2001008,2001009,0.1,0.9,"","2001006#100|2001007#100|2001008#100|2001009#100","2188003#9000,2188004#300,2001006#100|2001007#100|2001008#100|2001009#100,2188005#300","2188003#9000,2188004#300,2001006#100|2001007#100|2001008#100|2001009#100,2188005#300","60188#41#42#61000",60188,41,42,61000]
[{"$nulls":4},"1#2189001|2#2189002",2189001,2189002,"5#3","1#9000|2#300|3#400|4#300",null,"2189003#10000,2189004#10000,2189005#10000,2001009#10000",{"$f":"L195+1000","v":2189003},2189004,2189005,{"$f":"O195","v":2001006},2001007,2001008,2001009,0.1,0.9,"","2001006#100|2001007#100|2001008#100|2001009#100","2189003#9000,2189004#300,2001006#100|2001007#100|2001008#100|2001009#100,2189005#300","2189003#9000,2189004#300,2001006#100|2001007#100|2001008#100|2001009#100,2189005#300","60189#41#42#61000",60189,41,42,61000]
[{"$nulls":4},"1#2190001|2#2190002",2190001,2190002,"5#3","1#10000",null,"2190003#10000,2190004#10000,2190005#10000,2001009#10000",{"$f":"L196+1000","v":2190003},2190004,2190005,{"$f":"O196","v":2001006},2001007,2001008,2001009,0,1,"2190003#10000","2001006#100|2001007#100|2001008#100|2001009#100","","2190003#10000","60190#41#42#61000",60190,41,42,61000]
[{"$nulls":4},"1#2191001|2#2191002",2191001,2191002,"5#3","1#9000|2#300|3#400|4#300",null,"2191003#10000,2191004#10000,2191005#10000,2001009#10000",{"$f":"L197+1000","v":2191003},2191004,2191005,{"$f":"O197","v":2001006},2001007,2001008,2001009,0.1,0.9,"","2001006#100|2001007#100|2001008#100|2001009#100","2191003#9000,2191004#300,2001006#100|2001007#100|2001008#100|2001009#100,2191005#300","2191003#9000,2191004#300,2001006#100|2001007#100|2001008#100|2001009#100,2191005#300","60191#41#42#61000",60191,41,42,61000]
[{"$nulls":4},"1#2192001|2#2192002",2192001,2192002,"5#3","1#9000|2#300|3#400|4#300",null,"2192003#10000,2192004#10000,2192005#10000,2001009#10000",{"$f":"L198+1000","v":2192003},2192004,2192005,{"$f":"O198","v":2001006},2001007,2001008,2001009,0.1,0.9,"","2001006#100|2001007#100|2001008#100|2001009#100","2192003#9000,2192004#300,2001006#100|2001007#100|2001008#100|2001009#100,2192005#300","2192003#9000,2192004#300,2001006#100|2001007#100|2001008#100|2001009#100,2192005#300","60192#41#42#61000",60192,41,42,61000]
[{"$nulls":4},"1#2193001|2#2193002",2193001,2193002,"5#3","1#9000|2#300|3#400|4#300",null,"2193003#10000,2193004#10000,2193005#10000,2001009#10000",{"$f":"L199+1000","v":2193003},2193004,2193005,{"$f":"O199","v":2001006},2001007,2001008,2001009,0.1,0.9,"","2001006#100|2001007#100|2001008#100|2001009#100","2193003#9000,2193004#300,2001006#100|2001007#100|2001008#100|2001009#100,2193005#300","2193003#9000,2193004#300,2001006#100|2001007#100|2001008#100|2001009#100,2193005#300","60193#41#42#61000",60193,41,42,61000]
[{"$nulls":4},"1#2194001|2#2194002",2194001,2194002,"5#3","1#9000|2#300|3#400|4#300",null,"2194003#10000,2194004#10000,2194005#10000,2001009#10000",{"$f":"L200+1000","v":2194003},2194004,2194005,{"$f":"O200","v":2001006},2001007,2001008,2001009,0.1,0.9,"","2001006#100|2001007#100|2001008#100|2001009#100","2194003#9000,2194004#300,2001006#100|2001007#100|2001008#100|2001009#100,2194005#300","2194003#9000,2194004#300,2001006#100|2001007#100|2001008#100|2001009#100,2194005#300","60194#41#42#61000",60194,41,42,61000]
[{"$nulls":4},"1#2195001|2#2195002",2195001,2195002,"5#3","1#10000",null,"2195003#10000,2195004#10000,2195005#10000,2001009#10000",{"$f":"L201+1000","v":2195003},2195004,2195005,{"$f":"O201","v":2001006},2001007,2001008,2001009,0,1,"2195003#10000","2001006#100|2001007#100|2001008#100|2001009#100","","2195003#10000","60195#41#42#61000",60195,41,42,61000]
[{"$nulls":4},"1#2196001|2#2196002",2196001,2196002,"5#3","1#9000|2#300|3#400|4#300",null,"2196003#10000,2196004#10000,2196005#10000,2001009#10000",{"$f":"L202+1000","v":2196003},2196004,2196005,{"$f":"O202","v":2001006},2001007,2001008,2001009,0.1,0.9,"","2001006#100|2001007#100|2001008#100|2001009#100","2196003#9000,2196004#300,2001006#100|2001007#100|2001008#100|2001009#100,2196005#300","2196003#9000,2196004#300,2001006#100|2001007#100|2001008#100|2001009#100,2196005#300","60196#41#42#61000",60196,41,42,61000]
[{"$nulls":4},"1#2197001|2#2197002",2197001,2197002,"5#3","1#9000|2#300|3#400|4#300",null,"2197003#10000,2197004#10000,2197005#10000,2001009#10000",{"$f":"L203+1000","v":2197003},2197004,2197005,{"$f":"O203","v":2001006},2001007,2001008,2001009,0.1,0.9,"","2001006#100|2001007#100|2001008#100|2001009#100","2197003#9000,2197004#300,2001006#100|2001007#100|2001008#100|2001009#100,2197005#300","2197003#9000,2197004#300,2001006#100|2001007#100|2001008#100|2001009#100,2197005#300","60197#41#42#61000",60197,41,42,61000]
[{"$nulls":4},"1#2198001|2#2198002",2198001,2198002,"5#3","1#9000|2#300|3#400|4#300",null,"2198003#10000,2198004#10000,2198005#10000,2001009#10000",{"$f":"L204+1000","v":2198003},2198004,2198005,{"$f":"O204","v":2001006},2001007,2001008,2001009,0.1,0.9,"","2001006#100|2001007#100|2001008#100|2001009#100","2198003#9000,2198004#300,2001006#100|2001007#100|2001008#100|2001009#100,2198005#300","2198003#9000,2198004#300,2001006#100|2001007#100|2001008#100|2001009#100,2198005#300","60198#41#42#61000",60198,41,42,61000]
[{"$nulls":4},"1#2199001|2#2199002",2199001,2199002,"5#3","1#9000|2#300|3#400|4#300",null,"2199003#10000,2199004#10000,2199005#10000,2001009#10000",{"$f":"L205+1000","v":2199003},2199004,2199005,{"$f":"O205","v":2001006},2001007,2001008,2001009,0.1,0.9,"","2001006#100|2001007#100|2001008#100|2001009#100","2199003#9000,2199004#300,2001006#100|2001007#100|2001008#100|2001009#100,2199005#300","2199003#9000,2199004#300,2001006#100|2001007#100|2001008#100|2001009#100,2199005#300","60199#41#42#61000",60199,41,42,61000]
[{"$nulls":4},"1#2200001|2#2200002",2200001,2200002,"5#3","1#10000",null,"2200003#10000,2200004#10000,2200005#10000,2001009#10000",{"$f":"L206+1000","v":2200003},2200004,2200005,{"$f":"O206","v":2001006},2001007,2001008,2001009,0,1,"2200003#10000","2001006#100|2001007#100|2001008#100|2001009#100","","2200003#10000","60200#41#42#61000",60200,41,42,61000]