{"text_format":"3","workbook":"xlsx","n_sheets":3,"sheets":["MainLevelConfig","Sheet1","Sheet2"],"not_rendered":{"external_links":1,"defined_names":1,"comments":1},"read":"whole","date_system":"1900"}

{"sheet":"MainLevelConfig","index":0,"n_rows":2557,"n_cols":22,"rows_kept":2557}
[null,"Id","Difficulty","Name","NextLevel","LevelLimit","PicShow","MonsterGroup","Reward","RandomRewardMin","RandomReward","RewardShowMin","RewardShow","RecommendFightAbility","RankTime","InvasionBoss","InvasionBossReward","InvasionBossTime","InvasionBossHolding","LevelPointPosition","RoleDirection","SortId"]
[null,"int","int","string","int","int","int","int","mut,int#int,1","mut,int#int,1","mut,int#int,1","mut,int#int,2","mut,int#int,2","int","int","mut,int#int,2","mut,int#int,2","int","int","mut,float#float,1","int","int"]
[null,2,2,3,2,2,3,2,4,4,2,3,3,2,2,4,2,2,2,3,3,3]
[null,"关卡ID","关卡难度\n1简单2普通3困难4地狱5噩梦","关卡名称","后置关卡","需要等级","新章节开启拍脸图","关联的怪物组id","通关奖励","挂机固定收益\n","挂机随机奖励\n","挂机固定奖励","挂机随机奖励","推荐战力","关卡时间需求","外敌入侵怪物组\n怪物组id#权重|怪物组id#权重","外敌入侵发现者奖励\n怪物组id#奖励组id|怪物组id#奖励组id","外敌入侵最大战斗时长(s）","外敌入侵保留时间(s)","章节地图位置点的坐标","小人奔跑方向（1左2右）","索引"]
["默认值",0,null," ",0,0,0,0,0,0,0,null,null,0,0]
["正确性校对"]
["校对值"]
[null,"1011",1,"简单1-1","1021",1,0,51001,205000,9101,"20001#20003#20011#20004#20002#20018","17#10|3#45|14#200|79#10","60001#1|60016#1|60022#1|60025#1",1000,20,"601011#400|601012#600","601011#210101|601012#210101",90,10800,"433#-270",1,1]
[null,"1021",1,"简单1-2","1031",1,0,51002,205001,9102,"20001#20003#20011#20004#20002#20018","17#10|3#55|14#200|79#10","60001#1|60016#1|60022#1|60025#1",1001,20,"601011#400|601012#600","601011#210101|601012#210101",90,10800,"348#-313",1,2]
[null,"1031",1,"简单1-3","1041",1,0,51003,205002,9103,"20001#20003#20011#20004#20002#20018","17#10|3#55|14#210|79#10","60001#1|60016#1|60022#1|60025#1",1002,20,"601011#400|601012#600","601011#210101|601012#210101",90,10800,"259#-356",1,3]
[null,"1041",1,"简单1-4","1051",1,0,51004,205003,9104,"20001#20003#20011#20004#20002#20018","17#20|3#55|14#210|79#10","60001#1|60016#1|60022#1|60025#1",1003,20,"601011#400|601012#600","601011#210101|601012#210101",90,10800,"149#-359",1,4]
[null,"1051",1,"简单1-5","1061",1,0,51005,205004,9105,"20001#20003#20011#20004#20002#20018","17#20|3#65|14#210|79#10","60001#1|60016#1|60022#1|60025#1",1004,20,"601011#400|601012#600","601011#210101|601012#210101",90,10800,"35#-364",1,5]
[null,"1061",1,"简单1-6","1071",1,0,51006,205005,9106,"20001#20003#20011#20004#20002#20018","17#20|3#65|14#220|79#10","60001#1|60016#1|60022#1|60025#1",1004,20,"601011#400|601012#600","601011#210101|601012#210101",90,10800,"-68#-379",1,6]
[null,"1071",1,"简单1-7","1081",1,0,51007,205006,9107,"20001#20003#20011#20004#20002#20018","17#30|3#65|14#220|79#10","60001#1|60016#1|60022#1|60025#1",1004,20,"601011#400|601012#600","601011#210101|601012#210101",90,10800,"-160#-420",1,7]
[null,"1081",1,"简单1-8","1091",1,0,51008,205007,9108,"20001#20003#20011#20004#20002#20018","17#30|3#75|14#220|79#10","60001#1|60016#1|60022#1|60025#1",1004,20,"601011#400|601012#600","601011#210101|601012#210101",90,10800,"-245#-410",1,8]
[null,"1091",1,"简单1-9","1101",1,0,51009,205008,9109,"20001#20003#20011#20004#20002#20018","17#30|3#75|14#230|79#10","60001#1|60016#1|60022#1|60025#1",1004,20,"601011#400|601012#600","601011#210101|601012#210101",90,10800,"-225#-325",1,9]
[null,"1101",1,"简单1-10","1111",1,0,51010,205009,9110,"20001#20003#20011#20004#20002#20018","17#40|3#75|14#230|79#10","60001#1|60016#1|60022#1|60025#1",1004,20,"601011#400|601012#600","601011#210101|601012#210101",90,10800,"-292#-272",1,10]
[null,"1111",1,"简单1-11","1121",1,0,51011,205010,9111,"20001#20003#20011#20004#20002#20018","17#40|3#85|14#230|79#10","60001#1|60016#1|60022#1|60025#1",1004,20,"601011#400|601012#600","601011#210101|601012#210101",90,10800,"-366#-212",2,11]
[null,"1121",1,"简单1-12","1131",1,0,51012,205011,9112,"20001#20003#20011#20004#20002#20018","17#40|3#85|14#240|79#10","60001#1|60016#1|60022#1|60025#1",1004,20,"601011#400|601012#600","601011#210101|601012#210101",90,10800,"-294#-152",2,12]
[null,"1131",1,"简单1-13","1141",1,0,51013,205012,9113,"20001#20003#20011#20004#20002#20018","17#50|3#85|14#240|79#10","60001#1|60016#1|60022#1|60025#1",1004,20,"601011#400|601012#600","601011#210101|601012#210101",90,10800,"-191#-146",2,13]
[null,"1141",1,"简单1-14","1151",1,0,51014,205013,9114,"20001#20003#20011#20004#20002#20018","17#50|3#95|14#240|79#10","60001#1|60016#1|60022#1|60025#1",1004,20,"601011#400|601012#600","601011#210101|601012#210101",90,10800,"-161#-241",2,14]
[null,"1151",1,"简单1-15","1161",1,0,51015,205014,9115,"20001#20003#20011#20004#20002#20018","17#50|3#95|14#250|79#10","60001#1|60016#1|60022#1|60025#1",1004,20,"601011#400|601012#600","601011#210101|601012#210101",90,10800,"-57#-243",2,15]
[null,"1161",1,"简单1-16","1171",1,0,51016,205015,9116,"20001#20003#20011#20004#20002#20018","17#60|3#95|14#250|79#10","60001#1|60016#1|60022#1|60025#1",1004,20,"601011#400|601012#600","601011#210101|601012#210101",90,10800,"58#-226",2,16]
[null,"1171",1,"简单1-17","1181",1,0,51017,205016,9117,"20001#20003#20011#20004#20002#20018","17#60|3#105|14#250|79#10","60001#1|60016#1|60022#1|60025#1",1004,20,"601011#400|601012#600","601011#210101|601012#210101",90,10800,"165#-249",2,17]
[null,"1181",1,"简单1-18","1191",1,0,51018,205017,9118,"20001#20003#20011#20004#20002#20018","17#60|3#105|14#260|79#10","60001#1|60016#1|60022#1|60025#1",1004,20,"601011#400|601012#600","601011#210101|601012#210101",90,10800,"255#-233",2,18]
[null,"1191",1,"简单1-19","1201",1,0,51019,205018,9119,"20001#20003#20011#20004#20002#20018","17#70|3#105|14#260|79#10","60001#1|60016#1|60022#1|60025#1",1004,20,"601011#400|601012#600","601011#210101|601012#210101",90,10800,"218#-161",1,19]
[null,"1201",1,"简单1-20","2011",3,0,51020,205019,9120,"20001#20003#20011#20004#20002#20018","17#70|3#115|14#260|79#10","60001#1|60016#1|60022#1|60025#1",1004,20,"601011#400|601012#600","601011#210101|601012#210101",90,10800,"110#-147",1,20]
[null,"2011",1,"简单2-1","2021",3,1,51021,205020,9121,"20001#20003#20011#20004#20005#20002#20018","17#70|3#115|14#270|79#10","60002#1|60017#1|60023#1|60026#1",1004,20,"601011#400|601012#600","601011#210101|601012#210101",90,10800,"462#-73",2,21]
[null,"2021",1,"简单2-2","2031",3,0,51022,205021,9122,"20001#20003#20011#20004#20005#20002#20018","17#80|3#115|14#270|79#10","60002#1|60017#1|60023#1|60026#1",1004,20,"601011#400|601012#600","601011#210101|601012#210101",90,10800,"431#-142",1,22]
[null,"2031",1,"简单2-3","2041",3,0,51023,205022,9123,"20001#20003#20011#20004#20005#20002#20018","17#80|3#125|14#270|79#10","60002#1|60017#1|60023#1|60026#1",1004,20,"601011#400|601012#600","601011#210101|601012#210101",90,10800,"520#-194",2,23]
[null,"2041",1,"简单2-4","2051",3,0,51024,205023,9124,"20001#20003#20011#20004#20005#20002#20018","17#80|3#125|14#280|79#10","60002#1|60017#1|60023#1|60026#1",1004,20,"601011#400|601012#600","601011#210101|601012#210101",90,10800,"476#-275",1,24]
[null,"2051",1,"简单2-5","2061",3,0,51025,205024,9125,"20001#20003#20011#20004#20005#20002#20018","17#90|3#125|14#280|79#10","60002#1|60017#1|60023#1|60026#1",1004,20,"601011#400|601012#600","601011#210101|601012#210101",90,10800,"354#-289",1,25]
[null,"2061",1,"简单2-6","2071",3,0,51026,205025,9126,"20001#20003#20011#20004#20005#20002#20018","17#90|3#135|14#280|79#10","60002#1|60017#1|60023#1|60026#1",1004,20,"601011#400|601012#600","601011#210101|601012#210101",90,10800,"234#-313",1,26]
[null,"2071",1,"简单2-7","2081",5,0,51027,205026,9127,"20001#20003#20011#20004#20005#20002#20018","17#90|3#135|14#290|79#10","60002#1|60017#1|60023#1|60026#1",1004,20,"601011#400|601012#600","601011#210101|601012#210101",90,10800,"220#-224",1,27]
[null,"2081",1,"简单2-8","2091",5,0,51028,205027,9128,"20001#20003#20011#20004#20005#20002#20018","17#100|3#135|14#290|79#10","60002#1|60017#1|60023#1|60026#1",1004,20,"601011#400|601012#600","601011#210101|601012#210101",90,10800,"178#-143",2,28]
[null,"2091",1,"简单2-9","2101",5,0,51029,205028,9129,"20001#20003#20011#20004#20005#20002#20018","17#100|3#145|14#290|79#10","60002#1|60017#1|60023#1|60026#1",1004,20,"601011#400|601012#600","601011#210101|601012#210101",90,10800,"189#-80",1,29]
[null,"2101",1,"简单2-10","2111",5,0,51030,205029,9130,"20001#20003#20011#20004#20005#20002#20018","17#100|3#145|14#300|79#10","60002#1|60017#1|60023#1|60026#1",1004,20,"601011#400|601012#600","601011#210101|601012#210101",90,10800,"75#-77",1,30]
[null,"2111",1,"简单2-11","2121",5,0,51031,205030,9131,"20001#20003#20011#20004#20005#20002#20018","17#110|3#145|14#300|79#10","60002#1|60017#1|60023#1|60026#1",1004,20,"601011#400|601012#600","601011#210101|601012#210101",90,10800,"-43#-87",1,31]
[null,"2121",1,"简单2-12","2131",5,0,51032,205031,9132,"20001#20003#20011#20004#20005#20002#20018","17#110|3#155|14#300|79#10","60002#1|60017#1|60023#1|60026#1",1004,20,"601011#400|601012#600","601011#210101|601012#210101",90,10800,"-45#-178",2,32]
[null,"2131",1,"简单2-13","2141",5,0,51033,205032,9133,"20001#20003#20011#20004#20005#20002#20018","17#110|3#155|14#310|79#10","60002#1|60017#1|60023#1|60026#1",1004,20,"601011#400|601012#600","601011#210101|601012#210101",90,10800,"-1#-270",1,33]
[null,"2141",1,"简单2-14","2151",7,0,51034,205033,9134,"20001#20003#20011#20004#20005#20002#20018","17#120|3#155|14#310|79#10","60002#1|60017#1|60023#1|60026#1",1004,20,"601011#400|601012#600","601011#210101|601012#210101",90,10800,"-92#-320",1,34]
[null,"2151",1,"简单2-15","2161",7,0,51035,205034,9135,"20001#20003#20011#20004#20005#20002#20018","17#120|3#165|14#310|79#10","60002#1|60017#1|60023#1|60026#1",1004,20,"601011#400|601012#600","601011#210101|601012#210101",90,10800,"-212#-311",1,35]
[null,"2161",1,"简单2-16","2171",7,0,51036,205035,9136,"20001#20003#20011#20004#20005#20002#20018","17#120|3#165|14#320|79#10","60002#1|60017#1|60023#1|60026#1",1004,20,"601011#400|601012#600","601011#210101|601012#210101",90,10800,"-313#-257",1,36]
[null,"2171",1,"简单2-17","2181",7,0,51037,205036,9137,"20001#20003#20011#20004#20005#20002#20018","17#130|3#165|14#320|79#10","60002#1|60017#1|60023#1|60026#1",1004,20,"601011#400|601012#600","601011#210101|601012#210101",90,10800,"-409#-213",1,37]
[null,"2181",1,"简单2-18","2191",7,0,51038,205037,9138,"20001#20003#20011#20004#20005#20002#20018","17#130|3#175|14#320|79#10","60002#1|60017#1|60023#1|60026#1",1004,20,"601011#400|601012#600","601011#210101|601012#210101",90,10800,"-338#-160",2,38]
[null,"2191",1,"简单2-19","2201",7,0,51039,205038,9139,"20001#20003#20011#20004#20005#20002#20018","17#130|3#175|14#330|79#10","60002#1|60017#1|60023#1|60026#1",1004,20,"601011#400|601012#600","601011#210101|601012#210101",90,10800,"-284#-103",1,39]
[null,"2201",1,"简单2-20","3011",9,0,51040,205039,9140,"20001#20003#20011#20004#20005#20002#20018","17#140|3#175|14#330|79#10","60002#1|60017#1|60023#1|60026#1",1004,20,"601011#400|601012#600","601011#210101|601012#210101",90,10800,"-232#-33",2,40]
[null,"3011",1,"简单3-1","3021",9,1,51041,205040,9141,"20001#20003#20011#20006#20004#20002#20018","17#140|3#185|14#330|79#10","60034#1|60049#1|60055#1|60058#1",1004,20,"601011#400|601012#600","601011#210101|601012#210101",90,10800,"443#-349",2,41]
[null,"3021",1,"简单3-2","3031",9,0,51042,205041,9142,"20001#20003#20011#20006#20004#20002#20018","17#140|3#185|14#340|79#10","60034#1|60049#1|60055#1|60058#1",1004,20,"601011#400|601012#600","601011#210101|601012#210101",90,10800,"518#-278",1,42]
[null,"3031",1,"简单3-3","3041",9,0,51043,205042,9143,"20001#20003#20011#20006#20004#20002#20018","17#150|3#185|14#340|79#10","60034#1|60049#1|60055#1|60058#1",1004,20,"601011#400|601012#600","601011#210101|601012#210101",90,10800,"399#-240",1,43]
[null,"3041",1,"简单3-4","3051",9,0,51044,205043,9144,"20001#20003#20011#20006#20004#20002#20018","17#150|3#195|14#340|79#10","60034#1|60049#1|60055#1|60058#1",1004,20,"601011#400|601012#600","601011#210101|601012#210101",90,10800,"269#-224",1,44]
[null,"3051",1,"简单3-5","3061",9,0,51045,205044,9145,"20001#20003#20011#20006#20004#20002#20018","17#150|3#195|14#350|79#10","60034#1|60049#1|60055#1|60058#1",1004,20,"601011#400|601012#600","601011#210101|601012#210101",90,10800,"320#-139",1,45]
[null,"3061",1,"简单3-6","3071",9,0,51046,205045,9146,"20001#20003#20011#20006#20004#20002#20018","17#160|3#195|14#350|79#10","60034#1|60049#1|60055#1|60058#1",1004,20,"601011#400|601012#600","601011#210101|601012#210101",90,10800,"189#-128",1,46]
[null,"3071",1,"简单3-7","3081",11,0,51047,205046,9147,"20001#20003#20011#20006#20004#20002#20018","17#160|3#205|14#350|79#10","60034#1|60049#1|60055#1|60058#1",1004,20,"601011#400|601012#600","601011#210101|601012#210101",90,10800,"67#-166",1,47]
[null,"3081",1,"简单3-8","3091",11,0,51048,205047,9148,"20001#20003#20011#20006#20004#20002#20018","17#160|3#205|14#360|79#10","60034#1|60049#1|60055#1|60058#1",1004,20,"601011#400|601012#600","601011#210101|601012#210101",90,10800,"-53#-155",1,48]
[null,"3091",1,"简单3-9","3101",11,0,51049,205048,9149,"20001#20003#20011#20006#20004#20002#20018","17#170|3#205|14#360|79#10","60034#1|60049#1|60055#1|60058#1",1004,20,"601011#400|601012#600","601011#210101|601012#210101",90,10800,"-136#-186",2,49]
[null,"3101",1,"简单3-10","3111",11,0,51050,205049,9150,"20001#20003#20011#20006#20004#20002#20018","17#170|3#215|14#360|79#10","60034#1|60049#1|60055#1|60058#1",1004,20,"601011#400|601012#600","601011#210101|601012#210101",90,10800,"-185#-228",1,50]
[null,"3111",1,"简单3-11","3121",11,0,51051,205050,9151,"20001#20003#20011#20006#20004#20002#20018","17#170|3#215|14#370|79#10","60034#1|60049#1|60055#1|60058#1",1004,20,"601011#400|601012#600","601011#210101|601012#210101",90,10800,"-298#-201",1,51]
[null,"3121",1,"简单3-12","3131",11,0,51052,205051,9152,"20001#20003#20011#20006#20004#20002#20018","17#180|3#215|14#370|79#10","60034#1|60049#1|60055#1|60058#1",1004,20,"601011#400|601012#600","601011#210101|601012#210101",90,10800,"-411#-193",1,52]
[null,"3131",1,"简单3-13","3141",11,0,51053,205052,9153,"20001#20003#20011#20006#20004#20002#20018","17#180|3#225|14#370|79#10","60034#1|60049#1|60055#1|60058#1",1004,20,"601011#400|601012#600","601011#210101|601012#210101",90,10800,"-336#-129",2,53]
[null,"3141",1,"简单3-14","3151",13,0,51054,205053,9154,"20001#20003#20011#20006#20004#20002#20018","17#180|3#225|14#380|79#10","60034#1|60049#1|60055#1|60058#1",1004,20,"601011#400|601012#600","601011#210101|601012#210101",90,10800,"-218#-129",2,54]
[null,"3151",1,"简单3-15","3161",13,0,51055,205054,9155,"20001#20003#20011#20006#20004#20002#20018","17#190|3#225|14#380|79#10","60034#1|60049#1|60055#1|60058#1",1004,20,"601011#400|601012#600","601011#210101|601012#210101",90,10800,"-198#-68",1,55]
[null,"3161",1,"简单3-16","3171",13,0,51056,205055,9156,"20001#20003#20011#20006#20004#20002#20018","17#190|3#235|14#380|79#10","60034#1|60049#1|60055#1|60058#1",1004,20,"601011#400|601012#600","601011#210101|601012#210101",90,10800,"-203#6",2,56]
[null,"3171",1,"简单3-17","3181",13,0,51057,205056,9157,"20001#20003#20011#20006#20004#20002#20018","17#190|3#235|14#390|79#10","60034#1|60049#1|60055#1|60058#1",1004,20,"601011#400|601012#600","601011#210101|601012#210101",90,10800,"-91#32",2,57]
[null,"3181",1,"简单3-18","3191",13,0,51058,205057,9158,"20001#20003#20011#20006#20004#20002#20018","17#200|3#235|14#390|79#10","60034#1|60049#1|60055#1|60058#1",1004,20,"601011#400|601012#600","601011#210101|601012#210101",90,10800,"25#32",2,58]
[null,"3191",1,"简单3-19","3201",13,0,51059,205058,9159,"20001#20003#20011#20006#20004#20002#20018","17#200|3#245|14#390|79#10","60034#1|60049#1|60055#1|60058#1",1004,20,"601011#400|601012#600","601011#210101|601012#210101",90,10800,"44#99",1,59]
[null,"3201",1,"简单3-20","4011",15,0,51060,205059,9160,"20001#20003#20011#20006#20004#20002#20018","17#200|3#245|14#400|79#10","60034#1|60049#1|60055#1|60058#1",1004,20,"601011#400|601012#600","601011#210101|601012#210101",90,10800,"-70#149",1,60]
[null,"4011",1,"简单4-1","4021",15,1,51061,205060,9161,"20001#20003#20011#20006#20004#20002#20018","17#210|3#245|14#400|79#10","60034#1|60049#1|60055#1|60058#1",1004,20,"601011#400|601012#600","601011#210101|601012#210101",90,10800,"-375#-181",2,61]
[null,"4021",1,"简单4-2","4031",15,0,51062,205061,9162,"20001#20003#20011#20006#20004#20002#20018","17#210|3#255|14#400|79#10","60034#1|60049#1|60055#1|60058#1",1004,20,"601011#400|601012#600","601011#210101|601012#210101",90,10800,"-232#-191",2,62]
[null,"4031",1,"简单4-3","4041",15,0,51063,205062,9163,"20001#20003#20011#20006#20004#20002#20018","17#210|3#255|14#410|79#10","60034#1|60049#1|60055#1|60058#1",1004,20,"601011#400|601012#600","601011#210101|601012#210101",90,10800,"-115#-277",2,63]
[null,"4041",1,"简单4-4","4051",15,0,51064,205063,9164,"20001#20003#20011#20006#20004#20002#20018","17#220|3#255|14#410|79#10","60034#1|60049#1|60055#1|60058#1",1004,20,"601011#400|601012#600","601011#210101|601012#210101",90,10800,"14#-366",2,64]
[null,"4051",1,"简单4-5","4061",15,0,51065,205064,9165,"20001#20003#20011#20006#20004#20002#20018","17#220|3#265|14#410|79#10","60034#1|60049#1|60055#1|60058#1",1004,20,"601011#400|601012#600","601011#210101|601012#210101",90,10800,"49#-292",2,65]
[null,"4061",1,"简单4-6","4071",15,0,51066,205065,9166,"20001#20003#20011#20006#20004#20002#20018","17#220|3#265|14#420|79#10","60034#1|60049#1|60055#1|60058#1",1004,20,"601011#400|601012#600","601011#210101|601012#210101",90,10800,"175#-282",2,66]
[null,"4071",1,"简单4-7","4081",17,0,51067,205066,9167,"20001#20003#20011#20006#20004#20002#20018","17#230|3#265|14#420|79#10","60034#1|60049#1|60055#1|60058#1",1004,20,"601011#400|601012#600","601011#210101|601012#210101",90,10800,"294#-298",2,67]
[null,"4081",1,"简单4-8","4091",17,0,51068,205067,9168,"20001#20003#20011#20006#20004#20002#20018","17#230|3#275|14#420|79#10","60034#1|60049#1|60055#1|60058#1",1004,20,"601011#400|601012#600","601011#210101|601012#210101",90,10800,"397#-249",2,68]
[null,"4091",1,"简单4-9","4101",17,0,51069,205068,9169,"20001#20003#20011#20006#20004#20002#20018","17#230|3#275|14#430|79#10","60034#1|60049#1|60055#1|60058#1",1004,20,"601011#400|601012#600","601011#210101|601012#210101",90,10800,"280#-194",1,69]
[null,"4101",1,"简单4-10","4111",17,0,51070,205069,9170,"20001#20003#20011#20006#20004#20002#20018","17#240|3#275|14#430|79#10","60034#1|60049#1|60055#1|60058#1",1004,20,"601011#400|601012#600","601011#210101|601012#210101",90,10800,"155#-197",1,70]
[null,"4111",1,"简单4-11","4121",17,0,51071,205070,9171,"20001#20003#20011#20007#20004#20002#20018","17#240|3#285|14#430|79#10","60035#1|60050#1|60056#1|60059#1",1004,20,"601011#400|601012#600","601011#210101|601012#210101",90,10800,"125#-137",2,71]
[null,"4121",1,"简单4-12","4131",17,0,51072,205071,9172,"20001#20003#20011#20007#20004#20002#20018","17#240|3#285|14#440|79#10","60035#1|60050#1|60056#1|60059#1",1004,20,"601011#400|601012#600","601011#210101|601012#210101",90,10800,"30#-104",1,72]
[null,"4131",1,"简单4-13","4141",17,0,51073,205072,9173,"20001#20003#20011#20007#20004#20002#20018","17#250|3#285|14#440|79#10","60035#1|60050#1|60056#1|60059#1",1004,20,"601011#400|601012#600","601011#210101|601012#210101",90,10800,"-82#-116",1,73]
[null,"4141",1,"简单4-14","4151",19,0,51074,205073,9174,"20001#20003#20011#20007#20004#20002#20018","17#250|3#295|14#440|79#10","60035#1|60050#1|60056#1|60059#1",1004,20,"601011#400|601012#600","601011#210101|601012#210101",90,10800,"-199#-106",1,74]
[null,"4151",1,"简单4-15","4161",19,0,51075,205074,9175,"20001#20003#20011#20007#20004#20002#20018","17#250|3#295|14#450|79#10","60035#1|60050#1|60056#1|60059#1",1004,20,"601011#400|601012#600","601011#210101|601012#210101",90,10800,"-155#-38",2,75]
[null,"4161",1,"简单4-16","4171",19,0,51076,205075,9176,"20001#20003#20011#20007#20004#20002#20018","17#260|3#295|14#450|79#10","60035#1|60050#1|60056#1|60059#1",1004,20,"601011#400|601012#600","601011#210101|601012#210101",90,10800,"-38#-33",2,76]
[null,"4171",1,"简单4-17","4181",19,0,51077,205076,9177,"20001#20003#20011#20007#20004#20002#20018","17#260|3#305|14#450|79#10","60035#1|60050#1|60056#1|60059#1",1004,20,"601011#400|601012#600","601011#210101|601012#210101",90,10800,"75#14",2,77]
[null,"4181",1,"简单4-18","4191",19,0,51078,205077,9178,"20001#20003#20011#20007#20004#20002#20018","17#260|3#305|14#460|79#10","60035#1|60050#1|60056#1|60059#1",1004,20,"601011#400|601012#600","601011#210101|601012#210101",90,10800,"202#-12",2,78]
[null,"4191",1,"简单4-19","4201",19,0,51079,205078,9179,"20001#20003#20011#20007#20004#20002#20018","17#270|3#305|14#460|79#10","60035#1|60050#1|60056#1|60059#1",1004,20,"601011#400|601012#600","601011#210101|601012#210101",90,10800,"321#-6",2,79]
[null,"4201",1,"简单4-20","5011",21,0,51080,205079,9180,"20001#20003#20011#20007#20004#20002#20018","17#270|3#315|14#460|79#10","60035#1|60050#1|60056#1|60059#1",1004,20,"601011#400|601012#600","601011#210101|601012#210101",90,10800,"301#68",1,80]
[null,"5011",1,"简单5-1","5021",21,1,51081,205080,9181,"20001#20003#20011#20007#20004#20002#20018","17#270|3#315|14#470|79#10","60035#1|60050#1|60056#1|60059#1",1004,20,"601011#400|601012#600","601011#210101|601012#210101",90,10800,"293#-348",2,81]
[null,"5021",1,"简单5-2","5031",21,0,51082,205081,9182,"20001#20003#20011#20007#20004#20002#20018","17#280|3#315|14#470|79#10","60035#1|60050#1|60056#1|60059#1",1004,20,"601011#400|601012#600","601011#210101|601012#210101",90,10800,"286#-267",1,82]
[null,"5031",1,"简单5-3","5041",21,0,51083,205082,9183,"20001#20003#20011#20007#20004#20002#20018","17#280|3#325|14#470|79#10","60035#1|60050#1|60056#1|60059#1",1004,20,"601011#400|601012#600","601011#210101|601012#210101",90,10800,"181#-199",2,83]
[null,"5041",1,"简单5-4","5051",21,0,51084,205083,9184,"20001#20003#20011#20007#20004#20002#20018","17#280|3#325|14#480|79#10","60035#1|60050#1|60056#1|60059#1",1004,20,"601011#400|601012#600","601011#210101|601012#210101",90,10800,"296#-133",1,84]
[null,"5051",1,"简单5-5","5061",21,0,51085,205084,9185,"20001#20003#20011#20007#20004#20002#20018","17#290|3#325|14#480|79#10","60035#1|60050#1|60056#1|60059#1",1004,20,"601011#400|601012#600","601011#210101|601012#210101",90,10800,"177#-71",1,85]
[null,"5061",1,"简单5-6","5071",21,0,51086,205085,9186,"20001#20003#20011#20007#20004#20002#20018","17#290|3#335|14#480|79#10","60035#1|60050#1|60056#1|60059#1",1004,20,"601011#400|601012#600","601011#210101|601012#210101",90,10800,"60#-135",1,86]
[null,"5071",1,"简单5-7","5081",23,0,51087,205086,9187,"20001#20003#20011#20007#20004#20002#20018","17#290|3#335|14#490|79#10","60035#1|60050#1|60056#1|60059#1",1004,20,"601011#400|601012#600","601011#210101|601012#210101",90,10800,"47#-252",1,87]
[null,"5081",1,"简单5-8","5091",23,0,51088,205087,9188,"20001#20003#20011#20007#20004#20002#20018","17#300|3#335|14#490|79#10","60035#1|60050#1|60056#1|60059#1",1004,20,"601011#400|601012#600","601011#210101|601012#210101",90,10800,"-66#-251",1,88]
[null,"5091",1,"简单5-9","5101",23,0,51089,205088,9189,"20001#20003#20011#20007#20004#20002#20018","17#300|3#345|14#490|79#10","60035#1|60050#1|60056#1|60059#1",1004,20,"601011#400|601012#600","601011#210101|601012#210101",90,10800,"-203#-234",1,89]
[null,"5101",1,"简单5-10","5111",23,0,51090,205089,9190,"20001#20003#20011#20007#20004#20002#20018","17#300|3#345|14#500|79#10","60035#1|60050#1|60056#1|60059#1",1004,20,"601011#400|601012#600","601011#210101|601012#210101",90,10800,"-337#-268",1,90]
[null,"5111",1,"简单5-11","5121",23,0,51091,205090,9191,"20001#20003#20011#20007#20004#20002#20018","17#310|3#345|14#500|79#10","60035#1|60050#1|60056#1|60059#1",1004,20,"601011#400|601012#600","601011#210101|601012#210101",90,10800,"-403#-176",2,91]
[null,"5121",1,"简单5-12","5131",23,0,51092,205091,9192,"20001#20003#20011#20007#20004#20002#20018","17#310|3#355|14#500|79#10","60035#1|60050#1|60056#1|60059#1",1004,20,"601011#400|601012#600","601011#210101|601012#210101",90,10800,"-274#-163",2,92]
[null,"5131",1,"简单5-13","5141",23,0,51093,205092,9193,"20001#20003#20011#20007#20004#20002#20018","17#310|3#355|14#510|79#10","60035#1|60050#1|60056#1|60059#1",1004,20,"601011#400|601012#600","601011#210101|601012#210101",90,10800,"-151#-149",2,93]
[null,"5141",1,"简单5-14","5151",25,0,51094,205093,9194,"20001#20003#20011#20007#20004#20002#20018","17#320|3#355|14#510|79#10","60035#1|60050#1|60056#1|60059#1",1004,20,"601011#400|601012#600","601011#210101|601012#210101",90,10800,"-118#-56",2,94]
[null,"5151",1,"简单5-15","5161",25,0,51095,205094,9195,"20001#20003#20011#20007#20004#20002#20018","17#320|3#365|14#510|79#10","60035#1|60050#1|60056#1|60059#1",1004,20,"601011#400|601012#600","601011#210101|601012#210101",90,10800,"-121#28",2,95]
[null,"5161",1,"简单5-16","5171",25,0,51096,205095,9196,"20001#20003#20011#20007#20004#20002#20018","17#320|3#365|14#520|79#10","60035#1|60050#1|60056#1|60059#1",1004,20,"601011#400|601012#600","601011#210101|601012#210101",90,10800,"-16#78",2,96]
[null,"5171",1,"简单5-17","5181",25,0,51097,205096,9197,"20001#20003#20011#20007#20004#20002#20018","17#330|3#365|14#520|79#10","60035#1|60050#1|60056#1|60059#1",1004,20,"601011#400|601012#600","601011#210101|601012#210101",90,10800,"111#45",2,97]
[null,"5181",1,"简单5-18","5191",25,0,51098,205097,9198,"20001#20003#20011#20007#20004#20002#20018","17#330|3#375|14#520|79#10","60035#1|60050#1|60056#1|60059#1",1004,20,"601011#400|601012#600","601011#210101|601012#210101",90,10800,"231#79",1,98]
[null,"5191",1,"简单5-19","5201",25,0,51099,205098,9199,"20001#20003#20011#20007#20004#20002#20018","17#330|3#375|14#530|79#10","60035#1|60050#1|60056#1|60059#1",1004,20,"601011#400|601012#600","601011#210101|601012#210101",90,10800,"206#144",2,99]
[null,"5201",1,"简单5-20","6011",27,0,51100,205099,9200,"20001#20003#20011#20007#20004#20002#20018","17#340|3#375|14#530|79#10","60035#1|60050#1|60056#1|60059#1",1004,20,"601011#400|601012#600","601011#210101|601012#210101",90,10800,"279#232",2,100]
[null,"6011",1,"简单6-1","6021",27,1,51101,205100,9201,"20001#20003#20011#20008#20004#20002#20018","17#340|3#385|14#530|79#11","60067#1|60082#1|60088#1|60091#1",1004,20,"601011#400|601012#600","601011#210101|601012#210101",90,10800,"132#-353",1,101]
[null,"6021",1,"简单6-2","6031",27,0,51102,205101,9202,"20001#20003#20011#20008#20004#20002#20018","17#340|3#385|14#540|79#11","60067#1|60082#1|60088#1|60091#1",1004,20,"601011#400|601012#600","601011#210101|601012#210101",90,10800,"38#-340",1,102]
[null,"6031",1,"简单6-3","6041",27,0,51103,205102,9203,"20001#20003#20011#20008#20004#20002#20018","17#350|3#385|14#540|79#11","60067#1|60082#1|60088#1|60091#1",1004,20,"601011#400|601012#600","601011#210101|601012#210101",90,10800,"-38#-294",2,103]
[null,"6041",1,"简单6-4","6051",27,0,51104,205103,9204,"20001#20003#20011#20008#20004#20002#20018","17#350|3#395|14#540|79#11","60067#1|60082#1|60088#1|60091#1",1004,20,"601011#400|601012#600","601011#210101|601012#210101",90,10800,"25#-231",1,104]
[null,"6051",1,"简单6-5","6061",27,0,51105,205104,9205,"20001#20003#20011#20008#20004#20002#20018","17#350|3#395|14#550|79#11","60067#1|60082#1|60088#1|60091#1",1004,20,"601011#400|601012#600","601011#210101|601012#210101",90,10800,"-79#-212",1,105]
[null,"6061",1,"简单6-6","6071",27,0,51106,205105,9206,"20001#20003#20011#20008#20004#20002#20018","17#360|3#395|14#550|79#11","60067#1|60082#1|60088#1|60091#1",1004,20,"601011#400|601012#600","601011#210101|601012#210101",90,10800,"-177#-198",1,106]
[null,"6071",1,"简单6-7","6081",29,0,51107,205106,9207,"20001#20003#20011#20008#20004#20002#20018","17#360|3#405|14#550|79#11","60067#1|60082#1|60088#1|60091#1",1004,20,"601011#400|601012#600","601011#210101|601012#210101",90,10800,"-151#-139",2,107]
[null,"6081",1,"简单6-8","6091",29,0,51108,205107,9208,"20001#20003#20011#20008#20004#20002#20018","17#360|3#405|14#560|79#11","60067#1|60082#1|60088#1|60091#1",1004,20,"601011#400|601012#600","601011#210101|601012#210101",90,10800,"-51#-149",2,108]
[null,"6091",1,"简单6-9","6101",29,0,51109,205108,9209,"20001#20003#20011#20008#20004#20002#20018","17#370|3#405|14#560|79#11","60067#1|60082#1|60088#1|60091#1",1004,20,"601011#400|601012#600","601011#210101|601012#210101",90,10800,"52#-168",2,109]
[null,"6101",1,"简单6-10","6111",29,0,51110,205109,9210,"20001#20003#20011#20008#20004#20002#20018","17#370|3#415|14#560|79#11","60067#1|60082#1|60088#1|60091#1",1004,20,"601011#400|601012#600","601011#210101|601012#210101",90,10800,"162#-162",2,110]
[null,"6111",1,"简单6-11","6121",29,0,51111,205110,9211,"20001#20003#20011#20008#20004#20002#20018","17#370|3#415|14#570|79#11","60067#1|60082#1|60088#1|60091#1",1004,20,"601011#400|601012#600","601011#210101|601012#210101",90,10800,"120#-95",1,111]
[null,"6121",1,"简单6-12","6131",29,0,51112,205111,9212,"20001#20003#20011#20008#20004#20002#20018","17#380|3#415|14#570|79#11","60067#1|60082#1|60088#1|60091#1",1004,20,"601011#400|601012#600","601011#210101|601012#210101",90,10800,"94#-33",2,112]
[null,"6131",1,"简单6-13","6141",29,0,51113,205112,9213,"20001#20003#20011#20008#20004#20002#20018","17#380|3#425|14#570|79#11","60067#1|60082#1|60088#1|60091#1",1004,20,"601011#400|601012#600","601011#210101|601012#210101",90,10800,"191#-38",2,113]
[null,"6141",1,"简单6-14","6151",31,0,51114,205113,9214,"20001#20003#20011#20008#20004#20002#20018","17#380|3#425|14#580|79#11","60067#1|60082#1|60088#1|60091#1",1004,20,"601011#400|601012#600","601011#210101|601012#210101",90,10800,"283#-23",2,114]
[null,"6151",1,"简单6-15","6161",31,0,51115,205114,9215,"20001#20003#20011#20008#20004#20002#20018","17#390|3#425|14#580|79#11","60067#1|60082#1|60088#1|60091#1",1004,20,"601011#400|601012#600","601011#210101|601012#210101",90,10800,"241#45",1,115]
[null,"6161",1,"简单6-16","6171",31,0,51116,205115,9216,"20001#20003#20011#20008#20004#20002#20018","17#390|3#435|14#580|79#11","60067#1|60082#1|60088#1|60091#1",1004,20,"601011#400|601012#600","601011#210101|601012#210101",90,10800,"144#65",1,116]
[null,"6171",1,"简单6-17","6181",31,0,51117,205116,9217,"20001#20003#20011#20008#20004#20002#20018","17#390|3#435|14#590|79#11","60067#1|60082#1|60088#1|60091#1",1004,20,"601011#400|601012#600","601011#210101|601012#210101",90,10800,"65#110",1,117]
[null,"6181",1,"简单6-18","6191",31,0,51118,205117,9218,"20001#20003#20011#20008#20004#20002#20018","17#400|3#435|14#590|79#11","60067#1|60082#1|60088#1|60091#1",1004,20,"601011#400|601012#600","601011#210101|601012#210101",90,10800,"13#189",1,118]
[null,"6191",1,"简单6-19","6201",31,0,51119,205118,9219,"20001#20003#20011#20008#20004#20002#20018","17#400|3#445|14#590|79#11","60067#1|60082#1|60088#1|60091#1",1004,20,"601011#400|601012#600","601011#210101|601012#210101",90,10800,"-55#248",1,119]
[null,"6201",1,"简单6-20","7011",33,0,51120,205119,9220,"20001#20003#20011#20008#20004#20002#20018","17#400|3#445|14#600|79#11","60067#1|60082#1|60088#1|60091#1",1004,20,"601011#400|601012#600","601011#210101|601012#210101",90,10800,"-143#279",1,120]
[null,"7011",1,"简单7-1","7021",33,1,51121,205120,9221,"20001#20003#20011#20008#20004#20002#20018","17#410|3#445|14#600|79#11","60067#1|60082#1|60088#1|60091#1",1004,20,"601011#400|601012#600","601011#210101|601012#210101",90,10800,"-272#-254",2,121]
[null,"7021",1,"简单7-2","7031",33,0,51122,205121,9222,"20001#20003#20011#20008#20004#20002#20018","17#410|3#455|14#600|79#11","60067#1|60082#1|60088#1|60091#1",1004,20,"601011#400|601012#600","601011#210101|601012#210101",90,10800,"-164#-275",2,122]
[null,"7031",1,"简单7-3","7041",33,0,51123,205122,9223,"20001#20003#20011#20008#20004#20002#20018","17#410|3#455|14#610|79#11","60067#1|60082#1|60088#1|60091#1",1004,20,"601011#400|601012#600","601011#210101|601012#210101",90,10800,"-91#-226",1,123]
[null,"7041",1,"简单7-4","7051",33,0,51124,205123,9224,"20001#20003#20011#20008#20004#20002#20018","17#420|3#455|14#610|79#11","60067#1|60082#1|60088#1|60091#1",1004,20,"601011#400|601012#600","601011#210101|601012#210101",90,10800,"-73#-151",2,124]
[null,"7051",1,"简单7-5","7061",33,0,51125,205124,9225,"20001#20003#20011#20008#20004#20002#20018","17#420|3#465|14#610|79#11","60067#1|60082#1|60088#1|60091#1",1004,20,"601011#400|601012#600","601011#210101|601012#210101",90,10800,"39#-193",2,125]
[null,"7061",1,"简单7-6","7071",33,0,51126,205125,9226,"20001#20003#20011#20008#20004#20002#20018","17#420|3#465|14#620|79#11","60067#1|60082#1|60088#1|60091#1",1004,20,"601011#400|601012#600","601011#210101|601012#210101",90,10800,"135#-268",2,126]
[null,"7071",1,"简单7-7","7081",35,0,51127,205126,9227,"20001#20003#20011#20008#20004#20002#20018","17#430|3#465|14#620|79#11","60067#1|60082#1|60088#1|60091#1",1004,20,"601011#400|601012#600","601011#210101|601012#210101",90,10800,"248#-311",2,127]
[null,"7081",1,"简单7-8","7091",35,0,51128,205127,9228,"20001#20003#20011#20008#20004#20002#20018","17#430|3#475|14#620|79#11","60067#1|60082#1|60088#1|60091#1",1004,20,"601011#400|601012#600","601011#210101|601012#210101",90,10800,"357#-312",2,128]
[null,"7091",1,"简单7-9","7101",35,0,51129,205128,9229,"20001#20003#20011#20008#20004#20002#20018","17#430|3#475|14#630|79#11","60067#1|60082#1|60088#1|60091#1",1004,20,"601011#400|601012#600","601011#210101|601012#210101",90,10800,"364#-223",1,129]
[null,"7101",1,"简单7-10","7111",35,0,51130,205129,9230,"20001#20003#20011#20008#20004#20002#20018","17#440|3#475|14#630|79#11","60067#1|60082#1|60088#1|60091#1",1004,20,"601011#400|601012#600","601011#210101|601012#210101",90,10800,"370#-159",2,130]
[null,"7111",1,"简单7-11","7121",35,0,51131,205130,9231,"20001#20003#20011#20008#20004#20002#20018","17#440|3#485|14#630|79#11","60067#1|60082#1|60088#1|60091#1",1004,20,"601011#400|601012#600","601011#210101|601012#210101",90,10800,"289#-117",1,131]
[null,"7121",1,"简单7-12","7131",35,0,51132,205131,9232,"20001#20003#20011#20008#20004#20002#20018","17#440|3#485|14#640|79#11","60067#1|60082#1|60088#1|60091#1",1004,20,"601011#400|601012#600","601011#210101|601012#210101",90,10800,"185#-70",1,132]
[null,"7131",1,"简单7-13","7141",35,0,51133,205132,9233,"20001#20003#20011#20008#20004#20002#20018","17#450|3#485|14#640|79#11","60067#1|60082#1|60088#1|60091#1",1004,20,"601011#400|601012#600","601011#210101|601012#210101",90,10800,"76#-86",1,133]
[null,"7141",1,"简单7-14","7151",37,0,51134,205133,9234,"20001#20003#20011#20008#20004#20002#20018","17#450|3#495|14#640|79#11","60067#1|60082#1|60088#1|60091#1",1004,20,"601011#400|601012#600","601011#210101|601012#210101",90,10800,"-30#-87",1,134]
[null,"7151",1,"简单7-15","7161",37,0,51135,205134,9235,"20001#20003#20011#20008#20004#20002#20018","17#450|3#495|14#650|79#11","60067#1|60082#1|60088#1|60091#1",1004,20,"601011#400|601012#600","601011#210101|601012#210101",90,10800,"-136#-64",1,135]
[null,"7161",1,"简单7-16","7171",37,0,51136,205135,9236,"20001#20003#20011#20008#20004#20002#20018","17#460|3#495|14#650|79#11","60067#1|60082#1|60088#1|60091#1",1004,20,"601011#400|601012#600","601011#210101|601012#210101",90,10800,"-237#-9",1,136]
[null,"7171",1,"简单7-17","7181",37,0,51137,205136,9237,"20001#20003#20011#20008#20004#20002#20018","17#460|3#505|14#650|79#11","60067#1|60082#1|60088#1|60091#1",1004,20,"601011#400|601012#600","601011#210101|601012#210101",90,10800,"-142#61",2,137]
[null,"7181",1,"简单7-18","7191",37,0,51138,205137,9238,"20001#20003#20011#20008#20004#20002#20018","17#460|3#505|14#660|79#11","60067#1|60082#1|60088#1|60091#1",1004,20,"601011#400|601012#600","601011#210101|601012#210101",90,10800,"-20#46",2,138]
[null,"7191",1,"简单7-19","7201",37,0,51139,205138,9239,"20001#20003#20011#20008#20004#20002#20018","17#470|3#505|14#660|79#11","60067#1|60082#1|60088#1|60091#1",1004,20,"601011#400|601012#600","601011#210101|601012#210101",90,10800,"30#132",2,139]
[null,"7201",1,"简单7-20","8011",39,0,51140,205139,9240,"20001#20003#20011#20008#20004#20002#20018","17#470|3#515|14#660|79#11","60067#1|60082#1|60088#1|60091#1",1004,20,"601011#400|601012#600","601011#210101|601012#210101",90,10800,"158#145",2,140]
[null,"8011",1,"简单8-1","8021",39,1,51141,205140,9241,"20001#20003#20011#20009#20004#20002#20018","17#470|3#515|14#670|79#11","60068#1|60083#1|60089#1|60092#1",1004,20,"601011#400|601012#600","601011#210101|601012#210101",90,10800,"160#-322",1,141]
[null,"8021",1,"简单8-2","8031",39,0,51142,205141,9242,"20001#20003#20011#20009#20004#20002#20018","17#480|3#515|14#670|79#11","60068#1|60083#1|60089#1|60092#1",1004,20,"601011#400|601012#600","601011#210101|601012#210101",90,10800,"-18#-358",1,142]
[null,"8031",1,"简单8-3","8041",39,0,51143,205142,9243,"20001#20003#20011#20009#20004#20002#20018","17#480|3#525|14#670|79#11","60068#1|60083#1|60089#1|60092#1",1004,20,"601011#400|601012#600","601011#210101|601012#210101",90,10800,"-180#-336",1,143]
[null,"8041",1,"简单8-4","8051",39,0,51144,205143,9244,"20001#20003#20011#20009#20004#20002#20018","17#480|3#525|14#680|79#11","60068#1|60083#1|60089#1|60092#1",1004,20,"601011#400|601012#600","601011#210101|601012#210101",90,10800,"-325#-275",1,144]
[null,"8051",1,"简单8-5","8061",39,0,51145,205144,9245,"20001#20003#20011#20009#20004#20002#20018","17#490|3#525|14#680|79#11","60068#1|60083#1|60089#1|60092#1",1004,20,"601011#400|601012#600","601011#210101|601012#210101",90,10800,"-478#-198",2,145]
[null,"8061",1,"简单8-6","8071",39,0,51146,205145,9246,"20001#20003#20011#20009#20004#20002#20018","17#490|3#535|14#680|79#11","60068#1|60083#1|60089#1|60092#1",1004,20,"601011#400|601012#600","601011#210101|601012#210101",90,10800,"-350#-181",2,146]
[null,"8071",1,"简单8-7","8081",41,0,51147,205146,9247,"20001#20003#20011#20009#20004#20002#20018","17#490|3#535|14#690|79#11","60068#1|60083#1|60089#1|60092#1",1004,20,"601011#400|601012#600","601011#210101|601012#210101",90,10800,"-196#-190",2,147]
[null,"8081",1,"简单8-8","8091",41,0,51148,205147,9248,"20001#20003#20011#20009#20004#20002#20018","17#500|3#535|14#690|79#11","60068#1|60083#1|60089#1|60092#1",1004,20,"601011#400|601012#600","601011#210101|601012#210101",90,10800,"-247#-86",2,148]
[null,"8091",1,"简单8-9","8101",41,0,51149,205148,9249,"20001#20003#20011#20009#20004#20002#20018","17#500|3#545|14#690|79#11","60068#1|60083#1|60089#1|60092#1",1004,20,"601011#400|601012#600","601011#210101|601012#210101",90,10800,"-195#20",2,149]
[null,"8101",1,"简单8-10","8111",41,0,51150,205149,9250,"20001#20003#20011#20009#20004#20002#20018","17#500|3#545|14#700|79#11","60068#1|60083#1|60089#1|60092#1",1004,20,"601011#400|601012#600","601011#210101|601012#210101",90,10800,"-55#20",2,150]
[null,"8111",1,"简单8-11","8121",41,0,51151,205150,9251,"20001#20003#20011#20009#20004#20002#20018","17#510|3#545|14#700|79#11","60068#1|60083#1|60089#1|60092#1",1004,20,"601011#400|601012#600","601011#210101|601012#210101",90,10800,"-34#-105",2,151]
[null,"8121",1,"简单8-12","8131",41,0,51152,205151,9252,"20001#20003#20011#20009#20004#20002#20018","17#510|3#555|14#700|79#11","60068#1|60083#1|60089#1|60092#1",1004,20,"601011#400|601012#600","601011#210101|601012#210101",90,10800,"52#-197",2,152]
[null,"8131",1,"简单8-13","8141",41,0,51153,205152,9253,"20001#20003#20011#20009#20004#20002#20018","17#510|3#555|14#710|79#11","60068#1|60083#1|60089#1|60092#1",1004,20,"601011#400|601012#600","601011#210101|601012#210101",90,10800,"187#-171",2,153]
[null,"8141",1,"简单8-14","8151",43,0,51154,205153,9254,"20001#20003#20011#20009#20004#20002#20018","17#520|3#555|14#710|79#11","60068#1|60083#1|60089#1|60092#1",1004,20,"601011#400|601012#600","601011#210101|601012#210101",90,10800,"335#-196",2,154]
[null,"8151",1,"简单8-15","8161",43,0,51155,205154,9255,"20001#20003#20011#20009#20004#20002#20018","17#520|3#565|14#710|79#11","60068#1|60083#1|60089#1|60092#1",1004,20,"601011#400|601012#600","601011#210101|601012#210101",90,10800,"461#-165",2,155]
[null,"8161",1,"简单8-16","8171",43,0,51156,205155,9256,"20001#20003#20011#20009#20004#20002#20018","17#520|3#565|14#720|79#11","60068#1|60083#1|60089#1|60092#1",1004,20,"601011#400|601012#600","601011#210101|601012#210101",90,10800,"412#-52",1,156]
[null,"8171",1,"简单8-17","8181",43,0,51157,205156,9257,"20001#20003#20011#20009#20004#20002#20018","17#530|3#565|14#720|79#11","60068#1|60083#1|60089#1|60092#1",1004,20,"601011#400|601012#600","601011#210101|601012#210101",90,10800,"292#-27",1,157]
[null,"8181",1,"简单8-18","8191",43,0,51158,205157,9258,"20001#20003#20011#20009#20004#20002#20018","17#530|3#575|14#720|79#11","60068#1|60083#1|60089#1|60092#1",1004,20,"601011#400|601012#600","601011#210101|601012#210101",90,10800,"152#-6",1,158]
[null,"8191",1,"简单8-19","8201",43,0,51159,205158,9259,"20001#20003#20011#20009#20004#20002#20018","17#530|3#575|14#730|79#11","60068#1|60083#1|60089#1|60092#1",1004,20,"601011#400|601012#600","601011#210101|601012#210101",90,10800,"226#99",2,159]
[null,"8201",1,"简单8-20","9011",45,0,51160,205159,9260,"20001#20003#20011#20009#20004#20002#20018","17#540|3#575|14#730|79#11","60068#1|60083#1|60089#1|60092#1",1004,20,"601011#400|601012#600","601011#210101|601012#210101",90,10800,"366#133",2,160]
[null,"9011",1,"简单9-1","9021",45,1,51161,205160,9261,"20001#20003#20011#20009#20004#20002#20018","17#540|3#585|14#730|79#11","60068#1|60083#1|60089#1|60092#1",1004,20,"601011#400|601012#600","601011#210101|601012#210101",90,10800,"415#-287",2,161]
[null,"9021",1,"简单9-2","9031",45,0,51162,205161,9262,"20001#20003#20011#20009#20004#20002#20018","17#540|3#585|14#740|79#11","60068#1|60083#1|60089#1|60092#1",1004,20,"601011#400|601012#600","601011#210101|601012#210101",90,10800,"406#-197",1,162]
[null,"9031",1,"简单9-3","9041",45,0,51163,205162,9263,"20001#20003#20011#20009#20004#20002#20018","17#550|3#585|14#740|79#11","60068#1|60083#1|60089#1|60092#1",1004,20,"601011#400|601012#600","601011#210101|601012#210101",90,10800,"190#-259",1,163]
[null,"9041",1,"简单9-4","9051",45,0,51164,205163,9264,"20001#20003#20011#20009#20004#20002#20018","17#550|3#595|14#740|79#11","60068#1|60083#1|60089#1|60092#1",1004,20,"601011#400|601012#600","601011#210101|601012#210101",90,10800,"-12#-316",1,164]
[null,"9051",1,"简单9-5","9061",45,0,51165,205164,9265,"20001#20003#20011#20009#20004#20002#20018","17#550|3#595|14#750|79#11","60068#1|60083#1|60089#1|60092#1",1004,20,"601011#400|601012#600","601011#210101|601012#210101",90,10800,"-107#-244",1,165]
[null,"9061",1,"简单9-6","9071",45,0,51166,205165,9266,"20001#20003#20011#20009#20004#20002#20018","17#560|3#595|14#750|79#11","60068#1|60083#1|60089#1|60092#1",1004,20,"601011#400|601012#600","601011#210101|601012#210101",90,10800,"137#-227",2,166]
[null,"9071",1,"简单9-7","9081",47,0,51167,205166,9267,"20001#20003#20011#20009#20004#20002#20018","17#560|3#605|14#750|79#11","60068#1|60083#1|60089#1|60092#1",1004,20,"601011#400|601012#600","601011#210101|601012#210101",90,10800,"203#-113",2,167]
[null,"9081",1,"简单9-8","9091",47,0,51168,205167,9268,"20001#20003#20011#20009#20004#20002#20018","17#560|3#605|14#760|79#11","60068#1|60083#1|60089#1|60092#1",1004,20,"601011#400|601012#600","601011#210101|601012#210101",90,10800,"174#-97",1,168]
[null,"9091",1,"简单9-9","9101",47,0,51169,205168,9269,"20001#20003#20011#20009#20004#20002#20018","17#570|3#605|14#760|79#11","60068#1|60083#1|60089#1|60092#1",1004,20,"601011#400|601012#600","601011#210101|601012#210101",90,10800,"-37#-127",1,169]
[null,"9101",1,"简单9-10","9111",47,0,51170,205169,9270,"20001#20003#20011#20009#20004#20002#20018","17#570|3#615|14#760|79#11","60068#1|60083#1|60089#1|60092#1",1004,20,"601011#400|601012#600","601011#210101|601012#210101",90,10800,"-218#-150",2,170]
[null,"9111",1,"简单9-11","9121",47,0,51171,205170,9271,"20001#20003#20011#20009#20004#20002#20018","17#570|3#615|14#770|79#11","60068#1|60083#1|60089#1|60092#1",1004,20,"601011#400|601012#600","601011#210101|601012#210101",90,10800,"-307#-119",1,171]
[null,"9121",1,"简单9-12","9131",47,0,51172,205171,9272,"20001#20003#20011#20009#20004#20002#20018","17#580|3#615|14#770|79#11","60068#1|60083#1|60089#1|60092#1",1004,20,"601011#400|601012#600","601011#210101|601012#210101",90,10800,"-468#-164",1,172]
[null,"9131",1,"简单9-13","9141",47,0,51173,205172,9273,"20001#20003#20011#20009#20004#20002#20018","17#580|3#625|14#770|79#11","60068#1|60083#1|60089#1|60092#1",1004,20,"601011#400|601012#600","601011#210101|601012#210101",90,10800,"-429#-90",2,173]
[null,"9141",1,"简单9-14","9151",49,0,51174,205173,9274,"20001#20003#20011#20009#20004#20002#20018","17#580|3#625|14#780|79#11","60068#1|60083#1|60089#1|60092#1",1004,20,"601011#400|601012#600","601011#210101|601012#210101",90,10800,"-279#-29",2,174]
[null,"9151",1,"简单9-15","9161",49,0,51175,205174,9275,"20001#20003#20011#20009#20004#20002#20018","17#590|3#625|14#780|79#11","60068#1|60083#1|60089#1|60092#1",1004,20,"601011#400|601012#600","601011#210101|601012#210101",90,10800,"-203#37",2,175]
[null,"9161",1,"简单9-16","9171",49,0,51176,205175,9276,"20001#20003#20011#20009#20004#20002#20018","17#590|3#635|14#780|79#11","60068#1|60083#1|60089#1|60092#1",1004,20,"601011#400|601012#600","601011#210101|601012#210101",90,10800,"-69#62",2,176]
[null,"9171",1,"简单9-17","9181",49,0,51177,205176,9277,"20001#20003#20011#20009#20004#20002#20018","17#590|3#635|14#790|79#11","60068#1|60083#1|60089#1|60092#1",1004,20,"601011#400|601012#600","601011#210101|601012#210101",90,10800,"61#45",2,177]
[null,"9181",1,"简单9-18","9191",49,0,51178,205177,9278,"20001#20003#20011#20009#20004#20002#20018","17#600|3#635|14#790|79#11","60068#1|60083#1|60089#1|60092#1",1004,20,"601011#400|601012#600","601011#210101|601012#210101",90,10800,"186#0",2,178]
[null,"9191",1,"简单9-19","9201",49,0,51179,205178,9279,"20001#20003#20011#20009#20004#20002#20018","17#600|3#645|14#790|79#11","60068#1|60083#1|60089#1|60092#1",1004,20,"601011#400|601012#600","601011#210101|601012#210101",90,10800,"301#33",2,179]
[null,"9201",1,"简单9-20","10011",51,0,51180,205179,9280,"20001#20003#20011#20009#20004#20002#20018","17#600|3#645|14#800|79#11","60068#1|60083#1|60089#1|60092#1",1004,20,"601011#400|601012#600","601011#210101|601012#210101",90,10800,"411#54",2,180]
[null,"10011",1,"简单10-1","10021",51,1,51181,205180,9281,"20001#20003#20011#20010#20004#20002#20018","17#610|3#645|14#800|79#11","60069#1|60084#1|60090#1|60093#1",1004,20,"601011#400|601012#600","601011#210101|601012#210101",90,10800,"88#-544",2,181]
[null,"10021",1,"简单10-2","10031",51,0,51182,205181,9282,"20001#20003#20011#20010#20004#20002#20018","17#610|3#655|14#800|79#11","60069#1|60084#1|60090#1|60093#1",1004,20,"601011#400|601012#600","601011#210101|601012#210101",90,10800,"202#-557",2,182]
[null,"10031",1,"简单10-3","10041",51,0,51183,205182,9283,"20001#20003#20011#20010#20004#20002#20018","17#610|3#655|14#810|79#11","60069#1|60084#1|60090#1|60093#1",1004,20,"601011#400|601012#600","601011#210101|601012#210101",90,10800,"305#-511",2,183]
[null,"10041",1,"简单10-4","10051",51,0,51184,205183,9284,"20001#20003#20011#20010#20004#20002#20018","17#620|3#655|14#810|79#11","60069#1|60084#1|60090#1|60093#1",1004,20,"601011#400|601012#600","601011#210101|601012#210101",90,10800,"417#-492",2,184]
[null,"10051",1,"简单10-5","10061",51,0,51185,205184,9285,"20001#20003#20011#20010#20004#20002#20018","17#620|3#665|14#810|79#11","60069#1|60084#1|60090#1|60093#1",1004,20,"601011#400|601012#600","601011#210101|601012#210101",90,10800,"456#-406",1,185]
[null,"10061",1,"简单10-6","10071",51,0,51186,205185,9286,"20001#20003#20011#20010#20004#20002#20018","17#620|3#665|14#820|79#11","60069#1|60084#1|60090#1|60093#1",1004,20,"601011#400|601012#600","601011#210101|601012#210101",90,10800,"343#-370",1,186]
[null,"10071",1,"简单10-7","10081",53,0,51187,205186,9287,"20001#20003#20011#20010#20004#20002#20018","17#630|3#665|14#820|79#11","60069#1|60084#1|60090#1|60093#1",1004,20,"601011#400|601012#600","601011#210101|601012#210101",90,10800,"250#-304",1,187]
[null,"10081",1,"简单10-8","10091",53,0,51188,205187,9288,"20001#20003#20011#20010#20004#20002#20018","17#630|3#675|14#820|79#11","60069#1|60084#1|60090#1|60093#1",1004,20,"601011#400|601012#600","601011#210101|601012#210101",90,10800,"132#-311",1,188]
[null,"10091",1,"简单10-9","10101",53,0,51189,205188,9289,"20001#20003#20011#20010#20004#20002#20018","17#630|3#675|14#830|79#11","60069#1|60084#1|60090#1|60093#1",1004,20,"601011#400|601012#600","601011#210101|601012#210101",90,10800,"166#-372",2,189]
[null,"10101",1,"简单10-10","10111",53,0,51190,205189,9290,"20001#20003#20011#20010#20004#20002#20018","17#640|3#675|14#830|79#11","60069#1|60084#1|60090#1|60093#1",1004,20,"601011#400|601012#600","601011#210101|601012#210101",90,10800,"127#-421",1,190]
[null,"10111",1,"简单10-11","10121",53,0,51191,205190,9291,"20001#20003#20011#20010#20004#20002#20018","17#640|3#685|14#830|79#11","60069#1|60084#1|60090#1|60093#1",1004,20,"601011#400|601012#600","601011#210101|601012#210101",90,10800,"6#-408",1,191]
[null,"10121",1,"简单10-12","10131",53,0,51192,205191,9292,"20001#20003#20011#20010#20004#20002#20018","17#640|3#685|14#840|79#11","60069#1|60084#1|60090#1|60093#1",1004,20,"601011#400|601012#600","601011#210101|601012#210101",90,10800,"-91#-447",1,192]
[null,"10131",1,"简单10-13","10141",53,0,51193,205192,9293,"20001#20003#20011#20010#20004#20002#20018","17#650|3#685|14#840|79#11","60069#1|60084#1|60090#1|60093#1",1004,20,"601011#400|601012#600","601011#210101|601012#210101",90,10800,"-182#-398",1,193]
[null,"10141",1,"简单10-14","10151",55,0,51194,205193,9294,"20001#20003#20011#20010#20004#20002#20018","17#650|3#695|14#840|79#11","60069#1|60084#1|60090#1|60093#1",1004,20,"601011#400|601012#600","601011#210101|601012#210101",90,10800,"-290#-359",1,194]
[null,"10151",1,"简单10-15","10161",55,0,51195,205194,9295,"20001#20003#20011#20010#20004#20002#20018","17#650|3#695|14#850|79#11","60069#1|60084#1|60090#1|60093#1",1004,20,"601011#400|601012#600","601011#210101|601012#210101",90,10800,"-368#-319",2,195]
[null,"10161",1,"简单10-16","10171",55,0,51196,205195,9296,"20001#20003#20011#20010#20004#20002#20018","17#660|3#695|14#850|79#11","60069#1|60084#1|60090#1|60093#1",1004,20,"601011#400|601012#600","601011#210101|601012#210101",90,10800,"-280#-263",2,196]
[null,"10171",1,"简单10-17","10181",55,0,51197,205196,9297,"20001#20003#20011#20010#20004#20002#20018","17#660|3#705|14#850|79#11","60069#1|60084#1|60090#1|60093#1",1004,20,"601011#400|601012#600","601011#210101|601012#210101",90,10800,"-172#-263",2,197]
[null,"10181",1,"简单10-18","10191",55,0,51198,205197,9298,"20001#20003#20011#20010#20004#20002#20018","17#660|3#705|14#860|79#11","60069#1|60084#1|60090#1|60093#1",1004,20,"601011#400|601012#600","601011#210101|601012#210101",90,10800,"-64#-282",2,198]
[null,"10191",1,"简单10-19","10201",55,0,51199,205198,9299,"20001#20003#20011#20010#20004#20002#20018","17#670|3#705|14#860|79#11","60069#1|60084#1|60090#1|60093#1",1004,20,"601011#400|601012#600","601011#210101|601012#210101",90,10800,"20#-247",2,199]
[null,"10201",1,"简单10-20","11011",57,0,51200,205199,9300,"20001#20003#20011#20010#20004#20002#20018","17#670|3#715|14#860|79#11","60069#1|60084#1|60090#1|60093#1",1004,20,"601011#400|601012#600","601011#210101|601012#210101",90,10800,"112#-213",2,200]
[null,"11011",1,"简单11-1","11021",57,1,51201,205200,9301,"20001#20003#20011#20010#20004#20002#20018","17#670|3#715|14#870|79#12","60069#1|60084#1|60090#1|60093#1",1004,20,"601011#400|601012#600","601011#210101|601012#210101",90,10800,"424#-262",1,201]
[null,"11021",1,"简单11-2","11031",57,0,51202,205201,9302,"20001#20003#20011#20010#20004#20002#20018","17#680|3#715|14#870|79#12","60069#1|60084#1|60090#1|60093#1",1004,20,"601011#400|601012#600","601011#210101|601012#210101",90,10800,"289#-238",1,202]
[null,"11031",1,"简单11-3","11041",57,0,51203,205202,9303,"20001#20003#20011#20010#20004#20002#20018","17#680|3#725|14#870|79#12","60069#1|60084#1|60090#1|60093#1",1004,20,"601011#400|601012#600","601011#210101|601012#210101",90,10800,"167#-276",1,203]
[null,"11041",1,"简单11-4","11051",57,0,51204,205203,9304,"20001#20003#20011#20010#20004#20002#20018","17#680|3#725|14#880|79#12","60069#1|60084#1|60090#1|60093#1",1004,20,"601011#400|601012#600","601011#210101|601012#210101",90,10800,"50#-309",1,204]
[null,"11051",1,"简单11-5","11061",57,0,51205,205204,9305,"20001#20003#20011#20010#20004#20002#20018","17#690|3#725|14#880|79#12","60069#1|60084#1|60090#1|60093#1",1004,20,"601011#400|601012#600","601011#210101|601012#210101",90,10800,"-82#-291",1,205]
[null,"11061",1,"简单11-6","11071",57,0,51206,205205,9306,"20001#20003#20011#20010#20004#20002#20018","17#690|3#735|14#880|79#12","60069#1|60084#1|60090#1|60093#1",1004,20,"601011#400|601012#600","601011#210101|601012#210101",90,10800,"-207#-247",1,206]
[null,"11071",1,"简单11-7","11081",59,0,51207,205206,9307,"20001#20003#20011#20010#20004#20002#20018","17#690|3#735|14#890|79#12","60069#1|60084#1|60090#1|60093#1",1004,20,"601011#400|601012#600","601011#210101|601012#210101",90,10800,"-116#-202",1,207]
[null,"11081",1,"简单11-8","11091",59,0,51208,205207,9308,"20001#20003#20011#20010#20004#20002#20018","17#700|3#735|14#890|79#12","60069#1|60084#1|60090#1|60093#1",1004,20,"601011#400|601012#600","601011#210101|601012#210101",90,10800,"-200#-135",1,208]
[null,"11091",1,"简单11-9","11101",59,0,51209,205208,9309,"20001#20003#20011#20010#20004#20002#20018","17#700|3#745|14#890|79#12","60069#1|60084#1|60090#1|60093#1",1004,20,"601011#400|601012#600","601011#210101|601012#210101",90,10800,"-325#-115",1,209]
[null,"11101",1,"简单11-10","11111",59,0,51210,205209,9310,"20001#20003#20011#20010#20004#20002#20018","17#700|3#745|14#900|79#12","60069#1|60084#1|60090#1|60093#1",1004,20,"601011#400|601012#600","601011#210101|601012#210101",90,10800,"-347#-39",2,210]
[null,"11111",1,"简单11-11","11121",59,0,51211,205210,9311,"20001#20003#20011#20010#20004#20002#20018","17#710|3#745|14#900|79#12","60069#1|60084#1|60090#1|60093#1",1004,20,"601011#400|601012#600","601011#210101|601012#210101",90,10800,"-253#21",2,211]
[null,"11121",1,"简单11-12","11131",59,0,51212,205211,9312,"20001#20003#20011#20010#20004#20002#20018","17#710|3#755|14#900|79#12","60069#1|60084#1|60090#1|60093#1",1004,20,"601011#400|601012#600","601011#210101|601012#210101",90,10800,"-144#52",2,212]
[null,"11131",1,"简单11-13","11141",59,0,51213,205212,9313,"20001#20003#20011#20010#20004#20002#20018","17#710|3#755|14#910|79#12","60069#1|60084#1|60090#1|60093#1",1004,20,"601011#400|601012#600","601011#210101|601012#210101",90,10800,"-66#13",2,213]
[null,"11141",1,"简单11-14","11151",61,0,51214,205213,9314,"20001#20003#20011#20010#20004#20002#20018","17#720|3#755|14#910|79#12","60069#1|60084#1|60090#1|60093#1",1004,20,"601011#400|601012#600","601011#210101|601012#210101",90,10800,"90#-1",2,214]
[null,"11151",1,"简单11-15","11161",61,0,51215,205214,9315,"20001#20003#20011#20010#20004#20002#20018","17#720|3#765|14#910|79#12","60069#1|60084#1|60090#1|60093#1",1004,20,"601011#400|601012#600","601011#210101|601012#210101",90,10800,"196#-79",2,215]
[null,"11161",1,"简单11-16","11171",61,0,51216,205215,9316,"20001#20003#20011#20010#20004#20002#20018","17#720|3#765|14#920|79#12","60069#1|60084#1|60090#1|60093#1",1004,20,"601011#400|601012#600","601011#210101|601012#210101",90,10800,"298#-68",2,216]
[null,"11171",1,"简单11-17","11181",61,0,51217,205216,9317,"20001#20003#20011#20010#20004#20002#20018","17#730|3#765|14#920|79#12","60069#1|60084#1|60090#1|60093#1",1004,20,"601011#400|601012#600","601011#210101|601012#210101",90,10800,"421#-24",2,217]
[null,"11181",1,"简单11-18","11191",61,0,51218,205217,9318,"20001#20003#20011#20010#20004#20002#20018","17#730|3#775|14#920|79#12","60069#1|60084#1|60090#1|60093#1",1004,20,"601011#400|601012#600","601011#210101|601012#210101",90,10800,"316#16",1,218]
[null,"11191",1,"简单11-19","11201",61,0,51219,205218,9319,"20001#20003#20011#20010#20004#20002#20018","17#730|3#775|14#930|79#12","60069#1|60084#1|60090#1|60093#1",1004,20,"601011#400|601012#600","601011#210101|601012#210101",90,10800,"280#138",1,219]
[null,"11201",1,"简单11-20","12011",63,0,51220,205219,9320,"20001#20003#20011#20010#20004#20002#20018","17#740|3#775|14#930|79#12","60069#1|60084#1|60090#1|60093#1",1004,20,"601011#400|601012#600","601011#210101|601012#210101",90,10800,"202#242",1,220]
[null,"12011",1,"简单12-1","12021",63,1,51221,205220,9321,"20001#20003#20011#20012#20004#20002#20018","17#740|3#785|14#930|79#12","60100#1|60125#1|60135#1|60140#1",1004,20,"601011#400|601012#600","601011#210101|601012#210101",90,10800,"-364#-280",2,221]
[null,"12021",1,"简单12-2","12031",63,0,51222,205221,9322,"20001#20003#20011#20012#20004#20002#20018","17#740|3#785|14#940|79#12","60100#1|60125#1|60135#1|60140#1",1004,20,"601011#400|601012#600","601011#210101|601012#210101",90,10800,"-223#-269",2,222]
[null,"12031",1,"简单12-3","12041",63,0,51223,205222,9323,"20001#20003#20011#20012#20004#20002#20018","17#750|3#785|14#940|79#12","60100#1|60125#1|60135#1|60140#1",1004,20,"601011#400|601012#600","601011#210101|601012#210101",90,10800,"-133#-353",2,223]
[null,"12041",1,"简单12-4","12051",63,0,51224,205223,9324,"20001#20003#20011#20012#20004#20002#20018","17#750|3#795|14#940|79#12","60100#1|60125#1|60135#1|60140#1",1004,20,"601011#400|601012#600","601011#210101|601012#210101",90,10800,"8#-324",2,224]
[null,"12051",1,"简单12-5","12061",63,0,51225,205224,9325,"20001#20003#20011#20012#20004#20002#20018","17#750|3#795|14#950|79#12","60100#1|60125#1|60135#1|60140#1",1004,20,"601011#400|601012#600","601011#210101|601012#210101",90,10800,"149#-286",2,225]
[null,"12061",1,"简单12-6","12071",63,0,51226,205225,9326,"20001#20003#20011#20012#20004#20002#20018","17#760|3#795|14#950|79#12","60100#1|60125#1|60135#1|60140#1",1004,20,"601011#400|601012#600","601011#210101|601012#210101",90,10800,"284#-322",2,226]
[null,"12071",1,"简单12-7","12081",65,0,51227,205226,9327,"20001#20003#20011#20012#20004#20002#20018","17#760|3#805|14#950|79#12","60100#1|60125#1|60135#1|60140#1",1004,20,"601011#400|601012#600","601011#210101|601012#210101",90,10800,"415#-321",2,227]
[null,"12081",1,"简单12-8","12091",65,0,51228,205227,9328,"20001#20003#20011#20012#20004#20002#20018","17#760|3#805|14#960|79#12","60100#1|60125#1|60135#1|60140#1",1004,20,"601011#400|601012#600","601011#210101|601012#210101",90,10800,"334#-229",1,228]
[null,"12091",1,"简单12-9","12101",65,0,51229,205228,9329,"20001#20003#20011#20012#20004#20002#20018","17#770|3#805|14#960|79#12","60100#1|60125#1|60135#1|60140#1",1004,20,"601011#400|601012#600","601011#210101|601012#210101",90,10800,"355#-146",1,229]
[null,"12101",1,"简单12-10","12111",65,0,51230,205229,9330,"20001#20003#20011#20012#20004#20002#20018","17#770|3#815|14#960|79#12","60100#1|60125#1|60135#1|60140#1",1004,20,"601011#400|601012#600","601011#210101|601012#210101",90,10800,"232#-108",1,230]
[null,"12111",1,"简单12-11","12121",65,0,51231,205230,9331,"20001#20003#20011#20012#20004#20002#20018","17#770|3#815|14#970|79#12","60100#1|60125#1|60135#1|60140#1",1004,20,"601011#400|601012#600","601011#210101|601012#210101",90,10800,"106#-117",1,231]
[null,"12121",1,"简单12-12","12131",65,0,51232,205231,9332,"20001#20003#20011#20012#20004#20002#20018","17#780|3#815|14#970|79#12","60100#1|60125#1|60135#1|60140#1",1004,20,"601011#400|601012#600","601011#210101|601012#210101",90,10800,"-15#-158",1,232]
[null,"12131",1,"简单12-13","12141",65,0,51233,205232,9333,"20001#20003#20011#20012#20004#20002#20018","17#780|3#825|14#970|79#12","60100#1|60125#1|60135#1|60140#1",1004,20,"601011#400|601012#600","601011#210101|601012#210101",90,10800,"-119#-185",1,233]
[null,"12141",1,"简单12-14","12151",67,0,51234,205233,9334,"20001#20003#20011#20012#20004#20002#20018","17#780|3#825|14#980|79#12","60100#1|60125#1|60135#1|60140#1",1004,20,"601011#400|601012#600","601011#210101|601012#210101",90,10800,"-270#-184",1,234]
[null,"12151",1,"简单12-15","12161",67,0,51235,205234,9335,"20001#20003#20011#20012#20004#20002#20018","17#790|3#825|14#980|79#12","60100#1|60125#1|60135#1|60140#1",1004,20,"601011#400|601012#600","601011#210101|601012#210101",90,10800,"-224#-105",2,235]
[null,"12161",1,"简单12-16","12171",67,0,51236,205235,9336,"20001#20003#20011#20012#20004#20002#20018","17#790|3#835|14#980|79#12","60100#1|60125#1|60135#1|60140#1",1004,20,"601011#400|601012#600","601011#210101|601012#210101",90,10800,"-110#-36",2,236]
[null,"12171",1,"简单12-17","12181",67,0,51237,205236,9337,"20001#20003#20011#20012#20004#20002#20018","17#790|3#835|14#990|79#12","60100#1|60125#1|60135#1|60140#1",1004,20,"601011#400|601012#600","601011#210101|601012#210101",90,10800,"17#7",2,237]
[null,"12181",1,"简单12-18","12191",67,0,51238,205237,9338,"20001#20003#20011#20012#20004#20002#20018","17#800|3#835|14#990|79#12","60100#1|60125#1|60135#1|60140#1",1004,20,"601011#400|601012#600","601011#210101|601012#210101",90,10800,"132#35",2,238]
[null,"12191",1,"简单12-19","12201",67,0,51239,205238,9339,"20001#20003#20011#20012#20004#20002#20018","17#800|3#845|14#990|79#12","60100#1|60125#1|60135#1|60140#1",1004,20,"601011#400|601012#600","601011#210101|601012#210101",90,10800,"144#114",1,239]
[null,"12201",1,"简单12-20","13011",69,0,51240,205239,9340,"20001#20003#20011#20012#20004#20002#20018","17#800|3#845|14#1000|79#12","60100#1|60125#1|60135#1|60140#1",1004,20,"601011#400|601012#600","601011#210101|601012#210101",90,10800,"15#161",1,240]
[null,"13011",1,"简单13-1","13021",69,1,51241,205240,9341,"20001#20003#20011#20012#20004#20002#20018","17#810|3#845|14#1000|79#12","60100#1|60125#1|60135#1|60140#1",1004,20,"601011#400|601012#600","601011#210101|601012#210101",90,10800,"215#-386",1,241]
[null,"13021",1,"简单13-2","13031",69,0,51242,205241,9342,"20001#20003#20011#20012#20004#20002#20018","17#810|3#855|14#1000|79#12","60100#1|60125#1|60135#1|60140#1",1004,20,"601011#400|601012#600","601011#210101|601012#210101",90,10800,"105#-489",1,242]
[null,"13031",1,"简单13-3","13041",69,0,51243,205242,9343,"20001#20003#20011#20012#20004#20002#20018","17#810|3#855|14#1010|79#12","60100#1|60125#1|60135#1|60140#1",1004,20,"601011#400|601012#600","601011#210101|601012#210101",90,10800,"-25#-454",1,243]
[null,"13041",1,"简单13-4","13051",69,0,51244,205243,9344,"20001#20003#20011#20012#20004#20002#20018","17#820|3#855|14#1010|79#12","60100#1|60125#1|60135#1|60140#1",1004,20,"601011#400|601012#600","601011#210101|601012#210101",90,10800,"13#-326",2,244]
[null,"13051",1,"简单13-5","13061",69,0,51245,205244,9345,"20001#20003#20011#20012#20004#20002#20018","17#820|3#865|14#1010|79#12","60100#1|60125#1|60135#1|60140#1",1004,20,"601011#400|601012#600","601011#210101|601012#210101",90,10800,"140#-256",2,245]
[null,"13061",1,"简单13-6","13071",69,0,51246,205245,9346,"20001#20003#20011#20012#20004#20002#20018","17#820|3#865|14#1020|79#12","60100#1|60125#1|60135#1|60140#1",1004,20,"601011#400|601012#600","601011#210101|601012#210101",90,10800,"126#-148",1,246]
[null,"13071",1,"简单13-7","13081",71,0,51247,205246,9347,"20001#20003#20011#20012#20004#20002#20018","17#830|3#865|14#1020|79#12","60100#1|60125#1|60135#1|60140#1",1004,20,"601011#400|601012#600","601011#210101|601012#210101",90,10800,"-12#-137",1,247]
[null,"13081",1,"简单13-8","13091",71,0,51248,205247,9348,"20001#20003#20011#20012#20004#20002#20018","17#830|3#875|14#1020|79#12","60100#1|60125#1|60135#1|60140#1",1004,20,"601011#400|601012#600","601011#210101|601012#210101",90,10800,"-148#-158",1,248]
[null,"13091",1,"简单13-9","13101",71,0,51249,205248,9349,"20001#20003#20011#20012#20004#20002#20018","17#830|3#875|14#1030|79#12","60100#1|60125#1|60135#1|60140#1",1004,20,"601011#400|601012#600","601011#210101|601012#210101",90,10800,"-219#-77",2,249]
[null,"13101",1,"简单13-10","13111",71,0,51250,205249,9350,"20001#20003#20011#20012#20004#20002#20018","17#840|3#875|14#1030|79#12","60100#1|60125#1|60135#1|60140#1",1004,20,"601011#400|601012#600","601011#210101|601012#210101",90,10800,"-99#-54",2,250]
[null,"13111",1,"简单13-11","13121",71,0,51251,205250,9351,"20001#20003#20011#20012#20004#20002#20018","17#840|3#885|14#1030|79#12","60100#1|60125#1|60135#1|60140#1",1004,20,"601011#400|601012#600","601011#210101|601012#210101",90,10800,"43#-48",2,251]
[null,"13121",1,"简单13-12","13131",71,0,51252,205251,9352,"20001#20003#20011#20012#20004#20002#20018","17#840|3#885|14#1040|79#12","60100#1|60125#1|60135#1|60140#1",1004,20,"601011#400|601012#600","601011#210101|601012#210101",90,10800,"176#-53",2,252]
[null,"13131",1,"简单13-13","13141",71,0,51253,205252,9353,"20001#20003#20011#20012#20004#20002#20018","17#850|3#885|14#1040|79#12","60100#1|60125#1|60135#1|60140#1",1004,20,"601011#400|601012#600","601011#210101|601012#210101",90,10800,"307#-91",2,253]
[null,"13141",1,"简单13-14","13151",73,0,51254,205253,9354,"20001#20003#20011#20012#20004#20002#20018","17#850|3#895|14#1040|79#12","60100#1|60125#1|60135#1|60140#1",1004,20,"601011#400|601012#600","601011#210101|601012#210101",90,10800,"414#-51",2,254]
[null,"13151",1,"简单13-15","13161",73,0,51255,205254,9355,"20001#20003#20011#20012#20004#20002#20018","17#850|3#895|14#1050|79#12","60100#1|60125#1|60135#1|60140#1",1004,20,"601011#400|601012#600","601011#210101|601012#210101",90,10800,"328#-11",1,255]
[null,"13161",1,"简单13-16","13171",73,0,51256,205255,9356,"20001#20003#20011#20012#20004#20002#20018","17#860|3#895|14#1050|79#12","60100#1|60125#1|60135#1|60140#1",1004,20,"601011#400|601012#600","601011#210101|601012#210101",90,10800,"318#83",1,256]
[null,"13171",1,"简单13-17","13181",73,0,51257,205256,9357,"20001#20003#20011#20012#20004#20002#20018","17#860|3#905|14#1050|79#12","60100#1|60125#1|60135#1|60140#1",1004,20,"601011#400|601012#600","601011#210101|601012#210101",90,10800,"204#126",1,257]
[null,"13181",1,"简单13-18","13191",73,0,51258,205257,9358,"20001#20003#20011#20012#20004#20002#20018","17#860|3#905|14#1060|79#12","60100#1|60125#1|60135#1|60140#1",1004,20,"601011#400|601012#600","601011#210101|601012#210101",90,10800,"78#82",1,258]
[null,"13191",1,"简单13-19","13201",73,0,51259,205258,9359,"20001#20003#20011#20012#20004#20002#20018","17#870|3#905|14#1060|79#12","60100#1|60125#1|60135#1|60140#1",1004,20,"601011#400|601012#600","601011#210101|601012#210101",90,10800,"-71#78",1,259]
[null,"13201",1,"简单13-20","14011",75,0,51260,205259,9360,"20001#20003#20011#20012#20004#20002#20018","17#870|3#915|14#1060|79#12","60100#1|60125#1|60135#1|60140#1",1004,20,"601011#400|601012#600","601011#210101|601012#210101",90,10800,"-16#178",1,260]
[null,"14011",1,"简单14-1","14021",75,1,51261,205260,9361,"20001#20003#20011#20012#20004#20002#20018","17#870|3#915|14#1070|79#12","60100#1|60125#1|60135#1|60140#1",1004,20,"601011#400|601012#600","601011#210101|601012#210101",90,10800,"44#-362",2,261]
[null,"14021",1,"简单14-2","14031",75,0,51262,205261,9362,"20001#20003#20011#20012#20004#20002#20018","17#880|3#915|14#1070|79#12","60100#1|60125#1|60135#1|60140#1",1004,20,"601011#400|601012#600","601011#210101|601012#210101",90,10800,"161#-355",2,262]
[null,"14031",1,"简单14-3","14041",75,0,51263,205262,9363,"20001#20003#20011#20012#20004#20002#20018","17#880|3#925|14#1070|79#12","60100#1|60125#1|60135#1|60140#1",1004,20,"601011#400|601012#600","601011#210101|601012#210101",90,10800,"269#-329",2,263]
[null,"14041",1,"简单14-4","14051",75,0,51264,205263,9364,"20001#20003#20011#20012#20004#20002#20018","17#880|3#925|14#1080|79#12","60100#1|60125#1|60135#1|60140#1",1004,20,"601011#400|601012#600","601011#210101|601012#210101",90,10800,"280#-253",2,264]
[null,"14051",1,"简单14-5","14061",75,0,51265,205264,9365,"20001#20003#20011#20012#20004#20002#20018","17#890|3#925|14#1080|79#12","60100#1|60125#1|60135#1|60140#1",1004,20,"601011#400|601012#600","601011#210101|601012#210101",90,10800,"390#-252",2,265]
[null,"14061",1,"简单14-6","14071",75,0,51266,205265,9366,"20001#20003#20011#20012#20004#20002#20018","17#890|3#935|14#1080|79#12","60100#1|60125#1|60135#1|60140#1",1004,20,"601011#400|601012#600","601011#210101|601012#210101",90,10800,"409#-176",1,266]
[null,"14071",1,"简单14-7","14081",77,0,51267,205266,9367,"20001#20003#20011#20012#20004#20002#20018","17#890|3#935|14#1090|79#12","60100#1|60125#1|60135#1|60140#1",1004,20,"601011#400|601012#600","601011#210101|601012#210101",90,10800,"305#-159",1,267]
[null,"14081",1,"简单14-8","14091",77,0,51268,205267,9368,"20001#20003#20011#20012#20004#20002#20018","17#900|3#935|14#1090|79#12","60100#1|60125#1|60135#1|60140#1",1004,20,"601011#400|601012#600","601011#210101|601012#210101",90,10800,"231#-195",1,268]
[null,"14091",1,"简单14-9","14101",77,0,51269,205268,9369,"20001#20003#20011#20012#20004#20002#20018","17#900|3#945|14#1090|79#12","60100#1|60125#1|60135#1|60140#1",1004,20,"601011#400|601012#600","601011#210101|601012#210101",90,10800,"143#-241",1,269]
[null,"14101",1,"简单14-10","14111",77,0,51270,205269,9370,"20001#20003#20011#20012#20004#20002#20018","17#900|3#945|14#1100|79#12","60100#1|60125#1|60135#1|60140#1",1004,20,"601011#400|601012#600","601011#210101|601012#210101",90,10800,"41#-206",1,270]
[null,"14111",1,"简单14-11","14121",77,0,51271,205270,9371,"20001#20003#20011#20012#20004#20002#20018","17#910|3#945|14#1100|79#12","60100#1|60125#1|60135#1|60140#1",1004,20,"601011#400|601012#600","601011#210101|601012#210101",90,10800,"2#-123",1,271]
[null,"14121",1,"简单14-12","14131",77,0,51272,205271,9372,"20001#20003#20011#20012#20004#20002#20018","17#910|3#955|14#1100|79#12","60100#1|60125#1|60135#1|60140#1",1004,20,"601011#400|601012#600","601011#210101|601012#210101",90,10800,"-115#-143",1,272]
[null,"14131",1,"简单14-13","14141",77,0,51273,205272,9373,"20001#20003#20011#20012#20004#20002#20018","17#910|3#955|14#1110|79#12","60100#1|60125#1|60135#1|60140#1",1004,20,"601011#400|601012#600","601011#210101|601012#210101",90,10800,"-218#-143",1,273]
[null,"14141",1,"简单14-14","14151",79,0,51274,205273,9374,"20001#20003#20011#20012#20004#20002#20018","17#920|3#955|14#1110|79#12","60100#1|60125#1|60135#1|60140#1",1004,20,"601011#400|601012#600","601011#210101|601012#210101",90,10800,"-214#-76",2,274]
[null,"14151",1,"简单14-15","14161",79,0,51275,205274,9375,"20001#20003#20011#20012#20004#20002#20018","17#920|3#965|14#1110|79#12","60100#1|60125#1|60135#1|60140#1",1004,20,"601011#400|601012#600","601011#210101|601012#210101",90,10800,"-106#-63",2,275]
[null,"14161",1,"简单14-16","14171",79,0,51276,205275,9376,"20001#20003#20011#20012#20004#20002#20018","17#920|3#965|14#1120|79#12","60100#1|60125#1|60135#1|60140#1",1004,20,"601011#400|601012#600","601011#210101|601012#210101",90,10800,"10#-48",2,276]
[null,"14171",1,"简单14-17","14181",79,0,51277,205276,9377,"20001#20003#20011#20012#20004#20002#20018","17#930|3#965|14#1120|79#12","60100#1|60125#1|60135#1|60140#1",1004,20,"601011#400|601012#600","601011#210101|601012#210101",90,10800,"121#-60",2,277]
[null,"14181",1,"简单14-18","14191",79,0,51278,205277,9378,"20001#20003#20011#20012#20004#20002#20018","17#930|3#975|14#1120|79#12","60100#1|60125#1|60135#1|60140#1",1004,20,"601011#400|601012#600","601011#210101|601012#210101",90,10800,"191#-10",1,278]
[null,"14191",1,"简单14-19","14201",79,0,51279,205278,9379,"20001#20003#20011#20012#20004#20002#20018","17#930|3#975|14#1130|79#12","60100#1|60125#1|60135#1|60140#1",1004,20,"601011#400|601012#600","601011#210101|601012#210101",90,10800,"124#31",1,279]
[null,"14201",1,"简单14-20","15011",81,0,51280,205279,9380,"20001#20003#20011#20012#20004#20002#20018","17#940|3#975|14#1130|79#12","60100#1|60125#1|60135#1|60140#1",1004,20,"601011#400|601012#600","601011#210101|601012#210101",90,10800,"27#35",1,280]
[null,"15011",1,"简单15-1","15021",81,1,51281,205280,9381,"20001#20003#20011#20012#20004#20002#20018","17#940|3#985|14#1130|79#12","60100#1|60125#1|60135#1|60140#1",1004,20,"601011#400|601012#600","601011#210101|601012#210101",90,10800,"483#-348",1,281]
[null,"15021",1,"简单15-2","15031",81,0,51282,205281,9382,"20001#20003#20011#20012#20004#20002#20018","17#940|3#985|14#1140|79#12","60100#1|60125#1|60135#1|60140#1",1004,20,"601011#400|601012#600","601011#210101|601012#210101",90,10800,"355#-317",1,282]
[null,"15031",1,"简单15-3","15041",81,0,51283,205282,9383,"20001#20003#20011#20012#20004#20002#20018","17#950|3#985|14#1140|79#12","60100#1|60125#1|60135#1|60140#1",1004,20,"601011#400|601012#600","601011#210101|601012#210101",90,10800,"232#-345",1,283]
[null,"15041",1,"简单15-4","15051",81,0,51284,205283,9384,"20001#20003#20011#20012#20004#20002#20018","17#950|3#995|14#1140|79#12","60100#1|60125#1|60135#1|60140#1",1004,20,"601011#400|601012#600","601011#210101|601012#210101",90,10800,"124#-327",1,284]
[null,"15051",1,"简单15-5","15061",81,0,51285,205284,9385,"20001#20003#20011#20012#20004#20002#20018","17#950|3#995|14#1150|79#12","60100#1|60125#1|60135#1|60140#1",1004,20,"601011#400|601012#600","601011#210101|601012#210101",90,10800,"123#-227",1,285]
[null,"15061",1,"简单15-6","15071",81,0,51286,205285,9386,"20001#20003#20011#20012#20004#20002#20018","17#960|3#995|14#1150|79#12","60100#1|60125#1|60135#1|60140#1",1004,20,"601011#400|601012#600","601011#210101|601012#210101",90,10800,"-20#-258",1,286]
[null,"15071",1,"简单15-7","15081",83,0,51287,205286,9387,"20001#20003#20011#20012#20004#20002#20018","17#960|3#1005|14#1150|79#12","60100#1|60125#1|60135#1|60140#1",1004,20,"601011#400|601012#600","601011#210101|601012#210101",90,10800,"-119#-336",1,287]
[null,"15081",1,"简单15-8","15091",83,0,51288,205287,9388,"20001#20003#20011#20012#20004#20002#20018","17#960|3#1005|14#1160|79#12","60100#1|60125#1|60135#1|60140#1",1004,20,"601011#400|601012#600","601011#210101|601012#210101",90,10800,"-243#-367",1,288]
[null,"15091",1,"简单15-9","15101",83,0,51289,205288,9389,"20001#20003#20011#20012#20004#20002#20018","17#970|3#1005|14#1160|79#12","60100#1|60125#1|60135#1|60140#1",1004,20,"601011#400|601012#600","601011#210101|601012#210101",90,10800,"-354#-330",1,289]
[null,"15101",1,"简单15-10","15111",83,0,51290,205289,9390,"20001#20003#20011#20012#20004#20002#20018","17#970|3#1015|14#1160|79#12","60100#1|60125#1|60135#1|60140#1",1004,20,"601011#400|601012#600","601011#210101|601012#210101",90,10800,"-427#-256",2,290]
[null,"15111",1,"简单15-11","15121",83,0,51291,205290,9391,"20001#20003#20011#20012#20004#20002#20018","17#970|3#1015|14#1170|79#12","60100#1|60125#1|60135#1|60140#1",1004,20,"601011#400|601012#600","601011#210101|601012#210101",90,10800,"-302#-248",2,291]
[null,"15121",1,"简单15-12","15131",83,0,51292,205291,9392,"20001#20003#20011#20012#20004#20002#20018","17#980|3#1015|14#1170|79#12","60100#1|60125#1|60135#1|60140#1",1004,20,"601011#400|601012#600","601011#210101|601012#210101",90,10800,"-249#-156",2,292]
[null,"15131",1,"简单15-13","15141",83,0,51293,205292,9393,"20001#20003#20011#20012#20004#20002#20018","17#980|3#1025|14#1170|79#12","60100#1|60125#1|60135#1|60140#1",1004,20,"601011#400|601012#600","601011#210101|601012#210101",90,10800,"-125#-150",2,293]
[null,"15141",1,"简单15-14","15151",85,0,51294,205293,9394,"20001#20003#20011#20012#20004#20002#20018","17#980|3#1025|14#1180|79#12","60100#1|60125#1|60135#1|60140#1",1004,20,"601011#400|601012#600","601011#210101|601012#210101",90,10800,"-116#-87",1,294]
[null,"15151",1,"简单15-15","15161",85,0,51295,205294,9395,"20001#20003#20011#20012#20004#20002#20018","17#990|3#1025|14#1180|79#12","60100#1|60125#1|60135#1|60140#1",1004,20,"601011#400|601012#600","601011#210101|601012#210101",90,10800,"-258#-73",1,295]
[null,"15161",1,"简单15-16","15171",85,0,51296,205295,9396,"20001#20003#20011#20012#20004#20002#20018","17#990|3#1035|14#1180|79#12","60100#1|60125#1|60135#1|60140#1",1004,20,"601011#400|601012#600","601011#210101|601012#210101",90,10800,"-166#16",2,296]
[null,"15171",1,"简单15-17","15181",85,0,51297,205296,9397,"20001#20003#20011#20012#20004#20002#20018","17#990|3#1035|14#1190|79#12","60100#1|60125#1|60135#1|60140#1",1004,20,"601011#400|601012#600","601011#210101|601012#210101",90,10800,"-28#15",2,297]
[null,"15181",1,"简单15-18","15191",85,0,51298,205297,9398,"20001#20003#20011#20012#20004#20002#20018","17#1000|3#1035|14#1190|79#12","60100#1|60125#1|60135#1|60140#1",1004,20,"601011#400|601012#600","601011#210101|601012#210101",90,10800,"68#-72",2,298]
[null,"15191",1,"简单15-19","15201",85,0,51299,205298,9399,"20001#20003#20011#20012#20004#20002#20018","17#1000|3#1045|14#1190|79#12","60100#1|60125#1|60135#1|60140#1",1004,20,"601011#400|601012#600","601011#210101|601012#210101",90,10800,"170#-126",2,299]
[null,"15201",1,"简单15-20","1012",87,0,51300,205299,9400,"20001#20003#20011#20012#20004#20002#20018","17#1000|3#1045|14#1200|79#12","60100#1|60125#1|60135#1|60140#1",1004,20,"601011#400|601012#600","601011#210101|601012#210101",90,10800,"295#-121",2,300]
[null,"1012",2,"普通1-1","1022",87,1,51301,205300,9401,"20001#20003#20011#20013#20004#20002#20018","17#1010|3#1045|14#1200|79#13","60101#1|60126#1|60136#1|60141#1",1004,20,"601011#400|601012#600","601011#210101|601012#210101",90,10800,"429#-268",1,301]
[null,"1022",2,"普通1-2","1032",87,0,51302,205301,9402,"20001#20003#20011#20013#20004#20002#20018","17#1010|3#1055|14#1200|79#13","60101#1|60126#1|60136#1|60141#1",1004,20,"601011#400|601012#600","601011#210101|601012#210101",90,10800,"367#-290",1,302]
[null,"1032",2,"普通1-3","1042",87,0,51303,205302,9403,"20001#20003#20011#20013#20004#20002#20018","17#1010|3#1055|14#1210|79#13","60101#1|60126#1|60136#1|60141#1",1004,20,"601011#400|601012#600","601011#210101|601012#210101",90,10800,"318#-334",1,303]
[null,"1042",2,"普通1-4","1052",87,0,51304,205303,9404,"20001#20003#20011#20013#20004#20002#20018","17#1020|3#1055|14#1210|79#13","60101#1|60126#1|60136#1|60141#1",1004,20,"601011#400|601012#600","601011#210101|601012#210101",90,10800,"255#-361",1,304]
[null,"1052",2,"普通1-5","1062",87,0,51305,205304,9405,"20001#20003#20011#20013#20004#20002#20018","17#1020|3#1065|14#1210|79#13","60101#1|60126#1|60136#1|60141#1",1004,20,"601011#400|601012#600","601011#210101|601012#210101",90,10800,"183#-365",1,305]
[null,"1062",2,"普通1-6","1072",87,0,51306,205305,9406,"20001#20003#20011#20013#20004#20002#20018","17#1020|3#1065|14#1220|79#13","60101#1|60126#1|60136#1|60141#1",1004,20,"601011#400|601012#600","601011#210101|601012#210101",90,10800,"120#-344",1,306]
[null,"1072",2,"普通1-7","1082",89,0,51307,205306,9407,"20001#20003#20011#20013#20004#20002#20018","17#1030|3#1065|14#1220|79#13","60101#1|60126#1|60136#1|60141#1",1004,20,"601011#400|601012#600","601011#210101|601012#210101",90,10800,"51#-354",1,307]
[null,"1082",2,"普通1-8","1092",89,0,51308,205307,9408,"20001#20003#20011#20013#20004#20002#20018","17#1030|3#1075|14#1220|79#13","60101#1|60126#1|60136#1|60141#1",1004,20,"601011#400|601012#600","601011#210101|601012#210101",90,10800,"-2#-377",1,308]
[null,"1092",2,"普通1-9","1102",89,0,51309,205308,9409,"20001#20003#20011#20013#20004#20002#20018","17#1030|3#1075|14#1230|79#13","60101#1|60126#1|60136#1|60141#1",1004,20,"601011#400|601012#600","601011#210101|601012#210101",90,10800,"-59#-380",1,309]
[null,"1102",2,"普通1-10","1112",89,0,51310,205309,9410,"20001#20003#20011#20013#20004#20002#20018","17#1040|3#1075|14#1230|79#13","60101#1|60126#1|60136#1|60141#1",1004,20,"601011#400|601012#600","601011#210101|601012#210101",90,10800,"-132#-398",1,310]
[null,"1112",2,"普通1-11","1122",89,0,51311,205310,9411,"20001#20003#20011#20013#20004#20002#20018","17#1040|3#1085|14#1230|79#13","60101#1|60126#1|60136#1|60141#1",1004,20,"601011#400|601012#600","601011#210101|601012#210101",90,10800,"-188#-428",1,311]
[null,"1122",2,"普通1-12","1132",89,0,51312,205311,9412,"20001#20003#20011#20013#20004#20002#20018","17#1040|3#1085|14#1240|79#13","60101#1|60126#1|60136#1|60141#1",1004,20,"601011#400|601012#600","601011#210101|601012#210101",90,10800,"-245#-405",1,312]
[null,"1132",2,"普通1-13","1142",89,0,51313,205312,9413,"20001#20003#20011#20013#20004#20002#20018","17#1050|3#1085|14#1240|79#13","60101#1|60126#1|60136#1|60141#1",1004,20,"601011#400|601012#600","601011#210101|601012#210101",90,10800,"-232#-343",1,313]
[null,"1142",2,"普通1-14","1152",91,0,51314,205313,9414,"20001#20003#20011#20013#20004#20002#20018","17#1050|3#1095|14#1240|79#13","60101#1|60126#1|60136#1|60141#1",1004,20,"601011#400|601012#600","601011#210101|601012#210101",90,10800,"-250#-281",1,314]
[null,"1152",2,"普通1-15","1162",91,0,51315,205314,9415,"20001#20003#20011#20013#20004#20002#20018","17#1050|3#1095|14#1250|79#13","60101#1|60126#1|60136#1|60141#1",1004,20,"601011#400|601012#600","601011#210101|601012#210101",90,10800,"-315#-260",1,315]
[null,"1162",2,"普通1-16","1172",91,0,51316,205315,9416,"20001#20003#20011#20013#20004#20002#20018","17#1060|3#1095|14#1250|79#13","60101#1|60126#1|60136#1|60141#1",1004,20,"601011#400|601012#600","601011#210101|601012#210101",90,10800,"-364#-228",1,316]
[null,"1172",2,"普通1-17","1182",91,0,51317,205316,9417,"20001#20003#20011#20013#20004#20002#20018","17#1060|3#1105|14#1250|79#13","60101#1|60126#1|60136#1|60141#1",1004,20,"601011#400|601012#600","601011#210101|601012#210101",90,10800,"-322#-170",2,317]
[null,"1182",2,"普通1-18","1192",91,0,51318,205317,9418,"20001#20003#20011#20013#20004#20002#20018","17#1060|3#1105|14#1260|79#13","60101#1|60126#1|60136#1|60141#1",1004,20,"601011#400|601012#600","601011#210101|601012#210101",90,10800,"-259#-147",2,318]
[null,"1192",2,"普通1-19","1202",91,0,51319,205318,9419,"20001#20003#20011#20013#20004#20002#20018","17#1070|3#1105|14#1260|79#13","60101#1|60126#1|60136#1|60141#1",1004,20,"601011#400|601012#600","601011#210101|601012#210101",90,10800,"-190#-148",2,319]
[null,"1202",2,"普通1-20","1212",93,0,51320,205319,9420,"20001#20003#20011#20013#20004#20002#20018","17#1070|3#1115|14#1260|79#13","60101#1|60126#1|60136#1|60141#1",1004,20,"601011#400|601012#600","601011#210101|601012#210101",90,10800,"-166#-200",2,320]
[null,"1212",2,"普通1-21","1222",93,0,51321,205320,9421,"20001#20003#20011#20013#20004#20002#20018","17#1070|3#1115|14#1270|79#13","60101#1|60126#1|60136#1|60141#1",1004,20,"601011#400|601012#600","601011#210101|601012#210101",90,10800,"-139#-252",2,321]
[null,"1222",2,"普通1-22","1232",93,0,51322,205321,9422,"20001#20003#20011#20013#20004#20002#20018","17#1080|3#1115|14#1270|79#13","60101#1|60126#1|60136#1|60141#1",1004,20,"601011#400|601012#600","601011#210101|601012#210101",90,10800,"-76#-250",2,322]
[null,"1232",2,"普通1-23","1242",93,0,51323,205322,9423,"20001#20003#20011#20013#20004#20002#20018","17#1080|3#1125|14#1270|79#13","60101#1|60126#1|60136#1|60141#1",1004,20,"601011#400|601012#600","601011#210101|601012#210101",90,10800,"-21#-226",2,323]
[null,"1242",2,"普通1-24","1252",93,0,51324,205323,9424,"20001#20003#20011#20013#20004#20002#20018","17#1080|3#1125|14#1280|79#13","60101#1|60126#1|60136#1|60141#1",1004,20,"601011#400|601012#600","601011#210101|601012#210101",90,10800,"36#-221",2,324]
[null,"1252",2,"普通1-25","1262",93,0,51325,205324,9425,"20001#20003#20011#20013#20004#20002#20018","17#1090|3#1125|14#1280|79#13","60101#1|60126#1|60136#1|60141#1",1004,20,"601011#400|601012#600","601011#210101|601012#210101",90,10800,"93#-236",2,325]
[null,"1262",2,"普通1-26","1272",93,0,51326,205325,9426,"20001#20003#20011#20013#20004#20002#20018","17#1090|3#1135|14#1280|79#13","60101#1|60126#1|60136#1|60141#1",1004,20,"601011#400|601012#600","601011#210101|601012#210101",90,10800,"161#-246",2,326]
[null,"1272",2,"普通1-27","1282",95,0,51327,205326,9427,"20001#20003#20011#20013#20004#20002#20018","17#1090|3#1135|14#1290|79#13","60101#1|60126#1|60136#1|60141#1",1004,20,"601011#400|601012#600","601011#210101|601012#210101",90,10800,"228#-246",2,327]
[null,"1282",2,"普通1-28","1292",95,0,51328,205327,9428,"20001#20003#20011#20013#20004#20002#20018","17#1100|3#1135|14#1290|79#13","60101#1|60126#1|60136#1|60141#1",1004,20,"601011#400|601012#600","601011#210101|601012#210101",90,10800,"263#-192",1,328]
[null,"1292",2,"普通1-29","1302",95,0,51329,205328,9429,"20001#20003#20011#20013#20004#20002#20018","17#1100|3#1145|14#1290|79#13","60101#1|60126#1|60136#1|60141#1",1004,20,"601011#400|601012#600","601011#210101|601012#210101",90,10800,"200#-160",1,329]
[null,"1302",2,"普通1-30","2012",95,0,51330,205329,9430,"20001#20003#20011#20013#20004#20002#20018","17#1100|3#1145|14#1300|79#13","60101#1|60126#1|60136#1|60141#1",1004,20,"601011#400|601012#600","601011#210101|601012#210101",90,10800,"119#-144",1,330]
[null,"2012",2,"普通2-1","2022",95,1,51331,205330,9431,"20001#20003#20011#20013#20004#20002#20018","17#1110|3#1145|14#1300|79#13","60101#1|60126#1|60136#1|60141#1",1004,20,"601011#400|601012#600","601011#210101|601012#210101",90,10800,"468#-78",2,331]
[null,"2022",2,"普通2-2","2032",95,0,51332,205331,9432,"20001#20003#20011#20013#20004#20002#20018","17#1110|3#1155|14#1300|79#13","60101#1|60126#1|60136#1|60141#1",1004,20,"601011#400|601012#600","601011#210101|601012#210101",90,10800,"445#-129",1,332]
[null,"2032",2,"普通2-3","2042",95,0,51333,205332,9433,"20001#20003#20011#20013#20004#20002#20018","17#1110|3#1155|14#1310|79#13","60101#1|60126#1|60136#1|60141#1",1004,20,"601011#400|601012#600","601011#210101|601012#210101",90,10800,"484#-171",2,333]
[null,"2042",2,"普通2-4","2052",97,0,51334,205333,9434,"20001#20003#20011#20013#20004#20002#20018","17#1120|3#1155|14#1310|79#13","60101#1|60126#1|60136#1|60141#1",1004,20,"601011#400|601012#600","601011#210101|601012#210101",90,10800,"529#-208",2,334]
[null,"2052",2,"普通2-5","2062",97,0,51335,205334,9435,"20001#20003#20011#20013#20004#20002#20018","17#1120|3#1165|14#1310|79#13","60101#1|60126#1|60136#1|60141#1",1004,20,"601011#400|601012#600","601011#210101|601012#210101",90,10800,"499#-267",1,335]
[null,"2062",2,"普通2-6","2072",97,0,51336,205335,9436,"20001#20003#20011#20013#20004#20002#20018","17#1120|3#1165|14#1320|79#13","60101#1|60126#1|60136#1|60141#1",1004,20,"601011#400|601012#600","601011#210101|601012#210101",90,10800,"429#-279",1,336]
[null,"2072",2,"普通2-7","2082",97,0,51337,205336,9437,"20001#20003#20011#20013#20004#20002#20018","17#1130|3#1165|14#1320|79#13","60101#1|60126#1|60136#1|60141#1",1004,20,"601011#400|601012#600","601011#210101|601012#210101",90,10800,"361#-287",1,337]
[null,"2082",2,"普通2-8","2092",97,0,51338,205337,9438,"20001#20003#20011#20013#20004#20002#20018","17#1130|3#1175|14#1320|79#13","60101#1|60126#1|60136#1|60141#1",1004,20,"601011#400|601012#600","601011#210101|601012#210101",90,10800,"292#-311",1,338]
[null,"2092",2,"普通2-9","2102",97,0,51339,205338,9439,"20001#20003#20011#20013#20004#20002#20018","17#1130|3#1175|14#1330|79#13","60101#1|60126#1|60136#1|60141#1",1004,20,"601011#400|601012#600","601011#210101|601012#210101",90,10800,"217#-306",1,339]
[null,"2102",2,"普通2-10","2112",99,0,51340,205339,9440,"20001#20003#20011#20013#20004#20002#20018","17#1140|3#1175|14#1330|79#13","60101#1|60126#1|60136#1|60141#1",1004,20,"601011#400|601012#600","601011#210101|601012#210101",90,10800,"212#-239",1,340]
[null,"2112",2,"普通2-11","2122",99,0,51341,205340,9441,"20001#20003#20011#20013#20004#20002#20018","17#1140|3#1185|14#1330|79#13","60101#1|60126#1|60136#1|60141#1",1004,20,"601011#400|601012#600","601011#210101|601012#210101",90,10800,"190#-185",1,341]
[null,"2122",2,"普通2-12","2132",99,0,51342,205341,9442,"20001#20003#20011#20013#20004#20002#20018","17#1140|3#1185|14#1340|79#13","60101#1|60126#1|60136#1|60141#1",1004,20,"601011#400|601012#600","601011#210101|601012#210101",90,10800,"212#-135",2,342]
[null,"2132",2,"普通2-13","2142",99,0,51343,205342,9443,"20001#20003#20011#20013#20004#20002#20018","17#1150|3#1185|14#1340|79#13","60101#1|60126#1|60136#1|60141#1",1004,20,"601011#400|601012#600","601011#210101|601012#210101",90,10800,"189#-80",1,343]
[null,"2142",2,"普通2-14","2152",99,0,51344,205343,9444,"20001#20003#20011#20013#20004#20002#20018","17#1150|3#1195|14#1340|79#13","60101#1|60126#1|60136#1|60141#1",1004,20,"601011#400|601012#600","601011#210101|601012#210101",90,10800,"125#-73",1,344]
[null,"2152",2,"普通2-15","2162",99,0,51345,205344,9445,"20001#20003#20011#20013#20004#20002#20018","17#1150|3#1195|14#1350|79#13","60101#1|60126#1|60136#1|60141#1",1004,20,"601011#400|601012#600","601011#210101|601012#210101",90,10800,"52#-81",1,345]
[null,"2162",2,"普通2-16","2172",99,0,51346,205345,9446,"20001#20003#20011#20013#20004#20002#20018","17#1160|3#1195|14#1350|79#13","60101#1|60126#1|60136#1|60141#1",1004,20,"601011#400|601012#600","601011#210101|601012#210101",90,10800,"-20#-81",1,346]
[null,"2172",2,"普通2-17","2182",101,0,51347,205346,9447,"20001#20003#20011#20013#20004#20002#20018","17#1160|3#1205|14#1350|79#13","60101#1|60126#1|60136#1|60141#1",1004,20,"601011#400|601012#600","601011#210101|601012#210101",90,10800,"-66#-130",1,347]
[null,"2182",2,"普通2-18","2192",101,0,51348,205347,9448,"20001#20003#20011#20013#20004#20002#20018","17#1160|3#1205|14#1360|79#13","60101#1|60126#1|60136#1|60141#1",1004,20,"601011#400|601012#600","601011#210101|601012#210101",90,10800,"-35#-185",2,348]
[null,"2192",2,"普通2-19","2202",101,0,51349,205348,9449,"20001#20003#20011#20013#20004#20002#20018","17#1170|3#1205|14#1360|79#13","60101#1|60126#1|60136#1|60141#1",1004,20,"601011#400|601012#600","601011#210101|601012#210101",90,10800,"2#-228",2,349]
[null,"2202",2,"普通2-20","2212",101,0,51350,205349,9450,"20001#20003#20011#20013#20004#20002#20018","17#1170|3#1215|14#1360|79#13","60101#1|60126#1|60136#1|60141#1",1004,20,"601011#400|601012#600","601011#210101|601012#210101",90,10800,"-12#-289",1,350]
[null,"2212",2,"普通2-21","2222",101,0,51351,205350,9451,"20001#20003#20011#20013#20004#20002#20018","17#1170|3#1215|14#1370|79#13","60101#1|60126#1|60136#1|60141#1",1004,20,"601011#400|601012#600","601011#210101|601012#210101",90,10800,"-68#-316",1,351]
[null,"2222",2,"普通2-22","2232",101,0,51352,205351,9452,"20001#20003#20011#20013#20004#20002#20018","17#1180|3#1215|14#1370|79#13","60101#1|60126#1|60136#1|60141#1",1004,20,"601011#400|601012#600","601011#210101|601012#210101",90,10800,"-146#-323",1,352]
[null,"2232",2,"普通2-23","2242",101,0,51353,205352,9453,"20001#20003#20011#20013#20004#20002#20018","17#1180|3#1225|14#1370|79#13","60101#1|60126#1|60136#1|60141#1",1004,20,"601011#400|601012#600","601011#210101|601012#210101",90,10800,"-221#-308",1,353]
[null,"2242",2,"普通2-24","2252",103,0,51354,205353,9454,"20001#20003#20011#20013#20004#20002#20018","17#1180|3#1225|14#1380|79#13","60101#1|60126#1|60136#1|60141#1",1004,20,"601011#400|601012#600","601011#210101|601012#210101",90,10800,"-287#-273",1,354]
[null,"2252",2,"普通2-25","2262",103,0,51355,205354,9455,"20001#20003#20011#20013#20004#20002#20018","17#1190|3#1225|14#1380|79#13","60101#1|60126#1|60136#1|60141#1",1004,20,"601011#400|601012#600","601011#210101|601012#210101",90,10800,"-351#-233",1,355]
[null,"2262",2,"普通2-26","2272",103,0,51356,205355,9456,"20001#20003#20011#20013#20004#20002#20018","17#1190|3#1235|14#1380|79#13","60101#1|60126#1|60136#1|60141#1",1004,20,"601011#400|601012#600","601011#210101|601012#210101",90,10800,"-419#-194",1,356]
[null,"2272",2,"普通2-27","2282",103,0,51357,205356,9457,"20001#20003#20011#20013#20004#20002#20018","17#1190|3#1235|14#1390|79#13","60101#1|60126#1|60136#1|60141#1",1004,20,"601011#400|601012#600","601011#210101|601012#210101",90,10800,"-355#-158",2,357]
[null,"2282",2,"普通2-28","2292",103,0,51358,205357,9458,"20001#20003#20011#20013#20004#20002#20018","17#1200|3#1235|14#1390|79#13","60101#1|60126#1|60136#1|60141#1",1004,20,"601011#400|601012#600","601011#210101|601012#210101",90,10800,"-280#-146",2,358]
[null,"2292",2,"普通2-29","2302",103,0,51359,205358,9459,"20001#20003#20011#20013#20004#20002#20018","17#1200|3#1245|14#1390|79#13","60101#1|60126#1|60136#1|60141#1",1004,20,"601011#400|601012#600","601011#210101|601012#210101",90,10800,"-302#-74",2,359]
[null,"2302",2,"普通2-30","3012",105,0,51360,205359,9460,"20001#20003#20011#20013#20004#20002#20018","17#1200|3#1245|14#1400|79#13","60101#1|60126#1|60136#1|60141#1",1004,20,"601011#400|601012#600","601011#210101|601012#210101",90,10800,"-244#-35",2,360]
[null,"3012",2,"普通3-1","3022",105,1,51361,205360,9461,"20001#20003#20011#20013#20004#20002#20018","17#1210|3#1245|14#1400|79#13","60101#1|60126#1|60136#1|60141#1",1004,20,"601011#400|601012#600","601011#210101|601012#210101",90,10800,"443#-351",2,361]
[null,"3022",2,"普通3-2","3032",105,0,51362,205361,9462,"20001#20003#20011#20013#20004#20002#20018","17#1210|3#1255|14#1400|79#13","60101#1|60126#1|60136#1|60141#1",1004,20,"601011#400|601012#600","601011#210101|601012#210101",90,10800,"504#-335",2,362]
[null,"3032",2,"普通3-3","3042",105,0,51363,205362,9463,"20001#20003#20011#20013#20004#20002#20018","17#1210|3#1255|14#1410|79#13","60101#1|60126#1|60136#1|60141#1",1004,20,"601011#400|601012#600","601011#210101|601012#210101",90,10800,"529#-284",1,363]
[null,"3042",2,"普通3-4","3052",105,0,51364,205363,9464,"20001#20003#20011#20013#20004#20002#20018","17#1220|3#1255|14#1410|79#13","60101#1|60126#1|60136#1|60141#1",1004,20,"601011#400|601012#600","601011#210101|601012#210101",90,10800,"472#-257",1,364]
[null,"3052",2,"普通3-5","3062",105,0,51365,205364,9465,"20001#20003#20011#20013#20004#20002#20018","17#1220|3#1265|14#1410|79#13","60101#1|60126#1|60136#1|60141#1",1004,20,"601011#400|601012#600","601011#210101|601012#210101",90,10800,"406#-241",1,365]
[null,"3062",2,"普通3-6","3072",105,0,51366,205365,9466,"20001#20003#20011#20013#20004#20002#20018","17#1220|3#1265|14#1420|79#13","60101#1|60126#1|60136#1|60141#1",1004,20,"601011#400|601012#600","601011#210101|601012#210101",90,10800,"339#-234",1,366]
[null,"3072",2,"普通3-7","3082",107,0,51367,205366,9467,"20001#20003#20011#20013#20004#20002#20018","17#1230|3#1265|14#1420|79#13","60101#1|60126#1|60136#1|60141#1",1004,20,"601011#400|601012#600","601011#210101|601012#210101",90,10800,"272#-229",1,367]
[null,"3082",2,"普通3-8","3092",107,0,51368,205367,9468,"20001#20003#20011#20013#20004#20002#20018","17#1230|3#1275|14#1420|79#13","60101#1|60126#1|60136#1|60141#1",1004,20,"601011#400|601012#600","601011#210101|601012#210101",90,10800,"278#-172",2,368]
[null,"3092",2,"普通3-9","3102",107,0,51369,205368,9469,"20001#20003#20011#20013#20004#20002#20018","17#1230|3#1275|14#1430|79#13","60101#1|60126#1|60136#1|60141#1",1004,20,"601011#400|601012#600","601011#210101|601012#210101",90,10800,"318#-135",1,369]
[null,"3102",2,"普通3-10","3112",107,0,51370,205369,9470,"20001#20003#20011#20013#20004#20002#20018","17#1240|3#1275|14#1430|79#13","60101#1|60126#1|60136#1|60141#1",1004,20,"601011#400|601012#600","601011#210101|601012#210101",90,10800,"237#-123",1,370]
[null,"3112",2,"普通3-11","3122",107,0,51371,205370,9471,"20001#20003#20011#20013#20004#20002#20018","17#1240|3#1285|14#1430|79#13","60101#1|60126#1|60136#1|60141#1",1004,20,"601011#400|601012#600","601011#210101|601012#210101",90,10800,"151#-134",1,371]
[null,"3122",2,"普通3-12","3132",107,0,51372,205371,9472,"20001#20003#20011#20013#20004#20002#20018","17#1240|3#1285|14#1440|79#13","60101#1|60126#1|60136#1|60141#1",1004,20,"601011#400|601012#600","601011#210101|601012#210101",90,10800,"69#-164",1,372]
[null,"3132",2,"普通3-13","3142",107,0,51373,205372,9473,"20001#20003#20011#20013#20004#20002#20018","17#1250|3#1285|14#1440|79#13","60101#1|60126#1|60136#1|60141#1",1004,20,"601011#400|601012#600","601011#210101|601012#210101",90,10800,"-7#-171",1,373]
[null,"3142",2,"普通3-14","3152",109,0,51374,205373,9474,"20001#20003#20011#20013#20004#20002#20018","17#1250|3#1295|14#1440|79#13","60101#1|60126#1|60136#1|60141#1",1004,20,"601011#400|601012#600","601011#210101|601012#210101",90,10800,"-77#-152",1,374]
[null,"3152",2,"普通3-15","3162",109,0,51375,205374,9475,"20001#20003#20011#20013#20004#20002#20018","17#1250|3#1295|14#1450|79#13","60101#1|60126#1|60136#1|60141#1",1004,20,"601011#400|601012#600","601011#210101|601012#210101",90,10800,"-120#-193",2,375]
[null,"3162",2,"普通3-16","3172",109,0,51376,205375,9476,"20001#20003#20011#20013#20004#20002#20018","17#1260|3#1295|14#1450|79#13","60101#1|60126#1|60136#1|60141#1",1004,20,"601011#400|601012#600","601011#210101|601012#210101",90,10800,"-180#-228",1,376]
[null,"3172",2,"普通3-17","3182",109,0,51377,205376,9477,"20001#20003#20011#20013#20004#20002#20018","17#1260|3#1305|14#1450|79#13","60101#1|60126#1|60136#1|60141#1",1004,20,"601011#400|601012#600","601011#210101|601012#210101",90,10800,"-260#-214 ",1,377]
[null,"3182",2,"普通3-18","3192",109,0,51378,205377,9478,"20001#20003#20011#20013#20004#20002#20018","17#1260|3#1305|14#1460|79#13","60101#1|60126#1|60136#1|60141#1",1004,20,"601011#400|601012#600","601011#210101|601012#210101",90,10800,"-343#-201",1,378]
[null,"3192",2,"普通3-19","3202",109,0,51379,205378,9479,"20001#20003#20011#20013#20004#20002#20018","17#1270|3#1305|14#1460|79#13","60101#1|60126#1|60136#1|60141#1",1004,20,"601011#400|601012#600","601011#210101|601012#210101",90,10800,"-412#-173",2,379]
[null,"3202",2,"普通3-20","3212",111,0,51380,205379,9480,"20001#20003#20011#20013#20004#20002#20018","17#1270|3#1315|14#1460|79#13","60101#1|60126#1|60136#1|60141#1",1004,20,"601011#400|601012#600","601011#210101|601012#210101",90,10800,"-335#-128",2,380]
[null,"3212",2,"普通3-21","3222",111,0,51381,205380,9481,"20001#20003#20011#20013#20004#20002#20018","17#1270|3#1315|14#1470|79#13","60101#1|60126#1|60136#1|60141#1",1004,20,"601011#400|601012#600","601011#210101|601012#210101",90,10800,"-250#-127",2,381]
[null,"3222",2,"普通3-22","3232",111,0,51382,205381,9482,"20001#20003#20011#20013#20004#20002#20018","17#1280|3#1315|14#1470|79#13","60101#1|60126#1|60136#1|60141#1",1004,20,"601011#400|601012#600","601011#210101|601012#210101",90,10800,"-169#-123",2,382]
[null,"3232",2,"普通3-23","3242",111,0,51383,205382,9483,"20001#20003#20011#20013#20004#20002#20018","17#1280|3#1325|14#1470|79#13","60101#1|60126#1|60136#1|60141#1",1004,20,"601011#400|601012#600","601011#210101|601012#210101",90,10800,"-216#-64",1,383]
[null,"3242",2,"普通3-24","3252",111,0,51384,205383,9484,"20001#20003#20011#20013#20004#20002#20018","17#1280|3#1325|14#1480|79#13","60101#1|60126#1|60136#1|60141#1",1004,20,"601011#400|601012#600","601011#210101|601012#210101",90,10800,"-242#-7",2,384]
[null,"3252",2,"普通3-25","3262",111,0,51385,205384,9485,"20001#20003#20011#20013#20004#20002#20018","17#1290|3#1325|14#1480|79#13","60101#1|60126#1|60136#1|60141#1",1004,20,"601011#400|601012#600","601011#210101|601012#210101",90,10800,"-153#8",2,385]
[null,"3262",2,"普通3-26","3272",111,0,51386,205385,9486,"20001#20003#20011#20013#20004#20002#20018","17#1290|3#1335|14#1480|79#13","60101#1|60126#1|60136#1|60141#1",1004,20,"601011#400|601012#600","601011#210101|601012#210101",90,10800,"-72#40",2,386]
[null,"3272",2,"普通3-27","3282",113,0,51387,205386,9487,"20001#20003#20011#20013#20004#20002#20018","17#1290|3#1335|14#1490|79#13","60101#1|60126#1|60136#1|60141#1",1004,20,"601011#400|601012#600","601011#210101|601012#210101",90,10800,"19#34",2,387]
[null,"3282",2,"普通3-28","3292",113,0,51388,205387,9488,"20001#20003#20011#20013#20004#20002#20018","17#1300|3#1335|14#1490|79#13","60101#1|60126#1|60136#1|60141#1",1004,20,"601011#400|601012#600","601011#210101|601012#210101",90,10800,"77#67",1,388]
[null,"3292",2,"普通3-29","3302",113,0,51389,205388,9489,"20001#20003#20011#20013#20004#20002#20018","17#1300|3#1345|14#1490|79#13","60101#1|60126#1|60136#1|60141#1",1004,20,"601011#400|601012#600","601011#210101|601012#210101",90,10800,"1#106",1,389]
[null,"3302",2,"普通3-30","4012",113,0,51390,205389,9490,"20001#20003#20011#20013#20004#20002#20018","17#1300|3#1345|14#1500|79#13","60101#1|60126#1|60136#1|60141#1",1004,20,"601011#400|601012#600","601011#210101|601012#210101",90,10800,"-71#142",1,390]
[null,"4012",2,"普通4-1","4022",113,1,51391,205390,9491,"20001#20003#20011#20013#20004#20002#20018","17#1310|3#1345|14#1500|79#13","60101#1|60126#1|60136#1|60141#1",1004,20,"601011#400|601012#600","601011#210101|601012#210101",90,10800,"-377#-182",2,391]
[null,"4022",2,"普通4-2","4032",113,0,51392,205391,9492,"20001#20003#20011#20013#20004#20002#20018","17#1310|3#1355|14#1500|79#13","60101#1|60126#1|60136#1|60141#1",1004,20,"601011#400|601012#600","601011#210101|601012#210101",90,10800,"-285#-180",2,392]
[null,"4032",2,"普通4-3","4042",113,0,51393,205392,9493,"20001#20003#20011#20013#20004#20002#20018","17#1310|3#1355|14#1510|79#13","60101#1|60126#1|60136#1|60141#1",1004,20,"601011#400|601012#600","601011#210101|601012#210101",90,10800,"-196#-205",2,393]
[null,"4042",2,"普通4-4","4052",115,0,51394,205393,9494,"20001#20003#20011#20013#20004#20002#20018","17#1320|3#1355|14#1510|79#13","60101#1|60126#1|60136#1|60141#1",1004,20,"601011#400|601012#600","601011#210101|601012#210101",90,10800,"-136#-251",2,394]
[null,"4052",2,"普通4-5","4062",115,0,51395,205394,9495,"20001#20003#20011#20013#20004#20002#20018","17#1320|3#1365|14#1510|79#13","60101#1|60126#1|60136#1|60141#1",1004,20,"601011#400|601012#600","601011#210101|601012#210101",90,10800,"-81#-313",2,395]
[null,"4062",2,"普通4-6","4072",115,0,51396,205395,9496,"20001#20003#20011#20013#20004#20002#20018","17#1320|3#1365|14#1520|79#13","60101#1|60126#1|60136#1|60141#1",1004,20,"601011#400|601012#600","601011#210101|601012#210101",90,10800,"-9#-361",2,396]
[null,"4072",2,"普通4-7","4082",115,0,51397,205396,9497,"20001#20003#20011#20013#20004#20002#20018","17#1330|3#1365|14#1520|79#13","60101#1|60126#1|60136#1|60141#1",1004,20,"601011#400|601012#600","601011#210101|601012#210101",90,10800,"73#-367",2,397]
[null,"4082",2,"普通4-8","4092",115,0,51398,205397,9498,"20001#20003#20011#20013#20004#20002#20018","17#1330|3#1375|14#1520|79#13","60101#1|60126#1|60136#1|60141#1",1004,20,"601011#400|601012#600","601011#210101|601012#210101",90,10800,"56#-307",2,398]
[null,"4092",2,"普通4-9","4102",115,0,51399,205398,9499,"20001#20003#20011#20013#20004#20002#20018","17#1330|3#1375|14#1530|79#13","60101#1|60126#1|60136#1|60141#1",1004,20,"601011#400|601012#600","601011#210101|601012#210101",90,10800,"109#-273",2,399]
[null,"4102",2,"普通4-10","4112",117,0,51400,205399,9500,"20001#20003#20011#20013#20004#20002#20018","17#1340|3#1375|14#1530|79#13","60101#1|60126#1|60136#1|60141#1",1004,20,"601011#400|601012#600","601011#210101|601012#210101",90,10800,"193#-286",2,400]
[null,"4112",2,"普通4-11","4122",117,0,51401,205400,9501,"20001#20003#20011#20013#20004#20002#20018","17#1340|3#1385|14#1530|79#14","60101#1|60126#1|60136#1|60141#1",1004,20,"601011#400|601012#600","601011#210101|601012#210101",90,10800,"282#-301",2,401]
[null,"4122",2,"普通4-12","4132",117,0,51402,205401,9502,"20001#20003#20011#20013#20004#20002#20018","17#1340|3#1385|14#1540|79#14","60101#1|60126#1|60136#1|60141#1",1004,20,"601011#400|601012#600","601011#210101|601012#210101",90,10800,"361#-286",2,402]
[null,"4132",2,"普通4-13","4142",117,0,51403,205402,9503,"20001#20003#20011#20013#20004#20002#20018","17#1350|3#1385|14#1540|79#14","60101#1|60126#1|60136#1|60141#1",1004,20,"601011#400|601012#600","601011#210101|601012#210101",90,10800,"379#-211",1,403]
[null,"4142",2,"普通4-14","4152",117,0,51404,205403,9504,"20001#20003#20011#20013#20004#20002#20018","17#1350|3#1395|14#1540|79#14","60101#1|60126#1|60136#1|60141#1",1004,20,"601011#400|601012#600","601011#210101|601012#210101",90,10800,"299#-192",1,404]
[null,"4152",2,"普通4-15","4162",117,0,51405,205404,9505,"20001#20003#20011#20013#20004#20002#20018","17#1350|3#1395|14#1550|79#14","60101#1|60126#1|60136#1|60141#1",1004,20,"601011#400|601012#600","601011#210101|601012#210101",90,10800,"211#-198",1,405]
[null,"4162",2,"普通4-16","4172",117,0,51406,205405,9506,"20001#20003#20011#20013#20004#20002#20018","17#1360|3#1395|14#1550|79#14","60101#1|60126#1|60136#1|60141#1",1004,20,"601011#400|601012#600","601011#210101|601012#210101",90,10800,"126#-198",1,406]
[null,"4172",2,"普通4-17","4182",119,0,51407,205406,9507,"20001#20003#20011#20013#20004#20002#20018","17#1360|3#1405|14#1550|79#14","60101#1|60126#1|60136#1|60141#1",1004,20,"601011#400|601012#600","601011#210101|601012#210101",90,10800,"111#-145",2,407]
[null,"4182",2,"普通4-18","4192",119,0,51408,205407,9508,"20001#20003#20011#20013#20004#20002#20018","17#1360|3#1405|14#1560|79#14","60101#1|60126#1|60136#1|60141#1",1004,20,"601011#400|601012#600","601011#210101|601012#210101",90,10800,"78#-101",1,408]
[null,"4192",2,"普通4-19","4202",119,0,51409,205408,9509,"20001#20003#20011#20013#20004#20002#20018","17#1370|3#1405|14#1560|79#14","60101#1|60126#1|60136#1|60141#1",1004,20,"601011#400|601012#600","601011#210101|601012#210101",90,10800,"7#-107",1,409]
[null,"4202",2,"普通4-20","4212",119,0,51410,205409,9510,"20001#20003#20011#20013#20004#20002#20018","17#1370|3#1415|14#1560|79#14","60101#1|60126#1|60136#1|60141#1",1004,20,"601011#400|601012#600","601011#210101|601012#210101",90,10800,"-71#-116",1,410]
[null,"4212",2,"普通4-21","4222",119,0,51411,205410,9511,"20001#20003#20011#20013#20004#20002#20018","17#1370|3#1415|14#1570|79#14","60101#1|60126#1|60136#1|60141#1",1004,20,"601011#400|601012#600","601011#210101|601012#210101",90,10800,"-149#-122",1,411]
[null,"4222",2,"普通4-22","4232",119,0,51412,205411,9512,"20001#20003#20011#20013#20004#20002#20018","17#1380|3#1415|14#1570|79#14","60101#1|60126#1|60136#1|60141#1",1004,20,"601011#400|601012#600","601011#210101|601012#210101",90,10800,"-217#-81",1,412]
[null,"4232",2,"普通4-23","4242",119,0,51413,205412,9513,"20001#20003#20011#20013#20004#20002#20018","17#1380|3#1425|14#1570|79#14","60101#1|60126#1|60136#1|60141#1",1004,20,"601011#400|601012#600","601011#210101|601012#210101",90,10800,"-154#-38",2,413]
[null,"4242",2,"普通4-24","4252",121,0,51414,205413,9514,"20001#20003#20011#20013#20004#20002#20018","17#1380|3#1425|14#1580|79#14","60101#1|60126#1|60136#1|60141#1",1004,20,"601011#400|601012#600","601011#210101|601012#210101",90,10800,"-73#-32",2,414]
[null,"4252",2,"普通4-25","4262",121,0,51415,205414,9515,"20001#20003#20011#20013#20004#20002#20018","17#1390|3#1425|14#1580|79#14","60101#1|60126#1|60136#1|60141#1",1004,20,"601011#400|601012#600","601011#210101|601012#210101",90,10800,"5#-20",2,415]
[null,"4262",2,"普通4-26","4272",121,0,51416,205415,9516,"20001#20003#20011#20013#20004#20002#20018","17#1390|3#1435|14#1580|79#14","60101#1|60126#1|60136#1|60141#1",1004,20,"601011#400|601012#600","601011#210101|601012#210101",90,10800,"81#15",2,416]
[null,"4272",2,"普通4-27","4282",121,0,51417,205416,9517,"20001#20003#20011#20013#20004#20002#20018","17#1390|3#1435|14#1590|79#14","60101#1|60126#1|60136#1|60141#1",1004,20,"601011#400|601012#600","601011#210101|601012#210101",90,10800,"160#4",2,417]
[null,"4282",2,"普通4-28","4292",121,0,51418,205417,9518,"20001#20003#20011#20013#20004#20002#20018","17#1400|3#1435|14#1590|79#14","60101#1|60126#1|60136#1|60141#1",1004,20,"601011#400|601012#600","601011#210101|601012#210101",90,10800,"242#-15",2,418]
[null,"4292",2,"普通4-29","4302",121,0,51419,205418,9519,"20001#20003#20011#20013#20004#20002#20018","17#1400|3#1445|14#1590|79#14","60101#1|60126#1|60136#1|60141#1",1004,20,"601011#400|601012#600","601011#210101|601012#210101",90,10800,"325#-4",2,419]
[null,"4302",2,"普通4-30","5012",123,0,51420,205419,9520,"20001#20003#20011#20013#20004#20002#20018","17#1400|3#1445|14#1600|79#14","60101#1|60126#1|60136#1|60141#1",1004,20,"601011#400|601012#600","601011#210101|601012#210101",90,10800,"314#68",1,420]
[null,"5012",2,"普通5-1","5022",123,1,51421,205420,9521,"20001#20003#20011#20014#20004#20002#20018","17#1410|3#1445|14#1600|79#14","60102#1|60127#1|60137#1|60142#1",1004,20,"601011#400|601012#600","601011#210101|601012#210101",90,10800,"291#-347",2,421]
[null,"5022",2,"普通5-2","5032",123,0,51422,205421,9522,"20001#20003#20011#20014#20004#20002#20018","17#1410|3#1455|14#1600|79#14","60102#1|60127#1|60137#1|60142#1",1004,20,"601011#400|601012#600","601011#210101|601012#210101",90,10800,"331#-271",1,422]
[null,"5032",2,"普通5-3","5042",123,0,51423,205422,9523,"20001#20003#20011#20014#20004#20002#20018","17#1410|3#1455|14#1610|79#14","60102#1|60127#1|60137#1|60142#1",1004,20,"601011#400|601012#600","601011#210101|601012#210101",90,10800,"233#-266",1,423]
[null,"5042",2,"普通5-4","5052",123,0,51424,205423,9524,"20001#20003#20011#20014#20004#20002#20018","17#1420|3#1455|14#1610|79#14","60102#1|60127#1|60137#1|60142#1",1004,20,"601011#400|601012#600","601011#210101|601012#210101",90,10800,"181#-201",2,424]
[null,"5052",2,"普通5-5","5062",123,0,51425,205424,9525,"20001#20003#20011#20014#20004#20002#20018","17#1420|3#1465|14#1610|79#14","60102#1|60127#1|60137#1|60142#1",1004,20,"601011#400|601012#600","601011#210101|601012#210101",90,10800,"270#-188",2,425]
[null,"5062",2,"普通5-6","5072",123,0,51426,205425,9526,"20001#20003#20011#20014#20004#20002#20018","17#1420|3#1465|14#1620|79#14","60102#1|60127#1|60137#1|60142#1",1004,20,"601011#400|601012#600","601011#210101|601012#210101",90,10800,"272#-105",1,426]
[null,"5072",2,"普通5-7","5082",125,0,51427,205426,9527,"20001#20003#20011#20014#20004#20002#20018","17#1430|3#1465|14#1620|79#14","60102#1|60127#1|60137#1|60142#1",1004,20,"601011#400|601012#600","601011#210101|601012#210101",90,10800,"195#-73",1,427]
[null,"5082",2,"普通5-8","5092",125,0,51428,205427,9528,"20001#20003#20011#20014#20004#20002#20018","17#1430|3#1475|14#1620|79#14","60102#1|60127#1|60137#1|60142#1",1004,20,"601011#400|601012#600","601011#210101|601012#210101",90,10800,"106#-78",1,428]
[null,"5092",2,"普通5-9","5102",125,0,51429,205428,9529,"20001#20003#20011#20014#20004#20002#20018","17#1430|3#1475|14#1630|79#14","60102#1|60127#1|60137#1|60142#1",1004,20,"601011#400|601012#600","601011#210101|601012#210101",90,10800,"64#-142",1,429]
[null,"5102",2,"普通5-10","5112",125,0,51430,205429,9530,"20001#20003#20011#20014#20004#20002#20018","17#1440|3#1475|14#1630|79#14","60102#1|60127#1|60137#1|60142#1",1004,20,"601011#400|601012#600","601011#210101|601012#210101",90,10800,"74#-221",1,430]
[null,"5112",2,"普通5-11","5122",125,0,51431,205430,9531,"20001#20003#20011#20014#20004#20002#20018","17#1440|3#1485|14#1630|79#14","60102#1|60127#1|60137#1|60142#1",1004,20,"601011#400|601012#600","601011#210101|601012#210101",90,10800,"-1#-272",1,431]
[null,"5122",2,"普通5-12","5132",125,0,51432,205431,9532,"20001#20003#20011#20014#20004#20002#20018","17#1440|3#1485|14#1640|79#14","60102#1|60127#1|60137#1|60142#1",1004,20,"601011#400|601012#600","601011#210101|601012#210101",90,10800,"-81#-241",1,432]
[null,"5132",2,"普通5-13","5142",125,0,51433,205432,9533,"20001#20003#20011#20014#20004#20002#20018","17#1450|3#1485|14#1640|79#14","60102#1|60127#1|60137#1|60142#1",1004,20,"601011#400|601012#600","601011#210101|601012#210101",90,10800,"-168#-218",1,433]
[null,"5142",2,"普通5-14","5152",127,0,51434,205433,9534,"20001#20003#20011#20014#20004#20002#20018","17#1450|3#1495|14#1640|79#14","60102#1|60127#1|60137#1|60142#1",1004,20,"601011#400|601012#600","601011#210101|601012#210101",90,10800,"-245#-257",1,434]
[null,"5152",2,"普通5-15","5162",127,0,51435,205434,9535,"20001#20003#20011#20014#20004#20002#20018","17#1450|3#1495|14#1650|79#14","60102#1|60127#1|60137#1|60142#1",1004,20,"601011#400|601012#600","601011#210101|601012#210101",90,10800,"-340#-266",1,435]
[null,"5162",2,"普通5-16","5172",127,0,51436,205435,9536,"20001#20003#20011#20014#20004#20002#20018","17#1460|3#1495|14#1650|79#14","60102#1|60127#1|60137#1|60142#1",1004,20,"601011#400|601012#600","601011#210101|601012#210101",90,10800,"-413#-219",1,436]
[null,"5172",2,"普通5-17","5182",127,0,51437,205436,9537,"20001#20003#20011#20014#20004#20002#20018","17#1460|3#1505|14#1650|79#14","60102#1|60127#1|60137#1|60142#1",1004,20,"601011#400|601012#600","601011#210101|601012#210101",90,10800,"-358#-156",2,437]
[null,"5182",2,"普通5-18","5192",127,0,51438,205437,9538,"20001#20003#20011#20014#20004#20002#20018","17#1460|3#1505|14#1660|79#14","60102#1|60127#1|60137#1|60142#1",1004,20,"601011#400|601012#600","601011#210101|601012#210101",90,10800,"-266#-162",2,438]
[null,"5192",2,"普通5-19","5202",127,0,51439,205438,9539,"20001#20003#20011#20014#20004#20002#20018","17#1470|3#1505|14#1660|79#14","60102#1|60127#1|60137#1|60142#1",1004,20,"601011#400|601012#600","601011#210101|601012#210101",90,10800,"-191#-161",2,439]
[null,"5202",2,"普通5-20","5212",129,0,51440,205439,9540,"20001#20003#20011#20014#20004#20002#20018","17#1470|3#1515|14#1660|79#14","60102#1|60127#1|60137#1|60142#1",1004,20,"601011#400|601012#600","601011#210101|601012#210101",90,10800,"-131#-121",2,440]
[null,"5212",2,"普通5-21","5222",129,0,51441,205440,9541,"20001#20003#20011#20014#20004#20002#20018","17#1470|3#1515|14#1670|79#14","60102#1|60127#1|60137#1|60142#1",1004,20,"601011#400|601012#600","601011#210101|601012#210101",90,10800,"-139#-54",2,441]
[null,"5222",2,"普通5-22","5232",129,0,51442,205441,9542,"20001#20003#20011#20014#20004#20002#20018","17#1480|3#1515|14#1670|79#14","60102#1|60127#1|60137#1|60142#1",1004,20,"601011#400|601012#600","601011#210101|601012#210101",90,10800,"-91#-13",1,442]
[null,"5232",2,"普通5-23","5242",129,0,51443,205442,9543,"20001#20003#20011#20014#20004#20002#20018","17#1480|3#1525|14#1670|79#14","60102#1|60127#1|60137#1|60142#1",1004,20,"601011#400|601012#600","601011#210101|601012#210101",90,10800,"-115#52",1,443]
[null,"5242",2,"普通5-24","5252",129,0,51444,205443,9544,"20001#20003#20011#20014#20004#20002#20018","17#1480|3#1525|14#1680|79#14","60102#1|60127#1|60137#1|60142#1",1004,20,"601011#400|601012#600","601011#210101|601012#210101",90,10800,"-47#82",2,444]
[null,"5252",2,"普通5-25","5262",129,0,51445,205444,9545,"20001#20003#20011#20014#20004#20002#20018","17#1490|3#1525|14#1680|79#14","60102#1|60127#1|60137#1|60142#1",1004,20,"601011#400|601012#600","601011#210101|601012#210101",90,10800,"40#65",2,445]
[null,"5262",2,"普通5-26","5272",129,0,51446,205445,9546,"20001#20003#20011#20014#20004#20002#20018","17#1490|3#1535|14#1680|79#14","60102#1|60127#1|60137#1|60142#1",1004,20,"601011#400|601012#600","601011#210101|601012#210101",90,10800,"128#43",2,446]
[null,"5272",2,"普通5-27","5282",131,0,51447,205446,9547,"20001#20003#20011#20014#20004#20002#20018","17#1490|3#1535|14#1690|79#14","60102#1|60127#1|60137#1|60142#1",1004,20,"601011#400|601012#600","601011#210101|601012#210101",90,10800,"216#60",2,447]
[null,"5282",2,"普通5-28","5292",131,0,51448,205447,9548,"20001#20003#20011#20014#20004#20002#20018","17#1500|3#1535|14#1690|79#14","60102#1|60127#1|60137#1|60142#1",1004,20,"601011#400|601012#600","601011#210101|601012#210101",90,10800,"180#101",1,448]
[null,"5292",2,"普通5-29","5302",131,0,51449,205448,9549,"20001#20003#20011#20014#20004#20002#20018","17#1500|3#1545|14#1690|79#14","60102#1|60127#1|60137#1|60142#1",1004,20,"601011#400|601012#600","601011#210101|601012#210101",90,10800,"230#152",2,449]
[null,"5302",2,"普通5-30","6012",131,0,51450,205449,9550,"20001#20003#20011#20014#20004#20002#20018","17#1500|3#1545|14#1700|79#14","60102#1|60127#1|60137#1|60142#1",1004,20,"601011#400|601012#600","601011#210101|601012#210101",90,10800,"281#217",2,450]
[null,"6012",2,"普通6-1","6022",131,1,51451,205450,9551,"20001#20003#20011#20014#20004#20002#20018","17#1510|3#1545|14#1700|79#14","60102#1|60127#1|60137#1|60142#1",1004,20,"601011#400|601012#600","601011#210101|601012#210101",90,10800,"127#-350",1,451]
[null,"6022",2,"普通6-2","6032",131,0,51452,205451,9552,"20001#20003#20011#20014#20004#20002#20018","17#1510|3#1555|14#1700|79#14","60102#1|60127#1|60137#1|60142#1",1004,20,"601011#400|601012#600","601011#210101|601012#210101",90,10800,"67#-346",1,452]
[null,"6032",2,"普通6-3","6042",131,0,51453,205452,9553,"20001#20003#20011#20014#20004#20002#20018","17#1510|3#1555|14#1710|79#14","60102#1|60127#1|60137#1|60142#1",1004,20,"601011#400|601012#600","601011#210101|601012#210101",90,10800,"8#-331",1,453]
[null,"6042",2,"普通6-4","6052",133,0,51454,205453,9554,"20001#20003#20011#20014#20004#20002#20018","17#1520|3#1555|14#1710|79#14","60102#1|60127#1|60137#1|60142#1",1004,20,"601011#400|601012#600","601011#210101|601012#210101",90,10800,"-40#-299",1,454]
[null,"6052",2,"普通6-5","6062",133,0,51455,205454,9555,"20001#20003#20011#20014#20004#20002#20018","17#1520|3#1565|14#1710|79#14","60102#1|60127#1|60137#1|60142#1",1004,20,"601011#400|601012#600","601011#210101|601012#210101",90,10800,"-3#-265",2,455]
[null,"6062",2,"普通6-6","6072",133,0,51456,205455,9556,"20001#20003#20011#20014#20004#20002#20018","17#1520|3#1565|14#1720|79#14","60102#1|60127#1|60137#1|60142#1",1004,20,"601011#400|601012#600","601011#210101|601012#210101",90,10800,"17#-219",1,456]
[null,"6072",2,"普通6-7","6082",133,0,51457,205456,9557,"20001#20003#20011#20014#20004#20002#20018","17#1530|3#1565|14#1720|79#14","60102#1|60127#1|60137#1|60142#1",1004,20,"601011#400|601012#600","601011#210101|601012#210101",90,10800,"-39#-208",1,457]
[null,"6082",2,"普通6-8","6092",133,0,51458,205457,9558,"20001#20003#20011#20014#20004#20002#20018","17#1530|3#1575|14#1720|79#14","60102#1|60127#1|60137#1|60142#1",1004,20,"601011#400|601012#600","601011#210101|601012#210101",90,10800,"-94#-212",1,458]
[null,"6092",2,"普通6-9","6102",133,0,51459,205458,9559,"20001#20003#20011#20014#20004#20002#20018","17#1530|3#1575|14#1730|79#14","60102#1|60127#1|60137#1|60142#1",1004,20,"601011#400|601012#600","601011#210101|601012#210101",90,10800,"-154#-208",1,459]
[null,"6102",2,"普通6-10","6112",135,0,51460,205459,9560,"20001#20003#20011#20014#20004#20002#20018","17#1540|3#1575|14#1730|79#14","60102#1|60127#1|60137#1|60142#1",1004,20,"601011#400|601012#600","601011#210101|601012#210101",90,10800,"-190#-166",2,460]
[null,"6112",2,"普通6-11","6122",135,0,51461,205460,9561,"20001#20003#20011#20014#20004#20002#20018","17#1540|3#1585|14#1730|79#14","60102#1|60127#1|60137#1|60142#1",1004,20,"601011#400|601012#600","601011#210101|601012#210101",90,10800,"-143#-140",2,461]
[null,"6122",2,"普通6-12","6132",135,0,51462,205461,9562,"20001#20003#20011#20014#20004#20002#20018","17#1540|3#1585|14#1740|79#14","60102#1|60127#1|60137#1|60142#1",1004,20,"601011#400|601012#600","601011#210101|601012#210101",90,10800,"-86#-140",2,462]
[null,"6132",2,"普通6-13","6142",135,0,51463,205462,9563,"20001#20003#20011#20014#20004#20002#20018","17#1550|3#1585|14#1740|79#14","60102#1|60127#1|60137#1|60142#1",1004,20,"601011#400|601012#600","601011#210101|601012#210101",90,10800,"-24#-155",2,463]
[null,"6142",2,"普通6-14","6152",135,0,51464,205463,9564,"20001#20003#20011#20014#20004#20002#20018","17#1550|3#1595|14#1740|79#14","60102#1|60127#1|60137#1|60142#1",1004,20,"601011#400|601012#600","601011#210101|601012#210101",90,10800,"40#-164",2,464]
[null,"6152",2,"普通6-15","6162",135,0,51465,205464,9565,"20001#20003#20011#20014#20004#20002#20018","17#1550|3#1595|14#1750|79#14","60102#1|60127#1|60137#1|60142#1",1004,20,"601011#400|601012#600","601011#210101|601012#210101",90,10800,"105#-171",2,465]
[null,"6162",2,"普通6-16","6172",135,0,51466,205465,9566,"20001#20003#20011#20014#20004#20002#20018","17#1560|3#1595|14#1750|79#14","60102#1|60127#1|60137#1|60142#1",1004,20,"601011#400|601012#600","601011#210101|601012#210101",90,10800,"176#-151",2,466]
[null,"6172",2,"普通6-17","6182",137,0,51467,205466,9567,"20001#20003#20011#20014#20004#20002#20018","17#1560|3#1605|14#1750|79#14","60102#1|60127#1|60137#1|60142#1",1004,20,"601011#400|601012#600","601011#210101|601012#210101",90,10800,"150#-105",1,467]
[null,"6182",2,"普通6-18","6192",137,0,51468,205467,9568,"20001#20003#20011#20014#20004#20002#20018","17#1560|3#1605|14#1760|79#14","60102#1|60127#1|60137#1|60142#1",1004,20,"601011#400|601012#600","601011#210101|601012#210101",90,10800,"84#-83",1,468]
[null,"6192",2,"普通6-19","6202",137,0,51469,205468,9569,"20001#20003#20011#20014#20004#20002#20018","17#1570|3#1605|14#1760|79#14","60102#1|60127#1|60137#1|60142#1",1004,20,"601011#400|601012#600","601011#210101|601012#210101",90,10800,"100#-28",2,469]
[null,"6202",2,"普通6-20","6212",137,0,51470,205469,9570,"20001#20003#20011#20014#20004#20002#20018","17#1570|3#1615|14#1760|79#14","60102#1|60127#1|60137#1|60142#1",1004,20,"601011#400|601012#600","601011#210101|601012#210101",90,10800,"169#-34",2,470]
[null,"6212",2,"普通6-21","6222",137,0,51471,205470,9571,"20001#20003#20011#20014#20004#20002#20018","17#1570|3#1615|14#1770|79#14","60102#1|60127#1|60137#1|60142#1",1004,20,"601011#400|601012#600","601011#210101|601012#210101",90,10800,"246#-34",2,471]
[null,"6222",2,"普通6-22","6232",137,0,51472,205471,9572,"20001#20003#20011#20014#20004#20002#20018","17#1580|3#1615|14#1770|79#14","60102#1|60127#1|60137#1|60142#1",1004,20,"601011#400|601012#600","601011#210101|601012#210101",90,10800,"286#19",1,472]
[null,"6232",2,"普通6-23","6242",137,0,51473,205472,9573,"20001#20003#20011#20014#20004#20002#20018","17#1580|3#1625|14#1770|79#14","60102#1|60127#1|60137#1|60142#1",1004,20,"601011#400|601012#600","601011#210101|601012#210101",90,10800,"232#48",1,473]
[null,"6242",2,"普通6-24","6252",139,0,51474,205473,9574,"20001#20003#20011#20014#20004#20002#20018","17#1580|3#1625|14#1780|79#14","60102#1|60127#1|60137#1|60142#1",1004,20,"601011#400|601012#600","601011#210101|601012#210101",90,10800,"164#57",1,474]
[null,"6252",2,"普通6-25","6262",139,0,51475,205474,9575,"20001#20003#20011#20014#20004#20002#20018","17#1590|3#1625|14#1780|79#14","60102#1|60127#1|60137#1|60142#1",1004,20,"601011#400|601012#600","601011#210101|601012#210101",90,10800,"110#78",1,475]
[null,"6262",2,"普通6-26","6272",139,0,51476,205475,9576,"20001#20003#20011#20014#20004#20002#20018","17#1590|3#1635|14#1780|79#14","60102#1|60127#1|60137#1|60142#1",1004,20,"601011#400|601012#600","601011#210101|601012#210101",90,10800,"52#120",1,476]
[null,"6272",2,"普通6-27","6282",139,0,51477,205476,9577,"20001#20003#20011#20014#20004#20002#20018","17#1590|3#1635|14#1790|79#14","60102#1|60127#1|60137#1|60142#1",1004,20,"601011#400|601012#600","601011#210101|601012#210101",90,10800,"26#173",1,477]
[null,"6282",2,"普通6-28","6292",139,0,51478,205477,9578,"20001#20003#20011#20014#20004#20002#20018","17#1600|3#1635|14#1790|79#14","60102#1|60127#1|60137#1|60142#1",1004,20,"601011#400|601012#600","601011#210101|601012#210101",90,10800,"-14#216",1,478]
[null,"6292",2,"普通6-29","6302",139,0,51479,205478,9579,"20001#20003#20011#20014#20004#20002#20018","17#1600|3#1645|14#1790|79#14","60102#1|60127#1|60137#1|60142#1",1004,20,"601011#400|601012#600","601011#210101|601012#210101",90,10800,"-60#250",1,479]
[null,"6302",2,"普通6-30","7012",141,0,51480,205479,9580,"20001#20003#20011#20014#20004#20002#20018","17#1600|3#1645|14#1800|79#14","60102#1|60127#1|60137#1|60142#1",1004,20,"601011#400|601012#600","601011#210101|601012#210101",90,10800,"-125#273",1,480]
[null,"7012",2,"普通7-1","7022",141,1,51481,205480,9581,"20001#20003#20011#20014#20004#20002#20018","17#1610|3#1645|14#1800|79#14","60102#1|60127#1|60137#1|60142#1",1004,20,"601011#400|601012#600","601011#210101|601012#210101",90,10800,"-269#-259",2,481]
[null,"7022",2,"普通7-2","7032",141,0,51482,205481,9582,"20001#20003#20011#20014#20004#20002#20018","17#1610|3#1655|14#1800|79#14","60102#1|60127#1|60137#1|60142#1",1004,20,"601011#400|601012#600","601011#210101|601012#210101",90,10800,"-190#-274",2,482]
[null,"7032",2,"普通7-3","7042",141,0,51483,205482,9583,"20001#20003#20011#20014#20004#20002#20018","17#1610|3#1655|14#1810|79#14","60102#1|60127#1|60137#1|60142#1",1004,20,"601011#400|601012#600","601011#210101|601012#210101",90,10800,"-109#-266",2,483]
[null,"7042",2,"普通7-4","7052",141,0,51484,205483,9584,"20001#20003#20011#20014#20004#20002#20018","17#1620|3#1655|14#1810|79#14","60102#1|60127#1|60137#1|60142#1",1004,20,"601011#400|601012#600","601011#210101|601012#210101",90,10800,"-119#-197",1,484]
[null,"7052",2,"普通7-5","7062",141,0,51485,205484,9585,"20001#20003#20011#20014#20004#20002#20018","17#1620|3#1665|14#1810|79#14","60102#1|60127#1|60137#1|60142#1",1004,20,"601011#400|601012#600","601011#210101|601012#210101",90,10800,"-66#-153",2,485]
[null,"7062",2,"普通7-6","7072",141,0,51486,205485,9586,"20001#20003#20011#20014#20004#20002#20018","17#1620|3#1665|14#1820|79#14","60102#1|60127#1|60137#1|60142#1",1004,20,"601011#400|601012#600","601011#210101|601012#210101",90,10800,"11#-177",2,486]
[null,"7072",2,"普通7-7","7082",143,0,51487,205486,9587,"20001#20003#20011#20014#20004#20002#20018","17#1630|3#1665|14#1820|79#14","60102#1|60127#1|60137#1|60142#1",1004,20,"601011#400|601012#600","601011#210101|601012#210101",90,10800,"68#-216",2,487]
[null,"7082",2,"普通7-8","7092",143,0,51488,205487,9588,"20001#20003#20011#20014#20004#20002#20018","17#1630|3#1675|14#1820|79#14","60102#1|60127#1|60137#1|60142#1",1004,20,"601011#400|601012#600","601011#210101|601012#210101",90,10800,"114#-255",2,488]
[null,"7092",2,"普通7-9","7102",143,0,51489,205488,9589,"20001#20003#20011#20014#20004#20002#20018","17#1630|3#1675|14#1830|79#14","60102#1|60127#1|60137#1|60142#1",1004,20,"601011#400|601012#600","601011#210101|601012#210101",90,10800,"175#-290",2,489]
[null,"7102",2,"普通7-10","7112",143,0,51490,205489,9590,"20001#20003#20011#20014#20004#20002#20018","17#1640|3#1675|14#1830|79#14","60102#1|60127#1|60137#1|60142#1",1004,20,"601011#400|601012#600","601011#210101|601012#210101",90,10800,"237#-310",2,490]
[null,"7112",2,"普通7-11","7122",143,0,51491,205490,9591,"20001#20003#20011#20014#20004#20002#20018","17#1640|3#1685|14#1830|79#14","60102#1|60127#1|60137#1|60142#1",1004,20,"601011#400|601012#600","601011#210101|601012#210101",90,10800,"313#-320",2,491]
[null,"7122",2,"普通7-12","7132",143,0,51492,205491,9592,"20001#20003#20011#20014#20004#20002#20018","17#1640|3#1685|14#1840|79#14","60102#1|60127#1|60137#1|60142#1",1004,20,"601011#400|601012#600","601011#210101|601012#210101",90,10800,"379#-297",2,492]
[null,"7132",2,"普通7-13","7142",143,0,51493,205492,9593,"20001#20003#20011#20014#20004#20002#20018","17#1650|3#1685|14#1840|79#14","60102#1|60127#1|60137#1|60142#1",1004,20,"601011#400|601012#600","601011#210101|601012#210101",90,10800,"379#-235",1,493]
[null,"7142",2,"普通7-14","7152",145,0,51494,205493,9594,"20001#20003#20011#20014#20004#20002#20018","17#1650|3#1695|14#1840|79#14","60102#1|60127#1|60137#1|60142#1",1004,20,"601011#400|601012#600","601011#210101|601012#210101",90,10800,"326#-196",1,494]
[null,"7152",2,"普通7-15","7162",145,0,51495,205494,9595,"20001#20003#20011#20014#20004#20002#20018","17#1650|3#1695|14#1850|79#14","60102#1|60127#1|60137#1|60142#1",1004,20,"601011#400|601012#600","601011#210101|601012#210101",90,10800,"379#-143",1,495]
[null,"7162",2,"普通7-16","7172",145,0,51496,205495,9596,"20001#20003#20011#20014#20004#20002#20018","17#1660|3#1695|14#1850|79#14","60102#1|60127#1|60137#1|60142#1",1004,20,"601011#400|601012#600","601011#210101|601012#210101",90,10800,"321#-110",1,496]
[null,"7172",2,"普通7-17","7182",145,0,51497,205496,9597,"20001#20003#20011#20014#20004#20002#20018","17#1660|3#1705|14#1850|79#14","60102#1|60127#1|60137#1|60142#1",1004,20,"601011#400|601012#600","601011#210101|601012#210101",90,10800,"251#-110",1,497]
[null,"7182",2,"普通7-18","7192",145,0,51498,205497,9598,"20001#20003#20011#20014#20004#20002#20018","17#1660|3#1705|14#1860|79#14","60102#1|60127#1|60137#1|60142#1",1004,20,"601011#400|601012#600","601011#210101|601012#210101",90,10800,"189#-71",1,498]
[null,"7192",2,"普通7-19","7202",145,0,51499,205498,9599,"20001#20003#20011#20014#20004#20002#20018","17#1670|3#1705|14#1860|79#14","60102#1|60127#1|60137#1|60142#1",1004,20,"601011#400|601012#600","601011#210101|601012#210101",90,10800,"109#-71",1,499]
[null,"7202",2,"普通7-20","7212",147,0,51500,205499,9600,"20001#20003#20011#20014#20004#20002#20018","17#1670|3#1715|14#1860|79#14","60102#1|60127#1|60137#1|60142#1",1004,20,"601011#400|601012#600","601011#210101|601012#210101",90,10800,"33#-91",1,500]
[null,"7212",2,"普通7-21","7222",147,0,51501,205500,9601,"20001#20003#20011#20014#20004#20002#20018","17#1670|3#1715|14#1870|79#15","60102#1|60127#1|60137#1|60142#1",1004,20,"601011#400|601012#600","601011#210101|601012#210101",90,10800,"-55#-88",1,501]
[null,"7222",2,"普通7-22","7232",147,0,51502,205501,9602,"20001#20003#20011#20014#20004#20002#20018","17#1680|3#1715|14#1870|79#15","60102#1|60127#1|60137#1|60142#1",1004,20,"601011#400|601012#600","601011#210101|601012#210101",90,10800,"-127#-69",1,502]
[null,"7232",2,"普通7-23","7242",147,0,51503,205502,9603,"20001#20003#20011#20014#20004#20002#20018","17#1680|3#1725|14#1870|79#15","60102#1|60127#1|60137#1|60142#1",1004,20,"601011#400|601012#600","601011#210101|601012#210101",90,10800,"-195#-41",1,503]
[null,"7242",2,"普通7-24","7252",147,0,51504,205503,9604,"20001#20003#20011#20014#20004#20002#20018","17#1680|3#1725|14#1880|79#15","60102#1|60127#1|60137#1|60142#1",1004,20,"601011#400|601012#600","601011#210101|601012#210101",90,10800,"-236#12",1,504]
[null,"7252",2,"普通7-25","7262",147,0,51505,205504,9605,"20001#20003#20011#20014#20004#20002#20018","17#1690|3#1725|14#1880|79#15","60102#1|60127#1|60137#1|60142#1",1004,20,"601011#400|601012#600","601011#210101|601012#210101",90,10800,"-175#54",2,505]
[null,"7262",2,"普通7-26","7272",147,0,51506,205505,9606,"20001#20003#20011#20014#20004#20002#20018","17#1690|3#1735|14#1880|79#15","60102#1|60127#1|60137#1|60142#1",1004,20,"601011#400|601012#600","601011#210101|601012#210101",90,10800,"-94#53",2,506]
[null,"7272",2,"普通7-27","7282",149,0,51507,205506,9607,"20001#20003#20011#20014#20004#20002#20018","17#1690|3#1735|14#1890|79#15","60102#1|60127#1|60137#1|60142#1",1004,20,"601011#400|601012#600","601011#210101|601012#210101",90,10800,"-19#48",2,507]
[null,"7282",2,"普通7-28","7292",149,0,51508,205507,9608,"20001#20003#20011#20014#20004#20002#20018","17#1700|3#1735|14#1890|79#15","60102#1|60127#1|60137#1|60142#1",1004,20,"601011#400|601012#600","601011#210101|601012#210101",90,10800,"19#98",2,508]
[null,"7292",2,"普通7-29","7302",149,0,51509,205508,9609,"20001#20003#20011#20014#20004#20002#20018","17#1700|3#1745|14#1890|79#15","60102#1|60127#1|60137#1|60142#1",1004,20,"601011#400|601012#600","601011#210101|601012#210101",90,10800,"76#138",2,509]
[null,"7302",2,"普通7-30","8012",149,0,51510,205509,9610,"20001#20003#20011#20014#20004#20002#20018","17#1700|3#1745|14#1900|79#15","60102#1|60127#1|60137#1|60142#1",1004,20,"601011#400|601012#600","601011#210101|601012#210101",90,10800,"155#145",2,510]
[null,"8012",2,"普通8-1","8022",149,1,51511,205510,9611,"20001#20003#20011#20014#20004#20002#20018","17#1710|3#1745|14#1900|79#15","60102#1|60127#1|60137#1|60142#1",1004,20,"601011#400|601012#600","601011#210101|601012#210101",90,10800,"163#-325",1,511]
[null,"8022",2,"普通8-2","8032",149,0,51512,205511,9612,"20001#20003#20011#20014#20004#20002#20018","17#1710|3#1755|14#1900|79#15","60102#1|60127#1|60137#1|60142#1",1004,20,"601011#400|601012#600","601011#210101|601012#210101",90,10800,"77#-331",1,512]
[null,"8032",2,"普通8-3","8042",149,0,51513,205512,9613,"20001#20003#20011#20014#20004#20002#20018","17#1710|3#1755|14#1910|79#15","60102#1|60127#1|60137#1|60142#1",1004,20,"601011#400|601012#600","601011#210101|601012#210101",90,10800,"5#-356",1,513]
[null,"8042",2,"普通8-4","8052",151,0,51514,205513,9614,"20001#20003#20011#20014#20004#20002#20018","17#1720|3#1755|14#1910|79#15","60102#1|60127#1|60137#1|60142#1",1004,20,"601011#400|601012#600","601011#210101|601012#210101",90,10800,"-83#-359",1,514]
[null,"8052",2,"普通8-5","8062",151,0,51515,205514,9615,"20001#20003#20011#20014#20004#20002#20018","17#1720|3#1765|14#1910|79#15","60102#1|60127#1|60137#1|60142#1",1004,20,"601011#400|601012#600","601011#210101|601012#210101",90,10800,"-175#-337",1,515]
[null,"8062",2,"普通8-6","8072",151,0,51516,205515,9616,"20001#20003#20011#20014#20004#20002#20018","17#1720|3#1765|14#1920|79#15","60102#1|60127#1|60137#1|60142#1",1004,20,"601011#400|601012#600","601011#210101|601012#210101",90,10800,"-252#-293",1,516]
[null,"8072",2,"普通8-7","8082",151,0,51517,205516,9617,"20001#20003#20011#20014#20004#20002#20018","17#1730|3#1765|14#1920|79#15","60102#1|60127#1|60137#1|60142#1",1004,20,"601011#400|601012#600","601011#210101|601012#210101",90,10800,"-346#-275",1,517]
[null,"8082",2,"普通8-8","8092",151,0,51518,205517,9618,"20001#20003#20011#20014#20004#20002#20018","17#1730|3#1775|14#1920|79#15","60102#1|60127#1|60137#1|60142#1",1004,20,"601011#400|601012#600","601011#210101|601012#210101",90,10800,"-437#-251",1,518]
[null,"8092",2,"普通8-9","8102",151,0,51519,205518,9619,"20001#20003#20011#20014#20004#20002#20018","17#1730|3#1775|14#1930|79#15","60102#1|60127#1|60137#1|60142#1",1004,20,"601011#400|601012#600","601011#210101|601012#210101",90,10800,"-464#-159",2,519]
[null,"8102",2,"普通8-10","8112",153,0,51520,205519,9620,"20001#20003#20011#20014#20004#20002#20018","17#1740|3#1775|14#1930|79#15","60102#1|60127#1|60137#1|60142#1",1004,20,"601011#400|601012#600","601011#210101|601012#210101",90,10800,"-363#-166",2,520]
[null,"8112",2,"普通8-11","8122",153,0,51521,205520,9621,"20001#20003#20011#20014#20004#20002#20018","17#1740|3#1785|14#1930|79#15","60102#1|60127#1|60137#1|60142#1",1004,20,"601011#400|601012#600","601011#210101|601012#210101",90,10800,"-273#-211",2,521]
[null,"8122",2,"普通8-12","8132",153,0,51522,205521,9622,"20001#20003#20011#20014#20004#20002#20018","17#1740|3#1785|14#1940|79#15","60102#1|60127#1|60137#1|60142#1",1004,20,"601011#400|601012#600","601011#210101|601012#210101",90,10800,"-183#-173",2,522]
[null,"8132",2,"普通8-13","8142",153,0,51523,205522,9623,"20001#20003#20011#20014#20004#20002#20018","17#1750|3#1785|14#1940|79#15","60102#1|60127#1|60137#1|60142#1",1004,20,"601011#400|601012#600","601011#210101|601012#210101",90,10800,"-233#-101",1,523]
[null,"8142",2,"普通8-14","8152",153,0,51524,205523,9624,"20001#20003#20011#20014#20004#20002#20018","17#1750|3#1795|14#1940|79#15","60102#1|60127#1|60137#1|60142#1",1004,20,"601011#400|601012#600","601011#210101|601012#210101",90,10800,"-238#-12",2,524]
[null,"8152",2,"普通8-15","8162",153,0,51525,205524,9625,"20001#20003#20011#20014#20004#20002#20018","17#1750|3#1795|14#1950|79#15","60102#1|60127#1|60137#1|60142#1",1004,20,"601011#400|601012#600","601011#210101|601012#210101",90,10800,"-158#30",2,525]
[null,"8162",2,"普通8-16","8172",153,0,51526,205525,9626,"20001#20003#20011#20014#20004#20002#20018","17#1760|3#1795|14#1950|79#15","60102#1|60127#1|60137#1|60142#1",1004,20,"601011#400|601012#600","601011#210101|601012#210101",90,10800,"-58#19",2,526]
[null,"8172",2,"普通8-17","8182",155,0,51527,205526,9627,"20001#20003#20011#20014#20004#20002#20018","17#1760|3#1805|14#1950|79#15","60102#1|60127#1|60137#1|60142#1",1004,20,"601011#400|601012#600","601011#210101|601012#210101",90,10800,"-26#-74",2,527]
[null,"8182",2,"普通8-18","8192",155,0,51528,205527,9628,"20001#20003#20011#20014#20004#20002#20018","17#1760|3#1805|14#1960|79#15","60102#1|60127#1|60137#1|60142#1",1004,20,"601011#400|601012#600","601011#210101|601012#210101",90,10800,"-11#-164",2,528]
[null,"8192",2,"普通8-19","8202",155,0,51529,205528,9629,"20001#20003#20011#20014#20004#20002#20018","17#1770|3#1805|14#1960|79#15","60102#1|60127#1|60137#1|60142#1",1004,20,"601011#400|601012#600","601011#210101|601012#210101",90,10800,"77#-200",2,529]
[null,"8202",2,"普通8-20","8212",155,0,51530,205529,9630,"20001#20003#20011#20014#20004#20002#20018","17#1770|3#1815|14#1960|79#15","60102#1|60127#1|60137#1|60142#1",1004,20,"601011#400|601012#600","601011#210101|601012#210101",90,10800,"173#-175",2,530]
[null,"8212",2,"普通8-21","8222",155,0,51531,205530,9631,"20001#20003#20011#20014#20004#20002#20018","17#1770|3#1815|14#1970|79#15","60102#1|60127#1|60137#1|60142#1",1004,20,"601011#400|601012#600","601011#210101|601012#210101",90,10800,"273#-177",2,531]
[null,"8222",2,"普通8-22","8232",155,0,51532,205531,9632,"20001#20003#20011#20014#20004#20002#20018","17#1780|3#1815|14#1970|79#15","60102#1|60127#1|60137#1|60142#1",1004,20,"601011#400|601012#600","601011#210101|601012#210101",90,10800,"370#-202",2,532]
[null,"8232",2,"普通8-23","8242",155,0,51533,205532,9633,"20001#20003#20011#20014#20004#20002#20018","17#1780|3#1825|14#1970|79#15","60102#1|60127#1|60137#1|60142#1",1004,20,"601011#400|601012#600","601011#210101|601012#210101",90,10800,"462#-169",2,533]
[null,"8242",2,"普通8-24","8252",157,0,51534,205533,9634,"20001#20003#20011#20014#20004#20002#20018","17#1780|3#1825|14#1980|79#15","60102#1|60127#1|60137#1|60142#1",1004,20,"601011#400|601012#600","601011#210101|601012#210101",90,10800,"451#-75",1,534]
[null,"8252",2,"普通8-25","8262",157,0,51535,205534,9635,"20001#20003#20011#20014#20004#20002#20018","17#1790|3#1825|14#1980|79#15","60102#1|60127#1|60137#1|60142#1",1004,20,"601011#400|601012#600","601011#210101|601012#210101",90,10800,"363#-36",1,535]
[null,"8262",2,"普通8-26","8272",157,0,51536,205535,9636,"20001#20003#20011#20014#20004#20002#20018","17#1790|3#1835|14#1980|79#15","60102#1|60127#1|60137#1|60142#1",1004,20,"601011#400|601012#600","601011#210101|601012#210101",90,10800,"268#-26",1,536]
[null,"8272",2,"普通8-27","8282",157,0,51537,205536,9637,"20001#20003#20011#20014#20004#20002#20018","17#1790|3#1835|14#1990|79#15","60102#1|60127#1|60137#1|60142#1",1004,20,"601011#400|601012#600","601011#210101|601012#210101",90,10800,"172#-21",1,537]
[null,"8282",2,"普通8-28","8292",157,0,51538,205537,9638,"20001#20003#20011#20014#20004#20002#20018","17#1800|3#1835|14#1990|79#15","60102#1|60127#1|60137#1|60142#1",1004,20,"601011#400|601012#600","601011#210101|601012#210101",90,10800,"172#80",2,538]
[null,"8292",2,"普通8-29","8302",157,0,51539,205538,9639,"20001#20003#20011#20014#20004#20002#20018","17#1800|3#1845|14#1990|79#15","60102#1|60127#1|60137#1|60142#1",1004,20,"601011#400|601012#600","601011#210101|601012#210101",90,10800,"258#103",2,539]
[null,"8302",2,"普通8-30","9012",159,0,51540,205539,9640,"20001#20003#20011#20014#20004#20002#20018","17#1800|3#1845|14#2000|79#15","60102#1|60127#1|60137#1|60142#1",1004,20,"601011#400|601012#600","601011#210101|601012#210101",90,10800,"357#122",2,540]
[null,"9012",2,"普通9-1","9022",159,1,51541,205540,9641,"20001#20003#20011#20015#20004#20002#20018","17#1810|3#1845|14#2000|79#15","60103#1|60128#1|60138#1|60143#1",1004,20,"601011#400|601012#600","601011#210101|601012#210101",90,10800,"420#-289",2,541]
[null,"9022",2,"普通9-2","9032",159,0,51542,205541,9642,"20001#20003#20011#20015#20004#20002#20018","17#1810|3#1855|14#2000|79#15","60103#1|60128#1|60138#1|60143#1",1004,20,"601011#400|601012#600","601011#210101|601012#210101",90,10800,"478#-202",1,542]
[null,"9032",2,"普通9-3","9042",159,0,51543,205542,9643,"20001#20003#20011#20015#20004#20002#20018","17#1810|3#1855|14#2010|79#15","60103#1|60128#1|60138#1|60143#1",1004,20,"601011#400|601012#600","601011#210101|601012#210101",90,10800,"369#-201",1,543]
[null,"9042",2,"普通9-4","9052",159,0,51544,205543,9644,"20001#20003#20011#20015#20004#20002#20018","17#1820|3#1855|14#2010|79#15","60103#1|60128#1|60138#1|60143#1",1004,20,"601011#400|601012#600","601011#210101|601012#210101",90,10800,"249#-230",1,544]
[null,"9052",2,"普通9-5","9062",159,0,51545,205544,9645,"20001#20003#20011#20015#20004#20002#20018","17#1820|3#1865|14#2010|79#15","60103#1|60128#1|60138#1|60143#1",1004,20,"601011#400|601012#600","601011#210101|601012#210101",90,10800,"145#-280",1,545]
[null,"9062",2,"普通9-6","9072",159,0,51546,205545,9646,"20001#20003#20011#20015#20004#20002#20018","17#1820|3#1865|14#2020|79#15","60103#1|60128#1|60138#1|60143#1",1004,20,"601011#400|601012#600","601011#210101|601012#210101",90,10800,"44#-307",1,546]
[null,"9072",2,"普通9-7","9082",161,0,51547,205546,9647,"20001#20003#20011#20015#20004#20002#20018","17#1830|3#1865|14#2020|79#15","60103#1|60128#1|60138#1|60143#1",1004,20,"601011#400|601012#600","601011#210101|601012#210101",90,10800,"-76#-318",1,547]
[null,"9082",2,"普通9-8","9092",161,0,51548,205547,9648,"20001#20003#20011#20015#20004#20002#20018","17#1830|3#1875|14#2020|79#15","60103#1|60128#1|60138#1|60143#1",1004,20,"601011#400|601012#600","601011#210101|601012#210101",90,10800,"-96#-240",2,548]
[null,"9092",2,"普通9-9","9102",161,0,51549,205548,9649,"20001#20003#20011#20015#20004#20002#20018","17#1830|3#1875|14#2030|79#15","60103#1|60128#1|60138#1|60143#1",1004,20,"601011#400|601012#600","601011#210101|601012#210101",90,10800,"30#-237",2,549]
[null,"9102",2,"普通9-10","9112",161,0,51550,205549,9650,"20001#20003#20011#20015#20004#20002#20018","17#1840|3#1875|14#2030|79#15","60103#1|60128#1|60138#1|60143#1",1004,20,"601011#400|601012#600","601011#210101|601012#210101",90,10800,"186#-214",2,550]
[null,"9112",2,"普通9-11","9122",161,0,51551,205550,9651,"20001#20003#20011#20015#20004#20002#20018","17#1840|3#1885|14#2030|79#15","60103#1|60128#1|60138#1|60143#1",1004,20,"601011#400|601012#600","601011#210101|601012#210101",90,10800,"156#-138",2,551]
[null,"9122",2,"普通9-12","9132",161,0,51552,205551,9652,"20001#20003#20011#20015#20004#20002#20018","17#1840|3#1885|14#2040|79#15","60103#1|60128#1|60138#1|60143#1",1004,20,"601011#400|601012#600","601011#210101|601012#210101",90,10800,"281#-59",1,552]
[null,"9132",2,"普通9-13","9142",161,0,51553,205552,9653,"20001#20003#20011#20015#20004#20002#20018","17#1850|3#1885|14#2040|79#15","60103#1|60128#1|60138#1|60143#1",1004,20,"601011#400|601012#600","601011#210101|601012#210101",90,10800,"176#-97",1,553]
[null,"9142",2,"普通9-14","9152",163,0,51554,205553,9654,"20001#20003#20011#20015#20004#20002#20018","17#1850|3#1895|14#2040|79#15","60103#1|60128#1|60138#1|60143#1",1004,20,"601011#400|601012#600","601011#210101|601012#210101",90,10800,"64#-131",1,554]
[null,"9152",2,"普通9-15","9162",163,0,51555,205554,9655,"20001#20003#20011#20015#20004#20002#20018","17#1850|3#1895|14#2050|79#15","60103#1|60128#1|60138#1|60143#1",1004,20,"601011#400|601012#600","601011#210101|601012#210101",90,10800,"-63#-136",1,555]
[null,"9162",2,"普通9-16","9172",163,0,51556,205555,9656,"20001#20003#20011#20015#20004#20002#20018","17#1860|3#1895|14#2050|79#15","60103#1|60128#1|60138#1|60143#1",1004,20,"601011#400|601012#600","601011#210101|601012#210101",90,10800,"-158#-163",1,556]
[null,"9172",2,"普通9-17","9182",163,0,51557,205556,9657,"20001#20003#20011#20015#20004#20002#20018","17#1860|3#1905|14#2050|79#15","60103#1|60128#1|60138#1|60143#1",1004,20,"601011#400|601012#600","601011#210101|601012#210101",90,10800,"-193#-106",1,557]
[null,"9182",2,"普通9-18","9192",163,0,51558,205557,9658,"20001#20003#20011#20015#20004#20002#20018","17#1860|3#1905|14#2060|79#15","60103#1|60128#1|60138#1|60143#1",1004,20,"601011#400|601012#600","601011#210101|601012#210101",90,10800,"-294#-117",1,558]
[null,"9192",2,"普通9-19","9202",163,0,51559,205558,9659,"20001#20003#20011#20015#20004#20002#20018","17#1870|3#1905|14#2060|79#15","60103#1|60128#1|60138#1|60143#1",1004,20,"601011#400|601012#600","601011#210101|601012#210101",90,10800,"-384#-157",1,559]
[null,"9202",2,"普通9-20","9212",165,0,51560,205559,9660,"20001#20003#20011#20015#20004#20002#20018","17#1870|3#1915|14#2060|79#15","60103#1|60128#1|60138#1|60143#1",1004,20,"601011#400|601012#600","601011#210101|601012#210101",90,10800,"-488#-155",1,560]
[null,"9212",2,"普通9-21","9222",165,0,51561,205560,9661,"20001#20003#20011#20015#20004#20002#20018","17#1870|3#1915|14#2070|79#15","60103#1|60128#1|60138#1|60143#1",1004,20,"601011#400|601012#600","601011#210101|601012#210101",90,10800,"-441#-94",2,561]
[null,"9222",2,"普通9-22","9232",165,0,51562,205561,9662,"20001#20003#20011#20015#20004#20002#20018","17#1880|3#1915|14#2070|79#15","60103#1|60128#1|60138#1|60143#1",1004,20,"601011#400|601012#600","601011#210101|601012#210101",90,10800,"-332#-65",2,562]
[null,"9232",2,"普通9-23","9242",165,0,51563,205562,9663,"20001#20003#20011#20015#20004#20002#20018","17#1880|3#1925|14#2070|79#15","60103#1|60128#1|60138#1|60143#1",1004,20,"601011#400|601012#600","601011#210101|601012#210101",90,10800,"-294#25",2,563]
[null,"9242",2,"普通9-24","9252",165,0,51564,205563,9664,"20001#20003#20011#20015#20004#20002#20018","17#1880|3#1925|14#2080|79#15","60103#1|60128#1|60138#1|60143#1",1004,20,"601011#400|601012#600","601011#210101|601012#210101",90,10800,"-171#31",2,564]
[null,"9252",2,"普通9-25","9262",165,0,51565,205564,9665,"20001#20003#20011#20015#20004#20002#20018","17#1890|3#1925|14#2080|79#15","60103#1|60128#1|60138#1|60143#1",1004,20,"601011#400|601012#600","601011#210101|601012#210101",90,10800,"-67#67",2,565]
[null,"9262",2,"普通9-26","9272",165,0,51566,205565,9666,"20001#20003#20011#20015#20004#20002#20018","17#1890|3#1935|14#2080|79#15","60103#1|60128#1|60138#1|60143#1",1004,20,"601011#400|601012#600","601011#210101|601012#210101",90,10800,"38#72",2,566]
[null,"9272",2,"普通9-27","9282",167,0,51567,205566,9667,"20001#20003#20011#20015#20004#20002#20018","17#1890|3#1935|14#2090|79#15","60103#1|60128#1|60138#1|60143#1",1004,20,"601011#400|601012#600","601011#210101|601012#210101",90,10800,"117#20",2,567]
[null,"9282",2,"普通9-28","9292",167,0,51568,205567,9668,"20001#20003#20011#20015#20004#20002#20018","17#1900|3#1935|14#2090|79#15","60103#1|60128#1|60138#1|60143#1",1004,20,"601011#400|601012#600","601011#210101|601012#210101",90,10800,"223#11",2,568]
[null,"9292",2,"普通9-29","9302",167,0,51569,205568,9669,"20001#20003#20011#20015#20004#20002#20018","17#1900|3#1945|14#2090|79#15","60103#1|60128#1|60138#1|60143#1",1004,20,"601011#400|601012#600","601011#210101|601012#210101",90,10800,"316#35",2,569]
[null,"9302",2,"普通9-30","10012",167,0,51570,205569,9670,"20001#20003#20011#20015#20004#20002#20018","17#1900|3#1945|14#2100|79#15","60103#1|60128#1|60138#1|60143#1",1004,20,"601011#400|601012#600","601011#210101|601012#210101",90,10800,"408#50",2,570]
[null,"10012",2,"普通10-1","10022",167,1,51571,205570,9671,"20001#20003#20011#20015#20004#20002#20018","17#1910|3#1945|14#2100|79#15","60103#1|60128#1|60138#1|60143#1",1004,20,"601011#400|601012#600","601011#210101|601012#210101",90,10800,"87#-546",2,571]
[null,"10022",2,"普通10-2","10032",167,0,51572,205571,9672,"20001#20003#20011#20015#20004#20002#20018","17#1910|3#1955|14#2100|79#15","60103#1|60128#1|60138#1|60143#1",1004,20,"601011#400|601012#600","601011#210101|601012#210101",90,10800,"159#-561",2,572]
[null,"10032",2,"普通10-3","10042",167,0,51573,205572,9673,"20001#20003#20011#20015#20004#20002#20018","17#1910|3#1955|14#2110|79#15","60103#1|60128#1|60138#1|60143#1",1004,20,"601011#400|601012#600","601011#210101|601012#210101",90,10800,"231#-545",2,573]
[null,"10042",2,"普通10-4","10052",169,0,51574,205573,9674,"20001#20003#20011#20015#20004#20002#20018","17#1920|3#1955|14#2110|79#15","60103#1|60128#1|60138#1|60143#1",1004,20,"601011#400|601012#600","601011#210101|601012#210101",90,10800,"295#-513",2,574]
[null,"10052",2,"普通10-5","10062",169,0,51575,205574,9675,"20001#20003#20011#20015#20004#20002#20018","17#1920|3#1965|14#2110|79#15","60103#1|60128#1|60138#1|60143#1",1004,20,"601011#400|601012#600","601011#210101|601012#210101",90,10800,"371#-502",2,575]
[null,"10062",2,"普通10-6","10072",169,0,51576,205575,9676,"20001#20003#20011#20015#20004#20002#20018","17#1920|3#1965|14#2120|79#15","60103#1|60128#1|60138#1|60143#1",1004,20,"601011#400|601012#600","601011#210101|601012#210101",90,10800,"445#-476",2,576]
[null,"10072",2,"普通10-7","10082",169,0,51577,205576,9677,"20001#20003#20011#20015#20004#20002#20018","17#1930|3#1965|14#2120|79#15","60103#1|60128#1|60138#1|60143#1",1004,20,"601011#400|601012#600","601011#210101|601012#210101",90,10800,"459#-414",1,577]
[null,"10082",2,"普通10-8","10092",169,0,51578,205577,9678,"20001#20003#20011#20015#20004#20002#20018","17#1930|3#1975|14#2120|79#15","60103#1|60128#1|60138#1|60143#1",1004,20,"601011#400|601012#600","601011#210101|601012#210101",90,10800,"408#-377",1,578]
[null,"10092",2,"普通10-9","10102",169,0,51579,205578,9679,"20001#20003#20011#20015#20004#20002#20018","17#1930|3#1975|14#2130|79#15","60103#1|60128#1|60138#1|60143#1",1004,20,"601011#400|601012#600","601011#210101|601012#210101",90,10800,"337#-372",1,579]
[null,"10102",2,"普通10-10","10112",171,0,51580,205579,9680,"20001#20003#20011#20015#20004#20002#20018","17#1940|3#1975|14#2130|79#15","60103#1|60128#1|60138#1|60143#1",1004,20,"601011#400|601012#600","601011#210101|601012#210101",90,10800,"287#-336",1,580]
[null,"10112",2,"普通10-11","10122",171,0,51581,205580,9681,"20001#20003#20011#20015#20004#20002#20018","17#1940|3#1985|14#2130|79#15","60103#1|60128#1|60138#1|60143#1",1004,20,"601011#400|601012#600","601011#210101|601012#210101",90,10800,"231#-299",1,581]
[null,"10122",2,"普通10-12","10132",171,0,51582,205581,9682,"20001#20003#20011#20015#20004#20002#20018","17#1940|3#1985|14#2140|79#15","60103#1|60128#1|60138#1|60143#1",1004,20,"601011#400|601012#600","601011#210101|601012#210101",90,10800,"170#-300",1,582]
[null,"10132",2,"普通10-13","10142",171,0,51583,205582,9683,"20001#20003#20011#20015#20004#20002#20018","17#1950|3#1985|14#2140|79#15","60103#1|60128#1|60138#1|60143#1",1004,20,"601011#400|601012#600","601011#210101|601012#210101",90,10800,"114#-336",2,583]
[null,"10142",2,"普通10-14","10152",171,0,51584,205583,9684,"20001#20003#20011#20015#20004#20002#20018","17#1950|3#1995|14#2140|79#15","60103#1|60128#1|60138#1|60143#1",1004,20,"601011#400|601012#600","601011#210101|601012#210101",90,10800,"163#-371",2,584]
[null,"10152",2,"普通10-15","10162",171,0,51585,205584,9685,"20001#20003#20011#20015#20004#20002#20018","17#1950|3#1995|14#2150|79#15","60103#1|60128#1|60138#1|60143#1",1004,20,"601011#400|601012#600","601011#210101|601012#210101",90,10800,"179#-419",1,585]
[null,"10162",2,"普通10-16","10172",171,0,51586,205585,9686,"20001#20003#20011#20015#20004#20002#20018","17#1960|3#1995|14#2150|79#15","60103#1|60128#1|60138#1|60143#1",1004,20,"601011#400|601012#600","601011#210101|601012#210101",90,10800,"97#-413",1,586]
[null,"10172",2,"普通10-17","10182",173,0,51587,205586,9687,"20001#20003#20011#20015#20004#20002#20018","17#1960|3#2005|14#2150|79#15","60103#1|60128#1|60138#1|60143#1",1004,20,"601011#400|601012#600","601011#210101|601012#210101",90,10800,"18#-405",1,587]
[null,"10182",2,"普通10-18","10192",173,0,51588,205587,9688,"20001#20003#20011#20015#20004#20002#20018","17#1960|3#2005|14#2160|79#15","60103#1|60128#1|60138#1|60143#1",1004,20,"601011#400|601012#600","601011#210101|601012#210101",90,10800,"-50#-439",1,588]
[null,"10192",2,"普通10-19","10202",173,0,51589,205588,9689,"20001#20003#20011#20015#20004#20002#20018","17#1970|3#2005|14#2160|79#15","60103#1|60128#1|60138#1|60143#1",1004,20,"601011#400|601012#600","601011#210101|601012#210101",90,10800,"-119#-446",1,589]
[null,"10202",2,"普通10-20","10212",173,0,51590,205589,9690,"20001#20003#20011#20015#20004#20002#20018","17#1970|3#2015|14#2160|79#15","60103#1|60128#1|60138#1|60143#1",1004,20,"601011#400|601012#600","601011#210101|601012#210101",90,10800,"-179#-402",1,590]
[null,"10212",2,"普通10-21","10222",173,0,51591,205590,9691,"20001#20003#20011#20015#20004#20002#20018","17#1970|3#2015|14#2170|79#15","60103#1|60128#1|60138#1|60143#1",1004,20,"601011#400|601012#600","601011#210101|601012#210101",90,10800,"-240#-365",1,591]
[null,"10222",2,"普通10-22","10232",173,0,51592,205591,9692,"20001#20003#20011#20015#20004#20002#20018","17#1980|3#2015|14#2170|79#15","60103#1|60128#1|60138#1|60143#1",1004,20,"601011#400|601012#600","601011#210101|601012#210101",90,10800,"-311#-361",1,592]
[null,"10232",2,"普通10-23","10242",173,0,51593,205592,9693,"20001#20003#20011#20015#20004#20002#20018","17#1980|3#2025|14#2170|79#15","60103#1|60128#1|60138#1|60143#1",1004,20,"601011#400|601012#600","601011#210101|601012#210101",90,10800,"-371#-330",1,593]
[null,"10242",2,"普通10-24","10252",175,0,51594,205593,9694,"20001#20003#20011#20015#20004#20002#20018","17#1980|3#2025|14#2180|79#15","60103#1|60128#1|60138#1|60143#1",1004,20,"601011#400|601012#600","601011#210101|601012#210101",90,10800,"-327#-276",2,594]
[null,"10252",2,"普通10-25","10262",175,0,51595,205594,9695,"20001#20003#20011#20015#20004#20002#20018","17#1990|3#2025|14#2180|79#15","60103#1|60128#1|60138#1|60143#1",1004,20,"601011#400|601012#600","601011#210101|601012#210101",90,10800,"-255#-259",2,595]
[null,"10262",2,"普通10-26","10272",175,0,51596,205595,9696,"20001#20003#20011#20015#20004#20002#20018","17#1990|3#2035|14#2180|79#15","60103#1|60128#1|60138#1|60143#1",1004,20,"601011#400|601012#600","601011#210101|601012#210101",90,10800,"-178#-266",2,596]
[null,"10272",2,"普通10-27","10282",175,0,51597,205596,9697,"20001#20003#20011#20015#20004#20002#20018","17#1990|3#2035|14#2190|79#15","60103#1|60128#1|60138#1|60143#1",1004,20,"601011#400|601012#600","601011#210101|601012#210101",90,10800,"-103#-281",2,597]
[null,"10282",2,"普通10-28","10292",175,0,51598,205597,9698,"20001#20003#20011#20015#20004#20002#20018","17#2000|3#2035|14#2190|79#15","60103#1|60128#1|60138#1|60143#1",1004,20,"601011#400|601012#600","601011#210101|601012#210101",90,10800,"-25#-273",2,598]
[null,"10292",2,"普通10-29","10302",175,0,51599,205598,9699,"20001#20003#20011#20015#20004#20002#20018","17#2000|3#2045|14#2190|79#15","60103#1|60128#1|60138#1|60143#1",1004,20,"601011#400|601012#600","601011#210101|601012#210101",90,10800,"39#-237",2,599]
[null,"10302",2,"普通10-30","11012",177,0,51600,205599,9700,"20001#20003#20011#20015#20004#20002#20018","17#2000|3#2045|14#2200|79#15","60103#1|60128#1|60138#1|60143#1",1004,20,"601011#400|601012#600","601011#210101|601012#210101",90,10800,"111#-210",2,600]
[null,"11012",2,"普通11-1","11022",177,1,51601,205600,9701,"20001#20003#20011#20015#20004#20002#20018","17#2010|3#2045|14#2200|79#16","60103#1|60128#1|60138#1|60143#1",1004,20,"601011#400|601012#600","601011#210101|601012#210101",90,10800,"422#-261",1,601]
[null,"11022",2,"普通11-2","11032",177,0,51602,205601,9702,"20001#20003#20011#20015#20004#20002#20018","17#2010|3#2055|14#2200|79#16","60103#1|60128#1|60138#1|60143#1",1004,20,"601011#400|601012#600","601011#210101|601012#210101",90,10800,"350#-241",1,602]
[null,"11032",2,"普通11-3","11042",177,0,51603,205602,9703,"20001#20003#20011#20015#20004#20002#20018","17#2010|3#2055|14#2210|79#16","60103#1|60128#1|60138#1|60143#1",1004,20,"601011#400|601012#600","601011#210101|601012#210101",90,10800,"271#-238",1,603]
[null,"11042",2,"普通11-4","11052",177,0,51604,205603,9704,"20001#20003#20011#20015#20004#20002#20018","17#2020|3#2055|14#2210|79#16","60103#1|60128#1|60138#1|60143#1",1004,20,"601011#400|601012#600","601011#210101|601012#210101",90,10800,"197#-262",1,604]
[null,"11052",2,"普通11-5","11062",177,0,51605,205604,9705,"20001#20003#20011#20015#20004#20002#20018","17#2020|3#2065|14#2210|79#16","60103#1|60128#1|60138#1|60143#1",1004,20,"601011#400|601012#600","601011#210101|601012#210101",90,10800,"125#-293",1,605]
[null,"11062",2,"普通11-6","11072",177,0,51606,205605,9706,"20001#20003#20011#20015#20004#20002#20018","17#2020|3#2065|14#2220|79#16","60103#1|60128#1|60138#1|60143#1",1004,20,"601011#400|601012#600","601011#210101|601012#210101",90,10800,"50#-310",1,606]
[null,"11072",2,"普通11-7","11082",179,0,51607,205606,9707,"20001#20003#20011#20015#20004#20002#20018","17#2030|3#2065|14#2220|79#16","60103#1|60128#1|60138#1|60143#1",1004,20,"601011#400|601012#600","601011#210101|601012#210101",90,10800,"-24#-306",1,607]
[null,"11082",2,"普通11-8","11092",179,0,51608,205607,9708,"20001#20003#20011#20015#20004#20002#20018","17#2030|3#2075|14#2220|79#16","60103#1|60128#1|60138#1|60143#1",1004,20,"601011#400|601012#600","601011#210101|601012#210101",90,10800,"-96#-284",1,608]
[null,"11092",2,"普通11-9","11102",179,0,51609,205608,9709,"20001#20003#20011#20015#20004#20002#20018","17#2030|3#2075|14#2230|79#16","60103#1|60128#1|60138#1|60143#1",1004,20,"601011#400|601012#600","601011#210101|601012#210101",90,10800,"-168#-261",1,609]
[null,"11102",2,"普通11-10","11112",179,0,51610,205609,9710,"20001#20003#20011#20015#20004#20002#20018","17#2040|3#2075|14#2230|79#16","60103#1|60128#1|60138#1|60143#1",1004,20,"601011#400|601012#600","601011#210101|601012#210101",90,10800,"-151#-223",2,610]
[null,"11112",2,"普通11-11","11122",179,0,51611,205610,9711,"20001#20003#20011#20015#20004#20002#20018","17#2040|3#2085|14#2230|79#16","60103#1|60128#1|60138#1|60143#1",1004,20,"601011#400|601012#600","601011#210101|601012#210101",90,10800,"-142#-183",1,611]
[null,"11122",2,"普通11-12","11132",179,0,51612,205611,9712,"20001#20003#20011#20015#20004#20002#20018","17#2040|3#2085|14#2240|79#16","60103#1|60128#1|60138#1|60143#1",1004,20,"601011#400|601012#600","601011#210101|601012#210101",90,10800,"-196#-141",1,612]
[null,"11132",2,"普通11-13","11142",179,0,51613,205612,9713,"20001#20003#20011#20015#20004#20002#20018","17#2050|3#2085|14#2240|79#16","60103#1|60128#1|60138#1|60143#1",1004,20,"601011#400|601012#600","601011#210101|601012#210101",90,10800,"-262#-112",1,613]
[null,"11142",2,"普通11-14","11152",181,0,51614,205613,9714,"20001#20003#20011#20015#20004#20002#20018","17#2050|3#2095|14#2240|79#16","60103#1|60128#1|60138#1|60143#1",1004,20,"601011#400|601012#600","601011#210101|601012#210101",90,10800,"-333#-114",1,614]
[null,"11152",2,"普通11-15","11162",181,0,51615,205614,9715,"20001#20003#20011#20015#20004#20002#20018","17#2050|3#2095|14#2250|79#16","60103#1|60128#1|60138#1|60143#1",1004,20,"601011#400|601012#600","601011#210101|601012#210101",90,10800,"-379#-66",2,615]
[null,"11162",2,"普通11-16","11172",181,0,51616,205615,9716,"20001#20003#20011#20015#20004#20002#20018","17#2060|3#2095|14#2250|79#16","60103#1|60128#1|60138#1|60143#1",1004,20,"601011#400|601012#600","601011#210101|601012#210101",90,10800,"-312#-30",2,616]
[null,"11172",2,"普通11-17","11182",181,0,51617,205616,9717,"20001#20003#20011#20015#20004#20002#20018","17#2060|3#2105|14#2250|79#16","60103#1|60128#1|60138#1|60143#1",1004,20,"601011#400|601012#600","601011#210101|601012#210101",90,10800,"-254#21",2,617]
[null,"11182",2,"普通11-18","11192",181,0,51618,205617,9718,"20001#20003#20011#20015#20004#20002#20018","17#2060|3#2105|14#2260|79#16","60103#1|60128#1|60138#1|60143#1",1004,20,"601011#400|601012#600","601011#210101|601012#210101",90,10800,"-188#58",2,618]
[null,"11192",2,"普通11-19","11202",181,0,51619,205618,9719,"20001#20003#20011#20015#20004#20002#20018","17#2070|3#2105|14#2260|79#16","60103#1|60128#1|60138#1|60143#1",1004,20,"601011#400|601012#600","601011#210101|601012#210101",90,10800,"-123#46",2,619]
[null,"11202",2,"普通11-20","11212",181,0,51620,205619,9720,"20001#20003#20011#20015#20004#20002#20018","17#2070|3#2115|14#2260|79#16","60103#1|60128#1|60138#1|60143#1",1004,20,"601011#400|601012#600","601011#210101|601012#210101",90,10800,"-62#12",2,620]
[null,"11212",2,"普通11-21","11222",183,0,51621,205620,9721,"20001#20003#20011#20015#20004#20002#20018","17#2070|3#2115|14#2270|79#16","60103#1|60128#1|60138#1|60143#1",1004,20,"601011#400|601012#600","601011#210101|601012#210101",90,10800,"89#0",2,621]
[null,"11222",2,"普通11-22","11232",183,0,51622,205621,9722,"20001#20003#20011#20015#20004#20002#20018","17#2080|3#2115|14#2270|79#16","60103#1|60128#1|60138#1|60143#1",1004,20,"601011#400|601012#600","601011#210101|601012#210101",90,10800,"148#-47",2,622]
[null,"11232",2,"普通11-23","11242",183,0,51623,205622,9723,"20001#20003#20011#20015#20004#20002#20018","17#2080|3#2125|14#2270|79#16","60103#1|60128#1|60138#1|60143#1",1004,20,"601011#400|601012#600","601011#210101|601012#210101",90,10800,"221#-89",2,623]
[null,"11242",2,"普通11-24","11252",183,0,51624,205623,9724,"20001#20003#20011#20015#20004#20002#20018","17#2080|3#2125|14#2280|79#16","60103#1|60128#1|60138#1|60143#1",1004,20,"601011#400|601012#600","601011#210101|601012#210101",90,10800,"294#-80",2,624]
[null,"11252",2,"普通11-25","11262",183,0,51625,205624,9725,"20001#20003#20011#20015#20004#20002#20018","17#2090|3#2125|14#2280|79#16","60103#1|60128#1|60138#1|60143#1",1004,20,"601011#400|601012#600","601011#210101|601012#210101",90,10800,"367#-42",2,625]
[null,"11262",2,"普通11-26","11272",183,0,51626,205625,9726,"20001#20003#20011#20015#20004#20002#20018","17#2090|3#2135|14#2280|79#16","60103#1|60128#1|60138#1|60143#1",1004,20,"601011#400|601012#600","601011#210101|601012#210101",90,10800,"381#8",1,626]
[null,"11272",2,"普通11-27","11282",183,0,51627,205626,9727,"20001#20003#20011#20015#20004#20002#20018","17#2090|3#2135|14#2290|79#16","60103#1|60128#1|60138#1|60143#1",1004,20,"601011#400|601012#600","601011#210101|601012#210101",90,10800,"300#25",1,627]
[null,"11282",2,"普通11-28","11292",185,0,51628,205627,9728,"20001#20003#20011#20015#20004#20002#20018","17#2100|3#2135|14#2290|79#16","60103#1|60128#1|60138#1|60143#1",1004,20,"601011#400|601012#600","601011#210101|601012#210101",90,10800,"284#109",1,628]
[null,"11292",2,"普通11-29","11302",185,0,51629,205628,9729,"20001#20003#20011#20015#20004#20002#20018","17#2100|3#2145|14#2290|79#16","60103#1|60128#1|60138#1|60143#1",1004,20,"601011#400|601012#600","601011#210101|601012#210101",90,10800,"266#187",1,629]
[null,"11302",2,"普通11-30","12012",185,0,51630,205629,9730,"20001#20003#20011#20015#20004#20002#20018","17#2100|3#2145|14#2300|79#16","60103#1|60128#1|60138#1|60143#1",1004,20,"601011#400|601012#600","601011#210101|601012#210101",90,10800,"203#244",1,630]
[null,"12012",2,"普通12-1","12022",185,1,51631,205630,9731,"20001#20003#20011#20015#20004#20002#20018","17#2110|3#2145|14#2300|79#16","60103#1|60128#1|60138#1|60143#1",1004,20,"601011#400|601012#600","601011#210101|601012#210101",90,10800,"-365#-279",2,631]
[null,"12022",2,"普通12-2","12032",185,0,51632,205631,9732,"20001#20003#20011#20015#20004#20002#20018","17#2110|3#2155|14#2300|79#16","60103#1|60128#1|60138#1|60143#1",1004,20,"601011#400|601012#600","601011#210101|601012#210101",90,10800,"-265#-280",2,632]
[null,"12032",2,"普通12-3","12042",185,0,51633,205632,9733,"20001#20003#20011#20015#20004#20002#20018","17#2110|3#2155|14#2310|79#16","60103#1|60128#1|60138#1|60143#1",1004,20,"601011#400|601012#600","601011#210101|601012#210101",90,10800,"-176#-271",2,633]
[null,"12042",2,"普通12-4","12052",185,0,51634,205633,9734,"20001#20003#20011#20015#20004#20002#20018","17#2120|3#2155|14#2310|79#16","60103#1|60128#1|60138#1|60143#1",1004,20,"601011#400|601012#600","601011#210101|601012#210101",90,10800,"-139#-350",2,634]
[null,"12052",2,"普通12-5","12062",187,0,51635,205634,9735,"20001#20003#20011#20015#20004#20002#20018","17#2120|3#2165|14#2310|79#16","60103#1|60128#1|60138#1|60143#1",1004,20,"601011#400|601012#600","601011#210101|601012#210101",90,10800,"-47#-349",2,635]
[null,"12062",2,"普通12-6","12072",187,0,51636,205635,9736,"20001#20003#20011#20015#20004#20002#20018","17#2120|3#2165|14#2320|79#16","60103#1|60128#1|60138#1|60143#1",1004,20,"601011#400|601012#600","601011#210101|601012#210101",90,10800,"43#-312",2,636]
[null,"12072",2,"普通12-7","12082",187,0,51637,205636,9737,"20001#20003#20011#20015#20004#20002#20018","17#2130|3#2165|14#2320|79#16","60103#1|60128#1|60138#1|60143#1",1004,20,"601011#400|601012#600","601011#210101|601012#210101",90,10800,"131#-287",2,637]
[null,"12082",2,"普通12-8","12092",187,0,51638,205637,9738,"20001#20003#20011#20015#20004#20002#20018","17#2130|3#2175|14#2320|79#16","60103#1|60128#1|60138#1|60143#1",1004,20,"601011#400|601012#600","601011#210101|601012#210101",90,10800,"219#-290",2,638]
[null,"12092",2,"普通12-9","12102",187,0,51639,205638,9739,"20001#20003#20011#20015#20004#20002#20018","17#2130|3#2175|14#2330|79#16","60103#1|60128#1|60138#1|60143#1",1004,20,"601011#400|601012#600","601011#210101|601012#210101",90,10800,"293#-326",2,639]
[null,"12102",2,"普通12-10","12112",187,0,51640,205639,9740,"20001#20003#20011#20015#20004#20002#20018","17#2140|3#2175|14#2330|79#16","60103#1|60128#1|60138#1|60143#1",1004,20,"601011#400|601012#600","601011#210101|601012#210101",90,10800,"379#-339",2,640]
[null,"12112",2,"普通12-11","12122",187,0,51641,205640,9741,"20001#20003#20011#20015#20004#20002#20018","17#2140|3#2185|14#2330|79#16","60103#1|60128#1|60138#1|60143#1",1004,20,"601011#400|601012#600","601011#210101|601012#210101",90,10800,"381#-273",1,641]
[null,"12122",2,"普通12-12","12132",189,0,51642,205641,9742,"20001#20003#20011#20015#20004#20002#20018","17#2140|3#2185|14#2340|79#16","60103#1|60128#1|60138#1|60143#1",1004,20,"601011#400|601012#600","601011#210101|601012#210101",90,10800,"312#-222",1,642]
[null,"12132",2,"普通12-13","12142",189,0,51643,205642,9743,"20001#20003#20011#20015#20004#20002#20018","17#2150|3#2185|14#2340|79#16","60103#1|60128#1|60138#1|60143#1",1004,20,"601011#400|601012#600","601011#210101|601012#210101",90,10800,"341#-166",2,643]
[null,"12142",2,"普通12-14","12152",189,0,51644,205643,9744,"20001#20003#20011#20015#20004#20002#20018","17#2150|3#2195|14#2340|79#16","60103#1|60128#1|60138#1|60143#1",1004,20,"601011#400|601012#600","601011#210101|601012#210101",90,10800,"312#-114",1,644]
[null,"12152",2,"普通12-15","12162",189,0,51645,205644,9745,"20001#20003#20011#20015#20004#20002#20018","17#2150|3#2195|14#2350|79#16","60103#1|60128#1|60138#1|60143#1",1004,20,"601011#400|601012#600","601011#210101|601012#210101",90,10800,"224#-108",1,645]
[null,"12162",2,"普通12-16","12172",189,0,51646,205645,9746,"20001#20003#20011#20015#20004#20002#20018","17#2160|3#2195|14#2350|79#16","60103#1|60128#1|60138#1|60143#1",1004,20,"601011#400|601012#600","601011#210101|601012#210101",90,10800,"152#-116",1,646]
[null,"12172",2,"普通12-17","12182",189,0,51647,205646,9747,"20001#20003#20011#20015#20004#20002#20018","17#2160|3#2205|14#2350|79#16","60103#1|60128#1|60138#1|60143#1",1004,20,"601011#400|601012#600","601011#210101|601012#210101",90,10800,"71#-108",1,647]
[null,"12182",2,"普通12-18","12192",189,0,51648,205647,9748,"20001#20003#20011#20015#20004#20002#20018","17#2160|3#2205|14#2360|79#16","60103#1|60128#1|60138#1|60143#1",1004,20,"601011#400|601012#600","601011#210101|601012#210101",90,10800,"-6#-144",1,648]
[null,"12192",2,"普通12-19","12202",191,0,51649,205648,9749,"20001#20003#20011#20015#20004#20002#20018","17#2170|3#2205|14#2360|79#16","60103#1|60128#1|60138#1|60143#1",1004,20,"601011#400|601012#600","601011#210101|601012#210101",90,10800,"-54#-208",1,649]
[null,"12202",2,"普通12-20","12212",191,0,51650,205649,9750,"20001#20003#20011#20015#20004#20002#20018","17#2170|3#2215|14#2360|79#16","60103#1|60128#1|60138#1|60143#1",1004,20,"601011#400|601012#600","601011#210101|601012#210101",90,10800,"-137#-175",1,650]
[null,"12212",2,"普通12-21","12222",191,0,51651,205650,9751,"20001#20003#20011#20015#20004#20002#20018","17#2170|3#2215|14#2370|79#16","60103#1|60128#1|60138#1|60143#1",1004,20,"601011#400|601012#600","601011#210101|601012#210101",90,10800,"-229#-182",1,651]
[null,"12222",2,"普通12-22","12232",191,0,51652,205651,9752,"20001#20003#20011#20015#20004#20002#20018","17#2180|3#2215|14#2370|79#16","60103#1|60128#1|60138#1|60143#1",1004,20,"601011#400|601012#600","601011#210101|601012#210101",90,10800,"-291#-147",2,652]
[null,"12232",2,"普通12-23","12242",191,0,51653,205652,9753,"20001#20003#20011#20015#20004#20002#20018","17#2180|3#2225|14#2370|79#16","60103#1|60128#1|60138#1|60143#1",1004,20,"601011#400|601012#600","601011#210101|601012#210101",90,10800,"-219#-102",2,653]
[null,"12242",2,"普通12-24","12252",191,0,51654,205653,9754,"20001#20003#20011#20015#20004#20002#20018","17#2180|3#2225|14#2380|79#16","60103#1|60128#1|60138#1|60143#1",1004,20,"601011#400|601012#600","601011#210101|601012#210101",90,10800,"-137#-71",2,654]
[null,"12252",2,"普通12-25","12262",191,0,51655,205654,9755,"20001#20003#20011#20015#20004#20002#20018","17#2190|3#2225|14#2380|79#16","60103#1|60128#1|60138#1|60143#1",1004,20,"601011#400|601012#600","601011#210101|601012#210101",90,10800,"-70#-10",2,655]
[null,"12262",2,"普通12-26","12272",193,0,51656,205655,9756,"20001#20003#20011#20015#20004#20002#20018","17#2190|3#2235|14#2380|79#16","60103#1|60128#1|60138#1|60143#1",1004,20,"601011#400|601012#600","601011#210101|601012#210101",90,10800,"21#26",2,656]
[null,"12272",2,"普通12-27","12282",193,0,51657,205656,9757,"20001#20003#20011#20015#20004#20002#20018","17#2190|3#2235|14#2390|79#16","60103#1|60128#1|60138#1|60143#1",1004,20,"601011#400|601012#600","601011#210101|601012#210101",90,10800,"116#36",2,657]
[null,"12282",2,"普通12-28","12292",193,0,51658,205657,9758,"20001#20003#20011#20015#20004#20002#20018","17#2200|3#2235|14#2390|79#16","60103#1|60128#1|60138#1|60143#1",1004,20,"601011#400|601012#600","601011#210101|601012#210101",90,10800,"183#84",1,658]
[null,"12292",2,"普通12-29","12302",193,0,51659,205658,9759,"20001#20003#20011#20015#20004#20002#20018","17#2200|3#2245|14#2390|79#16","60103#1|60128#1|60138#1|60143#1",1004,20,"601011#400|601012#600","601011#210101|601012#210101",90,10800,"105#123",1,659]
[null,"12302",2,"普通12-30","13012",193,0,51660,205659,9760,"20001#20003#20011#20015#20004#20002#20018","17#2200|3#2245|14#2400|79#16","60103#1|60128#1|60138#1|60143#1",1004,20,"601011#400|601012#600","601011#210101|601012#210101",90,10800,"27#158",1,660]
[null,"13012",2,"普通13-1","13022",193,1,51661,205660,9761,"20001#20003#20011#20015#20004#20002#20018","17#2210|3#2245|14#2400|79#16","60103#1|60128#1|60138#1|60143#1",1004,20,"601011#400|601012#600","601011#210101|601012#210101",90,10800,"217#-387",1,661]
[null,"13022",2,"普通13-2","13032",193,0,51662,205661,9762,"20001#20003#20011#20015#20004#20002#20018","17#2210|3#2255|14#2400|79#16","60103#1|60128#1|60138#1|60143#1",1004,20,"601011#400|601012#600","601011#210101|601012#210101",90,10800,"170#-458",1,662]
[null,"13032",2,"普通13-3","13042",195,0,51663,205662,9763,"20001#20003#20011#20015#20004#20002#20018","17#2210|3#2255|14#2410|79#16","60103#1|60128#1|60138#1|60143#1",1004,20,"601011#400|601012#600","601011#210101|601012#210101",90,10800,"85#-495",1,663]
[null,"13042",2,"普通13-4","13052",195,0,51664,205663,9764,"20001#20003#20011#20015#20004#20002#20018","17#2220|3#2255|14#2410|79#16","60103#1|60128#1|60138#1|60143#1",1004,20,"601011#400|601012#600","601011#210101|601012#210101",90,10800,"-5#-477",1,664]
[null,"13052",2,"普通13-5","13062",195,0,51665,205664,9765,"20001#20003#20011#20015#20004#20002#20018","17#2220|3#2265|14#2410|79#16","60103#1|60128#1|60138#1|60143#1",1004,20,"601011#400|601012#600","601011#210101|601012#210101",90,10800,"-36#-399",1,665]
[null,"13062",2,"普通13-6","13072",195,0,51666,205665,9766,"20001#20003#20011#20015#20004#20002#20018","17#2220|3#2265|14#2420|79#16","60103#1|60128#1|60138#1|60143#1",1004,20,"601011#400|601012#600","601011#210101|601012#210101",90,10800,"11#-327",2,666]
[null,"13072",2,"普通13-7","13082",195,0,51667,205666,9767,"20001#20003#20011#20015#20004#20002#20018","17#2230|3#2265|14#2420|79#16","60103#1|60128#1|60138#1|60143#1",1004,20,"601011#400|601012#600","601011#210101|601012#210101",90,10800,"82#-283",2,667]
[null,"13082",2,"普通13-8","13092",195,0,51668,205667,9768,"20001#20003#20011#20015#20004#20002#20018","17#2230|3#2275|14#2420|79#16","60103#1|60128#1|60138#1|60143#1",1004,20,"601011#400|601012#600","601011#210101|601012#210101",90,10800,"155#-240",2,668]
[null,"13092",2,"普通13-9","13102",195,0,51669,205668,9769,"20001#20003#20011#20015#20004#20002#20018","17#2230|3#2275|14#2430|79#16","60103#1|60128#1|60138#1|60143#1",1004,20,"601011#400|601012#600","601011#210101|601012#210101",90,10800,"148#-162",1,669]
[null,"13102",2,"普通13-10","13112",197,0,51670,205669,9770,"20001#20003#20011#20015#20004#20002#20018","17#2240|3#2275|14#2430|79#16","60103#1|60128#1|60138#1|60143#1",1004,20,"601011#400|601012#600","601011#210101|601012#210101",90,10800,"58#-131",1,670]
[null,"13112",2,"普通13-11","13122",197,0,51671,205670,9771,"20001#20003#20011#20015#20004#20002#20018","17#2240|3#2285|14#2430|79#16","60103#1|60128#1|60138#1|60143#1",1004,20,"601011#400|601012#600","601011#210101|601012#210101",90,10800,"-26#-142",1,671]
[null,"13122",2,"普通13-12","13132",197,0,51672,205671,9772,"20001#20003#20011#20015#20004#20002#20018","17#2240|3#2285|14#2440|79#16","60103#1|60128#1|60138#1|60143#1",1004,20,"601011#400|601012#600","601011#210101|601012#210101",90,10800,"-107#-156",1,672]
[null,"13132",2,"普通13-13","13142",197,0,51673,205672,9773,"20001#20003#20011#20015#20004#20002#20018","17#2250|3#2285|14#2440|79#16","60103#1|60128#1|60138#1|60143#1",1004,20,"601011#400|601012#600","601011#210101|601012#210101",90,10800,"-198#-145",1,673]
[null,"13142",2,"普通13-14","13152",197,0,51674,205673,9774,"20001#20003#20011#20015#20004#20002#20018","17#2250|3#2295|14#2440|79#16","60103#1|60128#1|60138#1|60143#1",1004,20,"601011#400|601012#600","601011#210101|601012#210101",90,10800,"-215#-70",2,674]
[null,"13152",2,"普通13-15","13162",197,0,51675,205674,9775,"20001#20003#20011#20015#20004#20002#20018","17#2250|3#2295|14#2450|79#16","60103#1|60128#1|60138#1|60143#1",1004,20,"601011#400|601012#600","601011#210101|601012#210101",90,10800,"-134#-45",2,675]
[null,"13162",2,"普通13-16","13172",197,0,51676,205675,9776,"20001#20003#20011#20015#20004#20002#20018","17#2260|3#2295|14#2450|79#16","60103#1|60128#1|60138#1|60143#1",1004,20,"601011#400|601012#600","601011#210101|601012#210101",90,10800,"-48#-64",2,676]
[null,"13172",2,"普通13-17","13182",199,0,51677,205676,9777,"20001#20003#20011#20015#20004#20002#20018","17#2260|3#2305|14#2450|79#16","60103#1|60128#1|60138#1|60143#1",1004,20,"601011#400|601012#600","601011#210101|601012#210101",90,10800,"39#-54",2,677]
[null,"13182",2,"普通13-18","13192",199,0,51678,205677,9778,"20001#20003#20011#20015#20004#20002#20018","17#2260|3#2305|14#2460|79#16","60103#1|60128#1|60138#1|60143#1",1004,20,"601011#400|601012#600","601011#210101|601012#210101",90,10800,"130#-48",2,678]
[null,"13192",2,"普通13-19","13202",199,0,51679,205678,9779,"20001#20003#20011#20015#20004#20002#20018","17#2270|3#2305|14#2460|79#16","60103#1|60128#1|60138#1|60143#1",1004,20,"601011#400|601012#600","601011#210101|601012#210101",90,10800,"209#-64",2,679]
[null,"13202",2,"普通13-20","13212",199,0,51680,205679,9780,"20001#20003#20011#20015#20004#20002#20018","17#2270|3#2315|14#2460|79#16","60103#1|60128#1|60138#1|60143#1",1004,20,"601011#400|601012#600","601011#210101|601012#210101",90,10800,"297#-91",2,680]
[null,"13212",2,"普通13-21","13222",199,0,51681,205680,9781,"20001#20003#20011#20015#20004#20002#20018","17#2270|3#2315|14#2470|79#16","60103#1|60128#1|60138#1|60143#1",1004,20,"601011#400|601012#600","601011#210101|601012#210101",90,10800,"390#-81",2,681]
[null,"13222",2,"普通13-22","13232",199,0,51682,205681,9782,"20001#20003#20011#20015#20004#20002#20018","17#2280|3#2315|14#2470|79#16","60103#1|60128#1|60138#1|60143#1",1004,20,"601011#400|601012#600","601011#210101|601012#210101",90,10800,"414#-9",1,682]
[null,"13232",2,"普通13-23","13242",199,0,51683,205682,9783,"20001#20003#20011#20015#20004#20002#20018","17#2280|3#2325|14#2470|79#16","60103#1|60128#1|60138#1|60143#1",1004,20,"601011#400|601012#600","601011#210101|601012#210101",90,10800,"317#-11",1,683]
[null,"13242",2,"普通13-24","13252",199,0,51684,205683,9784,"20001#20003#20011#20015#20004#20002#20018","17#2280|3#2325|14#2480|79#16","60103#1|60128#1|60138#1|60143#1",1004,20,"601011#400|601012#600","601011#210101|601012#210101",90,10800,"317#68",1,684]
[null,"13252",2,"普通13-25","13262",199,0,51685,205684,9785,"20001#20003#20011#20015#20004#20002#20018","17#2290|3#2325|14#2480|79#16","60103#1|60128#1|60138#1|60143#1",1004,20,"601011#400|601012#600","601011#210101|601012#210101",90,10800,"252#140",1,685]
[null,"13262",2,"普通13-26","13272",199,0,51686,205685,9786,"20001#20003#20011#20015#20004#20002#20018","17#2290|3#2335|14#2480|79#16","60103#1|60128#1|60138#1|60143#1",1004,20,"601011#400|601012#600","601011#210101|601012#210101",90,10800,"153#106",1,686]
[null,"13272",2,"普通13-27","13282",199,0,51687,205686,9787,"20001#20003#20011#20015#20004#20002#20018","17#2290|3#2335|14#2490|79#16","60103#1|60128#1|60138#1|60143#1",1004,20,"601011#400|601012#600","601011#210101|601012#210101",90,10800,"62#73",1,687]
[null,"13282",2,"普通13-28","13292",199,0,51688,205687,9788,"20001#20003#20011#20015#20004#20002#20018","17#2300|3#2335|14#2490|79#16","60103#1|60128#1|60138#1|60143#1",1004,20,"601011#400|601012#600","601011#210101|601012#210101",90,10800,"-32#65",1,688]
[null,"13292",2,"普通13-29","13302",199,0,51689,205688,9789,"20001#20003#20011#20015#20004#20002#20018","17#2300|3#2345|14#2490|79#16","60103#1|60128#1|60138#1|60143#1",1004,20,"601011#400|601012#600","601011#210101|601012#210101",90,10800,"-92#119",1,689]
[null,"13302",2,"普通13-30","14012",199,0,51690,205689,9790,"20001#20003#20011#20015#20004#20002#20018","17#2300|3#2345|14#2500|79#16","60103#1|60128#1|60138#1|60143#1",1004,20,"601011#400|601012#600","601011#210101|601012#210101",90,10800,"-13#174",2,690]
[null,"14012",2,"普通14-1","14022",199,1,51691,205690,9791,"20001#20003#20011#20015#20004#20002#20018","17#2310|3#2345|14#2500|79#16","60103#1|60128#1|60138#1|60143#1",1004,20,"601011#400|601012#600","601011#210101|601012#210101",90,10800,"51#-361",2,691]
[null,"14022",2,"普通14-2","14032",199,0,51692,205691,9792,"20001#20003#20011#20015#20004#20002#20018","17#2310|3#2355|14#2500|79#16","60103#1|60128#1|60138#1|60143#1",1004,20,"601011#400|601012#600","601011#210101|601012#210101",90,10800,"126#-362",2,692]
[null,"14032",2,"普通14-3","14042",199,0,51693,205692,9793,"20001#20003#20011#20015#20004#20002#20018","17#2310|3#2355|14#2510|79#16","60103#1|60128#1|60138#1|60143#1",1004,20,"601011#400|601012#600","601011#210101|601012#210101",90,10800,"205#-349",2,693]
[null,"14042",2,"普通14-4","14052",199,0,51694,205693,9794,"20001#20003#20011#20015#20004#20002#20018","17#2320|3#2355|14#2510|79#16","60103#1|60128#1|60138#1|60143#1",1004,20,"601011#400|601012#600","601011#210101|601012#210101",90,10800,"283#-324",2,694]
[null,"14052",2,"普通14-5","14062",199,0,51695,205694,9795,"20001#20003#20011#20015#20004#20002#20018","17#2320|3#2365|14#2510|79#16","60103#1|60128#1|60138#1|60143#1",1004,20,"601011#400|601012#600","601011#210101|601012#210101",90,10800,"274#-253",2,695]
[null,"14062",2,"普通14-6","14072",199,0,51696,205695,9796,"20001#20003#20011#20015#20004#20002#20018","17#2320|3#2365|14#2520|79#16","60103#1|60128#1|60138#1|60143#1",1004,20,"601011#400|601012#600","601011#210101|601012#210101",90,10800,"345#-255",2,696]
[null,"14072",2,"普通14-7","14082",199,0,51697,205696,9797,"20001#20003#20011#20015#20004#20002#20018","17#2330|3#2365|14#2520|79#16","60103#1|60128#1|60138#1|60143#1",1004,20,"601011#400|601012#600","601011#210101|601012#210101",90,10800,"422#-238",2,697]
[null,"14082",2,"普通14-8","14092",199,0,51698,205697,9798,"20001#20003#20011#20015#20004#20002#20018","17#2330|3#2375|14#2520|79#16","60103#1|60128#1|60138#1|60143#1",1004,20,"601011#400|601012#600","601011#210101|601012#210101",90,10800,"414#-179",1,698]
[null,"14092",2,"普通14-9","14102",199,0,51699,205698,9799,"20001#20003#20011#20015#20004#20002#20018","17#2330|3#2375|14#2530|79#16","60103#1|60128#1|60138#1|60143#1",1004,20,"601011#400|601012#600","601011#210101|601012#210101",90,10800,"348#-161",1,699]
[null,"14102",2,"普通14-10","14112",199,0,51700,205699,9800,"20001#20003#20011#20015#20004#20002#20018","17#2340|3#2375|14#2530|79#16","60103#1|60128#1|60138#1|60143#1",1004,20,"601011#400|601012#600","601011#210101|601012#210101",90,10800,"272#-155",1,700]
[null,"14112",2,"普通14-11","14122",199,0,51701,205700,9801,"20001#20003#20011#20015#20004#20002#20018","17#2340|3#2385|14#2530|79#17","60103#1|60128#1|60138#1|60143#1",1004,20,"601011#400|601012#600","601011#210101|601012#210101",90,10800,"222#-186",1,701]
[null,"14122",2,"普通14-12","14132",199,0,51702,205701,9802,"20001#20003#20011#20015#20004#20002#20018","17#2340|3#2385|14#2540|79#17","60103#1|60128#1|60138#1|60143#1",1004,20,"601011#400|601012#600","601011#210101|601012#210101",90,10800,"206#-235",1,702]
[null,"14132",2,"普通14-13","14142",199,0,51703,205702,9803,"20001#20003#20011#20015#20004#20002#20018","17#2350|3#2385|14#2540|79#17","60103#1|60128#1|60138#1|60143#1",1004,20,"601011#400|601012#600","601011#210101|601012#210101",90,10800,"140#-243",1,703]
[null,"14142",2,"普通14-14","14152",199,0,51704,205703,9804,"20001#20003#20011#20015#20004#20002#20018","17#2350|3#2395|14#2540|79#17","60103#1|60128#1|60138#1|60143#1",1004,20,"601011#400|601012#600","601011#210101|601012#210101",90,10800,"73#-229",1,704]
[null,"14152",2,"普通14-15","14162",199,0,51705,205704,9805,"20001#20003#20011#20015#20004#20002#20018","17#2350|3#2395|14#2550|79#17","60103#1|60128#1|60138#1|60143#1",1004,20,"601011#400|601012#600","601011#210101|601012#210101",90,10800,"43#-177",1,705]
[null,"14162",2,"普通14-16","14172",199,0,51706,205705,9806,"20001#20003#20011#20015#20004#20002#20018","17#2360|3#2395|14#2550|79#17","60103#1|60128#1|60138#1|60143#1",1004,20,"601011#400|601012#600","601011#210101|601012#210101",90,10800,"20#-123",1,706]
[null,"14172",2,"普通14-17","14182",199,0,51707,205706,9807,"20001#20003#20011#20015#20004#20002#20018","17#2360|3#2405|14#2550|79#17","60103#1|60128#1|60138#1|60143#1",1004,20,"601011#400|601012#600","601011#210101|601012#210101",90,10800,"-59#-128",1,707]
[null,"14182",2,"普通14-18","14192",199,0,51708,205707,9808,"20001#20003#20011#20015#20004#20002#20018","17#2360|3#2405|14#2560|79#17","60103#1|60128#1|60138#1|60143#1",1004,20,"601011#400|601012#600","601011#210101|601012#210101",90,10800,"-126#-144",1,708]
[null,"14192",2,"普通14-19","14202",199,0,51709,205708,9809,"20001#20003#20011#20015#20004#20002#20018","17#2370|3#2405|14#2560|79#17","60103#1|60128#1|60138#1|60143#1",1004,20,"601011#400|601012#600","601011#210101|601012#210101",90,10800,"-191#-151",1,709]
[null,"14202",2,"普通14-20","14212",199,0,51710,205709,9810,"20001#20003#20011#20015#20004#20002#20018","17#2370|3#2415|14#2560|79#17","60103#1|60128#1|60138#1|60143#1",1004,20,"601011#400|601012#600","601011#210101|601012#210101",90,10800,"-250#-127",1,710]
[null,"14212",2,"普通14-21","14222",199,0,51711,205710,9811,"20001#20003#20011#20015#20004#20002#20018","17#2370|3#2415|14#2570|79#17","60103#1|60128#1|60138#1|60143#1",1004,20,"601011#400|601012#600","601011#210101|601012#210101",90,10800,"-212#-79",2,711]
[null,"14222",2,"普通14-22","14232",199,0,51712,205711,9812,"20001#20003#20011#20015#20004#20002#20018","17#2380|3#2415|14#2570|79#17","60103#1|60128#1|60138#1|60143#1",1004,20,"601011#400|601012#600","601011#210101|601012#210101",90,10800,"-143#-70",2,712]
[null,"14232",2,"普通14-23","14242",199,0,51713,205712,9813,"20001#20003#20011#20015#20004#20002#20018","17#2380|3#2425|14#2570|79#17","60103#1|60128#1|60138#1|60143#1",1004,20,"601011#400|601012#600","601011#210101|601012#210101",90,10800,"-73#-45",2,713]
[null,"14242",2,"普通14-24","14252",199,0,51714,205713,9814,"20001#20003#20011#20015#20004#20002#20018","17#2380|3#2425|14#2580|79#17","60103#1|60128#1|60138#1|60143#1",1004,20,"601011#400|601012#600","601011#210101|601012#210101",90,10800,"-8#-44",2,714]
[null,"14252",2,"普通14-25","14262",199,0,51715,205714,9815,"20001#20003#20011#20015#20004#20002#20018","17#2390|3#2425|14#2580|79#17","60103#1|60128#1|60138#1|60143#1",1004,20,"601011#400|601012#600","601011#210101|601012#210101",90,10800,"66#-57",2,715]
[null,"14262",2,"普通14-26","14272",199,0,51716,205715,9816,"20001#20003#20011#20015#20004#20002#20018","17#2390|3#2435|14#2580|79#17","60103#1|60128#1|60138#1|60143#1",1004,20,"601011#400|601012#600","601011#210101|601012#210101",90,10800,"138#-60",2,716]
[null,"14272",2,"普通14-27","14282",199,0,51717,205716,9817,"20001#20003#20011#20015#20004#20002#20018","17#2390|3#2435|14#2590|79#17","60103#1|60128#1|60138#1|60143#1",1004,20,"601011#400|601012#600","601011#210101|601012#210101",90,10800,"190#-27",2,717]
[null,"14282",2,"普通14-28","14292",199,0,51718,205717,9818,"20001#20003#20011#20015#20004#20002#20018","17#2400|3#2435|14#2590|79#17","60103#1|60128#1|60138#1|60143#1",1004,20,"601011#400|601012#600","601011#210101|601012#210101",90,10800,"160#20",1,718]
[null,"14292",2,"普通14-29","14302",199,0,51719,205718,9819,"20001#20003#20011#20015#20004#20002#20018","17#2400|3#2445|14#2590|79#17","60103#1|60128#1|60138#1|60143#1",1004,20,"601011#400|601012#600","601011#210101|601012#210101",90,10800,"94#34",1,719]
[null,"14302",2,"普通14-30","15012",199,0,51720,205719,9820,"20001#20003#20011#20015#20004#20002#20018","17#2400|3#2445|14#2600|79#17","60103#1|60128#1|60138#1|60143#1",1004,20,"601011#400|601012#600","601011#210101|601012#210101",90,10800,"20#32",1,720]
[null,"15012",2,"普通15-1","15022",199,1,51721,205720,9821,"20001#20003#20011#20015#20004#20002#20018","17#2410|3#2445|14#2600|79#17","60103#1|60128#1|60138#1|60143#1",1004,20,"601011#400|601012#600","601011#210101|601012#210101",90,10800,"484#-345",1,721]
[null,"15022",2,"普通15-2","15032",199,0,51722,205721,9822,"20001#20003#20011#20015#20004#20002#20018","17#2410|3#2455|14#2600|79#17","60103#1|60128#1|60138#1|60143#1",1004,20,"601011#400|601012#600","601011#210101|601012#210101",90,10800,"411#-317",1,722]
[null,"15032",2,"普通15-3","15042",199,0,51723,205722,9823,"20001#20003#20011#20015#20004#20002#20018","17#2410|3#2455|14#2610|79#17","60103#1|60128#1|60138#1|60143#1",1004,20,"601011#400|601012#600","601011#210101|601012#210101",90,10800,"335#-319",1,723]
[null,"15042",2,"普通15-4","15052",199,0,51724,205723,9824,"20001#20003#20011#20015#20004#20002#20018","17#2420|3#2455|14#2610|79#17","60103#1|60128#1|60138#1|60143#1",1004,20,"601011#400|601012#600","601011#210101|601012#210101",90,10800,"260#-334",1,724]
[null,"15052",2,"普通15-5","15062",199,0,51725,205724,9825,"20001#20003#20011#20015#20004#20002#20018","17#2420|3#2465|14#2610|79#17","60103#1|60128#1|60138#1|60143#1",1004,20,"601011#400|601012#600","601011#210101|601012#210101",90,10800,"181#-354",1,725]
[null,"15062",2,"普通15-6","15072",199,0,51726,205725,9826,"20001#20003#20011#20015#20004#20002#20018","17#2420|3#2465|14#2620|79#17","60103#1|60128#1|60138#1|60143#1",1004,20,"601011#400|601012#600","601011#210101|601012#210101",90,10800,"124#-303",1,726]
[null,"15072",2,"普通15-7","15082",199,0,51727,205726,9827,"20001#20003#20011#20015#20004#20002#20018","17#2430|3#2465|14#2620|79#17","60103#1|60128#1|60138#1|60143#1",1004,20,"601011#400|601012#600","601011#210101|601012#210101",90,10800,"125#-226",1,727]
[null,"15082",2,"普通15-8","15092",199,0,51728,205727,9828,"20001#20003#20011#20015#20004#20002#20018","17#2430|3#2475|14#2620|79#17","60103#1|60128#1|60138#1|60143#1",1004,20,"601011#400|601012#600","601011#210101|601012#210101",90,10800,"38#-227",1,728]
[null,"15092",2,"普通15-9","15102",199,0,51729,205728,9829,"20001#20003#20011#20015#20004#20002#20018","17#2430|3#2475|14#2630|79#17","60103#1|60128#1|60138#1|60143#1",1004,20,"601011#400|601012#600","601011#210101|601012#210101",90,10800,"-29#-266",1,729]
[null,"15102",2,"普通15-10","15112",199,0,51730,205729,9830,"20001#20003#20011#20015#20004#20002#20018","17#2440|3#2475|14#2630|79#17","60103#1|60128#1|60138#1|60143#1",1004,20,"601011#400|601012#600","601011#210101|601012#210101",90,10800,"-93#-310",1,730]
[null,"15112",2,"普通15-11","15122",199,0,51731,205730,9831,"20001#20003#20011#20015#20004#20002#20018","17#2440|3#2485|14#2630|79#17","60103#1|60128#1|60138#1|60143#1",1004,20,"601011#400|601012#600","601011#210101|601012#210101",90,10800,"-166#-361",1,731]
[null,"15122",2,"普通15-12","15132",199,0,51732,205731,9832,"20001#20003#20011#20015#20004#20002#20018","17#2440|3#2485|14#2640|79#17","60103#1|60128#1|60138#1|60143#1",1004,20,"601011#400|601012#600","601011#210101|601012#210101",90,10800,"-258#-362",1,732]
[null,"15132",2,"普通15-13","15142",199,0,51733,205732,9833,"20001#20003#20011#20015#20004#20002#20018","17#2450|3#2485|14#2640|79#17","60103#1|60128#1|60138#1|60143#1",1004,20,"601011#400|601012#600","601011#210101|601012#210101",90,10800,"-341#-338",1,733]
[null,"15142",2,"普通15-14","15152",199,0,51734,205733,9834,"20001#20003#20011#20015#20004#20002#20018","17#2450|3#2495|14#2640|79#17","60103#1|60128#1|60138#1|60143#1",1004,20,"601011#400|601012#600","601011#210101|601012#210101",90,10800,"-420#-306",1,734]
[null,"15152",2,"普通15-15","15162",199,0,51735,205734,9835,"20001#20003#20011#20015#20004#20002#20018","17#2450|3#2495|14#2650|79#17","60103#1|60128#1|60138#1|60143#1",1004,20,"601011#400|601012#600","601011#210101|601012#210101",90,10800,"-365#-241",2,735]
[null,"15162",2,"普通15-16","15172",199,0,51736,205735,9836,"20001#20003#20011#20015#20004#20002#20018","17#2460|3#2495|14#2650|79#17","60103#1|60128#1|60138#1|60143#1",1004,20,"601011#400|601012#600","601011#210101|601012#210101",90,10800,"-267#-234",2,736]
[null,"15172",2,"普通15-17","15182",199,0,51737,205736,9837,"20001#20003#20011#20015#20004#20002#20018","17#2460|3#2505|14#2650|79#17","60103#1|60128#1|60138#1|60143#1",1004,20,"601011#400|601012#600","601011#210101|601012#210101",90,10800,"-234#-147",2,737]
[null,"15182",2,"普通15-18","15192",199,0,51738,205737,9838,"20001#20003#20011#20015#20004#20002#20018","17#2460|3#2505|14#2660|79#17","60103#1|60128#1|60138#1|60143#1",1004,20,"601011#400|601012#600","601011#210101|601012#210101",90,10800,"-147#-147",2,738]
[null,"15192",2,"普通15-19","15202",199,0,51739,205738,9839,"20001#20003#20011#20015#20004#20002#20018","17#2470|3#2505|14#2660|79#17","60103#1|60128#1|60138#1|60143#1",1004,20,"601011#400|601012#600","601011#210101|601012#210101",90,10800,"-59#-119",2,739]
[null,"15202",2,"普通15-20","15212",199,0,51740,205739,9840,"20001#20003#20011#20015#20004#20002#20018","17#2470|3#2515|14#2660|79#17","60103#1|60128#1|60138#1|60143#1",1004,20,"601011#400|601012#600","601011#210101|601012#210101",90,10800,"-132#-90",1,740]
[null,"15212",2,"普通15-21","15222",199,0,51741,205740,9841,"20001#20003#20011#20015#20004#20002#20018","17#2470|3#2515|14#2670|79#17","60103#1|60128#1|60138#1|60143#1",1004,20,"601011#400|601012#600","601011#210101|601012#210101",90,10800,"-206#-92",1,741]
[null,"15222",2,"普通15-22","15232",199,0,51742,205741,9842,"20001#20003#20011#20015#20004#20002#20018","17#2480|3#2515|14#2670|79#17","60103#1|60128#1|60138#1|60143#1",1004,20,"601011#400|601012#600","601011#210101|601012#210101",90,10800,"-263#-45",1,742]
[null,"15232",2,"普通15-23","15242",199,0,51743,205742,9843,"20001#20003#20011#20015#20004#20002#20018","17#2480|3#2525|14#2670|79#17","60103#1|60128#1|60138#1|60143#1",1004,20,"601011#400|601012#600","601011#210101|601012#210101",90,10800,"-206#8",2,743]
[null,"15242",2,"普通15-24","15252",199,0,51744,205743,9844,"20001#20003#20011#20015#20004#20002#20018","17#2480|3#2525|14#2680|79#17","60103#1|60128#1|60138#1|60143#1",1004,20,"601011#400|601012#600","601011#210101|601012#210101",90,10800,"-133#21",2,744]
[null,"15252",2,"普通15-25","15262",199,0,51745,205744,9845,"20001#20003#20011#20015#20004#20002#20018","17#2490|3#2525|14#2680|79#17","60103#1|60128#1|60138#1|60143#1",1004,20,"601011#400|601012#600","601011#210101|601012#210101",90,10800,"-52#23",2,745]
[null,"15262",2,"普通15-26","15272",199,0,51746,205745,9846,"20001#20003#20011#20015#20004#20002#20018","17#2490|3#2535|14#2680|79#17","60103#1|60128#1|60138#1|60143#1",1004,20,"601011#400|601012#600","601011#210101|601012#210101",90,10800,"26#-13",2,746]
[null,"15272",2,"普通15-27","15282",199,0,51747,205746,9847,"20001#20003#20011#20015#20004#20002#20018","17#2490|3#2535|14#2690|79#17","60103#1|60128#1|60138#1|60143#1",1004,20,"601011#400|601012#600","601011#210101|601012#210101",90,10800,"72#-74",2,747]
[null,"15282",2,"普通15-28","15292",199,0,51748,205747,9848,"20001#20003#20011#20015#20004#20002#20018","17#2500|3#2535|14#2690|79#17","60103#1|60128#1|60138#1|60143#1",1004,20,"601011#400|601012#600","601011#210101|601012#210101",90,10800,"134#-114",2,748]
[null,"15292",2,"普通15-29","15302",199,0,51749,205748,9849,"20001#20003#20011#20015#20004#20002#20018","17#2500|3#2545|14#2690|79#17","60103#1|60128#1|60138#1|60143#1",1004,20,"601011#400|601012#600","601011#210101|601012#210101",90,10800,"212#-131",2,749]
[null,"15302",2,"普通15-30","1013",199,0,51750,205749,9850,"20001#20003#20011#20015#20004#20002#20018","17#2500|3#2545|14#2700|79#17","60103#1|60128#1|60138#1|60143#1",1004,20,"601011#400|601012#600","601011#210101|601012#210101",90,10800,"297#-121",2,750]
[null,"1013",3,"困难1-1","1023",199,1,51751,205750,9851,"20001#20003#20011#20015#20004#20002#20018","17#2510|3#2545|14#2700|79#17","60103#1|60128#1|60138#1|60143#1",1004,20,"601011#400|601012#600","601011#210101|601012#210101",90,10800,"433#-270",1,751]
[null,"1023",3,"困难1-2","1033",199,0,51752,205751,9852,"20001#20003#20011#20015#20004#20002#20018","17#2510|3#2555|14#2700|79#17","60103#1|60128#1|60138#1|60143#1",1004,20,"601011#400|601012#600","601011#210101|601012#210101",90,10800,"384#-278",1,752]
[null,"1033",3,"困难1-3","1043",199,0,51753,205752,9853,"20001#20003#20011#20015#20004#20002#20018","17#2510|3#2555|14#2710|79#17","60103#1|60128#1|60138#1|60143#1",1004,20,"601011#400|601012#600","601011#210101|601012#210101",90,10800,"348#-313",1,753]
[null,"1043",3,"困难1-4","1053",199,0,51754,205753,9854,"20001#20003#20011#20015#20004#20002#20018","17#2520|3#2555|14#2710|79#17","60103#1|60128#1|60138#1|60143#1",1004,20,"601011#400|601012#600","601011#210101|601012#210101",90,10800,"308#-338",1,754]
[null,"1053",3,"困难1-5","1063",199,0,51755,205754,9855,"20001#20003#20011#20015#20004#20002#20018","17#2520|3#2565|14#2710|79#17","60103#1|60128#1|60138#1|60143#1",1004,20,"601011#400|601012#600","601011#210101|601012#210101",90,10800,"259#-356",1,755]
[null,"1063",3,"困难1-6","1073",199,0,51756,205755,9856,"20001#20003#20011#20015#20004#20002#20018","17#2520|3#2565|14#2720|79#17","60103#1|60128#1|60138#1|60143#1",1004,20,"601011#400|601012#600","601011#210101|601012#210101",90,10800,"202#-368",1,756]
[null,"1073",3,"困难1-7","1083",199,0,51757,205756,9857,"20001#20003#20011#20015#20004#20002#20018","17#2530|3#2565|14#2720|79#17","60103#1|60128#1|60138#1|60143#1",1004,20,"601011#400|601012#600","601011#210101|601012#210101",90,10800,"149#-359",1,757]
[null,"1083",3,"困难1-8","1093",199,0,51758,205757,9858,"20001#20003#20011#20015#20004#20002#20018","17#2530|3#2575|14#2720|79#17","60103#1|60128#1|60138#1|60143#1",1004,20,"601011#400|601012#600","601011#210101|601012#210101",90,10800,"91#-345",1,758]
[null,"1093",3,"困难1-9","1103",199,0,51759,205758,9859,"20001#20003#20011#20015#20004#20002#20018","17#2530|3#2575|14#2730|79#17","60103#1|60128#1|60138#1|60143#1",1004,20,"601011#400|601012#600","601011#210101|601012#210101",90,10800,"35#-364",1,759]
[null,"1103",3,"困难1-10","1113",199,0,51760,205759,9860,"20001#20003#20011#20015#20004#20002#20018","17#2540|3#2575|14#2730|79#17","60103#1|60128#1|60138#1|60143#1",1004,20,"601011#400|601012#600","601011#210101|601012#210101",90,10800,"-15#-378",1,760]
[null,"1113",3,"困难1-11","1123",199,0,51761,205760,9861,"20001#20003#20011#20015#20004#20002#20018","17#2540|3#2585|14#2730|79#17","60103#1|60128#1|60138#1|60143#1",1004,20,"601011#400|601012#600","601011#210101|601012#210101",90,10800,"-68#-379",1,761]
[null,"1123",3,"困难1-12","1133",199,0,51762,205761,9862,"20001#20003#20011#20015#20004#20002#20018","17#2540|3#2585|14#2740|79#17","60103#1|60128#1|60138#1|60143#1",1004,20,"601011#400|601012#600","601011#210101|601012#210101",90,10800,"-119#-393",1,762]
[null,"1133",3,"困难1-13","1143",199,0,51763,205762,9863,"20001#20003#20011#20015#20004#20002#20018","17#2550|3#2585|14#2740|79#17","60103#1|60128#1|60138#1|60143#1",1004,20,"601011#400|601012#600","601011#210101|601012#210101",90,10800,"-160#-420",1,763]
[null,"1143",3,"困难1-14","1153",199,0,51764,205763,9864,"20001#20003#20011#20015#20004#20002#20018","17#2550|3#2595|14#2740|79#17","60103#1|60128#1|60138#1|60143#1",1004,20,"601011#400|601012#600","601011#210101|601012#210101",90,10800,"-202#-432",1,764]
[null,"1153",3,"困难1-15","1163",199,0,51765,205764,9865,"20001#20003#20011#20015#20004#20002#20018","17#2550|3#2595|14#2750|79#17","60103#1|60128#1|60138#1|60143#1",1004,20,"601011#400|601012#600","601011#210101|601012#210101",90,10800,"-245#-410",1,765]
[null,"1163",3,"困难1-16","1173",199,0,51766,205765,9866,"20001#20003#20011#20015#20004#20002#20018","17#2560|3#2595|14#2750|79#17","60103#1|60128#1|60138#1|60143#1",1004,20,"601011#400|601012#600","601011#210101|601012#210101",90,10800,"-242#-363",1,766]
[null,"1173",3,"困难1-17","1183",199,0,51767,205766,9867,"20001#20003#20011#20015#20004#20002#20018","17#2560|3#2605|14#2750|79#17","60103#1|60128#1|60138#1|60143#1",1004,20,"601011#400|601012#600","601011#210101|601012#210101",90,10800,"-225#-325",1,767]
[null,"1183",3,"困难1-18","1193",199,0,51768,205767,9868,"20001#20003#20011#20015#20004#20002#20018","17#2560|3#2605|14#2760|79#17","60103#1|60128#1|60138#1|60143#1",1004,20,"601011#400|601012#600","601011#210101|601012#210101",90,10800,"-245#-286",1,768]
[null,"1193",3,"困难1-19","1203",199,0,51769,205768,9869,"20001#20003#20011#20015#20004#20002#20018","17#2570|3#2605|14#2760|79#17","60103#1|60128#1|60138#1|60143#1",1004,20,"601011#400|601012#600","601011#210101|601012#210101",90,10800,"-292#-272",1,769]
[null,"1203",3,"困难1-20","1213",199,0,51770,205769,9870,"20001#20003#20011#20015#20004#20002#20018","17#2570|3#2615|14#2760|79#17","60103#1|60128#1|60138#1|60143#1",1004,20,"601011#400|601012#600","601011#210101|601012#210101",90,10800,"-338#-256",1,770]
[null,"1213",3,"困难1-21","1223",199,0,51771,205770,9871,"20001#20003#20011#20015#20004#20002#20018","17#2570|3#2615|14#2770|79#17","60103#1|60128#1|60138#1|60143#1",1004,20,"601011#400|601012#600","601011#210101|601012#210101",90,10800,"-366#-212",1,771]
[null,"1223",3,"困难1-22","1233",199,0,51772,205771,9872,"20001#20003#20011#20015#20004#20002#20018","17#2580|3#2615|14#2770|79#17","60103#1|60128#1|60138#1|60143#1",1004,20,"601011#400|601012#600","601011#210101|601012#210101",90,10800,"-339#-174",2,772]
[null,"1233",3,"困难1-23","1243",199,0,51773,205772,9873,"20001#20003#20011#20015#20004#20002#20018","17#2580|3#2625|14#2770|79#17","60103#1|60128#1|60138#1|60143#1",1004,20,"601011#400|601012#600","601011#210101|601012#210101",90,10800,"-294#-152",2,773]
[null,"1243",3,"困难1-24","1253",199,0,51774,205773,9874,"20001#20003#20011#20015#20004#20002#20018","17#2580|3#2625|14#2780|79#17","60103#1|60128#1|60138#1|60143#1",1004,20,"601011#400|601012#600","601011#210101|601012#210101",90,10800,"-243#-143",2,774]
[null,"1253",3,"困难1-25","1263",199,0,51775,205774,9875,"20001#20003#20011#20015#20004#20002#20018","17#2590|3#2625|14#2780|79#17","60103#1|60128#1|60138#1|60143#1",1004,20,"601011#400|601012#600","601011#210101|601012#210101",90,10800,"-191#-146",2,775]
[null,"1263",3,"困难1-26","1273",199,0,51776,205775,9876,"20001#20003#20011#20015#20004#20002#20018","17#2590|3#2635|14#2780|79#17","60103#1|60128#1|60138#1|60143#1",1004,20,"601011#400|601012#600","601011#210101|601012#210101",90,10800,"-163#-188",2,776]
[null,"1273",3,"困难1-27","1283",199,0,51777,205776,9877,"20001#20003#20011#20015#20004#20002#20018","17#2590|3#2635|14#2790|79#17","60103#1|60128#1|60138#1|60143#1",1004,20,"601011#400|601012#600","601011#210101|601012#210101",90,10800,"-164#-236",2,777]
[null,"1283",3,"困难1-28","1293",199,0,51778,205777,9878,"20001#20003#20011#20015#20004#20002#20018","17#2600|3#2635|14#2790|79#17","60103#1|60128#1|60138#1|60143#1",1004,20,"601011#400|601012#600","601011#210101|601012#210101",90,10800,"-123#-253",2,778]
[null,"1293",3,"困难1-29","1303",199,0,51779,205778,9879,"20001#20003#20011#20015#20004#20002#20018","17#2600|3#2645|14#2790|79#17","60103#1|60128#1|60138#1|60143#1",1004,20,"601011#400|601012#600","601011#210101|601012#210101",90,10800,"-73#-248",2,779]
[null,"1303",3,"困难1-30","1313",199,0,51780,205779,9880,"20001#20003#20011#20015#20004#20002#20018","17#2600|3#2645|14#2800|79#17","60103#1|60128#1|60138#1|60143#1",1004,20,"601011#400|601012#600","601011#210101|601012#210101",90,10800,"-24#-226",2,780]
[null,"1313",3,"困难1-31","1323",199,0,51781,205780,9881,"20001#20003#20011#20015#20004#20002#20018","17#2610|3#2645|14#2800|79#17","60103#1|60128#1|60138#1|60143#1",1004,20,"601011#400|601012#600","601011#210101|601012#210101",90,10800,"33#-222",2,781]
[null,"1323",3,"困难1-32","1333",199,0,51782,205781,9882,"20001#20003#20011#20015#20004#20002#20018","17#2610|3#2655|14#2800|79#17","60103#1|60128#1|60138#1|60143#1",1004,20,"601011#400|601012#600","601011#210101|601012#210101",90,10800,"81#-234",2,782]
[null,"1333",3,"困难1-33","1343",199,0,51783,205782,9883,"20001#20003#20011#20015#20004#20002#20018","17#2610|3#2655|14#2810|79#17","60103#1|60128#1|60138#1|60143#1",1004,20,"601011#400|601012#600","601011#210101|601012#210101",90,10800,"132#-245",2,783]
[null,"1343",3,"困难1-34","1353",199,0,51784,205783,9884,"20001#20003#20011#20015#20004#20002#20018","17#2620|3#2655|14#2810|79#17","60103#1|60128#1|60138#1|60143#1",1004,20,"601011#400|601012#600","601011#210101|601012#210101",90,10800,"185#-249",2,784]
[null,"1353",3,"困难1-35","1363",199,0,51785,205784,9885,"20001#20003#20011#20015#20004#20002#20018","17#2620|3#2665|14#2810|79#17","60103#1|60128#1|60138#1|60143#1",1004,20,"601011#400|601012#600","601011#210101|601012#210101",90,10800,"237#-244",2,785]
[null,"1363",3,"困难1-36","1373",199,0,51786,205785,9886,"20001#20003#20011#20015#20004#20002#20018","17#2620|3#2665|14#2820|79#17","60103#1|60128#1|60138#1|60143#1",1004,20,"601011#400|601012#600","601011#210101|601012#210101",90,10800,"265#-204",2,786]
[null,"1373",3,"困难1-37","1383",199,0,51787,205786,9887,"20001#20003#20011#20015#20004#20002#20018","17#2630|3#2665|14#2820|79#17","60103#1|60128#1|60138#1|60143#1",1004,20,"601011#400|601012#600","601011#210101|601012#210101",90,10800,"236#-168",1,787]
[null,"1383",3,"困难1-38","1393",199,0,51788,205787,9888,"20001#20003#20011#20015#20004#20002#20018","17#2630|3#2675|14#2820|79#17","60103#1|60128#1|60138#1|60143#1",1004,20,"601011#400|601012#600","601011#210101|601012#210101",90,10800,"188#-155",1,788]
[null,"1393",3,"困难1-39","1403",199,0,51789,205788,9889,"20001#20003#20011#20015#20004#20002#20018","17#2630|3#2675|14#2830|79#17","60103#1|60128#1|60138#1|60143#1",1004,20,"601011#400|601012#600","601011#210101|601012#210101",90,10800,"145#-147",1,789]
[null,"1403",3,"困难1-40","2013",199,0,51790,205789,9890,"20001#20003#20011#20015#20004#20002#20018","17#2640|3#2675|14#2830|79#17","60103#1|60128#1|60138#1|60143#1",1004,20,"601011#400|601012#600","601011#210101|601012#210101",90,10800,"97#-146",1,790]
[null,"2013",3,"困难2-1","2023",199,1,51791,205790,9891,"20001#20003#20011#20015#20004#20002#20018","17#2640|3#2685|14#2830|79#17","60103#1|60128#1|60138#1|60143#1",1004,20,"601011#400|601012#600","601011#210101|601012#210101",90,10800,"462#-73",2,791]
[null,"2023",3,"困难2-2","2033",199,0,51792,205791,9892,"20001#20003#20011#20015#20004#20002#20018","17#2640|3#2685|14#2840|79#17","60103#1|60128#1|60138#1|60143#1",1004,20,"601011#400|601012#600","601011#210101|601012#210101",90,10800,"479#-114",1,792]
[null,"2033",3,"困难2-3","2043",199,0,51793,205792,9893,"20001#20003#20011#20015#20004#20002#20018","17#2650|3#2685|14#2840|79#17","60103#1|60128#1|60138#1|60143#1",1004,20,"601011#400|601012#600","601011#210101|601012#210101",90,10800,"431#-142",1,793]
[null,"2043",3,"困难2-4","2053",199,0,51794,205793,9894,"20001#20003#20011#20015#20004#20002#20018","17#2650|3#2695|14#2840|79#17","60103#1|60128#1|60138#1|60143#1",1004,20,"601011#400|601012#600","601011#210101|601012#210101",90,10800,"473#-168",2,794]
[null,"2053",3,"困难2-5","2063",199,0,51795,205794,9895,"20001#20003#20011#20015#20004#20002#20018","17#2650|3#2695|14#2850|79#17","60103#1|60128#1|60138#1|60143#1",1004,20,"601011#400|601012#600","601011#210101|601012#210101",90,10800,"520#-194",2,795]
[null,"2063",3,"困难2-6","2073",199,0,51796,205795,9896,"20001#20003#20011#20015#20004#20002#20018","17#2660|3#2695|14#2850|79#17","60103#1|60128#1|60138#1|60143#1",1004,20,"601011#400|601012#600","601011#210101|601012#210101",90,10800,"525#-244",1,796]
[null,"2073",3,"困难2-7","2083",199,0,51797,205796,9897,"20001#20003#20011#20015#20004#20002#20018","17#2660|3#2705|14#2850|79#17","60103#1|60128#1|60138#1|60143#1",1004,20,"601011#400|601012#600","601011#210101|601012#210101",90,10800,"476#-275",1,797]
[null,"2083",3,"困难2-8","2093",199,0,51798,205797,9898,"20001#20003#20011#20015#20004#20002#20018","17#2660|3#2705|14#2860|79#17","60103#1|60128#1|60138#1|60143#1",1004,20,"601011#400|601012#600","601011#210101|601012#210101",90,10800,"414#-279",1,798]
[null,"2093",3,"困难2-9","2103",199,0,51799,205798,9899,"20001#20003#20011#20015#20004#20002#20018","17#2670|3#2705|14#2860|79#17","60103#1|60128#1|60138#1|60143#1",1004,20,"601011#400|601012#600","601011#210101|601012#210101",90,10800,"354#-289",1,799]
[null,"2103",3,"困难2-10","2113",199,0,51800,205799,9900,"20001#20003#20011#20015#20004#20002#20018","17#2670|3#2715|14#2860|79#17","60103#1|60128#1|60138#1|60143#1",1004,20,"601011#400|601012#600","601011#210101|601012#210101",90,10800,"300#-310",1,800]
[null,"2113",3,"困难2-11","2123",199,0,51801,205800,9901,"20001#20003#20011#20015#20004#20002#20018","17#2670|3#2715|14#2870|79#18","60103#1|60128#1|60138#1|60143#1",1004,20,"601011#400|601012#600","601011#210101|601012#210101",90,10800,"234#-313",1,801]
[null,"2123",3,"困难2-12","2133",199,0,51802,205801,9902,"20001#20003#20011#20015#20004#20002#20018","17#2680|3#2715|14#2870|79#18","60103#1|60128#1|60138#1|60143#1",1004,20,"601011#400|601012#600","601011#210101|601012#210101",90,10800,"197#-276",1,802]
[null,"2133",3,"困难2-13","2143",199,0,51803,205802,9903,"20001#20003#20011#20015#20004#20002#20018","17#2680|3#2725|14#2870|79#18","60103#1|60128#1|60138#1|60143#1",1004,20,"601011#400|601012#600","601011#210101|601012#210101",90,10800,"220#-224",2,803]
[null,"2143",3,"困难2-14","2153",199,0,51804,205803,9904,"20001#20003#20011#20015#20004#20002#20018","17#2680|3#2725|14#2880|79#18","60103#1|60128#1|60138#1|60143#1",1004,20,"601011#400|601012#600","601011#210101|601012#210101",90,10800,"188#-186",1,804]
[null,"2153",3,"困难2-15","2163",199,0,51805,205804,9905,"20001#20003#20011#20015#20004#20002#20018","17#2690|3#2725|14#2880|79#18","60103#1|60128#1|60138#1|60143#1",1004,20,"601011#400|601012#600","601011#210101|601012#210101",90,10800,"178#-143",2,805]
[null,"2163",3,"困难2-16","2173",199,0,51806,205805,9906,"20001#20003#20011#20015#20004#20002#20018","17#2690|3#2735|14#2880|79#18","60103#1|60128#1|60138#1|60143#1",1004,20,"601011#400|601012#600","601011#210101|601012#210101",90,10800,"225#-112",2,806]
[null,"2173",3,"困难2-17","2183",199,0,51807,205806,9907,"20001#20003#20011#20015#20004#20002#20018","17#2690|3#2735|14#2890|79#18","60103#1|60128#1|60138#1|60143#1",1004,20,"601011#400|601012#600","601011#210101|601012#210101",90,10800,"189#-80",1,807]
[null,"2183",3,"困难2-18","2193",199,0,51808,205807,9908,"20001#20003#20011#20015#20004#20002#20018","17#2700|3#2735|14#2890|79#18","60103#1|60128#1|60138#1|60143#1",1004,20,"601011#400|601012#600","601011#210101|601012#210101",90,10800,"133#-73",1,808]
[null,"2193",3,"困难2-19","2203",199,0,51809,205808,9909,"20001#20003#20011#20015#20004#20002#20018","17#2700|3#2745|14#2890|79#18","60103#1|60128#1|60138#1|60143#1",1004,20,"601011#400|601012#600","601011#210101|601012#210101",90,10800,"75#-77",1,809]
[null,"2203",3,"困难2-20","2213",199,0,51810,205809,9910,"20001#20003#20011#20015#20004#20002#20018","17#2700|3#2745|14#2900|79#18","60103#1|60128#1|60138#1|60143#1",1004,20,"601011#400|601012#600","601011#210101|601012#210101",90,10800,"20#-80",1,810]
[null,"2213",3,"困难2-21","2223",199,0,51811,205810,9911,"20001#20003#20011#20015#20004#20002#20018","17#2710|3#2745|14#2900|79#18","60103#1|60128#1|60138#1|60143#1",1004,20,"601011#400|601012#600","601011#210101|601012#210101",90,10800,"-43#-87",1,811]
[null,"2223",3,"困难2-22","2233",199,0,51812,205811,9912,"20001#20003#20011#20015#20004#20002#20018","17#2710|3#2755|14#2900|79#18","60103#1|60128#1|60138#1|60143#1",1004,20,"601011#400|601012#600","601011#210101|601012#210101",90,10800,"-68#-132",1,812]
[null,"2233",3,"困难2-23","2243",199,0,51813,205812,9913,"20001#20003#20011#20015#20004#20002#20018","17#2710|3#2755|14#2910|79#18","60103#1|60128#1|60138#1|60143#1",1004,20,"601011#400|601012#600","601011#210101|601012#210101",90,10800,"-45#-178",2,813]
[null,"2243",3,"困难2-24","2253",199,0,51814,205813,9914,"20001#20003#20011#20015#20004#20002#20018","17#2720|3#2755|14#2910|79#18","60103#1|60128#1|60138#1|60143#1",1004,20,"601011#400|601012#600","601011#210101|601012#210101",90,10800,"-4#-218",2,814]
[null,"2253",3,"困难2-25","2263",199,0,51815,205814,9915,"20001#20003#20011#20015#20004#20002#20018","17#2720|3#2765|14#2910|79#18","60103#1|60128#1|60138#1|60143#1",1004,20,"601011#400|601012#600","601011#210101|601012#210101",90,10800,"-1#-270",1,815]
[null,"2263",3,"困难2-26","2273",199,0,51816,205815,9916,"20001#20003#20011#20015#20004#20002#20018","17#2720|3#2765|14#2920|79#18","60103#1|60128#1|60138#1|60143#1",1004,20,"601011#400|601012#600","601011#210101|601012#210101",90,10800,"-40#-307",1,816]
[null,"2273",3,"困难2-27","2283",199,0,51817,205816,9917,"20001#20003#20011#20015#20004#20002#20018","17#2730|3#2765|14#2920|79#18","60103#1|60128#1|60138#1|60143#1",1004,20,"601011#400|601012#600","601011#210101|601012#210101",90,10800,"-92#-320",1,817]
[null,"2283",3,"困难2-28","2293",199,0,51818,205817,9918,"20001#20003#20011#20015#20004#20002#20018","17#2730|3#2775|14#2920|79#18","60103#1|60128#1|60138#1|60143#1",1004,20,"601011#400|601012#600","601011#210101|601012#210101",90,10800,"-144#-320",1,818]
[null,"2293",3,"困难2-29","2303",199,0,51819,205818,9919,"20001#20003#20011#20015#20004#20002#20018","17#2730|3#2775|14#2930|79#18","60103#1|60128#1|60138#1|60143#1",1004,20,"601011#400|601012#600","601011#210101|601012#210101",90,10800,"-194#-316",1,819]
[null,"2303",3,"困难2-30","2313",199,0,51820,205819,9920,"20001#20003#20011#20015#20004#20002#20018","17#2740|3#2775|14#2930|79#18","60103#1|60128#1|60138#1|60143#1",1004,20,"601011#400|601012#600","601011#210101|601012#210101",90,10800,"-245#-303",1,820]
[null,"2313",3,"困难2-31","2323",199,0,51821,205820,9921,"20001#20003#20011#20015#20004#20002#20018","17#2740|3#2785|14#2930|79#18","60103#1|60128#1|60138#1|60143#1",1004,20,"601011#400|601012#600","601011#210101|601012#210101",90,10800,"-292#-276",1,821]
[null,"2323",3,"困难2-32","2333",199,0,51822,205821,9922,"20001#20003#20011#20015#20004#20002#20018","17#2740|3#2785|14#2940|79#18","60103#1|60128#1|60138#1|60143#1",1004,20,"601011#400|601012#600","601011#210101|601012#210101",90,10800,"-331#-241",1,822]
[null,"2333",3,"困难2-33","2343",199,0,51823,205822,9923,"20001#20003#20011#20015#20004#20002#20018","17#2750|3#2785|14#2940|79#18","60103#1|60128#1|60138#1|60143#1",1004,20,"601011#400|601012#600","601011#210101|601012#210101",90,10800,"-379#-231",1,823]
[null,"2343",3,"困难2-34","2353",199,0,51824,205823,9924,"20001#20003#20011#20015#20004#20002#20018","17#2750|3#2795|14#2940|79#18","60103#1|60128#1|60138#1|60143#1",1004,20,"601011#400|601012#600","601011#210101|601012#210101",90,10800,"-416#-204",1,824]
[null,"2353",3,"困难2-35","2363",199,0,51825,205824,9925,"20001#20003#20011#20015#20004#20002#20018","17#2750|3#2795|14#2950|79#18","60103#1|60128#1|60138#1|60143#1",1004,20,"601011#400|601012#600","601011#210101|601012#210101",90,10800,"-395#-160",2,825]
[null,"2363",3,"困难2-36","2373",199,0,51826,205825,9926,"20001#20003#20011#20015#20004#20002#20018","17#2760|3#2795|14#2950|79#18","60103#1|60128#1|60138#1|60143#1",1004,20,"601011#400|601012#600","601011#210101|601012#210101",90,10800,"-337#-161",2,826]
[null,"2373",3,"困难2-37","2383",199,0,51827,205826,9927,"20001#20003#20011#20015#20004#20002#20018","17#2760|3#2805|14#2950|79#18","60103#1|60128#1|60138#1|60143#1",1004,20,"601011#400|601012#600","601011#210101|601012#210101",90,10800,"-283#-149",2,827]
[null,"2383",3,"困难2-38","2393",199,0,51828,205827,9928,"20001#20003#20011#20015#20004#20002#20018","17#2760|3#2805|14#2960|79#18","60103#1|60128#1|60138#1|60143#1",1004,20,"601011#400|601012#600","601011#210101|601012#210101",90,10800,"-283#-100",1,828]
[null,"2393",3,"困难2-39","2403",199,0,51829,205828,9929,"20001#20003#20011#20015#20004#20002#20018","17#2770|3#2805|14#2960|79#18","60103#1|60128#1|60138#1|60143#1",1004,20,"601011#400|601012#600","601011#210101|601012#210101",90,10800,"-298#-52",2,829]
[null,"2403",3,"困难2-40","3013",199,0,51830,205829,9930,"20001#20003#20011#20015#20004#20002#20018","17#2770|3#2815|14#2960|79#18","60103#1|60128#1|60138#1|60143#1",1004,20,"601011#400|601012#600","601011#210101|601012#210101",90,10800,"-249#-34",2,830]
[null,"3013",3,"困难3-1","3023",199,1,51831,205830,9931,"20001#20003#20011#20015#20004#20002#20018","17#2770|3#2815|14#2970|79#18","60103#1|60128#1|60138#1|60143#1",1004,20,"601011#400|601012#600","601011#210101|601012#210101",90,10800,"443#-349",2,831]
[null,"3023",3,"困难3-2","3033",199,0,51832,205831,9932,"20001#20003#20011#20015#20004#20002#20018","17#2780|3#2815|14#2970|79#18","60103#1|60128#1|60138#1|60143#1",1004,20,"601011#400|601012#600","601011#210101|601012#210101",90,10800,"505#-335",2,832]
[null,"3033",3,"困难3-3","3043",199,0,51833,205832,9933,"20001#20003#20011#20015#20004#20002#20018","17#2780|3#2825|14#2970|79#18","60103#1|60128#1|60138#1|60143#1",1004,20,"601011#400|601012#600","601011#210101|601012#210101",90,10800,"528#-285",1,833]
[null,"3043",3,"困难3-4","3053",199,0,51834,205833,9934,"20001#20003#20011#20015#20004#20002#20018","17#2780|3#2825|14#2980|79#18","60103#1|60128#1|60138#1|60143#1",1004,20,"601011#400|601012#600","601011#210101|601012#210101",90,10800,"470#-254",1,834]
[null,"3053",3,"困难3-5","3063",199,0,51835,205834,9935,"20001#20003#20011#20015#20004#20002#20018","17#2790|3#2825|14#2980|79#18","60103#1|60128#1|60138#1|60143#1",1004,20,"601011#400|601012#600","601011#210101|601012#210101",90,10800,"400#-240",1,835]
[null,"3063",3,"困难3-6","3073",199,0,51836,205835,9936,"20001#20003#20011#20015#20004#20002#20018","17#2790|3#2835|14#2980|79#18","60103#1|60128#1|60138#1|60143#1",1004,20,"601011#400|601012#600","601011#210101|601012#210101",90,10800,"333#-234",1,836]
[null,"3073",3,"困难3-7","3083",199,0,51837,205836,9937,"20001#20003#20011#20015#20004#20002#20018","17#2790|3#2835|14#2990|79#18","60103#1|60128#1|60138#1|60143#1",1004,20,"601011#400|601012#600","601011#210101|601012#210101",90,10800,"269#-224",1,837]
[null,"3083",3,"困难3-8","3093",199,0,51838,205837,9938,"20001#20003#20011#20015#20004#20002#20018","17#2800|3#2835|14#2990|79#18","60103#1|60128#1|60138#1|60143#1",1004,20,"601011#400|601012#600","601011#210101|601012#210101",90,10800,"278#-175",2,838]
[null,"3093",3,"困难3-9","3103",199,0,51839,205838,9939,"20001#20003#20011#20015#20004#20002#20018","17#2800|3#2845|14#2990|79#18","60103#1|60128#1|60138#1|60143#1",1004,20,"601011#400|601012#600","601011#210101|601012#210101",90,10800,"320#-139",1,839]
[null,"3103",3,"困难3-10","3113",199,0,51840,205839,9940,"20001#20003#20011#20015#20004#20002#20018","17#2800|3#2845|14#3000|79#18","60103#1|60128#1|60138#1|60143#1",1004,20,"601011#400|601012#600","601011#210101|601012#210101",90,10800,"257#-127",1,840]
[null,"3113",3,"困难3-11","3123",199,0,51841,205840,9941,"20001#20003#20011#20015#20004#20002#20018","17#2810|3#2845|14#3000|79#18","60103#1|60128#1|60138#1|60143#1",1004,20,"601011#400|601012#600","601011#210101|601012#210101",90,10800,"189#-128",1,841]
[null,"3123",3,"困难3-12","3133",199,0,51842,205841,9942,"20001#20003#20011#20015#20004#20002#20018","17#2810|3#2855|14#3000|79#18","60103#1|60128#1|60138#1|60143#1",1004,20,"601011#400|601012#600","601011#210101|601012#210101",90,10800,"125#-141",1,842]
[null,"3133",3,"困难3-13","3143",199,0,51843,205842,9943,"20001#20003#20011#20015#20004#20002#20018","17#2810|3#2855|14#3010|79#18","60103#1|60128#1|60138#1|60143#1",1004,20,"601011#400|601012#600","601011#210101|601012#210101",90,10800,"67#-166",1,843]
[null,"3143",3,"困难3-14","3153",199,0,51844,205843,9944,"20001#20003#20011#20015#20004#20002#20018","17#2820|3#2855|14#3010|79#18","60103#1|60128#1|60138#1|60143#1",1004,20,"601011#400|601012#600","601011#210101|601012#210101",90,10800,"11#-172",1,844]
[null,"3153",3,"困难3-15","3163",199,0,51845,205844,9945,"20001#20003#20011#20015#20004#20002#20018","17#2820|3#2865|14#3010|79#18","60103#1|60128#1|60138#1|60143#1",1004,20,"601011#400|601012#600","601011#210101|601012#210101",90,10800,"-53#-155",1,845]
[null,"3163",3,"困难3-16","3173",199,0,51846,205845,9946,"20001#20003#20011#20015#20004#20002#20018","17#2820|3#2865|14#3020|79#18","60103#1|60128#1|60138#1|60143#1",1004,20,"601011#400|601012#600","601011#210101|601012#210101",90,10800,"-113#-151",1,846]
[null,"3173",3,"困难3-17","3183",199,0,51847,205846,9947,"20001#20003#20011#20015#20004#20002#20018","17#2830|3#2865|14#3020|79#18","60103#1|60128#1|60138#1|60143#1",1004,20,"601011#400|601012#600","601011#210101|601012#210101",90,10800,"-136#-186",2,847]
[null,"3183",3,"困难3-18","3193",199,0,51848,205847,9948,"20001#20003#20011#20015#20004#20002#20018","17#2830|3#2875|14#3020|79#18","60103#1|60128#1|60138#1|60143#1",1004,20,"601011#400|601012#600","601011#210101|601012#210101",90,10800,"-110#-228",1,848]
[null,"3193",3,"困难3-19","3203",199,0,51849,205848,9949,"20001#20003#20011#20015#20004#20002#20018","17#2830|3#2875|14#3030|79#18","60103#1|60128#1|60138#1|60143#1",1004,20,"601011#400|601012#600","601011#210101|601012#210101",90,10800,"-185#-228",1,849]
[null,"3203",3,"困难3-20","3213",199,0,51850,205849,9950,"20001#20003#20011#20015#20004#20002#20018","17#2840|3#2875|14#3030|79#18","60103#1|60128#1|60138#1|60143#1",1004,20,"601011#400|601012#600","601011#210101|601012#210101",90,10800,"-242#-218",1,850]
[null,"3213",3,"困难3-21","3223",199,0,51851,205850,9951,"20001#20003#20011#20015#20004#20002#20018","17#2840|3#2885|14#3030|79#18","60103#1|60128#1|60138#1|60143#1",1004,20,"601011#400|601012#600","601011#210101|601012#210101",90,10800,"-298#-201",1,851]
[null,"3223",3,"困难3-22","3233",199,0,51852,205851,9952,"20001#20003#20011#20015#20004#20002#20018","17#2840|3#2885|14#3040|79#18","60103#1|60128#1|60138#1|60143#1",1004,20,"601011#400|601012#600","601011#210101|601012#210101",90,10800,"-356#-200",1,852]
[null,"3233",3,"困难3-23","3243",199,0,51853,205852,9953,"20001#20003#20011#20015#20004#20002#20018","17#2850|3#2885|14#3040|79#18","60103#1|60128#1|60138#1|60143#1",1004,20,"601011#400|601012#600","601011#210101|601012#210101",90,10800,"-411#-193",1,853]
[null,"3243",3,"困难3-24","3253",199,0,51854,205853,9954,"20001#20003#20011#20015#20004#20002#20018","17#2850|3#2895|14#3040|79#18","60103#1|60128#1|60138#1|60143#1",1004,20,"601011#400|601012#600","601011#210101|601012#210101",90,10800,"-393#-148",2,854]
[null,"3253",3,"困难3-25","3263",199,0,51855,205854,9955,"20001#20003#20011#20015#20004#20002#20018","17#2850|3#2895|14#3050|79#18","60103#1|60128#1|60138#1|60143#1",1004,20,"601011#400|601012#600","601011#210101|601012#210101",90,10800,"-336#-129",2,855]
[null,"3263",3,"困难3-26","3273",199,0,51856,205855,9956,"20001#20003#20011#20015#20004#20002#20018","17#2860|3#2895|14#3050|79#18","60103#1|60128#1|60138#1|60143#1",1004,20,"601011#400|601012#600","601011#210101|601012#210101",90,10800,"-274#-125",2,856]
[null,"3273",3,"困难3-27","3283",199,0,51857,205856,9957,"20001#20003#20011#20015#20004#20002#20018","17#2860|3#2905|14#3050|79#18","60103#1|60128#1|60138#1|60143#1",1004,20,"601011#400|601012#600","601011#210101|601012#210101",90,10800,"-218#-129",2,857]
[null,"3283",3,"困难3-28","3293",199,0,51858,205857,9958,"20001#20003#20011#20015#20004#20002#20018","17#2860|3#2905|14#3060|79#18","60103#1|60128#1|60138#1|60143#1",1004,20,"601011#400|601012#600","601011#210101|601012#210101",90,10800,"-159#-111",2,858]
[null,"3293",3,"困难3-29","3303",199,0,51859,205858,9959,"20001#20003#20011#20015#20004#20002#20018","17#2870|3#2905|14#3060|79#18","60103#1|60128#1|60138#1|60143#1",1004,20,"601011#400|601012#600","601011#210101|601012#210101",90,10800,"-186#-72",1,859]
[null,"3303",3,"困难3-30","3313",199,0,51860,205859,9960,"20001#20003#20011#20015#20004#20002#20018","17#2870|3#2915|14#3060|79#18","60103#1|60128#1|60138#1|60143#1",1004,20,"601011#400|601012#600","601011#210101|601012#210101",90,10800,"-247#-52",1,860]
[null,"3313",3,"困难3-31","3323",199,0,51861,205860,9961,"20001#20003#20011#20015#20004#20002#20018","17#2870|3#2915|14#3070|79#18","60103#1|60128#1|60138#1|60143#1",1004,20,"601011#400|601012#600","601011#210101|601012#210101",90,10800,"-224#2",2,861]
[null,"3323",3,"困难3-32","3333",199,0,51862,205861,9962,"20001#20003#20011#20015#20004#20002#20018","17#2880|3#2915|14#3070|79#18","60103#1|60128#1|60138#1|60143#1",1004,20,"601011#400|601012#600","601011#210101|601012#210101",90,10800,"-164#11",2,862]
[null,"3333",3,"困难3-33","3343",199,0,51863,205862,9963,"20001#20003#20011#20015#20004#20002#20018","17#2880|3#2925|14#3070|79#18","60103#1|60128#1|60138#1|60143#1",1004,20,"601011#400|601012#600","601011#210101|601012#210101",90,10800,"-105#24",2,863]
[null,"3343",3,"困难3-34","3353",199,0,51864,205863,9964,"20001#20003#20011#20015#20004#20002#20018","17#2880|3#2925|14#3080|79#18","60103#1|60128#1|60138#1|60143#1",1004,20,"601011#400|601012#600","601011#210101|601012#210101",90,10800,"-52#44",2,864]
[null,"3353",3,"困难3-35","3363",199,0,51865,205864,9965,"20001#20003#20011#20015#20004#20002#20018","17#2890|3#2925|14#3080|79#18","60103#1|60128#1|60138#1|60143#1",1004,20,"601011#400|601012#600","601011#210101|601012#210101",90,10800,"3#38",2,865]
[null,"3363",3,"困难3-36","3373",199,0,51866,205865,9966,"20001#20003#20011#20015#20004#20002#20018","17#2890|3#2935|14#3080|79#18","60103#1|60128#1|60138#1|60143#1",1004,20,"601011#400|601012#600","601011#210101|601012#210101",90,10800,"60#39",2,866]
[null,"3373",3,"困难3-37","3383",199,0,51867,205866,9967,"20001#20003#20011#20015#20004#20002#20018","17#2890|3#2935|14#3090|79#18","60103#1|60128#1|60138#1|60143#1",1004,20,"601011#400|601012#600","601011#210101|601012#210101",90,10800,"71#85",1,867]
[null,"3383",3,"困难3-38","3393",199,0,51868,205867,9968,"20001#20003#20011#20015#20004#20002#20018","17#2900|3#2935|14#3090|79#18","60103#1|60128#1|60138#1|60143#1",1004,20,"601011#400|601012#600","601011#210101|601012#210101",90,10800,"20#104",1,868]
[null,"3393",3,"困难3-39","3403",199,0,51869,205868,9969,"20001#20003#20011#20015#20004#20002#20018","17#2900|3#2945|14#3090|79#18","60103#1|60128#1|60138#1|60143#1",1004,20,"601011#400|601012#600","601011#210101|601012#210101",90,10800,"-32#110",1,869]
[null,"3403",3,"困难3-40","4013",199,0,51870,205869,9970,"20001#20003#20011#20015#20004#20002#20018","17#2900|3#2945|14#3100|79#18","60103#1|60128#1|60138#1|60143#1",1004,20,"601011#400|601012#600","601011#210101|601012#210101",90,10800,"-69#150",1,870]
[null,"4013",3,"困难4-1","4023",199,1,51871,205870,9971,"20001#20003#20011#20016#20004#20002#20018","17#2910|3#2945|14#3100|79#18","60103#1|60128#1|60138#1|60143#1",1004,20,"601011#400|601012#600","601011#210101|601012#210101",90,10800,"-378#-180",2,871]
[null,"4023",3,"困难4-2","4033",199,0,51872,205871,9972,"20001#20003#20011#20016#20004#20002#20018","17#2910|3#2955|14#3100|79#18","60103#1|60128#1|60138#1|60143#1",1004,20,"601011#400|601012#600","601011#210101|601012#210101",90,10800,"-314#-176",2,872]
[null,"4033",3,"困难4-3","4043",199,0,51873,205872,9973,"20001#20003#20011#20016#20004#20002#20018","17#2910|3#2955|14#3110|79#18","60103#1|60128#1|60138#1|60143#1",1004,20,"601011#400|601012#600","601011#210101|601012#210101",90,10800,"-254#-183",2,873]
[null,"4043",3,"困难4-4","4053",199,0,51874,205873,9974,"20001#20003#20011#20016#20004#20002#20018","17#2920|3#2955|14#3110|79#18","60103#1|60128#1|60138#1|60143#1",1004,20,"601011#400|601012#600","601011#210101|601012#210101",90,10800,"-205#-204",2,874]
[null,"4053",3,"困难4-5","4063",199,0,51875,205874,9975,"20001#20003#20011#20016#20004#20002#20018","17#2920|3#2965|14#3110|79#18","60103#1|60128#1|60138#1|60143#1",1004,20,"601011#400|601012#600","601011#210101|601012#210101",90,10800,"-152#-235",2,875]
[null,"4063",3,"困难4-6","4073",199,0,51876,205875,9976,"20001#20003#20011#20016#20004#20002#20018","17#2920|3#2965|14#3120|79#18","60103#1|60128#1|60138#1|60143#1",1004,20,"601011#400|601012#600","601011#210101|601012#210101",90,10800,"-110#-286",2,876]
[null,"4073",3,"困难4-7","4083",199,0,51877,205876,9977,"20001#20003#20011#20016#20004#20002#20018","17#2930|3#2965|14#3120|79#18","60103#1|60128#1|60138#1|60143#1",1004,20,"601011#400|601012#600","601011#210101|601012#210101",90,10800,"-67#-326",2,877]
[null,"4083",3,"困难4-8","4093",199,0,51878,205877,9978,"20001#20003#20011#20016#20004#20002#20018","17#2930|3#2975|14#3120|79#18","60103#1|60128#1|60138#1|60143#1",1004,20,"601011#400|601012#600","601011#210101|601012#210101",90,10800,"-15#-359",2,878]
[null,"4093",3,"困难4-9","4103",199,0,51879,205878,9979,"20001#20003#20011#20016#20004#20002#20018","17#2930|3#2975|14#3130|79#18","60103#1|60128#1|60138#1|60143#1",1004,20,"601011#400|601012#600","601011#210101|601012#210101",90,10800,"57#-373",2,879]
[null,"4103",3,"困难4-10","4113",199,0,51880,205879,9980,"20001#20003#20011#20016#20004#20002#20018","17#2940|3#2975|14#3130|79#18","60103#1|60128#1|60138#1|60143#1",1004,20,"601011#400|601012#600","601011#210101|601012#210101",90,10800,"78#-328",1,880]
[null,"4113",3,"困难4-11","4123",199,0,51881,205880,9981,"20001#20003#20011#20016#20004#20002#20018","17#2940|3#2985|14#3130|79#18","60103#1|60128#1|60138#1|60143#1",1004,20,"601011#400|601012#600","601011#210101|601012#210101",90,10800,"59#-278",2,881]
[null,"4123",3,"困难4-12","4133",199,0,51882,205881,9982,"20001#20003#20011#20016#20004#20002#20018","17#2940|3#2985|14#3140|79#18","60103#1|60128#1|60138#1|60143#1",1004,20,"601011#400|601012#600","601011#210101|601012#210101",90,10800,"119#-273",2,882]
[null,"4133",3,"困难4-13","4143",199,0,51883,205882,9983,"20001#20003#20011#20016#20004#20002#20018","17#2950|3#2985|14#3140|79#18","60103#1|60128#1|60138#1|60143#1",1004,20,"601011#400|601012#600","601011#210101|601012#210101",90,10800,"182#-283",2,883]
[null,"4143",3,"困难4-14","4153",199,0,51884,205883,9984,"20001#20003#20011#20016#20004#20002#20018","17#2950|3#2995|14#3140|79#18","60103#1|60128#1|60138#1|60143#1",1004,20,"601011#400|601012#600","601011#210101|601012#210101",90,10800,"241#-297",2,884]
[null,"4153",3,"困难4-15","4163",199,0,51885,205884,9985,"20001#20003#20011#20016#20004#20002#20018","17#2950|3#2995|14#3150|79#18","60103#1|60128#1|60138#1|60143#1",1004,20,"601011#400|601012#600","601011#210101|601012#210101",90,10800,"314#-299",2,885]
[null,"4163",3,"困难4-16","4173",199,0,51886,205885,9986,"20001#20003#20011#20016#20004#20002#20018","17#2960|3#2995|14#3150|79#18","60103#1|60128#1|60138#1|60143#1",1004,20,"601011#400|601012#600","601011#210101|601012#210101",90,10800,"374#-279",2,886]
[null,"4173",3,"困难4-17","4183",199,0,51887,205886,9987,"20001#20003#20011#20016#20004#20002#20018","17#2960|3#3005|14#3150|79#18","60103#1|60128#1|60138#1|60143#1",1004,20,"601011#400|601012#600","601011#210101|601012#210101",90,10800,"389#-222",1,887]
[null,"4183",3,"困难4-18","4193",199,0,51888,205887,9988,"20001#20003#20011#20016#20004#20002#20018","17#2960|3#3005|14#3160|79#18","60103#1|60128#1|60138#1|60143#1",1004,20,"601011#400|601012#600","601011#210101|601012#210101",90,10800,"335#-192",1,888]
[null,"4193",3,"困难4-19","4203",199,0,51889,205888,9989,"20001#20003#20011#20016#20004#20002#20018","17#2970|3#3005|14#3160|79#18","60103#1|60128#1|60138#1|60143#1",1004,20,"601011#400|601012#600","601011#210101|601012#210101",90,10800,"279#-192",1,889]
[null,"4203",3,"困难4-20","4213",199,0,51890,205889,9990,"20001#20003#20011#20016#20004#20002#20018","17#2970|3#3015|14#3160|79#18","60103#1|60128#1|60138#1|60143#1",1004,20,"601011#400|601012#600","601011#210101|601012#210101",90,10800,"213#-201",1,890]
[null,"4213",3,"困难4-21","4223",199,0,51891,205890,9991,"20001#20003#20011#20016#20004#20002#20018","17#2970|3#3015|14#3170|79#18","60103#1|60128#1|60138#1|60143#1",1004,20,"601011#400|601012#600","601011#210101|601012#210101",90,10800,"151#-197",1,891]
[null,"4223",3,"困难4-22","4233",199,0,51892,205891,9992,"20001#20003#20011#20016#20004#20002#20018","17#2980|3#3015|14#3170|79#18","60103#1|60128#1|60138#1|60143#1",1004,20,"601011#400|601012#600","601011#210101|601012#210101",90,10800,"91#-179",1,892]
[null,"4233",3,"困难4-23","4243",199,0,51893,205892,9993,"20001#20003#20011#20016#20004#20002#20018","17#2980|3#3025|14#3170|79#18","60103#1|60128#1|60138#1|60143#1",1004,20,"601011#400|601012#600","601011#210101|601012#210101",90,10800,"120#-135",2,893]
[null,"4243",3,"困难4-24","4253",199,0,51894,205893,9994,"20001#20003#20011#20016#20004#20002#20018","17#2980|3#3025|14#3180|79#18","60103#1|60128#1|60138#1|60143#1",1004,20,"601011#400|601012#600","601011#210101|601012#210101",90,10800,"86#-98",1,894]
[null,"4253",3,"困难4-25","4263",199,0,51895,205894,9995,"20001#20003#20011#20016#20004#20002#20018","17#2990|3#3025|14#3180|79#18","60103#1|60128#1|60138#1|60143#1",1004,20,"601011#400|601012#600","601011#210101|601012#210101",90,10800,"26#-108",1,895]
[null,"4263",3,"困难4-26","4273",199,0,51896,205895,9996,"20001#20003#20011#20016#20004#20002#20018","17#2990|3#3035|14#3180|79#18","60103#1|60128#1|60138#1|60143#1",1004,20,"601011#400|601012#600","601011#210101|601012#210101",90,10800,"-42#-116",1,896]
[null,"4273",3,"困难4-27","4283",199,0,51897,205896,9997,"20001#20003#20011#20016#20004#20002#20018","17#2990|3#3035|14#3190|79#18","60103#1|60128#1|60138#1|60143#1",1004,20,"601011#400|601012#600","601011#210101|601012#210101",90,10800,"-109#-121",1,897]
[null,"4283",3,"困难4-28","4293",199,0,51898,205897,9998,"20001#20003#20011#20016#20004#20002#20018","17#3000|3#3035|14#3190|79#18","60103#1|60128#1|60138#1|60143#1",1004,20,"601011#400|601012#600","601011#210101|601012#210101",90,10800,"-176#-115",1,898]
[null,"4293",3,"困难4-29","4303",199,0,51899,205898,9999,"20001#20003#20011#20016#20004#20002#20018","17#3000|3#3045|14#3190|79#18","60103#1|60128#1|60138#1|60143#1",1004,20,"601011#400|601012#600","601011#210101|601012#210101",90,10800,"-219#-78",1,899]
[null,"4303",3,"困难4-30","4313",199,0,51900,205899,10000,"20001#20003#20011#20016#20004#20002#20018","17#3000|3#3045|14#3200|79#18","60103#1|60128#1|60138#1|60143#1",1004,20,"601011#400|601012#600","601011#210101|601012#210101",90,10800,"-171#-43",2,900]
[null,"4313",3,"困难4-31","4323",199,0,51901,205900,10001,"20001#20003#20011#20016#20004#20002#20018","17#3010|3#3045|14#3200|79#19","60103#1|60128#1|60138#1|60143#1",1004,20,"601011#400|601012#600","601011#210101|601012#210101",90,10800,"-109#-34",2,901]
[null,"4323",3,"困难4-32","4333",199,0,51902,205901,10002,"20001#20003#20011#20016#20004#20002#20018","17#3010|3#3055|14#3200|79#19","60103#1|60128#1|60138#1|60143#1",1004,20,"601011#400|601012#600","601011#210101|601012#210101",90,10800,"-47#-31",2,902]
[null,"4333",3,"困难4-33","4343",199,0,51903,205902,10003,"20001#20003#20011#20016#20004#20002#20018","17#3010|3#3055|14#3210|79#19","60103#1|60128#1|60138#1|60143#1",1004,20,"601011#400|601012#600","601011#210101|601012#210101",90,10800,"10#-14",2,903]
[null,"4343",3,"困难4-34","4353",199,0,51904,205903,10004,"20001#20003#20011#20016#20004#20002#20018","17#3020|3#3055|14#3210|79#19","60103#1|60128#1|60138#1|60143#1",1004,20,"601011#400|601012#600","601011#210101|601012#210101",90,10800,"61#11",2,904]
[null,"4353",3,"困难4-35","4363",199,0,51905,205904,10005,"20001#20003#20011#20016#20004#20002#20018","17#3020|3#3065|14#3210|79#19","60103#1|60128#1|60138#1|60143#1",1004,20,"601011#400|601012#600","601011#210101|601012#210101",90,10800,"131#13",2,905]
[null,"4363",3,"困难4-36","4373",199,0,51906,205905,10006,"20001#20003#20011#20016#20004#20002#20018","17#3020|3#3065|14#3220|79#19","60103#1|60128#1|60138#1|60143#1",1004,20,"601011#400|601012#600","601011#210101|601012#210101",90,10800,"194#-9",2,906]
[null,"4373",3,"困难4-37","4383",199,0,51907,205906,10007,"20001#20003#20011#20016#20004#20002#20018","17#3030|3#3065|14#3220|79#19","60103#1|60128#1|60138#1|60143#1",1004,20,"601011#400|601012#600","601011#210101|601012#210101",90,10800,"253#-15",2,907]
[null,"4383",3,"困难4-38","4393",199,0,51908,205907,10008,"20001#20003#20011#20016#20004#20002#20018","17#3030|3#3075|14#3220|79#19","60103#1|60128#1|60138#1|60143#1",1004,20,"601011#400|601012#600","601011#210101|601012#210101",90,10800,"313#-9",2,908]
[null,"4393",3,"困难4-39","4403",199,0,51909,205908,10009,"20001#20003#20011#20016#20004#20002#20018","17#3030|3#3075|14#3230|79#19","60103#1|60128#1|60138#1|60143#1",1004,20,"601011#400|601012#600","601011#210101|601012#210101",90,10800,"342#29",2,909]
[null,"4403",3,"困难4-40","5013",199,0,51910,205909,10010,"20001#20003#20011#20016#20004#20002#20018","17#3040|3#3075|14#3230|79#19","60103#1|60128#1|60138#1|60143#1",1004,20,"601011#400|601012#600","601011#210101|601012#210101",90,10800,"308#74",1,910]
[null,"5013",3,"困难5-1","5023",199,1,51911,205910,10011,"20001#20003#20011#20016#20004#20002#20018","17#3040|3#3085|14#3230|79#19","60103#1|60128#1|60138#1|60143#1",1004,20,"601011#400|601012#600","601011#210101|601012#210101",90,10800,"293#-348",2,911]
[null,"5023",3,"困难5-2","5033",199,0,51912,205911,10012,"20001#20003#20011#20016#20004#20002#20018","17#3040|3#3085|14#3240|79#19","60103#1|60128#1|60138#1|60143#1",1004,20,"601011#400|601012#600","601011#210101|601012#210101",90,10800,"354#-296",2,912]
[null,"5033",3,"困难5-3","5043",199,0,51913,205912,10013,"20001#20003#20011#20016#20004#20002#20018","17#3050|3#3085|14#3240|79#19","60103#1|60128#1|60138#1|60143#1",1004,20,"601011#400|601012#600","601011#210101|601012#210101",90,10800,"286#-267",1,913]
[null,"5043",3,"困难5-4","5053",199,0,51914,205913,10014,"20001#20003#20011#20016#20004#20002#20018","17#3050|3#3095|14#3240|79#19","60103#1|60128#1|60138#1|60143#1",1004,20,"601011#400|601012#600","601011#210101|601012#210101",90,10800,"208#-263",1,914]
[null,"5053",3,"困难5-5","5063",199,0,51915,205914,10015,"20001#20003#20011#20016#20004#20002#20018","17#3050|3#3095|14#3250|79#19","60103#1|60128#1|60138#1|60143#1",1004,20,"601011#400|601012#600","601011#210101|601012#210101",90,10800,"170#-210",2,915]
[null,"5063",3,"困难5-6","5073",199,0,51916,205915,10016,"20001#20003#20011#20016#20004#20002#20018","17#3060|3#3095|14#3250|79#19","60103#1|60128#1|60138#1|60143#1",1004,20,"601011#400|601012#600","601011#210101|601012#210101",90,10800,"249#-191",2,916]
[null,"5073",3,"困难5-7","5083",199,0,51917,205916,10017,"20001#20003#20011#20016#20004#20002#20018","17#3060|3#3105|14#3250|79#19","60103#1|60128#1|60138#1|60143#1",1004,20,"601011#400|601012#600","601011#210101|601012#210101",90,10800,"298#-145",1,917]
[null,"5083",3,"困难5-8","5093",199,0,51918,205917,10018,"20001#20003#20011#20016#20004#20002#20018","17#3060|3#3105|14#3260|79#19","60103#1|60128#1|60138#1|60143#1",1004,20,"601011#400|601012#600","601011#210101|601012#210101",90,10800,"253#-94",1,918]
[null,"5093",3,"困难5-9","5103",199,0,51919,205918,10019,"20001#20003#20011#20016#20004#20002#20018","17#3070|3#3105|14#3260|79#19","60103#1|60128#1|60138#1|60143#1",1004,20,"601011#400|601012#600","601011#210101|601012#210101",90,10800,"188#-71",1,919]
[null,"5103",3,"困难5-10","5113",199,0,51920,205919,10020,"20001#20003#20011#20016#20004#20002#20018","17#3070|3#3115|14#3260|79#19","60103#1|60128#1|60138#1|60143#1",1004,20,"601011#400|601012#600","601011#210101|601012#210101",90,10800,"109#-78",1,920]
[null,"5113",3,"困难5-11","5123",199,0,51921,205920,10021,"20001#20003#20011#20016#20004#20002#20018","17#3070|3#3115|14#3270|79#19","60103#1|60128#1|60138#1|60143#1",1004,20,"601011#400|601012#600","601011#210101|601012#210101",90,10800,"60#-128",1,921]
[null,"5123",3,"困难5-12","5133",199,0,51922,205921,10022,"20001#20003#20011#20016#20004#20002#20018","17#3080|3#3115|14#3270|79#19","60103#1|60128#1|60138#1|60143#1",1004,20,"601011#400|601012#600","601011#210101|601012#210101",90,10800,"79#-191",1,922]
[null,"5133",3,"困难5-13","5143",199,0,51923,205922,10023,"20001#20003#20011#20016#20004#20002#20018","17#3080|3#3125|14#3270|79#19","60103#1|60128#1|60138#1|60143#1",1004,20,"601011#400|601012#600","601011#210101|601012#210101",90,10800,"57#-245",1,923]
[null,"5143",3,"困难5-14","5153",199,0,51924,205923,10024,"20001#20003#20011#20016#20004#20002#20018","17#3080|3#3125|14#3280|79#19","60103#1|60128#1|60138#1|60143#1",1004,20,"601011#400|601012#600","601011#210101|601012#210101",90,10800,"5#-271",1,924]
[null,"5153",3,"困难5-15","5163",199,0,51925,205924,10025,"20001#20003#20011#20016#20004#20002#20018","17#3090|3#3125|14#3280|79#19","60103#1|60128#1|60138#1|60143#1",1004,20,"601011#400|601012#600","601011#210101|601012#210101",90,10800,"-61#-254",1,925]
[null,"5163",3,"困难5-16","5173",199,0,51926,205925,10026,"20001#20003#20011#20016#20004#20002#20018","17#3090|3#3135|14#3280|79#19","60103#1|60128#1|60138#1|60143#1",1004,20,"601011#400|601012#600","601011#210101|601012#210101",90,10800,"-117#-218",1,926]
[null,"5173",3,"困难5-17","5183",199,0,51927,205926,10027,"20001#20003#20011#20016#20004#20002#20018","17#3090|3#3135|14#3290|79#19","60103#1|60128#1|60138#1|60143#1",1004,20,"601011#400|601012#600","601011#210101|601012#210101",90,10800,"-184#-223",1,927]
[null,"5183",3,"困难5-18","5193",199,0,51928,205927,10028,"20001#20003#20011#20016#20004#20002#20018","17#3100|3#3135|14#3290|79#19","60103#1|60128#1|60138#1|60143#1",1004,20,"601011#400|601012#600","601011#210101|601012#210101",90,10800,"-238#-256",1,928]
[null,"5193",3,"困难5-19","5203",199,0,51929,205928,10029,"20001#20003#20011#20016#20004#20002#20018","17#3100|3#3145|14#3290|79#19","60103#1|60128#1|60138#1|60143#1",1004,20,"601011#400|601012#600","601011#210101|601012#210101",90,10800,"-304#-269",1,929]
[null,"5203",3,"困难5-20","5213",199,0,51930,205929,10030,"20001#20003#20011#20016#20004#20002#20018","17#3100|3#3145|14#3300|79#19","60103#1|60128#1|60138#1|60143#1",1004,20,"601011#400|601012#600","601011#210101|601012#210101",90,10800,"-369#-263",1,930]
[null,"5213",3,"困难5-21","5223",199,0,51931,205930,10031,"20001#20003#20011#20016#20004#20002#20018","17#3110|3#3145|14#3300|79#19","60103#1|60128#1|60138#1|60143#1",1004,20,"601011#400|601012#600","601011#210101|601012#210101",90,10800,"-417#-214",1,931]
[null,"5223",3,"困难5-22","5233",199,0,51932,205931,10032,"20001#20003#20011#20016#20004#20002#20018","17#3110|3#3155|14#3300|79#19","60103#1|60128#1|60138#1|60143#1",1004,20,"601011#400|601012#600","601011#210101|601012#210101",90,10800,"-376#-162",2,932]
[null,"5233",3,"困难5-23","5243",199,0,51933,205932,10033,"20001#20003#20011#20016#20004#20002#20018","17#3110|3#3155|14#3310|79#19","60103#1|60128#1|60138#1|60143#1",1004,20,"601011#400|601012#600","601011#210101|601012#210101",90,10800,"-303#-160",2,933]
[null,"5243",3,"困难5-24","5253",199,0,51934,205933,10034,"20001#20003#20011#20016#20004#20002#20018","17#3120|3#3155|14#3310|79#19","60103#1|60128#1|60138#1|60143#1",1004,20,"601011#400|601012#600","601011#210101|601012#210101",90,10800,"-238#-163",2,934]
[null,"5253",3,"困难5-25","5263",199,0,51935,205934,10035,"20001#20003#20011#20016#20004#20002#20018","17#3120|3#3165|14#3310|79#19","60103#1|60128#1|60138#1|60143#1",1004,20,"601011#400|601012#600","601011#210101|601012#210101",90,10800,"-169#-156",2,935]
[null,"5263",3,"困难5-26","5273",199,0,51936,205935,10036,"20001#20003#20011#20016#20004#20002#20018","17#3120|3#3165|14#3320|79#19","60103#1|60128#1|60138#1|60143#1",1004,20,"601011#400|601012#600","601011#210101|601012#210101",90,10800,"-138#-106",2,936]
[null,"5273",3,"困难5-27","5283",199,0,51937,205936,10037,"20001#20003#20011#20016#20004#20002#20018","17#3130|3#3165|14#3320|79#19","60103#1|60128#1|60138#1|60143#1",1004,20,"601011#400|601012#600","601011#210101|601012#210101",90,10800,"-143#-56",2,937]
[null,"5283",3,"困难5-28","5293",199,0,51938,205937,10038,"20001#20003#20011#20016#20004#20002#20018","17#3130|3#3175|14#3320|79#19","60103#1|60128#1|60138#1|60143#1",1004,20,"601011#400|601012#600","601011#210101|601012#210101",90,10800,"-86#-41",2,938]
[null,"5293",3,"困难5-29","5303",199,0,51939,205938,10039,"20001#20003#20011#20016#20004#20002#20018","17#3130|3#3175|14#3330|79#19","60103#1|60128#1|60138#1|60143#1",1004,20,"601011#400|601012#600","601011#210101|601012#210101",90,10800,"-109#9",1,939]
[null,"5303",3,"困难5-30","5313",199,0,51940,205939,10040,"20001#20003#20011#20016#20004#20002#20018","17#3140|3#3175|14#3330|79#19","60103#1|60128#1|60138#1|60143#1",1004,20,"601011#400|601012#600","601011#210101|601012#210101",90,10800,"-106#64",2,940]
[null,"5313",3,"困难5-31","5323",199,0,51941,205940,10041,"20001#20003#20011#20016#20004#20002#20018","17#3140|3#3185|14#3330|79#19","60103#1|60128#1|60138#1|60143#1",1004,20,"601011#400|601012#600","601011#210101|601012#210101",90,10800,"-43#79",2,941]
[null,"5323",3,"困难5-32","5333",199,0,51942,205941,10042,"20001#20003#20011#20016#20004#20002#20018","17#3140|3#3185|14#3340|79#19","60103#1|60128#1|60138#1|60143#1",1004,20,"601011#400|601012#600","601011#210101|601012#210101",90,10800,"24#69",2,942]
[null,"5333",3,"困难5-33","5343",199,0,51943,205942,10043,"20001#20003#20011#20016#20004#20002#20018","17#3150|3#3185|14#3340|79#19","60103#1|60128#1|60138#1|60143#1",1004,20,"601011#400|601012#600","601011#210101|601012#210101",90,10800,"89#52",2,943]
[null,"5343",3,"困难5-34","5353",199,0,51944,205943,10044,"20001#20003#20011#20016#20004#20002#20018","17#3150|3#3195|14#3340|79#19","60103#1|60128#1|60138#1|60143#1",1004,20,"601011#400|601012#600","601011#210101|601012#210101",90,10800,"155#44",2,944]
[null,"5353",3,"困难5-35","5363",199,0,51945,205944,10045,"20001#20003#20011#20016#20004#20002#20018","17#3150|3#3195|14#3350|79#19","60103#1|60128#1|60138#1|60143#1",1004,20,"601011#400|601012#600","601011#210101|601012#210101",90,10800,"220#61",2,945]
[null,"5363",3,"困难5-36","5373",199,0,51946,205945,10046,"20001#20003#20011#20016#20004#20002#20018","17#3160|3#3195|14#3350|79#19","60103#1|60128#1|60138#1|60143#1",1004,20,"601011#400|601012#600","601011#210101|601012#210101",90,10800,"204#95",1,946]
[null,"5373",3,"困难5-37","5383",199,0,51947,205946,10047,"20001#20003#20011#20016#20004#20002#20018","17#3160|3#3205|14#3350|79#19","60103#1|60128#1|60138#1|60143#1",1004,20,"601011#400|601012#600","601011#210101|601012#210101",90,10800,"179#130",2,947]
[null,"5383",3,"困难5-38","5393",199,0,51948,205947,10048,"20001#20003#20011#20016#20004#20002#20018","17#3160|3#3205|14#3360|79#19","60103#1|60128#1|60138#1|60143#1",1004,20,"601011#400|601012#600","601011#210101|601012#210101",90,10800,"237#154",2,948]
[null,"5393",3,"困难5-39","5403",199,0,51949,205948,10049,"20001#20003#20011#20016#20004#20002#20018","17#3170|3#3205|14#3360|79#19","60103#1|60128#1|60138#1|60143#1",1004,20,"601011#400|601012#600","601011#210101|601012#210101",90,10800,"274#180",2,949]
[null,"5403",3,"困难5-40","6013",199,0,51950,205949,10050,"20001#20003#20011#20016#20004#20002#20018","17#3170|3#3215|14#3360|79#19","60103#1|60128#1|60138#1|60143#1",1004,20,"601011#400|601012#600","601011#210101|601012#210101",90,10800,"279#236",2,950]
[null,"6013",3,"困难6-1","6023",199,1,51951,205950,10051,"20001#20003#20011#20016#20004#20002#20018","17#3170|3#3215|14#3370|79#19","60103#1|60128#1|60138#1|60143#1",1004,20,"601011#400|601012#600","601011#210101|601012#210101",90,10800,"132#-353",1,951]
[null,"6023",3,"困难6-2","6033",199,0,51952,205951,10052,"20001#20003#20011#20016#20004#20002#20018","17#3180|3#3215|14#3370|79#19","60103#1|60128#1|60138#1|60143#1",1004,20,"601011#400|601012#600","601011#210101|601012#210101",90,10800,"87#-349",1,952]
[null,"6033",3,"困难6-3","6043",199,0,51953,205952,10053,"20001#20003#20011#20016#20004#20002#20018","17#3180|3#3225|14#3370|79#19","60103#1|60128#1|60138#1|60143#1",1004,20,"601011#400|601012#600","601011#210101|601012#210101",90,10800,"38#-340",1,953]
[null,"6043",3,"困难6-4","6053",199,0,51954,205953,10054,"20001#20003#20011#20016#20004#20002#20018","17#3180|3#3225|14#3380|79#19","60103#1|60128#1|60138#1|60143#1",1004,20,"601011#400|601012#600","601011#210101|601012#210101",90,10800,"-4#-327",1,954]
[null,"6053",3,"困难6-5","6063",199,0,51955,205954,10055,"20001#20003#20011#20016#20004#20002#20018","17#3190|3#3225|14#3380|79#19","60103#1|60128#1|60138#1|60143#1",1004,20,"601011#400|601012#600","601011#210101|601012#210101",90,10800,"-38#-294",1,955]
[null,"6063",3,"困难6-6","6073",199,0,51956,205955,10056,"20001#20003#20011#20016#20004#20002#20018","17#3190|3#3235|14#3380|79#19","60103#1|60128#1|60138#1|60143#1",1004,20,"601011#400|601012#600","601011#210101|601012#210101",90,10800,"-2#-263",2,956]
[null,"6073",3,"困难6-7","6083",199,0,51957,205956,10057,"20001#20003#20011#20016#20004#20002#20018","17#3190|3#3235|14#3390|79#19","60103#1|60128#1|60138#1|60143#1",1004,20,"601011#400|601012#600","601011#210101|601012#210101",90,10800,"25#-231",2,957]
[null,"6083",3,"困难6-8","6093",199,0,51958,205957,10058,"20001#20003#20011#20016#20004#20002#20018","17#3200|3#3235|14#3390|79#19","60103#1|60128#1|60138#1|60143#1",1004,20,"601011#400|601012#600","601011#210101|601012#210101",90,10800,"-23#-211",1,958]
[null,"6093",3,"困难6-9","6103",199,0,51959,205958,10059,"20001#20003#20011#20016#20004#20002#20018","17#3200|3#3245|14#3390|79#19","60103#1|60128#1|60138#1|60143#1",1004,20,"601011#400|601012#600","601011#210101|601012#210101",90,10800,"-79#-212",1,959]
[null,"6103",3,"困难6-10","6113",199,0,51960,205959,10060,"20001#20003#20011#20016#20004#20002#20018","17#3200|3#3245|14#3400|79#19","60103#1|60128#1|60138#1|60143#1",1004,20,"601011#400|601012#600","601011#210101|601012#210101",90,10800,"-131#-213",1,960]
[null,"6113",3,"困难6-11","6123",199,0,51961,205960,10061,"20001#20003#20011#20016#20004#20002#20018","17#3210|3#3245|14#3400|79#19","60103#1|60128#1|60138#1|60143#1",1004,20,"601011#400|601012#600","601011#210101|601012#210101",90,10800,"-177#-198",1,961]
[null,"6123",3,"困难6-12","6133",199,0,51962,205961,10062,"20001#20003#20011#20016#20004#20002#20018","17#3210|3#3255|14#3400|79#19","60103#1|60128#1|60138#1|60143#1",1004,20,"601011#400|601012#600","601011#210101|601012#210101",90,10800,"-190#-163",1,962]
[null,"6133",3,"困难6-13","6143",199,0,51963,205962,10063,"20001#20003#20011#20016#20004#20002#20018","17#3210|3#3255|14#3410|79#19","60103#1|60128#1|60138#1|60143#1",1004,20,"601011#400|601012#600","601011#210101|601012#210101",90,10800,"-151#-139",2,963]
[null,"6143",3,"困难6-14","6153",199,0,51964,205963,10064,"20001#20003#20011#20016#20004#20002#20018","17#3220|3#3255|14#3410|79#19","60103#1|60128#1|60138#1|60143#1",1004,20,"601011#400|601012#600","601011#210101|601012#210101",90,10800,"-103#-139",2,964]
[null,"6153",3,"困难6-15","6163",199,0,51965,205964,10065,"20001#20003#20011#20016#20004#20002#20018","17#3220|3#3265|14#3410|79#19","60103#1|60128#1|60138#1|60143#1",1004,20,"601011#400|601012#600","601011#210101|601012#210101",90,10800,"-51#-149",2,965]
[null,"6163",3,"困难6-16","6173",199,0,51966,205965,10066,"20001#20003#20011#20016#20004#20002#20018","17#3220|3#3265|14#3420|79#19","60103#1|60128#1|60138#1|60143#1",1004,20,"601011#400|601012#600","601011#210101|601012#210101",90,10800,"3#-157",2,966]
[null,"6173",3,"困难6-17","6183",199,0,51967,205966,10067,"20001#20003#20011#20016#20004#20002#20018","17#3230|3#3265|14#3420|79#19","60103#1|60128#1|60138#1|60143#1",1004,20,"601011#400|601012#600","601011#210101|601012#210101",90,10800,"52#-168",2,967]
[null,"6183",3,"困难6-18","6193",199,0,51968,205967,10068,"20001#20003#20011#20016#20004#20002#20018","17#3230|3#3275|14#3420|79#19","60103#1|60128#1|60138#1|60143#1",1004,20,"601011#400|601012#600","601011#210101|601012#210101",90,10800,"111#-170",2,968]
[null,"6193",3,"困难6-19","6203",199,0,51969,205968,10069,"20001#20003#20011#20016#20004#20002#20018","17#3230|3#3275|14#3430|79#19","60103#1|60128#1|60138#1|60143#1",1004,20,"601011#400|601012#600","601011#210101|601012#210101",90,10800,"162#-162",2,969]
[null,"6203",3,"困难6-20","6213",199,0,51970,205969,10070,"20001#20003#20011#20016#20004#20002#20018","17#3240|3#3275|14#3430|79#19","60103#1|60128#1|60138#1|60143#1",1004,20,"601011#400|601012#600","601011#210101|601012#210101",90,10800,"177#-124",1,970]
[null,"6213",3,"困难6-21","6223",199,0,51971,205970,10071,"20001#20003#20011#20016#20004#20002#20018","17#3240|3#3285|14#3430|79#19","60103#1|60128#1|60138#1|60143#1",1004,20,"601011#400|601012#600","601011#210101|601012#210101",90,10800,"132#-100",1,971]
[null,"6223",3,"困难6-22","6233",199,0,51972,205971,10072,"20001#20003#20011#20016#20004#20002#20018","17#3240|3#3285|14#3440|79#19","60103#1|60128#1|60138#1|60143#1",1004,20,"601011#400|601012#600","601011#210101|601012#210101",90,10800,"85#-83",1,972]
[null,"6233",3,"困难6-23","6243",199,0,51973,205972,10073,"20001#20003#20011#20016#20004#20002#20018","17#3250|3#3285|14#3440|79#19","60103#1|60128#1|60138#1|60143#1",1004,20,"601011#400|601012#600","601011#210101|601012#210101",90,10800,"79#-40",2,973]
[null,"6243",3,"困难6-24","6253",199,0,51974,205973,10074,"20001#20003#20011#20016#20004#20002#20018","17#3250|3#3295|14#3440|79#19","60103#1|60128#1|60138#1|60143#1",1004,20,"601011#400|601012#600","601011#210101|601012#210101",90,10800,"128#-28",2,974]
[null,"6253",3,"困难6-25","6263",199,0,51975,205974,10075,"20001#20003#20011#20016#20004#20002#20018","17#3250|3#3295|14#3450|79#19","60103#1|60128#1|60138#1|60143#1",1004,20,"601011#400|601012#600","601011#210101|601012#210101",90,10800,"179#-37",2,975]
[null,"6263",3,"困难6-26","6273",199,0,51976,205975,10076,"20001#20003#20011#20016#20004#20002#20018","17#3260|3#3295|14#3450|79#19","60103#1|60128#1|60138#1|60143#1",1004,20,"601011#400|601012#600","601011#210101|601012#210101",90,10800,"234#-37",2,976]
[null,"6273",3,"困难6-27","6283",199,0,51977,205976,10077,"20001#20003#20011#20016#20004#20002#20018","17#3260|3#3305|14#3450|79#19","60103#1|60128#1|60138#1|60143#1",1004,20,"601011#400|601012#600","601011#210101|601012#210101",90,10800,"273#-30",2,977]
[null,"6283",3,"困难6-28","6293",199,0,51978,205977,10078,"20001#20003#20011#20016#20004#20002#20018","17#3260|3#3305|14#3460|79#19","60103#1|60128#1|60138#1|60143#1",1004,20,"601011#400|601012#600","601011#210101|601012#210101",90,10800,"291#6",1,978]
[null,"6293",3,"困难6-29","6303",199,0,51979,205978,10079,"20001#20003#20011#20016#20004#20002#20018","17#3270|3#3305|14#3460|79#19","60103#1|60128#1|60138#1|60143#1",1004,20,"601011#400|601012#600","601011#210101|601012#210101",90,10800,"257#37",1,979]
[null,"6303",3,"困难6-30","6313",199,0,51980,205979,10080,"20001#20003#20011#20016#20004#20002#20018","17#3270|3#3315|14#3460|79#19","60103#1|60128#1|60138#1|60143#1",1004,20,"601011#400|601012#600","601011#210101|601012#210101",90,10800,"209#54",1,980]
[null,"6313",3,"困难6-31","6323",199,0,51981,205980,10081,"20001#20003#20011#20016#20004#20002#20018","17#3270|3#3315|14#3470|79#19","60103#1|60128#1|60138#1|60143#1",1004,20,"601011#400|601012#600","601011#210101|601012#210101",90,10800,"163#60",1,981]
[null,"6323",3,"困难6-32","6333",199,0,51982,205981,10082,"20001#20003#20011#20016#20004#20002#20018","17#3280|3#3315|14#3470|79#19","60103#1|60128#1|60138#1|60143#1",1004,20,"601011#400|601012#600","601011#210101|601012#210101",90,10800,"120#73",1,982]
[null,"6333",3,"困难6-33","6343",199,0,51983,205982,10083,"20001#20003#20011#20016#20004#20002#20018","17#3280|3#3325|14#3470|79#19","60103#1|60128#1|60138#1|60143#1",1004,20,"601011#400|601012#600","601011#210101|601012#210101",90,10800,"83#95",1,983]
[null,"6343",3,"困难6-34","6353",199,0,51984,205983,10084,"20001#20003#20011#20016#20004#20002#20018","17#3280|3#3325|14#3480|79#19","60103#1|60128#1|60138#1|60143#1",1004,20,"601011#400|601012#600","601011#210101|601012#210101",90,10800,"57#121",1,984]
[null,"6353",3,"困难6-35","6363",199,0,51985,205984,10085,"20001#20003#20011#20016#20004#20002#20018","17#3290|3#3325|14#3480|79#19","60103#1|60128#1|60138#1|60143#1",1004,20,"601011#400|601012#600","601011#210101|601012#210101",90,10800,"33#160",1,985]
[null,"6363",3,"困难6-36","6373",199,0,51986,205985,10086,"20001#20003#20011#20016#20004#20002#20018","17#3290|3#3335|14#3480|79#19","60103#1|60128#1|60138#1|60143#1",1004,20,"601011#400|601012#600","601011#210101|601012#210101",90,10800,"1#199",1,986]
[null,"6373",3,"困难6-37","6383",199,0,51987,205986,10087,"20001#20003#20011#20016#20004#20002#20018","17#3290|3#3335|14#3490|79#19","60103#1|60128#1|60138#1|60143#1",1004,20,"601011#400|601012#600","601011#210101|601012#210101",90,10800,"-33#232",1,987]
[null,"6383",3,"困难6-38","6393",199,0,51988,205987,10088,"20001#20003#20011#20016#20004#20002#20018","17#3300|3#3335|14#3490|79#19","60103#1|60128#1|60138#1|60143#1",1004,20,"601011#400|601012#600","601011#210101|601012#210101",90,10800,"-73#257",1,988]
[null,"6393",3,"困难6-39","6403",199,0,51989,205988,10089,"20001#20003#20011#20016#20004#20002#20018","17#3300|3#3345|14#3490|79#19","60103#1|60128#1|60138#1|60143#1",1004,20,"601011#400|601012#600","601011#210101|601012#210101",90,10800,"-110#272",1,989]
[null,"6403",3,"困难6-40","7013",199,0,51990,205989,10090,"20001#20003#20011#20016#20004#20002#20018","17#3300|3#3345|14#3500|79#19","60103#1|60128#1|60138#1|60143#1",1004,20,"601011#400|601012#600","601011#210101|601012#210101",90,10800,"-152#282",1,990]
[null,"7013",3,"困难7-1","7023",199,1,51991,205990,10091,"20001#20003#20011#20016#20004#20002#20018","17#3310|3#3345|14#3500|79#19","60103#1|60128#1|60138#1|60143#1",1004,20,"601011#400|601012#600","601011#210101|601012#210101",90,10800,"-272#-254",2,991]
[null,"7023",3,"困难7-2","7033",199,0,51992,205991,10092,"20001#20003#20011#20016#20004#20002#20018","17#3310|3#3355|14#3500|79#19","60103#1|60128#1|60138#1|60143#1",1004,20,"601011#400|601012#600","601011#210101|601012#210101",90,10800,"-216#-269",2,992]
[null,"7033",3,"困难7-3","7043",199,0,51993,205992,10093,"20001#20003#20011#20016#20004#20002#20018","17#3310|3#3355|14#3510|79#19","60103#1|60128#1|60138#1|60143#1",1004,20,"601011#400|601012#600","601011#210101|601012#210101",90,10800,"-164#-275",2,993]
[null,"7043",3,"困难7-4","7053",199,0,51994,205993,10094,"20001#20003#20011#20016#20004#20002#20018","17#3320|3#3355|14#3510|79#19","60103#1|60128#1|60138#1|60143#1",1004,20,"601011#400|601012#600","601011#210101|601012#210101",90,10800,"-112#-266",2,994]
[null,"7053",3,"困难7-5","7063",199,0,51995,205994,10095,"20001#20003#20011#20016#20004#20002#20018","17#3320|3#3365|14#3510|79#19","60103#1|60128#1|60138#1|60143#1",1004,20,"601011#400|601012#600","601011#210101|601012#210101",90,10800,"-91#-226",1,995]
[null,"7063",3,"困难7-6","7073",199,0,51996,205995,10096,"20001#20003#20011#20016#20004#20002#20018","17#3320|3#3365|14#3520|79#19","60103#1|60128#1|60138#1|60143#1",1004,20,"601011#400|601012#600","601011#210101|601012#210101",90,10800,"-124#-179",1,996]
[null,"7073",3,"困难7-7","7083",199,0,51997,205996,10097,"20001#20003#20011#20016#20004#20002#20018","17#3330|3#3365|14#3520|79#19","60103#1|60128#1|60138#1|60143#1",1004,20,"601011#400|601012#600","601011#210101|601012#210101",90,10800,"-73#-151",2,997]
[null,"7083",3,"困难7-8","7093",199,0,51998,205997,10098,"20001#20003#20011#20016#20004#20002#20018","17#3330|3#3375|14#3520|79#19","60103#1|60128#1|60138#1|60143#1",1004,20,"601011#400|601012#600","601011#210101|601012#210101",90,10800,"-17#-163",2,998]
[null,"7093",3,"困难7-9","7103",199,0,51999,205998,10099,"20001#20003#20011#20016#20004#20002#20018","17#3330|3#3375|14#3530|79#19","60103#1|60128#1|60138#1|60143#1",1004,20,"601011#400|601012#600","601011#210101|601012#210101",90,10800,"39#-193",2,999]
[null,"7103",3,"困难7-10","7113",199,0,52000,205999,10100,"20001#20003#20011#20016#20004#20002#20018","17#3340|3#3375|14#3530|79#19","60103#1|60128#1|60138#1|60143#1",1004,20,"601011#400|601012#600","601011#210101|601012#210101",90,10800,"83#-232",2,1000]
[null,"7113",3,"困难7-11","7123",199,0,52001,205999,10100,"20001#20003#20011#20016#20004#20002#20018","17#3340|3#3375|14#3530|79#19","60103#1|60128#1|60138#1|60143#1",1004,20,"601011#400|601012#600","601011#210101|601012#210101",90,10800,"135#-268",2,1001]
[null,"7123",3,"困难7-12","7133",199,0,52002,205999,10100,"20001#20003#20011#20016#20004#20002#20018","17#3340|3#3375|14#3530|79#19","60103#1|60128#1|60138#1|60143#1",1004,20,"601011#400|601012#600","601011#210101|601012#210101",90,10800,"187#-294",2,1002]
[null,"7133",3,"困难7-13","7143",199,0,52003,205999,10100,"20001#20003#20011#20016#20004#20002#20018","17#3340|3#3375|14#3530|79#19","60103#1|60128#1|60138#1|60143#1",1004,20,"601011#400|601012#600","601011#210101|601012#210101",90,10800,"248#-311",2,1003]
[null,"7143",3,"困难7-14","7153",199,0,52004,205999,10100,"20001#20003#20011#20016#20004#20002#20018","17#3340|3#3375|14#3530|79#19","60103#1|60128#1|60138#1|60143#1",1004,20,"601011#400|601012#600","601011#210101|601012#210101",90,10800,"301#-318",2,1004]
[null,"7153",3,"困难7-15","7163",199,0,52005,205999,10100,"20001#20003#20011#20016#20004#20002#20018","17#3340|3#3375|14#3530|79#19","60103#1|60128#1|60138#1|60143#1",1004,20,"601011#400|601012#600","601011#210101|601012#210101",90,10800,"357#-312",2,1005]
[null,"7163",3,"困难7-16","7173",199,0,52006,205999,10100,"20001#20003#20011#20016#20004#20002#20018","17#3340|3#3375|14#3530|79#19","60103#1|60128#1|60138#1|60143#1",1004,20,"601011#400|601012#600","601011#210101|601012#210101",90,10800,"393#-268",1,1006]
[null,"7173",3,"困难7-17","7183",199,0,52007,205999,10100,"20001#20003#20011#20016#20004#20002#20018","17#3340|3#3375|14#3530|79#19","60103#1|60128#1|60138#1|60143#1",1004,20,"601011#400|601012#600","601011#210101|601012#210101",90,10800,"364#-223",1,1007]
[null,"7183",3,"困难7-18","7193",199,0,52008,205999,10100,"20001#20003#20011#20016#20004#20002#20018","17#3340|3#3375|14#3530|79#19","60103#1|60128#1|60138#1|60143#1",1004,20,"601011#400|601012#600","601011#210101|601012#210101",90,10800,"321#-184",1,1008]
[null,"7193",3,"困难7-19","7203",199,0,52009,205999,10100,"20001#20003#20011#20016#20004#20002#20018","17#3340|3#3375|14#3530|79#19","60103#1|60128#1|60138#1|60143#1",1004,20,"601011#400|601012#600","601011#210101|601012#210101",90,10800,"370#-159",2,1009]
[null,"7203",3,"困难7-20","7213",199,0,52010,205999,10100,"20001#20003#20011#20016#20004#20002#20018","17#3340|3#3375|14#3530|79#19","60103#1|60128#1|60138#1|60143#1",1004,20,"601011#400|601012#600","601011#210101|601012#210101",90,10800,"352#-116",1,1010]
[null,"7213",3,"困难7-21","7223",199,0,52011,205999,10100,"20001#20003#20011#20016#20004#20002#20018","17#3340|3#3375|14#3530|79#19","60103#1|60128#1|60138#1|60143#1",1004,20,"601011#400|601012#600","601011#210101|601012#210101",90,10800,"293#-117",1,1011]
[null,"7223",3,"困难7-22","7233",199,0,52012,205999,10100,"20001#20003#20011#20016#20004#20002#20018","17#3340|3#3375|14#3530|79#19","60103#1|60128#1|60138#1|60143#1",1004,20,"601011#400|601012#600","601011#210101|601012#210101",90,10800,"242#-104",1,1012]
[null,"7233",3,"困难7-23","7243",199,0,52013,205999,10100,"20001#20003#20011#20016#20004#20002#20018","17#3340|3#3375|14#3530|79#19","60103#1|60128#1|60138#1|60143#1",1004,20,"601011#400|601012#600","601011#210101|601012#210101",90,10800,"196#-75",1,1013]
[null,"7243",3,"困难7-24","7253",199,0,52014,205999,10100,"20001#20003#20011#20016#20004#20002#20018","17#3340|3#3375|14#3530|79#19","60103#1|60128#1|60138#1|60143#1",1004,20,"601011#400|601012#600","601011#210101|601012#210101",90,10800,"136#-61",1,1014]
[null,"7253",3,"困难7-25","7263",199,0,52015,205999,10100,"20001#20003#20011#20016#20004#20002#20018","17#3340|3#3375|14#3530|79#19","60103#1|60128#1|60138#1|60143#1",1004,20,"601011#400|601012#600","601011#210101|601012#210101",90,10800,"83#-86",1,1015]
[null,"7263",3,"困难7-26","7273",199,0,52016,205999,10100,"20001#20003#20011#20016#20004#20002#20018","17#3340|3#3375|14#3530|79#19","60103#1|60128#1|60138#1|60143#1",1004,20,"601011#400|601012#600","601011#210101|601012#210101",90,10800,"28#-91",1,1016]
[null,"7273",3,"困难7-27","7283",199,0,52017,205999,10100,"20001#20003#20011#20016#20004#20002#20018","17#3340|3#3375|14#3530|79#19","60103#1|60128#1|60138#1|60143#1",1004,20,"601011#400|601012#600","601011#210101|601012#210101",90,10800,"-29#-87",1,1017]
[null,"7283",3,"困难7-28","7293",199,0,52018,205999,10100,"20001#20003#20011#20016#20004#20002#20018","17#3340|3#3375|14#3530|79#19","60103#1|60128#1|60138#1|60143#1",1004,20,"601011#400|601012#600","601011#210101|601012#210101",90,10800,"-82#-80",1,1018]
[null,"7293",3,"困难7-29","7303",199,0,52019,205999,10100,"20001#20003#20011#20016#20004#20002#20018","17#3340|3#3375|14#3530|79#19","60103#1|60128#1|60138#1|60143#1",1004,20,"601011#400|601012#600","601011#210101|601012#210101",90,10800,"-132#-64",1,1019]
[null,"7303",3,"困难7-30","7313",199,0,52020,205999,10100,"20001#20003#20011#20016#20004#20002#20018","17#3340|3#3375|14#3530|79#19","60103#1|60128#1|60138#1|60143#1",1004,20,"601011#400|601012#600","601011#210101|601012#210101",90,10800,"-186#-48",1,1020]
[null,"7313",3,"困难7-31","7323",199,0,52021,205999,10100,"20001#20003#20011#20016#20004#20002#20018","17#3340|3#3375|14#3530|79#19","60103#1|60128#1|60138#1|60143#1",1004,20,"601011#400|601012#600","601011#210101|601012#210101",90,10800,"-233#-14",1,1021]
[null,"7323",3,"困难7-32","7333",199,0,52022,205999,10100,"20001#20003#20011#20016#20004#20002#20018","17#3340|3#3375|14#3530|79#19","60103#1|60128#1|60138#1|60143#1",1004,20,"601011#400|601012#600","601011#210101|601012#210101",90,10800,"-227#35",2,1022]
[null,"7333",3,"困难7-33","7343",199,0,52023,205999,10100,"20001#20003#20011#20016#20004#20002#20018","17#3340|3#3375|14#3530|79#19","60103#1|60128#1|60138#1|60143#1",1004,20,"601011#400|601012#600","601011#210101|601012#210101",90,10800,"-174#58",2,1023]
[null,"7343",3,"困难7-34","7353",199,0,52024,205999,10100,"20001#20003#20011#20016#20004#20002#20018","17#3340|3#3375|14#3530|79#19","60103#1|60128#1|60138#1|60143#1",1004,20,"601011#400|601012#600","601011#210101|601012#210101",90,10800,"-121#61",2,1024]
[null,"7353",3,"困难7-35","7363",199,0,52025,205999,10100,"20001#20003#20011#20016#20004#20002#20018","17#3340|3#3375|14#3530|79#19","60103#1|60128#1|60138#1|60143#1",1004,20,"601011#400|601012#600","601011#210101|601012#210101",90,10800,"-64#47",2,1025]
[null,"7363",3,"困难7-36","7373",199,0,52026,205999,10100,"20001#20003#20011#20016#20004#20002#20018","17#3340|3#3375|14#3530|79#19","60103#1|60128#1|60138#1|60143#1",1004,20,"601011#400|601012#600","601011#210101|601012#210101",90,10800,"3#50",2,1026]
[null,"7373",3,"困难7-37","7383",199,0,52027,205999,10100,"20001#20003#20011#20016#20004#20002#20018","17#3340|3#3375|14#3530|79#19","60103#1|60128#1|60138#1|60143#1",1004,20,"601011#400|601012#600","601011#210101|601012#210101",90,10800,"20#94",2,1027]
[null,"7383",3,"困难7-38","7393",199,0,52028,205999,10100,"20001#20003#20011#20016#20004#20002#20018","17#3340|3#3375|14#3530|79#19","60103#1|60128#1|60138#1|60143#1",1004,20,"601011#400|601012#600","601011#210101|601012#210101",90,10800,"50#139",2,1028]
[null,"7393",3,"困难7-39","7403",199,0,52029,205999,10100,"20001#20003#20011#20016#20004#20002#20018","17#3340|3#3375|14#3530|79#19","60103#1|60128#1|60138#1|60143#1",1004,20,"601011#400|601012#600","601011#210101|601012#210101",90,10800,"105#141",2,1029]
[null,"7403",3,"困难7-40","8013",199,0,52030,205999,10100,"20001#20003#20011#20016#20004#20002#20018","17#3340|3#3375|14#3530|79#19","60103#1|60128#1|60138#1|60143#1",1004,20,"601011#400|601012#600","601011#210101|601012#210101",90,10800,"166#149",2,1030]
[null,"8013",3,"困难8-1","8023",199,1,52031,205999,10100,"20001#20003#20011#20016#20004#20002#20018","17#3340|3#3375|14#3530|79#19","60103#1|60128#1|60138#1|60143#1",1004,20,"601011#400|601012#600","601011#210101|601012#210101",90,10800,"160#-322",1,1031]
[null,"8023",3,"困难8-2","8033",199,0,52032,205999,10100,"20001#20003#20011#20016#20004#20002#20018","17#3340|3#3375|14#3530|79#19","60103#1|60128#1|60138#1|60143#1",1004,20,"601011#400|601012#600","601011#210101|601012#210101",90,10800,"66#-333",1,1032]
[null,"8033",3,"困难8-3","8043",199,0,52033,205999,10100,"20001#20003#20011#20016#20004#20002#20018","17#3340|3#3375|14#3530|79#19","60103#1|60128#1|60138#1|60143#1",1004,20,"601011#400|601012#600","601011#210101|601012#210101",90,10800,"-18#-358",1,1033]
[null,"8043",3,"困难8-4","8053",199,0,52034,205999,10100,"20001#20003#20011#20016#20004#20002#20018","17#3340|3#3375|14#3530|79#19","60103#1|60128#1|60138#1|60143#1",1004,20,"601011#400|601012#600","601011#210101|601012#210101",90,10800,"-98#-358",1,1034]
[null,"8053",3,"困难8-5","8063",199,0,52035,205999,10100,"20001#20003#20011#20016#20004#20002#20018","17#3340|3#3375|14#3530|79#19","60103#1|60128#1|60138#1|60143#1",1004,20,"601011#400|601012#600","601011#210101|601012#210101",90,10800,"-180#-336",1,1035]
[null,"8063",3,"困难8-6","8073",199,0,52036,205999,10100,"20001#20003#20011#20016#20004#20002#20018","17#3340|3#3375|14#3530|79#19","60103#1|60128#1|60138#1|60143#1",1004,20,"601011#400|601012#600","601011#210101|601012#210101",90,10800,"-252#-294",1,1036]
[null,"8073",3,"困难8-7","8083",199,0,52037,205999,10100,"20001#20003#20011#20016#20004#20002#20018","17#3340|3#3375|14#3530|79#19","60103#1|60128#1|60138#1|60143#1",1004,20,"601011#400|601012#600","601011#210101|601012#210101",90,10800,"-325#-275",1,1037]
[null,"8083",3,"困难8-8","8093",199,0,52038,205999,10100,"20001#20003#20011#20016#20004#20002#20018","17#3340|3#3375|14#3530|79#19","60103#1|60128#1|60138#1|60143#1",1004,20,"601011#400|601012#600","601011#210101|601012#210101",90,10800,"-422#-261",1,1038]
[null,"8093",3,"困难8-9","8103",199,0,52039,205999,10100,"20001#20003#20011#20016#20004#20002#20018","17#3340|3#3375|14#3530|79#19","60103#1|60128#1|60138#1|60143#1",1004,20,"601011#400|601012#600","601011#210101|601012#210101",90,10800,"-478#-198",1,1039]
[null,"8103",3,"困难8-10","8113",199,0,52040,205999,10100,"20001#20003#20011#20016#20004#20002#20018","17#3340|3#3375|14#3530|79#19","60103#1|60128#1|60138#1|60143#1",1004,20,"601011#400|601012#600","601011#210101|601012#210101",90,10800,"-427#-147",2,1040]
[null,"8113",3,"困难8-11","8123",199,0,52041,205999,10100,"20001#20003#20011#20016#20004#20002#20018","17#3340|3#3375|14#3530|79#19","60103#1|60128#1|60138#1|60143#1",1004,20,"601011#400|601012#600","601011#210101|601012#210101",90,10800,"-350#-181",2,1041]
[null,"8123",3,"困难8-12","8133",199,0,52042,205999,10100,"20001#20003#20011#20016#20004#20002#20018","17#3340|3#3375|14#3530|79#19","60103#1|60128#1|60138#1|60143#1",1004,20,"601011#400|601012#600","601011#210101|601012#210101",90,10800,"-267#-210",2,1042]
[null,"8133",3,"困难8-13","8143",199,0,52043,205999,10100,"20001#20003#20011#20016#20004#20002#20018","17#3340|3#3375|14#3530|79#19","60103#1|60128#1|60138#1|60143#1",1004,20,"601011#400|601012#600","601011#210101|601012#210101",90,10800,"-196#-190",2,1043]
[null,"8143",3,"困难8-14","8153",199,0,52044,205999,10100,"20001#20003#20011#20016#20004#20002#20018","17#3340|3#3375|14#3530|79#19","60103#1|60128#1|60138#1|60143#1",1004,20,"601011#400|601012#600","601011#210101|601012#210101",90,10800,"-185#-132",1,1044]
[null,"8153",3,"困难8-15","8163",199,0,52045,205999,10100,"20001#20003#20011#20016#20004#20002#20018","17#3340|3#3375|14#3530|79#19","60103#1|60128#1|60138#1|60143#1",1004,20,"601011#400|601012#600","601011#210101|601012#210101",90,10800,"-247#-86",1,1045]
[null,"8163",3,"困难8-16","8173",199,0,52046,205999,10100,"20001#20003#20011#20016#20004#20002#20018","17#3340|3#3375|14#3530|79#19","60103#1|60128#1|60138#1|60143#1",1004,20,"601011#400|601012#600","601011#210101|601012#210101",90,10800,"-242#-20",2,1046]
[null,"8173",3,"困难8-17","8183",199,0,52047,205999,10100,"20001#20003#20011#20016#20004#20002#20018","17#3340|3#3375|14#3530|79#19","60103#1|60128#1|60138#1|60143#1",1004,20,"601011#400|601012#600","601011#210101|601012#210101",90,10800,"-195#20",2,1047]
[null,"8183",3,"困难8-18","8193",199,0,52048,205999,10100,"20001#20003#20011#20016#20004#20002#20018","17#3340|3#3375|14#3530|79#19","60103#1|60128#1|60138#1|60143#1",1004,20,"601011#400|601012#600","601011#210101|601012#210101",90,10800,"-125#35",2,1048]
[null,"8193",3,"困难8-19","8203",199,0,52049,205999,10100,"20001#20003#20011#20016#20004#20002#20018","17#3340|3#3375|14#3530|79#19","60103#1|60128#1|60138#1|60143#1",1004,20,"601011#400|601012#600","601011#210101|601012#210101",90,10800,"-55#20",2,1049]
[null,"8203",3,"困难8-20","8213",199,0,52050,205999,10100,"20001#20003#20011#20016#20004#20002#20018","17#3340|3#3375|14#3530|79#19","60103#1|60128#1|60138#1|60143#1",1004,20,"601011#400|601012#600","601011#210101|601012#210101",90,10800,"-18#-42",2,1050]
[null,"8213",3,"困难8-21","8223",199,0,52051,205999,10100,"20001#20003#20011#20016#20004#20002#20018","17#3340|3#3375|14#3530|79#19","60103#1|60128#1|60138#1|60143#1",1004,20,"601011#400|601012#600","601011#210101|601012#210101",90,10800,"-34#-105",2,1051]
[null,"8223",3,"困难8-22","8233",199,0,52052,205999,10100,"20001#20003#20011#20016#20004#20002#20018","17#3340|3#3375|14#3530|79#19","60103#1|60128#1|60138#1|60143#1",1004,20,"601011#400|601012#600","601011#210101|601012#210101",90,10800,"-9#-169",2,1052]
[null,"8233",3,"困难8-23","8243",199,0,52053,205999,10100,"20001#20003#20011#20016#20004#20002#20018","17#3340|3#3375|14#3530|79#19","60103#1|60128#1|60138#1|60143#1",1004,20,"601011#400|601012#600","601011#210101|601012#210101",90,10800,"52#-197",2,1053]
[null,"8243",3,"困难8-24","8253",199,0,52054,205999,10100,"20001#20003#20011#20016#20004#20002#20018","17#3340|3#3375|14#3530|79#19","60103#1|60128#1|60138#1|60143#1",1004,20,"601011#400|601012#600","601011#210101|601012#210101",90,10800,"120#-195",2,1054]
[null,"8253",3,"困难8-25","8263",199,0,52055,205999,10100,"20001#20003#20011#20016#20004#20002#20018","17#3340|3#3375|14#3530|79#19","60103#1|60128#1|60138#1|60143#1",1004,20,"601011#400|601012#600","601011#210101|601012#210101",90,10800,"187#-171",2,1055]
[null,"8263",3,"困难8-26","8273",199,0,52056,205999,10100,"20001#20003#20011#20016#20004#20002#20018","17#3340|3#3375|14#3530|79#19","60103#1|60128#1|60138#1|60143#1",1004,20,"601011#400|601012#600","601011#210101|601012#210101",90,10800,"254#-173",2,1056]
[null,"8273",3,"困难8-27","8283",199,0,52057,205999,10100,"20001#20003#20011#20016#20004#20002#20018","17#3340|3#3375|14#3530|79#19","60103#1|60128#1|60138#1|60143#1",1004,20,"601011#400|601012#600","601011#210101|601012#210101",90,10800,"321#-195",2,1057]
[null,"8283",3,"困难8-28","8293",199,0,52058,205999,10100,"20001#20003#20011#20016#20004#20002#20018","17#3340|3#3375|14#3530|79#19","60103#1|60128#1|60138#1|60143#1",1004,20,"601011#400|601012#600","601011#210101|601012#210101",90,10800,"383#-199",2,1058]
[null,"8293",3,"困难8-29","8303",199,0,52059,205999,10100,"20001#20003#20011#20016#20004#20002#20018","17#3340|3#3375|14#3530|79#19","60103#1|60128#1|60138#1|60143#1",1004,20,"601011#400|601012#600","601011#210101|601012#210101",90,10800,"444#-183",2,1059]
[null,"8303",3,"困难8-30","8313",199,0,52060,205999,10100,"20001#20003#20011#20016#20004#20002#20018","17#3340|3#3375|14#3530|79#19","60103#1|60128#1|60138#1|60143#1",1004,20,"601011#400|601012#600","601011#210101|601012#210101",90,10800,"469#-129",2,1060]
[null,"8313",3,"困难8-31","8323",199,0,52061,205999,10100,"20001#20003#20011#20016#20004#20002#20018","17#3340|3#3375|14#3530|79#19","60103#1|60128#1|60138#1|60143#1",1004,20,"601011#400|601012#600","601011#210101|601012#210101",90,10800,"443#-71",1,1061]
[null,"8323",3,"困难8-32","8333",199,0,52062,205999,10100,"20001#20003#20011#20016#20004#20002#20018","17#3340|3#3375|14#3530|79#19","60103#1|60128#1|60138#1|60143#1",1004,20,"601011#400|601012#600","601011#210101|601012#210101",90,10800,"392#-42",1,1062]
[null,"8333",3,"困难8-33","8343",199,0,52063,205999,10100,"20001#20003#20011#20016#20004#20002#20018","17#3340|3#3375|14#3530|79#19","60103#1|60128#1|60138#1|60143#1",1004,20,"601011#400|601012#600","601011#210101|601012#210101",90,10800,"326#-27",1,1063]
[null,"8343",3,"困难8-34","8353",199,0,52064,205999,10100,"20001#20003#20011#20016#20004#20002#20018","17#3340|3#3375|14#3530|79#19","60103#1|60128#1|60138#1|60143#1",1004,20,"601011#400|601012#600","601011#210101|601012#210101",90,10800,"259#-28",1,1064]
[null,"8353",3,"困难8-35","8363",199,0,52065,205999,10100,"20001#20003#20011#20016#20004#20002#20018","17#3340|3#3375|14#3530|79#19","60103#1|60128#1|60138#1|60143#1",1004,20,"601011#400|601012#600","601011#210101|601012#210101",90,10800,"182#-19",1,1065]
[null,"8363",3,"困难8-36","8373",199,0,52066,205999,10100,"20001#20003#20011#20016#20004#20002#20018","17#3340|3#3375|14#3530|79#19","60103#1|60128#1|60138#1|60143#1",1004,20,"601011#400|601012#600","601011#210101|601012#210101",90,10800,"136#23",1,1066]
[null,"8373",3,"困难8-37","8383",199,0,52067,205999,10100,"20001#20003#20011#20016#20004#20002#20018","17#3340|3#3375|14#3530|79#19","60103#1|60128#1|60138#1|60143#1",1004,20,"601011#400|601012#600","601011#210101|601012#210101",90,10800,"160#75",2,1067]
[null,"8383",3,"困难8-38","8393",199,0,52068,205999,10100,"20001#20003#20011#20016#20004#20002#20018","17#3340|3#3375|14#3530|79#19","60103#1|60128#1|60138#1|60143#1",1004,20,"601011#400|601012#600","601011#210101|601012#210101",90,10800,"219#99",2,1068]
[null,"8393",3,"困难8-39","8403",199,0,52069,205999,10100,"20001#20003#20011#20016#20004#20002#20018","17#3340|3#3375|14#3530|79#19","60103#1|60128#1|60138#1|60143#1",1004,20,"601011#400|601012#600","601011#210101|601012#210101",90,10800,"286#108",2,1069]
[null,"8403",3,"困难8-40","9013",199,0,52070,205999,10100,"20001#20003#20011#20016#20004#20002#20018","17#3340|3#3375|14#3530|79#19","60103#1|60128#1|60138#1|60143#1",1004,20,"601011#400|601012#600","601011#210101|601012#210101",90,10800,"362#126",2,1070]
[null,"9013",3,"困难9-1","9023",199,1,52071,205999,10100,"20001#20003#20011#20016#20004#20002#20018","17#3340|3#3375|14#3530|79#19","60103#1|60128#1|60138#1|60143#1",1004,20,"601011#400|601012#600","601011#210101|601012#210101",90,10800,"415#-287",2,1071]
[null,"9023",3,"困难9-2","9033",199,0,52072,205999,10100,"20001#20003#20011#20016#20004#20002#20018","17#3340|3#3375|14#3530|79#19","60103#1|60128#1|60138#1|60143#1",1004,20,"601011#400|601012#600","601011#210101|601012#210101",90,10800,"500#-254",2,1072]
[null,"9033",3,"困难9-3","9043",199,0,52073,205999,10100,"20001#20003#20011#20016#20004#20002#20018","17#3340|3#3375|14#3530|79#19","60103#1|60128#1|60138#1|60143#1",1004,20,"601011#400|601012#600","601011#210101|601012#210101",90,10800,"466#-197",1,1073]
[null,"9043",3,"困难9-4","9053",199,0,52074,205999,10100,"20001#20003#20011#20016#20004#20002#20018","17#3340|3#3375|14#3530|79#19","60103#1|60128#1|60138#1|60143#1",1004,20,"601011#400|601012#600","601011#210101|601012#210101",90,10800,"373#-197",1,1074]
[null,"9053",3,"困难9-5","9063",199,0,52075,205999,10100,"20001#20003#20011#20016#20004#20002#20018","17#3340|3#3375|14#3530|79#19","60103#1|60128#1|60138#1|60143#1",1004,20,"601011#400|601012#600","601011#210101|601012#210101",90,10800,"276#-213",1,1075]
[null,"9063",3,"困难9-6","9073",199,0,52076,205999,10100,"20001#20003#20011#20016#20004#20002#20018","17#3340|3#3375|14#3530|79#19","60103#1|60128#1|60138#1|60143#1",1004,20,"601011#400|601012#600","601011#210101|601012#210101",90,10800,"192#-258",1,1076]
[null,"9073",3,"困难9-7","9083",199,0,52077,205999,10100,"20001#20003#20011#20016#20004#20002#20018","17#3340|3#3375|14#3530|79#19","60103#1|60128#1|60138#1|60143#1",1004,20,"601011#400|601012#600","601011#210101|601012#210101",90,10800,"109#-292",1,1077]
[null,"9083",3,"困难9-8","9093",199,0,52078,205999,10100,"20001#20003#20011#20016#20004#20002#20018","17#3340|3#3375|14#3530|79#19","60103#1|60128#1|60138#1|60143#1",1004,20,"601011#400|601012#600","601011#210101|601012#210101",90,10800,"18#-311",1,1078]
[null,"9093",3,"困难9-9","9103",199,0,52079,205999,10100,"20001#20003#20011#20016#20004#20002#20018","17#3340|3#3375|14#3530|79#19","60103#1|60128#1|60138#1|60143#1",1004,20,"601011#400|601012#600","601011#210101|601012#210101",90,10800,"-72#-317",1,1079]
[null,"9103",3,"困难9-10","9113",199,0,52080,205999,10100,"20001#20003#20011#20016#20004#20002#20018","17#3340|3#3375|14#3530|79#19","60103#1|60128#1|60138#1|60143#1",1004,20,"601011#400|601012#600","601011#210101|601012#210101",90,10800,"-148#-285",1,1080]
[null,"9113",3,"困难9-11","9123",199,0,52081,205999,10100,"20001#20003#20011#20016#20004#20002#20018","17#3340|3#3375|14#3530|79#19","60103#1|60128#1|60138#1|60143#1",1004,20,"601011#400|601012#600","601011#210101|601012#210101",90,10800,"-72#-234",2,1081]
[null,"9123",3,"困难9-12","9133",199,0,52082,205999,10100,"20001#20003#20011#20016#20004#20002#20018","17#3340|3#3375|14#3530|79#19","60103#1|60128#1|60138#1|60143#1",1004,20,"601011#400|601012#600","601011#210101|601012#210101",90,10800,"20#-234",2,1082]
[null,"9133",3,"困难9-13","9143",199,0,52083,205999,10100,"20001#20003#20011#20016#20004#20002#20018","17#3340|3#3375|14#3530|79#19","60103#1|60128#1|60138#1|60143#1",1004,20,"601011#400|601012#600","601011#210101|601012#210101",90,10800,"117#-229",2,1083]
[null,"9143",3,"困难9-14","9153",199,0,52084,205999,10100,"20001#20003#20011#20016#20004#20002#20018","17#3340|3#3375|14#3530|79#19","60103#1|60128#1|60138#1|60143#1",1004,20,"601011#400|601012#600","601011#210101|601012#210101",90,10800,"206#-200",2,1084]
[null,"9153",3,"困难9-15","9163",199,0,52085,205999,10100,"20001#20003#20011#20016#20004#20002#20018","17#3340|3#3375|14#3530|79#19","60103#1|60128#1|60138#1|60143#1",1004,20,"601011#400|601012#600","601011#210101|601012#210101",90,10800,"156#-140",2,1085]
[null,"9163",3,"困难9-16","9173",199,0,52086,205999,10100,"20001#20003#20011#20016#20004#20002#20018","17#3340|3#3375|14#3530|79#19","60103#1|60128#1|60138#1|60143#1",1004,20,"601011#400|601012#600","601011#210101|601012#210101",90,10800,"234#-96",2,1086]
[null,"9173",3,"困难9-17","9183",199,0,52087,205999,10100,"20001#20003#20011#20016#20004#20002#20018","17#3340|3#3375|14#3530|79#19","60103#1|60128#1|60138#1|60143#1",1004,20,"601011#400|601012#600","601011#210101|601012#210101",90,10800,"262#-55",1,1087]
[null,"9183",3,"困难9-18","9193",199,0,52088,205999,10100,"20001#20003#20011#20016#20004#20002#20018","17#3340|3#3375|14#3530|79#19","60103#1|60128#1|60138#1|60143#1",1004,20,"601011#400|601012#600","601011#210101|601012#210101",90,10800,"184#-96",1,1088]
[null,"9193",3,"困难9-19","9203",199,0,52089,205999,10100,"20001#20003#20011#20016#20004#20002#20018","17#3340|3#3375|14#3530|79#19","60103#1|60128#1|60138#1|60143#1",1004,20,"601011#400|601012#600","601011#210101|601012#210101",90,10800,"102#-127",1,1089]
[null,"9203",3,"困难9-20","9213",199,0,52090,205999,10100,"20001#20003#20011#20016#20004#20002#20018","17#3340|3#3375|14#3530|79#19","60103#1|60128#1|60138#1|60143#1",1004,20,"601011#400|601012#600","601011#210101|601012#210101",90,10800,"13#-119",1,1090]
[null,"9213",3,"困难9-21","9223",199,0,52091,205999,10100,"20001#20003#20011#20016#20004#20002#20018","17#3340|3#3375|14#3530|79#19","60103#1|60128#1|60138#1|60143#1",1004,20,"601011#400|601012#600","601011#210101|601012#210101",90,10800,"-81#-141",1,1091]
[null,"9223",3,"困难9-22","9233",199,0,52092,205999,10100,"20001#20003#20011#20016#20004#20002#20018","17#3340|3#3375|14#3530|79#19","60103#1|60128#1|60138#1|60143#1",1004,20,"601011#400|601012#600","601011#210101|601012#210101",90,10800,"-165#-162",1,1092]
[null,"9233",3,"困难9-23","9243",199,0,52093,205999,10100,"20001#20003#20011#20016#20004#20002#20018","17#3340|3#3375|14#3530|79#19","60103#1|60128#1|60138#1|60143#1",1004,20,"601011#400|601012#600","601011#210101|601012#210101",90,10800,"-208#-142",2,1093]
[null,"9243",3,"困难9-24","9253",199,0,52094,205999,10100,"20001#20003#20011#20016#20004#20002#20018","17#3340|3#3375|14#3530|79#19","60103#1|60128#1|60138#1|60143#1",1004,20,"601011#400|601012#600","601011#210101|601012#210101",90,10800,"-194#-104",1,1094]
[null,"9253",3,"困难9-25","9263",199,0,52095,205999,10100,"20001#20003#20011#20016#20004#20002#20018","17#3340|3#3375|14#3530|79#19","60103#1|60128#1|60138#1|60143#1",1004,20,"601011#400|601012#600","601011#210101|601012#210101",90,10800,"-287#-110",1,1095]
[null,"9263",3,"困难9-26","9273",199,0,52096,205999,10100,"20001#20003#20011#20016#20004#20002#20018","17#3340|3#3375|14#3530|79#19","60103#1|60128#1|60138#1|60143#1",1004,20,"601011#400|601012#600","601011#210101|601012#210101",90,10800,"-370#-150",1,1096]
[null,"9273",3,"困难9-27","9283",199,0,52097,205999,10100,"20001#20003#20011#20016#20004#20002#20018","17#3340|3#3375|14#3530|79#19","60103#1|60128#1|60138#1|60143#1",1004,20,"601011#400|601012#600","601011#210101|601012#210101",90,10800,"-446#-168",1,1097]
[null,"9283",3,"困难9-28","9293",199,0,52098,205999,10100,"20001#20003#20011#20016#20004#20002#20018","17#3340|3#3375|14#3530|79#19","60103#1|60128#1|60138#1|60143#1",1004,20,"601011#400|601012#600","601011#210101|601012#210101",90,10800,"-515#-133",1,1098]
[null,"9293",3,"困难9-29","9303",199,0,52099,205999,10100,"20001#20003#20011#20016#20004#20002#20018","17#3340|3#3375|14#3530|79#19","60103#1|60128#1|60138#1|60143#1",1004,20,"601011#400|601012#600","601011#210101|601012#210101",90,10800,"-457#-98",2,1099]
[null,"9303",3,"困难9-30","9313",199,0,52100,205999,10100,"20001#20003#20011#20016#20004#20002#20018","17#3340|3#3375|14#3530|79#19","60103#1|60128#1|60138#1|60143#1",1004,20,"601011#400|601012#600","601011#210101|601012#210101",90,10800,"-380#-82",2,1100]
[null,"9313",3,"困难9-31","9323",199,0,52101,205999,10100,"20001#20003#20011#20016#20004#20002#20018","17#3340|3#3375|14#3530|79#19","60103#1|60128#1|60138#1|60143#1",1004,20,"601011#400|601012#600","601011#210101|601012#210101",90,10800,"-302#-53",2,1101]
[null,"9323",3,"困难9-32","9333",199,0,52102,205999,10100,"20001#20003#20011#20016#20004#20002#20018","17#3340|3#3375|14#3530|79#19","60103#1|60128#1|60138#1|60143#1",1004,20,"601011#400|601012#600","601011#210101|601012#210101",90,10800,"-296#26",2,1102]
[null,"9333",3,"困难9-33","9343",199,0,52103,205999,10100,"20001#20003#20011#20016#20004#20002#20018","17#3340|3#3375|14#3530|79#19","60103#1|60128#1|60138#1|60143#1",1004,20,"601011#400|601012#600","601011#210101|601012#210101",90,10800,"-200#34",2,1103]
[null,"9343",3,"困难9-34","9353",199,0,52104,205999,10100,"20001#20003#20011#20016#20004#20002#20018","17#3340|3#3375|14#3530|79#19","60103#1|60128#1|60138#1|60143#1",1004,20,"601011#400|601012#600","601011#210101|601012#210101",90,10800,"-99#47",2,1104]
[null,"9353",3,"困难9-35","9363",199,0,52105,205999,10100,"20001#20003#20011#20016#20004#20002#20018","17#3340|3#3375|14#3530|79#19","60103#1|60128#1|60138#1|60143#1",1004,20,"601011#400|601012#600","601011#210101|601012#210101",90,10800,"-16#100",2,1105]
[null,"9363",3,"困难9-36","9373",199,0,52106,205999,10100,"20001#20003#20011#20016#20004#20002#20018","17#3340|3#3375|14#3530|79#19","60103#1|60128#1|60138#1|60143#1",1004,20,"601011#400|601012#600","601011#210101|601012#210101",90,10800,"62#43",2,1106]
[null,"9373",3,"困难9-37","9383",199,0,52107,205999,10100,"20001#20003#20011#20016#20004#20002#20018","17#3340|3#3375|14#3530|79#19","60103#1|60128#1|60138#1|60143#1",1004,20,"601011#400|601012#600","601011#210101|601012#210101",90,10800,"149#23",2,1107]
[null,"9383",3,"困难9-38","9393",199,0,52108,205999,10100,"20001#20003#20011#20016#20004#20002#20018","17#3340|3#3375|14#3530|79#19","60103#1|60128#1|60138#1|60143#1",1004,20,"601011#400|601012#600","601011#210101|601012#210101",90,10800,"226#14",2,1108]
[null,"9393",3,"困难9-39","9403",199,0,52109,205999,10100,"20001#20003#20011#20016#20004#20002#20018","17#3340|3#3375|14#3530|79#19","60103#1|60128#1|60138#1|60143#1",1004,20,"601011#400|601012#600","601011#210101|601012#210101",90,10800,"322#35",2,1109]
[null,"9403",3,"困难9-40","10013",199,0,52110,205999,10100,"20001#20003#20011#20016#20004#20002#20018","17#3340|3#3375|14#3530|79#19","60103#1|60128#1|60138#1|60143#1",1004,20,"601011#400|601012#600","601011#210101|601012#210101",90,10800,"421#61",2,1110]
[null,"10013",3,"困难10-1","10023",199,1,52111,205999,10100,"20001#20003#20011#20016#20004#20002#20018","17#3340|3#3375|14#3530|79#19","60103#1|60128#1|60138#1|60143#1",1004,20,"601011#400|601012#600","601011#210101|601012#210101",90,10800,"88#-544",2,1111]
[null,"10023",3,"困难10-2","10033",199,0,52112,205999,10100,"20001#20003#20011#20016#20004#20002#20018","17#3340|3#3375|14#3530|79#19","60103#1|60128#1|60138#1|60143#1",1004,20,"601011#400|601012#600","601011#210101|601012#210101",90,10800,"146#-561",2,1112]
[null,"10033",3,"困难10-3","10043",199,0,52113,205999,10100,"20001#20003#20011#20016#20004#20002#20018","17#3340|3#3375|14#3530|79#19","60103#1|60128#1|60138#1|60143#1",1004,20,"601011#400|601012#600","601011#210101|601012#210101",90,10800,"202#-557",2,1113]
[null,"10043",3,"困难10-4","10053",199,0,52114,205999,10100,"20001#20003#20011#20016#20004#20002#20018","17#3340|3#3375|14#3530|79#19","60103#1|60128#1|60138#1|60143#1",1004,20,"601011#400|601012#600","601011#210101|601012#210101",90,10800,"253#-538",2,1114]
[null,"10053",3,"困难10-5","10063",199,0,52115,205999,10100,"20001#20003#20011#20016#20004#20002#20018","17#3340|3#3375|14#3530|79#19","60103#1|60128#1|60138#1|60143#1",1004,20,"601011#400|601012#600","601011#210101|601012#210101",90,10800,"305#-511",2,1115]
[null,"10063",3,"困难10-6","10073",199,0,52116,205999,10100,"20001#20003#20011#20016#20004#20002#20018","17#3340|3#3375|14#3530|79#19","60103#1|60128#1|60138#1|60143#1",1004,20,"601011#400|601012#600","601011#210101|601012#210101",90,10800,"362#-503",2,1116]
[null,"10073",3,"困难10-7","10083",199,0,52117,205999,10100,"20001#20003#20011#20016#20004#20002#20018","17#3340|3#3375|14#3530|79#19","60103#1|60128#1|60138#1|60143#1",1004,20,"601011#400|601012#600","601011#210101|601012#210101",90,10800,"417#-492",2,1117]
[null,"10083",3,"困难10-8","10093",199,0,52118,205999,10100,"20001#20003#20011#20016#20004#20002#20018","17#3340|3#3375|14#3530|79#19","60103#1|60128#1|60138#1|60143#1",1004,20,"601011#400|601012#600","601011#210101|601012#210101",90,10800,"462#-457",2,1118]
[null,"10093",3,"困难10-9","10103",199,0,52119,205999,10100,"20001#20003#20011#20016#20004#20002#20018","17#3340|3#3375|14#3530|79#19","60103#1|60128#1|60138#1|60143#1",1004,20,"601011#400|601012#600","601011#210101|601012#210101",90,10800,"456#-406",1,1119]
[null,"10103",3,"困难10-10","10113",199,0,52120,205999,10100,"20001#20003#20011#20016#20004#20002#20018","17#3340|3#3375|14#3530|79#19","60103#1|60128#1|60138#1|60143#1",1004,20,"601011#400|601012#600","601011#210101|601012#210101",90,10800,"404#-376",1,1120]
[null,"10113",3,"困难10-11","10123",199,0,52121,205999,10100,"20001#20003#20011#20016#20004#20002#20018","17#3340|3#3375|14#3530|79#19","60103#1|60128#1|60138#1|60143#1",1004,20,"601011#400|601012#600","601011#210101|601012#210101",90,10800,"343#-370",1,1121]
[null,"10123",3,"困难10-12","10133",199,0,52122,205999,10100,"20001#20003#20011#20016#20004#20002#20018","17#3340|3#3375|14#3530|79#19","60103#1|60128#1|60138#1|60143#1",1004,20,"601011#400|601012#600","601011#210101|601012#210101",90,10800,"291#-349",1,1122]
[null,"10133",3,"困难10-13","10143",199,0,52123,205999,10100,"20001#20003#20011#20016#20004#20002#20018","17#3340|3#3375|14#3530|79#19","60103#1|60128#1|60138#1|60143#1",1004,20,"601011#400|601012#600","601011#210101|601012#210101",90,10800,"250#-304",1,1123]
[null,"10143",3,"困难10-14","10153",199,0,52124,205999,10100,"20001#20003#20011#20016#20004#20002#20018","17#3340|3#3375|14#3530|79#19","60103#1|60128#1|60138#1|60143#1",1004,20,"601011#400|601012#600","601011#210101|601012#210101",90,10800,"197#-297",1,1124]
[null,"10153",3,"困难10-15","10163",199,0,52125,205999,10100,"20001#20003#20011#20016#20004#20002#20018","17#3340|3#3375|14#3530|79#19","60103#1|60128#1|60138#1|60143#1",1004,20,"601011#400|601012#600","601011#210101|601012#210101",90,10800,"132#-311",1,1125]
[null,"10163",3,"困难10-16","10173",199,0,52126,205999,10100,"20001#20003#20011#20016#20004#20002#20018","17#3340|3#3375|14#3530|79#19","60103#1|60128#1|60138#1|60143#1",1004,20,"601011#400|601012#600","601011#210101|601012#210101",90,10800,"128#-357",2,1126]
[null,"10173",3,"困难10-17","10183",199,0,52127,205999,10100,"20001#20003#20011#20016#20004#20002#20018","17#3340|3#3375|14#3530|79#19","60103#1|60128#1|60138#1|60143#1",1004,20,"601011#400|601012#600","601011#210101|601012#210101",90,10800,"176#-376",2,1127]
[null,"10183",3,"困难10-18","10193",199,0,52128,205999,10100,"20001#20003#20011#20016#20004#20002#20018","17#3340|3#3375|14#3530|79#19","60103#1|60128#1|60138#1|60143#1",1004,20,"601011#400|601012#600","601011#210101|601012#210101",90,10800,"182#-417",1,1128]
[null,"10193",3,"困难10-19","10203",199,0,52129,205999,10100,"20001#20003#20011#20016#20004#20002#20018","17#3340|3#3375|14#3530|79#19","60103#1|60128#1|60138#1|60143#1",1004,20,"601011#400|601012#600","601011#210101|601012#210101",90,10800,"127#-421",1,1129]
[null,"10203",3,"困难10-20","10213",199,0,52130,205999,10100,"20001#20003#20011#20016#20004#20002#20018","17#3340|3#3375|14#3530|79#19","60103#1|60128#1|60138#1|60143#1",1004,20,"601011#400|601012#600","601011#210101|601012#210101",90,10800,"71#-403",1,1130]
[null,"10213",3,"困难10-21","10223",199,0,52131,205999,10100,"20001#20003#20011#20016#20004#20002#20018","17#3340|3#3375|14#3530|79#19","60103#1|60128#1|60138#1|60143#1",1004,20,"601011#400|601012#600","601011#210101|601012#210101",90,10800,"13#-406",1,1131]
[null,"10223",3,"困难10-22","10233",199,0,52132,205999,10100,"20001#20003#20011#20016#20004#20002#20018","17#3340|3#3375|14#3530|79#19","60103#1|60128#1|60138#1|60143#1",1004,20,"601011#400|601012#600","601011#210101|601012#210101",90,10800,"-41#-434",1,1132]
[null,"10233",3,"困难10-23","10243",199,0,52133,205999,10100,"20001#20003#20011#20016#20004#20002#20018","17#3340|3#3375|14#3530|79#19","60103#1|60128#1|60138#1|60143#1",1004,20,"601011#400|601012#600","601011#210101|601012#210101",90,10800,"-91#-447",1,1133]
[null,"10243",3,"困难10-24","10253",199,0,52134,205999,10100,"20001#20003#20011#20016#20004#20002#20018","17#3340|3#3375|14#3530|79#19","60103#1|60128#1|60138#1|60143#1",1004,20,"601011#400|601012#600","601011#210101|601012#210101",90,10800,"-142#-438",1,1134]
[null,"10253",3,"困难10-25","10263",199,0,52135,205999,10100,"20001#20003#20011#20016#20004#20002#20018","17#3340|3#3375|14#3530|79#19","60103#1|60128#1|60138#1|60143#1",1004,20,"601011#400|601012#600","601011#210101|601012#210101",90,10800,"-182#-398",1,1135]
[null,"10263",3,"困难10-26","10273",199,0,52136,205999,10100,"20001#20003#20011#20016#20004#20002#20018","17#3340|3#3375|14#3530|79#19","60103#1|60128#1|60138#1|60143#1",1004,20,"601011#400|601012#600","601011#210101|601012#210101",90,10800,"-238#-365",1,1136]
[null,"10273",3,"困难10-27","10283",199,0,52137,205999,10100,"20001#20003#20011#20016#20004#20002#20018","17#3340|3#3375|14#3530|79#19","60103#1|60128#1|60138#1|60143#1",1004,20,"601011#400|601012#600","601011#210101|601012#210101",90,10800,"-290#-359",1,1137]
[null,"10283",3,"困难10-28","10293",199,0,52138,205999,10100,"20001#20003#20011#20016#20004#20002#20018","17#3340|3#3375|14#3530|79#19","60103#1|60128#1|60138#1|60143#1",1004,20,"601011#400|601012#600","601011#210101|601012#210101",90,10800,"-337#-363",1,1138]
[null,"10293",3,"困难10-29","10303",199,0,52139,205999,10100,"20001#20003#20011#20016#20004#20002#20018","17#3340|3#3375|14#3530|79#19","60103#1|60128#1|60138#1|60143#1",1004,20,"601011#400|601012#600","601011#210101|601012#210101",90,10800,"-368#-330",1,1139]
[null,"10303",3,"困难10-30","10313",199,0,52140,205999,10100,"20001#20003#20011#20016#20004#20002#20018","17#3340|3#3375|14#3530|79#19","60103#1|60128#1|60138#1|60143#1",1004,20,"601011#400|601012#600","601011#210101|601012#210101",90,10800,"-345#-285",2,1140]
[null,"10313",3,"困难10-31","10323",199,0,52141,205999,10100,"20001#20003#20011#20016#20004#20002#20018","17#3340|3#3375|14#3530|79#19","60103#1|60128#1|60138#1|60143#1",1004,20,"601011#400|601012#600","601011#210101|601012#210101",90,10800,"-285#-263",2,1141]
[null,"10323",3,"困难10-32","10333",199,0,52142,205999,10100,"20001#20003#20011#20016#20004#20002#20018","17#3340|3#3375|14#3530|79#19","60103#1|60128#1|60138#1|60143#1",1004,20,"601011#400|601012#600","601011#210101|601012#210101",90,10800,"-232#-259",2,1142]
[null,"10333",3,"困难10-33","10343",199,0,52143,205999,10100,"20001#20003#20011#20016#20004#20002#20018","17#3340|3#3375|14#3530|79#19","60103#1|60128#1|60138#1|60143#1",1004,20,"601011#400|601012#600","601011#210101|601012#210101",90,10800,"-193#-263",2,1143]
[null,"10343",3,"困难10-34","10353",199,0,52144,205999,10100,"20001#20003#20011#20016#20004#20002#20018","17#3340|3#3375|14#3530|79#19","60103#1|60128#1|60138#1|60143#1",1004,20,"601011#400|601012#600","601011#210101|601012#210101",90,10800,"-141#-275",2,1144]
[null,"10353",3,"困难10-35","10363",199,0,52145,205999,10100,"20001#20003#20011#20016#20004#20002#20018","17#3340|3#3375|14#3530|79#19","60103#1|60128#1|60138#1|60143#1",1004,20,"601011#400|601012#600","601011#210101|601012#210101",90,10800,"-91#-282",2,1145]
[null,"10363",3,"困难10-36","10373",199,0,52146,205999,10100,"20001#20003#20011#20016#20004#20002#20018","17#3340|3#3375|14#3530|79#19","60103#1|60128#1|60138#1|60143#1",1004,20,"601011#400|601012#600","601011#210101|601012#210101",90,10800,"-41#-277",2,1146]
[null,"10373",3,"困难10-37","10383",199,0,52147,205999,10100,"20001#20003#20011#20016#20004#20002#20018","17#3340|3#3375|14#3530|79#19","60103#1|60128#1|60138#1|60143#1",1004,20,"601011#400|601012#600","601011#210101|601012#210101",90,10800,"3#-259",2,1147]
[null,"10383",3,"困难10-38","10393",199,0,52148,205999,10100,"20001#20003#20011#20016#20004#20002#20018","17#3340|3#3375|14#3530|79#19","60103#1|60128#1|60138#1|60143#1",1004,20,"601011#400|601012#600","601011#210101|601012#210101",90,10800,"41#-235",2,1148]
[null,"10393",3,"困难10-39","10403",199,0,52149,205999,10100,"20001#20003#20011#20016#20004#20002#20018","17#3340|3#3375|14#3530|79#19","60103#1|60128#1|60138#1|60143#1",1004,20,"601011#400|601012#600","601011#210101|601012#210101",90,10800,"79#-213",2,1149]
[null,"10403",3,"困难10-40","11013",199,0,52150,205999,10100,"20001#20003#20011#20016#20004#20002#20018","17#3340|3#3375|14#3530|79#19","60103#1|60128#1|60138#1|60143#1",1004,20,"601011#400|601012#600","601011#210101|601012#210101",90,10800,"123#-218",2,1150]
[null,"11013",3,"困难11-1","11023",199,1,52151,205999,10100,"20001#20003#20011#20016#20004#20002#20018","17#3340|3#3375|14#3530|79#19","60103#1|60128#1|60138#1|60143#1",1004,20,"601011#400|601012#600","601011#210101|601012#210101",90,10800,"424#-262",1,1151]
[null,"11023",3,"困难11-2","11033",199,0,52152,205999,10100,"20001#20003#20011#20016#20004#20002#20018","17#3340|3#3375|14#3530|79#19","60103#1|60128#1|60138#1|60143#1",1004,20,"601011#400|601012#600","601011#210101|601012#210101",90,10800,"360#-244",1,1152]
[null,"11033",3,"困难11-3","11043",199,0,52153,205999,10100,"20001#20003#20011#20016#20004#20002#20018","17#3340|3#3375|14#3530|79#19","60103#1|60128#1|60138#1|60143#1",1004,20,"601011#400|601012#600","601011#210101|601012#210101",90,10800,"289#-238",1,1153]
[null,"11043",3,"困难11-4","11053",199,0,52154,205999,10100,"20001#20003#20011#20016#20004#20002#20018","17#3340|3#3375|14#3530|79#19","60103#1|60128#1|60138#1|60143#1",1004,20,"601011#400|601012#600","601011#210101|601012#210101",90,10800,"231#-249",1,1154]
[null,"11053",3,"困难11-5","11063",199,0,52155,205999,10100,"20001#20003#20011#20016#20004#20002#20018","17#3340|3#3375|14#3530|79#19","60103#1|60128#1|60138#1|60143#1",1004,20,"601011#400|601012#600","601011#210101|601012#210101",90,10800,"167#-276",1,1155]
[null,"11063",3,"困难11-6","11073",199,0,52156,205999,10100,"20001#20003#20011#20016#20004#20002#20018","17#3340|3#3375|14#3530|79#19","60103#1|60128#1|60138#1|60143#1",1004,20,"601011#400|601012#600","601011#210101|601012#210101",90,10800,"108#-300",1,1156]
[null,"11073",3,"困难11-7","11083",199,0,52157,205999,10100,"20001#20003#20011#20016#20004#20002#20018","17#3340|3#3375|14#3530|79#19","60103#1|60128#1|60138#1|60143#1",1004,20,"601011#400|601012#600","601011#210101|601012#210101",90,10800,"50#-309",1,1157]
[null,"11083",3,"困难11-8","11093",199,0,52158,205999,10100,"20001#20003#20011#20016#20004#20002#20018","17#3340|3#3375|14#3530|79#19","60103#1|60128#1|60138#1|60143#1",1004,20,"601011#400|601012#600","601011#210101|601012#210101",90,10800,"-16#-308",1,1158]
[null,"11093",3,"困难11-9","11103",199,0,52159,205999,10100,"20001#20003#20011#20016#20004#20002#20018","17#3340|3#3375|14#3530|79#19","60103#1|60128#1|60138#1|60143#1",1004,20,"601011#400|601012#600","601011#210101|601012#210101",90,10800,"-82#-291",1,1159]
[null,"11103",3,"困难11-10","11113",199,0,52160,205999,10100,"20001#20003#20011#20016#20004#20002#20018","17#3340|3#3375|14#3530|79#19","60103#1|60128#1|60138#1|60143#1",1004,20,"601011#400|601012#600","601011#210101|601012#210101",90,10800,"-142#-268",1,1160]
[null,"11113",3,"困难11-11","11123",199,0,52161,205999,10100,"20001#20003#20011#20016#20004#20002#20018","17#3340|3#3375|14#3530|79#19","60103#1|60128#1|60138#1|60143#1",1004,20,"601011#400|601012#600","601011#210101|601012#210101",90,10800,"-207#-247",1,1161]
[null,"11123",3,"困难11-12","11133",199,0,52162,205999,10100,"20001#20003#20011#20016#20004#20002#20018","17#3340|3#3375|14#3530|79#19","60103#1|60128#1|60138#1|60143#1",1004,20,"601011#400|601012#600","601011#210101|601012#210101",90,10800,"-158#-220",2,1162]
[null,"11133",3,"困难11-13","11143",199,0,52163,205999,10100,"20001#20003#20011#20016#20004#20002#20018","17#3340|3#3375|14#3530|79#19","60103#1|60128#1|60138#1|60143#1",1004,20,"601011#400|601012#600","601011#210101|601012#210101",90,10800,"-116#-202",1,1163]
[null,"11143",3,"困难11-14","11153",199,0,52164,205999,10100,"20001#20003#20011#20016#20004#20002#20018","17#3340|3#3375|14#3530|79#19","60103#1|60128#1|60138#1|60143#1",1004,20,"601011#400|601012#600","601011#210101|601012#210101",90,10800,"-152#-161",1,1164]
[null,"11153",3,"困难11-15","11163",199,0,52165,205999,10100,"20001#20003#20011#20016#20004#20002#20018","17#3340|3#3375|14#3530|79#19","60103#1|60128#1|60138#1|60143#1",1004,20,"601011#400|601012#600","601011#210101|601012#210101",90,10800,"-200#-135",1,1165]
[null,"11163",3,"困难11-16","11173",199,0,52166,205999,10100,"20001#20003#20011#20016#20004#20002#20018","17#3340|3#3375|14#3530|79#19","60103#1|60128#1|60138#1|60143#1",1004,20,"601011#400|601012#600","601011#210101|601012#210101",90,10800,"-257#-114",1,1166]
[null,"11173",3,"困难11-17","11183",199,0,52167,205999,10100,"20001#20003#20011#20016#20004#20002#20018","17#3340|3#3375|14#3530|79#19","60103#1|60128#1|60138#1|60143#1",1004,20,"601011#400|601012#600","601011#210101|601012#210101",90,10800,"-325#-115",1,1167]
[null,"11183",3,"困难11-18","11193",199,0,52168,205999,10100,"20001#20003#20011#20016#20004#20002#20018","17#3340|3#3375|14#3530|79#19","60103#1|60128#1|60138#1|60143#1",1004,20,"601011#400|601012#600","601011#210101|601012#210101",90,10800,"-374#-85",1,1168]
[null,"11193",3,"困难11-19","11203",199,0,52169,205999,10100,"20001#20003#20011#20016#20004#20002#20018","17#3340|3#3375|14#3530|79#19","60103#1|60128#1|60138#1|60143#1",1004,20,"601011#400|601012#600","601011#210101|601012#210101",90,10800,"-354#-40",2,1169]
[null,"11203",3,"困难11-20","11213",199,0,52170,205999,10100,"20001#20003#20011#20016#20004#20002#20018","17#3340|3#3375|14#3530|79#19","60103#1|60128#1|60138#1|60143#1",1004,20,"601011#400|601012#600","601011#210101|601012#210101",90,10800,"-291#-30",2,1170]
[null,"11213",3,"困难11-21","11223",199,0,52171,205999,10100,"20001#20003#20011#20016#20004#20002#20018","17#3340|3#3375|14#3530|79#19","60103#1|60128#1|60138#1|60143#1",1004,20,"601011#400|601012#600","601011#210101|601012#210101",90,10800,"-257#11",2,1171]
[null,"11223",3,"困难11-22","11233",199,0,52172,205999,10100,"20001#20003#20011#20016#20004#20002#20018","17#3340|3#3375|14#3530|79#19","60103#1|60128#1|60138#1|60143#1",1004,20,"601011#400|601012#600","601011#210101|601012#210101",90,10800,"-214#51",2,1172]
[null,"11233",3,"困难11-23","11243",199,0,52173,205999,10100,"20001#20003#20011#20016#20004#20002#20018","17#3340|3#3375|14#3530|79#19","60103#1|60128#1|60138#1|60143#1",1004,20,"601011#400|601012#600","601011#210101|601012#210101",90,10800,"-155#54",2,1173]
[null,"11243",3,"困难11-24","11253",199,0,52174,205999,10100,"20001#20003#20011#20016#20004#20002#20018","17#3340|3#3375|14#3530|79#19","60103#1|60128#1|60138#1|60143#1",1004,20,"601011#400|601012#600","601011#210101|601012#210101",90,10800,"-107#40",2,1174]
[null,"11253",3,"困难11-25","11263",199,0,52175,205999,10100,"20001#20003#20011#20016#20004#20002#20018","17#3340|3#3375|14#3530|79#19","60103#1|60128#1|60138#1|60143#1",1004,20,"601011#400|601012#600","601011#210101|601012#210101",90,10800,"-66#13",2,1175]
[null,"11263",3,"困难11-26","11273",199,0,52176,205999,10100,"20001#20003#20011#20016#20004#20002#20018","17#3340|3#3375|14#3530|79#19","60103#1|60128#1|60138#1|60143#1",1004,20,"601011#400|601012#600","601011#210101|601012#210101",90,10800,"90#-1",2,1176]
[null,"11273",3,"困难11-27","11283",199,0,52177,205999,10100,"20001#20003#20011#20016#20004#20002#20018","17#3340|3#3375|14#3530|79#19","60103#1|60128#1|60138#1|60143#1",1004,20,"601011#400|601012#600","601011#210101|601012#210101",90,10800,"135#-30",2,1177]
[null,"11283",3,"困难11-28","11293",199,0,52178,205999,10100,"20001#20003#20011#20016#20004#20002#20018","17#3340|3#3375|14#3530|79#19","60103#1|60128#1|60138#1|60143#1",1004,20,"601011#400|601012#600","601011#210101|601012#210101",90,10800,"167#-75",2,1178]
[null,"11293",3,"困难11-29","11303",199,0,52179,205999,10100,"20001#20003#20011#20016#20004#20002#20018","17#3340|3#3375|14#3530|79#19","60103#1|60128#1|60138#1|60143#1",1004,20,"601011#400|601012#600","601011#210101|601012#210101",90,10800,"214#-85",2,1179]
[null,"11303",3,"困难11-30","11313",199,0,52180,205999,10100,"20001#20003#20011#20016#20004#20002#20018","17#3340|3#3375|14#3530|79#19","60103#1|60128#1|60138#1|60143#1",1004,20,"601011#400|601012#600","601011#210101|601012#210101",90,10800,"260#-111",2,1180]
[null,"11313",3,"困难11-31","11323",199,0,52181,205999,10100,"20001#20003#20011#20016#20004#20002#20018","17#3340|3#3375|14#3530|79#19","60103#1|60128#1|60138#1|60143#1",1004,20,"601011#400|601012#600","601011#210101|601012#210101",90,10800,"292#-84",2,1181]
[null,"11323",3,"困难11-32","11333",199,0,52182,205999,10100,"20001#20003#20011#20016#20004#20002#20018","17#3340|3#3375|14#3530|79#19","60103#1|60128#1|60138#1|60143#1",1004,20,"601011#400|601012#600","601011#210101|601012#210101",90,10800,"315#-44",2,1182]
[null,"11333",3,"困难11-33","11343",199,0,52183,205999,10100,"20001#20003#20011#20016#20004#20002#20018","17#3340|3#3375|14#3530|79#19","60103#1|60128#1|60138#1|60143#1",1004,20,"601011#400|601012#600","601011#210101|601012#210101",90,10800,"368#-38",2,1183]
[null,"11343",3,"困难11-34","11353",199,0,52184,205999,10100,"20001#20003#20011#20016#20004#20002#20018","17#3340|3#3375|14#3530|79#19","60103#1|60128#1|60138#1|60143#1",1004,20,"601011#400|601012#600","601011#210101|601012#210101",90,10800,"415#-33",2,1184]
[null,"11353",3,"困难11-35","11363",199,0,52185,205999,10100,"20001#20003#20011#20016#20004#20002#20018","17#3340|3#3375|14#3530|79#19","60103#1|60128#1|60138#1|60143#1",1004,20,"601011#400|601012#600","601011#210101|601012#210101",90,10800,"398#7",1,1185]
[null,"11363",3,"困难11-36","11373",199,0,52186,205999,10100,"20001#20003#20011#20016#20004#20002#20018","17#3340|3#3375|14#3530|79#19","60103#1|60128#1|60138#1|60143#1",1004,20,"601011#400|601012#600","601011#210101|601012#210101",90,10800,"325#13",1,1186]
[null,"11373",3,"困难11-37","11383",199,0,52187,205999,10100,"20001#20003#20011#20016#20004#20002#20018","17#3340|3#3375|14#3530|79#19","60103#1|60128#1|60138#1|60143#1",1004,20,"601011#400|601012#600","601011#210101|601012#210101",90,10800,"291#73",1,1187]
[null,"11383",3,"困难11-38","11393",199,0,52188,205999,10100,"20001#20003#20011#20016#20004#20002#20018","17#3340|3#3375|14#3530|79#19","60103#1|60128#1|60138#1|60143#1",1004,20,"601011#400|601012#600","601011#210101|601012#210101",90,10800,"279#148",1,1188]
[null,"11393",3,"困难11-39","11403",199,0,52189,205999,10100,"20001#20003#20011#20016#20004#20002#20018","17#3340|3#3375|14#3530|79#19","60103#1|60128#1|60138#1|60143#1",1004,20,"601011#400|601012#600","601011#210101|601012#210101",90,10800,"255#213",1,1189]
[null,"11403",3,"困难11-40","12013",199,0,52190,205999,10100,"20001#20003#20011#20016#20004#20002#20018","17#3340|3#3375|14#3530|79#19","60103#1|60128#1|60138#1|60143#1",1004,20,"601011#400|601012#600","601011#210101|601012#210101",90,10800,"191#242",1,1190]
[null,"12013",3,"困难12-1","12023",199,1,52191,205999,10100,"20001#20003#20011#20016#20004#20002#20018","17#3340|3#3375|14#3530|79#19","60103#1|60128#1|60138#1|60143#1",1004,20,"601011#400|601012#600","601011#210101|601012#210101",90,10800,"-364#-280",2,1191]
[null,"12023",3,"困难12-2","12033",199,0,52192,205999,10100,"20001#20003#20011#20016#20004#20002#20018","17#3340|3#3375|14#3530|79#19","60103#1|60128#1|60138#1|60143#1",1004,20,"601011#400|601012#600","601011#210101|601012#210101",90,10800,"-293#-286",2,1192]
[null,"12033",3,"困难12-3","12043",199,0,52193,205999,10100,"20001#20003#20011#20016#20004#20002#20018","17#3340|3#3375|14#3530|79#19","60103#1|60128#1|60138#1|60143#1",1004,20,"601011#400|601012#600","601011#210101|601012#210101",90,10800,"-223#-269",2,1193]
[null,"12043",3,"困难12-4","12053",199,0,52194,205999,10100,"20001#20003#20011#20016#20004#20002#20018","17#3340|3#3375|14#3530|79#19","60103#1|60128#1|60138#1|60143#1",1004,20,"601011#400|601012#600","601011#210101|601012#210101",90,10800,"-169#-300",2,1194]
[null,"12053",3,"困难12-5","12063",199,0,52195,205999,10100,"20001#20003#20011#20016#20004#20002#20018","17#3340|3#3375|14#3530|79#19","60103#1|60128#1|60138#1|60143#1",1004,20,"601011#400|601012#600","601011#210101|601012#210101",90,10800,"-133#-353",2,1195]
[null,"12063",3,"困难12-6","12073",199,0,52196,205999,10100,"20001#20003#20011#20016#20004#20002#20018","17#3340|3#3375|14#3530|79#19","60103#1|60128#1|60138#1|60143#1",1004,20,"601011#400|601012#600","601011#210101|601012#210101",90,10800,"-55#-345",2,1196]
[null,"12073",3,"困难12-7","12083",199,0,52197,205999,10100,"20001#20003#20011#20016#20004#20002#20018","17#3340|3#3375|14#3530|79#19","60103#1|60128#1|60138#1|60143#1",1004,20,"601011#400|601012#600","601011#210101|601012#210101",90,10800,"8#-324",2,1197]
[null,"12083",3,"困难12-8","12093",199,0,52198,205999,10100,"20001#20003#20011#20016#20004#20002#20018","17#3340|3#3375|14#3530|79#19","60103#1|60128#1|60138#1|60143#1",1004,20,"601011#400|601012#600","601011#210101|601012#210101",90,10800,"80#-301",2,1198]
[null,"12093",3,"困难12-9","12103",199,0,52199,205999,10100,"20001#20003#20011#20016#20004#20002#20018","17#3340|3#3375|14#3530|79#19","60103#1|60128#1|60138#1|60143#1",1004,20,"601011#400|601012#600","601011#210101|601012#210101",90,10800,"149#-286",2,1199]
[null,"12103",3,"困难12-10","12113",199,0,52200,205999,10100,"20001#20003#20011#20016#20004#20002#20018","17#3340|3#3375|14#3530|79#19","60103#1|60128#1|60138#1|60143#1",1004,20,"601011#400|601012#600","601011#210101|601012#210101",90,10800,"228#-292",2,1200]
[null,"12113",3,"困难12-11","12123",199,0,52201,205999,10100,"20001#20003#20011#20016#20004#20002#20018","17#3340|3#3375|14#3530|79#19","60103#1|60128#1|60138#1|60143#1",1004,20,"601011#400|601012#600","601011#210101|601012#210101",90,10800,"284#-322",2,1201]
[null,"12123",3,"困难12-12","12133",199,0,52202,205999,10100,"20001#20003#20011#20016#20004#20002#20018","17#3340|3#3375|14#3530|79#19","60103#1|60128#1|60138#1|60143#1",1004,20,"601011#400|601012#600","601011#210101|601012#210101",90,10800,"356#-343",2,1202]
[null,"12133",3,"困难12-13","12143",199,0,52203,205999,10100,"20001#20003#20011#20016#20004#20002#20018","17#3340|3#3375|14#3530|79#19","60103#1|60128#1|60138#1|60143#1",1004,20,"601011#400|601012#600","601011#210101|601012#210101",90,10800,"415#-321",2,1203]
[null,"12143",3,"困难12-14","12153",199,0,52204,205999,10100,"20001#20003#20011#20016#20004#20002#20018","17#3340|3#3375|14#3530|79#19","60103#1|60128#1|60138#1|60143#1",1004,20,"601011#400|601012#600","601011#210101|601012#210101",90,10800,"386#-275",1,1204]
[null,"12153",3,"困难12-15","12163",199,0,52205,205999,10100,"20001#20003#20011#20016#20004#20002#20018","17#3340|3#3375|14#3530|79#19","60103#1|60128#1|60138#1|60143#1",1004,20,"601011#400|601012#600","601011#210101|601012#210101",90,10800,"334#-229",1,1205]
[null,"12163",3,"困难12-16","12173",199,0,52206,205999,10100,"20001#20003#20011#20016#20004#20002#20018","17#3340|3#3375|14#3530|79#19","60103#1|60128#1|60138#1|60143#1",1004,20,"601011#400|601012#600","601011#210101|601012#210101",90,10800,"304#-176",2,1206]
[null,"12173",3,"困难12-17","12183",199,0,52207,205999,10100,"20001#20003#20011#20016#20004#20002#20018","17#3340|3#3375|14#3530|79#19","60103#1|60128#1|60138#1|60143#1",1004,20,"601011#400|601012#600","601011#210101|601012#210101",90,10800,"355#-146",2,1207]
[null,"12183",3,"困难12-18","12193",199,0,52208,205999,10100,"20001#20003#20011#20016#20004#20002#20018","17#3340|3#3375|14#3530|79#19","60103#1|60128#1|60138#1|60143#1",1004,20,"601011#400|601012#600","601011#210101|601012#210101",90,10800,"306#-109",1,1208]
[null,"12193",3,"困难12-19","12203",199,0,52209,205999,10100,"20001#20003#20011#20016#20004#20002#20018","17#3340|3#3375|14#3530|79#19","60103#1|60128#1|60138#1|60143#1",1004,20,"601011#400|601012#600","601011#210101|601012#210101",90,10800,"232#-108",1,1209]
[null,"12203",3,"困难12-20","12213",199,0,52210,205999,10100,"20001#20003#20011#20016#20004#20002#20018","17#3340|3#3375|14#3530|79#19","60103#1|60128#1|60138#1|60143#1",1004,20,"601011#400|601012#600","601011#210101|601012#210101",90,10800,"165#-96",1,1210]
[null,"12213",3,"困难12-21","12223",199,0,52211,205999,10100,"20001#20003#20011#20016#20004#20002#20018","17#3340|3#3375|14#3530|79#19","60103#1|60128#1|60138#1|60143#1",1004,20,"601011#400|601012#600","601011#210101|601012#210101",90,10800,"106#-117",1,1211]
[null,"12223",3,"困难12-22","12233",199,0,52212,205999,10100,"20001#20003#20011#20016#20004#20002#20018","17#3340|3#3375|14#3530|79#19","60103#1|60128#1|60138#1|60143#1",1004,20,"601011#400|601012#600","601011#210101|601012#210101",90,10800,"38#-115",1,1212]
[null,"12233",3,"困难12-23","12243",199,0,52213,205999,10100,"20001#20003#20011#20016#20004#20002#20018","17#3340|3#3375|14#3530|79#19","60103#1|60128#1|60138#1|60143#1",1004,20,"601011#400|601012#600","601011#210101|601012#210101",90,10800,"-15#-158",1,1213]
[null,"12243",3,"困难12-24","12253",199,0,52214,205999,10100,"20001#20003#20011#20016#20004#20002#20018","17#3340|3#3375|14#3530|79#19","60103#1|60128#1|60138#1|60143#1",1004,20,"601011#400|601012#600","601011#210101|601012#210101",90,10800,"-48#-203",1,1214]
[null,"12253",3,"困难12-25","12263",199,0,52215,205999,10100,"20001#20003#20011#20016#20004#20002#20018","17#3340|3#3375|14#3530|79#19","60103#1|60128#1|60138#1|60143#1",1004,20,"601011#400|601012#600","601011#210101|601012#210101",90,10800,"-104#-192",1,1215]
[null,"12263",3,"困难12-26","12273",199,0,52216,205999,10100,"20001#20003#20011#20016#20004#20002#20018","17#3340|3#3375|14#3530|79#19","60103#1|60128#1|60138#1|60143#1",1004,20,"601011#400|601012#600","601011#210101|601012#210101",90,10800,"-173#-170",1,1216]
[null,"12273",3,"困难12-27","12283",199,0,52217,205999,10100,"20001#20003#20011#20016#20004#20002#20018","17#3340|3#3375|14#3530|79#19","60103#1|60128#1|60138#1|60143#1",1004,20,"601011#400|601012#600","601011#210101|601012#210101",90,10800,"-234#-184",1,1217]
[null,"12283",3,"困难12-28","12293",199,0,52218,205999,10100,"20001#20003#20011#20016#20004#20002#20018","17#3340|3#3375|14#3530|79#19","60103#1|60128#1|60138#1|60143#1",1004,20,"601011#400|601012#600","601011#210101|601012#210101",90,10800,"-291#-164",1,1218]
[null,"12293",3,"困难12-29","12303",199,0,52219,205999,10100,"20001#20003#20011#20016#20004#20002#20018","17#3340|3#3375|14#3530|79#19","60103#1|60128#1|60138#1|60143#1",1004,20,"601011#400|601012#600","601011#210101|601012#210101",90,10800,"-258#-114",2,1219]
[null,"12303",3,"困难12-30","12313",199,0,52220,205999,10100,"20001#20003#20011#20016#20004#20002#20018","17#3340|3#3375|14#3530|79#19","60103#1|60128#1|60138#1|60143#1",1004,20,"601011#400|601012#600","601011#210101|601012#210101",90,10800,"-190#-98",2,1220]
[null,"12313",3,"困难12-31","12323",199,0,52221,205999,10100,"20001#20003#20011#20016#20004#20002#20018","17#3340|3#3375|14#3530|79#19","60103#1|60128#1|60138#1|60143#1",1004,20,"601011#400|601012#600","601011#210101|601012#210101",90,10800,"-131#-65",2,1221]
[null,"12323",3,"困难12-32","12333",199,0,52222,205999,10100,"20001#20003#20011#20016#20004#20002#20018","17#3340|3#3375|14#3530|79#19","60103#1|60128#1|60138#1|60143#1",1004,20,"601011#400|601012#600","601011#210101|601012#210101",90,10800,"-86#-16",2,1222]
[null,"12333",3,"困难12-33","12343",199,0,52223,205999,10100,"20001#20003#20011#20016#20004#20002#20018","17#3340|3#3375|14#3530|79#19","60103#1|60128#1|60138#1|60143#1",1004,20,"601011#400|601012#600","601011#210101|601012#210101",90,10800,"-23#-8",2,1223]
[null,"12343",3,"困难12-34","12353",199,0,52224,205999,10100,"20001#20003#20011#20016#20004#20002#20018","17#3340|3#3375|14#3530|79#19","60103#1|60128#1|60138#1|60143#1",1004,20,"601011#400|601012#600","601011#210101|601012#210101",90,10800,"23#24",2,1224]
[null,"12353",3,"困难12-35","12363",199,0,52225,205999,10100,"20001#20003#20011#20016#20004#20002#20018","17#3340|3#3375|14#3530|79#19","60103#1|60128#1|60138#1|60143#1",1004,20,"601011#400|601012#600","601011#210101|601012#210101",90,10800,"84#39",2,1225]
[null,"12363",3,"困难12-36","12373",199,0,52226,205999,10100,"20001#20003#20011#20016#20004#20002#20018","17#3340|3#3375|14#3530|79#19","60103#1|60128#1|60138#1|60143#1",1004,20,"601011#400|601012#600","601011#210101|601012#210101",90,10800,"148#37",2,1226]
[null,"12373",3,"困难12-37","12383",199,0,52227,205999,10100,"20001#20003#20011#20016#20004#20002#20018","17#3340|3#3375|14#3530|79#19","60103#1|60128#1|60138#1|60143#1",1004,20,"601011#400|601012#600","601011#210101|601012#210101",90,10800,"182#84",1,1227]
[null,"12383",3,"困难12-38","12393",199,0,52228,205999,10100,"20001#20003#20011#20016#20004#20002#20018","17#3340|3#3375|14#3530|79#19","60103#1|60128#1|60138#1|60143#1",1004,20,"601011#400|601012#600","601011#210101|601012#210101",90,10800,"131#117",1,1228]
[null,"12393",3,"困难12-39","12403",199,0,52229,205999,10100,"20001#20003#20011#20016#20004#20002#20018","17#3340|3#3375|14#3530|79#19","60103#1|60128#1|60138#1|60143#1",1004,20,"601011#400|601012#600","601011#210101|601012#210101",90,10800,"72#132",1,1229]
[null,"12403",3,"困难12-40","13013",199,0,52230,205999,10100,"20001#20003#20011#20016#20004#20002#20018","17#3340|3#3375|14#3530|79#19","60103#1|60128#1|60138#1|60143#1",1004,20,"601011#400|601012#600","601011#210101|601012#210101",90,10800,"13#163",1,1230]
[null,"13013",3,"困难13-1","13023",199,1,52231,205999,10100,"20001#20003#20011#20016#20004#20002#20018","17#3340|3#3375|14#3530|79#19","60103#1|60128#1|60138#1|60143#1",1004,20,"601011#400|601012#600","601011#210101|601012#210101",90,10800,"215#-386",1,1231]
[null,"13023",3,"困难13-2","13033",199,0,52232,205999,10100,"20001#20003#20011#20016#20004#20002#20018","17#3340|3#3375|14#3530|79#19","60103#1|60128#1|60138#1|60143#1",1004,20,"601011#400|601012#600","601011#210101|601012#210101",90,10800,"182#-452",1,1232]
[null,"13033",3,"困难13-3","13043",199,0,52233,205999,10100,"20001#20003#20011#20016#20004#20002#20018","17#3340|3#3375|14#3530|79#19","60103#1|60128#1|60138#1|60143#1",1004,20,"601011#400|601012#600","601011#210101|601012#210101",90,10800,"105#-489",1,1233]
[null,"13043",3,"困难13-4","13053",199,0,52234,205999,10100,"20001#20003#20011#20016#20004#20002#20018","17#3340|3#3375|14#3530|79#19","60103#1|60128#1|60138#1|60143#1",1004,20,"601011#400|601012#600","601011#210101|601012#210101",90,10800,"36#-492",1,1234]
[null,"13053",3,"困难13-5","13063",199,0,52235,205999,10100,"20001#20003#20011#20016#20004#20002#20018","17#3340|3#3375|14#3530|79#19","60103#1|60128#1|60138#1|60143#1",1004,20,"601011#400|601012#600","601011#210101|601012#210101",90,10800,"-25#-454",1,1235]
[null,"13063",3,"困难13-6","13073",199,0,52236,205999,10100,"20001#20003#20011#20016#20004#20002#20018","17#3340|3#3375|14#3530|79#19","60103#1|60128#1|60138#1|60143#1",1004,20,"601011#400|601012#600","601011#210101|601012#210101",90,10800,"-27#-383",2,1236]
[null,"13073",3,"困难13-7","13083",199,0,52237,205999,10100,"20001#20003#20011#20016#20004#20002#20018","17#3340|3#3375|14#3530|79#19","60103#1|60128#1|60138#1|60143#1",1004,20,"601011#400|601012#600","601011#210101|601012#210101",90,10800,"13#-326",2,1237]
[null,"13083",3,"困难13-8","13093",199,0,52238,205999,10100,"20001#20003#20011#20016#20004#20002#20018","17#3340|3#3375|14#3530|79#19","60103#1|60128#1|60138#1|60143#1",1004,20,"601011#400|601012#600","601011#210101|601012#210101",90,10800,"76#-288",2,1238]
[null,"13093",3,"困难13-9","13103",199,0,52239,205999,10100,"20001#20003#20011#20016#20004#20002#20018","17#3340|3#3375|14#3530|79#19","60103#1|60128#1|60138#1|60143#1",1004,20,"601011#400|601012#600","601011#210101|601012#210101",90,10800,"140#-256",2,1239]
[null,"13103",3,"困难13-10","13113",199,0,52240,205999,10100,"20001#20003#20011#20016#20004#20002#20018","17#3340|3#3375|14#3530|79#19","60103#1|60128#1|60138#1|60143#1",1004,20,"601011#400|601012#600","601011#210101|601012#210101",90,10800,"167#-195",2,1240]
[null,"13113",3,"困难13-11","13123",199,0,52241,205999,10100,"20001#20003#20011#20016#20004#20002#20018","17#3340|3#3375|14#3530|79#19","60103#1|60128#1|60138#1|60143#1",1004,20,"601011#400|601012#600","601011#210101|601012#210101",90,10800,"126#-148",1,1241]
[null,"13123",3,"困难13-12","13133",199,0,52242,205999,10100,"20001#20003#20011#20016#20004#20002#20018","17#3340|3#3375|14#3530|79#19","60103#1|60128#1|60138#1|60143#1",1004,20,"601011#400|601012#600","601011#210101|601012#210101",90,10800,"59#-132",1,1242]
[null,"13133",3,"困难13-13","13143",199,0,52243,205999,10100,"20001#20003#20011#20016#20004#20002#20018","17#3340|3#3375|14#3530|79#19","60103#1|60128#1|60138#1|60143#1",1004,20,"601011#400|601012#600","601011#210101|601012#210101",90,10800,"-12#-137",1,1243]
[null,"13143",3,"困难13-14","13153",199,0,52244,205999,10100,"20001#20003#20011#20016#20004#20002#20018","17#3340|3#3375|14#3530|79#19","60103#1|60128#1|60138#1|60143#1",1004,20,"601011#400|601012#600","601011#210101|601012#210101",90,10800,"-72#-155",1,1244]
[null,"13153",3,"困难13-15","13163",199,0,52245,205999,10100,"20001#20003#20011#20016#20004#20002#20018","17#3340|3#3375|14#3530|79#19","60103#1|60128#1|60138#1|60143#1",1004,20,"601011#400|601012#600","601011#210101|601012#210101",90,10800,"-148#-158",1,1245]
[null,"13163",3,"困难13-16","13173",199,0,52246,205999,10100,"20001#20003#20011#20016#20004#20002#20018","17#3340|3#3375|14#3530|79#19","60103#1|60128#1|60138#1|60143#1",1004,20,"601011#400|601012#600","601011#210101|601012#210101",90,10800,"-206#-138",1,1246]
[null,"13173",3,"困难13-17","13183",199,0,52247,205999,10100,"20001#20003#20011#20016#20004#20002#20018","17#3340|3#3375|14#3530|79#19","60103#1|60128#1|60138#1|60143#1",1004,20,"601011#400|601012#600","601011#210101|601012#210101",90,10800,"-219#-77",1,1247]
[null,"13183",3,"困难13-18","13193",199,0,52248,205999,10100,"20001#20003#20011#20016#20004#20002#20018","17#3340|3#3375|14#3530|79#19","60103#1|60128#1|60138#1|60143#1",1004,20,"601011#400|601012#600","601011#210101|601012#210101",90,10800,"-166#-47",2,1248]
[null,"13193",3,"困难13-19","13203",199,0,52249,205999,10100,"20001#20003#20011#20016#20004#20002#20018","17#3340|3#3375|14#3530|79#19","60103#1|60128#1|60138#1|60143#1",1004,20,"601011#400|601012#600","601011#210101|601012#210101",90,10800,"-99#-54",2,1249]
[null,"13203",3,"困难13-20","13213",199,0,52250,205999,10100,"20001#20003#20011#20016#20004#20002#20018","17#3340|3#3375|14#3530|79#19","60103#1|60128#1|60138#1|60143#1",1004,20,"601011#400|601012#600","601011#210101|601012#210101",90,10800,"-23#-66",2,1250]
[null,"13213",3,"困难13-21","13223",199,0,52251,205999,10100,"20001#20003#20011#20016#20004#20002#20018","17#3340|3#3375|14#3530|79#19","60103#1|60128#1|60138#1|60143#1",1004,20,"601011#400|601012#600","601011#210101|601012#210101",90,10800,"43#-48",2,1251]
[null,"13223",3,"困难13-22","13233",199,0,52252,205999,10100,"20001#20003#20011#20016#20004#20002#20018","17#3340|3#3375|14#3530|79#19","60103#1|60128#1|60138#1|60143#1",1004,20,"601011#400|601012#600","601011#210101|601012#210101",90,10800,"110#-45",2,1252]
[null,"13233",3,"困难13-23","13243",199,0,52253,205999,10100,"20001#20003#20011#20016#20004#20002#20018","17#3340|3#3375|14#3530|79#19","60103#1|60128#1|60138#1|60143#1",1004,20,"601011#400|601012#600","601011#210101|601012#210101",90,10800,"176#-53",2,1253]
[null,"13243",3,"困难13-24","13253",199,0,52254,205999,10100,"20001#20003#20011#20016#20004#20002#20018","17#3340|3#3375|14#3530|79#19","60103#1|60128#1|60138#1|60143#1",1004,20,"601011#400|601012#600","601011#210101|601012#210101",90,10800,"239#-75",2,1254]
[null,"13253",3,"困难13-25","13263",199,0,52255,205999,10100,"20001#20003#20011#20016#20004#20002#20018","17#3340|3#3375|14#3530|79#19","60103#1|60128#1|60138#1|60143#1",1004,20,"601011#400|601012#600","601011#210101|601012#210101",90,10800,"307#-91",2,1255]
[null,"13263",3,"困难13-26","13273",199,0,52256,205999,10100,"20001#20003#20011#20016#20004#20002#20018","17#3340|3#3375|14#3530|79#19","60103#1|60128#1|60138#1|60143#1",1004,20,"601011#400|601012#600","601011#210101|601012#210101",90,10800,"375#-87",2,1256]
[null,"13273",3,"困难13-27","13283",199,0,52257,205999,10100,"20001#20003#20011#20016#20004#20002#20018","17#3340|3#3375|14#3530|79#19","60103#1|60128#1|60138#1|60143#1",1004,20,"601011#400|601012#600","601011#210101|601012#210101",90,10800,"414#-51",2,1257]
[null,"13283",3,"困难13-28","13293",199,0,52258,205999,10100,"20001#20003#20011#20016#20004#20002#20018","17#3340|3#3375|14#3530|79#19","60103#1|60128#1|60138#1|60143#1",1004,20,"601011#400|601012#600","601011#210101|601012#210101",90,10800,"411#1",1,1258]
[null,"13293",3,"困难13-29","13303",199,0,52259,205999,10100,"20001#20003#20011#20016#20004#20002#20018","17#3340|3#3375|14#3530|79#19","60103#1|60128#1|60138#1|60143#1",1004,20,"601011#400|601012#600","601011#210101|601012#210101",90,10800,"349#-1",1,1259]
[null,"13303",3,"困难13-30","13313",199,0,52260,205999,10100,"20001#20003#20011#20016#20004#20002#20018","17#3340|3#3375|14#3530|79#19","60103#1|60128#1|60138#1|60143#1",1004,20,"601011#400|601012#600","601011#210101|601012#210101",90,10800,"287#1",1,1260]
[null,"13313",3,"困难13-31","13323",199,0,52261,205999,10100,"20001#20003#20011#20016#20004#20002#20018","17#3340|3#3375|14#3530|79#19","60103#1|60128#1|60138#1|60143#1",1004,20,"601011#400|601012#600","601011#210101|601012#210101",90,10800,"314#64",2,1261]
[null,"13323",3,"困难13-32","13333",199,0,52262,205999,10100,"20001#20003#20011#20016#20004#20002#20018","17#3340|3#3375|14#3530|79#19","60103#1|60128#1|60138#1|60143#1",1004,20,"601011#400|601012#600","601011#210101|601012#210101",90,10800,"308#115",2,1262]
[null,"13333",3,"困难13-33","13343",199,0,52263,205999,10100,"20001#20003#20011#20016#20004#20002#20018","17#3340|3#3375|14#3530|79#19","60103#1|60128#1|60138#1|60143#1",1004,20,"601011#400|601012#600","601011#210101|601012#210101",90,10800,"244#137",1,1263]
[null,"13343",3,"困难13-34","13353",199,0,52264,205999,10100,"20001#20003#20011#20016#20004#20002#20018","17#3340|3#3375|14#3530|79#19","60103#1|60128#1|60138#1|60143#1",1004,20,"601011#400|601012#600","601011#210101|601012#210101",90,10800,"177#115",1,1264]
[null,"13353",3,"困难13-35","13363",199,0,52265,205999,10100,"20001#20003#20011#20016#20004#20002#20018","17#3340|3#3375|14#3530|79#19","60103#1|60128#1|60138#1|60143#1",1004,20,"601011#400|601012#600","601011#210101|601012#210101",90,10800,"112#90",1,1265]
[null,"13363",3,"困难13-36","13373",199,0,52266,205999,10100,"20001#20003#20011#20016#20004#20002#20018","17#3340|3#3375|14#3530|79#19","60103#1|60128#1|60138#1|60143#1",1004,20,"601011#400|601012#600","601011#210101|601012#210101",90,10800,"45#71",1,1266]
[null,"13373",3,"困难13-37","13383",199,0,52267,205999,10100,"20001#20003#20011#20016#20004#20002#20018","17#3340|3#3375|14#3530|79#19","60103#1|60128#1|60138#1|60143#1",1004,20,"601011#400|601012#600","601011#210101|601012#210101",90,10800,"-25#68",1,1267]
[null,"13383",3,"困难13-38","13393",199,0,52268,205999,10100,"20001#20003#20011#20016#20004#20002#20018","17#3340|3#3375|14#3530|79#19","60103#1|60128#1|60138#1|60143#1",1004,20,"601011#400|601012#600","601011#210101|601012#210101",90,10800,"-84#90",1,1268]
[null,"13393",3,"困难13-39","13403",199,0,52269,205999,10100,"20001#20003#20011#20016#20004#20002#20018","17#3340|3#3375|14#3530|79#19","60103#1|60128#1|60138#1|60143#1",1004,20,"601011#400|601012#600","601011#210101|601012#210101",90,10800,"-87#149",2,1269]
[null,"13403",3,"困难13-40","14013",199,0,52270,205999,10100,"20001#20003#20011#20016#20004#20002#20018","17#3340|3#3375|14#3530|79#19","60103#1|60128#1|60138#1|60143#1",1004,20,"601011#400|601012#600","601011#210101|601012#210101",90,10800,"-15#174",2,1270]
[null,"14013",3,"困难14-1","14023",199,1,52271,205999,10100,"20001#20003#20011#20016#20004#20002#20018","17#3340|3#3375|14#3530|79#19","60103#1|60128#1|60138#1|60143#1",1004,20,"601011#400|601012#600","601011#210101|601012#210101",90,10800,"44#-362",2,1271]
[null,"14023",3,"困难14-2","14033",199,0,52272,205999,10100,"20001#20003#20011#20016#20004#20002#20018","17#3340|3#3375|14#3530|79#19","60103#1|60128#1|60138#1|60143#1",1004,20,"601011#400|601012#600","601011#210101|601012#210101",90,10800,"103#-362",2,1272]
[null,"14033",3,"困难14-3","14043",199,0,52273,205999,10100,"20001#20003#20011#20016#20004#20002#20018","17#3340|3#3375|14#3530|79#19","60103#1|60128#1|60138#1|60143#1",1004,20,"601011#400|601012#600","601011#210101|601012#210101",90,10800,"161#-355",2,1273]
[null,"14043",3,"困难14-4","14053",199,0,52274,205999,10100,"20001#20003#20011#20016#20004#20002#20018","17#3340|3#3375|14#3530|79#19","60103#1|60128#1|60138#1|60143#1",1004,20,"601011#400|601012#600","601011#210101|601012#210101",90,10800,"211#-347",2,1274]
[null,"14053",3,"困难14-5","14063",199,0,52275,205999,10100,"20001#20003#20011#20016#20004#20002#20018","17#3340|3#3375|14#3530|79#19","60103#1|60128#1|60138#1|60143#1",1004,20,"601011#400|601012#600","601011#210101|601012#210101",90,10800,"269#-329",2,1275]
[null,"14063",3,"困难14-6","14073",199,0,52276,205999,10100,"20001#20003#20011#20016#20004#20002#20018","17#3340|3#3375|14#3530|79#19","60103#1|60128#1|60138#1|60143#1",1004,20,"601011#400|601012#600","601011#210101|601012#210101",90,10800,"293#-292",2,1276]
[null,"14073",3,"困难14-7","14083",199,0,52277,205999,10100,"20001#20003#20011#20016#20004#20002#20018","17#3340|3#3375|14#3530|79#19","60103#1|60128#1|60138#1|60143#1",1004,20,"601011#400|601012#600","601011#210101|601012#210101",90,10800,"280#-253",2,1277]
[null,"14083",3,"困难14-8","14093",199,0,52278,205999,10100,"20001#20003#20011#20016#20004#20002#20018","17#3340|3#3375|14#3530|79#19","60103#1|60128#1|60138#1|60143#1",1004,20,"601011#400|601012#600","601011#210101|601012#210101",90,10800,"336#-254",2,1278]
[null,"14093",3,"困难14-9","14103",199,0,52279,205999,10100,"20001#20003#20011#20016#20004#20002#20018","17#3340|3#3375|14#3530|79#19","60103#1|60128#1|60138#1|60143#1",1004,20,"601011#400|601012#600","601011#210101|601012#210101",90,10800,"390#-252",2,1279]
[null,"14103",3,"困难14-10","14113",199,0,52280,205999,10100,"20001#20003#20011#20016#20004#20002#20018","17#3340|3#3375|14#3530|79#19","60103#1|60128#1|60138#1|60143#1",1004,20,"601011#400|601012#600","601011#210101|601012#210101",90,10800,"433#-220",2,1280]
[null,"14113",3,"困难14-11","14123",199,0,52281,205999,10100,"20001#20003#20011#20016#20004#20002#20018","17#3340|3#3375|14#3530|79#19","60103#1|60128#1|60138#1|60143#1",1004,20,"601011#400|601012#600","601011#210101|601012#210101",90,10800,"409#-176",1,1281]
[null,"14123",3,"困难14-12","14133",199,0,52282,205999,10100,"20001#20003#20011#20016#20004#20002#20018","17#3340|3#3375|14#3530|79#19","60103#1|60128#1|60138#1|60143#1",1004,20,"601011#400|601012#600","601011#210101|601012#210101",90,10800,"359#-164",1,1282]
[null,"14133",3,"困难14-13","14143",199,0,52283,205999,10100,"20001#20003#20011#20016#20004#20002#20018","17#3340|3#3375|14#3530|79#19","60103#1|60128#1|60138#1|60143#1",1004,20,"601011#400|601012#600","601011#210101|601012#210101",90,10800,"305#-159",1,1283]
[null,"14143",3,"困难14-14","14153",199,0,52284,205999,10100,"20001#20003#20011#20016#20004#20002#20018","17#3340|3#3375|14#3530|79#19","60103#1|60128#1|60138#1|60143#1",1004,20,"601011#400|601012#600","601011#210101|601012#210101",90,10800,"247#-157",1,1284]
[null,"14153",3,"困难14-15","14163",199,0,52285,205999,10100,"20001#20003#20011#20016#20004#20002#20018","17#3340|3#3375|14#3530|79#19","60103#1|60128#1|60138#1|60143#1",1004,20,"601011#400|601012#600","601011#210101|601012#210101",90,10800,"231#-195",1,1285]
[null,"14163",3,"困难14-16","14173",199,0,52286,205999,10100,"20001#20003#20011#20016#20004#20002#20018","17#3340|3#3375|14#3530|79#19","60103#1|60128#1|60138#1|60143#1",1004,20,"601011#400|601012#600","601011#210101|601012#210101",90,10800,"203#-237",1,1286]
[null,"14173",3,"困难14-17","14183",199,0,52287,205999,10100,"20001#20003#20011#20016#20004#20002#20018","17#3340|3#3375|14#3530|79#19","60103#1|60128#1|60138#1|60143#1",1004,20,"601011#400|601012#600","601011#210101|601012#210101",90,10800,"145#-243",1,1287]
[null,"14183",3,"困难14-18","14193",199,0,52288,205999,10100,"20001#20003#20011#20016#20004#20002#20018","17#3340|3#3375|14#3530|79#19","60103#1|60128#1|60138#1|60143#1",1004,20,"601011#400|601012#600","601011#210101|601012#210101",90,10800,"91#-239",1,1288]
[null,"14193",3,"困难14-19","14203",199,0,52289,205999,10100,"20001#20003#20011#20016#20004#20002#20018","17#3340|3#3375|14#3530|79#19","60103#1|60128#1|60138#1|60143#1",1004,20,"601011#400|601012#600","601011#210101|601012#210101",90,10800,"41#-206",1,1289]
[null,"14203",3,"困难14-20","14213",199,0,52290,205999,10100,"20001#20003#20011#20016#20004#20002#20018","17#3340|3#3375|14#3530|79#19","60103#1|60128#1|60138#1|60143#1",1004,20,"601011#400|601012#600","601011#210101|601012#210101",90,10800,"51#-151",1,1290]
[null,"14213",3,"困难14-21","14223",199,0,52291,205999,10100,"20001#20003#20011#20016#20004#20002#20018","17#3340|3#3375|14#3530|79#19","60103#1|60128#1|60138#1|60143#1",1004,20,"601011#400|601012#600","601011#210101|601012#210101",90,10800,"2#-123",1,1291]
[null,"14223",3,"困难14-22","14233",199,0,52292,205999,10100,"20001#20003#20011#20016#20004#20002#20018","17#3340|3#3375|14#3530|79#19","60103#1|60128#1|60138#1|60143#1",1004,20,"601011#400|601012#600","601011#210101|601012#210101",90,10800,"-55#-128",1,1292]
[null,"14233",3,"困难14-23","14243",199,0,52293,205999,10100,"20001#20003#20011#20016#20004#20002#20018","17#3340|3#3375|14#3530|79#19","60103#1|60128#1|60138#1|60143#1",1004,20,"601011#400|601012#600","601011#210101|601012#210101",90,10800,"-115#-143",1,1293]
[null,"14243",3,"困难14-24","14253",199,0,52294,205999,10100,"20001#20003#20011#20016#20004#20002#20018","17#3340|3#3375|14#3530|79#19","60103#1|60128#1|60138#1|60143#1",1004,20,"601011#400|601012#600","601011#210101|601012#210101",90,10800,"-160#-155",1,1294]
[null,"14253",3,"困难14-25","14263",199,0,52295,205999,10100,"20001#20003#20011#20016#20004#20002#20018","17#3340|3#3375|14#3530|79#19","60103#1|60128#1|60138#1|60143#1",1004,20,"601011#400|601012#600","601011#210101|601012#210101",90,10800,"-218#-143",1,1295]
[null,"14263",3,"困难14-26","14273",199,0,52296,205999,10100,"20001#20003#20011#20016#20004#20002#20018","17#3340|3#3375|14#3530|79#19","60103#1|60128#1|60138#1|60143#1",1004,20,"601011#400|601012#600","601011#210101|601012#210101",90,10800,"-251#-107",1,1296]
[null,"14273",3,"困难14-27","14283",199,0,52297,205999,10100,"20001#20003#20011#20016#20004#20002#20018","17#3340|3#3375|14#3530|79#19","60103#1|60128#1|60138#1|60143#1",1004,20,"601011#400|601012#600","601011#210101|601012#210101",90,10800,"-214#-76",2,1297]
[null,"14283",3,"困难14-28","14293",199,0,52298,205999,10100,"20001#20003#20011#20016#20004#20002#20018","17#3340|3#3375|14#3530|79#19","60103#1|60128#1|60138#1|60143#1",1004,20,"601011#400|601012#600","601011#210101|601012#210101",90,10800,"-160#-71",2,1298]
[null,"14293",3,"困难14-29","14303",199,0,52299,205999,10100,"20001#20003#20011#20016#20004#20002#20018","17#3340|3#3375|14#3530|79#19","60103#1|60128#1|60138#1|60143#1",1004,20,"601011#400|601012#600","601011#210101|601012#210101",90,10800,"-106#-63",2,1299]
[null,"14303",3,"困难14-30","14313",199,0,52300,205999,10100,"20001#20003#20011#20016#20004#20002#20018","17#3340|3#3375|14#3530|79#19","60103#1|60128#1|60138#1|60143#1",1004,20,"601011#400|601012#600","601011#210101|601012#210101",90,10800,"-46#-45",2,1300]
[null,"14313",3,"困难14-31","14323",199,0,52301,205999,10100,"20001#20003#20011#20016#20004#20002#20018","17#3340|3#3375|14#3530|79#19","60103#1|60128#1|60138#1|60143#1",1004,20,"601011#400|601012#600","601011#210101|601012#210101",90,10800,"4#-48",2,1301]
[null,"14323",3,"困难14-32","14333",199,0,52302,205999,10100,"20001#20003#20011#20016#20004#20002#20018","17#3340|3#3375|14#3530|79#19","60103#1|60128#1|60138#1|60143#1",1004,20,"601011#400|601012#600","601011#210101|601012#210101",90,10800,"59#-58",2,1302]
[null,"14333",3,"困难14-33","14343",199,0,52303,205999,10100,"20001#20003#20011#20016#20004#20002#20018","17#3340|3#3375|14#3530|79#19","60103#1|60128#1|60138#1|60143#1",1004,20,"601011#400|601012#600","601011#210101|601012#210101",90,10800,"110#-60",2,1303]
[null,"14343",3,"困难14-34","14353",199,0,52304,205999,10100,"20001#20003#20011#20016#20004#20002#20018","17#3340|3#3375|14#3530|79#19","60103#1|60128#1|60138#1|60143#1",1004,20,"601011#400|601012#600","601011#210101|601012#210101",90,10800,"158#-54",2,1304]
[null,"14353",3,"困难14-35","14363",199,0,52305,205999,10100,"20001#20003#20011#20016#20004#20002#20018","17#3340|3#3375|14#3530|79#19","60103#1|60128#1|60138#1|60143#1",1004,20,"601011#400|601012#600","601011#210101|601012#210101",90,10800,"191#-23",2,1305]
[null,"14363",3,"困难14-36","14373",199,0,52306,205999,10100,"20001#20003#20011#20016#20004#20002#20018","17#3340|3#3375|14#3530|79#19","60103#1|60128#1|60138#1|60143#1",1004,20,"601011#400|601012#600","601011#210101|601012#210101",90,10800,"173#14",1,1306]
[null,"14373",3,"困难14-37","14383",199,0,52307,205999,10100,"20001#20003#20011#20016#20004#20002#20018","17#3340|3#3375|14#3530|79#19","60103#1|60128#1|60138#1|60143#1",1004,20,"601011#400|601012#600","601011#210101|601012#210101",90,10800,"130#29",1,1307]
[null,"14383",3,"困难14-38","14393",199,0,52308,205999,10100,"20001#20003#20011#20016#20004#20002#20018","17#3340|3#3375|14#3530|79#19","60103#1|60128#1|60138#1|60143#1",1004,20,"601011#400|601012#600","601011#210101|601012#210101",90,10800,"93#33",1,1308]
[null,"14393",3,"困难14-39","14403",199,0,52309,205999,10100,"20001#20003#20011#20016#20004#20002#20018","17#3340|3#3375|14#3530|79#19","60103#1|60128#1|60138#1|60143#1",1004,20,"601011#400|601012#600","601011#210101|601012#210101",90,10800,"56#35",1,1309]
[null,"14403",3,"困难14-40","15013",199,0,52310,205999,10100,"20001#20003#20011#20016#20004#20002#20018","17#3340|3#3375|14#3530|79#19","60103#1|60128#1|60138#1|60143#1",1004,20,"601011#400|601012#600","601011#210101|601012#210101",90,10800,"12#35",1,1310]
[null,"15013",3,"困难15-1","15023",199,1,52311,205999,10100,"20001#20003#20011#20016#20004#20002#20018","17#3340|3#3375|14#3530|79#19","60103#1|60128#1|60138#1|60143#1",1004,20,"601011#400|601012#600","601011#210101|601012#210101",90,10800,"483#-348",1,1311]
[null,"15023",3,"困难15-2","15033",199,0,52312,205999,10100,"20001#20003#20011#20016#20004#20002#20018","17#3340|3#3375|14#3530|79#19","60103#1|60128#1|60138#1|60143#1",1004,20,"601011#400|601012#600","601011#210101|601012#210101",90,10800,"422#-322",1,1312]
[null,"15033",3,"困难15-3","15043",199,0,52313,205999,10100,"20001#20003#20011#20016#20004#20002#20018","17#3340|3#3375|14#3530|79#19","60103#1|60128#1|60138#1|60143#1",1004,20,"601011#400|601012#600","601011#210101|601012#210101",90,10800,"355#-317",1,1313]
[null,"15043",3,"困难15-4","15053",199,0,52314,205999,10100,"20001#20003#20011#20016#20004#20002#20018","17#3340|3#3375|14#3530|79#19","60103#1|60128#1|60138#1|60143#1",1004,20,"601011#400|601012#600","601011#210101|601012#210101",90,10800,"295#-326",1,1314]
[null,"15053",3,"困难15-5","15063",199,0,52315,205999,10100,"20001#20003#20011#20016#20004#20002#20018","17#3340|3#3375|14#3530|79#19","60103#1|60128#1|60138#1|60143#1",1004,20,"601011#400|601012#600","601011#210101|601012#210101",90,10800,"232#-345",1,1315]
[null,"15063",3,"困难15-6","15073",199,0,52316,205999,10100,"20001#20003#20011#20016#20004#20002#20018","17#3340|3#3375|14#3530|79#19","60103#1|60128#1|60138#1|60143#1",1004,20,"601011#400|601012#600","601011#210101|601012#210101",90,10800,"173#-355",1,1316]
[null,"15073",3,"困难15-7","15083",199,0,52317,205999,10100,"20001#20003#20011#20016#20004#20002#20018","17#3340|3#3375|14#3530|79#19","60103#1|60128#1|60138#1|60143#1",1004,20,"601011#400|601012#600","601011#210101|601012#210101",90,10800,"124#-327",1,1317]
[null,"15083",3,"困难15-8","15093",199,0,52318,205999,10100,"20001#20003#20011#20016#20004#20002#20018","17#3340|3#3375|14#3530|79#19","60103#1|60128#1|60138#1|60143#1",1004,20,"601011#400|601012#600","601011#210101|601012#210101",90,10800,"141#-275",2,1318]
[null,"15093",3,"困难15-9","15103",199,0,52319,205999,10100,"20001#20003#20011#20016#20004#20002#20018","17#3340|3#3375|14#3530|79#19","60103#1|60128#1|60138#1|60143#1",1004,20,"601011#400|601012#600","601011#210101|601012#210101",90,10800,"123#-227",1,1319]
[null,"15103",3,"困难15-10","15113",199,0,52320,205999,10100,"20001#20003#20011#20016#20004#20002#20018","17#3340|3#3375|14#3530|79#19","60103#1|60128#1|60138#1|60143#1",1004,20,"601011#400|601012#600","601011#210101|601012#210101",90,10800,"53#-225",1,1320]
[null,"15113",3,"困难15-11","15123",199,0,52321,205999,10100,"20001#20003#20011#20016#20004#20002#20018","17#3340|3#3375|14#3530|79#19","60103#1|60128#1|60138#1|60143#1",1004,20,"601011#400|601012#600","601011#210101|601012#210101",90,10800,"-20#-258",1,1321]
[null,"15123",3,"困难15-12","15133",199,0,52322,205999,10100,"20001#20003#20011#20016#20004#20002#20018","17#3340|3#3375|14#3530|79#19","60103#1|60128#1|60138#1|60143#1",1004,20,"601011#400|601012#600","601011#210101|601012#210101",90,10800,"-67#-294",1,1322]
[null,"15133",3,"困难15-13","15143",199,0,52323,205999,10100,"20001#20003#20011#20016#20004#20002#20018","17#3340|3#3375|14#3530|79#19","60103#1|60128#1|60138#1|60143#1",1004,20,"601011#400|601012#600","601011#210101|601012#210101",90,10800,"-119#-336",1,1323]
[null,"15143",3,"困难15-14","15153",199,0,52324,205999,10100,"20001#20003#20011#20016#20004#20002#20018","17#3340|3#3375|14#3530|79#19","60103#1|60128#1|60138#1|60143#1",1004,20,"601011#400|601012#600","601011#210101|601012#210101",90,10800,"-177#-364",1,1324]
[null,"15153",3,"困难15-15","15163",199,0,52325,205999,10100,"20001#20003#20011#20016#20004#20002#20018","17#3340|3#3375|14#3530|79#19","60103#1|60128#1|60138#1|60143#1",1004,20,"601011#400|601012#600","601011#210101|601012#210101",90,10800,"-243#-367",1,1325]
[null,"15163",3,"困难15-16","15173",199,0,52326,205999,10100,"20001#20003#20011#20016#20004#20002#20018","17#3340|3#3375|14#3530|79#19","60103#1|60128#1|60138#1|60143#1",1004,20,"601011#400|601012#600","601011#210101|601012#210101",90,10800,"-303#-355",1,1326]
[null,"15173",3,"困难15-17","15183",199,0,52327,205999,10100,"20001#20003#20011#20016#20004#20002#20018","17#3340|3#3375|14#3530|79#19","60103#1|60128#1|60138#1|60143#1",1004,20,"601011#400|601012#600","601011#210101|601012#210101",90,10800,"-354#-330",1,1327]
[null,"15183",3,"困难15-18","15193",199,0,52328,205999,10100,"20001#20003#20011#20016#20004#20002#20018","17#3340|3#3375|14#3530|79#19","60103#1|60128#1|60138#1|60143#1",1004,20,"601011#400|601012#600","601011#210101|601012#210101",90,10800,"-407#-307",1,1328]
[null,"15193",3,"困难15-19","15203",199,0,52329,205999,10100,"20001#20003#20011#20016#20004#20002#20018","17#3340|3#3375|14#3530|79#19","60103#1|60128#1|60138#1|60143#1",1004,20,"601011#400|601012#600","601011#210101|601012#210101",90,10800,"-427#-256",2,1329]
[null,"15203",3,"困难15-20","15213",199,0,52330,205999,10100,"20001#20003#20011#20016#20004#20002#20018","17#3340|3#3375|14#3530|79#19","60103#1|60128#1|60138#1|60143#1",1004,20,"601011#400|601012#600","601011#210101|601012#210101",90,10800,"-367#-244",2,1330]
[null,"15213",3,"困难15-21","15223",199,0,52331,205999,10100,"20001#20003#20011#20016#20004#20002#20018","17#3340|3#3375|14#3530|79#19","60103#1|60128#1|60138#1|60143#1",1004,20,"601011#400|601012#600","601011#210101|601012#210101",90,10800,"-302#-248",2,1331]
[null,"15223",3,"困难15-22","15233",199,0,52332,205999,10100,"20001#20003#20011#20016#20004#20002#20018","17#3340|3#3375|14#3530|79#19","60103#1|60128#1|60138#1|60143#1",1004,20,"601011#400|601012#600","601011#210101|601012#210101",90,10800,"-251#-218",2,1332]
[null,"15233",3,"困难15-23","15243",199,0,52333,205999,10100,"20001#20003#20011#20016#20004#20002#20018","17#3340|3#3375|14#3530|79#19","60103#1|60128#1|60138#1|60143#1",1004,20,"601011#400|601012#600","601011#210101|601012#210101",90,10800,"-249#-156",2,1333]
[null,"15243",3,"困难15-24","15253",199,0,52334,205999,10100,"20001#20003#20011#20016#20004#20002#20018","17#3340|3#3375|14#3530|79#19","60103#1|60128#1|60138#1|60143#1",1004,20,"601011#400|601012#600","601011#210101|601012#210101",90,10800,"-190#-140",2,1334]
[null,"15253",3,"困难15-25","15263",199,0,52335,205999,10100,"20001#20003#20011#20016#20004#20002#20018","17#3340|3#3375|14#3530|79#19","60103#1|60128#1|60138#1|60143#1",1004,20,"601011#400|601012#600","601011#210101|601012#210101",90,10800,"-125#-150",2,1335]
[null,"15263",3,"困难15-26","15273",199,0,52336,205999,10100,"20001#20003#20011#20016#20004#20002#20018","17#3340|3#3375|14#3530|79#19","60103#1|60128#1|60138#1|60143#1",1004,20,"601011#400|601012#600","601011#210101|601012#210101",90,10800,"-67#-140",2,1336]
[null,"15273",3,"困难15-27","15283",199,0,52337,205999,10100,"20001#20003#20011#20016#20004#20002#20018","17#3340|3#3375|14#3530|79#19","60103#1|60128#1|60138#1|60143#1",1004,20,"601011#400|601012#600","601011#210101|601012#210101",90,10800,"-78#-95",1,1337]
[null,"15283",3,"困难15-28","15293",199,0,52338,205999,10100,"20001#20003#20011#20016#20004#20002#20018","17#3340|3#3375|14#3530|79#19","60103#1|60128#1|60138#1|60143#1",1004,20,"601011#400|601012#600","601011#210101|601012#210101",90,10800,"-143#-92",1,1338]
[null,"15293",3,"困难15-29","15303",199,0,52339,205999,10100,"20001#20003#20011#20016#20004#20002#20018","17#3340|3#3375|14#3530|79#19","60103#1|60128#1|60138#1|60143#1",1004,20,"601011#400|601012#600","601011#210101|601012#210101",90,10800,"-195#-98",1,1339]
[null,"15303",3,"困难15-30","15313",199,0,52340,205999,10100,"20001#20003#20011#20016#20004#20002#20018","17#3340|3#3375|14#3530|79#19","60103#1|60128#1|60138#1|60143#1",1004,20,"601011#400|601012#600","601011#210101|601012#210101",90,10800,"-249#-77",1,1340]
[null,"15313",3,"困难15-31","15323",199,0,52341,205999,10100,"20001#20003#20011#20016#20004#20002#20018","17#3340|3#3375|14#3530|79#19","60103#1|60128#1|60138#1|60143#1",1004,20,"601011#400|601012#600","601011#210101|601012#210101",90,10800,"-250#-16",2,1341]
[null,"15323",3,"困难15-32","15333",199,0,52342,205999,10100,"20001#20003#20011#20016#20004#20002#20018","17#3340|3#3375|14#3530|79#19","60103#1|60128#1|60138#1|60143#1",1004,20,"601011#400|601012#600","601011#210101|601012#210101",90,10800,"-189#12",2,1342]
[null,"15333",3,"困难15-33","15343",199,0,52343,205999,10100,"20001#20003#20011#20016#20004#20002#20018","17#3340|3#3375|14#3530|79#19","60103#1|60128#1|60138#1|60143#1",1004,20,"601011#400|601012#600","601011#210101|601012#210101",90,10800,"-125#23",2,1343]
[null,"15343",3,"困难15-34","15353",199,0,52344,205999,10100,"20001#20003#20011#20016#20004#20002#20018","17#3340|3#3375|14#3530|79#19","60103#1|60128#1|60138#1|60143#1",1004,20,"601011#400|601012#600","601011#210101|601012#210101",90,10800,"-59#22",2,1344]
[null,"15353",3,"困难15-35","15363",199,0,52345,205999,10100,"20001#20003#20011#20016#20004#20002#20018","17#3340|3#3375|14#3530|79#19","60103#1|60128#1|60138#1|60143#1",1004,20,"601011#400|601012#600","601011#210101|601012#210101",90,10800,"15#-7",2,1345]
[null,"15363",3,"困难15-36","15373",199,0,52346,205999,10100,"20001#20003#20011#20016#20004#20002#20018","17#3340|3#3375|14#3530|79#19","60103#1|60128#1|60138#1|60143#1",1004,20,"601011#400|601012#600","601011#210101|601012#210101",90,10800,"64#-66",2,1346]
[null,"15373",3,"困难15-37","15383",199,0,52347,205999,10100,"20001#20003#20011#20016#20004#20002#20018","17#3340|3#3375|14#3530|79#19","60103#1|60128#1|60138#1|60143#1",1004,20,"601011#400|601012#600","601011#210101|601012#210101",90,10800,"124#-111",2,1347]
[null,"15383",3,"困难15-38","15393",199,0,52348,205999,10100,"20001#20003#20011#20016#20004#20002#20018","17#3340|3#3375|14#3530|79#19","60103#1|60128#1|60138#1|60143#1",1004,20,"601011#400|601012#600","601011#210101|601012#210101",90,10800,"184#-130",2,1348]
[null,"15393",3,"困难15-39","15403",199,0,52349,205999,10100,"20001#20003#20011#20016#20004#20002#20018","17#3340|3#3375|14#3530|79#19","60103#1|60128#1|60138#1|60143#1",1004,20,"601011#400|601012#600","601011#210101|601012#210101",90,10800,"242#-131",2,1349]
[null,"15403",3,"困难15-40","1014",199,0,52350,205999,10100,"20001#20003#20011#20016#20004#20002#20018","17#3340|3#3375|14#3530|79#19","60103#1|60128#1|60138#1|60143#1",1004,20,"601011#400|601012#600","601011#210101|601012#210101",90,10800,"302#-123",2,1350]
[null,"1014",4,"地狱1-1","1024",199,1,51011,205999,10100,"20001#20003#20011#20016#20004#20002#20018","17#3340|3#3375|14#3530|79#19","60103#1|60128#1|60138#1|60143#1",1004,20,"601011#400|601012#600","601011#210101|601012#210101",90,10800,{"$f":"T758","v":"433#-270"},{"$f":"U758","v":1},1351]
[null,"1024",4,"地狱1-2","1034",199,0,51011,205999,10100,"20001#20003#20011#20016#20004#20002#20018","17#3340|3#3375|14#3530|79#19","60103#1|60128#1|60138#1|60143#1",1004,20,"601011#400|601012#600","601011#210101|601012#210101",90,10800,{"$f":"T759","v":"384#-278"},1,1352]
[null,"1034",4,"地狱1-3","1044",199,0,51011,205999,10100,"20001#20003#20011#20016#20004#20002#20018","17#3340|3#3375|14#3530|79#19","60103#1|60128#1|60138#1|60143#1",1004,20,"601011#400|601012#600","601011#210101|601012#210101",90,10800,{"$f":"T760","v":"348#-313"},1,1353]
[null,"1044",4,"地狱1-4","1054",199,0,51011,205999,10100,"20001#20003#20011#20016#20004#20002#20018","17#3340|3#3375|14#3530|79#19","60103#1|60128#1|60138#1|60143#1",1004,20,"601011#400|601012#600","601011#210101|601012#210101",90,10800,{"$f":"T761","v":"308#-338"},1,1354]
[null,"1054",4,"地狱1-5","1064",199,0,51011,205999,10100,"20001#20003#20011#20016#20004#20002#20018","17#3340|3#3375|14#3530|79#19","60103#1|60128#1|60138#1|60143#1",1004,20,"601011#400|601012#600","601011#210101|601012#210101",90,10800,{"$f":"T762","v":"259#-356"},1,1355]
[null,"1064",4,"地狱1-6","1074",199,0,51011,205999,10100,"20001#20003#20011#20016#20004#20002#20018","17#3340|3#3375|14#3530|79#19","60103#1|60128#1|60138#1|60143#1",1004,20,"601011#400|601012#600","601011#210101|601012#210101",90,10800,{"$f":"T763","v":"202#-368"},1,1356]
[null,"1074",4,"地狱1-7","1084",199,0,51011,205999,10100,"20001#20003#20011#20016#20004#20002#20018","17#3340|3#3375|14#3530|79#19","60103#1|60128#1|60138#1|60143#1",1004,20,"601011#400|601012#600","601011#210101|601012#210101",90,10800,{"$f":"T764","v":"149#-359"},1,1357]
[null,"1084",4,"地狱1-8","1094",199,0,51011,205999,10100,"20001#20003#20011#20016#20004#20002#20018","17#3340|3#3375|14#3530|79#19","60103#1|60128#1|60138#1|60143#1",1004,20,"601011#400|601012#600","601011#210101|601012#210101",90,10800,{"$f":"T765","v":"91#-345"},1,1358]
[null,"1094",4,"地狱1-9","1104",199,0,51011,205999,10100,"20001#20003#20011#20016#20004#20002#20018","17#3340|3#3375|14#3530|79#19","60103#1|60128#1|60138#1|60143#1",1004,20,"601011#400|601012#600","601011#210101|601012#210101",90,10800,{"$f":"T766","v":"35#-364"},1,1359]
[null,"1104",4,"地狱1-10","1114",199,0,51011,205999,10100,"20001#20003#20011#20016#20004#20002#20018","17#3340|3#3375|14#3530|79#19","60103#1|60128#1|60138#1|60143#1",1004,20,"601011#400|601012#600","601011#210101|601012#210101",90,10800,{"$f":"T767","v":"-15#-378"},1,1360]
[null,"1114",4,"地狱1-11","1124",199,0,51011,205999,10100,"20001#20003#20011#20016#20004#20002#20018","17#3340|3#3375|14#3530|79#19","60103#1|60128#1|60138#1|60143#1",1004,20,"601011#400|601012#600","601011#210101|601012#210101",90,10800,{"$f":"T768","v":"-68#-379"},1,1361]
[null,"1124",4,"地狱1-12","1134",199,0,51011,205999,10100,"20001#20003#20011#20016#20004#20002#20018","17#3340|3#3375|14#3530|79#19","60103#1|60128#1|60138#1|60143#1",1004,20,"601011#400|601012#600","601011#210101|601012#210101",90,10800,{"$f":"T769","v":"-119#-393"},1,1362]
[null,"1134",4,"地狱1-13","1144",199,0,51011,205999,10100,"20001#20003#20011#20016#20004#20002#20018","17#3340|3#3375|14#3530|79#19","60103#1|60128#1|60138#1|60143#1",1004,20,"601011#400|601012#600","601011#210101|601012#210101",90,10800,{"$f":"T770","v":"-160#-420"},1,1363]
[null,"1144",4,"地狱1-14","1154",199,0,51011,205999,10100,"20001#20003#20011#20016#20004#20002#20018","17#3340|3#3375|14#3530|79#19","60103#1|60128#1|60138#1|60143#1",1004,20,"601011#400|601012#600","601011#210101|601012#210101",90,10800,{"$f":"T771","v":"-202#-432"},1,1364]
[null,"1154",4,"地狱1-15","1164",199,0,51011,205999,10100,"20001#20003#20011#20016#20004#20002#20018","17#3340|3#3375|14#3530|79#19","60103#1|60128#1|60138#1|60143#1",1004,20,"601011#400|601012#600","601011#210101|601012#210101",90,10800,{"$f":"T772","v":"-245#-410"},1,1365]
[null,"1164",4,"地狱1-16","1174",199,0,51011,205999,10100,"20001#20003#20011#20016#20004#20002#20018","17#3340|3#3375|14#3530|79#19","60103#1|60128#1|60138#1|60143#1",1004,20,"601011#400|601012#600","601011#210101|601012#210101",90,10800,{"$f":"T773","v":"-242#-363"},1,1366]
[null,"1174",4,"地狱1-17","1184",199,0,51011,205999,10100,"20001#20003#20011#20016#20004#20002#20018","17#3340|3#3375|14#3530|79#19","60103#1|60128#1|60138#1|60143#1",1004,20,"601011#400|601012#600","601011#210101|601012#210101",90,10800,{"$f":"T774","v":"-225#-325"},1,1367]
[null,"1184",4,"地狱1-18","1194",199,0,51011,205999,10100,"20001#20003#20011#20016#20004#20002#20018","17#3340|3#3375|14#3530|79#19","60103#1|60128#1|60138#1|60143#1",1004,20,"601011#400|601012#600","601011#210101|601012#210101",90,10800,{"$f":"T775","v":"-245#-286"},1,1368]
[null,"1194",4,"地狱1-19","1204",199,0,51011,205999,10100,"20001#20003#20011#20016#20004#20002#20018","17#3340|3#3375|14#3530|79#19","60103#1|60128#1|60138#1|60143#1",1004,20,"601011#400|601012#600","601011#210101|601012#210101",90,10800,{"$f":"T776","v":"-292#-272"},1,1369]
[null,"1204",4,"地狱1-20","1214",199,0,51011,205999,10100,"20001#20003#20011#20016#20004#20002#20018","17#3340|3#3375|14#3530|79#19","60103#1|60128#1|60138#1|60143#1",1004,20,"601011#400|601012#600","601011#210101|601012#210101",90,10800,{"$f":"T777","v":"-338#-256"},1,1370]
[null,"1214",4,"地狱1-21","1224",199,0,51011,205999,10100,"20001#20003#20011#20016#20004#20002#20018","17#3340|3#3375|14#3530|79#19","60103#1|60128#1|60138#1|60143#1",1004,20,"601011#400|601012#600","601011#210101|601012#210101",90,10800,{"$f":"T778","v":"-366#-212"},1,1371]
[null,"1224",4,"地狱1-22","1234",199,0,51011,205999,10100,"20001#20003#20011#20016#20004#20002#20018","17#3340|3#3375|14#3530|79#19","60103#1|60128#1|60138#1|60143#1",1004,20,"601011#400|601012#600","601011#210101|601012#210101",90,10800,{"$f":"T779","v":"-339#-174"},2,1372]
[null,"1234",4,"地狱1-23","1244",199,0,51011,205999,10100,"20001#20003#20011#20016#20004#20002#20018","17#3340|3#3375|14#3530|79#19","60103#1|60128#1|60138#1|60143#1",1004,20,"601011#400|601012#600","601011#210101|601012#210101",90,10800,{"$f":"T780","v":"-294#-152"},2,1373]
[null,"1244",4,"地狱1-24","1254",199,0,51011,205999,10100,"20001#20003#20011#20016#20004#20002#20018","17#3340|3#3375|14#3530|79#19","60103#1|60128#1|60138#1|60143#1",1004,20,"601011#400|601012#600","601011#210101|601012#210101",90,10800,{"$f":"T781","v":"-243#-143"},2,1374]
[null,"1254",4,"地狱1-25","1264",199,0,51011,205999,10100,"20001#20003#20011#20016#20004#20002#20018","17#3340|3#3375|14#3530|79#19","60103#1|60128#1|60138#1|60143#1",1004,20,"601011#400|601012#600","601011#210101|601012#210101",90,10800,{"$f":"T782","v":"-191#-146"},2,1375]
[null,"1264",4,"地狱1-26","1274",199,0,51011,205999,10100,"20001#20003#20011#20016#20004#20002#20018","17#3340|3#3375|14#3530|79#19","60103#1|60128#1|60138#1|60143#1",1004,20,"601011#400|601012#600","601011#210101|601012#210101",90,10800,{"$f":"T783","v":"-163#-188"},2,1376]
[null,"1274",4,"地狱1-27","1284",199,0,51011,205999,10100,"20001#20003#20011#20016#20004#20002#20018","17#3340|3#3375|14#3530|79#19","60103#1|60128#1|60138#1|60143#1",1004,20,"601011#400|601012#600","601011#210101|601012#210101",90,10800,{"$f":"T784","v":"-164#-236"},2,1377]
[null,"1284",4,"地狱1-28","1294",199,0,51011,205999,10100,"20001#20003#20011#20016#20004#20002#20018","17#3340|3#3375|14#3530|79#19","60103#1|60128#1|60138#1|60143#1",1004,20,"601011#400|601012#600","601011#210101|601012#210101",90,10800,{"$f":"T785","v":"-123#-253"},2,1378]
[null,"1294",4,"地狱1-29","1304",199,0,51011,205999,10100,"20001#20003#20011#20016#20004#20002#20018","17#3340|3#3375|14#3530|79#19","60103#1|60128#1|60138#1|60143#1",1004,20,"601011#400|601012#600","601011#210101|601012#210101",90,10800,{"$f":"T786","v":"-73#-248"},2,1379]
[null,"1304",4,"地狱1-30","1314",199,0,51011,205999,10100,"20001#20003#20011#20016#20004#20002#20018","17#3340|3#3375|14#3530|79#19","60103#1|60128#1|60138#1|60143#1",1004,20,"601011#400|601012#600","601011#210101|601012#210101",90,10800,{"$f":"T787","v":"-24#-226"},2,1380]
[null,"1314",4,"地狱1-31","1324",199,0,51011,205999,10100,"20001#20003#20011#20016#20004#20002#20018","17#3340|3#3375|14#3530|79#19","60103#1|60128#1|60138#1|60143#1",1004,20,"601011#400|601012#600","601011#210101|601012#210101",90,10800,{"$f":"T788","v":"33#-222"},2,1381]
[null,"1324",4,"地狱1-32","1334",199,0,51011,205999,10100,"20001#20003#20011#20016#20004#20002#20018","17#3340|3#3375|14#3530|79#19","60103#1|60128#1|60138#1|60143#1",1004,20,"601011#400|601012#600","601011#210101|601012#210101",90,10800,{"$f":"T789","v":"81#-234"},2,1382]
[null,"1334",4,"地狱1-33","1344",199,0,51011,205999,10100,"20001#20003#20011#20016#20004#20002#20018","17#3340|3#3375|14#3530|79#19","60103#1|60128#1|60138#1|60143#1",1004,20,"601011#400|601012#600","601011#210101|601012#210101",90,10800,{"$f":"T790","v":"132#-245"},2,1383]
[null,"1344",4,"地狱1-34","1354",199,0,51011,205999,10100,"20001#20003#20011#20016#20004#20002#20018","17#3340|3#3375|14#3530|79#19","60103#1|60128#1|60138#1|60143#1",1004,20,"601011#400|601012#600","601011#210101|601012#210101",90,10800,{"$f":"T791","v":"185#-249"},2,1384]
[null,"1354",4,"地狱1-35","1364",199,0,51011,205999,10100,"20001#20003#20011#20016#20004#20002#20018","17#3340|3#3375|14#3530|79#19","60103#1|60128#1|60138#1|60143#1",1004,20,"601011#400|601012#600","601011#210101|601012#210101",90,10800,{"$f":"T792","v":"237#-244"},2,1385]
[null,"1364",4,"地狱1-36","1374",199,0,51011,205999,10100,"20001#20003#20011#20016#20004#20002#20018","17#3340|3#3375|14#3530|79#19","60103#1|60128#1|60138#1|60143#1",1004,20,"601011#400|601012#600","601011#210101|601012#210101",90,10800,{"$f":"T793","v":"265#-204"},2,1386]
[null,"1374",4,"地狱1-37","1384",199,0,51011,205999,10100,"20001#20003#20011#20016#20004#20002#20018","17#3340|3#3375|14#3530|79#19","60103#1|60128#1|60138#1|60143#1",1004,20,"601011#400|601012#600","601011#210101|601012#210101",90,10800,{"$f":"T794","v":"236#-168"},1,1387]
[null,"1384",4,"地狱1-38","1394",199,0,51011,205999,10100,"20001#20003#20011#20016#20004#20002#20018","17#3340|3#3375|14#3530|79#19","60103#1|60128#1|60138#1|60143#1",1004,20,"601011#400|601012#600","601011#210101|601012#210101",90,10800,{"$f":"T795","v":"188#-155"},1,1388]
[null,"1394",4,"地狱1-39","1404",199,0,51011,205999,10100,"20001#20003#20011#20016#20004#20002#20018","17#3340|3#3375|14#3530|79#19","60103#1|60128#1|60138#1|60143#1",1004,20,"601011#400|601012#600","601011#210101|601012#210101",90,10800,{"$f":"T796","v":"145#-147"},1,1389]
[null,"1404",4,"地狱1-40","2014",199,0,51011,205999,10100,"20001#20003#20011#20016#20004#20002#20018","17#3340|3#3375|14#3530|79#19","60103#1|60128#1|60138#1|60143#1",1004,20,"601011#400|601012#600","601011#210101|601012#210101",90,10800,{"$f":"T797","v":"97#-146"},1,1390]
[null,"2014",4,"地狱2-1","2024",199,1,51011,205999,10100,"20001#20003#20011#20016#20004#20002#20018","17#3340|3#3375|14#3530|79#19","60103#1|60128#1|60138#1|60143#1",1004,20,"601011#400|601012#600","601011#210101|601012#210101",90,10800,{"$f":"T798","v":"462#-73"},2,1391]
[null,"2024",4,"地狱2-2","2034",199,0,51011,205999,10100,"20001#20003#20011#20016#20004#20002#20018","17#3340|3#3375|14#3530|79#19","60103#1|60128#1|60138#1|60143#1",1004,20,"601011#400|601012#600","601011#210101|601012#210101",90,10800,{"$f":"T799","v":"479#-114"},1,1392]
[null,"2034",4,"地狱2-3","2044",199,0,51011,205999,10100,"20001#20003#20011#20016#20004#20002#20018","17#3340|3#3375|14#3530|79#19","60103#1|60128#1|60138#1|60143#1",1004,20,"601011#400|601012#600","601011#210101|601012#210101",90,10800,{"$f":"T800","v":"431#-142"},1,1393]
[null,"2044",4,"地狱2-4","2054",199,0,51011,205999,10100,"20001#20003#20011#20016#20004#20002#20018","17#3340|3#3375|14#3530|79#19","60103#1|60128#1|60138#1|60143#1",1004,20,"601011#400|601012#600","601011#210101|601012#210101",90,10800,{"$f":"T801","v":"473#-168"},2,1394]
[null,"2054",4,"地狱2-5","2064",199,0,51011,205999,10100,"20001#20003#20011#20016#20004#20002#20018","17#3340|3#3375|14#3530|79#19","60103#1|60128#1|60138#1|60143#1",1004,20,"601011#400|601012#600","601011#210101|601012#210101",90,10800,{"$f":"T802","v":"520#-194"},2,1395]
[null,"2064",4,"地狱2-6","2074",199,0,51011,205999,10100,"20001#20003#20011#20016#20004#20002#20018","17#3340|3#3375|14#3530|79#19","60103#1|60128#1|60138#1|60143#1",1004,20,"601011#400|601012#600","601011#210101|601012#210101",90,10800,{"$f":"T803","v":"525#-244"},1,1396]
[null,"2074",4,"地狱2-7","2084",199,0,51011,205999,10100,"20001#20003#20011#20016#20004#20002#20018","17#3340|3#3375|14#3530|79#19","60103#1|60128#1|60138#1|60143#1",1004,20,"601011#400|601012#600","601011#210101|601012#210101",90,10800,{"$f":"T804","v":"476#-275"},1,1397]
[null,"2084",4,"地狱2-8","2094",199,0,51011,205999,10100,"20001#20003#20011#20016#20004#20002#20018","17#3340|3#3375|14#3530|79#19","60103#1|60128#1|60138#1|60143#1",1004,20,"601011#400|601012#600","601011#210101|601012#210101",90,10800,{"$f":"T805","v":"414#-279"},1,1398]
[null,"2094",4,"地狱2-9","2104",199,0,51011,205999,10100,"20001#20003#20011#20016#20004#20002#20018","17#3340|3#3375|14#3530|79#19","60103#1|60128#1|60138#1|60143#1",1004,20,"601011#400|601012#600","601011#210101|601012#210101",90,10800,{"$f":"T806","v":"354#-289"},1,1399]
[null,"2104",4,"地狱2-10","2114",199,0,51011,205999,10100,"20001#20003#20011#20016#20004#20002#20018","17#3340|3#3375|14#3530|79#19","60103#1|60128#1|60138#1|60143#1",1004,20,"601011#400|601012#600","601011#210101|601012#210101",90,10800,{"$f":"T807","v":"300#-310"},1,1400]
[null,"2114",4,"地狱2-11","2124",199,0,51011,205999,10100,"20001#20003#20011#20016#20004#20002#20018","17#3340|3#3375|14#3530|79#19","60103#1|60128#1|60138#1|60143#1",1004,20,"601011#400|601012#600","601011#210101|601012#210101",90,10800,{"$f":"T808","v":"234#-313"},1,1401]
[null,"2124",4,"地狱2-12","2134",199,0,51011,205999,10100,"20001#20003#20011#20016#20004#20002#20018","17#3340|3#3375|14#3530|79#19","60103#1|60128#1|60138#1|60143#1",1004,20,"601011#400|601012#600","601011#210101|601012#210101",90,10800,{"$f":"T809","v":"197#-276"},1,1402]
[null,"2134",4,"地狱2-13","2144",199,0,51011,205999,10100,"20001#20003#20011#20016#20004#20002#20018","17#3340|3#3375|14#3530|79#19","60103#1|60128#1|60138#1|60143#1",1004,20,"601011#400|601012#600","601011#210101|601012#210101",90,10800,{"$f":"T810","v":"220#-224"},2,1403]
[null,"2144",4,"地狱2-14","2154",199,0,51011,205999,10100,"20001#20003#20011#20016#20004#20002#20018","17#3340|3#3375|14#3530|79#19","60103#1|60128#1|60138#1|60143#1",1004,20,"601011#400|601012#600","601011#210101|601012#210101",90,10800,{"$f":"T811","v":"188#-186"},1,1404]
[null,"2154",4,"地狱2-15","2164",199,0,51011,205999,10100,"20001#20003#20011#20016#20004#20002#20018","17#3340|3#3375|14#3530|79#19","60103#1|60128#1|60138#1|60143#1",1004,20,"601011#400|601012#600","601011#210101|601012#210101",90,10800,{"$f":"T812","v":"178#-143"},2,1405]
[null,"2164",4,"地狱2-16","2174",199,0,51011,205999,10100,"20001#20003#20011#20016#20004#20002#20018","17#3340|3#3375|14#3530|79#19","60103#1|60128#1|60138#1|60143#1",1004,20,"601011#400|601012#600","601011#210101|601012#210101",90,10800,{"$f":"T813","v":"225#-112"},2,1406]
[null,"2174",4,"地狱2-17","2184",199,0,51011,205999,10100,"20001#20003#20011#20016#20004#20002#20018","17#3340|3#3375|14#3530|79#19","60103#1|60128#1|60138#1|60143#1",1004,20,"601011#400|601012#600","601011#210101|601012#210101",90,10800,{"$f":"T814","v":"189#-80"},1,1407]
[null,"2184",4,"地狱2-18","2194",199,0,51011,205999,10100,"20001#20003#20011#20016#20004#20002#20018","17#3340|3#3375|14#3530|79#19","60103#1|60128#1|60138#1|60143#1",1004,20,"601011#400|601012#600","601011#210101|601012#210101",90,10800,{"$f":"T815","v":"133#-73"},1,1408]
[null,"2194",4,"地狱2-19","2204",199,0,51011,205999,10100,"20001#20003#20011#20016#20004#20002#20018","17#3340|3#3375|14#3530|79#19","60103#1|60128#1|60138#1|60143#1",1004,20,"601011#400|601012#600","601011#210101|601012#210101",90,10800,{"$f":"T816","v":"75#-77"},1,1409]
[null,"2204",4,"地狱2-20","2214",199,0,51011,205999,10100,"20001#20003#20011#20016#20004#20002#20018","17#3340|3#3375|14#3530|79#19","60103#1|60128#1|60138#1|60143#1",1004,20,"601011#400|601012#600","601011#210101|601012#210101",90,10800,{"$f":"T817","v":"20#-80"},1,1410]
[null,"2214",4,"地狱2-21","2224",199,0,51011,205999,10100,"20001#20003#20011#20016#20004#20002#20018","17#3340|3#3375|14#3530|79#19","60103#1|60128#1|60138#1|60143#1",1004,20,"601011#400|601012#600","601011#210101|601012#210101",90,10800,{"$f":"T818","v":"-43#-87"},1,1411]
[null,"2224",4,"地狱2-22","2234",199,0,51011,205999,10100,"20001#20003#20011#20016#20004#20002#20018","17#3340|3#3375|14#3530|79#19","60103#1|60128#1|60138#1|60143#1",1004,20,"601011#400|601012#600","601011#210101|601012#210101",90,10800,{"$f":"T819","v":"-68#-132"},1,1412]
[null,"2234",4,"地狱2-23","2244",199,0,51011,205999,10100,"20001#20003#20011#20016#20004#20002#20018","17#3340|3#3375|14#3530|79#19","60103#1|60128#1|60138#1|60143#1",1004,20,"601011#400|601012#600","601011#210101|601012#210101",90,10800,{"$f":"T820","v":"-45#-178"},2,1413]
[null,"2244",4,"地狱2-24","2254",199,0,51011,205999,10100,"20001#20003#20011#20016#20004#20002#20018","17#3340|3#3375|14#3530|79#19","60103#1|60128#1|60138#1|60143#1",1004,20,"601011#400|601012#600","601011#210101|601012#210101",90,10800,{"$f":"T821","v":"-4#-218"},2,1414]
[null,"2254",4,"地狱2-25","2264",199,0,51011,205999,10100,"20001#20003#20011#20016#20004#20002#20018","17#3340|3#3375|14#3530|79#19","60103#1|60128#1|60138#1|60143#1",1004,20,"601011#400|601012#600","601011#210101|601012#210101",90,10800,{"$f":"T822","v":"-1#-270"},1,1415]
[null,"2264",4,"地狱2-26","2274",199,0,51011,205999,10100,"20001#20003#20011#20016#20004#20002#20018","17#3340|3#3375|14#3530|79#19","60103#1|60128#1|60138#1|60143#1",1004,20,"601011#400|601012#600","601011#210101|601012#210101",90,10800,{"$f":"T823","v":"-40#-307"},1,1416]
[null,"2274",4,"地狱2-27","2284",199,0,51011,205999,10100,"20001#20003#20011#20016#20004#20002#20018","17#3340|3#3375|14#3530|79#19","60103#1|60128#1|60138#1|60143#1",1004,20,"601011#400|601012#600","601011#210101|601012#210101",90,10800,{"$f":"T824","v":"-92#-320"},1,1417]
[null,"2284",4,"地狱2-28","2294",199,0,51011,205999,10100,"20001#20003#20011#20016#20004#20002#20018","17#3340|3#3375|14#3530|79#19","60103#1|60128#1|60138#1|60143#1",1004,20,"601011#400|601012#600","601011#210101|601012#210101",90,10800,{"$f":"T825","v":"-144#-320"},1,1418]
[null,"2294",4,"地狱2-29","2304",199,0,51011,205999,10100,"20001#20003#20011#20016#20004#20002#20018","17#3340|3#3375|14#3530|79#19","60103#1|60128#1|60138#1|60143#1",1004,20,"601011#400|601012#600","601011#210101|601012#210101",90,10800,{"$f":"T826","v":"-194#-316"},1,1419]
[null,"2304",4,"地狱2-30","2314",199,0,51011,205999,10100,"20001#20003#20011#20016#20004#20002#20018","17#3340|3#3375|14#3530|79#19","60103#1|60128#1|60138#1|60143#1",1004,20,"601011#400|601012#600","601011#210101|601012#210101",90,10800,{"$f":"T827","v":"-245#-303"},1,1420]
[null,"2314",4,"地狱2-31","2324",199,0,51011,205999,10100,"20001#20003#20011#20016#20004#20002#20018","17#3340|3#3375|14#3530|79#19","60103#1|60128#1|60138#1|60143#1",1004,20,"601011#400|601012#600","601011#210101|601012#210101",90,10800,{"$f":"T828","v":"-292#-276"},1,1421]
[null,"2324",4,"地狱2-32","2334",199,0,51011,205999,10100,"20001#20003#20011#20016#20004#20002#20018","17#3340|3#3375|14#3530|79#19","60103#1|60128#1|60138#1|60143#1",1004,20,"601011#400|601012#600","601011#210101|601012#210101",90,10800,{"$f":"T829","v":"-331#-241"},1,1422]
[null,"2334",4,"地狱2-33","2344",199,0,51011,205999,10100,"20001#20003#20011#20016#20004#20002#20018","17#3340|3#3375|14#3530|79#19","60103#1|60128#1|60138#1|60143#1",1004,20,"601011#400|601012#600","601011#210101|601012#210101",90,10800,{"$f":"T830","v":"-379#-231"},1,1423]
[null,"2344",4,"地狱2-34","2354",199,0,51011,205999,10100,"20001#20003#20011#20016#20004#20002#20018","17#3340|3#3375|14#3530|79#19","60103#1|60128#1|60138#1|60143#1",1004,20,"601011#400|601012#600","601011#210101|601012#210101",90,10800,{"$f":"T831","v":"-416#-204"},1,1424]
[null,"2354",4,"地狱2-35","2364",199,0,51011,205999,10100,"20001#20003#20011#20016#20004#20002#20018","17#3340|3#3375|14#3530|79#19","60103#1|60128#1|60138#1|60143#1",1004,20,"601011#400|601012#600","601011#210101|601012#210101",90,10800,{"$f":"T832","v":"-395#-160"},2,1425]
[null,"2364",4,"地狱2-36","2374",199,0,51011,205999,10100,"20001#20003#20011#20016#20004#20002#20018","17#3340|3#3375|14#3530|79#19","60103#1|60128#1|60138#1|60143#1",1004,20,"601011#400|601012#600","601011#210101|601012#210101",90,10800,{"$f":"T833","v":"-337#-161"},2,1426]
[null,"2374",4,"地狱2-37","2384",199,0,51011,205999,10100,"20001#20003#20011#20016#20004#20002#20018","17#3340|3#3375|14#3530|79#19","60103#1|60128#1|60138#1|60143#1",1004,20,"601011#400|601012#600","601011#210101|601012#210101",90,10800,{"$f":"T834","v":"-283#-149"},2,1427]
[null,"2384",4,"地狱2-38","2394",199,0,51011,205999,10100,"20001#20003#20011#20016#20004#20002#20018","17#3340|3#3375|14#3530|79#19","60103#1|60128#1|60138#1|60143#1",1004,20,"601011#400|601012#600","601011#210101|601012#210101",90,10800,{"$f":"T835","v":"-283#-100"},1,1428]
[null,"2394",4,"地狱2-39","2404",199,0,51011,205999,10100,"20001#20003#20011#20016#20004#20002#20018","17#3340|3#3375|14#3530|79#19","60103#1|60128#1|60138#1|60143#1",1004,20,"601011#400|601012#600","601011#210101|601012#210101",90,10800,{"$f":"T836","v":"-298#-52"},2,1429]
[null,"2404",4,"地狱2-40","3014",199,0,51011,205999,10100,"20001#20003#20011#20016#20004#20002#20018","17#3340|3#3375|14#3530|79#19","60103#1|60128#1|60138#1|60143#1",1004,20,"601011#400|601012#600","601011#210101|601012#210101",90,10800,{"$f":"T837","v":"-249#-34"},2,1430]
[null,"3014",4,"地狱3-1","3024",199,1,51011,205999,10100,"20001#20003#20011#20016#20004#20002#20018","17#3340|3#3375|14#3530|79#19","60103#1|60128#1|60138#1|60143#1",1004,20,"601011#400|601012#600","601011#210101|601012#210101",90,10800,{"$f":"T838","v":"443#-349"},2,1431]
[null,"3024",4,"地狱3-2","3034",199,0,51011,205999,10100,"20001#20003#20011#20016#20004#20002#20018","17#3340|3#3375|14#3530|79#19","60103#1|60128#1|60138#1|60143#1",1004,20,"601011#400|601012#600","601011#210101|601012#210101",90,10800,{"$f":"T839","v":"505#-335"},2,1432]
[null,"3034",4,"地狱3-3","3044",199,0,51011,205999,10100,"20001#20003#20011#20016#20004#20002#20018","17#3340|3#3375|14#3530|79#19","60103#1|60128#1|60138#1|60143#1",1004,20,"601011#400|601012#600","601011#210101|601012#210101",90,10800,{"$f":"T840","v":"528#-285"},1,1433]
[null,"3044",4,"地狱3-4","3054",199,0,51011,205999,10100,"20001#20003#20011#20016#20004#20002#20018","17#3340|3#3375|14#3530|79#19","60103#1|60128#1|60138#1|60143#1",1004,20,"601011#400|601012#600","601011#210101|601012#210101",90,10800,{"$f":"T841","v":"470#-254"},1,1434]
[null,"3054",4,"地狱3-5","3064",199,0,51011,205999,10100,"20001#20003#20011#20016#20004#20002#20018","17#3340|3#3375|14#3530|79#19","60103#1|60128#1|60138#1|60143#1",1004,20,"601011#400|601012#600","601011#210101|601012#210101",90,10800,{"$f":"T842","v":"400#-240"},1,1435]
[null,"3064",4,"地狱3-6","3074",199,0,51011,205999,10100,"20001#20003#20011#20016#20004#20002#20018","17#3340|3#3375|14#3530|79#19","60103#1|60128#1|60138#1|60143#1",1004,20,"601011#400|601012#600","601011#210101|601012#210101",90,10800,{"$f":"T843","v":"333#-234"},1,1436]
[null,"3074",4,"地狱3-7","3084",199,0,51011,205999,10100,"20001#20003#20011#20016#20004#20002#20018","17#3340|3#3375|14#3530|79#19","60103#1|60128#1|60138#1|60143#1",1004,20,"601011#400|601012#600","601011#210101|601012#210101",90,10800,{"$f":"T844","v":"269#-224"},1,1437]
[null,"3084",4,"地狱3-8","3094",199,0,51011,205999,10100,"20001#20003#20011#20016#20004#20002#20018","17#3340|3#3375|14#3530|79#19","60103#1|60128#1|60138#1|60143#1",1004,20,"601011#400|601012#600","601011#210101|601012#210101",90,10800,{"$f":"T845","v":"278#-175"},2,1438]
[null,"3094",4,"地狱3-9","3104",199,0,51011,205999,10100,"20001#20003#20011#20016#20004#20002#20018","17#3340|3#3375|14#3530|79#19","60103#1|60128#1|60138#1|60143#1",1004,20,"601011#400|601012#600","601011#210101|601012#210101",90,10800,{"$f":"T846","v":"320#-139"},1,1439]
[null,"3104",4,"地狱3-10","3114",199,0,51011,205999,10100,"20001#20003#20011#20016#20004#20002#20018","17#3340|3#3375|14#3530|79#19","60103#1|60128#1|60138#1|60143#1",1004,20,"601011#400|601012#600","601011#210101|601012#210101",90,10800,{"$f":"T847","v":"257#-127"},1,1440]
[null,"3114",4,"地狱3-11","3124",199,0,51011,205999,10100,"20001#20003#20011#20016#20004#20002#20018","17#3340|3#3375|14#3530|79#19","60103#1|60128#1|60138#1|60143#1",1004,20,"601011#400|601012#600","601011#210101|601012#210101",90,10800,{"$f":"T848","v":"189#-128"},1,1441]
[null,"3124",4,"地狱3-12","3134",199,0,51011,205999,10100,"20001#20003#20011#20016#20004#20002#20018","17#3340|3#3375|14#3530|79#19","60103#1|60128#1|60138#1|60143#1",1004,20,"601011#400|601012#600","601011#210101|601012#210101",90,10800,{"$f":"T849","v":"125#-141"},1,1442]
[null,"3134",4,"地狱3-13","3144",199,0,51011,205999,10100,"20001#20003#20011#20016#20004#20002#20018","17#3340|3#3375|14#3530|79#19","60103#1|60128#1|60138#1|60143#1",1004,20,"601011#400|601012#600","601011#210101|601012#210101",90,10800,{"$f":"T850","v":"67#-166"},1,1443]
[null,"3144",4,"地狱3-14","3154",199,0,51011,205999,10100,"20001#20003#20011#20016#20004#20002#20018","17#3340|3#3375|14#3530|79#19","60103#1|60128#1|60138#1|60143#1",1004,20,"601011#400|601012#600","601011#210101|601012#210101",90,10800,{"$f":"T851","v":"11#-172"},1,1444]
[null,"3154",4,"地狱3-15","3164",199,0,51011,205999,10100,"20001#20003#20011#20016#20004#20002#20018","17#3340|3#3375|14#3530|79#19","60103#1|60128#1|60138#1|60143#1",1004,20,"601011#400|601012#600","601011#210101|601012#210101",90,10800,{"$f":"T852","v":"-53#-155"},1,1445]
[null,"3164",4,"地狱3-16","3174",199,0,51011,205999,10100,"20001#20003#20011#20016#20004#20002#20018","17#3340|3#3375|14#3530|79#19","60103#1|60128#1|60138#1|60143#1",1004,20,"601011#400|601012#600","601011#210101|601012#210101",90,10800,{"$f":"T853","v":"-113#-151"},1,1446]
[null,"3174",4,"地狱3-17","3184",199,0,51011,205999,10100,"20001#20003#20011#20016#20004#20002#20018","17#3340|3#3375|14#3530|79#19","60103#1|60128#1|60138#1|60143#1",1004,20,"601011#400|601012#600","601011#210101|601012#210101",90,10800,{"$f":"T854","v":"-136#-186"},2,1447]
[null,"3184",4,"地狱3-18","3194",199,0,51011,205999,10100,"20001#20003#20011#20016#20004#20002#20018","17#3340|3#3375|14#3530|79#19","60103#1|60128#1|60138#1|60143#1",1004,20,"601011#400|601012#600","601011#210101|601012#210101",90,10800,{"$f":"T855","v":"-110#-228"},1,1448]
[null,"3194",4,"地狱3-19","3204",199,0,51011,205999,10100,"20001#20003#20011#20016#20004#20002#20018","17#3340|3#3375|14#3530|79#19","60103#1|60128#1|60138#1|60143#1",1004,20,"601011#400|601012#600","601011#210101|601012#210101",90,10800,{"$f":"T856","v":"-185#-228"},1,1449]
[null,"3204",4,"地狱3-20","3214",199,0,51011,205999,10100,"20001#20003#20011#20016#20004#20002#20018","17#3340|3#3375|14#3530|79#19","60103#1|60128#1|60138#1|60143#1",1004,20,"601011#400|601012#600","601011#210101|601012#210101",90,10800,{"$f":"T857","v":"-242#-218"},1,1450]
[null,"3214",4,"地狱3-21","3224",199,0,51011,205999,10100,"20001#20003#20011#20016#20004#20002#20018","17#3340|3#3375|14#3530|79#19","60103#1|60128#1|60138#1|60143#1",1004,20,"601011#400|601012#600","601011#210101|601012#210101",90,10800,{"$f":"T858","v":"-298#-201"},1,1451]
[null,"3224",4,"地狱3-22","3234",199,0,51011,205999,10100,"20001#20003#20011#20016#20004#20002#20018","17#3340|3#3375|14#3530|79#19","60103#1|60128#1|60138#1|60143#1",1004,20,"601011#400|601012#600","601011#210101|601012#210101",90,10800,{"$f":"T859","v":"-356#-200"},1,1452]
[null,"3234",4,"地狱3-23","3244",199,0,51011,205999,10100,"20001#20003#20011#20016#20004#20002#20018","17#3340|3#3375|14#3530|79#19","60103#1|60128#1|60138#1|60143#1",1004,20,"601011#400|601012#600","601011#210101|601012#210101",90,10800,{"$f":"T860","v":"-411#-193"},1,1453]
[null,"3244",4,"地狱3-24","3254",199,0,51011,205999,10100,"20001#20003#20011#20016#20004#20002#20018","17#3340|3#3375|14#3530|79#19","60103#1|60128#1|60138#1|60143#1",1004,20,"601011#400|601012#600","601011#210101|601012#210101",90,10800,{"$f":"T861","v":"-393#-148"},2,1454]
[null,"3254",4,"地狱3-25","3264",199,0,51011,205999,10100,"20001#20003#20011#20016#20004#20002#20018","17#3340|3#3375|14#3530|79#19","60103#1|60128#1|60138#1|60143#1",1004,20,"601011#400|601012#600","601011#210101|601012#210101",90,10800,{"$f":"T862","v":"-336#-129"},2,1455]
[null,"3264",4,"地狱3-26","3274",199,0,51011,205999,10100,"20001#20003#20011#20016#20004#20002#20018","17#3340|3#3375|14#3530|79#19","60103#1|60128#1|60138#1|60143#1",1004,20,"601011#400|601012#600","601011#210101|601012#210101",90,10800,{"$f":"T863","v":"-274#-125"},2,1456]
[null,"3274",4,"地狱3-27","3284",199,0,51011,205999,10100,"20001#20003#20011#20016#20004#20002#20018","17#3340|3#3375|14#3530|79#19","60103#1|60128#1|60138#1|60143#1",1004,20,"601011#400|601012#600","601011#210101|601012#210101",90,10800,{"$f":"T864","v":"-218#-129"},2,1457]
[null,"3284",4,"地狱3-28","3294",199,0,51011,205999,10100,"20001#20003#20011#20016#20004#20002#20018","17#3340|3#3375|14#3530|79#19","60103#1|60128#1|60138#1|60143#1",1004,20,"601011#400|601012#600","601011#210101|601012#210101",90,10800,{"$f":"T865","v":"-159#-111"},2,1458]
[null,"3294",4,"地狱3-29","3304",199,0,51011,205999,10100,"20001#20003#20011#20016#20004#20002#20018","17#3340|3#3375|14#3530|79#19","60103#1|60128#1|60138#1|60143#1",1004,20,"601011#400|601012#600","601011#210101|601012#210101",90,10800,{"$f":"T866","v":"-186#-72"},1,1459]
[null,"3304",4,"地狱3-30","3314",199,0,51011,205999,10100,"20001#20003#20011#20016#20004#20002#20018","17#3340|3#3375|14#3530|79#19","60103#1|60128#1|60138#1|60143#1",1004,20,"601011#400|601012#600","601011#210101|601012#210101",90,10800,{"$f":"T867","v":"-247#-52"},1,1460]
[null,"3314",4,"地狱3-31","3324",199,0,51011,205999,10100,"20001#20003#20011#20016#20004#20002#20018","17#3340|3#3375|14#3530|79#19","60103#1|60128#1|60138#1|60143#1",1004,20,"601011#400|601012#600","601011#210101|601012#210101",90,10800,{"$f":"T868","v":"-224#2"},2,1461]
[null,"3324",4,"地狱3-32","3334",199,0,51011,205999,10100,"20001#20003#20011#20016#20004#20002#20018","17#3340|3#3375|14#3530|79#19","60103#1|60128#1|60138#1|60143#1",1004,20,"601011#400|601012#600","601011#210101|601012#210101",90,10800,{"$f":"T869","v":"-164#11"},2,1462]
[null,"3334",4,"地狱3-33","3344",199,0,51011,205999,10100,"20001#20003#20011#20016#20004#20002#20018","17#3340|3#3375|14#3530|79#19","60103#1|60128#1|60138#1|60143#1",1004,20,"601011#400|601012#600","601011#210101|601012#210101",90,10800,{"$f":"T870","v":"-105#24"},2,1463]
[null,"3344",4,"地狱3-34","3354",199,0,51011,205999,10100,"20001#20003#20011#20016#20004#20002#20018","17#3340|3#3375|14#3530|79#19","60103#1|60128#1|60138#1|60143#1",1004,20,"601011#400|601012#600","601011#210101|601012#210101",90,10800,{"$f":"T871","v":"-52#44"},2,1464]
[null,"3354",4,"地狱3-35","3364",199,0,51011,205999,10100,"20001#20003#20011#20016#20004#20002#20018","17#3340|3#3375|14#3530|79#19","60103#1|60128#1|60138#1|60143#1",1004,20,"601011#400|601012#600","601011#210101|601012#210101",90,10800,{"$f":"T872","v":"3#38"},2,1465]
[null,"3364",4,"地狱3-36","3374",199,0,51011,205999,10100,"20001#20003#20011#20016#20004#20002#20018","17#3340|3#3375|14#3530|79#19","60103#1|60128#1|60138#1|60143#1",1004,20,"601011#400|601012#600","601011#210101|601012#210101",90,10800,{"$f":"T873","v":"60#39"},2,1466]
[null,"3374",4,"地狱3-37","3384",199,0,51011,205999,10100,"20001#20003#20011#20016#20004#20002#20018","17#3340|3#3375|14#3530|79#19","60103#1|60128#1|60138#1|60143#1",1004,20,"601011#400|601012#600","601011#210101|601012#210101",90,10800,{"$f":"T874","v":"71#85"},1,1467]
[null,"3384",4,"地狱3-38","3394",199,0,51011,205999,10100,"20001#20003#20011#20016#20004#20002#20018","17#3340|3#3375|14#3530|79#19","60103#1|60128#1|60138#1|60143#1",1004,20,"601011#400|601012#600","601011#210101|601012#210101",90,10800,{"$f":"T875","v":"20#104"},1,1468]
[null,"3394",4,"地狱3-39","3404",199,0,51011,205999,10100,"20001#20003#20011#20016#20004#20002#20018","17#3340|3#3375|14#3530|79#19","60103#1|60128#1|60138#1|60143#1",1004,20,"601011#400|601012#600","601011#210101|601012#210101",90,10800,{"$f":"T876","v":"-32#110"},1,1469]
[null,"3404",4,"地狱3-40","4014",199,0,51011,205999,10100,"20001#20003#20011#20016#20004#20002#20018","17#3340|3#3375|14#3530|79#19","60103#1|60128#1|60138#1|60143#1",1004,20,"601011#400|601012#600","601011#210101|601012#210101",90,10800,{"$f":"T877","v":"-69#150"},1,1470]
[null,"4014",4,"地狱4-1","4024",199,1,51011,205999,10100,"20001#20003#20011#20016#20004#20002#20018","17#3340|3#3375|14#3530|79#19","60103#1|60128#1|60138#1|60143#1",1004,20,"601011#400|601012#600","601011#210101|601012#210101",90,10800,{"$f":"T878","v":"-378#-180"},2,1471]
[null,"4024",4,"地狱4-2","4034",199,0,51011,205999,10100,"20001#20003#20011#20016#20004#20002#20018","17#3340|3#3375|14#3530|79#19","60103#1|60128#1|60138#1|60143#1",1004,20,"601011#400|601012#600","601011#210101|601012#210101",90,10800,{"$f":"T879","v":"-314#-176"},2,1472]
[null,"4034",4,"地狱4-3","4044",199,0,51011,205999,10100,"20001#20003#20011#20016#20004#20002#20018","17#3340|3#3375|14#3530|79#19","60103#1|60128#1|60138#1|60143#1",1004,20,"601011#400|601012#600","601011#210101|601012#210101",90,10800,{"$f":"T880","v":"-254#-183"},2,1473]
[null,"4044",4,"地狱4-4","4054",199,0,51011,205999,10100,"20001#20003#20011#20016#20004#20002#20018","17#3340|3#3375|14#3530|79#19","60103#1|60128#1|60138#1|60143#1",1004,20,"601011#400|601012#600","601011#210101|601012#210101",90,10800,{"$f":"T881","v":"-205#-204"},2,1474]
[null,"4054",4,"地狱4-5","4064",199,0,51011,205999,10100,"20001#20003#20011#20016#20004#20002#20018","17#3340|3#3375|14#3530|79#19","60103#1|60128#1|60138#1|60143#1",1004,20,"601011#400|601012#600","601011#210101|601012#210101",90,10800,{"$f":"T882","v":"-152#-235"},2,1475]
[null,"4064",4,"地狱4-6","4074",199,0,51011,205999,10100,"20001#20003#20011#20016#20004#20002#20018","17#3340|3#3375|14#3530|79#19","60103#1|60128#1|60138#1|60143#1",1004,20,"601011#400|601012#600","601011#210101|601012#210101",90,10800,{"$f":"T883","v":"-110#-286"},2,1476]
[null,"4074",4,"地狱4-7","4084",199,0,51011,205999,10100,"20001#20003#20011#20016#20004#20002#20018","17#3340|3#3375|14#3530|79#19","60103#1|60128#1|60138#1|60143#1",1004,20,"601011#400|601012#600","601011#210101|601012#210101",90,10800,{"$f":"T884","v":"-67#-326"},2,1477]
[null,"4084",4,"地狱4-8","4094",199,0,51011,205999,10100,"20001#20003#20011#20016#20004#20002#20018","17#3340|3#3375|14#3530|79#19","60103#1|60128#1|60138#1|60143#1",1004,20,"601011#400|601012#600","601011#210101|601012#210101",90,10800,{"$f":"T885","v":"-15#-359"},2,1478]
[null,"4094",4,"地狱4-9","4104",199,0,51011,205999,10100,"20001#20003#20011#20016#20004#20002#20018","17#3340|3#3375|14#3530|79#19","60103#1|60128#1|60138#1|60143#1",1004,20,"601011#400|601012#600","601011#210101|601012#210101",90,10800,{"$f":"T886","v":"57#-373"},2,1479]
[null,"4104",4,"地狱4-10","4114",199,0,51011,205999,10100,"20001#20003#20011#20016#20004#20002#20018","17#3340|3#3375|14#3530|79#19","60103#1|60128#1|60138#1|60143#1",1004,20,"601011#400|601012#600","601011#210101|601012#210101",90,10800,{"$f":"T887","v":"78#-328"},1,1480]
[null,"4114",4,"地狱4-11","4124",199,0,51011,205999,10100,"20001#20003#20011#20016#20004#20002#20018","17#3340|3#3375|14#3530|79#19","60103#1|60128#1|60138#1|60143#1",1004,20,"601011#400|601012#600","601011#210101|601012#210101",90,10800,{"$f":"T888","v":"59#-278"},2,1481]
[null,"4124",4,"地狱4-12","4134",199,0,51011,205999,10100,"20001#20003#20011#20016#20004#20002#20018","17#3340|3#3375|14#3530|79#19","60103#1|60128#1|60138#1|60143#1",1004,20,"601011#400|601012#600","601011#210101|601012#210101",90,10800,{"$f":"T889","v":"119#-273"},2,1482]
[null,"4134",4,"地狱4-13","4144",199,0,51011,205999,10100,"20001#20003#20011#20016#20004#20002#20018","17#3340|3#3375|14#3530|79#19","60103#1|60128#1|60138#1|60143#1",1004,20,"601011#400|601012#600","601011#210101|601012#210101",90,10800,{"$f":"T890","v":"182#-283"},2,1483]
[null,"4144",4,"地狱4-14","4154",199,0,51011,205999,10100,"20001#20003#20011#20016#20004#20002#20018","17#3340|3#3375|14#3530|79#19","60103#1|60128#1|60138#1|60143#1",1004,20,"601011#400|601012#600","601011#210101|601012#210101",90,10800,{"$f":"T891","v":"241#-297"},2,1484]
[null,"4154",4,"地狱4-15","4164",199,0,51011,205999,10100,"20001#20003#20011#20016#20004#20002#20018","17#3340|3#3375|14#3530|79#19","60103#1|60128#1|60138#1|60143#1",1004,20,"601011#400|601012#600","601011#210101|601012#210101",90,10800,{"$f":"T892","v":"314#-299"},2,1485]
[null,"4164",4,"地狱4-16","4174",199,0,51011,205999,10100,"20001#20003#20011#20016#20004#20002#20018","17#3340|3#3375|14#3530|79#19","60103#1|60128#1|60138#1|60143#1",1004,20,"601011#400|601012#600","601011#210101|601012#210101",90,10800,{"$f":"T893","v":"374#-279"},2,1486]
[null,"4174",4,"地狱4-17","4184",199,0,51011,205999,10100,"20001#20003#20011#20016#20004#20002#20018","17#3340|3#3375|14#3530|79#19","60103#1|60128#1|60138#1|60143#1",1004,20,"601011#400|601012#600","601011#210101|601012#210101",90,10800,{"$f":"T894","v":"389#-222"},1,1487]
[null,"4184",4,"地狱4-18","4194",199,0,51011,205999,10100,"20001#20003#20011#20016#20004#20002#20018","17#3340|3#3375|14#3530|79#19","60103#1|60128#1|60138#1|60143#1",1004,20,"601011#400|601012#600","601011#210101|601012#210101",90,10800,{"$f":"T895","v":"335#-192"},1,1488]
[null,"4194",4,"地狱4-19","4204",199,0,51011,205999,10100,"20001#20003#20011#20016#20004#20002#20018","17#3340|3#3375|14#3530|79#19","60103#1|60128#1|60138#1|60143#1",1004,20,"601011#400|601012#600","601011#210101|601012#210101",90,10800,{"$f":"T896","v":"279#-192"},1,1489]
[null,"4204",4,"地狱4-20","4214",199,0,51011,205999,10100,"20001#20003#20011#20016#20004#20002#20018","17#3340|3#3375|14#3530|79#19","60103#1|60128#1|60138#1|60143#1",1004,20,"601011#400|601012#600","601011#210101|601012#210101",90,10800,{"$f":"T897","v":"213#-201"},1,1490]
[null,"4214",4,"地狱4-21","4224",199,0,51011,205999,10100,"20001#20003#20011#20016#20004#20002#20018","17#3340|3#3375|14#3530|79#19","60103#1|60128#1|60138#1|60143#1",1004,20,"601011#400|601012#600","601011#210101|601012#210101",90,10800,{"$f":"T898","v":"151#-197"},1,1491]
[null,"4224",4,"地狱4-22","4234",199,0,51011,205999,10100,"20001#20003#20011#20016#20004#20002#20018","17#3340|3#3375|14#3530|79#19","60103#1|60128#1|60138#1|60143#1",1004,20,"601011#400|601012#600","601011#210101|601012#210101",90,10800,{"$f":"T899","v":"91#-179"},1,1492]
[null,"4234",4,"地狱4-23","4244",199,0,51011,205999,10100,"20001#20003#20011#20016#20004#20002#20018","17#3340|3#3375|14#3530|79#19","60103#1|60128#1|60138#1|60143#1",1004,20,"601011#400|601012#600","601011#210101|601012#210101",90,10800,{"$f":"T900","v":"120#-135"},2,1493]
[null,"4244",4,"地狱4-24","4254",199,0,51011,205999,10100,"20001#20003#20011#20016#20004#20002#20018","17#3340|3#3375|14#3530|79#19","60103#1|60128#1|60138#1|60143#1",1004,20,"601011#400|601012#600","601011#210101|601012#210101",90,10800,{"$f":"T901","v":"86#-98"},1,1494]
[null,"4254",4,"地狱4-25","4264",199,0,51011,205999,10100,"20001#20003#20011#20016#20004#20002#20018","17#3340|3#3375|14#3530|79#19","60103#1|60128#1|60138#1|60143#1",1004,20,"601011#400|601012#600","601011#210101|601012#210101",90,10800,{"$f":"T902","v":"26#-108"},1,1495]
[null,"4264",4,"地狱4-26","4274",199,0,51011,205999,10100,"20001#20003#20011#20016#20004#20002#20018","17#3340|3#3375|14#3530|79#19","60103#1|60128#1|60138#1|60143#1",1004,20,"601011#400|601012#600","601011#210101|601012#210101",90,10800,{"$f":"T903","v":"-42#-116"},1,1496]
[null,"4274",4,"地狱4-27","4284",199,0,51011,205999,10100,"20001#20003#20011#20016#20004#20002#20018","17#3340|3#3375|14#3530|79#19","60103#1|60128#1|60138#1|60143#1",1004,20,"601011#400|601012#600","601011#210101|601012#210101",90,10800,{"$f":"T904","v":"-109#-121"},1,1497]
[null,"4284",4,"地狱4-28","4294",199,0,51011,205999,10100,"20001#20003#20011#20016#20004#20002#20018","17#3340|3#3375|14#3530|79#19","60103#1|60128#1|60138#1|60143#1",1004,20,"601011#400|601012#600","601011#210101|601012#210101",90,10800,{"$f":"T905","v":"-176#-115"},1,1498]
[null,"4294",4,"地狱4-29","4304",199,0,51011,205999,10100,"20001#20003#20011#20016#20004#20002#20018","17#3340|3#3375|14#3530|79#19","60103#1|60128#1|60138#1|60143#1",1004,20,"601011#400|601012#600","601011#210101|601012#210101",90,10800,{"$f":"T906","v":"-219#-78"},1,1499]
[null,"4304",4,"地狱4-30","4314",199,0,51011,205999,10100,"20001#20003#20011#20016#20004#20002#20018","17#3340|3#3375|14#3530|79#19","60103#1|60128#1|60138#1|60143#1",1004,20,"601011#400|601012#600","601011#210101|601012#210101",90,10800,{"$f":"T907","v":"-171#-43"},2,1500]
[null,"4314",4,"地狱4-31","4324",199,0,51011,205999,10100,"20001#20003#20011#20016#20004#20002#20018","17#3340|3#3375|14#3530|79#19","60103#1|60128#1|60138#1|60143#1",1004,20,"601011#400|601012#600","601011#210101|601012#210101",90,10800,{"$f":"T908","v":"-109#-34"},2,1501]
[null,"4324",4,"地狱4-32","4334",199,0,51011,205999,10100,"20001#20003#20011#20016#20004#20002#20018","17#3340|3#3375|14#3530|79#19","60103#1|60128#1|60138#1|60143#1",1004,20,"601011#400|601012#600","601011#210101|601012#210101",90,10800,{"$f":"T909","v":"-47#-31"},2,1502]
[null,"4334",4,"地狱4-33","4344",199,0,51011,205999,10100,"20001#20003#20011#20016#20004#20002#20018","17#3340|3#3375|14#3530|79#19","60103#1|60128#1|60138#1|60143#1",1004,20,"601011#400|601012#600","601011#210101|601012#210101",90,10800,{"$f":"T910","v":"10#-14"},2,1503]
[null,"4344",4,"地狱4-34","4354",199,0,51011,205999,10100,"20001#20003#20011#20016#20004#20002#20018","17#3340|3#3375|14#3530|79#19","60103#1|60128#1|60138#1|60143#1",1004,20,"601011#400|601012#600","601011#210101|601012#210101",90,10800,{"$f":"T911","v":"61#11"},2,1504]
[null,"4354",4,"地狱4-35","4364",199,0,51011,205999,10100,"20001#20003#20011#20016#20004#20002#20018","17#3340|3#3375|14#3530|79#19","60103#1|60128#1|60138#1|60143#1",1004,20,"601011#400|601012#600","601011#210101|601012#210101",90,10800,{"$f":"T912","v":"131#13"},2,1505]
[null,"4364",4,"地狱4-36","4374",199,0,51011,205999,10100,"20001#20003#20011#20016#20004#20002#20018","17#3340|3#3375|14#3530|79#19","60103#1|60128#1|60138#1|60143#1",1004,20,"601011#400|601012#600","601011#210101|601012#210101",90,10800,{"$f":"T913","v":"194#-9"},2,1506]
[null,"4374",4,"地狱4-37","4384",199,0,51011,205999,10100,"20001#20003#20011#20016#20004#20002#20018","17#3340|3#3375|14#3530|79#19","60103#1|60128#1|60138#1|60143#1",1004,20,"601011#400|601012#600","601011#210101|601012#210101",90,10800,{"$f":"T914","v":"253#-15"},2,1507]
[null,"4384",4,"地狱4-38","4394",199,0,51011,205999,10100,"20001#20003#20011#20016#20004#20002#20018","17#3340|3#3375|14#3530|79#19","60103#1|60128#1|60138#1|60143#1",1004,20,"601011#400|601012#600","601011#210101|601012#210101",90,10800,{"$f":"T915","v":"313#-9"},2,1508]
[null,"4394",4,"地狱4-39","4404",199,0,51011,205999,10100,"20001#20003#20011#20016#20004#20002#20018","17#3340|3#3375|14#3530|79#19","60103#1|60128#1|60138#1|60143#1",1004,20,"601011#400|601012#600","601011#210101|601012#210101",90,10800,{"$f":"T916","v":"342#29"},2,1509]
[null,"4404",4,"地狱4-40","5014",199,0,51011,205999,10100,"20001#20003#20011#20016#20004#20002#20018","17#3340|3#3375|14#3530|79#19","60103#1|60128#1|60138#1|60143#1",1004,20,"601011#400|601012#600","601011#210101|601012#210101",90,10800,{"$f":"T917","v":"308#74"},1,1510]
[null,"5014",4,"地狱5-1","5024",199,0,51011,205999,10100,"20001#20003#20011#20016#20004#20002#20018","17#3340|3#3375|14#3530|79#19","60103#1|60128#1|60138#1|60143#1",1004,20,"601011#400|601012#600","601011#210101|601012#210101",90,10800,{"$f":"T918","v":"293#-348"},2,1511]
[null,"5024",4,"地狱5-2","5034",199,0,51011,205999,10100,"20001#20003#20011#20016#20004#20002#20018","17#3340|3#3375|14#3530|79#19","60103#1|60128#1|60138#1|60143#1",1004,20,"601011#400|601012#600","601011#210101|601012#210101",90,10800,{"$f":"T919","v":"354#-296"},2,1512]
[null,"5034",4,"地狱5-3","5044",199,0,51011,205999,10100,"20001#20003#20011#20016#20004#20002#20018","17#3340|3#3375|14#3530|79#19","60103#1|60128#1|60138#1|60143#1",1004,20,"601011#400|601012#600","601011#210101|601012#210101",90,10800,{"$f":"T920","v":"286#-267"},1,1513]
[null,"5044",4,"地狱5-4","5054",199,0,51011,205999,10100,"20001#20003#20011#20016#20004#20002#20018","17#3340|3#3375|14#3530|79#19","60103#1|60128#1|60138#1|60143#1",1004,20,"601011#400|601012#600","601011#210101|601012#210101",90,10800,{"$f":"T921","v":"208#-263"},1,1514]
[null,"5054",4,"地狱5-5","5064",199,0,51011,205999,10100,"20001#20003#20011#20016#20004#20002#20018","17#3340|3#3375|14#3530|79#19","60103#1|60128#1|60138#1|60143#1",1004,20,"601011#400|601012#600","601011#210101|601012#210101",90,10800,{"$f":"T922","v":"170#-210"},2,1515]
[null,"5064",4,"地狱5-6","5074",199,0,51011,205999,10100,"20001#20003#20011#20016#20004#20002#20018","17#3340|3#3375|14#3530|79#19","60103#1|60128#1|60138#1|60143#1",1004,20,"601011#400|601012#600","601011#210101|601012#210101",90,10800,{"$f":"T923","v":"249#-191"},2,1516]
[null,"5074",4,"地狱5-7","5084",199,0,51011,205999,10100,"20001#20003#20011#20016#20004#20002#20018","17#3340|3#3375|14#3530|79#19","60103#1|60128#1|60138#1|60143#1",1004,20,"601011#400|601012#600","601011#210101|601012#210101",90,10800,{"$f":"T924","v":"298#-145"},1,1517]
[null,"5084",4,"地狱5-8","5094",199,0,51011,205999,10100,"20001#20003#20011#20016#20004#20002#20018","17#3340|3#3375|14#3530|79#19","60103#1|60128#1|60138#1|60143#1",1004,20,"601011#400|601012#600","601011#210101|601012#210101",90,10800,{"$f":"T925","v":"253#-94"},1,1518]
[null,"5094",4,"地狱5-9","5104",199,0,51011,205999,10100,"20001#20003#20011#20016#20004#20002#20018","17#3340|3#3375|14#3530|79#19","60103#1|60128#1|60138#1|60143#1",1004,20,"601011#400|601012#600","601011#210101|601012#210101",90,10800,{"$f":"T926","v":"188#-71"},1,1519]
[null,"5104",4,"地狱5-10","5114",199,0,51011,205999,10100,"20001#20003#20011#20016#20004#20002#20018","17#3340|3#3375|14#3530|79#19","60103#1|60128#1|60138#1|60143#1",1004,20,"601011#400|601012#600","601011#210101|601012#210101",90,10800,{"$f":"T927","v":"109#-78"},1,1520]
[null,"5114",4,"地狱5-11","5124",199,0,51011,205999,10100,"20001#20003#20011#20016#20004#20002#20018","17#3340|3#3375|14#3530|79#19","60103#1|60128#1|60138#1|60143#1",1004,20,"601011#400|601012#600","601011#210101|601012#210101",90,10800,{"$f":"T928","v":"60#-128"},1,1521]
[null,"5124",4,"地狱5-12","5134",199,0,51011,205999,10100,"20001#20003#20011#20016#20004#20002#20018","17#3340|3#3375|14#3530|79#19","60103#1|60128#1|60138#1|60143#1",1004,20,"601011#400|601012#600","601011#210101|601012#210101",90,10800,{"$f":"T929","v":"79#-191"},1,1522]
[null,"5134",4,"地狱5-13","5144",199,0,51011,205999,10100,"20001#20003#20011#20016#20004#20002#20018","17#3340|3#3375|14#3530|79#19","60103#1|60128#1|60138#1|60143#1",1004,20,"601011#400|601012#600","601011#210101|601012#210101",90,10800,{"$f":"T930","v":"57#-245"},1,1523]
[null,"5144",4,"地狱5-14","5154",199,0,51011,205999,10100,"20001#20003#20011#20016#20004#20002#20018","17#3340|3#3375|14#3530|79#19","60103#1|60128#1|60138#1|60143#1",1004,20,"601011#400|601012#600","601011#210101|601012#210101",90,10800,{"$f":"T931","v":"5#-271"},1,1524]
[null,"5154",4,"地狱5-15","5164",199,0,51011,205999,10100,"20001#20003#20011#20016#20004#20002#20018","17#3340|3#3375|14#3530|79#19","60103#1|60128#1|60138#1|60143#1",1004,20,"601011#400|601012#600","601011#210101|601012#210101",90,10800,{"$f":"T932","v":"-61#-254"},1,1525]
[null,"5164",4,"地狱5-16","5174",199,0,51011,205999,10100,"20001#20003#20011#20016#20004#20002#20018","17#3340|3#3375|14#3530|79#19","60103#1|60128#1|60138#1|60143#1",1004,20,"601011#400|601012#600","601011#210101|601012#210101",90,10800,{"$f":"T933","v":"-117#-218"},1,1526]
[null,"5174",4,"地狱5-17","5184",199,0,51011,205999,10100,"20001#20003#20011#20016#20004#20002#20018","17#3340|3#3375|14#3530|79#19","60103#1|60128#1|60138#1|60143#1",1004,20,"601011#400|601012#600","601011#210101|601012#210101",90,10800,{"$f":"T934","v":"-184#-223"},1,1527]
[null,"5184",4,"地狱5-18","5194",199,0,51011,205999,10100,"20001#20003#20011#20016#20004#20002#20018","17#3340|3#3375|14#3530|79#19","60103#1|60128#1|60138#1|60143#1",1004,20,"601011#400|601012#600","601011#210101|601012#210101",90,10800,{"$f":"T935","v":"-238#-256"},1,1528]
[null,"5194",4,"地狱5-19","5204",199,0,51011,205999,10100,"20001#20003#20011#20016#20004#20002#20018","17#3340|3#3375|14#3530|79#19","60103#1|60128#1|60138#1|60143#1",1004,20,"601011#400|601012#600","601011#210101|601012#210101",90,10800,{"$f":"T936","v":"-304#-269"},1,1529]
[null,"5204",4,"地狱5-20","5214",199,0,51011,205999,10100,"20001#20003#20011#20016#20004#20002#20018","17#3340|3#3375|14#3530|79#19","60103#1|60128#1|60138#1|60143#1",1004,20,"601011#400|601012#600","601011#210101|601012#210101",90,10800,{"$f":"T937","v":"-369#-263"},1,1530]
[null,"5214",4,"地狱5-21","5224",199,0,51011,205999,10100,"20001#20003#20011#20016#20004#20002#20018","17#3340|3#3375|14#3530|79#19","60103#1|60128#1|60138#1|60143#1",1004,20,"601011#400|601012#600","601011#210101|601012#210101",90,10800,{"$f":"T938","v":"-417#-214"},1,1531]
[null,"5224",4,"地狱5-22","5234",199,0,51011,205999,10100,"20001#20003#20011#20016#20004#20002#20018","17#3340|3#3375|14#3530|79#19","60103#1|60128#1|60138#1|60143#1",1004,20,"601011#400|601012#600","601011#210101|601012#210101",90,10800,{"$f":"T939","v":"-376#-162"},2,1532]
[null,"5234",4,"地狱5-23","5244",199,0,51011,205999,10100,"20001#20003#20011#20016#20004#20002#20018","17#3340|3#3375|14#3530|79#19","60103#1|60128#1|60138#1|60143#1",1004,20,"601011#400|601012#600","601011#210101|601012#210101",90,10800,{"$f":"T940","v":"-303#-160"},2,1533]
[null,"5244",4,"地狱5-24","5254",199,0,51011,205999,10100,"20001#20003#20011#20016#20004#20002#20018","17#3340|3#3375|14#3530|79#19","60103#1|60128#1|60138#1|60143#1",1004,20,"601011#400|601012#600","601011#210101|601012#210101",90,10800,{"$f":"T941","v":"-238#-163"},2,1534]
[null,"5254",4,"地狱5-25","5264",199,0,51011,205999,10100,"20001#20003#20011#20016#20004#20002#20018","17#3340|3#3375|14#3530|79#19","60103#1|60128#1|60138#1|60143#1",1004,20,"601011#400|601012#600","601011#210101|601012#210101",90,10800,{"$f":"T942","v":"-169#-156"},2,1535]
[null,"5264",4,"地狱5-26","5274",199,0,51011,205999,10100,"20001#20003#20011#20016#20004#20002#20018","17#3340|3#3375|14#3530|79#19","60103#1|60128#1|60138#1|60143#1",1004,20,"601011#400|601012#600","601011#210101|601012#210101",90,10800,{"$f":"T943","v":"-138#-106"},2,1536]
[null,"5274",4,"地狱5-27","5284",199,0,51011,205999,10100,"20001#20003#20011#20016#20004#20002#20018","17#3340|3#3375|14#3530|79#19","60103#1|60128#1|60138#1|60143#1",1004,20,"601011#400|601012#600","601011#210101|601012#210101",90,10800,{"$f":"T944","v":"-143#-56"},2,1537]
[null,"5284",4,"地狱5-28","5294",199,0,51011,205999,10100,"20001#20003#20011#20016#20004#20002#20018","17#3340|3#3375|14#3530|79#19","60103#1|60128#1|60138#1|60143#1",1004,20,"601011#400|601012#600","601011#210101|601012#210101",90,10800,{"$f":"T945","v":"-86#-41"},2,1538]
[null,"5294",4,"地狱5-29","5304",199,0,51011,205999,10100,"20001#20003#20011#20016#20004#20002#20018","17#3340|3#3375|14#3530|79#19","60103#1|60128#1|60138#1|60143#1",1004,20,"601011#400|601012#600","601011#210101|601012#210101",90,10800,{"$f":"T946","v":"-109#9"},1,1539]
[null,"5304",4,"地狱5-30","5314",199,0,51011,205999,10100,"20001#20003#20011#20016#20004#20002#20018","17#3340|3#3375|14#3530|79#19","60103#1|60128#1|60138#1|60143#1",1004,20,"601011#400|601012#600","601011#210101|601012#210101",90,10800,{"$f":"T947","v":"-106#64"},2,1540]
[null,"5314",4,"地狱5-31","5324",199,0,51011,205999,10100,"20001#20003#20011#20016#20004#20002#20018","17#3340|3#3375|14#3530|79#19","60103#1|60128#1|60138#1|60143#1",1004,20,"601011#400|601012#600","601011#210101|601012#210101",90,10800,{"$f":"T948","v":"-43#79"},2,1541]
[null,"5324",4,"地狱5-32","5334",199,0,51011,205999,10100,"20001#20003#20011#20016#20004#20002#20018","17#3340|3#3375|14#3530|79#19","60103#1|60128#1|60138#1|60143#1",1004,20,"601011#400|601012#600","601011#210101|601012#210101",90,10800,{"$f":"T949","v":"24#69"},2,1542]
[null,"5334",4,"地狱5-33","5344",199,0,51011,205999,10100,"20001#20003#20011#20016#20004#20002#20018","17#3340|3#3375|14#3530|79#19","60103#1|60128#1|60138#1|60143#1",1004,20,"601011#400|601012#600","601011#210101|601012#210101",90,10800,{"$f":"T950","v":"89#52"},2,1543]
[null,"5344",4,"地狱5-34","5354",199,0,51011,205999,10100,"20001#20003#20011#20016#20004#20002#20018","17#3340|3#3375|14#3530|79#19","60103#1|60128#1|60138#1|60143#1",1004,20,"601011#400|601012#600","601011#210101|601012#210101",90,10800,{"$f":"T951","v":"155#44"},2,1544]
[null,"5354",4,"地狱5-35","5364",199,0,51011,205999,10100,"20001#20003#20011#20016#20004#20002#20018","17#3340|3#3375|14#3530|79#19","60103#1|60128#1|60138#1|60143#1",1004,20,"601011#400|601012#600","601011#210101|601012#210101",90,10800,{"$f":"T952","v":"220#61"},2,1545]
[null,"5364",4,"地狱5-36","5374",199,0,51011,205999,10100,"20001#20003#20011#20016#20004#20002#20018","17#3340|3#3375|14#3530|79#19","60103#1|60128#1|60138#1|60143#1",1004,20,"601011#400|601012#600","601011#210101|601012#210101",90,10800,{"$f":"T953","v":"204#95"},1,1546]
[null,"5374",4,"地狱5-37","5384",199,0,51011,205999,10100,"20001#20003#20011#20016#20004#20002#20018","17#3340|3#3375|14#3530|79#19","60103#1|60128#1|60138#1|60143#1",1004,20,"601011#400|601012#600","601011#210101|601012#210101",90,10800,{"$f":"T954","v":"179#130"},2,1547]
[null,"5384",4,"地狱5-38","5394",199,0,51011,205999,10100,"20001#20003#20011#20016#20004#20002#20018","17#3340|3#3375|14#3530|79#19","60103#1|60128#1|60138#1|60143#1",1004,20,"601011#400|601012#600","601011#210101|601012#210101",90,10800,{"$f":"T955","v":"237#154"},2,1548]
[null,"5394",4,"地狱5-39","5404",199,0,51011,205999,10100,"20001#20003#20011#20016#20004#20002#20018","17#3340|3#3375|14#3530|79#19","60103#1|60128#1|60138#1|60143#1",1004,20,"601011#400|601012#600","601011#210101|601012#210101",90,10800,{"$f":"T956","v":"274#180"},2,1549]
[null,"5404",4,"地狱5-40","6014",199,0,51011,205999,10100,"20001#20003#20011#20016#20004#20002#20018","17#3340|3#3375|14#3530|79#19","60103#1|60128#1|60138#1|60143#1",1004,20,"601011#400|601012#600","601011#210101|601012#210101",90,10800,{"$f":"T957","v":"279#236"},2,1550]
[null,"6014",4,"地狱6-1","6024",199,0,51011,205999,10100,"20001#20003#20011#20016#20004#20002#20018","17#3340|3#3375|14#3530|79#19","60103#1|60128#1|60138#1|60143#1",1004,20,"601011#400|601012#600","601011#210101|601012#210101",90,10800,{"$f":"T958","v":"132#-353"},1,1551]
[null,"6024",4,"地狱6-2","6034",199,0,51011,205999,10100,"20001#20003#20011#20016#20004#20002#20018","17#3340|3#3375|14#3530|79#19","60103#1|60128#1|60138#1|60143#1",1004,20,"601011#400|601012#600","601011#210101|601012#210101",90,10800,{"$f":"T959","v":"87#-349"},1,1552]
[null,"6034",4,"地狱6-3","6044",199,0,51011,205999,10100,"20001#20003#20011#20016#20004#20002#20018","17#3340|3#3375|14#3530|79#19","60103#1|60128#1|60138#1|60143#1",1004,20,"601011#400|601012#600","601011#210101|601012#210101",90,10800,{"$f":"T960","v":"38#-340"},1,1553]
[null,"6044",4,"地狱6-4","6054",199,0,51011,205999,10100,"20001#20003#20011#20016#20004#20002#20018","17#3340|3#3375|14#3530|79#19","60103#1|60128#1|60138#1|60143#1",1004,20,"601011#400|601012#600","601011#210101|601012#210101",90,10800,{"$f":"T961","v":"-4#-327"},1,1554]
[null,"6054",4,"地狱6-5","6064",199,0,51011,205999,10100,"20001#20003#20011#20016#20004#20002#20018","17#3340|3#3375|14#3530|79#19","60103#1|60128#1|60138#1|60143#1",1004,20,"601011#400|601012#600","601011#210101|601012#210101",90,10800,{"$f":"T962","v":"-38#-294"},1,1555]
[null,"6064",4,"地狱6-6","6074",199,0,51011,205999,10100,"20001#20003#20011#20016#20004#20002#20018","17#3340|3#3375|14#3530|79#19","60103#1|60128#1|60138#1|60143#1",1004,20,"601011#400|601012#600","601011#210101|601012#210101",90,10800,{"$f":"T963","v":"-2#-263"},2,1556]
[null,"6074",4,"地狱6-7","6084",199,0,51011,205999,10100,"20001#20003#20011#20016#20004#20002#20018","17#3340|3#3375|14#3530|79#19","60103#1|60128#1|60138#1|60143#1",1004,20,"601011#400|601012#600","601011#210101|601012#210101",90,10800,{"$f":"T964","v":"25#-231"},2,1557]
[null,"6084",4,"地狱6-8","6094",199,0,51011,205999,10100,"20001#20003#20011#20016#20004#20002#20018","17#3340|3#3375|14#3530|79#19","60103#1|60128#1|60138#1|60143#1",1004,20,"601011#400|601012#600","601011#210101|601012#210101",90,10800,{"$f":"T965","v":"-23#-211"},1,1558]
[null,"6094",4,"地狱6-9","6104",199,0,51011,205999,10100,"20001#20003#20011#20016#20004#20002#20018","17#3340|3#3375|14#3530|79#19","60103#1|60128#1|60138#1|60143#1",1004,20,"601011#400|601012#600","601011#210101|601012#210101",90,10800,{"$f":"T966","v":"-79#-212"},1,1559]
[null,"6104",4,"地狱6-10","6114",199,0,51011,205999,10100,"20001#20003#20011#20016#20004#20002#20018","17#3340|3#3375|14#3530|79#19","60103#1|60128#1|60138#1|60143#1",1004,20,"601011#400|601012#600","601011#210101|601012#210101",90,10800,{"$f":"T967","v":"-131#-213"},1,1560]
[null,"6114",4,"地狱6-11","6124",199,0,51011,205999,10100,"20001#20003#20011#20016#20004#20002#20018","17#3340|3#3375|14#3530|79#19","60103#1|60128#1|60138#1|60143#1",1004,20,"601011#400|601012#600","601011#210101|601012#210101",90,10800,{"$f":"T968","v":"-177#-198"},1,1561]
[null,"6124",4,"地狱6-12","6134",199,0,51011,205999,10100,"20001#20003#20011#20016#20004#20002#20018","17#3340|3#3375|14#3530|79#19","60103#1|60128#1|60138#1|60143#1",1004,20,"601011#400|601012#600","601011#210101|601012#210101",90,10800,{"$f":"T969","v":"-190#-163"},1,1562]
[null,"6134",4,"地狱6-13","6144",199,0,51011,205999,10100,"20001#20003#20011#20016#20004#20002#20018","17#3340|3#3375|14#3530|79#19","60103#1|60128#1|60138#1|60143#1",1004,20,"601011#400|601012#600","601011#210101|601012#210101",90,10800,{"$f":"T970","v":"-151#-139"},2,1563]
[null,"6144",4,"地狱6-14","6154",199,0,51011,205999,10100,"20001#20003#20011#20016#20004#20002#20018","17#3340|3#3375|14#3530|79#19","60103#1|60128#1|60138#1|60143#1",1004,20,"601011#400|601012#600","601011#210101|601012#210101",90,10800,{"$f":"T971","v":"-103#-139"},2,1564]
[null,"6154",4,"地狱6-15","6164",199,0,51011,205999,10100,"20001#20003#20011#20016#20004#20002#20018","17#3340|3#3375|14#3530|79#19","60103#1|60128#1|60138#1|60143#1",1004,20,"601011#400|601012#600","601011#210101|601012#210101",90,10800,{"$f":"T972","v":"-51#-149"},2,1565]
[null,"6164",4,"地狱6-16","6174",199,0,51011,205999,10100,"20001#20003#20011#20016#20004#20002#20018","17#3340|3#3375|14#3530|79#19","60103#1|60128#1|60138#1|60143#1",1004,20,"601011#400|601012#600","601011#210101|601012#210101",90,10800,{"$f":"T973","v":"3#-157"},2,1566]
[null,"6174",4,"地狱6-17","6184",199,0,51011,205999,10100,"20001#20003#20011#20016#20004#20002#20018","17#3340|3#3375|14#3530|79#19","60103#1|60128#1|60138#1|60143#1",1004,20,"601011#400|601012#600","601011#210101|601012#210101",90,10800,{"$f":"T974","v":"52#-168"},2,1567]
[null,"6184",4,"地狱6-18","6194",199,0,51011,205999,10100,"20001#20003#20011#20016#20004#20002#20018","17#3340|3#3375|14#3530|79#19","60103#1|60128#1|60138#1|60143#1",1004,20,"601011#400|601012#600","601011#210101|601012#210101",90,10800,{"$f":"T975","v":"111#-170"},2,1568]
[null,"6194",4,"地狱6-19","6204",199,0,51011,205999,10100,"20001#20003#20011#20016#20004#20002#20018","17#3340|3#3375|14#3530|79#19","60103#1|60128#1|60138#1|60143#1",1004,20,"601011#400|601012#600","601011#210101|601012#210101",90,10800,{"$f":"T976","v":"162#-162"},2,1569]
[null,"6204",4,"地狱6-20","6214",199,0,51011,205999,10100,"20001#20003#20011#20016#20004#20002#20018","17#3340|3#3375|14#3530|79#19","60103#1|60128#1|60138#1|60143#1",1004,20,"601011#400|601012#600","601011#210101|601012#210101",90,10800,{"$f":"T977","v":"177#-124"},1,1570]
[null,"6214",4,"地狱6-21","6224",199,0,51011,205999,10100,"20001#20003#20011#20016#20004#20002#20018","17#3340|3#3375|14#3530|79#19","60103#1|60128#1|60138#1|60143#1",1004,20,"601011#400|601012#600","601011#210101|601012#210101",90,10800,{"$f":"T978","v":"132#-100"},1,1571]
[null,"6224",4,"地狱6-22","6234",199,0,51011,205999,10100,"20001#20003#20011#20016#20004#20002#20018","17#3340|3#3375|14#3530|79#19","60103#1|60128#1|60138#1|60143#1",1004,20,"601011#400|601012#600","601011#210101|601012#210101",90,10800,{"$f":"T979","v":"85#-83"},1,1572]
[null,"6234",4,"地狱6-23","6244",199,0,51011,205999,10100,"20001#20003#20011#20016#20004#20002#20018","17#3340|3#3375|14#3530|79#19","60103#1|60128#1|60138#1|60143#1",1004,20,"601011#400|601012#600","601011#210101|601012#210101",90,10800,{"$f":"T980","v":"79#-40"},2,1573]
[null,"6244",4,"地狱6-24","6254",199,0,51011,205999,10100,"20001#20003#20011#20016#20004#20002#20018","17#3340|3#3375|14#3530|79#19","60103#1|60128#1|60138#1|60143#1",1004,20,"601011#400|601012#600","601011#210101|601012#210101",90,10800,{"$f":"T981","v":"128#-28"},2,1574]
[null,"6254",4,"地狱6-25","6264",199,0,51011,205999,10100,"20001#20003#20011#20016#20004#20002#20018","17#3340|3#3375|14#3530|79#19","60103#1|60128#1|60138#1|60143#1",1004,20,"601011#400|601012#600","601011#210101|601012#210101",90,10800,{"$f":"T982","v":"179#-37"},2,1575]
[null,"6264",4,"地狱6-26","6274",199,0,51011,205999,10100,"20001#20003#20011#20016#20004#20002#20018","17#3340|3#3375|14#3530|79#19","60103#1|60128#1|60138#1|60143#1",1004,20,"601011#400|601012#600","601011#210101|601012#210101",90,10800,{"$f":"T983","v":"234#-37"},2,1576]
[null,"6274",4,"地狱6-27","6284",199,0,51011,205999,10100,"20001#20003#20011#20016#20004#20002#20018","17#3340|3#3375|14#3530|79#19","60103#1|60128#1|60138#1|60143#1",1004,20,"601011#400|601012#600","601011#210101|601012#210101",90,10800,{"$f":"T984","v":"273#-30"},2,1577]
[null,"6284",4,"地狱6-28","6294",199,0,51011,205999,10100,"20001#20003#20011#20016#20004#20002#20018","17#3340|3#3375|14#3530|79#19","60103#1|60128#1|60138#1|60143#1",1004,20,"601011#400|601012#600","601011#210101|601012#210101",90,10800,{"$f":"T985","v":"291#6"},1,1578]
[null,"6294",4,"地狱6-29","6304",199,0,51011,205999,10100,"20001#20003#20011#20016#20004#20002#20018","17#3340|3#3375|14#3530|79#19","60103#1|60128#1|60138#1|60143#1",1004,20,"601011#400|601012#600","601011#210101|601012#210101",90,10800,{"$f":"T986","v":"257#37"},1,1579]
[null,"6304",4,"地狱6-30","6314",199,0,51011,205999,10100,"20001#20003#20011#20016#20004#20002#20018","17#3340|3#3375|14#3530|79#19","60103#1|60128#1|60138#1|60143#1",1004,20,"601011#400|601012#600","601011#210101|601012#210101",90,10800,{"$f":"T987","v":"209#54"},1,1580]
[null,"6314",4,"地狱6-31","6324",199,0,51011,205999,10100,"20001#20003#20011#20016#20004#20002#20018","17#3340|3#3375|14#3530|79#19","60103#1|60128#1|60138#1|60143#1",1004,20,"601011#400|601012#600","601011#210101|601012#210101",90,10800,{"$f":"T988","v":"163#60"},1,1581]
[null,"6324",4,"地狱6-32","6334",199,0,51011,205999,10100,"20001#20003#20011#20016#20004#20002#20018","17#3340|3#3375|14#3530|79#19","60103#1|60128#1|60138#1|60143#1",1004,20,"601011#400|601012#600","601011#210101|601012#210101",90,10800,{"$f":"T989","v":"120#73"},1,1582]
[null,"6334",4,"地狱6-33","6344",199,0,51011,205999,10100,"20001#20003#20011#20016#20004#20002#20018","17#3340|3#3375|14#3530|79#19","60103#1|60128#1|60138#1|60143#1",1004,20,"601011#400|601012#600","601011#210101|601012#210101",90,10800,{"$f":"T990","v":"83#95"},1,1583]
[null,"6344",4,"地狱6-34","6354",199,0,51011,205999,10100,"20001#20003#20011#20016#20004#20002#20018","17#3340|3#3375|14#3530|79#19","60103#1|60128#1|60138#1|60143#1",1004,20,"601011#400|601012#600","601011#210101|601012#210101",90,10800,{"$f":"T991","v":"57#121"},1,1584]
[null,"6354",4,"地狱6-35","6364",199,0,51011,205999,10100,"20001#20003#20011#20016#20004#20002#20018","17#3340|3#3375|14#3530|79#19","60103#1|60128#1|60138#1|60143#1",1004,20,"601011#400|601012#600","601011#210101|601012#210101",90,10800,{"$f":"T992","v":"33#160"},1,1585]
[null,"6364",4,"地狱6-36","6374",199,0,51011,205999,10100,"20001#20003#20011#20016#20004#20002#20018","17#3340|3#3375|14#3530|79#19","60103#1|60128#1|60138#1|60143#1",1004,20,"601011#400|601012#600","601011#210101|601012#210101",90,10800,{"$f":"T993","v":"1#199"},1,1586]
[null,"6374",4,"地狱6-37","6384",199,0,51011,205999,10100,"20001#20003#20011#20016#20004#20002#20018","17#3340|3#3375|14#3530|79#19","60103#1|60128#1|60138#1|60143#1",1004,20,"601011#400|601012#600","601011#210101|601012#210101",90,10800,{"$f":"T994","v":"-33#232"},1,1587]
[null,"6384",4,"地狱6-38","6394",199,0,51011,205999,10100,"20001#20003#20011#20016#20004#20002#20018","17#3340|3#3375|14#3530|79#19","60103#1|60128#1|60138#1|60143#1",1004,20,"601011#400|601012#600","601011#210101|601012#210101",90,10800,{"$f":"T995","v":"-73#257"},1,1588]
[null,"6394",4,"地狱6-39","6404",199,0,51011,205999,10100,"20001#20003#20011#20016#20004#20002#20018","17#3340|3#3375|14#3530|79#19","60103#1|60128#1|60138#1|60143#1",1004,20,"601011#400|601012#600","601011#210101|601012#210101",90,10800,{"$f":"T996","v":"-110#272"},1,1589]
[null,"6404",4,"地狱6-40","7014",199,0,51011,205999,10100,"20001#20003#20011#20016#20004#20002#20018","17#3340|3#3375|14#3530|79#19","60103#1|60128#1|60138#1|60143#1",1004,20,"601011#400|601012#600","601011#210101|601012#210101",90,10800,{"$f":"T997","v":"-152#282"},1,1590]
[null,"7014",4,"地狱7-1","7024",199,0,51011,205999,10100,"20001#20003#20011#20016#20004#20002#20018","17#3340|3#3375|14#3530|79#19","60103#1|60128#1|60138#1|60143#1",1004,20,"601011#400|601012#600","601011#210101|601012#210101",90,10800,{"$f":"T998","v":"-272#-254"},2,1591]
[null,"7024",4,"地狱7-2","7034",199,0,51011,205999,10100,"20001#20003#20011#20016#20004#20002#20018","17#3340|3#3375|14#3530|79#19","60103#1|60128#1|60138#1|60143#1",1004,20,"601011#400|601012#600","601011#210101|601012#210101",90,10800,{"$f":"T999","v":"-216#-269"},2,1592]
[null,"7034",4,"地狱7-3","7044",199,0,51011,205999,10100,"20001#20003#20011#20016#20004#20002#20018","17#3340|3#3375|14#3530|79#19","60103#1|60128#1|60138#1|60143#1",1004,20,"601011#400|601012#600","601011#210101|601012#210101",90,10800,{"$f":"T1000","v":"-164#-275"},2,1593]
[null,"7044",4,"地狱7-4","7054",199,0,51011,205999,10100,"20001#20003#20011#20016#20004#20002#20018","17#3340|3#3375|14#3530|79#19","60103#1|60128#1|60138#1|60143#1",1004,20,"601011#400|601012#600","601011#210101|601012#210101",90,10800,{"$f":"T1001","v":"-112#-266"},2,1594]
[null,"7054",4,"地狱7-5","7064",199,0,51011,205999,10100,"20001#20003#20011#20016#20004#20002#20018","17#3340|3#3375|14#3530|79#19","60103#1|60128#1|60138#1|60143#1",1004,20,"601011#400|601012#600","601011#210101|601012#210101",90,10800,{"$f":"T1002","v":"-91#-226"},1,1595]
[null,"7064",4,"地狱7-6","7074",199,0,51011,205999,10100,"20001#20003#20011#20016#20004#20002#20018","17#3340|3#3375|14#3530|79#19","60103#1|60128#1|60138#1|60143#1",1004,20,"601011#400|601012#600","601011#210101|601012#210101",90,10800,{"$f":"T1003","v":"-124#-179"},1,1596]
[null,"7074",4,"地狱7-7","7084",199,0,51011,205999,10100,"20001#20003#20011#20016#20004#20002#20018","17#3340|3#3375|14#3530|79#19","60103#1|60128#1|60138#1|60143#1",1004,20,"601011#400|601012#600","601011#210101|601012#210101",90,10800,{"$f":"T1004","v":"-73#-151"},2,1597]
[null,"7084",4,"地狱7-8","7094",199,0,51011,205999,10100,"20001#20003#20011#20016#20004#20002#20018","17#3340|3#3375|14#3530|79#19","60103#1|60128#1|60138#1|60143#1",1004,20,"601011#400|601012#600","601011#210101|601012#210101",90,10800,{"$f":"T1005","v":"-17#-163"},2,1598]
[null,"7094",4,"地狱7-9","7104",199,0,51011,205999,10100,"20001#20003#20011#20016#20004#20002#20018","17#3340|3#3375|14#3530|79#19","60103#1|60128#1|60138#1|60143#1",1004,20,"601011#400|601012#600","601011#210101|601012#210101",90,10800,{"$f":"T1006","v":"39#-193"},2,1599]
[null,"7104",4,"地狱7-10","7114",199,0,51011,205999,10100,"20001#20003#20011#20016#20004#20002#20018","17#3340|3#3375|14#3530|79#19","60103#1|60128#1|60138#1|60143#1",1004,20,"601011#400|601012#600","601011#210101|601012#210101",90,10800,{"$f":"T1007","v":"83#-232"},2,1600]
[null,"7114",4,"地狱7-11","7124",199,0,51011,205999,10100,"20001#20003#20011#20016#20004#20002#20018","17#3340|3#3375|14#3530|79#19","60103#1|60128#1|60138#1|60143#1",1004,20,"601011#400|601012#600","601011#210101|601012#210101",90,10800,{"$f":"T1008","v":"135#-268"},2,1601]
[null,"7124",4,"地狱7-12","7134",199,0,51011,205999,10100,"20001#20003#20011#20016#20004#20002#20018","17#3340|3#3375|14#3530|79#19","60103#1|60128#1|60138#1|60143#1",1004,20,"601011#400|601012#600","601011#210101|601012#210101",90,10800,{"$f":"T1009","v":"187#-294"},2,1602]
[null,"7134",4,"地狱7-13","7144",199,0,51011,205999,10100,"20001#20003#20011#20016#20004#20002#20018","17#3340|3#3375|14#3530|79#19","60103#1|60128#1|60138#1|60143#1",1004,20,"601011#400|601012#600","601011#210101|601012#210101",90,10800,{"$f":"T1010","v":"248#-311"},2,1603]
[null,"7144",4,"地狱7-14","7154",199,0,51011,205999,10100,"20001#20003#20011#20016#20004#20002#20018","17#3340|3#3375|14#3530|79#19","60103#1|60128#1|60138#1|60143#1",1004,20,"601011#400|601012#600","601011#210101|601012#210101",90,10800,{"$f":"T1011","v":"301#-318"},2,1604]
[null,"7154",4,"地狱7-15","7164",199,0,51011,205999,10100,"20001#20003#20011#20016#20004#20002#20018","17#3340|3#3375|14#3530|79#19","60103#1|60128#1|60138#1|60143#1",1004,20,"601011#400|601012#600","601011#210101|601012#210101",90,10800,{"$f":"T1012","v":"357#-312"},2,1605]
[null,"7164",4,"地狱7-16","7174",199,0,51011,205999,10100,"20001#20003#20011#20016#20004#20002#20018","17#3340|3#3375|14#3530|79#19","60103#1|60128#1|60138#1|60143#1",1004,20,"601011#400|601012#600","601011#210101|601012#210101",90,10800,{"$f":"T1013","v":"393#-268"},1,1606]
[null,"7174",4,"地狱7-17","7184",199,0,51011,205999,10100,"20001#20003#20011#20016#20004#20002#20018","17#3340|3#3375|14#3530|79#19","60103#1|60128#1|60138#1|60143#1",1004,20,"601011#400|601012#600","601011#210101|601012#210101",90,10800,{"$f":"T1014","v":"364#-223"},1,1607]
[null,"7184",4,"地狱7-18","7194",199,0,51011,205999,10100,"20001#20003#20011#20016#20004#20002#20018","17#3340|3#3375|14#3530|79#19","60103#1|60128#1|60138#1|60143#1",1004,20,"601011#400|601012#600","601011#210101|601012#210101",90,10800,{"$f":"T1015","v":"321#-184"},1,1608]
[null,"7194",4,"地狱7-19","7204",199,0,51011,205999,10100,"20001#20003#20011#20016#20004#20002#20018","17#3340|3#3375|14#3530|79#19","60103#1|60128#1|60138#1|60143#1",1004,20,"601011#400|601012#600","601011#210101|601012#210101",90,10800,{"$f":"T1016","v":"370#-159"},2,1609]
[null,"7204",4,"地狱7-20","7214",199,0,51011,205999,10100,"20001#20003#20011#20016#20004#20002#20018","17#3340|3#3375|14#3530|79#19","60103#1|60128#1|60138#1|60143#1",1004,20,"601011#400|601012#600","601011#210101|601012#210101",90,10800,{"$f":"T1017","v":"352#-116"},1,1610]
[null,"7214",4,"地狱7-21","7224",199,0,51011,205999,10100,"20001#20003#20011#20016#20004#20002#20018","17#3340|3#3375|14#3530|79#19","60103#1|60128#1|60138#1|60143#1",1004,20,"601011#400|601012#600","601011#210101|601012#210101",90,10800,{"$f":"T1018","v":"293#-117"},1,1611]
[null,"7224",4,"地狱7-22","7234",199,0,51011,205999,10100,"20001#20003#20011#20016#20004#20002#20018","17#3340|3#3375|14#3530|79#19","60103#1|60128#1|60138#1|60143#1",1004,20,"601011#400|601012#600","601011#210101|601012#210101",90,10800,{"$f":"T1019","v":"242#-104"},1,1612]
[null,"7234",4,"地狱7-23","7244",199,0,51011,205999,10100,"20001#20003#20011#20016#20004#20002#20018","17#3340|3#3375|14#3530|79#19","60103#1|60128#1|60138#1|60143#1",1004,20,"601011#400|601012#600","601011#210101|601012#210101",90,10800,{"$f":"T1020","v":"196#-75"},1,1613]
[null,"7244",4,"地狱7-24","7254",199,0,51011,205999,10100,"20001#20003#20011#20016#20004#20002#20018","17#3340|3#3375|14#3530|79#19","60103#1|60128#1|60138#1|60143#1",1004,20,"601011#400|601012#600","601011#210101|601012#210101",90,10800,{"$f":"T1021","v":"136#-61"},1,1614]
[null,"7254",4,"地狱7-25","7264",199,0,51011,205999,10100,"20001#20003#20011#20016#20004#20002#20018","17#3340|3#3375|14#3530|79#19","60103#1|60128#1|60138#1|60143#1",1004,20,"601011#400|601012#600","601011#210101|601012#210101",90,10800,{"$f":"T1022","v":"83#-86"},1,1615]
[null,"7264",4,"地狱7-26","7274",199,0,51011,205999,10100,"20001#20003#20011#20016#20004#20002#20018","17#3340|3#3375|14#3530|79#19","60103#1|60128#1|60138#1|60143#1",1004,20,"601011#400|601012#600","601011#210101|601012#210101",90,10800,{"$f":"T1023","v":"28#-91"},1,1616]
[null,"7274",4,"地狱7-27","7284",199,0,51011,205999,10100,"20001#20003#20011#20016#20004#20002#20018","17#3340|3#3375|14#3530|79#19","60103#1|60128#1|60138#1|60143#1",1004,20,"601011#400|601012#600","601011#210101|601012#210101",90,10800,{"$f":"T1024","v":"-29#-87"},1,1617]
[null,"7284",4,"地狱7-28","7294",199,0,51011,205999,10100,"20001#20003#20011#20016#20004#20002#20018","17#3340|3#3375|14#3530|79#19","60103#1|60128#1|60138#1|60143#1",1004,20,"601011#400|601012#600","601011#210101|601012#210101",90,10800,{"$f":"T1025","v":"-82#-80"},1,1618]
[null,"7294",4,"地狱7-29","7304",199,0,51011,205999,10100,"20001#20003#20011#20016#20004#20002#20018","17#3340|3#3375|14#3530|79#19","60103#1|60128#1|60138#1|60143#1",1004,20,"601011#400|601012#600","601011#210101|601012#210101",90,10800,{"$f":"T1026","v":"-132#-64"},1,1619]
[null,"7304",4,"地狱7-30","7314",199,0,51011,205999,10100,"20001#20003#20011#20016#20004#20002#20018","17#3340|3#3375|14#3530|79#19","60103#1|60128#1|60138#1|60143#1",1004,20,"601011#400|601012#600","601011#210101|601012#210101",90,10800,{"$f":"T1027","v":"-186#-48"},1,1620]
[null,"7314",4,"地狱7-31","7324",199,0,51011,205999,10100,"20001#20003#20011#20016#20004#20002#20018","17#3340|3#3375|14#3530|79#19","60103#1|60128#1|60138#1|60143#1",1004,20,"601011#400|601012#600","601011#210101|601012#210101",90,10800,{"$f":"T1028","v":"-233#-14"},1,1621]
[null,"7324",4,"地狱7-32","7334",199,0,51011,205999,10100,"20001#20003#20011#20016#20004#20002#20018","17#3340|3#3375|14#3530|79#19","60103#1|60128#1|60138#1|60143#1",1004,20,"601011#400|601012#600","601011#210101|601012#210101",90,10800,{"$f":"T1029","v":"-227#35"},2,1622]
[null,"7334",4,"地狱7-33","7344",199,0,51011,205999,10100,"20001#20003#20011#20016#20004#20002#20018","17#3340|3#3375|14#3530|79#19","60103#1|60128#1|60138#1|60143#1",1004,20,"601011#400|601012#600","601011#210101|601012#210101",90,10800,{"$f":"T1030","v":"-174#58"},2,1623]
[null,"7344",4,"地狱7-34","7354",199,0,51011,205999,10100,"20001#20003#20011#20016#20004#20002#20018","17#3340|3#3375|14#3530|79#19","60103#1|60128#1|60138#1|60143#1",1004,20,"601011#400|601012#600","601011#210101|601012#210101",90,10800,{"$f":"T1031","v":"-121#61"},2,1624]
[null,"7354",4,"地狱7-35","7364",199,0,51011,205999,10100,"20001#20003#20011#20016#20004#20002#20018","17#3340|3#3375|14#3530|79#19","60103#1|60128#1|60138#1|60143#1",1004,20,"601011#400|601012#600","601011#210101|601012#210101",90,10800,{"$f":"T1032","v":"-64#47"},2,1625]
[null,"7364",4,"地狱7-36","7374",199,0,51011,205999,10100,"20001#20003#20011#20016#20004#20002#20018","17#3340|3#3375|14#3530|79#19","60103#1|60128#1|60138#1|60143#1",1004,20,"601011#400|601012#600","601011#210101|601012#210101",90,10800,{"$f":"T1033","v":"3#50"},2,1626]
[null,"7374",4,"地狱7-37","7384",199,0,51011,205999,10100,"20001#20003#20011#20016#20004#20002#20018","17#3340|3#3375|14#3530|79#19","60103#1|60128#1|60138#1|60143#1",1004,20,"601011#400|601012#600","601011#210101|601012#210101",90,10800,{"$f":"T1034","v":"20#94"},2,1627]
[null,"7384",4,"地狱7-38","7394",199,0,51011,205999,10100,"20001#20003#20011#20016#20004#20002#20018","17#3340|3#3375|14#3530|79#19","60103#1|60128#1|60138#1|60143#1",1004,20,"601011#400|601012#600","601011#210101|601012#210101",90,10800,{"$f":"T1035","v":"50#139"},2,1628]
[null,"7394",4,"地狱7-39","7404",199,0,51011,205999,10100,"20001#20003#20011#20016#20004#20002#20018","17#3340|3#3375|14#3530|79#19","60103#1|60128#1|60138#1|60143#1",1004,20,"601011#400|601012#600","601011#210101|601012#210101",90,10800,{"$f":"T1036","v":"105#141"},2,1629]
[null,"7404",4,"地狱7-40","8014",199,0,51011,205999,10100,"20001#20003#20011#20016#20004#20002#20018","17#3340|3#3375|14#3530|79#19","60103#1|60128#1|60138#1|60143#1",1004,20,"601011#400|601012#600","601011#210101|601012#210101",90,10800,{"$f":"T1037","v":"166#149"},2,1630]
[null,"8014",4,"地狱8-1","8024",199,0,51011,205999,10100,"20001#20003#20011#20016#20004#20002#20018","17#3340|3#3375|14#3530|79#19","60103#1|60128#1|60138#1|60143#1",1004,20,"601011#400|601012#600","601011#210101|601012#210101",90,10800,{"$f":"T1038","v":"160#-322"},1,1631]
[null,"8024",4,"地狱8-2","8034",199,0,51011,205999,10100,"20001#20003#20011#20016#20004#20002#20018","17#3340|3#3375|14#3530|79#19","60103#1|60128#1|60138#1|60143#1",1004,20,"601011#400|601012#600","601011#210101|601012#210101",90,10800,{"$f":"T1039","v":"66#-333"},1,1632]
[null,"8034",4,"地狱8-3","8044",199,0,51011,205999,10100,"20001#20003#20011#20016#20004#20002#20018","17#3340|3#3375|14#3530|79#19","60103#1|60128#1|60138#1|60143#1",1004,20,"601011#400|601012#600","601011#210101|601012#210101",90,10800,{"$f":"T1040","v":"-18#-358"},1,1633]
[null,"8044",4,"地狱8-4","8054",199,0,51011,205999,10100,"20001#20003#20011#20016#20004#20002#20018","17#3340|3#3375|14#3530|79#19","60103#1|60128#1|60138#1|60143#1",1004,20,"601011#400|601012#600","601011#210101|601012#210101",90,10800,{"$f":"T1041","v":"-98#-358"},1,1634]
[null,"8054",4,"地狱8-5","8064",199,0,51011,205999,10100,"20001#20003#20011#20016#20004#20002#20018","17#3340|3#3375|14#3530|79#19","60103#1|60128#1|60138#1|60143#1",1004,20,"601011#400|601012#600","601011#210101|601012#210101",90,10800,{"$f":"T1042","v":"-180#-336"},1,1635]
[null,"8064",4,"地狱8-6","8074",199,0,51011,205999,10100,"20001#20003#20011#20016#20004#20002#20018","17#3340|3#3375|14#3530|79#19","60103#1|60128#1|60138#1|60143#1",1004,20,"601011#400|601012#600","601011#210101|601012#210101",90,10800,{"$f":"T1043","v":"-252#-294"},1,1636]
[null,"8074",4,"地狱8-7","8084",199,0,51011,205999,10100,"20001#20003#20011#20016#20004#20002#20018","17#3340|3#3375|14#3530|79#19","60103#1|60128#1|60138#1|60143#1",1004,20,"601011#400|601012#600","601011#210101|601012#210101",90,10800,{"$f":"T1044","v":"-325#-275"},1,1637]
[null,"8084",4,"地狱8-8","8094",199,0,51011,205999,10100,"20001#20003#20011#20016#20004#20002#20018","17#3340|3#3375|14#3530|79#19","60103#1|60128#1|60138#1|60143#1",1004,20,"601011#400|601012#600","601011#210101|601012#210101",90,10800,{"$f":"T1045","v":"-422#-261"},1,1638]
[null,"8094",4,"地狱8-9","8104",199,0,51011,205999,10100,"20001#20003#20011#20016#20004#20002#20018","17#3340|3#3375|14#3530|79#19","60103#1|60128#1|60138#1|60143#1",1004,20,"601011#400|601012#600","601011#210101|601012#210101",90,10800,{"$f":"T1046","v":"-478#-198"},1,1639]
[null,"8104",4,"地狱8-10","8114",199,0,51011,205999,10100,"20001#20003#20011#20016#20004#20002#20018","17#3340|3#3375|14#3530|79#19","60103#1|60128#1|60138#1|60143#1",1004,20,"601011#400|601012#600","601011#210101|601012#210101",90,10800,{"$f":"T1047","v":"-427#-147"},2,1640]
[null,"8114",4,"地狱8-11","8124",199,0,51011,205999,10100,"20001#20003#20011#20016#20004#20002#20018","17#3340|3#3375|14#3530|79#19","60103#1|60128#1|60138#1|60143#1",1004,20,"601011#400|601012#600","601011#210101|601012#210101",90,10800,{"$f":"T1048","v":"-350#-181"},2,1641]
[null,"8124",4,"地狱8-12","8134",199,0,51011,205999,10100,"20001#20003#20011#20016#20004#20002#20018","17#3340|3#3375|14#3530|79#19","60103#1|60128#1|60138#1|60143#1",1004,20,"601011#400|601012#600","601011#210101|601012#210101",90,10800,{"$f":"T1049","v":"-267#-210"},2,1642]
[null,"8134",4,"地狱8-13","8144",199,0,51011,205999,10100,"20001#20003#20011#20016#20004#20002#20018","17#3340|3#3375|14#3530|79#19","60103#1|60128#1|60138#1|60143#1",1004,20,"601011#400|601012#600","601011#210101|601012#210101",90,10800,{"$f":"T1050","v":"-196#-190"},2,1643]
[null,"8144",4,"地狱8-14","8154",199,0,51011,205999,10100,"20001#20003#20011#20016#20004#20002#20018","17#3340|3#3375|14#3530|79#19","60103#1|60128#1|60138#1|60143#1",1004,20,"601011#400|601012#600","601011#210101|601012#210101",90,10800,{"$f":"T1051","v":"-185#-132"},1,1644]
[null,"8154",4,"地狱8-15","8164",199,0,51011,205999,10100,"20001#20003#20011#20016#20004#20002#20018","17#3340|3#3375|14#3530|79#19","60103#1|60128#1|60138#1|60143#1",1004,20,"601011#400|601012#600","601011#210101|601012#210101",90,10800,{"$f":"T1052","v":"-247#-86"},1,1645]
[null,"8164",4,"地狱8-16","8174",199,0,51011,205999,10100,"20001#20003#20011#20016#20004#20002#20018","17#3340|3#3375|14#3530|79#19","60103#1|60128#1|60138#1|60143#1",1004,20,"601011#400|601012#600","601011#210101|601012#210101",90,10800,{"$f":"T1053","v":"-242#-20"},2,1646]
[null,"8174",4,"地狱8-17","8184",199,0,51011,205999,10100,"20001#20003#20011#20016#20004#20002#20018","17#3340|3#3375|14#3530|79#19","60103#1|60128#1|60138#1|60143#1",1004,20,"601011#400|601012#600","601011#210101|601012#210101",90,10800,{"$f":"T1054","v":"-195#20"},2,1647]
[null,"8184",4,"地狱8-18","8194",199,0,51011,205999,10100,"20001#20003#20011#20016#20004#20002#20018","17#3340|3#3375|14#3530|79#19","60103#1|60128#1|60138#1|60143#1",1004,20,"601011#400|601012#600","601011#210101|601012#210101",90,10800,{"$f":"T1055","v":"-125#35"},2,1648]
[null,"8194",4,"地狱8-19","8204",199,0,51011,205999,10100,"20001#20003#20011#20016#20004#20002#20018","17#3340|3#3375|14#3530|79#19","60103#1|60128#1|60138#1|60143#1",1004,20,"601011#400|601012#600","601011#210101|601012#210101",90,10800,{"$f":"T1056","v":"-55#20"},2,1649]
[null,"8204",4,"地狱8-20","8214",199,0,51011,205999,10100,"20001#20003#20011#20016#20004#20002#20018","17#3340|3#3375|14#3530|79#19","60103#1|60128#1|60138#1|60143#1",1004,20,"601011#400|601012#600","601011#210101|601012#210101",90,10800,{"$f":"T1057","v":"-18#-42"},2,1650]
[null,"8214",4,"地狱8-21","8224",199,0,51011,205999,10100,"20001#20003#20011#20016#20004#20002#20018","17#3340|3#3375|14#3530|79#19","60103#1|60128#1|60138#1|60143#1",1004,20,"601011#400|601012#600","601011#210101|601012#210101",90,10800,{"$f":"T1058","v":"-34#-105"},2,1651]
[null,"8224",4,"地狱8-22","8234",199,0,51011,205999,10100,"20001#20003#20011#20016#20004#20002#20018","17#3340|3#3375|14#3530|79#19","60103#1|60128#1|60138#1|60143#1",1004,20,"601011#400|601012#600","601011#210101|601012#210101",90,10800,{"$f":"T1059","v":"-9#-169"},2,1652]
[null,"8234",4,"地狱8-23","8244",199,0,51011,205999,10100,"20001#20003#20011#20016#20004#20002#20018","17#3340|3#3375|14#3530|79#19","60103#1|60128#1|60138#1|60143#1",1004,20,"601011#400|601012#600","601011#210101|601012#210101",90,10800,{"$f":"T1060","v":"52#-197"},2,1653]
[null,"8244",4,"地狱8-24","8254",199,0,51011,205999,10100,"20001#20003#20011#20016#20004#20002#20018","17#3340|3#3375|14#3530|79#19","60103#1|60128#1|60138#1|60143#1",1004,20,"601011#400|601012#600","601011#210101|601012#210101",90,10800,{"$f":"T1061","v":"120#-195"},2,1654]
[null,"8254",4,"地狱8-25","8264",199,0,51011,205999,10100,"20001#20003#20011#20016#20004#20002#20018","17#3340|3#3375|14#3530|79#19","60103#1|60128#1|60138#1|60143#1",1004,20,"601011#400|601012#600","601011#210101|601012#210101",90,10800,{"$f":"T1062","v":"187#-171"},2,1655]
[null,"8264",4,"地狱8-26","8274",199,0,51011,205999,10100,"20001#20003#20011#20016#20004#20002#20018","17#3340|3#3375|14#3530|79#19","60103#1|60128#1|60138#1|60143#1",1004,20,"601011#400|601012#600","601011#210101|601012#210101",90,10800,{"$f":"T1063","v":"254#-173"},2,1656]
[null,"8274",4,"地狱8-27","8284",199,0,51011,205999,10100,"20001#20003#20011#20016#20004#20002#20018","17#3340|3#3375|14#3530|79#19","60103#1|60128#1|60138#1|60143#1",1004,20,"601011#400|601012#600","601011#210101|601012#210101",90,10800,{"$f":"T1064","v":"321#-195"},2,1657]
[null,"8284",4,"地狱8-28","8294",199,0,51011,205999,10100,"20001#20003#20011#20016#20004#20002#20018","17#3340|3#3375|14#3530|79#19","60103#1|60128#1|60138#1|60143#1",1004,20,"601011#400|601012#600","601011#210101|601012#210101",90,10800,{"$f":"T1065","v":"383#-199"},2,1658]
[null,"8294",4,"地狱8-29","8304",199,0,51011,205999,10100,"20001#20003#20011#20016#20004#20002#20018","17#3340|3#3375|14#3530|79#19","60103#1|60128#1|60138#1|60143#1",1004,20,"601011#400|601012#600","601011#210101|601012#210101",90,10800,{"$f":"T1066","v":"444#-183"},2,1659]
[null,"8304",4,"地狱8-30","8314",199,0,51011,205999,10100,"20001#20003#20011#20016#20004#20002#20018","17#3340|3#3375|14#3530|79#19","60103#1|60128#1|60138#1|60143#1",1004,20,"601011#400|601012#600","601011#210101|601012#210101",90,10800,{"$f":"T1067","v":"469#-129"},2,1660]
[null,"8314",4,"地狱8-31","8324",199,0,51011,205999,10100,"20001#20003#20011#20016#20004#20002#20018","17#3340|3#3375|14#3530|79#19","60103#1|60128#1|60138#1|60143#1",1004,20,"601011#400|601012#600","601011#210101|601012#210101",90,10800,{"$f":"T1068","v":"443#-71"},1,1661]
[null,"8324",4,"地狱8-32","8334",199,0,51011,205999,10100,"20001#20003#20011#20016#20004#20002#20018","17#3340|3#3375|14#3530|79#19","60103#1|60128#1|60138#1|60143#1",1004,20,"601011#400|601012#600","601011#210101|601012#210101",90,10800,{"$f":"T1069","v":"392#-42"},1,1662]
[null,"8334",4,"地狱8-33","8344",199,0,51011,205999,10100,"20001#20003#20011#20016#20004#20002#20018","17#3340|3#3375|14#3530|79#19","60103#1|60128#1|60138#1|60143#1",1004,20,"601011#400|601012#600","601011#210101|601012#210101",90,10800,{"$f":"T1070","v":"326#-27"},1,1663]
[null,"8344",4,"地狱8-34","8354",199,0,51011,205999,10100,"20001#20003#20011#20016#20004#20002#20018","17#3340|3#3375|14#3530|79#19","60103#1|60128#1|60138#1|60143#1",1004,20,"601011#400|601012#600","601011#210101|601012#210101",90,10800,{"$f":"T1071","v":"259#-28"},1,1664]
[null,"8354",4,"地狱8-35","8364",199,0,51011,205999,10100,"20001#20003#20011#20016#20004#20002#20018","17#3340|3#3375|14#3530|79#19","60103#1|60128#1|60138#1|60143#1",1004,20,"601011#400|601012#600","601011#210101|601012#210101",90,10800,{"$f":"T1072","v":"182#-19"},1,1665]
[null,"8364",4,"地狱8-36","8374",199,0,51011,205999,10100,"20001#20003#20011#20016#20004#20002#20018","17#3340|3#3375|14#3530|79#19","60103#1|60128#1|60138#1|60143#1",1004,20,"601011#400|601012#600","601011#210101|601012#210101",90,10800,{"$f":"T1073","v":"136#23"},1,1666]
[null,"8374",4,"地狱8-37","8384",199,0,51011,205999,10100,"20001#20003#20011#20016#20004#20002#20018","17#3340|3#3375|14#3530|79#19","60103#1|60128#1|60138#1|60143#1",1004,20,"601011#400|601012#600","601011#210101|601012#210101",90,10800,{"$f":"T1074","v":"160#75"},2,1667]
[null,"8384",4,"地狱8-38","8394",199,0,51011,205999,10100,"20001#20003#20011#20016#20004#20002#20018","17#3340|3#3375|14#3530|79#19","60103#1|60128#1|60138#1|60143#1",1004,20,"601011#400|601012#600","601011#210101|601012#210101",90,10800,{"$f":"T1075","v":"219#99"},2,1668]
[null,"8394",4,"地狱8-39","8404",199,0,51011,205999,10100,"20001#20003#20011#20016#20004#20002#20018","17#3340|3#3375|14#3530|79#19","60103#1|60128#1|60138#1|60143#1",1004,20,"601011#400|601012#600","601011#210101|601012#210101",90,10800,{"$f":"T1076","v":"286#108"},2,1669]
[null,"8404",4,"地狱8-40","9014",199,0,51011,205999,10100,"20001#20003#20011#20016#20004#20002#20018","17#3340|3#3375|14#3530|79#19","60103#1|60128#1|60138#1|60143#1",1004,20,"601011#400|601012#600","601011#210101|601012#210101",90,10800,{"$f":"T1077","v":"362#126"},2,1670]
[null,"9014",4,"地狱9-1","9024",199,0,51011,205999,10100,"20001#20003#20011#20016#20004#20002#20018","17#3340|3#3375|14#3530|79#19","60103#1|60128#1|60138#1|60143#1",1004,20,"601011#400|601012#600","601011#210101|601012#210101",90,10800,{"$f":"T1078","v":"415#-287"},2,1671]
[null,"9024",4,"地狱9-2","9034",199,0,51011,205999,10100,"20001#20003#20011#20016#20004#20002#20018","17#3340|3#3375|14#3530|79#19","60103#1|60128#1|60138#1|60143#1",1004,20,"601011#400|601012#600","601011#210101|601012#210101",90,10800,{"$f":"T1079","v":"500#-254"},2,1672]
[null,"9034",4,"地狱9-3","9044",199,0,51011,205999,10100,"20001#20003#20011#20016#20004#20002#20018","17#3340|3#3375|14#3530|79#19","60103#1|60128#1|60138#1|60143#1",1004,20,"601011#400|601012#600","601011#210101|601012#210101",90,10800,{"$f":"T1080","v":"466#-197"},1,1673]
[null,"9044",4,"地狱9-4","9054",199,0,51011,205999,10100,"20001#20003#20011#20016#20004#20002#20018","17#3340|3#3375|14#3530|79#19","60103#1|60128#1|60138#1|60143#1",1004,20,"601011#400|601012#600","601011#210101|601012#210101",90,10800,{"$f":"T1081","v":"373#-197"},1,1674]
[null,"9054",4,"地狱9-5","9064",199,0,51011,205999,10100,"20001#20003#20011#20016#20004#20002#20018","17#3340|3#3375|14#3530|79#19","60103#1|60128#1|60138#1|60143#1",1004,20,"601011#400|601012#600","601011#210101|601012#210101",90,10800,{"$f":"T1082","v":"276#-213"},1,1675]
[null,"9064",4,"地狱9-6","9074",199,0,51011,205999,10100,"20001#20003#20011#20016#20004#20002#20018","17#3340|3#3375|14#3530|79#19","60103#1|60128#1|60138#1|60143#1",1004,20,"601011#400|601012#600","601011#210101|601012#210101",90,10800,{"$f":"T1083","v":"192#-258"},1,1676]
[null,"9074",4,"地狱9-7","9084",199,0,51011,205999,10100,"20001#20003#20011#20016#20004#20002#20018","17#3340|3#3375|14#3530|79#19","60103#1|60128#1|60138#1|60143#1",1004,20,"601011#400|601012#600","601011#210101|601012#210101",90,10800,{"$f":"T1084","v":"109#-292"},1,1677]
[null,"9084",4,"地狱9-8","9094",199,0,51011,205999,10100,"20001#20003#20011#20016#20004#20002#20018","17#3340|3#3375|14#3530|79#19","60103#1|60128#1|60138#1|60143#1",1004,20,"601011#400|601012#600","601011#210101|601012#210101",90,10800,{"$f":"T1085","v":"18#-311"},1,1678]
[null,"9094",4,"地狱9-9","9104",199,0,51011,205999,10100,"20001#20003#20011#20016#20004#20002#20018","17#3340|3#3375|14#3530|79#19","60103#1|60128#1|60138#1|60143#1",1004,20,"601011#400|601012#600","601011#210101|601012#210101",90,10800,{"$f":"T1086","v":"-72#-317"},1,1679]
[null,"9104",4,"地狱9-10","9114",199,0,51011,205999,10100,"20001#20003#20011#20016#20004#20002#20018","17#3340|3#3375|14#3530|79#19","60103#1|60128#1|60138#1|60143#1",1004,20,"601011#400|601012#600","601011#210101|601012#210101",90,10800,{"$f":"T1087","v":"-148#-285"},1,1680]
[null,"9114",4,"地狱9-11","9124",199,0,51011,205999,10100,"20001#20003#20011#20016#20004#20002#20018","17#3340|3#3375|14#3530|79#19","60103#1|60128#1|60138#1|60143#1",1004,20,"601011#400|601012#600","601011#210101|601012#210101",90,10800,{"$f":"T1088","v":"-72#-234"},2,1681]
[null,"9124",4,"地狱9-12","9134",199,0,51011,205999,10100,"20001#20003#20011#20016#20004#20002#20018","17#3340|3#3375|14#3530|79#19","60103#1|60128#1|60138#1|60143#1",1004,20,"601011#400|601012#600","601011#210101|601012#210101",90,10800,{"$f":"T1089","v":"20#-234"},2,1682]
[null,"9134",4,"地狱9-13","9144",199,0,51011,205999,10100,"20001#20003#20011#20016#20004#20002#20018","17#3340|3#3375|14#3530|79#19","60103#1|60128#1|60138#1|60143#1",1004,20,"601011#400|601012#600","601011#210101|601012#210101",90,10800,{"$f":"T1090","v":"117#-229"},2,1683]
[null,"9144",4,"地狱9-14","9154",199,0,51011,205999,10100,"20001#20003#20011#20016#20004#20002#20018","17#3340|3#3375|14#3530|79#19","60103#1|60128#1|60138#1|60143#1",1004,20,"601011#400|601012#600","601011#210101|601012#210101",90,10800,{"$f":"T1091","v":"206#-200"},2,1684]
[null,"9154",4,"地狱9-15","9164",199,0,51011,205999,10100,"20001#20003#20011#20016#20004#20002#20018","17#3340|3#3375|14#3530|79#19","60103#1|60128#1|60138#1|60143#1",1004,20,"601011#400|601012#600","601011#210101|601012#210101",90,10800,{"$f":"T1092","v":"156#-140"},2,1685]
[null,"9164",4,"地狱9-16","9174",199,0,51011,205999,10100,"20001#20003#20011#20016#20004#20002#20018","17#3340|3#3375|14#3530|79#19","60103#1|60128#1|60138#1|60143#1",1004,20,"601011#400|601012#600","601011#210101|601012#210101",90,10800,{"$f":"T1093","v":"234#-96"},2,1686]
[null,"9174",4,"地狱9-17","9184",199,0,51011,205999,10100,"20001#20003#20011#20016#20004#20002#20018","17#3340|3#3375|14#3530|79#19","60103#1|60128#1|60138#1|60143#1",1004,20,"601011#400|601012#600","601011#210101|601012#210101",90,10800,{"$f":"T1094","v":"262#-55"},1,1687]
[null,"9184",4,"地狱9-18","9194",199,0,51011,205999,10100,"20001#20003#20011#20016#20004#20002#20018","17#3340|3#3375|14#3530|79#19","60103#1|60128#1|60138#1|60143#1",1004,20,"601011#400|601012#600","601011#210101|601012#210101",90,10800,{"$f":"T1095","v":"184#-96"},1,1688]
[null,"9194",4,"地狱9-19","9204",199,0,51011,205999,10100,"20001#20003#20011#20016#20004#20002#20018","17#3340|3#3375|14#3530|79#19","60103#1|60128#1|60138#1|60143#1",1004,20,"601011#400|601012#600","601011#210101|601012#210101",90,10800,{"$f":"T1096","v":"102#-127"},1,1689]
[null,"9204",4,"地狱9-20","9214",199,0,51011,205999,10100,"20001#20003#20011#20016#20004#20002#20018","17#3340|3#3375|14#3530|79#19","60103#1|60128#1|60138#1|60143#1",1004,20,"601011#400|601012#600","601011#210101|601012#210101",90,10800,{"$f":"T1097","v":"13#-119"},1,1690]
[null,"9214",4,"地狱9-21","9224",199,0,51011,205999,10100,"20001#20003#20011#20016#20004#20002#20018","17#3340|3#3375|14#3530|79#19","60103#1|60128#1|60138#1|60143#1",1004,20,"601011#400|601012#600","601011#210101|601012#210101",90,10800,{"$f":"T1098","v":"-81#-141"},1,1691]
[null,"9224",4,"地狱9-22","9234",199,0,51011,205999,10100,"20001#20003#20011#20016#20004#20002#20018","17#3340|3#3375|14#3530|79#19","60103#1|60128#1|60138#1|60143#1",1004,20,"601011#400|601012#600","601011#210101|601012#210101",90,10800,{"$f":"T1099","v":"-165#-162"},1,1692]
[null,"9234",4,"地狱9-23","9244",199,0,51011,205999,10100,"20001#20003#20011#20016#20004#20002#20018","17#3340|3#3375|14#3530|79#19","60103#1|60128#1|60138#1|60143#1",1004,20,"601011#400|601012#600","601011#210101|601012#210101",90,10800,{"$f":"T1100","v":"-208#-142"},2,1693]
[null,"9244",4,"地狱9-24","9254",199,0,51011,205999,10100,"20001#20003#20011#20016#20004#20002#20018","17#3340|3#3375|14#3530|79#19","60103#1|60128#1|60138#1|60143#1",1004,20,"601011#400|601012#600","601011#210101|601012#210101",90,10800,{"$f":"T1101","v":"-194#-104"},1,1694]
[null,"9254",4,"地狱9-25","9264",199,0,51011,205999,10100,"20001#20003#20011#20016#20004#20002#20018","17#3340|3#3375|14#3530|79#19","60103#1|60128#1|60138#1|60143#1",1004,20,"601011#400|601012#600","601011#210101|601012#210101",90,10800,{"$f":"T1102","v":"-287#-110"},1,1695]
[null,"9264",4,"地狱9-26","9274",199,0,51011,205999,10100,"20001#20003#20011#20016#20004#20002#20018","17#3340|3#3375|14#3530|79#19","60103#1|60128#1|60138#1|60143#1",1004,20,"601011#400|601012#600","601011#210101|601012#210101",90,10800,{"$f":"T1103","v":"-370#-150"},1,1696]
[null,"9274",4,"地狱9-27","9284",199,0,51011,205999,10100,"20001#20003#20011#20016#20004#20002#20018","17#3340|3#3375|14#3530|79#19","60103#1|60128#1|60138#1|60143#1",1004,20,"601011#400|601012#600","601011#210101|601012#210101",90,10800,{"$f":"T1104","v":"-446#-168"},1,1697]
[null,"9284",4,"地狱9-28","9294",199,0,51011,205999,10100,"20001#20003#20011#20016#20004#20002#20018","17#3340|3#3375|14#3530|79#19","60103#1|60128#1|60138#1|60143#1",1004,20,"601011#400|601012#600","601011#210101|601012#210101",90,10800,{"$f":"T1105","v":"-515#-133"},1,1698]
[null,"9294",4,"地狱9-29","9304",199,0,51011,205999,10100,"20001#20003#20011#20016#20004#20002#20018","17#3340|3#3375|14#3530|79#19","60103#1|60128#1|60138#1|60143#1",1004,20,"601011#400|601012#600","601011#210101|601012#210101",90,10800,{"$f":"T1106","v":"-457#-98"},2,1699]
[null,"9304",4,"地狱9-30","9314",199,0,51011,205999,10100,"20001#20003#20011#20016#20004#20002#20018","17#3340|3#3375|14#3530|79#19","60103#1|60128#1|60138#1|60143#1",1004,20,"601011#400|601012#600","601011#210101|601012#210101",90,10800,{"$f":"T1107","v":"-380#-82"},2,1700]
[null,"9314",4,"地狱9-31","9324",199,0,51011,205999,10100,"20001#20003#20011#20016#20004#20002#20018","17#3340|3#3375|14#3530|79#19","60103#1|60128#1|60138#1|60143#1",1004,20,"601011#400|601012#600","601011#210101|601012#210101",90,10800,{"$f":"T1108","v":"-302#-53"},2,1701]
[null,"9324",4,"地狱9-32","9334",199,0,51011,205999,10100,"20001#20003#20011#20016#20004#20002#20018","17#3340|3#3375|14#3530|79#19","60103#1|60128#1|60138#1|60143#1",1004,20,"601011#400|601012#600","601011#210101|601012#210101",90,10800,{"$f":"T1109","v":"-296#26"},2,1702]
[null,"9334",4,"地狱9-33","9344",199,0,51011,205999,10100,"20001#20003#20011#20016#20004#20002#20018","17#3340|3#3375|14#3530|79#19","60103#1|60128#1|60138#1|60143#1",1004,20,"601011#400|601012#600","601011#210101|601012#210101",90,10800,{"$f":"T1110","v":"-200#34"},2,1703]
[null,"9344",4,"地狱9-34","9354",199,0,51011,205999,10100,"20001#20003#20011#20016#20004#20002#20018","17#3340|3#3375|14#3530|79#19","60103#1|60128#1|60138#1|60143#1",1004,20,"601011#400|601012#600","601011#210101|601012#210101",90,10800,{"$f":"T1111","v":"-99#47"},2,1704]
[null,"9354",4,"地狱9-35","9364",199,0,51011,205999,10100,"20001#20003#20011#20016#20004#20002#20018","17#3340|3#3375|14#3530|79#19","60103#1|60128#1|60138#1|60143#1",1004,20,"601011#400|601012#600","601011#210101|601012#210101",90,10800,{"$f":"T1112","v":"-16#100"},2,1705]
[null,"9364",4,"地狱9-36","9374",199,0,51011,205999,10100,"20001#20003#20011#20016#20004#20002#20018","17#3340|3#3375|14#3530|79#19","60103#1|60128#1|60138#1|60143#1",1004,20,"601011#400|601012#600","601011#210101|601012#210101",90,10800,{"$f":"T1113","v":"62#43"},2,1706]
[null,"9374",4,"地狱9-37","9384",199,0,51011,205999,10100,"20001#20003#20011#20016#20004#20002#20018","17#3340|3#3375|14#3530|79#19","60103#1|60128#1|60138#1|60143#1",1004,20,"601011#400|601012#600","601011#210101|601012#210101",90,10800,{"$f":"T1114","v":"149#23"},2,1707]
[null,"9384",4,"地狱9-38","9394",199,0,51011,205999,10100,"20001#20003#20011#20016#20004#20002#20018","17#3340|3#3375|14#3530|79#19","60103#1|60128#1|60138#1|60143#1",1004,20,"601011#400|601012#600","601011#210101|601012#210101",90,10800,{"$f":"T1115","v":"226#14"},2,1708]
[null,"9394",4,"地狱9-39","9404",199,0,51011,205999,10100,"20001#20003#20011#20016#20004#20002#20018","17#3340|3#3375|14#3530|79#19","60103#1|60128#1|60138#1|60143#1",1004,20,"601011#400|601012#600","601011#210101|601012#210101",90,10800,{"$f":"T1116","v":"322#35"},2,1709]
[null,"9404",4,"地狱9-40","10014",199,0,51011,205999,10100,"20001#20003#20011#20016#20004#20002#20018","17#3340|3#3375|14#3530|79#19","60103#1|60128#1|60138#1|60143#1",1004,20,"601011#400|601012#600","601011#210101|601012#210101",90,10800,{"$f":"T1117","v":"421#61"},2,1710]
[null,"10014",4,"地狱10-1","10024",199,0,51011,205999,10100,"20001#20003#20011#20016#20004#20002#20018","17#3340|3#3375|14#3530|79#19","60103#1|60128#1|60138#1|60143#1",1004,20,"601011#400|601012#600","601011#210101|601012#210101",90,10800,{"$f":"T1118","v":"88#-544"},2,1711]
[null,"10024",4,"地狱10-2","10034",199,0,51011,205999,10100,"20001#20003#20011#20016#20004#20002#20018","17#3340|3#3375|14#3530|79#19","60103#1|60128#1|60138#1|60143#1",1004,20,"601011#400|601012#600","601011#210101|601012#210101",90,10800,{"$f":"T1119","v":"146#-561"},2,1712]
[null,"10034",4,"地狱10-3","10044",199,0,51011,205999,10100,"20001#20003#20011#20016#20004#20002#20018","17#3340|3#3375|14#3530|79#19","60103#1|60128#1|60138#1|60143#1",1004,20,"601011#400|601012#600","601011#210101|601012#210101",90,10800,{"$f":"T1120","v":"202#-557"},2,1713]
[null,"10044",4,"地狱10-4","10054",199,0,51011,205999,10100,"20001#20003#20011#20016#20004#20002#20018","17#3340|3#3375|14#3530|79#19","60103#1|60128#1|60138#1|60143#1",1004,20,"601011#400|601012#600","601011#210101|601012#210101",90,10800,{"$f":"T1121","v":"253#-538"},2,1714]
[null,"10054",4,"地狱10-5","10064",199,0,51011,205999,10100,"20001#20003#20011#20016#20004#20002#20018","17#3340|3#3375|14#3530|79#19","60103#1|60128#1|60138#1|60143#1",1004,20,"601011#400|601012#600","601011#210101|601012#210101",90,10800,{"$f":"T1122","v":"305#-511"},2,1715]
[null,"10064",4,"地狱10-6","10074",199,0,51011,205999,10100,"20001#20003#20011#20016#20004#20002#20018","17#3340|3#3375|14#3530|79#19","60103#1|60128#1|60138#1|60143#1",1004,20,"601011#400|601012#600","601011#210101|601012#210101",90,10800,{"$f":"T1123","v":"362#-503"},2,1716]
[null,"10074",4,"地狱10-7","10084",199,0,51011,205999,10100,"20001#20003#20011#20016#20004#20002#20018","17#3340|3#3375|14#3530|79#19","60103#1|60128#1|60138#1|60143#1",1004,20,"601011#400|601012#600","601011#210101|601012#210101",90,10800,{"$f":"T1124","v":"417#-492"},2,1717]
[null,"10084",4,"地狱10-8","10094",199,0,51011,205999,10100,"20001#20003#20011#20016#20004#20002#20018","17#3340|3#3375|14#3530|79#19","60103#1|60128#1|60138#1|60143#1",1004,20,"601011#400|601012#600","601011#210101|601012#210101",90,10800,{"$f":"T1125","v":"462#-457"},2,1718]
[null,"10094",4,"地狱10-9","10104",199,0,51011,205999,10100,"20001#20003#20011#20016#20004#20002#20018","17#3340|3#3375|14#3530|79#19","60103#1|60128#1|60138#1|60143#1",1004,20,"601011#400|601012#600","601011#210101|601012#210101",90,10800,{"$f":"T1126","v":"456#-406"},1,1719]
[null,"10104",4,"地狱10-10","10114",199,0,51011,205999,10100,"20001#20003#20011#20016#20004#20002#20018","17#3340|3#3375|14#3530|79#19","60103#1|60128#1|60138#1|60143#1",1004,20,"601011#400|601012#600","601011#210101|601012#210101",90,10800,{"$f":"T1127","v":"404#-376"},1,1720]
[null,"10114",4,"地狱10-11","10124",199,0,51011,205999,10100,"20001#20003#20011#20016#20004#20002#20018","17#3340|3#3375|14#3530|79#19","60103#1|60128#1|60138#1|60143#1",1004,20,"601011#400|601012#600","601011#210101|601012#210101",90,10800,{"$f":"T1128","v":"343#-370"},1,1721]
[null,"10124",4,"地狱10-12","10134",199,0,51011,205999,10100,"20001#20003#20011#20016#20004#20002#20018","17#3340|3#3375|14#3530|79#19","60103#1|60128#1|60138#1|60143#1",1004,20,"601011#400|601012#600","601011#210101|601012#210101",90,10800,{"$f":"T1129","v":"291#-349"},1,1722]
[null,"10134",4,"地狱10-13","10144",199,0,51011,205999,10100,"20001#20003#20011#20016#20004#20002#20018","17#3340|3#3375|14#3530|79#19","60103#1|60128#1|60138#1|60143#1",1004,20,"601011#400|601012#600","601011#210101|601012#210101",90,10800,{"$f":"T1130","v":"250#-304"},1,1723]
[null,"10144",4,"地狱10-14","10154",199,0,51011,205999,10100,"20001#20003#20011#20016#20004#20002#20018","17#3340|3#3375|14#3530|79#19","60103#1|60128#1|60138#1|60143#1",1004,20,"601011#400|601012#600","601011#210101|601012#210101",90,10800,{"$f":"T1131","v":"197#-297"},1,1724]
[null,"10154",4,"地狱10-15","10164",199,0,51011,205999,10100,"20001#20003#20011#20016#20004#20002#20018","17#3340|3#3375|14#3530|79#19","60103#1|60128#1|60138#1|60143#1",1004,20,"601011#400|601012#600","601011#210101|601012#210101",90,10800,{"$f":"T1132","v":"132#-311"},1,1725]
[null,"10164",4,"地狱10-16","10174",199,0,51011,205999,10100,"20001#20003#20011#20016#20004#20002#20018","17#3340|3#3375|14#3530|79#19","60103#1|60128#1|60138#1|60143#1",1004,20,"601011#400|601012#600","601011#210101|601012#210101",90,10800,{"$f":"T1133","v":"128#-357"},2,1726]
[null,"10174",4,"地狱10-17","10184",199,0,51011,205999,10100,"20001#20003#20011#20016#20004#20002#20018","17#3340|3#3375|14#3530|79#19","60103#1|60128#1|60138#1|60143#1",1004,20,"601011#400|601012#600","601011#210101|601012#210101",90,10800,{"$f":"T1134","v":"176#-376"},2,1727]
[null,"10184",4,"地狱10-18","10194",199,0,51011,205999,10100,"20001#20003#20011#20016#20004#20002#20018","17#3340|3#3375|14#3530|79#19","60103#1|60128#1|60138#1|60143#1",1004,20,"601011#400|601012#600","601011#210101|601012#210101",90,10800,{"$f":"T1135","v":"182#-417"},1,1728]
[null,"10194",4,"地狱10-19","10204",199,0,51011,205999,10100,"20001#20003#20011#20016#20004#20002#20018","17#3340|3#3375|14#3530|79#19","60103#1|60128#1|60138#1|60143#1",1004,20,"601011#400|601012#600","601011#210101|601012#210101",90,10800,{"$f":"T1136","v":"127#-421"},1,1729]
[null,"10204",4,"地狱10-20","10214",199,0,51011,205999,10100,"20001#20003#20011#20016#20004#20002#20018","17#3340|3#3375|14#3530|79#19","60103#1|60128#1|60138#1|60143#1",1004,20,"601011#400|601012#600","601011#210101|601012#210101",90,10800,{"$f":"T1137","v":"71#-403"},1,1730]
[null,"10214",4,"地狱10-21","10224",199,0,51011,205999,10100,"20001#20003#20011#20016#20004#20002#20018","17#3340|3#3375|14#3530|79#19","60103#1|60128#1|60138#1|60143#1",1004,20,"601011#400|601012#600","601011#210101|601012#210101",90,10800,{"$f":"T1138","v":"13#-406"},1,1731]
[null,"10224",4,"地狱10-22","10234",199,0,51011,205999,10100,"20001#20003#20011#20016#20004#20002#20018","17#3340|3#3375|14#3530|79#19","60103#1|60128#1|60138#1|60143#1",1004,20,"601011#400|601012#600","601011#210101|601012#210101",90,10800,{"$f":"T1139","v":"-41#-434"},1,1732]
[null,"10234",4,"地狱10-23","10244",199,0,51011,205999,10100,"20001#20003#20011#20016#20004#20002#20018","17#3340|3#3375|14#3530|79#19","60103#1|60128#1|60138#1|60143#1",1004,20,"601011#400|601012#600","601011#210101|601012#210101",90,10800,{"$f":"T1140","v":"-91#-447"},1,1733]
[null,"10244",4,"地狱10-24","10254",199,0,51011,205999,10100,"20001#20003#20011#20016#20004#20002#20018","17#3340|3#3375|14#3530|79#19","60103#1|60128#1|60138#1|60143#1",1004,20,"601011#400|601012#600","601011#210101|601012#210101",90,10800,{"$f":"T1141","v":"-142#-438"},1,1734]
[null,"10254",4,"地狱10-25","10264",199,0,51011,205999,10100,"20001#20003#20011#20016#20004#20002#20018","17#3340|3#3375|14#3530|79#19","60103#1|60128#1|60138#1|60143#1",1004,20,"601011#400|601012#600","601011#210101|601012#210101",90,10800,{"$f":"T1142","v":"-182#-398"},1,1735]
[null,"10264",4,"地狱10-26","10274",199,0,51011,205999,10100,"20001#20003#20011#20016#20004#20002#20018","17#3340|3#3375|14#3530|79#19","60103#1|60128#1|60138#1|60143#1",1004,20,"601011#400|601012#600","601011#210101|601012#210101",90,10800,{"$f":"T1143","v":"-238#-365"},1,1736]
[null,"10274",4,"地狱10-27","10284",199,0,51011,205999,10100,"20001#20003#20011#20016#20004#20002#20018","17#3340|3#3375|14#3530|79#19","60103#1|60128#1|60138#1|60143#1",1004,20,"601011#400|601012#600","601011#210101|601012#210101",90,10800,{"$f":"T1144","v":"-290#-359"},1,1737]
[null,"10284",4,"地狱10-28","10294",199,0,51011,205999,10100,"20001#20003#20011#20016#20004#20002#20018","17#3340|3#3375|14#3530|79#19","60103#1|60128#1|60138#1|60143#1",1004,20,"601011#400|601012#600","601011#210101|601012#210101",90,10800,{"$f":"T1145","v":"-337#-363"},1,1738]
[null,"10294",4,"地狱10-29","10304",199,0,51011,205999,10100,"20001#20003#20011#20016#20004#20002#20018","17#3340|3#3375|14#3530|79#19","60103#1|60128#1|60138#1|60143#1",1004,20,"601011#400|601012#600","601011#210101|601012#210101",90,10800,{"$f":"T1146","v":"-368#-330"},1,1739]
[null,"10304",4,"地狱10-30","10314",199,0,51011,205999,10100,"20001#20003#20011#20016#20004#20002#20018","17#3340|3#3375|14#3530|79#19","60103#1|60128#1|60138#1|60143#1",1004,20,"601011#400|601012#600","601011#210101|601012#210101",90,10800,{"$f":"T1147","v":"-345#-285"},2,1740]
[null,"10314",4,"地狱10-31","10324",199,0,51011,205999,10100,"20001#20003#20011#20016#20004#20002#20018","17#3340|3#3375|14#3530|79#19","60103#1|60128#1|60138#1|60143#1",1004,20,"601011#400|601012#600","601011#210101|601012#210101",90,10800,{"$f":"T1148","v":"-285#-263"},2,1741]
[null,"10324",4,"地狱10-32","10334",199,0,51011,205999,10100,"20001#20003#20011#20016#20004#20002#20018","17#3340|3#3375|14#3530|79#19","60103#1|60128#1|60138#1|60143#1",1004,20,"601011#400|601012#600","601011#210101|601012#210101",90,10800,{"$f":"T1149","v":"-232#-259"},2,1742]
[null,"10334",4,"地狱10-33","10344",199,0,51011,205999,10100,"20001#20003#20011#20016#20004#20002#20018","17#3340|3#3375|14#3530|79#19","60103#1|60128#1|60138#1|60143#1",1004,20,"601011#400|601012#600","601011#210101|601012#210101",90,10800,{"$f":"T1150","v":"-193#-263"},2,1743]
[null,"10344",4,"地狱10-34","10354",199,0,51011,205999,10100,"20001#20003#20011#20016#20004#20002#20018","17#3340|3#3375|14#3530|79#19","60103#1|60128#1|60138#1|60143#1",1004,20,"601011#400|601012#600","601011#210101|601012#210101",90,10800,{"$f":"T1151","v":"-141#-275"},2,1744]
[null,"10354",4,"地狱10-35","10364",199,0,51011,205999,10100,"20001#20003#20011#20016#20004#20002#20018","17#3340|3#3375|14#3530|79#19","60103#1|60128#1|60138#1|60143#1",1004,20,"601011#400|601012#600","601011#210101|601012#210101",90,10800,{"$f":"T1152","v":"-91#-282"},2,1745]
[null,"10364",4,"地狱10-36","10374",199,0,51011,205999,10100,"20001#20003#20011#20016#20004#20002#20018","17#3340|3#3375|14#3530|79#19","60103#1|60128#1|60138#1|60143#1",1004,20,"601011#400|601012#600","601011#210101|601012#210101",90,10800,{"$f":"T1153","v":"-41#-277"},2,1746]
[null,"10374",4,"地狱10-37","10384",199,0,51011,205999,10100,"20001#20003#20011#20016#20004#20002#20018","17#3340|3#3375|14#3530|79#19","60103#1|60128#1|60138#1|60143#1",1004,20,"601011#400|601012#600","601011#210101|601012#210101",90,10800,{"$f":"T1154","v":"3#-259"},2,1747]
[null,"10384",4,"地狱10-38","10394",199,0,51011,205999,10100,"20001#20003#20011#20016#20004#20002#20018","17#3340|3#3375|14#3530|79#19","60103#1|60128#1|60138#1|60143#1",1004,20,"601011#400|601012#600","601011#210101|601012#210101",90,10800,{"$f":"T1155","v":"41#-235"},2,1748]
[null,"10394",4,"地狱10-39","10404",199,0,51011,205999,10100,"20001#20003#20011#20016#20004#20002#20018","17#3340|3#3375|14#3530|79#19","60103#1|60128#1|60138#1|60143#1",1004,20,"601011#400|601012#600","601011#210101|601012#210101",90,10800,{"$f":"T1156","v":"79#-213"},2,1749]
[null,"10404",4,"地狱10-40","11014",199,0,51011,205999,10100,"20001#20003#20011#20016#20004#20002#20018","17#3340|3#3375|14#3530|79#19","60103#1|60128#1|60138#1|60143#1",1004,20,"601011#400|601012#600","601011#210101|601012#210101",90,10800,{"$f":"T1157","v":"123#-218"},2,1750]
[null,"11014",4,"地狱11-1","11024",199,0,51011,205999,10100,"20001#20003#20011#20016#20004#20002#20018","17#3340|3#3375|14#3530|79#19","60103#1|60128#1|60138#1|60143#1",1004,20,"601011#400|601012#600","601011#210101|601012#210101",90,10800,{"$f":"T1158","v":"424#-262"},1,1751]
[null,"11024",4,"地狱11-2","11034",199,0,51011,205999,10100,"20001#20003#20011#20016#20004#20002#20018","17#3340|3#3375|14#3530|79#19","60103#1|60128#1|60138#1|60143#1",1004,20,"601011#400|601012#600","601011#210101|601012#210101",90,10800,{"$f":"T1159","v":"360#-244"},1,1752]
[null,"11034",4,"地狱11-3","11044",199,0,51011,205999,10100,"20001#20003#20011#20016#20004#20002#20018","17#3340|3#3375|14#3530|79#19","60103#1|60128#1|60138#1|60143#1",1004,20,"601011#400|601012#600","601011#210101|601012#210101",90,10800,{"$f":"T1160","v":"289#-238"},1,1753]
[null,"11044",4,"地狱11-4","11054",199,0,51011,205999,10100,"20001#20003#20011#20016#20004#20002#20018","17#3340|3#3375|14#3530|79#19","60103#1|60128#1|60138#1|60143#1",1004,20,"601011#400|601012#600","601011#210101|601012#210101",90,10800,{"$f":"T1161","v":"231#-249"},1,1754]
[null,"11054",4,"地狱11-5","11064",199,0,51011,205999,10100,"20001#20003#20011#20016#20004#20002#20018","17#3340|3#3375|14#3530|79#19","60103#1|60128#1|60138#1|60143#1",1004,20,"601011#400|601012#600","601011#210101|601012#210101",90,10800,{"$f":"T1162","v":"167#-276"},1,1755]
[null,"11064",4,"地狱11-6","11074",199,0,51011,205999,10100,"20001#20003#20011#20016#20004#20002#20018","17#3340|3#3375|14#3530|79#19","60103#1|60128#1|60138#1|60143#1",1004,20,"601011#400|601012#600","601011#210101|601012#210101",90,10800,{"$f":"T1163","v":"108#-300"},1,1756]
[null,"11074",4,"地狱11-7","11084",199,0,51011,205999,10100,"20001#20003#20011#20016#20004#20002#20018","17#3340|3#3375|14#3530|79#19","60103#1|60128#1|60138#1|60143#1",1004,20,"601011#400|601012#600","601011#210101|601012#210101",90,10800,{"$f":"T1164","v":"50#-309"},1,1757]
[null,"11084",4,"地狱11-8","11094",199,0,51011,205999,10100,"20001#20003#20011#20016#20004#20002#20018","17#3340|3#3375|14#3530|79#19","60103#1|60128#1|60138#1|60143#1",1004,20,"601011#400|601012#600","601011#210101|601012#210101",90,10800,{"$f":"T1165","v":"-16#-308"},1,1758]
[null,"11094",4,"地狱11-9","11104",199,0,51011,205999,10100,"20001#20003#20011#20016#20004#20002#20018","17#3340|3#3375|14#3530|79#19","60103#1|60128#1|60138#1|60143#1",1004,20,"601011#400|601012#600","601011#210101|601012#210101",90,10800,{"$f":"T1166","v":"-82#-291"},1,1759]
[null,"11104",4,"地狱11-10","11114",199,0,51011,205999,10100,"20001#20003#20011#20016#20004#20002#20018","17#3340|3#3375|14#3530|79#19","60103#1|60128#1|60138#1|60143#1",1004,20,"601011#400|601012#600","601011#210101|601012#210101",90,10800,{"$f":"T1167","v":"-142#-268"},1,1760]
[null,"11114",4,"地狱11-11","11124",199,0,51011,205999,10100,"20001#20003#20011#20016#20004#20002#20018","17#3340|3#3375|14#3530|79#19","60103#1|60128#1|60138#1|60143#1",1004,20,"601011#400|601012#600","601011#210101|601012#210101",90,10800,{"$f":"T1168","v":"-207#-247"},1,1761]
[null,"11124",4,"地狱11-12","11134",199,0,51011,205999,10100,"20001#20003#20011#20016#20004#20002#20018","17#3340|3#3375|14#3530|79#19","60103#1|60128#1|60138#1|60143#1",1004,20,"601011#400|601012#600","601011#210101|601012#210101",90,10800,{"$f":"T1169","v":"-158#-220"},2,1762]
[null,"11134",4,"地狱11-13","11144",199,0,51011,205999,10100,"20001#20003#20011#20016#20004#20002#20018","17#3340|3#3375|14#3530|79#19","60103#1|60128#1|60138#1|60143#1",1004,20,"601011#400|601012#600","601011#210101|601012#210101",90,10800,{"$f":"T1170","v":"-116#-202"},1,1763]
[null,"11144",4,"地狱11-14","11154",199,0,51011,205999,10100,"20001#20003#20011#20016#20004#20002#20018","17#3340|3#3375|14#3530|79#19","60103#1|60128#1|60138#1|60143#1",1004,20,"601011#400|601012#600","601011#210101|601012#210101",90,10800,{"$f":"T1171","v":"-152#-161"},1,1764]
[null,"11154",4,"地狱11-15","11164",199,0,51011,205999,10100,"20001#20003#20011#20016#20004#20002#20018","17#3340|3#3375|14#3530|79#19","60103#1|60128#1|60138#1|60143#1",1004,20,"601011#400|601012#600","601011#210101|601012#210101",90,10800,{"$f":"T1172","v":"-200#-135"},1,1765]
[null,"11164",4,"地狱11-16","11174",199,0,51011,205999,10100,"20001#20003#20011#20016#20004#20002#20018","17#3340|3#3375|14#3530|79#19","60103#1|60128#1|60138#1|60143#1",1004,20,"601011#400|601012#600","601011#210101|601012#210101",90,10800,{"$f":"T1173","v":"-257#-114"},1,1766]
[null,"11174",4,"地狱11-17","11184",199,0,51011,205999,10100,"20001#20003#20011#20016#20004#20002#20018","17#3340|3#3375|14#3530|79#19","60103#1|60128#1|60138#1|60143#1",1004,20,"601011#400|601012#600","601011#210101|601012#210101",90,10800,{"$f":"T1174","v":"-325#-115"},1,1767]
[null,"11184",4,"地狱11-18","11194",199,0,51011,205999,10100,"20001#20003#20011#20016#20004#20002#20018","17#3340|3#3375|14#3530|79#19","60103#1|60128#1|60138#1|60143#1",1004,20,"601011#400|601012#600","601011#210101|601012#210101",90,10800,{"$f":"T1175","v":"-374#-85"},1,1768]
[null,"11194",4,"地狱11-19","11204",199,0,51011,205999,10100,"20001#20003#20011#20016#20004#20002#20018","17#3340|3#3375|14#3530|79#19","60103#1|60128#1|60138#1|60143#1",1004,20,"601011#400|601012#600","601011#210101|601012#210101",90,10800,{"$f":"T1176","v":"-354#-40"},2,1769]
[null,"11204",4,"地狱11-20","11214",199,0,51011,205999,10100,"20001#20003#20011#20016#20004#20002#20018","17#3340|3#3375|14#3530|79#19","60103#1|60128#1|60138#1|60143#1",1004,20,"601011#400|601012#600","601011#210101|601012#210101",90,10800,{"$f":"T1177","v":"-291#-30"},2,1770]
[null,"11214",4,"地狱11-21","11224",199,0,51011,205999,10100,"20001#20003#20011#20016#20004#20002#20018","17#3340|3#3375|14#3530|79#19","60103#1|60128#1|60138#1|60143#1",1004,20,"601011#400|601012#600","601011#210101|601012#210101",90,10800,{"$f":"T1178","v":"-257#11"},2,1771]
[null,"11224",4,"地狱11-22","11234",199,0,51011,205999,10100,"20001#20003#20011#20016#20004#20002#20018","17#3340|3#3375|14#3530|79#19","60103#1|60128#1|60138#1|60143#1",1004,20,"601011#400|601012#600","601011#210101|601012#210101",90,10800,{"$f":"T1179","v":"-214#51"},2,1772]
[null,"11234",4,"地狱11-23","11244",199,0,51011,205999,10100,"20001#20003#20011#20016#20004#20002#20018","17#3340|3#3375|14#3530|79#19","60103#1|60128#1|60138#1|60143#1",1004,20,"601011#400|601012#600","601011#210101|601012#210101",90,10800,{"$f":"T1180","v":"-155#54"},2,1773]
[null,"11244",4,"地狱11-24","11254",199,0,51011,205999,10100,"20001#20003#20011#20016#20004#20002#20018","17#3340|3#3375|14#3530|79#19","60103#1|60128#1|60138#1|60143#1",1004,20,"601011#400|601012#600","601011#210101|601012#210101",90,10800,{"$f":"T1181","v":"-107#40"},2,1774]
[null,"11254",4,"地狱11-25","11264",199,0,51011,205999,10100,"20001#20003#20011#20016#20004#20002#20018","17#3340|3#3375|14#3530|79#19","60103#1|60128#1|60138#1|60143#1",1004,20,"601011#400|601012#600","601011#210101|601012#210101",90,10800,{"$f":"T1182","v":"-66#13"},2,1775]
[null,"11264",4,"地狱11-26","11274",199,0,51011,205999,10100,"20001#20003#20011#20016#20004#20002#20018","17#3340|3#3375|14#3530|79#19","60103#1|60128#1|60138#1|60143#1",1004,20,"601011#400|601012#600","601011#210101|601012#210101",90,10800,{"$f":"T1183","v":"90#-1"},2,1776]
[null,"11274",4,"地狱11-27","11284",199,0,51011,205999,10100,"20001#20003#20011#20016#20004#20002#20018","17#3340|3#3375|14#3530|79#19","60103#1|60128#1|60138#1|60143#1",1004,20,"601011#400|601012#600","601011#210101|601012#210101",90,10800,{"$f":"T1184","v":"135#-30"},2,1777]
[null,"11284",4,"地狱11-28","11294",199,0,51011,205999,10100,"20001#20003#20011#20016#20004#20002#20018","17#3340|3#3375|14#3530|79#19","60103#1|60128#1|60138#1|60143#1",1004,20,"601011#400|601012#600","601011#210101|601012#210101",90,10800,{"$f":"T1185","v":"167#-75"},2,1778]
[null,"11294",4,"地狱11-29","11304",199,0,51011,205999,10100,"20001#20003#20011#20016#20004#20002#20018","17#3340|3#3375|14#3530|79#19","60103#1|60128#1|60138#1|60143#1",1004,20,"601011#400|601012#600","601011#210101|601012#210101",90,10800,{"$f":"T1186","v":"214#-85"},2,1779]
[null,"11304",4,"地狱11-30","11314",199,0,51011,205999,10100,"20001#20003#20011#20016#20004#20002#20018","17#3340|3#3375|14#3530|79#19","60103#1|60128#1|60138#1|60143#1",1004,20,"601011#400|601012#600","601011#210101|601012#210101",90,10800,{"$f":"T1187","v":"260#-111"},2,1780]
[null,"11314",4,"地狱11-31","11324",199,0,51011,205999,10100,"20001#20003#20011#20016#20004#20002#20018","17#3340|3#3375|14#3530|79#19","60103#1|60128#1|60138#1|60143#1",1004,20,"601011#400|601012#600","601011#210101|601012#210101",90,10800,{"$f":"T1188","v":"292#-84"},2,1781]
[null,"11324",4,"地狱11-32","11334",199,0,51011,205999,10100,"20001#20003#20011#20016#20004#20002#20018","17#3340|3#3375|14#3530|79#19","60103#1|60128#1|60138#1|60143#1",1004,20,"601011#400|601012#600","601011#210101|601012#210101",90,10800,{"$f":"T1189","v":"315#-44"},2,1782]
[null,"11334",4,"地狱11-33","11344",199,0,51011,205999,10100,"20001#20003#20011#20016#20004#20002#20018","17#3340|3#3375|14#3530|79#19","60103#1|60128#1|60138#1|60143#1",1004,20,"601011#400|601012#600","601011#210101|601012#210101",90,10800,{"$f":"T1190","v":"368#-38"},2,1783]
[null,"11344",4,"地狱11-34","11354",199,0,51011,205999,10100,"20001#20003#20011#20016#20004#20002#20018","17#3340|3#3375|14#3530|79#19","60103#1|60128#1|60138#1|60143#1",1004,20,"601011#400|601012#600","601011#210101|601012#210101",90,10800,{"$f":"T1191","v":"415#-33"},2,1784]
[null,"11354",4,"地狱11-35","11364",199,0,51011,205999,10100,"20001#20003#20011#20016#20004#20002#20018","17#3340|3#3375|14#3530|79#19","60103#1|60128#1|60138#1|60143#1",1004,20,"601011#400|601012#600","601011#210101|601012#210101",90,10800,{"$f":"T1192","v":"398#7"},1,1785]
[null,"11364",4,"地狱11-36","11374",199,0,51011,205999,10100,"20001#20003#20011#20016#20004#20002#20018","17#3340|3#3375|14#3530|79#19","60103#1|60128#1|60138#1|60143#1",1004,20,"601011#400|601012#600","601011#210101|601012#210101",90,10800,{"$f":"T1193","v":"325#13"},1,1786]
[null,"11374",4,"地狱11-37","11384",199,0,51011,205999,10100,"20001#20003#20011#20016#20004#20002#20018","17#3340|3#3375|14#3530|79#19","60103#1|60128#1|60138#1|60143#1",1004,20,"601011#400|601012#600","601011#210101|601012#210101",90,10800,{"$f":"T1194","v":"291#73"},1,1787]
[null,"11384",4,"地狱11-38","11394",199,0,51011,205999,10100,"20001#20003#20011#20016#20004#20002#20018","17#3340|3#3375|14#3530|79#19","60103#1|60128#1|60138#1|60143#1",1004,20,"601011#400|601012#600","601011#210101|601012#210101",90,10800,{"$f":"T1195","v":"279#148"},1,1788]
[null,"11394",4,"地狱11-39","11404",199,0,51011,205999,10100,"20001#20003#20011#20016#20004#20002#20018","17#3340|3#3375|14#3530|79#19","60103#1|60128#1|60138#1|60143#1",1004,20,"601011#400|601012#600","601011#210101|601012#210101",90,10800,{"$f":"T1196","v":"255#213"},1,1789]
[null,"11404",4,"地狱11-40","12014",199,0,51011,205999,10100,"20001#20003#20011#20016#20004#20002#20018","17#3340|3#3375|14#3530|79#19","60103#1|60128#1|60138#1|60143#1",1004,20,"601011#400|601012#600","601011#210101|601012#210101",90,10800,{"$f":"T1197","v":"191#242"},1,1790]
[null,"12014",4,"地狱12-1","12024",199,0,51011,205999,10100,"20001#20003#20011#20016#20004#20002#20018","17#3340|3#3375|14#3530|79#19","60103#1|60128#1|60138#1|60143#1",1004,20,"601011#400|601012#600","601011#210101|601012#210101",90,10800,{"$f":"T1198","v":"-364#-280"},2,1791]
[null,"12024",4,"地狱12-2","12034",199,0,51011,205999,10100,"20001#20003#20011#20016#20004#20002#20018","17#3340|3#3375|14#3530|79#19","60103#1|60128#1|60138#1|60143#1",1004,20,"601011#400|601012#600","601011#210101|601012#210101",90,10800,{"$f":"T1199","v":"-293#-286"},2,1792]
[null,"12034",4,"地狱12-3","12044",199,0,51011,205999,10100,"20001#20003#20011#20016#20004#20002#20018","17#3340|3#3375|14#3530|79#19","60103#1|60128#1|60138#1|60143#1",1004,20,"601011#400|601012#600","601011#210101|601012#210101",90,10800,{"$f":"T1200","v":"-223#-269"},2,1793]
[null,"12044",4,"地狱12-4","12054",199,0,51011,205999,10100,"20001#20003#20011#20016#20004#20002#20018","17#3340|3#3375|14#3530|79#19","60103#1|60128#1|60138#1|60143#1",1004,20,"601011#400|601012#600","601011#210101|601012#210101",90,10800,{"$f":"T1201","v":"-169#-300"},2,1794]
[null,"12054",4,"地狱12-5","12064",199,0,51011,205999,10100,"20001#20003#20011#20016#20004#20002#20018","17#3340|3#3375|14#3530|79#19","60103#1|60128#1|60138#1|60143#1",1004,20,"601011#400|601012#600","601011#210101|601012#210101",90,10800,{"$f":"T1202","v":"-133#-353"},2,1795]
[null,"12064",4,"地狱12-6","12074",199,0,51011,205999,10100,"20001#20003#20011#20016#20004#20002#20018","17#3340|3#3375|14#3530|79#19","60103#1|60128#1|60138#1|60143#1",1004,20,"601011#400|601012#600","601011#210101|601012#210101",90,10800,{"$f":"T1203","v":"-55#-345"},2,1796]
[null,"12074",4,"地狱12-7","12084",199,0,51011,205999,10100,"20001#20003#20011#20016#20004#20002#20018","17#3340|3#3375|14#3530|79#19","60103#1|60128#1|60138#1|60143#1",1004,20,"601011#400|601012#600","601011#210101|601012#210101",90,10800,{"$f":"T1204","v":"8#-324"},2,1797]
[null,"12084",4,"地狱12-8","12094",199,0,51011,205999,10100,"20001#20003#20011#20016#20004#20002#20018","17#3340|3#3375|14#3530|79#19","60103#1|60128#1|60138#1|60143#1",1004,20,"601011#400|601012#600","601011#210101|601012#210101",90,10800,{"$f":"T1205","v":"80#-301"},2,1798]
[null,"12094",4,"地狱12-9","12104",199,0,51011,205999,10100,"20001#20003#20011#20016#20004#20002#20018","17#3340|3#3375|14#3530|79#19","60103#1|60128#1|60138#1|60143#1",1004,20,"601011#400|601012#600","601011#210101|601012#210101",90,10800,{"$f":"T1206","v":"149#-286"},2,1799]
[null,"12104",4,"地狱12-10","12114",199,0,51011,205999,10100,"20001#20003#20011#20016#20004#20002#20018","17#3340|3#3375|14#3530|79#19","60103#1|60128#1|60138#1|60143#1",1004,20,"601011#400|601012#600","601011#210101|601012#210101",90,10800,{"$f":"T1207","v":"228#-292"},2,1800]
[null,"12114",4,"地狱12-11","12124",199,0,51011,205999,10100,"20001#20003#20011#20016#20004#20002#20018","17#3340|3#3375|14#3530|79#19","60103#1|60128#1|60138#1|60143#1",1004,20,"601011#400|601012#600","601011#210101|601012#210101",90,10800,{"$f":"T1208","v":"284#-322"},2,1801]
[null,"12124",4,"地狱12-12","12134",199,0,51011,205999,10100,"20001#20003#20011#20016#20004#20002#20018","17#3340|3#3375|14#3530|79#19","60103#1|60128#1|60138#1|60143#1",1004,20,"601011#400|601012#600","601011#210101|601012#210101",90,10800,{"$f":"T1209","v":"356#-343"},2,1802]
[null,"12134",4,"地狱12-13","12144",199,0,51011,205999,10100,"20001#20003#20011#20016#20004#20002#20018","17#3340|3#3375|14#3530|79#19","60103#1|60128#1|60138#1|60143#1",1004,20,"601011#400|601012#600","601011#210101|601012#210101",90,10800,{"$f":"T1210","v":"415#-321"},2,1803]
[null,"12144",4,"地狱12-14","12154",199,0,51011,205999,10100,"20001#20003#20011#20016#20004#20002#20018","17#3340|3#3375|14#3530|79#19","60103#1|60128#1|60138#1|60143#1",1004,20,"601011#400|601012#600","601011#210101|601012#210101",90,10800,{"$f":"T1211","v":"386#-275"},1,1804]
[null,"12154",4,"地狱12-15","12164",199,0,51011,205999,10100,"20001#20003#20011#20016#20004#20002#20018","17#3340|3#3375|14#3530|79#19","60103#1|60128#1|60138#1|60143#1",1004,20,"601011#400|601012#600","601011#210101|601012#210101",90,10800,{"$f":"T1212","v":"334#-229"},1,1805]
[null,"12164",4,"地狱12-16","12174",199,0,51011,205999,10100,"20001#20003#20011#20016#20004#20002#20018","17#3340|3#3375|14#3530|79#19","60103#1|60128#1|60138#1|60143#1",1004,20,"601011#400|601012#600","601011#210101|601012#210101",90,10800,{"$f":"T1213","v":"304#-176"},2,1806]
[null,"12174",4,"地狱12-17","12184",199,0,51011,205999,10100,"20001#20003#20011#20016#20004#20002#20018","17#3340|3#3375|14#3530|79#19","60103#1|60128#1|60138#1|60143#1",1004,20,"601011#400|601012#600","601011#210101|601012#210101",90,10800,{"$f":"T1214","v":"355#-146"},2,1807]
[null,"12184",4,"地狱12-18","12194",199,0,51011,205999,10100,"20001#20003#20011#20016#20004#20002#20018","17#3340|3#3375|14#3530|79#19","60103#1|60128#1|60138#1|60143#1",1004,20,"601011#400|601012#600","601011#210101|601012#210101",90,10800,{"$f":"T1215","v":"306#-109"},1,1808]
[null,"12194",4,"地狱12-19","12204",199,0,51011,205999,10100,"20001#20003#20011#20016#20004#20002#20018","17#3340|3#3375|14#3530|79#19","60103#1|60128#1|60138#1|60143#1",1004,20,"601011#400|601012#600","601011#210101|601012#210101",90,10800,{"$f":"T1216","v":"232#-108"},1,1809]
[null,"12204",4,"地狱12-20","12214",199,0,51011,205999,10100,"20001#20003#20011#20016#20004#20002#20018","17#3340|3#3375|14#3530|79#19","60103#1|60128#1|60138#1|60143#1",1004,20,"601011#400|601012#600","601011#210101|601012#210101",90,10800,{"$f":"T1217","v":"165#-96"},1,1810]
[null,"12214",4,"地狱12-21","12224",199,0,51011,205999,10100,"20001#20003#20011#20016#20004#20002#20018","17#3340|3#3375|14#3530|79#19","60103#1|60128#1|60138#1|60143#1",1004,20,"601011#400|601012#600","601011#210101|601012#210101",90,10800,{"$f":"T1218","v":"106#-117"},1,1811]
[null,"12224",4,"地狱12-22","12234",199,0,51011,205999,10100,"20001#20003#20011#20016#20004#20002#20018","17#3340|3#3375|14#3530|79#19","60103#1|60128#1|60138#1|60143#1",1004,20,"601011#400|601012#600","601011#210101|601012#210101",90,10800,{"$f":"T1219","v":"38#-115"},1,1812]
[null,"12234",4,"地狱12-23","12244",199,0,51011,205999,10100,"20001#20003#20011#20016#20004#20002#20018","17#3340|3#3375|14#3530|79#19","60103#1|60128#1|60138#1|60143#1",1004,20,"601011#400|601012#600","601011#210101|601012#210101",90,10800,{"$f":"T1220","v":"-15#-158"},1,1813]
[null,"12244",4,"地狱12-24","12254",199,0,51011,205999,10100,"20001#20003#20011#20016#20004#20002#20018","17#3340|3#3375|14#3530|79#19","60103#1|60128#1|60138#1|60143#1",1004,20,"601011#400|601012#600","601011#210101|601012#210101",90,10800,{"$f":"T1221","v":"-48#-203"},1,1814]
[null,"12254",4,"地狱12-25","12264",199,0,51011,205999,10100,"20001#20003#20011#20016#20004#20002#20018","17#3340|3#3375|14#3530|79#19","60103#1|60128#1|60138#1|60143#1",1004,20,"601011#400|601012#600","601011#210101|601012#210101",90,10800,{"$f":"T1222","v":"-104#-192"},1,1815]
[null,"12264",4,"地狱12-26","12274",199,0,51011,205999,10100,"20001#20003#20011#20016#20004#20002#20018","17#3340|3#3375|14#3530|79#19","60103#1|60128#1|60138#1|60143#1",1004,20,"601011#400|601012#600","601011#210101|601012#210101",90,10800,{"$f":"T1223","v":"-173#-170"},1,1816]
[null,"12274",4,"地狱12-27","12284",199,0,51011,205999,10100,"20001#20003#20011#20016#20004#20002#20018","17#3340|3#3375|14#3530|79#19","60103#1|60128#1|60138#1|60143#1",1004,20,"601011#400|601012#600","601011#210101|601012#210101",90,10800,{"$f":"T1224","v":"-234#-184"},1,1817]
[null,"12284",4,"地狱12-28","12294",199,0,51011,205999,10100,"20001#20003#20011#20016#20004#20002#20018","17#3340|3#3375|14#3530|79#19","60103#1|60128#1|60138#1|60143#1",1004,20,"601011#400|601012#600","601011#210101|601012#210101",90,10800,{"$f":"T1225","v":"-291#-164"},1,1818]
[null,"12294",4,"地狱12-29","12304",199,0,51011,205999,10100,"20001#20003#20011#20016#20004#20002#20018","17#3340|3#3375|14#3530|79#19","60103#1|60128#1|60138#1|60143#1",1004,20,"601011#400|601012#600","601011#210101|601012#210101",90,10800,{"$f":"T1226","v":"-258#-114"},2,1819]
[null,"12304",4,"地狱12-30","12314",199,0,51011,205999,10100,"20001#20003#20011#20016#20004#20002#20018","17#3340|3#3375|14#3530|79#19","60103#1|60128#1|60138#1|60143#1",1004,20,"601011#400|601012#600","601011#210101|601012#210101",90,10800,{"$f":"T1227","v":"-190#-98"},2,1820]
[null,"12314",4,"地狱12-31","12324",199,0,51011,205999,10100,"20001#20003#20011#20016#20004#20002#20018","17#3340|3#3375|14#3530|79#19","60103#1|60128#1|60138#1|60143#1",1004,20,"601011#400|601012#600","601011#210101|601012#210101",90,10800,{"$f":"T1228","v":"-131#-65"},2,1821]
[null,"12324",4,"地狱12-32","12334",199,0,51011,205999,10100,"20001#20003#20011#20016#20004#20002#20018","17#3340|3#3375|14#3530|79#19","60103#1|60128#1|60138#1|60143#1",1004,20,"601011#400|601012#600","601011#210101|601012#210101",90,10800,{"$f":"T1229","v":"-86#-16"},2,1822]
[null,"12334",4,"地狱12-33","12344",199,0,51011,205999,10100,"20001#20003#20011#20016#20004#20002#20018","17#3340|3#3375|14#3530|79#19","60103#1|60128#1|60138#1|60143#1",1004,20,"601011#400|601012#600","601011#210101|601012#210101",90,10800,{"$f":"T1230","v":"-23#-8"},2,1823]
[null,"12344",4,"地狱12-34","12354",199,0,51011,205999,10100,"20001#20003#20011#20016#20004#20002#20018","17#3340|3#3375|14#3530|79#19","60103#1|60128#1|60138#1|60143#1",1004,20,"601011#400|601012#600","601011#210101|601012#210101",90,10800,{"$f":"T1231","v":"23#24"},2,1824]
[null,"12354",4,"地狱12-35","12364",199,0,51011,205999,10100,"20001#20003#20011#20016#20004#20002#20018","17#3340|3#3375|14#3530|79#19","60103#1|60128#1|60138#1|60143#1",1004,20,"601011#400|601012#600","601011#210101|601012#210101",90,10800,{"$f":"T1232","v":"84#39"},2,1825]
[null,"12364",4,"地狱12-36","12374",199,0,51011,205999,10100,"20001#20003#20011#20016#20004#20002#20018","17#3340|3#3375|14#3530|79#19","60103#1|60128#1|60138#1|60143#1",1004,20,"601011#400|601012#600","601011#210101|601012#210101",90,10800,{"$f":"T1233","v":"148#37"},2,1826]
[null,"12374",4,"地狱12-37","12384",199,0,51011,205999,10100,"20001#20003#20011#20016#20004#20002#20018","17#3340|3#3375|14#3530|79#19","60103#1|60128#1|60138#1|60143#1",1004,20,"601011#400|601012#600","601011#210101|601012#210101",90,10800,{"$f":"T1234","v":"182#84"},1,1827]
[null,"12384",4,"地狱12-38","12394",199,0,51011,205999,10100,"20001#20003#20011#20016#20004#20002#20018","17#3340|3#3375|14#3530|79#19","60103#1|60128#1|60138#1|60143#1",1004,20,"601011#400|601012#600","601011#210101|601012#210101",90,10800,{"$f":"T1235","v":"131#117"},1,1828]
[null,"12394",4,"地狱12-39","12404",199,0,51011,205999,10100,"20001#20003#20011#20016#20004#20002#20018","17#3340|3#3375|14#3530|79#19","60103#1|60128#1|60138#1|60143#1",1004,20,"601011#400|601012#600","601011#210101|601012#210101",90,10800,{"$f":"T1236","v":"72#132"},1,1829]
[null,"12404",4,"地狱12-40","13014",199,0,51011,205999,10100,"20001#20003#20011#20016#20004#20002#20018","17#3340|3#3375|14#3530|79#19","60103#1|60128#1|60138#1|60143#1",1004,20,"601011#400|601012#600","601011#210101|601012#210101",90,10800,{"$f":"T1237","v":"13#163"},1,1830]
[null,"13014",4,"地狱13-1","13024",199,0,51011,205999,10100,"20001#20003#20011#20016#20004#20002#20018","17#3340|3#3375|14#3530|79#19","60103#1|60128#1|60138#1|60143#1",1004,20,"601011#400|601012#600","601011#210101|601012#210101",90,10800,{"$f":"T1238","v":"215#-386"},1,1831]
[null,"13024",4,"地狱13-2","13034",199,0,51011,205999,10100,"20001#20003#20011#20016#20004#20002#20018","17#3340|3#3375|14#3530|79#19","60103#1|60128#1|60138#1|60143#1",1004,20,"601011#400|601012#600","601011#210101|601012#210101",90,10800,{"$f":"T1239","v":"182#-452"},1,1832]
[null,"13034",4,"地狱13-3","13044",199,0,51011,205999,10100,"20001#20003#20011#20016#20004#20002#20018","17#3340|3#3375|14#3530|79#19","60103#1|60128#1|60138#1|60143#1",1004,20,"601011#400|601012#600","601011#210101|601012#210101",90,10800,{"$f":"T1240","v":"105#-489"},1,1833]
[null,"13044",4,"地狱13-4","13054",199,0,51011,205999,10100,"20001#20003#20011#20016#20004#20002#20018","17#3340|3#3375|14#3530|79#19","60103#1|60128#1|60138#1|60143#1",1004,20,"601011#400|601012#600","601011#210101|601012#210101",90,10800,{"$f":"T1241","v":"36#-492"},1,1834]
[null,"13054",4,"地狱13-5","13064",199,0,51011,205999,10100,"20001#20003#20011#20016#20004#20002#20018","17#3340|3#3375|14#3530|79#19","60103#1|60128#1|60138#1|60143#1",1004,20,"601011#400|601012#600","601011#210101|601012#210101",90,10800,{"$f":"T1242","v":"-25#-454"},1,1835]
[null,"13064",4,"地狱13-6","13074",199,0,51011,205999,10100,"20001#20003#20011#20016#20004#20002#20018","17#3340|3#3375|14#3530|79#19","60103#1|60128#1|60138#1|60143#1",1004,20,"601011#400|601012#600","601011#210101|601012#210101",90,10800,{"$f":"T1243","v":"-27#-383"},2,1836]
[null,"13074",4,"地狱13-7","13084",199,0,51011,205999,10100,"20001#20003#20011#20016#20004#20002#20018","17#3340|3#3375|14#3530|79#19","60103#1|60128#1|60138#1|60143#1",1004,20,"601011#400|601012#600","601011#210101|601012#210101",90,10800,{"$f":"T1244","v":"13#-326"},2,1837]
[null,"13084",4,"地狱13-8","13094",199,0,51011,205999,10100,"20001#20003#20011#20016#20004#20002#20018","17#3340|3#3375|14#3530|79#19","60103#1|60128#1|60138#1|60143#1",1004,20,"601011#400|601012#600","601011#210101|601012#210101",90,10800,{"$f":"T1245","v":"76#-288"},2,1838]
[null,"13094",4,"地狱13-9","13104",199,0,51011,205999,10100,"20001#20003#20011#20016#20004#20002#20018","17#3340|3#3375|14#3530|79#19","60103#1|60128#1|60138#1|60143#1",1004,20,"601011#400|601012#600","601011#210101|601012#210101",90,10800,{"$f":"T1246","v":"140#-256"},2,1839]
[null,"13104",4,"地狱13-10","13114",199,0,51011,205999,10100,"20001#20003#20011#20016#20004#20002#20018","17#3340|3#3375|14#3530|79#19","60103#1|60128#1|60138#1|60143#1",1004,20,"601011#400|601012#600","601011#210101|601012#210101",90,10800,{"$f":"T1247","v":"167#-195"},2,1840]
[null,"13114",4,"地狱13-11","13124",199,0,51011,205999,10100,"20001#20003#20011#20016#20004#20002#20018","17#3340|3#3375|14#3530|79#19","60103#1|60128#1|60138#1|60143#1",1004,20,"601011#400|601012#600","601011#210101|601012#210101",90,10800,{"$f":"T1248","v":"126#-148"},1,1841]
[null,"13124",4,"地狱13-12","13134",199,0,51011,205999,10100,"20001#20003#20011#20016#20004#20002#20018","17#3340|3#3375|14#3530|79#19","60103#1|60128#1|60138#1|60143#1",1004,20,"601011#400|601012#600","601011#210101|601012#210101",90,10800,{"$f":"T1249","v":"59#-132"},1,1842]
[null,"13134",4,"地狱13-13","13144",199,0,51011,205999,10100,"20001#20003#20011#20016#20004#20002#20018","17#3340|3#3375|14#3530|79#19","60103#1|60128#1|60138#1|60143#1",1004,20,"601011#400|601012#600","601011#210101|601012#210101",90,10800,{"$f":"T1250","v":"-12#-137"},1,1843]
[null,"13144",4,"地狱13-14","13154",199,0,51011,205999,10100,"20001#20003#20011#20016#20004#20002#20018","17#3340|3#3375|14#3530|79#19","60103#1|60128#1|60138#1|60143#1",1004,20,"601011#400|601012#600","601011#210101|601012#210101",90,10800,{"$f":"T1251","v":"-72#-155"},1,1844]
[null,"13154",4,"地狱13-15","13164",199,0,51011,205999,10100,"20001#20003#20011#20016#20004#20002#20018","17#3340|3#3375|14#3530|79#19","60103#1|60128#1|60138#1|60143#1",1004,20,"601011#400|601012#600","601011#210101|601012#210101",90,10800,{"$f":"T1252","v":"-148#-158"},1,1845]
[null,"13164",4,"地狱13-16","13174",199,0,51011,205999,10100,"20001#20003#20011#20016#20004#20002#20018","17#3340|3#3375|14#3530|79#19","60103#1|60128#1|60138#1|60143#1",1004,20,"601011#400|601012#600","601011#210101|601012#210101",90,10800,{"$f":"T1253","v":"-206#-138"},1,1846]
[null,"13174",4,"地狱13-17","13184",199,0,51011,205999,10100,"20001#20003#20011#20016#20004#20002#20018","17#3340|3#3375|14#3530|79#19","60103#1|60128#1|60138#1|60143#1",1004,20,"601011#400|601012#600","601011#210101|601012#210101",90,10800,{"$f":"T1254","v":"-219#-77"},1,1847]
[null,"13184",4,"地狱13-18","13194",199,0,51011,205999,10100,"20001#20003#20011#20016#20004#20002#20018","17#3340|3#3375|14#3530|79#19","60103#1|60128#1|60138#1|60143#1",1004,20,"601011#400|601012#600","601011#210101|601012#210101",90,10800,{"$f":"T1255","v":"-166#-47"},2,1848]
[null,"13194",4,"地狱13-19","13204",199,0,51011,205999,10100,"20001#20003#20011#20016#20004#20002#20018","17#3340|3#3375|14#3530|79#19","60103#1|60128#1|60138#1|60143#1",1004,20,"601011#400|601012#600","601011#210101|601012#210101",90,10800,{"$f":"T1256","v":"-99#-54"},2,1849]
[null,"13204",4,"地狱13-20","13214",199,0,51011,205999,10100,"20001#20003#20011#20016#20004#20002#20018","17#3340|3#3375|14#3530|79#19","60103#1|60128#1|60138#1|60143#1",1004,20,"601011#400|601012#600","601011#210101|601012#210101",90,10800,{"$f":"T1257","v":"-23#-66"},2,1850]
[null,"13214",4,"地狱13-21","13224",199,0,51011,205999,10100,"20001#20003#20011#20016#20004#20002#20018","17#3340|3#3375|14#3530|79#19","60103#1|60128#1|60138#1|60143#1",1004,20,"601011#400|601012#600","601011#210101|601012#210101",90,10800,{"$f":"T1258","v":"43#-48"},2,1851]
[null,"13224",4,"地狱13-22","13234",199,0,51011,205999,10100,"20001#20003#20011#20016#20004#20002#20018","17#3340|3#3375|14#3530|79#19","60103#1|60128#1|60138#1|60143#1",1004,20,"601011#400|601012#600","601011#210101|601012#210101",90,10800,{"$f":"T1259","v":"110#-45"},2,1852]
[null,"13234",4,"地狱13-23","13244",199,0,51011,205999,10100,"20001#20003#20011#20016#20004#20002#20018","17#3340|3#3375|14#3530|79#19","60103#1|60128#1|60138#1|60143#1",1004,20,"601011#400|601012#600","601011#210101|601012#210101",90,10800,{"$f":"T1260","v":"176#-53"},2,1853]
[null,"13244",4,"地狱13-24","13254",199,0,51011,205999,10100,"20001#20003#20011#20016#20004#20002#20018","17#3340|3#3375|14#3530|79#19","60103#1|60128#1|60138#1|60143#1",1004,20,"601011#400|601012#600","601011#210101|601012#210101",90,10800,{"$f":"T1261","v":"239#-75"},2,1854]
[null,"13254",4,"地狱13-25","13264",199,0,51011,205999,10100,"20001#20003#20011#20016#20004#20002#20018","17#3340|3#3375|14#3530|79#19","60103#1|60128#1|60138#1|60143#1",1004,20,"601011#400|601012#600","601011#210101|601012#210101",90,10800,{"$f":"T1262","v":"307#-91"},2,1855]
[null,"13264",4,"地狱13-26","13274",199,0,51011,205999,10100,"20001#20003#20011#20016#20004#20002#20018","17#3340|3#3375|14#3530|79#19","60103#1|60128#1|60138#1|60143#1",1004,20,"601011#400|601012#600","601011#210101|601012#210101",90,10800,{"$f":"T1263","v":"375#-87"},2,1856]
[null,"13274",4,"地狱13-27","13284",199,0,51011,205999,10100,"20001#20003#20011#20016#20004#20002#20018","17#3340|3#3375|14#3530|79#19","60103#1|60128#1|60138#1|60143#1",1004,20,"601011#400|601012#600","601011#210101|601012#210101",90,10800,{"$f":"T1264","v":"414#-51"},2,1857]
[null,"13284",4,"地狱13-28","13294",199,0,51011,205999,10100,"20001#20003#20011#20016#20004#20002#20018","17#3340|3#3375|14#3530|79#19","60103#1|60128#1|60138#1|60143#1",1004,20,"601011#400|601012#600","601011#210101|601012#210101",90,10800,{"$f":"T1265","v":"411#1"},1,1858]
[null,"13294",4,"地狱13-29","13304",199,0,51011,205999,10100,"20001#20003#20011#20016#20004#20002#20018","17#3340|3#3375|14#3530|79#19","60103#1|60128#1|60138#1|60143#1",1004,20,"601011#400|601012#600","601011#210101|601012#210101",90,10800,{"$f":"T1266","v":"349#-1"},1,1859]
[null,"13304",4,"地狱13-30","13314",199,0,51011,205999,10100,"20001#20003#20011#20016#20004#20002#20018","17#3340|3#3375|14#3530|79#19","60103#1|60128#1|60138#1|60143#1",1004,20,"601011#400|601012#600","601011#210101|601012#210101",90,10800,{"$f":"T1267","v":"287#1"},1,1860]
[null,"13314",4,"地狱13-31","13324",199,0,51011,205999,10100,"20001#20003#20011#20016#20004#20002#20018","17#3340|3#3375|14#3530|79#19","60103#1|60128#1|60138#1|60143#1",1004,20,"601011#400|601012#600","601011#210101|601012#210101",90,10800,{"$f":"T1268","v":"314#64"},2,1861]
[null,"13324",4,"地狱13-32","13334",199,0,51011,205999,10100,"20001#20003#20011#20016#20004#20002#20018","17#3340|3#3375|14#3530|79#19","60103#1|60128#1|60138#1|60143#1",1004,20,"601011#400|601012#600","601011#210101|601012#210101",90,10800,{"$f":"T1269","v":"308#115"},2,1862]
[null,"13334",4,"地狱13-33","13344",199,0,51011,205999,10100,"20001#20003#20011#20016#20004#20002#20018","17#3340|3#3375|14#3530|79#19","60103#1|60128#1|60138#1|60143#1",1004,20,"601011#400|601012#600","601011#210101|601012#210101",90,10800,{"$f":"T1270","v":"244#137"},1,1863]
[null,"13344",4,"地狱13-34","13354",199,0,51011,205999,10100,"20001#20003#20011#20016#20004#20002#20018","17#3340|3#3375|14#3530|79#19","60103#1|60128#1|60138#1|60143#1",1004,20,"601011#400|601012#600","601011#210101|601012#210101",90,10800,{"$f":"T1271","v":"177#115"},1,1864]
[null,"13354",4,"地狱13-35","13364",199,0,51011,205999,10100,"20001#20003#20011#20016#20004#20002#20018","17#3340|3#3375|14#3530|79#19","60103#1|60128#1|60138#1|60143#1",1004,20,"601011#400|601012#600","601011#210101|601012#210101",90,10800,{"$f":"T1272","v":"112#90"},1,1865]
[null,"13364",4,"地狱13-36","13374",199,0,51011,205999,10100,"20001#20003#20011#20016#20004#20002#20018","17#3340|3#3375|14#3530|79#19","60103#1|60128#1|60138#1|60143#1",1004,20,"601011#400|601012#600","601011#210101|601012#210101",90,10800,{"$f":"T1273","v":"45#71"},1,1866]
[null,"13374",4,"地狱13-37","13384",199,0,51011,205999,10100,"20001#20003#20011#20016#20004#20002#20018","17#3340|3#3375|14#3530|79#19","60103#1|60128#1|60138#1|60143#1",1004,20,"601011#400|601012#600","601011#210101|601012#210101",90,10800,{"$f":"T1274","v":"-25#68"},1,1867]
[null,"13384",4,"地狱13-38","13394",199,0,51011,205999,10100,"20001#20003#20011#20016#20004#20002#20018","17#3340|3#3375|14#3530|79#19","60103#1|60128#1|60138#1|60143#1",1004,20,"601011#400|601012#600","601011#210101|601012#210101",90,10800,{"$f":"T1275","v":"-84#90"},1,1868]
[null,"13394",4,"地狱13-39","13404",199,0,51011,205999,10100,"20001#20003#20011#20016#20004#20002#20018","17#3340|3#3375|14#3530|79#19","60103#1|60128#1|60138#1|60143#1",1004,20,"601011#400|601012#600","601011#210101|601012#210101",90,10800,{"$f":"T1276","v":"-87#149"},2,1869]
[null,"13404",4,"地狱13-40","14014",199,0,51011,205999,10100,"20001#20003#20011#20016#20004#20002#20018","17#3340|3#3375|14#3530|79#19","60103#1|60128#1|60138#1|60143#1",1004,20,"601011#400|601012#600","601011#210101|601012#210101",90,10800,{"$f":"T1277","v":"-15#174"},2,1870]
[null,"14014",4,"地狱14-1","14024",199,0,51011,205999,10100,"20001#20003#20011#20016#20004#20002#20018","17#3340|3#3375|14#3530|79#19","60103#1|60128#1|60138#1|60143#1",1004,20,"601011#400|601012#600","601011#210101|601012#210101",90,10800,{"$f":"T1278","v":"44#-362"},2,1871]
[null,"14024",4,"地狱14-2","14034",199,0,51011,205999,10100,"20001#20003#20011#20016#20004#20002#20018","17#3340|3#3375|14#3530|79#19","60103#1|60128#1|60138#1|60143#1",1004,20,"601011#400|601012#600","601011#210101|601012#210101",90,10800,{"$f":"T1279","v":"103#-362"},2,1872]
[null,"14034",4,"地狱14-3","14044",199,0,51011,205999,10100,"20001#20003#20011#20016#20004#20002#20018","17#3340|3#3375|14#3530|79#19","60103#1|60128#1|60138#1|60143#1",1004,20,"601011#400|601012#600","601011#210101|601012#210101",90,10800,{"$f":"T1280","v":"161#-355"},2,1873]
[null,"14044",4,"地狱14-4","14054",199,0,51011,205999,10100,"20001#20003#20011#20016#20004#20002#20018","17#3340|3#3375|14#3530|79#19","60103#1|60128#1|60138#1|60143#1",1004,20,"601011#400|601012#600","601011#210101|601012#210101",90,10800,{"$f":"T1281","v":"211#-347"},2,1874]
[null,"14054",4,"地狱14-5","14064",199,0,51011,205999,10100,"20001#20003#20011#20016#20004#20002#20018","17#3340|3#3375|14#3530|79#19","60103#1|60128#1|60138#1|60143#1",1004,20,"601011#400|601012#600","601011#210101|601012#210101",90,10800,{"$f":"T1282","v":"269#-329"},2,1875]
[null,"14064",4,"地狱14-6","14074",199,0,51011,205999,10100,"20001#20003#20011#20016#20004#20002#20018","17#3340|3#3375|14#3530|79#19","60103#1|60128#1|60138#1|60143#1",1004,20,"601011#400|601012#600","601011#210101|601012#210101",90,10800,{"$f":"T1283","v":"293#-292"},2,1876]
[null,"14074",4,"地狱14-7","14084",199,0,51011,205999,10100,"20001#20003#20011#20016#20004#20002#20018","17#3340|3#3375|14#3530|79#19","60103#1|60128#1|60138#1|60143#1",1004,20,"601011#400|601012#600","601011#210101|601012#210101",90,10800,{"$f":"T1284","v":"280#-253"},2,1877]
[null,"14084",4,"地狱14-8","14094",199,0,51011,205999,10100,"20001#20003#20011#20016#20004#20002#20018","17#3340|3#3375|14#3530|79#19","60103#1|60128#1|60138#1|60143#1",1004,20,"601011#400|601012#600","601011#210101|601012#210101",90,10800,{"$f":"T1285","v":"336#-254"},2,1878]
[null,"14094",4,"地狱14-9","14104",199,0,51011,205999,10100,"20001#20003#20011#20016#20004#20002#20018","17#3340|3#3375|14#3530|79#19","60103#1|60128#1|60138#1|60143#1",1004,20,"601011#400|601012#600","601011#210101|601012#210101",90,10800,{"$f":"T1286","v":"390#-252"},2,1879]
[null,"14104",4,"地狱14-10","14114",199,0,51011,205999,10100,"20001#20003#20011#20016#20004#20002#20018","17#3340|3#3375|14#3530|79#19","60103#1|60128#1|60138#1|60143#1",1004,20,"601011#400|601012#600","601011#210101|601012#210101",90,10800,{"$f":"T1287","v":"433#-220"},2,1880]
[null,"14114",4,"地狱14-11","14124",199,0,51011,205999,10100,"20001#20003#20011#20016#20004#20002#20018","17#3340|3#3375|14#3530|79#19","60103#1|60128#1|60138#1|60143#1",1004,20,"601011#400|601012#600","601011#210101|601012#210101",90,10800,{"$f":"T1288","v":"409#-176"},1,1881]
[null,"14124",4,"地狱14-12","14134",199,0,51011,205999,10100,"20001#20003#20011#20016#20004#20002#20018","17#3340|3#3375|14#3530|79#19","60103#1|60128#1|60138#1|60143#1",1004,20,"601011#400|601012#600","601011#210101|601012#210101",90,10800,{"$f":"T1289","v":"359#-164"},1,1882]
[null,"14134",4,"地狱14-13","14144",199,0,51011,205999,10100,"20001#20003#20011#20016#20004#20002#20018","17#3340|3#3375|14#3530|79#19","60103#1|60128#1|60138#1|60143#1",1004,20,"601011#400|601012#600","601011#210101|601012#210101",90,10800,{"$f":"T1290","v":"305#-159"},1,1883]
[null,"14144",4,"地狱14-14","14154",199,0,51011,205999,10100,"20001#20003#20011#20016#20004#20002#20018","17#3340|3#3375|14#3530|79#19","60103#1|60128#1|60138#1|60143#1",1004,20,"601011#400|601012#600","601011#210101|601012#210101",90,10800,{"$f":"T1291","v":"247#-157"},1,1884]
[null,"14154",4,"地狱14-15","14164",199,0,51011,205999,10100,"20001#20003#20011#20016#20004#20002#20018","17#3340|3#3375|14#3530|79#19","60103#1|60128#1|60138#1|60143#1",1004,20,"601011#400|601012#600","601011#210101|601012#210101",90,10800,{"$f":"T1292","v":"231#-195"},1,1885]
[null,"14164",4,"地狱14-16","14174",199,0,51011,205999,10100,"20001#20003#20011#20016#20004#20002#20018","17#3340|3#3375|14#3530|79#19","60103#1|60128#1|60138#1|60143#1",1004,20,"601011#400|601012#600","601011#210101|601012#210101",90,10800,{"$f":"T1293","v":"203#-237"},1,1886]
[null,"14174",4,"地狱14-17","14184",199,0,51011,205999,10100,"20001#20003#20011#20016#20004#20002#20018","17#3340|3#3375|14#3530|79#19","60103#1|60128#1|60138#1|60143#1",1004,20,"601011#400|601012#600","601011#210101|601012#210101",90,10800,{"$f":"T1294","v":"145#-243"},1,1887]
[null,"14184",4,"地狱14-18","14194",199,0,51011,205999,10100,"20001#20003#20011#20016#20004#20002#20018","17#3340|3#3375|14#3530|79#19","60103#1|60128#1|60138#1|60143#1",1004,20,"601011#400|601012#600","601011#210101|601012#210101",90,10800,{"$f":"T1295","v":"91#-239"},1,1888]
[null,"14194",4,"地狱14-19","14204",199,0,51011,205999,10100,"20001#20003#20011#20016#20004#20002#20018","17#3340|3#3375|14#3530|79#19","60103#1|60128#1|60138#1|60143#1",1004,20,"601011#400|601012#600","601011#210101|601012#210101",90,10800,{"$f":"T1296","v":"41#-206"},1,1889]
[null,"14204",4,"地狱14-20","14214",199,0,51011,205999,10100,"20001#20003#20011#20016#20004#20002#20018","17#3340|3#3375|14#3530|79#19","60103#1|60128#1|60138#1|60143#1",1004,20,"601011#400|601012#600","601011#210101|601012#210101",90,10800,{"$f":"T1297","v":"51#-151"},1,1890]
[null,"14214",4,"地狱14-21","14224",199,0,51011,205999,10100,"20001#20003#20011#20016#20004#20002#20018","17#3340|3#3375|14#3530|79#19","60103#1|60128#1|60138#1|60143#1",1004,20,"601011#400|601012#600","601011#210101|601012#210101",90,10800,{"$f":"T1298","v":"2#-123"},1,1891]
[null,"14224",4,"地狱14-22","14234",199,0,51011,205999,10100,"20001#20003#20011#20016#20004#20002#20018","17#3340|3#3375|14#3530|79#19","60103#1|60128#1|60138#1|60143#1",1004,20,"601011#400|601012#600","601011#210101|601012#210101",90,10800,{"$f":"T1299","v":"-55#-128"},1,1892]
[null,"14234",4,"地狱14-23","14244",199,0,51011,205999,10100,"20001#20003#20011#20016#20004#20002#20018","17#3340|3#3375|14#3530|79#19","60103#1|60128#1|60138#1|60143#1",1004,20,"601011#400|601012#600","601011#210101|601012#210101",90,10800,{"$f":"T1300","v":"-115#-143"},1,1893]
[null,"14244",4,"地狱14-24","14254",199,0,51011,205999,10100,"20001#20003#20011#20016#20004#20002#20018","17#3340|3#3375|14#3530|79#19","60103#1|60128#1|60138#1|60143#1",1004,20,"601011#400|601012#600","601011#210101|601012#210101",90,10800,{"$f":"T1301","v":"-160#-155"},1,1894]
[null,"14254",4,"地狱14-25","14264",199,0,51011,205999,10100,"20001#20003#20011#20016#20004#20002#20018","17#3340|3#3375|14#3530|79#19","60103#1|60128#1|60138#1|60143#1",1004,20,"601011#400|601012#600","601011#210101|601012#210101",90,10800,{"$f":"T1302","v":"-218#-143"},1,1895]
[null,"14264",4,"地狱14-26","14274",199,0,51011,205999,10100,"20001#20003#20011#20016#20004#20002#20018","17#3340|3#3375|14#3530|79#19","60103#1|60128#1|60138#1|60143#1",1004,20,"601011#400|601012#600","601011#210101|601012#210101",90,10800,{"$f":"T1303","v":"-251#-107"},1,1896]
[null,"14274",4,"地狱14-27","14284",199,0,51011,205999,10100,"20001#20003#20011#20016#20004#20002#20018","17#3340|3#3375|14#3530|79#19","60103#1|60128#1|60138#1|60143#1",1004,20,"601011#400|601012#600","601011#210101|601012#210101",90,10800,{"$f":"T1304","v":"-214#-76"},2,1897]
[null,"14284",4,"地狱14-28","14294",199,0,51011,205999,10100,"20001#20003#20011#20016#20004#20002#20018","17#3340|3#3375|14#3530|79#19","60103#1|60128#1|60138#1|60143#1",1004,20,"601011#400|601012#600","601011#210101|601012#210101",90,10800,{"$f":"T1305","v":"-160#-71"},2,1898]
[null,"14294",4,"地狱14-29","14304",199,0,51011,205999,10100,"20001#20003#20011#20016#20004#20002#20018","17#3340|3#3375|14#3530|79#19","60103#1|60128#1|60138#1|60143#1",1004,20,"601011#400|601012#600","601011#210101|601012#210101",90,10800,{"$f":"T1306","v":"-106#-63"},2,1899]
[null,"14304",4,"地狱14-30","14314",199,0,51011,205999,10100,"20001#20003#20011#20016#20004#20002#20018","17#3340|3#3375|14#3530|79#19","60103#1|60128#1|60138#1|60143#1",1004,20,"601011#400|601012#600","601011#210101|601012#210101",90,10800,{"$f":"T1307","v":"-46#-45"},2,1900]
[null,"14314",4,"地狱14-31","14324",199,0,51011,205999,10100,"20001#20003#20011#20016#20004#20002#20018","17#3340|3#3375|14#3530|79#19","60103#1|60128#1|60138#1|60143#1",1004,20,"601011#400|601012#600","601011#210101|601012#210101",90,10800,{"$f":"T1308","v":"4#-48"},2,1901]
[null,"14324",4,"地狱14-32","14334",199,0,51011,205999,10100,"20001#20003#20011#20016#20004#20002#20018","17#3340|3#3375|14#3530|79#19","60103#1|60128#1|60138#1|60143#1",1004,20,"601011#400|601012#600","601011#210101|601012#210101",90,10800,{"$f":"T1309","v":"59#-58"},2,1902]
[null,"14334",4,"地狱14-33","14344",199,0,51011,205999,10100,"20001#20003#20011#20016#20004#20002#20018","17#3340|3#3375|14#3530|79#19","60103#1|60128#1|60138#1|60143#1",1004,20,"601011#400|601012#600","601011#210101|601012#210101",90,10800,{"$f":"T1310","v":"110#-60"},2,1903]
[null,"14344",4,"地狱14-34","14354",199,0,51011,205999,10100,"20001#20003#20011#20016#20004#20002#20018","17#3340|3#3375|14#3530|79#19","60103#1|60128#1|60138#1|60143#1",1004,20,"601011#400|601012#600","601011#210101|601012#210101",90,10800,{"$f":"T1311","v":"158#-54"},2,1904]
[null,"14354",4,"地狱14-35","14364",199,0,51011,205999,10100,"20001#20003#20011#20016#20004#20002#20018","17#3340|3#3375|14#3530|79#19","60103#1|60128#1|60138#1|60143#1",1004,20,"601011#400|601012#600","601011#210101|601012#210101",90,10800,{"$f":"T1312","v":"191#-23"},2,1905]
[null,"14364",4,"地狱14-36","14374",199,0,51011,205999,10100,"20001#20003#20011#20016#20004#20002#20018","17#3340|3#3375|14#3530|79#19","60103#1|60128#1|60138#1|60143#1",1004,20,"601011#400|601012#600","601011#210101|601012#210101",90,10800,{"$f":"T1313","v":"173#14"},1,1906]
[null,"14374",4,"地狱14-37","14384",199,0,51011,205999,10100,"20001#20003#20011#20016#20004#20002#20018","17#3340|3#3375|14#3530|79#19","60103#1|60128#1|60138#1|60143#1",1004,20,"601011#400|601012#600","601011#210101|601012#210101",90,10800,{"$f":"T1314","v":"130#29"},1,1907]
[null,"14384",4,"地狱14-38","14394",199,0,51011,205999,10100,"20001#20003#20011#20016#20004#20002#20018","17#3340|3#3375|14#3530|79#19","60103#1|60128#1|60138#1|60143#1",1004,20,"601011#400|601012#600","601011#210101|601012#210101",90,10800,{"$f":"T1315","v":"93#33"},1,1908]
[null,"14394",4,"地狱14-39","14404",199,0,51011,205999,10100,"20001#20003#20011#20016#20004#20002#20018","17#3340|3#3375|14#3530|79#19","60103#1|60128#1|60138#1|60143#1",1004,20,"601011#400|601012#600","601011#210101|601012#210101",90,10800,{"$f":"T1316","v":"56#35"},1,1909]
[null,"14404",4,"地狱14-40","15014",199,0,51011,205999,10100,"20001#20003#20011#20016#20004#20002#20018","17#3340|3#3375|14#3530|79#19","60103#1|60128#1|60138#1|60143#1",1004,20,"601011#400|601012#600","601011#210101|601012#210101",90,10800,{"$f":"T1317","v":"12#35"},1,1910]
[null,"15014",4,"地狱15-1","15024",199,0,51011,205999,10100,"20001#20003#20011#20016#20004#20002#20018","17#3340|3#3375|14#3530|79#19","60103#1|60128#1|60138#1|60143#1",1004,20,"601011#400|601012#600","601011#210101|601012#210101",90,10800,{"$f":"T1318","v":"483#-348"},1,1911]
[null,"15024",4,"地狱15-2","15034",199,0,51011,205999,10100,"20001#20003#20011#20016#20004#20002#20018","17#3340|3#3375|14#3530|79#19","60103#1|60128#1|60138#1|60143#1",1004,20,"601011#400|601012#600","601011#210101|601012#210101",90,10800,{"$f":"T1319","v":"422#-322"},1,1912]
[null,"15034",4,"地狱15-3","15044",199,0,51011,205999,10100,"20001#20003#20011#20016#20004#20002#20018","17#3340|3#3375|14#3530|79#19","60103#1|60128#1|60138#1|60143#1",1004,20,"601011#400|601012#600","601011#210101|601012#210101",90,10800,{"$f":"T1320","v":"355#-317"},1,1913]
[null,"15044",4,"地狱15-4","15054",199,0,51011,205999,10100,"20001#20003#20011#20016#20004#20002#20018","17#3340|3#3375|14#3530|79#19","60103#1|60128#1|60138#1|60143#1",1004,20,"601011#400|601012#600","601011#210101|601012#210101",90,10800,{"$f":"T1321","v":"295#-326"},1,1914]
[null,"15054",4,"地狱15-5","15064",199,0,51011,205999,10100,"20001#20003#20011#20016#20004#20002#20018","17#3340|3#3375|14#3530|79#19","60103#1|60128#1|60138#1|60143#1",1004,20,"601011#400|601012#600","601011#210101|601012#210101",90,10800,{"$f":"T1322","v":"232#-345"},1,1915]
[null,"15064",4,"地狱15-6","15074",199,0,51011,205999,10100,"20001#20003#20011#20016#20004#20002#20018","17#3340|3#3375|14#3530|79#19","60103#1|60128#1|60138#1|60143#1",1004,20,"601011#400|601012#600","601011#210101|601012#210101",90,10800,{"$f":"T1323","v":"173#-355"},1,1916]
[null,"15074",4,"地狱15-7","15084",199,0,51011,205999,10100,"20001#20003#20011#20016#20004#20002#20018","17#3340|3#3375|14#3530|79#19","60103#1|60128#1|60138#1|60143#1",1004,20,"601011#400|601012#600","601011#210101|601012#210101",90,10800,{"$f":"T1324","v":"124#-327"},1,1917]
[null,"15084",4,"地狱15-8","15094",199,0,51011,205999,10100,"20001#20003#20011#20016#20004#20002#20018","17#3340|3#3375|14#3530|79#19","60103#1|60128#1|60138#1|60143#1",1004,20,"601011#400|601012#600","601011#210101|601012#210101",90,10800,{"$f":"T1325","v":"141#-275"},2,1918]
[null,"15094",4,"地狱15-9","15104",199,0,51011,205999,10100,"20001#20003#20011#20016#20004#20002#20018","17#3340|3#3375|14#3530|79#19","60103#1|60128#1|60138#1|60143#1",1004,20,"601011#400|601012#600","601011#210101|601012#210101",90,10800,{"$f":"T1326","v":"123#-227"},1,1919]
[null,"15104",4,"地狱15-10","15114",199,0,51011,205999,10100,"20001#20003#20011#20016#20004#20002#20018","17#3340|3#3375|14#3530|79#19","60103#1|60128#1|60138#1|60143#1",1004,20,"601011#400|601012#600","601011#210101|601012#210101",90,10800,{"$f":"T1327","v":"53#-225"},1,1920]
[null,"15114",4,"地狱15-11","15124",199,0,51011,205999,10100,"20001#20003#20011#20016#20004#20002#20018","17#3340|3#3375|14#3530|79#19","60103#1|60128#1|60138#1|60143#1",1004,20,"601011#400|601012#600","601011#210101|601012#210101",90,10800,{"$f":"T1328","v":"-20#-258"},1,1921]
[null,"15124",4,"地狱15-12","15134",199,0,51011,205999,10100,"20001#20003#20011#20016#20004#20002#20018","17#3340|3#3375|14#3530|79#19","60103#1|60128#1|60138#1|60143#1",1004,20,"601011#400|601012#600","601011#210101|601012#210101",90,10800,{"$f":"T1329","v":"-67#-294"},1,1922]
[null,"15134",4,"地狱15-13","15144",199,0,51011,205999,10100,"20001#20003#20011#20016#20004#20002#20018","17#3340|3#3375|14#3530|79#19","60103#1|60128#1|60138#1|60143#1",1004,20,"601011#400|601012#600","601011#210101|601012#210101",90,10800,{"$f":"T1330","v":"-119#-336"},1,1923]
[null,"15144",4,"地狱15-14","15154",199,0,51011,205999,10100,"20001#20003#20011#20016#20004#20002#20018","17#3340|3#3375|14#3530|79#19","60103#1|60128#1|60138#1|60143#1",1004,20,"601011#400|601012#600","601011#210101|601012#210101",90,10800,{"$f":"T1331","v":"-177#-364"},1,1924]
[null,"15154",4,"地狱15-15","15164",199,0,51011,205999,10100,"20001#20003#20011#20016#20004#20002#20018","17#3340|3#3375|14#3530|79#19","60103#1|60128#1|60138#1|60143#1",1004,20,"601011#400|601012#600","601011#210101|601012#210101",90,10800,{"$f":"T1332","v":"-243#-367"},1,1925]
[null,"15164",4,"地狱15-16","15174",199,0,51011,205999,10100,"20001#20003#20011#20016#20004#20002#20018","17#3340|3#3375|14#3530|79#19","60103#1|60128#1|60138#1|60143#1",1004,20,"601011#400|601012#600","601011#210101|601012#210101",90,10800,{"$f":"T1333","v":"-303#-355"},1,1926]
[null,"15174",4,"地狱15-17","15184",199,0,51011,205999,10100,"20001#20003#20011#20016#20004#20002#20018","17#3340|3#3375|14#3530|79#19","60103#1|60128#1|60138#1|60143#1",1004,20,"601011#400|601012#600","601011#210101|601012#210101",90,10800,{"$f":"T1334","v":"-354#-330"},1,1927]
[null,"15184",4,"地狱15-18","15194",199,0,51011,205999,10100,"20001#20003#20011#20016#20004#20002#20018","17#3340|3#3375|14#3530|79#19","60103#1|60128#1|60138#1|60143#1",1004,20,"601011#400|601012#600","601011#210101|601012#210101",90,10800,{"$f":"T1335","v":"-407#-307"},1,1928]
[null,"15194",4,"地狱15-19","15204",199,0,51011,205999,10100,"20001#20003#20011#20016#20004#20002#20018","17#3340|3#3375|14#3530|79#19","60103#1|60128#1|60138#1|60143#1",1004,20,"601011#400|601012#600","601011#210101|601012#210101",90,10800,{"$f":"T1336","v":"-427#-256"},2,1929]
[null,"15204",4,"地狱15-20","15214",199,0,51011,205999,10100,"20001#20003#20011#20016#20004#20002#20018","17#3340|3#3375|14#3530|79#19","60103#1|60128#1|60138#1|60143#1",1004,20,"601011#400|601012#600","601011#210101|601012#210101",90,10800,{"$f":"T1337","v":"-367#-244"},2,1930]
[null,"15214",4,"地狱15-21","15224",199,0,51011,205999,10100,"20001#20003#20011#20016#20004#20002#20018","17#3340|3#3375|14#3530|79#19","60103#1|60128#1|60138#1|60143#1",1004,20,"601011#400|601012#600","601011#210101|601012#210101",90,10800,{"$f":"T1338","v":"-302#-248"},2,1931]
[null,"15224",4,"地狱15-22","15234",199,0,51011,205999,10100,"20001#20003#20011#20016#20004#20002#20018","17#3340|3#3375|14#3530|79#19","60103#1|60128#1|60138#1|60143#1",1004,20,"601011#400|601012#600","601011#210101|601012#210101",90,10800,{"$f":"T1339","v":"-251#-218"},2,1932]
[null,"15234",4,"地狱15-23","15244",199,0,51011,205999,10100,"20001#20003#20011#20016#20004#20002#20018","17#3340|3#3375|14#3530|79#19","60103#1|60128#1|60138#1|60143#1",1004,20,"601011#400|601012#600","601011#210101|601012#210101",90,10800,{"$f":"T1340","v":"-249#-156"},2,1933]
[null,"15244",4,"地狱15-24","15254",199,0,51011,205999,10100,"20001#20003#20011#20016#20004#20002#20018","17#3340|3#3375|14#3530|79#19","60103#1|60128#1|60138#1|60143#1",1004,20,"601011#400|601012#600","601011#210101|601012#210101",90,10800,{"$f":"T1341","v":"-190#-140"},2,1934]
[null,"15254",4,"地狱15-25","15264",199,0,51011,205999,10100,"20001#20003#20011#20016#20004#20002#20018","17#3340|3#3375|14#3530|79#19","60103#1|60128#1|60138#1|60143#1",1004,20,"601011#400|601012#600","601011#210101|601012#210101",90,10800,{"$f":"T1342","v":"-125#-150"},2,1935]
[null,"15264",4,"地狱15-26","15274",199,0,51011,205999,10100,"20001#20003#20011#20016#20004#20002#20018","17#3340|3#3375|14#3530|79#19","60103#1|60128#1|60138#1|60143#1",1004,20,"601011#400|601012#600","601011#210101|601012#210101",90,10800,{"$f":"T1343","v":"-67#-140"},2,1936]
[null,"15274",4,"地狱15-27","15284",199,0,51011,205999,10100,"20001#20003#20011#20016#20004#20002#20018","17#3340|3#3375|14#3530|79#19","60103#1|60128#1|60138#1|60143#1",1004,20,"601011#400|601012#600","601011#210101|601012#210101",90,10800,{"$f":"T1344","v":"-78#-95"},1,1937]
[null,"15284",4,"地狱15-28","15294",199,0,51011,205999,10100,"20001#20003#20011#20016#20004#20002#20018","17#3340|3#3375|14#3530|79#19","60103#1|60128#1|60138#1|60143#1",1004,20,"601011#400|601012#600","601011#210101|601012#210101",90,10800,{"$f":"T1345","v":"-143#-92"},1,1938]
[null,"15294",4,"地狱15-29","15304",199,0,51011,205999,10100,"20001#20003#20011#20016#20004#20002#20018","17#3340|3#3375|14#3530|79#19","60103#1|60128#1|60138#1|60143#1",1004,20,"601011#400|601012#600","601011#210101|601012#210101",90,10800,{"$f":"T1346","v":"-195#-98"},1,1939]
[null,"15304",4,"地狱15-30","15314",199,0,51011,205999,10100,"20001#20003#20011#20016#20004#20002#20018","17#3340|3#3375|14#3530|79#19","60103#1|60128#1|60138#1|60143#1",1004,20,"601011#400|601012#600","601011#210101|601012#210101",90,10800,{"$f":"T1347","v":"-249#-77"},1,1940]
[null,"15314",4,"地狱15-31","15324",199,0,51011,205999,10100,"20001#20003#20011#20016#20004#20002#20018","17#3340|3#3375|14#3530|79#19","60103#1|60128#1|60138#1|60143#1",1004,20,"601011#400|601012#600","601011#210101|601012#210101",90,10800,{"$f":"T1348","v":"-250#-16"},2,1941]
[null,"15324",4,"地狱15-32","15334",199,0,51011,205999,10100,"20001#20003#20011#20016#20004#20002#20018","17#3340|3#3375|14#3530|79#19","60103#1|60128#1|60138#1|60143#1",1004,20,"601011#400|601012#600","601011#210101|601012#210101",90,10800,{"$f":"T1349","v":"-189#12"},2,1942]
[null,"15334",4,"地狱15-33","15344",199,0,51011,205999,10100,"20001#20003#20011#20016#20004#20002#20018","17#3340|3#3375|14#3530|79#19","60103#1|60128#1|60138#1|60143#1",1004,20,"601011#400|601012#600","601011#210101|601012#210101",90,10800,{"$f":"T1350","v":"-125#23"},2,1943]
[null,"15344",4,"地狱15-34","15354",199,0,51011,205999,10100,"20001#20003#20011#20016#20004#20002#20018","17#3340|3#3375|14#3530|79#19","60103#1|60128#1|60138#1|60143#1",1004,20,"601011#400|601012#600","601011#210101|601012#210101",90,10800,{"$f":"T1351","v":"-59#22"},2,1944]
[null,"15354",4,"地狱15-35","15364",199,0,51011,205999,10100,"20001#20003#20011#20016#20004#20002#20018","17#3340|3#3375|14#3530|79#19","60103#1|60128#1|60138#1|60143#1",1004,20,"601011#400|601012#600","601011#210101|601012#210101",90,10800,{"$f":"T1352","v":"15#-7"},2,1945]
[null,"15364",4,"地狱15-36","15374",199,0,51011,205999,10100,"20001#20003#20011#20016#20004#20002#20018","17#3340|3#3375|14#3530|79#19","60103#1|60128#1|60138#1|60143#1",1004,20,"601011#400|601012#600","601011#210101|601012#210101",90,10800,{"$f":"T1353","v":"64#-66"},2,1946]
[null,"15374",4,"地狱15-37","15384",199,0,51011,205999,10100,"20001#20003#20011#20016#20004#20002#20018","17#3340|3#3375|14#3530|79#19","60103#1|60128#1|60138#1|60143#1",1004,20,"601011#400|601012#600","601011#210101|601012#210101",90,10800,{"$f":"T1354","v":"124#-111"},2,1947]
[null,"15384",4,"地狱15-38","15394",199,0,51011,205999,10100,"20001#20003#20011#20016#20004#20002#20018","17#3340|3#3375|14#3530|79#19","60103#1|60128#1|60138#1|60143#1",1004,20,"601011#400|601012#600","601011#210101|601012#210101",90,10800,{"$f":"T1355","v":"184#-130"},2,1948]
[null,"15394",4,"地狱15-39","15404",199,0,51011,205999,10100,"20001#20003#20011#20016#20004#20002#20018","17#3340|3#3375|14#3530|79#19","60103#1|60128#1|60138#1|60143#1",1004,20,"601011#400|601012#600","601011#210101|601012#210101",90,10800,{"$f":"T1356","v":"242#-131"},2,1949]
[null,"15404",4,"地狱15-40","1015",199,0,51011,205999,10100,"20001#20003#20011#20016#20004#20002#20018","17#3340|3#3375|14#3530|79#19","60103#1|60128#1|60138#1|60143#1",1004,20,"601011#400|601012#600","601011#210101|601012#210101",90,10800,{"$f":"T1357","v":"302#-123"},2,1950]
[null,"1015",5,"噩梦1-1","1025",199,0,51011,205999,10100,"20001#20003#20011#20016#20004#20002#20018","17#3340|3#3375|14#3530|79#19","60103#1|60128#1|60138#1|60143#1",1004,20,"601011#400|601012#600","601011#210101|601012#210101",90,10800,{"$f":"T1358","v":"433#-270"},1,1951]
[null,"1025",5,"噩梦1-2","1035",199,0,51011,205999,10100,"20001#20003#20011#20016#20004#20002#20018","17#3340|3#3375|14#3530|79#19","60103#1|60128#1|60138#1|60143#1",1004,20,"601011#400|601012#600","601011#210101|601012#210101",90,10800,{"$f":"T1359","v":"384#-278"},1,1952]
[null,"1035",5,"噩梦1-3","1045",199,0,51011,205999,10100,"20001#20003#20011#20016#20004#20002#20018","17#3340|3#3375|14#3530|79#19","60103#1|60128#1|60138#1|60143#1",1004,20,"601011#400|601012#600","601011#210101|601012#210101",90,10800,{"$f":"T1360","v":"348#-313"},1,1953]
[null,"1045",5,"噩梦1-4","1055",199,0,51011,205999,10100,"20001#20003#20011#20016#20004#20002#20018","17#3340|3#3375|14#3530|79#19","60103#1|60128#1|60138#1|60143#1",1004,20,"601011#400|601012#600","601011#210101|601012#210101",90,10800,{"$f":"T1361","v":"308#-338"},1,1954]
[null,"1055",5,"噩梦1-5","1065",199,0,51011,205999,10100,"20001#20003#20011#20016#20004#20002#20018","17#3340|3#3375|14#3530|79#19","60103#1|60128#1|60138#1|60143#1",1004,20,"601011#400|601012#600","601011#210101|601012#210101",90,10800,{"$f":"T1362","v":"259#-356"},1,1955]
[null,"1065",5,"噩梦1-6","1075",199,0,51011,205999,10100,"20001#20003#20011#20016#20004#20002#20018","17#3340|3#3375|14#3530|79#19","60103#1|60128#1|60138#1|60143#1",1004,20,"601011#400|601012#600","601011#210101|601012#210101",90,10800,{"$f":"T1363","v":"202#-368"},1,1956]
[null,"1075",5,"噩梦1-7","1085",199,0,51011,205999,10100,"20001#20003#20011#20016#20004#20002#20018","17#3340|3#3375|14#3530|79#19","60103#1|60128#1|60138#1|60143#1",1004,20,"601011#400|601012#600","601011#210101|601012#210101",90,10800,{"$f":"T1364","v":"149#-359"},1,1957]
[null,"1085",5,"噩梦1-8","1095",199,0,51011,205999,10100,"20001#20003#20011#20016#20004#20002#20018","17#3340|3#3375|14#3530|79#19","60103#1|60128#1|60138#1|60143#1",1004,20,"601011#400|601012#600","601011#210101|601012#210101",90,10800,{"$f":"T1365","v":"91#-345"},1,1958]
[null,"1095",5,"噩梦1-9","1105",199,0,51011,205999,10100,"20001#20003#20011#20016#20004#20002#20018","17#3340|3#3375|14#3530|79#19","60103#1|60128#1|60138#1|60143#1",1004,20,"601011#400|601012#600","601011#210101|601012#210101",90,10800,{"$f":"T1366","v":"35#-364"},1,1959]
[null,"1105",5,"噩梦1-10","1115",199,0,51011,205999,10100,"20001#20003#20011#20016#20004#20002#20018","17#3340|3#3375|14#3530|79#19","60103#1|60128#1|60138#1|60143#1",1004,20,"601011#400|601012#600","601011#210101|601012#210101",90,10800,{"$f":"T1367","v":"-15#-378"},1,1960]
[null,"1115",5,"噩梦1-11","1125",199,0,51011,205999,10100,"20001#20003#20011#20016#20004#20002#20018","17#3340|3#3375|14#3530|79#19","60103#1|60128#1|60138#1|60143#1",1004,20,"601011#400|601012#600","601011#210101|601012#210101",90,10800,{"$f":"T1368","v":"-68#-379"},1,1961]
[null,"1125",5,"噩梦1-12","1135",199,0,51011,205999,10100,"20001#20003#20011#20016#20004#20002#20018","17#3340|3#3375|14#3530|79#19","60103#1|60128#1|60138#1|60143#1",1004,20,"601011#400|601012#600","601011#210101|601012#210101",90,10800,{"$f":"T1369","v":"-119#-393"},1,1962]
[null,"1135",5,"噩梦1-13","1145",199,0,51011,205999,10100,"20001#20003#20011#20016#20004#20002#20018","17#3340|3#3375|14#3530|79#19","60103#1|60128#1|60138#1|60143#1",1004,20,"601011#400|601012#600","601011#210101|601012#210101",90,10800,{"$f":"T1370","v":"-160#-420"},1,1963]
[null,"1145",5,"噩梦1-14","1155",199,0,51011,205999,10100,"20001#20003#20011#20016#20004#20002#20018","17#3340|3#3375|14#3530|79#19","60103#1|60128#1|60138#1|60143#1",1004,20,"601011#400|601012#600","601011#210101|601012#210101",90,10800,{"$f":"T1371","v":"-202#-432"},1,1964]
[null,"1155",5,"噩梦1-15","1165",199,0,51011,205999,10100,"20001#20003#20011#20016#20004#20002#20018","17#3340|3#3375|14#3530|79#19","60103#1|60128#1|60138#1|60143#1",1004,20,"601011#400|601012#600","601011#210101|601012#210101",90,10800,{"$f":"T1372","v":"-245#-410"},1,1965]
[null,"1165",5,"噩梦1-16","1175",199,0,51011,205999,10100,"20001#20003#20011#20016#20004#20002#20018","17#3340|3#3375|14#3530|79#19","60103#1|60128#1|60138#1|60143#1",1004,20,"601011#400|601012#600","601011#210101|601012#210101",90,10800,{"$f":"T1373","v":"-242#-363"},1,1966]
[null,"1175",5,"噩梦1-17","1185",199,0,51011,205999,10100,"20001#20003#20011#20016#20004#20002#20018","17#3340|3#3375|14#3530|79#19","60103#1|60128#1|60138#1|60143#1",1004,20,"601011#400|601012#600","601011#210101|601012#210101",90,10800,{"$f":"T1374","v":"-225#-325"},1,1967]
[null,"1185",5,"噩梦1-18","1195",199,0,51011,205999,10100,"20001#20003#20011#20016#20004#20002#20018","17#3340|3#3375|14#3530|79#19","60103#1|60128#1|60138#1|60143#1",1004,20,"601011#400|601012#600","601011#210101|601012#210101",90,10800,{"$f":"T1375","v":"-245#-286"},1,1968]
[null,"1195",5,"噩梦1-19","1205",199,0,51011,205999,10100,"20001#20003#20011#20016#20004#20002#20018","17#3340|3#3375|14#3530|79#19","60103#1|60128#1|60138#1|60143#1",1004,20,"601011#400|601012#600","601011#210101|601012#210101",90,10800,{"$f":"T1376","v":"-292#-272"},1,1969]
[null,"1205",5,"噩梦1-20","1215",199,0,51011,205999,10100,"20001#20003#20011#20016#20004#20002#20018","17#3340|3#3375|14#3530|79#19","60103#1|60128#1|60138#1|60143#1",1004,20,"601011#400|601012#600","601011#210101|601012#210101",90,10800,{"$f":"T1377","v":"-338#-256"},1,1970]
[null,"1215",5,"噩梦1-21","1225",199,0,51011,205999,10100,"20001#20003#20011#20016#20004#20002#20018","17#3340|3#3375|14#3530|79#19","60103#1|60128#1|60138#1|60143#1",1004,20,"601011#400|601012#600","601011#210101|601012#210101",90,10800,{"$f":"T1378","v":"-366#-212"},1,1971]
[null,"1225",5,"噩梦1-22","1235",199,0,51011,205999,10100,"20001#20003#20011#20016#20004#20002#20018","17#3340|3#3375|14#3530|79#19","60103#1|60128#1|60138#1|60143#1",1004,20,"601011#400|601012#600","601011#210101|601012#210101",90,10800,{"$f":"T1379","v":"-339#-174"},2,1972]
[null,"1235",5,"噩梦1-23","1245",199,0,51011,205999,10100,"20001#20003#20011#20016#20004#20002#20018","17#3340|3#3375|14#3530|79#19","60103#1|60128#1|60138#1|60143#1",1004,20,"601011#400|601012#600","601011#210101|601012#210101",90,10800,{"$f":"T1380","v":"-294#-152"},2,1973]
[null,"1245",5,"噩梦1-24","1255",199,0,51011,205999,10100,"20001#20003#20011#20016#20004#20002#20018","17#3340|3#3375|14#3530|79#19","60103#1|60128#1|60138#1|60143#1",1004,20,"601011#400|601012#600","601011#210101|601012#210101",90,10800,{"$f":"T1381","v":"-243#-143"},2,1974]
[null,"1255",5,"噩梦1-25","1265",199,0,51011,205999,10100,"20001#20003#20011#20016#20004#20002#20018","17#3340|3#3375|14#3530|79#19","60103#1|60128#1|60138#1|60143#1",1004,20,"601011#400|601012#600","601011#210101|601012#210101",90,10800,{"$f":"T1382","v":"-191#-146"},2,1975]
[null,"1265",5,"噩梦1-26","1275",199,0,51011,205999,10100,"20001#20003#20011#20016#20004#20002#20018","17#3340|3#3375|14#3530|79#19","60103#1|60128#1|60138#1|60143#1",1004,20,"601011#400|601012#600","601011#210101|601012#210101",90,10800,{"$f":"T1383","v":"-163#-188"},2,1976]
[null,"1275",5,"噩梦1-27","1285",199,0,51011,205999,10100,"20001#20003#20011#20016#20004#20002#20018","17#3340|3#3375|14#3530|79#19","60103#1|60128#1|60138#1|60143#1",1004,20,"601011#400|601012#600","601011#210101|601012#210101",90,10800,{"$f":"T1384","v":"-164#-236"},2,1977]
[null,"1285",5,"噩梦1-28","1295",199,0,51011,205999,10100,"20001#20003#20011#20016#20004#20002#20018","17#3340|3#3375|14#3530|79#19","60103#1|60128#1|60138#1|60143#1",1004,20,"601011#400|601012#600","601011#210101|601012#210101",90,10800,{"$f":"T1385","v":"-123#-253"},2,1978]
[null,"1295",5,"噩梦1-29","1305",199,0,51011,205999,10100,"20001#20003#20011#20016#20004#20002#20018","17#3340|3#3375|14#3530|79#19","60103#1|60128#1|60138#1|60143#1",1004,20,"601011#400|601012#600","601011#210101|601012#210101",90,10800,{"$f":"T1386","v":"-73#-248"},2,1979]
[null,"1305",5,"噩梦1-30","1315",199,0,51011,205999,10100,"20001#20003#20011#20016#20004#20002#20018","17#3340|3#3375|14#3530|79#19","60103#1|60128#1|60138#1|60143#1",1004,20,"601011#400|601012#600","601011#210101|601012#210101",90,10800,{"$f":"T1387","v":"-24#-226"},2,1980]
[null,"1315",5,"噩梦1-31","1325",199,0,51011,205999,10100,"20001#20003#20011#20016#20004#20002#20018","17#3340|3#3375|14#3530|79#19","60103#1|60128#1|60138#1|60143#1",1004,20,"601011#400|601012#600","601011#210101|601012#210101",90,10800,{"$f":"T1388","v":"33#-222"},2,1981]
[null,"1325",5,"噩梦1-32","1335",199,0,51011,205999,10100,"20001#20003#20011#20016#20004#20002#20018","17#3340|3#3375|14#3530|79#19","60103#1|60128#1|60138#1|60143#1",1004,20,"601011#400|601012#600","601011#210101|601012#210101",90,10800,{"$f":"T1389","v":"81#-234"},2,1982]
[null,"1335",5,"噩梦1-33","1345",199,0,51011,205999,10100,"20001#20003#20011#20016#20004#20002#20018","17#3340|3#3375|14#3530|79#19","60103#1|60128#1|60138#1|60143#1",1004,20,"601011#400|601012#600","601011#210101|601012#210101",90,10800,{"$f":"T1390","v":"132#-245"},2,1983]
[null,"1345",5,"噩梦1-34","1355",199,0,51011,205999,10100,"20001#20003#20011#20016#20004#20002#20018","17#3340|3#3375|14#3530|79#19","60103#1|60128#1|60138#1|60143#1",1004,20,"601011#400|601012#600","601011#210101|601012#210101",90,10800,{"$f":"T1391","v":"185#-249"},2,1984]
[null,"1355",5,"噩梦1-35","1365",199,0,51011,205999,10100,"20001#20003#20011#20016#20004#20002#20018","17#3340|3#3375|14#3530|79#19","60103#1|60128#1|60138#1|60143#1",1004,20,"601011#400|601012#600","601011#210101|601012#210101",90,10800,{"$f":"T1392","v":"237#-244"},2,1985]
[null,"1365",5,"噩梦1-36","1375",199,0,51011,205999,10100,"20001#20003#20011#20016#20004#20002#20018","17#3340|3#3375|14#3530|79#19","60103#1|60128#1|60138#1|60143#1",1004,20,"601011#400|601012#600","601011#210101|601012#210101",90,10800,{"$f":"T1393","v":"265#-204"},2,1986]
[null,"1375",5,"噩梦1-37","1385",199,0,51011,205999,10100,"20001#20003#20011#20016#20004#20002#20018","17#3340|3#3375|14#3530|79#19","60103#1|60128#1|60138#1|60143#1",1004,20,"601011#400|601012#600","601011#210101|601012#210101",90,10800,{"$f":"T1394","v":"236#-168"},1,1987]
[null,"1385",5,"噩梦1-38","1395",199,0,51011,205999,10100,"20001#20003#20011#20016#20004#20002#20018","17#3340|3#3375|14#3530|79#19","60103#1|60128#1|60138#1|60143#1",1004,20,"601011#400|601012#600","601011#210101|601012#210101",90,10800,{"$f":"T1395","v":"188#-155"},1,1988]
[null,"1395",5,"噩梦1-39","1405",199,0,51011,205999,10100,"20001#20003#20011#20016#20004#20002#20018","17#3340|3#3375|14#3530|79#19","60103#1|60128#1|60138#1|60143#1",1004,20,"601011#400|601012#600","601011#210101|601012#210101",90,10800,{"$f":"T1396","v":"145#-147"},1,1989]
[null,"1405",5,"噩梦1-40","2015",199,0,51011,205999,10100,"20001#20003#20011#20016#20004#20002#20018","17#3340|3#3375|14#3530|79#19","60103#1|60128#1|60138#1|60143#1",1004,20,"601011#400|601012#600","601011#210101|601012#210101",90,10800,{"$f":"T1397","v":"97#-146"},1,1990]
[null,"2015",5,"噩梦2-1","2025",199,0,51011,205999,10100,"20001#20003#20011#20016#20004#20002#20018","17#3340|3#3375|14#3530|79#19","60103#1|60128#1|60138#1|60143#1",1004,20,"601011#400|601012#600","601011#210101|601012#210101",90,10800,{"$f":"T1398","v":"462#-73"},2,1991]
[null,"2025",5,"噩梦2-2","2035",199,0,51011,205999,10100,"20001#20003#20011#20016#20004#20002#20018","17#3340|3#3375|14#3530|79#19","60103#1|60128#1|60138#1|60143#1",1004,20,"601011#400|601012#600","601011#210101|601012#210101",90,10800,{"$f":"T1399","v":"479#-114"},1,1992]
[null,"2035",5,"噩梦2-3","2045",199,0,51011,205999,10100,"20001#20003#20011#20016#20004#20002#20018","17#3340|3#3375|14#3530|79#19","60103#1|60128#1|60138#1|60143#1",1004,20,"601011#400|601012#600","601011#210101|601012#210101",90,10800,{"$f":"T1400","v":"431#-142"},1,1993]
[null,"2045",5,"噩梦2-4","2055",199,0,51011,205999,10100,"20001#20003#20011#20016#20004#20002#20018","17#3340|3#3375|14#3530|79#19","60103#1|60128#1|60138#1|60143#1",1004,20,"601011#400|601012#600","601011#210101|601012#210101",90,10800,{"$f":"T1401","v":"473#-168"},2,1994]
[null,"2055",5,"噩梦2-5","2065",199,0,51011,205999,10100,"20001#20003#20011#20016#20004#20002#20018","17#3340|3#3375|14#3530|79#19","60103#1|60128#1|60138#1|60143#1",1004,20,"601011#400|601012#600","601011#210101|601012#210101",90,10800,{"$f":"T1402","v":"520#-194"},2,1995]
[null,"2065",5,"噩梦2-6","2075",199,0,51011,205999,10100,"20001#20003#20011#20016#20004#20002#20018","17#3340|3#3375|14#3530|79#19","60103#1|60128#1|60138#1|60143#1",1004,20,"601011#400|601012#600","601011#210101|601012#210101",90,10800,{"$f":"T1403","v":"525#-244"},1,1996]
[null,"2075",5,"噩梦2-7","2085",199,0,51011,205999,10100,"20001#20003#20011#20016#20004#20002#20018","17#3340|3#3375|14#3530|79#19","60103#1|60128#1|60138#1|60143#1",1004,20,"601011#400|601012#600","601011#210101|601012#210101",90,10800,{"$f":"T1404","v":"476#-275"},1,1997]
[null,"2085",5,"噩梦2-8","2095",199,0,51011,205999,10100,"20001#20003#20011#20016#20004#20002#20018","17#3340|3#3375|14#3530|79#19","60103#1|60128#1|60138#1|60143#1",1004,20,"601011#400|601012#600","601011#210101|601012#210101",90,10800,{"$f":"T1405","v":"414#-279"},1,1998]
[null,"2095",5,"噩梦2-9","2105",199,0,51011,205999,10100,"20001#20003#20011#20016#20004#20002#20018","17#3340|3#3375|14#3530|79#19","60103#1|60128#1|60138#1|60143#1",1004,20,"601011#400|601012#600","601011#210101|601012#210101",90,10800,{"$f":"T1406","v":"354#-289"},1,1999]
[null,"2105",5,"噩梦2-10","2115",199,0,51011,205999,10100,"20001#20003#20011#20016#20004#20002#20018","17#3340|3#3375|14#3530|79#19","60103#1|60128#1|60138#1|60143#1",1004,20,"601011#400|601012#600","601011#210101|601012#210101",90,10800,{"$f":"T1407","v":"300#-310"},1,2000]
[null,"2115",5,"噩梦2-11","2125",199,0,51011,205999,10100,"20001#20003#20011#20016#20004#20002#20018","17#3340|3#3375|14#3530|79#19","60103#1|60128#1|60138#1|60143#1",1004,20,"601011#400|601012#600","601011#210101|601012#210101",90,10800,{"$f":"T1408","v":"234#-313"},1,2001]
[null,"2125",5,"噩梦2-12","2135",199,0,51011,205999,10100,"20001#20003#20011#20016#20004#20002#20018","17#3340|3#3375|14#3530|79#19","60103#1|60128#1|60138#1|60143#1",1004,20,"601011#400|601012#600","601011#210101|601012#210101",90,10800,{"$f":"T1409","v":"197#-276"},1,2002]
[null,"2135",5,"噩梦2-13","2145",199,0,51011,205999,10100,"20001#20003#20011#20016#20004#20002#20018","17#3340|3#3375|14#3530|79#19","60103#1|60128#1|60138#1|60143#1",1004,20,"601011#400|601012#600","601011#210101|601012#210101",90,10800,{"$f":"T1410","v":"220#-224"},2,2003]
[null,"2145",5,"噩梦2-14","2155",199,0,51011,205999,10100,"20001#20003#20011#20016#20004#20002#20018","17#3340|3#3375|14#3530|79#19","60103#1|60128#1|60138#1|60143#1",1004,20,"601011#400|601012#600","601011#210101|601012#210101",90,10800,{"$f":"T1411","v":"188#-186"},1,2004]
[null,"2155",5,"噩梦2-15","2165",199,0,51011,205999,10100,"20001#20003#20011#20016#20004#20002#20018","17#3340|3#3375|14#3530|79#19","60103#1|60128#1|60138#1|60143#1",1004,20,"601011#400|601012#600","601011#210101|601012#210101",90,10800,{"$f":"T1412","v":"178#-143"},2,2005]
[null,"2165",5,"噩梦2-16","2175",199,0,51011,205999,10100,"20001#20003#20011#20016#20004#20002#20018","17#3340|3#3375|14#3530|79#19","60103#1|60128#1|60138#1|60143#1",1004,20,"601011#400|601012#600","601011#210101|601012#210101",90,10800,{"$f":"T1413","v":"225#-112"},2,2006]
[null,"2175",5,"噩梦2-17","2185",199,0,51011,205999,10100,"20001#20003#20011#20016#20004#20002#20018","17#3340|3#3375|14#3530|79#19","60103#1|60128#1|60138#1|60143#1",1004,20,"601011#400|601012#600","601011#210101|601012#210101",90,10800,{"$f":"T1414","v":"189#-80"},1,2007]
[null,"2185",5,"噩梦2-18","2195",199,0,51011,205999,10100,"20001#20003#20011#20016#20004#20002#20018","17#3340|3#3375|14#3530|79#19","60103#1|60128#1|60138#1|60143#1",1004,20,"601011#400|601012#600","601011#210101|601012#210101",90,10800,{"$f":"T1415","v":"133#-73"},1,2008]
[null,"2195",5,"噩梦2-19","2205",199,0,51011,205999,10100,"20001#20003#20011#20016#20004#20002#20018","17#3340|3#3375|14#3530|79#19","60103#1|60128#1|60138#1|60143#1",1004,20,"601011#400|601012#600","601011#210101|601012#210101",90,10800,{"$f":"T1416","v":"75#-77"},1,2009]
[null,"2205",5,"噩梦2-20","2215",199,0,51011,205999,10100,"20001#20003#20011#20016#20004#20002#20018","17#3340|3#3375|14#3530|79#19","60103#1|60128#1|60138#1|60143#1",1004,20,"601011#400|601012#600","601011#210101|601012#210101",90,10800,{"$f":"T1417","v":"20#-80"},1,2010]
[null,"2215",5,"噩梦2-21","2225",199,0,51011,205999,10100,"20001#20003#20011#20016#20004#20002#20018","17#3340|3#3375|14#3530|79#19","60103#1|60128#1|60138#1|60143#1",1004,20,"601011#400|601012#600","601011#210101|601012#210101",90,10800,{"$f":"T1418","v":"-43#-87"},1,2011]
[null,"2225",5,"噩梦2-22","2235",199,0,51011,205999,10100,"20001#20003#20011#20016#20004#20002#20018","17#3340|3#3375|14#3530|79#19","60103#1|60128#1|60138#1|60143#1",1004,20,"601011#400|601012#600","601011#210101|601012#210101",90,10800,{"$f":"T1419","v":"-68#-132"},1,2012]
[null,"2235",5,"噩梦2-23","2245",199,0,51011,205999,10100,"20001#20003#20011#20016#20004#20002#20018","17#3340|3#3375|14#3530|79#19","60103#1|60128#1|60138#1|60143#1",1004,20,"601011#400|601012#600","601011#210101|601012#210101",90,10800,{"$f":"T1420","v":"-45#-178"},2,2013]
[null,"2245",5,"噩梦2-24","2255",199,0,51011,205999,10100,"20001#20003#20011#20016#20004#20002#20018","17#3340|3#3375|14#3530|79#19","60103#1|60128#1|60138#1|60143#1",1004,20,"601011#400|601012#600","601011#210101|601012#210101",90,10800,{"$f":"T1421","v":"-4#-218"},2,2014]
[null,"2255",5,"噩梦2-25","2265",199,0,51011,205999,10100,"20001#20003#20011#20016#20004#20002#20018","17#3340|3#3375|14#3530|79#19","60103#1|60128#1|60138#1|60143#1",1004,20,"601011#400|601012#600","601011#210101|601012#210101",90,10800,{"$f":"T1422","v":"-1#-270"},1,2015]
[null,"2265",5,"噩梦2-26","2275",199,0,51011,205999,10100,"20001#20003#20011#20016#20004#20002#20018","17#3340|3#3375|14#3530|79#19","60103#1|60128#1|60138#1|60143#1",1004,20,"601011#400|601012#600","601011#210101|601012#210101",90,10800,{"$f":"T1423","v":"-40#-307"},1,2016]
[null,"2275",5,"噩梦2-27","2285",199,0,51011,205999,10100,"20001#20003#20011#20016#20004#20002#20018","17#3340|3#3375|14#3530|79#19","60103#1|60128#1|60138#1|60143#1",1004,20,"601011#400|601012#600","601011#210101|601012#210101",90,10800,{"$f":"T1424","v":"-92#-320"},1,2017]
[null,"2285",5,"噩梦2-28","2295",199,0,51011,205999,10100,"20001#20003#20011#20016#20004#20002#20018","17#3340|3#3375|14#3530|79#19","60103#1|60128#1|60138#1|60143#1",1004,20,"601011#400|601012#600","601011#210101|601012#210101",90,10800,{"$f":"T1425","v":"-144#-320"},1,2018]
[null,"2295",5,"噩梦2-29","2305",199,0,51011,205999,10100,"20001#20003#20011#20016#20004#20002#20018","17#3340|3#3375|14#3530|79#19","60103#1|60128#1|60138#1|60143#1",1004,20,"601011#400|601012#600","601011#210101|601012#210101",90,10800,{"$f":"T1426","v":"-194#-316"},1,2019]
[null,"2305",5,"噩梦2-30","2315",199,0,51011,205999,10100,"20001#20003#20011#20016#20004#20002#20018","17#3340|3#3375|14#3530|79#19","60103#1|60128#1|60138#1|60143#1",1004,20,"601011#400|601012#600","601011#210101|601012#210101",90,10800,{"$f":"T1427","v":"-245#-303"},1,2020]
[null,"2315",5,"噩梦2-31","2325",199,0,51011,205999,10100,"20001#20003#20011#20016#20004#20002#20018","17#3340|3#3375|14#3530|79#19","60103#1|60128#1|60138#1|60143#1",1004,20,"601011#400|601012#600","601011#210101|601012#210101",90,10800,{"$f":"T1428","v":"-292#-276"},1,2021]
[null,"2325",5,"噩梦2-32","2335",199,0,51011,205999,10100,"20001#20003#20011#20016#20004#20002#20018","17#3340|3#3375|14#3530|79#19","60103#1|60128#1|60138#1|60143#1",1004,20,"601011#400|601012#600","601011#210101|601012#210101",90,10800,{"$f":"T1429","v":"-331#-241"},1,2022]
[null,"2335",5,"噩梦2-33","2345",199,0,51011,205999,10100,"20001#20003#20011#20016#20004#20002#20018","17#3340|3#3375|14#3530|79#19","60103#1|60128#1|60138#1|60143#1",1004,20,"601011#400|601012#600","601011#210101|601012#210101",90,10800,{"$f":"T1430","v":"-379#-231"},1,2023]
[null,"2345",5,"噩梦2-34","2355",199,0,51011,205999,10100,"20001#20003#20011#20016#20004#20002#20018","17#3340|3#3375|14#3530|79#19","60103#1|60128#1|60138#1|60143#1",1004,20,"601011#400|601012#600","601011#210101|601012#210101",90,10800,{"$f":"T1431","v":"-416#-204"},1,2024]
[null,"2355",5,"噩梦2-35","2365",199,0,51011,205999,10100,"20001#20003#20011#20016#20004#20002#20018","17#3340|3#3375|14#3530|79#19","60103#1|60128#1|60138#1|60143#1",1004,20,"601011#400|601012#600","601011#210101|601012#210101",90,10800,{"$f":"T1432","v":"-395#-160"},2,2025]
[null,"2365",5,"噩梦2-36","2375",199,0,51011,205999,10100,"20001#20003#20011#20016#20004#20002#20018","17#3340|3#3375|14#3530|79#19","60103#1|60128#1|60138#1|60143#1",1004,20,"601011#400|601012#600","601011#210101|601012#210101",90,10800,{"$f":"T1433","v":"-337#-161"},2,2026]
[null,"2375",5,"噩梦2-37","2385",199,0,51011,205999,10100,"20001#20003#20011#20016#20004#20002#20018","17#3340|3#3375|14#3530|79#19","60103#1|60128#1|60138#1|60143#1",1004,20,"601011#400|601012#600","601011#210101|601012#210101",90,10800,{"$f":"T1434","v":"-283#-149"},2,2027]
[null,"2385",5,"噩梦2-38","2395",199,0,51011,205999,10100,"20001#20003#20011#20016#20004#20002#20018","17#3340|3#3375|14#3530|79#19","60103#1|60128#1|60138#1|60143#1",1004,20,"601011#400|601012#600","601011#210101|601012#210101",90,10800,{"$f":"T1435","v":"-283#-100"},1,2028]
[null,"2395",5,"噩梦2-39","2405",199,0,51011,205999,10100,"20001#20003#20011#20016#20004#20002#20018","17#3340|3#3375|14#3530|79#19","60103#1|60128#1|60138#1|60143#1",1004,20,"601011#400|601012#600","601011#210101|601012#210101",90,10800,{"$f":"T1436","v":"-298#-52"},2,2029]
[null,"2405",5,"噩梦2-40","3015",199,0,51011,205999,10100,"20001#20003#20011#20016#20004#20002#20018","17#3340|3#3375|14#3530|79#19","60103#1|60128#1|60138#1|60143#1",1004,20,"601011#400|601012#600","601011#210101|601012#210101",90,10800,{"$f":"T1437","v":"-249#-34"},2,2030]
[null,"3015",5,"噩梦3-1","3025",199,0,51011,205999,10100,"20001#20003#20011#20016#20004#20002#20018","17#3340|3#3375|14#3530|79#19","60103#1|60128#1|60138#1|60143#1",1004,20,"601011#400|601012#600","601011#210101|601012#210101",90,10800,{"$f":"T1438","v":"443#-349"},2,2031]
[null,"3025",5,"噩梦3-2","3035",199,0,51011,205999,10100,"20001#20003#20011#20016#20004#20002#20018","17#3340|3#3375|14#3530|79#19","60103#1|60128#1|60138#1|60143#1",1004,20,"601011#400|601012#600","601011#210101|601012#210101",90,10800,{"$f":"T1439","v":"505#-335"},2,2032]
[null,"3035",5,"噩梦3-3","3045",199,0,51011,205999,10100,"20001#20003#20011#20016#20004#20002#20018","17#3340|3#3375|14#3530|79#19","60103#1|60128#1|60138#1|60143#1",1004,20,"601011#400|601012#600","601011#210101|601012#210101",90,10800,{"$f":"T1440","v":"528#-285"},1,2033]
[null,"3045",5,"噩梦3-4","3055",199,0,51011,205999,10100,"20001#20003#20011#20016#20004#20002#20018","17#3340|3#3375|14#3530|79#19","60103#1|60128#1|60138#1|60143#1",1004,20,"601011#400|601012#600","601011#210101|601012#210101",90,10800,{"$f":"T1441","v":"470#-254"},1,2034]
[null,"3055",5,"噩梦3-5","3065",199,0,51011,205999,10100,"20001#20003#20011#20016#20004#20002#20018","17#3340|3#3375|14#3530|79#19","60103#1|60128#1|60138#1|60143#1",1004,20,"601011#400|601012#600","601011#210101|601012#210101",90,10800,{"$f":"T1442","v":"400#-240"},1,2035]
[null,"3065",5,"噩梦3-6","3075",199,0,51011,205999,10100,"20001#20003#20011#20016#20004#20002#20018","17#3340|3#3375|14#3530|79#19","60103#1|60128#1|60138#1|60143#1",1004,20,"601011#400|601012#600","601011#210101|601012#210101",90,10800,{"$f":"T1443","v":"333#-234"},1,2036]
[null,"3075",5,"噩梦3-7","3085",199,0,51011,205999,10100,"20001#20003#20011#20016#20004#20002#20018","17#3340|3#3375|14#3530|79#19","60103#1|60128#1|60138#1|60143#1",1004,20,"601011#400|601012#600","601011#210101|601012#210101",90,10800,{"$f":"T1444","v":"269#-224"},1,2037]
[null,"3085",5,"噩梦3-8","3095",199,0,51011,205999,10100,"20001#20003#20011#20016#20004#20002#20018","17#3340|3#3375|14#3530|79#19","60103#1|60128#1|60138#1|60143#1",1004,20,"601011#400|601012#600","601011#210101|601012#210101",90,10800,{"$f":"T1445","v":"278#-175"},2,2038]
[null,"3095",5,"噩梦3-9","3105",199,0,51011,205999,10100,"20001#20003#20011#20016#20004#20002#20018","17#3340|3#3375|14#3530|79#19","60103#1|60128#1|60138#1|60143#1",1004,20,"601011#400|601012#600","601011#210101|601012#210101",90,10800,{"$f":"T1446","v":"320#-139"},1,2039]
[null,"3105",5,"噩梦3-10","3115",199,0,51011,205999,10100,"20001#20003#20011#20016#20004#20002#20018","17#3340|3#3375|14#3530|79#19","60103#1|60128#1|60138#1|60143#1",1004,20,"601011#400|601012#600","601011#210101|601012#210101",90,10800,{"$f":"T1447","v":"257#-127"},1,2040]
[null,"3115",5,"噩梦3-11","3125",199,0,51011,205999,10100,"20001#20003#20011#20016#20004#20002#20018","17#3340|3#3375|14#3530|79#19","60103#1|60128#1|60138#1|60143#1",1004,20,"601011#400|601012#600","601011#210101|601012#210101",90,10800,{"$f":"T1448","v":"189#-128"},1,2041]
[null,"3125",5,"噩梦3-12","3135",199,0,51011,205999,10100,"20001#20003#20011#20016#20004#20002#20018","17#3340|3#3375|14#3530|79#19","60103#1|60128#1|60138#1|60143#1",1004,20,"601011#400|601012#600","601011#210101|601012#210101",90,10800,{"$f":"T1449","v":"125#-141"},1,2042]
[null,"3135",5,"噩梦3-13","3145",199,0,51011,205999,10100,"20001#20003#20011#20016#20004#20002#20018","17#3340|3#3375|14#3530|79#19","60103#1|60128#1|60138#1|60143#1",1004,20,"601011#400|601012#600","601011#210101|601012#210101",90,10800,{"$f":"T1450","v":"67#-166"},1,2043]
[null,"3145",5,"噩梦3-14","3155",199,0,51011,205999,10100,"20001#20003#20011#20016#20004#20002#20018","17#3340|3#3375|14#3530|79#19","60103#1|60128#1|60138#1|60143#1",1004,20,"601011#400|601012#600","601011#210101|601012#210101",90,10800,{"$f":"T1451","v":"11#-172"},1,2044]
[null,"3155",5,"噩梦3-15","3165",199,0,51011,205999,10100,"20001#20003#20011#20016#20004#20002#20018","17#3340|3#3375|14#3530|79#19","60103#1|60128#1|60138#1|60143#1",1004,20,"601011#400|601012#600","601011#210101|601012#210101",90,10800,{"$f":"T1452","v":"-53#-155"},1,2045]
[null,"3165",5,"噩梦3-16","3175",199,0,51011,205999,10100,"20001#20003#20011#20016#20004#20002#20018","17#3340|3#3375|14#3530|79#19","60103#1|60128#1|60138#1|60143#1",1004,20,"601011#400|601012#600","601011#210101|601012#210101",90,10800,{"$f":"T1453","v":"-113#-151"},1,2046]
[null,"3175",5,"噩梦3-17","3185",199,0,51011,205999,10100,"20001#20003#20011#20016#20004#20002#20018","17#3340|3#3375|14#3530|79#19","60103#1|60128#1|60138#1|60143#1",1004,20,"601011#400|601012#600","601011#210101|601012#210101",90,10800,{"$f":"T1454","v":"-136#-186"},2,2047]
[null,"3185",5,"噩梦3-18","3195",199,0,51011,205999,10100,"20001#20003#20011#20016#20004#20002#20018","17#3340|3#3375|14#3530|79#19","60103#1|60128#1|60138#1|60143#1",1004,20,"601011#400|601012#600","601011#210101|601012#210101",90,10800,{"$f":"T1455","v":"-110#-228"},1,2048]
[null,"3195",5,"噩梦3-19","3205",199,0,51011,205999,10100,"20001#20003#20011#20016#20004#20002#20018","17#3340|3#3375|14#3530|79#19","60103#1|60128#1|60138#1|60143#1",1004,20,"601011#400|601012#600","601011#210101|601012#210101",90,10800,{"$f":"T1456","v":"-185#-228"},1,2049]
[null,"3205",5,"噩梦3-20","3215",199,0,51011,205999,10100,"20001#20003#20011#20016#20004#20002#20018","17#3340|3#3375|14#3530|79#19","60103#1|60128#1|60138#1|60143#1",1004,20,"601011#400|601012#600","601011#210101|601012#210101",90,10800,{"$f":"T1457","v":"-242#-218"},1,2050]
[null,"3215",5,"噩梦3-21","3225",199,0,51011,205999,10100,"20001#20003#20011#20016#20004#20002#20018","17#3340|3#3375|14#3530|79#19","60103#1|60128#1|60138#1|60143#1",1004,20,"601011#400|601012#600","601011#210101|601012#210101",90,10800,{"$f":"T1458","v":"-298#-201"},1,2051]
[null,"3225",5,"噩梦3-22","3235",199,0,51011,205999,10100,"20001#20003#20011#20016#20004#20002#20018","17#3340|3#3375|14#3530|79#19","60103#1|60128#1|60138#1|60143#1",1004,20,"601011#400|601012#600","601011#210101|601012#210101",90,10800,{"$f":"T1459","v":"-356#-200"},1,2052]
[null,"3235",5,"噩梦3-23","3245",199,0,51011,205999,10100,"20001#20003#20011#20016#20004#20002#20018","17#3340|3#3375|14#3530|79#19","60103#1|60128#1|60138#1|60143#1",1004,20,"601011#400|601012#600","601011#210101|601012#210101",90,10800,{"$f":"T1460","v":"-411#-193"},1,2053]
[null,"3245",5,"噩梦3-24","3255",199,0,51011,205999,10100,"20001#20003#20011#20016#20004#20002#20018","17#3340|3#3375|14#3530|79#19","60103#1|60128#1|60138#1|60143#1",1004,20,"601011#400|601012#600","601011#210101|601012#210101",90,10800,{"$f":"T1461","v":"-393#-148"},2,2054]
[null,"3255",5,"噩梦3-25","3265",199,0,51011,205999,10100,"20001#20003#20011#20016#20004#20002#20018","17#3340|3#3375|14#3530|79#19","60103#1|60128#1|60138#1|60143#1",1004,20,"601011#400|601012#600","601011#210101|601012#210101",90,10800,{"$f":"T1462","v":"-336#-129"},2,2055]
[null,"3265",5,"噩梦3-26","3275",199,0,51011,205999,10100,"20001#20003#20011#20016#20004#20002#20018","17#3340|3#3375|14#3530|79#19","60103#1|60128#1|60138#1|60143#1",1004,20,"601011#400|601012#600","601011#210101|601012#210101",90,10800,{"$f":"T1463","v":"-274#-125"},2,2056]
[null,"3275",5,"噩梦3-27","3285",199,0,51011,205999,10100,"20001#20003#20011#20016#20004#20002#20018","17#3340|3#3375|14#3530|79#19","60103#1|60128#1|60138#1|60143#1",1004,20,"601011#400|601012#600","601011#210101|601012#210101",90,10800,{"$f":"T1464","v":"-218#-129"},2,2057]
[null,"3285",5,"噩梦3-28","3295",199,0,51011,205999,10100,"20001#20003#20011#20016#20004#20002#20018","17#3340|3#3375|14#3530|79#19","60103#1|60128#1|60138#1|60143#1",1004,20,"601011#400|601012#600","601011#210101|601012#210101",90,10800,{"$f":"T1465","v":"-159#-111"},2,2058]
[null,"3295",5,"噩梦3-29","3305",199,0,51011,205999,10100,"20001#20003#20011#20016#20004#20002#20018","17#3340|3#3375|14#3530|79#19","60103#1|60128#1|60138#1|60143#1",1004,20,"601011#400|601012#600","601011#210101|601012#210101",90,10800,{"$f":"T1466","v":"-186#-72"},1,2059]
[null,"3305",5,"噩梦3-30","3315",199,0,51011,205999,10100,"20001#20003#20011#20016#20004#20002#20018","17#3340|3#3375|14#3530|79#19","60103#1|60128#1|60138#1|60143#1",1004,20,"601011#400|601012#600","601011#210101|601012#210101",90,10800,{"$f":"T1467","v":"-247#-52"},1,2060]
[null,"3315",5,"噩梦3-31","3325",199,0,51011,205999,10100,"20001#20003#20011#20016#20004#20002#20018","17#3340|3#3375|14#3530|79#19","60103#1|60128#1|60138#1|60143#1",1004,20,"601011#400|601012#600","601011#210101|601012#210101",90,10800,{"$f":"T1468","v":"-224#2"},2,2061]
[null,"3325",5,"噩梦3-32","3335",199,0,51011,205999,10100,"20001#20003#20011#20016#20004#20002#20018","17#3340|3#3375|14#3530|79#19","60103#1|60128#1|60138#1|60143#1",1004,20,"601011#400|601012#600","601011#210101|601012#210101",90,10800,{"$f":"T1469","v":"-164#11"},2,2062]
[null,"3335",5,"噩梦3-33","3345",199,0,51011,205999,10100,"20001#20003#20011#20016#20004#20002#20018","17#3340|3#3375|14#3530|79#19","60103#1|60128#1|60138#1|60143#1",1004,20,"601011#400|601012#600","601011#210101|601012#210101",90,10800,{"$f":"T1470","v":"-105#24"},2,2063]
[null,"3345",5,"噩梦3-34","3355",199,0,51011,205999,10100,"20001#20003#20011#20016#20004#20002#20018","17#3340|3#3375|14#3530|79#19","60103#1|60128#1|60138#1|60143#1",1004,20,"601011#400|601012#600","601011#210101|601012#210101",90,10800,{"$f":"T1471","v":"-52#44"},2,2064]
[null,"3355",5,"噩梦3-35","3365",199,0,51011,205999,10100,"20001#20003#20011#20016#20004#20002#20018","17#3340|3#3375|14#3530|79#19","60103#1|60128#1|60138#1|60143#1",1004,20,"601011#400|601012#600","601011#210101|601012#210101",90,10800,{"$f":"T1472","v":"3#38"},2,2065]
[null,"3365",5,"噩梦3-36","3375",199,0,51011,205999,10100,"20001#20003#20011#20016#20004#20002#20018","17#3340|3#3375|14#3530|79#19","60103#1|60128#1|60138#1|60143#1",1004,20,"601011#400|601012#600","601011#210101|601012#210101",90,10800,{"$f":"T1473","v":"60#39"},2,2066]
[null,"3375",5,"噩梦3-37","3385",199,0,51011,205999,10100,"20001#20003#20011#20016#20004#20002#20018","17#3340|3#3375|14#3530|79#19","60103#1|60128#1|60138#1|60143#1",1004,20,"601011#400|601012#600","601011#210101|601012#210101",90,10800,{"$f":"T1474","v":"71#85"},1,2067]
[null,"3385",5,"噩梦3-38","3395",199,0,51011,205999,10100,"20001#20003#20011#20016#20004#20002#20018","17#3340|3#3375|14#3530|79#19","60103#1|60128#1|60138#1|60143#1",1004,20,"601011#400|601012#600","601011#210101|601012#210101",90,10800,{"$f":"T1475","v":"20#104"},1,2068]
[null,"3395",5,"噩梦3-39","3405",199,0,51011,205999,10100,"20001#20003#20011#20016#20004#20002#20018","17#3340|3#3375|14#3530|79#19","60103#1|60128#1|60138#1|60143#1",1004,20,"601011#400|601012#600","601011#210101|601012#210101",90,10800,{"$f":"T1476","v":"-32#110"},1,2069]
[null,"3405",5,"噩梦3-40","4015",199,0,51011,205999,10100,"20001#20003#20011#20016#20004#20002#20018","17#3340|3#3375|14#3530|79#19","60103#1|60128#1|60138#1|60143#1",1004,20,"601011#400|601012#600","601011#210101|601012#210101",90,10800,{"$f":"T1477","v":"-69#150"},1,2070]
[null,"4015",5,"噩梦4-1","4025",199,0,51011,205999,10100,"20001#20003#20011#20016#20004#20002#20018","17#3340|3#3375|14#3530|79#19","60103#1|60128#1|60138#1|60143#1",1004,20,"601011#400|601012#600","601011#210101|601012#210101",90,10800,{"$f":"T1478","v":"-378#-180"},2,2071]
[null,"4025",5,"噩梦4-2","4035",199,0,51011,205999,10100,"20001#20003#20011#20016#20004#20002#20018","17#3340|3#3375|14#3530|79#19","60103#1|60128#1|60138#1|60143#1",1004,20,"601011#400|601012#600","601011#210101|601012#210101",90,10800,{"$f":"T1479","v":"-314#-176"},2,2072]
[null,"4035",5,"噩梦4-3","4045",199,0,51011,205999,10100,"20001#20003#20011#20016#20004#20002#20018","17#3340|3#3375|14#3530|79#19","60103#1|60128#1|60138#1|60143#1",1004,20,"601011#400|601012#600","601011#210101|601012#210101",90,10800,{"$f":"T1480","v":"-254#-183"},2,2073]
[null,"4045",5,"噩梦4-4","4055",199,0,51011,205999,10100,"20001#20003#20011#20016#20004#20002#20018","17#3340|3#3375|14#3530|79#19","60103#1|60128#1|60138#1|60143#1",1004,20,"601011#400|601012#600","601011#210101|601012#210101",90,10800,{"$f":"T1481","v":"-205#-204"},2,2074]
[null,"4055",5,"噩梦4-5","4065",199,0,51011,205999,10100,"20001#20003#20011#20016#20004#20002#20018","17#3340|3#3375|14#3530|79#19","60103#1|60128#1|60138#1|60143#1",1004,20,"601011#400|601012#600","601011#210101|601012#210101",90,10800,{"$f":"T1482","v":"-152#-235"},2,2075]
[null,"4065",5,"噩梦4-6","4075",199,0,51011,205999,10100,"20001#20003#20011#20016#20004#20002#20018","17#3340|3#3375|14#3530|79#19","60103#1|60128#1|60138#1|60143#1",1004,20,"601011#400|601012#600","601011#210101|601012#210101",90,10800,{"$f":"T1483","v":"-110#-286"},2,2076]
[null,"4075",5,"噩梦4-7","4085",199,0,51011,205999,10100,"20001#20003#20011#20016#20004#20002#20018","17#3340|3#3375|14#3530|79#19","60103#1|60128#1|60138#1|60143#1",1004,20,"601011#400|601012#600","601011#210101|601012#210101",90,10800,{"$f":"T1484","v":"-67#-326"},2,2077]
[null,"4085",5,"噩梦4-8","4095",199,0,51011,205999,10100,"20001#20003#20011#20016#20004#20002#20018","17#3340|3#3375|14#3530|79#19","60103#1|60128#1|60138#1|60143#1",1004,20,"601011#400|601012#600","601011#210101|601012#210101",90,10800,{"$f":"T1485","v":"-15#-359"},2,2078]
[null,"4095",5,"噩梦4-9","4105",199,0,51011,205999,10100,"20001#20003#20011#20016#20004#20002#20018","17#3340|3#3375|14#3530|79#19","60103#1|60128#1|60138#1|60143#1",1004,20,"601011#400|601012#600","601011#210101|601012#210101",90,10800,{"$f":"T1486","v":"57#-373"},2,2079]
[null,"4105",5,"噩梦4-10","4115",199,0,51011,205999,10100,"20001#20003#20011#20016#20004#20002#20018","17#3340|3#3375|14#3530|79#19","60103#1|60128#1|60138#1|60143#1",1004,20,"601011#400|601012#600","601011#210101|601012#210101",90,10800,{"$f":"T1487","v":"78#-328"},1,2080]
[null,"4115",5,"噩梦4-11","4125",199,0,51011,205999,10100,"20001#20003#20011#20016#20004#20002#20018","17#3340|3#3375|14#3530|79#19","60103#1|60128#1|60138#1|60143#1",1004,20,"601011#400|601012#600","601011#210101|601012#210101",90,10800,{"$f":"T1488","v":"59#-278"},2,2081]
[null,"4125",5,"噩梦4-12","4135",199,0,51011,205999,10100,"20001#20003#20011#20016#20004#20002#20018","17#3340|3#3375|14#3530|79#19","60103#1|60128#1|60138#1|60143#1",1004,20,"601011#400|601012#600","601011#210101|601012#210101",90,10800,{"$f":"T1489","v":"119#-273"},2,2082]
[null,"4135",5,"噩梦4-13","4145",199,0,51011,205999,10100,"20001#20003#20011#20016#20004#20002#20018","17#3340|3#3375|14#3530|79#19","60103#1|60128#1|60138#1|60143#1",1004,20,"601011#400|601012#600","601011#210101|601012#210101",90,10800,{"$f":"T1490","v":"182#-283"},2,2083]
[null,"4145",5,"噩梦4-14","4155",199,0,51011,205999,10100,"20001#20003#20011#20016#20004#20002#20018","17#3340|3#3375|14#3530|79#19","60103#1|60128#1|60138#1|60143#1",1004,20,"601011#400|601012#600","601011#210101|601012#210101",90,10800,{"$f":"T1491","v":"241#-297"},2,2084]
[null,"4155",5,"噩梦4-15","4165",199,0,51011,205999,10100,"20001#20003#20011#20016#20004#20002#20018","17#3340|3#3375|14#3530|79#19","60103#1|60128#1|60138#1|60143#1",1004,20,"601011#400|601012#600","601011#210101|601012#210101",90,10800,{"$f":"T1492","v":"314#-299"},2,2085]
[null,"4165",5,"噩梦4-16","4175",199,0,51011,205999,10100,"20001#20003#20011#20016#20004#20002#20018","17#3340|3#3375|14#3530|79#19","60103#1|60128#1|60138#1|60143#1",1004,20,"601011#400|601012#600","601011#210101|601012#210101",90,10800,{"$f":"T1493","v":"374#-279"},2,2086]
[null,"4175",5,"噩梦4-17","4185",199,0,51011,205999,10100,"20001#20003#20011#20016#20004#20002#20018","17#3340|3#3375|14#3530|79#19","60103#1|60128#1|60138#1|60143#1",1004,20,"601011#400|601012#600","601011#210101|601012#210101",90,10800,{"$f":"T1494","v":"389#-222"},1,2087]
[null,"4185",5,"噩梦4-18","4195",199,0,51011,205999,10100,"20001#20003#20011#20016#20004#20002#20018","17#3340|3#3375|14#3530|79#19","60103#1|60128#1|60138#1|60143#1",1004,20,"601011#400|601012#600","601011#210101|601012#210101",90,10800,{"$f":"T1495","v":"335#-192"},1,2088]
[null,"4195",5,"噩梦4-19","4205",199,0,51011,205999,10100,"20001#20003#20011#20016#20004#20002#20018","17#3340|3#3375|14#3530|79#19","60103#1|60128#1|60138#1|60143#1",1004,20,"601011#400|601012#600","601011#210101|601012#210101",90,10800,{"$f":"T1496","v":"279#-192"},1,2089]
[null,"4205",5,"噩梦4-20","4215",199,0,51011,205999,10100,"20001#20003#20011#20016#20004#20002#20018","17#3340|3#3375|14#3530|79#19","60103#1|60128#1|60138#1|60143#1",1004,20,"601011#400|601012#600","601011#210101|601012#210101",90,10800,{"$f":"T1497","v":"213#-201"},1,2090]
[null,"4215",5,"噩梦4-21","4225",199,0,51011,205999,10100,"20001#20003#20011#20016#20004#20002#20018","17#3340|3#3375|14#3530|79#19","60103#1|60128#1|60138#1|60143#1",1004,20,"601011#400|601012#600","601011#210101|601012#210101",90,10800,{"$f":"T1498","v":"151#-197"},1,2091]
[null,"4225",5,"噩梦4-22","4235",199,0,51011,205999,10100,"20001#20003#20011#20016#20004#20002#20018","17#3340|3#3375|14#3530|79#19","60103#1|60128#1|60138#1|60143#1",1004,20,"601011#400|601012#600","601011#210101|601012#210101",90,10800,{"$f":"T1499","v":"91#-179"},1,2092]
[null,"4235",5,"噩梦4-23","4245",199,0,51011,205999,10100,"20001#20003#20011#20016#20004#20002#20018","17#3340|3#3375|14#3530|79#19","60103#1|60128#1|60138#1|60143#1",1004,20,"601011#400|601012#600","601011#210101|601012#210101",90,10800,{"$f":"T1500","v":"120#-135"},2,2093]
[null,"4245",5,"噩梦4-24","4255",199,0,51011,205999,10100,"20001#20003#20011#20016#20004#20002#20018","17#3340|3#3375|14#3530|79#19","60103#1|60128#1|60138#1|60143#1",1004,20,"601011#400|601012#600","601011#210101|601012#210101",90,10800,{"$f":"T1501","v":"86#-98"},1,2094]
[null,"4255",5,"噩梦4-25","4265",199,0,51011,205999,10100,"20001#20003#20011#20016#20004#20002#20018","17#3340|3#3375|14#3530|79#19","60103#1|60128#1|60138#1|60143#1",1004,20,"601011#400|601012#600","601011#210101|601012#210101",90,10800,{"$f":"T1502","v":"26#-108"},1,2095]
[null,"4265",5,"噩梦4-26","4275",199,0,51011,205999,10100,"20001#20003#20011#20016#20004#20002#20018","17#3340|3#3375|14#3530|79#19","60103#1|60128#1|60138#1|60143#1",1004,20,"601011#400|601012#600","601011#210101|601012#210101",90,10800,{"$f":"T1503","v":"-42#-116"},1,2096]
[null,"4275",5,"噩梦4-27","4285",199,0,51011,205999,10100,"20001#20003#20011#20016#20004#20002#20018","17#3340|3#3375|14#3530|79#19","60103#1|60128#1|60138#1|60143#1",1004,20,"601011#400|601012#600","601011#210101|601012#210101",90,10800,{"$f":"T1504","v":"-109#-121"},1,2097]
[null,"4285",5,"噩梦4-28","4295",199,0,51011,205999,10100,"20001#20003#20011#20016#20004#20002#20018","17#3340|3#3375|14#3530|79#19","60103#1|60128#1|60138#1|60143#1",1004,20,"601011#400|601012#600","601011#210101|601012#210101",90,10800,{"$f":"T1505","v":"-176#-115"},1,2098]
[null,"4295",5,"噩梦4-29","4305",199,0,51011,205999,10100,"20001#20003#20011#20016#20004#20002#20018","17#3340|3#3375|14#3530|79#19","60103#1|60128#1|60138#1|60143#1",1004,20,"601011#400|601012#600","601011#210101|601012#210101",90,10800,{"$f":"T1506","v":"-219#-78"},1,2099]
[null,"4305",5,"噩梦4-30","4315",199,0,51011,205999,10100,"20001#20003#20011#20016#20004#20002#20018","17#3340|3#3375|14#3530|79#19","60103#1|60128#1|60138#1|60143#1",1004,20,"601011#400|601012#600","601011#210101|601012#210101",90,10800,{"$f":"T1507","v":"-171#-43"},2,2100]
[null,"4315",5,"噩梦4-31","4325",199,0,51011,205999,10100,"20001#20003#20011#20016#20004#20002#20018","17#3340|3#3375|14#3530|79#19","60103#1|60128#1|60138#1|60143#1",1004,20,"601011#400|601012#600","601011#210101|601012#210101",90,10800,{"$f":"T1508","v":"-109#-34"},2,2101]
[null,"4325",5,"噩梦4-32","4335",199,0,51011,205999,10100,"20001#20003#20011#20016#20004#20002#20018","17#3340|3#3375|14#3530|79#19","60103#1|60128#1|60138#1|60143#1",1004,20,"601011#400|601012#600","601011#210101|601012#210101",90,10800,{"$f":"T1509","v":"-47#-31"},2,2102]
[null,"4335",5,"噩梦4-33","4345",199,0,51011,205999,10100,"20001#20003#20011#20016#20004#20002#20018","17#3340|3#3375|14#3530|79#19","60103#1|60128#1|60138#1|60143#1",1004,20,"601011#400|601012#600","601011#210101|601012#210101",90,10800,{"$f":"T1510","v":"10#-14"},2,2103]
[null,"4345",5,"噩梦4-34","4355",199,0,51011,205999,10100,"20001#20003#20011#20016#20004#20002#20018","17#3340|3#3375|14#3530|79#19","60103#1|60128#1|60138#1|60143#1",1004,20,"601011#400|601012#600","601011#210101|601012#210101",90,10800,{"$f":"T1511","v":"61#11"},2,2104]
[null,"4355",5,"噩梦4-35","4365",199,0,51011,205999,10100,"20001#20003#20011#20016#20004#20002#20018","17#3340|3#3375|14#3530|79#19","60103#1|60128#1|60138#1|60143#1",1004,20,"601011#400|601012#600","601011#210101|601012#210101",90,10800,{"$f":"T1512","v":"131#13"},2,2105]
[null,"4365",5,"噩梦4-36","4375",199,0,51011,205999,10100,"20001#20003#20011#20016#20004#20002#20018","17#3340|3#3375|14#3530|79#19","60103#1|60128#1|60138#1|60143#1",1004,20,"601011#400|601012#600","601011#210101|601012#210101",90,10800,{"$f":"T1513","v":"194#-9"},2,2106]
[null,"4375",5,"噩梦4-37","4385",199,0,51011,205999,10100,"20001#20003#20011#20016#20004#20002#20018","17#3340|3#3375|14#3530|79#19","60103#1|60128#1|60138#1|60143#1",1004,20,"601011#400|601012#600","601011#210101|601012#210101",90,10800,{"$f":"T1514","v":"253#-15"},2,2107]
[null,"4385",5,"噩梦4-38","4395",199,0,51011,205999,10100,"20001#20003#20011#20016#20004#20002#20018","17#3340|3#3375|14#3530|79#19","60103#1|60128#1|60138#1|60143#1",1004,20,"601011#400|601012#600","601011#210101|601012#210101",90,10800,{"$f":"T1515","v":"313#-9"},2,2108]
[null,"4395",5,"噩梦4-39","4405",199,0,51011,205999,10100,"20001#20003#20011#20016#20004#20002#20018","17#3340|3#3375|14#3530|79#19","60103#1|60128#1|60138#1|60143#1",1004,20,"601011#400|601012#600","601011#210101|601012#210101",90,10800,{"$f":"T1516","v":"342#29"},2,2109]
[null,"4405",5,"噩梦4-40","5015",199,0,51011,205999,10100,"20001#20003#20011#20016#20004#20002#20018","17#3340|3#3375|14#3530|79#19","60103#1|60128#1|60138#1|60143#1",1004,20,"601011#400|601012#600","601011#210101|601012#210101",90,10800,{"$f":"T1517","v":"308#74"},1,2110]
[null,"5015",5,"噩梦5-1","5025",199,0,51011,205999,10100,"20001#20003#20011#20016#20004#20002#20018","17#3340|3#3375|14#3530|79#19","60103#1|60128#1|60138#1|60143#1",1004,20,"601011#400|601012#600","601011#210101|601012#210101",90,10800,{"$f":"T1518","v":"293#-348"},2,2111]
[null,"5025",5,"噩梦5-2","5035",199,0,51011,205999,10100,"20001#20003#20011#20016#20004#20002#20018","17#3340|3#3375|14#3530|79#19","60103#1|60128#1|60138#1|60143#1",1004,20,"601011#400|601012#600","601011#210101|601012#210101",90,10800,{"$f":"T1519","v":"354#-296"},2,2112]
[null,"5035",5,"噩梦5-3","5045",199,0,51011,205999,10100,"20001#20003#20011#20016#20004#20002#20018","17#3340|3#3375|14#3530|79#19","60103#1|60128#1|60138#1|60143#1",1004,20,"601011#400|601012#600","601011#210101|601012#210101",90,10800,{"$f":"T1520","v":"286#-267"},1,2113]
[null,"5045",5,"噩梦5-4","5055",199,0,51011,205999,10100,"20001#20003#20011#20016#20004#20002#20018","17#3340|3#3375|14#3530|79#19","60103#1|60128#1|60138#1|60143#1",1004,20,"601011#400|601012#600","601011#210101|601012#210101",90,10800,{"$f":"T1521","v":"208#-263"},1,2114]
[null,"5055",5,"噩梦5-5","5065",199,0,51011,205999,10100,"20001#20003#20011#20016#20004#20002#20018","17#3340|3#3375|14#3530|79#19","60103#1|60128#1|60138#1|60143#1",1004,20,"601011#400|601012#600","601011#210101|601012#210101",90,10800,{"$f":"T1522","v":"170#-210"},2,2115]
[null,"5065",5,"噩梦5-6","5075",199,0,51011,205999,10100,"20001#20003#20011#20016#20004#20002#20018","17#3340|3#3375|14#3530|79#19","60103#1|60128#1|60138#1|60143#1",1004,20,"601011#400|601012#600","601011#210101|601012#210101",90,10800,{"$f":"T1523","v":"249#-191"},2,2116]
[null,"5075",5,"噩梦5-7","5085",199,0,51011,205999,10100,"20001#20003#20011#20016#20004#20002#20018","17#3340|3#3375|14#3530|79#19","60103#1|60128#1|60138#1|60143#1",1004,20,"601011#400|601012#600","601011#210101|601012#210101",90,10800,{"$f":"T1524","v":"298#-145"},1,2117]
[null,"5085",5,"噩梦5-8","5095",199,0,51011,205999,10100,"20001#20003#20011#20016#20004#20002#20018","17#3340|3#3375|14#3530|79#19","60103#1|60128#1|60138#1|60143#1",1004,20,"601011#400|601012#600","601011#210101|601012#210101",90,10800,{"$f":"T1525","v":"253#-94"},1,2118]
[null,"5095",5,"噩梦5-9","5105",199,0,51011,205999,10100,"20001#20003#20011#20016#20004#20002#20018","17#3340|3#3375|14#3530|79#19","60103#1|60128#1|60138#1|60143#1",1004,20,"601011#400|601012#600","601011#210101|601012#210101",90,10800,{"$f":"T1526","v":"188#-71"},1,2119]
[null,"5105",5,"噩梦5-10","5115",199,0,51011,205999,10100,"20001#20003#20011#20016#20004#20002#20018","17#3340|3#3375|14#3530|79#19","60103#1|60128#1|60138#1|60143#1",1004,20,"601011#400|601012#600","601011#210101|601012#210101",90,10800,{"$f":"T1527","v":"109#-78"},1,2120]
[null,"5115",5,"噩梦5-11","5125",199,0,51011,205999,10100,"20001#20003#20011#20016#20004#20002#20018","17#3340|3#3375|14#3530|79#19","60103#1|60128#1|60138#1|60143#1",1004,20,"601011#400|601012#600","601011#210101|601012#210101",90,10800,{"$f":"T1528","v":"60#-128"},1,2121]
[null,"5125",5,"噩梦5-12","5135",199,0,51011,205999,10100,"20001#20003#20011#20016#20004#20002#20018","17#3340|3#3375|14#3530|79#19","60103#1|60128#1|60138#1|60143#1",1004,20,"601011#400|601012#600","601011#210101|601012#210101",90,10800,{"$f":"T1529","v":"79#-191"},1,2122]
[null,"5135",5,"噩梦5-13","5145",199,0,51011,205999,10100,"20001#20003#20011#20016#20004#20002#20018","17#3340|3#3375|14#3530|79#19","60103#1|60128#1|60138#1|60143#1",1004,20,"601011#400|601012#600","601011#210101|601012#210101",90,10800,{"$f":"T1530","v":"57#-245"},1,2123]
[null,"5145",5,"噩梦5-14","5155",199,0,51011,205999,10100,"20001#20003#20011#20016#20004#20002#20018","17#3340|3#3375|14#3530|79#19","60103#1|60128#1|60138#1|60143#1",1004,20,"601011#400|601012#600","601011#210101|601012#210101",90,10800,{"$f":"T1531","v":"5#-271"},1,2124]
[null,"5155",5,"噩梦5-15","5165",199,0,51011,205999,10100,"20001#20003#20011#20016#20004#20002#20018","17#3340|3#3375|14#3530|79#19","60103#1|60128#1|60138#1|60143#1",1004,20,"601011#400|601012#600","601011#210101|601012#210101",90,10800,{"$f":"T1532","v":"-61#-254"},1,2125]
[null,"5165",5,"噩梦5-16","5175",199,0,51011,205999,10100,"20001#20003#20011#20016#20004#20002#20018","17#3340|3#3375|14#3530|79#19","60103#1|60128#1|60138#1|60143#1",1004,20,"601011#400|601012#600","601011#210101|601012#210101",90,10800,{"$f":"T1533","v":"-117#-218"},1,2126]
[null,"5175",5,"噩梦5-17","5185",199,0,51011,205999,10100,"20001#20003#20011#20016#20004#20002#20018","17#3340|3#3375|14#3530|79#19","60103#1|60128#1|60138#1|60143#1",1004,20,"601011#400|601012#600","601011#210101|601012#210101",90,10800,{"$f":"T1534","v":"-184#-223"},1,2127]
[null,"5185",5,"噩梦5-18","5195",199,0,51011,205999,10100,"20001#20003#20011#20016#20004#20002#20018","17#3340|3#3375|14#3530|79#19","60103#1|60128#1|60138#1|60143#1",1004,20,"601011#400|601012#600","601011#210101|601012#210101",90,10800,{"$f":"T1535","v":"-238#-256"},1,2128]
[null,"5195",5,"噩梦5-19","5205",199,0,51011,205999,10100,"20001#20003#20011#20016#20004#20002#20018","17#3340|3#3375|14#3530|79#19","60103#1|60128#1|60138#1|60143#1",1004,20,"601011#400|601012#600","601011#210101|601012#210101",90,10800,{"$f":"T1536","v":"-304#-269"},1,2129]
[null,"5205",5,"噩梦5-20","5215",199,0,51011,205999,10100,"20001#20003#20011#20016#20004#20002#20018","17#3340|3#3375|14#3530|79#19","60103#1|60128#1|60138#1|60143#1",1004,20,"601011#400|601012#600","601011#210101|601012#210101",90,10800,{"$f":"T1537","v":"-369#-263"},1,2130]
[null,"5215",5,"噩梦5-21","5225",199,0,51011,205999,10100,"20001#20003#20011#20016#20004#20002#20018","17#3340|3#3375|14#3530|79#19","60103#1|60128#1|60138#1|60143#1",1004,20,"601011#400|601012#600","601011#210101|601012#210101",90,10800,{"$f":"T1538","v":"-417#-214"},1,2131]
[null,"5225",5,"噩梦5-22","5235",199,0,51011,205999,10100,"20001#20003#20011#20016#20004#20002#20018","17#3340|3#3375|14#3530|79#19","60103#1|60128#1|60138#1|60143#1",1004,20,"601011#400|601012#600","601011#210101|601012#210101",90,10800,{"$f":"T1539","v":"-376#-162"},2,2132]
[null,"5235",5,"噩梦5-23","5245",199,0,51011,205999,10100,"20001#20003#20011#20016#20004#20002#20018","17#3340|3#3375|14#3530|79#19","60103#1|60128#1|60138#1|60143#1",1004,20,"601011#400|601012#600","601011#210101|601012#210101",90,10800,{"$f":"T1540","v":"-303#-160"},2,2133]
[null,"5245",5,"噩梦5-24","5255",199,0,51011,205999,10100,"20001#20003#20011#20016#20004#20002#20018","17#3340|3#3375|14#3530|79#19","60103#1|60128#1|60138#1|60143#1",1004,20,"601011#400|601012#600","601011#210101|601012#210101",90,10800,{"$f":"T1541","v":"-238#-163"},2,2134]
[null,"5255",5,"噩梦5-25","5265",199,0,51011,205999,10100,"20001#20003#20011#20016#20004#20002#20018","17#3340|3#3375|14#3530|79#19","60103#1|60128#1|60138#1|60143#1",1004,20,"601011#400|601012#600","601011#210101|601012#210101",90,10800,{"$f":"T1542","v":"-169#-156"},2,2135]
[null,"5265",5,"噩梦5-26","5275",199,0,51011,205999,10100,"20001#20003#20011#20016#20004#20002#20018","17#3340|3#3375|14#3530|79#19","60103#1|60128#1|60138#1|60143#1",1004,20,"601011#400|601012#600","601011#210101|601012#210101",90,10800,{"$f":"T1543","v":"-138#-106"},2,2136]
[null,"5275",5,"噩梦5-27","5285",199,0,51011,205999,10100,"20001#20003#20011#20016#20004#20002#20018","17#3340|3#3375|14#3530|79#19","60103#1|60128#1|60138#1|60143#1",1004,20,"601011#400|601012#600","601011#210101|601012#210101",90,10800,{"$f":"T1544","v":"-143#-56"},2,2137]
[null,"5285",5,"噩梦5-28","5295",199,0,51011,205999,10100,"20001#20003#20011#20016#20004#20002#20018","17#3340|3#3375|14#3530|79#19","60103#1|60128#1|60138#1|60143#1",1004,20,"601011#400|601012#600","601011#210101|601012#210101",90,10800,{"$f":"T1545","v":"-86#-41"},2,2138]
[null,"5295",5,"噩梦5-29","5305",199,0,51011,205999,10100,"20001#20003#20011#20016#20004#20002#20018","17#3340|3#3375|14#3530|79#19","60103#1|60128#1|60138#1|60143#1",1004,20,"601011#400|601012#600","601011#210101|601012#210101",90,10800,{"$f":"T1546","v":"-109#9"},1,2139]
[null,"5305",5,"噩梦5-30","5315",199,0,51011,205999,10100,"20001#20003#20011#20016#20004#20002#20018","17#3340|3#3375|14#3530|79#19","60103#1|60128#1|60138#1|60143#1",1004,20,"601011#400|601012#600","601011#210101|601012#210101",90,10800,{"$f":"T1547","v":"-106#64"},2,2140]
[null,"5315",5,"噩梦5-31","5325",199,0,51011,205999,10100,"20001#20003#20011#20016#20004#20002#20018","17#3340|3#3375|14#3530|79#19","60103#1|60128#1|60138#1|60143#1",1004,20,"601011#400|601012#600","601011#210101|601012#210101",90,10800,{"$f":"T1548","v":"-43#79"},2,2141]
[null,"5325",5,"噩梦5-32","5335",199,0,51011,205999,10100,"20001#20003#20011#20016#20004#20002#20018","17#3340|3#3375|14#3530|79#19","60103#1|60128#1|60138#1|60143#1",1004,20,"601011#400|601012#600","601011#210101|601012#210101",90,10800,{"$f":"T1549","v":"24#69"},2,2142]
[null,"5335",5,"噩梦5-33","5345",199,0,51011,205999,10100,"20001#20003#20011#20016#20004#20002#20018","17#3340|3#3375|14#3530|79#19","60103#1|60128#1|60138#1|60143#1",1004,20,"601011#400|601012#600","601011#210101|601012#210101",90,10800,{"$f":"T1550","v":"89#52"},2,2143]
[null,"5345",5,"噩梦5-34","5355",199,0,51011,205999,10100,"20001#20003#20011#20016#20004#20002#20018","17#3340|3#3375|14#3530|79#19","60103#1|60128#1|60138#1|60143#1",1004,20,"601011#400|601012#600","601011#210101|601012#210101",90,10800,{"$f":"T1551","v":"155#44"},2,2144]
[null,"5355",5,"噩梦5-35","5365",199,0,51011,205999,10100,"20001#20003#20011#20016#20004#20002#20018","17#3340|3#3375|14#3530|79#19","60103#1|60128#1|60138#1|60143#1",1004,20,"601011#400|601012#600","601011#210101|601012#210101",90,10800,{"$f":"T1552","v":"220#61"},2,2145]
[null,"5365",5,"噩梦5-36","5375",199,0,51011,205999,10100,"20001#20003#20011#20016#20004#20002#20018","17#3340|3#3375|14#3530|79#19","60103#1|60128#1|60138#1|60143#1",1004,20,"601011#400|601012#600","601011#210101|601012#210101",90,10800,{"$f":"T1553","v":"204#95"},1,2146]
[null,"5375",5,"噩梦5-37","5385",199,0,51011,205999,10100,"20001#20003#20011#20016#20004#20002#20018","17#3340|3#3375|14#3530|79#19","60103#1|60128#1|60138#1|60143#1",1004,20,"601011#400|601012#600","601011#210101|601012#210101",90,10800,{"$f":"T1554","v":"179#130"},2,2147]
[null,"5385",5,"噩梦5-38","5395",199,0,51011,205999,10100,"20001#20003#20011#20016#20004#20002#20018","17#3340|3#3375|14#3530|79#19","60103#1|60128#1|60138#1|60143#1",1004,20,"601011#400|601012#600","601011#210101|601012#210101",90,10800,{"$f":"T1555","v":"237#154"},2,2148]
[null,"5395",5,"噩梦5-39","5405",199,0,51011,205999,10100,"20001#20003#20011#20016#20004#20002#20018","17#3340|3#3375|14#3530|79#19","60103#1|60128#1|60138#1|60143#1",1004,20,"601011#400|601012#600","601011#210101|601012#210101",90,10800,{"$f":"T1556","v":"274#180"},2,2149]
[null,"5405",5,"噩梦5-40","6015",199,0,51011,205999,10100,"20001#20003#20011#20016#20004#20002#20018","17#3340|3#3375|14#3530|79#19","60103#1|60128#1|60138#1|60143#1",1004,20,"601011#400|601012#600","601011#210101|601012#210101",90,10800,{"$f":"T1557","v":"279#236"},2,2150]
[null,"6015",5,"噩梦6-1","6025",199,0,51011,205999,10100,"20001#20003#20011#20016#20004#20002#20018","17#3340|3#3375|14#3530|79#19","60103#1|60128#1|60138#1|60143#1",1004,20,"601011#400|601012#600","601011#210101|601012#210101",90,10800,{"$f":"T1558","v":"132#-353"},1,2151]
[null,"6025",5,"噩梦6-2","6035",199,0,51011,205999,10100,"20001#20003#20011#20016#20004#20002#20018","17#3340|3#3375|14#3530|79#19","60103#1|60128#1|60138#1|60143#1",1004,20,"601011#400|601012#600","601011#210101|601012#210101",90,10800,{"$f":"T1559","v":"87#-349"},1,2152]
[null,"6035",5,"噩梦6-3","6045",199,0,51011,205999,10100,"20001#20003#20011#20016#20004#20002#20018","17#3340|3#3375|14#3530|79#19","60103#1|60128#1|60138#1|60143#1",1004,20,"601011#400|601012#600","601011#210101|601012#210101",90,10800,{"$f":"T1560","v":"38#-340"},1,2153]
[null,"6045",5,"噩梦6-4","6055",199,0,51011,205999,10100,"20001#20003#20011#20016#20004#20002#20018","17#3340|3#3375|14#3530|79#19","60103#1|60128#1|60138#1|60143#1",1004,20,"601011#400|601012#600","601011#210101|601012#210101",90,10800,{"$f":"T1561","v":"-4#-327"},1,2154]
[null,"6055",5,"噩梦6-5","6065",199,0,51011,205999,10100,"20001#20003#20011#20016#20004#20002#20018","17#3340|3#3375|14#3530|79#19","60103#1|60128#1|60138#1|60143#1",1004,20,"601011#400|601012#600","601011#210101|601012#210101",90,10800,{"$f":"T1562","v":"-38#-294"},1,2155]
[null,"6065",5,"噩梦6-6","6075",199,0,51011,205999,10100,"20001#20003#20011#20016#20004#20002#20018","17#3340|3#3375|14#3530|79#19","60103#1|60128#1|60138#1|60143#1",1004,20,"601011#400|601012#600","601011#210101|601012#210101",90,10800,{"$f":"T1563","v":"-2#-263"},2,2156]
[null,"6075",5,"噩梦6-7","6085",199,0,51011,205999,10100,"20001#20003#20011#20016#20004#20002#20018","17#3340|3#3375|14#3530|79#19","60103#1|60128#1|60138#1|60143#1",1004,20,"601011#400|601012#600","601011#210101|601012#210101",90,10800,{"$f":"T1564","v":"25#-231"},2,2157]
[null,"6085",5,"噩梦6-8","6095",199,0,51011,205999,10100,"20001#20003#20011#20016#20004#20002#20018","17#3340|3#3375|14#3530|79#19","60103#1|60128#1|60138#1|60143#1",1004,20,"601011#400|601012#600","601011#210101|601012#210101",90,10800,{"$f":"T1565","v":"-23#-211"},1,2158]
[null,"6095",5,"噩梦6-9","6105",199,0,51011,205999,10100,"20001#20003#20011#20016#20004#20002#20018","17#3340|3#3375|14#3530|79#19","60103#1|60128#1|60138#1|60143#1",1004,20,"601011#400|601012#600","601011#210101|601012#210101",90,10800,{"$f":"T1566","v":"-79#-212"},1,2159]
[null,"6105",5,"噩梦6-10","6115",199,0,51011,205999,10100,"20001#20003#20011#20016#20004#20002#20018","17#3340|3#3375|14#3530|79#19","60103#1|60128#1|60138#1|60143#1",1004,20,"601011#400|601012#600","601011#210101|601012#210101",90,10800,{"$f":"T1567","v":"-131#-213"},1,2160]
[null,"6115",5,"噩梦6-11","6125",199,0,51011,205999,10100,"20001#20003#20011#20016#20004#20002#20018","17#3340|3#3375|14#3530|79#19","60103#1|60128#1|60138#1|60143#1",1004,20,"601011#400|601012#600","601011#210101|601012#210101",90,10800,{"$f":"T1568","v":"-177#-198"},1,2161]
[null,"6125",5,"噩梦6-12","6135",199,0,51011,205999,10100,"20001#20003#20011#20016#20004#20002#20018","17#3340|3#3375|14#3530|79#19","60103#1|60128#1|60138#1|60143#1",1004,20,"601011#400|601012#600","601011#210101|601012#210101",90,10800,{"$f":"T1569","v":"-190#-163"},1,2162]
[null,"6135",5,"噩梦6-13","6145",199,0,51011,205999,10100,"20001#20003#20011#20016#20004#20002#20018","17#3340|3#3375|14#3530|79#19","60103#1|60128#1|60138#1|60143#1",1004,20,"601011#400|601012#600","601011#210101|601012#210101",90,10800,{"$f":"T1570","v":"-151#-139"},2,2163]
[null,"6145",5,"噩梦6-14","6155",199,0,51011,205999,10100,"20001#20003#20011#20016#20004#20002#20018","17#3340|3#3375|14#3530|79#19","60103#1|60128#1|60138#1|60143#1",1004,20,"601011#400|601012#600","601011#210101|601012#210101",90,10800,{"$f":"T1571","v":"-103#-139"},2,2164]
[null,"6155",5,"噩梦6-15","6165",199,0,51011,205999,10100,"20001#20003#20011#20016#20004#20002#20018","17#3340|3#3375|14#3530|79#19","60103#1|60128#1|60138#1|60143#1",1004,20,"601011#400|601012#600","601011#210101|601012#210101",90,10800,{"$f":"T1572","v":"-51#-149"},2,2165]
[null,"6165",5,"噩梦6-16","6175",199,0,51011,205999,10100,"20001#20003#20011#20016#20004#20002#20018","17#3340|3#3375|14#3530|79#19","60103#1|60128#1|60138#1|60143#1",1004,20,"601011#400|601012#600","601011#210101|601012#210101",90,10800,{"$f":"T1573","v":"3#-157"},2,2166]
[null,"6175",5,"噩梦6-17","6185",199,0,51011,205999,10100,"20001#20003#20011#20016#20004#20002#20018","17#3340|3#3375|14#3530|79#19","60103#1|60128#1|60138#1|60143#1",1004,20,"601011#400|601012#600","601011#210101|601012#210101",90,10800,{"$f":"T1574","v":"52#-168"},2,2167]
[null,"6185",5,"噩梦6-18","6195",199,0,51011,205999,10100,"20001#20003#20011#20016#20004#20002#20018","17#3340|3#3375|14#3530|79#19","60103#1|60128#1|60138#1|60143#1",1004,20,"601011#400|601012#600","601011#210101|601012#210101",90,10800,{"$f":"T1575","v":"111#-170"},2,2168]
[null,"6195",5,"噩梦6-19","6205",199,0,51011,205999,10100,"20001#20003#20011#20016#20004#20002#20018","17#3340|3#3375|14#3530|79#19","60103#1|60128#1|60138#1|60143#1",1004,20,"601011#400|601012#600","601011#210101|601012#210101",90,10800,{"$f":"T1576","v":"162#-162"},2,2169]
[null,"6205",5,"噩梦6-20","6215",199,0,51011,205999,10100,"20001#20003#20011#20016#20004#20002#20018","17#3340|3#3375|14#3530|79#19","60103#1|60128#1|60138#1|60143#1",1004,20,"601011#400|601012#600","601011#210101|601012#210101",90,10800,{"$f":"T1577","v":"177#-124"},1,2170]
[null,"6215",5,"噩梦6-21","6225",199,0,51011,205999,10100,"20001#20003#20011#20016#20004#20002#20018","17#3340|3#3375|14#3530|79#19","60103#1|60128#1|60138#1|60143#1",1004,20,"601011#400|601012#600","601011#210101|601012#210101",90,10800,{"$f":"T1578","v":"132#-100"},1,2171]
[null,"6225",5,"噩梦6-22","6235",199,0,51011,205999,10100,"20001#20003#20011#20016#20004#20002#20018","17#3340|3#3375|14#3530|79#19","60103#1|60128#1|60138#1|60143#1",1004,20,"601011#400|601012#600","601011#210101|601012#210101",90,10800,{"$f":"T1579","v":"85#-83"},1,2172]
[null,"6235",5,"噩梦6-23","6245",199,0,51011,205999,10100,"20001#20003#20011#20016#20004#20002#20018","17#3340|3#3375|14#3530|79#19","60103#1|60128#1|60138#1|60143#1",1004,20,"601011#400|601012#600","601011#210101|601012#210101",90,10800,{"$f":"T1580","v":"79#-40"},2,2173]
[null,"6245",5,"噩梦6-24","6255",199,0,51011,205999,10100,"20001#20003#20011#20016#20004#20002#20018","17#3340|3#3375|14#3530|79#19","60103#1|60128#1|60138#1|60143#1",1004,20,"601011#400|601012#600","601011#210101|601012#210101",90,10800,{"$f":"T1581","v":"128#-28"},2,2174]
[null,"6255",5,"噩梦6-25","6265",199,0,51011,205999,10100,"20001#20003#20011#20016#20004#20002#20018","17#3340|3#3375|14#3530|79#19","60103#1|60128#1|60138#1|60143#1",1004,20,"601011#400|601012#600","601011#210101|601012#210101",90,10800,{"$f":"T1582","v":"179#-37"},2,2175]
[null,"6265",5,"噩梦6-26","6275",199,0,51011,205999,10100,"20001#20003#20011#20016#20004#20002#20018","17#3340|3#3375|14#3530|79#19","60103#1|60128#1|60138#1|60143#1",1004,20,"601011#400|601012#600","601011#210101|601012#210101",90,10800,{"$f":"T1583","v":"234#-37"},2,2176]
[null,"6275",5,"噩梦6-27","6285",199,0,51011,205999,10100,"20001#20003#20011#20016#20004#20002#20018","17#3340|3#3375|14#3530|79#19","60103#1|60128#1|60138#1|60143#1",1004,20,"601011#400|601012#600","601011#210101|601012#210101",90,10800,{"$f":"T1584","v":"273#-30"},2,2177]
[null,"6285",5,"噩梦6-28","6295",199,0,51011,205999,10100,"20001#20003#20011#20016#20004#20002#20018","17#3340|3#3375|14#3530|79#19","60103#1|60128#1|60138#1|60143#1",1004,20,"601011#400|601012#600","601011#210101|601012#210101",90,10800,{"$f":"T1585","v":"291#6"},1,2178]
[null,"6295",5,"噩梦6-29","6305",199,0,51011,205999,10100,"20001#20003#20011#20016#20004#20002#20018","17#3340|3#3375|14#3530|79#19","60103#1|60128#1|60138#1|60143#1",1004,20,"601011#400|601012#600","601011#210101|601012#210101",90,10800,{"$f":"T1586","v":"257#37"},1,2179]
[null,"6305",5,"噩梦6-30","6315",199,0,51011,205999,10100,"20001#20003#20011#20016#20004#20002#20018","17#3340|3#3375|14#3530|79#19","60103#1|60128#1|60138#1|60143#1",1004,20,"601011#400|601012#600","601011#210101|601012#210101",90,10800,{"$f":"T1587","v":"209#54"},1,2180]
[null,"6315",5,"噩梦6-31","6325",199,0,51011,205999,10100,"20001#20003#20011#20016#20004#20002#20018","17#3340|3#3375|14#3530|79#19","60103#1|60128#1|60138#1|60143#1",1004,20,"601011#400|601012#600","601011#210101|601012#210101",90,10800,{"$f":"T1588","v":"163#60"},1,2181]
[null,"6325",5,"噩梦6-32","6335",199,0,51011,205999,10100,"20001#20003#20011#20016#20004#20002#20018","17#3340|3#3375|14#3530|79#19","60103#1|60128#1|60138#1|60143#1",1004,20,"601011#400|601012#600","601011#210101|601012#210101",90,10800,{"$f":"T1589","v":"120#73"},1,2182]
[null,"6335",5,"噩梦6-33","6345",199,0,51011,205999,10100,"20001#20003#20011#20016#20004#20002#20018","17#3340|3#3375|14#3530|79#19","60103#1|60128#1|60138#1|60143#1",1004,20,"601011#400|601012#600","601011#210101|601012#210101",90,10800,{"$f":"T1590","v":"83#95"},1,2183]
[null,"6345",5,"噩梦6-34","6355",199,0,51011,205999,10100,"20001#20003#20011#20016#20004#20002#20018","17#3340|3#3375|14#3530|79#19","60103#1|60128#1|60138#1|60143#1",1004,20,"601011#400|601012#600","601011#210101|601012#210101",90,10800,{"$f":"T1591","v":"57#121"},1,2184]
[null,"6355",5,"噩梦6-35","6365",199,0,51011,205999,10100,"20001#20003#20011#20016#20004#20002#20018","17#3340|3#3375|14#3530|79#19","60103#1|60128#1|60138#1|60143#1",1004,20,"601011#400|601012#600","601011#210101|601012#210101",90,10800,{"$f":"T1592","v":"33#160"},1,2185]
[null,"6365",5,"噩梦6-36","6375",199,0,51011,205999,10100,"20001#20003#20011#20016#20004#20002#20018","17#3340|3#3375|14#3530|79#19","60103#1|60128#1|60138#1|60143#1",1004,20,"601011#400|601012#600","601011#210101|601012#210101",90,10800,{"$f":"T1593","v":"1#199"},1,2186]
[null,"6375",5,"噩梦6-37","6385",199,0,51011,205999,10100,"20001#20003#20011#20016#20004#20002#20018","17#3340|3#3375|14#3530|79#19","60103#1|60128#1|60138#1|60143#1",1004,20,"601011#400|601012#600","601011#210101|601012#210101",90,10800,{"$f":"T1594","v":"-33#232"},1,2187]
[null,"6385",5,"噩梦6-38","6395",199,0,51011,205999,10100,"20001#20003#20011#20016#20004#20002#20018","17#3340|3#3375|14#3530|79#19","60103#1|60128#1|60138#1|60143#1",1004,20,"601011#400|601012#600","601011#210101|601012#210101",90,10800,{"$f":"T1595","v":"-73#257"},1,2188]
[null,"6395",5,"噩梦6-39","6405",199,0,51011,205999,10100,"20001#20003#20011#20016#20004#20002#20018","17#3340|3#3375|14#3530|79#19","60103#1|60128#1|60138#1|60143#1",1004,20,"601011#400|601012#600","601011#210101|601012#210101",90,10800,{"$f":"T1596","v":"-110#272"},1,2189]
[null,"6405",5,"噩梦6-40","7015",199,0,51011,205999,10100,"20001#20003#20011#20016#20004#20002#20018","17#3340|3#3375|14#3530|79#19","60103#1|60128#1|60138#1|60143#1",1004,20,"601011#400|601012#600","601011#210101|601012#210101",90,10800,{"$f":"T1597","v":"-152#282"},1,2190]
[null,"7015",5,"噩梦7-1","7025",199,0,51011,205999,10100,"20001#20003#20011#20016#20004#20002#20018","17#3340|3#3375|14#3530|79#19","60103#1|60128#1|60138#1|60143#1",1004,20,"601011#400|601012#600","601011#210101|601012#210101",90,10800,{"$f":"T1598","v":"-272#-254"},2,2191]
[null,"7025",5,"噩梦7-2","7035",199,0,51011,205999,10100,"20001#20003#20011#20016#20004#20002#20018","17#3340|3#3375|14#3530|79#19","60103#1|60128#1|60138#1|60143#1",1004,20,"601011#400|601012#600","601011#210101|601012#210101",90,10800,{"$f":"T1599","v":"-216#-269"},2,2192]
[null,"7035",5,"噩梦7-3","7045",199,0,51011,205999,10100,"20001#20003#20011#20016#20004#20002#20018","17#3340|3#3375|14#3530|79#19","60103#1|60128#1|60138#1|60143#1",1004,20,"601011#400|601012#600","601011#210101|601012#210101",90,10800,{"$f":"T1600","v":"-164#-275"},2,2193]
[null,"7045",5,"噩梦7-4","7055",199,0,51011,205999,10100,"20001#20003#20011#20016#20004#20002#20018","17#3340|3#3375|14#3530|79#19","60103#1|60128#1|60138#1|60143#1",1004,20,"601011#400|601012#600","601011#210101|601012#210101",90,10800,{"$f":"T1601","v":"-112#-266"},2,2194]
[null,"7055",5,"噩梦7-5","7065",199,0,51011,205999,10100,"20001#20003#20011#20016#20004#20002#20018","17#3340|3#3375|14#3530|79#19","60103#1|60128#1|60138#1|60143#1",1004,20,"601011#400|601012#600","601011#210101|601012#210101",90,10800,{"$f":"T1602","v":"-91#-226"},1,2195]
[null,"7065",5,"噩梦7-6","7075",199,0,51011,205999,10100,"20001#20003#20011#20016#20004#20002#20018","17#3340|3#3375|14#3530|79#19","60103#1|60128#1|60138#1|60143#1",1004,20,"601011#400|601012#600","601011#210101|601012#210101",90,10800,{"$f":"T1603","v":"-124#-179"},1,2196]
[null,"7075",5,"噩梦7-7","7085",199,0,51011,205999,10100,"20001#20003#20011#20016#20004#20002#20018","17#3340|3#3375|14#3530|79#19","60103#1|60128#1|60138#1|60143#1",1004,20,"601011#400|601012#600","601011#210101|601012#210101",90,10800,{"$f":"T1604","v":"-73#-151"},2,2197]
[null,"7085",5,"噩梦7-8","7095",199,0,51011,205999,10100,"20001#20003#20011#20016#20004#20002#20018","17#3340|3#3375|14#3530|79#19","60103#1|60128#1|60138#1|60143#1",1004,20,"601011#400|601012#600","601011#210101|601012#210101",90,10800,{"$f":"T1605","v":"-17#-163"},2,2198]
[null,"7095",5,"噩梦7-9","7105",199,0,51011,205999,10100,"20001#20003#20011#20016#20004#20002#20018","17#3340|3#3375|14#3530|79#19","60103#1|60128#1|60138#1|60143#1",1004,20,"601011#400|601012#600","601011#210101|601012#210101",90,10800,{"$f":"T1606","v":"39#-193"},2,2199]
[null,"7105",5,"噩梦7-10","7115",199,0,51011,205999,10100,"20001#20003#20011#20016#20004#20002#20018","17#3340|3#3375|14#3530|79#19","60103#1|60128#1|60138#1|60143#1",1004,20,"601011#400|601012#600","601011#210101|601012#210101",90,10800,{"$f":"T1607","v":"83#-232"},2,2200]
[null,"7115",5,"噩梦7-11","7125",199,0,51011,205999,10100,"20001#20003#20011#20016#20004#20002#20018","17#3340|3#3375|14#3530|79#19","60103#1|60128#1|60138#1|60143#1",1004,20,"601011#400|601012#600","601011#210101|601012#210101",90,10800,{"$f":"T1608","v":"135#-268"},2,2201]
[null,"7125",5,"噩梦7-12","7135",199,0,51011,205999,10100,"20001#20003#20011#20016#20004#20002#20018","17#3340|3#3375|14#3530|79#19","60103#1|60128#1|60138#1|60143#1",1004,20,"601011#400|601012#600","601011#210101|601012#210101",90,10800,{"$f":"T1609","v":"187#-294"},2,2202]
[null,"7135",5,"噩梦7-13","7145",199,0,51011,205999,10100,"20001#20003#20011#20016#20004#20002#20018","17#3340|3#3375|14#3530|79#19","60103#1|60128#1|60138#1|60143#1",1004,20,"601011#400|601012#600","601011#210101|601012#210101",90,10800,{"$f":"T1610","v":"248#-311"},2,2203]
[null,"7145",5,"噩梦7-14","7155",199,0,51011,205999,10100,"20001#20003#20011#20016#20004#20002#20018","17#3340|3#3375|14#3530|79#19","60103#1|60128#1|60138#1|60143#1",1004,20,"601011#400|601012#600","601011#210101|601012#210101",90,10800,{"$f":"T1611","v":"301#-318"},2,2204]
[null,"7155",5,"噩梦7-15","7165",199,0,51011,205999,10100,"20001#20003#20011#20016#20004#20002#20018","17#3340|3#3375|14#3530|79#19","60103#1|60128#1|60138#1|60143#1",1004,20,"601011#400|601012#600","601011#210101|601012#210101",90,10800,{"$f":"T1612","v":"357#-312"},2,2205]
[null,"7165",5,"噩梦7-16","7175",199,0,51011,205999,10100,"20001#20003#20011#20016#20004#20002#20018","17#3340|3#3375|14#3530|79#19","60103#1|60128#1|60138#1|60143#1",1004,20,"601011#400|601012#600","601011#210101|601012#210101",90,10800,{"$f":"T1613","v":"393#-268"},1,2206]
[null,"7175",5,"噩梦7-17","7185",199,0,51011,205999,10100,"20001#20003#20011#20016#20004#20002#20018","17#3340|3#3375|14#3530|79#19","60103#1|60128#1|60138#1|60143#1",1004,20,"601011#400|601012#600","601011#210101|601012#210101",90,10800,{"$f":"T1614","v":"364#-223"},1,2207]
[null,"7185",5,"噩梦7-18","7195",199,0,51011,205999,10100,"20001#20003#20011#20016#20004#20002#20018","17#3340|3#3375|14#3530|79#19","60103#1|60128#1|60138#1|60143#1",1004,20,"601011#400|601012#600","601011#210101|601012#210101",90,10800,{"$f":"T1615","v":"321#-184"},1,2208]
[null,"7195",5,"噩梦7-19","7205",199,0,51011,205999,10100,"20001#20003#20011#20016#20004#20002#20018","17#3340|3#3375|14#3530|79#19","60103#1|60128#1|60138#1|60143#1",1004,20,"601011#400|601012#600","601011#210101|601012#210101",90,10800,{"$f":"T1616","v":"370#-159"},2,2209]
[null,"7205",5,"噩梦7-20","7215",199,0,51011,205999,10100,"20001#20003#20011#20016#20004#20002#20018","17#3340|3#3375|14#3530|79#19","60103#1|60128#1|60138#1|60143#1",1004,20,"601011#400|601012#600","601011#210101|601012#210101",90,10800,{"$f":"T1617","v":"352#-116"},1,2210]
[null,"7215",5,"噩梦7-21","7225",199,0,51011,205999,10100,"20001#20003#20011#20016#20004#20002#20018","17#3340|3#3375|14#3530|79#19","60103#1|60128#1|60138#1|60143#1",1004,20,"601011#400|601012#600","601011#210101|601012#210101",90,10800,{"$f":"T1618","v":"293#-117"},1,2211]
[null,"7225",5,"噩梦7-22","7235",199,0,51011,205999,10100,"20001#20003#20011#20016#20004#20002#20018","17#3340|3#3375|14#3530|79#19","60103#1|60128#1|60138#1|60143#1",1004,20,"601011#400|601012#600","601011#210101|601012#210101",90,10800,{"$f":"T1619","v":"242#-104"},1,2212]
[null,"7235",5,"噩梦7-23","7245",199,0,51011,205999,10100,"20001#20003#20011#20016#20004#20002#20018","17#3340|3#3375|14#3530|79#19","60103#1|60128#1|60138#1|60143#1",1004,20,"601011#400|601012#600","601011#210101|601012#210101",90,10800,{"$f":"T1620","v":"196#-75"},1,2213]
[null,"7245",5,"噩梦7-24","7255",199,0,51011,205999,10100,"20001#20003#20011#20016#20004#20002#20018","17#3340|3#3375|14#3530|79#19","60103#1|60128#1|60138#1|60143#1",1004,20,"601011#400|601012#600","601011#210101|601012#210101",90,10800,{"$f":"T1621","v":"136#-61"},1,2214]
[null,"7255",5,"噩梦7-25","7265",199,0,51011,205999,10100,"20001#20003#20011#20016#20004#20002#20018","17#3340|3#3375|14#3530|79#19","60103#1|60128#1|60138#1|60143#1",1004,20,"601011#400|601012#600","601011#210101|601012#210101",90,10800,{"$f":"T1622","v":"83#-86"},1,2215]
[null,"7265",5,"噩梦7-26","7275",199,0,51011,205999,10100,"20001#20003#20011#20016#20004#20002#20018","17#3340|3#3375|14#3530|79#19","60103#1|60128#1|60138#1|60143#1",1004,20,"601011#400|601012#600","601011#210101|601012#210101",90,10800,{"$f":"T1623","v":"28#-91"},1,2216]
[null,"7275",5,"噩梦7-27","7285",199,0,51011,205999,10100,"20001#20003#20011#20016#20004#20002#20018","17#3340|3#3375|14#3530|79#19","60103#1|60128#1|60138#1|60143#1",1004,20,"601011#400|601012#600","601011#210101|601012#210101",90,10800,{"$f":"T1624","v":"-29#-87"},1,2217]
[null,"7285",5,"噩梦7-28","7295",199,0,51011,205999,10100,"20001#20003#20011#20016#20004#20002#20018","17#3340|3#3375|14#3530|79#19","60103#1|60128#1|60138#1|60143#1",1004,20,"601011#400|601012#600","601011#210101|601012#210101",90,10800,{"$f":"T1625","v":"-82#-80"},1,2218]
[null,"7295",5,"噩梦7-29","7305",199,0,51011,205999,10100,"20001#20003#20011#20016#20004#20002#20018","17#3340|3#3375|14#3530|79#19","60103#1|60128#1|60138#1|60143#1",1004,20,"601011#400|601012#600","601011#210101|601012#210101",90,10800,{"$f":"T1626","v":"-132#-64"},1,2219]
[null,"7305",5,"噩梦7-30","7315",199,0,51011,205999,10100,"20001#20003#20011#20016#20004#20002#20018","17#3340|3#3375|14#3530|79#19","60103#1|60128#1|60138#1|60143#1",1004,20,"601011#400|601012#600","601011#210101|601012#210101",90,10800,{"$f":"T1627","v":"-186#-48"},1,2220]
[null,"7315",5,"噩梦7-31","7325",199,0,51011,205999,10100,"20001#20003#20011#20016#20004#20002#20018","17#3340|3#3375|14#3530|79#19","60103#1|60128#1|60138#1|60143#1",1004,20,"601011#400|601012#600","601011#210101|601012#210101",90,10800,{"$f":"T1628","v":"-233#-14"},1,2221]
[null,"7325",5,"噩梦7-32","7335",199,0,51011,205999,10100,"20001#20003#20011#20016#20004#20002#20018","17#3340|3#3375|14#3530|79#19","60103#1|60128#1|60138#1|60143#1",1004,20,"601011#400|601012#600","601011#210101|601012#210101",90,10800,{"$f":"T1629","v":"-227#35"},2,2222]
[null,"7335",5,"噩梦7-33","7345",199,0,51011,205999,10100,"20001#20003#20011#20016#20004#20002#20018","17#3340|3#3375|14#3530|79#19","60103#1|60128#1|60138#1|60143#1",1004,20,"601011#400|601012#600","601011#210101|601012#210101",90,10800,{"$f":"T1630","v":"-174#58"},2,2223]
[null,"7345",5,"噩梦7-34","7355",199,0,51011,205999,10100,"20001#20003#20011#20016#20004#20002#20018","17#3340|3#3375|14#3530|79#19","60103#1|60128#1|60138#1|60143#1",1004,20,"601011#400|601012#600","601011#210101|601012#210101",90,10800,{"$f":"T1631","v":"-121#61"},2,2224]
[null,"7355",5,"噩梦7-35","7365",199,0,51011,205999,10100,"20001#20003#20011#20016#20004#20002#20018","17#3340|3#3375|14#3530|79#19","60103#1|60128#1|60138#1|60143#1",1004,20,"601011#400|601012#600","601011#210101|601012#210101",90,10800,{"$f":"T1632","v":"-64#47"},2,2225]
[null,"7365",5,"噩梦7-36","7375",199,0,51011,205999,10100,"20001#20003#20011#20016#20004#20002#20018","17#3340|3#3375|14#3530|79#19","60103#1|60128#1|60138#1|60143#1",1004,20,"601011#400|601012#600","601011#210101|601012#210101",90,10800,{"$f":"T1633","v":"3#50"},2,2226]
[null,"7375",5,"噩梦7-37","7385",199,0,51011,205999,10100,"20001#20003#20011#20016#20004#20002#20018","17#3340|3#3375|14#3530|79#19","60103#1|60128#1|60138#1|60143#1",1004,20,"601011#400|601012#600","601011#210101|601012#210101",90,10800,{"$f":"T1634","v":"20#94"},2,2227]
[null,"7385",5,"噩梦7-38","7395",199,0,51011,205999,10100,"20001#20003#20011#20016#20004#20002#20018","17#3340|3#3375|14#3530|79#19","60103#1|60128#1|60138#1|60143#1",1004,20,"601011#400|601012#600","601011#210101|601012#210101",90,10800,{"$f":"T1635","v":"50#139"},2,2228]
[null,"7395",5,"噩梦7-39","7405",199,0,51011,205999,10100,"20001#20003#20011#20016#20004#20002#20018","17#3340|3#3375|14#3530|79#19","60103#1|60128#1|60138#1|60143#1",1004,20,"601011#400|601012#600","601011#210101|601012#210101",90,10800,{"$f":"T1636","v":"105#141"},2,2229]
[null,"7405",5,"噩梦7-40","8015",199,0,51011,205999,10100,"20001#20003#20011#20016#20004#20002#20018","17#3340|3#3375|14#3530|79#19","60103#1|60128#1|60138#1|60143#1",1004,20,"601011#400|601012#600","601011#210101|601012#210101",90,10800,{"$f":"T1637","v":"166#149"},2,2230]
[null,"8015",5,"噩梦8-1","8025",199,0,51011,205999,10100,"20001#20003#20011#20016#20004#20002#20018","17#3340|3#3375|14#3530|79#19","60103#1|60128#1|60138#1|60143#1",1004,20,"601011#400|601012#600","601011#210101|601012#210101",90,10800,{"$f":"T1638","v":"160#-322"},1,2231]
[null,"8025",5,"噩梦8-2","8035",199,0,51011,205999,10100,"20001#20003#20011#20016#20004#20002#20018","17#3340|3#3375|14#3530|79#19","60103#1|60128#1|60138#1|60143#1",1004,20,"601011#400|601012#600","601011#210101|601012#210101",90,10800,{"$f":"T1639","v":"66#-333"},1,2232]
[null,"8035",5,"噩梦8-3","8045",199,0,51011,205999,10100,"20001#20003#20011#20016#20004#20002#20018","17#3340|3#3375|14#3530|79#19","60103#1|60128#1|60138#1|60143#1",1004,20,"601011#400|601012#600","601011#210101|601012#210101",90,10800,{"$f":"T1640","v":"-18#-358"},1,2233]
[null,"8045",5,"噩梦8-4","8055",199,0,51011,205999,10100,"20001#20003#20011#20016#20004#20002#20018","17#3340|3#3375|14#3530|79#19","60103#1|60128#1|60138#1|60143#1",1004,20,"601011#400|601012#600","601011#210101|601012#210101",90,10800,{"$f":"T1641","v":"-98#-358"},1,2234]
[null,"8055",5,"噩梦8-5","8065",199,0,51011,205999,10100,"20001#20003#20011#20016#20004#20002#20018","17#3340|3#3375|14#3530|79#19","60103#1|60128#1|60138#1|60143#1",1004,20,"601011#400|601012#600","601011#210101|601012#210101",90,10800,{"$f":"T1642","v":"-180#-336"},1,2235]
[null,"8065",5,"噩梦8-6","8075",199,0,51011,205999,10100,"20001#20003#20011#20016#20004#20002#20018","17#3340|3#3375|14#3530|79#19","60103#1|60128#1|60138#1|60143#1",1004,20,"601011#400|601012#600","601011#210101|601012#210101",90,10800,{"$f":"T1643","v":"-252#-294"},1,2236]
[null,"8075",5,"噩梦8-7","8085",199,0,51011,205999,10100,"20001#20003#20011#20016#20004#20002#20018","17#3340|3#3375|14#3530|79#19","60103#1|60128#1|60138#1|60143#1",1004,20,"601011#400|601012#600","601011#210101|601012#210101",90,10800,{"$f":"T1644","v":"-325#-275"},1,2237]
[null,"8085",5,"噩梦8-8","8095",199,0,51011,205999,10100,"20001#20003#20011#20016#20004#20002#20018","17#3340|3#3375|14#3530|79#19","60103#1|60128#1|60138#1|60143#1",1004,20,"601011#400|601012#600","601011#210101|601012#210101",90,10800,{"$f":"T1645","v":"-422#-261"},1,2238]
[null,"8095",5,"噩梦8-9","8105",199,0,51011,205999,10100,"20001#20003#20011#20016#20004#20002#20018","17#3340|3#3375|14#3530|79#19","60103#1|60128#1|60138#1|60143#1",1004,20,"601011#400|601012#600","601011#210101|601012#210101",90,10800,{"$f":"T1646","v":"-478#-198"},1,2239]
[null,"8105",5,"噩梦8-10","8115",199,0,51011,205999,10100,"20001#20003#20011#20016#20004#20002#20018","17#3340|3#3375|14#3530|79#19","60103#1|60128#1|60138#1|60143#1",1004,20,"601011#400|601012#600","601011#210101|601012#210101",90,10800,{"$f":"T1647","v":"-427#-147"},2,2240]
[null,"8115",5,"噩梦8-11","8125",199,0,51011,205999,10100,"20001#20003#20011#20016#20004#20002#20018","17#3340|3#3375|14#3530|79#19","60103#1|60128#1|60138#1|60143#1",1004,20,"601011#400|601012#600","601011#210101|601012#210101",90,10800,{"$f":"T1648","v":"-350#-181"},2,2241]
[null,"8125",5,"噩梦8-12","8135",199,0,51011,205999,10100,"20001#20003#20011#20016#20004#20002#20018","17#3340|3#3375|14#3530|79#19","60103#1|60128#1|60138#1|60143#1",1004,20,"601011#400|601012#600","601011#210101|601012#210101",90,10800,{"$f":"T1649","v":"-267#-210"},2,2242]
[null,"8135",5,"噩梦8-13","8145",199,0,51011,205999,10100,"20001#20003#20011#20016#20004#20002#20018","17#3340|3#3375|14#3530|79#19","60103#1|60128#1|60138#1|60143#1",1004,20,"601011#400|601012#600","601011#210101|601012#210101",90,10800,{"$f":"T1650","v":"-196#-190"},2,2243]
[null,"8145",5,"噩梦8-14","8155",199,0,51011,205999,10100,"20001#20003#20011#20016#20004#20002#20018","17#3340|3#3375|14#3530|79#19","60103#1|60128#1|60138#1|60143#1",1004,20,"601011#400|601012#600","601011#210101|601012#210101",90,10800,{"$f":"T1651","v":"-185#-132"},1,2244]
[null,"8155",5,"噩梦8-15","8165",199,0,51011,205999,10100,"20001#20003#20011#20016#20004#20002#20018","17#3340|3#3375|14#3530|79#19","60103#1|60128#1|60138#1|60143#1",1004,20,"601011#400|601012#600","601011#210101|601012#210101",90,10800,{"$f":"T1652","v":"-247#-86"},1,2245]
[null,"8165",5,"噩梦8-16","8175",199,0,51011,205999,10100,"20001#20003#20011#20016#20004#20002#20018","17#3340|3#3375|14#3530|79#19","60103#1|60128#1|60138#1|60143#1",1004,20,"601011#400|601012#600","601011#210101|601012#210101",90,10800,{"$f":"T1653","v":"-242#-20"},2,2246]
[null,"8175",5,"噩梦8-17","8185",199,0,51011,205999,10100,"20001#20003#20011#20016#20004#20002#20018","17#3340|3#3375|14#3530|79#19","60103#1|60128#1|60138#1|60143#1",1004,20,"601011#400|601012#600","601011#210101|601012#210101",90,10800,{"$f":"T1654","v":"-195#20"},2,2247]
[null,"8185",5,"噩梦8-18","8195",199,0,51011,205999,10100,"20001#20003#20011#20016#20004#20002#20018","17#3340|3#3375|14#3530|79#19","60103#1|60128#1|60138#1|60143#1",1004,20,"601011#400|601012#600","601011#210101|601012#210101",90,10800,{"$f":"T1655","v":"-125#35"},2,2248]
[null,"8195",5,"噩梦8-19","8205",199,0,51011,205999,10100,"20001#20003#20011#20016#20004#20002#20018","17#3340|3#3375|14#3530|79#19","60103#1|60128#1|60138#1|60143#1",1004,20,"601011#400|601012#600","601011#210101|601012#210101",90,10800,{"$f":"T1656","v":"-55#20"},2,2249]
[null,"8205",5,"噩梦8-20","8215",199,0,51011,205999,10100,"20001#20003#20011#20016#20004#20002#20018","17#3340|3#3375|14#3530|79#19","60103#1|60128#1|60138#1|60143#1",1004,20,"601011#400|601012#600","601011#210101|601012#210101",90,10800,{"$f":"T1657","v":"-18#-42"},2,2250]
[null,"8215",5,"噩梦8-21","8225",199,0,51011,205999,10100,"20001#20003#20011#20016#20004#20002#20018","17#3340|3#3375|14#3530|79#19","60103#1|60128#1|60138#1|60143#1",1004,20,"601011#400|601012#600","601011#210101|601012#210101",90,10800,{"$f":"T1658","v":"-34#-105"},2,2251]
[null,"8225",5,"噩梦8-22","8235",199,0,51011,205999,10100,"20001#20003#20011#20016#20004#20002#20018","17#3340|3#3375|14#3530|79#19","60103#1|60128#1|60138#1|60143#1",1004,20,"601011#400|601012#600","601011#210101|601012#210101",90,10800,{"$f":"T1659","v":"-9#-169"},2,2252]
[null,"8235",5,"噩梦8-23","8245",199,0,51011,205999,10100,"20001#20003#20011#20016#20004#20002#20018","17#3340|3#3375|14#3530|79#19","60103#1|60128#1|60138#1|60143#1",1004,20,"601011#400|601012#600","601011#210101|601012#210101",90,10800,{"$f":"T1660","v":"52#-197"},2,2253]
[null,"8245",5,"噩梦8-24","8255",199,0,51011,205999,10100,"20001#20003#20011#20016#20004#20002#20018","17#3340|3#3375|14#3530|79#19","60103#1|60128#1|60138#1|60143#1",1004,20,"601011#400|601012#600","601011#210101|601012#210101",90,10800,{"$f":"T1661","v":"120#-195"},2,2254]
[null,"8255",5,"噩梦8-25","8265",199,0,51011,205999,10100,"20001#20003#20011#20016#20004#20002#20018","17#3340|3#3375|14#3530|79#19","60103#1|60128#1|60138#1|60143#1",1004,20,"601011#400|601012#600","601011#210101|601012#210101",90,10800,{"$f":"T1662","v":"187#-171"},2,2255]
[null,"8265",5,"噩梦8-26","8275",199,0,51011,205999,10100,"20001#20003#20011#20016#20004#20002#20018","17#3340|3#3375|14#3530|79#19","60103#1|60128#1|60138#1|60143#1",1004,20,"601011#400|601012#600","601011#210101|601012#210101",90,10800,{"$f":"T1663","v":"254#-173"},2,2256]
[null,"8275",5,"噩梦8-27","8285",199,0,51011,205999,10100,"20001#20003#20011#20016#20004#20002#20018","17#3340|3#3375|14#3530|79#19","60103#1|60128#1|60138#1|60143#1",1004,20,"601011#400|601012#600","601011#210101|601012#210101",90,10800,{"$f":"T1664","v":"321#-195"},2,2257]
[null,"8285",5,"噩梦8-28","8295",199,0,51011,205999,10100,"20001#20003#20011#20016#20004#20002#20018","17#3340|3#3375|14#3530|79#19","60103#1|60128#1|60138#1|60143#1",1004,20,"601011#400|601012#600","601011#210101|601012#210101",90,10800,{"$f":"T1665","v":"383#-199"},2,2258]
[null,"8295",5,"噩梦8-29","8305",199,0,51011,205999,10100,"20001#20003#20011#20016#20004#20002#20018","17#3340|3#3375|14#3530|79#19","60103#1|60128#1|60138#1|60143#1",1004,20,"601011#400|601012#600","601011#210101|601012#210101",90,10800,{"$f":"T1666","v":"444#-183"},2,2259]
[null,"8305",5,"噩梦8-30","8315",199,0,51011,205999,10100,"20001#20003#20011#20016#20004#20002#20018","17#3340|3#3375|14#3530|79#19","60103#1|60128#1|60138#1|60143#1",1004,20,"601011#400|601012#600","601011#210101|601012#210101",90,10800,{"$f":"T1667","v":"469#-129"},2,2260]
[null,"8315",5,"噩梦8-31","8325",199,0,51011,205999,10100,"20001#20003#20011#20016#20004#20002#20018","17#3340|3#3375|14#3530|79#19","60103#1|60128#1|60138#1|60143#1",1004,20,"601011#400|601012#600","601011#210101|601012#210101",90,10800,{"$f":"T1668","v":"443#-71"},1,2261]
[null,"8325",5,"噩梦8-32","8335",199,0,51011,205999,10100,"20001#20003#20011#20016#20004#20002#20018","17#3340|3#3375|14#3530|79#19","60103#1|60128#1|60138#1|60143#1",1004,20,"601011#400|601012#600","601011#210101|601012#210101",90,10800,{"$f":"T1669","v":"392#-42"},1,2262]
[null,"8335",5,"噩梦8-33","8345",199,0,51011,205999,10100,"20001#20003#20011#20016#20004#20002#20018","17#3340|3#3375|14#3530|79#19","60103#1|60128#1|60138#1|60143#1",1004,20,"601011#400|601012#600","601011#210101|601012#210101",90,10800,{"$f":"T1670","v":"326#-27"},1,2263]
[null,"8345",5,"噩梦8-34","8355",199,0,51011,205999,10100,"20001#20003#20011#20016#20004#20002#20018","17#3340|3#3375|14#3530|79#19","60103#1|60128#1|60138#1|60143#1",1004,20,"601011#400|601012#600","601011#210101|601012#210101",90,10800,{"$f":"T1671","v":"259#-28"},1,2264]
[null,"8355",5,"噩梦8-35","8365",199,0,51011,205999,10100,"20001#20003#20011#20016#20004#20002#20018","17#3340|3#3375|14#3530|79#19","60103#1|60128#1|60138#1|60143#1",1004,20,"601011#400|601012#600","601011#210101|601012#210101",90,10800,{"$f":"T1672","v":"182#-19"},1,2265]
[null,"8365",5,"噩梦8-36","8375",199,0,51011,205999,10100,"20001#20003#20011#20016#20004#20002#20018","17#3340|3#3375|14#3530|79#19","60103#1|60128#1|60138#1|60143#1",1004,20,"601011#400|601012#600","601011#210101|601012#210101",90,10800,{"$f":"T1673","v":"136#23"},1,2266]
[null,"8375",5,"噩梦8-37","8385",199,0,51011,205999,10100,"20001#20003#20011#20016#20004#20002#20018","17#3340|3#3375|14#3530|79#19","60103#1|60128#1|60138#1|60143#1",1004,20,"601011#400|601012#600","601011#210101|601012#210101",90,10800,{"$f":"T1674","v":"160#75"},2,2267]
[null,"8385",5,"噩梦8-38","8395",199,0,51011,205999,10100,"20001#20003#20011#20016#20004#20002#20018","17#3340|3#3375|14#3530|79#19","60103#1|60128#1|60138#1|60143#1",1004,20,"601011#400|601012#600","601011#210101|601012#210101",90,10800,{"$f":"T1675","v":"219#99"},2,2268]
[null,"8395",5,"噩梦8-39","8405",199,0,51011,205999,10100,"20001#20003#20011#20016#20004#20002#20018","17#3340|3#3375|14#3530|79#19","60103#1|60128#1|60138#1|60143#1",1004,20,"601011#400|601012#600","601011#210101|601012#210101",90,10800,{"$f":"T1676","v":"286#108"},2,2269]
[null,"8405",5,"噩梦8-40","9015",199,0,51011,205999,10100,"20001#20003#20011#20016#20004#20002#20018","17#3340|3#3375|14#3530|79#19","60103#1|60128#1|60138#1|60143#1",1004,20,"601011#400|601012#600","601011#210101|601012#210101",90,10800,{"$f":"T1677","v":"362#126"},2,2270]
[null,"9015",5,"噩梦9-1","9025",199,0,51011,205999,10100,"20001#20003#20011#20016#20004#20002#20018","17#3340|3#3375|14#3530|79#19","60103#1|60128#1|60138#1|60143#1",1004,20,"601011#400|601012#600","601011#210101|601012#210101",90,10800,{"$f":"T1678","v":"415#-287"},2,2271]
[null,"9025",5,"噩梦9-2","9035",199,0,51011,205999,10100,"20001#20003#20011#20016#20004#20002#20018","17#3340|3#3375|14#3530|79#19","60103#1|60128#1|60138#1|60143#1",1004,20,"601011#400|601012#600","601011#210101|601012#210101",90,10800,{"$f":"T1679","v":"500#-254"},2,2272]
[null,"9035",5,"噩梦9-3","9045",199,0,51011,205999,10100,"20001#20003#20011#20016#20004#20002#20018","17#3340|3#3375|14#3530|79#19","60103#1|60128#1|60138#1|60143#1",1004,20,"601011#400|601012#600","601011#210101|601012#210101",90,10800,{"$f":"T1680","v":"466#-197"},1,2273]
[null,"9045",5,"噩梦9-4","9055",199,0,51011,205999,10100,"20001#20003#20011#20016#20004#20002#20018","17#3340|3#3375|14#3530|79#19","60103#1|60128#1|60138#1|60143#1",1004,20,"601011#400|601012#600","601011#210101|601012#210101",90,10800,{"$f":"T1681","v":"373#-197"},1,2274]
[null,"9055",5,"噩梦9-5","9065",199,0,51011,205999,10100,"20001#20003#20011#20016#20004#20002#20018","17#3340|3#3375|14#3530|79#19","60103#1|60128#1|60138#1|60143#1",1004,20,"601011#400|601012#600","601011#210101|601012#210101",90,10800,{"$f":"T1682","v":"276#-213"},1,2275]
[null,"9065",5,"噩梦9-6","9075",199,0,51011,205999,10100,"20001#20003#20011#20016#20004#20002#20018","17#3340|3#3375|14#3530|79#19","60103#1|60128#1|60138#1|60143#1",1004,20,"601011#400|601012#600","601011#210101|601012#210101",90,10800,{"$f":"T1683","v":"192#-258"},1,2276]
[null,"9075",5,"噩梦9-7","9085",199,0,51011,205999,10100,"20001#20003#20011#20016#20004#20002#20018","17#3340|3#3375|14#3530|79#19","60103#1|60128#1|60138#1|60143#1",1004,20,"601011#400|601012#600","601011#210101|601012#210101",90,10800,{"$f":"T1684","v":"109#-292"},1,2277]
[null,"9085",5,"噩梦9-8","9095",199,0,51011,205999,10100,"20001#20003#20011#20016#20004#20002#20018","17#3340|3#3375|14#3530|79#19","60103#1|60128#1|60138#1|60143#1",1004,20,"601011#400|601012#600","601011#210101|601012#210101",90,10800,{"$f":"T1685","v":"18#-311"},1,2278]
[null,"9095",5,"噩梦9-9","9105",199,0,51011,205999,10100,"20001#20003#20011#20016#20004#20002#20018","17#3340|3#3375|14#3530|79#19","60103#1|60128#1|60138#1|60143#1",1004,20,"601011#400|601012#600","601011#210101|601012#210101",90,10800,{"$f":"T1686","v":"-72#-317"},1,2279]
[null,"9105",5,"噩梦9-10","9115",199,0,51011,205999,10100,"20001#20003#20011#20016#20004#20002#20018","17#3340|3#3375|14#3530|79#19","60103#1|60128#1|60138#1|60143#1",1004,20,"601011#400|601012#600","601011#210101|601012#210101",90,10800,{"$f":"T1687","v":"-148#-285"},1,2280]
[null,"9115",5,"噩梦9-11","9125",199,0,51011,205999,10100,"20001#20003#20011#20016#20004#20002#20018","17#3340|3#3375|14#3530|79#19","60103#1|60128#1|60138#1|60143#1",1004,20,"601011#400|601012#600","601011#210101|601012#210101",90,10800,{"$f":"T1688","v":"-72#-234"},2,2281]
[null,"9125",5,"噩梦9-12","9135",199,0,51011,205999,10100,"20001#20003#20011#20016#20004#20002#20018","17#3340|3#3375|14#3530|79#19","60103#1|60128#1|60138#1|60143#1",1004,20,"601011#400|601012#600","601011#210101|601012#210101",90,10800,{"$f":"T1689","v":"20#-234"},2,2282]
[null,"9135",5,"噩梦9-13","9145",199,0,51011,205999,10100,"20001#20003#20011#20016#20004#20002#20018","17#3340|3#3375|14#3530|79#19","60103#1|60128#1|60138#1|60143#1",1004,20,"601011#400|601012#600","601011#210101|601012#210101",90,10800,{"$f":"T1690","v":"117#-229"},2,2283]
[null,"9145",5,"噩梦9-14","9155",199,0,51011,205999,10100,"20001#20003#20011#20016#20004#20002#20018","17#3340|3#3375|14#3530|79#19","60103#1|60128#1|60138#1|60143#1",1004,20,"601011#400|601012#600","601011#210101|601012#210101",90,10800,{"$f":"T1691","v":"206#-200"},2,2284]
[null,"9155",5,"噩梦9-15","9165",199,0,51011,205999,10100,"20001#20003#20011#20016#20004#20002#20018","17#3340|3#3375|14#3530|79#19","60103#1|60128#1|60138#1|60143#1",1004,20,"601011#400|601012#600","601011#210101|601012#210101",90,10800,{"$f":"T1692","v":"156#-140"},2,2285]
[null,"9165",5,"噩梦9-16","9175",199,0,51011,205999,10100,"20001#20003#20011#20016#20004#20002#20018","17#3340|3#3375|14#3530|79#19","60103#1|60128#1|60138#1|60143#1",1004,20,"601011#400|601012#600","601011#210101|601012#210101",90,10800,{"$f":"T1693","v":"234#-96"},2,2286]
[null,"9175",5,"噩梦9-17","9185",199,0,51011,205999,10100,"20001#20003#20011#20016#20004#20002#20018","17#3340|3#3375|14#3530|79#19","60103#1|60128#1|60138#1|60143#1",1004,20,"601011#400|601012#600","601011#210101|601012#210101",90,10800,{"$f":"T1694","v":"262#-55"},1,2287]
[null,"9185",5,"噩梦9-18","9195",199,0,51011,205999,10100,"20001#20003#20011#20016#20004#20002#20018","17#3340|3#3375|14#3530|79#19","60103#1|60128#1|60138#1|60143#1",1004,20,"601011#400|601012#600","601011#210101|601012#210101",90,10800,{"$f":"T1695","v":"184#-96"},1,2288]
[null,"9195",5,"噩梦9-19","9205",199,0,51011,205999,10100,"20001#20003#20011#20016#20004#20002#20018","17#3340|3#3375|14#3530|79#19","60103#1|60128#1|60138#1|60143#1",1004,20,"601011#400|601012#600","601011#210101|601012#210101",90,10800,{"$f":"T1696","v":"102#-127"},1,2289]
[null,"9205",5,"噩梦9-20","9215",199,0,51011,205999,10100,"20001#20003#20011#20016#20004#20002#20018","17#3340|3#3375|14#3530|79#19","60103#1|60128#1|60138#1|60143#1",1004,20,"601011#400|601012#600","601011#210101|601012#210101",90,10800,{"$f":"T1697","v":"13#-119"},1,2290]
[null,"9215",5,"噩梦9-21","9225",199,0,51011,205999,10100,"20001#20003#20011#20016#20004#20002#20018","17#3340|3#3375|14#3530|79#19","60103#1|60128#1|60138#1|60143#1",1004,20,"601011#400|601012#600","601011#210101|601012#210101",90,10800,{"$f":"T1698","v":"-81#-141"},1,2291]
[null,"9225",5,"噩梦9-22","9235",199,0,51011,205999,10100,"20001#20003#20011#20016#20004#20002#20018","17#3340|3#3375|14#3530|79#19","60103#1|60128#1|60138#1|60143#1",1004,20,"601011#400|601012#600","601011#210101|601012#210101",90,10800,{"$f":"T1699","v":"-165#-162"},1,2292]
[null,"9235",5,"噩梦9-23","9245",199,0,51011,205999,10100,"20001#20003#20011#20016#20004#20002#20018","17#3340|3#3375|14#3530|79#19","60103#1|60128#1|60138#1|60143#1",1004,20,"601011#400|601012#600","601011#210101|601012#210101",90,10800,{"$f":"T1700","v":"-208#-142"},2,2293]
[null,"9245",5,"噩梦9-24","9255",199,0,51011,205999,10100,"20001#20003#20011#20016#20004#20002#20018","17#3340|3#3375|14#3530|79#19","60103#1|60128#1|60138#1|60143#1",1004,20,"601011#400|601012#600","601011#210101|601012#210101",90,10800,{"$f":"T1701","v":"-194#-104"},1,2294]
[null,"9255",5,"噩梦9-25","9265",199,0,51011,205999,10100,"20001#20003#20011#20016#20004#20002#20018","17#3340|3#3375|14#3530|79#19","60103#1|60128#1|60138#1|60143#1",1004,20,"601011#400|601012#600","601011#210101|601012#210101",90,10800,{"$f":"T1702","v":"-287#-110"},1,2295]
[null,"9265",5,"噩梦9-26","9275",199,0,51011,205999,10100,"20001#20003#20011#20016#20004#20002#20018","17#3340|3#3375|14#3530|79#19","60103#1|60128#1|60138#1|60143#1",1004,20,"601011#400|601012#600","601011#210101|601012#210101",90,10800,{"$f":"T1703","v":"-370#-150"},1,2296]
[null,"9275",5,"噩梦9-27","9285",199,0,51011,205999,10100,"20001#20003#20011#20016#20004#20002#20018","17#3340|3#3375|14#3530|79#19","60103#1|60128#1|60138#1|60143#1",1004,20,"601011#400|601012#600","601011#210101|601012#210101",90,10800,{"$f":"T1704","v":"-446#-168"},1,2297]
[null,"9285",5,"噩梦9-28","9295",199,0,51011,205999,10100,"20001#20003#20011#20016#20004#20002#20018","17#3340|3#3375|14#3530|79#19","60103#1|60128#1|60138#1|60143#1",1004,20,"601011#400|601012#600","601011#210101|601012#210101",90,10800,{"$f":"T1705","v":"-515#-133"},1,2298]
[null,"9295",5,"噩梦9-29","9305",199,0,51011,205999,10100,"20001#20003#20011#20016#20004#20002#20018","17#3340|3#3375|14#3530|79#19","60103#1|60128#1|60138#1|60143#1",1004,20,"601011#400|601012#600","601011#210101|601012#210101",90,10800,{"$f":"T1706","v":"-457#-98"},2,2299]
[null,"9305",5,"噩梦9-30","9315",199,0,51011,205999,10100,"20001#20003#20011#20016#20004#20002#20018","17#3340|3#3375|14#3530|79#19","60103#1|60128#1|60138#1|60143#1",1004,20,"601011#400|601012#600","601011#210101|601012#210101",90,10800,{"$f":"T1707","v":"-380#-82"},2,2300]
[null,"9315",5,"噩梦9-31","9325",199,0,51011,205999,10100,"20001#20003#20011#20016#20004#20002#20018","17#3340|3#3375|14#3530|79#19","60103#1|60128#1|60138#1|60143#1",1004,20,"601011#400|601012#600","601011#210101|601012#210101",90,10800,{"$f":"T1708","v":"-302#-53"},2,2301]
[null,"9325",5,"噩梦9-32","9335",199,0,51011,205999,10100,"20001#20003#20011#20016#20004#20002#20018","17#3340|3#3375|14#3530|79#19","60103#1|60128#1|60138#1|60143#1",1004,20,"601011#400|601012#600","601011#210101|601012#210101",90,10800,{"$f":"T1709","v":"-296#26"},2,2302]
[null,"9335",5,"噩梦9-33","9345",199,0,51011,205999,10100,"20001#20003#20011#20016#20004#20002#20018","17#3340|3#3375|14#3530|79#19","60103#1|60128#1|60138#1|60143#1",1004,20,"601011#400|601012#600","601011#210101|601012#210101",90,10800,{"$f":"T1710","v":"-200#34"},2,2303]
[null,"9345",5,"噩梦9-34","9355",199,0,51011,205999,10100,"20001#20003#20011#20016#20004#20002#20018","17#3340|3#3375|14#3530|79#19","60103#1|60128#1|60138#1|60143#1",1004,20,"601011#400|601012#600","601011#210101|601012#210101",90,10800,{"$f":"T1711","v":"-99#47"},2,2304]
[null,"9355",5,"噩梦9-35","9365",199,0,51011,205999,10100,"20001#20003#20011#20016#20004#20002#20018","17#3340|3#3375|14#3530|79#19","60103#1|60128#1|60138#1|60143#1",1004,20,"601011#400|601012#600","601011#210101|601012#210101",90,10800,{"$f":"T1712","v":"-16#100"},2,2305]
[null,"9365",5,"噩梦9-36","9375",199,0,51011,205999,10100,"20001#20003#20011#20016#20004#20002#20018","17#3340|3#3375|14#3530|79#19","60103#1|60128#1|60138#1|60143#1",1004,20,"601011#400|601012#600","601011#210101|601012#210101",90,10800,{"$f":"T1713","v":"62#43"},2,2306]
[null,"9375",5,"噩梦9-37","9385",199,0,51011,205999,10100,"20001#20003#20011#20016#20004#20002#20018","17#3340|3#3375|14#3530|79#19","60103#1|60128#1|60138#1|60143#1",1004,20,"601011#400|601012#600","601011#210101|601012#210101",90,10800,{"$f":"T1714","v":"149#23"},2,2307]
[null,"9385",5,"噩梦9-38","9395",199,0,51011,205999,10100,"20001#20003#20011#20016#20004#20002#20018","17#3340|3#3375|14#3530|79#19","60103#1|60128#1|60138#1|60143#1",1004,20,"601011#400|601012#600","601011#210101|601012#210101",90,10800,{"$f":"T1715","v":"226#14"},2,2308]
[null,"9395",5,"噩梦9-39","9405",199,0,51011,205999,10100,"20001#20003#20011#20016#20004#20002#20018","17#3340|3#3375|14#3530|79#19","60103#1|60128#1|60138#1|60143#1",1004,20,"601011#400|601012#600","601011#210101|601012#210101",90,10800,{"$f":"T1716","v":"322#35"},2,2309]
[null,"9405",5,"噩梦9-40","10015",199,0,51011,205999,10100,"20001#20003#20011#20016#20004#20002#20018","17#3340|3#3375|14#3530|79#19","60103#1|60128#1|60138#1|60143#1",1004,20,"601011#400|601012#600","601011#210101|601012#210101",90,10800,{"$f":"T1717","v":"421#61"},2,2310]
[null,"10015",5,"噩梦10-1","10025",199,0,51011,205999,10100,"20001#20003#20011#20016#20004#20002#20018","17#3340|3#3375|14#3530|79#19","60103#1|60128#1|60138#1|60143#1",1004,20,"601011#400|601012#600","601011#210101|601012#210101",90,10800,{"$f":"T1718","v":"88#-544"},2,2311]
[null,"10025",5,"噩梦10-2","10035",199,0,51011,205999,10100,"20001#20003#20011#20016#20004#20002#20018","17#3340|3#3375|14#3530|79#19","60103#1|60128#1|60138#1|60143#1",1004,20,"601011#400|601012#600","601011#210101|601012#210101",90,10800,{"$f":"T1719","v":"146#-561"},2,2312]
[null,"10035",5,"噩梦10-3","10045",199,0,51011,205999,10100,"20001#20003#20011#20016#20004#20002#20018","17#3340|3#3375|14#3530|79#19","60103#1|60128#1|60138#1|60143#1",1004,20,"601011#400|601012#600","601011#210101|601012#210101",90,10800,{"$f":"T1720","v":"202#-557"},2,2313]
[null,"10045",5,"噩梦10-4","10055",199,0,51011,205999,10100,"20001#20003#20011#20016#20004#20002#20018","17#3340|3#3375|14#3530|79#19","60103#1|60128#1|60138#1|60143#1",1004,20,"601011#400|601012#600","601011#210101|601012#210101",90,10800,{"$f":"T1721","v":"253#-538"},2,2314]
[null,"10055",5,"噩梦10-5","10065",199,0,51011,205999,10100,"20001#20003#20011#20016#20004#20002#20018","17#3340|3#3375|14#3530|79#19","60103#1|60128#1|60138#1|60143#1",1004,20,"601011#400|601012#600","601011#210101|601012#210101",90,10800,{"$f":"T1722","v":"305#-511"},2,2315]
[null,"10065",5,"噩梦10-6","10075",199,0,51011,205999,10100,"20001#20003#20011#20016#20004#20002#20018","17#3340|3#3375|14#3530|79#19","60103#1|60128#1|60138#1|60143#1",1004,20,"601011#400|601012#600","601011#210101|601012#210101",90,10800,{"$f":"T1723","v":"362#-503"},2,2316]
[null,"10075",5,"噩梦10-7","10085",199,0,51011,205999,10100,"20001#20003#20011#20016#20004#20002#20018","17#3340|3#3375|14#3530|79#19","60103#1|60128#1|60138#1|60143#1",1004,20,"601011#400|601012#600","601011#210101|601012#210101",90,10800,{"$f":"T1724","v":"417#-492"},2,2317]
[null,"10085",5,"噩梦10-8","10095",199,0,51011,205999,10100,"20001#20003#20011#20016#20004#20002#20018","17#3340|3#3375|14#3530|79#19","60103#1|60128#1|60138#1|60143#1",1004,20,"601011#400|601012#600","601011#210101|601012#210101",90,10800,{"$f":"T1725","v":"462#-457"},2,2318]
[null,"10095",5,"噩梦10-9","10105",199,0,51011,205999,10100,"20001#20003#20011#20016#20004#20002#20018","17#3340|3#3375|14#3530|79#19","60103#1|60128#1|60138#1|60143#1",1004,20,"601011#400|601012#600","601011#210101|601012#210101",90,10800,{"$f":"T1726","v":"456#-406"},1,2319]
[null,"10105",5,"噩梦10-10","10115",199,0,51011,205999,10100,"20001#20003#20011#20016#20004#20002#20018","17#3340|3#3375|14#3530|79#19","60103#1|60128#1|60138#1|60143#1",1004,20,"601011#400|601012#600","601011#210101|601012#210101",90,10800,{"$f":"T1727","v":"404#-376"},1,2320]
[null,"10115",5,"噩梦10-11","10125",199,0,51011,205999,10100,"20001#20003#20011#20016#20004#20002#20018","17#3340|3#3375|14#3530|79#19","60103#1|60128#1|60138#1|60143#1",1004,20,"601011#400|601012#600","601011#210101|601012#210101",90,10800,{"$f":"T1728","v":"343#-370"},1,2321]
[null,"10125",5,"噩梦10-12","10135",199,0,51011,205999,10100,"20001#20003#20011#20016#20004#20002#20018","17#3340|3#3375|14#3530|79#19","60103#1|60128#1|60138#1|60143#1",1004,20,"601011#400|601012#600","601011#210101|601012#210101",90,10800,{"$f":"T1729","v":"291#-349"},1,2322]
[null,"10135",5,"噩梦10-13","10145",199,0,51011,205999,10100,"20001#20003#20011#20016#20004#20002#20018","17#3340|3#3375|14#3530|79#19","60103#1|60128#1|60138#1|60143#1",1004,20,"601011#400|601012#600","601011#210101|601012#210101",90,10800,{"$f":"T1730","v":"250#-304"},1,2323]
[null,"10145",5,"噩梦10-14","10155",199,0,51011,205999,10100,"20001#20003#20011#20016#20004#20002#20018","17#3340|3#3375|14#3530|79#19","60103#1|60128#1|60138#1|60143#1",1004,20,"601011#400|601012#600","601011#210101|601012#210101",90,10800,{"$f":"T1731","v":"197#-297"},1,2324]
[null,"10155",5,"噩梦10-15","10165",199,0,51011,205999,10100,"20001#20003#20011#20016#20004#20002#20018","17#3340|3#3375|14#3530|79#19","60103#1|60128#1|60138#1|60143#1",1004,20,"601011#400|601012#600","601011#210101|601012#210101",90,10800,{"$f":"T1732","v":"132#-311"},1,2325]
[null,"10165",5,"噩梦10-16","10175",199,0,51011,205999,10100,"20001#20003#20011#20016#20004#20002#20018","17#3340|3#3375|14#3530|79#19","60103#1|60128#1|60138#1|60143#1",1004,20,"601011#400|601012#600","601011#210101|601012#210101",90,10800,{"$f":"T1733","v":"128#-357"},2,2326]
[null,"10175",5,"噩梦10-17","10185",199,0,51011,205999,10100,"20001#20003#20011#20016#20004#20002#20018","17#3340|3#3375|14#3530|79#19","60103#1|60128#1|60138#1|60143#1",1004,20,"601011#400|601012#600","601011#210101|601012#210101",90,10800,{"$f":"T1734","v":"176#-376"},2,2327]
[null,"10185",5,"噩梦10-18","10195",199,0,51011,205999,10100,"20001#20003#20011#20016#20004#20002#20018","17#3340|3#3375|14#3530|79#19","60103#1|60128#1|60138#1|60143#1",1004,20,"601011#400|601012#600","601011#210101|601012#210101",90,10800,{"$f":"T1735","v":"182#-417"},1,2328]
[null,"10195",5,"噩梦10-19","10205",199,0,51011,205999,10100,"20001#20003#20011#20016#20004#20002#20018","17#3340|3#3375|14#3530|79#19","60103#1|60128#1|60138#1|60143#1",1004,20,"601011#400|601012#600","601011#210101|601012#210101",90,10800,{"$f":"T1736","v":"127#-421"},1,2329]
[null,"10205",5,"噩梦10-20","10215",199,0,51011,205999,10100,"20001#20003#20011#20016#20004#20002#20018","17#3340|3#3375|14#3530|79#19","60103#1|60128#1|60138#1|60143#1",1004,20,"601011#400|601012#600","601011#210101|601012#210101",90,10800,{"$f":"T1737","v":"71#-403"},1,2330]
[null,"10215",5,"噩梦10-21","10225",199,0,51011,205999,10100,"20001#20003#20011#20016#20004#20002#20018","17#3340|3#3375|14#3530|79#19","60103#1|60128#1|60138#1|60143#1",1004,20,"601011#400|601012#600","601011#210101|601012#210101",90,10800,{"$f":"T1738","v":"13#-406"},1,2331]
[null,"10225",5,"噩梦10-22","10235",199,0,51011,205999,10100,"20001#20003#20011#20016#20004#20002#20018","17#3340|3#3375|14#3530|79#19","60103#1|60128#1|60138#1|60143#1",1004,20,"601011#400|601012#600","601011#210101|601012#210101",90,10800,{"$f":"T1739","v":"-41#-434"},1,2332]
[null,"10235",5,"噩梦10-23","10245",199,0,51011,205999,10100,"20001#20003#20011#20016#20004#20002#20018","17#3340|3#3375|14#3530|79#19","60103#1|60128#1|60138#1|60143#1",1004,20,"601011#400|601012#600","601011#210101|601012#210101",90,10800,{"$f":"T1740","v":"-91#-447"},1,2333]
[null,"10245",5,"噩梦10-24","10255",199,0,51011,205999,10100,"20001#20003#20011#20016#20004#20002#20018","17#3340|3#3375|14#3530|79#19","60103#1|60128#1|60138#1|60143#1",1004,20,"601011#400|601012#600","601011#210101|601012#210101",90,10800,{"$f":"T1741","v":"-142#-438"},1,2334]
[null,"10255",5,"噩梦10-25","10265",199,0,51011,205999,10100,"20001#20003#20011#20016#20004#20002#20018","17#3340|3#3375|14#3530|79#19","60103#1|60128#1|60138#1|60143#1",1004,20,"601011#400|601012#600","601011#210101|601012#210101",90,10800,{"$f":"T1742","v":"-182#-398"},1,2335]
[null,"10265",5,"噩梦10-26","10275",199,0,51011,205999,10100,"20001#20003#20011#20016#20004#20002#20018","17#3340|3#3375|14#3530|79#19","60103#1|60128#1|60138#1|60143#1",1004,20,"601011#400|601012#600","601011#210101|601012#210101",90,10800,{"$f":"T1743","v":"-238#-365"},1,2336]
[null,"10275",5,"噩梦10-27","10285",199,0,51011,205999,10100,"20001#20003#20011#20016#20004#20002#20018","17#3340|3#3375|14#3530|79#19","60103#1|60128#1|60138#1|60143#1",1004,20,"601011#400|601012#600","601011#210101|601012#210101",90,10800,{"$f":"T1744","v":"-290#-359"},1,2337]
[null,"10285",5,"噩梦10-28","10295",199,0,51011,205999,10100,"20001#20003#20011#20016#20004#20002#20018","17#3340|3#3375|14#3530|79#19","60103#1|60128#1|60138#1|60143#1",1004,20,"601011#400|601012#600","601011#210101|601012#210101",90,10800,{"$f":"T1745","v":"-337#-363"},1,2338]
[null,"10295",5,"噩梦10-29","10305",199,0,51011,205999,10100,"20001#20003#20011#20016#20004#20002#20018","17#3340|3#3375|14#3530|79#19","60103#1|60128#1|60138#1|60143#1",1004,20,"601011#400|601012#600","601011#210101|601012#210101",90,10800,{"$f":"T1746","v":"-368#-330"},1,2339]
[null,"10305",5,"噩梦10-30","10315",199,0,51011,205999,10100,"20001#20003#20011#20016#20004#20002#20018","17#3340|3#3375|14#3530|79#19","60103#1|60128#1|60138#1|60143#1",1004,20,"601011#400|601012#600","601011#210101|601012#210101",90,10800,{"$f":"T1747","v":"-345#-285"},2,2340]
[null,"10315",5,"噩梦10-31","10325",199,0,51011,205999,10100,"20001#20003#20011#20016#20004#20002#20018","17#3340|3#3375|14#3530|79#19","60103#1|60128#1|60138#1|60143#1",1004,20,"601011#400|601012#600","601011#210101|601012#210101",90,10800,{"$f":"T1748","v":"-285#-263"},2,2341]
[null,"10325",5,"噩梦10-32","10335",199,0,51011,205999,10100,"20001#20003#20011#20016#20004#20002#20018","17#3340|3#3375|14#3530|79#19","60103#1|60128#1|60138#1|60143#1",1004,20,"601011#400|601012#600","601011#210101|601012#210101",90,10800,{"$f":"T1749","v":"-232#-259"},2,2342]
[null,"10335",5,"噩梦10-33","10345",199,0,51011,205999,10100,"20001#20003#20011#20016#20004#20002#20018","17#3340|3#3375|14#3530|79#19","60103#1|60128#1|60138#1|60143#1",1004,20,"601011#400|601012#600","601011#210101|601012#210101",90,10800,{"$f":"T1750","v":"-193#-263"},2,2343]
[null,"10345",5,"噩梦10-34","10355",199,0,51011,205999,10100,"20001#20003#20011#20016#20004#20002#20018","17#3340|3#3375|14#3530|79#19","60103#1|60128#1|60138#1|60143#1",1004,20,"601011#400|601012#600","601011#210101|601012#210101",90,10800,{"$f":"T1751","v":"-141#-275"},2,2344]
[null,"10355",5,"噩梦10-35","10365",199,0,51011,205999,10100,"20001#20003#20011#20016#20004#20002#20018","17#3340|3#3375|14#3530|79#19","60103#1|60128#1|60138#1|60143#1",1004,20,"601011#400|601012#600","601011#210101|601012#210101",90,10800,{"$f":"T1752","v":"-91#-282"},2,2345]
[null,"10365",5,"噩梦10-36","10375",199,0,51011,205999,10100,"20001#20003#20011#20016#20004#20002#20018","17#3340|3#3375|14#3530|79#19","60103#1|60128#1|60138#1|60143#1",1004,20,"601011#400|601012#600","601011#210101|601012#210101",90,10800,{"$f":"T1753","v":"-41#-277"},2,2346]
[null,"10375",5,"噩梦10-37","10385",199,0,51011,205999,10100,"20001#20003#20011#20016#20004#20002#20018","17#3340|3#3375|14#3530|79#19","60103#1|60128#1|60138#1|60143#1",1004,20,"601011#400|601012#600","601011#210101|601012#210101",90,10800,{"$f":"T1754","v":"3#-259"},2,2347]
[null,"10385",5,"噩梦10-38","10395",199,0,51011,205999,10100,"20001#20003#20011#20016#20004#20002#20018","17#3340|3#3375|14#3530|79#19","60103#1|60128#1|60138#1|60143#1",1004,20,"601011#400|601012#600","601011#210101|601012#210101",90,10800,{"$f":"T1755","v":"41#-235"},2,2348]
[null,"10395",5,"噩梦10-39","10405",199,0,51011,205999,10100,"20001#20003#20011#20016#20004#20002#20018","17#3340|3#3375|14#3530|79#19","60103#1|60128#1|60138#1|60143#1",1004,20,"601011#400|601012#600","601011#210101|601012#210101",90,10800,{"$f":"T1756","v":"79#-213"},2,2349]
[null,"10405",5,"噩梦10-40","11015",199,0,51011,205999,10100,"20001#20003#20011#20016#20004#20002#20018","17#3340|3#3375|14#3530|79#19","60103#1|60128#1|60138#1|60143#1",1004,20,"601011#400|601012#600","601011#210101|601012#210101",90,10800,{"$f":"T1757","v":"123#-218"},2,2350]
[null,"11015",5,"噩梦11-1","11025",199,0,51011,205999,10100,"20001#20003#20011#20016#20004#20002#20018","17#3340|3#3375|14#3530|79#19","60103#1|60128#1|60138#1|60143#1",1004,20,"601011#400|601012#600","601011#210101|601012#210101",90,10800,{"$f":"T1758","v":"424#-262"},1,2351]
[null,"11025",5,"噩梦11-2","11035",199,0,51011,205999,10100,"20001#20003#20011#20016#20004#20002#20018","17#3340|3#3375|14#3530|79#19","60103#1|60128#1|60138#1|60143#1",1004,20,"601011#400|601012#600","601011#210101|601012#210101",90,10800,{"$f":"T1759","v":"360#-244"},1,2352]
[null,"11035",5,"噩梦11-3","11045",199,0,51011,205999,10100,"20001#20003#20011#20016#20004#20002#20018","17#3340|3#3375|14#3530|79#19","60103#1|60128#1|60138#1|60143#1",1004,20,"601011#400|601012#600","601011#210101|601012#210101",90,10800,{"$f":"T1760","v":"289#-238"},1,2353]
[null,"11045",5,"噩梦11-4","11055",199,0,51011,205999,10100,"20001#20003#20011#20016#20004#20002#20018","17#3340|3#3375|14#3530|79#19","60103#1|60128#1|60138#1|60143#1",1004,20,"601011#400|601012#600","601011#210101|601012#210101",90,10800,{"$f":"T1761","v":"231#-249"},1,2354]
[null,"11055",5,"噩梦11-5","11065",199,0,51011,205999,10100,"20001#20003#20011#20016#20004#20002#20018","17#3340|3#3375|14#3530|79#19","60103#1|60128#1|60138#1|60143#1",1004,20,"601011#400|601012#600","601011#210101|601012#210101",90,10800,{"$f":"T1762","v":"167#-276"},1,2355]
[null,"11065",5,"噩梦11-6","11075",199,0,51011,205999,10100,"20001#20003#20011#20016#20004#20002#20018","17#3340|3#3375|14#3530|79#19","60103#1|60128#1|60138#1|60143#1",1004,20,"601011#400|601012#600","601011#210101|601012#210101",90,10800,{"$f":"T1763","v":"108#-300"},1,2356]
[null,"11075",5,"噩梦11-7","11085",199,0,51011,205999,10100,"20001#20003#20011#20016#20004#20002#20018","17#3340|3#3375|14#3530|79#19","60103#1|60128#1|60138#1|60143#1",1004,20,"601011#400|601012#600","601011#210101|601012#210101",90,10800,{"$f":"T1764","v":"50#-309"},1,2357]
[null,"11085",5,"噩梦11-8","11095",199,0,51011,205999,10100,"20001#20003#20011#20016#20004#20002#20018","17#3340|3#3375|14#3530|79#19","60103#1|60128#1|60138#1|60143#1",1004,20,"601011#400|601012#600","601011#210101|601012#210101",90,10800,{"$f":"T1765","v":"-16#-308"},1,2358]
[null,"11095",5,"噩梦11-9","11105",199,0,51011,205999,10100,"20001#20003#20011#20016#20004#20002#20018","17#3340|3#3375|14#3530|79#19","60103#1|60128#1|60138#1|60143#1",1004,20,"601011#400|601012#600","601011#210101|601012#210101",90,10800,{"$f":"T1766","v":"-82#-291"},1,2359]
[null,"11105",5,"噩梦11-10","11115",199,0,51011,205999,10100,"20001#20003#20011#20016#20004#20002#20018","17#3340|3#3375|14#3530|79#19","60103#1|60128#1|60138#1|60143#1",1004,20,"601011#400|601012#600","601011#210101|601012#210101",90,10800,{"$f":"T1767","v":"-142#-268"},1,2360]
[null,"11115",5,"噩梦11-11","11125",199,0,51011,205999,10100,"20001#20003#20011#20016#20004#20002#20018","17#3340|3#3375|14#3530|79#19","60103#1|60128#1|60138#1|60143#1",1004,20,"601011#400|601012#600","601011#210101|601012#210101",90,10800,{"$f":"T1768","v":"-207#-247"},1,2361]
[null,"11125",5,"噩梦11-12","11135",199,0,51011,205999,10100,"20001#20003#20011#20016#20004#20002#20018","17#3340|3#3375|14#3530|79#19","60103#1|60128#1|60138#1|60143#1",1004,20,"601011#400|601012#600","601011#210101|601012#210101",90,10800,{"$f":"T1769","v":"-158#-220"},2,2362]
[null,"11135",5,"噩梦11-13","11145",199,0,51011,205999,10100,"20001#20003#20011#20016#20004#20002#20018","17#3340|3#3375|14#3530|79#19","60103#1|60128#1|60138#1|60143#1",1004,20,"601011#400|601012#600","601011#210101|601012#210101",90,10800,{"$f":"T1770","v":"-116#-202"},1,2363]
[null,"11145",5,"噩梦11-14","11155",199,0,51011,205999,10100,"20001#20003#20011#20016#20004#20002#20018","17#3340|3#3375|14#3530|79#19","60103#1|60128#1|60138#1|60143#1",1004,20,"601011#400|601012#600","601011#210101|601012#210101",90,10800,{"$f":"T1771","v":"-152#-161"},1,2364]
[null,"11155",5,"噩梦11-15","11165",199,0,51011,205999,10100,"20001#20003#20011#20016#20004#20002#20018","17#3340|3#3375|14#3530|79#19","60103#1|60128#1|60138#1|60143#1",1004,20,"601011#400|601012#600","601011#210101|601012#210101",90,10800,{"$f":"T1772","v":"-200#-135"},1,2365]
[null,"11165",5,"噩梦11-16","11175",199,0,51011,205999,10100,"20001#20003#20011#20016#20004#20002#20018","17#3340|3#3375|14#3530|79#19","60103#1|60128#1|60138#1|60143#1",1004,20,"601011#400|601012#600","601011#210101|601012#210101",90,10800,{"$f":"T1773","v":"-257#-114"},1,2366]
[null,"11175",5,"噩梦11-17","11185",199,0,51011,205999,10100,"20001#20003#20011#20016#20004#20002#20018","17#3340|3#3375|14#3530|79#19","60103#1|60128#1|60138#1|60143#1",1004,20,"601011#400|601012#600","601011#210101|601012#210101",90,10800,{"$f":"T1774","v":"-325#-115"},1,2367]
[null,"11185",5,"噩梦11-18","11195",199,0,51011,205999,10100,"20001#20003#20011#20016#20004#20002#20018","17#3340|3#3375|14#3530|79#19","60103#1|60128#1|60138#1|60143#1",1004,20,"601011#400|601012#600","601011#210101|601012#210101",90,10800,{"$f":"T1775","v":"-374#-85"},1,2368]
[null,"11195",5,"噩梦11-19","11205",199,0,51011,205999,10100,"20001#20003#20011#20016#20004#20002#20018","17#3340|3#3375|14#3530|79#19","60103#1|60128#1|60138#1|60143#1",1004,20,"601011#400|601012#600","601011#210101|601012#210101",90,10800,{"$f":"T1776","v":"-354#-40"},2,2369]
[null,"11205",5,"噩梦11-20","11215",199,0,51011,205999,10100,"20001#20003#20011#20016#20004#20002#20018","17#3340|3#3375|14#3530|79#19","60103#1|60128#1|60138#1|60143#1",1004,20,"601011#400|601012#600","601011#210101|601012#210101",90,10800,{"$f":"T1777","v":"-291#-30"},2,2370]
[null,"11215",5,"噩梦11-21","11225",199,0,51011,205999,10100,"20001#20003#20011#20016#20004#20002#20018","17#3340|3#3375|14#3530|79#19","60103#1|60128#1|60138#1|60143#1",1004,20,"601011#400|601012#600","601011#210101|601012#210101",90,10800,{"$f":"T1778","v":"-257#11"},2,2371]
[null,"11225",5,"噩梦11-22","11235",199,0,51011,205999,10100,"20001#20003#20011#20016#20004#20002#20018","17#3340|3#3375|14#3530|79#19","60103#1|60128#1|60138#1|60143#1",1004,20,"601011#400|601012#600","601011#210101|601012#210101",90,10800,{"$f":"T1779","v":"-214#51"},2,2372]
[null,"11235",5,"噩梦11-23","11245",199,0,51011,205999,10100,"20001#20003#20011#20016#20004#20002#20018","17#3340|3#3375|14#3530|79#19","60103#1|60128#1|60138#1|60143#1",1004,20,"601011#400|601012#600","601011#210101|601012#210101",90,10800,{"$f":"T1780","v":"-155#54"},2,2373]
[null,"11245",5,"噩梦11-24","11255",199,0,51011,205999,10100,"20001#20003#20011#20016#20004#20002#20018","17#3340|3#3375|14#3530|79#19","60103#1|60128#1|60138#1|60143#1",1004,20,"601011#400|601012#600","601011#210101|601012#210101",90,10800,{"$f":"T1781","v":"-107#40"},2,2374]
[null,"11255",5,"噩梦11-25","11265",199,0,51011,205999,10100,"20001#20003#20011#20016#20004#20002#20018","17#3340|3#3375|14#3530|79#19","60103#1|60128#1|60138#1|60143#1",1004,20,"601011#400|601012#600","601011#210101|601012#210101",90,10800,{"$f":"T1782","v":"-66#13"},2,2375]
[null,"11265",5,"噩梦11-26","11275",199,0,51011,205999,10100,"20001#20003#20011#20016#20004#20002#20018","17#3340|3#3375|14#3530|79#19","60103#1|60128#1|60138#1|60143#1",1004,20,"601011#400|601012#600","601011#210101|601012#210101",90,10800,{"$f":"T1783","v":"90#-1"},2,2376]
[null,"11275",5,"噩梦11-27","11285",199,0,51011,205999,10100,"20001#20003#20011#20016#20004#20002#20018","17#3340|3#3375|14#3530|79#19","60103#1|60128#1|60138#1|60143#1",1004,20,"601011#400|601012#600","601011#210101|601012#210101",90,10800,{"$f":"T1784","v":"135#-30"},2,2377]
[null,"11285",5,"噩梦11-28","11295",199,0,51011,205999,10100,"20001#20003#20011#20016#20004#20002#20018","17#3340|3#3375|14#3530|79#19","60103#1|60128#1|60138#1|60143#1",1004,20,"601011#400|601012#600","601011#210101|601012#210101",90,10800,{"$f":"T1785","v":"167#-75"},2,2378]
[null,"11295",5,"噩梦11-29","11305",199,0,51011,205999,10100,"20001#20003#20011#20016#20004#20002#20018","17#3340|3#3375|14#3530|79#19","60103#1|60128#1|60138#1|60143#1",1004,20,"601011#400|601012#600","601011#210101|601012#210101",90,10800,{"$f":"T1786","v":"214#-85"},2,2379]
[null,"11305",5,"噩梦11-30","11315",199,0,51011,205999,10100,"20001#20003#20011#20016#20004#20002#20018","17#3340|3#3375|14#3530|79#19","60103#1|60128#1|60138#1|60143#1",1004,20,"601011#400|601012#600","601011#210101|601012#210101",90,10800,{"$f":"T1787","v":"260#-111"},2,2380]
[null,"11315",5,"噩梦11-31","11325",199,0,51011,205999,10100,"20001#20003#20011#20016#20004#20002#20018","17#3340|3#3375|14#3530|79#19","60103#1|60128#1|60138#1|60143#1",1004,20,"601011#400|601012#600","601011#210101|601012#210101",90,10800,{"$f":"T1788","v":"292#-84"},2,2381]
[null,"11325",5,"噩梦11-32","11335",199,0,51011,205999,10100,"20001#20003#20011#20016#20004#20002#20018","17#3340|3#3375|14#3530|79#19","60103#1|60128#1|60138#1|60143#1",1004,20,"601011#400|601012#600","601011#210101|601012#210101",90,10800,{"$f":"T1789","v":"315#-44"},2,2382]
[null,"11335",5,"噩梦11-33","11345",199,0,51011,205999,10100,"20001#20003#20011#20016#20004#20002#20018","17#3340|3#3375|14#3530|79#19","60103#1|60128#1|60138#1|60143#1",1004,20,"601011#400|601012#600","601011#210101|601012#210101",90,10800,{"$f":"T1790","v":"368#-38"},2,2383]
[null,"11345",5,"噩梦11-34","11355",199,0,51011,205999,10100,"20001#20003#20011#20016#20004#20002#20018","17#3340|3#3375|14#3530|79#19","60103#1|60128#1|60138#1|60143#1",1004,20,"601011#400|601012#600","601011#210101|601012#210101",90,10800,{"$f":"T1791","v":"415#-33"},2,2384]
[null,"11355",5,"噩梦11-35","11365",199,0,51011,205999,10100,"20001#20003#20011#20016#20004#20002#20018","17#3340|3#3375|14#3530|79#19","60103#1|60128#1|60138#1|60143#1",1004,20,"601011#400|601012#600","601011#210101|601012#210101",90,10800,{"$f":"T1792","v":"398#7"},1,2385]
[null,"11365",5,"噩梦11-36","11375",199,0,51011,205999,10100,"20001#20003#20011#20016#20004#20002#20018","17#3340|3#3375|14#3530|79#19","60103#1|60128#1|60138#1|60143#1",1004,20,"601011#400|601012#600","601011#210101|601012#210101",90,10800,{"$f":"T1793","v":"325#13"},1,2386]
[null,"11375",5,"噩梦11-37","11385",199,0,51011,205999,10100,"20001#20003#20011#20016#20004#20002#20018","17#3340|3#3375|14#3530|79#19","60103#1|60128#1|60138#1|60143#1",1004,20,"601011#400|601012#600","601011#210101|601012#210101",90,10800,{"$f":"T1794","v":"291#73"},1,2387]
[null,"11385",5,"噩梦11-38","11395",199,0,51011,205999,10100,"20001#20003#20011#20016#20004#20002#20018","17#3340|3#3375|14#3530|79#19","60103#1|60128#1|60138#1|60143#1",1004,20,"601011#400|601012#600","601011#210101|601012#210101",90,10800,{"$f":"T1795","v":"279#148"},1,2388]
[null,"11395",5,"噩梦11-39","11405",199,0,51011,205999,10100,"20001#20003#20011#20016#20004#20002#20018","17#3340|3#3375|14#3530|79#19","60103#1|60128#1|60138#1|60143#1",1004,20,"601011#400|601012#600","601011#210101|601012#210101",90,10800,{"$f":"T1796","v":"255#213"},1,2389]
[null,"11405",5,"噩梦11-40","12015",199,0,51011,205999,10100,"20001#20003#20011#20016#20004#20002#20018","17#3340|3#3375|14#3530|79#19","60103#1|60128#1|60138#1|60143#1",1004,20,"601011#400|601012#600","601011#210101|601012#210101",90,10800,{"$f":"T1797","v":"191#242"},1,2390]
[null,"12015",5,"噩梦12-1","12025",199,0,51011,205999,10100,"20001#20003#20011#20016#20004#20002#20018","17#3340|3#3375|14#3530|79#19","60103#1|60128#1|60138#1|60143#1",1004,20,"601011#400|601012#600","601011#210101|601012#210101",90,10800,{"$f":"T1798","v":"-364#-280"},2,2391]
[null,"12025",5,"噩梦12-2","12035",199,0,51011,205999,10100,"20001#20003#20011#20016#20004#20002#20018","17#3340|3#3375|14#3530|79#19","60103#1|60128#1|60138#1|60143#1",1004,20,"601011#400|601012#600","601011#210101|601012#210101",90,10800,{"$f":"T1799","v":"-293#-286"},2,2392]
[null,"12035",5,"噩梦12-3","12045",199,0,51011,205999,10100,"20001#20003#20011#20016#20004#20002#20018","17#3340|3#3375|14#3530|79#19","60103#1|60128#1|60138#1|60143#1",1004,20,"601011#400|601012#600","601011#210101|601012#210101",90,10800,{"$f":"T1800","v":"-223#-269"},2,2393]
[null,"12045",5,"噩梦12-4","12055",199,0,51011,205999,10100,"20001#20003#20011#20016#20004#20002#20018","17#3340|3#3375|14#3530|79#19","60103#1|60128#1|60138#1|60143#1",1004,20,"601011#400|601012#600","601011#210101|601012#210101",90,10800,{"$f":"T1801","v":"-169#-300"},2,2394]
[null,"12055",5,"噩梦12-5","12065",199,0,51011,205999,10100,"20001#20003#20011#20016#20004#20002#20018","17#3340|3#3375|14#3530|79#19","60103#1|60128#1|60138#1|60143#1",1004,20,"601011#400|601012#600","601011#210101|601012#210101",90,10800,{"$f":"T1802","v":"-133#-353"},2,2395]
[null,"12065",5,"噩梦12-6","12075",199,0,51011,205999,10100,"20001#20003#20011#20016#20004#20002#20018","17#3340|3#3375|14#3530|79#19","60103#1|60128#1|60138#1|60143#1",1004,20,"601011#400|601012#600","601011#210101|601012#210101",90,10800,{"$f":"T1803","v":"-55#-345"},2,2396]
[null,"12075",5,"噩梦12-7","12085",199,0,51011,205999,10100,"20001#20003#20011#20016#20004#20002#20018","17#3340|3#3375|14#3530|79#19","60103#1|60128#1|60138#1|60143#1",1004,20,"601011#400|601012#600","601011#210101|601012#210101",90,10800,{"$f":"T1804","v":"8#-324"},2,2397]
[null,"12085",5,"噩梦12-8","12095",199,0,51011,205999,10100,"20001#20003#20011#20016#20004#20002#20018","17#3340|3#3375|14#3530|79#19","60103#1|60128#1|60138#1|60143#1",1004,20,"601011#400|601012#600","601011#210101|601012#210101",90,10800,{"$f":"T1805","v":"80#-301"},2,2398]
[null,"12095",5,"噩梦12-9","12105",199,0,51011,205999,10100,"20001#20003#20011#20016#20004#20002#20018","17#3340|3#3375|14#3530|79#19","60103#1|60128#1|60138#1|60143#1",1004,20,"601011#400|601012#600","601011#210101|601012#210101",90,10800,{"$f":"T1806","v":"149#-286"},2,2399]
[null,"12105",5,"噩梦12-10","12115",199,0,51011,205999,10100,"20001#20003#20011#20016#20004#20002#20018","17#3340|3#3375|14#3530|79#19","60103#1|60128#1|60138#1|60143#1",1004,20,"601011#400|601012#600","601011#210101|601012#210101",90,10800,{"$f":"T1807","v":"228#-292"},2,2400]
[null,"12115",5,"噩梦12-11","12125",199,0,51011,205999,10100,"20001#20003#20011#20016#20004#20002#20018","17#3340|3#3375|14#3530|79#19","60103#1|60128#1|60138#1|60143#1",1004,20,"601011#400|601012#600","601011#210101|601012#210101",90,10800,{"$f":"T1808","v":"284#-322"},2,2401]
[null,"12125",5,"噩梦12-12","12135",199,0,51011,205999,10100,"20001#20003#20011#20016#20004#20002#20018","17#3340|3#3375|14#3530|79#19","60103#1|60128#1|60138#1|60143#1",1004,20,"601011#400|601012#600","601011#210101|601012#210101",90,10800,{"$f":"T1809","v":"356#-343"},2,2402]
[null,"12135",5,"噩梦12-13","12145",199,0,51011,205999,10100,"20001#20003#20011#20016#20004#20002#20018","17#3340|3#3375|14#3530|79#19","60103#1|60128#1|60138#1|60143#1",1004,20,"601011#400|601012#600","601011#210101|601012#210101",90,10800,{"$f":"T1810","v":"415#-321"},2,2403]
[null,"12145",5,"噩梦12-14","12155",199,0,51011,205999,10100,"20001#20003#20011#20016#20004#20002#20018","17#3340|3#3375|14#3530|79#19","60103#1|60128#1|60138#1|60143#1",1004,20,"601011#400|601012#600","601011#210101|601012#210101",90,10800,{"$f":"T1811","v":"386#-275"},1,2404]
[null,"12155",5,"噩梦12-15","12165",199,0,51011,205999,10100,"20001#20003#20011#20016#20004#20002#20018","17#3340|3#3375|14#3530|79#19","60103#1|60128#1|60138#1|60143#1",1004,20,"601011#400|601012#600","601011#210101|601012#210101",90,10800,{"$f":"T1812","v":"334#-229"},1,2405]
[null,"12165",5,"噩梦12-16","12175",199,0,51011,205999,10100,"20001#20003#20011#20016#20004#20002#20018","17#3340|3#3375|14#3530|79#19","60103#1|60128#1|60138#1|60143#1",1004,20,"601011#400|601012#600","601011#210101|601012#210101",90,10800,{"$f":"T1813","v":"304#-176"},2,2406]
[null,"12175",5,"噩梦12-17","12185",199,0,51011,205999,10100,"20001#20003#20011#20016#20004#20002#20018","17#3340|3#3375|14#3530|79#19","60103#1|60128#1|60138#1|60143#1",1004,20,"601011#400|601012#600","601011#210101|601012#210101",90,10800,{"$f":"T1814","v":"355#-146"},2,2407]
[null,"12185",5,"噩梦12-18","12195",199,0,51011,205999,10100,"20001#20003#20011#20016#20004#20002#20018","17#3340|3#3375|14#3530|79#19","60103#1|60128#1|60138#1|60143#1",1004,20,"601011#400|601012#600","601011#210101|601012#210101",90,10800,{"$f":"T1815","v":"306#-109"},1,2408]
[null,"12195",5,"噩梦12-19","12205",199,0,51011,205999,10100,"20001#20003#20011#20016#20004#20002#20018","17#3340|3#3375|14#3530|79#19","60103#1|60128#1|60138#1|60143#1",1004,20,"601011#400|601012#600","601011#210101|601012#210101",90,10800,{"$f":"T1816","v":"232#-108"},1,2409]
[null,"12205",5,"噩梦12-20","12215",199,0,51011,205999,10100,"20001#20003#20011#20016#20004#20002#20018","17#3340|3#3375|14#3530|79#19","60103#1|60128#1|60138#1|60143#1",1004,20,"601011#400|601012#600","601011#210101|601012#210101",90,10800,{"$f":"T1817","v":"165#-96"},1,2410]
[null,"12215",5,"噩梦12-21","12225",199,0,51011,205999,10100,"20001#20003#20011#20016#20004#20002#20018","17#3340|3#3375|14#3530|79#19","60103#1|60128#1|60138#1|60143#1",1004,20,"601011#400|601012#600","601011#210101|601012#210101",90,10800,{"$f":"T1818","v":"106#-117"},1,2411]
[null,"12225",5,"噩梦12-22","12235",199,0,51011,205999,10100,"20001#20003#20011#20016#20004#20002#20018","17#3340|3#3375|14#3530|79#19","60103#1|60128#1|60138#1|60143#1",1004,20,"601011#400|601012#600","601011#210101|601012#210101",90,10800,{"$f":"T1819","v":"38#-115"},1,2412]
[null,"12235",5,"噩梦12-23","12245",199,0,51011,205999,10100,"20001#20003#20011#20016#20004#20002#20018","17#3340|3#3375|14#3530|79#19","60103#1|60128#1|60138#1|60143#1",1004,20,"601011#400|601012#600","601011#210101|601012#210101",90,10800,{"$f":"T1820","v":"-15#-158"},1,2413]
[null,"12245",5,"噩梦12-24","12255",199,0,51011,205999,10100,"20001#20003#20011#20016#20004#20002#20018","17#3340|3#3375|14#3530|79#19","60103#1|60128#1|60138#1|60143#1",1004,20,"601011#400|601012#600","601011#210101|601012#210101",90,10800,{"$f":"T1821","v":"-48#-203"},1,2414]
[null,"12255",5,"噩梦12-25","12265",199,0,51011,205999,10100,"20001#20003#20011#20016#20004#20002#20018","17#3340|3#3375|14#3530|79#19","60103#1|60128#1|60138#1|60143#1",1004,20,"601011#400|601012#600","601011#210101|601012#210101",90,10800,{"$f":"T1822","v":"-104#-192"},1,2415]
[null,"12265",5,"噩梦12-26","12275",199,0,51011,205999,10100,"20001#20003#20011#20016#20004#20002#20018","17#3340|3#3375|14#3530|79#19","60103#1|60128#1|60138#1|60143#1",1004,20,"601011#400|601012#600","601011#210101|601012#210101",90,10800,{"$f":"T1823","v":"-173#-170"},1,2416]
[null,"12275",5,"噩梦12-27","12285",199,0,51011,205999,10100,"20001#20003#20011#20016#20004#20002#20018","17#3340|3#3375|14#3530|79#19","60103#1|60128#1|60138#1|60143#1",1004,20,"601011#400|601012#600","601011#210101|601012#210101",90,10800,{"$f":"T1824","v":"-234#-184"},1,2417]
[null,"12285",5,"噩梦12-28","12295",199,0,51011,205999,10100,"20001#20003#20011#20016#20004#20002#20018","17#3340|3#3375|14#3530|79#19","60103#1|60128#1|60138#1|60143#1",1004,20,"601011#400|601012#600","601011#210101|601012#210101",90,10800,{"$f":"T1825","v":"-291#-164"},1,2418]
[null,"12295",5,"噩梦12-29","12305",199,0,51011,205999,10100,"20001#20003#20011#20016#20004#20002#20018","17#3340|3#3375|14#3530|79#19","60103#1|60128#1|60138#1|60143#1",1004,20,"601011#400|601012#600","601011#210101|601012#210101",90,10800,{"$f":"T1826","v":"-258#-114"},2,2419]
[null,"12305",5,"噩梦12-30","12315",199,0,51011,205999,10100,"20001#20003#20011#20016#20004#20002#20018","17#3340|3#3375|14#3530|79#19","60103#1|60128#1|60138#1|60143#1",1004,20,"601011#400|601012#600","601011#210101|601012#210101",90,10800,{"$f":"T1827","v":"-190#-98"},2,2420]
[null,"12315",5,"噩梦12-31","12325",199,0,51011,205999,10100,"20001#20003#20011#20016#20004#20002#20018","17#3340|3#3375|14#3530|79#19","60103#1|60128#1|60138#1|60143#1",1004,20,"601011#400|601012#600","601011#210101|601012#210101",90,10800,{"$f":"T1828","v":"-131#-65"},2,2421]
[null,"12325",5,"噩梦12-32","12335",199,0,51011,205999,10100,"20001#20003#20011#20016#20004#20002#20018","17#3340|3#3375|14#3530|79#19","60103#1|60128#1|60138#1|60143#1",1004,20,"601011#400|601012#600","601011#210101|601012#210101",90,10800,{"$f":"T1829","v":"-86#-16"},2,2422]
[null,"12335",5,"噩梦12-33","12345",199,0,51011,205999,10100,"20001#20003#20011#20016#20004#20002#20018","17#3340|3#3375|14#3530|79#19","60103#1|60128#1|60138#1|60143#1",1004,20,"601011#400|601012#600","601011#210101|601012#210101",90,10800,{"$f":"T1830","v":"-23#-8"},2,2423]
[null,"12345",5,"噩梦12-34","12355",199,0,51011,205999,10100,"20001#20003#20011#20016#20004#20002#20018","17#3340|3#3375|14#3530|79#19","60103#1|60128#1|60138#1|60143#1",1004,20,"601011#400|601012#600","601011#210101|601012#210101",90,10800,{"$f":"T1831","v":"23#24"},2,2424]
[null,"12355",5,"噩梦12-35","12365",199,0,51011,205999,10100,"20001#20003#20011#20016#20004#20002#20018","17#3340|3#3375|14#3530|79#19","60103#1|60128#1|60138#1|60143#1",1004,20,"601011#400|601012#600","601011#210101|601012#210101",90,10800,{"$f":"T1832","v":"84#39"},2,2425]
[null,"12365",5,"噩梦12-36","12375",199,0,51011,205999,10100,"20001#20003#20011#20016#20004#20002#20018","17#3340|3#3375|14#3530|79#19","60103#1|60128#1|60138#1|60143#1",1004,20,"601011#400|601012#600","601011#210101|601012#210101",90,10800,{"$f":"T1833","v":"148#37"},2,2426]
[null,"12375",5,"噩梦12-37","12385",199,0,51011,205999,10100,"20001#20003#20011#20016#20004#20002#20018","17#3340|3#3375|14#3530|79#19","60103#1|60128#1|60138#1|60143#1",1004,20,"601011#400|601012#600","601011#210101|601012#210101",90,10800,{"$f":"T1834","v":"182#84"},1,2427]
[null,"12385",5,"噩梦12-38","12395",199,0,51011,205999,10100,"20001#20003#20011#20016#20004#20002#20018","17#3340|3#3375|14#3530|79#19","60103#1|60128#1|60138#1|60143#1",1004,20,"601011#400|601012#600","601011#210101|601012#210101",90,10800,{"$f":"T1835","v":"131#117"},1,2428]
[null,"12395",5,"噩梦12-39","12405",199,0,51011,205999,10100,"20001#20003#20011#20016#20004#20002#20018","17#3340|3#3375|14#3530|79#19","60103#1|60128#1|60138#1|60143#1",1004,20,"601011#400|601012#600","601011#210101|601012#210101",90,10800,{"$f":"T1836","v":"72#132"},1,2429]
[null,"12405",5,"噩梦12-40","13015",199,0,51011,205999,10100,"20001#20003#20011#20016#20004#20002#20018","17#3340|3#3375|14#3530|79#19","60103#1|60128#1|60138#1|60143#1",1004,20,"601011#400|601012#600","601011#210101|601012#210101",90,10800,{"$f":"T1837","v":"13#163"},1,2430]
[null,"13015",5,"噩梦13-1","13025",199,0,51011,205999,10100,"20001#20003#20011#20016#20004#20002#20018","17#3340|3#3375|14#3530|79#19","60103#1|60128#1|60138#1|60143#1",1004,20,"601011#400|601012#600","601011#210101|601012#210101",90,10800,{"$f":"T1838","v":"215#-386"},1,2431]
[null,"13025",5,"噩梦13-2","13035",199,0,51011,205999,10100,"20001#20003#20011#20016#20004#20002#20018","17#3340|3#3375|14#3530|79#19","60103#1|60128#1|60138#1|60143#1",1004,20,"601011#400|601012#600","601011#210101|601012#210101",90,10800,{"$f":"T1839","v":"182#-452"},1,2432]
[null,"13035",5,"噩梦13-3","13045",199,0,51011,205999,10100,"20001#20003#20011#20016#20004#20002#20018","17#3340|3#3375|14#3530|79#19","60103#1|60128#1|60138#1|60143#1",1004,20,"601011#400|601012#600","601011#210101|601012#210101",90,10800,{"$f":"T1840","v":"105#-489"},1,2433]
[null,"13045",5,"噩梦13-4","13055",199,0,51011,205999,10100,"20001#20003#20011#20016#20004#20002#20018","17#3340|3#3375|14#3530|79#19","60103#1|60128#1|60138#1|60143#1",1004,20,"601011#400|601012#600","601011#210101|601012#210101",90,10800,{"$f":"T1841","v":"36#-492"},1,2434]
[null,"13055",5,"噩梦13-5","13065",199,0,51011,205999,10100,"20001#20003#20011#20016#20004#20002#20018","17#3340|3#3375|14#3530|79#19","60103#1|60128#1|60138#1|60143#1",1004,20,"601011#400|601012#600","601011#210101|601012#210101",90,10800,{"$f":"T1842","v":"-25#-454"},1,2435]
[null,"13065",5,"噩梦13-6","13075",199,0,51011,205999,10100,"20001#20003#20011#20016#20004#20002#20018","17#3340|3#3375|14#3530|79#19","60103#1|60128#1|60138#1|60143#1",1004,20,"601011#400|601012#600","601011#210101|601012#210101",90,10800,{"$f":"T1843","v":"-27#-383"},2,2436]
[null,"13075",5,"噩梦13-7","13085",199,0,51011,205999,10100,"20001#20003#20011#20016#20004#20002#20018","17#3340|3#3375|14#3530|79#19","60103#1|60128#1|60138#1|60143#1",1004,20,"601011#400|601012#600","601011#210101|601012#210101",90,10800,{"$f":"T1844","v":"13#-326"},2,2437]
[null,"13085",5,"噩梦13-8","13095",199,0,51011,205999,10100,"20001#20003#20011#20016#20004#20002#20018","17#3340|3#3375|14#3530|79#19","60103#1|60128#1|60138#1|60143#1",1004,20,"601011#400|601012#600","601011#210101|601012#210101",90,10800,{"$f":"T1845","v":"76#-288"},2,2438]
[null,"13095",5,"噩梦13-9","13105",199,0,51011,205999,10100,"20001#20003#20011#20016#20004#20002#20018","17#3340|3#3375|14#3530|79#19","60103#1|60128#1|60138#1|60143#1",1004,20,"601011#400|601012#600","601011#210101|601012#210101",90,10800,{"$f":"T1846","v":"140#-256"},2,2439]
[null,"13105",5,"噩梦13-10","13115",199,0,51011,205999,10100,"20001#20003#20011#20016#20004#20002#20018","17#3340|3#3375|14#3530|79#19","60103#1|60128#1|60138#1|60143#1",1004,20,"601011#400|601012#600","601011#210101|601012#210101",90,10800,{"$f":"T1847","v":"167#-195"},2,2440]
[null,"13115",5,"噩梦13-11","13125",199,0,51011,205999,10100,"20001#20003#20011#20016#20004#20002#20018","17#3340|3#3375|14#3530|79#19","60103#1|60128#1|60138#1|60143#1",1004,20,"601011#400|601012#600","601011#210101|601012#210101",90,10800,{"$f":"T1848","v":"126#-148"},1,2441]
[null,"13125",5,"噩梦13-12","13135",199,0,51011,205999,10100,"20001#20003#20011#20016#20004#20002#20018","17#3340|3#3375|14#3530|79#19","60103#1|60128#1|60138#1|60143#1",1004,20,"601011#400|601012#600","601011#210101|601012#210101",90,10800,{"$f":"T1849","v":"59#-132"},1,2442]
[null,"13135",5,"噩梦13-13","13145",199,0,51011,205999,10100,"20001#20003#20011#20016#20004#20002#20018","17#3340|3#3375|14#3530|79#19","60103#1|60128#1|60138#1|60143#1",1004,20,"601011#400|601012#600","601011#210101|601012#210101",90,10800,{"$f":"T1850","v":"-12#-137"},1,2443]
[null,"13145",5,"噩梦13-14","13155",199,0,51011,205999,10100,"20001#20003#20011#20016#20004#20002#20018","17#3340|3#3375|14#3530|79#19","60103#1|60128#1|60138#1|60143#1",1004,20,"601011#400|601012#600","601011#210101|601012#210101",90,10800,{"$f":"T1851","v":"-72#-155"},1,2444]
[null,"13155",5,"噩梦13-15","13165",199,0,51011,205999,10100,"20001#20003#20011#20016#20004#20002#20018","17#3340|3#3375|14#3530|79#19","60103#1|60128#1|60138#1|60143#1",1004,20,"601011#400|601012#600","601011#210101|601012#210101",90,10800,{"$f":"T1852","v":"-148#-158"},1,2445]
[null,"13165",5,"噩梦13-16","13175",199,0,51011,205999,10100,"20001#20003#20011#20016#20004#20002#20018","17#3340|3#3375|14#3530|79#19","60103#1|60128#1|60138#1|60143#1",1004,20,"601011#400|601012#600","601011#210101|601012#210101",90,10800,{"$f":"T1853","v":"-206#-138"},1,2446]
[null,"13175",5,"噩梦13-17","13185",199,0,51011,205999,10100,"20001#20003#20011#20016#20004#20002#20018","17#3340|3#3375|14#3530|79#19","60103#1|60128#1|60138#1|60143#1",1004,20,"601011#400|601012#600","601011#210101|601012#210101",90,10800,{"$f":"T1854","v":"-219#-77"},1,2447]
[null,"13185",5,"噩梦13-18","13195",199,0,51011,205999,10100,"20001#20003#20011#20016#20004#20002#20018","17#3340|3#3375|14#3530|79#19","60103#1|60128#1|60138#1|60143#1",1004,20,"601011#400|601012#600","601011#210101|601012#210101",90,10800,{"$f":"T1855","v":"-166#-47"},2,2448]
[null,"13195",5,"噩梦13-19","13205",199,0,51011,205999,10100,"20001#20003#20011#20016#20004#20002#20018","17#3340|3#3375|14#3530|79#19","60103#1|60128#1|60138#1|60143#1",1004,20,"601011#400|601012#600","601011#210101|601012#210101",90,10800,{"$f":"T1856","v":"-99#-54"},2,2449]
[null,"13205",5,"噩梦13-20","13215",199,0,51011,205999,10100,"20001#20003#20011#20016#20004#20002#20018","17#3340|3#3375|14#3530|79#19","60103#1|60128#1|60138#1|60143#1",1004,20,"601011#400|601012#600","601011#210101|601012#210101",90,10800,{"$f":"T1857","v":"-23#-66"},2,2450]
[null,"13215",5,"噩梦13-21","13225",199,0,51011,205999,10100,"20001#20003#20011#20016#20004#20002#20018","17#3340|3#3375|14#3530|79#19","60103#1|60128#1|60138#1|60143#1",1004,20,"601011#400|601012#600","601011#210101|601012#210101",90,10800,{"$f":"T1858","v":"43#-48"},2,2451]
[null,"13225",5,"噩梦13-22","13235",199,0,51011,205999,10100,"20001#20003#20011#20016#20004#20002#20018","17#3340|3#3375|14#3530|79#19","60103#1|60128#1|60138#1|60143#1",1004,20,"601011#400|601012#600","601011#210101|601012#210101",90,10800,{"$f":"T1859","v":"110#-45"},2,2452]
[null,"13235",5,"噩梦13-23","13245",199,0,51011,205999,10100,"20001#20003#20011#20016#20004#20002#20018","17#3340|3#3375|14#3530|79#19","60103#1|60128#1|60138#1|60143#1",1004,20,"601011#400|601012#600","601011#210101|601012#210101",90,10800,{"$f":"T1860","v":"176#-53"},2,2453]
[null,"13245",5,"噩梦13-24","13255",199,0,51011,205999,10100,"20001#20003#20011#20016#20004#20002#20018","17#3340|3#3375|14#3530|79#19","60103#1|60128#1|60138#1|60143#1",1004,20,"601011#400|601012#600","601011#210101|601012#210101",90,10800,{"$f":"T1861","v":"239#-75"},2,2454]
[null,"13255",5,"噩梦13-25","13265",199,0,51011,205999,10100,"20001#20003#20011#20016#20004#20002#20018","17#3340|3#3375|14#3530|79#19","60103#1|60128#1|60138#1|60143#1",1004,20,"601011#400|601012#600","601011#210101|601012#210101",90,10800,{"$f":"T1862","v":"307#-91"},2,2455]
[null,"13265",5,"噩梦13-26","13275",199,0,51011,205999,10100,"20001#20003#20011#20016#20004#20002#20018","17#3340|3#3375|14#3530|79#19","60103#1|60128#1|60138#1|60143#1",1004,20,"601011#400|601012#600","601011#210101|601012#210101",90,10800,{"$f":"T1863","v":"375#-87"},2,2456]
[null,"13275",5,"噩梦13-27","13285",199,0,51011,205999,10100,"20001#20003#20011#20016#20004#20002#20018","17#3340|3#3375|14#3530|79#19","60103#1|60128#1|60138#1|60143#1",1004,20,"601011#400|601012#600","601011#210101|601012#210101",90,10800,{"$f":"T1864","v":"414#-51"},2,2457]
[null,"13285",5,"噩梦13-28","13295",199,0,51011,205999,10100,"20001#20003#20011#20016#20004#20002#20018","17#3340|3#3375|14#3530|79#19","60103#1|60128#1|60138#1|60143#1",1004,20,"601011#400|601012#600","601011#210101|601012#210101",90,10800,{"$f":"T1865","v":"411#1"},1,2458]
[null,"13295",5,"噩梦13-29","13305",199,0,51011,205999,10100,"20001#20003#20011#20016#20004#20002#20018","17#3340|3#3375|14#3530|79#19","60103#1|60128#1|60138#1|60143#1",1004,20,"601011#400|601012#600","601011#210101|601012#210101",90,10800,{"$f":"T1866","v":"349#-1"},1,2459]
[null,"13305",5,"噩梦13-30","13315",199,0,51011,205999,10100,"20001#20003#20011#20016#20004#20002#20018","17#3340|3#3375|14#3530|79#19","60103#1|60128#1|60138#1|60143#1",1004,20,"601011#400|601012#600","601011#210101|601012#210101",90,10800,{"$f":"T1867","v":"287#1"},1,2460]
[null,"13315",5,"噩梦13-31","13325",199,0,51011,205999,10100,"20001#20003#20011#20016#20004#20002#20018","17#3340|3#3375|14#3530|79#19","60103#1|60128#1|60138#1|60143#1",1004,20,"601011#400|601012#600","601011#210101|601012#210101",90,10800,{"$f":"T1868","v":"314#64"},2,2461]
[null,"13325",5,"噩梦13-32","13335",199,0,51011,205999,10100,"20001#20003#20011#20016#20004#20002#20018","17#3340|3#3375|14#3530|79#19","60103#1|60128#1|60138#1|60143#1",1004,20,"601011#400|601012#600","601011#210101|601012#210101",90,10800,{"$f":"T1869","v":"308#115"},2,2462]
[null,"13335",5,"噩梦13-33","13345",199,0,51011,205999,10100,"20001#20003#20011#20016#20004#20002#20018","17#3340|3#3375|14#3530|79#19","60103#1|60128#1|60138#1|60143#1",1004,20,"601011#400|601012#600","601011#210101|601012#210101",90,10800,{"$f":"T1870","v":"244#137"},1,2463]
[null,"13345",5,"噩梦13-34","13355",199,0,51011,205999,10100,"20001#20003#20011#20016#20004#20002#20018","17#3340|3#3375|14#3530|79#19","60103#1|60128#1|60138#1|60143#1",1004,20,"601011#400|601012#600","601011#210101|601012#210101",90,10800,{"$f":"T1871","v":"177#115"},1,2464]
[null,"13355",5,"噩梦13-35","13365",199,0,51011,205999,10100,"20001#20003#20011#20016#20004#20002#20018","17#3340|3#3375|14#3530|79#19","60103#1|60128#1|60138#1|60143#1",1004,20,"601011#400|601012#600","601011#210101|601012#210101",90,10800,{"$f":"T1872","v":"112#90"},1,2465]
[null,"13365",5,"噩梦13-36","13375",199,0,51011,205999,10100,"20001#20003#20011#20016#20004#20002#20018","17#3340|3#3375|14#3530|79#19","60103#1|60128#1|60138#1|60143#1",1004,20,"601011#400|601012#600","601011#210101|601012#210101",90,10800,{"$f":"T1873","v":"45#71"},1,2466]
[null,"13375",5,"噩梦13-37","13385",199,0,51011,205999,10100,"20001#20003#20011#20016#20004#20002#20018","17#3340|3#3375|14#3530|79#19","60103#1|60128#1|60138#1|60143#1",1004,20,"601011#400|601012#600","601011#210101|601012#210101",90,10800,{"$f":"T1874","v":"-25#68"},1,2467]
[null,"13385",5,"噩梦13-38","13395",199,0,51011,205999,10100,"20001#20003#20011#20016#20004#20002#20018","17#3340|3#3375|14#3530|79#19","60103#1|60128#1|60138#1|60143#1",1004,20,"601011#400|601012#600","601011#210101|601012#210101",90,10800,{"$f":"T1875","v":"-84#90"},1,2468]
[null,"13395",5,"噩梦13-39","13405",199,0,51011,205999,10100,"20001#20003#20011#20016#20004#20002#20018","17#3340|3#3375|14#3530|79#19","60103#1|60128#1|60138#1|60143#1",1004,20,"601011#400|601012#600","601011#210101|601012#210101",90,10800,{"$f":"T1876","v":"-87#149"},2,2469]
[null,"13405",5,"噩梦13-40","14015",199,0,51011,205999,10100,"20001#20003#20011#20016#20004#20002#20018","17#3340|3#3375|14#3530|79#19","60103#1|60128#1|60138#1|60143#1",1004,20,"601011#400|601012#600","601011#210101|601012#210101",90,10800,{"$f":"T1877","v":"-15#174"},2,2470]
[null,"14015",5,"噩梦14-1","14025",199,0,51011,205999,10100,"20001#20003#20011#20016#20004#20002#20018","17#3340|3#3375|14#3530|79#19","60103#1|60128#1|60138#1|60143#1",1004,20,"601011#400|601012#600","601011#210101|601012#210101",90,10800,{"$f":"T1878","v":"44#-362"},2,2471]
[null,"14025",5,"噩梦14-2","14035",199,0,51011,205999,10100,"20001#20003#20011#20016#20004#20002#20018","17#3340|3#3375|14#3530|79#19","60103#1|60128#1|60138#1|60143#1",1004,20,"601011#400|601012#600","601011#210101|601012#210101",90,10800,{"$f":"T1879","v":"103#-362"},2,2472]
[null,"14035",5,"噩梦14-3","14045",199,0,51011,205999,10100,"20001#20003#20011#20016#20004#20002#20018","17#3340|3#3375|14#3530|79#19","60103#1|60128#1|60138#1|60143#1",1004,20,"601011#400|601012#600","601011#210101|601012#210101",90,10800,{"$f":"T1880","v":"161#-355"},2,2473]
[null,"14045",5,"噩梦14-4","14055",199,0,51011,205999,10100,"20001#20003#20011#20016#20004#20002#20018","17#3340|3#3375|14#3530|79#19","60103#1|60128#1|60138#1|60143#1",1004,20,"601011#400|601012#600","601011#210101|601012#210101",90,10800,{"$f":"T1881","v":"211#-347"},2,2474]
[null,"14055",5,"噩梦14-5","14065",199,0,51011,205999,10100,"20001#20003#20011#20016#20004#20002#20018","17#3340|3#3375|14#3530|79#19","60103#1|60128#1|60138#1|60143#1",1004,20,"601011#400|601012#600","601011#210101|601012#210101",90,10800,{"$f":"T1882","v":"269#-329"},2,2475]
[null,"14065",5,"噩梦14-6","14075",199,0,51011,205999,10100,"20001#20003#20011#20016#20004#20002#20018","17#3340|3#3375|14#3530|79#19","60103#1|60128#1|60138#1|60143#1",1004,20,"601011#400|601012#600","601011#210101|601012#210101",90,10800,{"$f":"T1883","v":"293#-292"},2,2476]
[null,"14075",5,"噩梦14-7","14085",199,0,51011,205999,10100,"20001#20003#20011#20016#20004#20002#20018","17#3340|3#3375|14#3530|79#19","60103#1|60128#1|60138#1|60143#1",1004,20,"601011#400|601012#600","601011#210101|601012#210101",90,10800,{"$f":"T1884","v":"280#-253"},2,2477]
[null,"14085",5,"噩梦14-8","14095",199,0,51011,205999,10100,"20001#20003#20011#20016#20004#20002#20018","17#3340|3#3375|14#3530|79#19","60103#1|60128#1|60138#1|60143#1",1004,20,"601011#400|601012#600","601011#210101|601012#210101",90,10800,{"$f":"T1885","v":"336#-254"},2,2478]
[null,"14095",5,"噩梦14-9","14105",199,0,51011,205999,10100,"20001#20003#20011#20016#20004#20002#20018","17#3340|3#3375|14#3530|79#19","60103#1|60128#1|60138#1|60143#1",1004,20,"601011#400|601012#600","601011#210101|601012#210101",90,10800,{"$f":"T1886","v":"390#-252"},2,2479]
[null,"14105",5,"噩梦14-10","14115",199,0,51011,205999,10100,"20001#20003#20011#20016#20004#20002#20018","17#3340|3#3375|14#3530|79#19","60103#1|60128#1|60138#1|60143#1",1004,20,"601011#400|601012#600","601011#210101|601012#210101",90,10800,{"$f":"T1887","v":"433#-220"},2,2480]
[null,"14115",5,"噩梦14-11","14125",199,0,51011,205999,10100,"20001#20003#20011#20016#20004#20002#20018","17#3340|3#3375|14#3530|79#19","60103#1|60128#1|60138#1|60143#1",1004,20,"601011#400|601012#600","601011#210101|601012#210101",90,10800,{"$f":"T1888","v":"409#-176"},1,2481]
[null,"14125",5,"噩梦14-12","14135",199,0,51011,205999,10100,"20001#20003#20011#20016#20004#20002#20018","17#3340|3#3375|14#3530|79#19","60103#1|60128#1|60138#1|60143#1",1004,20,"601011#400|601012#600","601011#210101|601012#210101",90,10800,{"$f":"T1889","v":"359#-164"},1,2482]
[null,"14135",5,"噩梦14-13","14145",199,0,51011,205999,10100,"20001#20003#20011#20016#20004#20002#20018","17#3340|3#3375|14#3530|79#19","60103#1|60128#1|60138#1|60143#1",1004,20,"601011#400|601012#600","601011#210101|601012#210101",90,10800,{"$f":"T1890","v":"305#-159"},1,2483]
[null,"14145",5,"噩梦14-14","14155",199,0,51011,205999,10100,"20001#20003#20011#20016#20004#20002#20018","17#3340|3#3375|14#3530|79#19","60103#1|60128#1|60138#1|60143#1",1004,20,"601011#400|601012#600","601011#210101|601012#210101",90,10800,{"$f":"T1891","v":"247#-157"},1,2484]
[null,"14155",5,"噩梦14-15","14165",199,0,51011,205999,10100,"20001#20003#20011#20016#20004#20002#20018","17#3340|3#3375|14#3530|79#19","60103#1|60128#1|60138#1|60143#1",1004,20,"601011#400|601012#600","601011#210101|601012#210101",90,10800,{"$f":"T1892","v":"231#-195"},1,2485]
[null,"14165",5,"噩梦14-16","14175",199,0,51011,205999,10100,"20001#20003#20011#20016#20004#20002#20018","17#3340|3#3375|14#3530|79#19","60103#1|60128#1|60138#1|60143#1",1004,20,"601011#400|601012#600","601011#210101|601012#210101",90,10800,{"$f":"T1893","v":"203#-237"},1,2486]
[null,"14175",5,"噩梦14-17","14185",199,0,51011,205999,10100,"20001#20003#20011#20016#20004#20002#20018","17#3340|3#3375|14#3530|79#19","60103#1|60128#1|60138#1|60143#1",1004,20,"601011#400|601012#600","601011#210101|601012#210101",90,10800,{"$f":"T1894","v":"145#-243"},1,2487]
[null,"14185",5,"噩梦14-18","14195",199,0,51011,205999,10100,"20001#20003#20011#20016#20004#20002#20018","17#3340|3#3375|14#3530|79#19","60103#1|60128#1|60138#1|60143#1",1004,20,"601011#400|601012#600","601011#210101|601012#210101",90,10800,{"$f":"T1895","v":"91#-239"},1,2488]
[null,"14195",5,"噩梦14-19","14205",199,0,51011,205999,10100,"20001#20003#20011#20016#20004#20002#20018","17#3340|3#3375|14#3530|79#19","60103#1|60128#1|60138#1|60143#1",1004,20,"601011#400|601012#600","601011#210101|601012#210101",90,10800,{"$f":"T1896","v":"41#-206"},1,2489]
[null,"14205",5,"噩梦14-20","14215",199,0,51011,205999,10100,"20001#20003#20011#20016#20004#20002#20018","17#3340|3#3375|14#3530|79#19","60103#1|60128#1|60138#1|60143#1",1004,20,"601011#400|601012#600","601011#210101|601012#210101",90,10800,{"$f":"T1897","v":"51#-151"},1,2490]
[null,"14215",5,"噩梦14-21","14225",199,0,51011,205999,10100,"20001#20003#20011#20016#20004#20002#20018","17#3340|3#3375|14#3530|79#19","60103#1|60128#1|60138#1|60143#1",1004,20,"601011#400|601012#600","601011#210101|601012#210101",90,10800,{"$f":"T1898","v":"2#-123"},1,2491]
[null,"14225",5,"噩梦14-22","14235",199,0,51011,205999,10100,"20001#20003#20011#20016#20004#20002#20018","17#3340|3#3375|14#3530|79#19","60103#1|60128#1|60138#1|60143#1",1004,20,"601011#400|601012#600","601011#210101|601012#210101",90,10800,{"$f":"T1899","v":"-55#-128"},1,2492]
[null,"14235",5,"噩梦14-23","14245",199,0,51011,205999,10100,"20001#20003#20011#20016#20004#20002#20018","17#3340|3#3375|14#3530|79#19","60103#1|60128#1|60138#1|60143#1",1004,20,"601011#400|601012#600","601011#210101|601012#210101",90,10800,{"$f":"T1900","v":"-115#-143"},1,2493]
[null,"14245",5,"噩梦14-24","14255",199,0,51011,205999,10100,"20001#20003#20011#20016#20004#20002#20018","17#3340|3#3375|14#3530|79#19","60103#1|60128#1|60138#1|60143#1",1004,20,"601011#400|601012#600","601011#210101|601012#210101",90,10800,{"$f":"T1901","v":"-160#-155"},1,2494]
[null,"14255",5,"噩梦14-25","14265",199,0,51011,205999,10100,"20001#20003#20011#20016#20004#20002#20018","17#3340|3#3375|14#3530|79#19","60103#1|60128#1|60138#1|60143#1",1004,20,"601011#400|601012#600","601011#210101|601012#210101",90,10800,{"$f":"T1902","v":"-218#-143"},1,2495]
[null,"14265",5,"噩梦14-26","14275",199,0,51011,205999,10100,"20001#20003#20011#20016#20004#20002#20018","17#3340|3#3375|14#3530|79#19","60103#1|60128#1|60138#1|60143#1",1004,20,"601011#400|601012#600","601011#210101|601012#210101",90,10800,{"$f":"T1903","v":"-251#-107"},1,2496]
[null,"14275",5,"噩梦14-27","14285",199,0,51011,205999,10100,"20001#20003#20011#20016#20004#20002#20018","17#3340|3#3375|14#3530|79#19","60103#1|60128#1|60138#1|60143#1",1004,20,"601011#400|601012#600","601011#210101|601012#210101",90,10800,{"$f":"T1904","v":"-214#-76"},2,2497]
[null,"14285",5,"噩梦14-28","14295",199,0,51011,205999,10100,"20001#20003#20011#20016#20004#20002#20018","17#3340|3#3375|14#3530|79#19","60103#1|60128#1|60138#1|60143#1",1004,20,"601011#400|601012#600","601011#210101|601012#210101",90,10800,{"$f":"T1905","v":"-160#-71"},2,2498]
[null,"14295",5,"噩梦14-29","14305",199,0,51011,205999,10100,"20001#20003#20011#20016#20004#20002#20018","17#3340|3#3375|14#3530|79#19","60103#1|60128#1|60138#1|60143#1",1004,20,"601011#400|601012#600","601011#210101|601012#210101",90,10800,{"$f":"T1906","v":"-106#-63"},2,2499]
[null,"14305",5,"噩梦14-30","14315",199,0,51011,205999,10100,"20001#20003#20011#20016#20004#20002#20018","17#3340|3#3375|14#3530|79#19","60103#1|60128#1|60138#1|60143#1",1004,20,"601011#400|601012#600","601011#210101|601012#210101",90,10800,{"$f":"T1907","v":"-46#-45"},2,2500]
[null,"14315",5,"噩梦14-31","14325",199,0,51011,205999,10100,"20001#20003#20011#20016#20004#20002#20018","17#3340|3#3375|14#3530|79#19","60103#1|60128#1|60138#1|60143#1",1004,20,"601011#400|601012#600","601011#210101|601012#210101",90,10800,{"$f":"T1908","v":"4#-48"},2,2501]
[null,"14325",5,"噩梦14-32","14335",199,0,51011,205999,10100,"20001#20003#20011#20016#20004#20002#20018","17#3340|3#3375|14#3530|79#19","60103#1|60128#1|60138#1|60143#1",1004,20,"601011#400|601012#600","601011#210101|601012#210101",90,10800,{"$f":"T1909","v":"59#-58"},2,2502]
[null,"14335",5,"噩梦14-33","14345",199,0,51011,205999,10100,"20001#20003#20011#20016#20004#20002#20018","17#3340|3#3375|14#3530|79#19","60103#1|60128#1|60138#1|60143#1",1004,20,"601011#400|601012#600","601011#210101|601012#210101",90,10800,{"$f":"T1910","v":"110#-60"},2,2503]
[null,"14345",5,"噩梦14-34","14355",199,0,51011,205999,10100,"20001#20003#20011#20016#20004#20002#20018","17#3340|3#3375|14#3530|79#19","60103#1|60128#1|60138#1|60143#1",1004,20,"601011#400|601012#600","601011#210101|601012#210101",90,10800,{"$f":"T1911","v":"158#-54"},2,2504]
[null,"14355",5,"噩梦14-35","14365",199,0,51011,205999,10100,"20001#20003#20011#20016#20004#20002#20018","17#3340|3#3375|14#3530|79#19","60103#1|60128#1|60138#1|60143#1",1004,20,"601011#400|601012#600","601011#210101|601012#210101",90,10800,{"$f":"T1912","v":"191#-23"},2,2505]
[null,"14365",5,"噩梦14-36","14375",199,0,51011,205999,10100,"20001#20003#20011#20016#20004#20002#20018","17#3340|3#3375|14#3530|79#19","60103#1|60128#1|60138#1|60143#1",1004,20,"601011#400|601012#600","601011#210101|601012#210101",90,10800,{"$f":"T1913","v":"173#14"},1,2506]
[null,"14375",5,"噩梦14-37","14385",199,0,51011,205999,10100,"20001#20003#20011#20016#20004#20002#20018","17#3340|3#3375|14#3530|79#19","60103#1|60128#1|60138#1|60143#1",1004,20,"601011#400|601012#600","601011#210101|601012#210101",90,10800,{"$f":"T1914","v":"130#29"},1,2507]
[null,"14385",5,"噩梦14-38","14395",199,0,51011,205999,10100,"20001#20003#20011#20016#20004#20002#20018","17#3340|3#3375|14#3530|79#19","60103#1|60128#1|60138#1|60143#1",1004,20,"601011#400|601012#600","601011#210101|601012#210101",90,10800,{"$f":"T1915","v":"93#33"},1,2508]
[null,"14395",5,"噩梦14-39","14405",199,0,51011,205999,10100,"20001#20003#20011#20016#20004#20002#20018","17#3340|3#3375|14#3530|79#19","60103#1|60128#1|60138#1|60143#1",1004,20,"601011#400|601012#600","601011#210101|601012#210101",90,10800,{"$f":"T1916","v":"56#35"},1,2509]
[null,"14405",5,"噩梦14-40","15015",199,0,51011,205999,10100,"20001#20003#20011#20016#20004#20002#20018","17#3340|3#3375|14#3530|79#19","60103#1|60128#1|60138#1|60143#1",1004,20,"601011#400|601012#600","601011#210101|601012#210101",90,10800,{"$f":"T1917","v":"12#35"},1,2510]
[null,"15015",5,"噩梦15-1","15025",199,0,51011,205999,10100,"20001#20003#20011#20016#20004#20002#20018","17#3340|3#3375|14#3530|79#19","60103#1|60128#1|60138#1|60143#1",1004,20,"601011#400|601012#600","601011#210101|601012#210101",90,10800,{"$f":"T1918","v":"483#-348"},1,2511]
[null,"15025",5,"噩梦15-2","15035",199,0,51011,205999,10100,"20001#20003#20011#20016#20004#20002#20018","17#3340|3#3375|14#3530|79#19","60103#1|60128#1|60138#1|60143#1",1004,20,"601011#400|601012#600","601011#210101|601012#210101",90,10800,{"$f":"T1919","v":"422#-322"},1,2512]
[null,"15035",5,"噩梦15-3","15045",199,0,51011,205999,10100,"20001#20003#20011#20016#20004#20002#20018","17#3340|3#3375|14#3530|79#19","60103#1|60128#1|60138#1|60143#1",1004,20,"601011#400|601012#600","601011#210101|601012#210101",90,10800,{"$f":"T1920","v":"355#-317"},1,2513]
[null,"15045",5,"噩梦15-4","15055",199,0,51011,205999,10100,"20001#20003#20011#20016#20004#20002#20018","17#3340|3#3375|14#3530|79#19","60103#1|60128#1|60138#1|60143#1",1004,20,"601011#400|601012#600","601011#210101|601012#210101",90,10800,{"$f":"T1921","v":"295#-326"},1,2514]
[null,"15055",5,"噩梦15-5","15065",199,0,51011,205999,10100,"20001#20003#20011#20016#20004#20002#20018","17#3340|3#3375|14#3530|79#19","60103#1|60128#1|60138#1|60143#1",1004,20,"601011#400|601012#600","601011#210101|601012#210101",90,10800,{"$f":"T1922","v":"232#-345"},1,2515]
[null,"15065",5,"噩梦15-6","15075",199,0,51011,205999,10100,"20001#20003#20011#20016#20004#20002#20018","17#3340|3#3375|14#3530|79#19","60103#1|60128#1|60138#1|60143#1",1004,20,"601011#400|601012#600","601011#210101|601012#210101",90,10800,{"$f":"T1923","v":"173#-355"},1,2516]
[null,"15075",5,"噩梦15-7","15085",199,0,51011,205999,10100,"20001#20003#20011#20016#20004#20002#20018","17#3340|3#3375|14#3530|79#19","60103#1|60128#1|60138#1|60143#1",1004,20,"601011#400|601012#600","601011#210101|601012#210101",90,10800,{"$f":"T1924","v":"124#-327"},1,2517]
[null,"15085",5,"噩梦15-8","15095",199,0,51011,205999,10100,"20001#20003#20011#20016#20004#20002#20018","17#3340|3#3375|14#3530|79#19","60103#1|60128#1|60138#1|60143#1",1004,20,"601011#400|601012#600","601011#210101|601012#210101",90,10800,{"$f":"T1925","v":"141#-275"},2,2518]
[null,"15095",5,"噩梦15-9","15105",199,0,51011,205999,10100,"20001#20003#20011#20016#20004#20002#20018","17#3340|3#3375|14#3530|79#19","60103#1|60128#1|60138#1|60143#1",1004,20,"601011#400|601012#600","601011#210101|601012#210101",90,10800,{"$f":"T1926","v":"123#-227"},1,2519]
[null,"15105",5,"噩梦15-10","15115",199,0,51011,205999,10100,"20001#20003#20011#20016#20004#20002#20018","17#3340|3#3375|14#3530|79#19","60103#1|60128#1|60138#1|60143#1",1004,20,"601011#400|601012#600","601011#210101|601012#210101",90,10800,{"$f":"T1927","v":"53#-225"},1,2520]
[null,"15115",5,"噩梦15-11","15125",199,0,51011,205999,10100,"20001#20003#20011#20016#20004#20002#20018","17#3340|3#3375|14#3530|79#19","60103#1|60128#1|60138#1|60143#1",1004,20,"601011#400|601012#600","601011#210101|601012#210101",90,10800,{"$f":"T1928","v":"-20#-258"},1,2521]
[null,"15125",5,"噩梦15-12","15135",199,0,51011,205999,10100,"20001#20003#20011#20016#20004#20002#20018","17#3340|3#3375|14#3530|79#19","60103#1|60128#1|60138#1|60143#1",1004,20,"601011#400|601012#600","601011#210101|601012#210101",90,10800,{"$f":"T1929","v":"-67#-294"},1,2522]
[null,"15135",5,"噩梦15-13","15145",199,0,51011,205999,10100,"20001#20003#20011#20016#20004#20002#20018","17#3340|3#3375|14#3530|79#19","60103#1|60128#1|60138#1|60143#1",1004,20,"601011#400|601012#600","601011#210101|601012#210101",90,10800,{"$f":"T1930","v":"-119#-336"},1,2523]
[null,"15145",5,"噩梦15-14","15155",199,0,51011,205999,10100,"20001#20003#20011#20016#20004#20002#20018","17#3340|3#3375|14#3530|79#19","60103#1|60128#1|60138#1|60143#1",1004,20,"601011#400|601012#600","601011#210101|601012#210101",90,10800,{"$f":"T1931","v":"-177#-364"},1,2524]
[null,"15155",5,"噩梦15-15","15165",199,0,51011,205999,10100,"20001#20003#20011#20016#20004#20002#20018","17#3340|3#3375|14#3530|79#19","60103#1|60128#1|60138#1|60143#1",1004,20,"601011#400|601012#600","601011#210101|601012#210101",90,10800,{"$f":"T1932","v":"-243#-367"},1,2525]
[null,"15165",5,"噩梦15-16","15175",199,0,51011,205999,10100,"20001#20003#20011#20016#20004#20002#20018","17#3340|3#3375|14#3530|79#19","60103#1|60128#1|60138#1|60143#1",1004,20,"601011#400|601012#600","601011#210101|601012#210101",90,10800,{"$f":"T1933","v":"-303#-355"},1,2526]
[null,"15175",5,"噩梦15-17","15185",199,0,51011,205999,10100,"20001#20003#20011#20016#20004#20002#20018","17#3340|3#3375|14#3530|79#19","60103#1|60128#1|60138#1|60143#1",1004,20,"601011#400|601012#600","601011#210101|601012#210101",90,10800,{"$f":"T1934","v":"-354#-330"},1,2527]
[null,"15185",5,"噩梦15-18","15195",199,0,51011,205999,10100,"20001#20003#20011#20016#20004#20002#20018","17#3340|3#3375|14#3530|79#19","60103#1|60128#1|60138#1|60143#1",1004,20,"601011#400|601012#600","601011#210101|601012#210101",90,10800,{"$f":"T1935","v":"-407#-307"},1,2528]
[null,"15195",5,"噩梦15-19","15205",199,0,51011,205999,10100,"20001#20003#20011#20016#20004#20002#20018","17#3340|3#3375|14#3530|79#19","60103#1|60128#1|60138#1|60143#1",1004,20,"601011#400|601012#600","601011#210101|601012#210101",90,10800,{"$f":"T1936","v":"-427#-256"},2,2529]
[null,"15205",5,"噩梦15-20","15215",199,0,51011,205999,10100,"20001#20003#20011#20016#20004#20002#20018","17#3340|3#3375|14#3530|79#19","60103#1|60128#1|60138#1|60143#1",1004,20,"601011#400|601012#600","601011#210101|601012#210101",90,10800,{"$f":"T1937","v":"-367#-244"},2,2530]
[null,"15215",5,"噩梦15-21","15225",199,0,51011,205999,10100,"20001#20003#20011#20016#20004#20002#20018","17#3340|3#3375|14#3530|79#19","60103#1|60128#1|60138#1|60143#1",1004,20,"601011#400|601012#600","601011#210101|601012#210101",90,10800,{"$f":"T1938","v":"-302#-248"},2,2531]
[null,"15225",5,"噩梦15-22","15235",199,0,51011,205999,10100,"20001#20003#20011#20016#20004#20002#20018","17#3340|3#3375|14#3530|79#19","60103#1|60128#1|60138#1|60143#1",1004,20,"601011#400|601012#600","601011#210101|601012#210101",90,10800,{"$f":"T1939","v":"-251#-218"},2,2532]
[null,"15235",5,"噩梦15-23","15245",199,0,51011,205999,10100,"20001#20003#20011#20016#20004#20002#20018","17#3340|3#3375|14#3530|79#19","60103#1|60128#1|60138#1|60143#1",1004,20,"601011#400|601012#600","601011#210101|601012#210101",90,10800,{"$f":"T1940","v":"-249#-156"},2,2533]
[null,"15245",5,"噩梦15-24","15255",199,0,51011,205999,10100,"20001#20003#20011#20016#20004#20002#20018","17#3340|3#3375|14#3530|79#19","60103#1|60128#1|60138#1|60143#1",1004,20,"601011#400|601012#600","601011#210101|601012#210101",90,10800,{"$f":"T1941","v":"-190#-140"},2,2534]
[null,"15255",5,"噩梦15-25","15265",199,0,51011,205999,10100,"20001#20003#20011#20016#20004#20002#20018","17#3340|3#3375|14#3530|79#19","60103#1|60128#1|60138#1|60143#1",1004,20,"601011#400|601012#600","601011#210101|601012#210101",90,10800,{"$f":"T1942","v":"-125#-150"},2,2535]
[null,"15265",5,"噩梦15-26","15275",199,0,51011,205999,10100,"20001#20003#20011#20016#20004#20002#20018","17#3340|3#3375|14#3530|79#19","60103#1|60128#1|60138#1|60143#1",1004,20,"601011#400|601012#600","601011#210101|601012#210101",90,10800,{"$f":"T1943","v":"-67#-140"},2,2536]
[null,"15275",5,"噩梦15-27","15285",199,0,51011,205999,10100,"20001#20003#20011#20016#20004#20002#20018","17#3340|3#3375|14#3530|79#19","60103#1|60128#1|60138#1|60143#1",1004,20,"601011#400|601012#600","601011#210101|601012#210101",90,10800,{"$f":"T1944","v":"-78#-95"},1,2537]
[null,"15285",5,"噩梦15-28","15295",199,0,51011,205999,10100,"20001#20003#20011#20016#20004#20002#20018","17#3340|3#3375|14#3530|79#19","60103#1|60128#1|60138#1|60143#1",1004,20,"601011#400|601012#600","601011#210101|601012#210101",90,10800,{"$f":"T1945","v":"-143#-92"},1,2538]
[null,"15295",5,"噩梦15-29","15305",199,0,51011,205999,10100,"20001#20003#20011#20016#20004#20002#20018","17#3340|3#3375|14#3530|79#19","60103#1|60128#1|60138#1|60143#1",1004,20,"601011#400|601012#600","601011#210101|601012#210101",90,10800,{"$f":"T1946","v":"-195#-98"},1,2539]
[null,"15305",5,"噩梦15-30","15315",199,0,51011,205999,10100,"20001#20003#20011#20016#20004#20002#20018","17#3340|3#3375|14#3530|79#19","60103#1|60128#1|60138#1|60143#1",1004,20,"601011#400|601012#600","601011#210101|601012#210101",90,10800,{"$f":"T1947","v":"-249#-77"},1,2540]
[null,"15315",5,"噩梦15-31","15325",199,0,51011,205999,10100,"20001#20003#20011#20016#20004#20002#20018","17#3340|3#3375|14#3530|79#19","60103#1|60128#1|60138#1|60143#1",1004,20,"601011#400|601012#600","601011#210101|601012#210101",90,10800,{"$f":"T1948","v":"-250#-16"},2,2541]
[null,"15325",5,"噩梦15-32","15335",199,0,51011,205999,10100,"20001#20003#20011#20016#20004#20002#20018","17#3340|3#3375|14#3530|79#19","60103#1|60128#1|60138#1|60143#1",1004,20,"601011#400|601012#600","601011#210101|601012#210101",90,10800,{"$f":"T1949","v":"-189#12"},2,2542]
[null,"15335",5,"噩梦15-33","15345",199,0,51011,205999,10100,"20001#20003#20011#20016#20004#20002#20018","17#3340|3#3375|14#3530|79#19","60103#1|60128#1|60138#1|60143#1",1004,20,"601011#400|601012#600","601011#210101|601012#210101",90,10800,{"$f":"T1950","v":"-125#23"},2,2543]
[null,"15345",5,"噩梦15-34","15355",199,0,51011,205999,10100,"20001#20003#20011#20016#20004#20002#20018","17#3340|3#3375|14#3530|79#19","60103#1|60128#1|60138#1|60143#1",1004,20,"601011#400|601012#600","601011#210101|601012#210101",90,10800,{"$f":"T1951","v":"-59#22"},2,2544]
[null,"15355",5,"噩梦15-35","15365",199,0,51011,205999,10100,"20001#20003#20011#20016#20004#20002#20018","17#3340|3#3375|14#3530|79#19","60103#1|60128#1|60138#1|60143#1",1004,20,"601011#400|601012#600","601011#210101|601012#210101",90,10800,{"$f":"T1952","v":"15#-7"},2,2545]
[null,"15365",5,"噩梦15-36","15375",199,0,51011,205999,10100,"20001#20003#20011#20016#20004#20002#20018","17#3340|3#3375|14#3530|79#19","60103#1|60128#1|60138#1|60143#1",1004,20,"601011#400|601012#600","601011#210101|601012#210101",90,10800,{"$f":"T1953","v":"64#-66"},2,2546]
[null,"15375",5,"噩梦15-37","15385",199,0,51011,205999,10100,"20001#20003#20011#20016#20004#20002#20018","17#3340|3#3375|14#3530|79#19","60103#1|60128#1|60138#1|60143#1",1004,20,"601011#400|601012#600","601011#210101|601012#210101",90,10800,{"$f":"T1954","v":"124#-111"},2,2547]
[null,"15385",5,"噩梦15-38","15395",199,0,51011,205999,10100,"20001#20003#20011#20016#20004#20002#20018","17#3340|3#3375|14#3530|79#19","60103#1|60128#1|60138#1|60143#1",1004,20,"601011#400|601012#600","601011#210101|601012#210101",90,10800,{"$f":"T1955","v":"184#-130"},2,2548]
[null,"15395",5,"噩梦15-39","15405",199,0,51011,205999,10100,"20001#20003#20011#20016#20004#20002#20018","17#3340|3#3375|14#3530|79#19","60103#1|60128#1|60138#1|60143#1",1004,20,"601011#400|601012#600","601011#210101|601012#210101",90,10800,{"$f":"T1956","v":"242#-131"},2,2549]
[null,"15405",5,"噩梦15-40",-1,199,0,51011,205999,10100,"20001#20003#20011#20016#20004#20002#20018","17#3340|3#3375|14#3530|79#19","60103#1|60128#1|60138#1|60143#1",1004,20,"601011#400|601012#600","601011#210101|601012#210101",90,10800,{"$f":"T1957","v":"302#-123"},2,2550]

{"sheet":"Sheet1","index":1,"n_rows":2557,"n_cols":6,"rows_kept":2557}
[{"$nulls":4},"Name"]
[{"$nulls":4},"string"]
[{"$nulls":4},3]
[{"$nulls":4},"关卡名称"]
[{"$nulls":4}," "]
[]
[]
[{"$nulls":4},"简单-1-1",{"$f":"REPLACE(E8,3,1,\"\")","v":"简单1-1"}]
[{"$nulls":4},"简单-1-2",{"$f":"REPLACE(E9,3,1,\"\")","v":"简单1-2"}]
[{"$nulls":4},"简单-1-3","简单1-3"]
[{"$nulls":4},"简单-1-4","简单1-4"]
[{"$nulls":4},"简单-1-5","简单1-5"]
[{"$nulls":4},"简单-1-6","简单1-6"]
[{"$nulls":4},"简单-1-7","简单1-7"]
[{"$nulls":4},"简单-1-8","简单1-8"]
[{"$nulls":4},"简单-1-9","简单1-9"]
[{"$nulls":4},"简单-1-10","简单1-10"]
[{"$nulls":4},"简单-1-11","简单1-11"]
[{"$nulls":4},"简单-1-12","简单1-12"]
[{"$nulls":4},"简单-1-13","简单1-13"]
[{"$nulls":4},"简单-1-14","简单1-14"]
[{"$nulls":4},"简单-1-15","简单1-15"]
[{"$nulls":4},"简单-1-16","简单1-16"]
[{"$nulls":4},"简单-1-17","简单1-17"]
[{"$nulls":4},"简单-1-18","简单1-18"]
[{"$nulls":4},"简单-1-19","简单1-19"]
[{"$nulls":4},"简单-1-20","简单1-20"]
[{"$nulls":4},"简单-2-1","简单2-1"]
[{"$nulls":4},"简单-2-2","简单2-2"]
[{"$nulls":4},"简单-2-3","简单2-3"]
[{"$nulls":4},"简单-2-4","简单2-4"]
[{"$nulls":4},"简单-2-5","简单2-5"]
[{"$nulls":4},"简单-2-6","简单2-6"]
[{"$nulls":4},"简单-2-7","简单2-7"]
[{"$nulls":4},"简单-2-8","简单2-8"]
[{"$nulls":4},"简单-2-9","简单2-9"]
[{"$nulls":4},"简单-2-10","简单2-10"]
[{"$nulls":4},"简单-2-11","简单2-11"]
[{"$nulls":4},"简单-2-12","简单2-12"]
[{"$nulls":4},"简单-2-13","简单2-13"]
[{"$nulls":4},"简单-2-14","简单2-14"]
[{"$nulls":4},"简单-2-15","简单2-15"]
[{"$nulls":4},"简单-2-16","简单2-16"]
[{"$nulls":4},"简单-2-17","简单2-17"]
[{"$nulls":4},"简单-2-18","简单2-18"]
[{"$nulls":4},"简单-2-19","简单2-19"]
[{"$nulls":4},"简单-2-20","简单2-20"]
[{"$nulls":4},"简单-3-1","简单3-1"]
[{"$nulls":4},"简单-3-2","简单3-2"]
[{"$nulls":4},"简单-3-3","简单3-3"]
[{"$nulls":4},"简单-3-4","简单3-4"]
[{"$nulls":4},"简单-3-5","简单3-5"]
[{"$nulls":4},"简单-3-6","简单3-6"]
[{"$nulls":4},"简单-3-7","简单3-7"]
[{"$nulls":4},"简单-3-8","简单3-8"]
[{"$nulls":4},"简单-3-9","简单3-9"]
[{"$nulls":4},"简单-3-10","简单3-10"]
[{"$nulls":4},"简单-3-11","简单3-11"]
[{"$nulls":4},"简单-3-12","简单3-12"]
[{"$nulls":4},"简单-3-13","简单3-13"]
[{"$nulls":4},"简单-3-14","简单3-14"]
[{"$nulls":4},"简单-3-15","简单3-15"]
[{"$nulls":4},"简单-3-16","简单3-16"]
[{"$nulls":4},"简单-3-17","简单3-17"]
[{"$nulls":4},"简单-3-18","简单3-18"]
[{"$nulls":4},"简单-3-19","简单3-19"]
[{"$nulls":4},"简单-3-20","简单3-20"]
[{"$nulls":4},"简单-4-1","简单4-1"]
[{"$nulls":4},"简单-4-2","简单4-2"]
[{"$nulls":4},"简单-4-3","简单4-3"]
[{"$nulls":4},"简单-4-4","简单4-4"]
[{"$nulls":4},"简单-4-5","简单4-5"]
[{"$nulls":4},"简单-4-6",{"$f":"REPLACE(E73,3,1,\"\")","v":"简单4-6"}]
[{"$nulls":4},"简单-4-7","简单4-7"]
[{"$nulls":4},"简单-4-8","简单4-8"]
[{"$nulls":4},"简单-4-9","简单4-9"]
[{"$nulls":4},"简单-4-10","简单4-10"]
[{"$nulls":4},"简单-4-11","简单4-11"]
[{"$nulls":4},"简单-4-12","简单4-12"]
[{"$nulls":4},"简单-4-13","简单4-13"]
[{"$nulls":4},"简单-4-14","简单4-14"]
[{"$nulls":4},"简单-4-15","简单4-15"]
[{"$nulls":4},"简单-4-16","简单4-16"]
[{"$nulls":4},"简单-4-17","简单4-17"]
[{"$nulls":4},"简单-4-18","简单4-18"]
[{"$nulls":4},"简单-4-19","简单4-19"]
[{"$nulls":4},"简单-4-20","简单4-20"]
[{"$nulls":4},"简单-5-1","简单5-1"]
[{"$nulls":4},"简单-5-2","简单5-2"]
[{"$nulls":4},"简单-5-3","简单5-3"]
[{"$nulls":4},"简单-5-4","简单5-4"]
[{"$nulls":4},"简单-5-5","简单5-5"]
[{"$nulls":4},"简单-5-6","简单5-6"]
[{"$nulls":4},"简单-5-7","简单5-7"]
[{"$nulls":4},"简单-5-8","简单5-8"]
[{"$nulls":4},"简单-5-9","简单5-9"]
[{"$nulls":4},"简单-5-10","简单5-10"]
[{"$nulls":4},"简单-5-11","简单5-11"]
[{"$nulls":4},"简单-5-12","简单5-12"]
[{"$nulls":4},"简单-5-13","简单5-13"]
[{"$nulls":4},"简单-5-14","简单5-14"]
[{"$nulls":4},"简单-5-15","简单5-15"]
[{"$nulls":4},"简单-5-16","简单5-16"]
[{"$nulls":4},"简单-5-17","简单5-17"]
[{"$nulls":4},"简单-5-18","简单5-18"]
[{"$nulls":4},"简单-5-19","简单5-19"]
[{"$nulls":4},"简单-5-20","简单5-20"]
[{"$nulls":4},"简单-6-1","简单6-1"]
[{"$nulls":4},"简单-6-2","简单6-2"]
[{"$nulls":4},"简单-6-3","简单6-3"]
[{"$nulls":4},"简单-6-4","简单6-4"]
[{"$nulls":4},"简单-6-5","简单6-5"]
[{"$nulls":4},"简单-6-6","简单6-6"]
[{"$nulls":4},"简单-6-7","简单6-7"]
[{"$nulls":4},"简单-6-8","简单6-8"]
[{"$nulls":4},"简单-6-9","简单6-9"]
[{"$nulls":4},"简单-6-10","简单6-10"]
[{"$nulls":4},"简单-6-11","简单6-11"]
[{"$nulls":4},"简单-6-12","简单6-12"]
[{"$nulls":4},"简单-6-13","简单6-13"]
[{"$nulls":4},"简单-6-14","简单6-14"]
[{"$nulls":4},"简单-6-15","简单6-15"]
[{"$nulls":4},"简单-6-16","简单6-16"]
[{"$nulls":4},"简单-6-17","简单6-17"]
[{"$nulls":4},"简单-6-18","简单6-18"]
[{"$nulls":4},"简单-6-19","简单6-19"]
[{"$nulls":4},"简单-6-20","简单6-20"]
[{"$nulls":4},"简单-7-1","简单7-1"]
[{"$nulls":4},"简单-7-2","简单7-2"]
[{"$nulls":4},"简单-7-3","简单7-3"]
[{"$nulls":4},"简单-7-4","简单7-4"]
[{"$nulls":4},"简单-7-5","简单7-5"]
[{"$nulls":4},"简单-7-6","简单7-6"]
[{"$nulls":4},"简单-7-7","简单7-7"]
[{"$nulls":4},"简单-7-8","简单7-8"]
[{"$nulls":4},"简单-7-9","简单7-9"]
[{"$nulls":4},"简单-7-10",{"$f":"REPLACE(E137,3,1,\"\")","v":"简单7-10"}]
[{"$nulls":4},"简单-7-11","简单7-11"]
[{"$nulls":4},"简单-7-12","简单7-12"]
[{"$nulls":4},"简单-7-13","简单7-13"]
[{"$nulls":4},"简单-7-14","简单7-14"]
[{"$nulls":4},"简单-7-15","简单7-15"]
[{"$nulls":4},"简单-7-16","简单7-16"]
[{"$nulls":4},"简单-7-17","简单7-17"]
[{"$nulls":4},"简单-7-18","简单7-18"]
[{"$nulls":4},"简单-7-19","简单7-19"]
[{"$nulls":4},"简单-7-20","简单7-20"]
[{"$nulls":4},"简单-8-1","简单8-1"]
[{"$nulls":4},"简单-8-2","简单8-2"]
[{"$nulls":4},"简单-8-3","简单8-3"]
[{"$nulls":4},"简单-8-4","简单8-4"]
[{"$nulls":4},"简单-8-5","简单8-5"]
[{"$nulls":4},"简单-8-6","简单8-6"]
[{"$nulls":4},"简单-8-7","简单8-7"]
[{"$nulls":4},"简单-8-8","简单8-8"]
[{"$nulls":4},"简单-8-9","简单8-9"]
[{"$nulls":4},"简单-8-10","简单8-10"]
[{"$nulls":4},"简单-8-11","简单8-11"]
[{"$nulls":4},"简单-8-12","简单8-12"]
[{"$nulls":4},"简单-8-13","简单8-13"]
[{"$nulls":4},"简单-8-14","简单8-14"]
[{"$nulls":4},"简单-8-15","简单8-15"]
[{"$nulls":4},"简单-8-16","简单8-16"]
[{"$nulls":4},"简单-8-17","简单8-17"]
[{"$nulls":4},"简单-8-18","简单8-18"]
[{"$nulls":4},"简单-8-19","简单8-19"]
[{"$nulls":4},"简单-8-20","简单8-20"]
[{"$nulls":4},"简单-9-1","简单9-1"]
[{"$nulls":4},"简单-9-2","简单9-2"]
[{"$nulls":4},"简单-9-3","简单9-3"]
[{"$nulls":4},"简单-9-4","简单9-4"]
[{"$nulls":4},"简单-9-5","简单9-5"]
[{"$nulls":4},"简单-9-6","简单9-6"]
[{"$nulls":4},"简单-9-7","简单9-7"]
[{"$nulls":4},"简单-9-8","简单9-8"]
[{"$nulls":4},"简单-9-9","简单9-9"]
[{"$nulls":4},"简单-9-10","简单9-10"]
[{"$nulls":4},"简单-9-11","简单9-11"]
[{"$nulls":4},"简单-9-12","简单9-12"]
[{"$nulls":4},"简单-9-13","简单9-13"]
[{"$nulls":4},"简单-9-14","简单9-14"]
[{"$nulls":4},"简单-9-15","简单9-15"]
[{"$nulls":4},"简单-9-16","简单9-16"]
[{"$nulls":4},"简单-9-17","简单9-17"]
[{"$nulls":4},"简单-9-18","简单9-18"]
[{"$nulls":4},"简单-9-19","简单9-19"]
[{"$nulls":4},"简单-9-20","简单9-20"]
[{"$nulls":4},"简单-10-1","简单10-1"]
[{"$nulls":4},"简单-10-2","简单10-2"]
[{"$nulls":4},"简单-10-3","简单10-3"]
[{"$nulls":4},"简单-10-4","简单10-4"]
[{"$nulls":4},"简单-10-5","简单10-5"]
[{"$nulls":4},"简单-10-6","简单10-6"]
[{"$nulls":4},"简单-10-7","简单10-7"]
[{"$nulls":4},"简单-10-8","简单10-8"]
[{"$nulls":4},"简单-10-9","简单10-9"]
[{"$nulls":4},"简单-10-10","简单10-10"]
[{"$nulls":4},"简单-10-11","简单10-11"]
[{"$nulls":4},"简单-10-12","简单10-12"]
[{"$nulls":4},"简单-10-13","简单10-13"]
[{"$nulls":4},"简单-10-14",{"$f":"REPLACE(E201,3,1,\"\")","v":"简单10-14"}]
[{"$nulls":4},"简单-10-15","简单10-15"]
[{"$nulls":4},"简单-10-16","简单10-16"]
[{"$nulls":4},"简单-10-17","简单10-17"]
[{"$nulls":4},"简单-10-18","简单10-18"]
[{"$nulls":4},"简单-10-19","简单10-19"]
[{"$nulls":4},"简单-10-20","简单10-20"]
[{"$nulls":4},"简单-11-1","简单11-1"]
[{"$nulls":4},"简单-11-2","简单11-2"]
[{"$nulls":4},"简单-11-3","简单11-3"]
[{"$nulls":4},"简单-11-4","简单11-4"]
[{"$nulls":4},"简单-11-5","简单11-5"]
[{"$nulls":4},"简单-11-6","简单11-6"]
[{"$nulls":4},"简单-11-7","简单11-7"]
[{"$nulls":4},"简单-11-8","简单11-8"]
[{"$nulls":4},"简单-11-9","简单11-9"]
[{"$nulls":4},"简单-11-10","简单11-10"]
[{"$nulls":4},"简单-11-11","简单11-11"]
[{"$nulls":4},"简单-11-12","简单11-12"]
[{"$nulls":4},"简单-11-13","简单11-13"]
[{"$nulls":4},"简单-11-14","简单11-14"]
[{"$nulls":4},"简单-11-15","简单11-15"]
[{"$nulls":4},"简单-11-16","简单11-16"]
[{"$nulls":4},"简单-11-17","简单11-17"]
[{"$nulls":4},"简单-11-18","简单11-18"]
[{"$nulls":4},"简单-11-19","简单11-19"]
[{"$nulls":4},"简单-11-20","简单11-20"]
[{"$nulls":4},"简单-12-1","简单12-1"]
[{"$nulls":4},"简单-12-2","简单12-2"]
[{"$nulls":4},"简单-12-3","简单12-3"]
[{"$nulls":4},"简单-12-4","简单12-4"]
[{"$nulls":4},"简单-12-5","简单12-5"]
[{"$nulls":4},"简单-12-6","简单12-6"]
[{"$nulls":4},"简单-12-7","简单12-7"]
[{"$nulls":4},"简单-12-8","简单12-8"]
[{"$nulls":4},"简单-12-9","简单12-9"]
[{"$nulls":4},"简单-12-10","简单12-10"]
[{"$nulls":4},"简单-12-11","简单12-11"]
[{"$nulls":4},"简单-12-12","简单12-12"]
[{"$nulls":4},"简单-12-13","简单12-13"]
[{"$nulls":4},"简单-12-14","简单12-14"]
[{"$nulls":4},"简单-12-15","简单12-15"]
[{"$nulls":4},"简单-12-16","简单12-16"]
[{"$nulls":4},"简单-12-17","简单12-17"]
[{"$nulls":4},"简单-12-18","简单12-18"]
[{"$nulls":4},"简单-12-19","简单12-19"]
[{"$nulls":4},"简单-12-20","简单12-20"]
[{"$nulls":4},"简单-13-1","简单13-1"]
[{"$nulls":4},"简单-13-2","简单13-2"]
[{"$nulls":4},"简单-13-3","简单13-3"]
[{"$nulls":4},"简单-13-4","简单13-4"]
[{"$nulls":4},"简单-13-5","简单13-5"]
[{"$nulls":4},"简单-13-6","简单13-6"]
[{"$nulls":4},"简单-13-7","简单13-7"]
[{"$nulls":4},"简单-13-8","简单13-8"]
[{"$nulls":4},"简单-13-9","简单13-9"]
[{"$nulls":4},"简单-13-10","简单13-10"]
[{"$nulls":4},"简单-13-11","简单13-11"]
[{"$nulls":4},"简单-13-12","简单13-12"]
[{"$nulls":4},"简单-13-13","简单13-13"]
[{"$nulls":4},"简单-13-14","简单13-14"]
[{"$nulls":4},"简单-13-15","简单13-15"]
[{"$nulls":4},"简单-13-16","简单13-16"]
[{"$nulls":4},"简单-13-17","简单13-17"]
[{"$nulls":4},"简单-13-18",{"$f":"REPLACE(E265,3,1,\"\")","v":"简单13-18"}]
[{"$nulls":4},"简单-13-19","简单13-19"]
[{"$nulls":4},"简单-13-20","简单13-20"]
[{"$nulls":4},"简单-14-1","简单14-1"]
[{"$nulls":4},"简单-14-2","简单14-2"]
[{"$nulls":4},"简单-14-3","简单14-3"]
[{"$nulls":4},"简单-14-4","简单14-4"]
[{"$nulls":4},"简单-14-5","简单14-5"]
[{"$nulls":4},"简单-14-6","简单14-6"]
[{"$nulls":4},"简单-14-7","简单14-7"]
[{"$nulls":4},"简单-14-8","简单14-8"]
[{"$nulls":4},"简单-14-9","简单14-9"]
[{"$nulls":4},"简单-14-10","简单14-10"]
[{"$nulls":4},"简单-14-11","简单14-11"]
[{"$nulls":4},"简单-14-12","简单14-12"]
[{"$nulls":4},"简单-14-13","简单14-13"]
[{"$nulls":4},"简单-14-14","简单14-14"]
[{"$nulls":4},"简单-14-15","简单14-15"]
[{"$nulls":4},"简单-14-16","简单14-16"]
[{"$nulls":4},"简单-14-17","简单14-17"]
[{"$nulls":4},"简单-14-18","简单14-18"]
[{"$nulls":4},"简单-14-19","简单14-19"]
[{"$nulls":4},"简单-14-20","简单14-20"]
[{"$nulls":4},"简单-15-1","简单15-1"]
[{"$nulls":4},"简单-15-2","简单15-2"]
[{"$nulls":4},"简单-15-3","简单15-3"]
[{"$nulls":4},"简单-15-4","简单15-4"]
[{"$nulls":4},"简单-15-5","简单15-5"]
[{"$nulls":4},"简单-15-6","简单15-6"]
[{"$nulls":4},"简单-15-7","简单15-7"]
[{"$nulls":4},"简单-15-8","简单15-8"]
[{"$nulls":4},"简单-15-9","简单15-9"]
[{"$nulls":4},"简单-15-10","简单15-10"]
[{"$nulls":4},"简单-15-11","简单15-11"]
[{"$nulls":4},"简单-15-12","简单15-12"]
[{"$nulls":4},"简单-15-13","简单15-13"]
[{"$nulls":4},"简单-15-14","简单15-14"]
[{"$nulls":4},"简单-15-15","简单15-15"]
[{"$nulls":4},"简单-15-16","简单15-16"]
[{"$nulls":4},"简单-15-17","简单15-17"]
[{"$nulls":4},"简单-15-18","简单15-18"]
[{"$nulls":4},"简单-15-19","简单15-19"]
[{"$nulls":4},"简单-15-20","简单15-20"]
[{"$nulls":4},"普通-1-1","普通1-1"]
[{"$nulls":4},"普通-1-2","普通1-2"]
[{"$nulls":4},"普通-1-3","普通1-3"]
[{"$nulls":4},"普通-1-4","普通1-4"]
[{"$nulls":4},"普通-1-5","普通1-5"]
[{"$nulls":4},"普通-1-6","普通1-6"]
[{"$nulls":4},"普通-1-7","普通1-7"]
[{"$nulls":4},"普通-1-8","普通1-8"]
[{"$nulls":4},"普通-1-9","普通1-9"]
[{"$nulls":4},"普通-1-10","普通1-10"]
[{"$nulls":4},"普通-1-11","普通1-11"]
[{"$nulls":4},"普通-1-12","普通1-12"]
[{"$nulls":4},"普通-1-13","普通1-13"]
[{"$nulls":4},"普通-1-14","普通1-14"]
[{"$nulls":4},"普通-1-15","普通1-15"]
[{"$nulls":4},"普通-1-16","普通1-16"]
[{"$nulls":4},"普通-1-17","普通1-17"]
[{"$nulls":4},"普通-1-18","普通1-18"]
[{"$nulls":4},"普通-1-19","普通1-19"]
[{"$nulls":4},"普通-1-20","普通1-20"]
[{"$nulls":4},"普通-1-21","普通1-21"]
[{"$nulls":4},"普通-1-22",{"$f":"REPLACE(E329,3,1,\"\")","v":"普通1-22"}]
[{"$nulls":4},"普通-1-23","普通1-23"]
[{"$nulls":4},"普通-1-24","普通1-24"]
[{"$nulls":4},"普通-1-25","普通1-25"]
[{"$nulls":4},"普通-1-26","普通1-26"]
[{"$nulls":4},"普通-1-27","普通1-27"]
[{"$nulls":4},"普通-1-28","普通1-28"]
[{"$nulls":4},"普通-1-29","普通1-29"]
[{"$nulls":4},"普通-1-30","普通1-30"]
[{"$nulls":4},"普通-2-1","普通2-1"]
[{"$nulls":4},"普通-2-2","普通2-2"]
[{"$nulls":4},"普通-2-3","普通2-3"]
[{"$nulls":4},"普通-2-4","普通2-4"]
[{"$nulls":4},"普通-2-5","普通2-5"]
[{"$nulls":4},"普通-2-6","普通2-6"]
[{"$nulls":4},"普通-2-7","普通2-7"]
[{"$nulls":4},"普通-2-8","普通2-8"]
[{"$nulls":4},"普通-2-9","普通2-9"]
[{"$nulls":4},"普通-2-10","普通2-10"]
[{"$nulls":4},"普通-2-11","普通2-11"]
[{"$nulls":4},"普通-2-12","普通2-12"]
[{"$nulls":4},"普通-2-13","普通2-13"]
[{"$nulls":4},"普通-2-14","普通2-14"]
[{"$nulls":4},"普通-2-15","普通2-15"]
[{"$nulls":4},"普通-2-16","普通2-16"]
[{"$nulls":4},"普通-2-17","普通2-17"]
[{"$nulls":4},"普通-2-18","普通2-18"]
[{"$nulls":4},"普通-2-19","普通2-19"]
[{"$nulls":4},"普通-2-20","普通2-20"]
[{"$nulls":4},"普通-2-21","普通2-21"]
[{"$nulls":4},"普通-2-22","普通2-22"]
[{"$nulls":4},"普通-2-23","普通2-23"]
[{"$nulls":4},"普通-2-24","普通2-24"]
[{"$nulls":4},"普通-2-25","普通2-25"]
[{"$nulls":4},"普通-2-26","普通2-26"]
[{"$nulls":4},"普通-2-27","普通2-27"]
[{"$nulls":4},"普通-2-28","普通2-28"]
[{"$nulls":4},"普通-2-29","普通2-29"]
[{"$nulls":4},"普通-2-30","普通2-30"]
[{"$nulls":4},"普通-3-1","普通3-1"]
[{"$nulls":4},"普通-3-2","普通3-2"]
[{"$nulls":4},"普通-3-3","普通3-3"]
[{"$nulls":4},"普通-3-4","普通3-4"]
[{"$nulls":4},"普通-3-5","普通3-5"]
[{"$nulls":4},"普通-3-6","普通3-6"]
[{"$nulls":4},"普通-3-7","普通3-7"]
[{"$nulls":4},"普通-3-8","普通3-8"]
[{"$nulls":4},"普通-3-9","普通3-9"]
[{"$nulls":4},"普通-3-10","普通3-10"]
[{"$nulls":4},"普通-3-11","普通3-11"]
[{"$nulls":4},"普通-3-12","普通3-12"]
[{"$nulls":4},"普通-3-13","普通3-13"]
[{"$nulls":4},"普通-3-14","普通3-14"]
[{"$nulls":4},"普通-3-15","普通3-15"]
[{"$nulls":4},"普通-3-16","普通3-16"]
[{"$nulls":4},"普通-3-17","普通3-17"]
[{"$nulls":4},"普通-3-18","普通3-18"]
[{"$nulls":4},"普通-3-19","普通3-19"]
[{"$nulls":4},"普通-3-20","普通3-20"]
[{"$nulls":4},"普通-3-21","普通3-21"]
[{"$nulls":4},"普通-3-22","普通3-22"]
[{"$nulls":4},"普通-3-23","普通3-23"]
[{"$nulls":4},"普通-3-24","普通3-24"]
[{"$nulls":4},"普通-3-25","普通3-25"]
[{"$nulls":4},"普通-3-26",{"$f":"REPLACE(E393,3,1,\"\")","v":"普通3-26"}]
[{"$nulls":4},"普通-3-27","普通3-27"]
[{"$nulls":4},"普通-3-28","普通3-28"]
[{"$nulls":4},"普通-3-29","普通3-29"]
[{"$nulls":4},"普通-3-30","普通3-30"]
[{"$nulls":4},"普通-4-1","普通4-1"]
[{"$nulls":4},"普通-4-2","普通4-2"]
[{"$nulls":4},"普通-4-3","普通4-3"]
[{"$nulls":4},"普通-4-4","普通4-4"]
[{"$nulls":4},"普通-4-5","普通4-5"]
[{"$nulls":4},"普通-4-6","普通4-6"]
[{"$nulls":4},"普通-4-7","普通4-7"]
[{"$nulls":4},"普通-4-8","普通4-8"]
[{"$nulls":4},"普通-4-9","普通4-9"]
[{"$nulls":4},"普通-4-10","普通4-10"]
[{"$nulls":4},"普通-4-11","普通4-11"]
[{"$nulls":4},"普通-4-12","普通4-12"]
[{"$nulls":4},"普通-4-13","普通4-13"]
[{"$nulls":4},"普通-4-14","普通4-14"]
[{"$nulls":4},"普通-4-15","普通4-15"]
[{"$nulls":4},"普通-4-16","普通4-16"]
[{"$nulls":4},"普通-4-17","普通4-17"]
[{"$nulls":4},"普通-4-18","普通4-18"]
[{"$nulls":4},"普通-4-19","普通4-19"]
[{"$nulls":4},"普通-4-20","普通4-20"]
[{"$nulls":4},"普通-4-21","普通4-21"]
[{"$nulls":4},"普通-4-22","普通4-22"]
[{"$nulls":4},"普通-4-23","普通4-23"]
[{"$nulls":4},"普通-4-24","普通4-24"]
[{"$nulls":4},"普通-4-25","普通4-25"]
[{"$nulls":4},"普通-4-26","普通4-26"]
[{"$nulls":4},"普通-4-27","普通4-27"]
[{"$nulls":4},"普通-4-28","普通4-28"]
[{"$nulls":4},"普通-4-29","普通4-29"]
[{"$nulls":4},"普通-4-30","普通4-30"]
[{"$nulls":4},"普通-5-1","普通5-1"]
[{"$nulls":4},"普通-5-2","普通5-2"]
[{"$nulls":4},"普通-5-3","普通5-3"]
[{"$nulls":4},"普通-5-4","普通5-4"]
[{"$nulls":4},"普通-5-5","普通5-5"]
[{"$nulls":4},"普通-5-6","普通5-6"]
[{"$nulls":4},"普通-5-7","普通5-7"]
[{"$nulls":4},"普通-5-8","普通5-8"]
[{"$nulls":4},"普通-5-9","普通5-9"]
[{"$nulls":4},"普通-5-10","普通5-10"]
[{"$nulls":4},"普通-5-11","普通5-11"]
[{"$nulls":4},"普通-5-12","普通5-12"]
[{"$nulls":4},"普通-5-13","普通5-13"]
[{"$nulls":4},"普通-5-14","普通5-14"]
[{"$nulls":4},"普通-5-15","普通5-15"]
[{"$nulls":4},"普通-5-16","普通5-16"]
[{"$nulls":4},"普通-5-17","普通5-17"]
[{"$nulls":4},"普通-5-18","普通5-18"]
[{"$nulls":4},"普通-5-19","普通5-19"]
[{"$nulls":4},"普通-5-20","普通5-20"]
[{"$nulls":4},"普通-5-21","普通5-21"]
[{"$nulls":4},"普通-5-22","普通5-22"]
[{"$nulls":4},"普通-5-23","普通5-23"]
[{"$nulls":4},"普通-5-24","普通5-24"]
[{"$nulls":4},"普通-5-25","普通5-25"]
[{"$nulls":4},"普通-5-26","普通5-26"]
[{"$nulls":4},"普通-5-27","普通5-27"]
[{"$nulls":4},"普通-5-28","普通5-28"]
[{"$nulls":4},"普通-5-29","普通5-29"]
[{"$nulls":4},"普通-5-30",{"$f":"REPLACE(E457,3,1,\"\")","v":"普通5-30"}]
[{"$nulls":4},"普通-6-1","普通6-1"]
[{"$nulls":4},"普通-6-2","普通6-2"]
[{"$nulls":4},"普通-6-3","普通6-3"]
[{"$nulls":4},"普通-6-4","普通6-4"]
[{"$nulls":4},"普通-6-5","普通6-5"]
[{"$nulls":4},"普通-6-6","普通6-6"]
[{"$nulls":4},"普通-6-7","普通6-7"]
[{"$nulls":4},"普通-6-8","普通6-8"]
[{"$nulls":4},"普通-6-9","普通6-9"]
[{"$nulls":4},"普通-6-10","普通6-10"]
[{"$nulls":4},"普通-6-11","普通6-11"]
[{"$nulls":4},"普通-6-12","普通6-12"]
[{"$nulls":4},"普通-6-13","普通6-13"]
[{"$nulls":4},"普通-6-14","普通6-14"]
[{"$nulls":4},"普通-6-15","普通6-15"]
[{"$nulls":4},"普通-6-16","普通6-16"]
[{"$nulls":4},"普通-6-17","普通6-17"]
[{"$nulls":4},"普通-6-18","普通6-18"]
[{"$nulls":4},"普通-6-19","普通6-19"]
[{"$nulls":4},"普通-6-20","普通6-20"]
[{"$nulls":4},"普通-6-21","普通6-21"]
[{"$nulls":4},"普通-6-22","普通6-22"]
[{"$nulls":4},"普通-6-23","普通6-23"]
[{"$nulls":4},"普通-6-24","普通6-24"]
[{"$nulls":4},"普通-6-25","普通6-25"]
[{"$nulls":4},"普通-6-26","普通6-26"]
[{"$nulls":4},"普通-6-27","普通6-27"]
[{"$nulls":4},"普通-6-28","普通6-28"]
[{"$nulls":4},"普通-6-29","普通6-29"]
[{"$nulls":4},"普通-6-30","普通6-30"]
[{"$nulls":4},"普通-7-1","普通7-1"]
[{"$nulls":4},"普通-7-2","普通7-2"]
[{"$nulls":4},"普通-7-3","普通7-3"]
[{"$nulls":4},"普通-7-4","普通7-4"]
[{"$nulls":4},"普通-7-5","普通7-5"]
[{"$nulls":4},"普通-7-6","普通7-6"]
[{"$nulls":4},"普通-7-7","普通7-7"]
[{"$nulls":4},"普通-7-8","普通7-8"]
[{"$nulls":4},"普通-7-9","普通7-9"]
[{"$nulls":4},"普通-7-10","普通7-10"]
[{"$nulls":4},"普通-7-11","普通7-11"]
[{"$nulls":4},"普通-7-12","普通7-12"]
[{"$nulls":4},"普通-7-13","普通7-13"]
[{"$nulls":4},"普通-7-14","普通7-14"]
[{"$nulls":4},"普通-7-15","普通7-15"]
[{"$nulls":4},"普通-7-16","普通7-16"]
[{"$nulls":4},"普通-7-17","普通7-17"]
[{"$nulls":4},"普通-7-18","普通7-18"]
[{"$nulls":4},"普通-7-19","普通7-19"]
[{"$nulls":4},"普通-7-20","普通7-20"]
[{"$nulls":4},"普通-7-21","普通7-21"]
[{"$nulls":4},"普通-7-22","普通7-22"]
[{"$nulls":4},"普通-7-23","普通7-23"]
[{"$nulls":4},"普通-7-24","普通7-24"]
[{"$nulls":4},"普通-7-25","普通7-25"]
[{"$nulls":4},"普通-7-26","普通7-26"]
[{"$nulls":4},"普通-7-27","普通7-27"]
[{"$nulls":4},"普通-7-28","普通7-28"]
[{"$nulls":4},"普通-7-29","普通7-29"]
[{"$nulls":4},"普通-7-30","普通7-30"]
[{"$nulls":4},"普通-8-1","普通8-1"]
[{"$nulls":4},"普通-8-2","普通8-2"]
[{"$nulls":4},"普通-8-3","普通8-3"]
[{"$nulls":4},"普通-8-4",{"$f":"REPLACE(E521,3,1,\"\")","v":"普通8-4"}]
[{"$nulls":4},"普通-8-5","普通8-5"]
[{"$nulls":4},"普通-8-6","普通8-6"]
[{"$nulls":4},"普通-8-7","普通8-7"]
[{"$nulls":4},"普通-8-8","普通8-8"]
[{"$nulls":4},"普通-8-9","普通8-9"]
[{"$nulls":4},"普通-8-10","普通8-10"]
[{"$nulls":4},"普通-8-11","普通8-11"]
[{"$nulls":4},"普通-8-12","普通8-12"]
[{"$nulls":4},"普通-8-13","普通8-13"]
[{"$nulls":4},"普通-8-14","普通8-14"]
[{"$nulls":4},"普通-8-15","普通8-15"]
[{"$nulls":4},"普通-8-16","普通8-16"]
[{"$nulls":4},"普通-8-17","普通8-17"]
[{"$nulls":4},"普通-8-18","普通8-18"]
[{"$nulls":4},"普通-8-19","普通8-19"]
[{"$nulls":4},"普通-8-20","普通8-20"]
[{"$nulls":4},"普通-8-21","普通8-21"]
[{"$nulls":4},"普通-8-22","普通8-22"]
[{"$nulls":4},"普通-8-23","普通8-23"]
[{"$nulls":4},"普通-8-24","普通8-24"]
[{"$nulls":4},"普通-8-25","普通8-25"]
[{"$nulls":4},"普通-8-26","普通8-26"]
[{"$nulls":4},"普通-8-27","普通8-27"]
[{"$nulls":4},"普通-8-28","普通8-28"]
[{"$nulls":4},"普通-8-29","普通8-29"]
[{"$nulls":4},"普通-8-30","普通8-30"]
[{"$nulls":4},"普通-9-1","普通9-1"]
[{"$nulls":4},"普通-9-2","普通9-2"]
[{"$nulls":4},"普通-9-3","普通9-3"]
[{"$nulls":4},"普通-9-4","普通9-4"]
[{"$nulls":4},"普通-9-5","普通9-5"]
[{"$nulls":4},"普通-9-6","普通9-6"]
[{"$nulls":4},"普通-9-7","普通9-7"]
[{"$nulls":4},"普通-9-8","普通9-8"]
[{"$nulls":4},"普通-9-9","普通9-9"]
[{"$nulls":4},"普通-9-10","普通9-10"]
[{"$nulls":4},"普通-9-11","普通9-11"]
[{"$nulls":4},"普通-9-12","普通9-12"]
[{"$nulls":4},"普通-9-13","普通9-13"]
[{"$nulls":4},"普通-9-14","普通9-14"]
[{"$nulls":4},"普通-9-15","普通9-15"]
[{"$nulls":4},"普通-9-16","普通9-16"]
[{"$nulls":4},"普通-9-17","普通9-17"]
[{"$nulls":4},"普通-9-18","普通9-18"]
[{"$nulls":4},"普通-9-19","普通9-19"]
[{"$nulls":4},"普通-9-20","普通9-20"]
[{"$nulls":4},"普通-9-21","普通9-21"]
[{"$nulls":4},"普通-9-22","普通9-22"]
[{"$nulls":4},"普通-9-23","普通9-23"]
[{"$nulls":4},"普通-9-24","普通9-24"]
[{"$nulls":4},"普通-9-25","普通9-25"]
[{"$nulls":4},"普通-9-26","普通9-26"]
[{"$nulls":4},"普通-9-27","普通9-27"]
[{"$nulls":4},"普通-9-28","普通9-28"]
[{"$nulls":4},"普通-9-29","普通9-29"]
[{"$nulls":4},"普通-9-30","普通9-30"]
[{"$nulls":4},"普通-10-1","普通10-1"]
[{"$nulls":4},"普通-10-2","普通10-2"]
[{"$nulls":4},"普通-10-3","普通10-3"]
[{"$nulls":4},"普通-10-4","普通10-4"]
[{"$nulls":4},"普通-10-5","普通10-5"]
[{"$nulls":4},"普通-10-6","普通10-6"]
[{"$nulls":4},"普通-10-7","普通10-7"]
[{"$nulls":4},"普通-10-8",{"$f":"REPLACE(E585,3,1,\"\")","v":"普通10-8"}]
[{"$nulls":4},"普通-10-9","普通10-9"]
[{"$nulls":4},"普通-10-10","普通10-10"]
[{"$nulls":4},"普通-10-11","普通10-11"]
[{"$nulls":4},"普通-10-12","普通10-12"]
[{"$nulls":4},"普通-10-13","普通10-13"]
[{"$nulls":4},"普通-10-14","普通10-14"]
[{"$nulls":4},"普通-10-15","普通10-15"]
[{"$nulls":4},"普通-10-16","普通10-16"]
[{"$nulls":4},"普通-10-17","普通10-17"]
[{"$nulls":4},"普通-10-18","普通10-18"]
[{"$nulls":4},"普通-10-19","普通10-19"]
[{"$nulls":4},"普通-10-20","普通10-20"]
[{"$nulls":4},"普通-10-21","普通10-21"]
[{"$nulls":4},"普通-10-22","普通10-22"]
[{"$nulls":4},"普通-10-23","普通10-23"]
[{"$nulls":4},"普通-10-24","普通10-24"]
[{"$nulls":4},"普通-10-25","普通10-25"]
[{"$nulls":4},"普通-10-26","普通10-26"]
[{"$nulls":4},"普通-10-27","普通10-27"]
[{"$nulls":4},"普通-10-28","普通10-28"]
[{"$nulls":4},"普通-10-29","普通10-29"]
[{"$nulls":4},"普通-10-30","普通10-30"]
[{"$nulls":4},"普通-11-1","普通11-1"]
[{"$nulls":4},"普通-11-2","普通11-2"]
[{"$nulls":4},"普通-11-3","普通11-3"]
[{"$nulls":4},"普通-11-4","普通11-4"]
[{"$nulls":4},"普通-11-5","普通11-5"]
[{"$nulls":4},"普通-11-6","普通11-6"]
[{"$nulls":4},"普通-11-7","普通11-7"]
[{"$nulls":4},"普通-11-8","普通11-8"]
[{"$nulls":4},"普通-11-9","普通11-9"]
[{"$nulls":4},"普通-11-10","普通11-10"]
[{"$nulls":4},"普通-11-11","普通11-11"]
[{"$nulls":4},"普通-11-12","普通11-12"]
[{"$nulls":4},"普通-11-13","普通11-13"]
[{"$nulls":4},"普通-11-14","普通11-14"]
[{"$nulls":4},"普通-11-15","普通11-15"]
[{"$nulls":4},"普通-11-16","普通11-16"]
[{"$nulls":4},"普通-11-17","普通11-17"]
[{"$nulls":4},"普通-11-18","普通11-18"]
[{"$nulls":4},"普通-11-19","普通11-19"]
[{"$nulls":4},"普通-11-20","普通11-20"]
[{"$nulls":4},"普通-11-21","普通11-21"]
[{"$nulls":4},"普通-11-22","普通11-22"]
[{"$nulls":4},"普通-11-23","普通11-23"]
[{"$nulls":4},"普通-11-24","普通11-24"]
[{"$nulls":4},"普通-11-25","普通11-25"]
[{"$nulls":4},"普通-11-26","普通11-26"]
[{"$nulls":4},"普通-11-27","普通11-27"]
[{"$nulls":4},"普通-11-28","普通11-28"]
[{"$nulls":4},"普通-11-29","普通11-29"]
[{"$nulls":4},"普通-11-30","普通11-30"]
[{"$nulls":4},"普通-12-1","普通12-1"]
[{"$nulls":4},"普通-12-2","普通12-2"]
[{"$nulls":4},"普通-12-3","普通12-3"]
[{"$nulls":4},"普通-12-4","普通12-4"]
[{"$nulls":4},"普通-12-5","普通12-5"]
[{"$nulls":4},"普通-12-6","普通12-6"]
[{"$nulls":4},"普通-12-7","普通12-7"]
[{"$nulls":4},"普通-12-8","普通12-8"]
[{"$nulls":4},"普通-12-9","普通12-9"]
[{"$nulls":4},"普通-12-10","普通12-10"]
[{"$nulls":4},"普通-12-11","普通12-11"]
[{"$nulls":4},"普通-12-12",{"$f":"REPLACE(E649,3,1,\"\")","v":"普通12-12"}]
[{"$nulls":4},"普通-12-13","普通12-13"]
[{"$nulls":4},"普通-12-14","普通12-14"]
[{"$nulls":4},"普通-12-15","普通12-15"]
[{"$nulls":4},"普通-12-16","普通12-16"]
[{"$nulls":4},"普通-12-17","普通12-17"]
[{"$nulls":4},"普通-12-18","普通12-18"]
[{"$nulls":4},"普通-12-19","普通12-19"]
[{"$nulls":4},"普通-12-20","普通12-20"]
[{"$nulls":4},"普通-12-21","普通12-21"]
[{"$nulls":4},"普通-12-22","普通12-22"]
[{"$nulls":4},"普通-12-23","普通12-23"]
[{"$nulls":4},"普通-12-24","普通12-24"]
[{"$nulls":4},"普通-12-25","普通12-25"]
[{"$nulls":4},"普通-12-26","普通12-26"]
[{"$nulls":4},"普通-12-27","普通12-27"]
[{"$nulls":4},"普通-12-28","普通12-28"]
[{"$nulls":4},"普通-12-29","普通12-29"]
[{"$nulls":4},"普通-12-30","普通12-30"]
[{"$nulls":4},"普通-13-1","普通13-1"]
[{"$nulls":4},"普通-13-2","普通13-2"]
[{"$nulls":4},"普通-13-3","普通13-3"]
[{"$nulls":4},"普通-13-4","普通13-4"]
[{"$nulls":4},"普通-13-5","普通13-5"]
[{"$nulls":4},"普通-13-6","普通13-6"]
[{"$nulls":4},"普通-13-7","普通13-7"]
[{"$nulls":4},"普通-13-8","普通13-8"]
[{"$nulls":4},"普通-13-9","普通13-9"]
[{"$nulls":4},"普通-13-10","普通13-10"]
[{"$nulls":4},"普通-13-11","普通13-11"]
[{"$nulls":4},"普通-13-12","普通13-12"]
[{"$nulls":4},"普通-13-13","普通13-13"]
[{"$nulls":4},"普通-13-14","普通13-14"]
[{"$nulls":4},"普通-13-15","普通13-15"]
[{"$nulls":4},"普通-13-16","普通13-16"]
[{"$nulls":4},"普通-13-17","普通13-17"]
[{"$nulls":4},"普通-13-18","普通13-18"]
[{"$nulls":4},"普通-13-19","普通13-19"]
[{"$nulls":4},"普通-13-20","普通13-20"]
[{"$nulls":4},"普通-13-21","普通13-21"]
[{"$nulls":4},"普通-13-22","普通13-22"]
[{"$nulls":4},"普通-13-23","普通13-23"]
[{"$nulls":4},"普通-13-24","普通13-24"]
[{"$nulls":4},"普通-13-25","普通13-25"]
[{"$nulls":4},"普通-13-26","普通13-26"]
[{"$nulls":4},"普通-13-27","普通13-27"]
[{"$nulls":4},"普通-13-28","普通13-28"]
[{"$nulls":4},"普通-13-29","普通13-29"]
[{"$nulls":4},"普通-13-30","普通13-30"]
[{"$nulls":4},"普通-14-1","普通14-1"]
[{"$nulls":4},"普通-14-2","普通14-2"]
[{"$nulls":4},"普通-14-3","普通14-3"]
[{"$nulls":4},"普通-14-4","普通14-4"]
[{"$nulls":4},"普通-14-5","普通14-5"]
[{"$nulls":4},"普通-14-6","普通14-6"]
[{"$nulls":4},"普通-14-7","普通14-7"]
[{"$nulls":4},"普通-14-8","普通14-8"]
[{"$nulls":4},"普通-14-9","普通14-9"]
[{"$nulls":4},"普通-14-10","普通14-10"]
[{"$nulls":4},"普通-14-11","普通14-11"]
[{"$nulls":4},"普通-14-12","普通14-12"]
[{"$nulls":4},"普通-14-13","普通14-13"]
[{"$nulls":4},"普通-14-14","普通14-14"]
[{"$nulls":4},"普通-14-15","普通14-15"]
[{"$nulls":4},"普通-14-16",{"$f":"REPLACE(E713,3,1,\"\")","v":"普通14-16"}]
[{"$nulls":4},"普通-14-17","普通14-17"]
[{"$nulls":4},"普通-14-18","普通14-18"]
[{"$nulls":4},"普通-14-19","普通14-19"]
[{"$nulls":4},"普通-14-20","普通14-20"]
[{"$nulls":4},"普通-14-21","普通14-21"]
[{"$nulls":4},"普通-14-22","普通14-22"]
[{"$nulls":4},"普通-14-23","普通14-23"]
[{"$nulls":4},"普通-14-24","普通14-24"]
[{"$nulls":4},"普通-14-25","普通14-25"]
[{"$nulls":4},"普通-14-26","普通14-26"]
[{"$nulls":4},"普通-14-27","普通14-27"]
[{"$nulls":4},"普通-14-28","普通14-28"]
[{"$nulls":4},"普通-14-29","普通14-29"]
[{"$nulls":4},"普通-14-30","普通14-30"]
[{"$nulls":4},"普通-15-1","普通15-1"]
[{"$nulls":4},"普通-15-2","普通15-2"]
[{"$nulls":4},"普通-15-3","普通15-3"]
[{"$nulls":4},"普通-15-4","普通15-4"]
[{"$nulls":4},"普通-15-5","普通15-5"]
[{"$nulls":4},"普通-15-6","普通15-6"]
[{"$nulls":4},"普通-15-7","普通15-7"]
[{"$nulls":4},"普通-15-8","普通15-8"]
[{"$nulls":4},"普通-15-9","普通15-9"]
[{"$nulls":4},"普通-15-10","普通15-10"]
[{"$nulls":4},"普通-15-11","普通15-11"]
[{"$nulls":4},"普通-15-12","普通15-12"]
[{"$nulls":4},"普通-15-13","普通15-13"]
[{"$nulls":4},"普通-15-14","普通15-14"]
[{"$nulls":4},"普通-15-15","普通15-15"]
[{"$nulls":4},"普通-15-16","普通15-16"]
[{"$nulls":4},"普通-15-17","普通15-17"]
[{"$nulls":4},"普通-15-18","普通15-18"]
[{"$nulls":4},"普通-15-19","普通15-19"]
[{"$nulls":4},"普通-15-20","普通15-20"]
[{"$nulls":4},"普通-15-21","普通15-21"]
[{"$nulls":4},"普通-15-22","普通15-22"]
[{"$nulls":4},"普通-15-23","普通15-23"]
[{"$nulls":4},"普通-15-24","普通15-24"]
[{"$nulls":4},"普通-15-25","普通15-25"]
[{"$nulls":4},"普通-15-26","普通15-26"]
[{"$nulls":4},"普通-15-27","普通15-27"]
[{"$nulls":4},"普通-15-28","普通15-28"]
[{"$nulls":4},"普通-15-29","普通15-29"]
[{"$nulls":4},"普通-15-30","普通15-30"]
[{"$nulls":4},"困难-1-1","困难1-1"]
[{"$nulls":4},"困难-1-2","困难1-2"]
[{"$nulls":4},"困难-1-3","困难1-3"]
[{"$nulls":4},"困难-1-4","困难1-4"]
[{"$nulls":4},"困难-1-5","困难1-5"]
[{"$nulls":4},"困难-1-6","困难1-6"]
[{"$nulls":4},"困难-1-7","困难1-7"]
[{"$nulls":4},"困难-1-8","困难1-8"]
[{"$nulls":4},"困难-1-9","困难1-9"]
[{"$nulls":4},"困难-1-10","困难1-10"]
[{"$nulls":4},"困难-1-11","困难1-11"]
[{"$nulls":4},"困难-1-12","困难1-12"]
[{"$nulls":4},"困难-1-13","困难1-13"]
[{"$nulls":4},"困难-1-14","困难1-14"]
[{"$nulls":4},"困难-1-15","困难1-15"]
[{"$nulls":4},"困难-1-16","困难1-16"]
[{"$nulls":4},"困难-1-17","困难1-17"]
[{"$nulls":4},"困难-1-18","困难1-18"]
[{"$nulls":4},"困难-1-19","困难1-19"]
[{"$nulls":4},"困难-1-20",{"$f":"REPLACE(E777,3,1,\"\")","v":"困难1-20"}]
[{"$nulls":4},"困难-1-21","困难1-21"]
[{"$nulls":4},"困难-1-22","困难1-22"]
[{"$nulls":4},"困难-1-23","困难1-23"]
[{"$nulls":4},"困难-1-24","困难1-24"]
[{"$nulls":4},"困难-1-25","困难1-25"]
[{"$nulls":4},"困难-1-26","困难1-26"]
[{"$nulls":4},"困难-1-27","困难1-27"]
[{"$nulls":4},"困难-1-28","困难1-28"]
[{"$nulls":4},"困难-1-29","困难1-29"]
[{"$nulls":4},"困难-1-30","困难1-30"]
[{"$nulls":4},"困难-1-31","困难1-31"]
[{"$nulls":4},"困难-1-32","困难1-32"]
[{"$nulls":4},"困难-1-33","困难1-33"]
[{"$nulls":4},"困难-1-34","困难1-34"]
[{"$nulls":4},"困难-1-35","困难1-35"]
[{"$nulls":4},"困难-1-36","困难1-36"]
[{"$nulls":4},"困难-1-37","困难1-37"]
[{"$nulls":4},"困难-1-38","困难1-38"]
[{"$nulls":4},"困难-1-39","困难1-39"]
[{"$nulls":4},"困难-1-40","困难1-40"]
[{"$nulls":4},"困难-2-1","困难2-1"]
[{"$nulls":4},"困难-2-2","困难2-2"]
[{"$nulls":4},"困难-2-3","困难2-3"]
[{"$nulls":4},"困难-2-4","困难2-4"]
[{"$nulls":4},"困难-2-5","困难2-5"]
[{"$nulls":4},"困难-2-6","困难2-6"]
[{"$nulls":4},"困难-2-7","困难2-7"]
[{"$nulls":4},"困难-2-8","困难2-8"]
[{"$nulls":4},"困难-2-9","困难2-9"]
[{"$nulls":4},"困难-2-10","困难2-10"]
[{"$nulls":4},"困难-2-11","困难2-11"]
[{"$nulls":4},"困难-2-12","困难2-12"]
[{"$nulls":4},"困难-2-13","困难2-13"]
[{"$nulls":4},"困难-2-14","困难2-14"]
[{"$nulls":4},"困难-2-15","困难2-15"]
[{"$nulls":4},"困难-2-16","困难2-16"]
[{"$nulls":4},"困难-2-17","困难2-17"]
[{"$nulls":4},"困难-2-18","困难2-18"]
[{"$nulls":4},"困难-2-19","困难2-19"]
[{"$nulls":4},"困难-2-20","困难2-20"]
[{"$nulls":4},"困难-2-21","困难2-21"]
[{"$nulls":4},"困难-2-22","困难2-22"]
[{"$nulls":4},"困难-2-23","困难2-23"]
[{"$nulls":4},"困难-2-24","困难2-24"]
[{"$nulls":4},"困难-2-25","困难2-25"]
[{"$nulls":4},"困难-2-26","困难2-26"]
[{"$nulls":4},"困难-2-27","困难2-27"]
[{"$nulls":4},"困难-2-28","困难2-28"]
[{"$nulls":4},"困难-2-29","困难2-29"]
[{"$nulls":4},"困难-2-30","困难2-30"]
[{"$nulls":4},"困难-2-31","困难2-31"]
[{"$nulls":4},"困难-2-32","困难2-32"]
[{"$nulls":4},"困难-2-33","困难2-33"]
[{"$nulls":4},"困难-2-34","困难2-34"]
[{"$nulls":4},"困难-2-35","困难2-35"]
[{"$nulls":4},"困难-2-36","困难2-36"]
[{"$nulls":4},"困难-2-37","困难2-37"]
[{"$nulls":4},"困难-2-38","困难2-38"]
[{"$nulls":4},"困难-2-39","困难2-39"]
[{"$nulls":4},"困难-2-40","困难2-40"]
[{"$nulls":4},"困难-3-1","困难3-1"]
[{"$nulls":4},"困难-3-2","困难3-2"]
[{"$nulls":4},"困难-3-3","困难3-3"]
[{"$nulls":4},"困难-3-4",{"$f":"REPLACE(E841,3,1,\"\")","v":"困难3-4"}]
[{"$nulls":4},"困难-3-5","困难3-5"]
[{"$nulls":4},"困难-3-6","困难3-6"]
[{"$nulls":4},"困难-3-7","困难3-7"]
[{"$nulls":4},"困难-3-8","困难3-8"]
[{"$nulls":4},"困难-3-9","困难3-9"]
[{"$nulls":4},"困难-3-10","困难3-10"]
[{"$nulls":4},"困难-3-11","困难3-11"]
[{"$nulls":4},"困难-3-12","困难3-12"]
[{"$nulls":4},"困难-3-13","困难3-13"]
[{"$nulls":4},"困难-3-14","困难3-14"]
[{"$nulls":4},"困难-3-15","困难3-15"]
[{"$nulls":4},"困难-3-16","困难3-16"]
[{"$nulls":4},"困难-3-17","困难3-17"]
[{"$nulls":4},"困难-3-18","困难3-18"]
[{"$nulls":4},"困难-3-19","困难3-19"]
[{"$nulls":4},"困难-3-20","困难3-20"]
[{"$nulls":4},"困难-3-21","困难3-21"]
[{"$nulls":4},"困难-3-22","困难3-22"]
[{"$nulls":4},"困难-3-23","困难3-23"]
[{"$nulls":4},"困难-3-24","困难3-24"]
[{"$nulls":4},"困难-3-25","困难3-25"]
[{"$nulls":4},"困难-3-26","困难3-26"]
[{"$nulls":4},"困难-3-27","困难3-27"]
[{"$nulls":4},"困难-3-28","困难3-28"]
[{"$nulls":4},"困难-3-29","困难3-29"]
[{"$nulls":4},"困难-3-30","困难3-30"]
[{"$nulls":4},"困难-3-31","困难3-31"]
[{"$nulls":4},"困难-3-32","困难3-32"]
[{"$nulls":4},"困难-3-33","困难3-33"]
[{"$nulls":4},"困难-3-34","困难3-34"]
[{"$nulls":4},"困难-3-35","困难3-35"]
[{"$nulls":4},"困难-3-36","困难3-36"]
[{"$nulls":4},"困难-3-37","困难3-37"]
[{"$nulls":4},"困难-3-38","困难3-38"]
[{"$nulls":4},"困难-3-39","困难3-39"]
[{"$nulls":4},"困难-3-40","困难3-40"]
[{"$nulls":4},"困难-4-1","困难4-1"]
[{"$nulls":4},"困难-4-2","困难4-2"]
[{"$nulls":4},"困难-4-3","困难4-3"]
[{"$nulls":4},"困难-4-4","困难4-4"]
[{"$nulls":4},"困难-4-5","困难4-5"]
[{"$nulls":4},"困难-4-6","困难4-6"]
[{"$nulls":4},"困难-4-7","困难4-7"]
[{"$nulls":4},"困难-4-8","困难4-8"]
[{"$nulls":4},"困难-4-9","困难4-9"]
[{"$nulls":4},"困难-4-10","困难4-10"]
[{"$nulls":4},"困难-4-11","困难4-11"]
[{"$nulls":4},"困难-4-12","困难4-12"]
[{"$nulls":4},"困难-4-13","困难4-13"]
[{"$nulls":4},"困难-4-14","困难4-14"]
[{"$nulls":4},"困难-4-15","困难4-15"]
[{"$nulls":4},"困难-4-16","困难4-16"]
[{"$nulls":4},"困难-4-17","困难4-17"]
[{"$nulls":4},"困难-4-18","困难4-18"]
[{"$nulls":4},"困难-4-19","困难4-19"]
[{"$nulls":4},"困难-4-20","困难4-20"]
[{"$nulls":4},"困难-4-21","困难4-21"]
[{"$nulls":4},"困难-4-22","困难4-22"]
[{"$nulls":4},"困难-4-23","困难4-23"]
[{"$nulls":4},"困难-4-24","困难4-24"]
[{"$nulls":4},"困难-4-25","困难4-25"]
[{"$nulls":4},"困难-4-26","困难4-26"]
[{"$nulls":4},"困难-4-27","困难4-27"]
[{"$nulls":4},"困难-4-28",{"$f":"REPLACE(E905,3,1,\"\")","v":"困难4-28"}]
[{"$nulls":4},"困难-4-29","困难4-29"]
[{"$nulls":4},"困难-4-30","困难4-30"]
[{"$nulls":4},"困难-4-31","困难4-31"]
[{"$nulls":4},"困难-4-32","困难4-32"]
[{"$nulls":4},"困难-4-33","困难4-33"]
[{"$nulls":4},"困难-4-34","困难4-34"]
[{"$nulls":4},"困难-4-35","困难4-35"]
[{"$nulls":4},"困难-4-36","困难4-36"]
[{"$nulls":4},"困难-4-37","困难4-37"]
[{"$nulls":4},"困难-4-38","困难4-38"]
[{"$nulls":4},"困难-4-39","困难4-39"]
[{"$nulls":4},"困难-4-40","困难4-40"]
[{"$nulls":4},"困难-5-1","困难5-1"]
[{"$nulls":4},"困难-5-2","困难5-2"]
[{"$nulls":4},"困难-5-3","困难5-3"]
[{"$nulls":4},"困难-5-4","困难5-4"]
[{"$nulls":4},"困难-5-5","困难5-5"]
[{"$nulls":4},"困难-5-6","困难5-6"]
[{"$nulls":4},"困难-5-7","困难5-7"]
[{"$nulls":4},"困难-5-8","困难5-8"]
[{"$nulls":4},"困难-5-9","困难5-9"]
[{"$nulls":4},"困难-5-10","困难5-10"]
[{"$nulls":4},"困难-5-11","困难5-11"]
[{"$nulls":4},"困难-5-12","困难5-12"]
[{"$nulls":4},"困难-5-13","困难5-13"]
[{"$nulls":4},"困难-5-14","困难5-14"]
[{"$nulls":4},"困难-5-15","困难5-15"]
[{"$nulls":4},"困难-5-16","困难5-16"]
[{"$nulls":4},"困难-5-17","困难5-17"]
[{"$nulls":4},"困难-5-18","困难5-18"]
[{"$nulls":4},"困难-5-19","困难5-19"]
[{"$nulls":4},"困难-5-20","困难5-20"]
[{"$nulls":4},"困难-5-21","困难5-21"]
[{"$nulls":4},"困难-5-22","困难5-22"]
[{"$nulls":4},"困难-5-23","困难5-23"]
[{"$nulls":4},"困难-5-24","困难5-24"]
[{"$nulls":4},"困难-5-25","困难5-25"]
[{"$nulls":4},"困难-5-26","困难5-26"]
[{"$nulls":4},"困难-5-27","困难5-27"]
[{"$nulls":4},"困难-5-28","困难5-28"]
[{"$nulls":4},"困难-5-29","困难5-29"]
[{"$nulls":4},"困难-5-30","困难5-30"]
[{"$nulls":4},"困难-5-31","困难5-31"]
[{"$nulls":4},"困难-5-32","困难5-32"]
[{"$nulls":4},"困难-5-33","困难5-33"]
[{"$nulls":4},"困难-5-34","困难5-34"]
[{"$nulls":4},"困难-5-35","困难5-35"]
[{"$nulls":4},"困难-5-36","困难5-36"]
[{"$nulls":4},"困难-5-37","困难5-37"]
[{"$nulls":4},"困难-5-38","困难5-38"]
[{"$nulls":4},"困难-5-39","困难5-39"]
[{"$nulls":4},"困难-5-40","困难5-40"]
[{"$nulls":4},"困难-6-1","困难6-1"]
[{"$nulls":4},"困难-6-2","困难6-2"]
[{"$nulls":4},"困难-6-3","困难6-3"]
[{"$nulls":4},"困难-6-4","困难6-4"]
[{"$nulls":4},"困难-6-5","困难6-5"]
[{"$nulls":4},"困难-6-6","困难6-6"]
[{"$nulls":4},"困难-6-7","困难6-7"]
[{"$nulls":4},"困难-6-8","困难6-8"]
[{"$nulls":4},"困难-6-9","困难6-9"]
[{"$nulls":4},"困难-6-10","困难6-10"]
[{"$nulls":4},"困难-6-11","困难6-11"]
[{"$nulls":4},"困难-6-12",{"$f":"REPLACE(E969,3,1,\"\")","v":"困难6-12"}]
[{"$nulls":4},"困难-6-13","困难6-13"]
[{"$nulls":4},"困难-6-14","困难6-14"]
[{"$nulls":4},"困难-6-15","困难6-15"]
[{"$nulls":4},"困难-6-16","困难6-16"]
[{"$nulls":4},"困难-6-17","困难6-17"]
[{"$nulls":4},"困难-6-18","困难6-18"]
[{"$nulls":4},"困难-6-19","困难6-19"]
[{"$nulls":4},"困难-6-20","困难6-20"]
[{"$nulls":4},"困难-6-21","困难6-21"]
[{"$nulls":4},"困难-6-22","困难6-22"]
[{"$nulls":4},"困难-6-23","困难6-23"]
[{"$nulls":4},"困难-6-24","困难6-24"]
[{"$nulls":4},"困难-6-25","困难6-25"]
[{"$nulls":4},"困难-6-26","困难6-26"]
[{"$nulls":4},"困难-6-27","困难6-27"]
[{"$nulls":4},"困难-6-28","困难6-28"]
[{"$nulls":4},"困难-6-29","困难6-29"]
[{"$nulls":4},"困难-6-30","困难6-30"]
[{"$nulls":4},"困难-6-31","困难6-31"]
[{"$nulls":4},"困难-6-32","困难6-32"]
[{"$nulls":4},"困难-6-33","困难6-33"]
[{"$nulls":4},"困难-6-34","困难6-34"]
[{"$nulls":4},"困难-6-35","困难6-35"]
[{"$nulls":4},"困难-6-36","困难6-36"]
[{"$nulls":4},"困难-6-37","困难6-37"]
[{"$nulls":4},"困难-6-38","困难6-38"]
[{"$nulls":4},"困难-6-39","困难6-39"]
[{"$nulls":4},"困难-6-40","困难6-40"]
[{"$nulls":4},"困难-7-1","困难7-1"]
[{"$nulls":4},"困难-7-2","困难7-2"]
[{"$nulls":4},"困难-7-3","困难7-3"]
[{"$nulls":4},"困难-7-4","困难7-4"]
[{"$nulls":4},"困难-7-5","困难7-5"]
[{"$nulls":4},"困难-7-6","困难7-6"]
[{"$nulls":4},"困难-7-7","困难7-7"]
[{"$nulls":4},"困难-7-8","困难7-8"]
[{"$nulls":4},"困难-7-9","困难7-9"]
[{"$nulls":4},"困难-7-10","困难7-10"]
[{"$nulls":4},"困难-7-11","困难7-11"]
[{"$nulls":4},"困难-7-12","困难7-12"]
[{"$nulls":4},"困难-7-13","困难7-13"]
[{"$nulls":4},"困难-7-14","困难7-14"]
[{"$nulls":4},"困难-7-15","困难7-15"]
[{"$nulls":4},"困难-7-16","困难7-16"]
[{"$nulls":4},"困难-7-17","困难7-17"]
[{"$nulls":4},"困难-7-18","困难7-18"]
[{"$nulls":4},"困难-7-19","困难7-19"]
[{"$nulls":4},"困难-7-20","困难7-20"]
[{"$nulls":4},"困难-7-21","困难7-21"]
[{"$nulls":4},"困难-7-22","困难7-22"]
[{"$nulls":4},"困难-7-23","困难7-23"]
[{"$nulls":4},"困难-7-24","困难7-24"]
[{"$nulls":4},"困难-7-25","困难7-25"]
[{"$nulls":4},"困难-7-26","困难7-26"]
[{"$nulls":4},"困难-7-27","困难7-27"]
[{"$nulls":4},"困难-7-28","困难7-28"]
[{"$nulls":4},"困难-7-29","困难7-29"]
[{"$nulls":4},"困难-7-30","困难7-30"]
[{"$nulls":4},"困难-7-31","困难7-31"]
[{"$nulls":4},"困难-7-32","困难7-32"]
[{"$nulls":4},"困难-7-33","困难7-33"]
[{"$nulls":4},"困难-7-34","困难7-34"]
[{"$nulls":4},"困难-7-35","困难7-35"]
[{"$nulls":4},"困难-7-36",{"$f":"REPLACE(E1033,3,1,\"\")","v":"困难7-36"}]
[{"$nulls":4},"困难-7-37","困难7-37"]
[{"$nulls":4},"困难-7-38","困难7-38"]
[{"$nulls":4},"困难-7-39","困难7-39"]
[{"$nulls":4},"困难-7-40","困难7-40"]
[{"$nulls":4},"困难-8-1","困难8-1"]
[{"$nulls":4},"困难-8-2","困难8-2"]
[{"$nulls":4},"困难-8-3","困难8-3"]
[{"$nulls":4},"困难-8-4","困难8-4"]
[{"$nulls":4},"困难-8-5","困难8-5"]
[{"$nulls":4},"困难-8-6","困难8-6"]
[{"$nulls":4},"困难-8-7","困难8-7"]
[{"$nulls":4},"困难-8-8","困难8-8"]
[{"$nulls":4},"困难-8-9","困难8-9"]
[{"$nulls":4},"困难-8-10","困难8-10"]
[{"$nulls":4},"困难-8-11","困难8-11"]
[{"$nulls":4},"困难-8-12","困难8-12"]
[{"$nulls":4},"困难-8-13","困难8-13"]
[{"$nulls":4},"困难-8-14","困难8-14"]
[{"$nulls":4},"困难-8-15","困难8-15"]
[{"$nulls":4},"困难-8-16","困难8-16"]
[{"$nulls":4},"困难-8-17","困难8-17"]
[{"$nulls":4},"困难-8-18","困难8-18"]
[{"$nulls":4},"困难-8-19","困难8-19"]
[{"$nulls":4},"困难-8-20","困难8-20"]
[{"$nulls":4},"困难-8-21","困难8-21"]
[{"$nulls":4},"困难-8-22","困难8-22"]
[{"$nulls":4},"困难-8-23","困难8-23"]
[{"$nulls":4},"困难-8-24","困难8-24"]
[{"$nulls":4},"困难-8-25","困难8-25"]
[{"$nulls":4},"困难-8-26","困难8-26"]
[{"$nulls":4},"困难-8-27","困难8-27"]
[{"$nulls":4},"困难-8-28","困难8-28"]
[{"$nulls":4},"困难-8-29","困难8-29"]
[{"$nulls":4},"困难-8-30","困难8-30"]
[{"$nulls":4},"困难-8-31","困难8-31"]
[{"$nulls":4},"困难-8-32","困难8-32"]
[{"$nulls":4},"困难-8-33","困难8-33"]
[{"$nulls":4},"困难-8-34","困难8-34"]
[{"$nulls":4},"困难-8-35","困难8-35"]
[{"$nulls":4},"困难-8-36","困难8-36"]
[{"$nulls":4},"困难-8-37","困难8-37"]
[{"$nulls":4},"困难-8-38","困难8-38"]
[{"$nulls":4},"困难-8-39","困难8-39"]
[{"$nulls":4},"困难-8-40","困难8-40"]
[{"$nulls":4},"困难-9-1","困难9-1"]
[{"$nulls":4},"困难-9-2","困难9-2"]
[{"$nulls":4},"困难-9-3","困难9-3"]
[{"$nulls":4},"困难-9-4","困难9-4"]
[{"$nulls":4},"困难-9-5","困难9-5"]
[{"$nulls":4},"困难-9-6","困难9-6"]
[{"$nulls":4},"困难-9-7","困难9-7"]
[{"$nulls":4},"困难-9-8","困难9-8"]
[{"$nulls":4},"困难-9-9","困难9-9"]
[{"$nulls":4},"困难-9-10","困难9-10"]
[{"$nulls":4},"困难-9-11","困难9-11"]
[{"$nulls":4},"困难-9-12","困难9-12"]
[{"$nulls":4},"困难-9-13","困难9-13"]
[{"$nulls":4},"困难-9-14","困难9-14"]
[{"$nulls":4},"困难-9-15","困难9-15"]
[{"$nulls":4},"困难-9-16","困难9-16"]
[{"$nulls":4},"困难-9-17","困难9-17"]
[{"$nulls":4},"困难-9-18","困难9-18"]
[{"$nulls":4},"困难-9-19","困难9-19"]
[{"$nulls":4},"困难-9-20",{"$f":"REPLACE(E1097,3,1,\"\")","v":"困难9-20"}]
[{"$nulls":4},"困难-9-21","困难9-21"]
[{"$nulls":4},"困难-9-22","困难9-22"]
[{"$nulls":4},"困难-9-23","困难9-23"]
[{"$nulls":4},"困难-9-24","困难9-24"]
[{"$nulls":4},"困难-9-25","困难9-25"]
[{"$nulls":4},"困难-9-26","困难9-26"]
[{"$nulls":4},"困难-9-27","困难9-27"]
[{"$nulls":4},"困难-9-28","困难9-28"]
[{"$nulls":4},"困难-9-29","困难9-29"]
[{"$nulls":4},"困难-9-30","困难9-30"]
[{"$nulls":4},"困难-9-31","困难9-31"]
[{"$nulls":4},"困难-9-32","困难9-32"]
[{"$nulls":4},"困难-9-33","困难9-33"]
[{"$nulls":4},"困难-9-34","困难9-34"]
[{"$nulls":4},"困难-9-35","困难9-35"]
[{"$nulls":4},"困难-9-36","困难9-36"]
[{"$nulls":4},"困难-9-37","困难9-37"]
[{"$nulls":4},"困难-9-38","困难9-38"]
[{"$nulls":4},"困难-9-39","困难9-39"]
[{"$nulls":4},"困难-9-40","困难9-40"]
[{"$nulls":4},"困难-10-1","困难10-1"]
[{"$nulls":4},"困难-10-2","困难10-2"]
[{"$nulls":4},"困难-10-3","困难10-3"]
[{"$nulls":4},"困难-10-4","困难10-4"]
[{"$nulls":4},"困难-10-5","困难10-5"]
[{"$nulls":4},"困难-10-6","困难10-6"]
[{"$nulls":4},"困难-10-7","困难10-7"]
[{"$nulls":4},"困难-10-8","困难10-8"]
[{"$nulls":4},"困难-10-9","困难10-9"]
[{"$nulls":4},"困难-10-10","困难10-10"]
[{"$nulls":4},"困难-10-11","困难10-11"]
[{"$nulls":4},"困难-10-12","困难10-12"]
[{"$nulls":4},"困难-10-13","困难10-13"]
[{"$nulls":4},"困难-10-14","困难10-14"]
[{"$nulls":4},"困难-10-15","困难10-15"]
[{"$nulls":4},"困难-10-16","困难10-16"]
[{"$nulls":4},"困难-10-17","困难10-17"]
[{"$nulls":4},"困难-10-18","困难10-18"]
[{"$nulls":4},"困难-10-19","困难10-19"]
[{"$nulls":4},"困难-10-20","困难10-20"]
[{"$nulls":4},"困难-10-21","困难10-21"]
[{"$nulls":4},"困难-10-22","困难10-22"]
[{"$nulls":4},"困难-10-23","困难10-23"]
[{"$nulls":4},"困难-10-24","困难10-24"]
[{"$nulls":4},"困难-10-25","困难10-25"]
[{"$nulls":4},"困难-10-26","困难10-26"]
[{"$nulls":4},"困难-10-27","困难10-27"]
[{"$nulls":4},"困难-10-28","困难10-28"]
[{"$nulls":4},"困难-10-29","困难10-29"]
[{"$nulls":4},"困难-10-30","困难10-30"]
[{"$nulls":4},"困难-10-31","困难10-31"]
[{"$nulls":4},"困难-10-32","困难10-32"]
[{"$nulls":4},"困难-10-33","困难10-33"]
[{"$nulls":4},"困难-10-34","困难10-34"]
[{"$nulls":4},"困难-10-35","困难10-35"]
[{"$nulls":4},"困难-10-36","困难10-36"]
[{"$nulls":4},"困难-10-37","困难10-37"]
[{"$nulls":4},"困难-10-38","困难10-38"]
[{"$nulls":4},"困难-10-39","困难10-39"]
[{"$nulls":4},"困难-10-40","困难10-40"]
[{"$nulls":4},"困难-11-1","困难11-1"]
[{"$nulls":4},"困难-11-2","困难11-2"]
[{"$nulls":4},"困难-11-3","困难11-3"]
[{"$nulls":4},"困难-11-4",{"$f":"REPLACE(E1161,3,1,\"\")","v":"困难11-4"}]
[{"$nulls":4},"困难-11-5","困难11-5"]
[{"$nulls":4},"困难-11-6","困难11-6"]
[{"$nulls":4},"困难-11-7","困难11-7"]
[{"$nulls":4},"困难-11-8","困难11-8"]
[{"$nulls":4},"困难-11-9","困难11-9"]
[{"$nulls":4},"困难-11-10","困难11-10"]
[{"$nulls":4},"困难-11-11","困难11-11"]
[{"$nulls":4},"困难-11-12","困难11-12"]
[{"$nulls":4},"困难-11-13","困难11-13"]
[{"$nulls":4},"困难-11-14","困难11-14"]
[{"$nulls":4},"困难-11-15","困难11-15"]
[{"$nulls":4},"困难-11-16","困难11-16"]
[{"$nulls":4},"困难-11-17","困难11-17"]
[{"$nulls":4},"困难-11-18","困难11-18"]
[{"$nulls":4},"困难-11-19","困难11-19"]
[{"$nulls":4},"困难-11-20","困难11-20"]
[{"$nulls":4},"困难-11-21","困难11-21"]
[{"$nulls":4},"困难-11-22","困难11-22"]
[{"$nulls":4},"困难-11-23","困难11-23"]
[{"$nulls":4},"困难-11-24","困难11-24"]
[{"$nulls":4},"困难-11-25","困难11-25"]
[{"$nulls":4},"困难-11-26","困难11-26"]
[{"$nulls":4},"困难-11-27","困难11-27"]
[{"$nulls":4},"困难-11-28","困难11-28"]
[{"$nulls":4},"困难-11-29","困难11-29"]
[{"$nulls":4},"困难-11-30","困难11-30"]
[{"$nulls":4},"困难-11-31","困难11-31"]
[{"$nulls":4},"困难-11-32","困难11-32"]
[{"$nulls":4},"困难-11-33","困难11-33"]
[{"$nulls":4},"困难-11-34","困难11-34"]
[{"$nulls":4},"困难-11-35","困难11-35"]
[{"$nulls":4},"困难-11-36","困难11-36"]
[{"$nulls":4},"困难-11-37","困难11-37"]
[{"$nulls":4},"困难-11-38","困难11-38"]
[{"$nulls":4},"困难-11-39","困难11-39"]
[{"$nulls":4},"困难-11-40","困难11-40"]
[{"$nulls":4},"困难-12-1","困难12-1"]
[{"$nulls":4},"困难-12-2","困难12-2"]
[{"$nulls":4},"困难-12-3","困难12-3"]
[{"$nulls":4},"困难-12-4","困难12-4"]
[{"$nulls":4},"困难-12-5","困难12-5"]
[{"$nulls":4},"困难-12-6","困难12-6"]
[{"$nulls":4},"困难-12-7","困难12-7"]
[{"$nulls":4},"困难-12-8","困难12-8"]
[{"$nulls":4},"困难-12-9","困难12-9"]
[{"$nulls":4},"困难-12-10","困难12-10"]
[{"$nulls":4},"困难-12-11","困难12-11"]
[{"$nulls":4},"困难-12-12","困难12-12"]
[{"$nulls":4},"困难-12-13","困难12-13"]
[{"$nulls":4},"困难-12-14","困难12-14"]
[{"$nulls":4},"困难-12-15","困难12-15"]
[{"$nulls":4},"困难-12-16","困难12-16"]
[{"$nulls":4},"困难-12-17","困难12-17"]
[{"$nulls":4},"困难-12-18","困难12-18"]
[{"$nulls":4},"困难-12-19","困难12-19"]
[{"$nulls":4},"困难-12-20","困难12-20"]
[{"$nulls":4},"困难-12-21","困难12-21"]
[{"$nulls":4},"困难-12-22","困难12-22"]
[{"$nulls":4},"困难-12-23","困难12-23"]
[{"$nulls":4},"困难-12-24","困难12-24"]
[{"$nulls":4},"困难-12-25","困难12-25"]
[{"$nulls":4},"困难-12-26","困难12-26"]
[{"$nulls":4},"困难-12-27","困难12-27"]
[{"$nulls":4},"困难-12-28",{"$f":"REPLACE(E1225,3,1,\"\")","v":"困难12-28"}]
[{"$nulls":4},"困难-12-29","困难12-29"]
[{"$nulls":4},"困难-12-30","困难12-30"]
[{"$nulls":4},"困难-12-31","困难12-31"]
[{"$nulls":4},"困难-12-32","困难12-32"]
[{"$nulls":4},"困难-12-33","困难12-33"]
[{"$nulls":4},"困难-12-34","困难12-34"]
[{"$nulls":4},"困难-12-35","困难12-35"]
[{"$nulls":4},"困难-12-36","困难12-36"]
[{"$nulls":4},"困难-12-37","困难12-37"]
[{"$nulls":4},"困难-12-38","困难12-38"]
[{"$nulls":4},"困难-12-39","困难12-39"]
[{"$nulls":4},"困难-12-40","困难12-40"]
[{"$nulls":4},"困难-13-1","困难13-1"]
[{"$nulls":4},"困难-13-2","困难13-2"]
[{"$nulls":4},"困难-13-3","困难13-3"]
[{"$nulls":4},"困难-13-4","困难13-4"]
[{"$nulls":4},"困难-13-5","困难13-5"]
[{"$nulls":4},"困难-13-6","困难13-6"]
[{"$nulls":4},"困难-13-7","困难13-7"]
[{"$nulls":4},"困难-13-8","困难13-8"]
[{"$nulls":4},"困难-13-9","困难13-9"]
[{"$nulls":4},"困难-13-10","困难13-10"]
[{"$nulls":4},"困难-13-11","困难13-11"]
[{"$nulls":4},"困难-13-12","困难13-12"]
[{"$nulls":4},"困难-13-13","困难13-13"]
[{"$nulls":4},"困难-13-14","困难13-14"]
[{"$nulls":4},"困难-13-15","困难13-15"]
[{"$nulls":4},"困难-13-16","困难13-16"]
[{"$nulls":4},"困难-13-17","困难13-17"]
[{"$nulls":4},"困难-13-18","困难13-18"]
[{"$nulls":4},"困难-13-19","困难13-19"]
[{"$nulls":4},"困难-13-20","困难13-20"]
[{"$nulls":4},"困难-13-21","困难13-21"]
[{"$nulls":4},"困难-13-22","困难13-22"]
[{"$nulls":4},"困难-13-23","困难13-23"]
[{"$nulls":4},"困难-13-24","困难13-24"]
[{"$nulls":4},"困难-13-25","困难13-25"]
[{"$nulls":4},"困难-13-26","困难13-26"]
[{"$nulls":4},"困难-13-27","困难13-27"]
[{"$nulls":4},"困难-13-28","困难13-28"]
[{"$nulls":4},"困难-13-29","困难13-29"]
[{"$nulls":4},"困难-13-30","困难13-30"]
[{"$nulls":4},"困难-13-31","困难13-31"]
[{"$nulls":4},"困难-13-32","困难13-32"]
[{"$nulls":4},"困难-13-33","困难13-33"]
[{"$nulls":4},"困难-13-34","困难13-34"]
[{"$nulls":4},"困难-13-35","困难13-35"]
[{"$nulls":4},"困难-13-36","困难13-36"]
[{"$nulls":4},"困难-13-37","困难13-37"]
[{"$nulls":4},"困难-13-38","困难13-38"]
[{"$nulls":4},"困难-13-39","困难13-39"]
[{"$nulls":4},"困难-13-40","困难13-40"]
[{"$nulls":4},"困难-14-1","困难14-1"]
[{"$nulls":4},"困难-14-2","困难14-2"]
[{"$nulls":4},"困难-14-3","困难14-3"]
[{"$nulls":4},"困难-14-4","困难14-4"]
[{"$nulls":4},"困难-14-5","困难14-5"]
[{"$nulls":4},"困难-14-6","困难14-6"]
[{"$nulls":4},"困难-14-7","困难14-7"]
[{"$nulls":4},"困难-14-8","困难14-8"]
[{"$nulls":4},"困难-14-9","困难14-9"]
[{"$nulls":4},"困难-14-10","困难14-10"]
[{"$nulls":4},"困难-14-11","困难14-11"]
[{"$nulls":4},"困难-14-12",{"$f":"REPLACE(E1289,3,1,\"\")","v":"困难14-12"}]
[{"$nulls":4},"困难-14-13","困难14-13"]
[{"$nulls":4},"困难-14-14","困难14-14"]
[{"$nulls":4},"困难-14-15","困难14-15"]
[{"$nulls":4},"困难-14-16","困难14-16"]
[{"$nulls":4},"困难-14-17","困难14-17"]
[{"$nulls":4},"困难-14-18","困难14-18"]
[{"$nulls":4},"困难-14-19","困难14-19"]
[{"$nulls":4},"困难-14-20","困难14-20"]
[{"$nulls":4},"困难-14-21","困难14-21"]
[{"$nulls":4},"困难-14-22","困难14-22"]
[{"$nulls":4},"困难-14-23","困难14-23"]
[{"$nulls":4},"困难-14-24","困难14-24"]
[{"$nulls":4},"困难-14-25","困难14-25"]
[{"$nulls":4},"困难-14-26","困难14-26"]
[{"$nulls":4},"困难-14-27","困难14-27"]
[{"$nulls":4},"困难-14-28","困难14-28"]
[{"$nulls":4},"困难-14-29","困难14-29"]
[{"$nulls":4},"困难-14-30","困难14-30"]
[{"$nulls":4},"困难-14-31","困难14-31"]
[{"$nulls":4},"困难-14-32","困难14-32"]
[{"$nulls":4},"困难-14-33","困难14-33"]
[{"$nulls":4},"困难-14-34","困难14-34"]
[{"$nulls":4},"困难-14-35","困难14-35"]
[{"$nulls":4},"困难-14-36","困难14-36"]
[{"$nulls":4},"困难-14-37","困难14-37"]
[{"$nulls":4},"困难-14-38","困难14-38"]
[{"$nulls":4},"困难-14-39","困难14-39"]
[{"$nulls":4},"困难-14-40","困难14-40"]
[{"$nulls":4},"困难-15-1","困难15-1"]
[{"$nulls":4},"困难-15-2","困难15-2"]
[{"$nulls":4},"困难-15-3","困难15-3"]
[{"$nulls":4},"困难-15-4","困难15-4"]
[{"$nulls":4},"困难-15-5","困难15-5"]
[{"$nulls":4},"困难-15-6","困难15-6"]
[{"$nulls":4},"困难-15-7","困难15-7"]
[{"$nulls":4},"困难-15-8","困难15-8"]
[{"$nulls":4},"困难-15-9","困难15-9"]
[{"$nulls":4},"困难-15-10","困难15-10"]
[{"$nulls":4},"困难-15-11","困难15-11"]
[{"$nulls":4},"困难-15-12","困难15-12"]
[{"$nulls":4},"困难-15-13","困难15-13"]
[{"$nulls":4},"困难-15-14","困难15-14"]
[{"$nulls":4},"困难-15-15","困难15-15"]
[{"$nulls":4},"困难-15-16","困难15-16"]
[{"$nulls":4},"困难-15-17","困难15-17"]
[{"$nulls":4},"困难-15-18","困难15-18"]
[{"$nulls":4},"困难-15-19","困难15-19"]
[{"$nulls":4},"困难-15-20","困难15-20"]
[{"$nulls":4},"困难-15-21","困难15-21"]
[{"$nulls":4},"困难-15-22","困难15-22"]
[{"$nulls":4},"困难-15-23","困难15-23"]
[{"$nulls":4},"困难-15-24","困难15-24"]
[{"$nulls":4},"困难-15-25","困难15-25"]
[{"$nulls":4},"困难-15-26","困难15-26"]
[{"$nulls":4},"困难-15-27","困难15-27"]
[{"$nulls":4},"困难-15-28","困难15-28"]
[{"$nulls":4},"困难-15-29","困难15-29"]
[{"$nulls":4},"困难-15-30","困难15-30"]
[{"$nulls":4},"困难-15-31","困难15-31"]
[{"$nulls":4},"困难-15-32","困难15-32"]
[{"$nulls":4},"困难-15-33","困难15-33"]
[{"$nulls":4},"困难-15-34","困难15-34"]
[{"$nulls":4},"困难-15-35","困难15-35"]
[{"$nulls":4},"困难-15-36",{"$f":"REPLACE(E1353,3,1,\"\")","v":"困难15-36"}]
[{"$nulls":4},"困难-15-37","困难15-37"]
[{"$nulls":4},"困难-15-38","困难15-38"]
[{"$nulls":4},"困难-15-39","困难15-39"]
[{"$nulls":4},"困难-15-40","困难15-40"]
[{"$nulls":4},"地狱-1-1","地狱1-1"]
[{"$nulls":4},"地狱-1-2","地狱1-2"]
[{"$nulls":4},"地狱-1-3","地狱1-3"]
[{"$nulls":4},"地狱-1-4","地狱1-4"]
[{"$nulls":4},"地狱-1-5","地狱1-5"]
[{"$nulls":4},"地狱-1-6","地狱1-6"]
[{"$nulls":4},"地狱-1-7","地狱1-7"]
[{"$nulls":4},"地狱-1-8","地狱1-8"]
[{"$nulls":4},"地狱-1-9","地狱1-9"]
[{"$nulls":4},"地狱-1-10","地狱1-10"]
[{"$nulls":4},"地狱-1-11","地狱1-11"]
[{"$nulls":4},"地狱-1-12","地狱1-12"]
[{"$nulls":4},"地狱-1-13","地狱1-13"]
[{"$nulls":4},"地狱-1-14","地狱1-14"]
[{"$nulls":4},"地狱-1-15","地狱1-15"]
[{"$nulls":4},"地狱-1-16","地狱1-16"]
[{"$nulls":4},"地狱-1-17","地狱1-17"]
[{"$nulls":4},"地狱-1-18","地狱1-18"]
[{"$nulls":4},"地狱-1-19","地狱1-19"]
[{"$nulls":4},"地狱-1-20","地狱1-20"]
[{"$nulls":4},"地狱-1-21","地狱1-21"]
[{"$nulls":4},"地狱-1-22","地狱1-22"]
[{"$nulls":4},"地狱-1-23","地狱1-23"]
[{"$nulls":4},"地狱-1-24","地狱1-24"]
[{"$nulls":4},"地狱-1-25","地狱1-25"]
[{"$nulls":4},"地狱-1-26","地狱1-26"]
[{"$nulls":4},"地狱-1-27","地狱1-27"]
[{"$nulls":4},"地狱-1-28","地狱1-28"]
[{"$nulls":4},"地狱-1-29","地狱1-29"]
[{"$nulls":4},"地狱-1-30","地狱1-30"]
[{"$nulls":4},"地狱-1-31","地狱1-31"]
[{"$nulls":4},"地狱-1-32","地狱1-32"]
[{"$nulls":4},"地狱-1-33","地狱1-33"]
[{"$nulls":4},"地狱-1-34","地狱1-34"]
[{"$nulls":4},"地狱-1-35","地狱1-35"]
[{"$nulls":4},"地狱-1-36","地狱1-36"]
[{"$nulls":4},"地狱-1-37","地狱1-37"]
[{"$nulls":4},"地狱-1-38","地狱1-38"]
[{"$nulls":4},"地狱-1-39","地狱1-39"]
[{"$nulls":4},"地狱-1-40","地狱1-40"]
[{"$nulls":4},"地狱-2-1","地狱2-1"]
[{"$nulls":4},"地狱-2-2","地狱2-2"]
[{"$nulls":4},"地狱-2-3","地狱2-3"]
[{"$nulls":4},"地狱-2-4","地狱2-4"]
[{"$nulls":4},"地狱-2-5","地狱2-5"]
[{"$nulls":4},"地狱-2-6","地狱2-6"]
[{"$nulls":4},"地狱-2-7","地狱2-7"]
[{"$nulls":4},"地狱-2-8","地狱2-8"]
[{"$nulls":4},"地狱-2-9","地狱2-9"]
[{"$nulls":4},"地狱-2-10","地狱2-10"]
[{"$nulls":4},"地狱-2-11","地狱2-11"]
[{"$nulls":4},"地狱-2-12","地狱2-12"]
[{"$nulls":4},"地狱-2-13","地狱2-13"]
[{"$nulls":4},"地狱-2-14","地狱2-14"]
[{"$nulls":4},"地狱-2-15","地狱2-15"]
[{"$nulls":4},"地狱-2-16","地狱2-16"]
[{"$nulls":4},"地狱-2-17","地狱2-17"]
[{"$nulls":4},"地狱-2-18","地狱2-18"]
[{"$nulls":4},"地狱-2-19","地狱2-19"]
[{"$nulls":4},"地狱-2-20",{"$f":"REPLACE(E1417,3,1,\"\")","v":"地狱2-20"}]
[{"$nulls":4},"地狱-2-21","地狱2-21"]
[{"$nulls":4},"地狱-2-22","地狱2-22"]
[{"$nulls":4},"地狱-2-23","地狱2-23"]
[{"$nulls":4},"地狱-2-24","地狱2-24"]
[{"$nulls":4},"地狱-2-25","地狱2-25"]
[{"$nulls":4},"地狱-2-26","地狱2-26"]
[{"$nulls":4},"地狱-2-27","地狱2-27"]
[{"$nulls":4},"地狱-2-28","地狱2-28"]
[{"$nulls":4},"地狱-2-29","地狱2-29"]
[{"$nulls":4},"地狱-2-30","地狱2-30"]
[{"$nulls":4},"地狱-2-31","地狱2-31"]
[{"$nulls":4},"地狱-2-32","地狱2-32"]
[{"$nulls":4},"地狱-2-33","地狱2-33"]
[{"$nulls":4},"地狱-2-34","地狱2-34"]
[{"$nulls":4},"地狱-2-35","地狱2-35"]
[{"$nulls":4},"地狱-2-36","地狱2-36"]
[{"$nulls":4},"地狱-2-37","地狱2-37"]
[{"$nulls":4},"地狱-2-38","地狱2-38"]
[{"$nulls":4},"地狱-2-39","地狱2-39"]
[{"$nulls":4},"地狱-2-40","地狱2-40"]
[{"$nulls":4},"地狱-3-1","地狱3-1"]
[{"$nulls":4},"地狱-3-2","地狱3-2"]
[{"$nulls":4},"地狱-3-3","地狱3-3"]
[{"$nulls":4},"地狱-3-4","地狱3-4"]
[{"$nulls":4},"地狱-3-5","地狱3-5"]
[{"$nulls":4},"地狱-3-6","地狱3-6"]
[{"$nulls":4},"地狱-3-7","地狱3-7"]
[{"$nulls":4},"地狱-3-8","地狱3-8"]
[{"$nulls":4},"地狱-3-9","地狱3-9"]
[{"$nulls":4},"地狱-3-10","地狱3-10"]
[{"$nulls":4},"地狱-3-11","地狱3-11"]
[{"$nulls":4},"地狱-3-12","地狱3-12"]
[{"$nulls":4},"地狱-3-13","地狱3-13"]
[{"$nulls":4},"地狱-3-14","地狱3-14"]
[{"$nulls":4},"地狱-3-15","地狱3-15"]
[{"$nulls":4},"地狱-3-16","地狱3-16"]
[{"$nulls":4},"地狱-3-17","地狱3-17"]
[{"$nulls":4},"地狱-3-18","地狱3-18"]
[{"$nulls":4},"地狱-3-19","地狱3-19"]
[{"$nulls":4},"地狱-3-20","地狱3-20"]
[{"$nulls":4},"地狱-3-21","地狱3-21"]
[{"$nulls":4},"地狱-3-22","地狱3-22"]
[{"$nulls":4},"地狱-3-23","地狱3-23"]
[{"$nulls":4},"地狱-3-24","地狱3-24"]
[{"$nulls":4},"地狱-3-25","地狱3-25"]
[{"$nulls":4},"地狱-3-26","地狱3-26"]
[{"$nulls":4},"地狱-3-27","地狱3-27"]
[{"$nulls":4},"地狱-3-28","地狱3-28"]
[{"$nulls":4},"地狱-3-29","地狱3-29"]
[{"$nulls":4},"地狱-3-30","地狱3-30"]
[{"$nulls":4},"地狱-3-31","地狱3-31"]
[{"$nulls":4},"地狱-3-32","地狱3-32"]
[{"$nulls":4},"地狱-3-33","地狱3-33"]
[{"$nulls":4},"地狱-3-34","地狱3-34"]
[{"$nulls":4},"地狱-3-35","地狱3-35"]
[{"$nulls":4},"地狱-3-36","地狱3-36"]
[{"$nulls":4},"地狱-3-37","地狱3-37"]
[{"$nulls":4},"地狱-3-38","地狱3-38"]
[{"$nulls":4},"地狱-3-39","地狱3-39"]
[{"$nulls":4},"地狱-3-40","地狱3-40"]
[{"$nulls":4},"地狱-4-1","地狱4-1"]
[{"$nulls":4},"地狱-4-2","地狱4-2"]
[{"$nulls":4},"地狱-4-3","地狱4-3"]
[{"$nulls":4},"地狱-4-4",{"$f":"REPLACE(E1481,3,1,\"\")","v":"地狱4-4"}]
[{"$nulls":4},"地狱-4-5","地狱4-5"]
[{"$nulls":4},"地狱-4-6","地狱4-6"]
[{"$nulls":4},"地狱-4-7","地狱4-7"]
[{"$nulls":4},"地狱-4-8","地狱4-8"]
[{"$nulls":4},"地狱-4-9","地狱4-9"]
[{"$nulls":4},"地狱-4-10","地狱4-10"]
[{"$nulls":4},"地狱-4-11","地狱4-11"]
[{"$nulls":4},"地狱-4-12","地狱4-12"]
[{"$nulls":4},"地狱-4-13","地狱4-13"]
[{"$nulls":4},"地狱-4-14","地狱4-14"]
[{"$nulls":4},"地狱-4-15","地狱4-15"]
[{"$nulls":4},"地狱-4-16","地狱4-16"]
[{"$nulls":4},"地狱-4-17","地狱4-17"]
[{"$nulls":4},"地狱-4-18","地狱4-18"]
[{"$nulls":4},"地狱-4-19","地狱4-19"]
[{"$nulls":4},"地狱-4-20","地狱4-20"]
[{"$nulls":4},"地狱-4-21","地狱4-21"]
[{"$nulls":4},"地狱-4-22","地狱4-22"]
[{"$nulls":4},"地狱-4-23","地狱4-23"]
[{"$nulls":4},"地狱-4-24","地狱4-24"]
[{"$nulls":4},"地狱-4-25","地狱4-25"]
[{"$nulls":4},"地狱-4-26","地狱4-26"]
[{"$nulls":4},"地狱-4-27","地狱4-27"]
[{"$nulls":4},"地狱-4-28","地狱4-28"]
[{"$nulls":4},"地狱-4-29","地狱4-29"]
[{"$nulls":4},"地狱-4-30","地狱4-30"]
[{"$nulls":4},"地狱-4-31","地狱4-31"]
[{"$nulls":4},"地狱-4-32","地狱4-32"]
[{"$nulls":4},"地狱-4-33","地狱4-33"]
[{"$nulls":4},"地狱-4-34","地狱4-34"]
[{"$nulls":4},"地狱-4-35","地狱4-35"]
[{"$nulls":4},"地狱-4-36","地狱4-36"]
[{"$nulls":4},"地狱-4-37","地狱4-37"]
[{"$nulls":4},"地狱-4-38","地狱4-38"]
[{"$nulls":4},"地狱-4-39","地狱4-39"]
[{"$nulls":4},"地狱-4-40","地狱4-40"]
[{"$nulls":4},"地狱-5-1","地狱5-1"]
[{"$nulls":4},"地狱-5-2","地狱5-2"]
[{"$nulls":4},"地狱-5-3","地狱5-3"]
[{"$nulls":4},"地狱-5-4","地狱5-4"]
[{"$nulls":4},"地狱-5-5","地狱5-5"]
[{"$nulls":4},"地狱-5-6","地狱5-6"]
[{"$nulls":4},"地狱-5-7","地狱5-7"]
[{"$nulls":4},"地狱-5-8","地狱5-8"]
[{"$nulls":4},"地狱-5-9","地狱5-9"]
[{"$nulls":4},"地狱-5-10","地狱5-10"]
[{"$nulls":4},"地狱-5-11","地狱5-11"]
[{"$nulls":4},"地狱-5-12","地狱5-12"]
[{"$nulls":4},"地狱-5-13","地狱5-13"]
[{"$nulls":4},"地狱-5-14","地狱5-14"]
[{"$nulls":4},"地狱-5-15","地狱5-15"]
[{"$nulls":4},"地狱-5-16","地狱5-16"]
[{"$nulls":4},"地狱-5-17","地狱5-17"]
[{"$nulls":4},"地狱-5-18","地狱5-18"]
[{"$nulls":4},"地狱-5-19","地狱5-19"]
[{"$nulls":4},"地狱-5-20","地狱5-20"]
[{"$nulls":4},"地狱-5-21","地狱5-21"]
[{"$nulls":4},"地狱-5-22","地狱5-22"]
[{"$nulls":4},"地狱-5-23","地狱5-23"]
[{"$nulls":4},"地狱-5-24","地狱5-24"]
[{"$nulls":4},"地狱-5-25","地狱5-25"]
[{"$nulls":4},"地狱-5-26","地狱5-26"]
[{"$nulls":4},"地狱-5-27","地狱5-27"]
[{"$nulls":4},"地狱-5-28",{"$f":"REPLACE(E1545,3,1,\"\")","v":"地狱5-28"}]
[{"$nulls":4},"地狱-5-29","地狱5-29"]
[{"$nulls":4},"地狱-5-30","地狱5-30"]
[{"$nulls":4},"地狱-5-31","地狱5-31"]
[{"$nulls":4},"地狱-5-32","地狱5-32"]
[{"$nulls":4},"地狱-5-33","地狱5-33"]
[{"$nulls":4},"地狱-5-34","地狱5-34"]
[{"$nulls":4},"地狱-5-35","地狱5-35"]
[{"$nulls":4},"地狱-5-36","地狱5-36"]
[{"$nulls":4},"地狱-5-37","地狱5-37"]
[{"$nulls":4},"地狱-5-38","地狱5-38"]
[{"$nulls":4},"地狱-5-39","地狱5-39"]
[{"$nulls":4},"地狱-5-40","地狱5-40"]
[{"$nulls":4},"地狱-6-1","地狱6-1"]
[{"$nulls":4},"地狱-6-2","地狱6-2"]
[{"$nulls":4},"地狱-6-3","地狱6-3"]
[{"$nulls":4},"地狱-6-4","地狱6-4"]
[{"$nulls":4},"地狱-6-5","地狱6-5"]
[{"$nulls":4},"地狱-6-6","地狱6-6"]
[{"$nulls":4},"地狱-6-7","地狱6-7"]
[{"$nulls":4},"地狱-6-8","地狱6-8"]
[{"$nulls":4},"地狱-6-9","地狱6-9"]
[{"$nulls":4},"地狱-6-10","地狱6-10"]
[{"$nulls":4},"地狱-6-11","地狱6-11"]
[{"$nulls":4},"地狱-6-12","地狱6-12"]
[{"$nulls":4},"地狱-6-13","地狱6-13"]
[{"$nulls":4},"地狱-6-14","地狱6-14"]
[{"$nulls":4},"地狱-6-15","地狱6-15"]
[{"$nulls":4},"地狱-6-16","地狱6-16"]
[{"$nulls":4},"地狱-6-17","地狱6-17"]
[{"$nulls":4},"地狱-6-18","地狱6-18"]
[{"$nulls":4},"地狱-6-19","地狱6-19"]
[{"$nulls":4},"地狱-6-20","地狱6-20"]
[{"$nulls":4},"地狱-6-21","地狱6-21"]
[{"$nulls":4},"地狱-6-22","地狱6-22"]
[{"$nulls":4},"地狱-6-23","地狱6-23"]
[{"$nulls":4},"地狱-6-24","地狱6-24"]
[{"$nulls":4},"地狱-6-25","地狱6-25"]
[{"$nulls":4},"地狱-6-26","地狱6-26"]
[{"$nulls":4},"地狱-6-27","地狱6-27"]
[{"$nulls":4},"地狱-6-28","地狱6-28"]
[{"$nulls":4},"地狱-6-29","地狱6-29"]
[{"$nulls":4},"地狱-6-30","地狱6-30"]
[{"$nulls":4},"地狱-6-31","地狱6-31"]
[{"$nulls":4},"地狱-6-32","地狱6-32"]
[{"$nulls":4},"地狱-6-33","地狱6-33"]
[{"$nulls":4},"地狱-6-34","地狱6-34"]
[{"$nulls":4},"地狱-6-35","地狱6-35"]
[{"$nulls":4},"地狱-6-36","地狱6-36"]
[{"$nulls":4},"地狱-6-37","地狱6-37"]
[{"$nulls":4},"地狱-6-38","地狱6-38"]
[{"$nulls":4},"地狱-6-39","地狱6-39"]
[{"$nulls":4},"地狱-6-40","地狱6-40"]
[{"$nulls":4},"地狱-7-1","地狱7-1"]
[{"$nulls":4},"地狱-7-2","地狱7-2"]
[{"$nulls":4},"地狱-7-3","地狱7-3"]
[{"$nulls":4},"地狱-7-4","地狱7-4"]
[{"$nulls":4},"地狱-7-5","地狱7-5"]
[{"$nulls":4},"地狱-7-6","地狱7-6"]
[{"$nulls":4},"地狱-7-7","地狱7-7"]
[{"$nulls":4},"地狱-7-8","地狱7-8"]
[{"$nulls":4},"地狱-7-9","地狱7-9"]
[{"$nulls":4},"地狱-7-10","地狱7-10"]
[{"$nulls":4},"地狱-7-11","地狱7-11"]
[{"$nulls":4},"地狱-7-12",{"$f":"REPLACE(E1609,3,1,\"\")","v":"地狱7-12"}]
[{"$nulls":4},"地狱-7-13","地狱7-13"]
[{"$nulls":4},"地狱-7-14","地狱7-14"]
[{"$nulls":4},"地狱-7-15","地狱7-15"]
[{"$nulls":4},"地狱-7-16","地狱7-16"]
[{"$nulls":4},"地狱-7-17","地狱7-17"]
[{"$nulls":4},"地狱-7-18","地狱7-18"]
[{"$nulls":4},"地狱-7-19","地狱7-19"]
[{"$nulls":4},"地狱-7-20","地狱7-20"]
[{"$nulls":4},"地狱-7-21","地狱7-21"]
[{"$nulls":4},"地狱-7-22","地狱7-22"]
[{"$nulls":4},"地狱-7-23","地狱7-23"]
[{"$nulls":4},"地狱-7-24","地狱7-24"]
[{"$nulls":4},"地狱-7-25","地狱7-25"]
[{"$nulls":4},"地狱-7-26","地狱7-26"]
[{"$nulls":4},"地狱-7-27","地狱7-27"]
[{"$nulls":4},"地狱-7-28","地狱7-28"]
[{"$nulls":4},"地狱-7-29","地狱7-29"]
[{"$nulls":4},"地狱-7-30","地狱7-30"]
[{"$nulls":4},"地狱-7-31","地狱7-31"]
[{"$nulls":4},"地狱-7-32","地狱7-32"]
[{"$nulls":4},"地狱-7-33","地狱7-33"]
[{"$nulls":4},"地狱-7-34","地狱7-34"]
[{"$nulls":4},"地狱-7-35","地狱7-35"]
[{"$nulls":4},"地狱-7-36","地狱7-36"]
[{"$nulls":4},"地狱-7-37","地狱7-37"]
[{"$nulls":4},"地狱-7-38","地狱7-38"]
[{"$nulls":4},"地狱-7-39","地狱7-39"]
[{"$nulls":4},"地狱-7-40","地狱7-40"]
[{"$nulls":4},"地狱-8-1","地狱8-1"]
[{"$nulls":4},"地狱-8-2","地狱8-2"]
[{"$nulls":4},"地狱-8-3","地狱8-3"]
[{"$nulls":4},"地狱-8-4","地狱8-4"]
[{"$nulls":4},"地狱-8-5","地狱8-5"]
[{"$nulls":4},"地狱-8-6","地狱8-6"]
[{"$nulls":4},"地狱-8-7","地狱8-7"]
[{"$nulls":4},"地狱-8-8","地狱8-8"]
[{"$nulls":4},"地狱-8-9","地狱8-9"]
[{"$nulls":4},"地狱-8-10","地狱8-10"]
[{"$nulls":4},"地狱-8-11","地狱8-11"]
[{"$nulls":4},"地狱-8-12","地狱8-12"]
[{"$nulls":4},"地狱-8-13","地狱8-13"]
[{"$nulls":4},"地狱-8-14","地狱8-14"]
[{"$nulls":4},"地狱-8-15","地狱8-15"]
[{"$nulls":4},"地狱-8-16","地狱8-16"]
[{"$nulls":4},"地狱-8-17","地狱8-17"]
[{"$nulls":4},"地狱-8-18","地狱8-18"]
[{"$nulls":4},"地狱-8-19","地狱8-19"]
[{"$nulls":4},"地狱-8-20","地狱8-20"]
[{"$nulls":4},"地狱-8-21","地狱8-21"]
[{"$nulls":4},"地狱-8-22","地狱8-22"]
[{"$nulls":4},"地狱-8-23","地狱8-23"]
[{"$nulls":4},"地狱-8-24","地狱8-24"]
[{"$nulls":4},"地狱-8-25","地狱8-25"]
[{"$nulls":4},"地狱-8-26","地狱8-26"]
[{"$nulls":4},"地狱-8-27","地狱8-27"]
[{"$nulls":4},"地狱-8-28","地狱8-28"]
[{"$nulls":4},"地狱-8-29","地狱8-29"]
[{"$nulls":4},"地狱-8-30","地狱8-30"]
[{"$nulls":4},"地狱-8-31","地狱8-31"]
[{"$nulls":4},"地狱-8-32","地狱8-32"]
[{"$nulls":4},"地狱-8-33","地狱8-33"]
[{"$nulls":4},"地狱-8-34","地狱8-34"]
[{"$nulls":4},"地狱-8-35","地狱8-35"]
[{"$nulls":4},"地狱-8-36",{"$f":"REPLACE(E1673,3,1,\"\")","v":"地狱8-36"}]
[{"$nulls":4},"地狱-8-37","地狱8-37"]
[{"$nulls":4},"地狱-8-38","地狱8-38"]
[{"$nulls":4},"地狱-8-39","地狱8-39"]
[{"$nulls":4},"地狱-8-40","地狱8-40"]
[{"$nulls":4},"地狱-9-1","地狱9-1"]
[{"$nulls":4},"地狱-9-2","地狱9-2"]
[{"$nulls":4},"地狱-9-3","地狱9-3"]
[{"$nulls":4},"地狱-9-4","地狱9-4"]
[{"$nulls":4},"地狱-9-5","地狱9-5"]
[{"$nulls":4},"地狱-9-6","地狱9-6"]
[{"$nulls":4},"地狱-9-7","地狱9-7"]
[{"$nulls":4},"地狱-9-8","地狱9-8"]
[{"$nulls":4},"地狱-9-9","地狱9-9"]
[{"$nulls":4},"地狱-9-10","地狱9-10"]
[{"$nulls":4},"地狱-9-11","地狱9-11"]
[{"$nulls":4},"地狱-9-12","地狱9-12"]
[{"$nulls":4},"地狱-9-13","地狱9-13"]
[{"$nulls":4},"地狱-9-14","地狱9-14"]
[{"$nulls":4},"地狱-9-15","地狱9-15"]
[{"$nulls":4},"地狱-9-16","地狱9-16"]
[{"$nulls":4},"地狱-9-17","地狱9-17"]
[{"$nulls":4},"地狱-9-18","地狱9-18"]
[{"$nulls":4},"地狱-9-19","地狱9-19"]
[{"$nulls":4},"地狱-9-20","地狱9-20"]
[{"$nulls":4},"地狱-9-21","地狱9-21"]
[{"$nulls":4},"地狱-9-22","地狱9-22"]
[{"$nulls":4},"地狱-9-23","地狱9-23"]
[{"$nulls":4},"地狱-9-24","地狱9-24"]
[{"$nulls":4},"地狱-9-25","地狱9-25"]
[{"$nulls":4},"地狱-9-26","地狱9-26"]
[{"$nulls":4},"地狱-9-27","地狱9-27"]
[{"$nulls":4},"地狱-9-28","地狱9-28"]
[{"$nulls":4},"地狱-9-29","地狱9-29"]
[{"$nulls":4},"地狱-9-30","地狱9-30"]
[{"$nulls":4},"地狱-9-31","地狱9-31"]
[{"$nulls":4},"地狱-9-32","地狱9-32"]
[{"$nulls":4},"地狱-9-33","地狱9-33"]
[{"$nulls":4},"地狱-9-34","地狱9-34"]
[{"$nulls":4},"地狱-9-35","地狱9-35"]
[{"$nulls":4},"地狱-9-36","地狱9-36"]
[{"$nulls":4},"地狱-9-37","地狱9-37"]
[{"$nulls":4},"地狱-9-38","地狱9-38"]
[{"$nulls":4},"地狱-9-39","地狱9-39"]
[{"$nulls":4},"地狱-9-40","地狱9-40"]
[{"$nulls":4},"地狱-10-1","地狱10-1"]
[{"$nulls":4},"地狱-10-2","地狱10-2"]
[{"$nulls":4},"地狱-10-3","地狱10-3"]
[{"$nulls":4},"地狱-10-4","地狱10-4"]
[{"$nulls":4},"地狱-10-5","地狱10-5"]
[{"$nulls":4},"地狱-10-6","地狱10-6"]
[{"$nulls":4},"地狱-10-7","地狱10-7"]
[{"$nulls":4},"地狱-10-8","地狱10-8"]
[{"$nulls":4},"地狱-10-9","地狱10-9"]
[{"$nulls":4},"地狱-10-10","地狱10-10"]
[{"$nulls":4},"地狱-10-11","地狱10-11"]
[{"$nulls":4},"地狱-10-12","地狱10-12"]
[{"$nulls":4},"地狱-10-13","地狱10-13"]
[{"$nulls":4},"地狱-10-14","地狱10-14"]
[{"$nulls":4},"地狱-10-15","地狱10-15"]
[{"$nulls":4},"地狱-10-16","地狱10-16"]
[{"$nulls":4},"地狱-10-17","地狱10-17"]
[{"$nulls":4},"地狱-10-18","地狱10-18"]
[{"$nulls":4},"地狱-10-19","地狱10-19"]
[{"$nulls":4},"地狱-10-20",{"$f":"REPLACE(E1737,3,1,\"\")","v":"地狱10-20"}]
[{"$nulls":4},"地狱-10-21","地狱10-21"]
[{"$nulls":4},"地狱-10-22","地狱10-22"]
[{"$nulls":4},"地狱-10-23","地狱10-23"]
[{"$nulls":4},"地狱-10-24","地狱10-24"]
[{"$nulls":4},"地狱-10-25","地狱10-25"]
[{"$nulls":4},"地狱-10-26","地狱10-26"]
[{"$nulls":4},"地狱-10-27","地狱10-27"]
[{"$nulls":4},"地狱-10-28","地狱10-28"]
[{"$nulls":4},"地狱-10-29","地狱10-29"]
[{"$nulls":4},"地狱-10-30","地狱10-30"]
[{"$nulls":4},"地狱-10-31","地狱10-31"]
[{"$nulls":4},"地狱-10-32","地狱10-32"]
[{"$nulls":4},"地狱-10-33","地狱10-33"]
[{"$nulls":4},"地狱-10-34","地狱10-34"]
[{"$nulls":4},"地狱-10-35","地狱10-35"]
[{"$nulls":4},"地狱-10-36","地狱10-36"]
[{"$nulls":4},"地狱-10-37","地狱10-37"]
[{"$nulls":4},"地狱-10-38","地狱10-38"]
[{"$nulls":4},"地狱-10-39","地狱10-39"]
[{"$nulls":4},"地狱-10-40","地狱10-40"]
[{"$nulls":4},"地狱-11-1","地狱11-1"]
[{"$nulls":4},"地狱-11-2","地狱11-2"]
[{"$nulls":4},"地狱-11-3","地狱11-3"]
[{"$nulls":4},"地狱-11-4","地狱11-4"]
[{"$nulls":4},"地狱-11-5","地狱11-5"]
[{"$nulls":4},"地狱-11-6","地狱11-6"]
[{"$nulls":4},"地狱-11-7","地狱11-7"]
[{"$nulls":4},"地狱-11-8","地狱11-8"]
[{"$nulls":4},"地狱-11-9","地狱11-9"]
[{"$nulls":4},"地狱-11-10","地狱11-10"]
[{"$nulls":4},"地狱-11-11","地狱11-11"]
[{"$nulls":4},"地狱-11-12","地狱11-12"]
[{"$nulls":4},"地狱-11-13","地狱11-13"]
[{"$nulls":4},"地狱-11-14","地狱11-14"]
[{"$nulls":4},"地狱-11-15","地狱11-15"]
[{"$nulls":4},"地狱-11-16","地狱11-16"]
[{"$nulls":4},"地狱-11-17","地狱11-17"]
[{"$nulls":4},"地狱-11-18","地狱11-18"]
[{"$nulls":4},"地狱-11-19","地狱11-19"]
[{"$nulls":4},"地狱-11-20","地狱11-20"]
[{"$nulls":4},"地狱-11-21","地狱11-21"]
[{"$nulls":4},"地狱-11-22","地狱11-22"]
[{"$nulls":4},"地狱-11-23","地狱11-23"]
[{"$nulls":4},"地狱-11-24","地狱11-24"]
[{"$nulls":4},"地狱-11-25","地狱11-25"]
[{"$nulls":4},"地狱-11-26","地狱11-26"]
[{"$nulls":4},"地狱-11-27","地狱11-27"]
[{"$nulls":4},"地狱-11-28","地狱11-28"]
[{"$nulls":4},"地狱-11-29","地狱11-29"]
[{"$nulls":4},"地狱-11-30","地狱11-30"]
[{"$nulls":4},"地狱-11-31","地狱11-31"]
[{"$nulls":4},"地狱-11-32","地狱11-32"]
[{"$nulls":4},"地狱-11-33","地狱11-33"]
[{"$nulls":4},"地狱-11-34","地狱11-34"]
[{"$nulls":4},"地狱-11-35","地狱11-35"]
[{"$nulls":4},"地狱-11-36","地狱11-36"]
[{"$nulls":4},"地狱-11-37","地狱11-37"]
[{"$nulls":4},"地狱-11-38","地狱11-38"]
[{"$nulls":4},"地狱-11-39","地狱11-39"]
[{"$nulls":4},"地狱-11-40","地狱11-40"]
[{"$nulls":4},"地狱-12-1","地狱12-1"]
[{"$nulls":4},"地狱-12-2","地狱12-2"]
[{"$nulls":4},"地狱-12-3","地狱12-3"]
[{"$nulls":4},"地狱-12-4",{"$f":"REPLACE(E1801,3,1,\"\")","v":"地狱12-4"}]
[{"$nulls":4},"地狱-12-5","地狱12-5"]
[{"$nulls":4},"地狱-12-6","地狱12-6"]
[{"$nulls":4},"地狱-12-7","地狱12-7"]
[{"$nulls":4},"地狱-12-8","地狱12-8"]
[{"$nulls":4},"地狱-12-9","地狱12-9"]
[{"$nulls":4},"地狱-12-10","地狱12-10"]
[{"$nulls":4},"地狱-12-11","地狱12-11"]
[{"$nulls":4},"地狱-12-12","地狱12-12"]
[{"$nulls":4},"地狱-12-13","地狱12-13"]
[{"$nulls":4},"地狱-12-14","地狱12-14"]
[{"$nulls":4},"地狱-12-15","地狱12-15"]
[{"$nulls":4},"地狱-12-16","地狱12-16"]
[{"$nulls":4},"地狱-12-17","地狱12-17"]
[{"$nulls":4},"地狱-12-18","地狱12-18"]
[{"$nulls":4},"地狱-12-19","地狱12-19"]
[{"$nulls":4},"地狱-12-20","地狱12-20"]
[{"$nulls":4},"地狱-12-21","地狱12-21"]
[{"$nulls":4},"地狱-12-22","地狱12-22"]
[{"$nulls":4},"地狱-12-23","地狱12-23"]
[{"$nulls":4},"地狱-12-24","地狱12-24"]
[{"$nulls":4},"地狱-12-25","地狱12-25"]
[{"$nulls":4},"地狱-12-26","地狱12-26"]
[{"$nulls":4},"地狱-12-27","地狱12-27"]
[{"$nulls":4},"地狱-12-28","地狱12-28"]
[{"$nulls":4},"地狱-12-29","地狱12-29"]
[{"$nulls":4},"地狱-12-30","地狱12-30"]
[{"$nulls":4},"地狱-12-31","地狱12-31"]
[{"$nulls":4},"地狱-12-32","地狱12-32"]
[{"$nulls":4},"地狱-12-33","地狱12-33"]
[{"$nulls":4},"地狱-12-34","地狱12-34"]
[{"$nulls":4},"地狱-12-35","地狱12-35"]
[{"$nulls":4},"地狱-12-36","地狱12-36"]
[{"$nulls":4},"地狱-12-37","地狱12-37"]
[{"$nulls":4},"地狱-12-38","地狱12-38"]
[{"$nulls":4},"地狱-12-39","地狱12-39"]
[{"$nulls":4},"地狱-12-40","地狱12-40"]
[{"$nulls":4},"地狱-13-1","地狱13-1"]
[{"$nulls":4},"地狱-13-2","地狱13-2"]
[{"$nulls":4},"地狱-13-3","地狱13-3"]
[{"$nulls":4},"地狱-13-4","地狱13-4"]
[{"$nulls":4},"地狱-13-5","地狱13-5"]
[{"$nulls":4},"地狱-13-6","地狱13-6"]
[{"$nulls":4},"地狱-13-7","地狱13-7"]
[{"$nulls":4},"地狱-13-8","地狱13-8"]
[{"$nulls":4},"地狱-13-9","地狱13-9"]
[{"$nulls":4},"地狱-13-10","地狱13-10"]
[{"$nulls":4},"地狱-13-11","地狱13-11"]
[{"$nulls":4},"地狱-13-12","地狱13-12"]
[{"$nulls":4},"地狱-13-13","地狱13-13"]
[{"$nulls":4},"地狱-13-14","地狱13-14"]
[{"$nulls":4},"地狱-13-15","地狱13-15"]
[{"$nulls":4},"地狱-13-16","地狱13-16"]
[{"$nulls":4},"地狱-13-17","地狱13-17"]
[{"$nulls":4},"地狱-13-18","地狱13-18"]
[{"$nulls":4},"地狱-13-19","地狱13-19"]
[{"$nulls":4},"地狱-13-20","地狱13-20"]
[{"$nulls":4},"地狱-13-21","地狱13-21"]
[{"$nulls":4},"地狱-13-22","地狱13-22"]
[{"$nulls":4},"地狱-13-23","地狱13-23"]
[{"$nulls":4},"地狱-13-24","地狱13-24"]
[{"$nulls":4},"地狱-13-25","地狱13-25"]
[{"$nulls":4},"地狱-13-26","地狱13-26"]
[{"$nulls":4},"地狱-13-27","地狱13-27"]
[{"$nulls":4},"地狱-13-28",{"$f":"REPLACE(E1865,3,1,\"\")","v":"地狱13-28"}]
[{"$nulls":4},"地狱-13-29","地狱13-29"]
[{"$nulls":4},"地狱-13-30","地狱13-30"]
[{"$nulls":4},"地狱-13-31","地狱13-31"]
[{"$nulls":4},"地狱-13-32","地狱13-32"]
[{"$nulls":4},"地狱-13-33","地狱13-33"]
[{"$nulls":4},"地狱-13-34","地狱13-34"]
[{"$nulls":4},"地狱-13-35","地狱13-35"]
[{"$nulls":4},"地狱-13-36","地狱13-36"]
[{"$nulls":4},"地狱-13-37","地狱13-37"]
[{"$nulls":4},"地狱-13-38","地狱13-38"]
[{"$nulls":4},"地狱-13-39","地狱13-39"]
[{"$nulls":4},"地狱-13-40","地狱13-40"]
[{"$nulls":4},"地狱-14-1","地狱14-1"]
[{"$nulls":4},"地狱-14-2","地狱14-2"]
[{"$nulls":4},"地狱-14-3","地狱14-3"]
[{"$nulls":4},"地狱-14-4","地狱14-4"]
[{"$nulls":4},"地狱-14-5","地狱14-5"]
[{"$nulls":4},"地狱-14-6","地狱14-6"]
[{"$nulls":4},"地狱-14-7","地狱14-7"]
[{"$nulls":4},"地狱-14-8","地狱14-8"]
[{"$nulls":4},"地狱-14-9","地狱14-9"]
[{"$nulls":4},"地狱-14-10","地狱14-10"]
[{"$nulls":4},"地狱-14-11","地狱14-11"]
[{"$nulls":4},"地狱-14-12","地狱14-12"]
[{"$nulls":4},"地狱-14-13","地狱14-13"]
[{"$nulls":4},"地狱-14-14","地狱14-14"]
[{"$nulls":4},"地狱-14-15","地狱14-15"]
[{"$nulls":4},"地狱-14-16","地狱14-16"]
[{"$nulls":4},"地狱-14-17","地狱14-17"]
[{"$nulls":4},"地狱-14-18","地狱14-18"]
[{"$nulls":4},"地狱-14-19","地狱14-19"]
[{"$nulls":4},"地狱-14-20","地狱14-20"]
[{"$nulls":4},"地狱-14-21","地狱14-21"]
[{"$nulls":4},"地狱-14-22","地狱14-22"]
[{"$nulls":4},"地狱-14-23","地狱14-23"]
[{"$nulls":4},"地狱-14-24","地狱14-24"]
[{"$nulls":4},"地狱-14-25","地狱14-25"]
[{"$nulls":4},"地狱-14-26","地狱14-26"]
[{"$nulls":4},"地狱-14-27","地狱14-27"]
[{"$nulls":4},"地狱-14-28","地狱14-28"]
[{"$nulls":4},"地狱-14-29","地狱14-29"]
[{"$nulls":4},"地狱-14-30","地狱14-30"]
[{"$nulls":4},"地狱-14-31","地狱14-31"]
[{"$nulls":4},"地狱-14-32","地狱14-32"]
[{"$nulls":4},"地狱-14-33","地狱14-33"]
[{"$nulls":4},"地狱-14-34","地狱14-34"]
[{"$nulls":4},"地狱-14-35","地狱14-35"]
[{"$nulls":4},"地狱-14-36","地狱14-36"]
[{"$nulls":4},"地狱-14-37","地狱14-37"]
[{"$nulls":4},"地狱-14-38","地狱14-38"]
[{"$nulls":4},"地狱-14-39","地狱14-39"]
[{"$nulls":4},"地狱-14-40","地狱14-40"]
[{"$nulls":4},"地狱-15-1","地狱15-1"]
[{"$nulls":4},"地狱-15-2","地狱15-2"]
[{"$nulls":4},"地狱-15-3","地狱15-3"]
[{"$nulls":4},"地狱-15-4","地狱15-4"]
[{"$nulls":4},"地狱-15-5","地狱15-5"]
[{"$nulls":4},"地狱-15-6","地狱15-6"]
[{"$nulls":4},"地狱-15-7","地狱15-7"]
[{"$nulls":4},"地狱-15-8","地狱15-8"]
[{"$nulls":4},"地狱-15-9","地狱15-9"]
[{"$nulls":4},"地狱-15-10","地狱15-10"]
[{"$nulls":4},"地狱-15-11","地狱15-11"]
[{"$nulls":4},"地狱-15-12",{"$f":"REPLACE(E1929,3,1,\"\")","v":"地狱15-12"}]
[{"$nulls":4},"地狱-15-13","地狱15-13"]
[{"$nulls":4},"地狱-15-14","地狱15-14"]
[{"$nulls":4},"地狱-15-15","地狱15-15"]
[{"$nulls":4},"地狱-15-16","地狱15-16"]
[{"$nulls":4},"地狱-15-17","地狱15-17"]
[{"$nulls":4},"地狱-15-18","地狱15-18"]
[{"$nulls":4},"地狱-15-19","地狱15-19"]
[{"$nulls":4},"地狱-15-20","地狱15-20"]
[{"$nulls":4},"地狱-15-21","地狱15-21"]
[{"$nulls":4},"地狱-15-22","地狱15-22"]
[{"$nulls":4},"地狱-15-23","地狱15-23"]
[{"$nulls":4},"地狱-15-24","地狱15-24"]
[{"$nulls":4},"地狱-15-25","地狱15-25"]
[{"$nulls":4},"地狱-15-26","地狱15-26"]
[{"$nulls":4},"地狱-15-27","地狱15-27"]
[{"$nulls":4},"地狱-15-28","地狱15-28"]
[{"$nulls":4},"地狱-15-29","地狱15-29"]
[{"$nulls":4},"地狱-15-30","地狱15-30"]
[{"$nulls":4},"地狱-15-31","地狱15-31"]
[{"$nulls":4},"地狱-15-32","地狱15-32"]
[{"$nulls":4},"地狱-15-33","地狱15-33"]
[{"$nulls":4},"地狱-15-34","地狱15-34"]
[{"$nulls":4},"地狱-15-35","地狱15-35"]
[{"$nulls":4},"地狱-15-36","地狱15-36"]
[{"$nulls":4},"地狱-15-37","地狱15-37"]
[{"$nulls":4},"地狱-15-38","地狱15-38"]
[{"$nulls":4},"地狱-15-39","地狱15-39"]
[{"$nulls":4},"地狱-15-40","地狱15-40"]
[{"$nulls":4},"噩梦-1-1","噩梦1-1"]
[{"$nulls":4},"噩梦-1-2","噩梦1-2"]
[{"$nulls":4},"噩梦-1-3","噩梦1-3"]
[{"$nulls":4},"噩梦-1-4","噩梦1-4"]
[{"$nulls":4},"噩梦-1-5","噩梦1-5"]
[{"$nulls":4},"噩梦-1-6","噩梦1-6"]
[{"$nulls":4},"噩梦-1-7","噩梦1-7"]
[{"$nulls":4},"噩梦-1-8","噩梦1-8"]
[{"$nulls":4},"噩梦-1-9","噩梦1-9"]
[{"$nulls":4},"噩梦-1-10","噩梦1-10"]
[{"$nulls":4},"噩梦-1-11","噩梦1-11"]
[{"$nulls":4},"噩梦-1-12","噩梦1-12"]
[{"$nulls":4},"噩梦-1-13","噩梦1-13"]
[{"$nulls":4},"噩梦-1-14","噩梦1-14"]
[{"$nulls":4},"噩梦-1-15","噩梦1-15"]
[{"$nulls":4},"噩梦-1-16","噩梦1-16"]
[{"$nulls":4},"噩梦-1-17","噩梦1-17"]
[{"$nulls":4},"噩梦-1-18","噩梦1-18"]
[{"$nulls":4},"噩梦-1-19","噩梦1-19"]
[{"$nulls":4},"噩梦-1-20","噩梦1-20"]
[{"$nulls":4},"噩梦-1-21","噩梦1-21"]
[{"$nulls":4},"噩梦-1-22","噩梦1-22"]
[{"$nulls":4},"噩梦-1-23","噩梦1-23"]
[{"$nulls":4},"噩梦-1-24","噩梦1-24"]
[{"$nulls":4},"噩梦-1-25","噩梦1-25"]
[{"$nulls":4},"噩梦-1-26","噩梦1-26"]
[{"$nulls":4},"噩梦-1-27","噩梦1-27"]
[{"$nulls":4},"噩梦-1-28","噩梦1-28"]
[{"$nulls":4},"噩梦-1-29","噩梦1-29"]
[{"$nulls":4},"噩梦-1-30","噩梦1-30"]
[{"$nulls":4},"噩梦-1-31","噩梦1-31"]
[{"$nulls":4},"噩梦-1-32","噩梦1-32"]
[{"$nulls":4},"噩梦-1-33","噩梦1-33"]
[{"$nulls":4},"噩梦-1-34","噩梦1-34"]
[{"$nulls":4},"噩梦-1-35","噩梦1-35"]
[{"$nulls":4},"噩梦-1-36",{"$f":"REPLACE(E1993,3,1,\"\")","v":"噩梦1-36"}]
[{"$nulls":4},"噩梦-1-37","噩梦1-37"]
[{"$nulls":4},"噩梦-1-38","噩梦1-38"]
[{"$nulls":4},"噩梦-1-39","噩梦1-39"]
[{"$nulls":4},"噩梦-1-40","噩梦1-40"]
[{"$nulls":4},"噩梦-2-1","噩梦2-1"]
[{"$nulls":4},"噩梦-2-2","噩梦2-2"]
[{"$nulls":4},"噩梦-2-3","噩梦2-3"]
[{"$nulls":4},"噩梦-2-4","噩梦2-4"]
[{"$nulls":4},"噩梦-2-5","噩梦2-5"]
[{"$nulls":4},"噩梦-2-6","噩梦2-6"]
[{"$nulls":4},"噩梦-2-7","噩梦2-7"]
[{"$nulls":4},"噩梦-2-8","噩梦2-8"]
[{"$nulls":4},"噩梦-2-9","噩梦2-9"]
[{"$nulls":4},"噩梦-2-10","噩梦2-10"]
[{"$nulls":4},"噩梦-2-11","噩梦2-11"]
[{"$nulls":4},"噩梦-2-12","噩梦2-12"]
[{"$nulls":4},"噩梦-2-13","噩梦2-13"]
[{"$nulls":4},"噩梦-2-14","噩梦2-14"]
[{"$nulls":4},"噩梦-2-15","噩梦2-15"]
[{"$nulls":4},"噩梦-2-16","噩梦2-16"]
[{"$nulls":4},"噩梦-2-17","噩梦2-17"]
[{"$nulls":4},"噩梦-2-18","噩梦2-18"]
[{"$nulls":4},"噩梦-2-19","噩梦2-19"]
[{"$nulls":4},"噩梦-2-20","噩梦2-20"]
[{"$nulls":4},"噩梦-2-21","噩梦2-21"]
[{"$nulls":4},"噩梦-2-22","噩梦2-22"]
[{"$nulls":4},"噩梦-2-23","噩梦2-23"]
[{"$nulls":4},"噩梦-2-24","噩梦2-24"]
[{"$nulls":4},"噩梦-2-25","噩梦2-25"]
[{"$nulls":4},"噩梦-2-26","噩梦2-26"]
[{"$nulls":4},"噩梦-2-27","噩梦2-27"]
[{"$nulls":4},"噩梦-2-28","噩梦2-28"]
[{"$nulls":4},"噩梦-2-29","噩梦2-29"]
[{"$nulls":4},"噩梦-2-30","噩梦2-30"]
[{"$nulls":4},"噩梦-2-31","噩梦2-31"]
[{"$nulls":4},"噩梦-2-32","噩梦2-32"]
[{"$nulls":4},"噩梦-2-33","噩梦2-33"]
[{"$nulls":4},"噩梦-2-34","噩梦2-34"]
[{"$nulls":4},"噩梦-2-35","噩梦2-35"]
[{"$nulls":4},"噩梦-2-36","噩梦2-36"]
[{"$nulls":4},"噩梦-2-37","噩梦2-37"]
[{"$nulls":4},"噩梦-2-38","噩梦2-38"]
[{"$nulls":4},"噩梦-2-39","噩梦2-39"]
[{"$nulls":4},"噩梦-2-40","噩梦2-40"]
[{"$nulls":4},"噩梦-3-1","噩梦3-1"]
[{"$nulls":4},"噩梦-3-2","噩梦3-2"]
[{"$nulls":4},"噩梦-3-3","噩梦3-3"]
[{"$nulls":4},"噩梦-3-4","噩梦3-4"]
[{"$nulls":4},"噩梦-3-5","噩梦3-5"]
[{"$nulls":4},"噩梦-3-6","噩梦3-6"]
[{"$nulls":4},"噩梦-3-7","噩梦3-7"]
[{"$nulls":4},"噩梦-3-8","噩梦3-8"]
[{"$nulls":4},"噩梦-3-9","噩梦3-9"]
[{"$nulls":4},"噩梦-3-10","噩梦3-10"]
[{"$nulls":4},"噩梦-3-11","噩梦3-11"]
[{"$nulls":4},"噩梦-3-12","噩梦3-12"]
[{"$nulls":4},"噩梦-3-13","噩梦3-13"]
[{"$nulls":4},"噩梦-3-14","噩梦3-14"]
[{"$nulls":4},"噩梦-3-15","噩梦3-15"]
[{"$nulls":4},"噩梦-3-16","噩梦3-16"]
[{"$nulls":4},"噩梦-3-17","噩梦3-17"]
[{"$nulls":4},"噩梦-3-18","噩梦3-18"]
[{"$nulls":4},"噩梦-3-19","噩梦3-19"]
[{"$nulls":4},"噩梦-3-20",{"$f":"REPLACE(E2057,3,1,\"\")","v":"噩梦3-20"}]
[{"$nulls":4},"噩梦-3-21","噩梦3-21"]
[{"$nulls":4},"噩梦-3-22","噩梦3-22"]
[{"$nulls":4},"噩梦-3-23","噩梦3-23"]
[{"$nulls":4},"噩梦-3-24","噩梦3-24"]
[{"$nulls":4},"噩梦-3-25","噩梦3-25"]
[{"$nulls":4},"噩梦-3-26","噩梦3-26"]
[{"$nulls":4},"噩梦-3-27","噩梦3-27"]
[{"$nulls":4},"噩梦-3-28","噩梦3-28"]
[{"$nulls":4},"噩梦-3-29","噩梦3-29"]
[{"$nulls":4},"噩梦-3-30","噩梦3-30"]
[{"$nulls":4},"噩梦-3-31","噩梦3-31"]
[{"$nulls":4},"噩梦-3-32","噩梦3-32"]
[{"$nulls":4},"噩梦-3-33","噩梦3-33"]
[{"$nulls":4},"噩梦-3-34","噩梦3-34"]
[{"$nulls":4},"噩梦-3-35","噩梦3-35"]
[{"$nulls":4},"噩梦-3-36","噩梦3-36"]
[{"$nulls":4},"噩梦-3-37","噩梦3-37"]
[{"$nulls":4},"噩梦-3-38","噩梦3-38"]
[{"$nulls":4},"噩梦-3-39","噩梦3-39"]
[{"$nulls":4},"噩梦-3-40","噩梦3-40"]
[{"$nulls":4},"噩梦-4-1","噩梦4-1"]
[{"$nulls":4},"噩梦-4-2","噩梦4-2"]
[{"$nulls":4},"噩梦-4-3","噩梦4-3"]
[{"$nulls":4},"噩梦-4-4","噩梦4-4"]
[{"$nulls":4},"噩梦-4-5","噩梦4-5"]
[{"$nulls":4},"噩梦-4-6","噩梦4-6"]
[{"$nulls":4},"噩梦-4-7","噩梦4-7"]
[{"$nulls":4},"噩梦-4-8","噩梦4-8"]
[{"$nulls":4},"噩梦-4-9","噩梦4-9"]
[{"$nulls":4},"噩梦-4-10","噩梦4-10"]
[{"$nulls":4},"噩梦-4-11","噩梦4-11"]
[{"$nulls":4},"噩梦-4-12","噩梦4-12"]
[{"$nulls":4},"噩梦-4-13","噩梦4-13"]
[{"$nulls":4},"噩梦-4-14","噩梦4-14"]
[{"$nulls":4},"噩梦-4-15","噩梦4-15"]
[{"$nulls":4},"噩梦-4-16","噩梦4-16"]
[{"$nulls":4},"噩梦-4-17","噩梦4-17"]
[{"$nulls":4},"噩梦-4-18","噩梦4-18"]
[{"$nulls":4},"噩梦-4-19","噩梦4-19"]
[{"$nulls":4},"噩梦-4-20","噩梦4-20"]
[{"$nulls":4},"噩梦-4-21","噩梦4-21"]
[{"$nulls":4},"噩梦-4-22","噩梦4-22"]
[{"$nulls":4},"噩梦-4-23","噩梦4-23"]
[{"$nulls":4},"噩梦-4-24","噩梦4-24"]
[{"$nulls":4},"噩梦-4-25","噩梦4-25"]
[{"$nulls":4},"噩梦-4-26","噩梦4-26"]
[{"$nulls":4},"噩梦-4-27","噩梦4-27"]
[{"$nulls":4},"噩梦-4-28","噩梦4-28"]
[{"$nulls":4},"噩梦-4-29","噩梦4-29"]
[{"$nulls":4},"噩梦-4-30","噩梦4-30"]
[{"$nulls":4},"噩梦-4-31","噩梦4-31"]
[{"$nulls":4},"噩梦-4-32","噩梦4-32"]
[{"$nulls":4},"噩梦-4-33","噩梦4-33"]
[{"$nulls":4},"噩梦-4-34","噩梦4-34"]
[{"$nulls":4},"噩梦-4-35","噩梦4-35"]
[{"$nulls":4},"噩梦-4-36","噩梦4-36"]
[{"$nulls":4},"噩梦-4-37","噩梦4-37"]
[{"$nulls":4},"噩梦-4-38","噩梦4-38"]
[{"$nulls":4},"噩梦-4-39","噩梦4-39"]
[{"$nulls":4},"噩梦-4-40","噩梦4-40"]
[{"$nulls":4},"噩梦-5-1","噩梦5-1"]
[{"$nulls":4},"噩梦-5-2","噩梦5-2"]
[{"$nulls":4},"噩梦-5-3","噩梦5-3"]
[{"$nulls":4},"噩梦-5-4",{"$f":"REPLACE(E2121,3,1,\"\")","v":"噩梦5-4"}]
[{"$nulls":4},"噩梦-5-5","噩梦5-5"]
[{"$nulls":4},"噩梦-5-6","噩梦5-6"]
[{"$nulls":4},"噩梦-5-7","噩梦5-7"]
[{"$nulls":4},"噩梦-5-8","噩梦5-8"]
[{"$nulls":4},"噩梦-5-9","噩梦5-9"]
[{"$nulls":4},"噩梦-5-10","噩梦5-10"]
[{"$nulls":4},"噩梦-5-11","噩梦5-11"]
[{"$nulls":4},"噩梦-5-12","噩梦5-12"]
[{"$nulls":4},"噩梦-5-13","噩梦5-13"]
[{"$nulls":4},"噩梦-5-14","噩梦5-14"]
[{"$nulls":4},"噩梦-5-15","噩梦5-15"]
[{"$nulls":4},"噩梦-5-16","噩梦5-16"]
[{"$nulls":4},"噩梦-5-17","噩梦5-17"]
[{"$nulls":4},"噩梦-5-18","噩梦5-18"]
[{"$nulls":4},"噩梦-5-19","噩梦5-19"]
[{"$nulls":4},"噩梦-5-20","噩梦5-20"]
[{"$nulls":4},"噩梦-5-21","噩梦5-21"]
[{"$nulls":4},"噩梦-5-22","噩梦5-22"]
[{"$nulls":4},"噩梦-5-23","噩梦5-23"]
[{"$nulls":4},"噩梦-5-24","噩梦5-24"]
[{"$nulls":4},"噩梦-5-25","噩梦5-25"]
[{"$nulls":4},"噩梦-5-26","噩梦5-26"]
[{"$nulls":4},"噩梦-5-27","噩梦5-27"]
[{"$nulls":4},"噩梦-5-28","噩梦5-28"]
[{"$nulls":4},"噩梦-5-29","噩梦5-29"]
[{"$nulls":4},"噩梦-5-30","噩梦5-30"]
[{"$nulls":4},"噩梦-5-31","噩梦5-31"]
[{"$nulls":4},"噩梦-5-32","噩梦5-32"]
[{"$nulls":4},"噩梦-5-33","噩梦5-33"]
[{"$nulls":4},"噩梦-5-34","噩梦5-34"]
[{"$nulls":4},"噩梦-5-35","噩梦5-35"]
[{"$nulls":4},"噩梦-5-36","噩梦5-36"]
[{"$nulls":4},"噩梦-5-37","噩梦5-37"]
[{"$nulls":4},"噩梦-5-38","噩梦5-38"]
[{"$nulls":4},"噩梦-5-39","噩梦5-39"]
[{"$nulls":4},"噩梦-5-40","噩梦5-40"]
[{"$nulls":4},"噩梦-6-1","噩梦6-1"]
[{"$nulls":4},"噩梦-6-2","噩梦6-2"]
[{"$nulls":4},"噩梦-6-3","噩梦6-3"]
[{"$nulls":4},"噩梦-6-4","噩梦6-4"]
[{"$nulls":4},"噩梦-6-5","噩梦6-5"]
[{"$nulls":4},"噩梦-6-6","噩梦6-6"]
[{"$nulls":4},"噩梦-6-7","噩梦6-7"]
[{"$nulls":4},"噩梦-6-8","噩梦6-8"]
[{"$nulls":4},"噩梦-6-9","噩梦6-9"]
[{"$nulls":4},"噩梦-6-10","噩梦6-10"]
[{"$nulls":4},"噩梦-6-11","噩梦6-11"]
[{"$nulls":4},"噩梦-6-12","噩梦6-12"]
[{"$nulls":4},"噩梦-6-13","噩梦6-13"]
[{"$nulls":4},"噩梦-6-14","噩梦6-14"]
[{"$nulls":4},"噩梦-6-15","噩梦6-15"]
[{"$nulls":4},"噩梦-6-16","噩梦6-16"]
[{"$nulls":4},"噩梦-6-17","噩梦6-17"]
[{"$nulls":4},"噩梦-6-18","噩梦6-18"]
[{"$nulls":4},"噩梦-6-19","噩梦6-19"]
[{"$nulls":4},"噩梦-6-20","噩梦6-20"]
[{"$nulls":4},"噩梦-6-21","噩梦6-21"]
[{"$nulls":4},"噩梦-6-22","噩梦6-22"]
[{"$nulls":4},"噩梦-6-23","噩梦6-23"]
[{"$nulls":4},"噩梦-6-24","噩梦6-24"]
[{"$nulls":4},"噩梦-6-25","噩梦6-25"]
[{"$nulls":4},"噩梦-6-26","噩梦6-26"]
[{"$nulls":4},"噩梦-6-27","噩梦6-27"]
[{"$nulls":4},"噩梦-6-28",{"$f":"REPLACE(E2185,3,1,\"\")","v":"噩梦6-28"}]
[{"$nulls":4},"噩梦-6-29","噩梦6-29"]
[{"$nulls":4},"噩梦-6-30","噩梦6-30"]
[{"$nulls":4},"噩梦-6-31","噩梦6-31"]
[{"$nulls":4},"噩梦-6-32","噩梦6-32"]
[{"$nulls":4},"噩梦-6-33","噩梦6-33"]
[{"$nulls":4},"噩梦-6-34","噩梦6-34"]
[{"$nulls":4},"噩梦-6-35","噩梦6-35"]
[{"$nulls":4},"噩梦-6-36","噩梦6-36"]
[{"$nulls":4},"噩梦-6-37","噩梦6-37"]
[{"$nulls":4},"噩梦-6-38","噩梦6-38"]
[{"$nulls":4},"噩梦-6-39","噩梦6-39"]
[{"$nulls":4},"噩梦-6-40","噩梦6-40"]
[{"$nulls":4},"噩梦-7-1","噩梦7-1"]
[{"$nulls":4},"噩梦-7-2","噩梦7-2"]
[{"$nulls":4},"噩梦-7-3","噩梦7-3"]
[{"$nulls":4},"噩梦-7-4","噩梦7-4"]
[{"$nulls":4},"噩梦-7-5","噩梦7-5"]
[{"$nulls":4},"噩梦-7-6","噩梦7-6"]
[{"$nulls":4},"噩梦-7-7","噩梦7-7"]
[{"$nulls":4},"噩梦-7-8","噩梦7-8"]
[{"$nulls":4},"噩梦-7-9","噩梦7-9"]
[{"$nulls":4},"噩梦-7-10","噩梦7-10"]
[{"$nulls":4},"噩梦-7-11","噩梦7-11"]
[{"$nulls":4},"噩梦-7-12","噩梦7-12"]
[{"$nulls":4},"噩梦-7-13","噩梦7-13"]
[{"$nulls":4},"噩梦-7-14","噩梦7-14"]
[{"$nulls":4},"噩梦-7-15","噩梦7-15"]
[{"$nulls":4},"噩梦-7-16","噩梦7-16"]
[{"$nulls":4},"噩梦-7-17","噩梦7-17"]
[{"$nulls":4},"噩梦-7-18","噩梦7-18"]
[{"$nulls":4},"噩梦-7-19","噩梦7-19"]
[{"$nulls":4},"噩梦-7-20","噩梦7-20"]
[{"$nulls":4},"噩梦-7-21","噩梦7-21"]
[{"$nulls":4},"噩梦-7-22","噩梦7-22"]
[{"$nulls":4},"噩梦-7-23","噩梦7-23"]
[{"$nulls":4},"噩梦-7-24","噩梦7-24"]
[{"$nulls":4},"噩梦-7-25","噩梦7-25"]
[{"$nulls":4},"噩梦-7-26","噩梦7-26"]
[{"$nulls":4},"噩梦-7-27","噩梦7-27"]
[{"$nulls":4},"噩梦-7-28","噩梦7-28"]
[{"$nulls":4},"噩梦-7-29","噩梦7-29"]
[{"$nulls":4},"噩梦-7-30","噩梦7-30"]
[{"$nulls":4},"噩梦-7-31","噩梦7-31"]
[{"$nulls":4},"噩梦-7-32","噩梦7-32"]
[{"$nulls":4},"噩梦-7-33","噩梦7-33"]
[{"$nulls":4},"噩梦-7-34","噩梦7-34"]
[{"$nulls":4},"噩梦-7-35","噩梦7-35"]
[{"$nulls":4},"噩梦-7-36","噩梦7-36"]
[{"$nulls":4},"噩梦-7-37","噩梦7-37"]
[{"$nulls":4},"噩梦-7-38","噩梦7-38"]
[{"$nulls":4},"噩梦-7-39","噩梦7-39"]
[{"$nulls":4},"噩梦-7-40","噩梦7-40"]
[{"$nulls":4},"噩梦-8-1","噩梦8-1"]
[{"$nulls":4},"噩梦-8-2","噩梦8-2"]
[{"$nulls":4},"噩梦-8-3","噩梦8-3"]
[{"$nulls":4},"噩梦-8-4","噩梦8-4"]
[{"$nulls":4},"噩梦-8-5","噩梦8-5"]
[{"$nulls":4},"噩梦-8-6","噩梦8-6"]
[{"$nulls":4},"噩梦-8-7","噩梦8-7"]
[{"$nulls":4},"噩梦-8-8","噩梦8-8"]
[{"$nulls":4},"噩梦-8-9","噩梦8-9"]
[{"$nulls":4},"噩梦-8-10","噩梦8-10"]
[{"$nulls":4},"噩梦-8-11","噩梦8-11"]
[{"$nulls":4},"噩梦-8-12",{"$f":"REPLACE(E2249,3,1,\"\")","v":"噩梦8-12"}]
[{"$nulls":4},"噩梦-8-13","噩梦8-13"]
[{"$nulls":4},"噩梦-8-14","噩梦8-14"]
[{"$nulls":4},"噩梦-8-15","噩梦8-15"]
[{"$nulls":4},"噩梦-8-16","噩梦8-16"]
[{"$nulls":4},"噩梦-8-17","噩梦8-17"]
[{"$nulls":4},"噩梦-8-18","噩梦8-18"]
[{"$nulls":4},"噩梦-8-19","噩梦8-19"]
[{"$nulls":4},"噩梦-8-20","噩梦8-20"]
[{"$nulls":4},"噩梦-8-21","噩梦8-21"]
[{"$nulls":4},"噩梦-8-22","噩梦8-22"]
[{"$nulls":4},"噩梦-8-23","噩梦8-23"]
[{"$nulls":4},"噩梦-8-24","噩梦8-24"]
[{"$nulls":4},"噩梦-8-25","噩梦8-25"]
[{"$nulls":4},"噩梦-8-26","噩梦8-26"]
[{"$nulls":4},"噩梦-8-27","噩梦8-27"]
[{"$nulls":4},"噩梦-8-28","噩梦8-28"]
[{"$nulls":4},"噩梦-8-29","噩梦8-29"]
[{"$nulls":4},"噩梦-8-30","噩梦8-30"]
[{"$nulls":4},"噩梦-8-31","噩梦8-31"]
[{"$nulls":4},"噩梦-8-32","噩梦8-32"]
[{"$nulls":4},"噩梦-8-33","噩梦8-33"]
[{"$nulls":4},"噩梦-8-34","噩梦8-34"]
[{"$nulls":4},"噩梦-8-35","噩梦8-35"]
[{"$nulls":4},"噩梦-8-36","噩梦8-36"]
[{"$nulls":4},"噩梦-8-37","噩梦8-37"]
[{"$nulls":4},"噩梦-8-38","噩梦8-38"]
[{"$nulls":4},"噩梦-8-39","噩梦8-39"]
[{"$nulls":4},"噩梦-8-40","噩梦8-40"]
[{"$nulls":4},"噩梦-9-1","噩梦9-1"]
[{"$nulls":4},"噩梦-9-2","噩梦9-2"]
[{"$nulls":4},"噩梦-9-3","噩梦9-3"]
[{"$nulls":4},"噩梦-9-4","噩梦9-4"]
[{"$nulls":4},"噩梦-9-5","噩梦9-5"]
[{"$nulls":4},"噩梦-9-6","噩梦9-6"]
[{"$nulls":4},"噩梦-9-7","噩梦9-7"]
[{"$nulls":4},"噩梦-9-8","噩梦9-8"]
[{"$nulls":4},"噩梦-9-9","噩梦9-9"]
[{"$nulls":4},"噩梦-9-10","噩梦9-10"]
[{"$nulls":4},"噩梦-9-11","噩梦9-11"]
[{"$nulls":4},"噩梦-9-12","噩梦9-12"]
[{"$nulls":4},"噩梦-9-13","噩梦9-13"]
[{"$nulls":4},"噩梦-9-14","噩梦9-14"]
[{"$nulls":4},"噩梦-9-15","噩梦9-15"]
[{"$nulls":4},"噩梦-9-16","噩梦9-16"]
[{"$nulls":4},"噩梦-9-17","噩梦9-17"]
[{"$nulls":4},"噩梦-9-18","噩梦9-18"]
[{"$nulls":4},"噩梦-9-19","噩梦9-19"]
[{"$nulls":4},"噩梦-9-20","噩梦9-20"]
[{"$nulls":4},"噩梦-9-21","噩梦9-21"]
[{"$nulls":4},"噩梦-9-22","噩梦9-22"]
[{"$nulls":4},"噩梦-9-23","噩梦9-23"]
[{"$nulls":4},"噩梦-9-24","噩梦9-24"]
[{"$nulls":4},"噩梦-9-25","噩梦9-25"]
[{"$nulls":4},"噩梦-9-26","噩梦9-26"]
[{"$nulls":4},"噩梦-9-27","噩梦9-27"]
[{"$nulls":4},"噩梦-9-28","噩梦9-28"]
[{"$nulls":4},"噩梦-9-29","噩梦9-29"]
[{"$nulls":4},"噩梦-9-30","噩梦9-30"]
[{"$nulls":4},"噩梦-9-31","噩梦9-31"]
[{"$nulls":4},"噩梦-9-32","噩梦9-32"]
[{"$nulls":4},"噩梦-9-33","噩梦9-33"]
[{"$nulls":4},"噩梦-9-34","噩梦9-34"]
[{"$nulls":4},"噩梦-9-35","噩梦9-35"]
[{"$nulls":4},"噩梦-9-36",{"$f":"REPLACE(E2313,3,1,\"\")","v":"噩梦9-36"}]
[{"$nulls":4},"噩梦-9-37","噩梦9-37"]
[{"$nulls":4},"噩梦-9-38","噩梦9-38"]
[{"$nulls":4},"噩梦-9-39","噩梦9-39"]
[{"$nulls":4},"噩梦-9-40","噩梦9-40"]
[{"$nulls":4},"噩梦-10-1","噩梦10-1"]
[{"$nulls":4},"噩梦-10-2","噩梦10-2"]
[{"$nulls":4},"噩梦-10-3","噩梦10-3"]
[{"$nulls":4},"噩梦-10-4","噩梦10-4"]
[{"$nulls":4},"噩梦-10-5","噩梦10-5"]
[{"$nulls":4},"噩梦-10-6","噩梦10-6"]
[{"$nulls":4},"噩梦-10-7","噩梦10-7"]
[{"$nulls":4},"噩梦-10-8","噩梦10-8"]
[{"$nulls":4},"噩梦-10-9","噩梦10-9"]
[{"$nulls":4},"噩梦-10-10","噩梦10-10"]
[{"$nulls":4},"噩梦-10-11","噩梦10-11"]
[{"$nulls":4},"噩梦-10-12","噩梦10-12"]
[{"$nulls":4},"噩梦-10-13","噩梦10-13"]
[{"$nulls":4},"噩梦-10-14","噩梦10-14"]
[{"$nulls":4},"噩梦-10-15","噩梦10-15"]
[{"$nulls":4},"噩梦-10-16","噩梦10-16"]
[{"$nulls":4},"噩梦-10-17","噩梦10-17"]
[{"$nulls":4},"噩梦-10-18","噩梦10-18"]
[{"$nulls":4},"噩梦-10-19","噩梦10-19"]
[{"$nulls":4},"噩梦-10-20","噩梦10-20"]
[{"$nulls":4},"噩梦-10-21","噩梦10-21"]
[{"$nulls":4},"噩梦-10-22","噩梦10-22"]
[{"$nulls":4},"噩梦-10-23","噩梦10-23"]
[{"$nulls":4},"噩梦-10-24","噩梦10-24"]
[{"$nulls":4},"噩梦-10-25","噩梦10-25"]
[{"$nulls":4},"噩梦-10-26","噩梦10-26"]
[{"$nulls":4},"噩梦-10-27","噩梦10-27"]
[{"$nulls":4},"噩梦-10-28","噩梦10-28"]
[{"$nulls":4},"噩梦-10-29","噩梦10-29"]
[{"$nulls":4},"噩梦-10-30","噩梦10-30"]
[{"$nulls":4},"噩梦-10-31","噩梦10-31"]
[{"$nulls":4},"噩梦-10-32","噩梦10-32"]
[{"$nulls":4},"噩梦-10-33","噩梦10-33"]
[{"$nulls":4},"噩梦-10-34","噩梦10-34"]
[{"$nulls":4},"噩梦-10-35","噩梦10-35"]
[{"$nulls":4},"噩梦-10-36","噩梦10-36"]
[{"$nulls":4},"噩梦-10-37","噩梦10-37"]
[{"$nulls":4},"噩梦-10-38","噩梦10-38"]
[{"$nulls":4},"噩梦-10-39","噩梦10-39"]
[{"$nulls":4},"噩梦-10-40","噩梦10-40"]
[{"$nulls":4},"噩梦-11-1","噩梦11-1"]
[{"$nulls":4},"噩梦-11-2","噩梦11-2"]
[{"$nulls":4},"噩梦-11-3","噩梦11-3"]
[{"$nulls":4},"噩梦-11-4","噩梦11-4"]
[{"$nulls":4},"噩梦-11-5","噩梦11-5"]
[{"$nulls":4},"噩梦-11-6","噩梦11-6"]
[{"$nulls":4},"噩梦-11-7","噩梦11-7"]
[{"$nulls":4},"噩梦-11-8","噩梦11-8"]
[{"$nulls":4},"噩梦-11-9","噩梦11-9"]
[{"$nulls":4},"噩梦-11-10","噩梦11-10"]
[{"$nulls":4},"噩梦-11-11","噩梦11-11"]
[{"$nulls":4},"噩梦-11-12","噩梦11-12"]
[{"$nulls":4},"噩梦-11-13","噩梦11-13"]
[{"$nulls":4},"噩梦-11-14","噩梦11-14"]
[{"$nulls":4},"噩梦-11-15","噩梦11-15"]
[{"$nulls":4},"噩梦-11-16","噩梦11-16"]
[{"$nulls":4},"噩梦-11-17","噩梦11-17"]
[{"$nulls":4},"噩梦-11-18","噩梦11-18"]
[{"$nulls":4},"噩梦-11-19","噩梦11-19"]
[{"$nulls":4},"噩梦-11-20",{"$f":"REPLACE(E2377,3,1,\"\")","v":"噩梦11-20"}]
[{"$nulls":4},"噩梦-11-21","噩梦11-21"]
[{"$nulls":4},"噩梦-11-22","噩梦11-22"]
[{"$nulls":4},"噩梦-11-23","噩梦11-23"]
[{"$nulls":4},"噩梦-11-24","噩梦11-24"]
[{"$nulls":4},"噩梦-11-25","噩梦11-25"]
[{"$nulls":4},"噩梦-11-26","噩梦11-26"]
[{"$nulls":4},"噩梦-11-27","噩梦11-27"]
[{"$nulls":4},"噩梦-11-28","噩梦11-28"]
[{"$nulls":4},"噩梦-11-29","噩梦11-29"]
[{"$nulls":4},"噩梦-11-30","噩梦11-30"]
[{"$nulls":4},"噩梦-11-31","噩梦11-31"]
[{"$nulls":4},"噩梦-11-32","噩梦11-32"]
[{"$nulls":4},"噩梦-11-33","噩梦11-33"]
[{"$nulls":4},"噩梦-11-34","噩梦11-34"]
[{"$nulls":4},"噩梦-11-35","噩梦11-35"]
[{"$nulls":4},"噩梦-11-36","噩梦11-36"]
[{"$nulls":4},"噩梦-11-37","噩梦11-37"]
[{"$nulls":4},"噩梦-11-38","噩梦11-38"]
[{"$nulls":4},"噩梦-11-39","噩梦11-39"]
[{"$nulls":4},"噩梦-11-40","噩梦11-40"]
[{"$nulls":4},"噩梦-12-1","噩梦12-1"]
[{"$nulls":4},"噩梦-12-2","噩梦12-2"]
[{"$nulls":4},"噩梦-12-3","噩梦12-3"]
[{"$nulls":4},"噩梦-12-4","噩梦12-4"]
[{"$nulls":4},"噩梦-12-5","噩梦12-5"]
[{"$nulls":4},"噩梦-12-6","噩梦12-6"]
[{"$nulls":4},"噩梦-12-7","噩梦12-7"]
[{"$nulls":4},"噩梦-12-8","噩梦12-8"]
[{"$nulls":4},"噩梦-12-9","噩梦12-9"]
[{"$nulls":4},"噩梦-12-10","噩梦12-10"]
[{"$nulls":4},"噩梦-12-11","噩梦12-11"]
[{"$nulls":4},"噩梦-12-12","噩梦12-12"]
[{"$nulls":4},"噩梦-12-13","噩梦12-13"]
[{"$nulls":4},"噩梦-12-14","噩梦12-14"]
[{"$nulls":4},"噩梦-12-15","噩梦12-15"]
[{"$nulls":4},"噩梦-12-16","噩梦12-16"]
[{"$nulls":4},"噩梦-12-17","噩梦12-17"]
[{"$nulls":4},"噩梦-12-18","噩梦12-18"]
[{"$nulls":4},"噩梦-12-19","噩梦12-19"]
[{"$nulls":4},"噩梦-12-20","噩梦12-20"]
[{"$nulls":4},"噩梦-12-21","噩梦12-21"]
[{"$nulls":4},"噩梦-12-22","噩梦12-22"]
[{"$nulls":4},"噩梦-12-23","噩梦12-23"]
[{"$nulls":4},"噩梦-12-24","噩梦12-24"]
[{"$nulls":4},"噩梦-12-25","噩梦12-25"]
[{"$nulls":4},"噩梦-12-26","噩梦12-26"]
[{"$nulls":4},"噩梦-12-27","噩梦12-27"]
[{"$nulls":4},"噩梦-12-28","噩梦12-28"]
[{"$nulls":4},"噩梦-12-29","噩梦12-29"]
[{"$nulls":4},"噩梦-12-30","噩梦12-30"]
[{"$nulls":4},"噩梦-12-31","噩梦12-31"]
[{"$nulls":4},"噩梦-12-32","噩梦12-32"]
[{"$nulls":4},"噩梦-12-33","噩梦12-33"]
[{"$nulls":4},"噩梦-12-34","噩梦12-34"]
[{"$nulls":4},"噩梦-12-35","噩梦12-35"]
[{"$nulls":4},"噩梦-12-36","噩梦12-36"]
[{"$nulls":4},"噩梦-12-37","噩梦12-37"]
[{"$nulls":4},"噩梦-12-38","噩梦12-38"]
[{"$nulls":4},"噩梦-12-39","噩梦12-39"]
[{"$nulls":4},"噩梦-12-40","噩梦12-40"]
[{"$nulls":4},"噩梦-13-1","噩梦13-1"]
[{"$nulls":4},"噩梦-13-2","噩梦13-2"]
[{"$nulls":4},"噩梦-13-3","噩梦13-3"]
[{"$nulls":4},"噩梦-13-4",{"$f":"REPLACE(E2441,3,1,\"\")","v":"噩梦13-4"}]
[{"$nulls":4},"噩梦-13-5","噩梦13-5"]
[{"$nulls":4},"噩梦-13-6","噩梦13-6"]
[{"$nulls":4},"噩梦-13-7","噩梦13-7"]
[{"$nulls":4},"噩梦-13-8","噩梦13-8"]
[{"$nulls":4},"噩梦-13-9","噩梦13-9"]
[{"$nulls":4},"噩梦-13-10","噩梦13-10"]
[{"$nulls":4},"噩梦-13-11","噩梦13-11"]
[{"$nulls":4},"噩梦-13-12","噩梦13-12"]
[{"$nulls":4},"噩梦-13-13","噩梦13-13"]
[{"$nulls":4},"噩梦-13-14","噩梦13-14"]
[{"$nulls":4},"噩梦-13-15","噩梦13-15"]
[{"$nulls":4},"噩梦-13-16","噩梦13-16"]
[{"$nulls":4},"噩梦-13-17","噩梦13-17"]
[{"$nulls":4},"噩梦-13-18","噩梦13-18"]
[{"$nulls":4},"噩梦-13-19","噩梦13-19"]
[{"$nulls":4},"噩梦-13-20","噩梦13-20"]
[{"$nulls":4},"噩梦-13-21","噩梦13-21"]
[{"$nulls":4},"噩梦-13-22","噩梦13-22"]
[{"$nulls":4},"噩梦-13-23","噩梦13-23"]
[{"$nulls":4},"噩梦-13-24","噩梦13-24"]
[{"$nulls":4},"噩梦-13-25","噩梦13-25"]
[{"$nulls":4},"噩梦-13-26","噩梦13-26"]
[{"$nulls":4},"噩梦-13-27","噩梦13-27"]
[{"$nulls":4},"噩梦-13-28","噩梦13-28"]
[{"$nulls":4},"噩梦-13-29","噩梦13-29"]
[{"$nulls":4},"噩梦-13-30","噩梦13-30"]
[{"$nulls":4},"噩梦-13-31","噩梦13-31"]
[{"$nulls":4},"噩梦-13-32","噩梦13-32"]
[{"$nulls":4},"噩梦-13-33","噩梦13-33"]
[{"$nulls":4},"噩梦-13-34","噩梦13-34"]
[{"$nulls":4},"噩梦-13-35","噩梦13-35"]
[{"$nulls":4},"噩梦-13-36","噩梦13-36"]
[{"$nulls":4},"噩梦-13-37","噩梦13-37"]
[{"$nulls":4},"噩梦-13-38","噩梦13-38"]
[{"$nulls":4},"噩梦-13-39","噩梦13-39"]
[{"$nulls":4},"噩梦-13-40","噩梦13-40"]
[{"$nulls":4},"噩梦-14-1","噩梦14-1"]
[{"$nulls":4},"噩梦-14-2","噩梦14-2"]
[{"$nulls":4},"噩梦-14-3","噩梦14-3"]
[{"$nulls":4},"噩梦-14-4","噩梦14-4"]
[{"$nulls":4},"噩梦-14-5","噩梦14-5"]
[{"$nulls":4},"噩梦-14-6","噩梦14-6"]
[{"$nulls":4},"噩梦-14-7","噩梦14-7"]
[{"$nulls":4},"噩梦-14-8","噩梦14-8"]
[{"$nulls":4},"噩梦-14-9","噩梦14-9"]
[{"$nulls":4},"噩梦-14-10","噩梦14-10"]
[{"$nulls":4},"噩梦-14-11","噩梦14-11"]
[{"$nulls":4},"噩梦-14-12","噩梦14-12"]
[{"$nulls":4},"噩梦-14-13","噩梦14-13"]
[{"$nulls":4},"噩梦-14-14","噩梦14-14"]
[{"$nulls":4},"噩梦-14-15","噩梦14-15"]
[{"$nulls":4},"噩梦-14-16","噩梦14-16"]
[{"$nulls":4},"噩梦-14-17","噩梦14-17"]
[{"$nulls":4},"噩梦-14-18","噩梦14-18"]
[{"$nulls":4},"噩梦-14-19","噩梦14-19"]
[{"$nulls":4},"噩梦-14-20","噩梦14-20"]
[{"$nulls":4},"噩梦-14-21","噩梦14-21"]
[{"$nulls":4},"噩梦-14-22","噩梦14-22"]
[{"$nulls":4},"噩梦-14-23","噩梦14-23"]
[{"$nulls":4},"噩梦-14-24","噩梦14-24"]
[{"$nulls":4},"噩梦-14-25","噩梦14-25"]
[{"$nulls":4},"噩梦-14-26","噩梦14-26"]
[{"$nulls":4},"噩梦-14-27","噩梦14-27"]
[{"$nulls":4},"噩梦-14-28",{"$f":"REPLACE(E2505,3,1,\"\")","v":"噩梦14-28"}]
[{"$nulls":4},"噩梦-14-29","噩梦14-29"]
[{"$nulls":4},"噩梦-14-30","噩梦14-30"]
[{"$nulls":4},"噩梦-14-31","噩梦14-31"]
[{"$nulls":4},"噩梦-14-32","噩梦14-32"]
[{"$nulls":4},"噩梦-14-33","噩梦14-33"]
[{"$nulls":4},"噩梦-14-34","噩梦14-34"]
[{"$nulls":4},"噩梦-14-35","噩梦14-35"]
[{"$nulls":4},"噩梦-14-36","噩梦14-36"]
[{"$nulls":4},"噩梦-14-37","噩梦14-37"]
[{"$nulls":4},"噩梦-14-38","噩梦14-38"]
[{"$nulls":4},"噩梦-14-39","噩梦14-39"]
[{"$nulls":4},"噩梦-14-40","噩梦14-40"]
[{"$nulls":4},"噩梦-15-1","噩梦15-1"]
[{"$nulls":4},"噩梦-15-2","噩梦15-2"]
[{"$nulls":4},"噩梦-15-3","噩梦15-3"]
[{"$nulls":4},"噩梦-15-4","噩梦15-4"]
[{"$nulls":4},"噩梦-15-5","噩梦15-5"]
[{"$nulls":4},"噩梦-15-6","噩梦15-6"]
[{"$nulls":4},"噩梦-15-7","噩梦15-7"]
[{"$nulls":4},"噩梦-15-8","噩梦15-8"]
[{"$nulls":4},"噩梦-15-9","噩梦15-9"]
[{"$nulls":4},"噩梦-15-10","噩梦15-10"]
[{"$nulls":4},"噩梦-15-11","噩梦15-11"]
[{"$nulls":4},"噩梦-15-12","噩梦15-12"]
[{"$nulls":4},"噩梦-15-13","噩梦15-13"]
[{"$nulls":4},"噩梦-15-14","噩梦15-14"]
[{"$nulls":4},"噩梦-15-15","噩梦15-15"]
[{"$nulls":4},"噩梦-15-16","噩梦15-16"]
[{"$nulls":4},"噩梦-15-17","噩梦15-17"]
[{"$nulls":4},"噩梦-15-18","噩梦15-18"]
[{"$nulls":4},"噩梦-15-19","噩梦15-19"]
[{"$nulls":4},"噩梦-15-20","噩梦15-20"]
[{"$nulls":4},"噩梦-15-21","噩梦15-21"]
[{"$nulls":4},"噩梦-15-22","噩梦15-22"]
[{"$nulls":4},"噩梦-15-23","噩梦15-23"]
[{"$nulls":4},"噩梦-15-24","噩梦15-24"]
[{"$nulls":4},"噩梦-15-25","噩梦15-25"]
[{"$nulls":4},"噩梦-15-26","噩梦15-26"]
[{"$nulls":4},"噩梦-15-27","噩梦15-27"]
[{"$nulls":4},"噩梦-15-28","噩梦15-28"]
[{"$nulls":4},"噩梦-15-29","噩梦15-29"]
[{"$nulls":4},"噩梦-15-30","噩梦15-30"]
[{"$nulls":4},"噩梦-15-31","噩梦15-31"]
[{"$nulls":4},"噩梦-15-32","噩梦15-32"]
[{"$nulls":4},"噩梦-15-33","噩梦15-33"]
[{"$nulls":4},"噩梦-15-34","噩梦15-34"]
[{"$nulls":4},"噩梦-15-35","噩梦15-35"]
[{"$nulls":4},"噩梦-15-36","噩梦15-36"]
[{"$nulls":4},"噩梦-15-37","噩梦15-37"]
[{"$nulls":4},"噩梦-15-38","噩梦15-38"]
[{"$nulls":4},"噩梦-15-39","噩梦15-39"]
[{"$nulls":4},"噩梦-15-40","噩梦15-40"]

{"sheet":"Sheet2","index":2,"n_rows":2550,"n_cols":16,"rows_kept":2550}
[{"$nulls":6},3000001,3005001,3010001,{"$f":"VLOOKUP(G1,[1]RewardItemConfig!$B:$F,5,FALSE)","v":50},{"$f":"VLOOKUP(H1,[1]RewardItemConfig!$B:$F,5,FALSE)","v":20},{"$f":"VLOOKUP(I1,[1]RewardItemConfig!$B:$F,5,FALSE)","v":1},14,3,17,{"$f":"M1&\"#\"&J1&\"|\"&N1&\"#\"&K1&\"|\"&O1&\"#\"&L1","v":"14#50|3#20|17#1"}]
[{"$nulls":6},3000002,3005002,3010002,{"$f":"VLOOKUP(G2,[1]RewardItemConfig!$B:$F,5,FALSE)","v":51},{"$f":"VLOOKUP(H2,[1]RewardItemConfig!$B:$F,5,FALSE)","v":20},{"$f":"VLOOKUP(I2,[1]RewardItemConfig!$B:$F,5,FALSE)","v":1},{"$f":"M1","v":14},{"$f":"N1","v":3},{"$f":"O1","v":17},{"$f":"M2&\"#\"&J2&\"|\"&N2&\"#\"&K2&\"|\"&O2&\"#\"&L2","v":"14#51|3#20|17#1"}]
[{"$nulls":6},3000003,3005003,3010003,{"$f":"VLOOKUP(G3,[1]RewardItemConfig!$B:$F,5,FALSE)","v":52},{"$f":"VLOOKUP(H3,[1]RewardItemConfig!$B:$F,5,FALSE)","v":20},{"$f":"VLOOKUP(I3,[1]RewardItemConfig!$B:$F,5,FALSE)","v":1},{"$f":"M2","v":14},{"$f":"N2","v":3},{"$f":"O2","v":17},"14#52|3#20|17#1"]
[{"$nulls":6},3000004,3005004,3010004,{"$f":"VLOOKUP(G4,[1]RewardItemConfig!$B:$F,5,FALSE)","v":53},{"$f":"VLOOKUP(H4,[1]RewardItemConfig!$B:$F,5,FALSE)","v":20},{"$f":"VLOOKUP(I4,[1]RewardItemConfig!$B:$F,5,FALSE)","v":1},14,3,17,"14#53|3#20|17#1"]
[{"$nulls":6},3000005,3005005,3010005,{"$f":"VLOOKUP(G5,[1]RewardItemConfig!$B:$F,5,FALSE)","v":54},{"$f":"VLOOKUP(H5,[1]RewardItemConfig!$B:$F,5,FALSE)","v":20},{"$f":"VLOOKUP(I5,[1]RewardItemConfig!$B:$F,5,FALSE)","v":2},14,3,17,"14#54|3#20|17#2"]
[{"$nulls":6},3000006,3005006,3010006,{"$f":"VLOOKUP(G6,[1]RewardItemConfig!$B:$F,5,FALSE)","v":55},{"$f":"VLOOKUP(H6,[1]RewardItemConfig!$B:$F,5,FALSE)","v":20},{"$f":"VLOOKUP(I6,[1]RewardItemConfig!$B:$F,5,FALSE)","v":2},14,3,17,"14#55|3#20|17#2"]
[{"$nulls":6},3000007,3005007,3010007,{"$f":"VLOOKUP(G7,[1]RewardItemConfig!$B:$F,5,FALSE)","v":56},{"$f":"VLOOKUP(H7,[1]RewardItemConfig!$B:$F,5,FALSE)","v":20},{"$f":"VLOOKUP(I7,[1]RewardItemConfig!$B:$F,5,FALSE)","v":2},14,3,17,"14#56|3#20|17#2"]
[{"$nulls":6},3000008,3005008,3010008,{"$f":"VLOOKUP(G8,[1]RewardItemConfig!$B:$F,5,FALSE)","v":57},{"$f":"VLOOKUP(H8,[1]RewardItemConfig!$B:$F,5,FALSE)","v":20},{"$f":"VLOOKUP(I8,[1]RewardItemConfig!$B:$F,5,FALSE)","v":2},14,3,17,"14#57|3#20|17#2"]
[{"$nulls":6},3000009,3005009,3010009,{"$f":"VLOOKUP(G9,[1]RewardItemConfig!$B:$F,5,FALSE)","v":58},{"$f":"VLOOKUP(H9,[1]RewardItemConfig!$B:$F,5,FALSE)","v":20},{"$f":"VLOOKUP(I9,[1]RewardItemConfig!$B:$F,5,FALSE)","v":3},14,3,17,"14#58|3#20|17#3"]
[{"$nulls":6},3000010,3005010,3010010,{"$f":"VLOOKUP(G10,[1]RewardItemConfig!$B:$F,5,FALSE)","v":59},{"$f":"VLOOKUP(H10,[1]RewardItemConfig!$B:$F,5,FALSE)","v":21},{"$f":"VLOOKUP(I10,[1]RewardItemConfig!$B:$F,5,FALSE)","v":3},14,3,17,"14#59|3#21|17#3"]
[{"$nulls":6},3000011,3005011,3010011,{"$f":"VLOOKUP(G11,[1]RewardItemConfig!$B:$F,5,FALSE)","v":60},{"$f":"VLOOKUP(H11,[1]RewardItemConfig!$B:$F,5,FALSE)","v":21},{"$f":"VLOOKUP(I11,[1]RewardItemConfig!$B:$F,5,FALSE)","v":3},14,3,17,"14#60|3#21|17#3"]
[{"$nulls":6},3000012,3005012,3010012,{"$f":"VLOOKUP(G12,[1]RewardItemConfig!$B:$F,5,FALSE)","v":61},{"$f":"VLOOKUP(H12,[1]RewardItemConfig!$B:$F,5,FALSE)","v":21},{"$f":"VLOOKUP(I12,[1]RewardItemConfig!$B:$F,5,FALSE)","v":3},14,3,17,"14#61|3#21|17#3"]
[{"$nulls":6},3000013,3005013,3010013,{"$f":"VLOOKUP(G13,[1]RewardItemConfig!$B:$F,5,FALSE)","v":62},{"$f":"VLOOKUP(H13,[1]RewardItemConfig!$B:$F,5,FALSE)","v":21},{"$f":"VLOOKUP(I13,[1]RewardItemConfig!$B:$F,5,FALSE)","v":4},14,3,17,"14#62|3#21|17#4"]
[{"$nulls":6},3000014,3005014,3010014,{"$f":"VLOOKUP(G14,[1]RewardItemConfig!$B:$F,5,FALSE)","v":63},{"$f":"VLOOKUP(H14,[1]RewardItemConfig!$B:$F,5,FALSE)","v":21},{"$f":"VLOOKUP(I14,[1]RewardItemConfig!$B:$F,5,FALSE)","v":4},14,3,17,"14#63|3#21|17#4"]
[{"$nulls":6},3000015,3005015,3010015,{"$f":"VLOOKUP(G15,[1]RewardItemConfig!$B:$F,5,FALSE)","v":64},{"$f":"VLOOKUP(H15,[1]RewardItemConfig!$B:$F,5,FALSE)","v":21},{"$f":"VLOOKUP(I15,[1]RewardItemConfig!$B:$F,5,FALSE)","v":4},14,3,17,"14#64|3#21|17#4"]
[{"$nulls":6},3000016,3005016,3010016,{"$f":"VLOOKUP(G16,[1]RewardItemConfig!$B:$F,5,FALSE)","v":65},{"$f":"VLOOKUP(H16,[1]RewardItemConfig!$B:$F,5,FALSE)","v":21},{"$f":"VLOOKUP(I16,[1]RewardItemConfig!$B:$F,5,FALSE)","v":4},14,3,17,"14#65|3#21|17#4"]
[{"$nulls":6},3000017,3005017,3010017,{"$f":"VLOOKUP(G17,[1]RewardItemConfig!$B:$F,5,FALSE)","v":66},{"$f":"VLOOKUP(H17,[1]RewardItemConfig!$B:$F,5,FALSE)","v":21},{"$f":"VLOOKUP(I17,[1]RewardItemConfig!$B:$F,5,FALSE)","v":5},14,3,17,"14#66|3#21|17#5"]
[{"$nulls":6},3000018,3005018,3010018,{"$f":"VLOOKUP(G18,[1]RewardItemConfig!$B:$F,5,FALSE)","v":67},{"$f":"VLOOKUP(H18,[1]RewardItemConfig!$B:$F,5,FALSE)","v":21},{"$f":"VLOOKUP(I18,[1]RewardItemConfig!$B:$F,5,FALSE)","v":5},14,3,17,"14#67|3#21|17#5"]
[{"$nulls":6},3000019,3005019,3010019,{"$f":"VLOOKUP(G19,[1]RewardItemConfig!$B:$F,5,FALSE)","v":68},{"$f":"VLOOKUP(H19,[1]RewardItemConfig!$B:$F,5,FALSE)","v":21},{"$f":"VLOOKUP(I19,[1]RewardItemConfig!$B:$F,5,FALSE)","v":5},14,3,17,"14#68|3#21|17#5"]
[{"$nulls":6},3000020,3005020,3010020,{"$f":"VLOOKUP(G20,[1]RewardItemConfig!$B:$F,5,FALSE)","v":69},{"$f":"VLOOKUP(H20,[1]RewardItemConfig!$B:$F,5,FALSE)","v":22},{"$f":"VLOOKUP(I20,[1]RewardItemConfig!$B:$F,5,FALSE)","v":5},14,3,17,"14#69|3#22|17#5"]
[{"$nulls":6},3000021,3005021,3010021,{"$f":"VLOOKUP(G21,[1]RewardItemConfig!$B:$F,5,FALSE)","v":70},{"$f":"VLOOKUP(H21,[1]RewardItemConfig!$B:$F,5,FALSE)","v":22},{"$f":"VLOOKUP(I21,[1]RewardItemConfig!$B:$F,5,FALSE)","v":6},14,3,17,"14#70|3#22|17#6"]
[{"$nulls":6},3000022,3005022,3010022,{"$f":"VLOOKUP(G22,[1]RewardItemConfig!$B:$F,5,FALSE)","v":71},{"$f":"VLOOKUP(H22,[1]RewardItemConfig!$B:$F,5,FALSE)","v":22},{"$f":"VLOOKUP(I22,[1]RewardItemConfig!$B:$F,5,FALSE)","v":6},14,3,17,"14#71|3#22|17#6"]
[{"$nulls":6},3000023,3005023,3010023,{"$f":"VLOOKUP(G23,[1]RewardItemConfig!$B:$F,5,FALSE)","v":72},{"$f":"VLOOKUP(H23,[1]RewardItemConfig!$B:$F,5,FALSE)","v":22},{"$f":"VLOOKUP(I23,[1]RewardItemConfig!$B:$F,5,FALSE)","v":6},14,3,17,"14#72|3#22|17#6"]
[{"$nulls":6},3000024,3005024,3010024,{"$f":"VLOOKUP(G24,[1]RewardItemConfig!$B:$F,5,FALSE)","v":73},{"$f":"VLOOKUP(H24,[1]RewardItemConfig!$B:$F,5,FALSE)","v":22},{"$f":"VLOOKUP(I24,[1]RewardItemConfig!$B:$F,5,FALSE)","v":6},14,3,17,"14#73|3#22|17#6"]
[{"$nulls":6},3000025,3005025,3010025,{"$f":"VLOOKUP(G25,[1]RewardItemConfig!$B:$F,5,FALSE)","v":74},{"$f":"VLOOKUP(H25,[1]RewardItemConfig!$B:$F,5,FALSE)","v":22},{"$f":"VLOOKUP(I25,[1]RewardItemConfig!$B:$F,5,FALSE)","v":7},14,3,17,"14#74|3#22|17#7"]
[{"$nulls":6},3000026,3005026,3010026,{"$f":"VLOOKUP(G26,[1]RewardItemConfig!$B:$F,5,FALSE)","v":75},{"$f":"VLOOKUP(H26,[1]RewardItemConfig!$B:$F,5,FALSE)","v":22},{"$f":"VLOOKUP(I26,[1]RewardItemConfig!$B:$F,5,FALSE)","v":7},14,3,17,"14#75|3#22|17#7"]
[{"$nulls":6},3000027,3005027,3010027,{"$f":"VLOOKUP(G27,[1]RewardItemConfig!$B:$F,5,FALSE)","v":76},{"$f":"VLOOKUP(H27,[1]RewardItemConfig!$B:$F,5,FALSE)","v":22},{"$f":"VLOOKUP(I27,[1]RewardItemConfig!$B:$F,5,FALSE)","v":7},14,3,17,"14#76|3#22|17#7"]
[{"$nulls":6},3000028,3005028,3010028,{"$f":"VLOOKUP(G28,[1]RewardItemConfig!$B:$F,5,FALSE)","v":77},{"$f":"VLOOKUP(H28,[1]RewardItemConfig!$B:$F,5,FALSE)","v":22},{"$f":"VLOOKUP(I28,[1]RewardItemConfig!$B:$F,5,FALSE)","v":7},14,3,17,"14#77|3#22|17#7"]
[{"$nulls":6},3000029,3005029,3010029,{"$f":"VLOOKUP(G29,[1]RewardItemConfig!$B:$F,5,FALSE)","v":78},{"$f":"VLOOKUP(H29,[1]RewardItemConfig!$B:$F,5,FALSE)","v":22},{"$f":"VLOOKUP(I29,[1]RewardItemConfig!$B:$F,5,FALSE)","v":7},14,3,17,"14#78|3#22|17#7"]
[{"$nulls":6},3000030,3005030,3010030,{"$f":"VLOOKUP(G30,[1]RewardItemConfig!$B:$F,5,FALSE)","v":79},{"$f":"VLOOKUP(H30,[1]RewardItemConfig!$B:$F,5,FALSE)","v":23},{"$f":"VLOOKUP(I30,[1]RewardItemConfig!$B:$F,5,FALSE)","v":8},14,3,17,"14#79|3#23|17#8"]
[{"$nulls":6},3000031,3005031,3010031,{"$f":"VLOOKUP(G31,[1]RewardItemConfig!$B:$F,5,FALSE)","v":80},{"$f":"VLOOKUP(H31,[1]RewardItemConfig!$B:$F,5,FALSE)","v":23},{"$f":"VLOOKUP(I31,[1]RewardItemConfig!$B:$F,5,FALSE)","v":8},14,3,17,"14#80|3#23|17#8"]
[{"$nulls":6},3000032,3005032,3010032,{"$f":"VLOOKUP(G32,[1]RewardItemConfig!$B:$F,5,FALSE)","v":81},{"$f":"VLOOKUP(H32,[1]RewardItemConfig!$B:$F,5,FALSE)","v":23},{"$f":"VLOOKUP(I32,[1]RewardItemConfig!$B:$F,5,FALSE)","v":8},14,3,17,"14#81|3#23|17#8"]
[{"$nulls":6},3000033,3005033,3010033,{"$f":"VLOOKUP(G33,[1]RewardItemConfig!$B:$F,5,FALSE)","v":82},{"$f":"VLOOKUP(H33,[1]RewardItemConfig!$B:$F,5,FALSE)","v":23},{"$f":"VLOOKUP(I33,[1]RewardItemConfig!$B:$F,5,FALSE)","v":8},14,3,17,"14#82|3#23|17#8"]
[{"$nulls":6},3000034,3005034,3010034,{"$f":"VLOOKUP(G34,[1]RewardItemConfig!$B:$F,5,FALSE)","v":83},{"$f":"VLOOKUP(H34,[1]RewardItemConfig!$B:$F,5,FALSE)","v":23},{"$f":"VLOOKUP(I34,[1]RewardItemConfig!$B:$F,5,FALSE)","v":8},14,3,17,"14#83|3#23|17#8"]
[{"$nulls":6},3000035,3005035,3010035,{"$f":"VLOOKUP(G35,[1]RewardItemConfig!$B:$F,5,FALSE)","v":84},{"$f":"VLOOKUP(H35,[1]RewardItemConfig!$B:$F,5,FALSE)","v":23},{"$f":"VLOOKUP(I35,[1]RewardItemConfig!$B:$F,5,FALSE)","v":8},14,3,17,"14#84|3#23|17#8"]
[{"$nulls":6},3000036,3005036,3010036,{"$f":"VLOOKUP(G36,[1]RewardItemConfig!$B:$F,5,FALSE)","v":85},{"$f":"VLOOKUP(H36,[1]RewardItemConfig!$B:$F,5,FALSE)","v":23},{"$f":"VLOOKUP(I36,[1]RewardItemConfig!$B:$F,5,FALSE)","v":8},14,3,17,"14#85|3#23|17#8"]
[{"$nulls":6},3000037,3005037,3010037,{"$f":"VLOOKUP(G37,[1]RewardItemConfig!$B:$F,5,FALSE)","v":86},{"$f":"VLOOKUP(H37,[1]RewardItemConfig!$B:$F,5,FALSE)","v":23},{"$f":"VLOOKUP(I37,[1]RewardItemConfig!$B:$F,5,FALSE)","v":8},14,3,17,"14#86|3#23|17#8"]
[{"$nulls":6},3000038,3005038,3010038,{"$f":"VLOOKUP(G38,[1]RewardItemConfig!$B:$F,5,FALSE)","v":87},{"$f":"VLOOKUP(H38,[1]RewardItemConfig!$B:$F,5,FALSE)","v":23},{"$f":"VLOOKUP(I38,[1]RewardItemConfig!$B:$F,5,FALSE)","v":8},14,3,17,"14#87|3#23|17#8"]
[{"$nulls":6},3000039,3005039,3010039,{"$f":"VLOOKUP(G39,[1]RewardItemConfig!$B:$F,5,FALSE)","v":88},{"$f":"VLOOKUP(H39,[1]RewardItemConfig!$B:$F,5,FALSE)","v":23},{"$f":"VLOOKUP(I39,[1]RewardItemConfig!$B:$F,5,FALSE)","v":8},14,3,17,"14#88|3#23|17#8"]
[{"$nulls":6},3000040,3005040,3010040,{"$f":"VLOOKUP(G40,[1]RewardItemConfig!$B:$F,5,FALSE)","v":89},{"$f":"VLOOKUP(H40,[1]RewardItemConfig!$B:$F,5,FALSE)","v":24},{"$f":"VLOOKUP(I40,[1]RewardItemConfig!$B:$F,5,FALSE)","v":9},14,3,17,"14#89|3#24|17#9"]
[{"$nulls":6},3000041,3005041,3010041,{"$f":"VLOOKUP(G41,[1]RewardItemConfig!$B:$F,5,FALSE)","v":90},{"$f":"VLOOKUP(H41,[1]RewardItemConfig!$B:$F,5,FALSE)","v":24},{"$f":"VLOOKUP(I41,[1]RewardItemConfig!$B:$F,5,FALSE)","v":9},14,3,17,"14#90|3#24|17#9"]
[{"$nulls":6},3000042,3005042,3010042,{"$f":"VLOOKUP(G42,[1]RewardItemConfig!$B:$F,5,FALSE)","v":91},{"$f":"VLOOKUP(H42,[1]RewardItemConfig!$B:$F,5,FALSE)","v":24},{"$f":"VLOOKUP(I42,[1]RewardItemConfig!$B:$F,5,FALSE)","v":9},14,3,17,"14#91|3#24|17#9"]
[{"$nulls":6},3000043,3005043,3010043,{"$f":"VLOOKUP(G43,[1]RewardItemConfig!$B:$F,5,FALSE)","v":92},{"$f":"VLOOKUP(H43,[1]RewardItemConfig!$B:$F,5,FALSE)","v":24},{"$f":"VLOOKUP(I43,[1]RewardItemConfig!$B:$F,5,FALSE)","v":9},14,3,17,"14#92|3#24|17#9"]
[{"$nulls":6},3000044,3005044,3010044,{"$f":"VLOOKUP(G44,[1]RewardItemConfig!$B:$F,5,FALSE)","v":93},{"$f":"VLOOKUP(H44,[1]RewardItemConfig!$B:$F,5,FALSE)","v":24},{"$f":"VLOOKUP(I44,[1]RewardItemConfig!$B:$F,5,FALSE)","v":9},14,3,17,"14#93|3#24|17#9"]
[{"$nulls":6},3000045,3005045,3010045,{"$f":"VLOOKUP(G45,[1]RewardItemConfig!$B:$F,5,FALSE)","v":94},{"$f":"VLOOKUP(H45,[1]RewardItemConfig!$B:$F,5,FALSE)","v":24},{"$f":"VLOOKUP(I45,[1]RewardItemConfig!$B:$F,5,FALSE)","v":9},14,3,17,"14#94|3#24|17#9"]
[{"$nulls":6},3000046,3005046,3010046,{"$f":"VLOOKUP(G46,[1]RewardItemConfig!$B:$F,5,FALSE)","v":95},{"$f":"VLOOKUP(H46,[1]RewardItemConfig!$B:$F,5,FALSE)","v":24},{"$f":"VLOOKUP(I46,[1]RewardItemConfig!$B:$F,5,FALSE)","v":9},14,3,17,"14#95|3#24|17#9"]
[{"$nulls":6},3000047,3005047,3010047,{"$f":"VLOOKUP(G47,[1]RewardItemConfig!$B:$F,5,FALSE)","v":96},{"$f":"VLOOKUP(H47,[1]RewardItemConfig!$B:$F,5,FALSE)","v":24},{"$f":"VLOOKUP(I47,[1]RewardItemConfig!$B:$F,5,FALSE)","v":9},14,3,17,"14#96|3#24|17#9"]
[{"$nulls":6},3000048,3005048,3010048,{"$f":"VLOOKUP(G48,[1]RewardItemConfig!$B:$F,5,FALSE)","v":97},{"$f":"VLOOKUP(H48,[1]RewardItemConfig!$B:$F,5,FALSE)","v":24},{"$f":"VLOOKUP(I48,[1]RewardItemConfig!$B:$F,5,FALSE)","v":9},14,3,17,"14#97|3#24|17#9"]
[{"$nulls":6},3000049,3005049,3010049,{"$f":"VLOOKUP(G49,[1]RewardItemConfig!$B:$F,5,FALSE)","v":98},{"$f":"VLOOKUP(H49,[1]RewardItemConfig!$B:$F,5,FALSE)","v":24},{"$f":"VLOOKUP(I49,[1]RewardItemConfig!$B:$F,5,FALSE)","v":9},14,3,17,"14#98|3#24|17#9"]
[{"$nulls":6},3000050,3005050,3010050,{"$f":"VLOOKUP(G50,[1]RewardItemConfig!$B:$F,5,FALSE)","v":99},{"$f":"VLOOKUP(H50,[1]RewardItemConfig!$B:$F,5,FALSE)","v":25},{"$f":"VLOOKUP(I50,[1]RewardItemConfig!$B:$F,5,FALSE)","v":10},14,3,17,"14#99|3#25|17#10"]
[{"$nulls":6},3000051,3005051,3010051,{"$f":"VLOOKUP(G51,[1]RewardItemConfig!$B:$F,5,FALSE)","v":100},{"$f":"VLOOKUP(H51,[1]RewardItemConfig!$B:$F,5,FALSE)","v":25},{"$f":"VLOOKUP(I51,[1]RewardItemConfig!$B:$F,5,FALSE)","v":10},14,3,17,"14#100|3#25|17#10"]
[{"$nulls":6},3000052,3005052,3010052,{"$f":"VLOOKUP(G52,[1]RewardItemConfig!$B:$F,5,FALSE)","v":101},{"$f":"VLOOKUP(H52,[1]RewardItemConfig!$B:$F,5,FALSE)","v":25},{"$f":"VLOOKUP(I52,[1]RewardItemConfig!$B:$F,5,FALSE)","v":10},14,3,17,"14#101|3#25|17#10"]
[{"$nulls":6},3000053,3005053,3010053,{"$f":"VLOOKUP(G53,[1]RewardItemConfig!$B:$F,5,FALSE)","v":102},{"$f":"VLOOKUP(H53,[1]RewardItemConfig!$B:$F,5,FALSE)","v":25},{"$f":"VLOOKUP(I53,[1]RewardItemConfig!$B:$F,5,FALSE)","v":10},14,3,17,"14#102|3#25|17#10"]
[{"$nulls":6},3000054,3005054,3010054,{"$f":"VLOOKUP(G54,[1]RewardItemConfig!$B:$F,5,FALSE)","v":103},{"$f":"VLOOKUP(H54,[1]RewardItemConfig!$B:$F,5,FALSE)","v":25},{"$f":"VLOOKUP(I54,[1]RewardItemConfig!$B:$F,5,FALSE)","v":10},14,3,17,"14#103|3#25|17#10"]
[{"$nulls":6},3000055,3005055,3010055,{"$f":"VLOOKUP(G55,[1]RewardItemConfig!$B:$F,5,FALSE)","v":104},{"$f":"VLOOKUP(H55,[1]RewardItemConfig!$B:$F,5,FALSE)","v":25},{"$f":"VLOOKUP(I55,[1]RewardItemConfig!$B:$F,5,FALSE)","v":10},14,3,17,"14#104|3#25|17#10"]
[{"$nulls":6},3000056,3005056,3010056,{"$f":"VLOOKUP(G56,[1]RewardItemConfig!$B:$F,5,FALSE)","v":105},{"$f":"VLOOKUP(H56,[1]RewardItemConfig!$B:$F,5,FALSE)","v":25},{"$f":"VLOOKUP(I56,[1]RewardItemConfig!$B:$F,5,FALSE)","v":10},14,3,17,"14#105|3#25|17#10"]
[{"$nulls":6},3000057,3005057,3010057,{"$f":"VLOOKUP(G57,[1]RewardItemConfig!$B:$F,5,FALSE)","v":106},{"$f":"VLOOKUP(H57,[1]RewardItemConfig!$B:$F,5,FALSE)","v":25},{"$f":"VLOOKUP(I57,[1]RewardItemConfig!$B:$F,5,FALSE)","v":10},14,3,17,"14#106|3#25|17#10"]
[{"$nulls":6},3000058,3005058,3010058,{"$f":"VLOOKUP(G58,[1]RewardItemConfig!$B:$F,5,FALSE)","v":107},{"$f":"VLOOKUP(H58,[1]RewardItemConfig!$B:$F,5,FALSE)","v":25},{"$f":"VLOOKUP(I58,[1]RewardItemConfig!$B:$F,5,FALSE)","v":10},14,3,17,"14#107|3#25|17#10"]
[{"$nulls":6},3000059,3005059,3010059,{"$f":"VLOOKUP(G59,[1]RewardItemConfig!$B:$F,5,FALSE)","v":108},{"$f":"VLOOKUP(H59,[1]RewardItemConfig!$B:$F,5,FALSE)","v":25},{"$f":"VLOOKUP(I59,[1]RewardItemConfig!$B:$F,5,FALSE)","v":10},14,3,17,"14#108|3#25|17#10"]
[{"$nulls":6},3000060,3005060,3010060,{"$f":"VLOOKUP(G60,[1]RewardItemConfig!$B:$F,5,FALSE)","v":109},{"$f":"VLOOKUP(H60,[1]RewardItemConfig!$B:$F,5,FALSE)","v":26},{"$f":"VLOOKUP(I60,[1]RewardItemConfig!$B:$F,5,FALSE)","v":11},14,3,17,"14#109|3#26|17#11"]
[{"$nulls":6},3000061,3005061,3010061,{"$f":"VLOOKUP(G61,[1]RewardItemConfig!$B:$F,5,FALSE)","v":110},{"$f":"VLOOKUP(H61,[1]RewardItemConfig!$B:$F,5,FALSE)","v":26},{"$f":"VLOOKUP(I61,[1]RewardItemConfig!$B:$F,5,FALSE)","v":11},14,3,17,"14#110|3#26|17#11"]
[{"$nulls":6},3000062,3005062,3010062,{"$f":"VLOOKUP(G62,[1]RewardItemConfig!$B:$F,5,FALSE)","v":111},{"$f":"VLOOKUP(H62,[1]RewardItemConfig!$B:$F,5,FALSE)","v":26},{"$f":"VLOOKUP(I62,[1]RewardItemConfig!$B:$F,5,FALSE)","v":11},14,3,17,"14#111|3#26|17#11"]
[{"$nulls":6},3000063,3005063,3010063,{"$f":"VLOOKUP(G63,[1]RewardItemConfig!$B:$F,5,FALSE)","v":112},{"$f":"VLOOKUP(H63,[1]RewardItemConfig!$B:$F,5,FALSE)","v":26},{"$f":"VLOOKUP(I63,[1]RewardItemConfig!$B:$F,5,FALSE)","v":11},14,3,17,"14#112|3#26|17#11"]
[{"$nulls":6},3000064,3005064,3010064,{"$f":"VLOOKUP(G64,[1]RewardItemConfig!$B:$F,5,FALSE)","v":113},{"$f":"VLOOKUP(H64,[1]RewardItemConfig!$B:$F,5,FALSE)","v":26},{"$f":"VLOOKUP(I64,[1]RewardItemConfig!$B:$F,5,FALSE)","v":11},14,3,17,"14#113|3#26|17#11"]
[{"$nulls":6},3000065,3005065,3010065,{"$f":"VLOOKUP(G65,[1]RewardItemConfig!$B:$F,5,FALSE)","v":114},{"$f":"VLOOKUP(H65,[1]RewardItemConfig!$B:$F,5,FALSE)","v":26},{"$f":"VLOOKUP(I65,[1]RewardItemConfig!$B:$F,5,FALSE)","v":11},14,3,17,"14#114|3#26|17#11"]
[{"$nulls":6},3000066,3005066,3010066,{"$f":"VLOOKUP(G66,[1]RewardItemConfig!$B:$F,5,FALSE)","v":115},{"$f":"VLOOKUP(H66,[1]RewardItemConfig!$B:$F,5,FALSE)","v":26},{"$f":"VLOOKUP(I66,[1]RewardItemConfig!$B:$F,5,FALSE)","v":11},14,3,17,{"$f":"M66&\"#\"&J66&\"|\"&N66&\"#\"&K66&\"|\"&O66&\"#\"&L66","v":"14#115|3#26|17#11"}]
[{"$nulls":6},3000067,3005067,3010067,{"$f":"VLOOKUP(G67,[1]RewardItemConfig!$B:$F,5,FALSE)","v":116},{"$f":"VLOOKUP(H67,[1]RewardItemConfig!$B:$F,5,FALSE)","v":26},{"$f":"VLOOKUP(I67,[1]RewardItemConfig!$B:$F,5,FALSE)","v":11},{"$f":"M66","v":14},{"$f":"N66","v":3},{"$f":"O66","v":17},"14#116|3#26|17#11"]
[{"$nulls":6},3000068,3005068,3010068,{"$f":"VLOOKUP(G68,[1]RewardItemConfig!$B:$F,5,FALSE)","v":117},{"$f":"VLOOKUP(H68,[1]RewardItemConfig!$B:$F,5,FALSE)","v":26},{"$f":"VLOOKUP(I68,[1]RewardItemConfig!$B:$F,5,FALSE)","v":11},14,3,17,"14#117|3#26|17#11"]
[{"$nulls":6},3000069,3005069,3010069,{"$f":"VLOOKUP(G69,[1]RewardItemConfig!$B:$F,5,FALSE)","v":118},{"$f":"VLOOKUP(H69,[1]RewardItemConfig!$B:$F,5,FALSE)","v":26},{"$f":"VLOOKUP(I69,[1]RewardItemConfig!$B:$F,5,FALSE)","v":11},14,3,17,"14#118|3#26|17#11"]
[{"$nulls":6},3000070,3005070,3010070,{"$f":"VLOOKUP(G70,[1]RewardItemConfig!$B:$F,5,FALSE)","v":119},{"$f":"VLOOKUP(H70,[1]RewardItemConfig!$B:$F,5,FALSE)","v":27},{"$f":"VLOOKUP(I70,[1]RewardItemConfig!$B:$F,5,FALSE)","v":12},14,3,17,"14#119|3#27|17#12"]
[{"$nulls":6},3000071,3005071,3010071,{"$f":"VLOOKUP(G71,[1]RewardItemConfig!$B:$F,5,FALSE)","v":120},{"$f":"VLOOKUP(H71,[1]RewardItemConfig!$B:$F,5,FALSE)","v":27},{"$f":"VLOOKUP(I71,[1]RewardItemConfig!$B:$F,5,FALSE)","v":12},14,3,17,"14#120|3#27|17#12"]
[{"$nulls":6},3000072,3005072,3010072,{"$f":"VLOOKUP(G72,[1]RewardItemConfig!$B:$F,5,FALSE)","v":121},{"$f":"VLOOKUP(H72,[1]RewardItemConfig!$B:$F,5,FALSE)","v":27},{"$f":"VLOOKUP(I72,[1]RewardItemConfig!$B:$F,5,FALSE)","v":12},14,3,17,"14#121|3#27|17#12"]
[{"$nulls":6},3000073,3005073,3010073,{"$f":"VLOOKUP(G73,[1]RewardItemConfig!$B:$F,5,FALSE)","v":122},{"$f":"VLOOKUP(H73,[1]RewardItemConfig!$B:$F,5,FALSE)","v":27},{"$f":"VLOOKUP(I73,[1]RewardItemConfig!$B:$F,5,FALSE)","v":12},14,3,17,"14#122|3#27|17#12"]
[{"$nulls":6},3000074,3005074,3010074,{"$f":"VLOOKUP(G74,[1]RewardItemConfig!$B:$F,5,FALSE)","v":123},{"$f":"VLOOKUP(H74,[1]RewardItemConfig!$B:$F,5,FALSE)","v":27},{"$f":"VLOOKUP(I74,[1]RewardItemConfig!$B:$F,5,FALSE)","v":12},14,3,17,"14#123|3#27|17#12"]
[{"$nulls":6},3000075,3005075,3010075,{"$f":"VLOOKUP(G75,[1]RewardItemConfig!$B:$F,5,FALSE)","v":124},{"$f":"VLOOKUP(H75,[1]RewardItemConfig!$B:$F,5,FALSE)","v":27},{"$f":"VLOOKUP(I75,[1]RewardItemConfig!$B:$F,5,FALSE)","v":12},14,3,17,"14#124|3#27|17#12"]
[{"$nulls":6},3000076,3005076,3010076,{"$f":"VLOOKUP(G76,[1]RewardItemConfig!$B:$F,5,FALSE)","v":125},{"$f":"VLOOKUP(H76,[1]RewardItemConfig!$B:$F,5,FALSE)","v":27},{"$f":"VLOOKUP(I76,[1]RewardItemConfig!$B:$F,5,FALSE)","v":12},14,3,17,"14#125|3#27|17#12"]
[{"$nulls":6},3000077,3005077,3010077,{"$f":"VLOOKUP(G77,[1]RewardItemConfig!$B:$F,5,FALSE)","v":126},{"$f":"VLOOKUP(H77,[1]RewardItemConfig!$B:$F,5,FALSE)","v":27},{"$f":"VLOOKUP(I77,[1]RewardItemConfig!$B:$F,5,FALSE)","v":12},14,3,17,"14#126|3#27|17#12"]
[{"$nulls":6},3000078,3005078,3010078,{"$f":"VLOOKUP(G78,[1]RewardItemConfig!$B:$F,5,FALSE)","v":127},{"$f":"VLOOKUP(H78,[1]RewardItemConfig!$B:$F,5,FALSE)","v":27},{"$f":"VLOOKUP(I78,[1]RewardItemConfig!$B:$F,5,FALSE)","v":12},14,3,17,"14#127|3#27|17#12"]
[{"$nulls":6},3000079,3005079,3010079,{"$f":"VLOOKUP(G79,[1]RewardItemConfig!$B:$F,5,FALSE)","v":128},{"$f":"VLOOKUP(H79,[1]RewardItemConfig!$B:$F,5,FALSE)","v":27},{"$f":"VLOOKUP(I79,[1]RewardItemConfig!$B:$F,5,FALSE)","v":12},14,3,17,"14#128|3#27|17#12"]
[{"$nulls":6},3000080,3005080,3010080,{"$f":"VLOOKUP(G80,[1]RewardItemConfig!$B:$F,5,FALSE)","v":129},{"$f":"VLOOKUP(H80,[1]RewardItemConfig!$B:$F,5,FALSE)","v":28},{"$f":"VLOOKUP(I80,[1]RewardItemConfig!$B:$F,5,FALSE)","v":13},14,3,17,"14#129|3#28|17#13"]
[{"$nulls":6},3000081,3005081,3010081,{"$f":"VLOOKUP(G81,[1]RewardItemConfig!$B:$F,5,FALSE)","v":130},{"$f":"VLOOKUP(H81,[1]RewardItemConfig!$B:$F,5,FALSE)","v":28},{"$f":"VLOOKUP(I81,[1]RewardItemConfig!$B:$F,5,FALSE)","v":13},14,3,17,"14#130|3#28|17#13"]
[{"$nulls":6},3000082,3005082,3010082,{"$f":"VLOOKUP(G82,[1]RewardItemConfig!$B:$F,5,FALSE)","v":131},{"$f":"VLOOKUP(H82,[1]RewardItemConfig!$B:$F,5,FALSE)","v":28},{"$f":"VLOOKUP(I82,[1]RewardItemConfig!$B:$F,5,FALSE)","v":13},14,3,17,"14#131|3#28|17#13"]
[{"$nulls":6},3000083,3005083,3010083,{"$f":"VLOOKUP(G83,[1]RewardItemConfig!$B:$F,5,FALSE)","v":132},{"$f":"VLOOKUP(H83,[1]RewardItemConfig!$B:$F,5,FALSE)","v":28},{"$f":"VLOOKUP(I83,[1]RewardItemConfig!$B:$F,5,FALSE)","v":13},14,3,17,"14#132|3#28|17#13"]
[{"$nulls":6},3000084,3005084,3010084,{"$f":"VLOOKUP(G84,[1]RewardItemConfig!$B:$F,5,FALSE)","v":133},{"$f":"VLOOKUP(H84,[1]RewardItemConfig!$B:$F,5,FALSE)","v":28},{"$f":"VLOOKUP(I84,[1]RewardItemConfig!$B:$F,5,FALSE)","v":13},14,3,17,"14#133|3#28|17#13"]
[{"$nulls":6},3000085,3005085,3010085,{"$f":"VLOOKUP(G85,[1]RewardItemConfig!$B:$F,5,FALSE)","v":134},{"$f":"VLOOKUP(H85,[1]RewardItemConfig!$B:$F,5,FALSE)","v":28},{"$f":"VLOOKUP(I85,[1]RewardItemConfig!$B:$F,5,FALSE)","v":13},14,3,17,"14#134|3#28|17#13"]
[{"$nulls":6},3000086,3005086,3010086,{"$f":"VLOOKUP(G86,[1]RewardItemConfig!$B:$F,5,FALSE)","v":135},{"$f":"VLOOKUP(H86,[1]RewardItemConfig!$B:$F,5,FALSE)","v":28},{"$f":"VLOOKUP(I86,[1]RewardItemConfig!$B:$F,5,FALSE)","v":13},14,3,17,"14#135|3#28|17#13"]
[{"$nulls":6},3000087,3005087,3010087,{"$f":"VLOOKUP(G87,[1]RewardItemConfig!$B:$F,5,FALSE)","v":136},{"$f":"VLOOKUP(H87,[1]RewardItemConfig!$B:$F,5,FALSE)","v":28},{"$f":"VLOOKUP(I87,[1]RewardItemConfig!$B:$F,5,FALSE)","v":13},14,3,17,"14#136|3#28|17#13"]
[{"$nulls":6},3000088,3005088,3010088,{"$f":"VLOOKUP(G88,[1]RewardItemConfig!$B:$F,5,FALSE)","v":137},{"$f":"VLOOKUP(H88,[1]RewardItemConfig!$B:$F,5,FALSE)","v":28},{"$f":"VLOOKUP(I88,[1]RewardItemConfig!$B:$F,5,FALSE)","v":13},14,3,17,"14#137|3#28|17#13"]
[{"$nulls":6},3000089,3005089,3010089,{"$f":"VLOOKUP(G89,[1]RewardItemConfig!$B:$F,5,FALSE)","v":138},{"$f":"VLOOKUP(H89,[1]RewardItemConfig!$B:$F,5,FALSE)","v":28},{"$f":"VLOOKUP(I89,[1]RewardItemConfig!$B:$F,5,FALSE)","v":13},14,3,17,"14#138|3#28|17#13"]
[{"$nulls":6},3000090,3005090,3010090,{"$f":"VLOOKUP(G90,[1]RewardItemConfig!$B:$F,5,FALSE)","v":139},{"$f":"VLOOKUP(H90,[1]RewardItemConfig!$B:$F,5,FALSE)","v":29},{"$f":"VLOOKUP(I90,[1]RewardItemConfig!$B:$F,5,FALSE)","v":14},14,3,17,"14#139|3#29|17#14"]
[{"$nulls":6},3000091,3005091,3010091,{"$f":"VLOOKUP(G91,[1]RewardItemConfig!$B:$F,5,FALSE)","v":140},{"$f":"VLOOKUP(H91,[1]RewardItemConfig!$B:$F,5,FALSE)","v":29},{"$f":"VLOOKUP(I91,[1]RewardItemConfig!$B:$F,5,FALSE)","v":14},14,3,17,"14#140|3#29|17#14"]
[{"$nulls":6},3000092,3005092,3010092,{"$f":"VLOOKUP(G92,[1]RewardItemConfig!$B:$F,5,FALSE)","v":141},{"$f":"VLOOKUP(H92,[1]RewardItemConfig!$B:$F,5,FALSE)","v":29},{"$f":"VLOOKUP(I92,[1]RewardItemConfig!$B:$F,5,FALSE)","v":14},14,3,17,"14#141|3#29|17#14"]
[{"$nulls":6},3000093,3005093,3010093,{"$f":"VLOOKUP(G93,[1]RewardItemConfig!$B:$F,5,FALSE)","v":142},{"$f":"VLOOKUP(H93,[1]RewardItemConfig!$B:$F,5,FALSE)","v":29},{"$f":"VLOOKUP(I93,[1]RewardItemConfig!$B:$F,5,FALSE)","v":14},14,3,17,"14#142|3#29|17#14"]
[{"$nulls":6},3000094,3005094,3010094,{"$f":"VLOOKUP(G94,[1]RewardItemConfig!$B:$F,5,FALSE)","v":143},{"$f":"VLOOKUP(H94,[1]RewardItemConfig!$B:$F,5,FALSE)","v":29},{"$f":"VLOOKUP(I94,[1]RewardItemConfig!$B:$F,5,FALSE)","v":14},14,3,17,"14#143|3#29|17#14"]
[{"$nulls":6},3000095,3005095,3010095,{"$f":"VLOOKUP(G95,[1]RewardItemConfig!$B:$F,5,FALSE)","v":144},{"$f":"VLOOKUP(H95,[1]RewardItemConfig!$B:$F,5,FALSE)","v":29},{"$f":"VLOOKUP(I95,[1]RewardItemConfig!$B:$F,5,FALSE)","v":14},14,3,17,"14#144|3#29|17#14"]
[{"$nulls":6},3000096,3005096,3010096,{"$f":"VLOOKUP(G96,[1]RewardItemConfig!$B:$F,5,FALSE)","v":145},{"$f":"VLOOKUP(H96,[1]RewardItemConfig!$B:$F,5,FALSE)","v":29},{"$f":"VLOOKUP(I96,[1]RewardItemConfig!$B:$F,5,FALSE)","v":14},14,3,17,"14#145|3#29|17#14"]
[{"$nulls":6},3000097,3005097,3010097,{"$f":"VLOOKUP(G97,[1]RewardItemConfig!$B:$F,5,FALSE)","v":146},{"$f":"VLOOKUP(H97,[1]RewardItemConfig!$B:$F,5,FALSE)","v":29},{"$f":"VLOOKUP(I97,[1]RewardItemConfig!$B:$F,5,FALSE)","v":14},14,3,17,"14#146|3#29|17#14"]
[{"$nulls":6},3000098,3005098,3010098,{"$f":"VLOOKUP(G98,[1]RewardItemConfig!$B:$F,5,FALSE)","v":147},{"$f":"VLOOKUP(H98,[1]RewardItemConfig!$B:$F,5,FALSE)","v":29},{"$f":"VLOOKUP(I98,[1]RewardItemConfig!$B:$F,5,FALSE)","v":14},14,3,17,"14#147|3#29|17#14"]
[{"$nulls":6},3000099,3005099,3010099,{"$f":"VLOOKUP(G99,[1]RewardItemConfig!$B:$F,5,FALSE)","v":148},{"$f":"VLOOKUP(H99,[1]RewardItemConfig!$B:$F,5,FALSE)","v":29},{"$f":"VLOOKUP(I99,[1]RewardItemConfig!$B:$F,5,FALSE)","v":14},14,3,17,"14#148|3#29|17#14"]
[{"$nulls":6},3000100,3005100,3010100,{"$f":"VLOOKUP(G100,[1]RewardItemConfig!$B:$F,5,FALSE)","v":149},{"$f":"VLOOKUP(H100,[1]RewardItemConfig!$B:$F,5,FALSE)","v":30},{"$f":"VLOOKUP(I100,[1]RewardItemConfig!$B:$F,5,FALSE)","v":15},14,3,17,"14#149|3#30|17#15"]
[{"$nulls":6},3000101,3005101,3010101,{"$f":"VLOOKUP(G101,[1]RewardItemConfig!$B:$F,5,FALSE)","v":150},{"$f":"VLOOKUP(H101,[1]RewardItemConfig!$B:$F,5,FALSE)","v":30},{"$f":"VLOOKUP(I101,[1]RewardItemConfig!$B:$F,5,FALSE)","v":15},14,3,17,"14#150|3#30|17#15"]
[{"$nulls":6},3000102,3005102,3010102,{"$f":"VLOOKUP(G102,[1]RewardItemConfig!$B:$F,5,FALSE)","v":151},{"$f":"VLOOKUP(H102,[1]RewardItemConfig!$B:$F,5,FALSE)","v":30},{"$f":"VLOOKUP(I102,[1]RewardItemConfig!$B:$F,5,FALSE)","v":15},14,3,17,"14#151|3#30|17#15"]
[{"$nulls":6},3000103,3005103,3010103,{"$f":"VLOOKUP(G103,[1]RewardItemConfig!$B:$F,5,FALSE)","v":152},{"$f":"VLOOKUP(H103,[1]RewardItemConfig!$B:$F,5,FALSE)","v":30},{"$f":"VLOOKUP(I103,[1]RewardItemConfig!$B:$F,5,FALSE)","v":15},14,3,17,"14#152|3#30|17#15"]
[{"$nulls":6},3000104,3005104,3010104,{"$f":"VLOOKUP(G104,[1]RewardItemConfig!$B:$F,5,FALSE)","v":153},{"$f":"VLOOKUP(H104,[1]RewardItemConfig!$B:$F,5,FALSE)","v":30},{"$f":"VLOOKUP(I104,[1]RewardItemConfig!$B:$F,5,FALSE)","v":15},14,3,17,"14#153|3#30|17#15"]
[{"$nulls":6},3000105,3005105,3010105,{"$f":"VLOOKUP(G105,[1]RewardItemConfig!$B:$F,5,FALSE)","v":154},{"$f":"VLOOKUP(H105,[1]RewardItemConfig!$B:$F,5,FALSE)","v":30},{"$f":"VLOOKUP(I105,[1]RewardItemConfig!$B:$F,5,FALSE)","v":15},14,3,17,"14#154|3#30|17#15"]
[{"$nulls":6},3000106,3005106,3010106,{"$f":"VLOOKUP(G106,[1]RewardItemConfig!$B:$F,5,FALSE)","v":155},{"$f":"VLOOKUP(H106,[1]RewardItemConfig!$B:$F,5,FALSE)","v":30},{"$f":"VLOOKUP(I106,[1]RewardItemConfig!$B:$F,5,FALSE)","v":15},14,3,17,"14#155|3#30|17#15"]
[{"$nulls":6},3000107,3005107,3010107,{"$f":"VLOOKUP(G107,[1]RewardItemConfig!$B:$F,5,FALSE)","v":156},{"$f":"VLOOKUP(H107,[1]RewardItemConfig!$B:$F,5,FALSE)","v":30},{"$f":"VLOOKUP(I107,[1]RewardItemConfig!$B:$F,5,FALSE)","v":15},14,3,17,"14#156|3#30|17#15"]
[{"$nulls":6},3000108,3005108,3010108,{"$f":"VLOOKUP(G108,[1]RewardItemConfig!$B:$F,5,FALSE)","v":157},{"$f":"VLOOKUP(H108,[1]RewardItemConfig!$B:$F,5,FALSE)","v":30},{"$f":"VLOOKUP(I108,[1]RewardItemConfig!$B:$F,5,FALSE)","v":15},14,3,17,"14#157|3#30|17#15"]
[{"$nulls":6},3000109,3005109,3010109,{"$f":"VLOOKUP(G109,[1]RewardItemConfig!$B:$F,5,FALSE)","v":158},{"$f":"VLOOKUP(H109,[1]RewardItemConfig!$B:$F,5,FALSE)","v":30},{"$f":"VLOOKUP(I109,[1]RewardItemConfig!$B:$F,5,FALSE)","v":15},14,3,17,"14#158|3#30|17#15"]
[{"$nulls":6},3000110,3005110,3010110,{"$f":"VLOOKUP(G110,[1]RewardItemConfig!$B:$F,5,FALSE)","v":159},{"$f":"VLOOKUP(H110,[1]RewardItemConfig!$B:$F,5,FALSE)","v":31},{"$f":"VLOOKUP(I110,[1]RewardItemConfig!$B:$F,5,FALSE)","v":16},14,3,17,"14#159|3#31|17#16"]
[{"$nulls":6},3000111,3005111,3010111,{"$f":"VLOOKUP(G111,[1]RewardItemConfig!$B:$F,5,FALSE)","v":160},{"$f":"VLOOKUP(H111,[1]RewardItemConfig!$B:$F,5,FALSE)","v":31},{"$f":"VLOOKUP(I111,[1]RewardItemConfig!$B:$F,5,FALSE)","v":16},14,3,17,"14#160|3#31|17#16"]
[{"$nulls":6},3000112,3005112,3010112,{"$f":"VLOOKUP(G112,[1]RewardItemConfig!$B:$F,5,FALSE)","v":161},{"$f":"VLOOKUP(H112,[1]RewardItemConfig!$B:$F,5,FALSE)","v":31},{"$f":"VLOOKUP(I112,[1]RewardItemConfig!$B:$F,5,FALSE)","v":16},14,3,17,"14#161|3#31|17#16"]
[{"$nulls":6},3000113,3005113,3010113,{"$f":"VLOOKUP(G113,[1]RewardItemConfig!$B:$F,5,FALSE)","v":162},{"$f":"VLOOKUP(H113,[1]RewardItemConfig!$B:$F,5,FALSE)","v":31},{"$f":"VLOOKUP(I113,[1]RewardItemConfig!$B:$F,5,FALSE)","v":16},14,3,17,"14#162|3#31|17#16"]
[{"$nulls":6},3000114,3005114,3010114,{"$f":"VLOOKUP(G114,[1]RewardItemConfig!$B:$F,5,FALSE)","v":163},{"$f":"VLOOKUP(H114,[1]RewardItemConfig!$B:$F,5,FALSE)","v":31},{"$f":"VLOOKUP(I114,[1]RewardItemConfig!$B:$F,5,FALSE)","v":16},14,3,17,"14#163|3#31|17#16"]
[{"$nulls":6},3000115,3005115,3010115,{"$f":"VLOOKUP(G115,[1]RewardItemConfig!$B:$F,5,FALSE)","v":164},{"$f":"VLOOKUP(H115,[1]RewardItemConfig!$B:$F,5,FALSE)","v":31},{"$f":"VLOOKUP(I115,[1]RewardItemConfig!$B:$F,5,FALSE)","v":16},14,3,17,"14#164|3#31|17#16"]
[{"$nulls":6},3000116,3005116,3010116,{"$f":"VLOOKUP(G116,[1]RewardItemConfig!$B:$F,5,FALSE)","v":165},{"$f":"VLOOKUP(H116,[1]RewardItemConfig!$B:$F,5,FALSE)","v":31},{"$f":"VLOOKUP(I116,[1]RewardItemConfig!$B:$F,5,FALSE)","v":16},14,3,17,"14#165|3#31|17#16"]
[{"$nulls":6},3000117,3005117,3010117,{"$f":"VLOOKUP(G117,[1]RewardItemConfig!$B:$F,5,FALSE)","v":166},{"$f":"VLOOKUP(H117,[1]RewardItemConfig!$B:$F,5,FALSE)","v":31},{"$f":"VLOOKUP(I117,[1]RewardItemConfig!$B:$F,5,FALSE)","v":16},14,3,17,"14#166|3#31|17#16"]
[{"$nulls":6},3000118,3005118,3010118,{"$f":"VLOOKUP(G118,[1]RewardItemConfig!$B:$F,5,FALSE)","v":167},{"$f":"VLOOKUP(H118,[1]RewardItemConfig!$B:$F,5,FALSE)","v":31},{"$f":"VLOOKUP(I118,[1]RewardItemConfig!$B:$F,5,FALSE)","v":16},14,3,17,"14#167|3#31|17#16"]
[{"$nulls":6},3000119,3005119,3010119,{"$f":"VLOOKUP(G119,[1]RewardItemConfig!$B:$F,5,FALSE)","v":168},{"$f":"VLOOKUP(H119,[1]RewardItemConfig!$B:$F,5,FALSE)","v":31},{"$f":"VLOOKUP(I119,[1]RewardItemConfig!$B:$F,5,FALSE)","v":16},14,3,17,"14#168|3#31|17#16"]
[{"$nulls":6},3000120,3005120,3010120,{"$f":"VLOOKUP(G120,[1]RewardItemConfig!$B:$F,5,FALSE)","v":169},{"$f":"VLOOKUP(H120,[1]RewardItemConfig!$B:$F,5,FALSE)","v":32},{"$f":"VLOOKUP(I120,[1]RewardItemConfig!$B:$F,5,FALSE)","v":17},14,3,17,"14#169|3#32|17#17"]
[{"$nulls":6},3000121,3005121,3010121,{"$f":"VLOOKUP(G121,[1]RewardItemConfig!$B:$F,5,FALSE)","v":170},{"$f":"VLOOKUP(H121,[1]RewardItemConfig!$B:$F,5,FALSE)","v":32},{"$f":"VLOOKUP(I121,[1]RewardItemConfig!$B:$F,5,FALSE)","v":17},14,3,17,"14#170|3#32|17#17"]
[{"$nulls":6},3000122,3005122,3010122,{"$f":"VLOOKUP(G122,[1]RewardItemConfig!$B:$F,5,FALSE)","v":171},{"$f":"VLOOKUP(H122,[1]RewardItemConfig!$B:$F,5,FALSE)","v":32},{"$f":"VLOOKUP(I122,[1]RewardItemConfig!$B:$F,5,FALSE)","v":17},14,3,17,"14#171|3#32|17#17"]
[{"$nulls":6},3000123,3005123,3010123,{"$f":"VLOOKUP(G123,[1]RewardItemConfig!$B:$F,5,FALSE)","v":172},{"$f":"VLOOKUP(H123,[1]RewardItemConfig!$B:$F,5,FALSE)","v":32},{"$f":"VLOOKUP(I123,[1]RewardItemConfig!$B:$F,5,FALSE)","v":17},14,3,17,"14#172|3#32|17#17"]
[{"$nulls":6},3000124,3005124,3010124,{"$f":"VLOOKUP(G124,[1]RewardItemConfig!$B:$F,5,FALSE)","v":173},{"$f":"VLOOKUP(H124,[1]RewardItemConfig!$B:$F,5,FALSE)","v":32},{"$f":"VLOOKUP(I124,[1]RewardItemConfig!$B:$F,5,FALSE)","v":17},14,3,17,"14#173|3#32|17#17"]
[{"$nulls":6},3000125,3005125,3010125,{"$f":"VLOOKUP(G125,[1]RewardItemConfig!$B:$F,5,FALSE)","v":174},{"$f":"VLOOKUP(H125,[1]RewardItemConfig!$B:$F,5,FALSE)","v":32},{"$f":"VLOOKUP(I125,[1]RewardItemConfig!$B:$F,5,FALSE)","v":17},14,3,17,"14#174|3#32|17#17"]
[{"$nulls":6},3000126,3005126,3010126,{"$f":"VLOOKUP(G126,[1]RewardItemConfig!$B:$F,5,FALSE)","v":175},{"$f":"VLOOKUP(H126,[1]RewardItemConfig!$B:$F,5,FALSE)","v":32},{"$f":"VLOOKUP(I126,[1]RewardItemConfig!$B:$F,5,FALSE)","v":17},14,3,17,"14#175|3#32|17#17"]
[{"$nulls":6},3000127,3005127,3010127,{"$f":"VLOOKUP(G127,[1]RewardItemConfig!$B:$F,5,FALSE)","v":176},{"$f":"VLOOKUP(H127,[1]RewardItemConfig!$B:$F,5,FALSE)","v":32},{"$f":"VLOOKUP(I127,[1]RewardItemConfig!$B:$F,5,FALSE)","v":17},14,3,17,"14#176|3#32|17#17"]
[{"$nulls":6},3000128,3005128,3010128,{"$f":"VLOOKUP(G128,[1]RewardItemConfig!$B:$F,5,FALSE)","v":177},{"$f":"VLOOKUP(H128,[1]RewardItemConfig!$B:$F,5,FALSE)","v":32},{"$f":"VLOOKUP(I128,[1]RewardItemConfig!$B:$F,5,FALSE)","v":17},14,3,17,"14#177|3#32|17#17"]
[{"$nulls":6},3000129,3005129,3010129,{"$f":"VLOOKUP(G129,[1]RewardItemConfig!$B:$F,5,FALSE)","v":178},{"$f":"VLOOKUP(H129,[1]RewardItemConfig!$B:$F,5,FALSE)","v":32},{"$f":"VLOOKUP(I129,[1]RewardItemConfig!$B:$F,5,FALSE)","v":17},14,3,17,"14#178|3#32|17#17"]
[{"$nulls":6},3000130,3005130,3010130,{"$f":"VLOOKUP(G130,[1]RewardItemConfig!$B:$F,5,FALSE)","v":179},{"$f":"VLOOKUP(H130,[1]RewardItemConfig!$B:$F,5,FALSE)","v":33},{"$f":"VLOOKUP(I130,[1]RewardItemConfig!$B:$F,5,FALSE)","v":18},14,3,17,{"$f":"M130&\"#\"&J130&\"|\"&N130&\"#\"&K130&\"|\"&O130&\"#\"&L130","v":"14#179|3#33|17#18"}]
[{"$nulls":6},3000131,3005131,3010131,{"$f":"VLOOKUP(G131,[1]RewardItemConfig!$B:$F,5,FALSE)","v":180},{"$f":"VLOOKUP(H131,[1]RewardItemConfig!$B:$F,5,FALSE)","v":33},{"$f":"VLOOKUP(I131,[1]RewardItemConfig!$B:$F,5,FALSE)","v":18},{"$f":"M130","v":14},{"$f":"N130","v":3},{"$f":"O130","v":17},"14#180|3#33|17#18"]
[{"$nulls":6},3000132,3005132,3010132,{"$f":"VLOOKUP(G132,[1]RewardItemConfig!$B:$F,5,FALSE)","v":181},{"$f":"VLOOKUP(H132,[1]RewardItemConfig!$B:$F,5,FALSE)","v":33},{"$f":"VLOOKUP(I132,[1]RewardItemConfig!$B:$F,5,FALSE)","v":18},14,3,17,"14#181|3#33|17#18"]
[{"$nulls":6},3000133,3005133,3010133,{"$f":"VLOOKUP(G133,[1]RewardItemConfig!$B:$F,5,FALSE)","v":182},{"$f":"VLOOKUP(H133,[1]RewardItemConfig!$B:$F,5,FALSE)","v":33},{"$f":"VLOOKUP(I133,[1]RewardItemConfig!$B:$F,5,FALSE)","v":18},14,3,17,"14#182|3#33|17#18"]
[{"$nulls":6},3000134,3005134,3010134,{"$f":"VLOOKUP(G134,[1]RewardItemConfig!$B:$F,5,FALSE)","v":183},{"$f":"VLOOKUP(H134,[1]RewardItemConfig!$B:$F,5,FALSE)","v":33},{"$f":"VLOOKUP(I134,[1]RewardItemConfig!$B:$F,5,FALSE)","v":18},14,3,17,"14#183|3#33|17#18"]
[{"$nulls":6},3000135,3005135,3010135,{"$f":"VLOOKUP(G135,[1]RewardItemConfig!$B:$F,5,FALSE)","v":184},{"$f":"VLOOKUP(H135,[1]RewardItemConfig!$B:$F,5,FALSE)","v":33},{"$f":"VLOOKUP(I135,[1]RewardItemConfig!$B:$F,5,FALSE)","v":18},14,3,17,"14#184|3#33|17#18"]
[{"$nulls":6},3000136,3005136,3010136,{"$f":"VLOOKUP(G136,[1]RewardItemConfig!$B:$F,5,FALSE)","v":185},{"$f":"VLOOKUP(H136,[1]RewardItemConfig!$B:$F,5,FALSE)","v":33},{"$f":"VLOOKUP(I136,[1]RewardItemConfig!$B:$F,5,FALSE)","v":18},14,3,17,"14#185|3#33|17#18"]
[{"$nulls":6},3000137,3005137,3010137,{"$f":"VLOOKUP(G137,[1]RewardItemConfig!$B:$F,5,FALSE)","v":186},{"$f":"VLOOKUP(H137,[1]RewardItemConfig!$B:$F,5,FALSE)","v":33},{"$f":"VLOOKUP(I137,[1]RewardItemConfig!$B:$F,5,FALSE)","v":18},14,3,17,"14#186|3#33|17#18"]
[{"$nulls":6},3000138,3005138,3010138,{"$f":"VLOOKUP(G138,[1]RewardItemConfig!$B:$F,5,FALSE)","v":187},{"$f":"VLOOKUP(H138,[1]RewardItemConfig!$B:$F,5,FALSE)","v":33},{"$f":"VLOOKUP(I138,[1]RewardItemConfig!$B:$F,5,FALSE)","v":18},14,3,17,"14#187|3#33|17#18"]
[{"$nulls":6},3000139,3005139,3010139,{"$f":"VLOOKUP(G139,[1]RewardItemConfig!$B:$F,5,FALSE)","v":188},{"$f":"VLOOKUP(H139,[1]RewardItemConfig!$B:$F,5,FALSE)","v":33},{"$f":"VLOOKUP(I139,[1]RewardItemConfig!$B:$F,5,FALSE)","v":18},14,3,17,"14#188|3#33|17#18"]
[{"$nulls":6},3000140,3005140,3010140,{"$f":"VLOOKUP(G140,[1]RewardItemConfig!$B:$F,5,FALSE)","v":189},{"$f":"VLOOKUP(H140,[1]RewardItemConfig!$B:$F,5,FALSE)","v":34},{"$f":"VLOOKUP(I140,[1]RewardItemConfig!$B:$F,5,FALSE)","v":19},14,3,17,"14#189|3#34|17#19"]
[{"$nulls":6},3000141,3005141,3010141,{"$f":"VLOOKUP(G141,[1]RewardItemConfig!$B:$F,5,FALSE)","v":190},{"$f":"VLOOKUP(H141,[1]RewardItemConfig!$B:$F,5,FALSE)","v":34},{"$f":"VLOOKUP(I141,[1]RewardItemConfig!$B:$F,5,FALSE)","v":19},14,3,17,"14#190|3#34|17#19"]
[{"$nulls":6},3000142,3005142,3010142,{"$f":"VLOOKUP(G142,[1]RewardItemConfig!$B:$F,5,FALSE)","v":191},{"$f":"VLOOKUP(H142,[1]RewardItemConfig!$B:$F,5,FALSE)","v":34},{"$f":"VLOOKUP(I142,[1]RewardItemConfig!$B:$F,5,FALSE)","v":19},14,3,17,"14#191|3#34|17#19"]
[{"$nulls":6},3000143,3005143,3010143,{"$f":"VLOOKUP(G143,[1]RewardItemConfig!$B:$F,5,FALSE)","v":192},{"$f":"VLOOKUP(H143,[1]RewardItemConfig!$B:$F,5,FALSE)","v":34},{"$f":"VLOOKUP(I143,[1]RewardItemConfig!$B:$F,5,FALSE)","v":19},14,3,17,"14#192|3#34|17#19"]
[{"$nulls":6},3000144,3005144,3010144,{"$f":"VLOOKUP(G144,[1]RewardItemConfig!$B:$F,5,FALSE)","v":193},{"$f":"VLOOKUP(H144,[1]RewardItemConfig!$B:$F,5,FALSE)","v":34},{"$f":"VLOOKUP(I144,[1]RewardItemConfig!$B:$F,5,FALSE)","v":19},14,3,17,"14#193|3#34|17#19"]
[{"$nulls":6},3000145,3005145,3010145,{"$f":"VLOOKUP(G145,[1]RewardItemConfig!$B:$F,5,FALSE)","v":194},{"$f":"VLOOKUP(H145,[1]RewardItemConfig!$B:$F,5,FALSE)","v":34},{"$f":"VLOOKUP(I145,[1]RewardItemConfig!$B:$F,5,FALSE)","v":19},14,3,17,"14#194|3#34|17#19"]
[{"$nulls":6},3000146,3005146,3010146,{"$f":"VLOOKUP(G146,[1]RewardItemConfig!$B:$F,5,FALSE)","v":195},{"$f":"VLOOKUP(H146,[1]RewardItemConfig!$B:$F,5,FALSE)","v":34},{"$f":"VLOOKUP(I146,[1]RewardItemConfig!$B:$F,5,FALSE)","v":19},14,3,17,"14#195|3#34|17#19"]
[{"$nulls":6},3000147,3005147,3010147,{"$f":"VLOOKUP(G147,[1]RewardItemConfig!$B:$F,5,FALSE)","v":196},{"$f":"VLOOKUP(H147,[1]RewardItemConfig!$B:$F,5,FALSE)","v":34},{"$f":"VLOOKUP(I147,[1]RewardItemConfig!$B:$F,5,FALSE)","v":19},14,3,17,"14#196|3#34|17#19"]
[{"$nulls":6},3000148,3005148,3010148,{"$f":"VLOOKUP(G148,[1]RewardItemConfig!$B:$F,5,FALSE)","v":197},{"$f":"VLOOKUP(H148,[1]RewardItemConfig!$B:$F,5,FALSE)","v":34},{"$f":"VLOOKUP(I148,[1]RewardItemConfig!$B:$F,5,FALSE)","v":19},14,3,17,"14#197|3#34|17#19"]
[{"$nulls":6},3000149,3005149,3010149,{"$f":"VLOOKUP(G149,[1]RewardItemConfig!$B:$F,5,FALSE)","v":198},{"$f":"VLOOKUP(H149,[1]RewardItemConfig!$B:$F,5,FALSE)","v":34},{"$f":"VLOOKUP(I149,[1]RewardItemConfig!$B:$F,5,FALSE)","v":19},14,3,17,"14#198|3#34|17#19"]
[{"$nulls":6},3000150,3005150,3010150,{"$f":"VLOOKUP(G150,[1]RewardItemConfig!$B:$F,5,FALSE)","v":199},{"$f":"VLOOKUP(H150,[1]RewardItemConfig!$B:$F,5,FALSE)","v":35},{"$f":"VLOOKUP(I150,[1]RewardItemConfig!$B:$F,5,FALSE)","v":20},14,3,17,"14#199|3#35|17#20"]
[{"$nulls":6},3000151,3005151,3010151,{"$f":"VLOOKUP(G151,[1]RewardItemConfig!$B:$F,5,FALSE)","v":200},{"$f":"VLOOKUP(H151,[1]RewardItemConfig!$B:$F,5,FALSE)","v":35},{"$f":"VLOOKUP(I151,[1]RewardItemConfig!$B:$F,5,FALSE)","v":20},14,3,17,"14#200|3#35|17#20"]
[{"$nulls":6},3000152,3005152,3010152,{"$f":"VLOOKUP(G152,[1]RewardItemConfig!$B:$F,5,FALSE)","v":201},{"$f":"VLOOKUP(H152,[1]RewardItemConfig!$B:$F,5,FALSE)","v":35},{"$f":"VLOOKUP(I152,[1]RewardItemConfig!$B:$F,5,FALSE)","v":20},14,3,17,"14#201|3#35|17#20"]
[{"$nulls":6},3000153,3005153,3010153,{"$f":"VLOOKUP(G153,[1]RewardItemConfig!$B:$F,5,FALSE)","v":202},{"$f":"VLOOKUP(H153,[1]RewardItemConfig!$B:$F,5,FALSE)","v":35},{"$f":"VLOOKUP(I153,[1]RewardItemConfig!$B:$F,5,FALSE)","v":20},14,3,17,"14#202|3#35|17#20"]
[{"$nulls":6},3000154,3005154,3010154,{"$f":"VLOOKUP(G154,[1]RewardItemConfig!$B:$F,5,FALSE)","v":203},{"$f":"VLOOKUP(H154,[1]RewardItemConfig!$B:$F,5,FALSE)","v":35},{"$f":"VLOOKUP(I154,[1]RewardItemConfig!$B:$F,5,FALSE)","v":20},14,3,17,"14#203|3#35|17#20"]
[{"$nulls":6},3000155,3005155,3010155,{"$f":"VLOOKUP(G155,[1]RewardItemConfig!$B:$F,5,FALSE)","v":204},{"$f":"VLOOKUP(H155,[1]RewardItemConfig!$B:$F,5,FALSE)","v":35},{"$f":"VLOOKUP(I155,[1]RewardItemConfig!$B:$F,5,FALSE)","v":20},14,3,17,"14#204|3#35|17#20"]
[{"$nulls":6},3000156,3005156,3010156,{"$f":"VLOOKUP(G156,[1]RewardItemConfig!$B:$F,5,FALSE)","v":205},{"$f":"VLOOKUP(H156,[1]RewardItemConfig!$B:$F,5,FALSE)","v":35},{"$f":"VLOOKUP(I156,[1]RewardItemConfig!$B:$F,5,FALSE)","v":20},14,3,17,"14#205|3#35|17#20"]
[{"$nulls":6},3000157,3005157,3010157,{"$f":"VLOOKUP(G157,[1]RewardItemConfig!$B:$F,5,FALSE)","v":206},{"$f":"VLOOKUP(H157,[1]RewardItemConfig!$B:$F,5,FALSE)","v":35},{"$f":"VLOOKUP(I157,[1]RewardItemConfig!$B:$F,5,FALSE)","v":20},14,3,17,"14#206|3#35|17#20"]
[{"$nulls":6},3000158,3005158,3010158,{"$f":"VLOOKUP(G158,[1]RewardItemConfig!$B:$F,5,FALSE)","v":207},{"$f":"VLOOKUP(H158,[1]RewardItemConfig!$B:$F,5,FALSE)","v":35},{"$f":"VLOOKUP(I158,[1]RewardItemConfig!$B:$F,5,FALSE)","v":20},14,3,17,"14#207|3#35|17#20"]
[{"$nulls":6},3000159,3005159,3010159,{"$f":"VLOOKUP(G159,[1]RewardItemConfig!$B:$F,5,FALSE)","v":208},{"$f":"VLOOKUP(H159,[1]RewardItemConfig!$B:$F,5,FALSE)","v":35},{"$f":"VLOOKUP(I159,[1]RewardItemConfig!$B:$F,5,FALSE)","v":20},14,3,17,"14#208|3#35|17#20"]
[{"$nulls":6},3000160,3005160,3010160,{"$f":"VLOOKUP(G160,[1]RewardItemConfig!$B:$F,5,FALSE)","v":209},{"$f":"VLOOKUP(H160,[1]RewardItemConfig!$B:$F,5,FALSE)","v":36},{"$f":"VLOOKUP(I160,[1]RewardItemConfig!$B:$F,5,FALSE)","v":21},14,3,17,"14#209|3#36|17#21"]
[{"$nulls":6},3000161,3005161,3010161,{"$f":"VLOOKUP(G161,[1]RewardItemConfig!$B:$F,5,FALSE)","v":210},{"$f":"VLOOKUP(H161,[1]RewardItemConfig!$B:$F,5,FALSE)","v":36},{"$f":"VLOOKUP(I161,[1]RewardItemConfig!$B:$F,5,FALSE)","v":21},14,3,17,"14#210|3#36|17#21"]
[{"$nulls":6},3000162,3005162,3010162,{"$f":"VLOOKUP(G162,[1]RewardItemConfig!$B:$F,5,FALSE)","v":211},{"$f":"VLOOKUP(H162,[1]RewardItemConfig!$B:$F,5,FALSE)","v":36},{"$f":"VLOOKUP(I162,[1]RewardItemConfig!$B:$F,5,FALSE)","v":21},14,3,17,"14#211|3#36|17#21"]
[{"$nulls":6},3000163,3005163,3010163,{"$f":"VLOOKUP(G163,[1]RewardItemConfig!$B:$F,5,FALSE)","v":212},{"$f":"VLOOKUP(H163,[1]RewardItemConfig!$B:$F,5,FALSE)","v":36},{"$f":"VLOOKUP(I163,[1]RewardItemConfig!$B:$F,5,FALSE)","v":21},14,3,17,"14#212|3#36|17#21"]
[{"$nulls":6},3000164,3005164,3010164,{"$f":"VLOOKUP(G164,[1]RewardItemConfig!$B:$F,5,FALSE)","v":213},{"$f":"VLOOKUP(H164,[1]RewardItemConfig!$B:$F,5,FALSE)","v":36},{"$f":"VLOOKUP(I164,[1]RewardItemConfig!$B:$F,5,FALSE)","v":21},14,3,17,"14#213|3#36|17#21"]
[{"$nulls":6},3000165,3005165,3010165,{"$f":"VLOOKUP(G165,[1]RewardItemConfig!$B:$F,5,FALSE)","v":214},{"$f":"VLOOKUP(H165,[1]RewardItemConfig!$B:$F,5,FALSE)","v":36},{"$f":"VLOOKUP(I165,[1]RewardItemConfig!$B:$F,5,FALSE)","v":21},14,3,17,"14#214|3#36|17#21"]
[{"$nulls":6},3000166,3005166,3010166,{"$f":"VLOOKUP(G166,[1]RewardItemConfig!$B:$F,5,FALSE)","v":215},{"$f":"VLOOKUP(H166,[1]RewardItemConfig!$B:$F,5,FALSE)","v":36},{"$f":"VLOOKUP(I166,[1]RewardItemConfig!$B:$F,5,FALSE)","v":21},14,3,17,"14#215|3#36|17#21"]
[{"$nulls":6},3000167,3005167,3010167,{"$f":"VLOOKUP(G167,[1]RewardItemConfig!$B:$F,5,FALSE)","v":216},{"$f":"VLOOKUP(H167,[1]RewardItemConfig!$B:$F,5,FALSE)","v":36},{"$f":"VLOOKUP(I167,[1]RewardItemConfig!$B:$F,5,FALSE)","v":21},14,3,17,"14#216|3#36|17#21"]
[{"$nulls":6},3000168,3005168,3010168,{"$f":"VLOOKUP(G168,[1]RewardItemConfig!$B:$F,5,FALSE)","v":217},{"$f":"VLOOKUP(H168,[1]RewardItemConfig!$B:$F,5,FALSE)","v":36},{"$f":"VLOOKUP(I168,[1]RewardItemConfig!$B:$F,5,FALSE)","v":21},14,3,17,"14#217|3#36|17#21"]
[{"$nulls":6},3000169,3005169,3010169,{"$f":"VLOOKUP(G169,[1]RewardItemConfig!$B:$F,5,FALSE)","v":218},{"$f":"VLOOKUP(H169,[1]RewardItemConfig!$B:$F,5,FALSE)","v":36},{"$f":"VLOOKUP(I169,[1]RewardItemConfig!$B:$F,5,FALSE)","v":21},14,3,17,"14#218|3#36|17#21"]
[{"$nulls":6},3000170,3005170,3010170,{"$f":"VLOOKUP(G170,[1]RewardItemConfig!$B:$F,5,FALSE)","v":219},{"$f":"VLOOKUP(H170,[1]RewardItemConfig!$B:$F,5,FALSE)","v":37},{"$f":"VLOOKUP(I170,[1]RewardItemConfig!$B:$F,5,FALSE)","v":22},14,3,17,"14#219|3#37|17#22"]
[{"$nulls":6},3000171,3005171,3010171,{"$f":"VLOOKUP(G171,[1]RewardItemConfig!$B:$F,5,FALSE)","v":220},{"$f":"VLOOKUP(H171,[1]RewardItemConfig!$B:$F,5,FALSE)","v":37},{"$f":"VLOOKUP(I171,[1]RewardItemConfig!$B:$F,5,FALSE)","v":22},14,3,17,"14#220|3#37|17#22"]
[{"$nulls":6},3000172,3005172,3010172,{"$f":"VLOOKUP(G172,[1]RewardItemConfig!$B:$F,5,FALSE)","v":221},{"$f":"VLOOKUP(H172,[1]RewardItemConfig!$B:$F,5,FALSE)","v":37},{"$f":"VLOOKUP(I172,[1]RewardItemConfig!$B:$F,5,FALSE)","v":22},14,3,17,"14#221|3#37|17#22"]
[{"$nulls":6},3000173,3005173,3010173,{"$f":"VLOOKUP(G173,[1]RewardItemConfig!$B:$F,5,FALSE)","v":222},{"$f":"VLOOKUP(H173,[1]RewardItemConfig!$B:$F,5,FALSE)","v":37},{"$f":"VLOOKUP(I173,[1]RewardItemConfig!$B:$F,5,FALSE)","v":22},14,3,17,"14#222|3#37|17#22"]
[{"$nulls":6},3000174,3005174,3010174,{"$f":"VLOOKUP(G174,[1]RewardItemConfig!$B:$F,5,FALSE)","v":223},{"$f":"VLOOKUP(H174,[1]RewardItemConfig!$B:$F,5,FALSE)","v":37},{"$f":"VLOOKUP(I174,[1]RewardItemConfig!$B:$F,5,FALSE)","v":22},14,3,17,"14#223|3#37|17#22"]
[{"$nulls":6},3000175,3005175,3010175,{"$f":"VLOOKUP(G175,[1]RewardItemConfig!$B:$F,5,FALSE)","v":224},{"$f":"VLOOKUP(H175,[1]RewardItemConfig!$B:$F,5,FALSE)","v":37},{"$f":"VLOOKUP(I175,[1]RewardItemConfig!$B:$F,5,FALSE)","v":22},14,3,17,"14#224|3#37|17#22"]
[{"$nulls":6},3000176,3005176,3010176,{"$f":"VLOOKUP(G176,[1]RewardItemConfig!$B:$F,5,FALSE)","v":225},{"$f":"VLOOKUP(H176,[1]RewardItemConfig!$B:$F,5,FALSE)","v":37},{"$f":"VLOOKUP(I176,[1]RewardItemConfig!$B:$F,5,FALSE)","v":22},14,3,17,"14#225|3#37|17#22"]
[{"$nulls":6},3000177,3005177,3010177,{"$f":"VLOOKUP(G177,[1]RewardItemConfig!$B:$F,5,FALSE)","v":226},{"$f":"VLOOKUP(H177,[1]RewardItemConfig!$B:$F,5,FALSE)","v":37},{"$f":"VLOOKUP(I177,[1]RewardItemConfig!$B:$F,5,FALSE)","v":22},14,3,17,"14#226|3#37|17#22"]
[{"$nulls":6},3000178,3005178,3010178,{"$f":"VLOOKUP(G178,[1]RewardItemConfig!$B:$F,5,FALSE)","v":227},{"$f":"VLOOKUP(H178,[1]RewardItemConfig!$B:$F,5,FALSE)","v":37},{"$f":"VLOOKUP(I178,[1]RewardItemConfig!$B:$F,5,FALSE)","v":22},14,3,17,"14#227|3#37|17#22"]
[{"$nulls":6},3000179,3005179,3010179,{"$f":"VLOOKUP(G179,[1]RewardItemConfig!$B:$F,5,FALSE)","v":228},{"$f":"VLOOKUP(H179,[1]RewardItemConfig!$B:$F,5,FALSE)","v":37},{"$f":"VLOOKUP(I179,[1]RewardItemConfig!$B:$F,5,FALSE)","v":22},14,3,17,"14#228|3#37|17#22"]
[{"$nulls":6},3000180,3005180,3010180,{"$f":"VLOOKUP(G180,[1]RewardItemConfig!$B:$F,5,FALSE)","v":229},{"$f":"VLOOKUP(H180,[1]RewardItemConfig!$B:$F,5,FALSE)","v":38},{"$f":"VLOOKUP(I180,[1]RewardItemConfig!$B:$F,5,FALSE)","v":23},14,3,17,"14#229|3#38|17#23"]
[{"$nulls":6},3000181,3005181,3010181,{"$f":"VLOOKUP(G181,[1]RewardItemConfig!$B:$F,5,FALSE)","v":230},{"$f":"VLOOKUP(H181,[1]RewardItemConfig!$B:$F,5,FALSE)","v":38},{"$f":"VLOOKUP(I181,[1]RewardItemConfig!$B:$F,5,FALSE)","v":23},14,3,17,"14#230|3#38|17#23"]
[{"$nulls":6},3000182,3005182,3010182,{"$f":"VLOOKUP(G182,[1]RewardItemConfig!$B:$F,5,FALSE)","v":231},{"$f":"VLOOKUP(H182,[1]RewardItemConfig!$B:$F,5,FALSE)","v":38},{"$f":"VLOOKUP(I182,[1]RewardItemConfig!$B:$F,5,FALSE)","v":23},14,3,17,"14#231|3#38|17#23"]
[{"$nulls":6},3000183,3005183,3010183,{"$f":"VLOOKUP(G183,[1]RewardItemConfig!$B:$F,5,FALSE)","v":232},{"$f":"VLOOKUP(H183,[1]RewardItemConfig!$B:$F,5,FALSE)","v":38},{"$f":"VLOOKUP(I183,[1]RewardItemConfig!$B:$F,5,FALSE)","v":23},14,3,17,"14#232|3#38|17#23"]
[{"$nulls":6},3000184,3005184,3010184,{"$f":"VLOOKUP(G184,[1]RewardItemConfig!$B:$F,5,FALSE)","v":233},{"$f":"VLOOKUP(H184,[1]RewardItemConfig!$B:$F,5,FALSE)","v":38},{"$f":"VLOOKUP(I184,[1]RewardItemConfig!$B:$F,5,FALSE)","v":23},14,3,17,"14#233|3#38|17#23"]
[{"$nulls":6},3000185,3005185,3010185,{"$f":"VLOOKUP(G185,[1]RewardItemConfig!$B:$F,5,FALSE)","v":234},{"$f":"VLOOKUP(H185,[1]RewardItemConfig!$B:$F,5,FALSE)","v":38},{"$f":"VLOOKUP(I185,[1]RewardItemConfig!$B:$F,5,FALSE)","v":23},14,3,17,"14#234|3#38|17#23"]
[{"$nulls":6},3000186,3005186,3010186,{"$f":"VLOOKUP(G186,[1]RewardItemConfig!$B:$F,5,FALSE)","v":235},{"$f":"VLOOKUP(H186,[1]RewardItemConfig!$B:$F,5,FALSE)","v":38},{"$f":"VLOOKUP(I186,[1]RewardItemConfig!$B:$F,5,FALSE)","v":23},14,3,17,"14#235|3#38|17#23"]
[{"$nulls":6},3000187,3005187,3010187,{"$f":"VLOOKUP(G187,[1]RewardItemConfig!$B:$F,5,FALSE)","v":236},{"$f":"VLOOKUP(H187,[1]RewardItemConfig!$B:$F,5,FALSE)","v":38},{"$f":"VLOOKUP(I187,[1]RewardItemConfig!$B:$F,5,FALSE)","v":23},14,3,17,"14#236|3#38|17#23"]
[{"$nulls":6},3000188,3005188,3010188,{"$f":"VLOOKUP(G188,[1]RewardItemConfig!$B:$F,5,FALSE)","v":237},{"$f":"VLOOKUP(H188,[1]RewardItemConfig!$B:$F,5,FALSE)","v":38},{"$f":"VLOOKUP(I188,[1]RewardItemConfig!$B:$F,5,FALSE)","v":23},14,3,17,"14#237|3#38|17#23"]
[{"$nulls":6},3000189,3005189,3010189,{"$f":"VLOOKUP(G189,[1]RewardItemConfig!$B:$F,5,FALSE)","v":238},{"$f":"VLOOKUP(H189,[1]RewardItemConfig!$B:$F,5,FALSE)","v":38},{"$f":"VLOOKUP(I189,[1]RewardItemConfig!$B:$F,5,FALSE)","v":23},14,3,17,"14#238|3#38|17#23"]
[{"$nulls":6},3000190,3005190,3010190,{"$f":"VLOOKUP(G190,[1]RewardItemConfig!$B:$F,5,FALSE)","v":239},{"$f":"VLOOKUP(H190,[1]RewardItemConfig!$B:$F,5,FALSE)","v":39},{"$f":"VLOOKUP(I190,[1]RewardItemConfig!$B:$F,5,FALSE)","v":24},14,3,17,"14#239|3#39|17#24"]
[{"$nulls":6},3000191,3005191,3010191,{"$f":"VLOOKUP(G191,[1]RewardItemConfig!$B:$F,5,FALSE)","v":240},{"$f":"VLOOKUP(H191,[1]RewardItemConfig!$B:$F,5,FALSE)","v":39},{"$f":"VLOOKUP(I191,[1]RewardItemConfig!$B:$F,5,FALSE)","v":24},14,3,17,"14#240|3#39|17#24"]
[{"$nulls":6},3000192,3005192,3010192,{"$f":"VLOOKUP(G192,[1]RewardItemConfig!$B:$F,5,FALSE)","v":241},{"$f":"VLOOKUP(H192,[1]RewardItemConfig!$B:$F,5,FALSE)","v":39},{"$f":"VLOOKUP(I192,[1]RewardItemConfig!$B:$F,5,FALSE)","v":24},14,3,17,"14#241|3#39|17#24"]
[{"$nulls":6},3000193,3005193,3010193,{"$f":"VLOOKUP(G193,[1]RewardItemConfig!$B:$F,5,FALSE)","v":242},{"$f":"VLOOKUP(H193,[1]RewardItemConfig!$B:$F,5,FALSE)","v":39},{"$f":"VLOOKUP(I193,[1]RewardItemConfig!$B:$F,5,FALSE)","v":24},14,3,17,"14#242|3#39|17#24"]
[{"$nulls":6},3000194,3005194,3010194,{"$f":"VLOOKUP(G194,[1]RewardItemConfig!$B:$F,5,FALSE)","v":243},{"$f":"VLOOKUP(H194,[1]RewardItemConfig!$B:$F,5,FALSE)","v":39},{"$f":"VLOOKUP(I194,[1]RewardItemConfig!$B:$F,5,FALSE)","v":24},14,3,17,{"$f":"M194&\"#\"&J194&\"|\"&N194&\"#\"&K194&\"|\"&O194&\"#\"&L194","v":"14#243|3#39|17#24"}]
[{"$nulls":6},3000195,3005195,3010195,{"$f":"VLOOKUP(G195,[1]RewardItemConfig!$B:$F,5,FALSE)","v":244},{"$f":"VLOOKUP(H195,[1]RewardItemConfig!$B:$F,5,FALSE)","v":39},{"$f":"VLOOKUP(I195,[1]RewardItemConfig!$B:$F,5,FALSE)","v":24},{"$f":"M194","v":14},{"$f":"N194","v":3},{"$f":"O194","v":17},"14#244|3#39|17#24"]
[{"$nulls":6},3000196,3005196,3010196,{"$f":"VLOOKUP(G196,[1]RewardItemConfig!$B:$F,5,FALSE)","v":245},{"$f":"VLOOKUP(H196,[1]RewardItemConfig!$B:$F,5,FALSE)","v":39},{"$f":"VLOOKUP(I196,[1]RewardItemConfig!$B:$F,5,FALSE)","v":24},14,3,17,"14#245|3#39|17#24"]
[{"$nulls":6},3000197,3005197,3010197,{"$f":"VLOOKUP(G197,[1]RewardItemConfig!$B:$F,5,FALSE)","v":246},{"$f":"VLOOKUP(H197,[1]RewardItemConfig!$B:$F,5,FALSE)","v":39},{"$f":"VLOOKUP(I197,[1]RewardItemConfig!$B:$F,5,FALSE)","v":24},14,3,17,"14#246|3#39|17#24"]
[{"$nulls":6},3000198,3005198,3010198,{"$f":"VLOOKUP(G198,[1]RewardItemConfig!$B:$F,5,FALSE)","v":247},{"$f":"VLOOKUP(H198,[1]RewardItemConfig!$B:$F,5,FALSE)","v":39},{"$f":"VLOOKUP(I198,[1]RewardItemConfig!$B:$F,5,FALSE)","v":24},14,3,17,"14#247|3#39|17#24"]
[{"$nulls":6},3000199,3005199,3010199,{"$f":"VLOOKUP(G199,[1]RewardItemConfig!$B:$F,5,FALSE)","v":248},{"$f":"VLOOKUP(H199,[1]RewardItemConfig!$B:$F,5,FALSE)","v":39},{"$f":"VLOOKUP(I199,[1]RewardItemConfig!$B:$F,5,FALSE)","v":24},14,3,17,"14#248|3#39|17#24"]
[{"$nulls":6},3000200,3005200,3010200,{"$f":"VLOOKUP(G200,[1]RewardItemConfig!$B:$F,5,FALSE)","v":249},{"$f":"VLOOKUP(H200,[1]RewardItemConfig!$B:$F,5,FALSE)","v":40},{"$f":"VLOOKUP(I200,[1]RewardItemConfig!$B:$F,5,FALSE)","v":25},14,3,17,"14#249|3#40|17#25"]
[{"$nulls":6},3000201,3005201,3010201,{"$f":"VLOOKUP(G201,[1]RewardItemConfig!$B:$F,5,FALSE)","v":250},{"$f":"VLOOKUP(H201,[1]RewardItemConfig!$B:$F,5,FALSE)","v":40},{"$f":"VLOOKUP(I201,[1]RewardItemConfig!$B:$F,5,FALSE)","v":25},14,3,17,"14#250|3#40|17#25"]
[{"$nulls":6},3000202,3005202,3010202,{"$f":"VLOOKUP(G202,[1]RewardItemConfig!$B:$F,5,FALSE)","v":251},{"$f":"VLOOKUP(H202,[1]RewardItemConfig!$B:$F,5,FALSE)","v":40},{"$f":"VLOOKUP(I202,[1]RewardItemConfig!$B:$F,5,FALSE)","v":25},14,3,17,"14#251|3#40|17#25"]
[{"$nulls":6},3000203,3005203,3010203,{"$f":"VLOOKUP(G203,[1]RewardItemConfig!$B:$F,5,FALSE)","v":252},{"$f":"VLOOKUP(H203,[1]RewardItemConfig!$B:$F,5,FALSE)","v":40},{"$f":"VLOOKUP(I203,[1]RewardItemConfig!$B:$F,5,FALSE)","v":25},14,3,17,"14#252|3#40|17#25"]
[{"$nulls":6},3000204,3005204,3010204,{"$f":"VLOOKUP(G204,[1]RewardItemConfig!$B:$F,5,FALSE)","v":253},{"$f":"VLOOKUP(H204,[1]RewardItemConfig!$B:$F,5,FALSE)","v":40},{"$f":"VLOOKUP(I204,[1]RewardItemConfig!$B:$F,5,FALSE)","v":25},14,3,17,"14#253|3#40|17#25"]
[{"$nulls":6},3000205,3005205,3010205,{"$f":"VLOOKUP(G205,[1]RewardItemConfig!$B:$F,5,FALSE)","v":254},{"$f":"VLOOKUP(H205,[1]RewardItemConfig!$B:$F,5,FALSE)","v":40},{"$f":"VLOOKUP(I205,[1]RewardItemConfig!$B:$F,5,FALSE)","v":25},14,3,17,"14#254|3#40|17#25"]
[{"$nulls":6},3000206,3005206,3010206,{"$f":"VLOOKUP(G206,[1]RewardItemConfig!$B:$F,5,FALSE)","v":255},{"$f":"VLOOKUP(H206,[1]RewardItemConfig!$B:$F,5,FALSE)","v":40},{"$f":"VLOOKUP(I206,[1]RewardItemConfig!$B:$F,5,FALSE)","v":25},14,3,17,"14#255|3#40|17#25"]
[{"$nulls":6},3000207,3005207,3010207,{"$f":"VLOOKUP(G207,[1]RewardItemConfig!$B:$F,5,FALSE)","v":256},{"$f":"VLOOKUP(H207,[1]RewardItemConfig!$B:$F,5,FALSE)","v":40},{"$f":"VLOOKUP(I207,[1]RewardItemConfig!$B:$F,5,FALSE)","v":25},14,3,17,"14#256|3#40|17#25"]
[{"$nulls":6},3000208,3005208,3010208,{"$f":"VLOOKUP(G208,[1]RewardItemConfig!$B:$F,5,FALSE)","v":257},{"$f":"VLOOKUP(H208,[1]RewardItemConfig!$B:$F,5,FALSE)","v":40},{"$f":"VLOOKUP(I208,[1]RewardItemConfig!$B:$F,5,FALSE)","v":25},14,3,17,"14#257|3#40|17#25"]
[{"$nulls":6},3000209,3005209,3010209,{"$f":"VLOOKUP(G209,[1]RewardItemConfig!$B:$F,5,FALSE)","v":258},{"$f":"VLOOKUP(H209,[1]RewardItemConfig!$B:$F,5,FALSE)","v":40},{"$f":"VLOOKUP(I209,[1]RewardItemConfig!$B:$F,5,FALSE)","v":25},14,3,17,"14#258|3#40|17#25"]
[{"$nulls":6},3000210,3005210,3010210,{"$f":"VLOOKUP(G210,[1]RewardItemConfig!$B:$F,5,FALSE)","v":259},{"$f":"VLOOKUP(H210,[1]RewardItemConfig!$B:$F,5,FALSE)","v":41},{"$f":"VLOOKUP(I210,[1]RewardItemConfig!$B:$F,5,FALSE)","v":26},14,3,17,"14#259|3#41|17#26"]
[{"$nulls":6},3000211,3005211,3010211,{"$f":"VLOOKUP(G211,[1]RewardItemConfig!$B:$F,5,FALSE)","v":260},{"$f":"VLOOKUP(H211,[1]RewardItemConfig!$B:$F,5,FALSE)","v":41},{"$f":"VLOOKUP(I211,[1]RewardItemConfig!$B:$F,5,FALSE)","v":26},14,3,17,"14#260|3#41|17#26"]
[{"$nulls":6},3000212,3005212,3010212,{"$f":"VLOOKUP(G212,[1]RewardItemConfig!$B:$F,5,FALSE)","v":261},{"$f":"VLOOKUP(H212,[1]RewardItemConfig!$B:$F,5,FALSE)","v":41},{"$f":"VLOOKUP(I212,[1]RewardItemConfig!$B:$F,5,FALSE)","v":26},14,3,17,"14#261|3#41|17#26"]
[{"$nulls":6},3000213,3005213,3010213,{"$f":"VLOOKUP(G213,[1]RewardItemConfig!$B:$F,5,FALSE)","v":262},{"$f":"VLOOKUP(H213,[1]RewardItemConfig!$B:$F,5,FALSE)","v":41},{"$f":"VLOOKUP(I213,[1]RewardItemConfig!$B:$F,5,FALSE)","v":26},14,3,17,"14#262|3#41|17#26"]
[{"$nulls":6},3000214,3005214,3010214,{"$f":"VLOOKUP(G214,[1]RewardItemConfig!$B:$F,5,FALSE)","v":263},{"$f":"VLOOKUP(H214,[1]RewardItemConfig!$B:$F,5,FALSE)","v":41},{"$f":"VLOOKUP(I214,[1]RewardItemConfig!$B:$F,5,FALSE)","v":26},14,3,17,"14#263|3#41|17#26"]
[{"$nulls":6},3000215,3005215,3010215,{"$f":"VLOOKUP(G215,[1]RewardItemConfig!$B:$F,5,FALSE)","v":264},{"$f":"VLOOKUP(H215,[1]RewardItemConfig!$B:$F,5,FALSE)","v":41},{"$f":"VLOOKUP(I215,[1]RewardItemConfig!$B:$F,5,FALSE)","v":26},14,3,17,"14#264|3#41|17#26"]
[{"$nulls":6},3000216,3005216,3010216,{"$f":"VLOOKUP(G216,[1]RewardItemConfig!$B:$F,5,FALSE)","v":265},{"$f":"VLOOKUP(H216,[1]RewardItemConfig!$B:$F,5,FALSE)","v":41},{"$f":"VLOOKUP(I216,[1]RewardItemConfig!$B:$F,5,FALSE)","v":26},14,3,17,"14#265|3#41|17#26"]
[{"$nulls":6},3000217,3005217,3010217,{"$f":"VLOOKUP(G217,[1]RewardItemConfig!$B:$F,5,FALSE)","v":266},{"$f":"VLOOKUP(H217,[1]RewardItemConfig!$B:$F,5,FALSE)","v":41},{"$f":"VLOOKUP(I217,[1]RewardItemConfig!$B:$F,5,FALSE)","v":26},14,3,17,"14#266|3#41|17#26"]
[{"$nulls":6},3000218,3005218,3010218,{"$f":"VLOOKUP(G218,[1]RewardItemConfig!$B:$F,5,FALSE)","v":267},{"$f":"VLOOKUP(H218,[1]RewardItemConfig!$B:$F,5,FALSE)","v":41},{"$f":"VLOOKUP(I218,[1]RewardItemConfig!$B:$F,5,FALSE)","v":26},14,3,17,"14#267|3#41|17#26"]
[{"$nulls":6},3000219,3005219,3010219,{"$f":"VLOOKUP(G219,[1]RewardItemConfig!$B:$F,5,FALSE)","v":268},{"$f":"VLOOKUP(H219,[1]RewardItemConfig!$B:$F,5,FALSE)","v":41},{"$f":"VLOOKUP(I219,[1]RewardItemConfig!$B:$F,5,FALSE)","v":26},14,3,17,"14#268|3#41|17#26"]
[{"$nulls":6},3000220,3005220,3010220,{"$f":"VLOOKUP(G220,[1]RewardItemConfig!$B:$F,5,FALSE)","v":269},{"$f":"VLOOKUP(H220,[1]RewardItemConfig!$B:$F,5,FALSE)","v":42},{"$f":"VLOOKUP(I220,[1]RewardItemConfig!$B:$F,5,FALSE)","v":27},14,3,17,"14#269|3#42|17#27"]
[{"$nulls":6},3000221,3005221,3010221,{"$f":"VLOOKUP(G221,[1]RewardItemConfig!$B:$F,5,FALSE)","v":270},{"$f":"VLOOKUP(H221,[1]RewardItemConfig!$B:$F,5,FALSE)","v":42},{"$f":"VLOOKUP(I221,[1]RewardItemConfig!$B:$F,5,FALSE)","v":27},14,3,17,"14#270|3#42|17#27"]
[{"$nulls":6},3000222,3005222,3010222,{"$f":"VLOOKUP(G222,[1]RewardItemConfig!$B:$F,5,FALSE)","v":271},{"$f":"VLOOKUP(H222,[1]RewardItemConfig!$B:$F,5,FALSE)","v":42},{"$f":"VLOOKUP(I222,[1]RewardItemConfig!$B:$F,5,FALSE)","v":27},14,3,17,"14#271|3#42|17#27"]
[{"$nulls":6},3000223,3005223,3010223,{"$f":"VLOOKUP(G223,[1]RewardItemConfig!$B:$F,5,FALSE)","v":272},{"$f":"VLOOKUP(H223,[1]RewardItemConfig!$B:$F,5,FALSE)","v":42},{"$f":"VLOOKUP(I223,[1]RewardItemConfig!$B:$F,5,FALSE)","v":27},14,3,17,"14#272|3#42|17#27"]
[{"$nulls":6},3000224,3005224,3010224,{"$f":"VLOOKUP(G224,[1]RewardItemConfig!$B:$F,5,FALSE)","v":273},{"$f":"VLOOKUP(H224,[1]RewardItemConfig!$B:$F,5,FALSE)","v":42},{"$f":"VLOOKUP(I224,[1]RewardItemConfig!$B:$F,5,FALSE)","v":27},14,3,17,"14#273|3#42|17#27"]
[{"$nulls":6},3000225,3005225,3010225,{"$f":"VLOOKUP(G225,[1]RewardItemConfig!$B:$F,5,FALSE)","v":274},{"$f":"VLOOKUP(H225,[1]RewardItemConfig!$B:$F,5,FALSE)","v":42},{"$f":"VLOOKUP(I225,[1]RewardItemConfig!$B:$F,5,FALSE)","v":27},14,3,17,"14#274|3#42|17#27"]
[{"$nulls":6},3000226,3005226,3010226,{"$f":"VLOOKUP(G226,[1]RewardItemConfig!$B:$F,5,FALSE)","v":275},{"$f":"VLOOKUP(H226,[1]RewardItemConfig!$B:$F,5,FALSE)","v":42},{"$f":"VLOOKUP(I226,[1]RewardItemConfig!$B:$F,5,FALSE)","v":27},14,3,17,"14#275|3#42|17#27"]
[{"$nulls":6},3000227,3005227,3010227,{"$f":"VLOOKUP(G227,[1]RewardItemConfig!$B:$F,5,FALSE)","v":276},{"$f":"VLOOKUP(H227,[1]RewardItemConfig!$B:$F,5,FALSE)","v":42},{"$f":"VLOOKUP(I227,[1]RewardItemConfig!$B:$F,5,FALSE)","v":27},14,3,17,"14#276|3#42|17#27"]
[{"$nulls":6},3000228,3005228,3010228,{"$f":"VLOOKUP(G228,[1]RewardItemConfig!$B:$F,5,FALSE)","v":277},{"$f":"VLOOKUP(H228,[1]RewardItemConfig!$B:$F,5,FALSE)","v":42},{"$f":"VLOOKUP(I228,[1]RewardItemConfig!$B:$F,5,FALSE)","v":27},14,3,17,"14#277|3#42|17#27"]
[{"$nulls":6},3000229,3005229,3010229,{"$f":"VLOOKUP(G229,[1]RewardItemConfig!$B:$F,5,FALSE)","v":278},{"$f":"VLOOKUP(H229,[1]RewardItemConfig!$B:$F,5,FALSE)","v":42},{"$f":"VLOOKUP(I229,[1]RewardItemConfig!$B:$F,5,FALSE)","v":27},14,3,17,"14#278|3#42|17#27"]
[{"$nulls":6},3000230,3005230,3010230,{"$f":"VLOOKUP(G230,[1]RewardItemConfig!$B:$F,5,FALSE)","v":279},{"$f":"VLOOKUP(H230,[1]RewardItemConfig!$B:$F,5,FALSE)","v":43},{"$f":"VLOOKUP(I230,[1]RewardItemConfig!$B:$F,5,FALSE)","v":28},14,3,17,"14#279|3#43|17#28"]
[{"$nulls":6},3000231,3005231,3010231,{"$f":"VLOOKUP(G231,[1]RewardItemConfig!$B:$F,5,FALSE)","v":280},{"$f":"VLOOKUP(H231,[1]RewardItemConfig!$B:$F,5,FALSE)","v":43},{"$f":"VLOOKUP(I231,[1]RewardItemConfig!$B:$F,5,FALSE)","v":28},14,3,17,"14#280|3#43|17#28"]
[{"$nulls":6},3000232,3005232,3010232,{"$f":"VLOOKUP(G232,[1]RewardItemConfig!$B:$F,5,FALSE)","v":281},{"$f":"VLOOKUP(H232,[1]RewardItemConfig!$B:$F,5,FALSE)","v":43},{"$f":"VLOOKUP(I232,[1]RewardItemConfig!$B:$F,5,FALSE)","v":28},14,3,17,"14#281|3#43|17#28"]
[{"$nulls":6},3000233,3005233,3010233,{"$f":"VLOOKUP(G233,[1]RewardItemConfig!$B:$F,5,FALSE)","v":282},{"$f":"VLOOKUP(H233,[1]RewardItemConfig!$B:$F,5,FALSE)","v":43},{"$f":"VLOOKUP(I233,[1]RewardItemConfig!$B:$F,5,FALSE)","v":28},14,3,17,"14#282|3#43|17#28"]
[{"$nulls":6},3000234,3005234,3010234,{"$f":"VLOOKUP(G234,[1]RewardItemConfig!$B:$F,5,FALSE)","v":283},{"$f":"VLOOKUP(H234,[1]RewardItemConfig!$B:$F,5,FALSE)","v":43},{"$f":"VLOOKUP(I234,[1]RewardItemConfig!$B:$F,5,FALSE)","v":28},14,3,17,"14#283|3#43|17#28"]
[{"$nulls":6},3000235,3005235,3010235,{"$f":"VLOOKUP(G235,[1]RewardItemConfig!$B:$F,5,FALSE)","v":284},{"$f":"VLOOKUP(H235,[1]RewardItemConfig!$B:$F,5,FALSE)","v":43},{"$f":"VLOOKUP(I235,[1]RewardItemConfig!$B:$F,5,FALSE)","v":28},14,3,17,"14#284|3#43|17#28"]
[{"$nulls":6},3000236,3005236,3010236,{"$f":"VLOOKUP(G236,[1]RewardItemConfig!$B:$F,5,FALSE)","v":285},{"$f":"VLOOKUP(H236,[1]RewardItemConfig!$B:$F,5,FALSE)","v":43},{"$f":"VLOOKUP(I236,[1]RewardItemConfig!$B:$F,5,FALSE)","v":28},14,3,17,"14#285|3#43|17#28"]
[{"$nulls":6},3000237,3005237,3010237,{"$f":"VLOOKUP(G237,[1]RewardItemConfig!$B:$F,5,FALSE)","v":286},{"$f":"VLOOKUP(H237,[1]RewardItemConfig!$B:$F,5,FALSE)","v":43},{"$f":"VLOOKUP(I237,[1]RewardItemConfig!$B:$F,5,FALSE)","v":28},14,3,17,"14#286|3#43|17#28"]
[{"$nulls":6},3000238,3005238,3010238,{"$f":"VLOOKUP(G238,[1]RewardItemConfig!$B:$F,5,FALSE)","v":287},{"$f":"VLOOKUP(H238,[1]RewardItemConfig!$B:$F,5,FALSE)","v":43},{"$f":"VLOOKUP(I238,[1]RewardItemConfig!$B:$F,5,FALSE)","v":28},14,3,17,"14#287|3#43|17#28"]
[{"$nulls":6},3000239,3005239,3010239,{"$f":"VLOOKUP(G239,[1]RewardItemConfig!$B:$F,5,FALSE)","v":288},{"$f":"VLOOKUP(H239,[1]RewardItemConfig!$B:$F,5,FALSE)","v":43},{"$f":"VLOOKUP(I239,[1]RewardItemConfig!$B:$F,5,FALSE)","v":28},14,3,17,"14#288|3#43|17#28"]
[{"$nulls":6},3000240,3005240,3010240,{"$f":"VLOOKUP(G240,[1]RewardItemConfig!$B:$F,5,FALSE)","v":289},{"$f":"VLOOKUP(H240,[1]RewardItemConfig!$B:$F,5,FALSE)","v":44},{"$f":"VLOOKUP(I240,[1]RewardItemConfig!$B:$F,5,FALSE)","v":29},14,3,17,"14#289|3#44|17#29"]
[{"$nulls":6},3000241,3005241,3010241,{"$f":"VLOOKUP(G241,[1]RewardItemConfig!$B:$F,5,FALSE)","v":290},{"$f":"VLOOKUP(H241,[1]RewardItemConfig!$B:$F,5,FALSE)","v":44},{"$f":"VLOOKUP(I241,[1]RewardItemConfig!$B:$F,5,FALSE)","v":29},14,3,17,"14#290|3#44|17#29"]
[{"$nulls":6},3000242,3005242,3010242,{"$f":"VLOOKUP(G242,[1]RewardItemConfig!$B:$F,5,FALSE)","v":291},{"$f":"VLOOKUP(H242,[1]RewardItemConfig!$B:$F,5,FALSE)","v":44},{"$f":"VLOOKUP(I242,[1]RewardItemConfig!$B:$F,5,FALSE)","v":29},14,3,17,"14#291|3#44|17#29"]
[{"$nulls":6},3000243,3005243,3010243,{"$f":"VLOOKUP(G243,[1]RewardItemConfig!$B:$F,5,FALSE)","v":292},{"$f":"VLOOKUP(H243,[1]RewardItemConfig!$B:$F,5,FALSE)","v":44},{"$f":"VLOOKUP(I243,[1]RewardItemConfig!$B:$F,5,FALSE)","v":29},14,3,17,"14#292|3#44|17#29"]
[{"$nulls":6},3000244,3005244,3010244,{"$f":"VLOOKUP(G244,[1]RewardItemConfig!$B:$F,5,FALSE)","v":293},{"$f":"VLOOKUP(H244,[1]RewardItemConfig!$B:$F,5,FALSE)","v":44},{"$f":"VLOOKUP(I244,[1]RewardItemConfig!$B:$F,5,FALSE)","v":29},14,3,17,"14#293|3#44|17#29"]
[{"$nulls":6},3000245,3005245,3010245,{"$f":"VLOOKUP(G245,[1]RewardItemConfig!$B:$F,5,FALSE)","v":294},{"$f":"VLOOKUP(H245,[1]RewardItemConfig!$B:$F,5,FALSE)","v":44},{"$f":"VLOOKUP(I245,[1]RewardItemConfig!$B:$F,5,FALSE)","v":29},14,3,17,"14#294|3#44|17#29"]
[{"$nulls":6},3000246,3005246,3010246,{"$f":"VLOOKUP(G246,[1]RewardItemConfig!$B:$F,5,FALSE)","v":295},{"$f":"VLOOKUP(H246,[1]RewardItemConfig!$B:$F,5,FALSE)","v":44},{"$f":"VLOOKUP(I246,[1]RewardItemConfig!$B:$F,5,FALSE)","v":29},14,3,17,"14#295|3#44|17#29"]
[{"$nulls":6},3000247,3005247,3010247,{"$f":"VLOOKUP(G247,[1]RewardItemConfig!$B:$F,5,FALSE)","v":296},{"$f":"VLOOKUP(H247,[1]RewardItemConfig!$B:$F,5,FALSE)","v":44},{"$f":"VLOOKUP(I247,[1]RewardItemConfig!$B:$F,5,FALSE)","v":29},14,3,17,"14#296|3#44|17#29"]
[{"$nulls":6},3000248,3005248,3010248,{"$f":"VLOOKUP(G248,[1]RewardItemConfig!$B:$F,5,FALSE)","v":297},{"$f":"VLOOKUP(H248,[1]RewardItemConfig!$B:$F,5,FALSE)","v":44},{"$f":"VLOOKUP(I248,[1]RewardItemConfig!$B:$F,5,FALSE)","v":29},14,3,17,"14#297|3#44|17#29"]
[{"$nulls":6},3000249,3005249,3010249,{"$f":"VLOOKUP(G249,[1]RewardItemConfig!$B:$F,5,FALSE)","v":298},{"$f":"VLOOKUP(H249,[1]RewardItemConfig!$B:$F,5,FALSE)","v":44},{"$f":"VLOOKUP(I249,[1]RewardItemConfig!$B:$F,5,FALSE)","v":29},14,3,17,"14#298|3#44|17#29"]
[{"$nulls":6},3000250,3005250,3010250,{"$f":"VLOOKUP(G250,[1]RewardItemConfig!$B:$F,5,FALSE)","v":299},{"$f":"VLOOKUP(H250,[1]RewardItemConfig!$B:$F,5,FALSE)","v":45},{"$f":"VLOOKUP(I250,[1]RewardItemConfig!$B:$F,5,FALSE)","v":30},14,3,17,"14#299|3#45|17#30"]
[{"$nulls":6},3000251,3005251,3010251,{"$f":"VLOOKUP(G251,[1]RewardItemConfig!$B:$F,5,FALSE)","v":300},{"$f":"VLOOKUP(H251,[1]RewardItemConfig!$B:$F,5,FALSE)","v":45},{"$f":"VLOOKUP(I251,[1]RewardItemConfig!$B:$F,5,FALSE)","v":30},14,3,17,"14#300|3#45|17#30"]
[{"$nulls":6},3000252,3005252,3010252,{"$f":"VLOOKUP(G252,[1]RewardItemConfig!$B:$F,5,FALSE)","v":301},{"$f":"VLOOKUP(H252,[1]RewardItemConfig!$B:$F,5,FALSE)","v":45},{"$f":"VLOOKUP(I252,[1]RewardItemConfig!$B:$F,5,FALSE)","v":30},14,3,17,"14#301|3#45|17#30"]
[{"$nulls":6},3000253,3005253,3010253,{"$f":"VLOOKUP(G253,[1]RewardItemConfig!$B:$F,5,FALSE)","v":302},{"$f":"VLOOKUP(H253,[1]RewardItemConfig!$B:$F,5,FALSE)","v":45},{"$f":"VLOOKUP(I253,[1]RewardItemConfig!$B:$F,5,FALSE)","v":30},14,3,17,"14#302|3#45|17#30"]
[{"$nulls":6},3000254,3005254,3010254,{"$f":"VLOOKUP(G254,[1]RewardItemConfig!$B:$F,5,FALSE)","v":303},{"$f":"VLOOKUP(H254,[1]RewardItemConfig!$B:$F,5,FALSE)","v":45},{"$f":"VLOOKUP(I254,[1]RewardItemConfig!$B:$F,5,FALSE)","v":30},14,3,17,"14#303|3#45|17#30"]
[{"$nulls":6},3000255,3005255,3010255,{"$f":"VLOOKUP(G255,[1]RewardItemConfig!$B:$F,5,FALSE)","v":304},{"$f":"VLOOKUP(H255,[1]RewardItemConfig!$B:$F,5,FALSE)","v":45},{"$f":"VLOOKUP(I255,[1]RewardItemConfig!$B:$F,5,FALSE)","v":30},14,3,17,"14#304|3#45|17#30"]
[{"$nulls":6},3000256,3005256,3010256,{"$f":"VLOOKUP(G256,[1]RewardItemConfig!$B:$F,5,FALSE)","v":305},{"$f":"VLOOKUP(H256,[1]RewardItemConfig!$B:$F,5,FALSE)","v":45},{"$f":"VLOOKUP(I256,[1]RewardItemConfig!$B:$F,5,FALSE)","v":30},14,3,17,"14#305|3#45|17#30"]
[{"$nulls":6},3000257,3005257,3010257,{"$f":"VLOOKUP(G257,[1]RewardItemConfig!$B:$F,5,FALSE)","v":306},{"$f":"VLOOKUP(H257,[1]RewardItemConfig!$B:$F,5,FALSE)","v":45},{"$f":"VLOOKUP(I257,[1]RewardItemConfig!$B:$F,5,FALSE)","v":30},14,3,17,"14#306|3#45|17#30"]
[{"$nulls":6},3000258,3005258,3010258,{"$f":"VLOOKUP(G258,[1]RewardItemConfig!$B:$F,5,FALSE)","v":307},{"$f":"VLOOKUP(H258,[1]RewardItemConfig!$B:$F,5,FALSE)","v":45},{"$f":"VLOOKUP(I258,[1]RewardItemConfig!$B:$F,5,FALSE)","v":30},14,3,17,{"$f":"M258&\"#\"&J258&\"|\"&N258&\"#\"&K258&\"|\"&O258&\"#\"&L258","v":"14#307|3#45|17#30"}]
[{"$nulls":6},3000259,3005259,3010259,{"$f":"VLOOKUP(G259,[1]RewardItemConfig!$B:$F,5,FALSE)","v":308},{"$f":"VLOOKUP(H259,[1]RewardItemConfig!$B:$F,5,FALSE)","v":45},{"$f":"VLOOKUP(I259,[1]RewardItemConfig!$B:$F,5,FALSE)","v":30},{"$f":"M258","v":14},{"$f":"N258","v":3},{"$f":"O258","v":17},"14#308|3#45|17#30"]
[{"$nulls":6},3000260,3005260,3010260,{"$f":"VLOOKUP(G260,[1]RewardItemConfig!$B:$F,5,FALSE)","v":309},{"$f":"VLOOKUP(H260,[1]RewardItemConfig!$B:$F,5,FALSE)","v":46},{"$f":"VLOOKUP(I260,[1]RewardItemConfig!$B:$F,5,FALSE)","v":31},14,3,17,"14#309|3#46|17#31"]
[{"$nulls":6},3000261,3005261,3010261,{"$f":"VLOOKUP(G261,[1]RewardItemConfig!$B:$F,5,FALSE)","v":310},{"$f":"VLOOKUP(H261,[1]RewardItemConfig!$B:$F,5,FALSE)","v":46},{"$f":"VLOOKUP(I261,[1]RewardItemConfig!$B:$F,5,FALSE)","v":31},14,3,17,"14#310|3#46|17#31"]
[{"$nulls":6},3000262,3005262,3010262,{"$f":"VLOOKUP(G262,[1]RewardItemConfig!$B:$F,5,FALSE)","v":311},{"$f":"VLOOKUP(H262,[1]RewardItemConfig!$B:$F,5,FALSE)","v":46},{"$f":"VLOOKUP(I262,[1]RewardItemConfig!$B:$F,5,FALSE)","v":31},14,3,17,"14#311|3#46|17#31"]
[{"$nulls":6},3000263,3005263,3010263,{"$f":"VLOOKUP(G263,[1]RewardItemConfig!$B:$F,5,FALSE)","v":312},{"$f":"VLOOKUP(H263,[1]RewardItemConfig!$B:$F,5,FALSE)","v":46},{"$f":"VLOOKUP(I263,[1]RewardItemConfig!$B:$F,5,FALSE)","v":31},14,3,17,"14#312|3#46|17#31"]
[{"$nulls":6},3000264,3005264,3010264,{"$f":"VLOOKUP(G264,[1]RewardItemConfig!$B:$F,5,FALSE)","v":313},{"$f":"VLOOKUP(H264,[1]RewardItemConfig!$B:$F,5,FALSE)","v":46},{"$f":"VLOOKUP(I264,[1]RewardItemConfig!$B:$F,5,FALSE)","v":31},14,3,17,"14#313|3#46|17#31"]
[{"$nulls":6},3000265,3005265,3010265,{"$f":"VLOOKUP(G265,[1]RewardItemConfig!$B:$F,5,FALSE)","v":314},{"$f":"VLOOKUP(H265,[1]RewardItemConfig!$B:$F,5,FALSE)","v":46},{"$f":"VLOOKUP(I265,[1]RewardItemConfig!$B:$F,5,FALSE)","v":31},14,3,17,"14#314|3#46|17#31"]
[{"$nulls":6},3000266,3005266,3010266,{"$f":"VLOOKUP(G266,[1]RewardItemConfig!$B:$F,5,FALSE)","v":315},{"$f":"VLOOKUP(H266,[1]RewardItemConfig!$B:$F,5,FALSE)","v":46},{"$f":"VLOOKUP(I266,[1]RewardItemConfig!$B:$F,5,FALSE)","v":31},14,3,17,"14#315|3#46|17#31"]
[{"$nulls":6},3000267,3005267,3010267,{"$f":"VLOOKUP(G267,[1]RewardItemConfig!$B:$F,5,FALSE)","v":316},{"$f":"VLOOKUP(H267,[1]RewardItemConfig!$B:$F,5,FALSE)","v":46},{"$f":"VLOOKUP(I267,[1]RewardItemConfig!$B:$F,5,FALSE)","v":31},14,3,17,"14#316|3#46|17#31"]
[{"$nulls":6},3000268,3005268,3010268,{"$f":"VLOOKUP(G268,[1]RewardItemConfig!$B:$F,5,FALSE)","v":317},{"$f":"VLOOKUP(H268,[1]RewardItemConfig!$B:$F,5,FALSE)","v":46},{"$f":"VLOOKUP(I268,[1]RewardItemConfig!$B:$F,5,FALSE)","v":31},14,3,17,"14#317|3#46|17#31"]
[{"$nulls":6},3000269,3005269,3010269,{"$f":"VLOOKUP(G269,[1]RewardItemConfig!$B:$F,5,FALSE)","v":318},{"$f":"VLOOKUP(H269,[1]RewardItemConfig!$B:$F,5,FALSE)","v":46},{"$f":"VLOOKUP(I269,[1]RewardItemConfig!$B:$F,5,FALSE)","v":31},14,3,17,"14#318|3#46|17#31"]
[{"$nulls":6},3000270,3005270,3010270,{"$f":"VLOOKUP(G270,[1]RewardItemConfig!$B:$F,5,FALSE)","v":319},{"$f":"VLOOKUP(H270,[1]RewardItemConfig!$B:$F,5,FALSE)","v":47},{"$f":"VLOOKUP(I270,[1]RewardItemConfig!$B:$F,5,FALSE)","v":32},14,3,17,"14#319|3#47|17#32"]
[{"$nulls":6},3000271,3005271,3010271,{"$f":"VLOOKUP(G271,[1]RewardItemConfig!$B:$F,5,FALSE)","v":320},{"$f":"VLOOKUP(H271,[1]RewardItemConfig!$B:$F,5,FALSE)","v":47},{"$f":"VLOOKUP(I271,[1]RewardItemConfig!$B:$F,5,FALSE)","v":32},14,3,17,"14#320|3#47|17#32"]
[{"$nulls":6},3000272,3005272,3010272,{"$f":"VLOOKUP(G272,[1]RewardItemConfig!$B:$F,5,FALSE)","v":321},{"$f":"VLOOKUP(H272,[1]RewardItemConfig!$B:$F,5,FALSE)","v":47},{"$f":"VLOOKUP(I272,[1]RewardItemConfig!$B:$F,5,FALSE)","v":32},14,3,17,"14#321|3#47|17#32"]
[{"$nulls":6},3000273,3005273,3010273,{"$f":"VLOOKUP(G273,[1]RewardItemConfig!$B:$F,5,FALSE)","v":322},{"$f":"VLOOKUP(H273,[1]RewardItemConfig!$B:$F,5,FALSE)","v":47},{"$f":"VLOOKUP(I273,[1]RewardItemConfig!$B:$F,5,FALSE)","v":32},14,3,17,"14#322|3#47|17#32"]
[{"$nulls":6},3000274,3005274,3010274,{"$f":"VLOOKUP(G274,[1]RewardItemConfig!$B:$F,5,FALSE)","v":323},{"$f":"VLOOKUP(H274,[1]RewardItemConfig!$B:$F,5,FALSE)","v":47},{"$f":"VLOOKUP(I274,[1]RewardItemConfig!$B:$F,5,FALSE)","v":32},14,3,17,"14#323|3#47|17#32"]
[{"$nulls":6},3000275,3005275,3010275,{"$f":"VLOOKUP(G275,[1]RewardItemConfig!$B:$F,5,FALSE)","v":324},{"$f":"VLOOKUP(H275,[1]RewardItemConfig!$B:$F,5,FALSE)","v":47},{"$f":"VLOOKUP(I275,[1]RewardItemConfig!$B:$F,5,FALSE)","v":32},14,3,17,"14#324|3#47|17#32"]
[{"$nulls":6},3000276,3005276,3010276,{"$f":"VLOOKUP(G276,[1]RewardItemConfig!$B:$F,5,FALSE)","v":325},{"$f":"VLOOKUP(H276,[1]RewardItemConfig!$B:$F,5,FALSE)","v":47},{"$f":"VLOOKUP(I276,[1]RewardItemConfig!$B:$F,5,FALSE)","v":32},14,3,17,"14#325|3#47|17#32"]
[{"$nulls":6},3000277,3005277,3010277,{"$f":"VLOOKUP(G277,[1]RewardItemConfig!$B:$F,5,FALSE)","v":326},{"$f":"VLOOKUP(H277,[1]RewardItemConfig!$B:$F,5,FALSE)","v":47},{"$f":"VLOOKUP(I277,[1]RewardItemConfig!$B:$F,5,FALSE)","v":32},14,3,17,"14#326|3#47|17#32"]
[{"$nulls":6},3000278,3005278,3010278,{"$f":"VLOOKUP(G278,[1]RewardItemConfig!$B:$F,5,FALSE)","v":327},{"$f":"VLOOKUP(H278,[1]RewardItemConfig!$B:$F,5,FALSE)","v":47},{"$f":"VLOOKUP(I278,[1]RewardItemConfig!$B:$F,5,FALSE)","v":32},14,3,17,"14#327|3#47|17#32"]
[{"$nulls":6},3000279,3005279,3010279,{"$f":"VLOOKUP(G279,[1]RewardItemConfig!$B:$F,5,FALSE)","v":328},{"$f":"VLOOKUP(H279,[1]RewardItemConfig!$B:$F,5,FALSE)","v":47},{"$f":"VLOOKUP(I279,[1]RewardItemConfig!$B:$F,5,FALSE)","v":32},14,3,17,"14#328|3#47|17#32"]
[{"$nulls":6},3000280,3005280,3010280,{"$f":"VLOOKUP(G280,[1]RewardItemConfig!$B:$F,5,FALSE)","v":329},{"$f":"VLOOKUP(H280,[1]RewardItemConfig!$B:$F,5,FALSE)","v":48},{"$f":"VLOOKUP(I280,[1]RewardItemConfig!$B:$F,5,FALSE)","v":33},14,3,17,"14#329|3#48|17#33"]
[{"$nulls":6},3000281,3005281,3010281,{"$f":"VLOOKUP(G281,[1]RewardItemConfig!$B:$F,5,FALSE)","v":330},{"$f":"VLOOKUP(H281,[1]RewardItemConfig!$B:$F,5,FALSE)","v":48},{"$f":"VLOOKUP(I281,[1]RewardItemConfig!$B:$F,5,FALSE)","v":33},14,3,17,"14#330|3#48|17#33"]
[{"$nulls":6},3000282,3005282,3010282,{"$f":"VLOOKUP(G282,[1]RewardItemConfig!$B:$F,5,FALSE)","v":331},{"$f":"VLOOKUP(H282,[1]RewardItemConfig!$B:$F,5,FALSE)","v":48},{"$f":"VLOOKUP(I282,[1]RewardItemConfig!$B:$F,5,FALSE)","v":33},14,3,17,"14#331|3#48|17#33"]
[{"$nulls":6},3000283,3005283,3010283,{"$f":"VLOOKUP(G283,[1]RewardItemConfig!$B:$F,5,FALSE)","v":332},{"$f":"VLOOKUP(H283,[1]RewardItemConfig!$B:$F,5,FALSE)","v":48},{"$f":"VLOOKUP(I283,[1]RewardItemConfig!$B:$F,5,FALSE)","v":33},14,3,17,"14#332|3#48|17#33"]
[{"$nulls":6},3000284,3005284,3010284,{"$f":"VLOOKUP(G284,[1]RewardItemConfig!$B:$F,5,FALSE)","v":333},{"$f":"VLOOKUP(H284,[1]RewardItemConfig!$B:$F,5,FALSE)","v":48},{"$f":"VLOOKUP(I284,[1]RewardItemConfig!$B:$F,5,FALSE)","v":33},14,3,17,"14#333|3#48|17#33"]
[{"$nulls":6},3000285,3005285,3010285,{"$f":"VLOOKUP(G285,[1]RewardItemConfig!$B:$F,5,FALSE)","v":334},{"$f":"VLOOKUP(H285,[1]RewardItemConfig!$B:$F,5,FALSE)","v":48},{"$f":"VLOOKUP(I285,[1]RewardItemConfig!$B:$F,5,FALSE)","v":33},14,3,17,"14#334|3#48|17#33"]
[{"$nulls":6},3000286,3005286,3010286,{"$f":"VLOOKUP(G286,[1]RewardItemConfig!$B:$F,5,FALSE)","v":335},{"$f":"VLOOKUP(H286,[1]RewardItemConfig!$B:$F,5,FALSE)","v":48},{"$f":"VLOOKUP(I286,[1]RewardItemConfig!$B:$F,5,FALSE)","v":33},14,3,17,"14#335|3#48|17#33"]
[{"$nulls":6},3000287,3005287,3010287,{"$f":"VLOOKUP(G287,[1]RewardItemConfig!$B:$F,5,FALSE)","v":336},{"$f":"VLOOKUP(H287,[1]RewardItemConfig!$B:$F,5,FALSE)","v":48},{"$f":"VLOOKUP(I287,[1]RewardItemConfig!$B:$F,5,FALSE)","v":33},14,3,17,"14#336|3#48|17#33"]
[{"$nulls":6},3000288,3005288,3010288,{"$f":"VLOOKUP(G288,[1]RewardItemConfig!$B:$F,5,FALSE)","v":337},{"$f":"VLOOKUP(H288,[1]RewardItemConfig!$B:$F,5,FALSE)","v":48},{"$f":"VLOOKUP(I288,[1]RewardItemConfig!$B:$F,5,FALSE)","v":33},14,3,17,"14#337|3#48|17#33"]
[{"$nulls":6},3000289,3005289,3010289,{"$f":"VLOOKUP(G289,[1]RewardItemConfig!$B:$F,5,FALSE)","v":338},{"$f":"VLOOKUP(H289,[1]RewardItemConfig!$B:$F,5,FALSE)","v":48},{"$f":"VLOOKUP(I289,[1]RewardItemConfig!$B:$F,5,FALSE)","v":33},14,3,17,"14#338|3#48|17#33"]
[{"$nulls":6},3000290,3005290,3010290,{"$f":"VLOOKUP(G290,[1]RewardItemConfig!$B:$F,5,FALSE)","v":339},{"$f":"VLOOKUP(H290,[1]RewardItemConfig!$B:$F,5,FALSE)","v":49},{"$f":"VLOOKUP(I290,[1]RewardItemConfig!$B:$F,5,FALSE)","v":34},14,3,17,"14#339|3#49|17#34"]
[{"$nulls":6},3000291,3005291,3010291,{"$f":"VLOOKUP(G291,[1]RewardItemConfig!$B:$F,5,FALSE)","v":340},{"$f":"VLOOKUP(H291,[1]RewardItemConfig!$B:$F,5,FALSE)","v":49},{"$f":"VLOOKUP(I291,[1]RewardItemConfig!$B:$F,5,FALSE)","v":34},14,3,17,"14#340|3#49|17#34"]
[{"$nulls":6},3000292,3005292,3010292,{"$f":"VLOOKUP(G292,[1]RewardItemConfig!$B:$F,5,FALSE)","v":341},{"$f":"VLOOKUP(H292,[1]RewardItemConfig!$B:$F,5,FALSE)","v":49},{"$f":"VLOOKUP(I292,[1]RewardItemConfig!$B:$F,5,FALSE)","v":34},14,3,17,"14#341|3#49|17#34"]
[{"$nulls":6},3000293,3005293,3010293,{"$f":"VLOOKUP(G293,[1]RewardItemConfig!$B:$F,5,FALSE)","v":342},{"$f":"VLOOKUP(H293,[1]RewardItemConfig!$B:$F,5,FALSE)","v":49},{"$f":"VLOOKUP(I293,[1]RewardItemConfig!$B:$F,5,FALSE)","v":34},14,3,17,"14#342|3#49|17#34"]
[{"$nulls":6},3000294,3005294,3010294,{"$f":"VLOOKUP(G294,[1]RewardItemConfig!$B:$F,5,FALSE)","v":343},{"$f":"VLOOKUP(H294,[1]RewardItemConfig!$B:$F,5,FALSE)","v":49},{"$f":"VLOOKUP(I294,[1]RewardItemConfig!$B:$F,5,FALSE)","v":34},14,3,17,"14#343|3#49|17#34"]
[{"$nulls":6},3000295,3005295,3010295,{"$f":"VLOOKUP(G295,[1]RewardItemConfig!$B:$F,5,FALSE)","v":344},{"$f":"VLOOKUP(H295,[1]RewardItemConfig!$B:$F,5,FALSE)","v":49},{"$f":"VLOOKUP(I295,[1]RewardItemConfig!$B:$F,5,FALSE)","v":34},14,3,17,"14#344|3#49|17#34"]
[{"$nulls":6},3000296,3005296,3010296,{"$f":"VLOOKUP(G296,[1]RewardItemConfig!$B:$F,5,FALSE)","v":345},{"$f":"VLOOKUP(H296,[1]RewardItemConfig!$B:$F,5,FALSE)","v":49},{"$f":"VLOOKUP(I296,[1]RewardItemConfig!$B:$F,5,FALSE)","v":34},14,3,17,"14#345|3#49|17#34"]
[{"$nulls":6},3000297,3005297,3010297,{"$f":"VLOOKUP(G297,[1]RewardItemConfig!$B:$F,5,FALSE)","v":346},{"$f":"VLOOKUP(H297,[1]RewardItemConfig!$B:$F,5,FALSE)","v":49},{"$f":"VLOOKUP(I297,[1]RewardItemConfig!$B:$F,5,FALSE)","v":34},14,3,17,"14#346|3#49|17#34"]
[{"$nulls":6},3000298,3005298,3010298,{"$f":"VLOOKUP(G298,[1]RewardItemConfig!$B:$F,5,FALSE)","v":347},{"$f":"VLOOKUP(H298,[1]RewardItemConfig!$B:$F,5,FALSE)","v":49},{"$f":"VLOOKUP(I298,[1]RewardItemConfig!$B:$F,5,FALSE)","v":34},14,3,17,"14#347|3#49|17#34"]
[{"$nulls":6},3000299,3005299,3010299,{"$f":"VLOOKUP(G299,[1]RewardItemConfig!$B:$F,5,FALSE)","v":348},{"$f":"VLOOKUP(H299,[1]RewardItemConfig!$B:$F,5,FALSE)","v":49},{"$f":"VLOOKUP(I299,[1]RewardItemConfig!$B:$F,5,FALSE)","v":34},14,3,17,"14#348|3#49|17#34"]
[{"$nulls":6},3000300,3005300,3010300,{"$f":"VLOOKUP(G300,[1]RewardItemConfig!$B:$F,5,FALSE)","v":349},{"$f":"VLOOKUP(H300,[1]RewardItemConfig!$B:$F,5,FALSE)","v":52},{"$f":"VLOOKUP(I300,[1]RewardItemConfig!$B:$F,5,FALSE)","v":35},14,3,17,"14#349|3#52|17#35"]
[{"$nulls":6},3000301,3005301,3010301,{"$f":"VLOOKUP(G301,[1]RewardItemConfig!$B:$F,5,FALSE)","v":350},{"$f":"VLOOKUP(H301,[1]RewardItemConfig!$B:$F,5,FALSE)","v":52},{"$f":"VLOOKUP(I301,[1]RewardItemConfig!$B:$F,5,FALSE)","v":35},14,3,17,"14#350|3#52|17#35"]
[{"$nulls":6},3000302,3005302,3010302,{"$f":"VLOOKUP(G302,[1]RewardItemConfig!$B:$F,5,FALSE)","v":351},{"$f":"VLOOKUP(H302,[1]RewardItemConfig!$B:$F,5,FALSE)","v":52},{"$f":"VLOOKUP(I302,[1]RewardItemConfig!$B:$F,5,FALSE)","v":35},14,3,17,"14#351|3#52|17#35"]
[{"$nulls":6},3000303,3005303,3010303,{"$f":"VLOOKUP(G303,[1]RewardItemConfig!$B:$F,5,FALSE)","v":352},{"$f":"VLOOKUP(H303,[1]RewardItemConfig!$B:$F,5,FALSE)","v":52},{"$f":"VLOOKUP(I303,[1]RewardItemConfig!$B:$F,5,FALSE)","v":35},14,3,17,"14#352|3#52|17#35"]
[{"$nulls":6},3000304,3005304,3010304,{"$f":"VLOOKUP(G304,[1]RewardItemConfig!$B:$F,5,FALSE)","v":353},{"$f":"VLOOKUP(H304,[1]RewardItemConfig!$B:$F,5,FALSE)","v":52},{"$f":"VLOOKUP(I304,[1]RewardItemConfig!$B:$F,5,FALSE)","v":35},14,3,17,"14#353|3#52|17#35"]
[{"$nulls":6},3000305,3005305,3010305,{"$f":"VLOOKUP(G305,[1]RewardItemConfig!$B:$F,5,FALSE)","v":354},{"$f":"VLOOKUP(H305,[1]RewardItemConfig!$B:$F,5,FALSE)","v":52},{"$f":"VLOOKUP(I305,[1]RewardItemConfig!$B:$F,5,FALSE)","v":35},14,3,17,"14#354|3#52|17#35"]
[{"$nulls":6},3000306,3005306,3010306,{"$f":"VLOOKUP(G306,[1]RewardItemConfig!$B:$F,5,FALSE)","v":355},{"$f":"VLOOKUP(H306,[1]RewardItemConfig!$B:$F,5,FALSE)","v":52},{"$f":"VLOOKUP(I306,[1]RewardItemConfig!$B:$F,5,FALSE)","v":35},14,3,17,"14#355|3#52|17#35"]
[{"$nulls":6},3000307,3005307,3010307,{"$f":"VLOOKUP(G307,[1]RewardItemConfig!$B:$F,5,FALSE)","v":356},{"$f":"VLOOKUP(H307,[1]RewardItemConfig!$B:$F,5,FALSE)","v":52},{"$f":"VLOOKUP(I307,[1]RewardItemConfig!$B:$F,5,FALSE)","v":35},14,3,17,"14#356|3#52|17#35"]
[{"$nulls":6},3000308,3005308,3010308,{"$f":"VLOOKUP(G308,[1]RewardItemConfig!$B:$F,5,FALSE)","v":357},{"$f":"VLOOKUP(H308,[1]RewardItemConfig!$B:$F,5,FALSE)","v":52},{"$f":"VLOOKUP(I308,[1]RewardItemConfig!$B:$F,5,FALSE)","v":35},14,3,17,"14#357|3#52|17#35"]
[{"$nulls":6},3000309,3005309,3010309,{"$f":"VLOOKUP(G309,[1]RewardItemConfig!$B:$F,5,FALSE)","v":358},{"$f":"VLOOKUP(H309,[1]RewardItemConfig!$B:$F,5,FALSE)","v":52},{"$f":"VLOOKUP(I309,[1]RewardItemConfig!$B:$F,5,FALSE)","v":35},14,3,17,"14#358|3#52|17#35"]
[{"$nulls":6},3000310,3005310,3010310,{"$f":"VLOOKUP(G310,[1]RewardItemConfig!$B:$F,5,FALSE)","v":359},{"$f":"VLOOKUP(H310,[1]RewardItemConfig!$B:$F,5,FALSE)","v":54},{"$f":"VLOOKUP(I310,[1]RewardItemConfig!$B:$F,5,FALSE)","v":36},14,3,17,"14#359|3#54|17#36"]
[{"$nulls":6},3000311,3005311,3010311,{"$f":"VLOOKUP(G311,[1]RewardItemConfig!$B:$F,5,FALSE)","v":360},{"$f":"VLOOKUP(H311,[1]RewardItemConfig!$B:$F,5,FALSE)","v":54},{"$f":"VLOOKUP(I311,[1]RewardItemConfig!$B:$F,5,FALSE)","v":36},14,3,17,"14#360|3#54|17#36"]
[{"$nulls":6},3000312,3005312,3010312,{"$f":"VLOOKUP(G312,[1]RewardItemConfig!$B:$F,5,FALSE)","v":361},{"$f":"VLOOKUP(H312,[1]RewardItemConfig!$B:$F,5,FALSE)","v":54},{"$f":"VLOOKUP(I312,[1]RewardItemConfig!$B:$F,5,FALSE)","v":36},14,3,17,"14#361|3#54|17#36"]
[{"$nulls":6},3000313,3005313,3010313,{"$f":"VLOOKUP(G313,[1]RewardItemConfig!$B:$F,5,FALSE)","v":362},{"$f":"VLOOKUP(H313,[1]RewardItemConfig!$B:$F,5,FALSE)","v":54},{"$f":"VLOOKUP(I313,[1]RewardItemConfig!$B:$F,5,FALSE)","v":36},14,3,17,"14#362|3#54|17#36"]
[{"$nulls":6},3000314,3005314,3010314,{"$f":"VLOOKUP(G314,[1]RewardItemConfig!$B:$F,5,FALSE)","v":363},{"$f":"VLOOKUP(H314,[1]RewardItemConfig!$B:$F,5,FALSE)","v":54},{"$f":"VLOOKUP(I314,[1]RewardItemConfig!$B:$F,5,FALSE)","v":36},14,3,17,"14#363|3#54|17#36"]
[{"$nulls":6},3000315,3005315,3010315,{"$f":"VLOOKUP(G315,[1]RewardItemConfig!$B:$F,5,FALSE)","v":364},{"$f":"VLOOKUP(H315,[1]RewardItemConfig!$B:$F,5,FALSE)","v":54},{"$f":"VLOOKUP(I315,[1]RewardItemConfig!$B:$F,5,FALSE)","v":36},14,3,17,"14#364|3#54|17#36"]
[{"$nulls":6},3000316,3005316,3010316,{"$f":"VLOOKUP(G316,[1]RewardItemConfig!$B:$F,5,FALSE)","v":365},{"$f":"VLOOKUP(H316,[1]RewardItemConfig!$B:$F,5,FALSE)","v":54},{"$f":"VLOOKUP(I316,[1]RewardItemConfig!$B:$F,5,FALSE)","v":36},14,3,17,"14#365|3#54|17#36"]
[{"$nulls":6},3000317,3005317,3010317,{"$f":"VLOOKUP(G317,[1]RewardItemConfig!$B:$F,5,FALSE)","v":366},{"$f":"VLOOKUP(H317,[1]RewardItemConfig!$B:$F,5,FALSE)","v":54},{"$f":"VLOOKUP(I317,[1]RewardItemConfig!$B:$F,5,FALSE)","v":36},14,3,17,"14#366|3#54|17#36"]
[{"$nulls":6},3000318,3005318,3010318,{"$f":"VLOOKUP(G318,[1]RewardItemConfig!$B:$F,5,FALSE)","v":367},{"$f":"VLOOKUP(H318,[1]RewardItemConfig!$B:$F,5,FALSE)","v":54},{"$f":"VLOOKUP(I318,[1]RewardItemConfig!$B:$F,5,FALSE)","v":36},14,3,17,"14#367|3#54|17#36"]
[{"$nulls":6},3000319,3005319,3010319,{"$f":"VLOOKUP(G319,[1]RewardItemConfig!$B:$F,5,FALSE)","v":368},{"$f":"VLOOKUP(H319,[1]RewardItemConfig!$B:$F,5,FALSE)","v":54},{"$f":"VLOOKUP(I319,[1]RewardItemConfig!$B:$F,5,FALSE)","v":36},14,3,17,"14#368|3#54|17#36"]
[{"$nulls":6},3000320,3005320,3010320,{"$f":"VLOOKUP(G320,[1]RewardItemConfig!$B:$F,5,FALSE)","v":369},{"$f":"VLOOKUP(H320,[1]RewardItemConfig!$B:$F,5,FALSE)","v":56},{"$f":"VLOOKUP(I320,[1]RewardItemConfig!$B:$F,5,FALSE)","v":37},14,3,17,"14#369|3#56|17#37"]
[{"$nulls":6},3000321,3005321,3010321,{"$f":"VLOOKUP(G321,[1]RewardItemConfig!$B:$F,5,FALSE)","v":370},{"$f":"VLOOKUP(H321,[1]RewardItemConfig!$B:$F,5,FALSE)","v":56},{"$f":"VLOOKUP(I321,[1]RewardItemConfig!$B:$F,5,FALSE)","v":37},14,3,17,"14#370|3#56|17#37"]
[{"$nulls":6},3000322,3005322,3010322,{"$f":"VLOOKUP(G322,[1]RewardItemConfig!$B:$F,5,FALSE)","v":371},{"$f":"VLOOKUP(H322,[1]RewardItemConfig!$B:$F,5,FALSE)","v":56},{"$f":"VLOOKUP(I322,[1]RewardItemConfig!$B:$F,5,FALSE)","v":37},14,3,17,{"$f":"M322&\"#\"&J322&\"|\"&N322&\"#\"&K322&\"|\"&O322&\"#\"&L322","v":"14#371|3#56|17#37"}]
[{"$nulls":6},3000323,3005323,3010323,{"$f":"VLOOKUP(G323,[1]RewardItemConfig!$B:$F,5,FALSE)","v":372},{"$f":"VLOOKUP(H323,[1]RewardItemConfig!$B:$F,5,FALSE)","v":56},{"$f":"VLOOKUP(I323,[1]RewardItemConfig!$B:$F,5,FALSE)","v":37},{"$f":"M322","v":14},{"$f":"N322","v":3},{"$f":"O322","v":17},"14#372|3#56|17#37"]
[{"$nulls":6},3000324,3005324,3010324,{"$f":"VLOOKUP(G324,[1]RewardItemConfig!$B:$F,5,FALSE)","v":373},{"$f":"VLOOKUP(H324,[1]RewardItemConfig!$B:$F,5,FALSE)","v":56},{"$f":"VLOOKUP(I324,[1]RewardItemConfig!$B:$F,5,FALSE)","v":37},14,3,17,"14#373|3#56|17#37"]
[{"$nulls":6},3000325,3005325,3010325,{"$f":"VLOOKUP(G325,[1]RewardItemConfig!$B:$F,5,FALSE)","v":374},{"$f":"VLOOKUP(H325,[1]RewardItemConfig!$B:$F,5,FALSE)","v":56},{"$f":"VLOOKUP(I325,[1]RewardItemConfig!$B:$F,5,FALSE)","v":37},14,3,17,"14#374|3#56|17#37"]
[{"$nulls":6},3000326,3005326,3010326,{"$f":"VLOOKUP(G326,[1]RewardItemConfig!$B:$F,5,FALSE)","v":375},{"$f":"VLOOKUP(H326,[1]RewardItemConfig!$B:$F,5,FALSE)","v":56},{"$f":"VLOOKUP(I326,[1]RewardItemConfig!$B:$F,5,FALSE)","v":37},14,3,17,"14#375|3#56|17#37"]
[{"$nulls":6},3000327,3005327,3010327,{"$f":"VLOOKUP(G327,[1]RewardItemConfig!$B:$F,5,FALSE)","v":376},{"$f":"VLOOKUP(H327,[1]RewardItemConfig!$B:$F,5,FALSE)","v":56},{"$f":"VLOOKUP(I327,[1]RewardItemConfig!$B:$F,5,FALSE)","v":37},14,3,17,"14#376|3#56|17#37"]
[{"$nulls":6},3000328,3005328,3010328,{"$f":"VLOOKUP(G328,[1]RewardItemConfig!$B:$F,5,FALSE)","v":377},{"$f":"VLOOKUP(H328,[1]RewardItemConfig!$B:$F,5,FALSE)","v":56},{"$f":"VLOOKUP(I328,[1]RewardItemConfig!$B:$F,5,FALSE)","v":37},14,3,17,"14#377|3#56|17#37"]
[{"$nulls":6},3000329,3005329,3010329,{"$f":"VLOOKUP(G329,[1]RewardItemConfig!$B:$F,5,FALSE)","v":378},{"$f":"VLOOKUP(H329,[1]RewardItemConfig!$B:$F,5,FALSE)","v":56},{"$f":"VLOOKUP(I329,[1]RewardItemConfig!$B:$F,5,FALSE)","v":37},14,3,17,"14#378|3#56|17#37"]
[{"$nulls":6},3000330,3005330,3010330,{"$f":"VLOOKUP(G330,[1]RewardItemConfig!$B:$F,5,FALSE)","v":379},{"$f":"VLOOKUP(H330,[1]RewardItemConfig!$B:$F,5,FALSE)","v":58},{"$f":"VLOOKUP(I330,[1]RewardItemConfig!$B:$F,5,FALSE)","v":38},14,3,17,"14#379|3#58|17#38"]
[{"$nulls":6},3000331,3005331,3010331,{"$f":"VLOOKUP(G331,[1]RewardItemConfig!$B:$F,5,FALSE)","v":380},{"$f":"VLOOKUP(H331,[1]RewardItemConfig!$B:$F,5,FALSE)","v":58},{"$f":"VLOOKUP(I331,[1]RewardItemConfig!$B:$F,5,FALSE)","v":38},14,3,17,"14#380|3#58|17#38"]
[{"$nulls":6},3000332,3005332,3010332,{"$f":"VLOOKUP(G332,[1]RewardItemConfig!$B:$F,5,FALSE)","v":381},{"$f":"VLOOKUP(H332,[1]RewardItemConfig!$B:$F,5,FALSE)","v":58},{"$f":"VLOOKUP(I332,[1]RewardItemConfig!$B:$F,5,FALSE)","v":38},14,3,17,"14#381|3#58|17#38"]
[{"$nulls":6},3000333,3005333,3010333,{"$f":"VLOOKUP(G333,[1]RewardItemConfig!$B:$F,5,FALSE)","v":382},{"$f":"VLOOKUP(H333,[1]RewardItemConfig!$B:$F,5,FALSE)","v":58},{"$f":"VLOOKUP(I333,[1]RewardItemConfig!$B:$F,5,FALSE)","v":38},14,3,17,"14#382|3#58|17#38"]
[{"$nulls":6},3000334,3005334,3010334,{"$f":"VLOOKUP(G334,[1]RewardItemConfig!$B:$F,5,FALSE)","v":383},{"$f":"VLOOKUP(H334,[1]RewardItemConfig!$B:$F,5,FALSE)","v":58},{"$f":"VLOOKUP(I334,[1]RewardItemConfig!$B:$F,5,FALSE)","v":38},14,3,17,"14#383|3#58|17#38"]
[{"$nulls":6},3000335,3005335,3010335,{"$f":"VLOOKUP(G335,[1]RewardItemConfig!$B:$F,5,FALSE)","v":384},{"$f":"VLOOKUP(H335,[1]RewardItemConfig!$B:$F,5,FALSE)","v":58},{"$f":"VLOOKUP(I335,[1]RewardItemConfig!$B:$F,5,FALSE)","v":38},14,3,17,"14#384|3#58|17#38"]
[{"$nulls":6},3000336,3005336,3010336,{"$f":"VLOOKUP(G336,[1]RewardItemConfig!$B:$F,5,FALSE)","v":385},{"$f":"VLOOKUP(H336,[1]RewardItemConfig!$B:$F,5,FALSE)","v":58},{"$f":"VLOOKUP(I336,[1]RewardItemConfig!$B:$F,5,FALSE)","v":38},14,3,17,"14#385|3#58|17#38"]
[{"$nulls":6},3000337,3005337,3010337,{"$f":"VLOOKUP(G337,[1]RewardItemConfig!$B:$F,5,FALSE)","v":386},{"$f":"VLOOKUP(H337,[1]RewardItemConfig!$B:$F,5,FALSE)","v":58},{"$f":"VLOOKUP(I337,[1]RewardItemConfig!$B:$F,5,FALSE)","v":38},14,3,17,"14#386|3#58|17#38"]
[{"$nulls":6},3000338,3005338,3010338,{"$f":"VLOOKUP(G338,[1]RewardItemConfig!$B:$F,5,FALSE)","v":387},{"$f":"VLOOKUP(H338,[1]RewardItemConfig!$B:$F,5,FALSE)","v":58},{"$f":"VLOOKUP(I338,[1]RewardItemConfig!$B:$F,5,FALSE)","v":38},14,3,17,"14#387|3#58|17#38"]
[{"$nulls":6},3000339,3005339,3010339,{"$f":"VLOOKUP(G339,[1]RewardItemConfig!$B:$F,5,FALSE)","v":388},{"$f":"VLOOKUP(H339,[1]RewardItemConfig!$B:$F,5,FALSE)","v":58},{"$f":"VLOOKUP(I339,[1]RewardItemConfig!$B:$F,5,FALSE)","v":38},14,3,17,"14#388|3#58|17#38"]
[{"$nulls":6},3000340,3005340,3010340,{"$f":"VLOOKUP(G340,[1]RewardItemConfig!$B:$F,5,FALSE)","v":389},{"$f":"VLOOKUP(H340,[1]RewardItemConfig!$B:$F,5,FALSE)","v":60},{"$f":"VLOOKUP(I340,[1]RewardItemConfig!$B:$F,5,FALSE)","v":39},14,3,17,"14#389|3#60|17#39"]
[{"$nulls":6},3000341,3005341,3010341,{"$f":"VLOOKUP(G341,[1]RewardItemConfig!$B:$F,5,FALSE)","v":390},{"$f":"VLOOKUP(H341,[1]RewardItemConfig!$B:$F,5,FALSE)","v":60},{"$f":"VLOOKUP(I341,[1]RewardItemConfig!$B:$F,5,FALSE)","v":39},14,3,17,"14#390|3#60|17#39"]
[{"$nulls":6},3000342,3005342,3010342,{"$f":"VLOOKUP(G342,[1]RewardItemConfig!$B:$F,5,FALSE)","v":391},{"$f":"VLOOKUP(H342,[1]RewardItemConfig!$B:$F,5,FALSE)","v":60},{"$f":"VLOOKUP(I342,[1]RewardItemConfig!$B:$F,5,FALSE)","v":39},14,3,17,"14#391|3#60|17#39"]
[{"$nulls":6},3000343,3005343,3010343,{"$f":"VLOOKUP(G343,[1]RewardItemConfig!$B:$F,5,FALSE)","v":392},{"$f":"VLOOKUP(H343,[1]RewardItemConfig!$B:$F,5,FALSE)","v":60},{"$f":"VLOOKUP(I343,[1]RewardItemConfig!$B:$F,5,FALSE)","v":39},14,3,17,"14#392|3#60|17#39"]
[{"$nulls":6},3000344,3005344,3010344,{"$f":"VLOOKUP(G344,[1]RewardItemConfig!$B:$F,5,FALSE)","v":393},{"$f":"VLOOKUP(H344,[1]RewardItemConfig!$B:$F,5,FALSE)","v":60},{"$f":"VLOOKUP(I344,[1]RewardItemConfig!$B:$F,5,FALSE)","v":39},14,3,17,"14#393|3#60|17#39"]
[{"$nulls":6},3000345,3005345,3010345,{"$f":"VLOOKUP(G345,[1]RewardItemConfig!$B:$F,5,FALSE)","v":394},{"$f":"VLOOKUP(H345,[1]RewardItemConfig!$B:$F,5,FALSE)","v":60},{"$f":"VLOOKUP(I345,[1]RewardItemConfig!$B:$F,5,FALSE)","v":39},14,3,17,"14#394|3#60|17#39"]
[{"$nulls":6},3000346,3005346,3010346,{"$f":"VLOOKUP(G346,[1]RewardItemConfig!$B:$F,5,FALSE)","v":395},{"$f":"VLOOKUP(H346,[1]RewardItemConfig!$B:$F,5,FALSE)","v":60},{"$f":"VLOOKUP(I346,[1]RewardItemConfig!$B:$F,5,FALSE)","v":39},14,3,17,"14#395|3#60|17#39"]
[{"$nulls":6},3000347,3005347,3010347,{"$f":"VLOOKUP(G347,[1]RewardItemConfig!$B:$F,5,FALSE)","v":396},{"$f":"VLOOKUP(H347,[1]RewardItemConfig!$B:$F,5,FALSE)","v":60},{"$f":"VLOOKUP(I347,[1]RewardItemConfig!$B:$F,5,FALSE)","v":39},14,3,17,"14#396|3#60|17#39"]
[{"$nulls":6},3000348,3005348,3010348,{"$f":"VLOOKUP(G348,[1]RewardItemConfig!$B:$F,5,FALSE)","v":397},{"$f":"VLOOKUP(H348,[1]RewardItemConfig!$B:$F,5,FALSE)","v":60},{"$f":"VLOOKUP(I348,[1]RewardItemConfig!$B:$F,5,FALSE)","v":39},14,3,17,"14#397|3#60|17#39"]
[{"$nulls":6},3000349,3005349,3010349,{"$f":"VLOOKUP(G349,[1]RewardItemConfig!$B:$F,5,FALSE)","v":398},{"$f":"VLOOKUP(H349,[1]RewardItemConfig!$B:$F,5,FALSE)","v":60},{"$f":"VLOOKUP(I349,[1]RewardItemConfig!$B:$F,5,FALSE)","v":39},14,3,17,"14#398|3#60|17#39"]
[{"$nulls":6},3000350,3005350,3010350,{"$f":"VLOOKUP(G350,[1]RewardItemConfig!$B:$F,5,FALSE)","v":399},{"$f":"VLOOKUP(H350,[1]RewardItemConfig!$B:$F,5,FALSE)","v":62},{"$f":"VLOOKUP(I350,[1]RewardItemConfig!$B:$F,5,FALSE)","v":40},14,3,17,"14#399|3#62|17#40"]
[{"$nulls":6},3000351,3005351,3010351,{"$f":"VLOOKUP(G351,[1]RewardItemConfig!$B:$F,5,FALSE)","v":400},{"$f":"VLOOKUP(H351,[1]RewardItemConfig!$B:$F,5,FALSE)","v":62},{"$f":"VLOOKUP(I351,[1]RewardItemConfig!$B:$F,5,FALSE)","v":40},14,3,17,"14#400|3#62|17#40"]
[{"$nulls":6},3000352,3005352,3010352,{"$f":"VLOOKUP(G352,[1]RewardItemConfig!$B:$F,5,FALSE)","v":401},{"$f":"VLOOKUP(H352,[1]RewardItemConfig!$B:$F,5,FALSE)","v":62},{"$f":"VLOOKUP(I352,[1]RewardItemConfig!$B:$F,5,FALSE)","v":40},14,3,17,"14#401|3#62|17#40"]
[{"$nulls":6},3000353,3005353,3010353,{"$f":"VLOOKUP(G353,[1]RewardItemConfig!$B:$F,5,FALSE)","v":402},{"$f":"VLOOKUP(H353,[1]RewardItemConfig!$B:$F,5,FALSE)","v":62},{"$f":"VLOOKUP(I353,[1]RewardItemConfig!$B:$F,5,FALSE)","v":40},14,3,17,"14#402|3#62|17#40"]
[{"$nulls":6},3000354,3005354,3010354,{"$f":"VLOOKUP(G354,[1]RewardItemConfig!$B:$F,5,FALSE)","v":403},{"$f":"VLOOKUP(H354,[1]RewardItemConfig!$B:$F,5,FALSE)","v":62},{"$f":"VLOOKUP(I354,[1]RewardItemConfig!$B:$F,5,FALSE)","v":40},14,3,17,"14#403|3#62|17#40"]
[{"$nulls":6},3000355,3005355,3010355,{"$f":"VLOOKUP(G355,[1]RewardItemConfig!$B:$F,5,FALSE)","v":404},{"$f":"VLOOKUP(H355,[1]RewardItemConfig!$B:$F,5,FALSE)","v":62},{"$f":"VLOOKUP(I355,[1]RewardItemConfig!$B:$F,5,FALSE)","v":40},14,3,17,"14#404|3#62|17#40"]
[{"$nulls":6},3000356,3005356,3010356,{"$f":"VLOOKUP(G356,[1]RewardItemConfig!$B:$F,5,FALSE)","v":405},{"$f":"VLOOKUP(H356,[1]RewardItemConfig!$B:$F,5,FALSE)","v":62},{"$f":"VLOOKUP(I356,[1]RewardItemConfig!$B:$F,5,FALSE)","v":40},14,3,17,"14#405|3#62|17#40"]
[{"$nulls":6},3000357,3005357,3010357,{"$f":"VLOOKUP(G357,[1]RewardItemConfig!$B:$F,5,FALSE)","v":406},{"$f":"VLOOKUP(H357,[1]RewardItemConfig!$B:$F,5,FALSE)","v":62},{"$f":"VLOOKUP(I357,[1]RewardItemConfig!$B:$F,5,FALSE)","v":40},14,3,17,"14#406|3#62|17#40"]
[{"$nulls":6},3000358,3005358,3010358,{"$f":"VLOOKUP(G358,[1]RewardItemConfig!$B:$F,5,FALSE)","v":407},{"$f":"VLOOKUP(H358,[1]RewardItemConfig!$B:$F,5,FALSE)","v":62},{"$f":"VLOOKUP(I358,[1]RewardItemConfig!$B:$F,5,FALSE)","v":40},14,3,17,"14#407|3#62|17#40"]
[{"$nulls":6},3000359,3005359,3010359,{"$f":"VLOOKUP(G359,[1]RewardItemConfig!$B:$F,5,FALSE)","v":408},{"$f":"VLOOKUP(H359,[1]RewardItemConfig!$B:$F,5,FALSE)","v":62},{"$f":"VLOOKUP(I359,[1]RewardItemConfig!$B:$F,5,FALSE)","v":40},14,3,17,"14#408|3#62|17#40"]
[{"$nulls":6},3000360,3005360,3010360,{"$f":"VLOOKUP(G360,[1]RewardItemConfig!$B:$F,5,FALSE)","v":409},{"$f":"VLOOKUP(H360,[1]RewardItemConfig!$B:$F,5,FALSE)","v":64},{"$f":"VLOOKUP(I360,[1]RewardItemConfig!$B:$F,5,FALSE)","v":41},14,3,17,"14#409|3#64|17#41"]
[{"$nulls":6},3000361,3005361,3010361,{"$f":"VLOOKUP(G361,[1]RewardItemConfig!$B:$F,5,FALSE)","v":410},{"$f":"VLOOKUP(H361,[1]RewardItemConfig!$B:$F,5,FALSE)","v":64},{"$f":"VLOOKUP(I361,[1]RewardItemConfig!$B:$F,5,FALSE)","v":41},14,3,17,"14#410|3#64|17#41"]
[{"$nulls":6},3000362,3005362,3010362,{"$f":"VLOOKUP(G362,[1]RewardItemConfig!$B:$F,5,FALSE)","v":411},{"$f":"VLOOKUP(H362,[1]RewardItemConfig!$B:$F,5,FALSE)","v":64},{"$f":"VLOOKUP(I362,[1]RewardItemConfig!$B:$F,5,FALSE)","v":41},14,3,17,"14#411|3#64|17#41"]
[{"$nulls":6},3000363,3005363,3010363,{"$f":"VLOOKUP(G363,[1]RewardItemConfig!$B:$F,5,FALSE)","v":412},{"$f":"VLOOKUP(H363,[1]RewardItemConfig!$B:$F,5,FALSE)","v":64},{"$f":"VLOOKUP(I363,[1]RewardItemConfig!$B:$F,5,FALSE)","v":41},14,3,17,"14#412|3#64|17#41"]
[{"$nulls":6},3000364,3005364,3010364,{"$f":"VLOOKUP(G364,[1]RewardItemConfig!$B:$F,5,FALSE)","v":413},{"$f":"VLOOKUP(H364,[1]RewardItemConfig!$B:$F,5,FALSE)","v":64},{"$f":"VLOOKUP(I364,[1]RewardItemConfig!$B:$F,5,FALSE)","v":41},14,3,17,"14#413|3#64|17#41"]
[{"$nulls":6},3000365,3005365,3010365,{"$f":"VLOOKUP(G365,[1]RewardItemConfig!$B:$F,5,FALSE)","v":414},{"$f":"VLOOKUP(H365,[1]RewardItemConfig!$B:$F,5,FALSE)","v":64},{"$f":"VLOOKUP(I365,[1]RewardItemConfig!$B:$F,5,FALSE)","v":41},14,3,17,"14#414|3#64|17#41"]
[{"$nulls":6},3000366,3005366,3010366,{"$f":"VLOOKUP(G366,[1]RewardItemConfig!$B:$F,5,FALSE)","v":415},{"$f":"VLOOKUP(H366,[1]RewardItemConfig!$B:$F,5,FALSE)","v":64},{"$f":"VLOOKUP(I366,[1]RewardItemConfig!$B:$F,5,FALSE)","v":41},14,3,17,"14#415|3#64|17#41"]
[{"$nulls":6},3000367,3005367,3010367,{"$f":"VLOOKUP(G367,[1]RewardItemConfig!$B:$F,5,FALSE)","v":416},{"$f":"VLOOKUP(H367,[1]RewardItemConfig!$B:$F,5,FALSE)","v":64},{"$f":"VLOOKUP(I367,[1]RewardItemConfig!$B:$F,5,FALSE)","v":41},14,3,17,"14#416|3#64|17#41"]
[{"$nulls":6},3000368,3005368,3010368,{"$f":"VLOOKUP(G368,[1]RewardItemConfig!$B:$F,5,FALSE)","v":417},{"$f":"VLOOKUP(H368,[1]RewardItemConfig!$B:$F,5,FALSE)","v":64},{"$f":"VLOOKUP(I368,[1]RewardItemConfig!$B:$F,5,FALSE)","v":41},14,3,17,"14#417|3#64|17#41"]
[{"$nulls":6},3000369,3005369,3010369,{"$f":"VLOOKUP(G369,[1]RewardItemConfig!$B:$F,5,FALSE)","v":418},{"$f":"VLOOKUP(H369,[1]RewardItemConfig!$B:$F,5,FALSE)","v":64},{"$f":"VLOOKUP(I369,[1]RewardItemConfig!$B:$F,5,FALSE)","v":41},14,3,17,"14#418|3#64|17#41"]
[{"$nulls":6},3000370,3005370,3010370,{"$f":"VLOOKUP(G370,[1]RewardItemConfig!$B:$F,5,FALSE)","v":419},{"$f":"VLOOKUP(H370,[1]RewardItemConfig!$B:$F,5,FALSE)","v":66},{"$f":"VLOOKUP(I370,[1]RewardItemConfig!$B:$F,5,FALSE)","v":42},14,3,17,"14#419|3#66|17#42"]
[{"$nulls":6},3000371,3005371,3010371,{"$f":"VLOOKUP(G371,[1]RewardItemConfig!$B:$F,5,FALSE)","v":420},{"$f":"VLOOKUP(H371,[1]RewardItemConfig!$B:$F,5,FALSE)","v":66},{"$f":"VLOOKUP(I371,[1]RewardItemConfig!$B:$F,5,FALSE)","v":42},14,3,17,"14#420|3#66|17#42"]
[{"$nulls":6},3000372,3005372,3010372,{"$f":"VLOOKUP(G372,[1]RewardItemConfig!$B:$F,5,FALSE)","v":421},{"$f":"VLOOKUP(H372,[1]RewardItemConfig!$B:$F,5,FALSE)","v":66},{"$f":"VLOOKUP(I372,[1]RewardItemConfig!$B:$F,5,FALSE)","v":42},14,3,17,"14#421|3#66|17#42"]
[{"$nulls":6},3000373,3005373,3010373,{"$f":"VLOOKUP(G373,[1]RewardItemConfig!$B:$F,5,FALSE)","v":422},{"$f":"VLOOKUP(H373,[1]RewardItemConfig!$B:$F,5,FALSE)","v":66},{"$f":"VLOOKUP(I373,[1]RewardItemConfig!$B:$F,5,FALSE)","v":42},14,3,17,"14#422|3#66|17#42"]
[{"$nulls":6},3000374,3005374,3010374,{"$f":"VLOOKUP(G374,[1]RewardItemConfig!$B:$F,5,FALSE)","v":423},{"$f":"VLOOKUP(H374,[1]RewardItemConfig!$B:$F,5,FALSE)","v":66},{"$f":"VLOOKUP(I374,[1]RewardItemConfig!$B:$F,5,FALSE)","v":42},14,3,17,"14#423|3#66|17#42"]
[{"$nulls":6},3000375,3005375,3010375,{"$f":"VLOOKUP(G375,[1]RewardItemConfig!$B:$F,5,FALSE)","v":424},{"$f":"VLOOKUP(H375,[1]RewardItemConfig!$B:$F,5,FALSE)","v":66},{"$f":"VLOOKUP(I375,[1]RewardItemConfig!$B:$F,5,FALSE)","v":42},14,3,17,"14#424|3#66|17#42"]
[{"$nulls":6},3000376,3005376,3010376,{"$f":"VLOOKUP(G376,[1]RewardItemConfig!$B:$F,5,FALSE)","v":425},{"$f":"VLOOKUP(H376,[1]RewardItemConfig!$B:$F,5,FALSE)","v":66},{"$f":"VLOOKUP(I376,[1]RewardItemConfig!$B:$F,5,FALSE)","v":42},14,3,17,"14#425|3#66|17#42"]
[{"$nulls":6},3000377,3005377,3010377,{"$f":"VLOOKUP(G377,[1]RewardItemConfig!$B:$F,5,FALSE)","v":426},{"$f":"VLOOKUP(H377,[1]RewardItemConfig!$B:$F,5,FALSE)","v":66},{"$f":"VLOOKUP(I377,[1]RewardItemConfig!$B:$F,5,FALSE)","v":42},14,3,17,"14#426|3#66|17#42"]
[{"$nulls":6},3000378,3005378,3010378,{"$f":"VLOOKUP(G378,[1]RewardItemConfig!$B:$F,5,FALSE)","v":427},{"$f":"VLOOKUP(H378,[1]RewardItemConfig!$B:$F,5,FALSE)","v":66},{"$f":"VLOOKUP(I378,[1]RewardItemConfig!$B:$F,5,FALSE)","v":42},14,3,17,"14#427|3#66|17#42"]
[{"$nulls":6},3000379,3005379,3010379,{"$f":"VLOOKUP(G379,[1]RewardItemConfig!$B:$F,5,FALSE)","v":428},{"$f":"VLOOKUP(H379,[1]RewardItemConfig!$B:$F,5,FALSE)","v":66},{"$f":"VLOOKUP(I379,[1]RewardItemConfig!$B:$F,5,FALSE)","v":42},14,3,17,"14#428|3#66|17#42"]
[{"$nulls":6},3000380,3005380,3010380,{"$f":"VLOOKUP(G380,[1]RewardItemConfig!$B:$F,5,FALSE)","v":429},{"$f":"VLOOKUP(H380,[1]RewardItemConfig!$B:$F,5,FALSE)","v":68},{"$f":"VLOOKUP(I380,[1]RewardItemConfig!$B:$F,5,FALSE)","v":43},14,3,17,"14#429|3#68|17#43"]
[{"$nulls":6},3000381,3005381,3010381,{"$f":"VLOOKUP(G381,[1]RewardItemConfig!$B:$F,5,FALSE)","v":430},{"$f":"VLOOKUP(H381,[1]RewardItemConfig!$B:$F,5,FALSE)","v":68},{"$f":"VLOOKUP(I381,[1]RewardItemConfig!$B:$F,5,FALSE)","v":43},14,3,17,"14#430|3#68|17#43"]
[{"$nulls":6},3000382,3005382,3010382,{"$f":"VLOOKUP(G382,[1]RewardItemConfig!$B:$F,5,FALSE)","v":431},{"$f":"VLOOKUP(H382,[1]RewardItemConfig!$B:$F,5,FALSE)","v":68},{"$f":"VLOOKUP(I382,[1]RewardItemConfig!$B:$F,5,FALSE)","v":43},14,3,17,"14#431|3#68|17#43"]
[{"$nulls":6},3000383,3005383,3010383,{"$f":"VLOOKUP(G383,[1]RewardItemConfig!$B:$F,5,FALSE)","v":432},{"$f":"VLOOKUP(H383,[1]RewardItemConfig!$B:$F,5,FALSE)","v":68},{"$f":"VLOOKUP(I383,[1]RewardItemConfig!$B:$F,5,FALSE)","v":43},14,3,17,"14#432|3#68|17#43"]
[{"$nulls":6},3000384,3005384,3010384,{"$f":"VLOOKUP(G384,[1]RewardItemConfig!$B:$F,5,FALSE)","v":433},{"$f":"VLOOKUP(H384,[1]RewardItemConfig!$B:$F,5,FALSE)","v":68},{"$f":"VLOOKUP(I384,[1]RewardItemConfig!$B:$F,5,FALSE)","v":43},14,3,17,"14#433|3#68|17#43"]
[{"$nulls":6},3000385,3005385,3010385,{"$f":"VLOOKUP(G385,[1]RewardItemConfig!$B:$F,5,FALSE)","v":434},{"$f":"VLOOKUP(H385,[1]RewardItemConfig!$B:$F,5,FALSE)","v":68},{"$f":"VLOOKUP(I385,[1]RewardItemConfig!$B:$F,5,FALSE)","v":43},14,3,17,"14#434|3#68|17#43"]
[{"$nulls":6},3000386,3005386,3010386,{"$f":"VLOOKUP(G386,[1]RewardItemConfig!$B:$F,5,FALSE)","v":435},{"$f":"VLOOKUP(H386,[1]RewardItemConfig!$B:$F,5,FALSE)","v":68},{"$f":"VLOOKUP(I386,[1]RewardItemConfig!$B:$F,5,FALSE)","v":43},14,3,17,{"$f":"M386&\"#\"&J386&\"|\"&N386&\"#\"&K386&\"|\"&O386&\"#\"&L386","v":"14#435|3#68|17#43"}]
[{"$nulls":6},3000387,3005387,3010387,{"$f":"VLOOKUP(G387,[1]RewardItemConfig!$B:$F,5,FALSE)","v":436},{"$f":"VLOOKUP(H387,[1]RewardItemConfig!$B:$F,5,FALSE)","v":68},{"$f":"VLOOKUP(I387,[1]RewardItemConfig!$B:$F,5,FALSE)","v":43},{"$f":"M386","v":14},{"$f":"N386","v":3},{"$f":"O386","v":17},"14#436|3#68|17#43"]
[{"$nulls":6},3000388,3005388,3010388,{"$f":"VLOOKUP(G388,[1]RewardItemConfig!$B:$F,5,FALSE)","v":437},{"$f":"VLOOKUP(H388,[1]RewardItemConfig!$B:$F,5,FALSE)","v":68},{"$f":"VLOOKUP(I388,[1]RewardItemConfig!$B:$F,5,FALSE)","v":43},14,3,17,"14#437|3#68|17#43"]
[{"$nulls":6},3000389,3005389,3010389,{"$f":"VLOOKUP(G389,[1]RewardItemConfig!$B:$F,5,FALSE)","v":438},{"$f":"VLOOKUP(H389,[1]RewardItemConfig!$B:$F,5,FALSE)","v":68},{"$f":"VLOOKUP(I389,[1]RewardItemConfig!$B:$F,5,FALSE)","v":43},14,3,17,"14#438|3#68|17#43"]
[{"$nulls":6},3000390,3005390,3010390,{"$f":"VLOOKUP(G390,[1]RewardItemConfig!$B:$F,5,FALSE)","v":439},{"$f":"VLOOKUP(H390,[1]RewardItemConfig!$B:$F,5,FALSE)","v":70},{"$f":"VLOOKUP(I390,[1]RewardItemConfig!$B:$F,5,FALSE)","v":44},14,3,17,"14#439|3#70|17#44"]
[{"$nulls":6},3000391,3005391,3010391,{"$f":"VLOOKUP(G391,[1]RewardItemConfig!$B:$F,5,FALSE)","v":440},{"$f":"VLOOKUP(H391,[1]RewardItemConfig!$B:$F,5,FALSE)","v":70},{"$f":"VLOOKUP(I391,[1]RewardItemConfig!$B:$F,5,FALSE)","v":44},14,3,17,"14#440|3#70|17#44"]
[{"$nulls":6},3000392,3005392,3010392,{"$f":"VLOOKUP(G392,[1]RewardItemConfig!$B:$F,5,FALSE)","v":441},{"$f":"VLOOKUP(H392,[1]RewardItemConfig!$B:$F,5,FALSE)","v":70},{"$f":"VLOOKUP(I392,[1]RewardItemConfig!$B:$F,5,FALSE)","v":44},14,3,17,"14#441|3#70|17#44"]
[{"$nulls":6},3000393,3005393,3010393,{"$f":"VLOOKUP(G393,[1]RewardItemConfig!$B:$F,5,FALSE)","v":442},{"$f":"VLOOKUP(H393,[1]RewardItemConfig!$B:$F,5,FALSE)","v":70},{"$f":"VLOOKUP(I393,[1]RewardItemConfig!$B:$F,5,FALSE)","v":44},14,3,17,"14#442|3#70|17#44"]
[{"$nulls":6},3000394,3005394,3010394,{"$f":"VLOOKUP(G394,[1]RewardItemConfig!$B:$F,5,FALSE)","v":443},{"$f":"VLOOKUP(H394,[1]RewardItemConfig!$B:$F,5,FALSE)","v":70},{"$f":"VLOOKUP(I394,[1]RewardItemConfig!$B:$F,5,FALSE)","v":44},14,3,17,"14#443|3#70|17#44"]
[{"$nulls":6},3000395,3005395,3010395,{"$f":"VLOOKUP(G395,[1]RewardItemConfig!$B:$F,5,FALSE)","v":444},{"$f":"VLOOKUP(H395,[1]RewardItemConfig!$B:$F,5,FALSE)","v":70},{"$f":"VLOOKUP(I395,[1]RewardItemConfig!$B:$F,5,FALSE)","v":44},14,3,17,"14#444|3#70|17#44"]
[{"$nulls":6},3000396,3005396,3010396,{"$f":"VLOOKUP(G396,[1]RewardItemConfig!$B:$F,5,FALSE)","v":445},{"$f":"VLOOKUP(H396,[1]RewardItemConfig!$B:$F,5,FALSE)","v":70},{"$f":"VLOOKUP(I396,[1]RewardItemConfig!$B:$F,5,FALSE)","v":44},14,3,17,"14#445|3#70|17#44"]
[{"$nulls":6},3000397,3005397,3010397,{"$f":"VLOOKUP(G397,[1]RewardItemConfig!$B:$F,5,FALSE)","v":446},{"$f":"VLOOKUP(H397,[1]RewardItemConfig!$B:$F,5,FALSE)","v":70},{"$f":"VLOOKUP(I397,[1]RewardItemConfig!$B:$F,5,FALSE)","v":44},14,3,17,"14#446|3#70|17#44"]
[{"$nulls":6},3000398,3005398,3010398,{"$f":"VLOOKUP(G398,[1]RewardItemConfig!$B:$F,5,FALSE)","v":447},{"$f":"VLOOKUP(H398,[1]RewardItemConfig!$B:$F,5,FALSE)","v":70},{"$f":"VLOOKUP(I398,[1]RewardItemConfig!$B:$F,5,FALSE)","v":44},14,3,17,"14#447|3#70|17#44"]
[{"$nulls":6},3000399,3005399,3010399,{"$f":"VLOOKUP(G399,[1]RewardItemConfig!$B:$F,5,FALSE)","v":448},{"$f":"VLOOKUP(H399,[1]RewardItemConfig!$B:$F,5,FALSE)","v":70},{"$f":"VLOOKUP(I399,[1]RewardItemConfig!$B:$F,5,FALSE)","v":44},14,3,17,"14#448|3#70|17#44"]
[{"$nulls":6},3000400,3005400,3010400,{"$f":"VLOOKUP(G400,[1]RewardItemConfig!$B:$F,5,FALSE)","v":449},{"$f":"VLOOKUP(H400,[1]RewardItemConfig!$B:$F,5,FALSE)","v":72},{"$f":"VLOOKUP(I400,[1]RewardItemConfig!$B:$F,5,FALSE)","v":45},14,3,17,"14#449|3#72|17#45"]
[{"$nulls":6},3000401,3005401,3010401,{"$f":"VLOOKUP(G401,[1]RewardItemConfig!$B:$F,5,FALSE)","v":450},{"$f":"VLOOKUP(H401,[1]RewardItemConfig!$B:$F,5,FALSE)","v":72},{"$f":"VLOOKUP(I401,[1]RewardItemConfig!$B:$F,5,FALSE)","v":45},14,3,17,"14#450|3#72|17#45"]
[{"$nulls":6},3000402,3005402,3010402,{"$f":"VLOOKUP(G402,[1]RewardItemConfig!$B:$F,5,FALSE)","v":451},{"$f":"VLOOKUP(H402,[1]RewardItemConfig!$B:$F,5,FALSE)","v":72},{"$f":"VLOOKUP(I402,[1]RewardItemConfig!$B:$F,5,FALSE)","v":45},14,3,17,"14#451|3#72|17#45"]
[{"$nulls":6},3000403,3005403,3010403,{"$f":"VLOOKUP(G403,[1]RewardItemConfig!$B:$F,5,FALSE)","v":452},{"$f":"VLOOKUP(H403,[1]RewardItemConfig!$B:$F,5,FALSE)","v":72},{"$f":"VLOOKUP(I403,[1]RewardItemConfig!$B:$F,5,FALSE)","v":45},14,3,17,"14#452|3#72|17#45"]
[{"$nulls":6},3000404,3005404,3010404,{"$f":"VLOOKUP(G404,[1]RewardItemConfig!$B:$F,5,FALSE)","v":453},{"$f":"VLOOKUP(H404,[1]RewardItemConfig!$B:$F,5,FALSE)","v":72},{"$f":"VLOOKUP(I404,[1]RewardItemConfig!$B:$F,5,FALSE)","v":45},14,3,17,"14#453|3#72|17#45"]
[{"$nulls":6},3000405,3005405,3010405,{"$f":"VLOOKUP(G405,[1]RewardItemConfig!$B:$F,5,FALSE)","v":454},{"$f":"VLOOKUP(H405,[1]RewardItemConfig!$B:$F,5,FALSE)","v":72},{"$f":"VLOOKUP(I405,[1]RewardItemConfig!$B:$F,5,FALSE)","v":45},14,3,17,"14#454|3#72|17#45"]
[{"$nulls":6},3000406,3005406,3010406,{"$f":"VLOOKUP(G406,[1]RewardItemConfig!$B:$F,5,FALSE)","v":455},{"$f":"VLOOKUP(H406,[1]RewardItemConfig!$B:$F,5,FALSE)","v":72},{"$f":"VLOOKUP(I406,[1]RewardItemConfig!$B:$F,5,FALSE)","v":45},14,3,17,"14#455|3#72|17#45"]
[{"$nulls":6},3000407,3005407,3010407,{"$f":"VLOOKUP(G407,[1]RewardItemConfig!$B:$F,5,FALSE)","v":456},{"$f":"VLOOKUP(H407,[1]RewardItemConfig!$B:$F,5,FALSE)","v":72},{"$f":"VLOOKUP(I407,[1]RewardItemConfig!$B:$F,5,FALSE)","v":45},14,3,17,"14#456|3#72|17#45"]
[{"$nulls":6},3000408,3005408,3010408,{"$f":"VLOOKUP(G408,[1]RewardItemConfig!$B:$F,5,FALSE)","v":457},{"$f":"VLOOKUP(H408,[1]RewardItemConfig!$B:$F,5,FALSE)","v":72},{"$f":"VLOOKUP(I408,[1]RewardItemConfig!$B:$F,5,FALSE)","v":45},14,3,17,"14#457|3#72|17#45"]
[{"$nulls":6},3000409,3005409,3010409,{"$f":"VLOOKUP(G409,[1]RewardItemConfig!$B:$F,5,FALSE)","v":458},{"$f":"VLOOKUP(H409,[1]RewardItemConfig!$B:$F,5,FALSE)","v":72},{"$f":"VLOOKUP(I409,[1]RewardItemConfig!$B:$F,5,FALSE)","v":45},14,3,17,"14#458|3#72|17#45"]
[{"$nulls":6},3000410,3005410,3010410,{"$f":"VLOOKUP(G410,[1]RewardItemConfig!$B:$F,5,FALSE)","v":459},{"$f":"VLOOKUP(H410,[1]RewardItemConfig!$B:$F,5,FALSE)","v":74},{"$f":"VLOOKUP(I410,[1]RewardItemConfig!$B:$F,5,FALSE)","v":46},14,3,17,"14#459|3#74|17#46"]
[{"$nulls":6},3000411,3005411,3010411,{"$f":"VLOOKUP(G411,[1]RewardItemConfig!$B:$F,5,FALSE)","v":460},{"$f":"VLOOKUP(H411,[1]RewardItemConfig!$B:$F,5,FALSE)","v":74},{"$f":"VLOOKUP(I411,[1]RewardItemConfig!$B:$F,5,FALSE)","v":46},14,3,17,"14#460|3#74|17#46"]
[{"$nulls":6},3000412,3005412,3010412,{"$f":"VLOOKUP(G412,[1]RewardItemConfig!$B:$F,5,FALSE)","v":461},{"$f":"VLOOKUP(H412,[1]RewardItemConfig!$B:$F,5,FALSE)","v":74},{"$f":"VLOOKUP(I412,[1]RewardItemConfig!$B:$F,5,FALSE)","v":46},14,3,17,"14#461|3#74|17#46"]
[{"$nulls":6},3000413,3005413,3010413,{"$f":"VLOOKUP(G413,[1]RewardItemConfig!$B:$F,5,FALSE)","v":462},{"$f":"VLOOKUP(H413,[1]RewardItemConfig!$B:$F,5,FALSE)","v":74},{"$f":"VLOOKUP(I413,[1]RewardItemConfig!$B:$F,5,FALSE)","v":46},14,3,17,"14#462|3#74|17#46"]
[{"$nulls":6},3000414,3005414,3010414,{"$f":"VLOOKUP(G414,[1]RewardItemConfig!$B:$F,5,FALSE)","v":463},{"$f":"VLOOKUP(H414,[1]RewardItemConfig!$B:$F,5,FALSE)","v":74},{"$f":"VLOOKUP(I414,[1]RewardItemConfig!$B:$F,5,FALSE)","v":46},14,3,17,"14#463|3#74|17#46"]
[{"$nulls":6},3000415,3005415,3010415,{"$f":"VLOOKUP(G415,[1]RewardItemConfig!$B:$F,5,FALSE)","v":464},{"$f":"VLOOKUP(H415,[1]RewardItemConfig!$B:$F,5,FALSE)","v":74},{"$f":"VLOOKUP(I415,[1]RewardItemConfig!$B:$F,5,FALSE)","v":46},14,3,17,"14#464|3#74|17#46"]
[{"$nulls":6},3000416,3005416,3010416,{"$f":"VLOOKUP(G416,[1]RewardItemConfig!$B:$F,5,FALSE)","v":465},{"$f":"VLOOKUP(H416,[1]RewardItemConfig!$B:$F,5,FALSE)","v":74},{"$f":"VLOOKUP(I416,[1]RewardItemConfig!$B:$F,5,FALSE)","v":46},14,3,17,"14#465|3#74|17#46"]
[{"$nulls":6},3000417,3005417,3010417,{"$f":"VLOOKUP(G417,[1]RewardItemConfig!$B:$F,5,FALSE)","v":466},{"$f":"VLOOKUP(H417,[1]RewardItemConfig!$B:$F,5,FALSE)","v":74},{"$f":"VLOOKUP(I417,[1]RewardItemConfig!$B:$F,5,FALSE)","v":46},14,3,17,"14#466|3#74|17#46"]
[{"$nulls":6},3000418,3005418,3010418,{"$f":"VLOOKUP(G418,[1]RewardItemConfig!$B:$F,5,FALSE)","v":467},{"$f":"VLOOKUP(H418,[1]RewardItemConfig!$B:$F,5,FALSE)","v":74},{"$f":"VLOOKUP(I418,[1]RewardItemConfig!$B:$F,5,FALSE)","v":46},14,3,17,"14#467|3#74|17#46"]
[{"$nulls":6},3000419,3005419,3010419,{"$f":"VLOOKUP(G419,[1]RewardItemConfig!$B:$F,5,FALSE)","v":468},{"$f":"VLOOKUP(H419,[1]RewardItemConfig!$B:$F,5,FALSE)","v":74},{"$f":"VLOOKUP(I419,[1]RewardItemConfig!$B:$F,5,FALSE)","v":46},14,3,17,"14#468|3#74|17#46"]
[{"$nulls":6},3000420,3005420,3010420,{"$f":"VLOOKUP(G420,[1]RewardItemConfig!$B:$F,5,FALSE)","v":469},{"$f":"VLOOKUP(H420,[1]RewardItemConfig!$B:$F,5,FALSE)","v":76},{"$f":"VLOOKUP(I420,[1]RewardItemConfig!$B:$F,5,FALSE)","v":47},14,3,17,"14#469|3#76|17#47"]
[{"$nulls":6},3000421,3005421,3010421,{"$f":"VLOOKUP(G421,[1]RewardItemConfig!$B:$F,5,FALSE)","v":470},{"$f":"VLOOKUP(H421,[1]RewardItemConfig!$B:$F,5,FALSE)","v":76},{"$f":"VLOOKUP(I421,[1]RewardItemConfig!$B:$F,5,FALSE)","v":47},14,3,17,"14#470|3#76|17#47"]
[{"$nulls":6},3000422,3005422,3010422,{"$f":"VLOOKUP(G422,[1]RewardItemConfig!$B:$F,5,FALSE)","v":471},{"$f":"VLOOKUP(H422,[1]RewardItemConfig!$B:$F,5,FALSE)","v":76},{"$f":"VLOOKUP(I422,[1]RewardItemConfig!$B:$F,5,FALSE)","v":47},14,3,17,"14#471|3#76|17#47"]
[{"$nulls":6},3000423,3005423,3010423,{"$f":"VLOOKUP(G423,[1]RewardItemConfig!$B:$F,5,FALSE)","v":472},{"$f":"VLOOKUP(H423,[1]RewardItemConfig!$B:$F,5,FALSE)","v":76},{"$f":"VLOOKUP(I423,[1]RewardItemConfig!$B:$F,5,FALSE)","v":47},14,3,17,"14#472|3#76|17#47"]
[{"$nulls":6},3000424,3005424,3010424,{"$f":"VLOOKUP(G424,[1]RewardItemConfig!$B:$F,5,FALSE)","v":473},{"$f":"VLOOKUP(H424,[1]RewardItemConfig!$B:$F,5,FALSE)","v":76},{"$f":"VLOOKUP(I424,[1]RewardItemConfig!$B:$F,5,FALSE)","v":47},14,3,17,"14#473|3#76|17#47"]
[{"$nulls":6},3000425,3005425,3010425,{"$f":"VLOOKUP(G425,[1]RewardItemConfig!$B:$F,5,FALSE)","v":474},{"$f":"VLOOKUP(H425,[1]RewardItemConfig!$B:$F,5,FALSE)","v":76},{"$f":"VLOOKUP(I425,[1]RewardItemConfig!$B:$F,5,FALSE)","v":47},14,3,17,"14#474|3#76|17#47"]
[{"$nulls":6},3000426,3005426,3010426,{"$f":"VLOOKUP(G426,[1]RewardItemConfig!$B:$F,5,FALSE)","v":475},{"$f":"VLOOKUP(H426,[1]RewardItemConfig!$B:$F,5,FALSE)","v":76},{"$f":"VLOOKUP(I426,[1]RewardItemConfig!$B:$F,5,FALSE)","v":47},14,3,17,"14#475|3#76|17#47"]
[{"$nulls":6},3000427,3005427,3010427,{"$f":"VLOOKUP(G427,[1]RewardItemConfig!$B:$F,5,FALSE)","v":476},{"$f":"VLOOKUP(H427,[1]RewardItemConfig!$B:$F,5,FALSE)","v":76},{"$f":"VLOOKUP(I427,[1]RewardItemConfig!$B:$F,5,FALSE)","v":47},14,3,17,"14#476|3#76|17#47"]
[{"$nulls":6},3000428,3005428,3010428,{"$f":"VLOOKUP(G428,[1]RewardItemConfig!$B:$F,5,FALSE)","v":477},{"$f":"VLOOKUP(H428,[1]RewardItemConfig!$B:$F,5,FALSE)","v":76},{"$f":"VLOOKUP(I428,[1]RewardItemConfig!$B:$F,5,FALSE)","v":47},14,3,17,"14#477|3#76|17#47"]
[{"$nulls":6},3000429,3005429,3010429,{"$f":"VLOOKUP(G429,[1]RewardItemConfig!$B:$F,5,FALSE)","v":478},{"$f":"VLOOKUP(H429,[1]RewardItemConfig!$B:$F,5,FALSE)","v":76},{"$f":"VLOOKUP(I429,[1]RewardItemConfig!$B:$F,5,FALSE)","v":47},14,3,17,"14#478|3#76|17#47"]
[{"$nulls":6},3000430,3005430,3010430,{"$f":"VLOOKUP(G430,[1]RewardItemConfig!$B:$F,5,FALSE)","v":479},{"$f":"VLOOKUP(H430,[1]RewardItemConfig!$B:$F,5,FALSE)","v":78},{"$f":"VLOOKUP(I430,[1]RewardItemConfig!$B:$F,5,FALSE)","v":48},14,3,17,"14#479|3#78|17#48"]
[{"$nulls":6},3000431,3005431,3010431,{"$f":"VLOOKUP(G431,[1]RewardItemConfig!$B:$F,5,FALSE)","v":480},{"$f":"VLOOKUP(H431,[1]RewardItemConfig!$B:$F,5,FALSE)","v":78},{"$f":"VLOOKUP(I431,[1]RewardItemConfig!$B:$F,5,FALSE)","v":48},14,3,17,"14#480|3#78|17#48"]
[{"$nulls":6},3000432,3005432,3010432,{"$f":"VLOOKUP(G432,[1]RewardItemConfig!$B:$F,5,FALSE)","v":481},{"$f":"VLOOKUP(H432,[1]RewardItemConfig!$B:$F,5,FALSE)","v":78},{"$f":"VLOOKUP(I432,[1]RewardItemConfig!$B:$F,5,FALSE)","v":48},14,3,17,"14#481|3#78|17#48"]
[{"$nulls":6},3000433,3005433,3010433,{"$f":"VLOOKUP(G433,[1]RewardItemConfig!$B:$F,5,FALSE)","v":482},{"$f":"VLOOKUP(H433,[1]RewardItemConfig!$B:$F,5,FALSE)","v":78},{"$f":"VLOOKUP(I433,[1]RewardItemConfig!$B:$F,5,FALSE)","v":48},14,3,17,"14#482|3#78|17#48"]
[{"$nulls":6},3000434,3005434,3010434,{"$f":"VLOOKUP(G434,[1]RewardItemConfig!$B:$F,5,FALSE)","v":483},{"$f":"VLOOKUP(H434,[1]RewardItemConfig!$B:$F,5,FALSE)","v":78},{"$f":"VLOOKUP(I434,[1]RewardItemConfig!$B:$F,5,FALSE)","v":48},14,3,17,"14#483|3#78|17#48"]
[{"$nulls":6},3000435,3005435,3010435,{"$f":"VLOOKUP(G435,[1]RewardItemConfig!$B:$F,5,FALSE)","v":484},{"$f":"VLOOKUP(H435,[1]RewardItemConfig!$B:$F,5,FALSE)","v":78},{"$f":"VLOOKUP(I435,[1]RewardItemConfig!$B:$F,5,FALSE)","v":48},14,3,17,"14#484|3#78|17#48"]
[{"$nulls":6},3000436,3005436,3010436,{"$f":"VLOOKUP(G436,[1]RewardItemConfig!$B:$F,5,FALSE)","v":485},{"$f":"VLOOKUP(H436,[1]RewardItemConfig!$B:$F,5,FALSE)","v":78},{"$f":"VLOOKUP(I436,[1]RewardItemConfig!$B:$F,5,FALSE)","v":48},14,3,17,"14#485|3#78|17#48"]
[{"$nulls":6},3000437,3005437,3010437,{"$f":"VLOOKUP(G437,[1]RewardItemConfig!$B:$F,5,FALSE)","v":486},{"$f":"VLOOKUP(H437,[1]RewardItemConfig!$B:$F,5,FALSE)","v":78},{"$f":"VLOOKUP(I437,[1]RewardItemConfig!$B:$F,5,FALSE)","v":48},14,3,17,"14#486|3#78|17#48"]
[{"$nulls":6},3000438,3005438,3010438,{"$f":"VLOOKUP(G438,[1]RewardItemConfig!$B:$F,5,FALSE)","v":487},{"$f":"VLOOKUP(H438,[1]RewardItemConfig!$B:$F,5,FALSE)","v":78},{"$f":"VLOOKUP(I438,[1]RewardItemConfig!$B:$F,5,FALSE)","v":48},14,3,17,"14#487|3#78|17#48"]
[{"$nulls":6},3000439,3005439,3010439,{"$f":"VLOOKUP(G439,[1]RewardItemConfig!$B:$F,5,FALSE)","v":488},{"$f":"VLOOKUP(H439,[1]RewardItemConfig!$B:$F,5,FALSE)","v":78},{"$f":"VLOOKUP(I439,[1]RewardItemConfig!$B:$F,5,FALSE)","v":48},14,3,17,"14#488|3#78|17#48"]
[{"$nulls":6},3000440,3005440,3010440,{"$f":"VLOOKUP(G440,[1]RewardItemConfig!$B:$F,5,FALSE)","v":489},{"$f":"VLOOKUP(H440,[1]RewardItemConfig!$B:$F,5,FALSE)","v":80},{"$f":"VLOOKUP(I440,[1]RewardItemConfig!$B:$F,5,FALSE)","v":49},14,3,17,"14#489|3#80|17#49"]
[{"$nulls":6},3000441,3005441,3010441,{"$f":"VLOOKUP(G441,[1]RewardItemConfig!$B:$F,5,FALSE)","v":490},{"$f":"VLOOKUP(H441,[1]RewardItemConfig!$B:$F,5,FALSE)","v":80},{"$f":"VLOOKUP(I441,[1]RewardItemConfig!$B:$F,5,FALSE)","v":49},14,3,17,"14#490|3#80|17#49"]
[{"$nulls":6},3000442,3005442,3010442,{"$f":"VLOOKUP(G442,[1]RewardItemConfig!$B:$F,5,FALSE)","v":491},{"$f":"VLOOKUP(H442,[1]RewardItemConfig!$B:$F,5,FALSE)","v":80},{"$f":"VLOOKUP(I442,[1]RewardItemConfig!$B:$F,5,FALSE)","v":49},14,3,17,"14#491|3#80|17#49"]
[{"$nulls":6},3000443,3005443,3010443,{"$f":"VLOOKUP(G443,[1]RewardItemConfig!$B:$F,5,FALSE)","v":492},{"$f":"VLOOKUP(H443,[1]RewardItemConfig!$B:$F,5,FALSE)","v":80},{"$f":"VLOOKUP(I443,[1]RewardItemConfig!$B:$F,5,FALSE)","v":49},14,3,17,"14#492|3#80|17#49"]
[{"$nulls":6},3000444,3005444,3010444,{"$f":"VLOOKUP(G444,[1]RewardItemConfig!$B:$F,5,FALSE)","v":493},{"$f":"VLOOKUP(H444,[1]RewardItemConfig!$B:$F,5,FALSE)","v":80},{"$f":"VLOOKUP(I444,[1]RewardItemConfig!$B:$F,5,FALSE)","v":49},14,3,17,"14#493|3#80|17#49"]
[{"$nulls":6},3000445,3005445,3010445,{"$f":"VLOOKUP(G445,[1]RewardItemConfig!$B:$F,5,FALSE)","v":494},{"$f":"VLOOKUP(H445,[1]RewardItemConfig!$B:$F,5,FALSE)","v":80},{"$f":"VLOOKUP(I445,[1]RewardItemConfig!$B:$F,5,FALSE)","v":49},14,3,17,"14#494|3#80|17#49"]
[{"$nulls":6},3000446,3005446,3010446,{"$f":"VLOOKUP(G446,[1]RewardItemConfig!$B:$F,5,FALSE)","v":495},{"$f":"VLOOKUP(H446,[1]RewardItemConfig!$B:$F,5,FALSE)","v":80},{"$f":"VLOOKUP(I446,[1]RewardItemConfig!$B:$F,5,FALSE)","v":49},14,3,17,"14#495|3#80|17#49"]
[{"$nulls":6},3000447,3005447,3010447,{"$f":"VLOOKUP(G447,[1]RewardItemConfig!$B:$F,5,FALSE)","v":496},{"$f":"VLOOKUP(H447,[1]RewardItemConfig!$B:$F,5,FALSE)","v":80},{"$f":"VLOOKUP(I447,[1]RewardItemConfig!$B:$F,5,FALSE)","v":49},14,3,17,"14#496|3#80|17#49"]
[{"$nulls":6},3000448,3005448,3010448,{"$f":"VLOOKUP(G448,[1]RewardItemConfig!$B:$F,5,FALSE)","v":497},{"$f":"VLOOKUP(H448,[1]RewardItemConfig!$B:$F,5,FALSE)","v":80},{"$f":"VLOOKUP(I448,[1]RewardItemConfig!$B:$F,5,FALSE)","v":49},14,3,17,"14#497|3#80|17#49"]
[{"$nulls":6},3000449,3005449,3010449,{"$f":"VLOOKUP(G449,[1]RewardItemConfig!$B:$F,5,FALSE)","v":498},{"$f":"VLOOKUP(H449,[1]RewardItemConfig!$B:$F,5,FALSE)","v":80},{"$f":"VLOOKUP(I449,[1]RewardItemConfig!$B:$F,5,FALSE)","v":49},14,3,17,"14#498|3#80|17#49"]
[{"$nulls":6},3000450,3005450,3010450,{"$f":"VLOOKUP(G450,[1]RewardItemConfig!$B:$F,5,FALSE)","v":499},{"$f":"VLOOKUP(H450,[1]RewardItemConfig!$B:$F,5,FALSE)","v":82},{"$f":"VLOOKUP(I450,[1]RewardItemConfig!$B:$F,5,FALSE)","v":50},14,3,17,{"$f":"M450&\"#\"&J450&\"|\"&N450&\"#\"&K450&\"|\"&O450&\"#\"&L450","v":"14#499|3#82|17#50"}]
[{"$nulls":6},3000451,3005451,3010451,{"$f":"VLOOKUP(G451,[1]RewardItemConfig!$B:$F,5,FALSE)","v":500},{"$f":"VLOOKUP(H451,[1]RewardItemConfig!$B:$F,5,FALSE)","v":82},{"$f":"VLOOKUP(I451,[1]RewardItemConfig!$B:$F,5,FALSE)","v":50},{"$f":"M450","v":14},{"$f":"N450","v":3},{"$f":"O450","v":17},"14#500|3#82|17#50"]
[{"$nulls":6},3000452,3005452,3010452,{"$f":"VLOOKUP(G452,[1]RewardItemConfig!$B:$F,5,FALSE)","v":501},{"$f":"VLOOKUP(H452,[1]RewardItemConfig!$B:$F,5,FALSE)","v":82},{"$f":"VLOOKUP(I452,[1]RewardItemConfig!$B:$F,5,FALSE)","v":50},14,3,17,"14#501|3#82|17#50"]
[{"$nulls":6},3000453,3005453,3010453,{"$f":"VLOOKUP(G453,[1]RewardItemConfig!$B:$F,5,FALSE)","v":502},{"$f":"VLOOKUP(H453,[1]RewardItemConfig!$B:$F,5,FALSE)","v":82},{"$f":"VLOOKUP(I453,[1]RewardItemConfig!$B:$F,5,FALSE)","v":50},14,3,17,"14#502|3#82|17#50"]
[{"$nulls":6},3000454,3005454,3010454,{"$f":"VLOOKUP(G454,[1]RewardItemConfig!$B:$F,5,FALSE)","v":503},{"$f":"VLOOKUP(H454,[1]RewardItemConfig!$B:$F,5,FALSE)","v":82},{"$f":"VLOOKUP(I454,[1]RewardItemConfig!$B:$F,5,FALSE)","v":50},14,3,17,"14#503|3#82|17#50"]
[{"$nulls":6},3000455,3005455,3010455,{"$f":"VLOOKUP(G455,[1]RewardItemConfig!$B:$F,5,FALSE)","v":504},{"$f":"VLOOKUP(H455,[1]RewardItemConfig!$B:$F,5,FALSE)","v":82},{"$f":"VLOOKUP(I455,[1]RewardItemConfig!$B:$F,5,FALSE)","v":50},14,3,17,"14#504|3#82|17#50"]
[{"$nulls":6},3000456,3005456,3010456,{"$f":"VLOOKUP(G456,[1]RewardItemConfig!$B:$F,5,FALSE)","v":505},{"$f":"VLOOKUP(H456,[1]RewardItemConfig!$B:$F,5,FALSE)","v":82},{"$f":"VLOOKUP(I456,[1]RewardItemConfig!$B:$F,5,FALSE)","v":50},14,3,17,"14#505|3#82|17#50"]
[{"$nulls":6},3000457,3005457,3010457,{"$f":"VLOOKUP(G457,[1]RewardItemConfig!$B:$F,5,FALSE)","v":506},{"$f":"VLOOKUP(H457,[1]RewardItemConfig!$B:$F,5,FALSE)","v":82},{"$f":"VLOOKUP(I457,[1]RewardItemConfig!$B:$F,5,FALSE)","v":50},14,3,17,"14#506|3#82|17#50"]
[{"$nulls":6},3000458,3005458,3010458,{"$f":"VLOOKUP(G458,[1]RewardItemConfig!$B:$F,5,FALSE)","v":507},{"$f":"VLOOKUP(H458,[1]RewardItemConfig!$B:$F,5,FALSE)","v":82},{"$f":"VLOOKUP(I458,[1]RewardItemConfig!$B:$F,5,FALSE)","v":50},14,3,17,"14#507|3#82|17#50"]
[{"$nulls":6},3000459,3005459,3010459,{"$f":"VLOOKUP(G459,[1]RewardItemConfig!$B:$F,5,FALSE)","v":508},{"$f":"VLOOKUP(H459,[1]RewardItemConfig!$B:$F,5,FALSE)","v":82},{"$f":"VLOOKUP(I459,[1]RewardItemConfig!$B:$F,5,FALSE)","v":50},14,3,17,"14#508|3#82|17#50"]
[{"$nulls":6},3000460,3005460,3010460,{"$f":"VLOOKUP(G460,[1]RewardItemConfig!$B:$F,5,FALSE)","v":509},{"$f":"VLOOKUP(H460,[1]RewardItemConfig!$B:$F,5,FALSE)","v":84},{"$f":"VLOOKUP(I460,[1]RewardItemConfig!$B:$F,5,FALSE)","v":51},14,3,17,"14#509|3#84|17#51"]
[{"$nulls":6},3000461,3005461,3010461,{"$f":"VLOOKUP(G461,[1]RewardItemConfig!$B:$F,5,FALSE)","v":510},{"$f":"VLOOKUP(H461,[1]RewardItemConfig!$B:$F,5,FALSE)","v":84},{"$f":"VLOOKUP(I461,[1]RewardItemConfig!$B:$F,5,FALSE)","v":51},14,3,17,"14#510|3#84|17#51"]
[{"$nulls":6},3000462,3005462,3010462,{"$f":"VLOOKUP(G462,[1]RewardItemConfig!$B:$F,5,FALSE)","v":511},{"$f":"VLOOKUP(H462,[1]RewardItemConfig!$B:$F,5,FALSE)","v":84},{"$f":"VLOOKUP(I462,[1]RewardItemConfig!$B:$F,5,FALSE)","v":51},14,3,17,"14#511|3#84|17#51"]
[{"$nulls":6},3000463,3005463,3010463,{"$f":"VLOOKUP(G463,[1]RewardItemConfig!$B:$F,5,FALSE)","v":512},{"$f":"VLOOKUP(H463,[1]RewardItemConfig!$B:$F,5,FALSE)","v":84},{"$f":"VLOOKUP(I463,[1]RewardItemConfig!$B:$F,5,FALSE)","v":51},14,3,17,"14#512|3#84|17#51"]
[{"$nulls":6},3000464,3005464,3010464,{"$f":"VLOOKUP(G464,[1]RewardItemConfig!$B:$F,5,FALSE)","v":513},{"$f":"VLOOKUP(H464,[1]RewardItemConfig!$B:$F,5,FALSE)","v":84},{"$f":"VLOOKUP(I464,[1]RewardItemConfig!$B:$F,5,FALSE)","v":51},14,3,17,"14#513|3#84|17#51"]
[{"$nulls":6},3000465,3005465,3010465,{"$f":"VLOOKUP(G465,[1]RewardItemConfig!$B:$F,5,FALSE)","v":514},{"$f":"VLOOKUP(H465,[1]RewardItemConfig!$B:$F,5,FALSE)","v":84},{"$f":"VLOOKUP(I465,[1]RewardItemConfig!$B:$F,5,FALSE)","v":51},14,3,17,"14#514|3#84|17#51"]
[{"$nulls":6},3000466,3005466,3010466,{"$f":"VLOOKUP(G466,[1]RewardItemConfig!$B:$F,5,FALSE)","v":515},{"$f":"VLOOKUP(H466,[1]RewardItemConfig!$B:$F,5,FALSE)","v":84},{"$f":"VLOOKUP(I466,[1]RewardItemConfig!$B:$F,5,FALSE)","v":51},14,3,17,"14#515|3#84|17#51"]
[{"$nulls":6},3000467,3005467,3010467,{"$f":"VLOOKUP(G467,[1]RewardItemConfig!$B:$F,5,FALSE)","v":516},{"$f":"VLOOKUP(H467,[1]RewardItemConfig!$B:$F,5,FALSE)","v":84},{"$f":"VLOOKUP(I467,[1]RewardItemConfig!$B:$F,5,FALSE)","v":51},14,3,17,"14#516|3#84|17#51"]
[{"$nulls":6},3000468,3005468,3010468,{"$f":"VLOOKUP(G468,[1]RewardItemConfig!$B:$F,5,FALSE)","v":517},{"$f":"VLOOKUP(H468,[1]RewardItemConfig!$B:$F,5,FALSE)","v":84},{"$f":"VLOOKUP(I468,[1]RewardItemConfig!$B:$F,5,FALSE)","v":51},14,3,17,"14#517|3#84|17#51"]
[{"$nulls":6},3000469,3005469,3010469,{"$f":"VLOOKUP(G469,[1]RewardItemConfig!$B:$F,5,FALSE)","v":518},{"$f":"VLOOKUP(H469,[1]RewardItemConfig!$B:$F,5,FALSE)","v":84},{"$f":"VLOOKUP(I469,[1]RewardItemConfig!$B:$F,5,FALSE)","v":51},14,3,17,"14#518|3#84|17#51"]
[{"$nulls":6},3000470,3005470,3010470,{"$f":"VLOOKUP(G470,[1]RewardItemConfig!$B:$F,5,FALSE)","v":519},{"$f":"VLOOKUP(H470,[1]RewardItemConfig!$B:$F,5,FALSE)","v":86},{"$f":"VLOOKUP(I470,[1]RewardItemConfig!$B:$F,5,FALSE)","v":52},14,3,17,"14#519|3#86|17#52"]
[{"$nulls":6},3000471,3005471,3010471,{"$f":"VLOOKUP(G471,[1]RewardItemConfig!$B:$F,5,FALSE)","v":520},{"$f":"VLOOKUP(H471,[1]RewardItemConfig!$B:$F,5,FALSE)","v":86},{"$f":"VLOOKUP(I471,[1]RewardItemConfig!$B:$F,5,FALSE)","v":52},14,3,17,"14#520|3#86|17#52"]
[{"$nulls":6},3000472,3005472,3010472,{"$f":"VLOOKUP(G472,[1]RewardItemConfig!$B:$F,5,FALSE)","v":521},{"$f":"VLOOKUP(H472,[1]RewardItemConfig!$B:$F,5,FALSE)","v":86},{"$f":"VLOOKUP(I472,[1]RewardItemConfig!$B:$F,5,FALSE)","v":52},14,3,17,"14#521|3#86|17#52"]
[{"$nulls":6},3000473,3005473,3010473,{"$f":"VLOOKUP(G473,[1]RewardItemConfig!$B:$F,5,FALSE)","v":522},{"$f":"VLOOKUP(H473,[1]RewardItemConfig!$B:$F,5,FALSE)","v":86},{"$f":"VLOOKUP(I473,[1]RewardItemConfig!$B:$F,5,FALSE)","v":52},14,3,17,"14#522|3#86|17#52"]
[{"$nulls":6},3000474,3005474,3010474,{"$f":"VLOOKUP(G474,[1]RewardItemConfig!$B:$F,5,FALSE)","v":523},{"$f":"VLOOKUP(H474,[1]RewardItemConfig!$B:$F,5,FALSE)","v":86},{"$f":"VLOOKUP(I474,[1]RewardItemConfig!$B:$F,5,FALSE)","v":52},14,3,17,"14#523|3#86|17#52"]
[{"$nulls":6},3000475,3005475,3010475,{"$f":"VLOOKUP(G475,[1]RewardItemConfig!$B:$F,5,FALSE)","v":524},{"$f":"VLOOKUP(H475,[1]RewardItemConfig!$B:$F,5,FALSE)","v":86},{"$f":"VLOOKUP(I475,[1]RewardItemConfig!$B:$F,5,FALSE)","v":52},14,3,17,"14#524|3#86|17#52"]
[{"$nulls":6},3000476,3005476,3010476,{"$f":"VLOOKUP(G476,[1]RewardItemConfig!$B:$F,5,FALSE)","v":525},{"$f":"VLOOKUP(H476,[1]RewardItemConfig!$B:$F,5,FALSE)","v":86},{"$f":"VLOOKUP(I476,[1]RewardItemConfig!$B:$F,5,FALSE)","v":52},14,3,17,"14#525|3#86|17#52"]
[{"$nulls":6},3000477,3005477,3010477,{"$f":"VLOOKUP(G477,[1]RewardItemConfig!$B:$F,5,FALSE)","v":526},{"$f":"VLOOKUP(H477,[1]RewardItemConfig!$B:$F,5,FALSE)","v":86},{"$f":"VLOOKUP(I477,[1]RewardItemConfig!$B:$F,5,FALSE)","v":52},14,3,17,"14#526|3#86|17#52"]
[{"$nulls":6},3000478,3005478,3010478,{"$f":"VLOOKUP(G478,[1]RewardItemConfig!$B:$F,5,FALSE)","v":527},{"$f":"VLOOKUP(H478,[1]RewardItemConfig!$B:$F,5,FALSE)","v":86},{"$f":"VLOOKUP(I478,[1]RewardItemConfig!$B:$F,5,FALSE)","v":52},14,3,17,"14#527|3#86|17#52"]
[{"$nulls":6},3000479,3005479,3010479,{"$f":"VLOOKUP(G479,[1]RewardItemConfig!$B:$F,5,FALSE)","v":528},{"$f":"VLOOKUP(H479,[1]RewardItemConfig!$B:$F,5,FALSE)","v":86},{"$f":"VLOOKUP(I479,[1]RewardItemConfig!$B:$F,5,FALSE)","v":52},14,3,17,"14#528|3#86|17#52"]
[{"$nulls":6},3000480,3005480,3010480,{"$f":"VLOOKUP(G480,[1]RewardItemConfig!$B:$F,5,FALSE)","v":529},{"$f":"VLOOKUP(H480,[1]RewardItemConfig!$B:$F,5,FALSE)","v":88},{"$f":"VLOOKUP(I480,[1]RewardItemConfig!$B:$F,5,FALSE)","v":53},14,3,17,"14#529|3#88|17#53"]
[{"$nulls":6},3000481,3005481,3010481,{"$f":"VLOOKUP(G481,[1]RewardItemConfig!$B:$F,5,FALSE)","v":530},{"$f":"VLOOKUP(H481,[1]RewardItemConfig!$B:$F,5,FALSE)","v":88},{"$f":"VLOOKUP(I481,[1]RewardItemConfig!$B:$F,5,FALSE)","v":53},14,3,17,"14#530|3#88|17#53"]
[{"$nulls":6},3000482,3005482,3010482,{"$f":"VLOOKUP(G482,[1]RewardItemConfig!$B:$F,5,FALSE)","v":531},{"$f":"VLOOKUP(H482,[1]RewardItemConfig!$B:$F,5,FALSE)","v":88},{"$f":"VLOOKUP(I482,[1]RewardItemConfig!$B:$F,5,FALSE)","v":53},14,3,17,"14#531|3#88|17#53"]
[{"$nulls":6},3000483,3005483,3010483,{"$f":"VLOOKUP(G483,[1]RewardItemConfig!$B:$F,5,FALSE)","v":532},{"$f":"VLOOKUP(H483,[1]RewardItemConfig!$B:$F,5,FALSE)","v":88},{"$f":"VLOOKUP(I483,[1]RewardItemConfig!$B:$F,5,FALSE)","v":53},14,3,17,"14#532|3#88|17#53"]
[{"$nulls":6},3000484,3005484,3010484,{"$f":"VLOOKUP(G484,[1]RewardItemConfig!$B:$F,5,FALSE)","v":533},{"$f":"VLOOKUP(H484,[1]RewardItemConfig!$B:$F,5,FALSE)","v":88},{"$f":"VLOOKUP(I484,[1]RewardItemConfig!$B:$F,5,FALSE)","v":53},14,3,17,"14#533|3#88|17#53"]
[{"$nulls":6},3000485,3005485,3010485,{"$f":"VLOOKUP(G485,[1]RewardItemConfig!$B:$F,5,FALSE)","v":534},{"$f":"VLOOKUP(H485,[1]RewardItemConfig!$B:$F,5,FALSE)","v":88},{"$f":"VLOOKUP(I485,[1]RewardItemConfig!$B:$F,5,FALSE)","v":53},14,3,17,"14#534|3#88|17#53"]
[{"$nulls":6},3000486,3005486,3010486,{"$f":"VLOOKUP(G486,[1]RewardItemConfig!$B:$F,5,FALSE)","v":535},{"$f":"VLOOKUP(H486,[1]RewardItemConfig!$B:$F,5,FALSE)","v":88},{"$f":"VLOOKUP(I486,[1]RewardItemConfig!$B:$F,5,FALSE)","v":53},14,3,17,"14#535|3#88|17#53"]
[{"$nulls":6},3000487,3005487,3010487,{"$f":"VLOOKUP(G487,[1]RewardItemConfig!$B:$F,5,FALSE)","v":536},{"$f":"VLOOKUP(H487,[1]RewardItemConfig!$B:$F,5,FALSE)","v":88},{"$f":"VLOOKUP(I487,[1]RewardItemConfig!$B:$F,5,FALSE)","v":53},14,3,17,"14#536|3#88|17#53"]
[{"$nulls":6},3000488,3005488,3010488,{"$f":"VLOOKUP(G488,[1]RewardItemConfig!$B:$F,5,FALSE)","v":537},{"$f":"VLOOKUP(H488,[1]RewardItemConfig!$B:$F,5,FALSE)","v":88},{"$f":"VLOOKUP(I488,[1]RewardItemConfig!$B:$F,5,FALSE)","v":53},14,3,17,"14#537|3#88|17#53"]
[{"$nulls":6},3000489,3005489,3010489,{"$f":"VLOOKUP(G489,[1]RewardItemConfig!$B:$F,5,FALSE)","v":538},{"$f":"VLOOKUP(H489,[1]RewardItemConfig!$B:$F,5,FALSE)","v":88},{"$f":"VLOOKUP(I489,[1]RewardItemConfig!$B:$F,5,FALSE)","v":53},14,3,17,"14#538|3#88|17#53"]
[{"$nulls":6},3000490,3005490,3010490,{"$f":"VLOOKUP(G490,[1]RewardItemConfig!$B:$F,5,FALSE)","v":539},{"$f":"VLOOKUP(H490,[1]RewardItemConfig!$B:$F,5,FALSE)","v":90},{"$f":"VLOOKUP(I490,[1]RewardItemConfig!$B:$F,5,FALSE)","v":54},14,3,17,"14#539|3#90|17#54"]
[{"$nulls":6},3000491,3005491,3010491,{"$f":"VLOOKUP(G491,[1]RewardItemConfig!$B:$F,5,FALSE)","v":540},{"$f":"VLOOKUP(H491,[1]RewardItemConfig!$B:$F,5,FALSE)","v":90},{"$f":"VLOOKUP(I491,[1]RewardItemConfig!$B:$F,5,FALSE)","v":54},14,3,17,"14#540|3#90|17#54"]
[{"$nulls":6},3000492,3005492,3010492,{"$f":"VLOOKUP(G492,[1]RewardItemConfig!$B:$F,5,FALSE)","v":541},{"$f":"VLOOKUP(H492,[1]RewardItemConfig!$B:$F,5,FALSE)","v":90},{"$f":"VLOOKUP(I492,[1]RewardItemConfig!$B:$F,5,FALSE)","v":54},14,3,17,"14#541|3#90|17#54"]
[{"$nulls":6},3000493,3005493,3010493,{"$f":"VLOOKUP(G493,[1]RewardItemConfig!$B:$F,5,FALSE)","v":542},{"$f":"VLOOKUP(H493,[1]RewardItemConfig!$B:$F,5,FALSE)","v":90},{"$f":"VLOOKUP(I493,[1]RewardItemConfig!$B:$F,5,FALSE)","v":54},14,3,17,"14#542|3#90|17#54"]
[{"$nulls":6},3000494,3005494,3010494,{"$f":"VLOOKUP(G494,[1]RewardItemConfig!$B:$F,5,FALSE)","v":543},{"$f":"VLOOKUP(H494,[1]RewardItemConfig!$B:$F,5,FALSE)","v":90},{"$f":"VLOOKUP(I494,[1]RewardItemConfig!$B:$F,5,FALSE)","v":54},14,3,17,"14#543|3#90|17#54"]
[{"$nulls":6},3000495,3005495,3010495,{"$f":"VLOOKUP(G495,[1]RewardItemConfig!$B:$F,5,FALSE)","v":544},{"$f":"VLOOKUP(H495,[1]RewardItemConfig!$B:$F,5,FALSE)","v":90},{"$f":"VLOOKUP(I495,[1]RewardItemConfig!$B:$F,5,FALSE)","v":54},14,3,17,"14#544|3#90|17#54"]
[{"$nulls":6},3000496,3005496,3010496,{"$f":"VLOOKUP(G496,[1]RewardItemConfig!$B:$F,5,FALSE)","v":545},{"$f":"VLOOKUP(H496,[1]RewardItemConfig!$B:$F,5,FALSE)","v":90},{"$f":"VLOOKUP(I496,[1]RewardItemConfig!$B:$F,5,FALSE)","v":54},14,3,17,"14#545|3#90|17#54"]
[{"$nulls":6},3000497,3005497,3010497,{"$f":"VLOOKUP(G497,[1]RewardItemConfig!$B:$F,5,FALSE)","v":546},{"$f":"VLOOKUP(H497,[1]RewardItemConfig!$B:$F,5,FALSE)","v":90},{"$f":"VLOOKUP(I497,[1]RewardItemConfig!$B:$F,5,FALSE)","v":54},14,3,17,"14#546|3#90|17#54"]
[{"$nulls":6},3000498,3005498,3010498,{"$f":"VLOOKUP(G498,[1]RewardItemConfig!$B:$F,5,FALSE)","v":547},{"$f":"VLOOKUP(H498,[1]RewardItemConfig!$B:$F,5,FALSE)","v":90},{"$f":"VLOOKUP(I498,[1]RewardItemConfig!$B:$F,5,FALSE)","v":54},14,3,17,"14#547|3#90|17#54"]
[{"$nulls":6},3000499,3005499,3010499,{"$f":"VLOOKUP(G499,[1]RewardItemConfig!$B:$F,5,FALSE)","v":548},{"$f":"VLOOKUP(H499,[1]RewardItemConfig!$B:$F,5,FALSE)","v":90},{"$f":"VLOOKUP(I499,[1]RewardItemConfig!$B:$F,5,FALSE)","v":54},14,3,17,"14#548|3#90|17#54"]
[{"$nulls":6},3000500,3005500,3010500,{"$f":"VLOOKUP(G500,[1]RewardItemConfig!$B:$F,5,FALSE)","v":549},{"$f":"VLOOKUP(H500,[1]RewardItemConfig!$B:$F,5,FALSE)","v":92},{"$f":"VLOOKUP(I500,[1]RewardItemConfig!$B:$F,5,FALSE)","v":55},14,3,17,"14#549|3#92|17#55"]
[{"$nulls":6},3000501,3005501,3010501,{"$f":"VLOOKUP(G501,[1]RewardItemConfig!$B:$F,5,FALSE)","v":550},{"$f":"VLOOKUP(H501,[1]RewardItemConfig!$B:$F,5,FALSE)","v":92},{"$f":"VLOOKUP(I501,[1]RewardItemConfig!$B:$F,5,FALSE)","v":55},14,3,17,"14#550|3#92|17#55"]
[{"$nulls":6},3000502,3005502,3010502,{"$f":"VLOOKUP(G502,[1]RewardItemConfig!$B:$F,5,FALSE)","v":551},{"$f":"VLOOKUP(H502,[1]RewardItemConfig!$B:$F,5,FALSE)","v":92},{"$f":"VLOOKUP(I502,[1]RewardItemConfig!$B:$F,5,FALSE)","v":55},14,3,17,"14#551|3#92|17#55"]
[{"$nulls":6},3000503,3005503,3010503,{"$f":"VLOOKUP(G503,[1]RewardItemConfig!$B:$F,5,FALSE)","v":552},{"$f":"VLOOKUP(H503,[1]RewardItemConfig!$B:$F,5,FALSE)","v":92},{"$f":"VLOOKUP(I503,[1]RewardItemConfig!$B:$F,5,FALSE)","v":55},14,3,17,"14#552|3#92|17#55"]
[{"$nulls":6},3000504,3005504,3010504,{"$f":"VLOOKUP(G504,[1]RewardItemConfig!$B:$F,5,FALSE)","v":553},{"$f":"VLOOKUP(H504,[1]RewardItemConfig!$B:$F,5,FALSE)","v":92},{"$f":"VLOOKUP(I504,[1]RewardItemConfig!$B:$F,5,FALSE)","v":55},14,3,17,"14#553|3#92|17#55"]
[{"$nulls":6},3000505,3005505,3010505,{"$f":"VLOOKUP(G505,[1]RewardItemConfig!$B:$F,5,FALSE)","v":554},{"$f":"VLOOKUP(H505,[1]RewardItemConfig!$B:$F,5,FALSE)","v":92},{"$f":"VLOOKUP(I505,[1]RewardItemConfig!$B:$F,5,FALSE)","v":55},14,3,17,"14#554|3#92|17#55"]
[{"$nulls":6},3000506,3005506,3010506,{"$f":"VLOOKUP(G506,[1]RewardItemConfig!$B:$F,5,FALSE)","v":555},{"$f":"VLOOKUP(H506,[1]RewardItemConfig!$B:$F,5,FALSE)","v":92},{"$f":"VLOOKUP(I506,[1]RewardItemConfig!$B:$F,5,FALSE)","v":55},14,3,17,"14#555|3#92|17#55"]
[{"$nulls":6},3000507,3005507,3010507,{"$f":"VLOOKUP(G507,[1]RewardItemConfig!$B:$F,5,FALSE)","v":556},{"$f":"VLOOKUP(H507,[1]RewardItemConfig!$B:$F,5,FALSE)","v":92},{"$f":"VLOOKUP(I507,[1]RewardItemConfig!$B:$F,5,FALSE)","v":55},14,3,17,"14#556|3#92|17#55"]
[{"$nulls":6},3000508,3005508,3010508,{"$f":"VLOOKUP(G508,[1]RewardItemConfig!$B:$F,5,FALSE)","v":557},{"$f":"VLOOKUP(H508,[1]RewardItemConfig!$B:$F,5,FALSE)","v":92},{"$f":"VLOOKUP(I508,[1]RewardItemConfig!$B:$F,5,FALSE)","v":55},14,3,17,"14#557|3#92|17#55"]
[{"$nulls":6},3000509,3005509,3010509,{"$f":"VLOOKUP(G509,[1]RewardItemConfig!$B:$F,5,FALSE)","v":558},{"$f":"VLOOKUP(H509,[1]RewardItemConfig!$B:$F,5,FALSE)","v":92},{"$f":"VLOOKUP(I509,[1]RewardItemConfig!$B:$F,5,FALSE)","v":55},14,3,17,"14#558|3#92|17#55"]
[{"$nulls":6},3000510,3005510,3010510,{"$f":"VLOOKUP(G510,[1]RewardItemConfig!$B:$F,5,FALSE)","v":559},{"$f":"VLOOKUP(H510,[1]RewardItemConfig!$B:$F,5,FALSE)","v":94},{"$f":"VLOOKUP(I510,[1]RewardItemConfig!$B:$F,5,FALSE)","v":56},14,3,17,"14#559|3#94|17#56"]
[{"$nulls":6},3000511,3005511,3010511,{"$f":"VLOOKUP(G511,[1]RewardItemConfig!$B:$F,5,FALSE)","v":560},{"$f":"VLOOKUP(H511,[1]RewardItemConfig!$B:$F,5,FALSE)","v":94},{"$f":"VLOOKUP(I511,[1]RewardItemConfig!$B:$F,5,FALSE)","v":56},14,3,17,"14#560|3#94|17#56"]
[{"$nulls":6},3000512,3005512,3010512,{"$f":"VLOOKUP(G512,[1]RewardItemConfig!$B:$F,5,FALSE)","v":561},{"$f":"VLOOKUP(H512,[1]RewardItemConfig!$B:$F,5,FALSE)","v":94},{"$f":"VLOOKUP(I512,[1]RewardItemConfig!$B:$F,5,FALSE)","v":56},14,3,17,"14#561|3#94|17#56"]
[{"$nulls":6},3000513,3005513,3010513,{"$f":"VLOOKUP(G513,[1]RewardItemConfig!$B:$F,5,FALSE)","v":562},{"$f":"VLOOKUP(H513,[1]RewardItemConfig!$B:$F,5,FALSE)","v":94},{"$f":"VLOOKUP(I513,[1]RewardItemConfig!$B:$F,5,FALSE)","v":56},14,3,17,"14#562|3#94|17#56"]
[{"$nulls":6},3000514,3005514,3010514,{"$f":"VLOOKUP(G514,[1]RewardItemConfig!$B:$F,5,FALSE)","v":563},{"$f":"VLOOKUP(H514,[1]RewardItemConfig!$B:$F,5,FALSE)","v":94},{"$f":"VLOOKUP(I514,[1]RewardItemConfig!$B:$F,5,FALSE)","v":56},14,3,17,{"$f":"M514&\"#\"&J514&\"|\"&N514&\"#\"&K514&\"|\"&O514&\"#\"&L514","v":"14#563|3#94|17#56"}]
[{"$nulls":6},3000515,3005515,3010515,{"$f":"VLOOKUP(G515,[1]RewardItemConfig!$B:$F,5,FALSE)","v":564},{"$f":"VLOOKUP(H515,[1]RewardItemConfig!$B:$F,5,FALSE)","v":94},{"$f":"VLOOKUP(I515,[1]RewardItemConfig!$B:$F,5,FALSE)","v":56},{"$f":"M514","v":14},{"$f":"N514","v":3},{"$f":"O514","v":17},"14#564|3#94|17#56"]
[{"$nulls":6},3000516,3005516,3010516,{"$f":"VLOOKUP(G516,[1]RewardItemConfig!$B:$F,5,FALSE)","v":565},{"$f":"VLOOKUP(H516,[1]RewardItemConfig!$B:$F,5,FALSE)","v":94},{"$f":"VLOOKUP(I516,[1]RewardItemConfig!$B:$F,5,FALSE)","v":56},14,3,17,"14#565|3#94|17#56"]
[{"$nulls":6},3000517,3005517,3010517,{"$f":"VLOOKUP(G517,[1]RewardItemConfig!$B:$F,5,FALSE)","v":566},{"$f":"VLOOKUP(H517,[1]RewardItemConfig!$B:$F,5,FALSE)","v":94},{"$f":"VLOOKUP(I517,[1]RewardItemConfig!$B:$F,5,FALSE)","v":56},14,3,17,"14#566|3#94|17#56"]
[{"$nulls":6},3000518,3005518,3010518,{"$f":"VLOOKUP(G518,[1]RewardItemConfig!$B:$F,5,FALSE)","v":567},{"$f":"VLOOKUP(H518,[1]RewardItemConfig!$B:$F,5,FALSE)","v":94},{"$f":"VLOOKUP(I518,[1]RewardItemConfig!$B:$F,5,FALSE)","v":56},14,3,17,"14#567|3#94|17#56"]
[{"$nulls":6},3000519,3005519,3010519,{"$f":"VLOOKUP(G519,[1]RewardItemConfig!$B:$F,5,FALSE)","v":568},{"$f":"VLOOKUP(H519,[1]RewardItemConfig!$B:$F,5,FALSE)","v":94},{"$f":"VLOOKUP(I519,[1]RewardItemConfig!$B:$F,5,FALSE)","v":56},14,3,17,"14#568|3#94|17#56"]
[{"$nulls":6},3000520,3005520,3010520,{"$f":"VLOOKUP(G520,[1]RewardItemConfig!$B:$F,5,FALSE)","v":569},{"$f":"VLOOKUP(H520,[1]RewardItemConfig!$B:$F,5,FALSE)","v":96},{"$f":"VLOOKUP(I520,[1]RewardItemConfig!$B:$F,5,FALSE)","v":57},14,3,17,"14#569|3#96|17#57"]
[{"$nulls":6},3000521,3005521,3010521,{"$f":"VLOOKUP(G521,[1]RewardItemConfig!$B:$F,5,FALSE)","v":570},{"$f":"VLOOKUP(H521,[1]RewardItemConfig!$B:$F,5,FALSE)","v":96},{"$f":"VLOOKUP(I521,[1]RewardItemConfig!$B:$F,5,FALSE)","v":57},14,3,17,"14#570|3#96|17#57"]
[{"$nulls":6},3000522,3005522,3010522,{"$f":"VLOOKUP(G522,[1]RewardItemConfig!$B:$F,5,FALSE)","v":571},{"$f":"VLOOKUP(H522,[1]RewardItemConfig!$B:$F,5,FALSE)","v":96},{"$f":"VLOOKUP(I522,[1]RewardItemConfig!$B:$F,5,FALSE)","v":57},14,3,17,"14#571|3#96|17#57"]
[{"$nulls":6},3000523,3005523,3010523,{"$f":"VLOOKUP(G523,[1]RewardItemConfig!$B:$F,5,FALSE)","v":572},{"$f":"VLOOKUP(H523,[1]RewardItemConfig!$B:$F,5,FALSE)","v":96},{"$f":"VLOOKUP(I523,[1]RewardItemConfig!$B:$F,5,FALSE)","v":57},14,3,17,"14#572|3#96|17#57"]
[{"$nulls":6},3000524,3005524,3010524,{"$f":"VLOOKUP(G524,[1]RewardItemConfig!$B:$F,5,FALSE)","v":573},{"$f":"VLOOKUP(H524,[1]RewardItemConfig!$B:$F,5,FALSE)","v":96},{"$f":"VLOOKUP(I524,[1]RewardItemConfig!$B:$F,5,FALSE)","v":57},14,3,17,"14#573|3#96|17#57"]
[{"$nulls":6},3000525,3005525,3010525,{"$f":"VLOOKUP(G525,[1]RewardItemConfig!$B:$F,5,FALSE)","v":574},{"$f":"VLOOKUP(H525,[1]RewardItemConfig!$B:$F,5,FALSE)","v":96},{"$f":"VLOOKUP(I525,[1]RewardItemConfig!$B:$F,5,FALSE)","v":57},14,3,17,"14#574|3#96|17#57"]
[{"$nulls":6},3000526,3005526,3010526,{"$f":"VLOOKUP(G526,[1]RewardItemConfig!$B:$F,5,FALSE)","v":575},{"$f":"VLOOKUP(H526,[1]RewardItemConfig!$B:$F,5,FALSE)","v":96},{"$f":"VLOOKUP(I526,[1]RewardItemConfig!$B:$F,5,FALSE)","v":57},14,3,17,"14#575|3#96|17#57"]
[{"$nulls":6},3000527,3005527,3010527,{"$f":"VLOOKUP(G527,[1]RewardItemConfig!$B:$F,5,FALSE)","v":576},{"$f":"VLOOKUP(H527,[1]RewardItemConfig!$B:$F,5,FALSE)","v":96},{"$f":"VLOOKUP(I527,[1]RewardItemConfig!$B:$F,5,FALSE)","v":57},14,3,17,"14#576|3#96|17#57"]
[{"$nulls":6},3000528,3005528,3010528,{"$f":"VLOOKUP(G528,[1]RewardItemConfig!$B:$F,5,FALSE)","v":577},{"$f":"VLOOKUP(H528,[1]RewardItemConfig!$B:$F,5,FALSE)","v":96},{"$f":"VLOOKUP(I528,[1]RewardItemConfig!$B:$F,5,FALSE)","v":57},14,3,17,"14#577|3#96|17#57"]
[{"$nulls":6},3000529,3005529,3010529,{"$f":"VLOOKUP(G529,[1]RewardItemConfig!$B:$F,5,FALSE)","v":578},{"$f":"VLOOKUP(H529,[1]RewardItemConfig!$B:$F,5,FALSE)","v":96},{"$f":"VLOOKUP(I529,[1]RewardItemConfig!$B:$F,5,FALSE)","v":57},14,3,17,"14#578|3#96|17#57"]
[{"$nulls":6},3000530,3005530,3010530,{"$f":"VLOOKUP(G530,[1]RewardItemConfig!$B:$F,5,FALSE)","v":579},{"$f":"VLOOKUP(H530,[1]RewardItemConfig!$B:$F,5,FALSE)","v":98},{"$f":"VLOOKUP(I530,[1]RewardItemConfig!$B:$F,5,FALSE)","v":58},14,3,17,"14#579|3#98|17#58"]
[{"$nulls":6},3000531,3005531,3010531,{"$f":"VLOOKUP(G531,[1]RewardItemConfig!$B:$F,5,FALSE)","v":580},{"$f":"VLOOKUP(H531,[1]RewardItemConfig!$B:$F,5,FALSE)","v":98},{"$f":"VLOOKUP(I531,[1]RewardItemConfig!$B:$F,5,FALSE)","v":58},14,3,17,"14#580|3#98|17#58"]
[{"$nulls":6},3000532,3005532,3010532,{"$f":"VLOOKUP(G532,[1]RewardItemConfig!$B:$F,5,FALSE)","v":581},{"$f":"VLOOKUP(H532,[1]RewardItemConfig!$B:$F,5,FALSE)","v":98},{"$f":"VLOOKUP(I532,[1]RewardItemConfig!$B:$F,5,FALSE)","v":58},14,3,17,"14#581|3#98|17#58"]
[{"$nulls":6},3000533,3005533,3010533,{"$f":"VLOOKUP(G533,[1]RewardItemConfig!$B:$F,5,FALSE)","v":582},{"$f":"VLOOKUP(H533,[1]RewardItemConfig!$B:$F,5,FALSE)","v":98},{"$f":"VLOOKUP(I533,[1]RewardItemConfig!$B:$F,5,FALSE)","v":58},14,3,17,"14#582|3#98|17#58"]
[{"$nulls":6},3000534,3005534,3010534,{"$f":"VLOOKUP(G534,[1]RewardItemConfig!$B:$F,5,FALSE)","v":583},{"$f":"VLOOKUP(H534,[1]RewardItemConfig!$B:$F,5,FALSE)","v":98},{"$f":"VLOOKUP(I534,[1]RewardItemConfig!$B:$F,5,FALSE)","v":58},14,3,17,"14#583|3#98|17#58"]
[{"$nulls":6},3000535,3005535,3010535,{"$f":"VLOOKUP(G535,[1]RewardItemConfig!$B:$F,5,FALSE)","v":584},{"$f":"VLOOKUP(H535,[1]RewardItemConfig!$B:$F,5,FALSE)","v":98},{"$f":"VLOOKUP(I535,[1]RewardItemConfig!$B:$F,5,FALSE)","v":58},14,3,17,"14#584|3#98|17#58"]
[{"$nulls":6},3000536,3005536,3010536,{"$f":"VLOOKUP(G536,[1]RewardItemConfig!$B:$F,5,FALSE)","v":585},{"$f":"VLOOKUP(H536,[1]RewardItemConfig!$B:$F,5,FALSE)","v":98},{"$f":"VLOOKUP(I536,[1]RewardItemConfig!$B:$F,5,FALSE)","v":58},14,3,17,"14#585|3#98|17#58"]
[{"$nulls":6},3000537,3005537,3010537,{"$f":"VLOOKUP(G537,[1]RewardItemConfig!$B:$F,5,FALSE)","v":586},{"$f":"VLOOKUP(H537,[1]RewardItemConfig!$B:$F,5,FALSE)","v":98},{"$f":"VLOOKUP(I537,[1]RewardItemConfig!$B:$F,5,FALSE)","v":58},14,3,17,"14#586|3#98|17#58"]
[{"$nulls":6},3000538,3005538,3010538,{"$f":"VLOOKUP(G538,[1]RewardItemConfig!$B:$F,5,FALSE)","v":587},{"$f":"VLOOKUP(H538,[1]RewardItemConfig!$B:$F,5,FALSE)","v":98},{"$f":"VLOOKUP(I538,[1]RewardItemConfig!$B:$F,5,FALSE)","v":58},14,3,17,"14#587|3#98|17#58"]
[{"$nulls":6},3000539,3005539,3010539,{"$f":"VLOOKUP(G539,[1]RewardItemConfig!$B:$F,5,FALSE)","v":588},{"$f":"VLOOKUP(H539,[1]RewardItemConfig!$B:$F,5,FALSE)","v":98},{"$f":"VLOOKUP(I539,[1]RewardItemConfig!$B:$F,5,FALSE)","v":58},14,3,17,"14#588|3#98|17#58"]
[{"$nulls":6},3000540,3005540,3010540,{"$f":"VLOOKUP(G540,[1]RewardItemConfig!$B:$F,5,FALSE)","v":589},{"$f":"VLOOKUP(H540,[1]RewardItemConfig!$B:$F,5,FALSE)","v":100},{"$f":"VLOOKUP(I540,[1]RewardItemConfig!$B:$F,5,FALSE)","v":59},14,3,17,"14#589|3#100|17#59"]
[{"$nulls":6},3000541,3005541,3010541,{"$f":"VLOOKUP(G541,[1]RewardItemConfig!$B:$F,5,FALSE)","v":590},{"$f":"VLOOKUP(H541,[1]RewardItemConfig!$B:$F,5,FALSE)","v":100},{"$f":"VLOOKUP(I541,[1]RewardItemConfig!$B:$F,5,FALSE)","v":59},14,3,17,"14#590|3#100|17#59"]
[{"$nulls":6},3000542,3005542,3010542,{"$f":"VLOOKUP(G542,[1]RewardItemConfig!$B:$F,5,FALSE)","v":591},{"$f":"VLOOKUP(H542,[1]RewardItemConfig!$B:$F,5,FALSE)","v":100},{"$f":"VLOOKUP(I542,[1]RewardItemConfig!$B:$F,5,FALSE)","v":59},14,3,17,"14#591|3#100|17#59"]
[{"$nulls":6},3000543,3005543,3010543,{"$f":"VLOOKUP(G543,[1]RewardItemConfig!$B:$F,5,FALSE)","v":592},{"$f":"VLOOKUP(H543,[1]RewardItemConfig!$B:$F,5,FALSE)","v":100},{"$f":"VLOOKUP(I543,[1]RewardItemConfig!$B:$F,5,FALSE)","v":59},14,3,17,"14#592|3#100|17#59"]
[{"$nulls":6},3000544,3005544,3010544,{"$f":"VLOOKUP(G544,[1]RewardItemConfig!$B:$F,5,FALSE)","v":593},{"$f":"VLOOKUP(H544,[1]RewardItemConfig!$B:$F,5,FALSE)","v":100},{"$f":"VLOOKUP(I544,[1]RewardItemConfig!$B:$F,5,FALSE)","v":59},14,3,17,"14#593|3#100|17#59"]
[{"$nulls":6},3000545,3005545,3010545,{"$f":"VLOOKUP(G545,[1]RewardItemConfig!$B:$F,5,FALSE)","v":594},{"$f":"VLOOKUP(H545,[1]RewardItemConfig!$B:$F,5,FALSE)","v":100},{"$f":"VLOOKUP(I545,[1]RewardItemConfig!$B:$F,5,FALSE)","v":59},14,3,17,"14#594|3#100|17#59"]
[{"$nulls":6},3000546,3005546,3010546,{"$f":"VLOOKUP(G546,[1]RewardItemConfig!$B:$F,5,FALSE)","v":595},{"$f":"VLOOKUP(H546,[1]RewardItemConfig!$B:$F,5,FALSE)","v":100},{"$f":"VLOOKUP(I546,[1]RewardItemConfig!$B:$F,5,FALSE)","v":59},14,3,17,"14#595|3#100|17#59"]
[{"$nulls":6},3000547,3005547,3010547,{"$f":"VLOOKUP(G547,[1]RewardItemConfig!$B:$F,5,FALSE)","v":596},{"$f":"VLOOKUP(H547,[1]RewardItemConfig!$B:$F,5,FALSE)","v":100},{"$f":"VLOOKUP(I547,[1]RewardItemConfig!$B:$F,5,FALSE)","v":59},14,3,17,"14#596|3#100|17#59"]
[{"$nulls":6},3000548,3005548,3010548,{"$f":"VLOOKUP(G548,[1]RewardItemConfig!$B:$F,5,FALSE)","v":597},{"$f":"VLOOKUP(H548,[1]RewardItemConfig!$B:$F,5,FALSE)","v":100},{"$f":"VLOOKUP(I548,[1]RewardItemConfig!$B:$F,5,FALSE)","v":59},14,3,17,"14#597|3#100|17#59"]
[{"$nulls":6},3000549,3005549,3010549,{"$f":"VLOOKUP(G549,[1]RewardItemConfig!$B:$F,5,FALSE)","v":598},{"$f":"VLOOKUP(H549,[1]RewardItemConfig!$B:$F,5,FALSE)","v":100},{"$f":"VLOOKUP(I549,[1]RewardItemConfig!$B:$F,5,FALSE)","v":59},14,3,17,"14#598|3#100|17#59"]
[{"$nulls":6},3000550,3005550,3010550,{"$f":"VLOOKUP(G550,[1]RewardItemConfig!$B:$F,5,FALSE)","v":599},{"$f":"VLOOKUP(H550,[1]RewardItemConfig!$B:$F,5,FALSE)","v":102},{"$f":"VLOOKUP(I550,[1]RewardItemConfig!$B:$F,5,FALSE)","v":60},14,3,17,"14#599|3#102|17#60"]
[{"$nulls":6},3000551,3005551,3010551,{"$f":"VLOOKUP(G551,[1]RewardItemConfig!$B:$F,5,FALSE)","v":600},{"$f":"VLOOKUP(H551,[1]RewardItemConfig!$B:$F,5,FALSE)","v":102},{"$f":"VLOOKUP(I551,[1]RewardItemConfig!$B:$F,5,FALSE)","v":60},14,3,17,"14#600|3#102|17#60"]
[{"$nulls":6},3000552,3005552,3010552,{"$f":"VLOOKUP(G552,[1]RewardItemConfig!$B:$F,5,FALSE)","v":601},{"$f":"VLOOKUP(H552,[1]RewardItemConfig!$B:$F,5,FALSE)","v":102},{"$f":"VLOOKUP(I552,[1]RewardItemConfig!$B:$F,5,FALSE)","v":60},14,3,17,"14#601|3#102|17#60"]
[{"$nulls":6},3000553,3005553,3010553,{"$f":"VLOOKUP(G553,[1]RewardItemConfig!$B:$F,5,FALSE)","v":602},{"$f":"VLOOKUP(H553,[1]RewardItemConfig!$B:$F,5,FALSE)","v":102},{"$f":"VLOOKUP(I553,[1]RewardItemConfig!$B:$F,5,FALSE)","v":60},14,3,17,"14#602|3#102|17#60"]
[{"$nulls":6},3000554,3005554,3010554,{"$f":"VLOOKUP(G554,[1]RewardItemConfig!$B:$F,5,FALSE)","v":603},{"$f":"VLOOKUP(H554,[1]RewardItemConfig!$B:$F,5,FALSE)","v":102},{"$f":"VLOOKUP(I554,[1]RewardItemConfig!$B:$F,5,FALSE)","v":60},14,3,17,"14#603|3#102|17#60"]
[{"$nulls":6},3000555,3005555,3010555,{"$f":"VLOOKUP(G555,[1]RewardItemConfig!$B:$F,5,FALSE)","v":604},{"$f":"VLOOKUP(H555,[1]RewardItemConfig!$B:$F,5,FALSE)","v":102},{"$f":"VLOOKUP(I555,[1]RewardItemConfig!$B:$F,5,FALSE)","v":60},14,3,17,"14#604|3#102|17#60"]
[{"$nulls":6},3000556,3005556,3010556,{"$f":"VLOOKUP(G556,[1]RewardItemConfig!$B:$F,5,FALSE)","v":605},{"$f":"VLOOKUP(H556,[1]RewardItemConfig!$B:$F,5,FALSE)","v":102},{"$f":"VLOOKUP(I556,[1]RewardItemConfig!$B:$F,5,FALSE)","v":60},14,3,17,"14#605|3#102|17#60"]
[{"$nulls":6},3000557,3005557,3010557,{"$f":"VLOOKUP(G557,[1]RewardItemConfig!$B:$F,5,FALSE)","v":606},{"$f":"VLOOKUP(H557,[1]RewardItemConfig!$B:$F,5,FALSE)","v":102},{"$f":"VLOOKUP(I557,[1]RewardItemConfig!$B:$F,5,FALSE)","v":60},14,3,17,"14#606|3#102|17#60"]
[{"$nulls":6},3000558,3005558,3010558,{"$f":"VLOOKUP(G558,[1]RewardItemConfig!$B:$F,5,FALSE)","v":607},{"$f":"VLOOKUP(H558,[1]RewardItemConfig!$B:$F,5,FALSE)","v":102},{"$f":"VLOOKUP(I558,[1]RewardItemConfig!$B:$F,5,FALSE)","v":60},14,3,17,"14#607|3#102|17#60"]
[{"$nulls":6},3000559,3005559,3010559,{"$f":"VLOOKUP(G559,[1]RewardItemConfig!$B:$F,5,FALSE)","v":608},{"$f":"VLOOKUP(H559,[1]RewardItemConfig!$B:$F,5,FALSE)","v":102},{"$f":"VLOOKUP(I559,[1]RewardItemConfig!$B:$F,5,FALSE)","v":60},14,3,17,"14#608|3#102|17#60"]
[{"$nulls":6},3000560,3005560,3010560,{"$f":"VLOOKUP(G560,[1]RewardItemConfig!$B:$F,5,FALSE)","v":609},{"$f":"VLOOKUP(H560,[1]RewardItemConfig!$B:$F,5,FALSE)","v":104},{"$f":"VLOOKUP(I560,[1]RewardItemConfig!$B:$F,5,FALSE)","v":61},14,3,17,"14#609|3#104|17#61"]
[{"$nulls":6},3000561,3005561,3010561,{"$f":"VLOOKUP(G561,[1]RewardItemConfig!$B:$F,5,FALSE)","v":610},{"$f":"VLOOKUP(H561,[1]RewardItemConfig!$B:$F,5,FALSE)","v":104},{"$f":"VLOOKUP(I561,[1]RewardItemConfig!$B:$F,5,FALSE)","v":61},14,3,17,"14#610|3#104|17#61"]
[{"$nulls":6},3000562,3005562,3010562,{"$f":"VLOOKUP(G562,[1]RewardItemConfig!$B:$F,5,FALSE)","v":611},{"$f":"VLOOKUP(H562,[1]RewardItemConfig!$B:$F,5,FALSE)","v":104},{"$f":"VLOOKUP(I562,[1]RewardItemConfig!$B:$F,5,FALSE)","v":61},14,3,17,"14#611|3#104|17#61"]
[{"$nulls":6},3000563,3005563,3010563,{"$f":"VLOOKUP(G563,[1]RewardItemConfig!$B:$F,5,FALSE)","v":612},{"$f":"VLOOKUP(H563,[1]RewardItemConfig!$B:$F,5,FALSE)","v":104},{"$f":"VLOOKUP(I563,[1]RewardItemConfig!$B:$F,5,FALSE)","v":61},14,3,17,"14#612|3#104|17#61"]
[{"$nulls":6},3000564,3005564,3010564,{"$f":"VLOOKUP(G564,[1]RewardItemConfig!$B:$F,5,FALSE)","v":613},{"$f":"VLOOKUP(H564,[1]RewardItemConfig!$B:$F,5,FALSE)","v":104},{"$f":"VLOOKUP(I564,[1]RewardItemConfig!$B:$F,5,FALSE)","v":61},14,3,17,"14#613|3#104|17#61"]
[{"$nulls":6},3000565,3005565,3010565,{"$f":"VLOOKUP(G565,[1]RewardItemConfig!$B:$F,5,FALSE)","v":614},{"$f":"VLOOKUP(H565,[1]RewardItemConfig!$B:$F,5,FALSE)","v":104},{"$f":"VLOOKUP(I565,[1]RewardItemConfig!$B:$F,5,FALSE)","v":61},14,3,17,"14#614|3#104|17#61"]
[{"$nulls":6},3000566,3005566,3010566,{"$f":"VLOOKUP(G566,[1]RewardItemConfig!$B:$F,5,FALSE)","v":615},{"$f":"VLOOKUP(H566,[1]RewardItemConfig!$B:$F,5,FALSE)","v":104},{"$f":"VLOOKUP(I566,[1]RewardItemConfig!$B:$F,5,FALSE)","v":61},14,3,17,"14#615|3#104|17#61"]
[{"$nulls":6},3000567,3005567,3010567,{"$f":"VLOOKUP(G567,[1]RewardItemConfig!$B:$F,5,FALSE)","v":616},{"$f":"VLOOKUP(H567,[1]RewardItemConfig!$B:$F,5,FALSE)","v":104},{"$f":"VLOOKUP(I567,[1]RewardItemConfig!$B:$F,5,FALSE)","v":61},14,3,17,"14#616|3#104|17#61"]
[{"$nulls":6},3000568,3005568,3010568,{"$f":"VLOOKUP(G568,[1]RewardItemConfig!$B:$F,5,FALSE)","v":617},{"$f":"VLOOKUP(H568,[1]RewardItemConfig!$B:$F,5,FALSE)","v":104},{"$f":"VLOOKUP(I568,[1]RewardItemConfig!$B:$F,5,FALSE)","v":61},14,3,17,"14#617|3#104|17#61"]
[{"$nulls":6},3000569,3005569,3010569,{"$f":"VLOOKUP(G569,[1]RewardItemConfig!$B:$F,5,FALSE)","v":618},{"$f":"VLOOKUP(H569,[1]RewardItemConfig!$B:$F,5,FALSE)","v":104},{"$f":"VLOOKUP(I569,[1]RewardItemConfig!$B:$F,5,FALSE)","v":61},14,3,17,"14#618|3#104|17#61"]
[{"$nulls":6},3000570,3005570,3010570,{"$f":"VLOOKUP(G570,[1]RewardItemConfig!$B:$F,5,FALSE)","v":619},{"$f":"VLOOKUP(H570,[1]RewardItemConfig!$B:$F,5,FALSE)","v":106},{"$f":"VLOOKUP(I570,[1]RewardItemConfig!$B:$F,5,FALSE)","v":62},14,3,17,"14#619|3#106|17#62"]
[{"$nulls":6},3000571,3005571,3010571,{"$f":"VLOOKUP(G571,[1]RewardItemConfig!$B:$F,5,FALSE)","v":620},{"$f":"VLOOKUP(H571,[1]RewardItemConfig!$B:$F,5,FALSE)","v":106},{"$f":"VLOOKUP(I571,[1]RewardItemConfig!$B:$F,5,FALSE)","v":62},14,3,17,"14#620|3#106|17#62"]
[{"$nulls":6},3000572,3005572,3010572,{"$f":"VLOOKUP(G572,[1]RewardItemConfig!$B:$F,5,FALSE)","v":621},{"$f":"VLOOKUP(H572,[1]RewardItemConfig!$B:$F,5,FALSE)","v":106},{"$f":"VLOOKUP(I572,[1]RewardItemConfig!$B:$F,5,FALSE)","v":62},14,3,17,"14#621|3#106|17#62"]
[{"$nulls":6},3000573,3005573,3010573,{"$f":"VLOOKUP(G573,[1]RewardItemConfig!$B:$F,5,FALSE)","v":622},{"$f":"VLOOKUP(H573,[1]RewardItemConfig!$B:$F,5,FALSE)","v":106},{"$f":"VLOOKUP(I573,[1]RewardItemConfig!$B:$F,5,FALSE)","v":62},14,3,17,"14#622|3#106|17#62"]
[{"$nulls":6},3000574,3005574,3010574,{"$f":"VLOOKUP(G574,[1]RewardItemConfig!$B:$F,5,FALSE)","v":623},{"$f":"VLOOKUP(H574,[1]RewardItemConfig!$B:$F,5,FALSE)","v":106},{"$f":"VLOOKUP(I574,[1]RewardItemConfig!$B:$F,5,FALSE)","v":62},14,3,17,"14#623|3#106|17#62"]
[{"$nulls":6},3000575,3005575,3010575,{"$f":"VLOOKUP(G575,[1]RewardItemConfig!$B:$F,5,FALSE)","v":624},{"$f":"VLOOKUP(H575,[1]RewardItemConfig!$B:$F,5,FALSE)","v":106},{"$f":"VLOOKUP(I575,[1]RewardItemConfig!$B:$F,5,FALSE)","v":62},14,3,17,"14#624|3#106|17#62"]
[{"$nulls":6},3000576,3005576,3010576,{"$f":"VLOOKUP(G576,[1]RewardItemConfig!$B:$F,5,FALSE)","v":625},{"$f":"VLOOKUP(H576,[1]RewardItemConfig!$B:$F,5,FALSE)","v":106},{"$f":"VLOOKUP(I576,[1]RewardItemConfig!$B:$F,5,FALSE)","v":62},14,3,17,"14#625|3#106|17#62"]
[{"$nulls":6},3000577,3005577,3010577,{"$f":"VLOOKUP(G577,[1]RewardItemConfig!$B:$F,5,FALSE)","v":626},{"$f":"VLOOKUP(H577,[1]RewardItemConfig!$B:$F,5,FALSE)","v":106},{"$f":"VLOOKUP(I577,[1]RewardItemConfig!$B:$F,5,FALSE)","v":62},14,3,17,"14#626|3#106|17#62"]
[{"$nulls":6},3000578,3005578,3010578,{"$f":"VLOOKUP(G578,[1]RewardItemConfig!$B:$F,5,FALSE)","v":627},{"$f":"VLOOKUP(H578,[1]RewardItemConfig!$B:$F,5,FALSE)","v":106},{"$f":"VLOOKUP(I578,[1]RewardItemConfig!$B:$F,5,FALSE)","v":62},14,3,17,{"$f":"M578&\"#\"&J578&\"|\"&N578&\"#\"&K578&\"|\"&O578&\"#\"&L578","v":"14#627|3#106|17#62"}]
[{"$nulls":6},3000579,3005579,3010579,{"$f":"VLOOKUP(G579,[1]RewardItemConfig!$B:$F,5,FALSE)","v":628},{"$f":"VLOOKUP(H579,[1]RewardItemConfig!$B:$F,5,FALSE)","v":106},{"$f":"VLOOKUP(I579,[1]RewardItemConfig!$B:$F,5,FALSE)","v":62},{"$f":"M578","v":14},{"$f":"N578","v":3},{"$f":"O578","v":17},"14#628|3#106|17#62"]
[{"$nulls":6},3000580,3005580,3010580,{"$f":"VLOOKUP(G580,[1]RewardItemConfig!$B:$F,5,FALSE)","v":629},{"$f":"VLOOKUP(H580,[1]RewardItemConfig!$B:$F,5,FALSE)","v":108},{"$f":"VLOOKUP(I580,[1]RewardItemConfig!$B:$F,5,FALSE)","v":63},14,3,17,"14#629|3#108|17#63"]
[{"$nulls":6},3000581,3005581,3010581,{"$f":"VLOOKUP(G581,[1]RewardItemConfig!$B:$F,5,FALSE)","v":630},{"$f":"VLOOKUP(H581,[1]RewardItemConfig!$B:$F,5,FALSE)","v":108},{"$f":"VLOOKUP(I581,[1]RewardItemConfig!$B:$F,5,FALSE)","v":63},14,3,17,"14#630|3#108|17#63"]
[{"$nulls":6},3000582,3005582,3010582,{"$f":"VLOOKUP(G582,[1]RewardItemConfig!$B:$F,5,FALSE)","v":631},{"$f":"VLOOKUP(H582,[1]RewardItemConfig!$B:$F,5,FALSE)","v":108},{"$f":"VLOOKUP(I582,[1]RewardItemConfig!$B:$F,5,FALSE)","v":63},14,3,17,"14#631|3#108|17#63"]
[{"$nulls":6},3000583,3005583,3010583,{"$f":"VLOOKUP(G583,[1]RewardItemConfig!$B:$F,5,FALSE)","v":632},{"$f":"VLOOKUP(H583,[1]RewardItemConfig!$B:$F,5,FALSE)","v":108},{"$f":"VLOOKUP(I583,[1]RewardItemConfig!$B:$F,5,FALSE)","v":63},14,3,17,"14#632|3#108|17#63"]
[{"$nulls":6},3000584,3005584,3010584,{"$f":"VLOOKUP(G584,[1]RewardItemConfig!$B:$F,5,FALSE)","v":633},{"$f":"VLOOKUP(H584,[1]RewardItemConfig!$B:$F,5,FALSE)","v":108},{"$f":"VLOOKUP(I584,[1]RewardItemConfig!$B:$F,5,FALSE)","v":63},14,3,17,"14#633|3#108|17#63"]
[{"$nulls":6},3000585,3005585,3010585,{"$f":"VLOOKUP(G585,[1]RewardItemConfig!$B:$F,5,FALSE)","v":634},{"$f":"VLOOKUP(H585,[1]RewardItemConfig!$B:$F,5,FALSE)","v":108},{"$f":"VLOOKUP(I585,[1]RewardItemConfig!$B:$F,5,FALSE)","v":63},14,3,17,"14#634|3#108|17#63"]
[{"$nulls":6},3000586,3005586,3010586,{"$f":"VLOOKUP(G586,[1]RewardItemConfig!$B:$F,5,FALSE)","v":635},{"$f":"VLOOKUP(H586,[1]RewardItemConfig!$B:$F,5,FALSE)","v":108},{"$f":"VLOOKUP(I586,[1]RewardItemConfig!$B:$F,5,FALSE)","v":63},14,3,17,"14#635|3#108|17#63"]
[{"$nulls":6},3000587,3005587,3010587,{"$f":"VLOOKUP(G587,[1]RewardItemConfig!$B:$F,5,FALSE)","v":636},{"$f":"VLOOKUP(H587,[1]RewardItemConfig!$B:$F,5,FALSE)","v":108},{"$f":"VLOOKUP(I587,[1]RewardItemConfig!$B:$F,5,FALSE)","v":63},14,3,17,"14#636|3#108|17#63"]
[{"$nulls":6},3000588,3005588,3010588,{"$f":"VLOOKUP(G588,[1]RewardItemConfig!$B:$F,5,FALSE)","v":637},{"$f":"VLOOKUP(H588,[1]RewardItemConfig!$B:$F,5,FALSE)","v":108},{"$f":"VLOOKUP(I588,[1]RewardItemConfig!$B:$F,5,FALSE)","v":63},14,3,17,"14#637|3#108|17#63"]
[{"$nulls":6},3000589,3005589,3010589,{"$f":"VLOOKUP(G589,[1]RewardItemConfig!$B:$F,5,FALSE)","v":638},{"$f":"VLOOKUP(H589,[1]RewardItemConfig!$B:$F,5,FALSE)","v":108},{"$f":"VLOOKUP(I589,[1]RewardItemConfig!$B:$F,5,FALSE)","v":63},14,3,17,"14#638|3#108|17#63"]
[{"$nulls":6},3000590,3005590,3010590,{"$f":"VLOOKUP(G590,[1]RewardItemConfig!$B:$F,5,FALSE)","v":639},{"$f":"VLOOKUP(H590,[1]RewardItemConfig!$B:$F,5,FALSE)","v":110},{"$f":"VLOOKUP(I590,[1]RewardItemConfig!$B:$F,5,FALSE)","v":64},14,3,17,"14#639|3#110|17#64"]
[{"$nulls":6},3000591,3005591,3010591,{"$f":"VLOOKUP(G591,[1]RewardItemConfig!$B:$F,5,FALSE)","v":640},{"$f":"VLOOKUP(H591,[1]RewardItemConfig!$B:$F,5,FALSE)","v":110},{"$f":"VLOOKUP(I591,[1]RewardItemConfig!$B:$F,5,FALSE)","v":64},14,3,17,"14#640|3#110|17#64"]
[{"$nulls":6},3000592,3005592,3010592,{"$f":"VLOOKUP(G592,[1]RewardItemConfig!$B:$F,5,FALSE)","v":641},{"$f":"VLOOKUP(H592,[1]RewardItemConfig!$B:$F,5,FALSE)","v":110},{"$f":"VLOOKUP(I592,[1]RewardItemConfig!$B:$F,5,FALSE)","v":64},14,3,17,"14#641|3#110|17#64"]
[{"$nulls":6},3000593,3005593,3010593,{"$f":"VLOOKUP(G593,[1]RewardItemConfig!$B:$F,5,FALSE)","v":642},{"$f":"VLOOKUP(H593,[1]RewardItemConfig!$B:$F,5,FALSE)","v":110},{"$f":"VLOOKUP(I593,[1]RewardItemConfig!$B:$F,5,FALSE)","v":64},14,3,17,"14#642|3#110|17#64"]
[{"$nulls":6},3000594,3005594,3010594,{"$f":"VLOOKUP(G594,[1]RewardItemConfig!$B:$F,5,FALSE)","v":643},{"$f":"VLOOKUP(H594,[1]RewardItemConfig!$B:$F,5,FALSE)","v":110},{"$f":"VLOOKUP(I594,[1]RewardItemConfig!$B:$F,5,FALSE)","v":64},14,3,17,"14#643|3#110|17#64"]
[{"$nulls":6},3000595,3005595,3010595,{"$f":"VLOOKUP(G595,[1]RewardItemConfig!$B:$F,5,FALSE)","v":644},{"$f":"VLOOKUP(H595,[1]RewardItemConfig!$B:$F,5,FALSE)","v":110},{"$f":"VLOOKUP(I595,[1]RewardItemConfig!$B:$F,5,FALSE)","v":64},14,3,17,"14#644|3#110|17#64"]
[{"$nulls":6},3000596,3005596,3010596,{"$f":"VLOOKUP(G596,[1]RewardItemConfig!$B:$F,5,FALSE)","v":645},{"$f":"VLOOKUP(H596,[1]RewardItemConfig!$B:$F,5,FALSE)","v":110},{"$f":"VLOOKUP(I596,[1]RewardItemConfig!$B:$F,5,FALSE)","v":64},14,3,17,"14#645|3#110|17#64"]
[{"$nulls":6},3000597,3005597,3010597,{"$f":"VLOOKUP(G597,[1]RewardItemConfig!$B:$F,5,FALSE)","v":646},{"$f":"VLOOKUP(H597,[1]RewardItemConfig!$B:$F,5,FALSE)","v":110},{"$f":"VLOOKUP(I597,[1]RewardItemConfig!$B:$F,5,FALSE)","v":64},14,3,17,"14#646|3#110|17#64"]
[{"$nulls":6},3000598,3005598,3010598,{"$f":"VLOOKUP(G598,[1]RewardItemConfig!$B:$F,5,FALSE)","v":647},{"$f":"VLOOKUP(H598,[1]RewardItemConfig!$B:$F,5,FALSE)","v":110},{"$f":"VLOOKUP(I598,[1]RewardItemConfig!$B:$F,5,FALSE)","v":64},14,3,17,"14#647|3#110|17#64"]
[{"$nulls":6},3000599,3005599,3010599,{"$f":"VLOOKUP(G599,[1]RewardItemConfig!$B:$F,5,FALSE)","v":648},{"$f":"VLOOKUP(H599,[1]RewardItemConfig!$B:$F,5,FALSE)","v":110},{"$f":"VLOOKUP(I599,[1]RewardItemConfig!$B:$F,5,FALSE)","v":64},14,3,17,"14#648|3#110|17#64"]
[{"$nulls":6},3000600,3005600,3010600,{"$f":"VLOOKUP(G600,[1]RewardItemConfig!$B:$F,5,FALSE)","v":649},{"$f":"VLOOKUP(H600,[1]RewardItemConfig!$B:$F,5,FALSE)","v":112},{"$f":"VLOOKUP(I600,[1]RewardItemConfig!$B:$F,5,FALSE)","v":65},14,3,17,"14#649|3#112|17#65"]
[{"$nulls":6},3000601,3005601,3010601,{"$f":"VLOOKUP(G601,[1]RewardItemConfig!$B:$F,5,FALSE)","v":650},{"$f":"VLOOKUP(H601,[1]RewardItemConfig!$B:$F,5,FALSE)","v":112},{"$f":"VLOOKUP(I601,[1]RewardItemConfig!$B:$F,5,FALSE)","v":65},14,3,17,"14#650|3#112|17#65"]
[{"$nulls":6},3000602,3005602,3010602,{"$f":"VLOOKUP(G602,[1]RewardItemConfig!$B:$F,5,FALSE)","v":651},{"$f":"VLOOKUP(H602,[1]RewardItemConfig!$B:$F,5,FALSE)","v":112},{"$f":"VLOOKUP(I602,[1]RewardItemConfig!$B:$F,5,FALSE)","v":65},14,3,17,"14#651|3#112|17#65"]
[{"$nulls":6},3000603,3005603,3010603,{"$f":"VLOOKUP(G603,[1]RewardItemConfig!$B:$F,5,FALSE)","v":652},{"$f":"VLOOKUP(H603,[1]RewardItemConfig!$B:$F,5,FALSE)","v":112},{"$f":"VLOOKUP(I603,[1]RewardItemConfig!$B:$F,5,FALSE)","v":65},14,3,17,"14#652|3#112|17#65"]
[{"$nulls":6},3000604,3005604,3010604,{"$f":"VLOOKUP(G604,[1]RewardItemConfig!$B:$F,5,FALSE)","v":653},{"$f":"VLOOKUP(H604,[1]RewardItemConfig!$B:$F,5,FALSE)","v":112},{"$f":"VLOOKUP(I604,[1]RewardItemConfig!$B:$F,5,FALSE)","v":65},14,3,17,"14#653|3#112|17#65"]
[{"$nulls":6},3000605,3005605,3010605,{"$f":"VLOOKUP(G605,[1]RewardItemConfig!$B:$F,5,FALSE)","v":654},{"$f":"VLOOKUP(H605,[1]RewardItemConfig!$B:$F,5,FALSE)","v":112},{"$f":"VLOOKUP(I605,[1]RewardItemConfig!$B:$F,5,FALSE)","v":65},14,3,17,"14#654|3#112|17#65"]
[{"$nulls":6},3000606,3005606,3010606,{"$f":"VLOOKUP(G606,[1]RewardItemConfig!$B:$F,5,FALSE)","v":655},{"$f":"VLOOKUP(H606,[1]RewardItemConfig!$B:$F,5,FALSE)","v":112},{"$f":"VLOOKUP(I606,[1]RewardItemConfig!$B:$F,5,FALSE)","v":65},14,3,17,"14#655|3#112|17#65"]
[{"$nulls":6},3000607,3005607,3010607,{"$f":"VLOOKUP(G607,[1]RewardItemConfig!$B:$F,5,FALSE)","v":656},{"$f":"VLOOKUP(H607,[1]RewardItemConfig!$B:$F,5,FALSE)","v":112},{"$f":"VLOOKUP(I607,[1]RewardItemConfig!$B:$F,5,FALSE)","v":65},14,3,17,"14#656|3#112|17#65"]
[{"$nulls":6},3000608,3005608,3010608,{"$f":"VLOOKUP(G608,[1]RewardItemConfig!$B:$F,5,FALSE)","v":657},{"$f":"VLOOKUP(H608,[1]RewardItemConfig!$B:$F,5,FALSE)","v":112},{"$f":"VLOOKUP(I608,[1]RewardItemConfig!$B:$F,5,FALSE)","v":65},14,3,17,"14#657|3#112|17#65"]
[{"$nulls":6},3000609,3005609,3010609,{"$f":"VLOOKUP(G609,[1]RewardItemConfig!$B:$F,5,FALSE)","v":658},{"$f":"VLOOKUP(H609,[1]RewardItemConfig!$B:$F,5,FALSE)","v":112},{"$f":"VLOOKUP(I609,[1]RewardItemConfig!$B:$F,5,FALSE)","v":65},14,3,17,"14#658|3#112|17#65"]
[{"$nulls":6},3000610,3005610,3010610,{"$f":"VLOOKUP(G610,[1]RewardItemConfig!$B:$F,5,FALSE)","v":659},{"$f":"VLOOKUP(H610,[1]RewardItemConfig!$B:$F,5,FALSE)","v":114},{"$f":"VLOOKUP(I610,[1]RewardItemConfig!$B:$F,5,FALSE)","v":66},14,3,17,"14#659|3#114|17#66"]
[{"$nulls":6},3000611,3005611,3010611,{"$f":"VLOOKUP(G611,[1]RewardItemConfig!$B:$F,5,FALSE)","v":660},{"$f":"VLOOKUP(H611,[1]RewardItemConfig!$B:$F,5,FALSE)","v":114},{"$f":"VLOOKUP(I611,[1]RewardItemConfig!$B:$F,5,FALSE)","v":66},14,3,17,"14#660|3#114|17#66"]
[{"$nulls":6},3000612,3005612,3010612,{"$f":"VLOOKUP(G612,[1]RewardItemConfig!$B:$F,5,FALSE)","v":661},{"$f":"VLOOKUP(H612,[1]RewardItemConfig!$B:$F,5,FALSE)","v":114},{"$f":"VLOOKUP(I612,[1]RewardItemConfig!$B:$F,5,FALSE)","v":66},14,3,17,"14#661|3#114|17#66"]
[{"$nulls":6},3000613,3005613,3010613,{"$f":"VLOOKUP(G613,[1]RewardItemConfig!$B:$F,5,FALSE)","v":662},{"$f":"VLOOKUP(H613,[1]RewardItemConfig!$B:$F,5,FALSE)","v":114},{"$f":"VLOOKUP(I613,[1]RewardItemConfig!$B:$F,5,FALSE)","v":66},14,3,17,"14#662|3#114|17#66"]
[{"$nulls":6},3000614,3005614,3010614,{"$f":"VLOOKUP(G614,[1]RewardItemConfig!$B:$F,5,FALSE)","v":663},{"$f":"VLOOKUP(H614,[1]RewardItemConfig!$B:$F,5,FALSE)","v":114},{"$f":"VLOOKUP(I614,[1]RewardItemConfig!$B:$F,5,FALSE)","v":66},14,3,17,"14#663|3#114|17#66"]
[{"$nulls":6},3000615,3005615,3010615,{"$f":"VLOOKUP(G615,[1]RewardItemConfig!$B:$F,5,FALSE)","v":664},{"$f":"VLOOKUP(H615,[1]RewardItemConfig!$B:$F,5,FALSE)","v":114},{"$f":"VLOOKUP(I615,[1]RewardItemConfig!$B:$F,5,FALSE)","v":66},14,3,17,"14#664|3#114|17#66"]
[{"$nulls":6},3000616,3005616,3010616,{"$f":"VLOOKUP(G616,[1]RewardItemConfig!$B:$F,5,FALSE)","v":665},{"$f":"VLOOKUP(H616,[1]RewardItemConfig!$B:$F,5,FALSE)","v":114},{"$f":"VLOOKUP(I616,[1]RewardItemConfig!$B:$F,5,FALSE)","v":66},14,3,17,"14#665|3#114|17#66"]
[{"$nulls":6},3000617,3005617,3010617,{"$f":"VLOOKUP(G617,[1]RewardItemConfig!$B:$F,5,FALSE)","v":666},{"$f":"VLOOKUP(H617,[1]RewardItemConfig!$B:$F,5,FALSE)","v":114},{"$f":"VLOOKUP(I617,[1]RewardItemConfig!$B:$F,5,FALSE)","v":66},14,3,17,"14#666|3#114|17#66"]
[{"$nulls":6},3000618,3005618,3010618,{"$f":"VLOOKUP(G618,[1]RewardItemConfig!$B:$F,5,FALSE)","v":667},{"$f":"VLOOKUP(H618,[1]RewardItemConfig!$B:$F,5,FALSE)","v":114},{"$f":"VLOOKUP(I618,[1]RewardItemConfig!$B:$F,5,FALSE)","v":66},14,3,17,"14#667|3#114|17#66"]
[{"$nulls":6},3000619,3005619,3010619,{"$f":"VLOOKUP(G619,[1]RewardItemConfig!$B:$F,5,FALSE)","v":668},{"$f":"VLOOKUP(H619,[1]RewardItemConfig!$B:$F,5,FALSE)","v":114},{"$f":"VLOOKUP(I619,[1]RewardItemConfig!$B:$F,5,FALSE)","v":66},14,3,17,"14#668|3#114|17#66"]
[{"$nulls":6},3000620,3005620,3010620,{"$f":"VLOOKUP(G620,[1]RewardItemConfig!$B:$F,5,FALSE)","v":669},{"$f":"VLOOKUP(H620,[1]RewardItemConfig!$B:$F,5,FALSE)","v":116},{"$f":"VLOOKUP(I620,[1]RewardItemConfig!$B:$F,5,FALSE)","v":67},14,3,17,"14#669|3#116|17#67"]
[{"$nulls":6},3000621,3005621,3010621,{"$f":"VLOOKUP(G621,[1]RewardItemConfig!$B:$F,5,FALSE)","v":670},{"$f":"VLOOKUP(H621,[1]RewardItemConfig!$B:$F,5,FALSE)","v":116},{"$f":"VLOOKUP(I621,[1]RewardItemConfig!$B:$F,5,FALSE)","v":67},14,3,17,"14#670|3#116|17#67"]
[{"$nulls":6},3000622,3005622,3010622,{"$f":"VLOOKUP(G622,[1]RewardItemConfig!$B:$F,5,FALSE)","v":671},{"$f":"VLOOKUP(H622,[1]RewardItemConfig!$B:$F,5,FALSE)","v":116},{"$f":"VLOOKUP(I622,[1]RewardItemConfig!$B:$F,5,FALSE)","v":67},14,3,17,"14#671|3#116|17#67"]
[{"$nulls":6},3000623,3005623,3010623,{"$f":"VLOOKUP(G623,[1]RewardItemConfig!$B:$F,5,FALSE)","v":672},{"$f":"VLOOKUP(H623,[1]RewardItemConfig!$B:$F,5,FALSE)","v":116},{"$f":"VLOOKUP(I623,[1]RewardItemConfig!$B:$F,5,FALSE)","v":67},14,3,17,"14#672|3#116|17#67"]
[{"$nulls":6},3000624,3005624,3010624,{"$f":"VLOOKUP(G624,[1]RewardItemConfig!$B:$F,5,FALSE)","v":673},{"$f":"VLOOKUP(H624,[1]RewardItemConfig!$B:$F,5,FALSE)","v":116},{"$f":"VLOOKUP(I624,[1]RewardItemConfig!$B:$F,5,FALSE)","v":67},14,3,17,"14#673|3#116|17#67"]
[{"$nulls":6},3000625,3005625,3010625,{"$f":"VLOOKUP(G625,[1]RewardItemConfig!$B:$F,5,FALSE)","v":674},{"$f":"VLOOKUP(H625,[1]RewardItemConfig!$B:$F,5,FALSE)","v":116},{"$f":"VLOOKUP(I625,[1]RewardItemConfig!$B:$F,5,FALSE)","v":67},14,3,17,"14#674|3#116|17#67"]
[{"$nulls":6},3000626,3005626,3010626,{"$f":"VLOOKUP(G626,[1]RewardItemConfig!$B:$F,5,FALSE)","v":675},{"$f":"VLOOKUP(H626,[1]RewardItemConfig!$B:$F,5,FALSE)","v":116},{"$f":"VLOOKUP(I626,[1]RewardItemConfig!$B:$F,5,FALSE)","v":67},14,3,17,"14#675|3#116|17#67"]
[{"$nulls":6},3000627,3005627,3010627,{"$f":"VLOOKUP(G627,[1]RewardItemConfig!$B:$F,5,FALSE)","v":676},{"$f":"VLOOKUP(H627,[1]RewardItemConfig!$B:$F,5,FALSE)","v":116},{"$f":"VLOOKUP(I627,[1]RewardItemConfig!$B:$F,5,FALSE)","v":67},14,3,17,"14#676|3#116|17#67"]
[{"$nulls":6},3000628,3005628,3010628,{"$f":"VLOOKUP(G628,[1]RewardItemConfig!$B:$F,5,FALSE)","v":677},{"$f":"VLOOKUP(H628,[1]RewardItemConfig!$B:$F,5,FALSE)","v":116},{"$f":"VLOOKUP(I628,[1]RewardItemConfig!$B:$F,5,FALSE)","v":67},14,3,17,"14#677|3#116|17#67"]
[{"$nulls":6},3000629,3005629,3010629,{"$f":"VLOOKUP(G629,[1]RewardItemConfig!$B:$F,5,FALSE)","v":678},{"$f":"VLOOKUP(H629,[1]RewardItemConfig!$B:$F,5,FALSE)","v":116},{"$f":"VLOOKUP(I629,[1]RewardItemConfig!$B:$F,5,FALSE)","v":67},14,3,17,"14#678|3#116|17#67"]
[{"$nulls":6},3000630,3005630,3010630,{"$f":"VLOOKUP(G630,[1]RewardItemConfig!$B:$F,5,FALSE)","v":679},{"$f":"VLOOKUP(H630,[1]RewardItemConfig!$B:$F,5,FALSE)","v":118},{"$f":"VLOOKUP(I630,[1]RewardItemConfig!$B:$F,5,FALSE)","v":68},14,3,17,"14#679|3#118|17#68"]
[{"$nulls":6},3000631,3005631,3010631,{"$f":"VLOOKUP(G631,[1]RewardItemConfig!$B:$F,5,FALSE)","v":680},{"$f":"VLOOKUP(H631,[1]RewardItemConfig!$B:$F,5,FALSE)","v":118},{"$f":"VLOOKUP(I631,[1]RewardItemConfig!$B:$F,5,FALSE)","v":68},14,3,17,"14#680|3#118|17#68"]
[{"$nulls":6},3000632,3005632,3010632,{"$f":"VLOOKUP(G632,[1]RewardItemConfig!$B:$F,5,FALSE)","v":681},{"$f":"VLOOKUP(H632,[1]RewardItemConfig!$B:$F,5,FALSE)","v":118},{"$f":"VLOOKUP(I632,[1]RewardItemConfig!$B:$F,5,FALSE)","v":68},14,3,17,"14#681|3#118|17#68"]
[{"$nulls":6},3000633,3005633,3010633,{"$f":"VLOOKUP(G633,[1]RewardItemConfig!$B:$F,5,FALSE)","v":682},{"$f":"VLOOKUP(H633,[1]RewardItemConfig!$B:$F,5,FALSE)","v":118},{"$f":"VLOOKUP(I633,[1]RewardItemConfig!$B:$F,5,FALSE)","v":68},14,3,17,"14#682|3#118|17#68"]
[{"$nulls":6},3000634,3005634,3010634,{"$f":"VLOOKUP(G634,[1]RewardItemConfig!$B:$F,5,FALSE)","v":683},{"$f":"VLOOKUP(H634,[1]RewardItemConfig!$B:$F,5,FALSE)","v":118},{"$f":"VLOOKUP(I634,[1]RewardItemConfig!$B:$F,5,FALSE)","v":68},14,3,17,"14#683|3#118|17#68"]
[{"$nulls":6},3000635,3005635,3010635,{"$f":"VLOOKUP(G635,[1]RewardItemConfig!$B:$F,5,FALSE)","v":684},{"$f":"VLOOKUP(H635,[1]RewardItemConfig!$B:$F,5,FALSE)","v":118},{"$f":"VLOOKUP(I635,[1]RewardItemConfig!$B:$F,5,FALSE)","v":68},14,3,17,"14#684|3#118|17#68"]
[{"$nulls":6},3000636,3005636,3010636,{"$f":"VLOOKUP(G636,[1]RewardItemConfig!$B:$F,5,FALSE)","v":685},{"$f":"VLOOKUP(H636,[1]RewardItemConfig!$B:$F,5,FALSE)","v":118},{"$f":"VLOOKUP(I636,[1]RewardItemConfig!$B:$F,5,FALSE)","v":68},14,3,17,"14#685|3#118|17#68"]
[{"$nulls":6},3000637,3005637,3010637,{"$f":"VLOOKUP(G637,[1]RewardItemConfig!$B:$F,5,FALSE)","v":686},{"$f":"VLOOKUP(H637,[1]RewardItemConfig!$B:$F,5,FALSE)","v":118},{"$f":"VLOOKUP(I637,[1]RewardItemConfig!$B:$F,5,FALSE)","v":68},14,3,17,"14#686|3#118|17#68"]
[{"$nulls":6},3000638,3005638,3010638,{"$f":"VLOOKUP(G638,[1]RewardItemConfig!$B:$F,5,FALSE)","v":687},{"$f":"VLOOKUP(H638,[1]RewardItemConfig!$B:$F,5,FALSE)","v":118},{"$f":"VLOOKUP(I638,[1]RewardItemConfig!$B:$F,5,FALSE)","v":68},14,3,17,"14#687|3#118|17#68"]
[{"$nulls":6},3000639,3005639,3010639,{"$f":"VLOOKUP(G639,[1]RewardItemConfig!$B:$F,5,FALSE)","v":688},{"$f":"VLOOKUP(H639,[1]RewardItemConfig!$B:$F,5,FALSE)","v":118},{"$f":"VLOOKUP(I639,[1]RewardItemConfig!$B:$F,5,FALSE)","v":68},14,3,17,"14#688|3#118|17#68"]
[{"$nulls":6},3000640,3005640,3010640,{"$f":"VLOOKUP(G640,[1]RewardItemConfig!$B:$F,5,FALSE)","v":689},{"$f":"VLOOKUP(H640,[1]RewardItemConfig!$B:$F,5,FALSE)","v":120},{"$f":"VLOOKUP(I640,[1]RewardItemConfig!$B:$F,5,FALSE)","v":69},14,3,17,"14#689|3#120|17#69"]
[{"$nulls":6},3000641,3005641,3010641,{"$f":"VLOOKUP(G641,[1]RewardItemConfig!$B:$F,5,FALSE)","v":690},{"$f":"VLOOKUP(H641,[1]RewardItemConfig!$B:$F,5,FALSE)","v":120},{"$f":"VLOOKUP(I641,[1]RewardItemConfig!$B:$F,5,FALSE)","v":69},14,3,17,"14#690|3#120|17#69"]
[{"$nulls":6},3000642,3005642,3010642,{"$f":"VLOOKUP(G642,[1]RewardItemConfig!$B:$F,5,FALSE)","v":691},{"$f":"VLOOKUP(H642,[1]RewardItemConfig!$B:$F,5,FALSE)","v":120},{"$f":"VLOOKUP(I642,[1]RewardItemConfig!$B:$F,5,FALSE)","v":69},14,3,17,{"$f":"M642&\"#\"&J642&\"|\"&N642&\"#\"&K642&\"|\"&O642&\"#\"&L642","v":"14#691|3#120|17#69"}]
[{"$nulls":6},3000643,3005643,3010643,{"$f":"VLOOKUP(G643,[1]RewardItemConfig!$B:$F,5,FALSE)","v":692},{"$f":"VLOOKUP(H643,[1]RewardItemConfig!$B:$F,5,FALSE)","v":120},{"$f":"VLOOKUP(I643,[1]RewardItemConfig!$B:$F,5,FALSE)","v":69},{"$f":"M642","v":14},{"$f":"N642","v":3},{"$f":"O642","v":17},"14#692|3#120|17#69"]
[{"$nulls":6},3000644,3005644,3010644,{"$f":"VLOOKUP(G644,[1]RewardItemConfig!$B:$F,5,FALSE)","v":693},{"$f":"VLOOKUP(H644,[1]RewardItemConfig!$B:$F,5,FALSE)","v":120},{"$f":"VLOOKUP(I644,[1]RewardItemConfig!$B:$F,5,FALSE)","v":69},14,3,17,"14#693|3#120|17#69"]
[{"$nulls":6},3000645,3005645,3010645,{"$f":"VLOOKUP(G645,[1]RewardItemConfig!$B:$F,5,FALSE)","v":694},{"$f":"VLOOKUP(H645,[1]RewardItemConfig!$B:$F,5,FALSE)","v":120},{"$f":"VLOOKUP(I645,[1]RewardItemConfig!$B:$F,5,FALSE)","v":69},14,3,17,"14#694|3#120|17#69"]
[{"$nulls":6},3000646,3005646,3010646,{"$f":"VLOOKUP(G646,[1]RewardItemConfig!$B:$F,5,FALSE)","v":695},{"$f":"VLOOKUP(H646,[1]RewardItemConfig!$B:$F,5,FALSE)","v":120},{"$f":"VLOOKUP(I646,[1]RewardItemConfig!$B:$F,5,FALSE)","v":69},14,3,17,"14#695|3#120|17#69"]
[{"$nulls":6},3000647,3005647,3010647,{"$f":"VLOOKUP(G647,[1]RewardItemConfig!$B:$F,5,FALSE)","v":696},{"$f":"VLOOKUP(H647,[1]RewardItemConfig!$B:$F,5,FALSE)","v":120},{"$f":"VLOOKUP(I647,[1]RewardItemConfig!$B:$F,5,FALSE)","v":69},14,3,17,"14#696|3#120|17#69"]
[{"$nulls":6},3000648,3005648,3010648,{"$f":"VLOOKUP(G648,[1]RewardItemConfig!$B:$F,5,FALSE)","v":697},{"$f":"VLOOKUP(H648,[1]RewardItemConfig!$B:$F,5,FALSE)","v":120},{"$f":"VLOOKUP(I648,[1]RewardItemConfig!$B:$F,5,FALSE)","v":69},14,3,17,"14#697|3#120|17#69"]
[{"$nulls":6},3000649,3005649,3010649,{"$f":"VLOOKUP(G649,[1]RewardItemConfig!$B:$F,5,FALSE)","v":698},{"$f":"VLOOKUP(H649,[1]RewardItemConfig!$B:$F,5,FALSE)","v":120},{"$f":"VLOOKUP(I649,[1]RewardItemConfig!$B:$F,5,FALSE)","v":69},14,3,17,"14#698|3#120|17#69"]
[{"$nulls":6},3000650,3005650,3010650,{"$f":"VLOOKUP(G650,[1]RewardItemConfig!$B:$F,5,FALSE)","v":699},{"$f":"VLOOKUP(H650,[1]RewardItemConfig!$B:$F,5,FALSE)","v":122},{"$f":"VLOOKUP(I650,[1]RewardItemConfig!$B:$F,5,FALSE)","v":70},14,3,17,"14#699|3#122|17#70"]
[{"$nulls":6},3000651,3005651,3010651,{"$f":"VLOOKUP(G651,[1]RewardItemConfig!$B:$F,5,FALSE)","v":700},{"$f":"VLOOKUP(H651,[1]RewardItemConfig!$B:$F,5,FALSE)","v":122},{"$f":"VLOOKUP(I651,[1]RewardItemConfig!$B:$F,5,FALSE)","v":70},14,3,17,"14#700|3#122|17#70"]
[{"$nulls":6},3000652,3005652,3010652,{"$f":"VLOOKUP(G652,[1]RewardItemConfig!$B:$F,5,FALSE)","v":701},{"$f":"VLOOKUP(H652,[1]RewardItemConfig!$B:$F,5,FALSE)","v":122},{"$f":"VLOOKUP(I652,[1]RewardItemConfig!$B:$F,5,FALSE)","v":70},14,3,17,"14#701|3#122|17#70"]
[{"$nulls":6},3000653,3005653,3010653,{"$f":"VLOOKUP(G653,[1]RewardItemConfig!$B:$F,5,FALSE)","v":702},{"$f":"VLOOKUP(H653,[1]RewardItemConfig!$B:$F,5,FALSE)","v":122},{"$f":"VLOOKUP(I653,[1]RewardItemConfig!$B:$F,5,FALSE)","v":70},14,3,17,"14#702|3#122|17#70"]
[{"$nulls":6},3000654,3005654,3010654,{"$f":"VLOOKUP(G654,[1]RewardItemConfig!$B:$F,5,FALSE)","v":703},{"$f":"VLOOKUP(H654,[1]RewardItemConfig!$B:$F,5,FALSE)","v":122},{"$f":"VLOOKUP(I654,[1]RewardItemConfig!$B:$F,5,FALSE)","v":70},14,3,17,"14#703|3#122|17#70"]
[{"$nulls":6},3000655,3005655,3010655,{"$f":"VLOOKUP(G655,[1]RewardItemConfig!$B:$F,5,FALSE)","v":704},{"$f":"VLOOKUP(H655,[1]RewardItemConfig!$B:$F,5,FALSE)","v":122},{"$f":"VLOOKUP(I655,[1]RewardItemConfig!$B:$F,5,FALSE)","v":70},14,3,17,"14#704|3#122|17#70"]
[{"$nulls":6},3000656,3005656,3010656,{"$f":"VLOOKUP(G656,[1]RewardItemConfig!$B:$F,5,FALSE)","v":705},{"$f":"VLOOKUP(H656,[1]RewardItemConfig!$B:$F,5,FALSE)","v":122},{"$f":"VLOOKUP(I656,[1]RewardItemConfig!$B:$F,5,FALSE)","v":70},14,3,17,"14#705|3#122|17#70"]
[{"$nulls":6},3000657,3005657,3010657,{"$f":"VLOOKUP(G657,[1]RewardItemConfig!$B:$F,5,FALSE)","v":706},{"$f":"VLOOKUP(H657,[1]RewardItemConfig!$B:$F,5,FALSE)","v":122},{"$f":"VLOOKUP(I657,[1]RewardItemConfig!$B:$F,5,FALSE)","v":70},14,3,17,"14#706|3#122|17#70"]
[{"$nulls":6},3000658,3005658,3010658,{"$f":"VLOOKUP(G658,[1]RewardItemConfig!$B:$F,5,FALSE)","v":707},{"$f":"VLOOKUP(H658,[1]RewardItemConfig!$B:$F,5,FALSE)","v":122},{"$f":"VLOOKUP(I658,[1]RewardItemConfig!$B:$F,5,FALSE)","v":70},14,3,17,"14#707|3#122|17#70"]
[{"$nulls":6},3000659,3005659,3010659,{"$f":"VLOOKUP(G659,[1]RewardItemConfig!$B:$F,5,FALSE)","v":708},{"$f":"VLOOKUP(H659,[1]RewardItemConfig!$B:$F,5,FALSE)","v":122},{"$f":"VLOOKUP(I659,[1]RewardItemConfig!$B:$F,5,FALSE)","v":70},14,3,17,"14#708|3#122|17#70"]
[{"$nulls":6},3000660,3005660,3010660,{"$f":"VLOOKUP(G660,[1]RewardItemConfig!$B:$F,5,FALSE)","v":709},{"$f":"VLOOKUP(H660,[1]RewardItemConfig!$B:$F,5,FALSE)","v":124},{"$f":"VLOOKUP(I660,[1]RewardItemConfig!$B:$F,5,FALSE)","v":71},14,3,17,"14#709|3#124|17#71"]
[{"$nulls":6},3000661,3005661,3010661,{"$f":"VLOOKUP(G661,[1]RewardItemConfig!$B:$F,5,FALSE)","v":710},{"$f":"VLOOKUP(H661,[1]RewardItemConfig!$B:$F,5,FALSE)","v":124},{"$f":"VLOOKUP(I661,[1]RewardItemConfig!$B:$F,5,FALSE)","v":71},14,3,17,"14#710|3#124|17#71"]
[{"$nulls":6},3000662,3005662,3010662,{"$f":"VLOOKUP(G662,[1]RewardItemConfig!$B:$F,5,FALSE)","v":711},{"$f":"VLOOKUP(H662,[1]RewardItemConfig!$B:$F,5,FALSE)","v":124},{"$f":"VLOOKUP(I662,[1]RewardItemConfig!$B:$F,5,FALSE)","v":71},14,3,17,"14#711|3#124|17#71"]
[{"$nulls":6},3000663,3005663,3010663,{"$f":"VLOOKUP(G663,[1]RewardItemConfig!$B:$F,5,FALSE)","v":712},{"$f":"VLOOKUP(H663,[1]RewardItemConfig!$B:$F,5,FALSE)","v":124},{"$f":"VLOOKUP(I663,[1]RewardItemConfig!$B:$F,5,FALSE)","v":71},14,3,17,"14#712|3#124|17#71"]
[{"$nulls":6},3000664,3005664,3010664,{"$f":"VLOOKUP(G664,[1]RewardItemConfig!$B:$F,5,FALSE)","v":713},{"$f":"VLOOKUP(H664,[1]RewardItemConfig!$B:$F,5,FALSE)","v":124},{"$f":"VLOOKUP(I664,[1]RewardItemConfig!$B:$F,5,FALSE)","v":71},14,3,17,"14#713|3#124|17#71"]
[{"$nulls":6},3000665,3005665,3010665,{"$f":"VLOOKUP(G665,[1]RewardItemConfig!$B:$F,5,FALSE)","v":714},{"$f":"VLOOKUP(H665,[1]RewardItemConfig!$B:$F,5,FALSE)","v":124},{"$f":"VLOOKUP(I665,[1]RewardItemConfig!$B:$F,5,FALSE)","v":71},14,3,17,"14#714|3#124|17#71"]
[{"$nulls":6},3000666,3005666,3010666,{"$f":"VLOOKUP(G666,[1]RewardItemConfig!$B:$F,5,FALSE)","v":715},{"$f":"VLOOKUP(H666,[1]RewardItemConfig!$B:$F,5,FALSE)","v":124},{"$f":"VLOOKUP(I666,[1]RewardItemConfig!$B:$F,5,FALSE)","v":71},14,3,17,"14#715|3#124|17#71"]
[{"$nulls":6},3000667,3005667,3010667,{"$f":"VLOOKUP(G667,[1]RewardItemConfig!$B:$F,5,FALSE)","v":716},{"$f":"VLOOKUP(H667,[1]RewardItemConfig!$B:$F,5,FALSE)","v":124},{"$f":"VLOOKUP(I667,[1]RewardItemConfig!$B:$F,5,FALSE)","v":71},14,3,17,"14#716|3#124|17#71"]
[{"$nulls":6},3000668,3005668,3010668,{"$f":"VLOOKUP(G668,[1]RewardItemConfig!$B:$F,5,FALSE)","v":717},{"$f":"VLOOKUP(H668,[1]RewardItemConfig!$B:$F,5,FALSE)","v":124},{"$f":"VLOOKUP(I668,[1]RewardItemConfig!$B:$F,5,FALSE)","v":71},14,3,17,"14#717|3#124|17#71"]
[{"$nulls":6},3000669,3005669,3010669,{"$f":"VLOOKUP(G669,[1]RewardItemConfig!$B:$F,5,FALSE)","v":718},{"$f":"VLOOKUP(H669,[1]RewardItemConfig!$B:$F,5,FALSE)","v":124},{"$f":"VLOOKUP(I669,[1]RewardItemConfig!$B:$F,5,FALSE)","v":71},14,3,17,"14#718|3#124|17#71"]
[{"$nulls":6},3000670,3005670,3010670,{"$f":"VLOOKUP(G670,[1]RewardItemConfig!$B:$F,5,FALSE)","v":719},{"$f":"VLOOKUP(H670,[1]RewardItemConfig!$B:$F,5,FALSE)","v":126},{"$f":"VLOOKUP(I670,[1]RewardItemConfig!$B:$F,5,FALSE)","v":72},14,3,17,"14#719|3#126|17#72"]
[{"$nulls":6},3000671,3005671,3010671,{"$f":"VLOOKUP(G671,[1]RewardItemConfig!$B:$F,5,FALSE)","v":720},{"$f":"VLOOKUP(H671,[1]RewardItemConfig!$B:$F,5,FALSE)","v":126},{"$f":"VLOOKUP(I671,[1]RewardItemConfig!$B:$F,5,FALSE)","v":72},14,3,17,"14#720|3#126|17#72"]
[{"$nulls":6},3000672,3005672,3010672,{"$f":"VLOOKUP(G672,[1]RewardItemConfig!$B:$F,5,FALSE)","v":721},{"$f":"VLOOKUP(H672,[1]RewardItemConfig!$B:$F,5,FALSE)","v":126},{"$f":"VLOOKUP(I672,[1]RewardItemConfig!$B:$F,5,FALSE)","v":72},14,3,17,"14#721|3#126|17#72"]
[{"$nulls":6},3000673,3005673,3010673,{"$f":"VLOOKUP(G673,[1]RewardItemConfig!$B:$F,5,FALSE)","v":722},{"$f":"VLOOKUP(H673,[1]RewardItemConfig!$B:$F,5,FALSE)","v":126},{"$f":"VLOOKUP(I673,[1]RewardItemConfig!$B:$F,5,FALSE)","v":72},14,3,17,"14#722|3#126|17#72"]
[{"$nulls":6},3000674,3005674,3010674,{"$f":"VLOOKUP(G674,[1]RewardItemConfig!$B:$F,5,FALSE)","v":723},{"$f":"VLOOKUP(H674,[1]RewardItemConfig!$B:$F,5,FALSE)","v":126},{"$f":"VLOOKUP(I674,[1]RewardItemConfig!$B:$F,5,FALSE)","v":72},14,3,17,"14#723|3#126|17#72"]
[{"$nulls":6},3000675,3005675,3010675,{"$f":"VLOOKUP(G675,[1]RewardItemConfig!$B:$F,5,FALSE)","v":724},{"$f":"VLOOKUP(H675,[1]RewardItemConfig!$B:$F,5,FALSE)","v":126},{"$f":"VLOOKUP(I675,[1]RewardItemConfig!$B:$F,5,FALSE)","v":72},14,3,17,"14#724|3#126|17#72"]
[{"$nulls":6},3000676,3005676,3010676,{"$f":"VLOOKUP(G676,[1]RewardItemConfig!$B:$F,5,FALSE)","v":725},{"$f":"VLOOKUP(H676,[1]RewardItemConfig!$B:$F,5,FALSE)","v":126},{"$f":"VLOOKUP(I676,[1]RewardItemConfig!$B:$F,5,FALSE)","v":72},14,3,17,"14#725|3#126|17#72"]
[{"$nulls":6},3000677,3005677,3010677,{"$f":"VLOOKUP(G677,[1]RewardItemConfig!$B:$F,5,FALSE)","v":726},{"$f":"VLOOKUP(H677,[1]RewardItemConfig!$B:$F,5,FALSE)","v":126},{"$f":"VLOOKUP(I677,[1]RewardItemConfig!$B:$F,5,FALSE)","v":72},14,3,17,"14#726|3#126|17#72"]
[{"$nulls":6},3000678,3005678,3010678,{"$f":"VLOOKUP(G678,[1]RewardItemConfig!$B:$F,5,FALSE)","v":727},{"$f":"VLOOKUP(H678,[1]RewardItemConfig!$B:$F,5,FALSE)","v":126},{"$f":"VLOOKUP(I678,[1]RewardItemConfig!$B:$F,5,FALSE)","v":72},14,3,17,"14#727|3#126|17#72"]
[{"$nulls":6},3000679,3005679,3010679,{"$f":"VLOOKUP(G679,[1]RewardItemConfig!$B:$F,5,FALSE)","v":728},{"$f":"VLOOKUP(H679,[1]RewardItemConfig!$B:$F,5,FALSE)","v":126},{"$f":"VLOOKUP(I679,[1]RewardItemConfig!$B:$F,5,FALSE)","v":72},14,3,17,"14#728|3#126|17#72"]
[{"$nulls":6},3000680,3005680,3010680,{"$f":"VLOOKUP(G680,[1]RewardItemConfig!$B:$F,5,FALSE)","v":729},{"$f":"VLOOKUP(H680,[1]RewardItemConfig!$B:$F,5,FALSE)","v":128},{"$f":"VLOOKUP(I680,[1]RewardItemConfig!$B:$F,5,FALSE)","v":73},14,3,17,"14#729|3#128|17#73"]
[{"$nulls":6},3000681,3005681,3010681,{"$f":"VLOOKUP(G681,[1]RewardItemConfig!$B:$F,5,FALSE)","v":730},{"$f":"VLOOKUP(H681,[1]RewardItemConfig!$B:$F,5,FALSE)","v":128},{"$f":"VLOOKUP(I681,[1]RewardItemConfig!$B:$F,5,FALSE)","v":73},14,3,17,"14#730|3#128|17#73"]
[{"$nulls":6},3000682,3005682,3010682,{"$f":"VLOOKUP(G682,[1]RewardItemConfig!$B:$F,5,FALSE)","v":731},{"$f":"VLOOKUP(H682,[1]RewardItemConfig!$B:$F,5,FALSE)","v":128},{"$f":"VLOOKUP(I682,[1]RewardItemConfig!$B:$F,5,FALSE)","v":73},14,3,17,"14#731|3#128|17#73"]
[{"$nulls":6},3000683,3005683,3010683,{"$f":"VLOOKUP(G683,[1]RewardItemConfig!$B:$F,5,FALSE)","v":732},{"$f":"VLOOKUP(H683,[1]RewardItemConfig!$B:$F,5,FALSE)","v":128},{"$f":"VLOOKUP(I683,[1]RewardItemConfig!$B:$F,5,FALSE)","v":73},14,3,17,"14#732|3#128|17#73"]
[{"$nulls":6},3000684,3005684,3010684,{"$f":"VLOOKUP(G684,[1]RewardItemConfig!$B:$F,5,FALSE)","v":733},{"$f":"VLOOKUP(H684,[1]RewardItemConfig!$B:$F,5,FALSE)","v":128},{"$f":"VLOOKUP(I684,[1]RewardItemConfig!$B:$F,5,FALSE)","v":73},14,3,17,"14#733|3#128|17#73"]
[{"$nulls":6},3000685,3005685,3010685,{"$f":"VLOOKUP(G685,[1]RewardItemConfig!$B:$F,5,FALSE)","v":734},{"$f":"VLOOKUP(H685,[1]RewardItemConfig!$B:$F,5,FALSE)","v":128},{"$f":"VLOOKUP(I685,[1]RewardItemConfig!$B:$F,5,FALSE)","v":73},14,3,17,"14#734|3#128|17#73"]
[{"$nulls":6},3000686,3005686,3010686,{"$f":"VLOOKUP(G686,[1]RewardItemConfig!$B:$F,5,FALSE)","v":735},{"$f":"VLOOKUP(H686,[1]RewardItemConfig!$B:$F,5,FALSE)","v":128},{"$f":"VLOOKUP(I686,[1]RewardItemConfig!$B:$F,5,FALSE)","v":73},14,3,17,"14#735|3#128|17#73"]
[{"$nulls":6},3000687,3005687,3010687,{"$f":"VLOOKUP(G687,[1]RewardItemConfig!$B:$F,5,FALSE)","v":736},{"$f":"VLOOKUP(H687,[1]RewardItemConfig!$B:$F,5,FALSE)","v":128},{"$f":"VLOOKUP(I687,[1]RewardItemConfig!$B:$F,5,FALSE)","v":73},14,3,17,"14#736|3#128|17#73"]
[{"$nulls":6},3000688,3005688,3010688,{"$f":"VLOOKUP(G688,[1]RewardItemConfig!$B:$F,5,FALSE)","v":737},{"$f":"VLOOKUP(H688,[1]RewardItemConfig!$B:$F,5,FALSE)","v":128},{"$f":"VLOOKUP(I688,[1]RewardItemConfig!$B:$F,5,FALSE)","v":73},14,3,17,"14#737|3#128|17#73"]
[{"$nulls":6},3000689,3005689,3010689,{"$f":"VLOOKUP(G689,[1]RewardItemConfig!$B:$F,5,FALSE)","v":738},{"$f":"VLOOKUP(H689,[1]RewardItemConfig!$B:$F,5,FALSE)","v":128},{"$f":"VLOOKUP(I689,[1]RewardItemConfig!$B:$F,5,FALSE)","v":73},14,3,17,"14#738|3#128|17#73"]
[{"$nulls":6},3000690,3005690,3010690,{"$f":"VLOOKUP(G690,[1]RewardItemConfig!$B:$F,5,FALSE)","v":739},{"$f":"VLOOKUP(H690,[1]RewardItemConfig!$B:$F,5,FALSE)","v":130},{"$f":"VLOOKUP(I690,[1]RewardItemConfig!$B:$F,5,FALSE)","v":74},14,3,17,"14#739|3#130|17#74"]
[{"$nulls":6},3000691,3005691,3010691,{"$f":"VLOOKUP(G691,[1]RewardItemConfig!$B:$F,5,FALSE)","v":740},{"$f":"VLOOKUP(H691,[1]RewardItemConfig!$B:$F,5,FALSE)","v":130},{"$f":"VLOOKUP(I691,[1]RewardItemConfig!$B:$F,5,FALSE)","v":74},14,3,17,"14#740|3#130|17#74"]
[{"$nulls":6},3000692,3005692,3010692,{"$f":"VLOOKUP(G692,[1]RewardItemConfig!$B:$F,5,FALSE)","v":741},{"$f":"VLOOKUP(H692,[1]RewardItemConfig!$B:$F,5,FALSE)","v":130},{"$f":"VLOOKUP(I692,[1]RewardItemConfig!$B:$F,5,FALSE)","v":74},14,3,17,"14#741|3#130|17#74"]
[{"$nulls":6},3000693,3005693,3010693,{"$f":"VLOOKUP(G693,[1]RewardItemConfig!$B:$F,5,FALSE)","v":742},{"$f":"VLOOKUP(H693,[1]RewardItemConfig!$B:$F,5,FALSE)","v":130},{"$f":"VLOOKUP(I693,[1]RewardItemConfig!$B:$F,5,FALSE)","v":74},14,3,17,"14#742|3#130|17#74"]
[{"$nulls":6},3000694,3005694,3010694,{"$f":"VLOOKUP(G694,[1]RewardItemConfig!$B:$F,5,FALSE)","v":743},{"$f":"VLOOKUP(H694,[1]RewardItemConfig!$B:$F,5,FALSE)","v":130},{"$f":"VLOOKUP(I694,[1]RewardItemConfig!$B:$F,5,FALSE)","v":74},14,3,17,"14#743|3#130|17#74"]
[{"$nulls":6},3000695,3005695,3010695,{"$f":"VLOOKUP(G695,[1]RewardItemConfig!$B:$F,5,FALSE)","v":744},{"$f":"VLOOKUP(H695,[1]RewardItemConfig!$B:$F,5,FALSE)","v":130},{"$f":"VLOOKUP(I695,[1]RewardItemConfig!$B:$F,5,FALSE)","v":74},14,3,17,"14#744|3#130|17#74"]
[{"$nulls":6},3000696,3005696,3010696,{"$f":"VLOOKUP(G696,[1]RewardItemConfig!$B:$F,5,FALSE)","v":745},{"$f":"VLOOKUP(H696,[1]RewardItemConfig!$B:$F,5,FALSE)","v":130},{"$f":"VLOOKUP(I696,[1]RewardItemConfig!$B:$F,5,FALSE)","v":74},14,3,17,"14#745|3#130|17#74"]
[{"$nulls":6},3000697,3005697,3010697,{"$f":"VLOOKUP(G697,[1]RewardItemConfig!$B:$F,5,FALSE)","v":746},{"$f":"VLOOKUP(H697,[1]RewardItemConfig!$B:$F,5,FALSE)","v":130},{"$f":"VLOOKUP(I697,[1]RewardItemConfig!$B:$F,5,FALSE)","v":74},14,3,17,"14#746|3#130|17#74"]
[{"$nulls":6},3000698,3005698,3010698,{"$f":"VLOOKUP(G698,[1]RewardItemConfig!$B:$F,5,FALSE)","v":747},{"$f":"VLOOKUP(H698,[1]RewardItemConfig!$B:$F,5,FALSE)","v":130},{"$f":"VLOOKUP(I698,[1]RewardItemConfig!$B:$F,5,FALSE)","v":74},14,3,17,"14#747|3#130|17#74"]
[{"$nulls":6},3000699,3005699,3010699,{"$f":"VLOOKUP(G699,[1]RewardItemConfig!$B:$F,5,FALSE)","v":748},{"$f":"VLOOKUP(H699,[1]RewardItemConfig!$B:$F,5,FALSE)","v":130},{"$f":"VLOOKUP(I699,[1]RewardItemConfig!$B:$F,5,FALSE)","v":74},14,3,17,"14#748|3#130|17#74"]
[{"$nulls":6},3000700,3005700,3010700,{"$f":"VLOOKUP(G700,[1]RewardItemConfig!$B:$F,5,FALSE)","v":749},{"$f":"VLOOKUP(H700,[1]RewardItemConfig!$B:$F,5,FALSE)","v":132},{"$f":"VLOOKUP(I700,[1]RewardItemConfig!$B:$F,5,FALSE)","v":75},14,3,17,"14#749|3#132|17#75"]
[{"$nulls":6},3000701,3005701,3010701,{"$f":"VLOOKUP(G701,[1]RewardItemConfig!$B:$F,5,FALSE)","v":750},{"$f":"VLOOKUP(H701,[1]RewardItemConfig!$B:$F,5,FALSE)","v":132},{"$f":"VLOOKUP(I701,[1]RewardItemConfig!$B:$F,5,FALSE)","v":75},14,3,17,"14#750|3#132|17#75"]
[{"$nulls":6},3000702,3005702,3010702,{"$f":"VLOOKUP(G702,[1]RewardItemConfig!$B:$F,5,FALSE)","v":751},{"$f":"VLOOKUP(H702,[1]RewardItemConfig!$B:$F,5,FALSE)","v":132},{"$f":"VLOOKUP(I702,[1]RewardItemConfig!$B:$F,5,FALSE)","v":75},14,3,17,"14#751|3#132|17#75"]
[{"$nulls":6},3000703,3005703,3010703,{"$f":"VLOOKUP(G703,[1]RewardItemConfig!$B:$F,5,FALSE)","v":752},{"$f":"VLOOKUP(H703,[1]RewardItemConfig!$B:$F,5,FALSE)","v":132},{"$f":"VLOOKUP(I703,[1]RewardItemConfig!$B:$F,5,FALSE)","v":75},14,3,17,"14#752|3#132|17#75"]
[{"$nulls":6},3000704,3005704,3010704,{"$f":"VLOOKUP(G704,[1]RewardItemConfig!$B:$F,5,FALSE)","v":753},{"$f":"VLOOKUP(H704,[1]RewardItemConfig!$B:$F,5,FALSE)","v":132},{"$f":"VLOOKUP(I704,[1]RewardItemConfig!$B:$F,5,FALSE)","v":75},14,3,17,"14#753|3#132|17#75"]
[{"$nulls":6},3000705,3005705,3010705,{"$f":"VLOOKUP(G705,[1]RewardItemConfig!$B:$F,5,FALSE)","v":754},{"$f":"VLOOKUP(H705,[1]RewardItemConfig!$B:$F,5,FALSE)","v":132},{"$f":"VLOOKUP(I705,[1]RewardItemConfig!$B:$F,5,FALSE)","v":75},14,3,17,"14#754|3#132|17#75"]
[{"$nulls":6},3000706,3005706,3010706,{"$f":"VLOOKUP(G706,[1]RewardItemConfig!$B:$F,5,FALSE)","v":755},{"$f":"VLOOKUP(H706,[1]RewardItemConfig!$B:$F,5,FALSE)","v":132},{"$f":"VLOOKUP(I706,[1]RewardItemConfig!$B:$F,5,FALSE)","v":75},14,3,17,{"$f":"M706&\"#\"&J706&\"|\"&N706&\"#\"&K706&\"|\"&O706&\"#\"&L706","v":"14#755|3#132|17#75"}]
[{"$nulls":6},3000707,3005707,3010707,{"$f":"VLOOKUP(G707,[1]RewardItemConfig!$B:$F,5,FALSE)","v":756},{"$f":"VLOOKUP(H707,[1]RewardItemConfig!$B:$F,5,FALSE)","v":132},{"$f":"VLOOKUP(I707,[1]RewardItemConfig!$B:$F,5,FALSE)","v":75},{"$f":"M706","v":14},{"$f":"N706","v":3},{"$f":"O706","v":17},"14#756|3#132|17#75"]
[{"$nulls":6},3000708,3005708,3010708,{"$f":"VLOOKUP(G708,[1]RewardItemConfig!$B:$F,5,FALSE)","v":757},{"$f":"VLOOKUP(H708,[1]RewardItemConfig!$B:$F,5,FALSE)","v":132},{"$f":"VLOOKUP(I708,[1]RewardItemConfig!$B:$F,5,FALSE)","v":75},14,3,17,"14#757|3#132|17#75"]
[{"$nulls":6},3000709,3005709,3010709,{"$f":"VLOOKUP(G709,[1]RewardItemConfig!$B:$F,5,FALSE)","v":758},{"$f":"VLOOKUP(H709,[1]RewardItemConfig!$B:$F,5,FALSE)","v":132},{"$f":"VLOOKUP(I709,[1]RewardItemConfig!$B:$F,5,FALSE)","v":75},14,3,17,"14#758|3#132|17#75"]
[{"$nulls":6},3000710,3005710,3010710,{"$f":"VLOOKUP(G710,[1]RewardItemConfig!$B:$F,5,FALSE)","v":759},{"$f":"VLOOKUP(H710,[1]RewardItemConfig!$B:$F,5,FALSE)","v":134},{"$f":"VLOOKUP(I710,[1]RewardItemConfig!$B:$F,5,FALSE)","v":76},14,3,17,"14#759|3#134|17#76"]
[{"$nulls":6},3000711,3005711,3010711,{"$f":"VLOOKUP(G711,[1]RewardItemConfig!$B:$F,5,FALSE)","v":760},{"$f":"VLOOKUP(H711,[1]RewardItemConfig!$B:$F,5,FALSE)","v":134},{"$f":"VLOOKUP(I711,[1]RewardItemConfig!$B:$F,5,FALSE)","v":76},14,3,17,"14#760|3#134|17#76"]
[{"$nulls":6},3000712,3005712,3010712,{"$f":"VLOOKUP(G712,[1]RewardItemConfig!$B:$F,5,FALSE)","v":761},{"$f":"VLOOKUP(H712,[1]RewardItemConfig!$B:$F,5,FALSE)","v":134},{"$f":"VLOOKUP(I712,[1]RewardItemConfig!$B:$F,5,FALSE)","v":76},14,3,17,"14#761|3#134|17#76"]
[{"$nulls":6},3000713,3005713,3010713,{"$f":"VLOOKUP(G713,[1]RewardItemConfig!$B:$F,5,FALSE)","v":762},{"$f":"VLOOKUP(H713,[1]RewardItemConfig!$B:$F,5,FALSE)","v":134},{"$f":"VLOOKUP(I713,[1]RewardItemConfig!$B:$F,5,FALSE)","v":76},14,3,17,"14#762|3#134|17#76"]
[{"$nulls":6},3000714,3005714,3010714,{"$f":"VLOOKUP(G714,[1]RewardItemConfig!$B:$F,5,FALSE)","v":763},{"$f":"VLOOKUP(H714,[1]RewardItemConfig!$B:$F,5,FALSE)","v":134},{"$f":"VLOOKUP(I714,[1]RewardItemConfig!$B:$F,5,FALSE)","v":76},14,3,17,"14#763|3#134|17#76"]
[{"$nulls":6},3000715,3005715,3010715,{"$f":"VLOOKUP(G715,[1]RewardItemConfig!$B:$F,5,FALSE)","v":764},{"$f":"VLOOKUP(H715,[1]RewardItemConfig!$B:$F,5,FALSE)","v":134},{"$f":"VLOOKUP(I715,[1]RewardItemConfig!$B:$F,5,FALSE)","v":76},14,3,17,"14#764|3#134|17#76"]
[{"$nulls":6},3000716,3005716,3010716,{"$f":"VLOOKUP(G716,[1]RewardItemConfig!$B:$F,5,FALSE)","v":765},{"$f":"VLOOKUP(H716,[1]RewardItemConfig!$B:$F,5,FALSE)","v":134},{"$f":"VLOOKUP(I716,[1]RewardItemConfig!$B:$F,5,FALSE)","v":76},14,3,17,"14#765|3#134|17#76"]
[{"$nulls":6},3000717,3005717,3010717,{"$f":"VLOOKUP(G717,[1]RewardItemConfig!$B:$F,5,FALSE)","v":766},{"$f":"VLOOKUP(H717,[1]RewardItemConfig!$B:$F,5,FALSE)","v":134},{"$f":"VLOOKUP(I717,[1]RewardItemConfig!$B:$F,5,FALSE)","v":76},14,3,17,"14#766|3#134|17#76"]
[{"$nulls":6},3000718,3005718,3010718,{"$f":"VLOOKUP(G718,[1]RewardItemConfig!$B:$F,5,FALSE)","v":767},{"$f":"VLOOKUP(H718,[1]RewardItemConfig!$B:$F,5,FALSE)","v":134},{"$f":"VLOOKUP(I718,[1]RewardItemConfig!$B:$F,5,FALSE)","v":76},14,3,17,"14#767|3#134|17#76"]
[{"$nulls":6},3000719,3005719,3010719,{"$f":"VLOOKUP(G719,[1]RewardItemConfig!$B:$F,5,FALSE)","v":768},{"$f":"VLOOKUP(H719,[1]RewardItemConfig!$B:$F,5,FALSE)","v":134},{"$f":"VLOOKUP(I719,[1]RewardItemConfig!$B:$F,5,FALSE)","v":76},14,3,17,"14#768|3#134|17#76"]
[{"$nulls":6},3000720,3005720,3010720,{"$f":"VLOOKUP(G720,[1]RewardItemConfig!$B:$F,5,FALSE)","v":769},{"$f":"VLOOKUP(H720,[1]RewardItemConfig!$B:$F,5,FALSE)","v":136},{"$f":"VLOOKUP(I720,[1]RewardItemConfig!$B:$F,5,FALSE)","v":77},14,3,17,"14#769|3#136|17#77"]
[{"$nulls":6},3000721,3005721,3010721,{"$f":"VLOOKUP(G721,[1]RewardItemConfig!$B:$F,5,FALSE)","v":770},{"$f":"VLOOKUP(H721,[1]RewardItemConfig!$B:$F,5,FALSE)","v":136},{"$f":"VLOOKUP(I721,[1]RewardItemConfig!$B:$F,5,FALSE)","v":77},14,3,17,"14#770|3#136|17#77"]
[{"$nulls":6},3000722,3005722,3010722,{"$f":"VLOOKUP(G722,[1]RewardItemConfig!$B:$F,5,FALSE)","v":771},{"$f":"VLOOKUP(H722,[1]RewardItemConfig!$B:$F,5,FALSE)","v":136},{"$f":"VLOOKUP(I722,[1]RewardItemConfig!$B:$F,5,FALSE)","v":77},14,3,17,"14#771|3#136|17#77"]
[{"$nulls":6},3000723,3005723,3010723,{"$f":"VLOOKUP(G723,[1]RewardItemConfig!$B:$F,5,FALSE)","v":772},{"$f":"VLOOKUP(H723,[1]RewardItemConfig!$B:$F,5,FALSE)","v":136},{"$f":"VLOOKUP(I723,[1]RewardItemConfig!$B:$F,5,FALSE)","v":77},14,3,17,"14#772|3#136|17#77"]
[{"$nulls":6},3000724,3005724,3010724,{"$f":"VLOOKUP(G724,[1]RewardItemConfig!$B:$F,5,FALSE)","v":773},{"$f":"VLOOKUP(H724,[1]RewardItemConfig!$B:$F,5,FALSE)","v":136},{"$f":"VLOOKUP(I724,[1]RewardItemConfig!$B:$F,5,FALSE)","v":77},14,3,17,"14#773|3#136|17#77"]
[{"$nulls":6},3000725,3005725,3010725,{"$f":"VLOOKUP(G725,[1]RewardItemConfig!$B:$F,5,FALSE)","v":774},{"$f":"VLOOKUP(H725,[1]RewardItemConfig!$B:$F,5,FALSE)","v":136},{"$f":"VLOOKUP(I725,[1]RewardItemConfig!$B:$F,5,FALSE)","v":77},14,3,17,"14#774|3#136|17#77"]
[{"$nulls":6},3000726,3005726,3010726,{"$f":"VLOOKUP(G726,[1]RewardItemConfig!$B:$F,5,FALSE)","v":775},{"$f":"VLOOKUP(H726,[1]RewardItemConfig!$B:$F,5,FALSE)","v":136},{"$f":"VLOOKUP(I726,[1]RewardItemConfig!$B:$F,5,FALSE)","v":77},14,3,17,"14#775|3#136|17#77"]
[{"$nulls":6},3000727,3005727,3010727,{"$f":"VLOOKUP(G727,[1]RewardItemConfig!$B:$F,5,FALSE)","v":776},{"$f":"VLOOKUP(H727,[1]RewardItemConfig!$B:$F,5,FALSE)","v":136},{"$f":"VLOOKUP(I727,[1]RewardItemConfig!$B:$F,5,FALSE)","v":77},14,3,17,"14#776|3#136|17#77"]
[{"$nulls":6},3000728,3005728,3010728,{"$f":"VLOOKUP(G728,[1]RewardItemConfig!$B:$F,5,FALSE)","v":777},{"$f":"VLOOKUP(H728,[1]RewardItemConfig!$B:$F,5,FALSE)","v":136},{"$f":"VLOOKUP(I728,[1]RewardItemConfig!$B:$F,5,FALSE)","v":77},14,3,17,"14#777|3#136|17#77"]
[{"$nulls":6},3000729,3005729,3010729,{"$f":"VLOOKUP(G729,[1]RewardItemConfig!$B:$F,5,FALSE)","v":778},{"$f":"VLOOKUP(H729,[1]RewardItemConfig!$B:$F,5,FALSE)","v":136},{"$f":"VLOOKUP(I729,[1]RewardItemConfig!$B:$F,5,FALSE)","v":77},14,3,17,"14#778|3#136|17#77"]
[{"$nulls":6},3000730,3005730,3010730,{"$f":"VLOOKUP(G730,[1]RewardItemConfig!$B:$F,5,FALSE)","v":779},{"$f":"VLOOKUP(H730,[1]RewardItemConfig!$B:$F,5,FALSE)","v":138},{"$f":"VLOOKUP(I730,[1]RewardItemConfig!$B:$F,5,FALSE)","v":78},14,3,17,"14#779|3#138|17#78"]
[{"$nulls":6},3000731,3005731,3010731,{"$f":"VLOOKUP(G731,[1]RewardItemConfig!$B:$F,5,FALSE)","v":780},{"$f":"VLOOKUP(H731,[1]RewardItemConfig!$B:$F,5,FALSE)","v":138},{"$f":"VLOOKUP(I731,[1]RewardItemConfig!$B:$F,5,FALSE)","v":78},14,3,17,"14#780|3#138|17#78"]
[{"$nulls":6},3000732,3005732,3010732,{"$f":"VLOOKUP(G732,[1]RewardItemConfig!$B:$F,5,FALSE)","v":781},{"$f":"VLOOKUP(H732,[1]RewardItemConfig!$B:$F,5,FALSE)","v":138},{"$f":"VLOOKUP(I732,[1]RewardItemConfig!$B:$F,5,FALSE)","v":78},14,3,17,"14#781|3#138|17#78"]
[{"$nulls":6},3000733,3005733,3010733,{"$f":"VLOOKUP(G733,[1]RewardItemConfig!$B:$F,5,FALSE)","v":782},{"$f":"VLOOKUP(H733,[1]RewardItemConfig!$B:$F,5,FALSE)","v":138},{"$f":"VLOOKUP(I733,[1]RewardItemConfig!$B:$F,5,FALSE)","v":78},14,3,17,"14#782|3#138|17#78"]
[{"$nulls":6},3000734,3005734,3010734,{"$f":"VLOOKUP(G734,[1]RewardItemConfig!$B:$F,5,FALSE)","v":783},{"$f":"VLOOKUP(H734,[1]RewardItemConfig!$B:$F,5,FALSE)","v":138},{"$f":"VLOOKUP(I734,[1]RewardItemConfig!$B:$F,5,FALSE)","v":78},14,3,17,"14#783|3#138|17#78"]
[{"$nulls":6},3000735,3005735,3010735,{"$f":"VLOOKUP(G735,[1]RewardItemConfig!$B:$F,5,FALSE)","v":784},{"$f":"VLOOKUP(H735,[1]RewardItemConfig!$B:$F,5,FALSE)","v":138},{"$f":"VLOOKUP(I735,[1]RewardItemConfig!$B:$F,5,FALSE)","v":78},14,3,17,"14#784|3#138|17#78"]
[{"$nulls":6},3000736,3005736,3010736,{"$f":"VLOOKUP(G736,[1]RewardItemConfig!$B:$F,5,FALSE)","v":785},{"$f":"VLOOKUP(H736,[1]RewardItemConfig!$B:$F,5,FALSE)","v":138},{"$f":"VLOOKUP(I736,[1]RewardItemConfig!$B:$F,5,FALSE)","v":78},14,3,17,"14#785|3#138|17#78"]
[{"$nulls":6},3000737,3005737,3010737,{"$f":"VLOOKUP(G737,[1]RewardItemConfig!$B:$F,5,FALSE)","v":786},{"$f":"VLOOKUP(H737,[1]RewardItemConfig!$B:$F,5,FALSE)","v":138},{"$f":"VLOOKUP(I737,[1]RewardItemConfig!$B:$F,5,FALSE)","v":78},14,3,17,"14#786|3#138|17#78"]
[{"$nulls":6},3000738,3005738,3010738,{"$f":"VLOOKUP(G738,[1]RewardItemConfig!$B:$F,5,FALSE)","v":787},{"$f":"VLOOKUP(H738,[1]RewardItemConfig!$B:$F,5,FALSE)","v":138},{"$f":"VLOOKUP(I738,[1]RewardItemConfig!$B:$F,5,FALSE)","v":78},14,3,17,"14#787|3#138|17#78"]
[{"$nulls":6},3000739,3005739,3010739,{"$f":"VLOOKUP(G739,[1]RewardItemConfig!$B:$F,5,FALSE)","v":788},{"$f":"VLOOKUP(H739,[1]RewardItemConfig!$B:$F,5,FALSE)","v":138},{"$f":"VLOOKUP(I739,[1]RewardItemConfig!$B:$F,5,FALSE)","v":78},14,3,17,"14#788|3#138|17#78"]
[{"$nulls":6},3000740,3005740,3010740,{"$f":"VLOOKUP(G740,[1]RewardItemConfig!$B:$F,5,FALSE)","v":789},{"$f":"VLOOKUP(H740,[1]RewardItemConfig!$B:$F,5,FALSE)","v":140},{"$f":"VLOOKUP(I740,[1]RewardItemConfig!$B:$F,5,FALSE)","v":79},14,3,17,"14#789|3#140|17#79"]
[{"$nulls":6},3000741,3005741,3010741,{"$f":"VLOOKUP(G741,[1]RewardItemConfig!$B:$F,5,FALSE)","v":790},{"$f":"VLOOKUP(H741,[1]RewardItemConfig!$B:$F,5,FALSE)","v":140},{"$f":"VLOOKUP(I741,[1]RewardItemConfig!$B:$F,5,FALSE)","v":79},14,3,17,"14#790|3#140|17#79"]
[{"$nulls":6},3000742,3005742,3010742,{"$f":"VLOOKUP(G742,[1]RewardItemConfig!$B:$F,5,FALSE)","v":791},{"$f":"VLOOKUP(H742,[1]RewardItemConfig!$B:$F,5,FALSE)","v":140},{"$f":"VLOOKUP(I742,[1]RewardItemConfig!$B:$F,5,FALSE)","v":79},14,3,17,"14#791|3#140|17#79"]
[{"$nulls":6},3000743,3005743,3010743,{"$f":"VLOOKUP(G743,[1]RewardItemConfig!$B:$F,5,FALSE)","v":792},{"$f":"VLOOKUP(H743,[1]RewardItemConfig!$B:$F,5,FALSE)","v":140},{"$f":"VLOOKUP(I743,[1]RewardItemConfig!$B:$F,5,FALSE)","v":79},14,3,17,"14#792|3#140|17#79"]
[{"$nulls":6},3000744,3005744,3010744,{"$f":"VLOOKUP(G744,[1]RewardItemConfig!$B:$F,5,FALSE)","v":793},{"$f":"VLOOKUP(H744,[1]RewardItemConfig!$B:$F,5,FALSE)","v":140},{"$f":"VLOOKUP(I744,[1]RewardItemConfig!$B:$F,5,FALSE)","v":79},14,3,17,"14#793|3#140|17#79"]
[{"$nulls":6},3000745,3005745,3010745,{"$f":"VLOOKUP(G745,[1]RewardItemConfig!$B:$F,5,FALSE)","v":794},{"$f":"VLOOKUP(H745,[1]RewardItemConfig!$B:$F,5,FALSE)","v":140},{"$f":"VLOOKUP(I745,[1]RewardItemConfig!$B:$F,5,FALSE)","v":79},14,3,17,"14#794|3#140|17#79"]
[{"$nulls":6},3000746,3005746,3010746,{"$f":"VLOOKUP(G746,[1]RewardItemConfig!$B:$F,5,FALSE)","v":795},{"$f":"VLOOKUP(H746,[1]RewardItemConfig!$B:$F,5,FALSE)","v":140},{"$f":"VLOOKUP(I746,[1]RewardItemConfig!$B:$F,5,FALSE)","v":79},14,3,17,"14#795|3#140|17#79"]
[{"$nulls":6},3000747,3005747,3010747,{"$f":"VLOOKUP(G747,[1]RewardItemConfig!$B:$F,5,FALSE)","v":796},{"$f":"VLOOKUP(H747,[1]RewardItemConfig!$B:$F,5,FALSE)","v":140},{"$f":"VLOOKUP(I747,[1]RewardItemConfig!$B:$F,5,FALSE)","v":79},14,3,17,"14#796|3#140|17#79"]
[{"$nulls":6},3000748,3005748,3010748,{"$f":"VLOOKUP(G748,[1]RewardItemConfig!$B:$F,5,FALSE)","v":797},{"$f":"VLOOKUP(H748,[1]RewardItemConfig!$B:$F,5,FALSE)","v":140},{"$f":"VLOOKUP(I748,[1]RewardItemConfig!$B:$F,5,FALSE)","v":79},14,3,17,"14#797|3#140|17#79"]
[{"$nulls":6},3000749,3005749,3010749,{"$f":"VLOOKUP(G749,[1]RewardItemConfig!$B:$F,5,FALSE)","v":798},{"$f":"VLOOKUP(H749,[1]RewardItemConfig!$B:$F,5,FALSE)","v":140},{"$f":"VLOOKUP(I749,[1]RewardItemConfig!$B:$F,5,FALSE)","v":79},14,3,17,"14#798|3#140|17#79"]
[{"$nulls":6},3000750,3005750,3010750,{"$f":"VLOOKUP(G750,[1]RewardItemConfig!$B:$F,5,FALSE)","v":799},{"$f":"VLOOKUP(H750,[1]RewardItemConfig!$B:$F,5,FALSE)","v":143},{"$f":"VLOOKUP(I750,[1]RewardItemConfig!$B:$F,5,FALSE)","v":80},14,3,17,"14#799|3#143|17#80"]
[{"$nulls":6},3000751,3005751,3010751,{"$f":"VLOOKUP(G751,[1]RewardItemConfig!$B:$F,5,FALSE)","v":800},{"$f":"VLOOKUP(H751,[1]RewardItemConfig!$B:$F,5,FALSE)","v":143},{"$f":"VLOOKUP(I751,[1]RewardItemConfig!$B:$F,5,FALSE)","v":80},14,3,17,"14#800|3#143|17#80"]
[{"$nulls":6},3000752,3005752,3010752,{"$f":"VLOOKUP(G752,[1]RewardItemConfig!$B:$F,5,FALSE)","v":801},{"$f":"VLOOKUP(H752,[1]RewardItemConfig!$B:$F,5,FALSE)","v":143},{"$f":"VLOOKUP(I752,[1]RewardItemConfig!$B:$F,5,FALSE)","v":80},14,3,17,"14#801|3#143|17#80"]
[{"$nulls":6},3000753,3005753,3010753,{"$f":"VLOOKUP(G753,[1]RewardItemConfig!$B:$F,5,FALSE)","v":802},{"$f":"VLOOKUP(H753,[1]RewardItemConfig!$B:$F,5,FALSE)","v":143},{"$f":"VLOOKUP(I753,[1]RewardItemConfig!$B:$F,5,FALSE)","v":80},14,3,17,"14#802|3#143|17#80"]
[{"$nulls":6},3000754,3005754,3010754,{"$f":"VLOOKUP(G754,[1]RewardItemConfig!$B:$F,5,FALSE)","v":803},{"$f":"VLOOKUP(H754,[1]RewardItemConfig!$B:$F,5,FALSE)","v":143},{"$f":"VLOOKUP(I754,[1]RewardItemConfig!$B:$F,5,FALSE)","v":80},14,3,17,"14#803|3#143|17#80"]
[{"$nulls":6},3000755,3005755,3010755,{"$f":"VLOOKUP(G755,[1]RewardItemConfig!$B:$F,5,FALSE)","v":804},{"$f":"VLOOKUP(H755,[1]RewardItemConfig!$B:$F,5,FALSE)","v":143},{"$f":"VLOOKUP(I755,[1]RewardItemConfig!$B:$F,5,FALSE)","v":80},14,3,17,"14#804|3#143|17#80"]
[{"$nulls":6},3000756,3005756,3010756,{"$f":"VLOOKUP(G756,[1]RewardItemConfig!$B:$F,5,FALSE)","v":805},{"$f":"VLOOKUP(H756,[1]RewardItemConfig!$B:$F,5,FALSE)","v":143},{"$f":"VLOOKUP(I756,[1]RewardItemConfig!$B:$F,5,FALSE)","v":80},14,3,17,"14#805|3#143|17#80"]
[{"$nulls":6},3000757,3005757,3010757,{"$f":"VLOOKUP(G757,[1]RewardItemConfig!$B:$F,5,FALSE)","v":806},{"$f":"VLOOKUP(H757,[1]RewardItemConfig!$B:$F,5,FALSE)","v":143},{"$f":"VLOOKUP(I757,[1]RewardItemConfig!$B:$F,5,FALSE)","v":80},14,3,17,"14#806|3#143|17#80"]
[{"$nulls":6},3000758,3005758,3010758,{"$f":"VLOOKUP(G758,[1]RewardItemConfig!$B:$F,5,FALSE)","v":807},{"$f":"VLOOKUP(H758,[1]RewardItemConfig!$B:$F,5,FALSE)","v":143},{"$f":"VLOOKUP(I758,[1]RewardItemConfig!$B:$F,5,FALSE)","v":80},14,3,17,"14#807|3#143|17#80"]
[{"$nulls":6},3000759,3005759,3010759,{"$f":"VLOOKUP(G759,[1]RewardItemConfig!$B:$F,5,FALSE)","v":808},{"$f":"VLOOKUP(H759,[1]RewardItemConfig!$B:$F,5,FALSE)","v":143},{"$f":"VLOOKUP(I759,[1]RewardItemConfig!$B:$F,5,FALSE)","v":80},14,3,17,"14#808|3#143|17#80"]
[{"$nulls":6},3000760,3005760,3010760,{"$f":"VLOOKUP(G760,[1]RewardItemConfig!$B:$F,5,FALSE)","v":809},{"$f":"VLOOKUP(H760,[1]RewardItemConfig!$B:$F,5,FALSE)","v":146},{"$f":"VLOOKUP(I760,[1]RewardItemConfig!$B:$F,5,FALSE)","v":81},14,3,17,"14#809|3#146|17#81"]
[{"$nulls":6},3000761,3005761,3010761,{"$f":"VLOOKUP(G761,[1]RewardItemConfig!$B:$F,5,FALSE)","v":810},{"$f":"VLOOKUP(H761,[1]RewardItemConfig!$B:$F,5,FALSE)","v":146},{"$f":"VLOOKUP(I761,[1]RewardItemConfig!$B:$F,5,FALSE)","v":81},14,3,17,"14#810|3#146|17#81"]
[{"$nulls":6},3000762,3005762,3010762,{"$f":"VLOOKUP(G762,[1]RewardItemConfig!$B:$F,5,FALSE)","v":811},{"$f":"VLOOKUP(H762,[1]RewardItemConfig!$B:$F,5,FALSE)","v":146},{"$f":"VLOOKUP(I762,[1]RewardItemConfig!$B:$F,5,FALSE)","v":81},14,3,17,"14#811|3#146|17#81"]
[{"$nulls":6},3000763,3005763,3010763,{"$f":"VLOOKUP(G763,[1]RewardItemConfig!$B:$F,5,FALSE)","v":812},{"$f":"VLOOKUP(H763,[1]RewardItemConfig!$B:$F,5,FALSE)","v":146},{"$f":"VLOOKUP(I763,[1]RewardItemConfig!$B:$F,5,FALSE)","v":81},14,3,17,"14#812|3#146|17#81"]
[{"$nulls":6},3000764,3005764,3010764,{"$f":"VLOOKUP(G764,[1]RewardItemConfig!$B:$F,5,FALSE)","v":813},{"$f":"VLOOKUP(H764,[1]RewardItemConfig!$B:$F,5,FALSE)","v":146},{"$f":"VLOOKUP(I764,[1]RewardItemConfig!$B:$F,5,FALSE)","v":81},14,3,17,"14#813|3#146|17#81"]
[{"$nulls":6},3000765,3005765,3010765,{"$f":"VLOOKUP(G765,[1]RewardItemConfig!$B:$F,5,FALSE)","v":814},{"$f":"VLOOKUP(H765,[1]RewardItemConfig!$B:$F,5,FALSE)","v":146},{"$f":"VLOOKUP(I765,[1]RewardItemConfig!$B:$F,5,FALSE)","v":81},14,3,17,"14#814|3#146|17#81"]
[{"$nulls":6},3000766,3005766,3010766,{"$f":"VLOOKUP(G766,[1]RewardItemConfig!$B:$F,5,FALSE)","v":815},{"$f":"VLOOKUP(H766,[1]RewardItemConfig!$B:$F,5,FALSE)","v":146},{"$f":"VLOOKUP(I766,[1]RewardItemConfig!$B:$F,5,FALSE)","v":81},14,3,17,"14#815|3#146|17#81"]
[{"$nulls":6},3000767,3005767,3010767,{"$f":"VLOOKUP(G767,[1]RewardItemConfig!$B:$F,5,FALSE)","v":816},{"$f":"VLOOKUP(H767,[1]RewardItemConfig!$B:$F,5,FALSE)","v":146},{"$f":"VLOOKUP(I767,[1]RewardItemConfig!$B:$F,5,FALSE)","v":81},14,3,17,"14#816|3#146|17#81"]
[{"$nulls":6},3000768,3005768,3010768,{"$f":"VLOOKUP(G768,[1]RewardItemConfig!$B:$F,5,FALSE)","v":817},{"$f":"VLOOKUP(H768,[1]RewardItemConfig!$B:$F,5,FALSE)","v":146},{"$f":"VLOOKUP(I768,[1]RewardItemConfig!$B:$F,5,FALSE)","v":81},14,3,17,"14#817|3#146|17#81"]
[{"$nulls":6},3000769,3005769,3010769,{"$f":"VLOOKUP(G769,[1]RewardItemConfig!$B:$F,5,FALSE)","v":818},{"$f":"VLOOKUP(H769,[1]RewardItemConfig!$B:$F,5,FALSE)","v":146},{"$f":"VLOOKUP(I769,[1]RewardItemConfig!$B:$F,5,FALSE)","v":81},14,3,17,"14#818|3#146|17#81"]
[{"$nulls":6},3000770,3005770,3010770,{"$f":"VLOOKUP(G770,[1]RewardItemConfig!$B:$F,5,FALSE)","v":819},{"$f":"VLOOKUP(H770,[1]RewardItemConfig!$B:$F,5,FALSE)","v":149},{"$f":"VLOOKUP(I770,[1]RewardItemConfig!$B:$F,5,FALSE)","v":82},14,3,17,{"$f":"M770&\"#\"&J770&\"|\"&N770&\"#\"&K770&\"|\"&O770&\"#\"&L770","v":"14#819|3#149|17#82"}]
[{"$nulls":6},3000771,3005771,3010771,{"$f":"VLOOKUP(G771,[1]RewardItemConfig!$B:$F,5,FALSE)","v":820},{"$f":"VLOOKUP(H771,[1]RewardItemConfig!$B:$F,5,FALSE)","v":149},{"$f":"VLOOKUP(I771,[1]RewardItemConfig!$B:$F,5,FALSE)","v":82},{"$f":"M770","v":14},{"$f":"N770","v":3},{"$f":"O770","v":17},"14#820|3#149|17#82"]
[{"$nulls":6},3000772,3005772,3010772,{"$f":"VLOOKUP(G772,[1]RewardItemConfig!$B:$F,5,FALSE)","v":821},{"$f":"VLOOKUP(H772,[1]RewardItemConfig!$B:$F,5,FALSE)","v":149},{"$f":"VLOOKUP(I772,[1]RewardItemConfig!$B:$F,5,FALSE)","v":82},14,3,17,"14#821|3#149|17#82"]
[{"$nulls":6},3000773,3005773,3010773,{"$f":"VLOOKUP(G773,[1]RewardItemConfig!$B:$F,5,FALSE)","v":822},{"$f":"VLOOKUP(H773,[1]RewardItemConfig!$B:$F,5,FALSE)","v":149},{"$f":"VLOOKUP(I773,[1]RewardItemConfig!$B:$F,5,FALSE)","v":82},14,3,17,"14#822|3#149|17#82"]
[{"$nulls":6},3000774,3005774,3010774,{"$f":"VLOOKUP(G774,[1]RewardItemConfig!$B:$F,5,FALSE)","v":823},{"$f":"VLOOKUP(H774,[1]RewardItemConfig!$B:$F,5,FALSE)","v":149},{"$f":"VLOOKUP(I774,[1]RewardItemConfig!$B:$F,5,FALSE)","v":82},14,3,17,"14#823|3#149|17#82"]
[{"$nulls":6},3000775,3005775,3010775,{"$f":"VLOOKUP(G775,[1]RewardItemConfig!$B:$F,5,FALSE)","v":824},{"$f":"VLOOKUP(H775,[1]RewardItemConfig!$B:$F,5,FALSE)","v":149},{"$f":"VLOOKUP(I775,[1]RewardItemConfig!$B:$F,5,FALSE)","v":82},14,3,17,"14#824|3#149|17#82"]
[{"$nulls":6},3000776,3005776,3010776,{"$f":"VLOOKUP(G776,[1]RewardItemConfig!$B:$F,5,FALSE)","v":825},{"$f":"VLOOKUP(H776,[1]RewardItemConfig!$B:$F,5,FALSE)","v":149},{"$f":"VLOOKUP(I776,[1]RewardItemConfig!$B:$F,5,FALSE)","v":82},14,3,17,"14#825|3#149|17#82"]
[{"$nulls":6},3000777,3005777,3010777,{"$f":"VLOOKUP(G777,[1]RewardItemConfig!$B:$F,5,FALSE)","v":826},{"$f":"VLOOKUP(H777,[1]RewardItemConfig!$B:$F,5,FALSE)","v":149},{"$f":"VLOOKUP(I777,[1]RewardItemConfig!$B:$F,5,FALSE)","v":82},14,3,17,"14#826|3#149|17#82"]
[{"$nulls":6},3000778,3005778,3010778,{"$f":"VLOOKUP(G778,[1]RewardItemConfig!$B:$F,5,FALSE)","v":827},{"$f":"VLOOKUP(H778,[1]RewardItemConfig!$B:$F,5,FALSE)","v":149},{"$f":"VLOOKUP(I778,[1]RewardItemConfig!$B:$F,5,FALSE)","v":82},14,3,17,"14#827|3#149|17#82"]
[{"$nulls":6},3000779,3005779,3010779,{"$f":"VLOOKUP(G779,[1]RewardItemConfig!$B:$F,5,FALSE)","v":828},{"$f":"VLOOKUP(H779,[1]RewardItemConfig!$B:$F,5,FALSE)","v":149},{"$f":"VLOOKUP(I779,[1]RewardItemConfig!$B:$F,5,FALSE)","v":82},14,3,17,"14#828|3#149|17#82"]
[{"$nulls":6},3000780,3005780,3010780,{"$f":"VLOOKUP(G780,[1]RewardItemConfig!$B:$F,5,FALSE)","v":829},{"$f":"VLOOKUP(H780,[1]RewardItemConfig!$B:$F,5,FALSE)","v":152},{"$f":"VLOOKUP(I780,[1]RewardItemConfig!$B:$F,5,FALSE)","v":83},14,3,17,"14#829|3#152|17#83"]
[{"$nulls":6},3000781,3005781,3010781,{"$f":"VLOOKUP(G781,[1]RewardItemConfig!$B:$F,5,FALSE)","v":830},{"$f":"VLOOKUP(H781,[1]RewardItemConfig!$B:$F,5,FALSE)","v":152},{"$f":"VLOOKUP(I781,[1]RewardItemConfig!$B:$F,5,FALSE)","v":83},14,3,17,"14#830|3#152|17#83"]
[{"$nulls":6},3000782,3005782,3010782,{"$f":"VLOOKUP(G782,[1]RewardItemConfig!$B:$F,5,FALSE)","v":831},{"$f":"VLOOKUP(H782,[1]RewardItemConfig!$B:$F,5,FALSE)","v":152},{"$f":"VLOOKUP(I782,[1]RewardItemConfig!$B:$F,5,FALSE)","v":83},14,3,17,"14#831|3#152|17#83"]
[{"$nulls":6},3000783,3005783,3010783,{"$f":"VLOOKUP(G783,[1]RewardItemConfig!$B:$F,5,FALSE)","v":832},{"$f":"VLOOKUP(H783,[1]RewardItemConfig!$B:$F,5,FALSE)","v":152},{"$f":"VLOOKUP(I783,[1]RewardItemConfig!$B:$F,5,FALSE)","v":83},14,3,17,"14#832|3#152|17#83"]
[{"$nulls":6},3000784,3005784,3010784,{"$f":"VLOOKUP(G784,[1]RewardItemConfig!$B:$F,5,FALSE)","v":833},{"$f":"VLOOKUP(H784,[1]RewardItemConfig!$B:$F,5,FALSE)","v":152},{"$f":"VLOOKUP(I784,[1]RewardItemConfig!$B:$F,5,FALSE)","v":83},14,3,17,"14#833|3#152|17#83"]
[{"$nulls":6},3000785,3005785,3010785,{"$f":"VLOOKUP(G785,[1]RewardItemConfig!$B:$F,5,FALSE)","v":834},{"$f":"VLOOKUP(H785,[1]RewardItemConfig!$B:$F,5,FALSE)","v":152},{"$f":"VLOOKUP(I785,[1]RewardItemConfig!$B:$F,5,FALSE)","v":83},14,3,17,"14#834|3#152|17#83"]
[{"$nulls":6},3000786,3005786,3010786,{"$f":"VLOOKUP(G786,[1]RewardItemConfig!$B:$F,5,FALSE)","v":835},{"$f":"VLOOKUP(H786,[1]RewardItemConfig!$B:$F,5,FALSE)","v":152},{"$f":"VLOOKUP(I786,[1]RewardItemConfig!$B:$F,5,FALSE)","v":83},14,3,17,"14#835|3#152|17#83"]
[{"$nulls":6},3000787,3005787,3010787,{"$f":"VLOOKUP(G787,[1]RewardItemConfig!$B:$F,5,FALSE)","v":836},{"$f":"VLOOKUP(H787,[1]RewardItemConfig!$B:$F,5,FALSE)","v":152},{"$f":"VLOOKUP(I787,[1]RewardItemConfig!$B:$F,5,FALSE)","v":83},14,3,17,"14#836|3#152|17#83"]
[{"$nulls":6},3000788,3005788,3010788,{"$f":"VLOOKUP(G788,[1]RewardItemConfig!$B:$F,5,FALSE)","v":837},{"$f":"VLOOKUP(H788,[1]RewardItemConfig!$B:$F,5,FALSE)","v":152},{"$f":"VLOOKUP(I788,[1]RewardItemConfig!$B:$F,5,FALSE)","v":83},14,3,17,"14#837|3#152|17#83"]
[{"$nulls":6},3000789,3005789,3010789,{"$f":"VLOOKUP(G789,[1]RewardItemConfig!$B:$F,5,FALSE)","v":838},{"$f":"VLOOKUP(H789,[1]RewardItemConfig!$B:$F,5,FALSE)","v":152},{"$f":"VLOOKUP(I789,[1]RewardItemConfig!$B:$F,5,FALSE)","v":83},14,3,17,"14#838|3#152|17#83"]
[{"$nulls":6},3000790,3005790,3010790,{"$f":"VLOOKUP(G790,[1]RewardItemConfig!$B:$F,5,FALSE)","v":839},{"$f":"VLOOKUP(H790,[1]RewardItemConfig!$B:$F,5,FALSE)","v":155},{"$f":"VLOOKUP(I790,[1]RewardItemConfig!$B:$F,5,FALSE)","v":84},14,3,17,"14#839|3#155|17#84"]
[{"$nulls":6},3000791,3005791,3010791,{"$f":"VLOOKUP(G791,[1]RewardItemConfig!$B:$F,5,FALSE)","v":840},{"$f":"VLOOKUP(H791,[1]RewardItemConfig!$B:$F,5,FALSE)","v":155},{"$f":"VLOOKUP(I791,[1]RewardItemConfig!$B:$F,5,FALSE)","v":84},14,3,17,"14#840|3#155|17#84"]
[{"$nulls":6},3000792,3005792,3010792,{"$f":"VLOOKUP(G792,[1]RewardItemConfig!$B:$F,5,FALSE)","v":841},{"$f":"VLOOKUP(H792,[1]RewardItemConfig!$B:$F,5,FALSE)","v":155},{"$f":"VLOOKUP(I792,[1]RewardItemConfig!$B:$F,5,FALSE)","v":84},14,3,17,"14#841|3#155|17#84"]
[{"$nulls":6},3000793,3005793,3010793,{"$f":"VLOOKUP(G793,[1]RewardItemConfig!$B:$F,5,FALSE)","v":842},{"$f":"VLOOKUP(H793,[1]RewardItemConfig!$B:$F,5,FALSE)","v":155},{"$f":"VLOOKUP(I793,[1]RewardItemConfig!$B:$F,5,FALSE)","v":84},14,3,17,"14#842|3#155|17#84"]
[{"$nulls":6},3000794,3005794,3010794,{"$f":"VLOOKUP(G794,[1]RewardItemConfig!$B:$F,5,FALSE)","v":843},{"$f":"VLOOKUP(H794,[1]RewardItemConfig!$B:$F,5,FALSE)","v":155},{"$f":"VLOOKUP(I794,[1]RewardItemConfig!$B:$F,5,FALSE)","v":84},14,3,17,"14#843|3#155|17#84"]
[{"$nulls":6},3000795,3005795,3010795,{"$f":"VLOOKUP(G795,[1]RewardItemConfig!$B:$F,5,FALSE)","v":844},{"$f":"VLOOKUP(H795,[1]RewardItemConfig!$B:$F,5,FALSE)","v":155},{"$f":"VLOOKUP(I795,[1]RewardItemConfig!$B:$F,5,FALSE)","v":84},14,3,17,"14#844|3#155|17#84"]
[{"$nulls":6},3000796,3005796,3010796,{"$f":"VLOOKUP(G796,[1]RewardItemConfig!$B:$F,5,FALSE)","v":845},{"$f":"VLOOKUP(H796,[1]RewardItemConfig!$B:$F,5,FALSE)","v":155},{"$f":"VLOOKUP(I796,[1]RewardItemConfig!$B:$F,5,FALSE)","v":84},14,3,17,"14#845|3#155|17#84"]
[{"$nulls":6},3000797,3005797,3010797,{"$f":"VLOOKUP(G797,[1]RewardItemConfig!$B:$F,5,FALSE)","v":846},{"$f":"VLOOKUP(H797,[1]RewardItemConfig!$B:$F,5,FALSE)","v":155},{"$f":"VLOOKUP(I797,[1]RewardItemConfig!$B:$F,5,FALSE)","v":84},14,3,17,"14#846|3#155|17#84"]
[{"$nulls":6},3000798,3005798,3010798,{"$f":"VLOOKUP(G798,[1]RewardItemConfig!$B:$F,5,FALSE)","v":847},{"$f":"VLOOKUP(H798,[1]RewardItemConfig!$B:$F,5,FALSE)","v":155},{"$f":"VLOOKUP(I798,[1]RewardItemConfig!$B:$F,5,FALSE)","v":84},14,3,17,"14#847|3#155|17#84"]
[{"$nulls":6},3000799,3005799,3010799,{"$f":"VLOOKUP(G799,[1]RewardItemConfig!$B:$F,5,FALSE)","v":848},{"$f":"VLOOKUP(H799,[1]RewardItemConfig!$B:$F,5,FALSE)","v":155},{"$f":"VLOOKUP(I799,[1]RewardItemConfig!$B:$F,5,FALSE)","v":84},14,3,17,"14#848|3#155|17#84"]
[{"$nulls":6},3000800,3005800,3010800,{"$f":"VLOOKUP(G800,[1]RewardItemConfig!$B:$F,5,FALSE)","v":849},{"$f":"VLOOKUP(H800,[1]RewardItemConfig!$B:$F,5,FALSE)","v":158},{"$f":"VLOOKUP(I800,[1]RewardItemConfig!$B:$F,5,FALSE)","v":85},14,3,17,"14#849|3#158|17#85"]
[{"$nulls":6},3000801,3005801,3010801,{"$f":"VLOOKUP(G801,[1]RewardItemConfig!$B:$F,5,FALSE)","v":850},{"$f":"VLOOKUP(H801,[1]RewardItemConfig!$B:$F,5,FALSE)","v":158},{"$f":"VLOOKUP(I801,[1]RewardItemConfig!$B:$F,5,FALSE)","v":85},14,3,17,"14#850|3#158|17#85"]
[{"$nulls":6},3000802,3005802,3010802,{"$f":"VLOOKUP(G802,[1]RewardItemConfig!$B:$F,5,FALSE)","v":851},{"$f":"VLOOKUP(H802,[1]RewardItemConfig!$B:$F,5,FALSE)","v":158},{"$f":"VLOOKUP(I802,[1]RewardItemConfig!$B:$F,5,FALSE)","v":85},14,3,17,"14#851|3#158|17#85"]
[{"$nulls":6},3000803,3005803,3010803,{"$f":"VLOOKUP(G803,[1]RewardItemConfig!$B:$F,5,FALSE)","v":852},{"$f":"VLOOKUP(H803,[1]RewardItemConfig!$B:$F,5,FALSE)","v":158},{"$f":"VLOOKUP(I803,[1]RewardItemConfig!$B:$F,5,FALSE)","v":85},14,3,17,"14#852|3#158|17#85"]
[{"$nulls":6},3000804,3005804,3010804,{"$f":"VLOOKUP(G804,[1]RewardItemConfig!$B:$F,5,FALSE)","v":853},{"$f":"VLOOKUP(H804,[1]RewardItemConfig!$B:$F,5,FALSE)","v":158},{"$f":"VLOOKUP(I804,[1]RewardItemConfig!$B:$F,5,FALSE)","v":85},14,3,17,"14#853|3#158|17#85"]
[{"$nulls":6},3000805,3005805,3010805,{"$f":"VLOOKUP(G805,[1]RewardItemConfig!$B:$F,5,FALSE)","v":854},{"$f":"VLOOKUP(H805,[1]RewardItemConfig!$B:$F,5,FALSE)","v":158},{"$f":"VLOOKUP(I805,[1]RewardItemConfig!$B:$F,5,FALSE)","v":85},14,3,17,"14#854|3#158|17#85"]
[{"$nulls":6},3000806,3005806,3010806,{"$f":"VLOOKUP(G806,[1]RewardItemConfig!$B:$F,5,FALSE)","v":855},{"$f":"VLOOKUP(H806,[1]RewardItemConfig!$B:$F,5,FALSE)","v":158},{"$f":"VLOOKUP(I806,[1]RewardItemConfig!$B:$F,5,FALSE)","v":85},14,3,17,"14#855|3#158|17#85"]
[{"$nulls":6},3000807,3005807,3010807,{"$f":"VLOOKUP(G807,[1]RewardItemConfig!$B:$F,5,FALSE)","v":856},{"$f":"VLOOKUP(H807,[1]RewardItemConfig!$B:$F,5,FALSE)","v":158},{"$f":"VLOOKUP(I807,[1]RewardItemConfig!$B:$F,5,FALSE)","v":85},14,3,17,"14#856|3#158|17#85"]
[{"$nulls":6},3000808,3005808,3010808,{"$f":"VLOOKUP(G808,[1]RewardItemConfig!$B:$F,5,FALSE)","v":857},{"$f":"VLOOKUP(H808,[1]RewardItemConfig!$B:$F,5,FALSE)","v":158},{"$f":"VLOOKUP(I808,[1]RewardItemConfig!$B:$F,5,FALSE)","v":85},14,3,17,"14#857|3#158|17#85"]
[{"$nulls":6},3000809,3005809,3010809,{"$f":"VLOOKUP(G809,[1]RewardItemConfig!$B:$F,5,FALSE)","v":858},{"$f":"VLOOKUP(H809,[1]RewardItemConfig!$B:$F,5,FALSE)","v":158},{"$f":"VLOOKUP(I809,[1]RewardItemConfig!$B:$F,5,FALSE)","v":85},14,3,17,"14#858|3#158|17#85"]
[{"$nulls":6},3000810,3005810,3010810,{"$f":"VLOOKUP(G810,[1]RewardItemConfig!$B:$F,5,FALSE)","v":859},{"$f":"VLOOKUP(H810,[1]RewardItemConfig!$B:$F,5,FALSE)","v":161},{"$f":"VLOOKUP(I810,[1]RewardItemConfig!$B:$F,5,FALSE)","v":86},14,3,17,"14#859|3#161|17#86"]
[{"$nulls":6},3000811,3005811,3010811,{"$f":"VLOOKUP(G811,[1]RewardItemConfig!$B:$F,5,FALSE)","v":860},{"$f":"VLOOKUP(H811,[1]RewardItemConfig!$B:$F,5,FALSE)","v":161},{"$f":"VLOOKUP(I811,[1]RewardItemConfig!$B:$F,5,FALSE)","v":86},14,3,17,"14#860|3#161|17#86"]
[{"$nulls":6},3000812,3005812,3010812,{"$f":"VLOOKUP(G812,[1]RewardItemConfig!$B:$F,5,FALSE)","v":861},{"$f":"VLOOKUP(H812,[1]RewardItemConfig!$B:$F,5,FALSE)","v":161},{"$f":"VLOOKUP(I812,[1]RewardItemConfig!$B:$F,5,FALSE)","v":86},14,3,17,"14#861|3#161|17#86"]
[{"$nulls":6},3000813,3005813,3010813,{"$f":"VLOOKUP(G813,[1]RewardItemConfig!$B:$F,5,FALSE)","v":862},{"$f":"VLOOKUP(H813,[1]RewardItemConfig!$B:$F,5,FALSE)","v":161},{"$f":"VLOOKUP(I813,[1]RewardItemConfig!$B:$F,5,FALSE)","v":86},14,3,17,"14#862|3#161|17#86"]
[{"$nulls":6},3000814,3005814,3010814,{"$f":"VLOOKUP(G814,[1]RewardItemConfig!$B:$F,5,FALSE)","v":863},{"$f":"VLOOKUP(H814,[1]RewardItemConfig!$B:$F,5,FALSE)","v":161},{"$f":"VLOOKUP(I814,[1]RewardItemConfig!$B:$F,5,FALSE)","v":86},14,3,17,"14#863|3#161|17#86"]
[{"$nulls":6},3000815,3005815,3010815,{"$f":"VLOOKUP(G815,[1]RewardItemConfig!$B:$F,5,FALSE)","v":864},{"$f":"VLOOKUP(H815,[1]RewardItemConfig!$B:$F,5,FALSE)","v":161},{"$f":"VLOOKUP(I815,[1]RewardItemConfig!$B:$F,5,FALSE)","v":86},14,3,17,"14#864|3#161|17#86"]
[{"$nulls":6},3000816,3005816,3010816,{"$f":"VLOOKUP(G816,[1]RewardItemConfig!$B:$F,5,FALSE)","v":865},{"$f":"VLOOKUP(H816,[1]RewardItemConfig!$B:$F,5,FALSE)","v":161},{"$f":"VLOOKUP(I816,[1]RewardItemConfig!$B:$F,5,FALSE)","v":86},14,3,17,"14#865|3#161|17#86"]
[{"$nulls":6},3000817,3005817,3010817,{"$f":"VLOOKUP(G817,[1]RewardItemConfig!$B:$F,5,FALSE)","v":866},{"$f":"VLOOKUP(H817,[1]RewardItemConfig!$B:$F,5,FALSE)","v":161},{"$f":"VLOOKUP(I817,[1]RewardItemConfig!$B:$F,5,FALSE)","v":86},14,3,17,"14#866|3#161|17#86"]
[{"$nulls":6},3000818,3005818,3010818,{"$f":"VLOOKUP(G818,[1]RewardItemConfig!$B:$F,5,FALSE)","v":867},{"$f":"VLOOKUP(H818,[1]RewardItemConfig!$B:$F,5,FALSE)","v":161},{"$f":"VLOOKUP(I818,[1]RewardItemConfig!$B:$F,5,FALSE)","v":86},14,3,17,"14#867|3#161|17#86"]
[{"$nulls":6},3000819,3005819,3010819,{"$f":"VLOOKUP(G819,[1]RewardItemConfig!$B:$F,5,FALSE)","v":868},{"$f":"VLOOKUP(H819,[1]RewardItemConfig!$B:$F,5,FALSE)","v":161},{"$f":"VLOOKUP(I819,[1]RewardItemConfig!$B:$F,5,FALSE)","v":86},14,3,17,"14#868|3#161|17#86"]
[{"$nulls":6},3000820,3005820,3010820,{"$f":"VLOOKUP(G820,[1]RewardItemConfig!$B:$F,5,FALSE)","v":869},{"$f":"VLOOKUP(H820,[1]RewardItemConfig!$B:$F,5,FALSE)","v":164},{"$f":"VLOOKUP(I820,[1]RewardItemConfig!$B:$F,5,FALSE)","v":87},14,3,17,"14#869|3#164|17#87"]
[{"$nulls":6},3000821,3005821,3010821,{"$f":"VLOOKUP(G821,[1]RewardItemConfig!$B:$F,5,FALSE)","v":870},{"$f":"VLOOKUP(H821,[1]RewardItemConfig!$B:$F,5,FALSE)","v":164},{"$f":"VLOOKUP(I821,[1]RewardItemConfig!$B:$F,5,FALSE)","v":87},14,3,17,"14#870|3#164|17#87"]
[{"$nulls":6},3000822,3005822,3010822,{"$f":"VLOOKUP(G822,[1]RewardItemConfig!$B:$F,5,FALSE)","v":871},{"$f":"VLOOKUP(H822,[1]RewardItemConfig!$B:$F,5,FALSE)","v":164},{"$f":"VLOOKUP(I822,[1]RewardItemConfig!$B:$F,5,FALSE)","v":87},14,3,17,"14#871|3#164|17#87"]
[{"$nulls":6},3000823,3005823,3010823,{"$f":"VLOOKUP(G823,[1]RewardItemConfig!$B:$F,5,FALSE)","v":872},{"$f":"VLOOKUP(H823,[1]RewardItemConfig!$B:$F,5,FALSE)","v":164},{"$f":"VLOOKUP(I823,[1]RewardItemConfig!$B:$F,5,FALSE)","v":87},14,3,17,"14#872|3#164|17#87"]
[{"$nulls":6},3000824,3005824,3010824,{"$f":"VLOOKUP(G824,[1]RewardItemConfig!$B:$F,5,FALSE)","v":873},{"$f":"VLOOKUP(H824,[1]RewardItemConfig!$B:$F,5,FALSE)","v":164},{"$f":"VLOOKUP(I824,[1]RewardItemConfig!$B:$F,5,FALSE)","v":87},14,3,17,"14#873|3#164|17#87"]
[{"$nulls":6},3000825,3005825,3010825,{"$f":"VLOOKUP(G825,[1]RewardItemConfig!$B:$F,5,FALSE)","v":874},{"$f":"VLOOKUP(H825,[1]RewardItemConfig!$B:$F,5,FALSE)","v":164},{"$f":"VLOOKUP(I825,[1]RewardItemConfig!$B:$F,5,FALSE)","v":87},14,3,17,"14#874|3#164|17#87"]
[{"$nulls":6},3000826,3005826,3010826,{"$f":"VLOOKUP(G826,[1]RewardItemConfig!$B:$F,5,FALSE)","v":875},{"$f":"VLOOKUP(H826,[1]RewardItemConfig!$B:$F,5,FALSE)","v":164},{"$f":"VLOOKUP(I826,[1]RewardItemConfig!$B:$F,5,FALSE)","v":87},14,3,17,"14#875|3#164|17#87"]
[{"$nulls":6},3000827,3005827,3010827,{"$f":"VLOOKUP(G827,[1]RewardItemConfig!$B:$F,5,FALSE)","v":876},{"$f":"VLOOKUP(H827,[1]RewardItemConfig!$B:$F,5,FALSE)","v":164},{"$f":"VLOOKUP(I827,[1]RewardItemConfig!$B:$F,5,FALSE)","v":87},14,3,17,"14#876|3#164|17#87"]
[{"$nulls":6},3000828,3005828,3010828,{"$f":"VLOOKUP(G828,[1]RewardItemConfig!$B:$F,5,FALSE)","v":877},{"$f":"VLOOKUP(H828,[1]RewardItemConfig!$B:$F,5,FALSE)","v":164},{"$f":"VLOOKUP(I828,[1]RewardItemConfig!$B:$F,5,FALSE)","v":87},14,3,17,"14#877|3#164|17#87"]
[{"$nulls":6},3000829,3005829,3010829,{"$f":"VLOOKUP(G829,[1]RewardItemConfig!$B:$F,5,FALSE)","v":878},{"$f":"VLOOKUP(H829,[1]RewardItemConfig!$B:$F,5,FALSE)","v":164},{"$f":"VLOOKUP(I829,[1]RewardItemConfig!$B:$F,5,FALSE)","v":87},14,3,17,"14#878|3#164|17#87"]
[{"$nulls":6},3000830,3005830,3010830,{"$f":"VLOOKUP(G830,[1]RewardItemConfig!$B:$F,5,FALSE)","v":879},{"$f":"VLOOKUP(H830,[1]RewardItemConfig!$B:$F,5,FALSE)","v":167},{"$f":"VLOOKUP(I830,[1]RewardItemConfig!$B:$F,5,FALSE)","v":88},14,3,17,"14#879|3#167|17#88"]
[{"$nulls":6},3000831,3005831,3010831,{"$f":"VLOOKUP(G831,[1]RewardItemConfig!$B:$F,5,FALSE)","v":880},{"$f":"VLOOKUP(H831,[1]RewardItemConfig!$B:$F,5,FALSE)","v":167},{"$f":"VLOOKUP(I831,[1]RewardItemConfig!$B:$F,5,FALSE)","v":88},14,3,17,"14#880|3#167|17#88"]
[{"$nulls":6},3000832,3005832,3010832,{"$f":"VLOOKUP(G832,[1]RewardItemConfig!$B:$F,5,FALSE)","v":881},{"$f":"VLOOKUP(H832,[1]RewardItemConfig!$B:$F,5,FALSE)","v":167},{"$f":"VLOOKUP(I832,[1]RewardItemConfig!$B:$F,5,FALSE)","v":88},14,3,17,"14#881|3#167|17#88"]
[{"$nulls":6},3000833,3005833,3010833,{"$f":"VLOOKUP(G833,[1]RewardItemConfig!$B:$F,5,FALSE)","v":882},{"$f":"VLOOKUP(H833,[1]RewardItemConfig!$B:$F,5,FALSE)","v":167},{"$f":"VLOOKUP(I833,[1]RewardItemConfig!$B:$F,5,FALSE)","v":88},14,3,17,"14#882|3#167|17#88"]
[{"$nulls":6},3000834,3005834,3010834,{"$f":"VLOOKUP(G834,[1]RewardItemConfig!$B:$F,5,FALSE)","v":883},{"$f":"VLOOKUP(H834,[1]RewardItemConfig!$B:$F,5,FALSE)","v":167},{"$f":"VLOOKUP(I834,[1]RewardItemConfig!$B:$F,5,FALSE)","v":88},14,3,17,{"$f":"M834&\"#\"&J834&\"|\"&N834&\"#\"&K834&\"|\"&O834&\"#\"&L834","v":"14#883|3#167|17#88"}]
[{"$nulls":6},3000835,3005835,3010835,{"$f":"VLOOKUP(G835,[1]RewardItemConfig!$B:$F,5,FALSE)","v":884},{"$f":"VLOOKUP(H835,[1]RewardItemConfig!$B:$F,5,FALSE)","v":167},{"$f":"VLOOKUP(I835,[1]RewardItemConfig!$B:$F,5,FALSE)","v":88},{"$f":"M834","v":14},{"$f":"N834","v":3},{"$f":"O834","v":17},"14#884|3#167|17#88"]
[{"$nulls":6},3000836,3005836,3010836,{"$f":"VLOOKUP(G836,[1]RewardItemConfig!$B:$F,5,FALSE)","v":885},{"$f":"VLOOKUP(H836,[1]RewardItemConfig!$B:$F,5,FALSE)","v":167},{"$f":"VLOOKUP(I836,[1]RewardItemConfig!$B:$F,5,FALSE)","v":88},14,3,17,"14#885|3#167|17#88"]
[{"$nulls":6},3000837,3005837,3010837,{"$f":"VLOOKUP(G837,[1]RewardItemConfig!$B:$F,5,FALSE)","v":886},{"$f":"VLOOKUP(H837,[1]RewardItemConfig!$B:$F,5,FALSE)","v":167},{"$f":"VLOOKUP(I837,[1]RewardItemConfig!$B:$F,5,FALSE)","v":88},14,3,17,"14#886|3#167|17#88"]
[{"$nulls":6},3000838,3005838,3010838,{"$f":"VLOOKUP(G838,[1]RewardItemConfig!$B:$F,5,FALSE)","v":887},{"$f":"VLOOKUP(H838,[1]RewardItemConfig!$B:$F,5,FALSE)","v":167},{"$f":"VLOOKUP(I838,[1]RewardItemConfig!$B:$F,5,FALSE)","v":88},14,3,17,"14#887|3#167|17#88"]
[{"$nulls":6},3000839,3005839,3010839,{"$f":"VLOOKUP(G839,[1]RewardItemConfig!$B:$F,5,FALSE)","v":888},{"$f":"VLOOKUP(H839,[1]RewardItemConfig!$B:$F,5,FALSE)","v":167},{"$f":"VLOOKUP(I839,[1]RewardItemConfig!$B:$F,5,FALSE)","v":88},14,3,17,"14#888|3#167|17#88"]
[{"$nulls":6},3000840,3005840,3010840,{"$f":"VLOOKUP(G840,[1]RewardItemConfig!$B:$F,5,FALSE)","v":889},{"$f":"VLOOKUP(H840,[1]RewardItemConfig!$B:$F,5,FALSE)","v":170},{"$f":"VLOOKUP(I840,[1]RewardItemConfig!$B:$F,5,FALSE)","v":89},14,3,17,"14#889|3#170|17#89"]
[{"$nulls":6},3000841,3005841,3010841,{"$f":"VLOOKUP(G841,[1]RewardItemConfig!$B:$F,5,FALSE)","v":890},{"$f":"VLOOKUP(H841,[1]RewardItemConfig!$B:$F,5,FALSE)","v":170},{"$f":"VLOOKUP(I841,[1]RewardItemConfig!$B:$F,5,FALSE)","v":89},14,3,17,"14#890|3#170|17#89"]
[{"$nulls":6},3000842,3005842,3010842,{"$f":"VLOOKUP(G842,[1]RewardItemConfig!$B:$F,5,FALSE)","v":891},{"$f":"VLOOKUP(H842,[1]RewardItemConfig!$B:$F,5,FALSE)","v":170},{"$f":"VLOOKUP(I842,[1]RewardItemConfig!$B:$F,5,FALSE)","v":89},14,3,17,"14#891|3#170|17#89"]
[{"$nulls":6},3000843,3005843,3010843,{"$f":"VLOOKUP(G843,[1]RewardItemConfig!$B:$F,5,FALSE)","v":892},{"$f":"VLOOKUP(H843,[1]RewardItemConfig!$B:$F,5,FALSE)","v":170},{"$f":"VLOOKUP(I843,[1]RewardItemConfig!$B:$F,5,FALSE)","v":89},14,3,17,"14#892|3#170|17#89"]
[{"$nulls":6},3000844,3005844,3010844,{"$f":"VLOOKUP(G844,[1]RewardItemConfig!$B:$F,5,FALSE)","v":893},{"$f":"VLOOKUP(H844,[1]RewardItemConfig!$B:$F,5,FALSE)","v":170},{"$f":"VLOOKUP(I844,[1]RewardItemConfig!$B:$F,5,FALSE)","v":89},14,3,17,"14#893|3#170|17#89"]
[{"$nulls":6},3000845,3005845,3010845,{"$f":"VLOOKUP(G845,[1]RewardItemConfig!$B:$F,5,FALSE)","v":894},{"$f":"VLOOKUP(H845,[1]RewardItemConfig!$B:$F,5,FALSE)","v":170},{"$f":"VLOOKUP(I845,[1]RewardItemConfig!$B:$F,5,FALSE)","v":89},14,3,17,"14#894|3#170|17#89"]
[{"$nulls":6},3000846,3005846,3010846,{"$f":"VLOOKUP(G846,[1]RewardItemConfig!$B:$F,5,FALSE)","v":895},{"$f":"VLOOKUP(H846,[1]RewardItemConfig!$B:$F,5,FALSE)","v":170},{"$f":"VLOOKUP(I846,[1]RewardItemConfig!$B:$F,5,FALSE)","v":89},14,3,17,"14#895|3#170|17#89"]
[{"$nulls":6},3000847,3005847,3010847,{"$f":"VLOOKUP(G847,[1]RewardItemConfig!$B:$F,5,FALSE)","v":896},{"$f":"VLOOKUP(H847,[1]RewardItemConfig!$B:$F,5,FALSE)","v":170},{"$f":"VLOOKUP(I847,[1]RewardItemConfig!$B:$F,5,FALSE)","v":89},14,3,17,"14#896|3#170|17#89"]
[{"$nulls":6},3000848,3005848,3010848,{"$f":"VLOOKUP(G848,[1]RewardItemConfig!$B:$F,5,FALSE)","v":897},{"$f":"VLOOKUP(H848,[1]RewardItemConfig!$B:$F,5,FALSE)","v":170},{"$f":"VLOOKUP(I848,[1]RewardItemConfig!$B:$F,5,FALSE)","v":89},14,3,17,"14#897|3#170|17#89"]
[{"$nulls":6},3000849,3005849,3010849,{"$f":"VLOOKUP(G849,[1]RewardItemConfig!$B:$F,5,FALSE)","v":898},{"$f":"VLOOKUP(H849,[1]RewardItemConfig!$B:$F,5,FALSE)","v":170},{"$f":"VLOOKUP(I849,[1]RewardItemConfig!$B:$F,5,FALSE)","v":89},14,3,17,"14#898|3#170|17#89"]
[{"$nulls":6},3000850,3005850,3010850,{"$f":"VLOOKUP(G850,[1]RewardItemConfig!$B:$F,5,FALSE)","v":899},{"$f":"VLOOKUP(H850,[1]RewardItemConfig!$B:$F,5,FALSE)","v":173},{"$f":"VLOOKUP(I850,[1]RewardItemConfig!$B:$F,5,FALSE)","v":90},14,3,17,"14#899|3#173|17#90"]
[{"$nulls":6},3000851,3005851,3010851,{"$f":"VLOOKUP(G851,[1]RewardItemConfig!$B:$F,5,FALSE)","v":900},{"$f":"VLOOKUP(H851,[1]RewardItemConfig!$B:$F,5,FALSE)","v":173},{"$f":"VLOOKUP(I851,[1]RewardItemConfig!$B:$F,5,FALSE)","v":90},14,3,17,"14#900|3#173|17#90"]
[{"$nulls":6},3000852,3005852,3010852,{"$f":"VLOOKUP(G852,[1]RewardItemConfig!$B:$F,5,FALSE)","v":901},{"$f":"VLOOKUP(H852,[1]RewardItemConfig!$B:$F,5,FALSE)","v":173},{"$f":"VLOOKUP(I852,[1]RewardItemConfig!$B:$F,5,FALSE)","v":90},14,3,17,"14#901|3#173|17#90"]
[{"$nulls":6},3000853,3005853,3010853,{"$f":"VLOOKUP(G853,[1]RewardItemConfig!$B:$F,5,FALSE)","v":902},{"$f":"VLOOKUP(H853,[1]RewardItemConfig!$B:$F,5,FALSE)","v":173},{"$f":"VLOOKUP(I853,[1]RewardItemConfig!$B:$F,5,FALSE)","v":90},14,3,17,"14#902|3#173|17#90"]
[{"$nulls":6},3000854,3005854,3010854,{"$f":"VLOOKUP(G854,[1]RewardItemConfig!$B:$F,5,FALSE)","v":903},{"$f":"VLOOKUP(H854,[1]RewardItemConfig!$B:$F,5,FALSE)","v":173},{"$f":"VLOOKUP(I854,[1]RewardItemConfig!$B:$F,5,FALSE)","v":90},14,3,17,"14#903|3#173|17#90"]
[{"$nulls":6},3000855,3005855,3010855,{"$f":"VLOOKUP(G855,[1]RewardItemConfig!$B:$F,5,FALSE)","v":904},{"$f":"VLOOKUP(H855,[1]RewardItemConfig!$B:$F,5,FALSE)","v":173},{"$f":"VLOOKUP(I855,[1]RewardItemConfig!$B:$F,5,FALSE)","v":90},14,3,17,"14#904|3#173|17#90"]
[{"$nulls":6},3000856,3005856,3010856,{"$f":"VLOOKUP(G856,[1]RewardItemConfig!$B:$F,5,FALSE)","v":905},{"$f":"VLOOKUP(H856,[1]RewardItemConfig!$B:$F,5,FALSE)","v":173},{"$f":"VLOOKUP(I856,[1]RewardItemConfig!$B:$F,5,FALSE)","v":90},14,3,17,"14#905|3#173|17#90"]
[{"$nulls":6},3000857,3005857,3010857,{"$f":"VLOOKUP(G857,[1]RewardItemConfig!$B:$F,5,FALSE)","v":906},{"$f":"VLOOKUP(H857,[1]RewardItemConfig!$B:$F,5,FALSE)","v":173},{"$f":"VLOOKUP(I857,[1]RewardItemConfig!$B:$F,5,FALSE)","v":90},14,3,17,"14#906|3#173|17#90"]
[{"$nulls":6},3000858,3005858,3010858,{"$f":"VLOOKUP(G858,[1]RewardItemConfig!$B:$F,5,FALSE)","v":907},{"$f":"VLOOKUP(H858,[1]RewardItemConfig!$B:$F,5,FALSE)","v":173},{"$f":"VLOOKUP(I858,[1]RewardItemConfig!$B:$F,5,FALSE)","v":90},14,3,17,"14#907|3#173|17#90"]
[{"$nulls":6},3000859,3005859,3010859,{"$f":"VLOOKUP(G859,[1]RewardItemConfig!$B:$F,5,FALSE)","v":908},{"$f":"VLOOKUP(H859,[1]RewardItemConfig!$B:$F,5,FALSE)","v":173},{"$f":"VLOOKUP(I859,[1]RewardItemConfig!$B:$F,5,FALSE)","v":90},14,3,17,"14#908|3#173|17#90"]
[{"$nulls":6},3000860,3005860,3010860,{"$f":"VLOOKUP(G860,[1]RewardItemConfig!$B:$F,5,FALSE)","v":909},{"$f":"VLOOKUP(H860,[1]RewardItemConfig!$B:$F,5,FALSE)","v":176},{"$f":"VLOOKUP(I860,[1]RewardItemConfig!$B:$F,5,FALSE)","v":91},14,3,17,"14#909|3#176|17#91"]
[{"$nulls":6},3000861,3005861,3010861,{"$f":"VLOOKUP(G861,[1]RewardItemConfig!$B:$F,5,FALSE)","v":910},{"$f":"VLOOKUP(H861,[1]RewardItemConfig!$B:$F,5,FALSE)","v":176},{"$f":"VLOOKUP(I861,[1]RewardItemConfig!$B:$F,5,FALSE)","v":91},14,3,17,"14#910|3#176|17#91"]
[{"$nulls":6},3000862,3005862,3010862,{"$f":"VLOOKUP(G862,[1]RewardItemConfig!$B:$F,5,FALSE)","v":911},{"$f":"VLOOKUP(H862,[1]RewardItemConfig!$B:$F,5,FALSE)","v":176},{"$f":"VLOOKUP(I862,[1]RewardItemConfig!$B:$F,5,FALSE)","v":91},14,3,17,"14#911|3#176|17#91"]
[{"$nulls":6},3000863,3005863,3010863,{"$f":"VLOOKUP(G863,[1]RewardItemConfig!$B:$F,5,FALSE)","v":912},{"$f":"VLOOKUP(H863,[1]RewardItemConfig!$B:$F,5,FALSE)","v":176},{"$f":"VLOOKUP(I863,[1]RewardItemConfig!$B:$F,5,FALSE)","v":91},14,3,17,"14#912|3#176|17#91"]
[{"$nulls":6},3000864,3005864,3010864,{"$f":"VLOOKUP(G864,[1]RewardItemConfig!$B:$F,5,FALSE)","v":913},{"$f":"VLOOKUP(H864,[1]RewardItemConfig!$B:$F,5,FALSE)","v":176},{"$f":"VLOOKUP(I864,[1]RewardItemConfig!$B:$F,5,FALSE)","v":91},14,3,17,"14#913|3#176|17#91"]
[{"$nulls":6},3000865,3005865,3010865,{"$f":"VLOOKUP(G865,[1]RewardItemConfig!$B:$F,5,FALSE)","v":914},{"$f":"VLOOKUP(H865,[1]RewardItemConfig!$B:$F,5,FALSE)","v":176},{"$f":"VLOOKUP(I865,[1]RewardItemConfig!$B:$F,5,FALSE)","v":91},14,3,17,"14#914|3#176|17#91"]
[{"$nulls":6},3000866,3005866,3010866,{"$f":"VLOOKUP(G866,[1]RewardItemConfig!$B:$F,5,FALSE)","v":915},{"$f":"VLOOKUP(H866,[1]RewardItemConfig!$B:$F,5,FALSE)","v":176},{"$f":"VLOOKUP(I866,[1]RewardItemConfig!$B:$F,5,FALSE)","v":91},14,3,17,"14#915|3#176|17#91"]
[{"$nulls":6},3000867,3005867,3010867,{"$f":"VLOOKUP(G867,[1]RewardItemConfig!$B:$F,5,FALSE)","v":916},{"$f":"VLOOKUP(H867,[1]RewardItemConfig!$B:$F,5,FALSE)","v":176},{"$f":"VLOOKUP(I867,[1]RewardItemConfig!$B:$F,5,FALSE)","v":91},14,3,17,"14#916|3#176|17#91"]
[{"$nulls":6},3000868,3005868,3010868,{"$f":"VLOOKUP(G868,[1]RewardItemConfig!$B:$F,5,FALSE)","v":917},{"$f":"VLOOKUP(H868,[1]RewardItemConfig!$B:$F,5,FALSE)","v":176},{"$f":"VLOOKUP(I868,[1]RewardItemConfig!$B:$F,5,FALSE)","v":91},14,3,17,"14#917|3#176|17#91"]
[{"$nulls":6},3000869,3005869,3010869,{"$f":"VLOOKUP(G869,[1]RewardItemConfig!$B:$F,5,FALSE)","v":918},{"$f":"VLOOKUP(H869,[1]RewardItemConfig!$B:$F,5,FALSE)","v":176},{"$f":"VLOOKUP(I869,[1]RewardItemConfig!$B:$F,5,FALSE)","v":91},14,3,17,"14#918|3#176|17#91"]
[{"$nulls":6},3000870,3005870,3010870,{"$f":"VLOOKUP(G870,[1]RewardItemConfig!$B:$F,5,FALSE)","v":919},{"$f":"VLOOKUP(H870,[1]RewardItemConfig!$B:$F,5,FALSE)","v":179},{"$f":"VLOOKUP(I870,[1]RewardItemConfig!$B:$F,5,FALSE)","v":92},14,3,17,"14#919|3#179|17#92"]
[{"$nulls":6},3000871,3005871,3010871,{"$f":"VLOOKUP(G871,[1]RewardItemConfig!$B:$F,5,FALSE)","v":920},{"$f":"VLOOKUP(H871,[1]RewardItemConfig!$B:$F,5,FALSE)","v":179},{"$f":"VLOOKUP(I871,[1]RewardItemConfig!$B:$F,5,FALSE)","v":92},14,3,17,"14#920|3#179|17#92"]
[{"$nulls":6},3000872,3005872,3010872,{"$f":"VLOOKUP(G872,[1]RewardItemConfig!$B:$F,5,FALSE)","v":921},{"$f":"VLOOKUP(H872,[1]RewardItemConfig!$B:$F,5,FALSE)","v":179},{"$f":"VLOOKUP(I872,[1]RewardItemConfig!$B:$F,5,FALSE)","v":92},14,3,17,"14#921|3#179|17#92"]
[{"$nulls":6},3000873,3005873,3010873,{"$f":"VLOOKUP(G873,[1]RewardItemConfig!$B:$F,5,FALSE)","v":922},{"$f":"VLOOKUP(H873,[1]RewardItemConfig!$B:$F,5,FALSE)","v":179},{"$f":"VLOOKUP(I873,[1]RewardItemConfig!$B:$F,5,FALSE)","v":92},14,3,17,"14#922|3#179|17#92"]
[{"$nulls":6},3000874,3005874,3010874,{"$f":"VLOOKUP(G874,[1]RewardItemConfig!$B:$F,5,FALSE)","v":923},{"$f":"VLOOKUP(H874,[1]RewardItemConfig!$B:$F,5,FALSE)","v":179},{"$f":"VLOOKUP(I874,[1]RewardItemConfig!$B:$F,5,FALSE)","v":92},14,3,17,"14#923|3#179|17#92"]
[{"$nulls":6},3000875,3005875,3010875,{"$f":"VLOOKUP(G875,[1]RewardItemConfig!$B:$F,5,FALSE)","v":924},{"$f":"VLOOKUP(H875,[1]RewardItemConfig!$B:$F,5,FALSE)","v":179},{"$f":"VLOOKUP(I875,[1]RewardItemConfig!$B:$F,5,FALSE)","v":92},14,3,17,"14#924|3#179|17#92"]
[{"$nulls":6},3000876,3005876,3010876,{"$f":"VLOOKUP(G876,[1]RewardItemConfig!$B:$F,5,FALSE)","v":925},{"$f":"VLOOKUP(H876,[1]RewardItemConfig!$B:$F,5,FALSE)","v":179},{"$f":"VLOOKUP(I876,[1]RewardItemConfig!$B:$F,5,FALSE)","v":92},14,3,17,"14#925|3#179|17#92"]
[{"$nulls":6},3000877,3005877,3010877,{"$f":"VLOOKUP(G877,[1]RewardItemConfig!$B:$F,5,FALSE)","v":926},{"$f":"VLOOKUP(H877,[1]RewardItemConfig!$B:$F,5,FALSE)","v":179},{"$f":"VLOOKUP(I877,[1]RewardItemConfig!$B:$F,5,FALSE)","v":92},14,3,17,"14#926|3#179|17#92"]
[{"$nulls":6},3000878,3005878,3010878,{"$f":"VLOOKUP(G878,[1]RewardItemConfig!$B:$F,5,FALSE)","v":927},{"$f":"VLOOKUP(H878,[1]RewardItemConfig!$B:$F,5,FALSE)","v":179},{"$f":"VLOOKUP(I878,[1]RewardItemConfig!$B:$F,5,FALSE)","v":92},14,3,17,"14#927|3#179|17#92"]
[{"$nulls":6},3000879,3005879,3010879,{"$f":"VLOOKUP(G879,[1]RewardItemConfig!$B:$F,5,FALSE)","v":928},{"$f":"VLOOKUP(H879,[1]RewardItemConfig!$B:$F,5,FALSE)","v":179},{"$f":"VLOOKUP(I879,[1]RewardItemConfig!$B:$F,5,FALSE)","v":92},14,3,17,"14#928|3#179|17#92"]
[{"$nulls":6},3000880,3005880,3010880,{"$f":"VLOOKUP(G880,[1]RewardItemConfig!$B:$F,5,FALSE)","v":929},{"$f":"VLOOKUP(H880,[1]RewardItemConfig!$B:$F,5,FALSE)","v":182},{"$f":"VLOOKUP(I880,[1]RewardItemConfig!$B:$F,5,FALSE)","v":93},14,3,17,"14#929|3#182|17#93"]
[{"$nulls":6},3000881,3005881,3010881,{"$f":"VLOOKUP(G881,[1]RewardItemConfig!$B:$F,5,FALSE)","v":930},{"$f":"VLOOKUP(H881,[1]RewardItemConfig!$B:$F,5,FALSE)","v":182},{"$f":"VLOOKUP(I881,[1]RewardItemConfig!$B:$F,5,FALSE)","v":93},14,3,17,"14#930|3#182|17#93"]
[{"$nulls":6},3000882,3005882,3010882,{"$f":"VLOOKUP(G882,[1]RewardItemConfig!$B:$F,5,FALSE)","v":931},{"$f":"VLOOKUP(H882,[1]RewardItemConfig!$B:$F,5,FALSE)","v":182},{"$f":"VLOOKUP(I882,[1]RewardItemConfig!$B:$F,5,FALSE)","v":93},14,3,17,"14#931|3#182|17#93"]
[{"$nulls":6},3000883,3005883,3010883,{"$f":"VLOOKUP(G883,[1]RewardItemConfig!$B:$F,5,FALSE)","v":932},{"$f":"VLOOKUP(H883,[1]RewardItemConfig!$B:$F,5,FALSE)","v":182},{"$f":"VLOOKUP(I883,[1]RewardItemConfig!$B:$F,5,FALSE)","v":93},14,3,17,"14#932|3#182|17#93"]
[{"$nulls":6},3000884,3005884,3010884,{"$f":"VLOOKUP(G884,[1]RewardItemConfig!$B:$F,5,FALSE)","v":933},{"$f":"VLOOKUP(H884,[1]RewardItemConfig!$B:$F,5,FALSE)","v":182},{"$f":"VLOOKUP(I884,[1]RewardItemConfig!$B:$F,5,FALSE)","v":93},14,3,17,"14#933|3#182|17#93"]
[{"$nulls":6},3000885,3005885,3010885,{"$f":"VLOOKUP(G885,[1]RewardItemConfig!$B:$F,5,FALSE)","v":934},{"$f":"VLOOKUP(H885,[1]RewardItemConfig!$B:$F,5,FALSE)","v":182},{"$f":"VLOOKUP(I885,[1]RewardItemConfig!$B:$F,5,FALSE)","v":93},14,3,17,"14#934|3#182|17#93"]
[{"$nulls":6},3000886,3005886,3010886,{"$f":"VLOOKUP(G886,[1]RewardItemConfig!$B:$F,5,FALSE)","v":935},{"$f":"VLOOKUP(H886,[1]RewardItemConfig!$B:$F,5,FALSE)","v":182},{"$f":"VLOOKUP(I886,[1]RewardItemConfig!$B:$F,5,FALSE)","v":93},14,3,17,"14#935|3#182|17#93"]
[{"$nulls":6},3000887,3005887,3010887,{"$f":"VLOOKUP(G887,[1]RewardItemConfig!$B:$F,5,FALSE)","v":936},{"$f":"VLOOKUP(H887,[1]RewardItemConfig!$B:$F,5,FALSE)","v":182},{"$f":"VLOOKUP(I887,[1]RewardItemConfig!$B:$F,5,FALSE)","v":93},14,3,17,"14#936|3#182|17#93"]
[{"$nulls":6},3000888,3005888,3010888,{"$f":"VLOOKUP(G888,[1]RewardItemConfig!$B:$F,5,FALSE)","v":937},{"$f":"VLOOKUP(H888,[1]RewardItemConfig!$B:$F,5,FALSE)","v":182},{"$f":"VLOOKUP(I888,[1]RewardItemConfig!$B:$F,5,FALSE)","v":93},14,3,17,"14#937|3#182|17#93"]
[{"$nulls":6},3000889,3005889,3010889,{"$f":"VLOOKUP(G889,[1]RewardItemConfig!$B:$F,5,FALSE)","v":938},{"$f":"VLOOKUP(H889,[1]RewardItemConfig!$B:$F,5,FALSE)","v":182},{"$f":"VLOOKUP(I889,[1]RewardItemConfig!$B:$F,5,FALSE)","v":93},14,3,17,"14#938|3#182|17#93"]
[{"$nulls":6},3000890,3005890,3010890,{"$f":"VLOOKUP(G890,[1]RewardItemConfig!$B:$F,5,FALSE)","v":939},{"$f":"VLOOKUP(H890,[1]RewardItemConfig!$B:$F,5,FALSE)","v":185},{"$f":"VLOOKUP(I890,[1]RewardItemConfig!$B:$F,5,FALSE)","v":94},14,3,17,"14#939|3#185|17#94"]
[{"$nulls":6},3000891,3005891,3010891,{"$f":"VLOOKUP(G891,[1]RewardItemConfig!$B:$F,5,FALSE)","v":940},{"$f":"VLOOKUP(H891,[1]RewardItemConfig!$B:$F,5,FALSE)","v":185},{"$f":"VLOOKUP(I891,[1]RewardItemConfig!$B:$F,5,FALSE)","v":94},14,3,17,"14#940|3#185|17#94"]
[{"$nulls":6},3000892,3005892,3010892,{"$f":"VLOOKUP(G892,[1]RewardItemConfig!$B:$F,5,FALSE)","v":941},{"$f":"VLOOKUP(H892,[1]RewardItemConfig!$B:$F,5,FALSE)","v":185},{"$f":"VLOOKUP(I892,[1]RewardItemConfig!$B:$F,5,FALSE)","v":94},14,3,17,"14#941|3#185|17#94"]
[{"$nulls":6},3000893,3005893,3010893,{"$f":"VLOOKUP(G893,[1]RewardItemConfig!$B:$F,5,FALSE)","v":942},{"$f":"VLOOKUP(H893,[1]RewardItemConfig!$B:$F,5,FALSE)","v":185},{"$f":"VLOOKUP(I893,[1]RewardItemConfig!$B:$F,5,FALSE)","v":94},14,3,17,"14#942|3#185|17#94"]
[{"$nulls":6},3000894,3005894,3010894,{"$f":"VLOOKUP(G894,[1]RewardItemConfig!$B:$F,5,FALSE)","v":943},{"$f":"VLOOKUP(H894,[1]RewardItemConfig!$B:$F,5,FALSE)","v":185},{"$f":"VLOOKUP(I894,[1]RewardItemConfig!$B:$F,5,FALSE)","v":94},14,3,17,"14#943|3#185|17#94"]
[{"$nulls":6},3000895,3005895,3010895,{"$f":"VLOOKUP(G895,[1]RewardItemConfig!$B:$F,5,FALSE)","v":944},{"$f":"VLOOKUP(H895,[1]RewardItemConfig!$B:$F,5,FALSE)","v":185},{"$f":"VLOOKUP(I895,[1]RewardItemConfig!$B:$F,5,FALSE)","v":94},14,3,17,"14#944|3#185|17#94"]
[{"$nulls":6},3000896,3005896,3010896,{"$f":"VLOOKUP(G896,[1]RewardItemConfig!$B:$F,5,FALSE)","v":945},{"$f":"VLOOKUP(H896,[1]RewardItemConfig!$B:$F,5,FALSE)","v":185},{"$f":"VLOOKUP(I896,[1]RewardItemConfig!$B:$F,5,FALSE)","v":94},14,3,17,"14#945|3#185|17#94"]
[{"$nulls":6},3000897,3005897,3010897,{"$f":"VLOOKUP(G897,[1]RewardItemConfig!$B:$F,5,FALSE)","v":946},{"$f":"VLOOKUP(H897,[1]RewardItemConfig!$B:$F,5,FALSE)","v":185},{"$f":"VLOOKUP(I897,[1]RewardItemConfig!$B:$F,5,FALSE)","v":94},14,3,17,"14#946|3#185|17#94"]
[{"$nulls":6},3000898,3005898,3010898,{"$f":"VLOOKUP(G898,[1]RewardItemConfig!$B:$F,5,FALSE)","v":947},{"$f":"VLOOKUP(H898,[1]RewardItemConfig!$B:$F,5,FALSE)","v":185},{"$f":"VLOOKUP(I898,[1]RewardItemConfig!$B:$F,5,FALSE)","v":94},14,3,17,{"$f":"M898&\"#\"&J898&\"|\"&N898&\"#\"&K898&\"|\"&O898&\"#\"&L898","v":"14#947|3#185|17#94"}]
[{"$nulls":6},3000899,3005899,3010899,{"$f":"VLOOKUP(G899,[1]RewardItemConfig!$B:$F,5,FALSE)","v":948},{"$f":"VLOOKUP(H899,[1]RewardItemConfig!$B:$F,5,FALSE)","v":185},{"$f":"VLOOKUP(I899,[1]RewardItemConfig!$B:$F,5,FALSE)","v":94},{"$f":"M898","v":14},{"$f":"N898","v":3},{"$f":"O898","v":17},"14#948|3#185|17#94"]
[{"$nulls":6},3000900,3005900,3010900,{"$f":"VLOOKUP(G900,[1]RewardItemConfig!$B:$F,5,FALSE)","v":949},{"$f":"VLOOKUP(H900,[1]RewardItemConfig!$B:$F,5,FALSE)","v":188},{"$f":"VLOOKUP(I900,[1]RewardItemConfig!$B:$F,5,FALSE)","v":95},14,3,17,"14#949|3#188|17#95"]
[{"$nulls":6},3000901,3005901,3010901,{"$f":"VLOOKUP(G901,[1]RewardItemConfig!$B:$F,5,FALSE)","v":950},{"$f":"VLOOKUP(H901,[1]RewardItemConfig!$B:$F,5,FALSE)","v":188},{"$f":"VLOOKUP(I901,[1]RewardItemConfig!$B:$F,5,FALSE)","v":95},14,3,17,"14#950|3#188|17#95"]
[{"$nulls":6},3000902,3005902,3010902,{"$f":"VLOOKUP(G902,[1]RewardItemConfig!$B:$F,5,FALSE)","v":951},{"$f":"VLOOKUP(H902,[1]RewardItemConfig!$B:$F,5,FALSE)","v":188},{"$f":"VLOOKUP(I902,[1]RewardItemConfig!$B:$F,5,FALSE)","v":95},14,3,17,"14#951|3#188|17#95"]
[{"$nulls":6},3000903,3005903,3010903,{"$f":"VLOOKUP(G903,[1]RewardItemConfig!$B:$F,5,FALSE)","v":952},{"$f":"VLOOKUP(H903,[1]RewardItemConfig!$B:$F,5,FALSE)","v":188},{"$f":"VLOOKUP(I903,[1]RewardItemConfig!$B:$F,5,FALSE)","v":95},14,3,17,"14#952|3#188|17#95"]
[{"$nulls":6},3000904,3005904,3010904,{"$f":"VLOOKUP(G904,[1]RewardItemConfig!$B:$F,5,FALSE)","v":953},{"$f":"VLOOKUP(H904,[1]RewardItemConfig!$B:$F,5,FALSE)","v":188},{"$f":"VLOOKUP(I904,[1]RewardItemConfig!$B:$F,5,FALSE)","v":95},14,3,17,"14#953|3#188|17#95"]
[{"$nulls":6},3000905,3005905,3010905,{"$f":"VLOOKUP(G905,[1]RewardItemConfig!$B:$F,5,FALSE)","v":954},{"$f":"VLOOKUP(H905,[1]RewardItemConfig!$B:$F,5,FALSE)","v":188},{"$f":"VLOOKUP(I905,[1]RewardItemConfig!$B:$F,5,FALSE)","v":95},14,3,17,"14#954|3#188|17#95"]
[{"$nulls":6},3000906,3005906,3010906,{"$f":"VLOOKUP(G906,[1]RewardItemConfig!$B:$F,5,FALSE)","v":955},{"$f":"VLOOKUP(H906,[1]RewardItemConfig!$B:$F,5,FALSE)","v":188},{"$f":"VLOOKUP(I906,[1]RewardItemConfig!$B:$F,5,FALSE)","v":95},14,3,17,"14#955|3#188|17#95"]
[{"$nulls":6},3000907,3005907,3010907,{"$f":"VLOOKUP(G907,[1]RewardItemConfig!$B:$F,5,FALSE)","v":956},{"$f":"VLOOKUP(H907,[1]RewardItemConfig!$B:$F,5,FALSE)","v":188},{"$f":"VLOOKUP(I907,[1]RewardItemConfig!$B:$F,5,FALSE)","v":95},14,3,17,"14#956|3#188|17#95"]
[{"$nulls":6},3000908,3005908,3010908,{"$f":"VLOOKUP(G908,[1]RewardItemConfig!$B:$F,5,FALSE)","v":957},{"$f":"VLOOKUP(H908,[1]RewardItemConfig!$B:$F,5,FALSE)","v":188},{"$f":"VLOOKUP(I908,[1]RewardItemConfig!$B:$F,5,FALSE)","v":95},14,3,17,"14#957|3#188|17#95"]
[{"$nulls":6},3000909,3005909,3010909,{"$f":"VLOOKUP(G909,[1]RewardItemConfig!$B:$F,5,FALSE)","v":958},{"$f":"VLOOKUP(H909,[1]RewardItemConfig!$B:$F,5,FALSE)","v":188},{"$f":"VLOOKUP(I909,[1]RewardItemConfig!$B:$F,5,FALSE)","v":95},14,3,17,"14#958|3#188|17#95"]
[{"$nulls":6},3000910,3005910,3010910,{"$f":"VLOOKUP(G910,[1]RewardItemConfig!$B:$F,5,FALSE)","v":959},{"$f":"VLOOKUP(H910,[1]RewardItemConfig!$B:$F,5,FALSE)","v":191},{"$f":"VLOOKUP(I910,[1]RewardItemConfig!$B:$F,5,FALSE)","v":96},14,3,17,"14#959|3#191|17#96"]
[{"$nulls":6},3000911,3005911,3010911,{"$f":"VLOOKUP(G911,[1]RewardItemConfig!$B:$F,5,FALSE)","v":960},{"$f":"VLOOKUP(H911,[1]RewardItemConfig!$B:$F,5,FALSE)","v":191},{"$f":"VLOOKUP(I911,[1]RewardItemConfig!$B:$F,5,FALSE)","v":96},14,3,17,"14#960|3#191|17#96"]
[{"$nulls":6},3000912,3005912,3010912,{"$f":"VLOOKUP(G912,[1]RewardItemConfig!$B:$F,5,FALSE)","v":961},{"$f":"VLOOKUP(H912,[1]RewardItemConfig!$B:$F,5,FALSE)","v":191},{"$f":"VLOOKUP(I912,[1]RewardItemConfig!$B:$F,5,FALSE)","v":96},14,3,17,"14#961|3#191|17#96"]
[{"$nulls":6},3000913,3005913,3010913,{"$f":"VLOOKUP(G913,[1]RewardItemConfig!$B:$F,5,FALSE)","v":962},{"$f":"VLOOKUP(H913,[1]RewardItemConfig!$B:$F,5,FALSE)","v":191},{"$f":"VLOOKUP(I913,[1]RewardItemConfig!$B:$F,5,FALSE)","v":96},14,3,17,"14#962|3#191|17#96"]
[{"$nulls":6},3000914,3005914,3010914,{"$f":"VLOOKUP(G914,[1]RewardItemConfig!$B:$F,5,FALSE)","v":963},{"$f":"VLOOKUP(H914,[1]RewardItemConfig!$B:$F,5,FALSE)","v":191},{"$f":"VLOOKUP(I914,[1]RewardItemConfig!$B:$F,5,FALSE)","v":96},14,3,17,"14#963|3#191|17#96"]
[{"$nulls":6},3000915,3005915,3010915,{"$f":"VLOOKUP(G915,[1]RewardItemConfig!$B:$F,5,FALSE)","v":964},{"$f":"VLOOKUP(H915,[1]RewardItemConfig!$B:$F,5,FALSE)","v":191},{"$f":"VLOOKUP(I915,[1]RewardItemConfig!$B:$F,5,FALSE)","v":96},14,3,17,"14#964|3#191|17#96"]
[{"$nulls":6},3000916,3005916,3010916,{"$f":"VLOOKUP(G916,[1]RewardItemConfig!$B:$F,5,FALSE)","v":965},{"$f":"VLOOKUP(H916,[1]RewardItemConfig!$B:$F,5,FALSE)","v":191},{"$f":"VLOOKUP(I916,[1]RewardItemConfig!$B:$F,5,FALSE)","v":96},14,3,17,"14#965|3#191|17#96"]
[{"$nulls":6},3000917,3005917,3010917,{"$f":"VLOOKUP(G917,[1]RewardItemConfig!$B:$F,5,FALSE)","v":966},{"$f":"VLOOKUP(H917,[1]RewardItemConfig!$B:$F,5,FALSE)","v":191},{"$f":"VLOOKUP(I917,[1]RewardItemConfig!$B:$F,5,FALSE)","v":96},14,3,17,"14#966|3#191|17#96"]
[{"$nulls":6},3000918,3005918,3010918,{"$f":"VLOOKUP(G918,[1]RewardItemConfig!$B:$F,5,FALSE)","v":967},{"$f":"VLOOKUP(H918,[1]RewardItemConfig!$B:$F,5,FALSE)","v":191},{"$f":"VLOOKUP(I918,[1]RewardItemConfig!$B:$F,5,FALSE)","v":96},14,3,17,"14#967|3#191|17#96"]
[{"$nulls":6},3000919,3005919,3010919,{"$f":"VLOOKUP(G919,[1]RewardItemConfig!$B:$F,5,FALSE)","v":968},{"$f":"VLOOKUP(H919,[1]RewardItemConfig!$B:$F,5,FALSE)","v":191},{"$f":"VLOOKUP(I919,[1]RewardItemConfig!$B:$F,5,FALSE)","v":96},14,3,17,"14#968|3#191|17#96"]
[{"$nulls":6},3000920,3005920,3010920,{"$f":"VLOOKUP(G920,[1]RewardItemConfig!$B:$F,5,FALSE)","v":969},{"$f":"VLOOKUP(H920,[1]RewardItemConfig!$B:$F,5,FALSE)","v":194},{"$f":"VLOOKUP(I920,[1]RewardItemConfig!$B:$F,5,FALSE)","v":97},14,3,17,"14#969|3#194|17#97"]
[{"$nulls":6},3000921,3005921,3010921,{"$f":"VLOOKUP(G921,[1]RewardItemConfig!$B:$F,5,FALSE)","v":970},{"$f":"VLOOKUP(H921,[1]RewardItemConfig!$B:$F,5,FALSE)","v":194},{"$f":"VLOOKUP(I921,[1]RewardItemConfig!$B:$F,5,FALSE)","v":97},14,3,17,"14#970|3#194|17#97"]
[{"$nulls":6},3000922,3005922,3010922,{"$f":"VLOOKUP(G922,[1]RewardItemConfig!$B:$F,5,FALSE)","v":971},{"$f":"VLOOKUP(H922,[1]RewardItemConfig!$B:$F,5,FALSE)","v":194},{"$f":"VLOOKUP(I922,[1]RewardItemConfig!$B:$F,5,FALSE)","v":97},14,3,17,"14#971|3#194|17#97"]
[{"$nulls":6},3000923,3005923,3010923,{"$f":"VLOOKUP(G923,[1]RewardItemConfig!$B:$F,5,FALSE)","v":972},{"$f":"VLOOKUP(H923,[1]RewardItemConfig!$B:$F,5,FALSE)","v":194},{"$f":"VLOOKUP(I923,[1]RewardItemConfig!$B:$F,5,FALSE)","v":97},14,3,17,"14#972|3#194|17#97"]
[{"$nulls":6},3000924,3005924,3010924,{"$f":"VLOOKUP(G924,[1]RewardItemConfig!$B:$F,5,FALSE)","v":973},{"$f":"VLOOKUP(H924,[1]RewardItemConfig!$B:$F,5,FALSE)","v":194},{"$f":"VLOOKUP(I924,[1]RewardItemConfig!$B:$F,5,FALSE)","v":97},14,3,17,"14#973|3#194|17#97"]
[{"$nulls":6},3000925,3005925,3010925,{"$f":"VLOOKUP(G925,[1]RewardItemConfig!$B:$F,5,FALSE)","v":974},{"$f":"VLOOKUP(H925,[1]RewardItemConfig!$B:$F,5,FALSE)","v":194},{"$f":"VLOOKUP(I925,[1]RewardItemConfig!$B:$F,5,FALSE)","v":97},14,3,17,"14#974|3#194|17#97"]
[{"$nulls":6},3000926,3005926,3010926,{"$f":"VLOOKUP(G926,[1]RewardItemConfig!$B:$F,5,FALSE)","v":975},{"$f":"VLOOKUP(H926,[1]RewardItemConfig!$B:$F,5,FALSE)","v":194},{"$f":"VLOOKUP(I926,[1]RewardItemConfig!$B:$F,5,FALSE)","v":97},14,3,17,"14#975|3#194|17#97"]
[{"$nulls":6},3000927,3005927,3010927,{"$f":"VLOOKUP(G927,[1]RewardItemConfig!$B:$F,5,FALSE)","v":976},{"$f":"VLOOKUP(H927,[1]RewardItemConfig!$B:$F,5,FALSE)","v":194},{"$f":"VLOOKUP(I927,[1]RewardItemConfig!$B:$F,5,FALSE)","v":97},14,3,17,"14#976|3#194|17#97"]
[{"$nulls":6},3000928,3005928,3010928,{"$f":"VLOOKUP(G928,[1]RewardItemConfig!$B:$F,5,FALSE)","v":977},{"$f":"VLOOKUP(H928,[1]RewardItemConfig!$B:$F,5,FALSE)","v":194},{"$f":"VLOOKUP(I928,[1]RewardItemConfig!$B:$F,5,FALSE)","v":97},14,3,17,"14#977|3#194|17#97"]
[{"$nulls":6},3000929,3005929,3010929,{"$f":"VLOOKUP(G929,[1]RewardItemConfig!$B:$F,5,FALSE)","v":978},{"$f":"VLOOKUP(H929,[1]RewardItemConfig!$B:$F,5,FALSE)","v":194},{"$f":"VLOOKUP(I929,[1]RewardItemConfig!$B:$F,5,FALSE)","v":97},14,3,17,"14#978|3#194|17#97"]
[{"$nulls":6},3000930,3005930,3010930,{"$f":"VLOOKUP(G930,[1]RewardItemConfig!$B:$F,5,FALSE)","v":979},{"$f":"VLOOKUP(H930,[1]RewardItemConfig!$B:$F,5,FALSE)","v":197},{"$f":"VLOOKUP(I930,[1]RewardItemConfig!$B:$F,5,FALSE)","v":98},14,3,17,"14#979|3#197|17#98"]
[{"$nulls":6},3000931,3005931,3010931,{"$f":"VLOOKUP(G931,[1]RewardItemConfig!$B:$F,5,FALSE)","v":980},{"$f":"VLOOKUP(H931,[1]RewardItemConfig!$B:$F,5,FALSE)","v":197},{"$f":"VLOOKUP(I931,[1]RewardItemConfig!$B:$F,5,FALSE)","v":98},14,3,17,"14#980|3#197|17#98"]
[{"$nulls":6},3000932,3005932,3010932,{"$f":"VLOOKUP(G932,[1]RewardItemConfig!$B:$F,5,FALSE)","v":981},{"$f":"VLOOKUP(H932,[1]RewardItemConfig!$B:$F,5,FALSE)","v":197},{"$f":"VLOOKUP(I932,[1]RewardItemConfig!$B:$F,5,FALSE)","v":98},14,3,17,"14#981|3#197|17#98"]
[{"$nulls":6},3000933,3005933,3010933,{"$f":"VLOOKUP(G933,[1]RewardItemConfig!$B:$F,5,FALSE)","v":982},{"$f":"VLOOKUP(H933,[1]RewardItemConfig!$B:$F,5,FALSE)","v":197},{"$f":"VLOOKUP(I933,[1]RewardItemConfig!$B:$F,5,FALSE)","v":98},14,3,17,"14#982|3#197|17#98"]
[{"$nulls":6},3000934,3005934,3010934,{"$f":"VLOOKUP(G934,[1]RewardItemConfig!$B:$F,5,FALSE)","v":983},{"$f":"VLOOKUP(H934,[1]RewardItemConfig!$B:$F,5,FALSE)","v":197},{"$f":"VLOOKUP(I934,[1]RewardItemConfig!$B:$F,5,FALSE)","v":98},14,3,17,"14#983|3#197|17#98"]
[{"$nulls":6},3000935,3005935,3010935,{"$f":"VLOOKUP(G935,[1]RewardItemConfig!$B:$F,5,FALSE)","v":984},{"$f":"VLOOKUP(H935,[1]RewardItemConfig!$B:$F,5,FALSE)","v":197},{"$f":"VLOOKUP(I935,[1]RewardItemConfig!$B:$F,5,FALSE)","v":98},14,3,17,"14#984|3#197|17#98"]
[{"$nulls":6},3000936,3005936,3010936,{"$f":"VLOOKUP(G936,[1]RewardItemConfig!$B:$F,5,FALSE)","v":985},{"$f":"VLOOKUP(H936,[1]RewardItemConfig!$B:$F,5,FALSE)","v":197},{"$f":"VLOOKUP(I936,[1]RewardItemConfig!$B:$F,5,FALSE)","v":98},14,3,17,"14#985|3#197|17#98"]
[{"$nulls":6},3000937,3005937,3010937,{"$f":"VLOOKUP(G937,[1]RewardItemConfig!$B:$F,5,FALSE)","v":986},{"$f":"VLOOKUP(H937,[1]RewardItemConfig!$B:$F,5,FALSE)","v":197},{"$f":"VLOOKUP(I937,[1]RewardItemConfig!$B:$F,5,FALSE)","v":98},14,3,17,"14#986|3#197|17#98"]
[{"$nulls":6},3000938,3005938,3010938,{"$f":"VLOOKUP(G938,[1]RewardItemConfig!$B:$F,5,FALSE)","v":987},{"$f":"VLOOKUP(H938,[1]RewardItemConfig!$B:$F,5,FALSE)","v":197},{"$f":"VLOOKUP(I938,[1]RewardItemConfig!$B:$F,5,FALSE)","v":98},14,3,17,"14#987|3#197|17#98"]
[{"$nulls":6},3000939,3005939,3010939,{"$f":"VLOOKUP(G939,[1]RewardItemConfig!$B:$F,5,FALSE)","v":988},{"$f":"VLOOKUP(H939,[1]RewardItemConfig!$B:$F,5,FALSE)","v":197},{"$f":"VLOOKUP(I939,[1]RewardItemConfig!$B:$F,5,FALSE)","v":98},14,3,17,"14#988|3#197|17#98"]
[{"$nulls":6},3000940,3005940,3010940,{"$f":"VLOOKUP(G940,[1]RewardItemConfig!$B:$F,5,FALSE)","v":989},{"$f":"VLOOKUP(H940,[1]RewardItemConfig!$B:$F,5,FALSE)","v":200},{"$f":"VLOOKUP(I940,[1]RewardItemConfig!$B:$F,5,FALSE)","v":99},14,3,17,"14#989|3#200|17#99"]
[{"$nulls":6},3000941,3005941,3010941,{"$f":"VLOOKUP(G941,[1]RewardItemConfig!$B:$F,5,FALSE)","v":990},{"$f":"VLOOKUP(H941,[1]RewardItemConfig!$B:$F,5,FALSE)","v":200},{"$f":"VLOOKUP(I941,[1]RewardItemConfig!$B:$F,5,FALSE)","v":99},14,3,17,"14#990|3#200|17#99"]
[{"$nulls":6},3000942,3005942,3010942,{"$f":"VLOOKUP(G942,[1]RewardItemConfig!$B:$F,5,FALSE)","v":991},{"$f":"VLOOKUP(H942,[1]RewardItemConfig!$B:$F,5,FALSE)","v":200},{"$f":"VLOOKUP(I942,[1]RewardItemConfig!$B:$F,5,FALSE)","v":99},14,3,17,"14#991|3#200|17#99"]
[{"$nulls":6},3000943,3005943,3010943,{"$f":"VLOOKUP(G943,[1]RewardItemConfig!$B:$F,5,FALSE)","v":992},{"$f":"VLOOKUP(H943,[1]RewardItemConfig!$B:$F,5,FALSE)","v":200},{"$f":"VLOOKUP(I943,[1]RewardItemConfig!$B:$F,5,FALSE)","v":99},14,3,17,"14#992|3#200|17#99"]
[{"$nulls":6},3000944,3005944,3010944,{"$f":"VLOOKUP(G944,[1]RewardItemConfig!$B:$F,5,FALSE)","v":993},{"$f":"VLOOKUP(H944,[1]RewardItemConfig!$B:$F,5,FALSE)","v":200},{"$f":"VLOOKUP(I944,[1]RewardItemConfig!$B:$F,5,FALSE)","v":99},14,3,17,"14#993|3#200|17#99"]
[{"$nulls":6},3000945,3005945,3010945,{"$f":"VLOOKUP(G945,[1]RewardItemConfig!$B:$F,5,FALSE)","v":994},{"$f":"VLOOKUP(H945,[1]RewardItemConfig!$B:$F,5,FALSE)","v":200},{"$f":"VLOOKUP(I945,[1]RewardItemConfig!$B:$F,5,FALSE)","v":99},14,3,17,"14#994|3#200|17#99"]
[{"$nulls":6},3000946,3005946,3010946,{"$f":"VLOOKUP(G946,[1]RewardItemConfig!$B:$F,5,FALSE)","v":995},{"$f":"VLOOKUP(H946,[1]RewardItemConfig!$B:$F,5,FALSE)","v":200},{"$f":"VLOOKUP(I946,[1]RewardItemConfig!$B:$F,5,FALSE)","v":99},14,3,17,"14#995|3#200|17#99"]
[{"$nulls":6},3000947,3005947,3010947,{"$f":"VLOOKUP(G947,[1]RewardItemConfig!$B:$F,5,FALSE)","v":996},{"$f":"VLOOKUP(H947,[1]RewardItemConfig!$B:$F,5,FALSE)","v":200},{"$f":"VLOOKUP(I947,[1]RewardItemConfig!$B:$F,5,FALSE)","v":99},14,3,17,"14#996|3#200|17#99"]
[{"$nulls":6},3000948,3005948,3010948,{"$f":"VLOOKUP(G948,[1]RewardItemConfig!$B:$F,5,FALSE)","v":997},{"$f":"VLOOKUP(H948,[1]RewardItemConfig!$B:$F,5,FALSE)","v":200},{"$f":"VLOOKUP(I948,[1]RewardItemConfig!$B:$F,5,FALSE)","v":99},14,3,17,"14#997|3#200|17#99"]
[{"$nulls":6},3000949,3005949,3010949,{"$f":"VLOOKUP(G949,[1]RewardItemConfig!$B:$F,5,FALSE)","v":998},{"$f":"VLOOKUP(H949,[1]RewardItemConfig!$B:$F,5,FALSE)","v":200},{"$f":"VLOOKUP(I949,[1]RewardItemConfig!$B:$F,5,FALSE)","v":99},14,3,17,"14#998|3#200|17#99"]
[{"$nulls":6},3000950,3005950,3010950,{"$f":"VLOOKUP(G950,[1]RewardItemConfig!$B:$F,5,FALSE)","v":999},{"$f":"VLOOKUP(H950,[1]RewardItemConfig!$B:$F,5,FALSE)","v":203},{"$f":"VLOOKUP(I950,[1]RewardItemConfig!$B:$F,5,FALSE)","v":100},14,3,17,"14#999|3#203|17#100"]
[{"$nulls":6},3000951,3005951,3010951,{"$f":"VLOOKUP(G951,[1]RewardItemConfig!$B:$F,5,FALSE)","v":1000},{"$f":"VLOOKUP(H951,[1]RewardItemConfig!$B:$F,5,FALSE)","v":203},{"$f":"VLOOKUP(I951,[1]RewardItemConfig!$B:$F,5,FALSE)","v":100},14,3,17,"14#1000|3#203|17#100"]
[{"$nulls":6},3000952,3005952,3010952,{"$f":"VLOOKUP(G952,[1]RewardItemConfig!$B:$F,5,FALSE)","v":1001},{"$f":"VLOOKUP(H952,[1]RewardItemConfig!$B:$F,5,FALSE)","v":203},{"$f":"VLOOKUP(I952,[1]RewardItemConfig!$B:$F,5,FALSE)","v":100},14,3,17,"14#1001|3#203|17#100"]
[{"$nulls":6},3000953,3005953,3010953,{"$f":"VLOOKUP(G953,[1]RewardItemConfig!$B:$F,5,FALSE)","v":1002},{"$f":"VLOOKUP(H953,[1]RewardItemConfig!$B:$F,5,FALSE)","v":203},{"$f":"VLOOKUP(I953,[1]RewardItemConfig!$B:$F,5,FALSE)","v":100},14,3,17,"14#1002|3#203|17#100"]
[{"$nulls":6},3000954,3005954,3010954,{"$f":"VLOOKUP(G954,[1]RewardItemConfig!$B:$F,5,FALSE)","v":1003},{"$f":"VLOOKUP(H954,[1]RewardItemConfig!$B:$F,5,FALSE)","v":203},{"$f":"VLOOKUP(I954,[1]RewardItemConfig!$B:$F,5,FALSE)","v":100},14,3,17,"14#1003|3#203|17#100"]
[{"$nulls":6},3000955,3005955,3010955,{"$f":"VLOOKUP(G955,[1]RewardItemConfig!$B:$F,5,FALSE)","v":1004},{"$f":"VLOOKUP(H955,[1]RewardItemConfig!$B:$F,5,FALSE)","v":203},{"$f":"VLOOKUP(I955,[1]RewardItemConfig!$B:$F,5,FALSE)","v":100},14,3,17,"14#1004|3#203|17#100"]
[{"$nulls":6},3000956,3005956,3010956,{"$f":"VLOOKUP(G956,[1]RewardItemConfig!$B:$F,5,FALSE)","v":1005},{"$f":"VLOOKUP(H956,[1]RewardItemConfig!$B:$F,5,FALSE)","v":203},{"$f":"VLOOKUP(I956,[1]RewardItemConfig!$B:$F,5,FALSE)","v":100},14,3,17,"14#1005|3#203|17#100"]
[{"$nulls":6},3000957,3005957,3010957,{"$f":"VLOOKUP(G957,[1]RewardItemConfig!$B:$F,5,FALSE)","v":1006},{"$f":"VLOOKUP(H957,[1]RewardItemConfig!$B:$F,5,FALSE)","v":203},{"$f":"VLOOKUP(I957,[1]RewardItemConfig!$B:$F,5,FALSE)","v":100},14,3,17,"14#1006|3#203|17#100"]
[{"$nulls":6},3000958,3005958,3010958,{"$f":"VLOOKUP(G958,[1]RewardItemConfig!$B:$F,5,FALSE)","v":1007},{"$f":"VLOOKUP(H958,[1]RewardItemConfig!$B:$F,5,FALSE)","v":203},{"$f":"VLOOKUP(I958,[1]RewardItemConfig!$B:$F,5,FALSE)","v":100},14,3,17,"14#1007|3#203|17#100"]
[{"$nulls":6},3000959,3005959,3010959,{"$f":"VLOOKUP(G959,[1]RewardItemConfig!$B:$F,5,FALSE)","v":1008},{"$f":"VLOOKUP(H959,[1]RewardItemConfig!$B:$F,5,FALSE)","v":203},{"$f":"VLOOKUP(I959,[1]RewardItemConfig!$B:$F,5,FALSE)","v":100},14,3,17,"14#1008|3#203|17#100"]
[{"$nulls":6},3000960,3005960,3010960,{"$f":"VLOOKUP(G960,[1]RewardItemConfig!$B:$F,5,FALSE)","v":1009},{"$f":"VLOOKUP(H960,[1]RewardItemConfig!$B:$F,5,FALSE)","v":206},{"$f":"VLOOKUP(I960,[1]RewardItemConfig!$B:$F,5,FALSE)","v":101},14,3,17,"14#1009|3#206|17#101"]
[{"$nulls":6},3000961,3005961,3010961,{"$f":"VLOOKUP(G961,[1]RewardItemConfig!$B:$F,5,FALSE)","v":1010},{"$f":"VLOOKUP(H961,[1]RewardItemConfig!$B:$F,5,FALSE)","v":206},{"$f":"VLOOKUP(I961,[1]RewardItemConfig!$B:$F,5,FALSE)","v":101},14,3,17,"14#1010|3#206|17#101"]
[{"$nulls":6},3000962,3005962,3010962,{"$f":"VLOOKUP(G962,[1]RewardItemConfig!$B:$F,5,FALSE)","v":1011},{"$f":"VLOOKUP(H962,[1]RewardItemConfig!$B:$F,5,FALSE)","v":206},{"$f":"VLOOKUP(I962,[1]RewardItemConfig!$B:$F,5,FALSE)","v":101},14,3,17,{"$f":"M962&\"#\"&J962&\"|\"&N962&\"#\"&K962&\"|\"&O962&\"#\"&L962","v":"14#1011|3#206|17#101"}]
[{"$nulls":6},3000963,3005963,3010963,{"$f":"VLOOKUP(G963,[1]RewardItemConfig!$B:$F,5,FALSE)","v":1012},{"$f":"VLOOKUP(H963,[1]RewardItemConfig!$B:$F,5,FALSE)","v":206},{"$f":"VLOOKUP(I963,[1]RewardItemConfig!$B:$F,5,FALSE)","v":101},{"$f":"M962","v":14},{"$f":"N962","v":3},{"$f":"O962","v":17},"14#1012|3#206|17#101"]
[{"$nulls":6},3000964,3005964,3010964,{"$f":"VLOOKUP(G964,[1]RewardItemConfig!$B:$F,5,FALSE)","v":1013},{"$f":"VLOOKUP(H964,[1]RewardItemConfig!$B:$F,5,FALSE)","v":206},{"$f":"VLOOKUP(I964,[1]RewardItemConfig!$B:$F,5,FALSE)","v":101},14,3,17,"14#1013|3#206|17#101"]
[{"$nulls":6},3000965,3005965,3010965,{"$f":"VLOOKUP(G965,[1]RewardItemConfig!$B:$F,5,FALSE)","v":1014},{"$f":"VLOOKUP(H965,[1]RewardItemConfig!$B:$F,5,FALSE)","v":206},{"$f":"VLOOKUP(I965,[1]RewardItemConfig!$B:$F,5,FALSE)","v":101},14,3,17,"14#1014|3#206|17#101"]
[{"$nulls":6},3000966,3005966,3010966,{"$f":"VLOOKUP(G966,[1]RewardItemConfig!$B:$F,5,FALSE)","v":1015},{"$f":"VLOOKUP(H966,[1]RewardItemConfig!$B:$F,5,FALSE)","v":206},{"$f":"VLOOKUP(I966,[1]RewardItemConfig!$B:$F,5,FALSE)","v":101},14,3,17,"14#1015|3#206|17#101"]
[{"$nulls":6},3000967,3005967,3010967,{"$f":"VLOOKUP(G967,[1]RewardItemConfig!$B:$F,5,FALSE)","v":1016},{"$f":"VLOOKUP(H967,[1]RewardItemConfig!$B:$F,5,FALSE)","v":206},{"$f":"VLOOKUP(I967,[1]RewardItemConfig!$B:$F,5,FALSE)","v":101},14,3,17,"14#1016|3#206|17#101"]
[{"$nulls":6},3000968,3005968,3010968,{"$f":"VLOOKUP(G968,[1]RewardItemConfig!$B:$F,5,FALSE)","v":1017},{"$f":"VLOOKUP(H968,[1]RewardItemConfig!$B:$F,5,FALSE)","v":206},{"$f":"VLOOKUP(I968,[1]RewardItemConfig!$B:$F,5,FALSE)","v":101},14,3,17,"14#1017|3#206|17#101"]
[{"$nulls":6},3000969,3005969,3010969,{"$f":"VLOOKUP(G969,[1]RewardItemConfig!$B:$F,5,FALSE)","v":1018},{"$f":"VLOOKUP(H969,[1]RewardItemConfig!$B:$F,5,FALSE)","v":206},{"$f":"VLOOKUP(I969,[1]RewardItemConfig!$B:$F,5,FALSE)","v":101},14,3,17,"14#1018|3#206|17#101"]
[{"$nulls":6},3000970,3005970,3010970,{"$f":"VLOOKUP(G970,[1]RewardItemConfig!$B:$F,5,FALSE)","v":1019},{"$f":"VLOOKUP(H970,[1]RewardItemConfig!$B:$F,5,FALSE)","v":209},{"$f":"VLOOKUP(I970,[1]RewardItemConfig!$B:$F,5,FALSE)","v":102},14,3,17,"14#1019|3#209|17#102"]
[{"$nulls":6},3000971,3005971,3010971,{"$f":"VLOOKUP(G971,[1]RewardItemConfig!$B:$F,5,FALSE)","v":1020},{"$f":"VLOOKUP(H971,[1]RewardItemConfig!$B:$F,5,FALSE)","v":209},{"$f":"VLOOKUP(I971,[1]RewardItemConfig!$B:$F,5,FALSE)","v":102},14,3,17,"14#1020|3#209|17#102"]
[{"$nulls":6},3000972,3005972,3010972,{"$f":"VLOOKUP(G972,[1]RewardItemConfig!$B:$F,5,FALSE)","v":1021},{"$f":"VLOOKUP(H972,[1]RewardItemConfig!$B:$F,5,FALSE)","v":209},{"$f":"VLOOKUP(I972,[1]RewardItemConfig!$B:$F,5,FALSE)","v":102},14,3,17,"14#1021|3#209|17#102"]
[{"$nulls":6},3000973,3005973,3010973,{"$f":"VLOOKUP(G973,[1]RewardItemConfig!$B:$F,5,FALSE)","v":1022},{"$f":"VLOOKUP(H973,[1]RewardItemConfig!$B:$F,5,FALSE)","v":209},{"$f":"VLOOKUP(I973,[1]RewardItemConfig!$B:$F,5,FALSE)","v":102},14,3,17,"14#1022|3#209|17#102"]
[{"$nulls":6},3000974,3005974,3010974,{"$f":"VLOOKUP(G974,[1]RewardItemConfig!$B:$F,5,FALSE)","v":1023},{"$f":"VLOOKUP(H974,[1]RewardItemConfig!$B:$F,5,FALSE)","v":209},{"$f":"VLOOKUP(I974,[1]RewardItemConfig!$B:$F,5,FALSE)","v":102},14,3,17,"14#1023|3#209|17#102"]
[{"$nulls":6},3000975,3005975,3010975,{"$f":"VLOOKUP(G975,[1]RewardItemConfig!$B:$F,5,FALSE)","v":1024},{"$f":"VLOOKUP(H975,[1]RewardItemConfig!$B:$F,5,FALSE)","v":209},{"$f":"VLOOKUP(I975,[1]RewardItemConfig!$B:$F,5,FALSE)","v":102},14,3,17,"14#1024|3#209|17#102"]
[{"$nulls":6},3000976,3005976,3010976,{"$f":"VLOOKUP(G976,[1]RewardItemConfig!$B:$F,5,FALSE)","v":1025},{"$f":"VLOOKUP(H976,[1]RewardItemConfig!$B:$F,5,FALSE)","v":209},{"$f":"VLOOKUP(I976,[1]RewardItemConfig!$B:$F,5,FALSE)","v":102},14,3,17,"14#1025|3#209|17#102"]
[{"$nulls":6},3000977,3005977,3010977,{"$f":"VLOOKUP(G977,[1]RewardItemConfig!$B:$F,5,FALSE)","v":1026},{"$f":"VLOOKUP(H977,[1]RewardItemConfig!$B:$F,5,FALSE)","v":209},{"$f":"VLOOKUP(I977,[1]RewardItemConfig!$B:$F,5,FALSE)","v":102},14,3,17,"14#1026|3#209|17#102"]
[{"$nulls":6},3000978,3005978,3010978,{"$f":"VLOOKUP(G978,[1]RewardItemConfig!$B:$F,5,FALSE)","v":1027},{"$f":"VLOOKUP(H978,[1]RewardItemConfig!$B:$F,5,FALSE)","v":209},{"$f":"VLOOKUP(I978,[1]RewardItemConfig!$B:$F,5,FALSE)","v":102},14,3,17,"14#1027|3#209|17#102"]
[{"$nulls":6},3000979,3005979,3010979,{"$f":"VLOOKUP(G979,[1]RewardItemConfig!$B:$F,5,FALSE)","v":1028},{"$f":"VLOOKUP(H979,[1]RewardItemConfig!$B:$F,5,FALSE)","v":209},{"$f":"VLOOKUP(I979,[1]RewardItemConfig!$B:$F,5,FALSE)","v":102},14,3,17,"14#1028|3#209|17#102"]
[{"$nulls":6},3000980,3005980,3010980,{"$f":"VLOOKUP(G980,[1]RewardItemConfig!$B:$F,5,FALSE)","v":1029},{"$f":"VLOOKUP(H980,[1]RewardItemConfig!$B:$F,5,FALSE)","v":212},{"$f":"VLOOKUP(I980,[1]RewardItemConfig!$B:$F,5,FALSE)","v":103},14,3,17,"14#1029|3#212|17#103"]
[{"$nulls":6},3000981,3005981,3010981,{"$f":"VLOOKUP(G981,[1]RewardItemConfig!$B:$F,5,FALSE)","v":1030},{"$f":"VLOOKUP(H981,[1]RewardItemConfig!$B:$F,5,FALSE)","v":212},{"$f":"VLOOKUP(I981,[1]RewardItemConfig!$B:$F,5,FALSE)","v":103},14,3,17,"14#1030|3#212|17#103"]
[{"$nulls":6},3000982,3005982,3010982,{"$f":"VLOOKUP(G982,[1]RewardItemConfig!$B:$F,5,FALSE)","v":1031},{"$f":"VLOOKUP(H982,[1]RewardItemConfig!$B:$F,5,FALSE)","v":212},{"$f":"VLOOKUP(I982,[1]RewardItemConfig!$B:$F,5,FALSE)","v":103},14,3,17,"14#1031|3#212|17#103"]
[{"$nulls":6},3000983,3005983,3010983,{"$f":"VLOOKUP(G983,[1]RewardItemConfig!$B:$F,5,FALSE)","v":1032},{"$f":"VLOOKUP(H983,[1]RewardItemConfig!$B:$F,5,FALSE)","v":212},{"$f":"VLOOKUP(I983,[1]RewardItemConfig!$B:$F,5,FALSE)","v":103},14,3,17,"14#1032|3#212|17#103"]
[{"$nulls":6},3000984,3005984,3010984,{"$f":"VLOOKUP(G984,[1]RewardItemConfig!$B:$F,5,FALSE)","v":1033},{"$f":"VLOOKUP(H984,[1]RewardItemConfig!$B:$F,5,FALSE)","v":212},{"$f":"VLOOKUP(I984,[1]RewardItemConfig!$B:$F,5,FALSE)","v":103},14,3,17,"14#1033|3#212|17#103"]
[{"$nulls":6},3000985,3005985,3010985,{"$f":"VLOOKUP(G985,[1]RewardItemConfig!$B:$F,5,FALSE)","v":1034},{"$f":"VLOOKUP(H985,[1]RewardItemConfig!$B:$F,5,FALSE)","v":212},{"$f":"VLOOKUP(I985,[1]RewardItemConfig!$B:$F,5,FALSE)","v":103},14,3,17,"14#1034|3#212|17#103"]
[{"$nulls":6},3000986,3005986,3010986,{"$f":"VLOOKUP(G986,[1]RewardItemConfig!$B:$F,5,FALSE)","v":1035},{"$f":"VLOOKUP(H986,[1]RewardItemConfig!$B:$F,5,FALSE)","v":212},{"$f":"VLOOKUP(I986,[1]RewardItemConfig!$B:$F,5,FALSE)","v":103},14,3,17,"14#1035|3#212|17#103"]
[{"$nulls":6},3000987,3005987,3010987,{"$f":"VLOOKUP(G987,[1]RewardItemConfig!$B:$F,5,FALSE)","v":1036},{"$f":"VLOOKUP(H987,[1]RewardItemConfig!$B:$F,5,FALSE)","v":212},{"$f":"VLOOKUP(I987,[1]RewardItemConfig!$B:$F,5,FALSE)","v":103},14,3,17,"14#1036|3#212|17#103"]
[{"$nulls":6},3000988,3005988,3010988,{"$f":"VLOOKUP(G988,[1]RewardItemConfig!$B:$F,5,FALSE)","v":1037},{"$f":"VLOOKUP(H988,[1]RewardItemConfig!$B:$F,5,FALSE)","v":212},{"$f":"VLOOKUP(I988,[1]RewardItemConfig!$B:$F,5,FALSE)","v":103},14,3,17,"14#1037|3#212|17#103"]
[{"$nulls":6},3000989,3005989,3010989,{"$f":"VLOOKUP(G989,[1]RewardItemConfig!$B:$F,5,FALSE)","v":1038},{"$f":"VLOOKUP(H989,[1]RewardItemConfig!$B:$F,5,FALSE)","v":212},{"$f":"VLOOKUP(I989,[1]RewardItemConfig!$B:$F,5,FALSE)","v":103},14,3,17,"14#1038|3#212|17#103"]
[{"$nulls":6},3000990,3005990,3010990,{"$f":"VLOOKUP(G990,[1]RewardItemConfig!$B:$F,5,FALSE)","v":1039},{"$f":"VLOOKUP(H990,[1]RewardItemConfig!$B:$F,5,FALSE)","v":215},{"$f":"VLOOKUP(I990,[1]RewardItemConfig!$B:$F,5,FALSE)","v":104},14,3,17,"14#1039|3#215|17#104"]
[{"$nulls":6},3000991,3005991,3010991,{"$f":"VLOOKUP(G991,[1]RewardItemConfig!$B:$F,5,FALSE)","v":1040},{"$f":"VLOOKUP(H991,[1]RewardItemConfig!$B:$F,5,FALSE)","v":215},{"$f":"VLOOKUP(I991,[1]RewardItemConfig!$B:$F,5,FALSE)","v":104},14,3,17,"14#1040|3#215|17#104"]
[{"$nulls":6},3000992,3005992,3010992,{"$f":"VLOOKUP(G992,[1]RewardItemConfig!$B:$F,5,FALSE)","v":1041},{"$f":"VLOOKUP(H992,[1]RewardItemConfig!$B:$F,5,FALSE)","v":215},{"$f":"VLOOKUP(I992,[1]RewardItemConfig!$B:$F,5,FALSE)","v":104},14,3,17,"14#1041|3#215|17#104"]
[{"$nulls":6},3000993,3005993,3010993,{"$f":"VLOOKUP(G993,[1]RewardItemConfig!$B:$F,5,FALSE)","v":1042},{"$f":"VLOOKUP(H993,[1]RewardItemConfig!$B:$F,5,FALSE)","v":215},{"$f":"VLOOKUP(I993,[1]RewardItemConfig!$B:$F,5,FALSE)","v":104},14,3,17,"14#1042|3#215|17#104"]
[{"$nulls":6},3000994,3005994,3010994,{"$f":"VLOOKUP(G994,[1]RewardItemConfig!$B:$F,5,FALSE)","v":1043},{"$f":"VLOOKUP(H994,[1]RewardItemConfig!$B:$F,5,FALSE)","v":215},{"$f":"VLOOKUP(I994,[1]RewardItemConfig!$B:$F,5,FALSE)","v":104},14,3,17,"14#1043|3#215|17#104"]
[{"$nulls":6},3000995,3005995,3010995,{"$f":"VLOOKUP(G995,[1]RewardItemConfig!$B:$F,5,FALSE)","v":1044},{"$f":"VLOOKUP(H995,[1]RewardItemConfig!$B:$F,5,FALSE)","v":215},{"$f":"VLOOKUP(I995,[1]RewardItemConfig!$B:$F,5,FALSE)","v":104},14,3,17,"14#1044|3#215|17#104"]
[{"$nulls":6},3000996,3005996,3010996,{"$f":"VLOOKUP(G996,[1]RewardItemConfig!$B:$F,5,FALSE)","v":1045},{"$f":"VLOOKUP(H996,[1]RewardItemConfig!$B:$F,5,FALSE)","v":215},{"$f":"VLOOKUP(I996,[1]RewardItemConfig!$B:$F,5,FALSE)","v":104},14,3,17,"14#1045|3#215|17#104"]
[{"$nulls":6},3000997,3005997,3010997,{"$f":"VLOOKUP(G997,[1]RewardItemConfig!$B:$F,5,FALSE)","v":1046},{"$f":"VLOOKUP(H997,[1]RewardItemConfig!$B:$F,5,FALSE)","v":215},{"$f":"VLOOKUP(I997,[1]RewardItemConfig!$B:$F,5,FALSE)","v":104},14,3,17,"14#1046|3#215|17#104"]
[{"$nulls":6},3000998,3005998,3010998,{"$f":"VLOOKUP(G998,[1]RewardItemConfig!$B:$F,5,FALSE)","v":1047},{"$f":"VLOOKUP(H998,[1]RewardItemConfig!$B:$F,5,FALSE)","v":215},{"$f":"VLOOKUP(I998,[1]RewardItemConfig!$B:$F,5,FALSE)","v":104},14,3,17,"14#1047|3#215|17#104"]
[{"$nulls":6},3000999,3005999,3010999,{"$f":"VLOOKUP(G999,[1]RewardItemConfig!$B:$F,5,FALSE)","v":1048},{"$f":"VLOOKUP(H999,[1]RewardItemConfig!$B:$F,5,FALSE)","v":215},{"$f":"VLOOKUP(I999,[1]RewardItemConfig!$B:$F,5,FALSE)","v":104},14,3,17,"14#1048|3#215|17#104"]
[{"$nulls":6},3001000,3006000,3011000,{"$f":"VLOOKUP(G1000,[1]RewardItemConfig!$B:$F,5,FALSE)","v":1049},{"$f":"VLOOKUP(H1000,[1]RewardItemConfig!$B:$F,5,FALSE)","v":218},{"$f":"VLOOKUP(I1000,[1]RewardItemConfig!$B:$F,5,FALSE)","v":105},14,3,17,"14#1049|3#218|17#105"]
[{"$nulls":6},3001001,3006001,3011001,{"$f":"VLOOKUP(G1001,[1]RewardItemConfig!$B:$F,5,FALSE)","v":1050},{"$f":"VLOOKUP(H1001,[1]RewardItemConfig!$B:$F,5,FALSE)","v":218},{"$f":"VLOOKUP(I1001,[1]RewardItemConfig!$B:$F,5,FALSE)","v":105},14,3,17,"14#1050|3#218|17#105"]
[{"$nulls":6},3001002,3006002,3011002,{"$f":"VLOOKUP(G1002,[1]RewardItemConfig!$B:$F,5,FALSE)","v":1051},{"$f":"VLOOKUP(H1002,[1]RewardItemConfig!$B:$F,5,FALSE)","v":218},{"$f":"VLOOKUP(I1002,[1]RewardItemConfig!$B:$F,5,FALSE)","v":105},14,3,17,"14#1051|3#218|17#105"]
[{"$nulls":6},3001003,3006003,3011003,{"$f":"VLOOKUP(G1003,[1]RewardItemConfig!$B:$F,5,FALSE)","v":1052},{"$f":"VLOOKUP(H1003,[1]RewardItemConfig!$B:$F,5,FALSE)","v":218},{"$f":"VLOOKUP(I1003,[1]RewardItemConfig!$B:$F,5,FALSE)","v":105},14,3,17,"14#1052|3#218|17#105"]
[{"$nulls":6},3001004,3006004,3011004,{"$f":"VLOOKUP(G1004,[1]RewardItemConfig!$B:$F,5,FALSE)","v":1053},{"$f":"VLOOKUP(H1004,[1]RewardItemConfig!$B:$F,5,FALSE)","v":218},{"$f":"VLOOKUP(I1004,[1]RewardItemConfig!$B:$F,5,FALSE)","v":105},14,3,17,"14#1053|3#218|17#105"]
[{"$nulls":6},3001005,3006005,3011005,{"$f":"VLOOKUP(G1005,[1]RewardItemConfig!$B:$F,5,FALSE)","v":1054},{"$f":"VLOOKUP(H1005,[1]RewardItemConfig!$B:$F,5,FALSE)","v":218},{"$f":"VLOOKUP(I1005,[1]RewardItemConfig!$B:$F,5,FALSE)","v":105},14,3,17,"14#1054|3#218|17#105"]
[{"$nulls":6},3001006,3006006,3011006,{"$f":"VLOOKUP(G1006,[1]RewardItemConfig!$B:$F,5,FALSE)","v":1055},{"$f":"VLOOKUP(H1006,[1]RewardItemConfig!$B:$F,5,FALSE)","v":218},{"$f":"VLOOKUP(I1006,[1]RewardItemConfig!$B:$F,5,FALSE)","v":105},14,3,17,"14#1055|3#218|17#105"]
[{"$nulls":6},3001007,3006007,3011007,{"$f":"VLOOKUP(G1007,[1]RewardItemConfig!$B:$F,5,FALSE)","v":1056},{"$f":"VLOOKUP(H1007,[1]RewardItemConfig!$B:$F,5,FALSE)","v":218},{"$f":"VLOOKUP(I1007,[1]RewardItemConfig!$B:$F,5,FALSE)","v":105},14,3,17,"14#1056|3#218|17#105"]
[{"$nulls":6},3001008,3006008,3011008,{"$f":"VLOOKUP(G1008,[1]RewardItemConfig!$B:$F,5,FALSE)","v":1057},{"$f":"VLOOKUP(H1008,[1]RewardItemConfig!$B:$F,5,FALSE)","v":218},{"$f":"VLOOKUP(I1008,[1]RewardItemConfig!$B:$F,5,FALSE)","v":105},14,3,17,"14#1057|3#218|17#105"]
[{"$nulls":6},3001009,3006009,3011009,{"$f":"VLOOKUP(G1009,[1]RewardItemConfig!$B:$F,5,FALSE)","v":1058},{"$f":"VLOOKUP(H1009,[1]RewardItemConfig!$B:$F,5,FALSE)","v":218},{"$f":"VLOOKUP(I1009,[1]RewardItemConfig!$B:$F,5,FALSE)","v":105},14,3,17,"14#1058|3#218|17#105"]
[{"$nulls":6},3001010,3006010,3011010,{"$f":"VLOOKUP(G1010,[1]RewardItemConfig!$B:$F,5,FALSE)","v":1059},{"$f":"VLOOKUP(H1010,[1]RewardItemConfig!$B:$F,5,FALSE)","v":221},{"$f":"VLOOKUP(I1010,[1]RewardItemConfig!$B:$F,5,FALSE)","v":106},14,3,17,"14#1059|3#221|17#106"]
[{"$nulls":6},3001011,3006011,3011011,{"$f":"VLOOKUP(G1011,[1]RewardItemConfig!$B:$F,5,FALSE)","v":1060},{"$f":"VLOOKUP(H1011,[1]RewardItemConfig!$B:$F,5,FALSE)","v":221},{"$f":"VLOOKUP(I1011,[1]RewardItemConfig!$B:$F,5,FALSE)","v":106},14,3,17,"14#1060|3#221|17#106"]
[{"$nulls":6},3001012,3006012,3011012,{"$f":"VLOOKUP(G1012,[1]RewardItemConfig!$B:$F,5,FALSE)","v":1061},{"$f":"VLOOKUP(H1012,[1]RewardItemConfig!$B:$F,5,FALSE)","v":221},{"$f":"VLOOKUP(I1012,[1]RewardItemConfig!$B:$F,5,FALSE)","v":106},14,3,17,"14#1061|3#221|17#106"]
[{"$nulls":6},3001013,3006013,3011013,{"$f":"VLOOKUP(G1013,[1]RewardItemConfig!$B:$F,5,FALSE)","v":1062},{"$f":"VLOOKUP(H1013,[1]RewardItemConfig!$B:$F,5,FALSE)","v":221},{"$f":"VLOOKUP(I1013,[1]RewardItemConfig!$B:$F,5,FALSE)","v":106},14,3,17,"14#1062|3#221|17#106"]
[{"$nulls":6},3001014,3006014,3011014,{"$f":"VLOOKUP(G1014,[1]RewardItemConfig!$B:$F,5,FALSE)","v":1063},{"$f":"VLOOKUP(H1014,[1]RewardItemConfig!$B:$F,5,FALSE)","v":221},{"$f":"VLOOKUP(I1014,[1]RewardItemConfig!$B:$F,5,FALSE)","v":106},14,3,17,"14#1063|3#221|17#106"]
[{"$nulls":6},3001015,3006015,3011015,{"$f":"VLOOKUP(G1015,[1]RewardItemConfig!$B:$F,5,FALSE)","v":1064},{"$f":"VLOOKUP(H1015,[1]RewardItemConfig!$B:$F,5,FALSE)","v":221},{"$f":"VLOOKUP(I1015,[1]RewardItemConfig!$B:$F,5,FALSE)","v":106},14,3,17,"14#1064|3#221|17#106"]
[{"$nulls":6},3001016,3006016,3011016,{"$f":"VLOOKUP(G1016,[1]RewardItemConfig!$B:$F,5,FALSE)","v":1065},{"$f":"VLOOKUP(H1016,[1]RewardItemConfig!$B:$F,5,FALSE)","v":221},{"$f":"VLOOKUP(I1016,[1]RewardItemConfig!$B:$F,5,FALSE)","v":106},14,3,17,"14#1065|3#221|17#106"]
[{"$nulls":6},3001017,3006017,3011017,{"$f":"VLOOKUP(G1017,[1]RewardItemConfig!$B:$F,5,FALSE)","v":1066},{"$f":"VLOOKUP(H1017,[1]RewardItemConfig!$B:$F,5,FALSE)","v":221},{"$f":"VLOOKUP(I1017,[1]RewardItemConfig!$B:$F,5,FALSE)","v":106},14,3,17,"14#1066|3#221|17#106"]
[{"$nulls":6},3001018,3006018,3011018,{"$f":"VLOOKUP(G1018,[1]RewardItemConfig!$B:$F,5,FALSE)","v":1067},{"$f":"VLOOKUP(H1018,[1]RewardItemConfig!$B:$F,5,FALSE)","v":221},{"$f":"VLOOKUP(I1018,[1]RewardItemConfig!$B:$F,5,FALSE)","v":106},14,3,17,"14#1067|3#221|17#106"]
[{"$nulls":6},3001019,3006019,3011019,{"$f":"VLOOKUP(G1019,[1]RewardItemConfig!$B:$F,5,FALSE)","v":1068},{"$f":"VLOOKUP(H1019,[1]RewardItemConfig!$B:$F,5,FALSE)","v":221},{"$f":"VLOOKUP(I1019,[1]RewardItemConfig!$B:$F,5,FALSE)","v":106},14,3,17,"14#1068|3#221|17#106"]
[{"$nulls":6},3001020,3006020,3011020,{"$f":"VLOOKUP(G1020,[1]RewardItemConfig!$B:$F,5,FALSE)","v":1069},{"$f":"VLOOKUP(H1020,[1]RewardItemConfig!$B:$F,5,FALSE)","v":224},{"$f":"VLOOKUP(I1020,[1]RewardItemConfig!$B:$F,5,FALSE)","v":107},14,3,17,"14#1069|3#224|17#107"]
[{"$nulls":6},3001021,3006021,3011021,{"$f":"VLOOKUP(G1021,[1]RewardItemConfig!$B:$F,5,FALSE)","v":1070},{"$f":"VLOOKUP(H1021,[1]RewardItemConfig!$B:$F,5,FALSE)","v":224},{"$f":"VLOOKUP(I1021,[1]RewardItemConfig!$B:$F,5,FALSE)","v":107},14,3,17,"14#1070|3#224|17#107"]
[{"$nulls":6},3001022,3006022,3011022,{"$f":"VLOOKUP(G1022,[1]RewardItemConfig!$B:$F,5,FALSE)","v":1071},{"$f":"VLOOKUP(H1022,[1]RewardItemConfig!$B:$F,5,FALSE)","v":224},{"$f":"VLOOKUP(I1022,[1]RewardItemConfig!$B:$F,5,FALSE)","v":107},14,3,17,"14#1071|3#224|17#107"]
[{"$nulls":6},3001023,3006023,3011023,{"$f":"VLOOKUP(G1023,[1]RewardItemConfig!$B:$F,5,FALSE)","v":1072},{"$f":"VLOOKUP(H1023,[1]RewardItemConfig!$B:$F,5,FALSE)","v":224},{"$f":"VLOOKUP(I1023,[1]RewardItemConfig!$B:$F,5,FALSE)","v":107},14,3,17,"14#1072|3#224|17#107"]
[{"$nulls":6},3001024,3006024,3011024,{"$f":"VLOOKUP(G1024,[1]RewardItemConfig!$B:$F,5,FALSE)","v":1073},{"$f":"VLOOKUP(H1024,[1]RewardItemConfig!$B:$F,5,FALSE)","v":224},{"$f":"VLOOKUP(I1024,[1]RewardItemConfig!$B:$F,5,FALSE)","v":107},14,3,17,"14#1073|3#224|17#107"]
[{"$nulls":6},3001025,3006025,3011025,{"$f":"VLOOKUP(G1025,[1]RewardItemConfig!$B:$F,5,FALSE)","v":1074},{"$f":"VLOOKUP(H1025,[1]RewardItemConfig!$B:$F,5,FALSE)","v":224},{"$f":"VLOOKUP(I1025,[1]RewardItemConfig!$B:$F,5,FALSE)","v":107},14,3,17,"14#1074|3#224|17#107"]
[{"$nulls":6},3001026,3006026,3011026,{"$f":"VLOOKUP(G1026,[1]RewardItemConfig!$B:$F,5,FALSE)","v":1075},{"$f":"VLOOKUP(H1026,[1]RewardItemConfig!$B:$F,5,FALSE)","v":224},{"$f":"VLOOKUP(I1026,[1]RewardItemConfig!$B:$F,5,FALSE)","v":107},14,3,17,{"$f":"M1026&\"#\"&J1026&\"|\"&N1026&\"#\"&K1026&\"|\"&O1026&\"#\"&L1026","v":"14#1075|3#224|17#107"}]
[{"$nulls":6},3001027,3006027,3011027,{"$f":"VLOOKUP(G1027,[1]RewardItemConfig!$B:$F,5,FALSE)","v":1076},{"$f":"VLOOKUP(H1027,[1]RewardItemConfig!$B:$F,5,FALSE)","v":224},{"$f":"VLOOKUP(I1027,[1]RewardItemConfig!$B:$F,5,FALSE)","v":107},{"$f":"M1026","v":14},{"$f":"N1026","v":3},{"$f":"O1026","v":17},"14#1076|3#224|17#107"]
[{"$nulls":6},3001028,3006028,3011028,{"$f":"VLOOKUP(G1028,[1]RewardItemConfig!$B:$F,5,FALSE)","v":1077},{"$f":"VLOOKUP(H1028,[1]RewardItemConfig!$B:$F,5,FALSE)","v":224},{"$f":"VLOOKUP(I1028,[1]RewardItemConfig!$B:$F,5,FALSE)","v":107},14,3,17,"14#1077|3#224|17#107"]
[{"$nulls":6},3001029,3006029,3011029,{"$f":"VLOOKUP(G1029,[1]RewardItemConfig!$B:$F,5,FALSE)","v":1078},{"$f":"VLOOKUP(H1029,[1]RewardItemConfig!$B:$F,5,FALSE)","v":224},{"$f":"VLOOKUP(I1029,[1]RewardItemConfig!$B:$F,5,FALSE)","v":107},14,3,17,"14#1078|3#224|17#107"]
[{"$nulls":6},3001030,3006030,3011030,{"$f":"VLOOKUP(G1030,[1]RewardItemConfig!$B:$F,5,FALSE)","v":1079},{"$f":"VLOOKUP(H1030,[1]RewardItemConfig!$B:$F,5,FALSE)","v":227},{"$f":"VLOOKUP(I1030,[1]RewardItemConfig!$B:$F,5,FALSE)","v":108},14,3,17,"14#1079|3#227|17#108"]
[{"$nulls":6},3001031,3006031,3011031,{"$f":"VLOOKUP(G1031,[1]RewardItemConfig!$B:$F,5,FALSE)","v":1080},{"$f":"VLOOKUP(H1031,[1]RewardItemConfig!$B:$F,5,FALSE)","v":227},{"$f":"VLOOKUP(I1031,[1]RewardItemConfig!$B:$F,5,FALSE)","v":108},14,3,17,"14#1080|3#227|17#108"]
[{"$nulls":6},3001032,3006032,3011032,{"$f":"VLOOKUP(G1032,[1]RewardItemConfig!$B:$F,5,FALSE)","v":1081},{"$f":"VLOOKUP(H1032,[1]RewardItemConfig!$B:$F,5,FALSE)","v":227},{"$f":"VLOOKUP(I1032,[1]RewardItemConfig!$B:$F,5,FALSE)","v":108},14,3,17,"14#1081|3#227|17#108"]
[{"$nulls":6},3001033,3006033,3011033,{"$f":"VLOOKUP(G1033,[1]RewardItemConfig!$B:$F,5,FALSE)","v":1082},{"$f":"VLOOKUP(H1033,[1]RewardItemConfig!$B:$F,5,FALSE)","v":227},{"$f":"VLOOKUP(I1033,[1]RewardItemConfig!$B:$F,5,FALSE)","v":108},14,3,17,"14#1082|3#227|17#108"]
[{"$nulls":6},3001034,3006034,3011034,{"$f":"VLOOKUP(G1034,[1]RewardItemConfig!$B:$F,5,FALSE)","v":1083},{"$f":"VLOOKUP(H1034,[1]RewardItemConfig!$B:$F,5,FALSE)","v":227},{"$f":"VLOOKUP(I1034,[1]RewardItemConfig!$B:$F,5,FALSE)","v":108},14,3,17,"14#1083|3#227|17#108"]
[{"$nulls":6},3001035,3006035,3011035,{"$f":"VLOOKUP(G1035,[1]RewardItemConfig!$B:$F,5,FALSE)","v":1084},{"$f":"VLOOKUP(H1035,[1]RewardItemConfig!$B:$F,5,FALSE)","v":227},{"$f":"VLOOKUP(I1035,[1]RewardItemConfig!$B:$F,5,FALSE)","v":108},14,3,17,"14#1084|3#227|17#108"]
[{"$nulls":6},3001036,3006036,3011036,{"$f":"VLOOKUP(G1036,[1]RewardItemConfig!$B:$F,5,FALSE)","v":1085},{"$f":"VLOOKUP(H1036,[1]RewardItemConfig!$B:$F,5,FALSE)","v":227},{"$f":"VLOOKUP(I1036,[1]RewardItemConfig!$B:$F,5,FALSE)","v":108},14,3,17,"14#1085|3#227|17#108"]
[{"$nulls":6},3001037,3006037,3011037,{"$f":"VLOOKUP(G1037,[1]RewardItemConfig!$B:$F,5,FALSE)","v":1086},{"$f":"VLOOKUP(H1037,[1]RewardItemConfig!$B:$F,5,FALSE)","v":227},{"$f":"VLOOKUP(I1037,[1]RewardItemConfig!$B:$F,5,FALSE)","v":108},14,3,17,"14#1086|3#227|17#108"]
[{"$nulls":6},3001038,3006038,3011038,{"$f":"VLOOKUP(G1038,[1]RewardItemConfig!$B:$F,5,FALSE)","v":1087},{"$f":"VLOOKUP(H1038,[1]RewardItemConfig!$B:$F,5,FALSE)","v":227},{"$f":"VLOOKUP(I1038,[1]RewardItemConfig!$B:$F,5,FALSE)","v":108},14,3,17,"14#1087|3#227|17#108"]
[{"$nulls":6},3001039,3006039,3011039,{"$f":"VLOOKUP(G1039,[1]RewardItemConfig!$B:$F,5,FALSE)","v":1088},{"$f":"VLOOKUP(H1039,[1]RewardItemConfig!$B:$F,5,FALSE)","v":227},{"$f":"VLOOKUP(I1039,[1]RewardItemConfig!$B:$F,5,FALSE)","v":108},14,3,17,"14#1088|3#227|17#108"]
[{"$nulls":6},3001040,3006040,3011040,{"$f":"VLOOKUP(G1040,[1]RewardItemConfig!$B:$F,5,FALSE)","v":1089},{"$f":"VLOOKUP(H1040,[1]RewardItemConfig!$B:$F,5,FALSE)","v":230},{"$f":"VLOOKUP(I1040,[1]RewardItemConfig!$B:$F,5,FALSE)","v":109},14,3,17,"14#1089|3#230|17#109"]
[{"$nulls":6},3001041,3006041,3011041,{"$f":"VLOOKUP(G1041,[1]RewardItemConfig!$B:$F,5,FALSE)","v":1090},{"$f":"VLOOKUP(H1041,[1]RewardItemConfig!$B:$F,5,FALSE)","v":230},{"$f":"VLOOKUP(I1041,[1]RewardItemConfig!$B:$F,5,FALSE)","v":109},14,3,17,"14#1090|3#230|17#109"]
[{"$nulls":6},3001042,3006042,3011042,{"$f":"VLOOKUP(G1042,[1]RewardItemConfig!$B:$F,5,FALSE)","v":1091},{"$f":"VLOOKUP(H1042,[1]RewardItemConfig!$B:$F,5,FALSE)","v":230},{"$f":"VLOOKUP(I1042,[1]RewardItemConfig!$B:$F,5,FALSE)","v":109},14,3,17,"14#1091|3#230|17#109"]
[{"$nulls":6},3001043,3006043,3011043,{"$f":"VLOOKUP(G1043,[1]RewardItemConfig!$B:$F,5,FALSE)","v":1092},{"$f":"VLOOKUP(H1043,[1]RewardItemConfig!$B:$F,5,FALSE)","v":230},{"$f":"VLOOKUP(I1043,[1]RewardItemConfig!$B:$F,5,FALSE)","v":109},14,3,17,"14#1092|3#230|17#109"]
[{"$nulls":6},3001044,3006044,3011044,{"$f":"VLOOKUP(G1044,[1]RewardItemConfig!$B:$F,5,FALSE)","v":1093},{"$f":"VLOOKUP(H1044,[1]RewardItemConfig!$B:$F,5,FALSE)","v":230},{"$f":"VLOOKUP(I1044,[1]RewardItemConfig!$B:$F,5,FALSE)","v":109},14,3,17,"14#1093|3#230|17#109"]
[{"$nulls":6},3001045,3006045,3011045,{"$f":"VLOOKUP(G1045,[1]RewardItemConfig!$B:$F,5,FALSE)","v":1094},{"$f":"VLOOKUP(H1045,[1]RewardItemConfig!$B:$F,5,FALSE)","v":230},{"$f":"VLOOKUP(I1045,[1]RewardItemConfig!$B:$F,5,FALSE)","v":109},14,3,17,"14#1094|3#230|17#109"]
[{"$nulls":6},3001046,3006046,3011046,{"$f":"VLOOKUP(G1046,[1]RewardItemConfig!$B:$F,5,FALSE)","v":1095},{"$f":"VLOOKUP(H1046,[1]RewardItemConfig!$B:$F,5,FALSE)","v":230},{"$f":"VLOOKUP(I1046,[1]RewardItemConfig!$B:$F,5,FALSE)","v":109},14,3,17,"14#1095|3#230|17#109"]
[{"$nulls":6},3001047,3006047,3011047,{"$f":"VLOOKUP(G1047,[1]RewardItemConfig!$B:$F,5,FALSE)","v":1096},{"$f":"VLOOKUP(H1047,[1]RewardItemConfig!$B:$F,5,FALSE)","v":230},{"$f":"VLOOKUP(I1047,[1]RewardItemConfig!$B:$F,5,FALSE)","v":109},14,3,17,"14#1096|3#230|17#109"]
[{"$nulls":6},3001048,3006048,3011048,{"$f":"VLOOKUP(G1048,[1]RewardItemConfig!$B:$F,5,FALSE)","v":1097},{"$f":"VLOOKUP(H1048,[1]RewardItemConfig!$B:$F,5,FALSE)","v":230},{"$f":"VLOOKUP(I1048,[1]RewardItemConfig!$B:$F,5,FALSE)","v":109},14,3,17,"14#1097|3#230|17#109"]
[{"$nulls":6},3001049,3006049,3011049,{"$f":"VLOOKUP(G1049,[1]RewardItemConfig!$B:$F,5,FALSE)","v":1098},{"$f":"VLOOKUP(H1049,[1]RewardItemConfig!$B:$F,5,FALSE)","v":230},{"$f":"VLOOKUP(I1049,[1]RewardItemConfig!$B:$F,5,FALSE)","v":109},14,3,17,"14#1098|3#230|17#109"]
[{"$nulls":6},3001050,3006050,3011050,{"$f":"VLOOKUP(G1050,[1]RewardItemConfig!$B:$F,5,FALSE)","v":1099},{"$f":"VLOOKUP(H1050,[1]RewardItemConfig!$B:$F,5,FALSE)","v":233},{"$f":"VLOOKUP(I1050,[1]RewardItemConfig!$B:$F,5,FALSE)","v":110},14,3,17,"14#1099|3#233|17#110"]
[{"$nulls":6},3001051,3006051,3011051,{"$f":"VLOOKUP(G1051,[1]RewardItemConfig!$B:$F,5,FALSE)","v":1100},{"$f":"VLOOKUP(H1051,[1]RewardItemConfig!$B:$F,5,FALSE)","v":233},{"$f":"VLOOKUP(I1051,[1]RewardItemConfig!$B:$F,5,FALSE)","v":110},14,3,17,"14#1100|3#233|17#110"]
[{"$nulls":6},3001052,3006052,3011052,{"$f":"VLOOKUP(G1052,[1]RewardItemConfig!$B:$F,5,FALSE)","v":1101},{"$f":"VLOOKUP(H1052,[1]RewardItemConfig!$B:$F,5,FALSE)","v":233},{"$f":"VLOOKUP(I1052,[1]RewardItemConfig!$B:$F,5,FALSE)","v":110},14,3,17,"14#1101|3#233|17#110"]
[{"$nulls":6},3001053,3006053,3011053,{"$f":"VLOOKUP(G1053,[1]RewardItemConfig!$B:$F,5,FALSE)","v":1102},{"$f":"VLOOKUP(H1053,[1]RewardItemConfig!$B:$F,5,FALSE)","v":233},{"$f":"VLOOKUP(I1053,[1]RewardItemConfig!$B:$F,5,FALSE)","v":110},14,3,17,"14#1102|3#233|17#110"]
[{"$nulls":6},3001054,3006054,3011054,{"$f":"VLOOKUP(G1054,[1]RewardItemConfig!$B:$F,5,FALSE)","v":1103},{"$f":"VLOOKUP(H1054,[1]RewardItemConfig!$B:$F,5,FALSE)","v":233},{"$f":"VLOOKUP(I1054,[1]RewardItemConfig!$B:$F,5,FALSE)","v":110},14,3,17,"14#1103|3#233|17#110"]
[{"$nulls":6},3001055,3006055,3011055,{"$f":"VLOOKUP(G1055,[1]RewardItemConfig!$B:$F,5,FALSE)","v":1104},{"$f":"VLOOKUP(H1055,[1]RewardItemConfig!$B:$F,5,FALSE)","v":233},{"$f":"VLOOKUP(I1055,[1]RewardItemConfig!$B:$F,5,FALSE)","v":110},14,3,17,"14#1104|3#233|17#110"]
[{"$nulls":6},3001056,3006056,3011056,{"$f":"VLOOKUP(G1056,[1]RewardItemConfig!$B:$F,5,FALSE)","v":1105},{"$f":"VLOOKUP(H1056,[1]RewardItemConfig!$B:$F,5,FALSE)","v":233},{"$f":"VLOOKUP(I1056,[1]RewardItemConfig!$B:$F,5,FALSE)","v":110},14,3,17,"14#1105|3#233|17#110"]
[{"$nulls":6},3001057,3006057,3011057,{"$f":"VLOOKUP(G1057,[1]RewardItemConfig!$B:$F,5,FALSE)","v":1106},{"$f":"VLOOKUP(H1057,[1]RewardItemConfig!$B:$F,5,FALSE)","v":233},{"$f":"VLOOKUP(I1057,[1]RewardItemConfig!$B:$F,5,FALSE)","v":110},14,3,17,"14#1106|3#233|17#110"]
[{"$nulls":6},3001058,3006058,3011058,{"$f":"VLOOKUP(G1058,[1]RewardItemConfig!$B:$F,5,FALSE)","v":1107},{"$f":"VLOOKUP(H1058,[1]RewardItemConfig!$B:$F,5,FALSE)","v":233},{"$f":"VLOOKUP(I1058,[1]RewardItemConfig!$B:$F,5,FALSE)","v":110},14,3,17,"14#1107|3#233|17#110"]
[{"$nulls":6},3001059,3006059,3011059,{"$f":"VLOOKUP(G1059,[1]RewardItemConfig!$B:$F,5,FALSE)","v":1108},{"$f":"VLOOKUP(H1059,[1]RewardItemConfig!$B:$F,5,FALSE)","v":233},{"$f":"VLOOKUP(I1059,[1]RewardItemConfig!$B:$F,5,FALSE)","v":110},14,3,17,"14#1108|3#233|17#110"]
[{"$nulls":6},3001060,3006060,3011060,{"$f":"VLOOKUP(G1060,[1]RewardItemConfig!$B:$F,5,FALSE)","v":1109},{"$f":"VLOOKUP(H1060,[1]RewardItemConfig!$B:$F,5,FALSE)","v":236},{"$f":"VLOOKUP(I1060,[1]RewardItemConfig!$B:$F,5,FALSE)","v":111},14,3,17,"14#1109|3#236|17#111"]
[{"$nulls":6},3001061,3006061,3011061,{"$f":"VLOOKUP(G1061,[1]RewardItemConfig!$B:$F,5,FALSE)","v":1110},{"$f":"VLOOKUP(H1061,[1]RewardItemConfig!$B:$F,5,FALSE)","v":236},{"$f":"VLOOKUP(I1061,[1]RewardItemConfig!$B:$F,5,FALSE)","v":111},14,3,17,"14#1110|3#236|17#111"]
[{"$nulls":6},3001062,3006062,3011062,{"$f":"VLOOKUP(G1062,[1]RewardItemConfig!$B:$F,5,FALSE)","v":1111},{"$f":"VLOOKUP(H1062,[1]RewardItemConfig!$B:$F,5,FALSE)","v":236},{"$f":"VLOOKUP(I1062,[1]RewardItemConfig!$B:$F,5,FALSE)","v":111},14,3,17,"14#1111|3#236|17#111"]
[{"$nulls":6},3001063,3006063,3011063,{"$f":"VLOOKUP(G1063,[1]RewardItemConfig!$B:$F,5,FALSE)","v":1112},{"$f":"VLOOKUP(H1063,[1]RewardItemConfig!$B:$F,5,FALSE)","v":236},{"$f":"VLOOKUP(I1063,[1]RewardItemConfig!$B:$F,5,FALSE)","v":111},14,3,17,"14#1112|3#236|17#111"]
[{"$nulls":6},3001064,3006064,3011064,{"$f":"VLOOKUP(G1064,[1]RewardItemConfig!$B:$F,5,FALSE)","v":1113},{"$f":"VLOOKUP(H1064,[1]RewardItemConfig!$B:$F,5,FALSE)","v":236},{"$f":"VLOOKUP(I1064,[1]RewardItemConfig!$B:$F,5,FALSE)","v":111},14,3,17,"14#1113|3#236|17#111"]
[{"$nulls":6},3001065,3006065,3011065,{"$f":"VLOOKUP(G1065,[1]RewardItemConfig!$B:$F,5,FALSE)","v":1114},{"$f":"VLOOKUP(H1065,[1]RewardItemConfig!$B:$F,5,FALSE)","v":236},{"$f":"VLOOKUP(I1065,[1]RewardItemConfig!$B:$F,5,FALSE)","v":111},14,3,17,"14#1114|3#236|17#111"]
[{"$nulls":6},3001066,3006066,3011066,{"$f":"VLOOKUP(G1066,[1]RewardItemConfig!$B:$F,5,FALSE)","v":1115},{"$f":"VLOOKUP(H1066,[1]RewardItemConfig!$B:$F,5,FALSE)","v":236},{"$f":"VLOOKUP(I1066,[1]RewardItemConfig!$B:$F,5,FALSE)","v":111},14,3,17,"14#1115|3#236|17#111"]
[{"$nulls":6},3001067,3006067,3011067,{"$f":"VLOOKUP(G1067,[1]RewardItemConfig!$B:$F,5,FALSE)","v":1116},{"$f":"VLOOKUP(H1067,[1]RewardItemConfig!$B:$F,5,FALSE)","v":236},{"$f":"VLOOKUP(I1067,[1]RewardItemConfig!$B:$F,5,FALSE)","v":111},14,3,17,"14#1116|3#236|17#111"]
[{"$nulls":6},3001068,3006068,3011068,{"$f":"VLOOKUP(G1068,[1]RewardItemConfig!$B:$F,5,FALSE)","v":1117},{"$f":"VLOOKUP(H1068,[1]RewardItemConfig!$B:$F,5,FALSE)","v":236},{"$f":"VLOOKUP(I1068,[1]RewardItemConfig!$B:$F,5,FALSE)","v":111},14,3,17,"14#1117|3#236|17#111"]
[{"$nulls":6},3001069,3006069,3011069,{"$f":"VLOOKUP(G1069,[1]RewardItemConfig!$B:$F,5,FALSE)","v":1118},{"$f":"VLOOKUP(H1069,[1]RewardItemConfig!$B:$F,5,FALSE)","v":236},{"$f":"VLOOKUP(I1069,[1]RewardItemConfig!$B:$F,5,FALSE)","v":111},14,3,17,"14#1118|3#236|17#111"]
[{"$nulls":6},3001070,3006070,3011070,{"$f":"VLOOKUP(G1070,[1]RewardItemConfig!$B:$F,5,FALSE)","v":1119},{"$f":"VLOOKUP(H1070,[1]RewardItemConfig!$B:$F,5,FALSE)","v":239},{"$f":"VLOOKUP(I1070,[1]RewardItemConfig!$B:$F,5,FALSE)","v":112},14,3,17,"14#1119|3#239|17#112"]
[{"$nulls":6},3001071,3006071,3011071,{"$f":"VLOOKUP(G1071,[1]RewardItemConfig!$B:$F,5,FALSE)","v":1120},{"$f":"VLOOKUP(H1071,[1]RewardItemConfig!$B:$F,5,FALSE)","v":239},{"$f":"VLOOKUP(I1071,[1]RewardItemConfig!$B:$F,5,FALSE)","v":112},14,3,17,"14#1120|3#239|17#112"]
[{"$nulls":6},3001072,3006072,3011072,{"$f":"VLOOKUP(G1072,[1]RewardItemConfig!$B:$F,5,FALSE)","v":1121},{"$f":"VLOOKUP(H1072,[1]RewardItemConfig!$B:$F,5,FALSE)","v":239},{"$f":"VLOOKUP(I1072,[1]RewardItemConfig!$B:$F,5,FALSE)","v":112},14,3,17,"14#1121|3#239|17#112"]
[{"$nulls":6},3001073,3006073,3011073,{"$f":"VLOOKUP(G1073,[1]RewardItemConfig!$B:$F,5,FALSE)","v":1122},{"$f":"VLOOKUP(H1073,[1]RewardItemConfig!$B:$F,5,FALSE)","v":239},{"$f":"VLOOKUP(I1073,[1]RewardItemConfig!$B:$F,5,FALSE)","v":112},14,3,17,"14#1122|3#239|17#112"]
[{"$nulls":6},3001074,3006074,3011074,{"$f":"VLOOKUP(G1074,[1]RewardItemConfig!$B:$F,5,FALSE)","v":1123},{"$f":"VLOOKUP(H1074,[1]RewardItemConfig!$B:$F,5,FALSE)","v":239},{"$f":"VLOOKUP(I1074,[1]RewardItemConfig!$B:$F,5,FALSE)","v":112},14,3,17,"14#1123|3#239|17#112"]
[{"$nulls":6},3001075,3006075,3011075,{"$f":"VLOOKUP(G1075,[1]RewardItemConfig!$B:$F,5,FALSE)","v":1124},{"$f":"VLOOKUP(H1075,[1]RewardItemConfig!$B:$F,5,FALSE)","v":239},{"$f":"VLOOKUP(I1075,[1]RewardItemConfig!$B:$F,5,FALSE)","v":112},14,3,17,"14#1124|3#239|17#112"]
[{"$nulls":6},3001076,3006076,3011076,{"$f":"VLOOKUP(G1076,[1]RewardItemConfig!$B:$F,5,FALSE)","v":1125},{"$f":"VLOOKUP(H1076,[1]RewardItemConfig!$B:$F,5,FALSE)","v":239},{"$f":"VLOOKUP(I1076,[1]RewardItemConfig!$B:$F,5,FALSE)","v":112},14,3,17,"14#1125|3#239|17#112"]
[{"$nulls":6},3001077,3006077,3011077,{"$f":"VLOOKUP(G1077,[1]RewardItemConfig!$B:$F,5,FALSE)","v":1126},{"$f":"VLOOKUP(H1077,[1]RewardItemConfig!$B:$F,5,FALSE)","v":239},{"$f":"VLOOKUP(I1077,[1]RewardItemConfig!$B:$F,5,FALSE)","v":112},14,3,17,"14#1126|3#239|17#112"]
[{"$nulls":6},3001078,3006078,3011078,{"$f":"VLOOKUP(G1078,[1]RewardItemConfig!$B:$F,5,FALSE)","v":1127},{"$f":"VLOOKUP(H1078,[1]RewardItemConfig!$B:$F,5,FALSE)","v":239},{"$f":"VLOOKUP(I1078,[1]RewardItemConfig!$B:$F,5,FALSE)","v":112},14,3,17,"14#1127|3#239|17#112"]
[{"$nulls":6},3001079,3006079,3011079,{"$f":"VLOOKUP(G1079,[1]RewardItemConfig!$B:$F,5,FALSE)","v":1128},{"$f":"VLOOKUP(H1079,[1]RewardItemConfig!$B:$F,5,FALSE)","v":239},{"$f":"VLOOKUP(I1079,[1]RewardItemConfig!$B:$F,5,FALSE)","v":112},14,3,17,"14#1128|3#239|17#112"]
[{"$nulls":6},3001080,3006080,3011080,{"$f":"VLOOKUP(G1080,[1]RewardItemConfig!$B:$F,5,FALSE)","v":1129},{"$f":"VLOOKUP(H1080,[1]RewardItemConfig!$B:$F,5,FALSE)","v":242},{"$f":"VLOOKUP(I1080,[1]RewardItemConfig!$B:$F,5,FALSE)","v":113},14,3,17,"14#1129|3#242|17#113"]
[{"$nulls":6},3001081,3006081,3011081,{"$f":"VLOOKUP(G1081,[1]RewardItemConfig!$B:$F,5,FALSE)","v":1130},{"$f":"VLOOKUP(H1081,[1]RewardItemConfig!$B:$F,5,FALSE)","v":242},{"$f":"VLOOKUP(I1081,[1]RewardItemConfig!$B:$F,5,FALSE)","v":113},14,3,17,"14#1130|3#242|17#113"]
[{"$nulls":6},3001082,3006082,3011082,{"$f":"VLOOKUP(G1082,[1]RewardItemConfig!$B:$F,5,FALSE)","v":1131},{"$f":"VLOOKUP(H1082,[1]RewardItemConfig!$B:$F,5,FALSE)","v":242},{"$f":"VLOOKUP(I1082,[1]RewardItemConfig!$B:$F,5,FALSE)","v":113},14,3,17,"14#1131|3#242|17#113"]
[{"$nulls":6},3001083,3006083,3011083,{"$f":"VLOOKUP(G1083,[1]RewardItemConfig!$B:$F,5,FALSE)","v":1132},{"$f":"VLOOKUP(H1083,[1]RewardItemConfig!$B:$F,5,FALSE)","v":242},{"$f":"VLOOKUP(I1083,[1]RewardItemConfig!$B:$F,5,FALSE)","v":113},14,3,17,"14#1132|3#242|17#113"]
[{"$nulls":6},3001084,3006084,3011084,{"$f":"VLOOKUP(G1084,[1]RewardItemConfig!$B:$F,5,FALSE)","v":1133},{"$f":"VLOOKUP(H1084,[1]RewardItemConfig!$B:$F,5,FALSE)","v":242},{"$f":"VLOOKUP(I1084,[1]RewardItemConfig!$B:$F,5,FALSE)","v":113},14,3,17,"14#1133|3#242|17#113"]
[{"$nulls":6},3001085,3006085,3011085,{"$f":"VLOOKUP(G1085,[1]RewardItemConfig!$B:$F,5,FALSE)","v":1134},{"$f":"VLOOKUP(H1085,[1]RewardItemConfig!$B:$F,5,FALSE)","v":242},{"$f":"VLOOKUP(I1085,[1]RewardItemConfig!$B:$F,5,FALSE)","v":113},14,3,17,"14#1134|3#242|17#113"]
[{"$nulls":6},3001086,3006086,3011086,{"$f":"VLOOKUP(G1086,[1]RewardItemConfig!$B:$F,5,FALSE)","v":1135},{"$f":"VLOOKUP(H1086,[1]RewardItemConfig!$B:$F,5,FALSE)","v":242},{"$f":"VLOOKUP(I1086,[1]RewardItemConfig!$B:$F,5,FALSE)","v":113},14,3,17,"14#1135|3#242|17#113"]
[{"$nulls":6},3001087,3006087,3011087,{"$f":"VLOOKUP(G1087,[1]RewardItemConfig!$B:$F,5,FALSE)","v":1136},{"$f":"VLOOKUP(H1087,[1]RewardItemConfig!$B:$F,5,FALSE)","v":242},{"$f":"VLOOKUP(I1087,[1]RewardItemConfig!$B:$F,5,FALSE)","v":113},14,3,17,"14#1136|3#242|17#113"]
[{"$nulls":6},3001088,3006088,3011088,{"$f":"VLOOKUP(G1088,[1]RewardItemConfig!$B:$F,5,FALSE)","v":1137},{"$f":"VLOOKUP(H1088,[1]RewardItemConfig!$B:$F,5,FALSE)","v":242},{"$f":"VLOOKUP(I1088,[1]RewardItemConfig!$B:$F,5,FALSE)","v":113},14,3,17,"14#1137|3#242|17#113"]
[{"$nulls":6},3001089,3006089,3011089,{"$f":"VLOOKUP(G1089,[1]RewardItemConfig!$B:$F,5,FALSE)","v":1138},{"$f":"VLOOKUP(H1089,[1]RewardItemConfig!$B:$F,5,FALSE)","v":242},{"$f":"VLOOKUP(I1089,[1]RewardItemConfig!$B:$F,5,FALSE)","v":113},14,3,17,"14#1138|3#242|17#113"]
[{"$nulls":6},3001090,3006090,3011090,{"$f":"VLOOKUP(G1090,[1]RewardItemConfig!$B:$F,5,FALSE)","v":1139},{"$f":"VLOOKUP(H1090,[1]RewardItemConfig!$B:$F,5,FALSE)","v":245},{"$f":"VLOOKUP(I1090,[1]RewardItemConfig!$B:$F,5,FALSE)","v":114},14,3,17,{"$f":"M1090&\"#\"&J1090&\"|\"&N1090&\"#\"&K1090&\"|\"&O1090&\"#\"&L1090","v":"14#1139|3#245|17#114"}]
[{"$nulls":6},3001091,3006091,3011091,{"$f":"VLOOKUP(G1091,[1]RewardItemConfig!$B:$F,5,FALSE)","v":1140},{"$f":"VLOOKUP(H1091,[1]RewardItemConfig!$B:$F,5,FALSE)","v":245},{"$f":"VLOOKUP(I1091,[1]RewardItemConfig!$B:$F,5,FALSE)","v":114},{"$f":"M1090","v":14},{"$f":"N1090","v":3},{"$f":"O1090","v":17},"14#1140|3#245|17#114"]
[{"$nulls":6},3001092,3006092,3011092,{"$f":"VLOOKUP(G1092,[1]RewardItemConfig!$B:$F,5,FALSE)","v":1141},{"$f":"VLOOKUP(H1092,[1]RewardItemConfig!$B:$F,5,FALSE)","v":245},{"$f":"VLOOKUP(I1092,[1]RewardItemConfig!$B:$F,5,FALSE)","v":114},14,3,17,"14#1141|3#245|17#114"]
[{"$nulls":6},3001093,3006093,3011093,{"$f":"VLOOKUP(G1093,[1]RewardItemConfig!$B:$F,5,FALSE)","v":1142},{"$f":"VLOOKUP(H1093,[1]RewardItemConfig!$B:$F,5,FALSE)","v":245},{"$f":"VLOOKUP(I1093,[1]RewardItemConfig!$B:$F,5,FALSE)","v":114},14,3,17,"14#1142|3#245|17#114"]
[{"$nulls":6},3001094,3006094,3011094,{"$f":"VLOOKUP(G1094,[1]RewardItemConfig!$B:$F,5,FALSE)","v":1143},{"$f":"VLOOKUP(H1094,[1]RewardItemConfig!$B:$F,5,FALSE)","v":245},{"$f":"VLOOKUP(I1094,[1]RewardItemConfig!$B:$F,5,FALSE)","v":114},14,3,17,"14#1143|3#245|17#114"]
[{"$nulls":6},3001095,3006095,3011095,{"$f":"VLOOKUP(G1095,[1]RewardItemConfig!$B:$F,5,FALSE)","v":1144},{"$f":"VLOOKUP(H1095,[1]RewardItemConfig!$B:$F,5,FALSE)","v":245},{"$f":"VLOOKUP(I1095,[1]RewardItemConfig!$B:$F,5,FALSE)","v":114},14,3,17,"14#1144|3#245|17#114"]
[{"$nulls":6},3001096,3006096,3011096,{"$f":"VLOOKUP(G1096,[1]RewardItemConfig!$B:$F,5,FALSE)","v":1145},{"$f":"VLOOKUP(H1096,[1]RewardItemConfig!$B:$F,5,FALSE)","v":245},{"$f":"VLOOKUP(I1096,[1]RewardItemConfig!$B:$F,5,FALSE)","v":114},14,3,17,"14#1145|3#245|17#114"]
[{"$nulls":6},3001097,3006097,3011097,{"$f":"VLOOKUP(G1097,[1]RewardItemConfig!$B:$F,5,FALSE)","v":1146},{"$f":"VLOOKUP(H1097,[1]RewardItemConfig!$B:$F,5,FALSE)","v":245},{"$f":"VLOOKUP(I1097,[1]RewardItemConfig!$B:$F,5,FALSE)","v":114},14,3,17,"14#1146|3#245|17#114"]
[{"$nulls":6},3001098,3006098,3011098,{"$f":"VLOOKUP(G1098,[1]RewardItemConfig!$B:$F,5,FALSE)","v":1147},{"$f":"VLOOKUP(H1098,[1]RewardItemConfig!$B:$F,5,FALSE)","v":245},{"$f":"VLOOKUP(I1098,[1]RewardItemConfig!$B:$F,5,FALSE)","v":114},14,3,17,"14#1147|3#245|17#114"]
[{"$nulls":6},3001099,3006099,3011099,{"$f":"VLOOKUP(G1099,[1]RewardItemConfig!$B:$F,5,FALSE)","v":1148},{"$f":"VLOOKUP(H1099,[1]RewardItemConfig!$B:$F,5,FALSE)","v":245},{"$f":"VLOOKUP(I1099,[1]RewardItemConfig!$B:$F,5,FALSE)","v":114},14,3,17,"14#1148|3#245|17#114"]
[{"$nulls":6},3001100,3006100,3011100,{"$f":"VLOOKUP(G1100,[1]RewardItemConfig!$B:$F,5,FALSE)","v":1149},{"$f":"VLOOKUP(H1100,[1]RewardItemConfig!$B:$F,5,FALSE)","v":248},{"$f":"VLOOKUP(I1100,[1]RewardItemConfig!$B:$F,5,FALSE)","v":115},14,3,17,"14#1149|3#248|17#115"]
[{"$nulls":6},3001101,3006101,3011101,{"$f":"VLOOKUP(G1101,[1]RewardItemConfig!$B:$F,5,FALSE)","v":1150},{"$f":"VLOOKUP(H1101,[1]RewardItemConfig!$B:$F,5,FALSE)","v":248},{"$f":"VLOOKUP(I1101,[1]RewardItemConfig!$B:$F,5,FALSE)","v":115},14,3,17,"14#1150|3#248|17#115"]
[{"$nulls":6},3001102,3006102,3011102,{"$f":"VLOOKUP(G1102,[1]RewardItemConfig!$B:$F,5,FALSE)","v":1151},{"$f":"VLOOKUP(H1102,[1]RewardItemConfig!$B:$F,5,FALSE)","v":248},{"$f":"VLOOKUP(I1102,[1]RewardItemConfig!$B:$F,5,FALSE)","v":115},14,3,17,"14#1151|3#248|17#115"]
[{"$nulls":6},3001103,3006103,3011103,{"$f":"VLOOKUP(G1103,[1]RewardItemConfig!$B:$F,5,FALSE)","v":1152},{"$f":"VLOOKUP(H1103,[1]RewardItemConfig!$B:$F,5,FALSE)","v":248},{"$f":"VLOOKUP(I1103,[1]RewardItemConfig!$B:$F,5,FALSE)","v":115},14,3,17,"14#1152|3#248|17#115"]
[{"$nulls":6},3001104,3006104,3011104,{"$f":"VLOOKUP(G1104,[1]RewardItemConfig!$B:$F,5,FALSE)","v":1153},{"$f":"VLOOKUP(H1104,[1]RewardItemConfig!$B:$F,5,FALSE)","v":248},{"$f":"VLOOKUP(I1104,[1]RewardItemConfig!$B:$F,5,FALSE)","v":115},14,3,17,"14#1153|3#248|17#115"]
[{"$nulls":6},3001105,3006105,3011105,{"$f":"VLOOKUP(G1105,[1]RewardItemConfig!$B:$F,5,FALSE)","v":1154},{"$f":"VLOOKUP(H1105,[1]RewardItemConfig!$B:$F,5,FALSE)","v":248},{"$f":"VLOOKUP(I1105,[1]RewardItemConfig!$B:$F,5,FALSE)","v":115},14,3,17,"14#1154|3#248|17#115"]
[{"$nulls":6},3001106,3006106,3011106,{"$f":"VLOOKUP(G1106,[1]RewardItemConfig!$B:$F,5,FALSE)","v":1155},{"$f":"VLOOKUP(H1106,[1]RewardItemConfig!$B:$F,5,FALSE)","v":248},{"$f":"VLOOKUP(I1106,[1]RewardItemConfig!$B:$F,5,FALSE)","v":115},14,3,17,"14#1155|3#248|17#115"]
[{"$nulls":6},3001107,3006107,3011107,{"$f":"VLOOKUP(G1107,[1]RewardItemConfig!$B:$F,5,FALSE)","v":1156},{"$f":"VLOOKUP(H1107,[1]RewardItemConfig!$B:$F,5,FALSE)","v":248},{"$f":"VLOOKUP(I1107,[1]RewardItemConfig!$B:$F,5,FALSE)","v":115},14,3,17,"14#1156|3#248|17#115"]
[{"$nulls":6},3001108,3006108,3011108,{"$f":"VLOOKUP(G1108,[1]RewardItemConfig!$B:$F,5,FALSE)","v":1157},{"$f":"VLOOKUP(H1108,[1]RewardItemConfig!$B:$F,5,FALSE)","v":248},{"$f":"VLOOKUP(I1108,[1]RewardItemConfig!$B:$F,5,FALSE)","v":115},14,3,17,"14#1157|3#248|17#115"]
[{"$nulls":6},3001109,3006109,3011109,{"$f":"VLOOKUP(G1109,[1]RewardItemConfig!$B:$F,5,FALSE)","v":1158},{"$f":"VLOOKUP(H1109,[1]RewardItemConfig!$B:$F,5,FALSE)","v":248},{"$f":"VLOOKUP(I1109,[1]RewardItemConfig!$B:$F,5,FALSE)","v":115},14,3,17,"14#1158|3#248|17#115"]
[{"$nulls":6},3001110,3006110,3011110,{"$f":"VLOOKUP(G1110,[1]RewardItemConfig!$B:$F,5,FALSE)","v":1159},{"$f":"VLOOKUP(H1110,[1]RewardItemConfig!$B:$F,5,FALSE)","v":251},{"$f":"VLOOKUP(I1110,[1]RewardItemConfig!$B:$F,5,FALSE)","v":116},14,3,17,"14#1159|3#251|17#116"]
[{"$nulls":6},3001111,3006111,3011111,{"$f":"VLOOKUP(G1111,[1]RewardItemConfig!$B:$F,5,FALSE)","v":1160},{"$f":"VLOOKUP(H1111,[1]RewardItemConfig!$B:$F,5,FALSE)","v":251},{"$f":"VLOOKUP(I1111,[1]RewardItemConfig!$B:$F,5,FALSE)","v":116},14,3,17,"14#1160|3#251|17#116"]
[{"$nulls":6},3001112,3006112,3011112,{"$f":"VLOOKUP(G1112,[1]RewardItemConfig!$B:$F,5,FALSE)","v":1161},{"$f":"VLOOKUP(H1112,[1]RewardItemConfig!$B:$F,5,FALSE)","v":251},{"$f":"VLOOKUP(I1112,[1]RewardItemConfig!$B:$F,5,FALSE)","v":116},14,3,17,"14#1161|3#251|17#116"]
[{"$nulls":6},3001113,3006113,3011113,{"$f":"VLOOKUP(G1113,[1]RewardItemConfig!$B:$F,5,FALSE)","v":1162},{"$f":"VLOOKUP(H1113,[1]RewardItemConfig!$B:$F,5,FALSE)","v":251},{"$f":"VLOOKUP(I1113,[1]RewardItemConfig!$B:$F,5,FALSE)","v":116},14,3,17,"14#1162|3#251|17#116"]
[{"$nulls":6},3001114,3006114,3011114,{"$f":"VLOOKUP(G1114,[1]RewardItemConfig!$B:$F,5,FALSE)","v":1163},{"$f":"VLOOKUP(H1114,[1]RewardItemConfig!$B:$F,5,FALSE)","v":251},{"$f":"VLOOKUP(I1114,[1]RewardItemConfig!$B:$F,5,FALSE)","v":116},14,3,17,"14#1163|3#251|17#116"]
[{"$nulls":6},3001115,3006115,3011115,{"$f":"VLOOKUP(G1115,[1]RewardItemConfig!$B:$F,5,FALSE)","v":1164},{"$f":"VLOOKUP(H1115,[1]RewardItemConfig!$B:$F,5,FALSE)","v":251},{"$f":"VLOOKUP(I1115,[1]RewardItemConfig!$B:$F,5,FALSE)","v":116},14,3,17,"14#1164|3#251|17#116"]
[{"$nulls":6},3001116,3006116,3011116,{"$f":"VLOOKUP(G1116,[1]RewardItemConfig!$B:$F,5,FALSE)","v":1165},{"$f":"VLOOKUP(H1116,[1]RewardItemConfig!$B:$F,5,FALSE)","v":251},{"$f":"VLOOKUP(I1116,[1]RewardItemConfig!$B:$F,5,FALSE)","v":116},14,3,17,"14#1165|3#251|17#116"]
[{"$nulls":6},3001117,3006117,3011117,{"$f":"VLOOKUP(G1117,[1]RewardItemConfig!$B:$F,5,FALSE)","v":1166},{"$f":"VLOOKUP(H1117,[1]RewardItemConfig!$B:$F,5,FALSE)","v":251},{"$f":"VLOOKUP(I1117,[1]RewardItemConfig!$B:$F,5,FALSE)","v":116},14,3,17,"14#1166|3#251|17#116"]
[{"$nulls":6},3001118,3006118,3011118,{"$f":"VLOOKUP(G1118,[1]RewardItemConfig!$B:$F,5,FALSE)","v":1167},{"$f":"VLOOKUP(H1118,[1]RewardItemConfig!$B:$F,5,FALSE)","v":251},{"$f":"VLOOKUP(I1118,[1]RewardItemConfig!$B:$F,5,FALSE)","v":116},14,3,17,"14#1167|3#251|17#116"]
[{"$nulls":6},3001119,3006119,3011119,{"$f":"VLOOKUP(G1119,[1]RewardItemConfig!$B:$F,5,FALSE)","v":1168},{"$f":"VLOOKUP(H1119,[1]RewardItemConfig!$B:$F,5,FALSE)","v":251},{"$f":"VLOOKUP(I1119,[1]RewardItemConfig!$B:$F,5,FALSE)","v":116},14,3,17,"14#1168|3#251|17#116"]
[{"$nulls":6},3001120,3006120,3011120,{"$f":"VLOOKUP(G1120,[1]RewardItemConfig!$B:$F,5,FALSE)","v":1169},{"$f":"VLOOKUP(H1120,[1]RewardItemConfig!$B:$F,5,FALSE)","v":254},{"$f":"VLOOKUP(I1120,[1]RewardItemConfig!$B:$F,5,FALSE)","v":117},14,3,17,"14#1169|3#254|17#117"]
[{"$nulls":6},3001121,3006121,3011121,{"$f":"VLOOKUP(G1121,[1]RewardItemConfig!$B:$F,5,FALSE)","v":1170},{"$f":"VLOOKUP(H1121,[1]RewardItemConfig!$B:$F,5,FALSE)","v":254},{"$f":"VLOOKUP(I1121,[1]RewardItemConfig!$B:$F,5,FALSE)","v":117},14,3,17,"14#1170|3#254|17#117"]
[{"$nulls":6},3001122,3006122,3011122,{"$f":"VLOOKUP(G1122,[1]RewardItemConfig!$B:$F,5,FALSE)","v":1171},{"$f":"VLOOKUP(H1122,[1]RewardItemConfig!$B:$F,5,FALSE)","v":254},{"$f":"VLOOKUP(I1122,[1]RewardItemConfig!$B:$F,5,FALSE)","v":117},14,3,17,"14#1171|3#254|17#117"]
[{"$nulls":6},3001123,3006123,3011123,{"$f":"VLOOKUP(G1123,[1]RewardItemConfig!$B:$F,5,FALSE)","v":1172},{"$f":"VLOOKUP(H1123,[1]RewardItemConfig!$B:$F,5,FALSE)","v":254},{"$f":"VLOOKUP(I1123,[1]RewardItemConfig!$B:$F,5,FALSE)","v":117},14,3,17,"14#1172|3#254|17#117"]
[{"$nulls":6},3001124,3006124,3011124,{"$f":"VLOOKUP(G1124,[1]RewardItemConfig!$B:$F,5,FALSE)","v":1173},{"$f":"VLOOKUP(H1124,[1]RewardItemConfig!$B:$F,5,FALSE)","v":254},{"$f":"VLOOKUP(I1124,[1]RewardItemConfig!$B:$F,5,FALSE)","v":117},14,3,17,"14#1173|3#254|17#117"]
[{"$nulls":6},3001125,3006125,3011125,{"$f":"VLOOKUP(G1125,[1]RewardItemConfig!$B:$F,5,FALSE)","v":1174},{"$f":"VLOOKUP(H1125,[1]RewardItemConfig!$B:$F,5,FALSE)","v":254},{"$f":"VLOOKUP(I1125,[1]RewardItemConfig!$B:$F,5,FALSE)","v":117},14,3,17,"14#1174|3#254|17#117"]
[{"$nulls":6},3001126,3006126,3011126,{"$f":"VLOOKUP(G1126,[1]RewardItemConfig!$B:$F,5,FALSE)","v":1175},{"$f":"VLOOKUP(H1126,[1]RewardItemConfig!$B:$F,5,FALSE)","v":254},{"$f":"VLOOKUP(I1126,[1]RewardItemConfig!$B:$F,5,FALSE)","v":117},14,3,17,"14#1175|3#254|17#117"]
[{"$nulls":6},3001127,3006127,3011127,{"$f":"VLOOKUP(G1127,[1]RewardItemConfig!$B:$F,5,FALSE)","v":1176},{"$f":"VLOOKUP(H1127,[1]RewardItemConfig!$B:$F,5,FALSE)","v":254},{"$f":"VLOOKUP(I1127,[1]RewardItemConfig!$B:$F,5,FALSE)","v":117},14,3,17,"14#1176|3#254|17#117"]
[{"$nulls":6},3001128,3006128,3011128,{"$f":"VLOOKUP(G1128,[1]RewardItemConfig!$B:$F,5,FALSE)","v":1177},{"$f":"VLOOKUP(H1128,[1]RewardItemConfig!$B:$F,5,FALSE)","v":254},{"$f":"VLOOKUP(I1128,[1]RewardItemConfig!$B:$F,5,FALSE)","v":117},14,3,17,"14#1177|3#254|17#117"]
[{"$nulls":6},3001129,3006129,3011129,{"$f":"VLOOKUP(G1129,[1]RewardItemConfig!$B:$F,5,FALSE)","v":1178},{"$f":"VLOOKUP(H1129,[1]RewardItemConfig!$B:$F,5,FALSE)","v":254},{"$f":"VLOOKUP(I1129,[1]RewardItemConfig!$B:$F,5,FALSE)","v":117},14,3,17,"14#1178|3#254|17#117"]
[{"$nulls":6},3001130,3006130,3011130,{"$f":"VLOOKUP(G1130,[1]RewardItemConfig!$B:$F,5,FALSE)","v":1179},{"$f":"VLOOKUP(H1130,[1]RewardItemConfig!$B:$F,5,FALSE)","v":257},{"$f":"VLOOKUP(I1130,[1]RewardItemConfig!$B:$F,5,FALSE)","v":118},14,3,17,"14#1179|3#257|17#118"]
[{"$nulls":6},3001131,3006131,3011131,{"$f":"VLOOKUP(G1131,[1]RewardItemConfig!$B:$F,5,FALSE)","v":1180},{"$f":"VLOOKUP(H1131,[1]RewardItemConfig!$B:$F,5,FALSE)","v":257},{"$f":"VLOOKUP(I1131,[1]RewardItemConfig!$B:$F,5,FALSE)","v":118},14,3,17,"14#1180|3#257|17#118"]
[{"$nulls":6},3001132,3006132,3011132,{"$f":"VLOOKUP(G1132,[1]RewardItemConfig!$B:$F,5,FALSE)","v":1181},{"$f":"VLOOKUP(H1132,[1]RewardItemConfig!$B:$F,5,FALSE)","v":257},{"$f":"VLOOKUP(I1132,[1]RewardItemConfig!$B:$F,5,FALSE)","v":118},14,3,17,"14#1181|3#257|17#118"]
[{"$nulls":6},3001133,3006133,3011133,{"$f":"VLOOKUP(G1133,[1]RewardItemConfig!$B:$F,5,FALSE)","v":1182},{"$f":"VLOOKUP(H1133,[1]RewardItemConfig!$B:$F,5,FALSE)","v":257},{"$f":"VLOOKUP(I1133,[1]RewardItemConfig!$B:$F,5,FALSE)","v":118},14,3,17,"14#1182|3#257|17#118"]
[{"$nulls":6},3001134,3006134,3011134,{"$f":"VLOOKUP(G1134,[1]RewardItemConfig!$B:$F,5,FALSE)","v":1183},{"$f":"VLOOKUP(H1134,[1]RewardItemConfig!$B:$F,5,FALSE)","v":257},{"$f":"VLOOKUP(I1134,[1]RewardItemConfig!$B:$F,5,FALSE)","v":118},14,3,17,"14#1183|3#257|17#118"]
[{"$nulls":6},3001135,3006135,3011135,{"$f":"VLOOKUP(G1135,[1]RewardItemConfig!$B:$F,5,FALSE)","v":1184},{"$f":"VLOOKUP(H1135,[1]RewardItemConfig!$B:$F,5,FALSE)","v":257},{"$f":"VLOOKUP(I1135,[1]RewardItemConfig!$B:$F,5,FALSE)","v":118},14,3,17,"14#1184|3#257|17#118"]
[{"$nulls":6},3001136,3006136,3011136,{"$f":"VLOOKUP(G1136,[1]RewardItemConfig!$B:$F,5,FALSE)","v":1185},{"$f":"VLOOKUP(H1136,[1]RewardItemConfig!$B:$F,5,FALSE)","v":257},{"$f":"VLOOKUP(I1136,[1]RewardItemConfig!$B:$F,5,FALSE)","v":118},14,3,17,"14#1185|3#257|17#118"]
[{"$nulls":6},3001137,3006137,3011137,{"$f":"VLOOKUP(G1137,[1]RewardItemConfig!$B:$F,5,FALSE)","v":1186},{"$f":"VLOOKUP(H1137,[1]RewardItemConfig!$B:$F,5,FALSE)","v":257},{"$f":"VLOOKUP(I1137,[1]RewardItemConfig!$B:$F,5,FALSE)","v":118},14,3,17,"14#1186|3#257|17#118"]
[{"$nulls":6},3001138,3006138,3011138,{"$f":"VLOOKUP(G1138,[1]RewardItemConfig!$B:$F,5,FALSE)","v":1187},{"$f":"VLOOKUP(H1138,[1]RewardItemConfig!$B:$F,5,FALSE)","v":257},{"$f":"VLOOKUP(I1138,[1]RewardItemConfig!$B:$F,5,FALSE)","v":118},14,3,17,"14#1187|3#257|17#118"]
[{"$nulls":6},3001139,3006139,3011139,{"$f":"VLOOKUP(G1139,[1]RewardItemConfig!$B:$F,5,FALSE)","v":1188},{"$f":"VLOOKUP(H1139,[1]RewardItemConfig!$B:$F,5,FALSE)","v":257},{"$f":"VLOOKUP(I1139,[1]RewardItemConfig!$B:$F,5,FALSE)","v":118},14,3,17,"14#1188|3#257|17#118"]
[{"$nulls":6},3001140,3006140,3011140,{"$f":"VLOOKUP(G1140,[1]RewardItemConfig!$B:$F,5,FALSE)","v":1189},{"$f":"VLOOKUP(H1140,[1]RewardItemConfig!$B:$F,5,FALSE)","v":260},{"$f":"VLOOKUP(I1140,[1]RewardItemConfig!$B:$F,5,FALSE)","v":119},14,3,17,"14#1189|3#260|17#119"]
[{"$nulls":6},3001141,3006141,3011141,{"$f":"VLOOKUP(G1141,[1]RewardItemConfig!$B:$F,5,FALSE)","v":1190},{"$f":"VLOOKUP(H1141,[1]RewardItemConfig!$B:$F,5,FALSE)","v":260},{"$f":"VLOOKUP(I1141,[1]RewardItemConfig!$B:$F,5,FALSE)","v":119},14,3,17,"14#1190|3#260|17#119"]
[{"$nulls":6},3001142,3006142,3011142,{"$f":"VLOOKUP(G1142,[1]RewardItemConfig!$B:$F,5,FALSE)","v":1191},{"$f":"VLOOKUP(H1142,[1]RewardItemConfig!$B:$F,5,FALSE)","v":260},{"$f":"VLOOKUP(I1142,[1]RewardItemConfig!$B:$F,5,FALSE)","v":119},14,3,17,"14#1191|3#260|17#119"]
[{"$nulls":6},3001143,3006143,3011143,{"$f":"VLOOKUP(G1143,[1]RewardItemConfig!$B:$F,5,FALSE)","v":1192},{"$f":"VLOOKUP(H1143,[1]RewardItemConfig!$B:$F,5,FALSE)","v":260},{"$f":"VLOOKUP(I1143,[1]RewardItemConfig!$B:$F,5,FALSE)","v":119},14,3,17,"14#1192|3#260|17#119"]
[{"$nulls":6},3001144,3006144,3011144,{"$f":"VLOOKUP(G1144,[1]RewardItemConfig!$B:$F,5,FALSE)","v":1193},{"$f":"VLOOKUP(H1144,[1]RewardItemConfig!$B:$F,5,FALSE)","v":260},{"$f":"VLOOKUP(I1144,[1]RewardItemConfig!$B:$F,5,FALSE)","v":119},14,3,17,"14#1193|3#260|17#119"]
[{"$nulls":6},3001145,3006145,3011145,{"$f":"VLOOKUP(G1145,[1]RewardItemConfig!$B:$F,5,FALSE)","v":1194},{"$f":"VLOOKUP(H1145,[1]RewardItemConfig!$B:$F,5,FALSE)","v":260},{"$f":"VLOOKUP(I1145,[1]RewardItemConfig!$B:$F,5,FALSE)","v":119},14,3,17,"14#1194|3#260|17#119"]
[{"$nulls":6},3001146,3006146,3011146,{"$f":"VLOOKUP(G1146,[1]RewardItemConfig!$B:$F,5,FALSE)","v":1195},{"$f":"VLOOKUP(H1146,[1]RewardItemConfig!$B:$F,5,FALSE)","v":260},{"$f":"VLOOKUP(I1146,[1]RewardItemConfig!$B:$F,5,FALSE)","v":119},14,3,17,"14#1195|3#260|17#119"]
[{"$nulls":6},3001147,3006147,3011147,{"$f":"VLOOKUP(G1147,[1]RewardItemConfig!$B:$F,5,FALSE)","v":1196},{"$f":"VLOOKUP(H1147,[1]RewardItemConfig!$B:$F,5,FALSE)","v":260},{"$f":"VLOOKUP(I1147,[1]RewardItemConfig!$B:$F,5,FALSE)","v":119},14,3,17,"14#1196|3#260|17#119"]
[{"$nulls":6},3001148,3006148,3011148,{"$f":"VLOOKUP(G1148,[1]RewardItemConfig!$B:$F,5,FALSE)","v":1197},{"$f":"VLOOKUP(H1148,[1]RewardItemConfig!$B:$F,5,FALSE)","v":260},{"$f":"VLOOKUP(I1148,[1]RewardItemConfig!$B:$F,5,FALSE)","v":119},14,3,17,"14#1197|3#260|17#119"]
[{"$nulls":6},3001149,3006149,3011149,{"$f":"VLOOKUP(G1149,[1]RewardItemConfig!$B:$F,5,FALSE)","v":1198},{"$f":"VLOOKUP(H1149,[1]RewardItemConfig!$B:$F,5,FALSE)","v":260},{"$f":"VLOOKUP(I1149,[1]RewardItemConfig!$B:$F,5,FALSE)","v":119},14,3,17,"14#1198|3#260|17#119"]
[{"$nulls":6},3001150,3006150,3011150,{"$f":"VLOOKUP(G1150,[1]RewardItemConfig!$B:$F,5,FALSE)","v":1199},{"$f":"VLOOKUP(H1150,[1]RewardItemConfig!$B:$F,5,FALSE)","v":263},{"$f":"VLOOKUP(I1150,[1]RewardItemConfig!$B:$F,5,FALSE)","v":120},14,3,17,"14#1199|3#263|17#120"]
[{"$nulls":6},3001151,3006151,3011151,{"$f":"VLOOKUP(G1151,[1]RewardItemConfig!$B:$F,5,FALSE)","v":1200},{"$f":"VLOOKUP(H1151,[1]RewardItemConfig!$B:$F,5,FALSE)","v":263},{"$f":"VLOOKUP(I1151,[1]RewardItemConfig!$B:$F,5,FALSE)","v":120},14,3,17,"14#1200|3#263|17#120"]
[{"$nulls":6},3001152,3006152,3011152,{"$f":"VLOOKUP(G1152,[1]RewardItemConfig!$B:$F,5,FALSE)","v":1201},{"$f":"VLOOKUP(H1152,[1]RewardItemConfig!$B:$F,5,FALSE)","v":263},{"$f":"VLOOKUP(I1152,[1]RewardItemConfig!$B:$F,5,FALSE)","v":120},14,3,17,"14#1201|3#263|17#120"]
[{"$nulls":6},3001153,3006153,3011153,{"$f":"VLOOKUP(G1153,[1]RewardItemConfig!$B:$F,5,FALSE)","v":1202},{"$f":"VLOOKUP(H1153,[1]RewardItemConfig!$B:$F,5,FALSE)","v":263},{"$f":"VLOOKUP(I1153,[1]RewardItemConfig!$B:$F,5,FALSE)","v":120},14,3,17,"14#1202|3#263|17#120"]
[{"$nulls":6},3001154,3006154,3011154,{"$f":"VLOOKUP(G1154,[1]RewardItemConfig!$B:$F,5,FALSE)","v":1203},{"$f":"VLOOKUP(H1154,[1]RewardItemConfig!$B:$F,5,FALSE)","v":263},{"$f":"VLOOKUP(I1154,[1]RewardItemConfig!$B:$F,5,FALSE)","v":120},14,3,17,{"$f":"M1154&\"#\"&J1154&\"|\"&N1154&\"#\"&K1154&\"|\"&O1154&\"#\"&L1154","v":"14#1203|3#263|17#120"}]
[{"$nulls":6},3001155,3006155,3011155,{"$f":"VLOOKUP(G1155,[1]RewardItemConfig!$B:$F,5,FALSE)","v":1204},{"$f":"VLOOKUP(H1155,[1]RewardItemConfig!$B:$F,5,FALSE)","v":263},{"$f":"VLOOKUP(I1155,[1]RewardItemConfig!$B:$F,5,FALSE)","v":120},{"$f":"M1154","v":14},{"$f":"N1154","v":3},{"$f":"O1154","v":17},"14#1204|3#263|17#120"]
[{"$nulls":6},3001156,3006156,3011156,{"$f":"VLOOKUP(G1156,[1]RewardItemConfig!$B:$F,5,FALSE)","v":1205},{"$f":"VLOOKUP(H1156,[1]RewardItemConfig!$B:$F,5,FALSE)","v":263},{"$f":"VLOOKUP(I1156,[1]RewardItemConfig!$B:$F,5,FALSE)","v":120},14,3,17,"14#1205|3#263|17#120"]
[{"$nulls":6},3001157,3006157,3011157,{"$f":"VLOOKUP(G1157,[1]RewardItemConfig!$B:$F,5,FALSE)","v":1206},{"$f":"VLOOKUP(H1157,[1]RewardItemConfig!$B:$F,5,FALSE)","v":263},{"$f":"VLOOKUP(I1157,[1]RewardItemConfig!$B:$F,5,FALSE)","v":120},14,3,17,"14#1206|3#263|17#120"]
[{"$nulls":6},3001158,3006158,3011158,{"$f":"VLOOKUP(G1158,[1]RewardItemConfig!$B:$F,5,FALSE)","v":1207},{"$f":"VLOOKUP(H1158,[1]RewardItemConfig!$B:$F,5,FALSE)","v":263},{"$f":"VLOOKUP(I1158,[1]RewardItemConfig!$B:$F,5,FALSE)","v":120},14,3,17,"14#1207|3#263|17#120"]
[{"$nulls":6},3001159,3006159,3011159,{"$f":"VLOOKUP(G1159,[1]RewardItemConfig!$B:$F,5,FALSE)","v":1208},{"$f":"VLOOKUP(H1159,[1]RewardItemConfig!$B:$F,5,FALSE)","v":263},{"$f":"VLOOKUP(I1159,[1]RewardItemConfig!$B:$F,5,FALSE)","v":120},14,3,17,"14#1208|3#263|17#120"]
[{"$nulls":6},3001160,3006160,3011160,{"$f":"VLOOKUP(G1160,[1]RewardItemConfig!$B:$F,5,FALSE)","v":1209},{"$f":"VLOOKUP(H1160,[1]RewardItemConfig!$B:$F,5,FALSE)","v":266},{"$f":"VLOOKUP(I1160,[1]RewardItemConfig!$B:$F,5,FALSE)","v":121},14,3,17,"14#1209|3#266|17#121"]
[{"$nulls":6},3001161,3006161,3011161,{"$f":"VLOOKUP(G1161,[1]RewardItemConfig!$B:$F,5,FALSE)","v":1210},{"$f":"VLOOKUP(H1161,[1]RewardItemConfig!$B:$F,5,FALSE)","v":266},{"$f":"VLOOKUP(I1161,[1]RewardItemConfig!$B:$F,5,FALSE)","v":121},14,3,17,"14#1210|3#266|17#121"]
[{"$nulls":6},3001162,3006162,3011162,{"$f":"VLOOKUP(G1162,[1]RewardItemConfig!$B:$F,5,FALSE)","v":1211},{"$f":"VLOOKUP(H1162,[1]RewardItemConfig!$B:$F,5,FALSE)","v":266},{"$f":"VLOOKUP(I1162,[1]RewardItemConfig!$B:$F,5,FALSE)","v":121},14,3,17,"14#1211|3#266|17#121"]
[{"$nulls":6},3001163,3006163,3011163,{"$f":"VLOOKUP(G1163,[1]RewardItemConfig!$B:$F,5,FALSE)","v":1212},{"$f":"VLOOKUP(H1163,[1]RewardItemConfig!$B:$F,5,FALSE)","v":266},{"$f":"VLOOKUP(I1163,[1]RewardItemConfig!$B:$F,5,FALSE)","v":121},14,3,17,"14#1212|3#266|17#121"]
[{"$nulls":6},3001164,3006164,3011164,{"$f":"VLOOKUP(G1164,[1]RewardItemConfig!$B:$F,5,FALSE)","v":1213},{"$f":"VLOOKUP(H1164,[1]RewardItemConfig!$B:$F,5,FALSE)","v":266},{"$f":"VLOOKUP(I1164,[1]RewardItemConfig!$B:$F,5,FALSE)","v":121},14,3,17,"14#1213|3#266|17#121"]
[{"$nulls":6},3001165,3006165,3011165,{"$f":"VLOOKUP(G1165,[1]RewardItemConfig!$B:$F,5,FALSE)","v":1214},{"$f":"VLOOKUP(H1165,[1]RewardItemConfig!$B:$F,5,FALSE)","v":266},{"$f":"VLOOKUP(I1165,[1]RewardItemConfig!$B:$F,5,FALSE)","v":121},14,3,17,"14#1214|3#266|17#121"]
[{"$nulls":6},3001166,3006166,3011166,{"$f":"VLOOKUP(G1166,[1]RewardItemConfig!$B:$F,5,FALSE)","v":1215},{"$f":"VLOOKUP(H1166,[1]RewardItemConfig!$B:$F,5,FALSE)","v":266},{"$f":"VLOOKUP(I1166,[1]RewardItemConfig!$B:$F,5,FALSE)","v":121},14,3,17,"14#1215|3#266|17#121"]
[{"$nulls":6},3001167,3006167,3011167,{"$f":"VLOOKUP(G1167,[1]RewardItemConfig!$B:$F,5,FALSE)","v":1216},{"$f":"VLOOKUP(H1167,[1]RewardItemConfig!$B:$F,5,FALSE)","v":266},{"$f":"VLOOKUP(I1167,[1]RewardItemConfig!$B:$F,5,FALSE)","v":121},14,3,17,"14#1216|3#266|17#121"]
[{"$nulls":6},3001168,3006168,3011168,{"$f":"VLOOKUP(G1168,[1]RewardItemConfig!$B:$F,5,FALSE)","v":1217},{"$f":"VLOOKUP(H1168,[1]RewardItemConfig!$B:$F,5,FALSE)","v":266},{"$f":"VLOOKUP(I1168,[1]RewardItemConfig!$B:$F,5,FALSE)","v":121},14,3,17,"14#1217|3#266|17#121"]
[{"$nulls":6},3001169,3006169,3011169,{"$f":"VLOOKUP(G1169,[1]RewardItemConfig!$B:$F,5,FALSE)","v":1218},{"$f":"VLOOKUP(H1169,[1]RewardItemConfig!$B:$F,5,FALSE)","v":266},{"$f":"VLOOKUP(I1169,[1]RewardItemConfig!$B:$F,5,FALSE)","v":121},14,3,17,"14#1218|3#266|17#121"]
[{"$nulls":6},3001170,3006170,3011170,{"$f":"VLOOKUP(G1170,[1]RewardItemConfig!$B:$F,5,FALSE)","v":1219},{"$f":"VLOOKUP(H1170,[1]RewardItemConfig!$B:$F,5,FALSE)","v":269},{"$f":"VLOOKUP(I1170,[1]RewardItemConfig!$B:$F,5,FALSE)","v":122},14,3,17,"14#1219|3#269|17#122"]
[{"$nulls":6},3001171,3006171,3011171,{"$f":"VLOOKUP(G1171,[1]RewardItemConfig!$B:$F,5,FALSE)","v":1220},{"$f":"VLOOKUP(H1171,[1]RewardItemConfig!$B:$F,5,FALSE)","v":269},{"$f":"VLOOKUP(I1171,[1]RewardItemConfig!$B:$F,5,FALSE)","v":122},14,3,17,"14#1220|3#269|17#122"]
[{"$nulls":6},3001172,3006172,3011172,{"$f":"VLOOKUP(G1172,[1]RewardItemConfig!$B:$F,5,FALSE)","v":1221},{"$f":"VLOOKUP(H1172,[1]RewardItemConfig!$B:$F,5,FALSE)","v":269},{"$f":"VLOOKUP(I1172,[1]RewardItemConfig!$B:$F,5,FALSE)","v":122},14,3,17,"14#1221|3#269|17#122"]
[{"$nulls":6},3001173,3006173,3011173,{"$f":"VLOOKUP(G1173,[1]RewardItemConfig!$B:$F,5,FALSE)","v":1222},{"$f":"VLOOKUP(H1173,[1]RewardItemConfig!$B:$F,5,FALSE)","v":269},{"$f":"VLOOKUP(I1173,[1]RewardItemConfig!$B:$F,5,FALSE)","v":122},14,3,17,"14#1222|3#269|17#122"]
[{"$nulls":6},3001174,3006174,3011174,{"$f":"VLOOKUP(G1174,[1]RewardItemConfig!$B:$F,5,FALSE)","v":1223},{"$f":"VLOOKUP(H1174,[1]RewardItemConfig!$B:$F,5,FALSE)","v":269},{"$f":"VLOOKUP(I1174,[1]RewardItemConfig!$B:$F,5,FALSE)","v":122},14,3,17,"14#1223|3#269|17#122"]
[{"$nulls":6},3001175,3006175,3011175,{"$f":"VLOOKUP(G1175,[1]RewardItemConfig!$B:$F,5,FALSE)","v":1224},{"$f":"VLOOKUP(H1175,[1]RewardItemConfig!$B:$F,5,FALSE)","v":269},{"$f":"VLOOKUP(I1175,[1]RewardItemConfig!$B:$F,5,FALSE)","v":122},14,3,17,"14#1224|3#269|17#122"]
[{"$nulls":6},3001176,3006176,3011176,{"$f":"VLOOKUP(G1176,[1]RewardItemConfig!$B:$F,5,FALSE)","v":1225},{"$f":"VLOOKUP(H1176,[1]RewardItemConfig!$B:$F,5,FALSE)","v":269},{"$f":"VLOOKUP(I1176,[1]RewardItemConfig!$B:$F,5,FALSE)","v":122},14,3,17,"14#1225|3#269|17#122"]
[{"$nulls":6},3001177,3006177,3011177,{"$f":"VLOOKUP(G1177,[1]RewardItemConfig!$B:$F,5,FALSE)","v":1226},{"$f":"VLOOKUP(H1177,[1]RewardItemConfig!$B:$F,5,FALSE)","v":269},{"$f":"VLOOKUP(I1177,[1]RewardItemConfig!$B:$F,5,FALSE)","v":122},14,3,17,"14#1226|3#269|17#122"]
[{"$nulls":6},3001178,3006178,3011178,{"$f":"VLOOKUP(G1178,[1]RewardItemConfig!$B:$F,5,FALSE)","v":1227},{"$f":"VLOOKUP(H1178,[1]RewardItemConfig!$B:$F,5,FALSE)","v":269},{"$f":"VLOOKUP(I1178,[1]RewardItemConfig!$B:$F,5,FALSE)","v":122},14,3,17,"14#1227|3#269|17#122"]
[{"$nulls":6},3001179,3006179,3011179,{"$f":"VLOOKUP(G1179,[1]RewardItemConfig!$B:$F,5,FALSE)","v":1228},{"$f":"VLOOKUP(H1179,[1]RewardItemConfig!$B:$F,5,FALSE)","v":269},{"$f":"VLOOKUP(I1179,[1]RewardItemConfig!$B:$F,5,FALSE)","v":122},14,3,17,"14#1228|3#269|17#122"]
[{"$nulls":6},3001180,3006180,3011180,{"$f":"VLOOKUP(G1180,[1]RewardItemConfig!$B:$F,5,FALSE)","v":1229},{"$f":"VLOOKUP(H1180,[1]RewardItemConfig!$B:$F,5,FALSE)","v":272},{"$f":"VLOOKUP(I1180,[1]RewardItemConfig!$B:$F,5,FALSE)","v":123},14,3,17,"14#1229|3#272|17#123"]
[{"$nulls":6},3001181,3006181,3011181,{"$f":"VLOOKUP(G1181,[1]RewardItemConfig!$B:$F,5,FALSE)","v":1230},{"$f":"VLOOKUP(H1181,[1]RewardItemConfig!$B:$F,5,FALSE)","v":272},{"$f":"VLOOKUP(I1181,[1]RewardItemConfig!$B:$F,5,FALSE)","v":123},14,3,17,"14#1230|3#272|17#123"]
[{"$nulls":6},3001182,3006182,3011182,{"$f":"VLOOKUP(G1182,[1]RewardItemConfig!$B:$F,5,FALSE)","v":1231},{"$f":"VLOOKUP(H1182,[1]RewardItemConfig!$B:$F,5,FALSE)","v":272},{"$f":"VLOOKUP(I1182,[1]RewardItemConfig!$B:$F,5,FALSE)","v":123},14,3,17,"14#1231|3#272|17#123"]
[{"$nulls":6},3001183,3006183,3011183,{"$f":"VLOOKUP(G1183,[1]RewardItemConfig!$B:$F,5,FALSE)","v":1232},{"$f":"VLOOKUP(H1183,[1]RewardItemConfig!$B:$F,5,FALSE)","v":272},{"$f":"VLOOKUP(I1183,[1]RewardItemConfig!$B:$F,5,FALSE)","v":123},14,3,17,"14#1232|3#272|17#123"]
[{"$nulls":6},3001184,3006184,3011184,{"$f":"VLOOKUP(G1184,[1]RewardItemConfig!$B:$F,5,FALSE)","v":1233},{"$f":"VLOOKUP(H1184,[1]RewardItemConfig!$B:$F,5,FALSE)","v":272},{"$f":"VLOOKUP(I1184,[1]RewardItemConfig!$B:$F,5,FALSE)","v":123},14,3,17,"14#1233|3#272|17#123"]
[{"$nulls":6},3001185,3006185,3011185,{"$f":"VLOOKUP(G1185,[1]RewardItemConfig!$B:$F,5,FALSE)","v":1234},{"$f":"VLOOKUP(H1185,[1]RewardItemConfig!$B:$F,5,FALSE)","v":272},{"$f":"VLOOKUP(I1185,[1]RewardItemConfig!$B:$F,5,FALSE)","v":123},14,3,17,"14#1234|3#272|17#123"]
[{"$nulls":6},3001186,3006186,3011186,{"$f":"VLOOKUP(G1186,[1]RewardItemConfig!$B:$F,5,FALSE)","v":1235},{"$f":"VLOOKUP(H1186,[1]RewardItemConfig!$B:$F,5,FALSE)","v":272},{"$f":"VLOOKUP(I1186,[1]RewardItemConfig!$B:$F,5,FALSE)","v":123},14,3,17,"14#1235|3#272|17#123"]
[{"$nulls":6},3001187,3006187,3011187,{"$f":"VLOOKUP(G1187,[1]RewardItemConfig!$B:$F,5,FALSE)","v":1236},{"$f":"VLOOKUP(H1187,[1]RewardItemConfig!$B:$F,5,FALSE)","v":272},{"$f":"VLOOKUP(I1187,[1]RewardItemConfig!$B:$F,5,FALSE)","v":123},14,3,17,"14#1236|3#272|17#123"]
[{"$nulls":6},3001188,3006188,3011188,{"$f":"VLOOKUP(G1188,[1]RewardItemConfig!$B:$F,5,FALSE)","v":1237},{"$f":"VLOOKUP(H1188,[1]RewardItemConfig!$B:$F,5,FALSE)","v":272},{"$f":"VLOOKUP(I1188,[1]RewardItemConfig!$B:$F,5,FALSE)","v":123},14,3,17,"14#1237|3#272|17#123"]
[{"$nulls":6},3001189,3006189,3011189,{"$f":"VLOOKUP(G1189,[1]RewardItemConfig!$B:$F,5,FALSE)","v":1238},{"$f":"VLOOKUP(H1189,[1]RewardItemConfig!$B:$F,5,FALSE)","v":272},{"$f":"VLOOKUP(I1189,[1]RewardItemConfig!$B:$F,5,FALSE)","v":123},14,3,17,"14#1238|3#272|17#123"]
[{"$nulls":6},3001190,3006190,3011190,{"$f":"VLOOKUP(G1190,[1]RewardItemConfig!$B:$F,5,FALSE)","v":1239},{"$f":"VLOOKUP(H1190,[1]RewardItemConfig!$B:$F,5,FALSE)","v":275},{"$f":"VLOOKUP(I1190,[1]RewardItemConfig!$B:$F,5,FALSE)","v":124},14,3,17,"14#1239|3#275|17#124"]
[{"$nulls":6},3001191,3006191,3011191,{"$f":"VLOOKUP(G1191,[1]RewardItemConfig!$B:$F,5,FALSE)","v":1240},{"$f":"VLOOKUP(H1191,[1]RewardItemConfig!$B:$F,5,FALSE)","v":275},{"$f":"VLOOKUP(I1191,[1]RewardItemConfig!$B:$F,5,FALSE)","v":124},14,3,17,"14#1240|3#275|17#124"]
[{"$nulls":6},3001192,3006192,3011192,{"$f":"VLOOKUP(G1192,[1]RewardItemConfig!$B:$F,5,FALSE)","v":1241},{"$f":"VLOOKUP(H1192,[1]RewardItemConfig!$B:$F,5,FALSE)","v":275},{"$f":"VLOOKUP(I1192,[1]RewardItemConfig!$B:$F,5,FALSE)","v":124},14,3,17,"14#1241|3#275|17#124"]
[{"$nulls":6},3001193,3006193,3011193,{"$f":"VLOOKUP(G1193,[1]RewardItemConfig!$B:$F,5,FALSE)","v":1242},{"$f":"VLOOKUP(H1193,[1]RewardItemConfig!$B:$F,5,FALSE)","v":275},{"$f":"VLOOKUP(I1193,[1]RewardItemConfig!$B:$F,5,FALSE)","v":124},14,3,17,"14#1242|3#275|17#124"]
[{"$nulls":6},3001194,3006194,3011194,{"$f":"VLOOKUP(G1194,[1]RewardItemConfig!$B:$F,5,FALSE)","v":1243},{"$f":"VLOOKUP(H1194,[1]RewardItemConfig!$B:$F,5,FALSE)","v":275},{"$f":"VLOOKUP(I1194,[1]RewardItemConfig!$B:$F,5,FALSE)","v":124},14,3,17,"14#1243|3#275|17#124"]
[{"$nulls":6},3001195,3006195,3011195,{"$f":"VLOOKUP(G1195,[1]RewardItemConfig!$B:$F,5,FALSE)","v":1244},{"$f":"VLOOKUP(H1195,[1]RewardItemConfig!$B:$F,5,FALSE)","v":275},{"$f":"VLOOKUP(I1195,[1]RewardItemConfig!$B:$F,5,FALSE)","v":124},14,3,17,"14#1244|3#275|17#124"]
[{"$nulls":6},3001196,3006196,3011196,{"$f":"VLOOKUP(G1196,[1]RewardItemConfig!$B:$F,5,FALSE)","v":1245},{"$f":"VLOOKUP(H1196,[1]RewardItemConfig!$B:$F,5,FALSE)","v":275},{"$f":"VLOOKUP(I1196,[1]RewardItemConfig!$B:$F,5,FALSE)","v":124},14,3,17,"14#1245|3#275|17#124"]
[{"$nulls":6},3001197,3006197,3011197,{"$f":"VLOOKUP(G1197,[1]RewardItemConfig!$B:$F,5,FALSE)","v":1246},{"$f":"VLOOKUP(H1197,[1]RewardItemConfig!$B:$F,5,FALSE)","v":275},{"$f":"VLOOKUP(I1197,[1]RewardItemConfig!$B:$F,5,FALSE)","v":124},14,3,17,"14#1246|3#275|17#124"]
[{"$nulls":6},3001198,3006198,3011198,{"$f":"VLOOKUP(G1198,[1]RewardItemConfig!$B:$F,5,FALSE)","v":1247},{"$f":"VLOOKUP(H1198,[1]RewardItemConfig!$B:$F,5,FALSE)","v":275},{"$f":"VLOOKUP(I1198,[1]RewardItemConfig!$B:$F,5,FALSE)","v":124},14,3,17,"14#1247|3#275|17#124"]
[{"$nulls":6},3001199,3006199,3011199,{"$f":"VLOOKUP(G1199,[1]RewardItemConfig!$B:$F,5,FALSE)","v":1248},{"$f":"VLOOKUP(H1199,[1]RewardItemConfig!$B:$F,5,FALSE)","v":275},{"$f":"VLOOKUP(I1199,[1]RewardItemConfig!$B:$F,5,FALSE)","v":124},14,3,17,"14#1248|3#275|17#124"]
[{"$nulls":6},3001200,3006200,3011200,{"$f":"VLOOKUP(G1200,[1]RewardItemConfig!$B:$F,5,FALSE)","v":1249},{"$f":"VLOOKUP(H1200,[1]RewardItemConfig!$B:$F,5,FALSE)","v":278},{"$f":"VLOOKUP(I1200,[1]RewardItemConfig!$B:$F,5,FALSE)","v":125},14,3,17,"14#1249|3#278|17#125"]
[{"$nulls":6},3001201,3006201,3011201,{"$f":"VLOOKUP(G1201,[1]RewardItemConfig!$B:$F,5,FALSE)","v":1250},{"$f":"VLOOKUP(H1201,[1]RewardItemConfig!$B:$F,5,FALSE)","v":278},{"$f":"VLOOKUP(I1201,[1]RewardItemConfig!$B:$F,5,FALSE)","v":125},14,3,17,"14#1250|3#278|17#125"]
[{"$nulls":6},3001202,3006202,3011202,{"$f":"VLOOKUP(G1202,[1]RewardItemConfig!$B:$F,5,FALSE)","v":1251},{"$f":"VLOOKUP(H1202,[1]RewardItemConfig!$B:$F,5,FALSE)","v":278},{"$f":"VLOOKUP(I1202,[1]RewardItemConfig!$B:$F,5,FALSE)","v":125},14,3,17,"14#1251|3#278|17#125"]
[{"$nulls":6},3001203,3006203,3011203,{"$f":"VLOOKUP(G1203,[1]RewardItemConfig!$B:$F,5,FALSE)","v":1252},{"$f":"VLOOKUP(H1203,[1]RewardItemConfig!$B:$F,5,FALSE)","v":278},{"$f":"VLOOKUP(I1203,[1]RewardItemConfig!$B:$F,5,FALSE)","v":125},14,3,17,"14#1252|3#278|17#125"]
[{"$nulls":6},3001204,3006204,3011204,{"$f":"VLOOKUP(G1204,[1]RewardItemConfig!$B:$F,5,FALSE)","v":1253},{"$f":"VLOOKUP(H1204,[1]RewardItemConfig!$B:$F,5,FALSE)","v":278},{"$f":"VLOOKUP(I1204,[1]RewardItemConfig!$B:$F,5,FALSE)","v":125},14,3,17,"14#1253|3#278|17#125"]
[{"$nulls":6},3001205,3006205,3011205,{"$f":"VLOOKUP(G1205,[1]RewardItemConfig!$B:$F,5,FALSE)","v":1254},{"$f":"VLOOKUP(H1205,[1]RewardItemConfig!$B:$F,5,FALSE)","v":278},{"$f":"VLOOKUP(I1205,[1]RewardItemConfig!$B:$F,5,FALSE)","v":125},14,3,17,"14#1254|3#278|17#125"]
[{"$nulls":6},3001206,3006206,3011206,{"$f":"VLOOKUP(G1206,[1]RewardItemConfig!$B:$F,5,FALSE)","v":1255},{"$f":"VLOOKUP(H1206,[1]RewardItemConfig!$B:$F,5,FALSE)","v":278},{"$f":"VLOOKUP(I1206,[1]RewardItemConfig!$B:$F,5,FALSE)","v":125},14,3,17,"14#1255|3#278|17#125"]
[{"$nulls":6},3001207,3006207,3011207,{"$f":"VLOOKUP(G1207,[1]RewardItemConfig!$B:$F,5,FALSE)","v":1256},{"$f":"VLOOKUP(H1207,[1]RewardItemConfig!$B:$F,5,FALSE)","v":278},{"$f":"VLOOKUP(I1207,[1]RewardItemConfig!$B:$F,5,FALSE)","v":125},14,3,17,"14#1256|3#278|17#125"]
[{"$nulls":6},3001208,3006208,3011208,{"$f":"VLOOKUP(G1208,[1]RewardItemConfig!$B:$F,5,FALSE)","v":1257},{"$f":"VLOOKUP(H1208,[1]RewardItemConfig!$B:$F,5,FALSE)","v":278},{"$f":"VLOOKUP(I1208,[1]RewardItemConfig!$B:$F,5,FALSE)","v":125},14,3,17,"14#1257|3#278|17#125"]
[{"$nulls":6},3001209,3006209,3011209,{"$f":"VLOOKUP(G1209,[1]RewardItemConfig!$B:$F,5,FALSE)","v":1258},{"$f":"VLOOKUP(H1209,[1]RewardItemConfig!$B:$F,5,FALSE)","v":278},{"$f":"VLOOKUP(I1209,[1]RewardItemConfig!$B:$F,5,FALSE)","v":125},14,3,17,"14#1258|3#278|17#125"]
[{"$nulls":6},3001210,3006210,3011210,{"$f":"VLOOKUP(G1210,[1]RewardItemConfig!$B:$F,5,FALSE)","v":1259},{"$f":"VLOOKUP(H1210,[1]RewardItemConfig!$B:$F,5,FALSE)","v":281},{"$f":"VLOOKUP(I1210,[1]RewardItemConfig!$B:$F,5,FALSE)","v":126},14,3,17,"14#1259|3#281|17#126"]
[{"$nulls":6},3001211,3006211,3011211,{"$f":"VLOOKUP(G1211,[1]RewardItemConfig!$B:$F,5,FALSE)","v":1260},{"$f":"VLOOKUP(H1211,[1]RewardItemConfig!$B:$F,5,FALSE)","v":281},{"$f":"VLOOKUP(I1211,[1]RewardItemConfig!$B:$F,5,FALSE)","v":126},14,3,17,"14#1260|3#281|17#126"]
[{"$nulls":6},3001212,3006212,3011212,{"$f":"VLOOKUP(G1212,[1]RewardItemConfig!$B:$F,5,FALSE)","v":1261},{"$f":"VLOOKUP(H1212,[1]RewardItemConfig!$B:$F,5,FALSE)","v":281},{"$f":"VLOOKUP(I1212,[1]RewardItemConfig!$B:$F,5,FALSE)","v":126},14,3,17,"14#1261|3#281|17#126"]
[{"$nulls":6},3001213,3006213,3011213,{"$f":"VLOOKUP(G1213,[1]RewardItemConfig!$B:$F,5,FALSE)","v":1262},{"$f":"VLOOKUP(H1213,[1]RewardItemConfig!$B:$F,5,FALSE)","v":281},{"$f":"VLOOKUP(I1213,[1]RewardItemConfig!$B:$F,5,FALSE)","v":126},14,3,17,"14#1262|3#281|17#126"]
[{"$nulls":6},3001214,3006214,3011214,{"$f":"VLOOKUP(G1214,[1]RewardItemConfig!$B:$F,5,FALSE)","v":1263},{"$f":"VLOOKUP(H1214,[1]RewardItemConfig!$B:$F,5,FALSE)","v":281},{"$f":"VLOOKUP(I1214,[1]RewardItemConfig!$B:$F,5,FALSE)","v":126},14,3,17,"14#1263|3#281|17#126"]
[{"$nulls":6},3001215,3006215,3011215,{"$f":"VLOOKUP(G1215,[1]RewardItemConfig!$B:$F,5,FALSE)","v":1264},{"$f":"VLOOKUP(H1215,[1]RewardItemConfig!$B:$F,5,FALSE)","v":281},{"$f":"VLOOKUP(I1215,[1]RewardItemConfig!$B:$F,5,FALSE)","v":126},14,3,17,"14#1264|3#281|17#126"]
[{"$nulls":6},3001216,3006216,3011216,{"$f":"VLOOKUP(G1216,[1]RewardItemConfig!$B:$F,5,FALSE)","v":1265},{"$f":"VLOOKUP(H1216,[1]RewardItemConfig!$B:$F,5,FALSE)","v":281},{"$f":"VLOOKUP(I1216,[1]RewardItemConfig!$B:$F,5,FALSE)","v":126},14,3,17,"14#1265|3#281|17#126"]
[{"$nulls":6},3001217,3006217,3011217,{"$f":"VLOOKUP(G1217,[1]RewardItemConfig!$B:$F,5,FALSE)","v":1266},{"$f":"VLOOKUP(H1217,[1]RewardItemConfig!$B:$F,5,FALSE)","v":281},{"$f":"VLOOKUP(I1217,[1]RewardItemConfig!$B:$F,5,FALSE)","v":126},14,3,17,"14#1266|3#281|17#126"]
[{"$nulls":6},3001218,3006218,3011218,{"$f":"VLOOKUP(G1218,[1]RewardItemConfig!$B:$F,5,FALSE)","v":1267},{"$f":"VLOOKUP(H1218,[1]RewardItemConfig!$B:$F,5,FALSE)","v":281},{"$f":"VLOOKUP(I1218,[1]RewardItemConfig!$B:$F,5,FALSE)","v":126},14,3,17,{"$f":"M1218&\"#\"&J1218&\"|\"&N1218&\"#\"&K1218&\"|\"&O1218&\"#\"&L1218","v":"14#1267|3#281|17#126"}]
[{"$nulls":6},3001219,3006219,3011219,{"$f":"VLOOKUP(G1219,[1]RewardItemConfig!$B:$F,5,FALSE)","v":1268},{"$f":"VLOOKUP(H1219,[1]RewardItemConfig!$B:$F,5,FALSE)","v":281},{"$f":"VLOOKUP(I1219,[1]RewardItemConfig!$B:$F,5,FALSE)","v":126},{"$f":"M1218","v":14},{"$f":"N1218","v":3},{"$f":"O1218","v":17},"14#1268|3#281|17#126"]
[{"$nulls":6},3001220,3006220,3011220,{"$f":"VLOOKUP(G1220,[1]RewardItemConfig!$B:$F,5,FALSE)","v":1269},{"$f":"VLOOKUP(H1220,[1]RewardItemConfig!$B:$F,5,FALSE)","v":284},{"$f":"VLOOKUP(I1220,[1]RewardItemConfig!$B:$F,5,FALSE)","v":127},14,3,17,"14#1269|3#284|17#127"]
[{"$nulls":6},3001221,3006221,3011221,{"$f":"VLOOKUP(G1221,[1]RewardItemConfig!$B:$F,5,FALSE)","v":1270},{"$f":"VLOOKUP(H1221,[1]RewardItemConfig!$B:$F,5,FALSE)","v":284},{"$f":"VLOOKUP(I1221,[1]RewardItemConfig!$B:$F,5,FALSE)","v":127},14,3,17,"14#1270|3#284|17#127"]
[{"$nulls":6},3001222,3006222,3011222,{"$f":"VLOOKUP(G1222,[1]RewardItemConfig!$B:$F,5,FALSE)","v":1271},{"$f":"VLOOKUP(H1222,[1]RewardItemConfig!$B:$F,5,FALSE)","v":284},{"$f":"VLOOKUP(I1222,[1]RewardItemConfig!$B:$F,5,FALSE)","v":127},14,3,17,"14#1271|3#284|17#127"]
[{"$nulls":6},3001223,3006223,3011223,{"$f":"VLOOKUP(G1223,[1]RewardItemConfig!$B:$F,5,FALSE)","v":1272},{"$f":"VLOOKUP(H1223,[1]RewardItemConfig!$B:$F,5,FALSE)","v":284},{"$f":"VLOOKUP(I1223,[1]RewardItemConfig!$B:$F,5,FALSE)","v":127},14,3,17,"14#1272|3#284|17#127"]
[{"$nulls":6},3001224,3006224,3011224,{"$f":"VLOOKUP(G1224,[1]RewardItemConfig!$B:$F,5,FALSE)","v":1273},{"$f":"VLOOKUP(H1224,[1]RewardItemConfig!$B:$F,5,FALSE)","v":284},{"$f":"VLOOKUP(I1224,[1]RewardItemConfig!$B:$F,5,FALSE)","v":127},14,3,17,"14#1273|3#284|17#127"]
[{"$nulls":6},3001225,3006225,3011225,{"$f":"VLOOKUP(G1225,[1]RewardItemConfig!$B:$F,5,FALSE)","v":1274},{"$f":"VLOOKUP(H1225,[1]RewardItemConfig!$B:$F,5,FALSE)","v":284},{"$f":"VLOOKUP(I1225,[1]RewardItemConfig!$B:$F,5,FALSE)","v":127},14,3,17,"14#1274|3#284|17#127"]
[{"$nulls":6},3001226,3006226,3011226,{"$f":"VLOOKUP(G1226,[1]RewardItemConfig!$B:$F,5,FALSE)","v":1275},{"$f":"VLOOKUP(H1226,[1]RewardItemConfig!$B:$F,5,FALSE)","v":284},{"$f":"VLOOKUP(I1226,[1]RewardItemConfig!$B:$F,5,FALSE)","v":127},14,3,17,"14#1275|3#284|17#127"]
[{"$nulls":6},3001227,3006227,3011227,{"$f":"VLOOKUP(G1227,[1]RewardItemConfig!$B:$F,5,FALSE)","v":1276},{"$f":"VLOOKUP(H1227,[1]RewardItemConfig!$B:$F,5,FALSE)","v":284},{"$f":"VLOOKUP(I1227,[1]RewardItemConfig!$B:$F,5,FALSE)","v":127},14,3,17,"14#1276|3#284|17#127"]
[{"$nulls":6},3001228,3006228,3011228,{"$f":"VLOOKUP(G1228,[1]RewardItemConfig!$B:$F,5,FALSE)","v":1277},{"$f":"VLOOKUP(H1228,[1]RewardItemConfig!$B:$F,5,FALSE)","v":284},{"$f":"VLOOKUP(I1228,[1]RewardItemConfig!$B:$F,5,FALSE)","v":127},14,3,17,"14#1277|3#284|17#127"]
[{"$nulls":6},3001229,3006229,3011229,{"$f":"VLOOKUP(G1229,[1]RewardItemConfig!$B:$F,5,FALSE)","v":1278},{"$f":"VLOOKUP(H1229,[1]RewardItemConfig!$B:$F,5,FALSE)","v":284},{"$f":"VLOOKUP(I1229,[1]RewardItemConfig!$B:$F,5,FALSE)","v":127},14,3,17,"14#1278|3#284|17#127"]
[{"$nulls":6},3001230,3006230,3011230,{"$f":"VLOOKUP(G1230,[1]RewardItemConfig!$B:$F,5,FALSE)","v":1279},{"$f":"VLOOKUP(H1230,[1]RewardItemConfig!$B:$F,5,FALSE)","v":287},{"$f":"VLOOKUP(I1230,[1]RewardItemConfig!$B:$F,5,FALSE)","v":128},14,3,17,"14#1279|3#287|17#128"]
[{"$nulls":6},3001231,3006231,3011231,{"$f":"VLOOKUP(G1231,[1]RewardItemConfig!$B:$F,5,FALSE)","v":1280},{"$f":"VLOOKUP(H1231,[1]RewardItemConfig!$B:$F,5,FALSE)","v":287},{"$f":"VLOOKUP(I1231,[1]RewardItemConfig!$B:$F,5,FALSE)","v":128},14,3,17,"14#1280|3#287|17#128"]
[{"$nulls":6},3001232,3006232,3011232,{"$f":"VLOOKUP(G1232,[1]RewardItemConfig!$B:$F,5,FALSE)","v":1281},{"$f":"VLOOKUP(H1232,[1]RewardItemConfig!$B:$F,5,FALSE)","v":287},{"$f":"VLOOKUP(I1232,[1]RewardItemConfig!$B:$F,5,FALSE)","v":128},14,3,17,"14#1281|3#287|17#128"]
[{"$nulls":6},3001233,3006233,3011233,{"$f":"VLOOKUP(G1233,[1]RewardItemConfig!$B:$F,5,FALSE)","v":1282},{"$f":"VLOOKUP(H1233,[1]RewardItemConfig!$B:$F,5,FALSE)","v":287},{"$f":"VLOOKUP(I1233,[1]RewardItemConfig!$B:$F,5,FALSE)","v":128},14,3,17,"14#1282|3#287|17#128"]
[{"$nulls":6},3001234,3006234,3011234,{"$f":"VLOOKUP(G1234,[1]RewardItemConfig!$B:$F,5,FALSE)","v":1283},{"$f":"VLOOKUP(H1234,[1]RewardItemConfig!$B:$F,5,FALSE)","v":287},{"$f":"VLOOKUP(I1234,[1]RewardItemConfig!$B:$F,5,FALSE)","v":128},14,3,17,"14#1283|3#287|17#128"]
[{"$nulls":6},3001235,3006235,3011235,{"$f":"VLOOKUP(G1235,[1]RewardItemConfig!$B:$F,5,FALSE)","v":1284},{"$f":"VLOOKUP(H1235,[1]RewardItemConfig!$B:$F,5,FALSE)","v":287},{"$f":"VLOOKUP(I1235,[1]RewardItemConfig!$B:$F,5,FALSE)","v":128},14,3,17,"14#1284|3#287|17#128"]
[{"$nulls":6},3001236,3006236,3011236,{"$f":"VLOOKUP(G1236,[1]RewardItemConfig!$B:$F,5,FALSE)","v":1285},{"$f":"VLOOKUP(H1236,[1]RewardItemConfig!$B:$F,5,FALSE)","v":287},{"$f":"VLOOKUP(I1236,[1]RewardItemConfig!$B:$F,5,FALSE)","v":128},14,3,17,"14#1285|3#287|17#128"]
[{"$nulls":6},3001237,3006237,3011237,{"$f":"VLOOKUP(G1237,[1]RewardItemConfig!$B:$F,5,FALSE)","v":1286},{"$f":"VLOOKUP(H1237,[1]RewardItemConfig!$B:$F,5,FALSE)","v":287},{"$f":"VLOOKUP(I1237,[1]RewardItemConfig!$B:$F,5,FALSE)","v":128},14,3,17,"14#1286|3#287|17#128"]
[{"$nulls":6},3001238,3006238,3011238,{"$f":"VLOOKUP(G1238,[1]RewardItemConfig!$B:$F,5,FALSE)","v":1287},{"$f":"VLOOKUP(H1238,[1]RewardItemConfig!$B:$F,5,FALSE)","v":287},{"$f":"VLOOKUP(I1238,[1]RewardItemConfig!$B:$F,5,FALSE)","v":128},14,3,17,"14#1287|3#287|17#128"]
[{"$nulls":6},3001239,3006239,3011239,{"$f":"VLOOKUP(G1239,[1]RewardItemConfig!$B:$F,5,FALSE)","v":1288},{"$f":"VLOOKUP(H1239,[1]RewardItemConfig!$B:$F,5,FALSE)","v":287},{"$f":"VLOOKUP(I1239,[1]RewardItemConfig!$B:$F,5,FALSE)","v":128},14,3,17,"14#1288|3#287|17#128"]
[{"$nulls":6},3001240,3006240,3011240,{"$f":"VLOOKUP(G1240,[1]RewardItemConfig!$B:$F,5,FALSE)","v":1289},{"$f":"VLOOKUP(H1240,[1]RewardItemConfig!$B:$F,5,FALSE)","v":290},{"$f":"VLOOKUP(I1240,[1]RewardItemConfig!$B:$F,5,FALSE)","v":129},14,3,17,"14#1289|3#290|17#129"]
[{"$nulls":6},3001241,3006241,3011241,{"$f":"VLOOKUP(G1241,[1]RewardItemConfig!$B:$F,5,FALSE)","v":1290},{"$f":"VLOOKUP(H1241,[1]RewardItemConfig!$B:$F,5,FALSE)","v":290},{"$f":"VLOOKUP(I1241,[1]RewardItemConfig!$B:$F,5,FALSE)","v":129},14,3,17,"14#1290|3#290|17#129"]
[{"$nulls":6},3001242,3006242,3011242,{"$f":"VLOOKUP(G1242,[1]RewardItemConfig!$B:$F,5,FALSE)","v":1291},{"$f":"VLOOKUP(H1242,[1]RewardItemConfig!$B:$F,5,FALSE)","v":290},{"$f":"VLOOKUP(I1242,[1]RewardItemConfig!$B:$F,5,FALSE)","v":129},14,3,17,"14#1291|3#290|17#129"]
[{"$nulls":6},3001243,3006243,3011243,{"$f":"VLOOKUP(G1243,[1]RewardItemConfig!$B:$F,5,FALSE)","v":1292},{"$f":"VLOOKUP(H1243,[1]RewardItemConfig!$B:$F,5,FALSE)","v":290},{"$f":"VLOOKUP(I1243,[1]RewardItemConfig!$B:$F,5,FALSE)","v":129},14,3,17,"14#1292|3#290|17#129"]
[{"$nulls":6},3001244,3006244,3011244,{"$f":"VLOOKUP(G1244,[1]RewardItemConfig!$B:$F,5,FALSE)","v":1293},{"$f":"VLOOKUP(H1244,[1]RewardItemConfig!$B:$F,5,FALSE)","v":290},{"$f":"VLOOKUP(I1244,[1]RewardItemConfig!$B:$F,5,FALSE)","v":129},14,3,17,"14#1293|3#290|17#129"]
[{"$nulls":6},3001245,3006245,3011245,{"$f":"VLOOKUP(G1245,[1]RewardItemConfig!$B:$F,5,FALSE)","v":1294},{"$f":"VLOOKUP(H1245,[1]RewardItemConfig!$B:$F,5,FALSE)","v":290},{"$f":"VLOOKUP(I1245,[1]RewardItemConfig!$B:$F,5,FALSE)","v":129},14,3,17,"14#1294|3#290|17#129"]
[{"$nulls":6},3001246,3006246,3011246,{"$f":"VLOOKUP(G1246,[1]RewardItemConfig!$B:$F,5,FALSE)","v":1295},{"$f":"VLOOKUP(H1246,[1]RewardItemConfig!$B:$F,5,FALSE)","v":290},{"$f":"VLOOKUP(I1246,[1]RewardItemConfig!$B:$F,5,FALSE)","v":129},14,3,17,"14#1295|3#290|17#129"]
[{"$nulls":6},3001247,3006247,3011247,{"$f":"VLOOKUP(G1247,[1]RewardItemConfig!$B:$F,5,FALSE)","v":1296},{"$f":"VLOOKUP(H1247,[1]RewardItemConfig!$B:$F,5,FALSE)","v":290},{"$f":"VLOOKUP(I1247,[1]RewardItemConfig!$B:$F,5,FALSE)","v":129},14,3,17,"14#1296|3#290|17#129"]
[{"$nulls":6},3001248,3006248,3011248,{"$f":"VLOOKUP(G1248,[1]RewardItemConfig!$B:$F,5,FALSE)","v":1297},{"$f":"VLOOKUP(H1248,[1]RewardItemConfig!$B:$F,5,FALSE)","v":290},{"$f":"VLOOKUP(I1248,[1]RewardItemConfig!$B:$F,5,FALSE)","v":129},14,3,17,"14#1297|3#290|17#129"]
[{"$nulls":6},3001249,3006249,3011249,{"$f":"VLOOKUP(G1249,[1]RewardItemConfig!$B:$F,5,FALSE)","v":1298},{"$f":"VLOOKUP(H1249,[1]RewardItemConfig!$B:$F,5,FALSE)","v":290},{"$f":"VLOOKUP(I1249,[1]RewardItemConfig!$B:$F,5,FALSE)","v":129},14,3,17,"14#1298|3#290|17#129"]
[{"$nulls":6},3001250,3006250,3011250,{"$f":"VLOOKUP(G1250,[1]RewardItemConfig!$B:$F,5,FALSE)","v":1299},{"$f":"VLOOKUP(H1250,[1]RewardItemConfig!$B:$F,5,FALSE)","v":293},{"$f":"VLOOKUP(I1250,[1]RewardItemConfig!$B:$F,5,FALSE)","v":130},14,3,17,"14#1299|3#293|17#130"]
[{"$nulls":6},3001251,3006251,3011251,{"$f":"VLOOKUP(G1251,[1]RewardItemConfig!$B:$F,5,FALSE)","v":1300},{"$f":"VLOOKUP(H1251,[1]RewardItemConfig!$B:$F,5,FALSE)","v":293},{"$f":"VLOOKUP(I1251,[1]RewardItemConfig!$B:$F,5,FALSE)","v":130},14,3,17,"14#1300|3#293|17#130"]
[{"$nulls":6},3001252,3006252,3011252,{"$f":"VLOOKUP(G1252,[1]RewardItemConfig!$B:$F,5,FALSE)","v":1301},{"$f":"VLOOKUP(H1252,[1]RewardItemConfig!$B:$F,5,FALSE)","v":293},{"$f":"VLOOKUP(I1252,[1]RewardItemConfig!$B:$F,5,FALSE)","v":130},14,3,17,"14#1301|3#293|17#130"]
[{"$nulls":6},3001253,3006253,3011253,{"$f":"VLOOKUP(G1253,[1]RewardItemConfig!$B:$F,5,FALSE)","v":1302},{"$f":"VLOOKUP(H1253,[1]RewardItemConfig!$B:$F,5,FALSE)","v":293},{"$f":"VLOOKUP(I1253,[1]RewardItemConfig!$B:$F,5,FALSE)","v":130},14,3,17,"14#1302|3#293|17#130"]
[{"$nulls":6},3001254,3006254,3011254,{"$f":"VLOOKUP(G1254,[1]RewardItemConfig!$B:$F,5,FALSE)","v":1303},{"$f":"VLOOKUP(H1254,[1]RewardItemConfig!$B:$F,5,FALSE)","v":293},{"$f":"VLOOKUP(I1254,[1]RewardItemConfig!$B:$F,5,FALSE)","v":130},14,3,17,"14#1303|3#293|17#130"]
[{"$nulls":6},3001255,3006255,3011255,{"$f":"VLOOKUP(G1255,[1]RewardItemConfig!$B:$F,5,FALSE)","v":1304},{"$f":"VLOOKUP(H1255,[1]RewardItemConfig!$B:$F,5,FALSE)","v":293},{"$f":"VLOOKUP(I1255,[1]RewardItemConfig!$B:$F,5,FALSE)","v":130},14,3,17,"14#1304|3#293|17#130"]
[{"$nulls":6},3001256,3006256,3011256,{"$f":"VLOOKUP(G1256,[1]RewardItemConfig!$B:$F,5,FALSE)","v":1305},{"$f":"VLOOKUP(H1256,[1]RewardItemConfig!$B:$F,5,FALSE)","v":293},{"$f":"VLOOKUP(I1256,[1]RewardItemConfig!$B:$F,5,FALSE)","v":130},14,3,17,"14#1305|3#293|17#130"]
[{"$nulls":6},3001257,3006257,3011257,{"$f":"VLOOKUP(G1257,[1]RewardItemConfig!$B:$F,5,FALSE)","v":1306},{"$f":"VLOOKUP(H1257,[1]RewardItemConfig!$B:$F,5,FALSE)","v":293},{"$f":"VLOOKUP(I1257,[1]RewardItemConfig!$B:$F,5,FALSE)","v":130},14,3,17,"14#1306|3#293|17#130"]
[{"$nulls":6},3001258,3006258,3011258,{"$f":"VLOOKUP(G1258,[1]RewardItemConfig!$B:$F,5,FALSE)","v":1307},{"$f":"VLOOKUP(H1258,[1]RewardItemConfig!$B:$F,5,FALSE)","v":293},{"$f":"VLOOKUP(I1258,[1]RewardItemConfig!$B:$F,5,FALSE)","v":130},14,3,17,"14#1307|3#293|17#130"]
[{"$nulls":6},3001259,3006259,3011259,{"$f":"VLOOKUP(G1259,[1]RewardItemConfig!$B:$F,5,FALSE)","v":1308},{"$f":"VLOOKUP(H1259,[1]RewardItemConfig!$B:$F,5,FALSE)","v":293},{"$f":"VLOOKUP(I1259,[1]RewardItemConfig!$B:$F,5,FALSE)","v":130},14,3,17,"14#1308|3#293|17#130"]
[{"$nulls":6},3001260,3006260,3011260,{"$f":"VLOOKUP(G1260,[1]RewardItemConfig!$B:$F,5,FALSE)","v":1309},{"$f":"VLOOKUP(H1260,[1]RewardItemConfig!$B:$F,5,FALSE)","v":296},{"$f":"VLOOKUP(I1260,[1]RewardItemConfig!$B:$F,5,FALSE)","v":131},14,3,17,"14#1309|3#296|17#131"]
[{"$nulls":6},3001261,3006261,3011261,{"$f":"VLOOKUP(G1261,[1]RewardItemConfig!$B:$F,5,FALSE)","v":1310},{"$f":"VLOOKUP(H1261,[1]RewardItemConfig!$B:$F,5,FALSE)","v":296},{"$f":"VLOOKUP(I1261,[1]RewardItemConfig!$B:$F,5,FALSE)","v":131},14,3,17,"14#1310|3#296|17#131"]
[{"$nulls":6},3001262,3006262,3011262,{"$f":"VLOOKUP(G1262,[1]RewardItemConfig!$B:$F,5,FALSE)","v":1311},{"$f":"VLOOKUP(H1262,[1]RewardItemConfig!$B:$F,5,FALSE)","v":296},{"$f":"VLOOKUP(I1262,[1]RewardItemConfig!$B:$F,5,FALSE)","v":131},14,3,17,"14#1311|3#296|17#131"]
[{"$nulls":6},3001263,3006263,3011263,{"$f":"VLOOKUP(G1263,[1]RewardItemConfig!$B:$F,5,FALSE)","v":1312},{"$f":"VLOOKUP(H1263,[1]RewardItemConfig!$B:$F,5,FALSE)","v":296},{"$f":"VLOOKUP(I1263,[1]RewardItemConfig!$B:$F,5,FALSE)","v":131},14,3,17,"14#1312|3#296|17#131"]
[{"$nulls":6},3001264,3006264,3011264,{"$f":"VLOOKUP(G1264,[1]RewardItemConfig!$B:$F,5,FALSE)","v":1313},{"$f":"VLOOKUP(H1264,[1]RewardItemConfig!$B:$F,5,FALSE)","v":296},{"$f":"VLOOKUP(I1264,[1]RewardItemConfig!$B:$F,5,FALSE)","v":131},14,3,17,"14#1313|3#296|17#131"]
[{"$nulls":6},3001265,3006265,3011265,{"$f":"VLOOKUP(G1265,[1]RewardItemConfig!$B:$F,5,FALSE)","v":1314},{"$f":"VLOOKUP(H1265,[1]RewardItemConfig!$B:$F,5,FALSE)","v":296},{"$f":"VLOOKUP(I1265,[1]RewardItemConfig!$B:$F,5,FALSE)","v":131},14,3,17,"14#1314|3#296|17#131"]
[{"$nulls":6},3001266,3006266,3011266,{"$f":"VLOOKUP(G1266,[1]RewardItemConfig!$B:$F,5,FALSE)","v":1315},{"$f":"VLOOKUP(H1266,[1]RewardItemConfig!$B:$F,5,FALSE)","v":296},{"$f":"VLOOKUP(I1266,[1]RewardItemConfig!$B:$F,5,FALSE)","v":131},14,3,17,"14#1315|3#296|17#131"]
[{"$nulls":6},3001267,3006267,3011267,{"$f":"VLOOKUP(G1267,[1]RewardItemConfig!$B:$F,5,FALSE)","v":1316},{"$f":"VLOOKUP(H1267,[1]RewardItemConfig!$B:$F,5,FALSE)","v":296},{"$f":"VLOOKUP(I1267,[1]RewardItemConfig!$B:$F,5,FALSE)","v":131},14,3,17,"14#1316|3#296|17#131"]
[{"$nulls":6},3001268,3006268,3011268,{"$f":"VLOOKUP(G1268,[1]RewardItemConfig!$B:$F,5,FALSE)","v":1317},{"$f":"VLOOKUP(H1268,[1]RewardItemConfig!$B:$F,5,FALSE)","v":296},{"$f":"VLOOKUP(I1268,[1]RewardItemConfig!$B:$F,5,FALSE)","v":131},14,3,17,"14#1317|3#296|17#131"]
[{"$nulls":6},3001269,3006269,3011269,{"$f":"VLOOKUP(G1269,[1]RewardItemConfig!$B:$F,5,FALSE)","v":1318},{"$f":"VLOOKUP(H1269,[1]RewardItemConfig!$B:$F,5,FALSE)","v":296},{"$f":"VLOOKUP(I1269,[1]RewardItemConfig!$B:$F,5,FALSE)","v":131},14,3,17,"14#1318|3#296|17#131"]
[{"$nulls":6},3001270,3006270,3011270,{"$f":"VLOOKUP(G1270,[1]RewardItemConfig!$B:$F,5,FALSE)","v":1319},{"$f":"VLOOKUP(H1270,[1]RewardItemConfig!$B:$F,5,FALSE)","v":299},{"$f":"VLOOKUP(I1270,[1]RewardItemConfig!$B:$F,5,FALSE)","v":132},14,3,17,"14#1319|3#299|17#132"]
[{"$nulls":6},3001271,3006271,3011271,{"$f":"VLOOKUP(G1271,[1]RewardItemConfig!$B:$F,5,FALSE)","v":1320},{"$f":"VLOOKUP(H1271,[1]RewardItemConfig!$B:$F,5,FALSE)","v":299},{"$f":"VLOOKUP(I1271,[1]RewardItemConfig!$B:$F,5,FALSE)","v":132},14,3,17,"14#1320|3#299|17#132"]
[{"$nulls":6},3001272,3006272,3011272,{"$f":"VLOOKUP(G1272,[1]RewardItemConfig!$B:$F,5,FALSE)","v":1321},{"$f":"VLOOKUP(H1272,[1]RewardItemConfig!$B:$F,5,FALSE)","v":299},{"$f":"VLOOKUP(I1272,[1]RewardItemConfig!$B:$F,5,FALSE)","v":132},14,3,17,"14#1321|3#299|17#132"]
[{"$nulls":6},3001273,3006273,3011273,{"$f":"VLOOKUP(G1273,[1]RewardItemConfig!$B:$F,5,FALSE)","v":1322},{"$f":"VLOOKUP(H1273,[1]RewardItemConfig!$B:$F,5,FALSE)","v":299},{"$f":"VLOOKUP(I1273,[1]RewardItemConfig!$B:$F,5,FALSE)","v":132},14,3,17,"14#1322|3#299|17#132"]
[{"$nulls":6},3001274,3006274,3011274,{"$f":"VLOOKUP(G1274,[1]RewardItemConfig!$B:$F,5,FALSE)","v":1323},{"$f":"VLOOKUP(H1274,[1]RewardItemConfig!$B:$F,5,FALSE)","v":299},{"$f":"VLOOKUP(I1274,[1]RewardItemConfig!$B:$F,5,FALSE)","v":132},14,3,17,"14#1323|3#299|17#132"]
[{"$nulls":6},3001275,3006275,3011275,{"$f":"VLOOKUP(G1275,[1]RewardItemConfig!$B:$F,5,FALSE)","v":1324},{"$f":"VLOOKUP(H1275,[1]RewardItemConfig!$B:$F,5,FALSE)","v":299},{"$f":"VLOOKUP(I1275,[1]RewardItemConfig!$B:$F,5,FALSE)","v":132},14,3,17,"14#1324|3#299|17#132"]
[{"$nulls":6},3001276,3006276,3011276,{"$f":"VLOOKUP(G1276,[1]RewardItemConfig!$B:$F,5,FALSE)","v":1325},{"$f":"VLOOKUP(H1276,[1]RewardItemConfig!$B:$F,5,FALSE)","v":299},{"$f":"VLOOKUP(I1276,[1]RewardItemConfig!$B:$F,5,FALSE)","v":132},14,3,17,"14#1325|3#299|17#132"]
[{"$nulls":6},3001277,3006277,3011277,{"$f":"VLOOKUP(G1277,[1]RewardItemConfig!$B:$F,5,FALSE)","v":1326},{"$f":"VLOOKUP(H1277,[1]RewardItemConfig!$B:$F,5,FALSE)","v":299},{"$f":"VLOOKUP(I1277,[1]RewardItemConfig!$B:$F,5,FALSE)","v":132},14,3,17,"14#1326|3#299|17#132"]
[{"$nulls":6},3001278,3006278,3011278,{"$f":"VLOOKUP(G1278,[1]RewardItemConfig!$B:$F,5,FALSE)","v":1327},{"$f":"VLOOKUP(H1278,[1]RewardItemConfig!$B:$F,5,FALSE)","v":299},{"$f":"VLOOKUP(I1278,[1]RewardItemConfig!$B:$F,5,FALSE)","v":132},14,3,17,"14#1327|3#299|17#132"]
[{"$nulls":6},3001279,3006279,3011279,{"$f":"VLOOKUP(G1279,[1]RewardItemConfig!$B:$F,5,FALSE)","v":1328},{"$f":"VLOOKUP(H1279,[1]RewardItemConfig!$B:$F,5,FALSE)","v":299},{"$f":"VLOOKUP(I1279,[1]RewardItemConfig!$B:$F,5,FALSE)","v":132},14,3,17,"14#1328|3#299|17#132"]
[{"$nulls":6},3001280,3006280,3011280,{"$f":"VLOOKUP(G1280,[1]RewardItemConfig!$B:$F,5,FALSE)","v":1329},{"$f":"VLOOKUP(H1280,[1]RewardItemConfig!$B:$F,5,FALSE)","v":302},{"$f":"VLOOKUP(I1280,[1]RewardItemConfig!$B:$F,5,FALSE)","v":133},14,3,17,"14#1329|3#302|17#133"]
[{"$nulls":6},3001281,3006281,3011281,{"$f":"VLOOKUP(G1281,[1]RewardItemConfig!$B:$F,5,FALSE)","v":1330},{"$f":"VLOOKUP(H1281,[1]RewardItemConfig!$B:$F,5,FALSE)","v":302},{"$f":"VLOOKUP(I1281,[1]RewardItemConfig!$B:$F,5,FALSE)","v":133},14,3,17,"14#1330|3#302|17#133"]
[{"$nulls":6},3001282,3006282,3011282,{"$f":"VLOOKUP(G1282,[1]RewardItemConfig!$B:$F,5,FALSE)","v":1331},{"$f":"VLOOKUP(H1282,[1]RewardItemConfig!$B:$F,5,FALSE)","v":302},{"$f":"VLOOKUP(I1282,[1]RewardItemConfig!$B:$F,5,FALSE)","v":133},14,3,17,{"$f":"M1282&\"#\"&J1282&\"|\"&N1282&\"#\"&K1282&\"|\"&O1282&\"#\"&L1282","v":"14#1331|3#302|17#133"}]
[{"$nulls":6},3001283,3006283,3011283,{"$f":"VLOOKUP(G1283,[1]RewardItemConfig!$B:$F,5,FALSE)","v":1332},{"$f":"VLOOKUP(H1283,[1]RewardItemConfig!$B:$F,5,FALSE)","v":302},{"$f":"VLOOKUP(I1283,[1]RewardItemConfig!$B:$F,5,FALSE)","v":133},{"$f":"M1282","v":14},{"$f":"N1282","v":3},{"$f":"O1282","v":17},"14#1332|3#302|17#133"]
[{"$nulls":6},3001284,3006284,3011284,{"$f":"VLOOKUP(G1284,[1]RewardItemConfig!$B:$F,5,FALSE)","v":1333},{"$f":"VLOOKUP(H1284,[1]RewardItemConfig!$B:$F,5,FALSE)","v":302},{"$f":"VLOOKUP(I1284,[1]RewardItemConfig!$B:$F,5,FALSE)","v":133},14,3,17,"14#1333|3#302|17#133"]
[{"$nulls":6},3001285,3006285,3011285,{"$f":"VLOOKUP(G1285,[1]RewardItemConfig!$B:$F,5,FALSE)","v":1334},{"$f":"VLOOKUP(H1285,[1]RewardItemConfig!$B:$F,5,FALSE)","v":302},{"$f":"VLOOKUP(I1285,[1]RewardItemConfig!$B:$F,5,FALSE)","v":133},14,3,17,"14#1334|3#302|17#133"]
[{"$nulls":6},3001286,3006286,3011286,{"$f":"VLOOKUP(G1286,[1]RewardItemConfig!$B:$F,5,FALSE)","v":1335},{"$f":"VLOOKUP(H1286,[1]RewardItemConfig!$B:$F,5,FALSE)","v":302},{"$f":"VLOOKUP(I1286,[1]RewardItemConfig!$B:$F,5,FALSE)","v":133},14,3,17,"14#1335|3#302|17#133"]
[{"$nulls":6},3001287,3006287,3011287,{"$f":"VLOOKUP(G1287,[1]RewardItemConfig!$B:$F,5,FALSE)","v":1336},{"$f":"VLOOKUP(H1287,[1]RewardItemConfig!$B:$F,5,FALSE)","v":302},{"$f":"VLOOKUP(I1287,[1]RewardItemConfig!$B:$F,5,FALSE)","v":133},14,3,17,"14#1336|3#302|17#133"]
[{"$nulls":6},3001288,3006288,3011288,{"$f":"VLOOKUP(G1288,[1]RewardItemConfig!$B:$F,5,FALSE)","v":1337},{"$f":"VLOOKUP(H1288,[1]RewardItemConfig!$B:$F,5,FALSE)","v":302},{"$f":"VLOOKUP(I1288,[1]RewardItemConfig!$B:$F,5,FALSE)","v":133},14,3,17,"14#1337|3#302|17#133"]
[{"$nulls":6},3001289,3006289,3011289,{"$f":"VLOOKUP(G1289,[1]RewardItemConfig!$B:$F,5,FALSE)","v":1338},{"$f":"VLOOKUP(H1289,[1]RewardItemConfig!$B:$F,5,FALSE)","v":302},{"$f":"VLOOKUP(I1289,[1]RewardItemConfig!$B:$F,5,FALSE)","v":133},14,3,17,"14#1338|3#302|17#133"]
[{"$nulls":6},3001290,3006290,3011290,{"$f":"VLOOKUP(G1290,[1]RewardItemConfig!$B:$F,5,FALSE)","v":1339},{"$f":"VLOOKUP(H1290,[1]RewardItemConfig!$B:$F,5,FALSE)","v":305},{"$f":"VLOOKUP(I1290,[1]RewardItemConfig!$B:$F,5,FALSE)","v":134},14,3,17,"14#1339|3#305|17#134"]
[{"$nulls":6},3001291,3006291,3011291,{"$f":"VLOOKUP(G1291,[1]RewardItemConfig!$B:$F,5,FALSE)","v":1340},{"$f":"VLOOKUP(H1291,[1]RewardItemConfig!$B:$F,5,FALSE)","v":305},{"$f":"VLOOKUP(I1291,[1]RewardItemConfig!$B:$F,5,FALSE)","v":134},14,3,17,"14#1340|3#305|17#134"]
[{"$nulls":6},3001292,3006292,3011292,{"$f":"VLOOKUP(G1292,[1]RewardItemConfig!$B:$F,5,FALSE)","v":1341},{"$f":"VLOOKUP(H1292,[1]RewardItemConfig!$B:$F,5,FALSE)","v":305},{"$f":"VLOOKUP(I1292,[1]RewardItemConfig!$B:$F,5,FALSE)","v":134},14,3,17,"14#1341|3#305|17#134"]
[{"$nulls":6},3001293,3006293,3011293,{"$f":"VLOOKUP(G1293,[1]RewardItemConfig!$B:$F,5,FALSE)","v":1342},{"$f":"VLOOKUP(H1293,[1]RewardItemConfig!$B:$F,5,FALSE)","v":305},{"$f":"VLOOKUP(I1293,[1]RewardItemConfig!$B:$F,5,FALSE)","v":134},14,3,17,"14#1342|3#305|17#134"]
[{"$nulls":6},3001294,3006294,3011294,{"$f":"VLOOKUP(G1294,[1]RewardItemConfig!$B:$F,5,FALSE)","v":1343},{"$f":"VLOOKUP(H1294,[1]RewardItemConfig!$B:$F,5,FALSE)","v":305},{"$f":"VLOOKUP(I1294,[1]RewardItemConfig!$B:$F,5,FALSE)","v":134},14,3,17,"14#1343|3#305|17#134"]
[{"$nulls":6},3001295,3006295,3011295,{"$f":"VLOOKUP(G1295,[1]RewardItemConfig!$B:$F,5,FALSE)","v":1344},{"$f":"VLOOKUP(H1295,[1]RewardItemConfig!$B:$F,5,FALSE)","v":305},{"$f":"VLOOKUP(I1295,[1]RewardItemConfig!$B:$F,5,FALSE)","v":134},14,3,17,"14#1344|3#305|17#134"]
[{"$nulls":6},3001296,3006296,3011296,{"$f":"VLOOKUP(G1296,[1]RewardItemConfig!$B:$F,5,FALSE)","v":1345},{"$f":"VLOOKUP(H1296,[1]RewardItemConfig!$B:$F,5,FALSE)","v":305},{"$f":"VLOOKUP(I1296,[1]RewardItemConfig!$B:$F,5,FALSE)","v":134},14,3,17,"14#1345|3#305|17#134"]
[{"$nulls":6},3001297,3006297,3011297,{"$f":"VLOOKUP(G1297,[1]RewardItemConfig!$B:$F,5,FALSE)","v":1346},{"$f":"VLOOKUP(H1297,[1]RewardItemConfig!$B:$F,5,FALSE)","v":305},{"$f":"VLOOKUP(I1297,[1]RewardItemConfig!$B:$F,5,FALSE)","v":134},14,3,17,"14#1346|3#305|17#134"]
[{"$nulls":6},3001298,3006298,3011298,{"$f":"VLOOKUP(G1298,[1]RewardItemConfig!$B:$F,5,FALSE)","v":1347},{"$f":"VLOOKUP(H1298,[1]RewardItemConfig!$B:$F,5,FALSE)","v":305},{"$f":"VLOOKUP(I1298,[1]RewardItemConfig!$B:$F,5,FALSE)","v":134},14,3,17,"14#1347|3#305|17#134"]
[{"$nulls":6},3001299,3006299,3011299,{"$f":"VLOOKUP(G1299,[1]RewardItemConfig!$B:$F,5,FALSE)","v":1348},{"$f":"VLOOKUP(H1299,[1]RewardItemConfig!$B:$F,5,FALSE)","v":305},{"$f":"VLOOKUP(I1299,[1]RewardItemConfig!$B:$F,5,FALSE)","v":134},14,3,17,"14#1348|3#305|17#134"]
[{"$nulls":6},3001300,3006300,3011300,{"$f":"VLOOKUP(G1300,[1]RewardItemConfig!$B:$F,5,FALSE)","v":1349},{"$f":"VLOOKUP(H1300,[1]RewardItemConfig!$B:$F,5,FALSE)","v":308},{"$f":"VLOOKUP(I1300,[1]RewardItemConfig!$B:$F,5,FALSE)","v":135},14,3,17,"14#1349|3#308|17#135"]
[{"$nulls":6},3001301,3006301,3011301,{"$f":"VLOOKUP(G1301,[1]RewardItemConfig!$B:$F,5,FALSE)","v":1350},{"$f":"VLOOKUP(H1301,[1]RewardItemConfig!$B:$F,5,FALSE)","v":308},{"$f":"VLOOKUP(I1301,[1]RewardItemConfig!$B:$F,5,FALSE)","v":135},14,3,17,"14#1350|3#308|17#135"]
[{"$nulls":6},3001302,3006302,3011302,{"$f":"VLOOKUP(G1302,[1]RewardItemConfig!$B:$F,5,FALSE)","v":1351},{"$f":"VLOOKUP(H1302,[1]RewardItemConfig!$B:$F,5,FALSE)","v":308},{"$f":"VLOOKUP(I1302,[1]RewardItemConfig!$B:$F,5,FALSE)","v":135},14,3,17,"14#1351|3#308|17#135"]
[{"$nulls":6},3001303,3006303,3011303,{"$f":"VLOOKUP(G1303,[1]RewardItemConfig!$B:$F,5,FALSE)","v":1352},{"$f":"VLOOKUP(H1303,[1]RewardItemConfig!$B:$F,5,FALSE)","v":308},{"$f":"VLOOKUP(I1303,[1]RewardItemConfig!$B:$F,5,FALSE)","v":135},14,3,17,"14#1352|3#308|17#135"]
[{"$nulls":6},3001304,3006304,3011304,{"$f":"VLOOKUP(G1304,[1]RewardItemConfig!$B:$F,5,FALSE)","v":1353},{"$f":"VLOOKUP(H1304,[1]RewardItemConfig!$B:$F,5,FALSE)","v":308},{"$f":"VLOOKUP(I1304,[1]RewardItemConfig!$B:$F,5,FALSE)","v":135},14,3,17,"14#1353|3#308|17#135"]
[{"$nulls":6},3001305,3006305,3011305,{"$f":"VLOOKUP(G1305,[1]RewardItemConfig!$B:$F,5,FALSE)","v":1354},{"$f":"VLOOKUP(H1305,[1]RewardItemConfig!$B:$F,5,FALSE)","v":308},{"$f":"VLOOKUP(I1305,[1]RewardItemConfig!$B:$F,5,FALSE)","v":135},14,3,17,"14#1354|3#308|17#135"]
[{"$nulls":6},3001306,3006306,3011306,{"$f":"VLOOKUP(G1306,[1]RewardItemConfig!$B:$F,5,FALSE)","v":1355},{"$f":"VLOOKUP(H1306,[1]RewardItemConfig!$B:$F,5,FALSE)","v":308},{"$f":"VLOOKUP(I1306,[1]RewardItemConfig!$B:$F,5,FALSE)","v":135},14,3,17,"14#1355|3#308|17#135"]
[{"$nulls":6},3001307,3006307,3011307,{"$f":"VLOOKUP(G1307,[1]RewardItemConfig!$B:$F,5,FALSE)","v":1356},{"$f":"VLOOKUP(H1307,[1]RewardItemConfig!$B:$F,5,FALSE)","v":308},{"$f":"VLOOKUP(I1307,[1]RewardItemConfig!$B:$F,5,FALSE)","v":135},14,3,17,"14#1356|3#308|17#135"]
[{"$nulls":6},3001308,3006308,3011308,{"$f":"VLOOKUP(G1308,[1]RewardItemConfig!$B:$F,5,FALSE)","v":1357},{"$f":"VLOOKUP(H1308,[1]RewardItemConfig!$B:$F,5,FALSE)","v":308},{"$f":"VLOOKUP(I1308,[1]RewardItemConfig!$B:$F,5,FALSE)","v":135},14,3,17,"14#1357|3#308|17#135"]
[{"$nulls":6},3001309,3006309,3011309,{"$f":"VLOOKUP(G1309,[1]RewardItemConfig!$B:$F,5,FALSE)","v":1358},{"$f":"VLOOKUP(H1309,[1]RewardItemConfig!$B:$F,5,FALSE)","v":308},{"$f":"VLOOKUP(I1309,[1]RewardItemConfig!$B:$F,5,FALSE)","v":135},14,3,17,"14#1358|3#308|17#135"]
[{"$nulls":6},3001310,3006310,3011310,{"$f":"VLOOKUP(G1310,[1]RewardItemConfig!$B:$F,5,FALSE)","v":1359},{"$f":"VLOOKUP(H1310,[1]RewardItemConfig!$B:$F,5,FALSE)","v":311},{"$f":"VLOOKUP(I1310,[1]RewardItemConfig!$B:$F,5,FALSE)","v":136},14,3,17,"14#1359|3#311|17#136"]
[{"$nulls":6},3001311,3006311,3011311,{"$f":"VLOOKUP(G1311,[1]RewardItemConfig!$B:$F,5,FALSE)","v":1360},{"$f":"VLOOKUP(H1311,[1]RewardItemConfig!$B:$F,5,FALSE)","v":311},{"$f":"VLOOKUP(I1311,[1]RewardItemConfig!$B:$F,5,FALSE)","v":136},14,3,17,"14#1360|3#311|17#136"]
[{"$nulls":6},3001312,3006312,3011312,{"$f":"VLOOKUP(G1312,[1]RewardItemConfig!$B:$F,5,FALSE)","v":1361},{"$f":"VLOOKUP(H1312,[1]RewardItemConfig!$B:$F,5,FALSE)","v":311},{"$f":"VLOOKUP(I1312,[1]RewardItemConfig!$B:$F,5,FALSE)","v":136},14,3,17,"14#1361|3#311|17#136"]
[{"$nulls":6},3001313,3006313,3011313,{"$f":"VLOOKUP(G1313,[1]RewardItemConfig!$B:$F,5,FALSE)","v":1362},{"$f":"VLOOKUP(H1313,[1]RewardItemConfig!$B:$F,5,FALSE)","v":311},{"$f":"VLOOKUP(I1313,[1]RewardItemConfig!$B:$F,5,FALSE)","v":136},14,3,17,"14#1362|3#311|17#136"]
[{"$nulls":6},3001314,3006314,3011314,{"$f":"VLOOKUP(G1314,[1]RewardItemConfig!$B:$F,5,FALSE)","v":1363},{"$f":"VLOOKUP(H1314,[1]RewardItemConfig!$B:$F,5,FALSE)","v":311},{"$f":"VLOOKUP(I1314,[1]RewardItemConfig!$B:$F,5,FALSE)","v":136},14,3,17,"14#1363|3#311|17#136"]
[{"$nulls":6},3001315,3006315,3011315,{"$f":"VLOOKUP(G1315,[1]RewardItemConfig!$B:$F,5,FALSE)","v":1364},{"$f":"VLOOKUP(H1315,[1]RewardItemConfig!$B:$F,5,FALSE)","v":311},{"$f":"VLOOKUP(I1315,[1]RewardItemConfig!$B:$F,5,FALSE)","v":136},14,3,17,"14#1364|3#311|17#136"]
[{"$nulls":6},3001316,3006316,3011316,{"$f":"VLOOKUP(G1316,[1]RewardItemConfig!$B:$F,5,FALSE)","v":1365},{"$f":"VLOOKUP(H1316,[1]RewardItemConfig!$B:$F,5,FALSE)","v":311},{"$f":"VLOOKUP(I1316,[1]RewardItemConfig!$B:$F,5,FALSE)","v":136},14,3,17,"14#1365|3#311|17#136"]
[{"$nulls":6},3001317,3006317,3011317,{"$f":"VLOOKUP(G1317,[1]RewardItemConfig!$B:$F,5,FALSE)","v":1366},{"$f":"VLOOKUP(H1317,[1]RewardItemConfig!$B:$F,5,FALSE)","v":311},{"$f":"VLOOKUP(I1317,[1]RewardItemConfig!$B:$F,5,FALSE)","v":136},14,3,17,"14#1366|3#311|17#136"]
[{"$nulls":6},3001318,3006318,3011318,{"$f":"VLOOKUP(G1318,[1]RewardItemConfig!$B:$F,5,FALSE)","v":1367},{"$f":"VLOOKUP(H1318,[1]RewardItemConfig!$B:$F,5,FALSE)","v":311},{"$f":"VLOOKUP(I1318,[1]RewardItemConfig!$B:$F,5,FALSE)","v":136},14,3,17,"14#1367|3#311|17#136"]
[{"$nulls":6},3001319,3006319,3011319,{"$f":"VLOOKUP(G1319,[1]RewardItemConfig!$B:$F,5,FALSE)","v":1368},{"$f":"VLOOKUP(H1319,[1]RewardItemConfig!$B:$F,5,FALSE)","v":311},{"$f":"VLOOKUP(I1319,[1]RewardItemConfig!$B:$F,5,FALSE)","v":136},14,3,17,"14#1368|3#311|17#136"]
[{"$nulls":6},3001320,3006320,3011320,{"$f":"VLOOKUP(G1320,[1]RewardItemConfig!$B:$F,5,FALSE)","v":1369},{"$f":"VLOOKUP(H1320,[1]RewardItemConfig!$B:$F,5,FALSE)","v":314},{"$f":"VLOOKUP(I1320,[1]RewardItemConfig!$B:$F,5,FALSE)","v":137},14,3,17,"14#1369|3#314|17#137"]
[{"$nulls":6},3001321,3006321,3011321,{"$f":"VLOOKUP(G1321,[1]RewardItemConfig!$B:$F,5,FALSE)","v":1370},{"$f":"VLOOKUP(H1321,[1]RewardItemConfig!$B:$F,5,FALSE)","v":314},{"$f":"VLOOKUP(I1321,[1]RewardItemConfig!$B:$F,5,FALSE)","v":137},14,3,17,"14#1370|3#314|17#137"]
[{"$nulls":6},3001322,3006322,3011322,{"$f":"VLOOKUP(G1322,[1]RewardItemConfig!$B:$F,5,FALSE)","v":1371},{"$f":"VLOOKUP(H1322,[1]RewardItemConfig!$B:$F,5,FALSE)","v":314},{"$f":"VLOOKUP(I1322,[1]RewardItemConfig!$B:$F,5,FALSE)","v":137},14,3,17,"14#1371|3#314|17#137"]
[{"$nulls":6},3001323,3006323,3011323,{"$f":"VLOOKUP(G1323,[1]RewardItemConfig!$B:$F,5,FALSE)","v":1372},{"$f":"VLOOKUP(H1323,[1]RewardItemConfig!$B:$F,5,FALSE)","v":314},{"$f":"VLOOKUP(I1323,[1]RewardItemConfig!$B:$F,5,FALSE)","v":137},14,3,17,"14#1372|3#314|17#137"]
[{"$nulls":6},3001324,3006324,3011324,{"$f":"VLOOKUP(G1324,[1]RewardItemConfig!$B:$F,5,FALSE)","v":1373},{"$f":"VLOOKUP(H1324,[1]RewardItemConfig!$B:$F,5,FALSE)","v":314},{"$f":"VLOOKUP(I1324,[1]RewardItemConfig!$B:$F,5,FALSE)","v":137},14,3,17,"14#1373|3#314|17#137"]
[{"$nulls":6},3001325,3006325,3011325,{"$f":"VLOOKUP(G1325,[1]RewardItemConfig!$B:$F,5,FALSE)","v":1374},{"$f":"VLOOKUP(H1325,[1]RewardItemConfig!$B:$F,5,FALSE)","v":314},{"$f":"VLOOKUP(I1325,[1]RewardItemConfig!$B:$F,5,FALSE)","v":137},14,3,17,"14#1374|3#314|17#137"]
[{"$nulls":6},3001326,3006326,3011326,{"$f":"VLOOKUP(G1326,[1]RewardItemConfig!$B:$F,5,FALSE)","v":1375},{"$f":"VLOOKUP(H1326,[1]RewardItemConfig!$B:$F,5,FALSE)","v":314},{"$f":"VLOOKUP(I1326,[1]RewardItemConfig!$B:$F,5,FALSE)","v":137},14,3,17,"14#1375|3#314|17#137"]
[{"$nulls":6},3001327,3006327,3011327,{"$f":"VLOOKUP(G1327,[1]RewardItemConfig!$B:$F,5,FALSE)","v":1376},{"$f":"VLOOKUP(H1327,[1]RewardItemConfig!$B:$F,5,FALSE)","v":314},{"$f":"VLOOKUP(I1327,[1]RewardItemConfig!$B:$F,5,FALSE)","v":137},14,3,17,"14#1376|3#314|17#137"]
[{"$nulls":6},3001328,3006328,3011328,{"$f":"VLOOKUP(G1328,[1]RewardItemConfig!$B:$F,5,FALSE)","v":1377},{"$f":"VLOOKUP(H1328,[1]RewardItemConfig!$B:$F,5,FALSE)","v":314},{"$f":"VLOOKUP(I1328,[1]RewardItemConfig!$B:$F,5,FALSE)","v":137},14,3,17,"14#1377|3#314|17#137"]
[{"$nulls":6},3001329,3006329,3011329,{"$f":"VLOOKUP(G1329,[1]RewardItemConfig!$B:$F,5,FALSE)","v":1378},{"$f":"VLOOKUP(H1329,[1]RewardItemConfig!$B:$F,5,FALSE)","v":314},{"$f":"VLOOKUP(I1329,[1]RewardItemConfig!$B:$F,5,FALSE)","v":137},14,3,17,"14#1378|3#314|17#137"]
[{"$nulls":6},3001330,3006330,3011330,{"$f":"VLOOKUP(G1330,[1]RewardItemConfig!$B:$F,5,FALSE)","v":1379},{"$f":"VLOOKUP(H1330,[1]RewardItemConfig!$B:$F,5,FALSE)","v":317},{"$f":"VLOOKUP(I1330,[1]RewardItemConfig!$B:$F,5,FALSE)","v":138},14,3,17,"14#1379|3#317|17#138"]
[{"$nulls":6},3001331,3006331,3011331,{"$f":"VLOOKUP(G1331,[1]RewardItemConfig!$B:$F,5,FALSE)","v":1380},{"$f":"VLOOKUP(H1331,[1]RewardItemConfig!$B:$F,5,FALSE)","v":317},{"$f":"VLOOKUP(I1331,[1]RewardItemConfig!$B:$F,5,FALSE)","v":138},14,3,17,"14#1380|3#317|17#138"]
[{"$nulls":6},3001332,3006332,3011332,{"$f":"VLOOKUP(G1332,[1]RewardItemConfig!$B:$F,5,FALSE)","v":1381},{"$f":"VLOOKUP(H1332,[1]RewardItemConfig!$B:$F,5,FALSE)","v":317},{"$f":"VLOOKUP(I1332,[1]RewardItemConfig!$B:$F,5,FALSE)","v":138},14,3,17,"14#1381|3#317|17#138"]
[{"$nulls":6},3001333,3006333,3011333,{"$f":"VLOOKUP(G1333,[1]RewardItemConfig!$B:$F,5,FALSE)","v":1382},{"$f":"VLOOKUP(H1333,[1]RewardItemConfig!$B:$F,5,FALSE)","v":317},{"$f":"VLOOKUP(I1333,[1]RewardItemConfig!$B:$F,5,FALSE)","v":138},14,3,17,"14#1382|3#317|17#138"]
[{"$nulls":6},3001334,3006334,3011334,{"$f":"VLOOKUP(G1334,[1]RewardItemConfig!$B:$F,5,FALSE)","v":1383},{"$f":"VLOOKUP(H1334,[1]RewardItemConfig!$B:$F,5,FALSE)","v":317},{"$f":"VLOOKUP(I1334,[1]RewardItemConfig!$B:$F,5,FALSE)","v":138},14,3,17,"14#1383|3#317|17#138"]
[{"$nulls":6},3001335,3006335,3011335,{"$f":"VLOOKUP(G1335,[1]RewardItemConfig!$B:$F,5,FALSE)","v":1384},{"$f":"VLOOKUP(H1335,[1]RewardItemConfig!$B:$F,5,FALSE)","v":317},{"$f":"VLOOKUP(I1335,[1]RewardItemConfig!$B:$F,5,FALSE)","v":138},14,3,17,"14#1384|3#317|17#138"]
[{"$nulls":6},3001336,3006336,3011336,{"$f":"VLOOKUP(G1336,[1]RewardItemConfig!$B:$F,5,FALSE)","v":1385},{"$f":"VLOOKUP(H1336,[1]RewardItemConfig!$B:$F,5,FALSE)","v":317},{"$f":"VLOOKUP(I1336,[1]RewardItemConfig!$B:$F,5,FALSE)","v":138},14,3,17,"14#1385|3#317|17#138"]
[{"$nulls":6},3001337,3006337,3011337,{"$f":"VLOOKUP(G1337,[1]RewardItemConfig!$B:$F,5,FALSE)","v":1386},{"$f":"VLOOKUP(H1337,[1]RewardItemConfig!$B:$F,5,FALSE)","v":317},{"$f":"VLOOKUP(I1337,[1]RewardItemConfig!$B:$F,5,FALSE)","v":138},14,3,17,"14#1386|3#317|17#138"]
[{"$nulls":6},3001338,3006338,3011338,{"$f":"VLOOKUP(G1338,[1]RewardItemConfig!$B:$F,5,FALSE)","v":1387},{"$f":"VLOOKUP(H1338,[1]RewardItemConfig!$B:$F,5,FALSE)","v":317},{"$f":"VLOOKUP(I1338,[1]RewardItemConfig!$B:$F,5,FALSE)","v":138},14,3,17,"14#1387|3#317|17#138"]
[{"$nulls":6},3001339,3006339,3011339,{"$f":"VLOOKUP(G1339,[1]RewardItemConfig!$B:$F,5,FALSE)","v":1388},{"$f":"VLOOKUP(H1339,[1]RewardItemConfig!$B:$F,5,FALSE)","v":317},{"$f":"VLOOKUP(I1339,[1]RewardItemConfig!$B:$F,5,FALSE)","v":138},14,3,17,"14#1388|3#317|17#138"]
[{"$nulls":6},3001340,3006340,3011340,{"$f":"VLOOKUP(G1340,[1]RewardItemConfig!$B:$F,5,FALSE)","v":1389},{"$f":"VLOOKUP(H1340,[1]RewardItemConfig!$B:$F,5,FALSE)","v":320},{"$f":"VLOOKUP(I1340,[1]RewardItemConfig!$B:$F,5,FALSE)","v":139},14,3,17,"14#1389|3#320|17#139"]
[{"$nulls":6},3001341,3006341,3011341,{"$f":"VLOOKUP(G1341,[1]RewardItemConfig!$B:$F,5,FALSE)","v":1390},{"$f":"VLOOKUP(H1341,[1]RewardItemConfig!$B:$F,5,FALSE)","v":320},{"$f":"VLOOKUP(I1341,[1]RewardItemConfig!$B:$F,5,FALSE)","v":139},14,3,17,"14#1390|3#320|17#139"]
[{"$nulls":6},3001342,3006342,3011342,{"$f":"VLOOKUP(G1342,[1]RewardItemConfig!$B:$F,5,FALSE)","v":1391},{"$f":"VLOOKUP(H1342,[1]RewardItemConfig!$B:$F,5,FALSE)","v":320},{"$f":"VLOOKUP(I1342,[1]RewardItemConfig!$B:$F,5,FALSE)","v":139},14,3,17,"14#1391|3#320|17#139"]
[{"$nulls":6},3001343,3006343,3011343,{"$f":"VLOOKUP(G1343,[1]RewardItemConfig!$B:$F,5,FALSE)","v":1392},{"$f":"VLOOKUP(H1343,[1]RewardItemConfig!$B:$F,5,FALSE)","v":320},{"$f":"VLOOKUP(I1343,[1]RewardItemConfig!$B:$F,5,FALSE)","v":139},14,3,17,"14#1392|3#320|17#139"]
[{"$nulls":6},3001344,3006344,3011344,{"$f":"VLOOKUP(G1344,[1]RewardItemConfig!$B:$F,5,FALSE)","v":1393},{"$f":"VLOOKUP(H1344,[1]RewardItemConfig!$B:$F,5,FALSE)","v":320},{"$f":"VLOOKUP(I1344,[1]RewardItemConfig!$B:$F,5,FALSE)","v":139},14,3,17,"14#1393|3#320|17#139"]
[{"$nulls":6},3001345,3006345,3011345,{"$f":"VLOOKUP(G1345,[1]RewardItemConfig!$B:$F,5,FALSE)","v":1394},{"$f":"VLOOKUP(H1345,[1]RewardItemConfig!$B:$F,5,FALSE)","v":320},{"$f":"VLOOKUP(I1345,[1]RewardItemConfig!$B:$F,5,FALSE)","v":139},14,3,17,"14#1394|3#320|17#139"]
[{"$nulls":6},3001346,3006346,3011346,{"$f":"VLOOKUP(G1346,[1]RewardItemConfig!$B:$F,5,FALSE)","v":1395},{"$f":"VLOOKUP(H1346,[1]RewardItemConfig!$B:$F,5,FALSE)","v":320},{"$f":"VLOOKUP(I1346,[1]RewardItemConfig!$B:$F,5,FALSE)","v":139},14,3,17,{"$f":"M1346&\"#\"&J1346&\"|\"&N1346&\"#\"&K1346&\"|\"&O1346&\"#\"&L1346","v":"14#1395|3#320|17#139"}]
[{"$nulls":6},3001347,3006347,3011347,{"$f":"VLOOKUP(G1347,[1]RewardItemConfig!$B:$F,5,FALSE)","v":1396},{"$f":"VLOOKUP(H1347,[1]RewardItemConfig!$B:$F,5,FALSE)","v":320},{"$f":"VLOOKUP(I1347,[1]RewardItemConfig!$B:$F,5,FALSE)","v":139},{"$f":"M1346","v":14},{"$f":"N1346","v":3},{"$f":"O1346","v":17},"14#1396|3#320|17#139"]
[{"$nulls":6},3001348,3006348,3011348,{"$f":"VLOOKUP(G1348,[1]RewardItemConfig!$B:$F,5,FALSE)","v":1397},{"$f":"VLOOKUP(H1348,[1]RewardItemConfig!$B:$F,5,FALSE)","v":320},{"$f":"VLOOKUP(I1348,[1]RewardItemConfig!$B:$F,5,FALSE)","v":139},14,3,17,"14#1397|3#320|17#139"]
[{"$nulls":6},3001349,3006349,3011349,{"$f":"VLOOKUP(G1349,[1]RewardItemConfig!$B:$F,5,FALSE)","v":1398},{"$f":"VLOOKUP(H1349,[1]RewardItemConfig!$B:$F,5,FALSE)","v":320},{"$f":"VLOOKUP(I1349,[1]RewardItemConfig!$B:$F,5,FALSE)","v":139},14,3,17,"14#1398|3#320|17#139"]
[{"$nulls":6},3001350,3006350,3011350,{"$f":"VLOOKUP(G1350,[1]RewardItemConfig!$B:$F,5,FALSE)","v":1399},{"$f":"VLOOKUP(H1350,[1]RewardItemConfig!$B:$F,5,FALSE)","v":325},{"$f":"VLOOKUP(I1350,[1]RewardItemConfig!$B:$F,5,FALSE)","v":140},14,3,17,"14#1399|3#325|17#140"]
[{"$nulls":6},3001351,3006351,3011351,{"$f":"VLOOKUP(G1351,[1]RewardItemConfig!$B:$F,5,FALSE)","v":1400},{"$f":"VLOOKUP(H1351,[1]RewardItemConfig!$B:$F,5,FALSE)","v":325},{"$f":"VLOOKUP(I1351,[1]RewardItemConfig!$B:$F,5,FALSE)","v":140},14,3,17,"14#1400|3#325|17#140"]
[{"$nulls":6},3001352,3006352,3011352,{"$f":"VLOOKUP(G1352,[1]RewardItemConfig!$B:$F,5,FALSE)","v":1401},{"$f":"VLOOKUP(H1352,[1]RewardItemConfig!$B:$F,5,FALSE)","v":325},{"$f":"VLOOKUP(I1352,[1]RewardItemConfig!$B:$F,5,FALSE)","v":140},14,3,17,"14#1401|3#325|17#140"]
[{"$nulls":6},3001353,3006353,3011353,{"$f":"VLOOKUP(G1353,[1]RewardItemConfig!$B:$F,5,FALSE)","v":1402},{"$f":"VLOOKUP(H1353,[1]RewardItemConfig!$B:$F,5,FALSE)","v":325},{"$f":"VLOOKUP(I1353,[1]RewardItemConfig!$B:$F,5,FALSE)","v":140},14,3,17,"14#1402|3#325|17#140"]
[{"$nulls":6},3001354,3006354,3011354,{"$f":"VLOOKUP(G1354,[1]RewardItemConfig!$B:$F,5,FALSE)","v":1403},{"$f":"VLOOKUP(H1354,[1]RewardItemConfig!$B:$F,5,FALSE)","v":325},{"$f":"VLOOKUP(I1354,[1]RewardItemConfig!$B:$F,5,FALSE)","v":140},14,3,17,"14#1403|3#325|17#140"]
[{"$nulls":6},3001355,3006355,3011355,{"$f":"VLOOKUP(G1355,[1]RewardItemConfig!$B:$F,5,FALSE)","v":1404},{"$f":"VLOOKUP(H1355,[1]RewardItemConfig!$B:$F,5,FALSE)","v":325},{"$f":"VLOOKUP(I1355,[1]RewardItemConfig!$B:$F,5,FALSE)","v":140},14,3,17,"14#1404|3#325|17#140"]
[{"$nulls":6},3001356,3006356,3011356,{"$f":"VLOOKUP(G1356,[1]RewardItemConfig!$B:$F,5,FALSE)","v":1405},{"$f":"VLOOKUP(H1356,[1]RewardItemConfig!$B:$F,5,FALSE)","v":325},{"$f":"VLOOKUP(I1356,[1]RewardItemConfig!$B:$F,5,FALSE)","v":140},14,3,17,"14#1405|3#325|17#140"]
[{"$nulls":6},3001357,3006357,3011357,{"$f":"VLOOKUP(G1357,[1]RewardItemConfig!$B:$F,5,FALSE)","v":1406},{"$f":"VLOOKUP(H1357,[1]RewardItemConfig!$B:$F,5,FALSE)","v":325},{"$f":"VLOOKUP(I1357,[1]RewardItemConfig!$B:$F,5,FALSE)","v":140},14,3,17,"14#1406|3#325|17#140"]
[{"$nulls":6},3001358,3006358,3011358,{"$f":"VLOOKUP(G1358,[1]RewardItemConfig!$B:$F,5,FALSE)","v":1407},{"$f":"VLOOKUP(H1358,[1]RewardItemConfig!$B:$F,5,FALSE)","v":325},{"$f":"VLOOKUP(I1358,[1]RewardItemConfig!$B:$F,5,FALSE)","v":140},14,3,17,"14#1407|3#325|17#140"]
[{"$nulls":6},3001359,3006359,3011359,{"$f":"VLOOKUP(G1359,[1]RewardItemConfig!$B:$F,5,FALSE)","v":1408},{"$f":"VLOOKUP(H1359,[1]RewardItemConfig!$B:$F,5,FALSE)","v":325},{"$f":"VLOOKUP(I1359,[1]RewardItemConfig!$B:$F,5,FALSE)","v":140},14,3,17,"14#1408|3#325|17#140"]
[{"$nulls":6},3001360,3006360,3011360,{"$f":"VLOOKUP(G1360,[1]RewardItemConfig!$B:$F,5,FALSE)","v":1409},{"$f":"VLOOKUP(H1360,[1]RewardItemConfig!$B:$F,5,FALSE)","v":330},{"$f":"VLOOKUP(I1360,[1]RewardItemConfig!$B:$F,5,FALSE)","v":141},14,3,17,"14#1409|3#330|17#141"]
[{"$nulls":6},3001361,3006361,3011361,{"$f":"VLOOKUP(G1361,[1]RewardItemConfig!$B:$F,5,FALSE)","v":1410},{"$f":"VLOOKUP(H1361,[1]RewardItemConfig!$B:$F,5,FALSE)","v":330},{"$f":"VLOOKUP(I1361,[1]RewardItemConfig!$B:$F,5,FALSE)","v":141},14,3,17,"14#1410|3#330|17#141"]
[{"$nulls":6},3001362,3006362,3011362,{"$f":"VLOOKUP(G1362,[1]RewardItemConfig!$B:$F,5,FALSE)","v":1411},{"$f":"VLOOKUP(H1362,[1]RewardItemConfig!$B:$F,5,FALSE)","v":330},{"$f":"VLOOKUP(I1362,[1]RewardItemConfig!$B:$F,5,FALSE)","v":141},14,3,17,"14#1411|3#330|17#141"]
[{"$nulls":6},3001363,3006363,3011363,{"$f":"VLOOKUP(G1363,[1]RewardItemConfig!$B:$F,5,FALSE)","v":1412},{"$f":"VLOOKUP(H1363,[1]RewardItemConfig!$B:$F,5,FALSE)","v":330},{"$f":"VLOOKUP(I1363,[1]RewardItemConfig!$B:$F,5,FALSE)","v":141},14,3,17,"14#1412|3#330|17#141"]
[{"$nulls":6},3001364,3006364,3011364,{"$f":"VLOOKUP(G1364,[1]RewardItemConfig!$B:$F,5,FALSE)","v":1413},{"$f":"VLOOKUP(H1364,[1]RewardItemConfig!$B:$F,5,FALSE)","v":330},{"$f":"VLOOKUP(I1364,[1]RewardItemConfig!$B:$F,5,FALSE)","v":141},14,3,17,"14#1413|3#330|17#141"]
[{"$nulls":6},3001365,3006365,3011365,{"$f":"VLOOKUP(G1365,[1]RewardItemConfig!$B:$F,5,FALSE)","v":1414},{"$f":"VLOOKUP(H1365,[1]RewardItemConfig!$B:$F,5,FALSE)","v":330},{"$f":"VLOOKUP(I1365,[1]RewardItemConfig!$B:$F,5,FALSE)","v":141},14,3,17,"14#1414|3#330|17#141"]
[{"$nulls":6},3001366,3006366,3011366,{"$f":"VLOOKUP(G1366,[1]RewardItemConfig!$B:$F,5,FALSE)","v":1415},{"$f":"VLOOKUP(H1366,[1]RewardItemConfig!$B:$F,5,FALSE)","v":330},{"$f":"VLOOKUP(I1366,[1]RewardItemConfig!$B:$F,5,FALSE)","v":141},14,3,17,"14#1415|3#330|17#141"]
[{"$nulls":6},3001367,3006367,3011367,{"$f":"VLOOKUP(G1367,[1]RewardItemConfig!$B:$F,5,FALSE)","v":1416},{"$f":"VLOOKUP(H1367,[1]RewardItemConfig!$B:$F,5,FALSE)","v":330},{"$f":"VLOOKUP(I1367,[1]RewardItemConfig!$B:$F,5,FALSE)","v":141},14,3,17,"14#1416|3#330|17#141"]
[{"$nulls":6},3001368,3006368,3011368,{"$f":"VLOOKUP(G1368,[1]RewardItemConfig!$B:$F,5,FALSE)","v":1417},{"$f":"VLOOKUP(H1368,[1]RewardItemConfig!$B:$F,5,FALSE)","v":330},{"$f":"VLOOKUP(I1368,[1]RewardItemConfig!$B:$F,5,FALSE)","v":141},14,3,17,"14#1417|3#330|17#141"]
[{"$nulls":6},3001369,3006369,3011369,{"$f":"VLOOKUP(G1369,[1]RewardItemConfig!$B:$F,5,FALSE)","v":1418},{"$f":"VLOOKUP(H1369,[1]RewardItemConfig!$B:$F,5,FALSE)","v":330},{"$f":"VLOOKUP(I1369,[1]RewardItemConfig!$B:$F,5,FALSE)","v":141},14,3,17,"14#1418|3#330|17#141"]
[{"$nulls":6},3001370,3006370,3011370,{"$f":"VLOOKUP(G1370,[1]RewardItemConfig!$B:$F,5,FALSE)","v":1419},{"$f":"VLOOKUP(H1370,[1]RewardItemConfig!$B:$F,5,FALSE)","v":335},{"$f":"VLOOKUP(I1370,[1]RewardItemConfig!$B:$F,5,FALSE)","v":142},14,3,17,"14#1419|3#335|17#142"]
[{"$nulls":6},3001371,3006371,3011371,{"$f":"VLOOKUP(G1371,[1]RewardItemConfig!$B:$F,5,FALSE)","v":1420},{"$f":"VLOOKUP(H1371,[1]RewardItemConfig!$B:$F,5,FALSE)","v":335},{"$f":"VLOOKUP(I1371,[1]RewardItemConfig!$B:$F,5,FALSE)","v":142},14,3,17,"14#1420|3#335|17#142"]
[{"$nulls":6},3001372,3006372,3011372,{"$f":"VLOOKUP(G1372,[1]RewardItemConfig!$B:$F,5,FALSE)","v":1421},{"$f":"VLOOKUP(H1372,[1]RewardItemConfig!$B:$F,5,FALSE)","v":335},{"$f":"VLOOKUP(I1372,[1]RewardItemConfig!$B:$F,5,FALSE)","v":142},14,3,17,"14#1421|3#335|17#142"]
[{"$nulls":6},3001373,3006373,3011373,{"$f":"VLOOKUP(G1373,[1]RewardItemConfig!$B:$F,5,FALSE)","v":1422},{"$f":"VLOOKUP(H1373,[1]RewardItemConfig!$B:$F,5,FALSE)","v":335},{"$f":"VLOOKUP(I1373,[1]RewardItemConfig!$B:$F,5,FALSE)","v":142},14,3,17,"14#1422|3#335|17#142"]
[{"$nulls":6},3001374,3006374,3011374,{"$f":"VLOOKUP(G1374,[1]RewardItemConfig!$B:$F,5,FALSE)","v":1423},{"$f":"VLOOKUP(H1374,[1]RewardItemConfig!$B:$F,5,FALSE)","v":335},{"$f":"VLOOKUP(I1374,[1]RewardItemConfig!$B:$F,5,FALSE)","v":142},14,3,17,"14#1423|3#335|17#142"]
[{"$nulls":6},3001375,3006375,3011375,{"$f":"VLOOKUP(G1375,[1]RewardItemConfig!$B:$F,5,FALSE)","v":1424},{"$f":"VLOOKUP(H1375,[1]RewardItemConfig!$B:$F,5,FALSE)","v":335},{"$f":"VLOOKUP(I1375,[1]RewardItemConfig!$B:$F,5,FALSE)","v":142},14,3,17,"14#1424|3#335|17#142"]
[{"$nulls":6},3001376,3006376,3011376,{"$f":"VLOOKUP(G1376,[1]RewardItemConfig!$B:$F,5,FALSE)","v":1425},{"$f":"VLOOKUP(H1376,[1]RewardItemConfig!$B:$F,5,FALSE)","v":335},{"$f":"VLOOKUP(I1376,[1]RewardItemConfig!$B:$F,5,FALSE)","v":142},14,3,17,"14#1425|3#335|17#142"]
[{"$nulls":6},3001377,3006377,3011377,{"$f":"VLOOKUP(G1377,[1]RewardItemConfig!$B:$F,5,FALSE)","v":1426},{"$f":"VLOOKUP(H1377,[1]RewardItemConfig!$B:$F,5,FALSE)","v":335},{"$f":"VLOOKUP(I1377,[1]RewardItemConfig!$B:$F,5,FALSE)","v":142},14,3,17,"14#1426|3#335|17#142"]
[{"$nulls":6},3001378,3006378,3011378,{"$f":"VLOOKUP(G1378,[1]RewardItemConfig!$B:$F,5,FALSE)","v":1427},{"$f":"VLOOKUP(H1378,[1]RewardItemConfig!$B:$F,5,FALSE)","v":335},{"$f":"VLOOKUP(I1378,[1]RewardItemConfig!$B:$F,5,FALSE)","v":142},14,3,17,"14#1427|3#335|17#142"]
[{"$nulls":6},3001379,3006379,3011379,{"$f":"VLOOKUP(G1379,[1]RewardItemConfig!$B:$F,5,FALSE)","v":1428},{"$f":"VLOOKUP(H1379,[1]RewardItemConfig!$B:$F,5,FALSE)","v":335},{"$f":"VLOOKUP(I1379,[1]RewardItemConfig!$B:$F,5,FALSE)","v":142},14,3,17,"14#1428|3#335|17#142"]
[{"$nulls":6},3001380,3006380,3011380,{"$f":"VLOOKUP(G1380,[1]RewardItemConfig!$B:$F,5,FALSE)","v":1429},{"$f":"VLOOKUP(H1380,[1]RewardItemConfig!$B:$F,5,FALSE)","v":340},{"$f":"VLOOKUP(I1380,[1]RewardItemConfig!$B:$F,5,FALSE)","v":143},14,3,17,"14#1429|3#340|17#143"]
[{"$nulls":6},3001381,3006381,3011381,{"$f":"VLOOKUP(G1381,[1]RewardItemConfig!$B:$F,5,FALSE)","v":1430},{"$f":"VLOOKUP(H1381,[1]RewardItemConfig!$B:$F,5,FALSE)","v":340},{"$f":"VLOOKUP(I1381,[1]RewardItemConfig!$B:$F,5,FALSE)","v":143},14,3,17,"14#1430|3#340|17#143"]
[{"$nulls":6},3001382,3006382,3011382,{"$f":"VLOOKUP(G1382,[1]RewardItemConfig!$B:$F,5,FALSE)","v":1431},{"$f":"VLOOKUP(H1382,[1]RewardItemConfig!$B:$F,5,FALSE)","v":340},{"$f":"VLOOKUP(I1382,[1]RewardItemConfig!$B:$F,5,FALSE)","v":143},14,3,17,"14#1431|3#340|17#143"]
[{"$nulls":6},3001383,3006383,3011383,{"$f":"VLOOKUP(G1383,[1]RewardItemConfig!$B:$F,5,FALSE)","v":1432},{"$f":"VLOOKUP(H1383,[1]RewardItemConfig!$B:$F,5,FALSE)","v":340},{"$f":"VLOOKUP(I1383,[1]RewardItemConfig!$B:$F,5,FALSE)","v":143},14,3,17,"14#1432|3#340|17#143"]
[{"$nulls":6},3001384,3006384,3011384,{"$f":"VLOOKUP(G1384,[1]RewardItemConfig!$B:$F,5,FALSE)","v":1433},{"$f":"VLOOKUP(H1384,[1]RewardItemConfig!$B:$F,5,FALSE)","v":340},{"$f":"VLOOKUP(I1384,[1]RewardItemConfig!$B:$F,5,FALSE)","v":143},14,3,17,"14#1433|3#340|17#143"]
[{"$nulls":6},3001385,3006385,3011385,{"$f":"VLOOKUP(G1385,[1]RewardItemConfig!$B:$F,5,FALSE)","v":1434},{"$f":"VLOOKUP(H1385,[1]RewardItemConfig!$B:$F,5,FALSE)","v":340},{"$f":"VLOOKUP(I1385,[1]RewardItemConfig!$B:$F,5,FALSE)","v":143},14,3,17,"14#1434|3#340|17#143"]
[{"$nulls":6},3001386,3006386,3011386,{"$f":"VLOOKUP(G1386,[1]RewardItemConfig!$B:$F,5,FALSE)","v":1435},{"$f":"VLOOKUP(H1386,[1]RewardItemConfig!$B:$F,5,FALSE)","v":340},{"$f":"VLOOKUP(I1386,[1]RewardItemConfig!$B:$F,5,FALSE)","v":143},14,3,17,"14#1435|3#340|17#143"]
[{"$nulls":6},3001387,3006387,3011387,{"$f":"VLOOKUP(G1387,[1]RewardItemConfig!$B:$F,5,FALSE)","v":1436},{"$f":"VLOOKUP(H1387,[1]RewardItemConfig!$B:$F,5,FALSE)","v":340},{"$f":"VLOOKUP(I1387,[1]RewardItemConfig!$B:$F,5,FALSE)","v":143},14,3,17,"14#1436|3#340|17#143"]
[{"$nulls":6},3001388,3006388,3011388,{"$f":"VLOOKUP(G1388,[1]RewardItemConfig!$B:$F,5,FALSE)","v":1437},{"$f":"VLOOKUP(H1388,[1]RewardItemConfig!$B:$F,5,FALSE)","v":340},{"$f":"VLOOKUP(I1388,[1]RewardItemConfig!$B:$F,5,FALSE)","v":143},14,3,17,"14#1437|3#340|17#143"]
[{"$nulls":6},3001389,3006389,3011389,{"$f":"VLOOKUP(G1389,[1]RewardItemConfig!$B:$F,5,FALSE)","v":1438},{"$f":"VLOOKUP(H1389,[1]RewardItemConfig!$B:$F,5,FALSE)","v":340},{"$f":"VLOOKUP(I1389,[1]RewardItemConfig!$B:$F,5,FALSE)","v":143},14,3,17,"14#1438|3#340|17#143"]
[{"$nulls":6},3001390,3006390,3011390,{"$f":"VLOOKUP(G1390,[1]RewardItemConfig!$B:$F,5,FALSE)","v":1439},{"$f":"VLOOKUP(H1390,[1]RewardItemConfig!$B:$F,5,FALSE)","v":345},{"$f":"VLOOKUP(I1390,[1]RewardItemConfig!$B:$F,5,FALSE)","v":144},14,3,17,"14#1439|3#345|17#144"]
[{"$nulls":6},3001391,3006391,3011391,{"$f":"VLOOKUP(G1391,[1]RewardItemConfig!$B:$F,5,FALSE)","v":1440},{"$f":"VLOOKUP(H1391,[1]RewardItemConfig!$B:$F,5,FALSE)","v":345},{"$f":"VLOOKUP(I1391,[1]RewardItemConfig!$B:$F,5,FALSE)","v":144},14,3,17,"14#1440|3#345|17#144"]
[{"$nulls":6},3001392,3006392,3011392,{"$f":"VLOOKUP(G1392,[1]RewardItemConfig!$B:$F,5,FALSE)","v":1441},{"$f":"VLOOKUP(H1392,[1]RewardItemConfig!$B:$F,5,FALSE)","v":345},{"$f":"VLOOKUP(I1392,[1]RewardItemConfig!$B:$F,5,FALSE)","v":144},14,3,17,"14#1441|3#345|17#144"]
[{"$nulls":6},3001393,3006393,3011393,{"$f":"VLOOKUP(G1393,[1]RewardItemConfig!$B:$F,5,FALSE)","v":1442},{"$f":"VLOOKUP(H1393,[1]RewardItemConfig!$B:$F,5,FALSE)","v":345},{"$f":"VLOOKUP(I1393,[1]RewardItemConfig!$B:$F,5,FALSE)","v":144},14,3,17,"14#1442|3#345|17#144"]
[{"$nulls":6},3001394,3006394,3011394,{"$f":"VLOOKUP(G1394,[1]RewardItemConfig!$B:$F,5,FALSE)","v":1443},{"$f":"VLOOKUP(H1394,[1]RewardItemConfig!$B:$F,5,FALSE)","v":345},{"$f":"VLOOKUP(I1394,[1]RewardItemConfig!$B:$F,5,FALSE)","v":144},14,3,17,"14#1443|3#345|17#144"]
[{"$nulls":6},3001395,3006395,3011395,{"$f":"VLOOKUP(G1395,[1]RewardItemConfig!$B:$F,5,FALSE)","v":1444},{"$f":"VLOOKUP(H1395,[1]RewardItemConfig!$B:$F,5,FALSE)","v":345},{"$f":"VLOOKUP(I1395,[1]RewardItemConfig!$B:$F,5,FALSE)","v":144},14,3,17,"14#1444|3#345|17#144"]
[{"$nulls":6},3001396,3006396,3011396,{"$f":"VLOOKUP(G1396,[1]RewardItemConfig!$B:$F,5,FALSE)","v":1445},{"$f":"VLOOKUP(H1396,[1]RewardItemConfig!$B:$F,5,FALSE)","v":345},{"$f":"VLOOKUP(I1396,[1]RewardItemConfig!$B:$F,5,FALSE)","v":144},14,3,17,"14#1445|3#345|17#144"]
[{"$nulls":6},3001397,3006397,3011397,{"$f":"VLOOKUP(G1397,[1]RewardItemConfig!$B:$F,5,FALSE)","v":1446},{"$f":"VLOOKUP(H1397,[1]RewardItemConfig!$B:$F,5,FALSE)","v":345},{"$f":"VLOOKUP(I1397,[1]RewardItemConfig!$B:$F,5,FALSE)","v":144},14,3,17,"14#1446|3#345|17#144"]
[{"$nulls":6},3001398,3006398,3011398,{"$f":"VLOOKUP(G1398,[1]RewardItemConfig!$B:$F,5,FALSE)","v":1447},{"$f":"VLOOKUP(H1398,[1]RewardItemConfig!$B:$F,5,FALSE)","v":345},{"$f":"VLOOKUP(I1398,[1]RewardItemConfig!$B:$F,5,FALSE)","v":144},14,3,17,"14#1447|3#345|17#144"]
[{"$nulls":6},3001399,3006399,3011399,{"$f":"VLOOKUP(G1399,[1]RewardItemConfig!$B:$F,5,FALSE)","v":1448},{"$f":"VLOOKUP(H1399,[1]RewardItemConfig!$B:$F,5,FALSE)","v":345},{"$f":"VLOOKUP(I1399,[1]RewardItemConfig!$B:$F,5,FALSE)","v":144},14,3,17,"14#1448|3#345|17#144"]
[{"$nulls":6},3001400,3006400,3011400,{"$f":"VLOOKUP(G1400,[1]RewardItemConfig!$B:$F,5,FALSE)","v":1449},{"$f":"VLOOKUP(H1400,[1]RewardItemConfig!$B:$F,5,FALSE)","v":350},{"$f":"VLOOKUP(I1400,[1]RewardItemConfig!$B:$F,5,FALSE)","v":145},14,3,17,"14#1449|3#350|17#145"]
[{"$nulls":6},3001401,3006401,3011401,{"$f":"VLOOKUP(G1401,[1]RewardItemConfig!$B:$F,5,FALSE)","v":1450},{"$f":"VLOOKUP(H1401,[1]RewardItemConfig!$B:$F,5,FALSE)","v":350},{"$f":"VLOOKUP(I1401,[1]RewardItemConfig!$B:$F,5,FALSE)","v":145},14,3,17,"14#1450|3#350|17#145"]
[{"$nulls":6},3001402,3006402,3011402,{"$f":"VLOOKUP(G1402,[1]RewardItemConfig!$B:$F,5,FALSE)","v":1451},{"$f":"VLOOKUP(H1402,[1]RewardItemConfig!$B:$F,5,FALSE)","v":350},{"$f":"VLOOKUP(I1402,[1]RewardItemConfig!$B:$F,5,FALSE)","v":145},14,3,17,"14#1451|3#350|17#145"]
[{"$nulls":6},3001403,3006403,3011403,{"$f":"VLOOKUP(G1403,[1]RewardItemConfig!$B:$F,5,FALSE)","v":1452},{"$f":"VLOOKUP(H1403,[1]RewardItemConfig!$B:$F,5,FALSE)","v":350},{"$f":"VLOOKUP(I1403,[1]RewardItemConfig!$B:$F,5,FALSE)","v":145},14,3,17,"14#1452|3#350|17#145"]
[{"$nulls":6},3001404,3006404,3011404,{"$f":"VLOOKUP(G1404,[1]RewardItemConfig!$B:$F,5,FALSE)","v":1453},{"$f":"VLOOKUP(H1404,[1]RewardItemConfig!$B:$F,5,FALSE)","v":350},{"$f":"VLOOKUP(I1404,[1]RewardItemConfig!$B:$F,5,FALSE)","v":145},14,3,17,"14#1453|3#350|17#145"]
[{"$nulls":6},3001405,3006405,3011405,{"$f":"VLOOKUP(G1405,[1]RewardItemConfig!$B:$F,5,FALSE)","v":1454},{"$f":"VLOOKUP(H1405,[1]RewardItemConfig!$B:$F,5,FALSE)","v":350},{"$f":"VLOOKUP(I1405,[1]RewardItemConfig!$B:$F,5,FALSE)","v":145},14,3,17,"14#1454|3#350|17#145"]
[{"$nulls":6},3001406,3006406,3011406,{"$f":"VLOOKUP(G1406,[1]RewardItemConfig!$B:$F,5,FALSE)","v":1455},{"$f":"VLOOKUP(H1406,[1]RewardItemConfig!$B:$F,5,FALSE)","v":350},{"$f":"VLOOKUP(I1406,[1]RewardItemConfig!$B:$F,5,FALSE)","v":145},14,3,17,"14#1455|3#350|17#145"]
[{"$nulls":6},3001407,3006407,3011407,{"$f":"VLOOKUP(G1407,[1]RewardItemConfig!$B:$F,5,FALSE)","v":1456},{"$f":"VLOOKUP(H1407,[1]RewardItemConfig!$B:$F,5,FALSE)","v":350},{"$f":"VLOOKUP(I1407,[1]RewardItemConfig!$B:$F,5,FALSE)","v":145},14,3,17,"14#1456|3#350|17#145"]
[{"$nulls":6},3001408,3006408,3011408,{"$f":"VLOOKUP(G1408,[1]RewardItemConfig!$B:$F,5,FALSE)","v":1457},{"$f":"VLOOKUP(H1408,[1]RewardItemConfig!$B:$F,5,FALSE)","v":350},{"$f":"VLOOKUP(I1408,[1]RewardItemConfig!$B:$F,5,FALSE)","v":145},14,3,17,"14#1457|3#350|17#145"]
[{"$nulls":6},3001409,3006409,3011409,{"$f":"VLOOKUP(G1409,[1]RewardItemConfig!$B:$F,5,FALSE)","v":1458},{"$f":"VLOOKUP(H1409,[1]RewardItemConfig!$B:$F,5,FALSE)","v":350},{"$f":"VLOOKUP(I1409,[1]RewardItemConfig!$B:$F,5,FALSE)","v":145},14,3,17,"14#1458|3#350|17#145"]
[{"$nulls":6},3001410,3006410,3011410,{"$f":"VLOOKUP(G1410,[1]RewardItemConfig!$B:$F,5,FALSE)","v":1459},{"$f":"VLOOKUP(H1410,[1]RewardItemConfig!$B:$F,5,FALSE)","v":355},{"$f":"VLOOKUP(I1410,[1]RewardItemConfig!$B:$F,5,FALSE)","v":146},14,3,17,{"$f":"M1410&\"#\"&J1410&\"|\"&N1410&\"#\"&K1410&\"|\"&O1410&\"#\"&L1410","v":"14#1459|3#355|17#146"}]
[{"$nulls":6},3001411,3006411,3011411,{"$f":"VLOOKUP(G1411,[1]RewardItemConfig!$B:$F,5,FALSE)","v":1460},{"$f":"VLOOKUP(H1411,[1]RewardItemConfig!$B:$F,5,FALSE)","v":355},{"$f":"VLOOKUP(I1411,[1]RewardItemConfig!$B:$F,5,FALSE)","v":146},{"$f":"M1410","v":14},{"$f":"N1410","v":3},{"$f":"O1410","v":17},"14#1460|3#355|17#146"]
[{"$nulls":6},3001412,3006412,3011412,{"$f":"VLOOKUP(G1412,[1]RewardItemConfig!$B:$F,5,FALSE)","v":1461},{"$f":"VLOOKUP(H1412,[1]RewardItemConfig!$B:$F,5,FALSE)","v":355},{"$f":"VLOOKUP(I1412,[1]RewardItemConfig!$B:$F,5,FALSE)","v":146},14,3,17,"14#1461|3#355|17#146"]
[{"$nulls":6},3001413,3006413,3011413,{"$f":"VLOOKUP(G1413,[1]RewardItemConfig!$B:$F,5,FALSE)","v":1462},{"$f":"VLOOKUP(H1413,[1]RewardItemConfig!$B:$F,5,FALSE)","v":355},{"$f":"VLOOKUP(I1413,[1]RewardItemConfig!$B:$F,5,FALSE)","v":146},14,3,17,"14#1462|3#355|17#146"]
[{"$nulls":6},3001414,3006414,3011414,{"$f":"VLOOKUP(G1414,[1]RewardItemConfig!$B:$F,5,FALSE)","v":1463},{"$f":"VLOOKUP(H1414,[1]RewardItemConfig!$B:$F,5,FALSE)","v":355},{"$f":"VLOOKUP(I1414,[1]RewardItemConfig!$B:$F,5,FALSE)","v":146},14,3,17,"14#1463|3#355|17#146"]
[{"$nulls":6},3001415,3006415,3011415,{"$f":"VLOOKUP(G1415,[1]RewardItemConfig!$B:$F,5,FALSE)","v":1464},{"$f":"VLOOKUP(H1415,[1]RewardItemConfig!$B:$F,5,FALSE)","v":355},{"$f":"VLOOKUP(I1415,[1]RewardItemConfig!$B:$F,5,FALSE)","v":146},14,3,17,"14#1464|3#355|17#146"]
[{"$nulls":6},3001416,3006416,3011416,{"$f":"VLOOKUP(G1416,[1]RewardItemConfig!$B:$F,5,FALSE)","v":1465},{"$f":"VLOOKUP(H1416,[1]RewardItemConfig!$B:$F,5,FALSE)","v":355},{"$f":"VLOOKUP(I1416,[1]RewardItemConfig!$B:$F,5,FALSE)","v":146},14,3,17,"14#1465|3#355|17#146"]
[{"$nulls":6},3001417,3006417,3011417,{"$f":"VLOOKUP(G1417,[1]RewardItemConfig!$B:$F,5,FALSE)","v":1466},{"$f":"VLOOKUP(H1417,[1]RewardItemConfig!$B:$F,5,FALSE)","v":355},{"$f":"VLOOKUP(I1417,[1]RewardItemConfig!$B:$F,5,FALSE)","v":146},14,3,17,"14#1466|3#355|17#146"]
[{"$nulls":6},3001418,3006418,3011418,{"$f":"VLOOKUP(G1418,[1]RewardItemConfig!$B:$F,5,FALSE)","v":1467},{"$f":"VLOOKUP(H1418,[1]RewardItemConfig!$B:$F,5,FALSE)","v":355},{"$f":"VLOOKUP(I1418,[1]RewardItemConfig!$B:$F,5,FALSE)","v":146},14,3,17,"14#1467|3#355|17#146"]
[{"$nulls":6},3001419,3006419,3011419,{"$f":"VLOOKUP(G1419,[1]RewardItemConfig!$B:$F,5,FALSE)","v":1468},{"$f":"VLOOKUP(H1419,[1]RewardItemConfig!$B:$F,5,FALSE)","v":355},{"$f":"VLOOKUP(I1419,[1]RewardItemConfig!$B:$F,5,FALSE)","v":146},14,3,17,"14#1468|3#355|17#146"]
[{"$nulls":6},3001420,3006420,3011420,{"$f":"VLOOKUP(G1420,[1]RewardItemConfig!$B:$F,5,FALSE)","v":1469},{"$f":"VLOOKUP(H1420,[1]RewardItemConfig!$B:$F,5,FALSE)","v":360},{"$f":"VLOOKUP(I1420,[1]RewardItemConfig!$B:$F,5,FALSE)","v":147},14,3,17,"14#1469|3#360|17#147"]
[{"$nulls":6},3001421,3006421,3011421,{"$f":"VLOOKUP(G1421,[1]RewardItemConfig!$B:$F,5,FALSE)","v":1470},{"$f":"VLOOKUP(H1421,[1]RewardItemConfig!$B:$F,5,FALSE)","v":360},{"$f":"VLOOKUP(I1421,[1]RewardItemConfig!$B:$F,5,FALSE)","v":147},14,3,17,"14#1470|3#360|17#147"]
[{"$nulls":6},3001422,3006422,3011422,{"$f":"VLOOKUP(G1422,[1]RewardItemConfig!$B:$F,5,FALSE)","v":1471},{"$f":"VLOOKUP(H1422,[1]RewardItemConfig!$B:$F,5,FALSE)","v":360},{"$f":"VLOOKUP(I1422,[1]RewardItemConfig!$B:$F,5,FALSE)","v":147},14,3,17,"14#1471|3#360|17#147"]
[{"$nulls":6},3001423,3006423,3011423,{"$f":"VLOOKUP(G1423,[1]RewardItemConfig!$B:$F,5,FALSE)","v":1472},{"$f":"VLOOKUP(H1423,[1]RewardItemConfig!$B:$F,5,FALSE)","v":360},{"$f":"VLOOKUP(I1423,[1]RewardItemConfig!$B:$F,5,FALSE)","v":147},14,3,17,"14#1472|3#360|17#147"]
[{"$nulls":6},3001424,3006424,3011424,{"$f":"VLOOKUP(G1424,[1]RewardItemConfig!$B:$F,5,FALSE)","v":1473},{"$f":"VLOOKUP(H1424,[1]RewardItemConfig!$B:$F,5,FALSE)","v":360},{"$f":"VLOOKUP(I1424,[1]RewardItemConfig!$B:$F,5,FALSE)","v":147},14,3,17,"14#1473|3#360|17#147"]
[{"$nulls":6},3001425,3006425,3011425,{"$f":"VLOOKUP(G1425,[1]RewardItemConfig!$B:$F,5,FALSE)","v":1474},{"$f":"VLOOKUP(H1425,[1]RewardItemConfig!$B:$F,5,FALSE)","v":360},{"$f":"VLOOKUP(I1425,[1]RewardItemConfig!$B:$F,5,FALSE)","v":147},14,3,17,"14#1474|3#360|17#147"]
[{"$nulls":6},3001426,3006426,3011426,{"$f":"VLOOKUP(G1426,[1]RewardItemConfig!$B:$F,5,FALSE)","v":1475},{"$f":"VLOOKUP(H1426,[1]RewardItemConfig!$B:$F,5,FALSE)","v":360},{"$f":"VLOOKUP(I1426,[1]RewardItemConfig!$B:$F,5,FALSE)","v":147},14,3,17,"14#1475|3#360|17#147"]
[{"$nulls":6},3001427,3006427,3011427,{"$f":"VLOOKUP(G1427,[1]RewardItemConfig!$B:$F,5,FALSE)","v":1476},{"$f":"VLOOKUP(H1427,[1]RewardItemConfig!$B:$F,5,FALSE)","v":360},{"$f":"VLOOKUP(I1427,[1]RewardItemConfig!$B:$F,5,FALSE)","v":147},14,3,17,"14#1476|3#360|17#147"]
[{"$nulls":6},3001428,3006428,3011428,{"$f":"VLOOKUP(G1428,[1]RewardItemConfig!$B:$F,5,FALSE)","v":1477},{"$f":"VLOOKUP(H1428,[1]RewardItemConfig!$B:$F,5,FALSE)","v":360},{"$f":"VLOOKUP(I1428,[1]RewardItemConfig!$B:$F,5,FALSE)","v":147},14,3,17,"14#1477|3#360|17#147"]
[{"$nulls":6},3001429,3006429,3011429,{"$f":"VLOOKUP(G1429,[1]RewardItemConfig!$B:$F,5,FALSE)","v":1478},{"$f":"VLOOKUP(H1429,[1]RewardItemConfig!$B:$F,5,FALSE)","v":360},{"$f":"VLOOKUP(I1429,[1]RewardItemConfig!$B:$F,5,FALSE)","v":147},14,3,17,"14#1478|3#360|17#147"]
[{"$nulls":6},3001430,3006430,3011430,{"$f":"VLOOKUP(G1430,[1]RewardItemConfig!$B:$F,5,FALSE)","v":1479},{"$f":"VLOOKUP(H1430,[1]RewardItemConfig!$B:$F,5,FALSE)","v":365},{"$f":"VLOOKUP(I1430,[1]RewardItemConfig!$B:$F,5,FALSE)","v":148},14,3,17,"14#1479|3#365|17#148"]
[{"$nulls":6},3001431,3006431,3011431,{"$f":"VLOOKUP(G1431,[1]RewardItemConfig!$B:$F,5,FALSE)","v":1480},{"$f":"VLOOKUP(H1431,[1]RewardItemConfig!$B:$F,5,FALSE)","v":365},{"$f":"VLOOKUP(I1431,[1]RewardItemConfig!$B:$F,5,FALSE)","v":148},14,3,17,"14#1480|3#365|17#148"]
[{"$nulls":6},3001432,3006432,3011432,{"$f":"VLOOKUP(G1432,[1]RewardItemConfig!$B:$F,5,FALSE)","v":1481},{"$f":"VLOOKUP(H1432,[1]RewardItemConfig!$B:$F,5,FALSE)","v":365},{"$f":"VLOOKUP(I1432,[1]RewardItemConfig!$B:$F,5,FALSE)","v":148},14,3,17,"14#1481|3#365|17#148"]
[{"$nulls":6},3001433,3006433,3011433,{"$f":"VLOOKUP(G1433,[1]RewardItemConfig!$B:$F,5,FALSE)","v":1482},{"$f":"VLOOKUP(H1433,[1]RewardItemConfig!$B:$F,5,FALSE)","v":365},{"$f":"VLOOKUP(I1433,[1]RewardItemConfig!$B:$F,5,FALSE)","v":148},14,3,17,"14#1482|3#365|17#148"]
[{"$nulls":6},3001434,3006434,3011434,{"$f":"VLOOKUP(G1434,[1]RewardItemConfig!$B:$F,5,FALSE)","v":1483},{"$f":"VLOOKUP(H1434,[1]RewardItemConfig!$B:$F,5,FALSE)","v":365},{"$f":"VLOOKUP(I1434,[1]RewardItemConfig!$B:$F,5,FALSE)","v":148},14,3,17,"14#1483|3#365|17#148"]
[{"$nulls":6},3001435,3006435,3011435,{"$f":"VLOOKUP(G1435,[1]RewardItemConfig!$B:$F,5,FALSE)","v":1484},{"$f":"VLOOKUP(H1435,[1]RewardItemConfig!$B:$F,5,FALSE)","v":365},{"$f":"VLOOKUP(I1435,[1]RewardItemConfig!$B:$F,5,FALSE)","v":148},14,3,17,"14#1484|3#365|17#148"]
[{"$nulls":6},3001436,3006436,3011436,{"$f":"VLOOKUP(G1436,[1]RewardItemConfig!$B:$F,5,FALSE)","v":1485},{"$f":"VLOOKUP(H1436,[1]RewardItemConfig!$B:$F,5,FALSE)","v":365},{"$f":"VLOOKUP(I1436,[1]RewardItemConfig!$B:$F,5,FALSE)","v":148},14,3,17,"14#1485|3#365|17#148"]
[{"$nulls":6},3001437,3006437,3011437,{"$f":"VLOOKUP(G1437,[1]RewardItemConfig!$B:$F,5,FALSE)","v":1486},{"$f":"VLOOKUP(H1437,[1]RewardItemConfig!$B:$F,5,FALSE)","v":365},{"$f":"VLOOKUP(I1437,[1]RewardItemConfig!$B:$F,5,FALSE)","v":148},14,3,17,"14#1486|3#365|17#148"]
[{"$nulls":6},3001438,3006438,3011438,{"$f":"VLOOKUP(G1438,[1]RewardItemConfig!$B:$F,5,FALSE)","v":1487},{"$f":"VLOOKUP(H1438,[1]RewardItemConfig!$B:$F,5,FALSE)","v":365},{"$f":"VLOOKUP(I1438,[1]RewardItemConfig!$B:$F,5,FALSE)","v":148},14,3,17,"14#1487|3#365|17#148"]
[{"$nulls":6},3001439,3006439,3011439,{"$f":"VLOOKUP(G1439,[1]RewardItemConfig!$B:$F,5,FALSE)","v":1488},{"$f":"VLOOKUP(H1439,[1]RewardItemConfig!$B:$F,5,FALSE)","v":365},{"$f":"VLOOKUP(I1439,[1]RewardItemConfig!$B:$F,5,FALSE)","v":148},14,3,17,"14#1488|3#365|17#148"]
[{"$nulls":6},3001440,3006440,3011440,{"$f":"VLOOKUP(G1440,[1]RewardItemConfig!$B:$F,5,FALSE)","v":1489},{"$f":"VLOOKUP(H1440,[1]RewardItemConfig!$B:$F,5,FALSE)","v":370},{"$f":"VLOOKUP(I1440,[1]RewardItemConfig!$B:$F,5,FALSE)","v":149},14,3,17,"14#1489|3#370|17#149"]
[{"$nulls":6},3001441,3006441,3011441,{"$f":"VLOOKUP(G1441,[1]RewardItemConfig!$B:$F,5,FALSE)","v":1490},{"$f":"VLOOKUP(H1441,[1]RewardItemConfig!$B:$F,5,FALSE)","v":370},{"$f":"VLOOKUP(I1441,[1]RewardItemConfig!$B:$F,5,FALSE)","v":149},14,3,17,"14#1490|3#370|17#149"]
[{"$nulls":6},3001442,3006442,3011442,{"$f":"VLOOKUP(G1442,[1]RewardItemConfig!$B:$F,5,FALSE)","v":1491},{"$f":"VLOOKUP(H1442,[1]RewardItemConfig!$B:$F,5,FALSE)","v":370},{"$f":"VLOOKUP(I1442,[1]RewardItemConfig!$B:$F,5,FALSE)","v":149},14,3,17,"14#1491|3#370|17#149"]
[{"$nulls":6},3001443,3006443,3011443,{"$f":"VLOOKUP(G1443,[1]RewardItemConfig!$B:$F,5,FALSE)","v":1492},{"$f":"VLOOKUP(H1443,[1]RewardItemConfig!$B:$F,5,FALSE)","v":370},{"$f":"VLOOKUP(I1443,[1]RewardItemConfig!$B:$F,5,FALSE)","v":149},14,3,17,"14#1492|3#370|17#149"]
[{"$nulls":6},3001444,3006444,3011444,{"$f":"VLOOKUP(G1444,[1]RewardItemConfig!$B:$F,5,FALSE)","v":1493},{"$f":"VLOOKUP(H1444,[1]RewardItemConfig!$B:$F,5,FALSE)","v":370},{"$f":"VLOOKUP(I1444,[1]RewardItemConfig!$B:$F,5,FALSE)","v":149},14,3,17,"14#1493|3#370|17#149"]
[{"$nulls":6},3001445,3006445,3011445,{"$f":"VLOOKUP(G1445,[1]RewardItemConfig!$B:$F,5,FALSE)","v":1494},{"$f":"VLOOKUP(H1445,[1]RewardItemConfig!$B:$F,5,FALSE)","v":370},{"$f":"VLOOKUP(I1445,[1]RewardItemConfig!$B:$F,5,FALSE)","v":149},14,3,17,"14#1494|3#370|17#149"]
[{"$nulls":6},3001446,3006446,3011446,{"$f":"VLOOKUP(G1446,[1]RewardItemConfig!$B:$F,5,FALSE)","v":1495},{"$f":"VLOOKUP(H1446,[1]RewardItemConfig!$B:$F,5,FALSE)","v":370},{"$f":"VLOOKUP(I1446,[1]RewardItemConfig!$B:$F,5,FALSE)","v":149},14,3,17,"14#1495|3#370|17#149"]
[{"$nulls":6},3001447,3006447,3011447,{"$f":"VLOOKUP(G1447,[1]RewardItemConfig!$B:$F,5,FALSE)","v":1496},{"$f":"VLOOKUP(H1447,[1]RewardItemConfig!$B:$F,5,FALSE)","v":370},{"$f":"VLOOKUP(I1447,[1]RewardItemConfig!$B:$F,5,FALSE)","v":149},14,3,17,"14#1496|3#370|17#149"]
[{"$nulls":6},3001448,3006448,3011448,{"$f":"VLOOKUP(G1448,[1]RewardItemConfig!$B:$F,5,FALSE)","v":1497},{"$f":"VLOOKUP(H1448,[1]RewardItemConfig!$B:$F,5,FALSE)","v":370},{"$f":"VLOOKUP(I1448,[1]RewardItemConfig!$B:$F,5,FALSE)","v":149},14,3,17,"14#1497|3#370|17#149"]
[{"$nulls":6},3001449,3006449,3011449,{"$f":"VLOOKUP(G1449,[1]RewardItemConfig!$B:$F,5,FALSE)","v":1498},{"$f":"VLOOKUP(H1449,[1]RewardItemConfig!$B:$F,5,FALSE)","v":370},{"$f":"VLOOKUP(I1449,[1]RewardItemConfig!$B:$F,5,FALSE)","v":149},14,3,17,"14#1498|3#370|17#149"]
[{"$nulls":6},3001450,3006450,3011450,{"$f":"VLOOKUP(G1450,[1]RewardItemConfig!$B:$F,5,FALSE)","v":1499},{"$f":"VLOOKUP(H1450,[1]RewardItemConfig!$B:$F,5,FALSE)","v":375},{"$f":"VLOOKUP(I1450,[1]RewardItemConfig!$B:$F,5,FALSE)","v":150},14,3,17,"14#1499|3#375|17#150"]
[{"$nulls":6},3001451,3006451,3011451,{"$f":"VLOOKUP(G1451,[1]RewardItemConfig!$B:$F,5,FALSE)","v":1500},{"$f":"VLOOKUP(H1451,[1]RewardItemConfig!$B:$F,5,FALSE)","v":375},{"$f":"VLOOKUP(I1451,[1]RewardItemConfig!$B:$F,5,FALSE)","v":150},14,3,17,"14#1500|3#375|17#150"]
[{"$nulls":6},3001452,3006452,3011452,{"$f":"VLOOKUP(G1452,[1]RewardItemConfig!$B:$F,5,FALSE)","v":1501},{"$f":"VLOOKUP(H1452,[1]RewardItemConfig!$B:$F,5,FALSE)","v":375},{"$f":"VLOOKUP(I1452,[1]RewardItemConfig!$B:$F,5,FALSE)","v":150},14,3,17,"14#1501|3#375|17#150"]
[{"$nulls":6},3001453,3006453,3011453,{"$f":"VLOOKUP(G1453,[1]RewardItemConfig!$B:$F,5,FALSE)","v":1502},{"$f":"VLOOKUP(H1453,[1]RewardItemConfig!$B:$F,5,FALSE)","v":375},{"$f":"VLOOKUP(I1453,[1]RewardItemConfig!$B:$F,5,FALSE)","v":150},14,3,17,"14#1502|3#375|17#150"]
[{"$nulls":6},3001454,3006454,3011454,{"$f":"VLOOKUP(G1454,[1]RewardItemConfig!$B:$F,5,FALSE)","v":1503},{"$f":"VLOOKUP(H1454,[1]RewardItemConfig!$B:$F,5,FALSE)","v":375},{"$f":"VLOOKUP(I1454,[1]RewardItemConfig!$B:$F,5,FALSE)","v":150},14,3,17,"14#1503|3#375|17#150"]
[{"$nulls":6},3001455,3006455,3011455,{"$f":"VLOOKUP(G1455,[1]RewardItemConfig!$B:$F,5,FALSE)","v":1504},{"$f":"VLOOKUP(H1455,[1]RewardItemConfig!$B:$F,5,FALSE)","v":375},{"$f":"VLOOKUP(I1455,[1]RewardItemConfig!$B:$F,5,FALSE)","v":150},14,3,17,"14#1504|3#375|17#150"]
[{"$nulls":6},3001456,3006456,3011456,{"$f":"VLOOKUP(G1456,[1]RewardItemConfig!$B:$F,5,FALSE)","v":1505},{"$f":"VLOOKUP(H1456,[1]RewardItemConfig!$B:$F,5,FALSE)","v":375},{"$f":"VLOOKUP(I1456,[1]RewardItemConfig!$B:$F,5,FALSE)","v":150},14,3,17,"14#1505|3#375|17#150"]
[{"$nulls":6},3001457,3006457,3011457,{"$f":"VLOOKUP(G1457,[1]RewardItemConfig!$B:$F,5,FALSE)","v":1506},{"$f":"VLOOKUP(H1457,[1]RewardItemConfig!$B:$F,5,FALSE)","v":375},{"$f":"VLOOKUP(I1457,[1]RewardItemConfig!$B:$F,5,FALSE)","v":150},14,3,17,"14#1506|3#375|17#150"]
[{"$nulls":6},3001458,3006458,3011458,{"$f":"VLOOKUP(G1458,[1]RewardItemConfig!$B:$F,5,FALSE)","v":1507},{"$f":"VLOOKUP(H1458,[1]RewardItemConfig!$B:$F,5,FALSE)","v":375},{"$f":"VLOOKUP(I1458,[1]RewardItemConfig!$B:$F,5,FALSE)","v":150},14,3,17,"14#1507|3#375|17#150"]
[{"$nulls":6},3001459,3006459,3011459,{"$f":"VLOOKUP(G1459,[1]RewardItemConfig!$B:$F,5,FALSE)","v":1508},{"$f":"VLOOKUP(H1459,[1]RewardItemConfig!$B:$F,5,FALSE)","v":375},{"$f":"VLOOKUP(I1459,[1]RewardItemConfig!$B:$F,5,FALSE)","v":150},14,3,17,"14#1508|3#375|17#150"]
[{"$nulls":6},3001460,3006460,3011460,{"$f":"VLOOKUP(G1460,[1]RewardItemConfig!$B:$F,5,FALSE)","v":1509},{"$f":"VLOOKUP(H1460,[1]RewardItemConfig!$B:$F,5,FALSE)","v":380},{"$f":"VLOOKUP(I1460,[1]RewardItemConfig!$B:$F,5,FALSE)","v":151},14,3,17,"14#1509|3#380|17#151"]
[{"$nulls":6},3001461,3006461,3011461,{"$f":"VLOOKUP(G1461,[1]RewardItemConfig!$B:$F,5,FALSE)","v":1510},{"$f":"VLOOKUP(H1461,[1]RewardItemConfig!$B:$F,5,FALSE)","v":380},{"$f":"VLOOKUP(I1461,[1]RewardItemConfig!$B:$F,5,FALSE)","v":151},14,3,17,"14#1510|3#380|17#151"]
[{"$nulls":6},3001462,3006462,3011462,{"$f":"VLOOKUP(G1462,[1]RewardItemConfig!$B:$F,5,FALSE)","v":1511},{"$f":"VLOOKUP(H1462,[1]RewardItemConfig!$B:$F,5,FALSE)","v":380},{"$f":"VLOOKUP(I1462,[1]RewardItemConfig!$B:$F,5,FALSE)","v":151},14,3,17,"14#1511|3#380|17#151"]
[{"$nulls":6},3001463,3006463,3011463,{"$f":"VLOOKUP(G1463,[1]RewardItemConfig!$B:$F,5,FALSE)","v":1512},{"$f":"VLOOKUP(H1463,[1]RewardItemConfig!$B:$F,5,FALSE)","v":380},{"$f":"VLOOKUP(I1463,[1]RewardItemConfig!$B:$F,5,FALSE)","v":151},14,3,17,"14#1512|3#380|17#151"]
[{"$nulls":6},3001464,3006464,3011464,{"$f":"VLOOKUP(G1464,[1]RewardItemConfig!$B:$F,5,FALSE)","v":1513},{"$f":"VLOOKUP(H1464,[1]RewardItemConfig!$B:$F,5,FALSE)","v":380},{"$f":"VLOOKUP(I1464,[1]RewardItemConfig!$B:$F,5,FALSE)","v":151},14,3,17,"14#1513|3#380|17#151"]
[{"$nulls":6},3001465,3006465,3011465,{"$f":"VLOOKUP(G1465,[1]RewardItemConfig!$B:$F,5,FALSE)","v":1514},{"$f":"VLOOKUP(H1465,[1]RewardItemConfig!$B:$F,5,FALSE)","v":380},{"$f":"VLOOKUP(I1465,[1]RewardItemConfig!$B:$F,5,FALSE)","v":151},14,3,17,"14#1514|3#380|17#151"]
[{"$nulls":6},3001466,3006466,3011466,{"$f":"VLOOKUP(G1466,[1]RewardItemConfig!$B:$F,5,FALSE)","v":1515},{"$f":"VLOOKUP(H1466,[1]RewardItemConfig!$B:$F,5,FALSE)","v":380},{"$f":"VLOOKUP(I1466,[1]RewardItemConfig!$B:$F,5,FALSE)","v":151},14,3,17,"14#1515|3#380|17#151"]
[{"$nulls":6},3001467,3006467,3011467,{"$f":"VLOOKUP(G1467,[1]RewardItemConfig!$B:$F,5,FALSE)","v":1516},{"$f":"VLOOKUP(H1467,[1]RewardItemConfig!$B:$F,5,FALSE)","v":380},{"$f":"VLOOKUP(I1467,[1]RewardItemConfig!$B:$F,5,FALSE)","v":151},14,3,17,"14#1516|3#380|17#151"]
[{"$nulls":6},3001468,3006468,3011468,{"$f":"VLOOKUP(G1468,[1]RewardItemConfig!$B:$F,5,FALSE)","v":1517},{"$f":"VLOOKUP(H1468,[1]RewardItemConfig!$B:$F,5,FALSE)","v":380},{"$f":"VLOOKUP(I1468,[1]RewardItemConfig!$B:$F,5,FALSE)","v":151},14,3,17,"14#1517|3#380|17#151"]
[{"$nulls":6},3001469,3006469,3011469,{"$f":"VLOOKUP(G1469,[1]RewardItemConfig!$B:$F,5,FALSE)","v":1518},{"$f":"VLOOKUP(H1469,[1]RewardItemConfig!$B:$F,5,FALSE)","v":380},{"$f":"VLOOKUP(I1469,[1]RewardItemConfig!$B:$F,5,FALSE)","v":151},14,3,17,"14#1518|3#380|17#151"]
[{"$nulls":6},3001470,3006470,3011470,{"$f":"VLOOKUP(G1470,[1]RewardItemConfig!$B:$F,5,FALSE)","v":1519},{"$f":"VLOOKUP(H1470,[1]RewardItemConfig!$B:$F,5,FALSE)","v":385},{"$f":"VLOOKUP(I1470,[1]RewardItemConfig!$B:$F,5,FALSE)","v":152},14,3,17,"14#1519|3#385|17#152"]
[{"$nulls":6},3001471,3006471,3011471,{"$f":"VLOOKUP(G1471,[1]RewardItemConfig!$B:$F,5,FALSE)","v":1520},{"$f":"VLOOKUP(H1471,[1]RewardItemConfig!$B:$F,5,FALSE)","v":385},{"$f":"VLOOKUP(I1471,[1]RewardItemConfig!$B:$F,5,FALSE)","v":152},14,3,17,"14#1520|3#385|17#152"]
[{"$nulls":6},3001472,3006472,3011472,{"$f":"VLOOKUP(G1472,[1]RewardItemConfig!$B:$F,5,FALSE)","v":1521},{"$f":"VLOOKUP(H1472,[1]RewardItemConfig!$B:$F,5,FALSE)","v":385},{"$f":"VLOOKUP(I1472,[1]RewardItemConfig!$B:$F,5,FALSE)","v":152},14,3,17,"14#1521|3#385|17#152"]
[{"$nulls":6},3001473,3006473,3011473,{"$f":"VLOOKUP(G1473,[1]RewardItemConfig!$B:$F,5,FALSE)","v":1522},{"$f":"VLOOKUP(H1473,[1]RewardItemConfig!$B:$F,5,FALSE)","v":385},{"$f":"VLOOKUP(I1473,[1]RewardItemConfig!$B:$F,5,FALSE)","v":152},14,3,17,"14#1522|3#385|17#152"]
[{"$nulls":6},3001474,3006474,3011474,{"$f":"VLOOKUP(G1474,[1]RewardItemConfig!$B:$F,5,FALSE)","v":1523},{"$f":"VLOOKUP(H1474,[1]RewardItemConfig!$B:$F,5,FALSE)","v":385},{"$f":"VLOOKUP(I1474,[1]RewardItemConfig!$B:$F,5,FALSE)","v":152},14,3,17,{"$f":"M1474&\"#\"&J1474&\"|\"&N1474&\"#\"&K1474&\"|\"&O1474&\"#\"&L1474","v":"14#1523|3#385|17#152"}]
[{"$nulls":6},3001475,3006475,3011475,{"$f":"VLOOKUP(G1475,[1]RewardItemConfig!$B:$F,5,FALSE)","v":1524},{"$f":"VLOOKUP(H1475,[1]RewardItemConfig!$B:$F,5,FALSE)","v":385},{"$f":"VLOOKUP(I1475,[1]RewardItemConfig!$B:$F,5,FALSE)","v":152},{"$f":"M1474","v":14},{"$f":"N1474","v":3},{"$f":"O1474","v":17},"14#1524|3#385|17#152"]
[{"$nulls":6},3001476,3006476,3011476,{"$f":"VLOOKUP(G1476,[1]RewardItemConfig!$B:$F,5,FALSE)","v":1525},{"$f":"VLOOKUP(H1476,[1]RewardItemConfig!$B:$F,5,FALSE)","v":385},{"$f":"VLOOKUP(I1476,[1]RewardItemConfig!$B:$F,5,FALSE)","v":152},14,3,17,"14#1525|3#385|17#152"]
[{"$nulls":6},3001477,3006477,3011477,{"$f":"VLOOKUP(G1477,[1]RewardItemConfig!$B:$F,5,FALSE)","v":1526},{"$f":"VLOOKUP(H1477,[1]RewardItemConfig!$B:$F,5,FALSE)","v":385},{"$f":"VLOOKUP(I1477,[1]RewardItemConfig!$B:$F,5,FALSE)","v":152},14,3,17,"14#1526|3#385|17#152"]
[{"$nulls":6},3001478,3006478,3011478,{"$f":"VLOOKUP(G1478,[1]RewardItemConfig!$B:$F,5,FALSE)","v":1527},{"$f":"VLOOKUP(H1478,[1]RewardItemConfig!$B:$F,5,FALSE)","v":385},{"$f":"VLOOKUP(I1478,[1]RewardItemConfig!$B:$F,5,FALSE)","v":152},14,3,17,"14#1527|3#385|17#152"]
[{"$nulls":6},3001479,3006479,3011479,{"$f":"VLOOKUP(G1479,[1]RewardItemConfig!$B:$F,5,FALSE)","v":1528},{"$f":"VLOOKUP(H1479,[1]RewardItemConfig!$B:$F,5,FALSE)","v":385},{"$f":"VLOOKUP(I1479,[1]RewardItemConfig!$B:$F,5,FALSE)","v":152},14,3,17,"14#1528|3#385|17#152"]
[{"$nulls":6},3001480,3006480,3011480,{"$f":"VLOOKUP(G1480,[1]RewardItemConfig!$B:$F,5,FALSE)","v":1529},{"$f":"VLOOKUP(H1480,[1]RewardItemConfig!$B:$F,5,FALSE)","v":390},{"$f":"VLOOKUP(I1480,[1]RewardItemConfig!$B:$F,5,FALSE)","v":153},14,3,17,"14#1529|3#390|17#153"]
[{"$nulls":6},3001481,3006481,3011481,{"$f":"VLOOKUP(G1481,[1]RewardItemConfig!$B:$F,5,FALSE)","v":1530},{"$f":"VLOOKUP(H1481,[1]RewardItemConfig!$B:$F,5,FALSE)","v":390},{"$f":"VLOOKUP(I1481,[1]RewardItemConfig!$B:$F,5,FALSE)","v":153},14,3,17,"14#1530|3#390|17#153"]
[{"$nulls":6},3001482,3006482,3011482,{"$f":"VLOOKUP(G1482,[1]RewardItemConfig!$B:$F,5,FALSE)","v":1531},{"$f":"VLOOKUP(H1482,[1]RewardItemConfig!$B:$F,5,FALSE)","v":390},{"$f":"VLOOKUP(I1482,[1]RewardItemConfig!$B:$F,5,FALSE)","v":153},14,3,17,"14#1531|3#390|17#153"]
[{"$nulls":6},3001483,3006483,3011483,{"$f":"VLOOKUP(G1483,[1]RewardItemConfig!$B:$F,5,FALSE)","v":1532},{"$f":"VLOOKUP(H1483,[1]RewardItemConfig!$B:$F,5,FALSE)","v":390},{"$f":"VLOOKUP(I1483,[1]RewardItemConfig!$B:$F,5,FALSE)","v":153},14,3,17,"14#1532|3#390|17#153"]
[{"$nulls":6},3001484,3006484,3011484,{"$f":"VLOOKUP(G1484,[1]RewardItemConfig!$B:$F,5,FALSE)","v":1533},{"$f":"VLOOKUP(H1484,[1]RewardItemConfig!$B:$F,5,FALSE)","v":390},{"$f":"VLOOKUP(I1484,[1]RewardItemConfig!$B:$F,5,FALSE)","v":153},14,3,17,"14#1533|3#390|17#153"]
[{"$nulls":6},3001485,3006485,3011485,{"$f":"VLOOKUP(G1485,[1]RewardItemConfig!$B:$F,5,FALSE)","v":1534},{"$f":"VLOOKUP(H1485,[1]RewardItemConfig!$B:$F,5,FALSE)","v":390},{"$f":"VLOOKUP(I1485,[1]RewardItemConfig!$B:$F,5,FALSE)","v":153},14,3,17,"14#1534|3#390|17#153"]
[{"$nulls":6},3001486,3006486,3011486,{"$f":"VLOOKUP(G1486,[1]RewardItemConfig!$B:$F,5,FALSE)","v":1535},{"$f":"VLOOKUP(H1486,[1]RewardItemConfig!$B:$F,5,FALSE)","v":390},{"$f":"VLOOKUP(I1486,[1]RewardItemConfig!$B:$F,5,FALSE)","v":153},14,3,17,"14#1535|3#390|17#153"]
[{"$nulls":6},3001487,3006487,3011487,{"$f":"VLOOKUP(G1487,[1]RewardItemConfig!$B:$F,5,FALSE)","v":1536},{"$f":"VLOOKUP(H1487,[1]RewardItemConfig!$B:$F,5,FALSE)","v":390},{"$f":"VLOOKUP(I1487,[1]RewardItemConfig!$B:$F,5,FALSE)","v":153},14,3,17,"14#1536|3#390|17#153"]
[{"$nulls":6},3001488,3006488,3011488,{"$f":"VLOOKUP(G1488,[1]RewardItemConfig!$B:$F,5,FALSE)","v":1537},{"$f":"VLOOKUP(H1488,[1]RewardItemConfig!$B:$F,5,FALSE)","v":390},{"$f":"VLOOKUP(I1488,[1]RewardItemConfig!$B:$F,5,FALSE)","v":153},14,3,17,"14#1537|3#390|17#153"]
[{"$nulls":6},3001489,3006489,3011489,{"$f":"VLOOKUP(G1489,[1]RewardItemConfig!$B:$F,5,FALSE)","v":1538},{"$f":"VLOOKUP(H1489,[1]RewardItemConfig!$B:$F,5,FALSE)","v":390},{"$f":"VLOOKUP(I1489,[1]RewardItemConfig!$B:$F,5,FALSE)","v":153},14,3,17,"14#1538|3#390|17#153"]
[{"$nulls":6},3001490,3006490,3011490,{"$f":"VLOOKUP(G1490,[1]RewardItemConfig!$B:$F,5,FALSE)","v":1539},{"$f":"VLOOKUP(H1490,[1]RewardItemConfig!$B:$F,5,FALSE)","v":395},{"$f":"VLOOKUP(I1490,[1]RewardItemConfig!$B:$F,5,FALSE)","v":154},14,3,17,"14#1539|3#395|17#154"]
[{"$nulls":6},3001491,3006491,3011491,{"$f":"VLOOKUP(G1491,[1]RewardItemConfig!$B:$F,5,FALSE)","v":1540},{"$f":"VLOOKUP(H1491,[1]RewardItemConfig!$B:$F,5,FALSE)","v":395},{"$f":"VLOOKUP(I1491,[1]RewardItemConfig!$B:$F,5,FALSE)","v":154},14,3,17,"14#1540|3#395|17#154"]
[{"$nulls":6},3001492,3006492,3011492,{"$f":"VLOOKUP(G1492,[1]RewardItemConfig!$B:$F,5,FALSE)","v":1541},{"$f":"VLOOKUP(H1492,[1]RewardItemConfig!$B:$F,5,FALSE)","v":395},{"$f":"VLOOKUP(I1492,[1]RewardItemConfig!$B:$F,5,FALSE)","v":154},14,3,17,"14#1541|3#395|17#154"]
[{"$nulls":6},3001493,3006493,3011493,{"$f":"VLOOKUP(G1493,[1]RewardItemConfig!$B:$F,5,FALSE)","v":1542},{"$f":"VLOOKUP(H1493,[1]RewardItemConfig!$B:$F,5,FALSE)","v":395},{"$f":"VLOOKUP(I1493,[1]RewardItemConfig!$B:$F,5,FALSE)","v":154},14,3,17,"14#1542|3#395|17#154"]
[{"$nulls":6},3001494,3006494,3011494,{"$f":"VLOOKUP(G1494,[1]RewardItemConfig!$B:$F,5,FALSE)","v":1543},{"$f":"VLOOKUP(H1494,[1]RewardItemConfig!$B:$F,5,FALSE)","v":395},{"$f":"VLOOKUP(I1494,[1]RewardItemConfig!$B:$F,5,FALSE)","v":154},14,3,17,"14#1543|3#395|17#154"]
[{"$nulls":6},3001495,3006495,3011495,{"$f":"VLOOKUP(G1495,[1]RewardItemConfig!$B:$F,5,FALSE)","v":1544},{"$f":"VLOOKUP(H1495,[1]RewardItemConfig!$B:$F,5,FALSE)","v":395},{"$f":"VLOOKUP(I1495,[1]RewardItemConfig!$B:$F,5,FALSE)","v":154},14,3,17,"14#1544|3#395|17#154"]
[{"$nulls":6},3001496,3006496,3011496,{"$f":"VLOOKUP(G1496,[1]RewardItemConfig!$B:$F,5,FALSE)","v":1545},{"$f":"VLOOKUP(H1496,[1]RewardItemConfig!$B:$F,5,FALSE)","v":395},{"$f":"VLOOKUP(I1496,[1]RewardItemConfig!$B:$F,5,FALSE)","v":154},14,3,17,"14#1545|3#395|17#154"]
[{"$nulls":6},3001497,3006497,3011497,{"$f":"VLOOKUP(G1497,[1]RewardItemConfig!$B:$F,5,FALSE)","v":1546},{"$f":"VLOOKUP(H1497,[1]RewardItemConfig!$B:$F,5,FALSE)","v":395},{"$f":"VLOOKUP(I1497,[1]RewardItemConfig!$B:$F,5,FALSE)","v":154},14,3,17,"14#1546|3#395|17#154"]
[{"$nulls":6},3001498,3006498,3011498,{"$f":"VLOOKUP(G1498,[1]RewardItemConfig!$B:$F,5,FALSE)","v":1547},{"$f":"VLOOKUP(H1498,[1]RewardItemConfig!$B:$F,5,FALSE)","v":395},{"$f":"VLOOKUP(I1498,[1]RewardItemConfig!$B:$F,5,FALSE)","v":154},14,3,17,"14#1547|3#395|17#154"]
[{"$nulls":6},3001499,3006499,3011499,{"$f":"VLOOKUP(G1499,[1]RewardItemConfig!$B:$F,5,FALSE)","v":1548},{"$f":"VLOOKUP(H1499,[1]RewardItemConfig!$B:$F,5,FALSE)","v":395},{"$f":"VLOOKUP(I1499,[1]RewardItemConfig!$B:$F,5,FALSE)","v":154},14,3,17,"14#1548|3#395|17#154"]
[{"$nulls":6},3001500,3006500,3011500,{"$f":"VLOOKUP(G1500,[1]RewardItemConfig!$B:$F,5,FALSE)","v":1549},{"$f":"VLOOKUP(H1500,[1]RewardItemConfig!$B:$F,5,FALSE)","v":400},{"$f":"VLOOKUP(I1500,[1]RewardItemConfig!$B:$F,5,FALSE)","v":155},14,3,17,"14#1549|3#400|17#155"]
[{"$nulls":6},3001501,3006501,3011501,{"$f":"VLOOKUP(G1501,[1]RewardItemConfig!$B:$F,5,FALSE)","v":1550},{"$f":"VLOOKUP(H1501,[1]RewardItemConfig!$B:$F,5,FALSE)","v":400},{"$f":"VLOOKUP(I1501,[1]RewardItemConfig!$B:$F,5,FALSE)","v":155},14,3,17,"14#1550|3#400|17#155"]
[{"$nulls":6},3001502,3006502,3011502,{"$f":"VLOOKUP(G1502,[1]RewardItemConfig!$B:$F,5,FALSE)","v":1551},{"$f":"VLOOKUP(H1502,[1]RewardItemConfig!$B:$F,5,FALSE)","v":400},{"$f":"VLOOKUP(I1502,[1]RewardItemConfig!$B:$F,5,FALSE)","v":155},14,3,17,"14#1551|3#400|17#155"]
[{"$nulls":6},3001503,3006503,3011503,{"$f":"VLOOKUP(G1503,[1]RewardItemConfig!$B:$F,5,FALSE)","v":1552},{"$f":"VLOOKUP(H1503,[1]RewardItemConfig!$B:$F,5,FALSE)","v":400},{"$f":"VLOOKUP(I1503,[1]RewardItemConfig!$B:$F,5,FALSE)","v":155},14,3,17,"14#1552|3#400|17#155"]
[{"$nulls":6},3001504,3006504,3011504,{"$f":"VLOOKUP(G1504,[1]RewardItemConfig!$B:$F,5,FALSE)","v":1553},{"$f":"VLOOKUP(H1504,[1]RewardItemConfig!$B:$F,5,FALSE)","v":400},{"$f":"VLOOKUP(I1504,[1]RewardItemConfig!$B:$F,5,FALSE)","v":155},14,3,17,"14#1553|3#400|17#155"]
[{"$nulls":6},3001505,3006505,3011505,{"$f":"VLOOKUP(G1505,[1]RewardItemConfig!$B:$F,5,FALSE)","v":1554},{"$f":"VLOOKUP(H1505,[1]RewardItemConfig!$B:$F,5,FALSE)","v":400},{"$f":"VLOOKUP(I1505,[1]RewardItemConfig!$B:$F,5,FALSE)","v":155},14,3,17,"14#1554|3#400|17#155"]
[{"$nulls":6},3001506,3006506,3011506,{"$f":"VLOOKUP(G1506,[1]RewardItemConfig!$B:$F,5,FALSE)","v":1555},{"$f":"VLOOKUP(H1506,[1]RewardItemConfig!$B:$F,5,FALSE)","v":400},{"$f":"VLOOKUP(I1506,[1]RewardItemConfig!$B:$F,5,FALSE)","v":155},14,3,17,"14#1555|3#400|17#155"]
[{"$nulls":6},3001507,3006507,3011507,{"$f":"VLOOKUP(G1507,[1]RewardItemConfig!$B:$F,5,FALSE)","v":1556},{"$f":"VLOOKUP(H1507,[1]RewardItemConfig!$B:$F,5,FALSE)","v":400},{"$f":"VLOOKUP(I1507,[1]RewardItemConfig!$B:$F,5,FALSE)","v":155},14,3,17,"14#1556|3#400|17#155"]
[{"$nulls":6},3001508,3006508,3011508,{"$f":"VLOOKUP(G1508,[1]RewardItemConfig!$B:$F,5,FALSE)","v":1557},{"$f":"VLOOKUP(H1508,[1]RewardItemConfig!$B:$F,5,FALSE)","v":400},{"$f":"VLOOKUP(I1508,[1]RewardItemConfig!$B:$F,5,FALSE)","v":155},14,3,17,"14#1557|3#400|17#155"]
[{"$nulls":6},3001509,3006509,3011509,{"$f":"VLOOKUP(G1509,[1]RewardItemConfig!$B:$F,5,FALSE)","v":1558},{"$f":"VLOOKUP(H1509,[1]RewardItemConfig!$B:$F,5,FALSE)","v":400},{"$f":"VLOOKUP(I1509,[1]RewardItemConfig!$B:$F,5,FALSE)","v":155},14,3,17,"14#1558|3#400|17#155"]
[{"$nulls":6},3001510,3006510,3011510,{"$f":"VLOOKUP(G1510,[1]RewardItemConfig!$B:$F,5,FALSE)","v":1559},{"$f":"VLOOKUP(H1510,[1]RewardItemConfig!$B:$F,5,FALSE)","v":405},{"$f":"VLOOKUP(I1510,[1]RewardItemConfig!$B:$F,5,FALSE)","v":156},14,3,17,"14#1559|3#405|17#156"]
[{"$nulls":6},3001511,3006511,3011511,{"$f":"VLOOKUP(G1511,[1]RewardItemConfig!$B:$F,5,FALSE)","v":1560},{"$f":"VLOOKUP(H1511,[1]RewardItemConfig!$B:$F,5,FALSE)","v":405},{"$f":"VLOOKUP(I1511,[1]RewardItemConfig!$B:$F,5,FALSE)","v":156},14,3,17,"14#1560|3#405|17#156"]
[{"$nulls":6},3001512,3006512,3011512,{"$f":"VLOOKUP(G1512,[1]RewardItemConfig!$B:$F,5,FALSE)","v":1561},{"$f":"VLOOKUP(H1512,[1]RewardItemConfig!$B:$F,5,FALSE)","v":405},{"$f":"VLOOKUP(I1512,[1]RewardItemConfig!$B:$F,5,FALSE)","v":156},14,3,17,"14#1561|3#405|17#156"]
[{"$nulls":6},3001513,3006513,3011513,{"$f":"VLOOKUP(G1513,[1]RewardItemConfig!$B:$F,5,FALSE)","v":1562},{"$f":"VLOOKUP(H1513,[1]RewardItemConfig!$B:$F,5,FALSE)","v":405},{"$f":"VLOOKUP(I1513,[1]RewardItemConfig!$B:$F,5,FALSE)","v":156},14,3,17,"14#1562|3#405|17#156"]
[{"$nulls":6},3001514,3006514,3011514,{"$f":"VLOOKUP(G1514,[1]RewardItemConfig!$B:$F,5,FALSE)","v":1563},{"$f":"VLOOKUP(H1514,[1]RewardItemConfig!$B:$F,5,FALSE)","v":405},{"$f":"VLOOKUP(I1514,[1]RewardItemConfig!$B:$F,5,FALSE)","v":156},14,3,17,"14#1563|3#405|17#156"]
[{"$nulls":6},3001515,3006515,3011515,{"$f":"VLOOKUP(G1515,[1]RewardItemConfig!$B:$F,5,FALSE)","v":1564},{"$f":"VLOOKUP(H1515,[1]RewardItemConfig!$B:$F,5,FALSE)","v":405},{"$f":"VLOOKUP(I1515,[1]RewardItemConfig!$B:$F,5,FALSE)","v":156},14,3,17,"14#1564|3#405|17#156"]
[{"$nulls":6},3001516,3006516,3011516,{"$f":"VLOOKUP(G1516,[1]RewardItemConfig!$B:$F,5,FALSE)","v":1565},{"$f":"VLOOKUP(H1516,[1]RewardItemConfig!$B:$F,5,FALSE)","v":405},{"$f":"VLOOKUP(I1516,[1]RewardItemConfig!$B:$F,5,FALSE)","v":156},14,3,17,"14#1565|3#405|17#156"]
[{"$nulls":6},3001517,3006517,3011517,{"$f":"VLOOKUP(G1517,[1]RewardItemConfig!$B:$F,5,FALSE)","v":1566},{"$f":"VLOOKUP(H1517,[1]RewardItemConfig!$B:$F,5,FALSE)","v":405},{"$f":"VLOOKUP(I1517,[1]RewardItemConfig!$B:$F,5,FALSE)","v":156},14,3,17,"14#1566|3#405|17#156"]
[{"$nulls":6},3001518,3006518,3011518,{"$f":"VLOOKUP(G1518,[1]RewardItemConfig!$B:$F,5,FALSE)","v":1567},{"$f":"VLOOKUP(H1518,[1]RewardItemConfig!$B:$F,5,FALSE)","v":405},{"$f":"VLOOKUP(I1518,[1]RewardItemConfig!$B:$F,5,FALSE)","v":156},14,3,17,"14#1567|3#405|17#156"]
[{"$nulls":6},3001519,3006519,3011519,{"$f":"VLOOKUP(G1519,[1]RewardItemConfig!$B:$F,5,FALSE)","v":1568},{"$f":"VLOOKUP(H1519,[1]RewardItemConfig!$B:$F,5,FALSE)","v":405},{"$f":"VLOOKUP(I1519,[1]RewardItemConfig!$B:$F,5,FALSE)","v":156},14,3,17,"14#1568|3#405|17#156"]
[{"$nulls":6},3001520,3006520,3011520,{"$f":"VLOOKUP(G1520,[1]RewardItemConfig!$B:$F,5,FALSE)","v":1569},{"$f":"VLOOKUP(H1520,[1]RewardItemConfig!$B:$F,5,FALSE)","v":410},{"$f":"VLOOKUP(I1520,[1]RewardItemConfig!$B:$F,5,FALSE)","v":157},14,3,17,"14#1569|3#410|17#157"]
[{"$nulls":6},3001521,3006521,3011521,{"$f":"VLOOKUP(G1521,[1]RewardItemConfig!$B:$F,5,FALSE)","v":1570},{"$f":"VLOOKUP(H1521,[1]RewardItemConfig!$B:$F,5,FALSE)","v":410},{"$f":"VLOOKUP(I1521,[1]RewardItemConfig!$B:$F,5,FALSE)","v":157},14,3,17,"14#1570|3#410|17#157"]
[{"$nulls":6},3001522,3006522,3011522,{"$f":"VLOOKUP(G1522,[1]RewardItemConfig!$B:$F,5,FALSE)","v":1571},{"$f":"VLOOKUP(H1522,[1]RewardItemConfig!$B:$F,5,FALSE)","v":410},{"$f":"VLOOKUP(I1522,[1]RewardItemConfig!$B:$F,5,FALSE)","v":157},14,3,17,"14#1571|3#410|17#157"]
[{"$nulls":6},3001523,3006523,3011523,{"$f":"VLOOKUP(G1523,[1]RewardItemConfig!$B:$F,5,FALSE)","v":1572},{"$f":"VLOOKUP(H1523,[1]RewardItemConfig!$B:$F,5,FALSE)","v":410},{"$f":"VLOOKUP(I1523,[1]RewardItemConfig!$B:$F,5,FALSE)","v":157},14,3,17,"14#1572|3#410|17#157"]
[{"$nulls":6},3001524,3006524,3011524,{"$f":"VLOOKUP(G1524,[1]RewardItemConfig!$B:$F,5,FALSE)","v":1573},{"$f":"VLOOKUP(H1524,[1]RewardItemConfig!$B:$F,5,FALSE)","v":410},{"$f":"VLOOKUP(I1524,[1]RewardItemConfig!$B:$F,5,FALSE)","v":157},14,3,17,"14#1573|3#410|17#157"]
[{"$nulls":6},3001525,3006525,3011525,{"$f":"VLOOKUP(G1525,[1]RewardItemConfig!$B:$F,5,FALSE)","v":1574},{"$f":"VLOOKUP(H1525,[1]RewardItemConfig!$B:$F,5,FALSE)","v":410},{"$f":"VLOOKUP(I1525,[1]RewardItemConfig!$B:$F,5,FALSE)","v":157},14,3,17,"14#1574|3#410|17#157"]
[{"$nulls":6},3001526,3006526,3011526,{"$f":"VLOOKUP(G1526,[1]RewardItemConfig!$B:$F,5,FALSE)","v":1575},{"$f":"VLOOKUP(H1526,[1]RewardItemConfig!$B:$F,5,FALSE)","v":410},{"$f":"VLOOKUP(I1526,[1]RewardItemConfig!$B:$F,5,FALSE)","v":157},14,3,17,"14#1575|3#410|17#157"]
[{"$nulls":6},3001527,3006527,3011527,{"$f":"VLOOKUP(G1527,[1]RewardItemConfig!$B:$F,5,FALSE)","v":1576},{"$f":"VLOOKUP(H1527,[1]RewardItemConfig!$B:$F,5,FALSE)","v":410},{"$f":"VLOOKUP(I1527,[1]RewardItemConfig!$B:$F,5,FALSE)","v":157},14,3,17,"14#1576|3#410|17#157"]
[{"$nulls":6},3001528,3006528,3011528,{"$f":"VLOOKUP(G1528,[1]RewardItemConfig!$B:$F,5,FALSE)","v":1577},{"$f":"VLOOKUP(H1528,[1]RewardItemConfig!$B:$F,5,FALSE)","v":410},{"$f":"VLOOKUP(I1528,[1]RewardItemConfig!$B:$F,5,FALSE)","v":157},14,3,17,"14#1577|3#410|17#157"]
[{"$nulls":6},3001529,3006529,3011529,{"$f":"VLOOKUP(G1529,[1]RewardItemConfig!$B:$F,5,FALSE)","v":1578},{"$f":"VLOOKUP(H1529,[1]RewardItemConfig!$B:$F,5,FALSE)","v":410},{"$f":"VLOOKUP(I1529,[1]RewardItemConfig!$B:$F,5,FALSE)","v":157},14,3,17,"14#1578|3#410|17#157"]
[{"$nulls":6},3001530,3006530,3011530,{"$f":"VLOOKUP(G1530,[1]RewardItemConfig!$B:$F,5,FALSE)","v":1579},{"$f":"VLOOKUP(H1530,[1]RewardItemConfig!$B:$F,5,FALSE)","v":415},{"$f":"VLOOKUP(I1530,[1]RewardItemConfig!$B:$F,5,FALSE)","v":158},14,3,17,"14#1579|3#415|17#158"]
[{"$nulls":6},3001531,3006531,3011531,{"$f":"VLOOKUP(G1531,[1]RewardItemConfig!$B:$F,5,FALSE)","v":1580},{"$f":"VLOOKUP(H1531,[1]RewardItemConfig!$B:$F,5,FALSE)","v":415},{"$f":"VLOOKUP(I1531,[1]RewardItemConfig!$B:$F,5,FALSE)","v":158},14,3,17,"14#1580|3#415|17#158"]
[{"$nulls":6},3001532,3006532,3011532,{"$f":"VLOOKUP(G1532,[1]RewardItemConfig!$B:$F,5,FALSE)","v":1581},{"$f":"VLOOKUP(H1532,[1]RewardItemConfig!$B:$F,5,FALSE)","v":415},{"$f":"VLOOKUP(I1532,[1]RewardItemConfig!$B:$F,5,FALSE)","v":158},14,3,17,"14#1581|3#415|17#158"]
[{"$nulls":6},3001533,3006533,3011533,{"$f":"VLOOKUP(G1533,[1]RewardItemConfig!$B:$F,5,FALSE)","v":1582},{"$f":"VLOOKUP(H1533,[1]RewardItemConfig!$B:$F,5,FALSE)","v":415},{"$f":"VLOOKUP(I1533,[1]RewardItemConfig!$B:$F,5,FALSE)","v":158},14,3,17,"14#1582|3#415|17#158"]
[{"$nulls":6},3001534,3006534,3011534,{"$f":"VLOOKUP(G1534,[1]RewardItemConfig!$B:$F,5,FALSE)","v":1583},{"$f":"VLOOKUP(H1534,[1]RewardItemConfig!$B:$F,5,FALSE)","v":415},{"$f":"VLOOKUP(I1534,[1]RewardItemConfig!$B:$F,5,FALSE)","v":158},14,3,17,"14#1583|3#415|17#158"]
[{"$nulls":6},3001535,3006535,3011535,{"$f":"VLOOKUP(G1535,[1]RewardItemConfig!$B:$F,5,FALSE)","v":1584},{"$f":"VLOOKUP(H1535,[1]RewardItemConfig!$B:$F,5,FALSE)","v":415},{"$f":"VLOOKUP(I1535,[1]RewardItemConfig!$B:$F,5,FALSE)","v":158},14,3,17,"14#1584|3#415|17#158"]
[{"$nulls":6},3001536,3006536,3011536,{"$f":"VLOOKUP(G1536,[1]RewardItemConfig!$B:$F,5,FALSE)","v":1585},{"$f":"VLOOKUP(H1536,[1]RewardItemConfig!$B:$F,5,FALSE)","v":415},{"$f":"VLOOKUP(I1536,[1]RewardItemConfig!$B:$F,5,FALSE)","v":158},14,3,17,"14#1585|3#415|17#158"]
[{"$nulls":6},3001537,3006537,3011537,{"$f":"VLOOKUP(G1537,[1]RewardItemConfig!$B:$F,5,FALSE)","v":1586},{"$f":"VLOOKUP(H1537,[1]RewardItemConfig!$B:$F,5,FALSE)","v":415},{"$f":"VLOOKUP(I1537,[1]RewardItemConfig!$B:$F,5,FALSE)","v":158},14,3,17,"14#1586|3#415|17#158"]
[{"$nulls":6},3001538,3006538,3011538,{"$f":"VLOOKUP(G1538,[1]RewardItemConfig!$B:$F,5,FALSE)","v":1587},{"$f":"VLOOKUP(H1538,[1]RewardItemConfig!$B:$F,5,FALSE)","v":415},{"$f":"VLOOKUP(I1538,[1]RewardItemConfig!$B:$F,5,FALSE)","v":158},14,3,17,{"$f":"M1538&\"#\"&J1538&\"|\"&N1538&\"#\"&K1538&\"|\"&O1538&\"#\"&L1538","v":"14#1587|3#415|17#158"}]
[{"$nulls":6},3001539,3006539,3011539,{"$f":"VLOOKUP(G1539,[1]RewardItemConfig!$B:$F,5,FALSE)","v":1588},{"$f":"VLOOKUP(H1539,[1]RewardItemConfig!$B:$F,5,FALSE)","v":415},{"$f":"VLOOKUP(I1539,[1]RewardItemConfig!$B:$F,5,FALSE)","v":158},{"$f":"M1538","v":14},{"$f":"N1538","v":3},{"$f":"O1538","v":17},"14#1588|3#415|17#158"]
[{"$nulls":6},3001540,3006540,3011540,{"$f":"VLOOKUP(G1540,[1]RewardItemConfig!$B:$F,5,FALSE)","v":1589},{"$f":"VLOOKUP(H1540,[1]RewardItemConfig!$B:$F,5,FALSE)","v":420},{"$f":"VLOOKUP(I1540,[1]RewardItemConfig!$B:$F,5,FALSE)","v":159},14,3,17,"14#1589|3#420|17#159"]
[{"$nulls":6},3001541,3006541,3011541,{"$f":"VLOOKUP(G1541,[1]RewardItemConfig!$B:$F,5,FALSE)","v":1590},{"$f":"VLOOKUP(H1541,[1]RewardItemConfig!$B:$F,5,FALSE)","v":420},{"$f":"VLOOKUP(I1541,[1]RewardItemConfig!$B:$F,5,FALSE)","v":159},14,3,17,"14#1590|3#420|17#159"]
[{"$nulls":6},3001542,3006542,3011542,{"$f":"VLOOKUP(G1542,[1]RewardItemConfig!$B:$F,5,FALSE)","v":1591},{"$f":"VLOOKUP(H1542,[1]RewardItemConfig!$B:$F,5,FALSE)","v":420},{"$f":"VLOOKUP(I1542,[1]RewardItemConfig!$B:$F,5,FALSE)","v":159},14,3,17,"14#1591|3#420|17#159"]
[{"$nulls":6},3001543,3006543,3011543,{"$f":"VLOOKUP(G1543,[1]RewardItemConfig!$B:$F,5,FALSE)","v":1592},{"$f":"VLOOKUP(H1543,[1]RewardItemConfig!$B:$F,5,FALSE)","v":420},{"$f":"VLOOKUP(I1543,[1]RewardItemConfig!$B:$F,5,FALSE)","v":159},14,3,17,"14#1592|3#420|17#159"]
[{"$nulls":6},3001544,3006544,3011544,{"$f":"VLOOKUP(G1544,[1]RewardItemConfig!$B:$F,5,FALSE)","v":1593},{"$f":"VLOOKUP(H1544,[1]RewardItemConfig!$B:$F,5,FALSE)","v":420},{"$f":"VLOOKUP(I1544,[1]RewardItemConfig!$B:$F,5,FALSE)","v":159},14,3,17,"14#1593|3#420|17#159"]
[{"$nulls":6},3001545,3006545,3011545,{"$f":"VLOOKUP(G1545,[1]RewardItemConfig!$B:$F,5,FALSE)","v":1594},{"$f":"VLOOKUP(H1545,[1]RewardItemConfig!$B:$F,5,FALSE)","v":420},{"$f":"VLOOKUP(I1545,[1]RewardItemConfig!$B:$F,5,FALSE)","v":159},14,3,17,"14#1594|3#420|17#159"]
[{"$nulls":6},3001546,3006546,3011546,{"$f":"VLOOKUP(G1546,[1]RewardItemConfig!$B:$F,5,FALSE)","v":1595},{"$f":"VLOOKUP(H1546,[1]RewardItemConfig!$B:$F,5,FALSE)","v":420},{"$f":"VLOOKUP(I1546,[1]RewardItemConfig!$B:$F,5,FALSE)","v":159},14,3,17,"14#1595|3#420|17#159"]
[{"$nulls":6},3001547,3006547,3011547,{"$f":"VLOOKUP(G1547,[1]RewardItemConfig!$B:$F,5,FALSE)","v":1596},{"$f":"VLOOKUP(H1547,[1]RewardItemConfig!$B:$F,5,FALSE)","v":420},{"$f":"VLOOKUP(I1547,[1]RewardItemConfig!$B:$F,5,FALSE)","v":159},14,3,17,"14#1596|3#420|17#159"]
[{"$nulls":6},3001548,3006548,3011548,{"$f":"VLOOKUP(G1548,[1]RewardItemConfig!$B:$F,5,FALSE)","v":1597},{"$f":"VLOOKUP(H1548,[1]RewardItemConfig!$B:$F,5,FALSE)","v":420},{"$f":"VLOOKUP(I1548,[1]RewardItemConfig!$B:$F,5,FALSE)","v":159},14,3,17,"14#1597|3#420|17#159"]
[{"$nulls":6},3001549,3006549,3011549,{"$f":"VLOOKUP(G1549,[1]RewardItemConfig!$B:$F,5,FALSE)","v":1598},{"$f":"VLOOKUP(H1549,[1]RewardItemConfig!$B:$F,5,FALSE)","v":420},{"$f":"VLOOKUP(I1549,[1]RewardItemConfig!$B:$F,5,FALSE)","v":159},14,3,17,"14#1598|3#420|17#159"]
[{"$nulls":6},3001550,3006550,3011550,{"$f":"VLOOKUP(G1550,[1]RewardItemConfig!$B:$F,5,FALSE)","v":1599},{"$f":"VLOOKUP(H1550,[1]RewardItemConfig!$B:$F,5,FALSE)","v":425},{"$f":"VLOOKUP(I1550,[1]RewardItemConfig!$B:$F,5,FALSE)","v":160},14,3,17,"14#1599|3#425|17#160"]
[{"$nulls":6},3001551,3006551,3011551,{"$f":"VLOOKUP(G1551,[1]RewardItemConfig!$B:$F,5,FALSE)","v":1600},{"$f":"VLOOKUP(H1551,[1]RewardItemConfig!$B:$F,5,FALSE)","v":425},{"$f":"VLOOKUP(I1551,[1]RewardItemConfig!$B:$F,5,FALSE)","v":160},14,3,17,"14#1600|3#425|17#160"]
[{"$nulls":6},3001552,3006552,3011552,{"$f":"VLOOKUP(G1552,[1]RewardItemConfig!$B:$F,5,FALSE)","v":1601},{"$f":"VLOOKUP(H1552,[1]RewardItemConfig!$B:$F,5,FALSE)","v":425},{"$f":"VLOOKUP(I1552,[1]RewardItemConfig!$B:$F,5,FALSE)","v":160},14,3,17,"14#1601|3#425|17#160"]
[{"$nulls":6},3001553,3006553,3011553,{"$f":"VLOOKUP(G1553,[1]RewardItemConfig!$B:$F,5,FALSE)","v":1602},{"$f":"VLOOKUP(H1553,[1]RewardItemConfig!$B:$F,5,FALSE)","v":425},{"$f":"VLOOKUP(I1553,[1]RewardItemConfig!$B:$F,5,FALSE)","v":160},14,3,17,"14#1602|3#425|17#160"]
[{"$nulls":6},3001554,3006554,3011554,{"$f":"VLOOKUP(G1554,[1]RewardItemConfig!$B:$F,5,FALSE)","v":1603},{"$f":"VLOOKUP(H1554,[1]RewardItemConfig!$B:$F,5,FALSE)","v":425},{"$f":"VLOOKUP(I1554,[1]RewardItemConfig!$B:$F,5,FALSE)","v":160},14,3,17,"14#1603|3#425|17#160"]
[{"$nulls":6},3001555,3006555,3011555,{"$f":"VLOOKUP(G1555,[1]RewardItemConfig!$B:$F,5,FALSE)","v":1604},{"$f":"VLOOKUP(H1555,[1]RewardItemConfig!$B:$F,5,FALSE)","v":425},{"$f":"VLOOKUP(I1555,[1]RewardItemConfig!$B:$F,5,FALSE)","v":160},14,3,17,"14#1604|3#425|17#160"]
[{"$nulls":6},3001556,3006556,3011556,{"$f":"VLOOKUP(G1556,[1]RewardItemConfig!$B:$F,5,FALSE)","v":1605},{"$f":"VLOOKUP(H1556,[1]RewardItemConfig!$B:$F,5,FALSE)","v":425},{"$f":"VLOOKUP(I1556,[1]RewardItemConfig!$B:$F,5,FALSE)","v":160},14,3,17,"14#1605|3#425|17#160"]
[{"$nulls":6},3001557,3006557,3011557,{"$f":"VLOOKUP(G1557,[1]RewardItemConfig!$B:$F,5,FALSE)","v":1606},{"$f":"VLOOKUP(H1557,[1]RewardItemConfig!$B:$F,5,FALSE)","v":425},{"$f":"VLOOKUP(I1557,[1]RewardItemConfig!$B:$F,5,FALSE)","v":160},14,3,17,"14#1606|3#425|17#160"]
[{"$nulls":6},3001558,3006558,3011558,{"$f":"VLOOKUP(G1558,[1]RewardItemConfig!$B:$F,5,FALSE)","v":1607},{"$f":"VLOOKUP(H1558,[1]RewardItemConfig!$B:$F,5,FALSE)","v":425},{"$f":"VLOOKUP(I1558,[1]RewardItemConfig!$B:$F,5,FALSE)","v":160},14,3,17,"14#1607|3#425|17#160"]
[{"$nulls":6},3001559,3006559,3011559,{"$f":"VLOOKUP(G1559,[1]RewardItemConfig!$B:$F,5,FALSE)","v":1608},{"$f":"VLOOKUP(H1559,[1]RewardItemConfig!$B:$F,5,FALSE)","v":425},{"$f":"VLOOKUP(I1559,[1]RewardItemConfig!$B:$F,5,FALSE)","v":160},14,3,17,"14#1608|3#425|17#160"]
[{"$nulls":6},3001560,3006560,3011560,{"$f":"VLOOKUP(G1560,[1]RewardItemConfig!$B:$F,5,FALSE)","v":1609},{"$f":"VLOOKUP(H1560,[1]RewardItemConfig!$B:$F,5,FALSE)","v":430},{"$f":"VLOOKUP(I1560,[1]RewardItemConfig!$B:$F,5,FALSE)","v":161},14,3,17,"14#1609|3#430|17#161"]
[{"$nulls":6},3001561,3006561,3011561,{"$f":"VLOOKUP(G1561,[1]RewardItemConfig!$B:$F,5,FALSE)","v":1610},{"$f":"VLOOKUP(H1561,[1]RewardItemConfig!$B:$F,5,FALSE)","v":430},{"$f":"VLOOKUP(I1561,[1]RewardItemConfig!$B:$F,5,FALSE)","v":161},14,3,17,"14#1610|3#430|17#161"]
[{"$nulls":6},3001562,3006562,3011562,{"$f":"VLOOKUP(G1562,[1]RewardItemConfig!$B:$F,5,FALSE)","v":1611},{"$f":"VLOOKUP(H1562,[1]RewardItemConfig!$B:$F,5,FALSE)","v":430},{"$f":"VLOOKUP(I1562,[1]RewardItemConfig!$B:$F,5,FALSE)","v":161},14,3,17,"14#1611|3#430|17#161"]
[{"$nulls":6},3001563,3006563,3011563,{"$f":"VLOOKUP(G1563,[1]RewardItemConfig!$B:$F,5,FALSE)","v":1612},{"$f":"VLOOKUP(H1563,[1]RewardItemConfig!$B:$F,5,FALSE)","v":430},{"$f":"VLOOKUP(I1563,[1]RewardItemConfig!$B:$F,5,FALSE)","v":161},14,3,17,"14#1612|3#430|17#161"]
[{"$nulls":6},3001564,3006564,3011564,{"$f":"VLOOKUP(G1564,[1]RewardItemConfig!$B:$F,5,FALSE)","v":1613},{"$f":"VLOOKUP(H1564,[1]RewardItemConfig!$B:$F,5,FALSE)","v":430},{"$f":"VLOOKUP(I1564,[1]RewardItemConfig!$B:$F,5,FALSE)","v":161},14,3,17,"14#1613|3#430|17#161"]
[{"$nulls":6},3001565,3006565,3011565,{"$f":"VLOOKUP(G1565,[1]RewardItemConfig!$B:$F,5,FALSE)","v":1614},{"$f":"VLOOKUP(H1565,[1]RewardItemConfig!$B:$F,5,FALSE)","v":430},{"$f":"VLOOKUP(I1565,[1]RewardItemConfig!$B:$F,5,FALSE)","v":161},14,3,17,"14#1614|3#430|17#161"]
[{"$nulls":6},3001566,3006566,3011566,{"$f":"VLOOKUP(G1566,[1]RewardItemConfig!$B:$F,5,FALSE)","v":1615},{"$f":"VLOOKUP(H1566,[1]RewardItemConfig!$B:$F,5,FALSE)","v":430},{"$f":"VLOOKUP(I1566,[1]RewardItemConfig!$B:$F,5,FALSE)","v":161},14,3,17,"14#1615|3#430|17#161"]
[{"$nulls":6},3001567,3006567,3011567,{"$f":"VLOOKUP(G1567,[1]RewardItemConfig!$B:$F,5,FALSE)","v":1616},{"$f":"VLOOKUP(H1567,[1]RewardItemConfig!$B:$F,5,FALSE)","v":430},{"$f":"VLOOKUP(I1567,[1]RewardItemConfig!$B:$F,5,FALSE)","v":161},14,3,17,"14#1616|3#430|17#161"]
[{"$nulls":6},3001568,3006568,3011568,{"$f":"VLOOKUP(G1568,[1]RewardItemConfig!$B:$F,5,FALSE)","v":1617},{"$f":"VLOOKUP(H1568,[1]RewardItemConfig!$B:$F,5,FALSE)","v":430},{"$f":"VLOOKUP(I1568,[1]RewardItemConfig!$B:$F,5,FALSE)","v":161},14,3,17,"14#1617|3#430|17#161"]
[{"$nulls":6},3001569,3006569,3011569,{"$f":"VLOOKUP(G1569,[1]RewardItemConfig!$B:$F,5,FALSE)","v":1618},{"$f":"VLOOKUP(H1569,[1]RewardItemConfig!$B:$F,5,FALSE)","v":430},{"$f":"VLOOKUP(I1569,[1]RewardItemConfig!$B:$F,5,FALSE)","v":161},14,3,17,"14#1618|3#430|17#161"]
[{"$nulls":6},3001570,3006570,3011570,{"$f":"VLOOKUP(G1570,[1]RewardItemConfig!$B:$F,5,FALSE)","v":1619},{"$f":"VLOOKUP(H1570,[1]RewardItemConfig!$B:$F,5,FALSE)","v":435},{"$f":"VLOOKUP(I1570,[1]RewardItemConfig!$B:$F,5,FALSE)","v":162},14,3,17,"14#1619|3#435|17#162"]
[{"$nulls":6},3001571,3006571,3011571,{"$f":"VLOOKUP(G1571,[1]RewardItemConfig!$B:$F,5,FALSE)","v":1620},{"$f":"VLOOKUP(H1571,[1]RewardItemConfig!$B:$F,5,FALSE)","v":435},{"$f":"VLOOKUP(I1571,[1]RewardItemConfig!$B:$F,5,FALSE)","v":162},14,3,17,"14#1620|3#435|17#162"]
[{"$nulls":6},3001572,3006572,3011572,{"$f":"VLOOKUP(G1572,[1]RewardItemConfig!$B:$F,5,FALSE)","v":1621},{"$f":"VLOOKUP(H1572,[1]RewardItemConfig!$B:$F,5,FALSE)","v":435},{"$f":"VLOOKUP(I1572,[1]RewardItemConfig!$B:$F,5,FALSE)","v":162},14,3,17,"14#1621|3#435|17#162"]
[{"$nulls":6},3001573,3006573,3011573,{"$f":"VLOOKUP(G1573,[1]RewardItemConfig!$B:$F,5,FALSE)","v":1622},{"$f":"VLOOKUP(H1573,[1]RewardItemConfig!$B:$F,5,FALSE)","v":435},{"$f":"VLOOKUP(I1573,[1]RewardItemConfig!$B:$F,5,FALSE)","v":162},14,3,17,"14#1622|3#435|17#162"]
[{"$nulls":6},3001574,3006574,3011574,{"$f":"VLOOKUP(G1574,[1]RewardItemConfig!$B:$F,5,FALSE)","v":1623},{"$f":"VLOOKUP(H1574,[1]RewardItemConfig!$B:$F,5,FALSE)","v":435},{"$f":"VLOOKUP(I1574,[1]RewardItemConfig!$B:$F,5,FALSE)","v":162},14,3,17,"14#1623|3#435|17#162"]
[{"$nulls":6},3001575,3006575,3011575,{"$f":"VLOOKUP(G1575,[1]RewardItemConfig!$B:$F,5,FALSE)","v":1624},{"$f":"VLOOKUP(H1575,[1]RewardItemConfig!$B:$F,5,FALSE)","v":435},{"$f":"VLOOKUP(I1575,[1]RewardItemConfig!$B:$F,5,FALSE)","v":162},14,3,17,"14#1624|3#435|17#162"]
[{"$nulls":6},3001576,3006576,3011576,{"$f":"VLOOKUP(G1576,[1]RewardItemConfig!$B:$F,5,FALSE)","v":1625},{"$f":"VLOOKUP(H1576,[1]RewardItemConfig!$B:$F,5,FALSE)","v":435},{"$f":"VLOOKUP(I1576,[1]RewardItemConfig!$B:$F,5,FALSE)","v":162},14,3,17,"14#1625|3#435|17#162"]
[{"$nulls":6},3001577,3006577,3011577,{"$f":"VLOOKUP(G1577,[1]RewardItemConfig!$B:$F,5,FALSE)","v":1626},{"$f":"VLOOKUP(H1577,[1]RewardItemConfig!$B:$F,5,FALSE)","v":435},{"$f":"VLOOKUP(I1577,[1]RewardItemConfig!$B:$F,5,FALSE)","v":162},14,3,17,"14#1626|3#435|17#162"]
[{"$nulls":6},3001578,3006578,3011578,{"$f":"VLOOKUP(G1578,[1]RewardItemConfig!$B:$F,5,FALSE)","v":1627},{"$f":"VLOOKUP(H1578,[1]RewardItemConfig!$B:$F,5,FALSE)","v":435},{"$f":"VLOOKUP(I1578,[1]RewardItemConfig!$B:$F,5,FALSE)","v":162},14,3,17,"14#1627|3#435|17#162"]
[{"$nulls":6},3001579,3006579,3011579,{"$f":"VLOOKUP(G1579,[1]RewardItemConfig!$B:$F,5,FALSE)","v":1628},{"$f":"VLOOKUP(H1579,[1]RewardItemConfig!$B:$F,5,FALSE)","v":435},{"$f":"VLOOKUP(I1579,[1]RewardItemConfig!$B:$F,5,FALSE)","v":162},14,3,17,"14#1628|3#435|17#162"]
[{"$nulls":6},3001580,3006580,3011580,{"$f":"VLOOKUP(G1580,[1]RewardItemConfig!$B:$F,5,FALSE)","v":1629},{"$f":"VLOOKUP(H1580,[1]RewardItemConfig!$B:$F,5,FALSE)","v":440},{"$f":"VLOOKUP(I1580,[1]RewardItemConfig!$B:$F,5,FALSE)","v":163},14,3,17,"14#1629|3#440|17#163"]
[{"$nulls":6},3001581,3006581,3011581,{"$f":"VLOOKUP(G1581,[1]RewardItemConfig!$B:$F,5,FALSE)","v":1630},{"$f":"VLOOKUP(H1581,[1]RewardItemConfig!$B:$F,5,FALSE)","v":440},{"$f":"VLOOKUP(I1581,[1]RewardItemConfig!$B:$F,5,FALSE)","v":163},14,3,17,"14#1630|3#440|17#163"]
[{"$nulls":6},3001582,3006582,3011582,{"$f":"VLOOKUP(G1582,[1]RewardItemConfig!$B:$F,5,FALSE)","v":1631},{"$f":"VLOOKUP(H1582,[1]RewardItemConfig!$B:$F,5,FALSE)","v":440},{"$f":"VLOOKUP(I1582,[1]RewardItemConfig!$B:$F,5,FALSE)","v":163},14,3,17,"14#1631|3#440|17#163"]
[{"$nulls":6},3001583,3006583,3011583,{"$f":"VLOOKUP(G1583,[1]RewardItemConfig!$B:$F,5,FALSE)","v":1632},{"$f":"VLOOKUP(H1583,[1]RewardItemConfig!$B:$F,5,FALSE)","v":440},{"$f":"VLOOKUP(I1583,[1]RewardItemConfig!$B:$F,5,FALSE)","v":163},14,3,17,"14#1632|3#440|17#163"]
[{"$nulls":6},3001584,3006584,3011584,{"$f":"VLOOKUP(G1584,[1]RewardItemConfig!$B:$F,5,FALSE)","v":1633},{"$f":"VLOOKUP(H1584,[1]RewardItemConfig!$B:$F,5,FALSE)","v":440},{"$f":"VLOOKUP(I1584,[1]RewardItemConfig!$B:$F,5,FALSE)","v":163},14,3,17,"14#1633|3#440|17#163"]
[{"$nulls":6},3001585,3006585,3011585,{"$f":"VLOOKUP(G1585,[1]RewardItemConfig!$B:$F,5,FALSE)","v":1634},{"$f":"VLOOKUP(H1585,[1]RewardItemConfig!$B:$F,5,FALSE)","v":440},{"$f":"VLOOKUP(I1585,[1]RewardItemConfig!$B:$F,5,FALSE)","v":163},14,3,17,"14#1634|3#440|17#163"]
[{"$nulls":6},3001586,3006586,3011586,{"$f":"VLOOKUP(G1586,[1]RewardItemConfig!$B:$F,5,FALSE)","v":1635},{"$f":"VLOOKUP(H1586,[1]RewardItemConfig!$B:$F,5,FALSE)","v":440},{"$f":"VLOOKUP(I1586,[1]RewardItemConfig!$B:$F,5,FALSE)","v":163},14,3,17,"14#1635|3#440|17#163"]
[{"$nulls":6},3001587,3006587,3011587,{"$f":"VLOOKUP(G1587,[1]RewardItemConfig!$B:$F,5,FALSE)","v":1636},{"$f":"VLOOKUP(H1587,[1]RewardItemConfig!$B:$F,5,FALSE)","v":440},{"$f":"VLOOKUP(I1587,[1]RewardItemConfig!$B:$F,5,FALSE)","v":163},14,3,17,"14#1636|3#440|17#163"]
[{"$nulls":6},3001588,3006588,3011588,{"$f":"VLOOKUP(G1588,[1]RewardItemConfig!$B:$F,5,FALSE)","v":1637},{"$f":"VLOOKUP(H1588,[1]RewardItemConfig!$B:$F,5,FALSE)","v":440},{"$f":"VLOOKUP(I1588,[1]RewardItemConfig!$B:$F,5,FALSE)","v":163},14,3,17,"14#1637|3#440|17#163"]
[{"$nulls":6},3001589,3006589,3011589,{"$f":"VLOOKUP(G1589,[1]RewardItemConfig!$B:$F,5,FALSE)","v":1638},{"$f":"VLOOKUP(H1589,[1]RewardItemConfig!$B:$F,5,FALSE)","v":440},{"$f":"VLOOKUP(I1589,[1]RewardItemConfig!$B:$F,5,FALSE)","v":163},14,3,17,"14#1638|3#440|17#163"]
[{"$nulls":6},3001590,3006590,3011590,{"$f":"VLOOKUP(G1590,[1]RewardItemConfig!$B:$F,5,FALSE)","v":1639},{"$f":"VLOOKUP(H1590,[1]RewardItemConfig!$B:$F,5,FALSE)","v":445},{"$f":"VLOOKUP(I1590,[1]RewardItemConfig!$B:$F,5,FALSE)","v":164},14,3,17,"14#1639|3#445|17#164"]
[{"$nulls":6},3001591,3006591,3011591,{"$f":"VLOOKUP(G1591,[1]RewardItemConfig!$B:$F,5,FALSE)","v":1640},{"$f":"VLOOKUP(H1591,[1]RewardItemConfig!$B:$F,5,FALSE)","v":445},{"$f":"VLOOKUP(I1591,[1]RewardItemConfig!$B:$F,5,FALSE)","v":164},14,3,17,"14#1640|3#445|17#164"]
[{"$nulls":6},3001592,3006592,3011592,{"$f":"VLOOKUP(G1592,[1]RewardItemConfig!$B:$F,5,FALSE)","v":1641},{"$f":"VLOOKUP(H1592,[1]RewardItemConfig!$B:$F,5,FALSE)","v":445},{"$f":"VLOOKUP(I1592,[1]RewardItemConfig!$B:$F,5,FALSE)","v":164},14,3,17,"14#1641|3#445|17#164"]
[{"$nulls":6},3001593,3006593,3011593,{"$f":"VLOOKUP(G1593,[1]RewardItemConfig!$B:$F,5,FALSE)","v":1642},{"$f":"VLOOKUP(H1593,[1]RewardItemConfig!$B:$F,5,FALSE)","v":445},{"$f":"VLOOKUP(I1593,[1]RewardItemConfig!$B:$F,5,FALSE)","v":164},14,3,17,"14#1642|3#445|17#164"]
[{"$nulls":6},3001594,3006594,3011594,{"$f":"VLOOKUP(G1594,[1]RewardItemConfig!$B:$F,5,FALSE)","v":1643},{"$f":"VLOOKUP(H1594,[1]RewardItemConfig!$B:$F,5,FALSE)","v":445},{"$f":"VLOOKUP(I1594,[1]RewardItemConfig!$B:$F,5,FALSE)","v":164},14,3,17,"14#1643|3#445|17#164"]
[{"$nulls":6},3001595,3006595,3011595,{"$f":"VLOOKUP(G1595,[1]RewardItemConfig!$B:$F,5,FALSE)","v":1644},{"$f":"VLOOKUP(H1595,[1]RewardItemConfig!$B:$F,5,FALSE)","v":445},{"$f":"VLOOKUP(I1595,[1]RewardItemConfig!$B:$F,5,FALSE)","v":164},14,3,17,"14#1644|3#445|17#164"]
[{"$nulls":6},3001596,3006596,3011596,{"$f":"VLOOKUP(G1596,[1]RewardItemConfig!$B:$F,5,FALSE)","v":1645},{"$f":"VLOOKUP(H1596,[1]RewardItemConfig!$B:$F,5,FALSE)","v":445},{"$f":"VLOOKUP(I1596,[1]RewardItemConfig!$B:$F,5,FALSE)","v":164},14,3,17,"14#1645|3#445|17#164"]
[{"$nulls":6},3001597,3006597,3011597,{"$f":"VLOOKUP(G1597,[1]RewardItemConfig!$B:$F,5,FALSE)","v":1646},{"$f":"VLOOKUP(H1597,[1]RewardItemConfig!$B:$F,5,FALSE)","v":445},{"$f":"VLOOKUP(I1597,[1]RewardItemConfig!$B:$F,5,FALSE)","v":164},14,3,17,"14#1646|3#445|17#164"]
[{"$nulls":6},3001598,3006598,3011598,{"$f":"VLOOKUP(G1598,[1]RewardItemConfig!$B:$F,5,FALSE)","v":1647},{"$f":"VLOOKUP(H1598,[1]RewardItemConfig!$B:$F,5,FALSE)","v":445},{"$f":"VLOOKUP(I1598,[1]RewardItemConfig!$B:$F,5,FALSE)","v":164},14,3,17,"14#1647|3#445|17#164"]
[{"$nulls":6},3001599,3006599,3011599,{"$f":"VLOOKUP(G1599,[1]RewardItemConfig!$B:$F,5,FALSE)","v":1648},{"$f":"VLOOKUP(H1599,[1]RewardItemConfig!$B:$F,5,FALSE)","v":445},{"$f":"VLOOKUP(I1599,[1]RewardItemConfig!$B:$F,5,FALSE)","v":164},14,3,17,"14#1648|3#445|17#164"]
[{"$nulls":6},3001600,3006600,3011600,{"$f":"VLOOKUP(G1600,[1]RewardItemConfig!$B:$F,5,FALSE)","v":1649},{"$f":"VLOOKUP(H1600,[1]RewardItemConfig!$B:$F,5,FALSE)","v":450},{"$f":"VLOOKUP(I1600,[1]RewardItemConfig!$B:$F,5,FALSE)","v":165},14,3,17,"14#1649|3#450|17#165"]
[{"$nulls":6},3001601,3006601,3011601,{"$f":"VLOOKUP(G1601,[1]RewardItemConfig!$B:$F,5,FALSE)","v":1650},{"$f":"VLOOKUP(H1601,[1]RewardItemConfig!$B:$F,5,FALSE)","v":450},{"$f":"VLOOKUP(I1601,[1]RewardItemConfig!$B:$F,5,FALSE)","v":165},14,3,17,"14#1650|3#450|17#165"]
[{"$nulls":6},3001602,3006602,3011602,{"$f":"VLOOKUP(G1602,[1]RewardItemConfig!$B:$F,5,FALSE)","v":1651},{"$f":"VLOOKUP(H1602,[1]RewardItemConfig!$B:$F,5,FALSE)","v":450},{"$f":"VLOOKUP(I1602,[1]RewardItemConfig!$B:$F,5,FALSE)","v":165},14,3,17,{"$f":"M1602&\"#\"&J1602&\"|\"&N1602&\"#\"&K1602&\"|\"&O1602&\"#\"&L1602","v":"14#1651|3#450|17#165"}]
[{"$nulls":6},3001603,3006603,3011603,{"$f":"VLOOKUP(G1603,[1]RewardItemConfig!$B:$F,5,FALSE)","v":1652},{"$f":"VLOOKUP(H1603,[1]RewardItemConfig!$B:$F,5,FALSE)","v":450},{"$f":"VLOOKUP(I1603,[1]RewardItemConfig!$B:$F,5,FALSE)","v":165},{"$f":"M1602","v":14},{"$f":"N1602","v":3},{"$f":"O1602","v":17},"14#1652|3#450|17#165"]
[{"$nulls":6},3001604,3006604,3011604,{"$f":"VLOOKUP(G1604,[1]RewardItemConfig!$B:$F,5,FALSE)","v":1653},{"$f":"VLOOKUP(H1604,[1]RewardItemConfig!$B:$F,5,FALSE)","v":450},{"$f":"VLOOKUP(I1604,[1]RewardItemConfig!$B:$F,5,FALSE)","v":165},14,3,17,"14#1653|3#450|17#165"]
[{"$nulls":6},3001605,3006605,3011605,{"$f":"VLOOKUP(G1605,[1]RewardItemConfig!$B:$F,5,FALSE)","v":1654},{"$f":"VLOOKUP(H1605,[1]RewardItemConfig!$B:$F,5,FALSE)","v":450},{"$f":"VLOOKUP(I1605,[1]RewardItemConfig!$B:$F,5,FALSE)","v":165},14,3,17,"14#1654|3#450|17#165"]
[{"$nulls":6},3001606,3006606,3011606,{"$f":"VLOOKUP(G1606,[1]RewardItemConfig!$B:$F,5,FALSE)","v":1655},{"$f":"VLOOKUP(H1606,[1]RewardItemConfig!$B:$F,5,FALSE)","v":450},{"$f":"VLOOKUP(I1606,[1]RewardItemConfig!$B:$F,5,FALSE)","v":165},14,3,17,"14#1655|3#450|17#165"]
[{"$nulls":6},3001607,3006607,3011607,{"$f":"VLOOKUP(G1607,[1]RewardItemConfig!$B:$F,5,FALSE)","v":1656},{"$f":"VLOOKUP(H1607,[1]RewardItemConfig!$B:$F,5,FALSE)","v":450},{"$f":"VLOOKUP(I1607,[1]RewardItemConfig!$B:$F,5,FALSE)","v":165},14,3,17,"14#1656|3#450|17#165"]
[{"$nulls":6},3001608,3006608,3011608,{"$f":"VLOOKUP(G1608,[1]RewardItemConfig!$B:$F,5,FALSE)","v":1657},{"$f":"VLOOKUP(H1608,[1]RewardItemConfig!$B:$F,5,FALSE)","v":450},{"$f":"VLOOKUP(I1608,[1]RewardItemConfig!$B:$F,5,FALSE)","v":165},14,3,17,"14#1657|3#450|17#165"]
[{"$nulls":6},3001609,3006609,3011609,{"$f":"VLOOKUP(G1609,[1]RewardItemConfig!$B:$F,5,FALSE)","v":1658},{"$f":"VLOOKUP(H1609,[1]RewardItemConfig!$B:$F,5,FALSE)","v":450},{"$f":"VLOOKUP(I1609,[1]RewardItemConfig!$B:$F,5,FALSE)","v":165},14,3,17,"14#1658|3#450|17#165"]
[{"$nulls":6},3001610,3006610,3011610,{"$f":"VLOOKUP(G1610,[1]RewardItemConfig!$B:$F,5,FALSE)","v":1659},{"$f":"VLOOKUP(H1610,[1]RewardItemConfig!$B:$F,5,FALSE)","v":455},{"$f":"VLOOKUP(I1610,[1]RewardItemConfig!$B:$F,5,FALSE)","v":166},14,3,17,"14#1659|3#455|17#166"]
[{"$nulls":6},3001611,3006611,3011611,{"$f":"VLOOKUP(G1611,[1]RewardItemConfig!$B:$F,5,FALSE)","v":1660},{"$f":"VLOOKUP(H1611,[1]RewardItemConfig!$B:$F,5,FALSE)","v":455},{"$f":"VLOOKUP(I1611,[1]RewardItemConfig!$B:$F,5,FALSE)","v":166},14,3,17,"14#1660|3#455|17#166"]
[{"$nulls":6},3001612,3006612,3011612,{"$f":"VLOOKUP(G1612,[1]RewardItemConfig!$B:$F,5,FALSE)","v":1661},{"$f":"VLOOKUP(H1612,[1]RewardItemConfig!$B:$F,5,FALSE)","v":455},{"$f":"VLOOKUP(I1612,[1]RewardItemConfig!$B:$F,5,FALSE)","v":166},14,3,17,"14#1661|3#455|17#166"]
[{"$nulls":6},3001613,3006613,3011613,{"$f":"VLOOKUP(G1613,[1]RewardItemConfig!$B:$F,5,FALSE)","v":1662},{"$f":"VLOOKUP(H1613,[1]RewardItemConfig!$B:$F,5,FALSE)","v":455},{"$f":"VLOOKUP(I1613,[1]RewardItemConfig!$B:$F,5,FALSE)","v":166},14,3,17,"14#1662|3#455|17#166"]
[{"$nulls":6},3001614,3006614,3011614,{"$f":"VLOOKUP(G1614,[1]RewardItemConfig!$B:$F,5,FALSE)","v":1663},{"$f":"VLOOKUP(H1614,[1]RewardItemConfig!$B:$F,5,FALSE)","v":455},{"$f":"VLOOKUP(I1614,[1]RewardItemConfig!$B:$F,5,FALSE)","v":166},14,3,17,"14#1663|3#455|17#166"]
[{"$nulls":6},3001615,3006615,3011615,{"$f":"VLOOKUP(G1615,[1]RewardItemConfig!$B:$F,5,FALSE)","v":1664},{"$f":"VLOOKUP(H1615,[1]RewardItemConfig!$B:$F,5,FALSE)","v":455},{"$f":"VLOOKUP(I1615,[1]RewardItemConfig!$B:$F,5,FALSE)","v":166},14,3,17,"14#1664|3#455|17#166"]
[{"$nulls":6},3001616,3006616,3011616,{"$f":"VLOOKUP(G1616,[1]RewardItemConfig!$B:$F,5,FALSE)","v":1665},{"$f":"VLOOKUP(H1616,[1]RewardItemConfig!$B:$F,5,FALSE)","v":455},{"$f":"VLOOKUP(I1616,[1]RewardItemConfig!$B:$F,5,FALSE)","v":166},14,3,17,"14#1665|3#455|17#166"]
[{"$nulls":6},3001617,3006617,3011617,{"$f":"VLOOKUP(G1617,[1]RewardItemConfig!$B:$F,5,FALSE)","v":1666},{"$f":"VLOOKUP(H1617,[1]RewardItemConfig!$B:$F,5,FALSE)","v":455},{"$f":"VLOOKUP(I1617,[1]RewardItemConfig!$B:$F,5,FALSE)","v":166},14,3,17,"14#1666|3#455|17#166"]
[{"$nulls":6},3001618,3006618,3011618,{"$f":"VLOOKUP(G1618,[1]RewardItemConfig!$B:$F,5,FALSE)","v":1667},{"$f":"VLOOKUP(H1618,[1]RewardItemConfig!$B:$F,5,FALSE)","v":455},{"$f":"VLOOKUP(I1618,[1]RewardItemConfig!$B:$F,5,FALSE)","v":166},14,3,17,"14#1667|3#455|17#166"]
[{"$nulls":6},3001619,3006619,3011619,{"$f":"VLOOKUP(G1619,[1]RewardItemConfig!$B:$F,5,FALSE)","v":1668},{"$f":"VLOOKUP(H1619,[1]RewardItemConfig!$B:$F,5,FALSE)","v":455},{"$f":"VLOOKUP(I1619,[1]RewardItemConfig!$B:$F,5,FALSE)","v":166},14,3,17,"14#1668|3#455|17#166"]
[{"$nulls":6},3001620,3006620,3011620,{"$f":"VLOOKUP(G1620,[1]RewardItemConfig!$B:$F,5,FALSE)","v":1669},{"$f":"VLOOKUP(H1620,[1]RewardItemConfig!$B:$F,5,FALSE)","v":460},{"$f":"VLOOKUP(I1620,[1]RewardItemConfig!$B:$F,5,FALSE)","v":167},14,3,17,"14#1669|3#460|17#167"]
[{"$nulls":6},3001621,3006621,3011621,{"$f":"VLOOKUP(G1621,[1]RewardItemConfig!$B:$F,5,FALSE)","v":1670},{"$f":"VLOOKUP(H1621,[1]RewardItemConfig!$B:$F,5,FALSE)","v":460},{"$f":"VLOOKUP(I1621,[1]RewardItemConfig!$B:$F,5,FALSE)","v":167},14,3,17,"14#1670|3#460|17#167"]
[{"$nulls":6},3001622,3006622,3011622,{"$f":"VLOOKUP(G1622,[1]RewardItemConfig!$B:$F,5,FALSE)","v":1671},{"$f":"VLOOKUP(H1622,[1]RewardItemConfig!$B:$F,5,FALSE)","v":460},{"$f":"VLOOKUP(I1622,[1]RewardItemConfig!$B:$F,5,FALSE)","v":167},14,3,17,"14#1671|3#460|17#167"]
[{"$nulls":6},3001623,3006623,3011623,{"$f":"VLOOKUP(G1623,[1]RewardItemConfig!$B:$F,5,FALSE)","v":1672},{"$f":"VLOOKUP(H1623,[1]RewardItemConfig!$B:$F,5,FALSE)","v":460},{"$f":"VLOOKUP(I1623,[1]RewardItemConfig!$B:$F,5,FALSE)","v":167},14,3,17,"14#1672|3#460|17#167"]
[{"$nulls":6},3001624,3006624,3011624,{"$f":"VLOOKUP(G1624,[1]RewardItemConfig!$B:$F,5,FALSE)","v":1673},{"$f":"VLOOKUP(H1624,[1]RewardItemConfig!$B:$F,5,FALSE)","v":460},{"$f":"VLOOKUP(I1624,[1]RewardItemConfig!$B:$F,5,FALSE)","v":167},14,3,17,"14#1673|3#460|17#167"]
[{"$nulls":6},3001625,3006625,3011625,{"$f":"VLOOKUP(G1625,[1]RewardItemConfig!$B:$F,5,FALSE)","v":1674},{"$f":"VLOOKUP(H1625,[1]RewardItemConfig!$B:$F,5,FALSE)","v":460},{"$f":"VLOOKUP(I1625,[1]RewardItemConfig!$B:$F,5,FALSE)","v":167},14,3,17,"14#1674|3#460|17#167"]
[{"$nulls":6},3001626,3006626,3011626,{"$f":"VLOOKUP(G1626,[1]RewardItemConfig!$B:$F,5,FALSE)","v":1675},{"$f":"VLOOKUP(H1626,[1]RewardItemConfig!$B:$F,5,FALSE)","v":460},{"$f":"VLOOKUP(I1626,[1]RewardItemConfig!$B:$F,5,FALSE)","v":167},14,3,17,"14#1675|3#460|17#167"]
[{"$nulls":6},3001627,3006627,3011627,{"$f":"VLOOKUP(G1627,[1]RewardItemConfig!$B:$F,5,FALSE)","v":1676},{"$f":"VLOOKUP(H1627,[1]RewardItemConfig!$B:$F,5,FALSE)","v":460},{"$f":"VLOOKUP(I1627,[1]RewardItemConfig!$B:$F,5,FALSE)","v":167},14,3,17,"14#1676|3#460|17#167"]
[{"$nulls":6},3001628,3006628,3011628,{"$f":"VLOOKUP(G1628,[1]RewardItemConfig!$B:$F,5,FALSE)","v":1677},{"$f":"VLOOKUP(H1628,[1]RewardItemConfig!$B:$F,5,FALSE)","v":460},{"$f":"VLOOKUP(I1628,[1]RewardItemConfig!$B:$F,5,FALSE)","v":167},14,3,17,"14#1677|3#460|17#167"]
[{"$nulls":6},3001629,3006629,3011629,{"$f":"VLOOKUP(G1629,[1]RewardItemConfig!$B:$F,5,FALSE)","v":1678},{"$f":"VLOOKUP(H1629,[1]RewardItemConfig!$B:$F,5,FALSE)","v":460},{"$f":"VLOOKUP(I1629,[1]RewardItemConfig!$B:$F,5,FALSE)","v":167},14,3,17,"14#1678|3#460|17#167"]
[{"$nulls":6},3001630,3006630,3011630,{"$f":"VLOOKUP(G1630,[1]RewardItemConfig!$B:$F,5,FALSE)","v":1679},{"$f":"VLOOKUP(H1630,[1]RewardItemConfig!$B:$F,5,FALSE)","v":465},{"$f":"VLOOKUP(I1630,[1]RewardItemConfig!$B:$F,5,FALSE)","v":168},14,3,17,"14#1679|3#465|17#168"]
[{"$nulls":6},3001631,3006631,3011631,{"$f":"VLOOKUP(G1631,[1]RewardItemConfig!$B:$F,5,FALSE)","v":1680},{"$f":"VLOOKUP(H1631,[1]RewardItemConfig!$B:$F,5,FALSE)","v":465},{"$f":"VLOOKUP(I1631,[1]RewardItemConfig!$B:$F,5,FALSE)","v":168},14,3,17,"14#1680|3#465|17#168"]
[{"$nulls":6},3001632,3006632,3011632,{"$f":"VLOOKUP(G1632,[1]RewardItemConfig!$B:$F,5,FALSE)","v":1681},{"$f":"VLOOKUP(H1632,[1]RewardItemConfig!$B:$F,5,FALSE)","v":465},{"$f":"VLOOKUP(I1632,[1]RewardItemConfig!$B:$F,5,FALSE)","v":168},14,3,17,"14#1681|3#465|17#168"]
[{"$nulls":6},3001633,3006633,3011633,{"$f":"VLOOKUP(G1633,[1]RewardItemConfig!$B:$F,5,FALSE)","v":1682},{"$f":"VLOOKUP(H1633,[1]RewardItemConfig!$B:$F,5,FALSE)","v":465},{"$f":"VLOOKUP(I1633,[1]RewardItemConfig!$B:$F,5,FALSE)","v":168},14,3,17,"14#1682|3#465|17#168"]
[{"$nulls":6},3001634,3006634,3011634,{"$f":"VLOOKUP(G1634,[1]RewardItemConfig!$B:$F,5,FALSE)","v":1683},{"$f":"VLOOKUP(H1634,[1]RewardItemConfig!$B:$F,5,FALSE)","v":465},{"$f":"VLOOKUP(I1634,[1]RewardItemConfig!$B:$F,5,FALSE)","v":168},14,3,17,"14#1683|3#465|17#168"]
[{"$nulls":6},3001635,3006635,3011635,{"$f":"VLOOKUP(G1635,[1]RewardItemConfig!$B:$F,5,FALSE)","v":1684},{"$f":"VLOOKUP(H1635,[1]RewardItemConfig!$B:$F,5,FALSE)","v":465},{"$f":"VLOOKUP(I1635,[1]RewardItemConfig!$B:$F,5,FALSE)","v":168},14,3,17,"14#1684|3#465|17#168"]
[{"$nulls":6},3001636,3006636,3011636,{"$f":"VLOOKUP(G1636,[1]RewardItemConfig!$B:$F,5,FALSE)","v":1685},{"$f":"VLOOKUP(H1636,[1]RewardItemConfig!$B:$F,5,FALSE)","v":465},{"$f":"VLOOKUP(I1636,[1]RewardItemConfig!$B:$F,5,FALSE)","v":168},14,3,17,"14#1685|3#465|17#168"]
[{"$nulls":6},3001637,3006637,3011637,{"$f":"VLOOKUP(G1637,[1]RewardItemConfig!$B:$F,5,FALSE)","v":1686},{"$f":"VLOOKUP(H1637,[1]RewardItemConfig!$B:$F,5,FALSE)","v":465},{"$f":"VLOOKUP(I1637,[1]RewardItemConfig!$B:$F,5,FALSE)","v":168},14,3,17,"14#1686|3#465|17#168"]
[{"$nulls":6},3001638,3006638,3011638,{"$f":"VLOOKUP(G1638,[1]RewardItemConfig!$B:$F,5,FALSE)","v":1687},{"$f":"VLOOKUP(H1638,[1]RewardItemConfig!$B:$F,5,FALSE)","v":465},{"$f":"VLOOKUP(I1638,[1]RewardItemConfig!$B:$F,5,FALSE)","v":168},14,3,17,"14#1687|3#465|17#168"]
[{"$nulls":6},3001639,3006639,3011639,{"$f":"VLOOKUP(G1639,[1]RewardItemConfig!$B:$F,5,FALSE)","v":1688},{"$f":"VLOOKUP(H1639,[1]RewardItemConfig!$B:$F,5,FALSE)","v":465},{"$f":"VLOOKUP(I1639,[1]RewardItemConfig!$B:$F,5,FALSE)","v":168},14,3,17,"14#1688|3#465|17#168"]
[{"$nulls":6},3001640,3006640,3011640,{"$f":"VLOOKUP(G1640,[1]RewardItemConfig!$B:$F,5,FALSE)","v":1689},{"$f":"VLOOKUP(H1640,[1]RewardItemConfig!$B:$F,5,FALSE)","v":470},{"$f":"VLOOKUP(I1640,[1]RewardItemConfig!$B:$F,5,FALSE)","v":169},14,3,17,"14#1689|3#470|17#169"]
[{"$nulls":6},3001641,3006641,3011641,{"$f":"VLOOKUP(G1641,[1]RewardItemConfig!$B:$F,5,FALSE)","v":1690},{"$f":"VLOOKUP(H1641,[1]RewardItemConfig!$B:$F,5,FALSE)","v":470},{"$f":"VLOOKUP(I1641,[1]RewardItemConfig!$B:$F,5,FALSE)","v":169},14,3,17,"14#1690|3#470|17#169"]
[{"$nulls":6},3001642,3006642,3011642,{"$f":"VLOOKUP(G1642,[1]RewardItemConfig!$B:$F,5,FALSE)","v":1691},{"$f":"VLOOKUP(H1642,[1]RewardItemConfig!$B:$F,5,FALSE)","v":470},{"$f":"VLOOKUP(I1642,[1]RewardItemConfig!$B:$F,5,FALSE)","v":169},14,3,17,"14#1691|3#470|17#169"]
[{"$nulls":6},3001643,3006643,3011643,{"$f":"VLOOKUP(G1643,[1]RewardItemConfig!$B:$F,5,FALSE)","v":1692},{"$f":"VLOOKUP(H1643,[1]RewardItemConfig!$B:$F,5,FALSE)","v":470},{"$f":"VLOOKUP(I1643,[1]RewardItemConfig!$B:$F,5,FALSE)","v":169},14,3,17,"14#1692|3#470|17#169"]
[{"$nulls":6},3001644,3006644,3011644,{"$f":"VLOOKUP(G1644,[1]RewardItemConfig!$B:$F,5,FALSE)","v":1693},{"$f":"VLOOKUP(H1644,[1]RewardItemConfig!$B:$F,5,FALSE)","v":470},{"$f":"VLOOKUP(I1644,[1]RewardItemConfig!$B:$F,5,FALSE)","v":169},14,3,17,"14#1693|3#470|17#169"]
[{"$nulls":6},3001645,3006645,3011645,{"$f":"VLOOKUP(G1645,[1]RewardItemConfig!$B:$F,5,FALSE)","v":1694},{"$f":"VLOOKUP(H1645,[1]RewardItemConfig!$B:$F,5,FALSE)","v":470},{"$f":"VLOOKUP(I1645,[1]RewardItemConfig!$B:$F,5,FALSE)","v":169},14,3,17,"14#1694|3#470|17#169"]
[{"$nulls":6},3001646,3006646,3011646,{"$f":"VLOOKUP(G1646,[1]RewardItemConfig!$B:$F,5,FALSE)","v":1695},{"$f":"VLOOKUP(H1646,[1]RewardItemConfig!$B:$F,5,FALSE)","v":470},{"$f":"VLOOKUP(I1646,[1]RewardItemConfig!$B:$F,5,FALSE)","v":169},14,3,17,"14#1695|3#470|17#169"]
[{"$nulls":6},3001647,3006647,3011647,{"$f":"VLOOKUP(G1647,[1]RewardItemConfig!$B:$F,5,FALSE)","v":1696},{"$f":"VLOOKUP(H1647,[1]RewardItemConfig!$B:$F,5,FALSE)","v":470},{"$f":"VLOOKUP(I1647,[1]RewardItemConfig!$B:$F,5,FALSE)","v":169},14,3,17,"14#1696|3#470|17#169"]
[{"$nulls":6},3001648,3006648,3011648,{"$f":"VLOOKUP(G1648,[1]RewardItemConfig!$B:$F,5,FALSE)","v":1697},{"$f":"VLOOKUP(H1648,[1]RewardItemConfig!$B:$F,5,FALSE)","v":470},{"$f":"VLOOKUP(I1648,[1]RewardItemConfig!$B:$F,5,FALSE)","v":169},14,3,17,"14#1697|3#470|17#169"]
[{"$nulls":6},3001649,3006649,3011649,{"$f":"VLOOKUP(G1649,[1]RewardItemConfig!$B:$F,5,FALSE)","v":1698},{"$f":"VLOOKUP(H1649,[1]RewardItemConfig!$B:$F,5,FALSE)","v":470},{"$f":"VLOOKUP(I1649,[1]RewardItemConfig!$B:$F,5,FALSE)","v":169},14,3,17,"14#1698|3#470|17#169"]
[{"$nulls":6},3001650,3006650,3011650,{"$f":"VLOOKUP(G1650,[1]RewardItemConfig!$B:$F,5,FALSE)","v":1699},{"$f":"VLOOKUP(H1650,[1]RewardItemConfig!$B:$F,5,FALSE)","v":475},{"$f":"VLOOKUP(I1650,[1]RewardItemConfig!$B:$F,5,FALSE)","v":170},14,3,17,"14#1699|3#475|17#170"]
[{"$nulls":6},3001651,3006651,3011651,{"$f":"VLOOKUP(G1651,[1]RewardItemConfig!$B:$F,5,FALSE)","v":1700},{"$f":"VLOOKUP(H1651,[1]RewardItemConfig!$B:$F,5,FALSE)","v":475},{"$f":"VLOOKUP(I1651,[1]RewardItemConfig!$B:$F,5,FALSE)","v":170},14,3,17,"14#1700|3#475|17#170"]
[{"$nulls":6},3001652,3006652,3011652,{"$f":"VLOOKUP(G1652,[1]RewardItemConfig!$B:$F,5,FALSE)","v":1701},{"$f":"VLOOKUP(H1652,[1]RewardItemConfig!$B:$F,5,FALSE)","v":475},{"$f":"VLOOKUP(I1652,[1]RewardItemConfig!$B:$F,5,FALSE)","v":170},14,3,17,"14#1701|3#475|17#170"]
[{"$nulls":6},3001653,3006653,3011653,{"$f":"VLOOKUP(G1653,[1]RewardItemConfig!$B:$F,5,FALSE)","v":1702},{"$f":"VLOOKUP(H1653,[1]RewardItemConfig!$B:$F,5,FALSE)","v":475},{"$f":"VLOOKUP(I1653,[1]RewardItemConfig!$B:$F,5,FALSE)","v":170},14,3,17,"14#1702|3#475|17#170"]
[{"$nulls":6},3001654,3006654,3011654,{"$f":"VLOOKUP(G1654,[1]RewardItemConfig!$B:$F,5,FALSE)","v":1703},{"$f":"VLOOKUP(H1654,[1]RewardItemConfig!$B:$F,5,FALSE)","v":475},{"$f":"VLOOKUP(I1654,[1]RewardItemConfig!$B:$F,5,FALSE)","v":170},14,3,17,"14#1703|3#475|17#170"]
[{"$nulls":6},3001655,3006655,3011655,{"$f":"VLOOKUP(G1655,[1]RewardItemConfig!$B:$F,5,FALSE)","v":1704},{"$f":"VLOOKUP(H1655,[1]RewardItemConfig!$B:$F,5,FALSE)","v":475},{"$f":"VLOOKUP(I1655,[1]RewardItemConfig!$B:$F,5,FALSE)","v":170},14,3,17,"14#1704|3#475|17#170"]
[{"$nulls":6},3001656,3006656,3011656,{"$f":"VLOOKUP(G1656,[1]RewardItemConfig!$B:$F,5,FALSE)","v":1705},{"$f":"VLOOKUP(H1656,[1]RewardItemConfig!$B:$F,5,FALSE)","v":475},{"$f":"VLOOKUP(I1656,[1]RewardItemConfig!$B:$F,5,FALSE)","v":170},14,3,17,"14#1705|3#475|17#170"]
[{"$nulls":6},3001657,3006657,3011657,{"$f":"VLOOKUP(G1657,[1]RewardItemConfig!$B:$F,5,FALSE)","v":1706},{"$f":"VLOOKUP(H1657,[1]RewardItemConfig!$B:$F,5,FALSE)","v":475},{"$f":"VLOOKUP(I1657,[1]RewardItemConfig!$B:$F,5,FALSE)","v":170},14,3,17,"14#1706|3#475|17#170"]
[{"$nulls":6},3001658,3006658,3011658,{"$f":"VLOOKUP(G1658,[1]RewardItemConfig!$B:$F,5,FALSE)","v":1707},{"$f":"VLOOKUP(H1658,[1]RewardItemConfig!$B:$F,5,FALSE)","v":475},{"$f":"VLOOKUP(I1658,[1]RewardItemConfig!$B:$F,5,FALSE)","v":170},14,3,17,"14#1707|3#475|17#170"]
[{"$nulls":6},3001659,3006659,3011659,{"$f":"VLOOKUP(G1659,[1]RewardItemConfig!$B:$F,5,FALSE)","v":1708},{"$f":"VLOOKUP(H1659,[1]RewardItemConfig!$B:$F,5,FALSE)","v":475},{"$f":"VLOOKUP(I1659,[1]RewardItemConfig!$B:$F,5,FALSE)","v":170},14,3,17,"14#1708|3#475|17#170"]
[{"$nulls":6},3001660,3006660,3011660,{"$f":"VLOOKUP(G1660,[1]RewardItemConfig!$B:$F,5,FALSE)","v":1709},{"$f":"VLOOKUP(H1660,[1]RewardItemConfig!$B:$F,5,FALSE)","v":480},{"$f":"VLOOKUP(I1660,[1]RewardItemConfig!$B:$F,5,FALSE)","v":171},14,3,17,"14#1709|3#480|17#171"]
[{"$nulls":6},3001661,3006661,3011661,{"$f":"VLOOKUP(G1661,[1]RewardItemConfig!$B:$F,5,FALSE)","v":1710},{"$f":"VLOOKUP(H1661,[1]RewardItemConfig!$B:$F,5,FALSE)","v":480},{"$f":"VLOOKUP(I1661,[1]RewardItemConfig!$B:$F,5,FALSE)","v":171},14,3,17,"14#1710|3#480|17#171"]
[{"$nulls":6},3001662,3006662,3011662,{"$f":"VLOOKUP(G1662,[1]RewardItemConfig!$B:$F,5,FALSE)","v":1711},{"$f":"VLOOKUP(H1662,[1]RewardItemConfig!$B:$F,5,FALSE)","v":480},{"$f":"VLOOKUP(I1662,[1]RewardItemConfig!$B:$F,5,FALSE)","v":171},14,3,17,"14#1711|3#480|17#171"]
[{"$nulls":6},3001663,3006663,3011663,{"$f":"VLOOKUP(G1663,[1]RewardItemConfig!$B:$F,5,FALSE)","v":1712},{"$f":"VLOOKUP(H1663,[1]RewardItemConfig!$B:$F,5,FALSE)","v":480},{"$f":"VLOOKUP(I1663,[1]RewardItemConfig!$B:$F,5,FALSE)","v":171},14,3,17,"14#1712|3#480|17#171"]
[{"$nulls":6},3001664,3006664,3011664,{"$f":"VLOOKUP(G1664,[1]RewardItemConfig!$B:$F,5,FALSE)","v":1713},{"$f":"VLOOKUP(H1664,[1]RewardItemConfig!$B:$F,5,FALSE)","v":480},{"$f":"VLOOKUP(I1664,[1]RewardItemConfig!$B:$F,5,FALSE)","v":171},14,3,17,"14#1713|3#480|17#171"]
[{"$nulls":6},3001665,3006665,3011665,{"$f":"VLOOKUP(G1665,[1]RewardItemConfig!$B:$F,5,FALSE)","v":1714},{"$f":"VLOOKUP(H1665,[1]RewardItemConfig!$B:$F,5,FALSE)","v":480},{"$f":"VLOOKUP(I1665,[1]RewardItemConfig!$B:$F,5,FALSE)","v":171},14,3,17,"14#1714|3#480|17#171"]
[{"$nulls":6},3001666,3006666,3011666,{"$f":"VLOOKUP(G1666,[1]RewardItemConfig!$B:$F,5,FALSE)","v":1715},{"$f":"VLOOKUP(H1666,[1]RewardItemConfig!$B:$F,5,FALSE)","v":480},{"$f":"VLOOKUP(I1666,[1]RewardItemConfig!$B:$F,5,FALSE)","v":171},14,3,17,{"$f":"M1666&\"#\"&J1666&\"|\"&N1666&\"#\"&K1666&\"|\"&O1666&\"#\"&L1666","v":"14#1715|3#480|17#171"}]
[{"$nulls":6},3001667,3006667,3011667,{"$f":"VLOOKUP(G1667,[1]RewardItemConfig!$B:$F,5,FALSE)","v":1716},{"$f":"VLOOKUP(H1667,[1]RewardItemConfig!$B:$F,5,FALSE)","v":480},{"$f":"VLOOKUP(I1667,[1]RewardItemConfig!$B:$F,5,FALSE)","v":171},{"$f":"M1666","v":14},{"$f":"N1666","v":3},{"$f":"O1666","v":17},"14#1716|3#480|17#171"]
[{"$nulls":6},3001668,3006668,3011668,{"$f":"VLOOKUP(G1668,[1]RewardItemConfig!$B:$F,5,FALSE)","v":1717},{"$f":"VLOOKUP(H1668,[1]RewardItemConfig!$B:$F,5,FALSE)","v":480},{"$f":"VLOOKUP(I1668,[1]RewardItemConfig!$B:$F,5,FALSE)","v":171},14,3,17,"14#1717|3#480|17#171"]
[{"$nulls":6},3001669,3006669,3011669,{"$f":"VLOOKUP(G1669,[1]RewardItemConfig!$B:$F,5,FALSE)","v":1718},{"$f":"VLOOKUP(H1669,[1]RewardItemConfig!$B:$F,5,FALSE)","v":480},{"$f":"VLOOKUP(I1669,[1]RewardItemConfig!$B:$F,5,FALSE)","v":171},14,3,17,"14#1718|3#480|17#171"]
[{"$nulls":6},3001670,3006670,3011670,{"$f":"VLOOKUP(G1670,[1]RewardItemConfig!$B:$F,5,FALSE)","v":1719},{"$f":"VLOOKUP(H1670,[1]RewardItemConfig!$B:$F,5,FALSE)","v":485},{"$f":"VLOOKUP(I1670,[1]RewardItemConfig!$B:$F,5,FALSE)","v":172},14,3,17,"14#1719|3#485|17#172"]
[{"$nulls":6},3001671,3006671,3011671,{"$f":"VLOOKUP(G1671,[1]RewardItemConfig!$B:$F,5,FALSE)","v":1720},{"$f":"VLOOKUP(H1671,[1]RewardItemConfig!$B:$F,5,FALSE)","v":485},{"$f":"VLOOKUP(I1671,[1]RewardItemConfig!$B:$F,5,FALSE)","v":172},14,3,17,"14#1720|3#485|17#172"]
[{"$nulls":6},3001672,3006672,3011672,{"$f":"VLOOKUP(G1672,[1]RewardItemConfig!$B:$F,5,FALSE)","v":1721},{"$f":"VLOOKUP(H1672,[1]RewardItemConfig!$B:$F,5,FALSE)","v":485},{"$f":"VLOOKUP(I1672,[1]RewardItemConfig!$B:$F,5,FALSE)","v":172},14,3,17,"14#1721|3#485|17#172"]
[{"$nulls":6},3001673,3006673,3011673,{"$f":"VLOOKUP(G1673,[1]RewardItemConfig!$B:$F,5,FALSE)","v":1722},{"$f":"VLOOKUP(H1673,[1]RewardItemConfig!$B:$F,5,FALSE)","v":485},{"$f":"VLOOKUP(I1673,[1]RewardItemConfig!$B:$F,5,FALSE)","v":172},14,3,17,"14#1722|3#485|17#172"]
[{"$nulls":6},3001674,3006674,3011674,{"$f":"VLOOKUP(G1674,[1]RewardItemConfig!$B:$F,5,FALSE)","v":1723},{"$f":"VLOOKUP(H1674,[1]RewardItemConfig!$B:$F,5,FALSE)","v":485},{"$f":"VLOOKUP(I1674,[1]RewardItemConfig!$B:$F,5,FALSE)","v":172},14,3,17,"14#1723|3#485|17#172"]
[{"$nulls":6},3001675,3006675,3011675,{"$f":"VLOOKUP(G1675,[1]RewardItemConfig!$B:$F,5,FALSE)","v":1724},{"$f":"VLOOKUP(H1675,[1]RewardItemConfig!$B:$F,5,FALSE)","v":485},{"$f":"VLOOKUP(I1675,[1]RewardItemConfig!$B:$F,5,FALSE)","v":172},14,3,17,"14#1724|3#485|17#172"]
[{"$nulls":6},3001676,3006676,3011676,{"$f":"VLOOKUP(G1676,[1]RewardItemConfig!$B:$F,5,FALSE)","v":1725},{"$f":"VLOOKUP(H1676,[1]RewardItemConfig!$B:$F,5,FALSE)","v":485},{"$f":"VLOOKUP(I1676,[1]RewardItemConfig!$B:$F,5,FALSE)","v":172},14,3,17,"14#1725|3#485|17#172"]
[{"$nulls":6},3001677,3006677,3011677,{"$f":"VLOOKUP(G1677,[1]RewardItemConfig!$B:$F,5,FALSE)","v":1726},{"$f":"VLOOKUP(H1677,[1]RewardItemConfig!$B:$F,5,FALSE)","v":485},{"$f":"VLOOKUP(I1677,[1]RewardItemConfig!$B:$F,5,FALSE)","v":172},14,3,17,"14#1726|3#485|17#172"]
[{"$nulls":6},3001678,3006678,3011678,{"$f":"VLOOKUP(G1678,[1]RewardItemConfig!$B:$F,5,FALSE)","v":1727},{"$f":"VLOOKUP(H1678,[1]RewardItemConfig!$B:$F,5,FALSE)","v":485},{"$f":"VLOOKUP(I1678,[1]RewardItemConfig!$B:$F,5,FALSE)","v":172},14,3,17,"14#1727|3#485|17#172"]
[{"$nulls":6},3001679,3006679,3011679,{"$f":"VLOOKUP(G1679,[1]RewardItemConfig!$B:$F,5,FALSE)","v":1728},{"$f":"VLOOKUP(H1679,[1]RewardItemConfig!$B:$F,5,FALSE)","v":485},{"$f":"VLOOKUP(I1679,[1]RewardItemConfig!$B:$F,5,FALSE)","v":172},14,3,17,"14#1728|3#485|17#172"]
[{"$nulls":6},3001680,3006680,3011680,{"$f":"VLOOKUP(G1680,[1]RewardItemConfig!$B:$F,5,FALSE)","v":1729},{"$f":"VLOOKUP(H1680,[1]RewardItemConfig!$B:$F,5,FALSE)","v":490},{"$f":"VLOOKUP(I1680,[1]RewardItemConfig!$B:$F,5,FALSE)","v":173},14,3,17,"14#1729|3#490|17#173"]
[{"$nulls":6},3001681,3006681,3011681,{"$f":"VLOOKUP(G1681,[1]RewardItemConfig!$B:$F,5,FALSE)","v":1730},{"$f":"VLOOKUP(H1681,[1]RewardItemConfig!$B:$F,5,FALSE)","v":490},{"$f":"VLOOKUP(I1681,[1]RewardItemConfig!$B:$F,5,FALSE)","v":173},14,3,17,"14#1730|3#490|17#173"]
[{"$nulls":6},3001682,3006682,3011682,{"$f":"VLOOKUP(G1682,[1]RewardItemConfig!$B:$F,5,FALSE)","v":1731},{"$f":"VLOOKUP(H1682,[1]RewardItemConfig!$B:$F,5,FALSE)","v":490},{"$f":"VLOOKUP(I1682,[1]RewardItemConfig!$B:$F,5,FALSE)","v":173},14,3,17,"14#1731|3#490|17#173"]
[{"$nulls":6},3001683,3006683,3011683,{"$f":"VLOOKUP(G1683,[1]RewardItemConfig!$B:$F,5,FALSE)","v":1732},{"$f":"VLOOKUP(H1683,[1]RewardItemConfig!$B:$F,5,FALSE)","v":490},{"$f":"VLOOKUP(I1683,[1]RewardItemConfig!$B:$F,5,FALSE)","v":173},14,3,17,"14#1732|3#490|17#173"]
[{"$nulls":6},3001684,3006684,3011684,{"$f":"VLOOKUP(G1684,[1]RewardItemConfig!$B:$F,5,FALSE)","v":1733},{"$f":"VLOOKUP(H1684,[1]RewardItemConfig!$B:$F,5,FALSE)","v":490},{"$f":"VLOOKUP(I1684,[1]RewardItemConfig!$B:$F,5,FALSE)","v":173},14,3,17,"14#1733|3#490|17#173"]
[{"$nulls":6},3001685,3006685,3011685,{"$f":"VLOOKUP(G1685,[1]RewardItemConfig!$B:$F,5,FALSE)","v":1734},{"$f":"VLOOKUP(H1685,[1]RewardItemConfig!$B:$F,5,FALSE)","v":490},{"$f":"VLOOKUP(I1685,[1]RewardItemConfig!$B:$F,5,FALSE)","v":173},14,3,17,"14#1734|3#490|17#173"]
[{"$nulls":6},3001686,3006686,3011686,{"$f":"VLOOKUP(G1686,[1]RewardItemConfig!$B:$F,5,FALSE)","v":1735},{"$f":"VLOOKUP(H1686,[1]RewardItemConfig!$B:$F,5,FALSE)","v":490},{"$f":"VLOOKUP(I1686,[1]RewardItemConfig!$B:$F,5,FALSE)","v":173},14,3,17,"14#1735|3#490|17#173"]
[{"$nulls":6},3001687,3006687,3011687,{"$f":"VLOOKUP(G1687,[1]RewardItemConfig!$B:$F,5,FALSE)","v":1736},{"$f":"VLOOKUP(H1687,[1]RewardItemConfig!$B:$F,5,FALSE)","v":490},{"$f":"VLOOKUP(I1687,[1]RewardItemConfig!$B:$F,5,FALSE)","v":173},14,3,17,"14#1736|3#490|17#173"]
[{"$nulls":6},3001688,3006688,3011688,{"$f":"VLOOKUP(G1688,[1]RewardItemConfig!$B:$F,5,FALSE)","v":1737},{"$f":"VLOOKUP(H1688,[1]RewardItemConfig!$B:$F,5,FALSE)","v":490},{"$f":"VLOOKUP(I1688,[1]RewardItemConfig!$B:$F,5,FALSE)","v":173},14,3,17,"14#1737|3#490|17#173"]
[{"$nulls":6},3001689,3006689,3011689,{"$f":"VLOOKUP(G1689,[1]RewardItemConfig!$B:$F,5,FALSE)","v":1738},{"$f":"VLOOKUP(H1689,[1]RewardItemConfig!$B:$F,5,FALSE)","v":490},{"$f":"VLOOKUP(I1689,[1]RewardItemConfig!$B:$F,5,FALSE)","v":173},14,3,17,"14#1738|3#490|17#173"]
[{"$nulls":6},3001690,3006690,3011690,{"$f":"VLOOKUP(G1690,[1]RewardItemConfig!$B:$F,5,FALSE)","v":1739},{"$f":"VLOOKUP(H1690,[1]RewardItemConfig!$B:$F,5,FALSE)","v":495},{"$f":"VLOOKUP(I1690,[1]RewardItemConfig!$B:$F,5,FALSE)","v":174},14,3,17,"14#1739|3#495|17#174"]
[{"$nulls":6},3001691,3006691,3011691,{"$f":"VLOOKUP(G1691,[1]RewardItemConfig!$B:$F,5,FALSE)","v":1740},{"$f":"VLOOKUP(H1691,[1]RewardItemConfig!$B:$F,5,FALSE)","v":495},{"$f":"VLOOKUP(I1691,[1]RewardItemConfig!$B:$F,5,FALSE)","v":174},14,3,17,"14#1740|3#495|17#174"]
[{"$nulls":6},3001692,3006692,3011692,{"$f":"VLOOKUP(G1692,[1]RewardItemConfig!$B:$F,5,FALSE)","v":1741},{"$f":"VLOOKUP(H1692,[1]RewardItemConfig!$B:$F,5,FALSE)","v":495},{"$f":"VLOOKUP(I1692,[1]RewardItemConfig!$B:$F,5,FALSE)","v":174},14,3,17,"14#1741|3#495|17#174"]
[{"$nulls":6},3001693,3006693,3011693,{"$f":"VLOOKUP(G1693,[1]RewardItemConfig!$B:$F,5,FALSE)","v":1742},{"$f":"VLOOKUP(H1693,[1]RewardItemConfig!$B:$F,5,FALSE)","v":495},{"$f":"VLOOKUP(I1693,[1]RewardItemConfig!$B:$F,5,FALSE)","v":174},14,3,17,"14#1742|3#495|17#174"]
[{"$nulls":6},3001694,3006694,3011694,{"$f":"VLOOKUP(G1694,[1]RewardItemConfig!$B:$F,5,FALSE)","v":1743},{"$f":"VLOOKUP(H1694,[1]RewardItemConfig!$B:$F,5,FALSE)","v":495},{"$f":"VLOOKUP(I1694,[1]RewardItemConfig!$B:$F,5,FALSE)","v":174},14,3,17,"14#1743|3#495|17#174"]
[{"$nulls":6},3001695,3006695,3011695,{"$f":"VLOOKUP(G1695,[1]RewardItemConfig!$B:$F,5,FALSE)","v":1744},{"$f":"VLOOKUP(H1695,[1]RewardItemConfig!$B:$F,5,FALSE)","v":495},{"$f":"VLOOKUP(I1695,[1]RewardItemConfig!$B:$F,5,FALSE)","v":174},14,3,17,"14#1744|3#495|17#174"]
[{"$nulls":6},3001696,3006696,3011696,{"$f":"VLOOKUP(G1696,[1]RewardItemConfig!$B:$F,5,FALSE)","v":1745},{"$f":"VLOOKUP(H1696,[1]RewardItemConfig!$B:$F,5,FALSE)","v":495},{"$f":"VLOOKUP(I1696,[1]RewardItemConfig!$B:$F,5,FALSE)","v":174},14,3,17,"14#1745|3#495|17#174"]
[{"$nulls":6},3001697,3006697,3011697,{"$f":"VLOOKUP(G1697,[1]RewardItemConfig!$B:$F,5,FALSE)","v":1746},{"$f":"VLOOKUP(H1697,[1]RewardItemConfig!$B:$F,5,FALSE)","v":495},{"$f":"VLOOKUP(I1697,[1]RewardItemConfig!$B:$F,5,FALSE)","v":174},14,3,17,"14#1746|3#495|17#174"]
[{"$nulls":6},3001698,3006698,3011698,{"$f":"VLOOKUP(G1698,[1]RewardItemConfig!$B:$F,5,FALSE)","v":1747},{"$f":"VLOOKUP(H1698,[1]RewardItemConfig!$B:$F,5,FALSE)","v":495},{"$f":"VLOOKUP(I1698,[1]RewardItemConfig!$B:$F,5,FALSE)","v":174},14,3,17,"14#1747|3#495|17#174"]
[{"$nulls":6},3001699,3006699,3011699,{"$f":"VLOOKUP(G1699,[1]RewardItemConfig!$B:$F,5,FALSE)","v":1748},{"$f":"VLOOKUP(H1699,[1]RewardItemConfig!$B:$F,5,FALSE)","v":495},{"$f":"VLOOKUP(I1699,[1]RewardItemConfig!$B:$F,5,FALSE)","v":174},14,3,17,"14#1748|3#495|17#174"]
[{"$nulls":6},3001700,3006700,3011700,{"$f":"VLOOKUP(G1700,[1]RewardItemConfig!$B:$F,5,FALSE)","v":1749},{"$f":"VLOOKUP(H1700,[1]RewardItemConfig!$B:$F,5,FALSE)","v":500},{"$f":"VLOOKUP(I1700,[1]RewardItemConfig!$B:$F,5,FALSE)","v":175},14,3,17,"14#1749|3#500|17#175"]
[{"$nulls":6},3001701,3006701,3011701,{"$f":"VLOOKUP(G1701,[1]RewardItemConfig!$B:$F,5,FALSE)","v":1750},{"$f":"VLOOKUP(H1701,[1]RewardItemConfig!$B:$F,5,FALSE)","v":500},{"$f":"VLOOKUP(I1701,[1]RewardItemConfig!$B:$F,5,FALSE)","v":175},14,3,17,"14#1750|3#500|17#175"]
[{"$nulls":6},3001702,3006702,3011702,{"$f":"VLOOKUP(G1702,[1]RewardItemConfig!$B:$F,5,FALSE)","v":1751},{"$f":"VLOOKUP(H1702,[1]RewardItemConfig!$B:$F,5,FALSE)","v":500},{"$f":"VLOOKUP(I1702,[1]RewardItemConfig!$B:$F,5,FALSE)","v":175},14,3,17,"14#1751|3#500|17#175"]
[{"$nulls":6},3001703,3006703,3011703,{"$f":"VLOOKUP(G1703,[1]RewardItemConfig!$B:$F,5,FALSE)","v":1752},{"$f":"VLOOKUP(H1703,[1]RewardItemConfig!$B:$F,5,FALSE)","v":500},{"$f":"VLOOKUP(I1703,[1]RewardItemConfig!$B:$F,5,FALSE)","v":175},14,3,17,"14#1752|3#500|17#175"]
[{"$nulls":6},3001704,3006704,3011704,{"$f":"VLOOKUP(G1704,[1]RewardItemConfig!$B:$F,5,FALSE)","v":1753},{"$f":"VLOOKUP(H1704,[1]RewardItemConfig!$B:$F,5,FALSE)","v":500},{"$f":"VLOOKUP(I1704,[1]RewardItemConfig!$B:$F,5,FALSE)","v":175},14,3,17,"14#1753|3#500|17#175"]
[{"$nulls":6},3001705,3006705,3011705,{"$f":"VLOOKUP(G1705,[1]RewardItemConfig!$B:$F,5,FALSE)","v":1754},{"$f":"VLOOKUP(H1705,[1]RewardItemConfig!$B:$F,5,FALSE)","v":500},{"$f":"VLOOKUP(I1705,[1]RewardItemConfig!$B:$F,5,FALSE)","v":175},14,3,17,"14#1754|3#500|17#175"]
[{"$nulls":6},3001706,3006706,3011706,{"$f":"VLOOKUP(G1706,[1]RewardItemConfig!$B:$F,5,FALSE)","v":1755},{"$f":"VLOOKUP(H1706,[1]RewardItemConfig!$B:$F,5,FALSE)","v":500},{"$f":"VLOOKUP(I1706,[1]RewardItemConfig!$B:$F,5,FALSE)","v":175},14,3,17,"14#1755|3#500|17#175"]
[{"$nulls":6},3001707,3006707,3011707,{"$f":"VLOOKUP(G1707,[1]RewardItemConfig!$B:$F,5,FALSE)","v":1756},{"$f":"VLOOKUP(H1707,[1]RewardItemConfig!$B:$F,5,FALSE)","v":500},{"$f":"VLOOKUP(I1707,[1]RewardItemConfig!$B:$F,5,FALSE)","v":175},14,3,17,"14#1756|3#500|17#175"]
[{"$nulls":6},3001708,3006708,3011708,{"$f":"VLOOKUP(G1708,[1]RewardItemConfig!$B:$F,5,FALSE)","v":1757},{"$f":"VLOOKUP(H1708,[1]RewardItemConfig!$B:$F,5,FALSE)","v":500},{"$f":"VLOOKUP(I1708,[1]RewardItemConfig!$B:$F,5,FALSE)","v":175},14,3,17,"14#1757|3#500|17#175"]
[{"$nulls":6},3001709,3006709,3011709,{"$f":"VLOOKUP(G1709,[1]RewardItemConfig!$B:$F,5,FALSE)","v":1758},{"$f":"VLOOKUP(H1709,[1]RewardItemConfig!$B:$F,5,FALSE)","v":500},{"$f":"VLOOKUP(I1709,[1]RewardItemConfig!$B:$F,5,FALSE)","v":175},14,3,17,"14#1758|3#500|17#175"]
[{"$nulls":6},3001710,3006710,3011710,{"$f":"VLOOKUP(G1710,[1]RewardItemConfig!$B:$F,5,FALSE)","v":1759},{"$f":"VLOOKUP(H1710,[1]RewardItemConfig!$B:$F,5,FALSE)","v":505},{"$f":"VLOOKUP(I1710,[1]RewardItemConfig!$B:$F,5,FALSE)","v":176},14,3,17,"14#1759|3#505|17#176"]
[{"$nulls":6},3001711,3006711,3011711,{"$f":"VLOOKUP(G1711,[1]RewardItemConfig!$B:$F,5,FALSE)","v":1760},{"$f":"VLOOKUP(H1711,[1]RewardItemConfig!$B:$F,5,FALSE)","v":505},{"$f":"VLOOKUP(I1711,[1]RewardItemConfig!$B:$F,5,FALSE)","v":176},14,3,17,"14#1760|3#505|17#176"]
[{"$nulls":6},3001712,3006712,3011712,{"$f":"VLOOKUP(G1712,[1]RewardItemConfig!$B:$F,5,FALSE)","v":1761},{"$f":"VLOOKUP(H1712,[1]RewardItemConfig!$B:$F,5,FALSE)","v":505},{"$f":"VLOOKUP(I1712,[1]RewardItemConfig!$B:$F,5,FALSE)","v":176},14,3,17,"14#1761|3#505|17#176"]
[{"$nulls":6},3001713,3006713,3011713,{"$f":"VLOOKUP(G1713,[1]RewardItemConfig!$B:$F,5,FALSE)","v":1762},{"$f":"VLOOKUP(H1713,[1]RewardItemConfig!$B:$F,5,FALSE)","v":505},{"$f":"VLOOKUP(I1713,[1]RewardItemConfig!$B:$F,5,FALSE)","v":176},14,3,17,"14#1762|3#505|17#176"]
[{"$nulls":6},3001714,3006714,3011714,{"$f":"VLOOKUP(G1714,[1]RewardItemConfig!$B:$F,5,FALSE)","v":1763},{"$f":"VLOOKUP(H1714,[1]RewardItemConfig!$B:$F,5,FALSE)","v":505},{"$f":"VLOOKUP(I1714,[1]RewardItemConfig!$B:$F,5,FALSE)","v":176},14,3,17,"14#1763|3#505|17#176"]
[{"$nulls":6},3001715,3006715,3011715,{"$f":"VLOOKUP(G1715,[1]RewardItemConfig!$B:$F,5,FALSE)","v":1764},{"$f":"VLOOKUP(H1715,[1]RewardItemConfig!$B:$F,5,FALSE)","v":505},{"$f":"VLOOKUP(I1715,[1]RewardItemConfig!$B:$F,5,FALSE)","v":176},14,3,17,"14#1764|3#505|17#176"]
[{"$nulls":6},3001716,3006716,3011716,{"$f":"VLOOKUP(G1716,[1]RewardItemConfig!$B:$F,5,FALSE)","v":1765},{"$f":"VLOOKUP(H1716,[1]RewardItemConfig!$B:$F,5,FALSE)","v":505},{"$f":"VLOOKUP(I1716,[1]RewardItemConfig!$B:$F,5,FALSE)","v":176},14,3,17,"14#1765|3#505|17#176"]
[{"$nulls":6},3001717,3006717,3011717,{"$f":"VLOOKUP(G1717,[1]RewardItemConfig!$B:$F,5,FALSE)","v":1766},{"$f":"VLOOKUP(H1717,[1]RewardItemConfig!$B:$F,5,FALSE)","v":505},{"$f":"VLOOKUP(I1717,[1]RewardItemConfig!$B:$F,5,FALSE)","v":176},14,3,17,"14#1766|3#505|17#176"]
[{"$nulls":6},3001718,3006718,3011718,{"$f":"VLOOKUP(G1718,[1]RewardItemConfig!$B:$F,5,FALSE)","v":1767},{"$f":"VLOOKUP(H1718,[1]RewardItemConfig!$B:$F,5,FALSE)","v":505},{"$f":"VLOOKUP(I1718,[1]RewardItemConfig!$B:$F,5,FALSE)","v":176},14,3,17,"14#1767|3#505|17#176"]
[{"$nulls":6},3001719,3006719,3011719,{"$f":"VLOOKUP(G1719,[1]RewardItemConfig!$B:$F,5,FALSE)","v":1768},{"$f":"VLOOKUP(H1719,[1]RewardItemConfig!$B:$F,5,FALSE)","v":505},{"$f":"VLOOKUP(I1719,[1]RewardItemConfig!$B:$F,5,FALSE)","v":176},14,3,17,"14#1768|3#505|17#176"]
[{"$nulls":6},3001720,3006720,3011720,{"$f":"VLOOKUP(G1720,[1]RewardItemConfig!$B:$F,5,FALSE)","v":1769},{"$f":"VLOOKUP(H1720,[1]RewardItemConfig!$B:$F,5,FALSE)","v":510},{"$f":"VLOOKUP(I1720,[1]RewardItemConfig!$B:$F,5,FALSE)","v":177},14,3,17,"14#1769|3#510|17#177"]
[{"$nulls":6},3001721,3006721,3011721,{"$f":"VLOOKUP(G1721,[1]RewardItemConfig!$B:$F,5,FALSE)","v":1770},{"$f":"VLOOKUP(H1721,[1]RewardItemConfig!$B:$F,5,FALSE)","v":510},{"$f":"VLOOKUP(I1721,[1]RewardItemConfig!$B:$F,5,FALSE)","v":177},14,3,17,"14#1770|3#510|17#177"]
[{"$nulls":6},3001722,3006722,3011722,{"$f":"VLOOKUP(G1722,[1]RewardItemConfig!$B:$F,5,FALSE)","v":1771},{"$f":"VLOOKUP(H1722,[1]RewardItemConfig!$B:$F,5,FALSE)","v":510},{"$f":"VLOOKUP(I1722,[1]RewardItemConfig!$B:$F,5,FALSE)","v":177},14,3,17,"14#1771|3#510|17#177"]
[{"$nulls":6},3001723,3006723,3011723,{"$f":"VLOOKUP(G1723,[1]RewardItemConfig!$B:$F,5,FALSE)","v":1772},{"$f":"VLOOKUP(H1723,[1]RewardItemConfig!$B:$F,5,FALSE)","v":510},{"$f":"VLOOKUP(I1723,[1]RewardItemConfig!$B:$F,5,FALSE)","v":177},14,3,17,"14#1772|3#510|17#177"]
[{"$nulls":6},3001724,3006724,3011724,{"$f":"VLOOKUP(G1724,[1]RewardItemConfig!$B:$F,5,FALSE)","v":1773},{"$f":"VLOOKUP(H1724,[1]RewardItemConfig!$B:$F,5,FALSE)","v":510},{"$f":"VLOOKUP(I1724,[1]RewardItemConfig!$B:$F,5,FALSE)","v":177},14,3,17,"14#1773|3#510|17#177"]
[{"$nulls":6},3001725,3006725,3011725,{"$f":"VLOOKUP(G1725,[1]RewardItemConfig!$B:$F,5,FALSE)","v":1774},{"$f":"VLOOKUP(H1725,[1]RewardItemConfig!$B:$F,5,FALSE)","v":510},{"$f":"VLOOKUP(I1725,[1]RewardItemConfig!$B:$F,5,FALSE)","v":177},14,3,17,"14#1774|3#510|17#177"]
[{"$nulls":6},3001726,3006726,3011726,{"$f":"VLOOKUP(G1726,[1]RewardItemConfig!$B:$F,5,FALSE)","v":1775},{"$f":"VLOOKUP(H1726,[1]RewardItemConfig!$B:$F,5,FALSE)","v":510},{"$f":"VLOOKUP(I1726,[1]RewardItemConfig!$B:$F,5,FALSE)","v":177},14,3,17,"14#1775|3#510|17#177"]
[{"$nulls":6},3001727,3006727,3011727,{"$f":"VLOOKUP(G1727,[1]RewardItemConfig!$B:$F,5,FALSE)","v":1776},{"$f":"VLOOKUP(H1727,[1]RewardItemConfig!$B:$F,5,FALSE)","v":510},{"$f":"VLOOKUP(I1727,[1]RewardItemConfig!$B:$F,5,FALSE)","v":177},14,3,17,"14#1776|3#510|17#177"]
[{"$nulls":6},3001728,3006728,3011728,{"$f":"VLOOKUP(G1728,[1]RewardItemConfig!$B:$F,5,FALSE)","v":1777},{"$f":"VLOOKUP(H1728,[1]RewardItemConfig!$B:$F,5,FALSE)","v":510},{"$f":"VLOOKUP(I1728,[1]RewardItemConfig!$B:$F,5,FALSE)","v":177},14,3,17,"14#1777|3#510|17#177"]
[{"$nulls":6},3001729,3006729,3011729,{"$f":"VLOOKUP(G1729,[1]RewardItemConfig!$B:$F,5,FALSE)","v":1778},{"$f":"VLOOKUP(H1729,[1]RewardItemConfig!$B:$F,5,FALSE)","v":510},{"$f":"VLOOKUP(I1729,[1]RewardItemConfig!$B:$F,5,FALSE)","v":177},14,3,17,"14#1778|3#510|17#177"]
[{"$nulls":6},3001730,3006730,3011730,{"$f":"VLOOKUP(G1730,[1]RewardItemConfig!$B:$F,5,FALSE)","v":1779},{"$f":"VLOOKUP(H1730,[1]RewardItemConfig!$B:$F,5,FALSE)","v":515},{"$f":"VLOOKUP(I1730,[1]RewardItemConfig!$B:$F,5,FALSE)","v":178},14,3,17,{"$f":"M1730&\"#\"&J1730&\"|\"&N1730&\"#\"&K1730&\"|\"&O1730&\"#\"&L1730","v":"14#1779|3#515|17#178"}]
[{"$nulls":6},3001731,3006731,3011731,{"$f":"VLOOKUP(G1731,[1]RewardItemConfig!$B:$F,5,FALSE)","v":1780},{"$f":"VLOOKUP(H1731,[1]RewardItemConfig!$B:$F,5,FALSE)","v":515},{"$f":"VLOOKUP(I1731,[1]RewardItemConfig!$B:$F,5,FALSE)","v":178},{"$f":"M1730","v":14},{"$f":"N1730","v":3},{"$f":"O1730","v":17},"14#1780|3#515|17#178"]
[{"$nulls":6},3001732,3006732,3011732,{"$f":"VLOOKUP(G1732,[1]RewardItemConfig!$B:$F,5,FALSE)","v":1781},{"$f":"VLOOKUP(H1732,[1]RewardItemConfig!$B:$F,5,FALSE)","v":515},{"$f":"VLOOKUP(I1732,[1]RewardItemConfig!$B:$F,5,FALSE)","v":178},14,3,17,"14#1781|3#515|17#178"]
[{"$nulls":6},3001733,3006733,3011733,{"$f":"VLOOKUP(G1733,[1]RewardItemConfig!$B:$F,5,FALSE)","v":1782},{"$f":"VLOOKUP(H1733,[1]RewardItemConfig!$B:$F,5,FALSE)","v":515},{"$f":"VLOOKUP(I1733,[1]RewardItemConfig!$B:$F,5,FALSE)","v":178},14,3,17,"14#1782|3#515|17#178"]
[{"$nulls":6},3001734,3006734,3011734,{"$f":"VLOOKUP(G1734,[1]RewardItemConfig!$B:$F,5,FALSE)","v":1783},{"$f":"VLOOKUP(H1734,[1]RewardItemConfig!$B:$F,5,FALSE)","v":515},{"$f":"VLOOKUP(I1734,[1]RewardItemConfig!$B:$F,5,FALSE)","v":178},14,3,17,"14#1783|3#515|17#178"]
[{"$nulls":6},3001735,3006735,3011735,{"$f":"VLOOKUP(G1735,[1]RewardItemConfig!$B:$F,5,FALSE)","v":1784},{"$f":"VLOOKUP(H1735,[1]RewardItemConfig!$B:$F,5,FALSE)","v":515},{"$f":"VLOOKUP(I1735,[1]RewardItemConfig!$B:$F,5,FALSE)","v":178},14,3,17,"14#1784|3#515|17#178"]
[{"$nulls":6},3001736,3006736,3011736,{"$f":"VLOOKUP(G1736,[1]RewardItemConfig!$B:$F,5,FALSE)","v":1785},{"$f":"VLOOKUP(H1736,[1]RewardItemConfig!$B:$F,5,FALSE)","v":515},{"$f":"VLOOKUP(I1736,[1]RewardItemConfig!$B:$F,5,FALSE)","v":178},14,3,17,"14#1785|3#515|17#178"]
[{"$nulls":6},3001737,3006737,3011737,{"$f":"VLOOKUP(G1737,[1]RewardItemConfig!$B:$F,5,FALSE)","v":1786},{"$f":"VLOOKUP(H1737,[1]RewardItemConfig!$B:$F,5,FALSE)","v":515},{"$f":"VLOOKUP(I1737,[1]RewardItemConfig!$B:$F,5,FALSE)","v":178},14,3,17,"14#1786|3#515|17#178"]
[{"$nulls":6},3001738,3006738,3011738,{"$f":"VLOOKUP(G1738,[1]RewardItemConfig!$B:$F,5,FALSE)","v":1787},{"$f":"VLOOKUP(H1738,[1]RewardItemConfig!$B:$F,5,FALSE)","v":515},{"$f":"VLOOKUP(I1738,[1]RewardItemConfig!$B:$F,5,FALSE)","v":178},14,3,17,"14#1787|3#515|17#178"]
[{"$nulls":6},3001739,3006739,3011739,{"$f":"VLOOKUP(G1739,[1]RewardItemConfig!$B:$F,5,FALSE)","v":1788},{"$f":"VLOOKUP(H1739,[1]RewardItemConfig!$B:$F,5,FALSE)","v":515},{"$f":"VLOOKUP(I1739,[1]RewardItemConfig!$B:$F,5,FALSE)","v":178},14,3,17,"14#1788|3#515|17#178"]
[{"$nulls":6},3001740,3006740,3011740,{"$f":"VLOOKUP(G1740,[1]RewardItemConfig!$B:$F,5,FALSE)","v":1789},{"$f":"VLOOKUP(H1740,[1]RewardItemConfig!$B:$F,5,FALSE)","v":520},{"$f":"VLOOKUP(I1740,[1]RewardItemConfig!$B:$F,5,FALSE)","v":179},14,3,17,"14#1789|3#520|17#179"]
[{"$nulls":6},3001741,3006741,3011741,{"$f":"VLOOKUP(G1741,[1]RewardItemConfig!$B:$F,5,FALSE)","v":1790},{"$f":"VLOOKUP(H1741,[1]RewardItemConfig!$B:$F,5,FALSE)","v":520},{"$f":"VLOOKUP(I1741,[1]RewardItemConfig!$B:$F,5,FALSE)","v":179},14,3,17,"14#1790|3#520|17#179"]
[{"$nulls":6},3001742,3006742,3011742,{"$f":"VLOOKUP(G1742,[1]RewardItemConfig!$B:$F,5,FALSE)","v":1791},{"$f":"VLOOKUP(H1742,[1]RewardItemConfig!$B:$F,5,FALSE)","v":520},{"$f":"VLOOKUP(I1742,[1]RewardItemConfig!$B:$F,5,FALSE)","v":179},14,3,17,"14#1791|3#520|17#179"]
[{"$nulls":6},3001743,3006743,3011743,{"$f":"VLOOKUP(G1743,[1]RewardItemConfig!$B:$F,5,FALSE)","v":1792},{"$f":"VLOOKUP(H1743,[1]RewardItemConfig!$B:$F,5,FALSE)","v":520},{"$f":"VLOOKUP(I1743,[1]RewardItemConfig!$B:$F,5,FALSE)","v":179},14,3,17,"14#1792|3#520|17#179"]
[{"$nulls":6},3001744,3006744,3011744,{"$f":"VLOOKUP(G1744,[1]RewardItemConfig!$B:$F,5,FALSE)","v":1793},{"$f":"VLOOKUP(H1744,[1]RewardItemConfig!$B:$F,5,FALSE)","v":520},{"$f":"VLOOKUP(I1744,[1]RewardItemConfig!$B:$F,5,FALSE)","v":179},14,3,17,"14#1793|3#520|17#179"]
[{"$nulls":6},3001745,3006745,3011745,{"$f":"VLOOKUP(G1745,[1]RewardItemConfig!$B:$F,5,FALSE)","v":1794},{"$f":"VLOOKUP(H1745,[1]RewardItemConfig!$B:$F,5,FALSE)","v":520},{"$f":"VLOOKUP(I1745,[1]RewardItemConfig!$B:$F,5,FALSE)","v":179},14,3,17,"14#1794|3#520|17#179"]
[{"$nulls":6},3001746,3006746,3011746,{"$f":"VLOOKUP(G1746,[1]RewardItemConfig!$B:$F,5,FALSE)","v":1795},{"$f":"VLOOKUP(H1746,[1]RewardItemConfig!$B:$F,5,FALSE)","v":520},{"$f":"VLOOKUP(I1746,[1]RewardItemConfig!$B:$F,5,FALSE)","v":179},14,3,17,"14#1795|3#520|17#179"]
[{"$nulls":6},3001747,3006747,3011747,{"$f":"VLOOKUP(G1747,[1]RewardItemConfig!$B:$F,5,FALSE)","v":1796},{"$f":"VLOOKUP(H1747,[1]RewardItemConfig!$B:$F,5,FALSE)","v":520},{"$f":"VLOOKUP(I1747,[1]RewardItemConfig!$B:$F,5,FALSE)","v":179},14,3,17,"14#1796|3#520|17#179"]
[{"$nulls":6},3001748,3006748,3011748,{"$f":"VLOOKUP(G1748,[1]RewardItemConfig!$B:$F,5,FALSE)","v":1797},{"$f":"VLOOKUP(H1748,[1]RewardItemConfig!$B:$F,5,FALSE)","v":520},{"$f":"VLOOKUP(I1748,[1]RewardItemConfig!$B:$F,5,FALSE)","v":179},14,3,17,"14#1797|3#520|17#179"]
[{"$nulls":6},3001749,3006749,3011749,{"$f":"VLOOKUP(G1749,[1]RewardItemConfig!$B:$F,5,FALSE)","v":1798},{"$f":"VLOOKUP(H1749,[1]RewardItemConfig!$B:$F,5,FALSE)","v":520},{"$f":"VLOOKUP(I1749,[1]RewardItemConfig!$B:$F,5,FALSE)","v":179},14,3,17,"14#1798|3#520|17#179"]
[{"$nulls":6},3001750,3006750,3011750,{"$f":"VLOOKUP(G1750,[1]RewardItemConfig!$B:$F,5,FALSE)","v":1799},{"$f":"VLOOKUP(H1750,[1]RewardItemConfig!$B:$F,5,FALSE)","v":525},{"$f":"VLOOKUP(I1750,[1]RewardItemConfig!$B:$F,5,FALSE)","v":180},14,3,17,"14#1799|3#525|17#180"]
[{"$nulls":6},3001751,3006751,3011751,{"$f":"VLOOKUP(G1751,[1]RewardItemConfig!$B:$F,5,FALSE)","v":1800},{"$f":"VLOOKUP(H1751,[1]RewardItemConfig!$B:$F,5,FALSE)","v":525},{"$f":"VLOOKUP(I1751,[1]RewardItemConfig!$B:$F,5,FALSE)","v":180},14,3,17,"14#1800|3#525|17#180"]
[{"$nulls":6},3001752,3006752,3011752,{"$f":"VLOOKUP(G1752,[1]RewardItemConfig!$B:$F,5,FALSE)","v":1801},{"$f":"VLOOKUP(H1752,[1]RewardItemConfig!$B:$F,5,FALSE)","v":525},{"$f":"VLOOKUP(I1752,[1]RewardItemConfig!$B:$F,5,FALSE)","v":180},14,3,17,"14#1801|3#525|17#180"]
[{"$nulls":6},3001753,3006753,3011753,{"$f":"VLOOKUP(G1753,[1]RewardItemConfig!$B:$F,5,FALSE)","v":1802},{"$f":"VLOOKUP(H1753,[1]RewardItemConfig!$B:$F,5,FALSE)","v":525},{"$f":"VLOOKUP(I1753,[1]RewardItemConfig!$B:$F,5,FALSE)","v":180},14,3,17,"14#1802|3#525|17#180"]
[{"$nulls":6},3001754,3006754,3011754,{"$f":"VLOOKUP(G1754,[1]RewardItemConfig!$B:$F,5,FALSE)","v":1803},{"$f":"VLOOKUP(H1754,[1]RewardItemConfig!$B:$F,5,FALSE)","v":525},{"$f":"VLOOKUP(I1754,[1]RewardItemConfig!$B:$F,5,FALSE)","v":180},14,3,17,"14#1803|3#525|17#180"]
[{"$nulls":6},3001755,3006755,3011755,{"$f":"VLOOKUP(G1755,[1]RewardItemConfig!$B:$F,5,FALSE)","v":1804},{"$f":"VLOOKUP(H1755,[1]RewardItemConfig!$B:$F,5,FALSE)","v":525},{"$f":"VLOOKUP(I1755,[1]RewardItemConfig!$B:$F,5,FALSE)","v":180},14,3,17,"14#1804|3#525|17#180"]
[{"$nulls":6},3001756,3006756,3011756,{"$f":"VLOOKUP(G1756,[1]RewardItemConfig!$B:$F,5,FALSE)","v":1805},{"$f":"VLOOKUP(H1756,[1]RewardItemConfig!$B:$F,5,FALSE)","v":525},{"$f":"VLOOKUP(I1756,[1]RewardItemConfig!$B:$F,5,FALSE)","v":180},14,3,17,"14#1805|3#525|17#180"]
[{"$nulls":6},3001757,3006757,3011757,{"$f":"VLOOKUP(G1757,[1]RewardItemConfig!$B:$F,5,FALSE)","v":1806},{"$f":"VLOOKUP(H1757,[1]RewardItemConfig!$B:$F,5,FALSE)","v":525},{"$f":"VLOOKUP(I1757,[1]RewardItemConfig!$B:$F,5,FALSE)","v":180},14,3,17,"14#1806|3#525|17#180"]
[{"$nulls":6},3001758,3006758,3011758,{"$f":"VLOOKUP(G1758,[1]RewardItemConfig!$B:$F,5,FALSE)","v":1807},{"$f":"VLOOKUP(H1758,[1]RewardItemConfig!$B:$F,5,FALSE)","v":525},{"$f":"VLOOKUP(I1758,[1]RewardItemConfig!$B:$F,5,FALSE)","v":180},14,3,17,"14#1807|3#525|17#180"]
[{"$nulls":6},3001759,3006759,3011759,{"$f":"VLOOKUP(G1759,[1]RewardItemConfig!$B:$F,5,FALSE)","v":1808},{"$f":"VLOOKUP(H1759,[1]RewardItemConfig!$B:$F,5,FALSE)","v":525},{"$f":"VLOOKUP(I1759,[1]RewardItemConfig!$B:$F,5,FALSE)","v":180},14,3,17,"14#1808|3#525|17#180"]
[{"$nulls":6},3001760,3006760,3011760,{"$f":"VLOOKUP(G1760,[1]RewardItemConfig!$B:$F,5,FALSE)","v":1809},{"$f":"VLOOKUP(H1760,[1]RewardItemConfig!$B:$F,5,FALSE)","v":530},{"$f":"VLOOKUP(I1760,[1]RewardItemConfig!$B:$F,5,FALSE)","v":181},14,3,17,"14#1809|3#530|17#181"]
[{"$nulls":6},3001761,3006761,3011761,{"$f":"VLOOKUP(G1761,[1]RewardItemConfig!$B:$F,5,FALSE)","v":1810},{"$f":"VLOOKUP(H1761,[1]RewardItemConfig!$B:$F,5,FALSE)","v":530},{"$f":"VLOOKUP(I1761,[1]RewardItemConfig!$B:$F,5,FALSE)","v":181},14,3,17,"14#1810|3#530|17#181"]
[{"$nulls":6},3001762,3006762,3011762,{"$f":"VLOOKUP(G1762,[1]RewardItemConfig!$B:$F,5,FALSE)","v":1811},{"$f":"VLOOKUP(H1762,[1]RewardItemConfig!$B:$F,5,FALSE)","v":530},{"$f":"VLOOKUP(I1762,[1]RewardItemConfig!$B:$F,5,FALSE)","v":181},14,3,17,"14#1811|3#530|17#181"]
[{"$nulls":6},3001763,3006763,3011763,{"$f":"VLOOKUP(G1763,[1]RewardItemConfig!$B:$F,5,FALSE)","v":1812},{"$f":"VLOOKUP(H1763,[1]RewardItemConfig!$B:$F,5,FALSE)","v":530},{"$f":"VLOOKUP(I1763,[1]RewardItemConfig!$B:$F,5,FALSE)","v":181},14,3,17,"14#1812|3#530|17#181"]
[{"$nulls":6},3001764,3006764,3011764,{"$f":"VLOOKUP(G1764,[1]RewardItemConfig!$B:$F,5,FALSE)","v":1813},{"$f":"VLOOKUP(H1764,[1]RewardItemConfig!$B:$F,5,FALSE)","v":530},{"$f":"VLOOKUP(I1764,[1]RewardItemConfig!$B:$F,5,FALSE)","v":181},14,3,17,"14#1813|3#530|17#181"]
[{"$nulls":6},3001765,3006765,3011765,{"$f":"VLOOKUP(G1765,[1]RewardItemConfig!$B:$F,5,FALSE)","v":1814},{"$f":"VLOOKUP(H1765,[1]RewardItemConfig!$B:$F,5,FALSE)","v":530},{"$f":"VLOOKUP(I1765,[1]RewardItemConfig!$B:$F,5,FALSE)","v":181},14,3,17,"14#1814|3#530|17#181"]
[{"$nulls":6},3001766,3006766,3011766,{"$f":"VLOOKUP(G1766,[1]RewardItemConfig!$B:$F,5,FALSE)","v":1815},{"$f":"VLOOKUP(H1766,[1]RewardItemConfig!$B:$F,5,FALSE)","v":530},{"$f":"VLOOKUP(I1766,[1]RewardItemConfig!$B:$F,5,FALSE)","v":181},14,3,17,"14#1815|3#530|17#181"]
[{"$nulls":6},3001767,3006767,3011767,{"$f":"VLOOKUP(G1767,[1]RewardItemConfig!$B:$F,5,FALSE)","v":1816},{"$f":"VLOOKUP(H1767,[1]RewardItemConfig!$B:$F,5,FALSE)","v":530},{"$f":"VLOOKUP(I1767,[1]RewardItemConfig!$B:$F,5,FALSE)","v":181},14,3,17,"14#1816|3#530|17#181"]
[{"$nulls":6},3001768,3006768,3011768,{"$f":"VLOOKUP(G1768,[1]RewardItemConfig!$B:$F,5,FALSE)","v":1817},{"$f":"VLOOKUP(H1768,[1]RewardItemConfig!$B:$F,5,FALSE)","v":530},{"$f":"VLOOKUP(I1768,[1]RewardItemConfig!$B:$F,5,FALSE)","v":181},14,3,17,"14#1817|3#530|17#181"]
[{"$nulls":6},3001769,3006769,3011769,{"$f":"VLOOKUP(G1769,[1]RewardItemConfig!$B:$F,5,FALSE)","v":1818},{"$f":"VLOOKUP(H1769,[1]RewardItemConfig!$B:$F,5,FALSE)","v":530},{"$f":"VLOOKUP(I1769,[1]RewardItemConfig!$B:$F,5,FALSE)","v":181},14,3,17,"14#1818|3#530|17#181"]
[{"$nulls":6},3001770,3006770,3011770,{"$f":"VLOOKUP(G1770,[1]RewardItemConfig!$B:$F,5,FALSE)","v":1819},{"$f":"VLOOKUP(H1770,[1]RewardItemConfig!$B:$F,5,FALSE)","v":535},{"$f":"VLOOKUP(I1770,[1]RewardItemConfig!$B:$F,5,FALSE)","v":182},14,3,17,"14#1819|3#535|17#182"]
[{"$nulls":6},3001771,3006771,3011771,{"$f":"VLOOKUP(G1771,[1]RewardItemConfig!$B:$F,5,FALSE)","v":1820},{"$f":"VLOOKUP(H1771,[1]RewardItemConfig!$B:$F,5,FALSE)","v":535},{"$f":"VLOOKUP(I1771,[1]RewardItemConfig!$B:$F,5,FALSE)","v":182},14,3,17,"14#1820|3#535|17#182"]
[{"$nulls":6},3001772,3006772,3011772,{"$f":"VLOOKUP(G1772,[1]RewardItemConfig!$B:$F,5,FALSE)","v":1821},{"$f":"VLOOKUP(H1772,[1]RewardItemConfig!$B:$F,5,FALSE)","v":535},{"$f":"VLOOKUP(I1772,[1]RewardItemConfig!$B:$F,5,FALSE)","v":182},14,3,17,"14#1821|3#535|17#182"]
[{"$nulls":6},3001773,3006773,3011773,{"$f":"VLOOKUP(G1773,[1]RewardItemConfig!$B:$F,5,FALSE)","v":1822},{"$f":"VLOOKUP(H1773,[1]RewardItemConfig!$B:$F,5,FALSE)","v":535},{"$f":"VLOOKUP(I1773,[1]RewardItemConfig!$B:$F,5,FALSE)","v":182},14,3,17,"14#1822|3#535|17#182"]
[{"$nulls":6},3001774,3006774,3011774,{"$f":"VLOOKUP(G1774,[1]RewardItemConfig!$B:$F,5,FALSE)","v":1823},{"$f":"VLOOKUP(H1774,[1]RewardItemConfig!$B:$F,5,FALSE)","v":535},{"$f":"VLOOKUP(I1774,[1]RewardItemConfig!$B:$F,5,FALSE)","v":182},14,3,17,"14#1823|3#535|17#182"]
[{"$nulls":6},3001775,3006775,3011775,{"$f":"VLOOKUP(G1775,[1]RewardItemConfig!$B:$F,5,FALSE)","v":1824},{"$f":"VLOOKUP(H1775,[1]RewardItemConfig!$B:$F,5,FALSE)","v":535},{"$f":"VLOOKUP(I1775,[1]RewardItemConfig!$B:$F,5,FALSE)","v":182},14,3,17,"14#1824|3#535|17#182"]
[{"$nulls":6},3001776,3006776,3011776,{"$f":"VLOOKUP(G1776,[1]RewardItemConfig!$B:$F,5,FALSE)","v":1825},{"$f":"VLOOKUP(H1776,[1]RewardItemConfig!$B:$F,5,FALSE)","v":535},{"$f":"VLOOKUP(I1776,[1]RewardItemConfig!$B:$F,5,FALSE)","v":182},14,3,17,"14#1825|3#535|17#182"]
[{"$nulls":6},3001777,3006777,3011777,{"$f":"VLOOKUP(G1777,[1]RewardItemConfig!$B:$F,5,FALSE)","v":1826},{"$f":"VLOOKUP(H1777,[1]RewardItemConfig!$B:$F,5,FALSE)","v":535},{"$f":"VLOOKUP(I1777,[1]RewardItemConfig!$B:$F,5,FALSE)","v":182},14,3,17,"14#1826|3#535|17#182"]
[{"$nulls":6},3001778,3006778,3011778,{"$f":"VLOOKUP(G1778,[1]RewardItemConfig!$B:$F,5,FALSE)","v":1827},{"$f":"VLOOKUP(H1778,[1]RewardItemConfig!$B:$F,5,FALSE)","v":535},{"$f":"VLOOKUP(I1778,[1]RewardItemConfig!$B:$F,5,FALSE)","v":182},14,3,17,"14#1827|3#535|17#182"]
[{"$nulls":6},3001779,3006779,3011779,{"$f":"VLOOKUP(G1779,[1]RewardItemConfig!$B:$F,5,FALSE)","v":1828},{"$f":"VLOOKUP(H1779,[1]RewardItemConfig!$B:$F,5,FALSE)","v":535},{"$f":"VLOOKUP(I1779,[1]RewardItemConfig!$B:$F,5,FALSE)","v":182},14,3,17,"14#1828|3#535|17#182"]
[{"$nulls":6},3001780,3006780,3011780,{"$f":"VLOOKUP(G1780,[1]RewardItemConfig!$B:$F,5,FALSE)","v":1829},{"$f":"VLOOKUP(H1780,[1]RewardItemConfig!$B:$F,5,FALSE)","v":540},{"$f":"VLOOKUP(I1780,[1]RewardItemConfig!$B:$F,5,FALSE)","v":183},14,3,17,"14#1829|3#540|17#183"]
[{"$nulls":6},3001781,3006781,3011781,{"$f":"VLOOKUP(G1781,[1]RewardItemConfig!$B:$F,5,FALSE)","v":1830},{"$f":"VLOOKUP(H1781,[1]RewardItemConfig!$B:$F,5,FALSE)","v":540},{"$f":"VLOOKUP(I1781,[1]RewardItemConfig!$B:$F,5,FALSE)","v":183},14,3,17,"14#1830|3#540|17#183"]
[{"$nulls":6},3001782,3006782,3011782,{"$f":"VLOOKUP(G1782,[1]RewardItemConfig!$B:$F,5,FALSE)","v":1831},{"$f":"VLOOKUP(H1782,[1]RewardItemConfig!$B:$F,5,FALSE)","v":540},{"$f":"VLOOKUP(I1782,[1]RewardItemConfig!$B:$F,5,FALSE)","v":183},14,3,17,"14#1831|3#540|17#183"]
[{"$nulls":6},3001783,3006783,3011783,{"$f":"VLOOKUP(G1783,[1]RewardItemConfig!$B:$F,5,FALSE)","v":1832},{"$f":"VLOOKUP(H1783,[1]RewardItemConfig!$B:$F,5,FALSE)","v":540},{"$f":"VLOOKUP(I1783,[1]RewardItemConfig!$B:$F,5,FALSE)","v":183},14,3,17,"14#1832|3#540|17#183"]
[{"$nulls":6},3001784,3006784,3011784,{"$f":"VLOOKUP(G1784,[1]RewardItemConfig!$B:$F,5,FALSE)","v":1833},{"$f":"VLOOKUP(H1784,[1]RewardItemConfig!$B:$F,5,FALSE)","v":540},{"$f":"VLOOKUP(I1784,[1]RewardItemConfig!$B:$F,5,FALSE)","v":183},14,3,17,"14#1833|3#540|17#183"]
[{"$nulls":6},3001785,3006785,3011785,{"$f":"VLOOKUP(G1785,[1]RewardItemConfig!$B:$F,5,FALSE)","v":1834},{"$f":"VLOOKUP(H1785,[1]RewardItemConfig!$B:$F,5,FALSE)","v":540},{"$f":"VLOOKUP(I1785,[1]RewardItemConfig!$B:$F,5,FALSE)","v":183},14,3,17,"14#1834|3#540|17#183"]
[{"$nulls":6},3001786,3006786,3011786,{"$f":"VLOOKUP(G1786,[1]RewardItemConfig!$B:$F,5,FALSE)","v":1835},{"$f":"VLOOKUP(H1786,[1]RewardItemConfig!$B:$F,5,FALSE)","v":540},{"$f":"VLOOKUP(I1786,[1]RewardItemConfig!$B:$F,5,FALSE)","v":183},14,3,17,"14#1835|3#540|17#183"]
[{"$nulls":6},3001787,3006787,3011787,{"$f":"VLOOKUP(G1787,[1]RewardItemConfig!$B:$F,5,FALSE)","v":1836},{"$f":"VLOOKUP(H1787,[1]RewardItemConfig!$B:$F,5,FALSE)","v":540},{"$f":"VLOOKUP(I1787,[1]RewardItemConfig!$B:$F,5,FALSE)","v":183},14,3,17,"14#1836|3#540|17#183"]
[{"$nulls":6},3001788,3006788,3011788,{"$f":"VLOOKUP(G1788,[1]RewardItemConfig!$B:$F,5,FALSE)","v":1837},{"$f":"VLOOKUP(H1788,[1]RewardItemConfig!$B:$F,5,FALSE)","v":540},{"$f":"VLOOKUP(I1788,[1]RewardItemConfig!$B:$F,5,FALSE)","v":183},14,3,17,"14#1837|3#540|17#183"]
[{"$nulls":6},3001789,3006789,3011789,{"$f":"VLOOKUP(G1789,[1]RewardItemConfig!$B:$F,5,FALSE)","v":1838},{"$f":"VLOOKUP(H1789,[1]RewardItemConfig!$B:$F,5,FALSE)","v":540},{"$f":"VLOOKUP(I1789,[1]RewardItemConfig!$B:$F,5,FALSE)","v":183},14,3,17,"14#1838|3#540|17#183"]
[{"$nulls":6},3001790,3006790,3011790,{"$f":"VLOOKUP(G1790,[1]RewardItemConfig!$B:$F,5,FALSE)","v":1839},{"$f":"VLOOKUP(H1790,[1]RewardItemConfig!$B:$F,5,FALSE)","v":545},{"$f":"VLOOKUP(I1790,[1]RewardItemConfig!$B:$F,5,FALSE)","v":184},14,3,17,"14#1839|3#545|17#184"]
[{"$nulls":6},3001791,3006791,3011791,{"$f":"VLOOKUP(G1791,[1]RewardItemConfig!$B:$F,5,FALSE)","v":1840},{"$f":"VLOOKUP(H1791,[1]RewardItemConfig!$B:$F,5,FALSE)","v":545},{"$f":"VLOOKUP(I1791,[1]RewardItemConfig!$B:$F,5,FALSE)","v":184},14,3,17,"14#1840|3#545|17#184"]
[{"$nulls":6},3001792,3006792,3011792,{"$f":"VLOOKUP(G1792,[1]RewardItemConfig!$B:$F,5,FALSE)","v":1841},{"$f":"VLOOKUP(H1792,[1]RewardItemConfig!$B:$F,5,FALSE)","v":545},{"$f":"VLOOKUP(I1792,[1]RewardItemConfig!$B:$F,5,FALSE)","v":184},14,3,17,"14#1841|3#545|17#184"]
[{"$nulls":6},3001793,3006793,3011793,{"$f":"VLOOKUP(G1793,[1]RewardItemConfig!$B:$F,5,FALSE)","v":1842},{"$f":"VLOOKUP(H1793,[1]RewardItemConfig!$B:$F,5,FALSE)","v":545},{"$f":"VLOOKUP(I1793,[1]RewardItemConfig!$B:$F,5,FALSE)","v":184},14,3,17,"14#1842|3#545|17#184"]
[{"$nulls":6},3001794,3006794,3011794,{"$f":"VLOOKUP(G1794,[1]RewardItemConfig!$B:$F,5,FALSE)","v":1843},{"$f":"VLOOKUP(H1794,[1]RewardItemConfig!$B:$F,5,FALSE)","v":545},{"$f":"VLOOKUP(I1794,[1]RewardItemConfig!$B:$F,5,FALSE)","v":184},14,3,17,{"$f":"M1794&\"#\"&J1794&\"|\"&N1794&\"#\"&K1794&\"|\"&O1794&\"#\"&L1794","v":"14#1843|3#545|17#184"}]
[{"$nulls":6},3001795,3006795,3011795,{"$f":"VLOOKUP(G1795,[1]RewardItemConfig!$B:$F,5,FALSE)","v":1844},{"$f":"VLOOKUP(H1795,[1]RewardItemConfig!$B:$F,5,FALSE)","v":545},{"$f":"VLOOKUP(I1795,[1]RewardItemConfig!$B:$F,5,FALSE)","v":184},{"$f":"M1794","v":14},{"$f":"N1794","v":3},{"$f":"O1794","v":17},"14#1844|3#545|17#184"]
[{"$nulls":6},3001796,3006796,3011796,{"$f":"VLOOKUP(G1796,[1]RewardItemConfig!$B:$F,5,FALSE)","v":1845},{"$f":"VLOOKUP(H1796,[1]RewardItemConfig!$B:$F,5,FALSE)","v":545},{"$f":"VLOOKUP(I1796,[1]RewardItemConfig!$B:$F,5,FALSE)","v":184},14,3,17,"14#1845|3#545|17#184"]
[{"$nulls":6},3001797,3006797,3011797,{"$f":"VLOOKUP(G1797,[1]RewardItemConfig!$B:$F,5,FALSE)","v":1846},{"$f":"VLOOKUP(H1797,[1]RewardItemConfig!$B:$F,5,FALSE)","v":545},{"$f":"VLOOKUP(I1797,[1]RewardItemConfig!$B:$F,5,FALSE)","v":184},14,3,17,"14#1846|3#545|17#184"]
[{"$nulls":6},3001798,3006798,3011798,{"$f":"VLOOKUP(G1798,[1]RewardItemConfig!$B:$F,5,FALSE)","v":1847},{"$f":"VLOOKUP(H1798,[1]RewardItemConfig!$B:$F,5,FALSE)","v":545},{"$f":"VLOOKUP(I1798,[1]RewardItemConfig!$B:$F,5,FALSE)","v":184},14,3,17,"14#1847|3#545|17#184"]
[{"$nulls":6},3001799,3006799,3011799,{"$f":"VLOOKUP(G1799,[1]RewardItemConfig!$B:$F,5,FALSE)","v":1848},{"$f":"VLOOKUP(H1799,[1]RewardItemConfig!$B:$F,5,FALSE)","v":545},{"$f":"VLOOKUP(I1799,[1]RewardItemConfig!$B:$F,5,FALSE)","v":184},14,3,17,"14#1848|3#545|17#184"]
[{"$nulls":6},3001800,3006800,3011800,{"$f":"VLOOKUP(G1800,[1]RewardItemConfig!$B:$F,5,FALSE)","v":1849},{"$f":"VLOOKUP(H1800,[1]RewardItemConfig!$B:$F,5,FALSE)","v":550},{"$f":"VLOOKUP(I1800,[1]RewardItemConfig!$B:$F,5,FALSE)","v":185},14,3,17,"14#1849|3#550|17#185"]
[{"$nulls":6},3001801,3006801,3011801,{"$f":"VLOOKUP(G1801,[1]RewardItemConfig!$B:$F,5,FALSE)","v":1850},{"$f":"VLOOKUP(H1801,[1]RewardItemConfig!$B:$F,5,FALSE)","v":550},{"$f":"VLOOKUP(I1801,[1]RewardItemConfig!$B:$F,5,FALSE)","v":185},14,3,17,"14#1850|3#550|17#185"]
[{"$nulls":6},3001802,3006802,3011802,{"$f":"VLOOKUP(G1802,[1]RewardItemConfig!$B:$F,5,FALSE)","v":1851},{"$f":"VLOOKUP(H1802,[1]RewardItemConfig!$B:$F,5,FALSE)","v":550},{"$f":"VLOOKUP(I1802,[1]RewardItemConfig!$B:$F,5,FALSE)","v":185},14,3,17,"14#1851|3#550|17#185"]
[{"$nulls":6},3001803,3006803,3011803,{"$f":"VLOOKUP(G1803,[1]RewardItemConfig!$B:$F,5,FALSE)","v":1852},{"$f":"VLOOKUP(H1803,[1]RewardItemConfig!$B:$F,5,FALSE)","v":550},{"$f":"VLOOKUP(I1803,[1]RewardItemConfig!$B:$F,5,FALSE)","v":185},14,3,17,"14#1852|3#550|17#185"]
[{"$nulls":6},3001804,3006804,3011804,{"$f":"VLOOKUP(G1804,[1]RewardItemConfig!$B:$F,5,FALSE)","v":1853},{"$f":"VLOOKUP(H1804,[1]RewardItemConfig!$B:$F,5,FALSE)","v":550},{"$f":"VLOOKUP(I1804,[1]RewardItemConfig!$B:$F,5,FALSE)","v":185},14,3,17,"14#1853|3#550|17#185"]
[{"$nulls":6},3001805,3006805,3011805,{"$f":"VLOOKUP(G1805,[1]RewardItemConfig!$B:$F,5,FALSE)","v":1854},{"$f":"VLOOKUP(H1805,[1]RewardItemConfig!$B:$F,5,FALSE)","v":550},{"$f":"VLOOKUP(I1805,[1]RewardItemConfig!$B:$F,5,FALSE)","v":185},14,3,17,"14#1854|3#550|17#185"]
[{"$nulls":6},3001806,3006806,3011806,{"$f":"VLOOKUP(G1806,[1]RewardItemConfig!$B:$F,5,FALSE)","v":1855},{"$f":"VLOOKUP(H1806,[1]RewardItemConfig!$B:$F,5,FALSE)","v":550},{"$f":"VLOOKUP(I1806,[1]RewardItemConfig!$B:$F,5,FALSE)","v":185},14,3,17,"14#1855|3#550|17#185"]
[{"$nulls":6},3001807,3006807,3011807,{"$f":"VLOOKUP(G1807,[1]RewardItemConfig!$B:$F,5,FALSE)","v":1856},{"$f":"VLOOKUP(H1807,[1]RewardItemConfig!$B:$F,5,FALSE)","v":550},{"$f":"VLOOKUP(I1807,[1]RewardItemConfig!$B:$F,5,FALSE)","v":185},14,3,17,"14#1856|3#550|17#185"]
[{"$nulls":6},3001808,3006808,3011808,{"$f":"VLOOKUP(G1808,[1]RewardItemConfig!$B:$F,5,FALSE)","v":1857},{"$f":"VLOOKUP(H1808,[1]RewardItemConfig!$B:$F,5,FALSE)","v":550},{"$f":"VLOOKUP(I1808,[1]RewardItemConfig!$B:$F,5,FALSE)","v":185},14,3,17,"14#1857|3#550|17#185"]
[{"$nulls":6},3001809,3006809,3011809,{"$f":"VLOOKUP(G1809,[1]RewardItemConfig!$B:$F,5,FALSE)","v":1858},{"$f":"VLOOKUP(H1809,[1]RewardItemConfig!$B:$F,5,FALSE)","v":550},{"$f":"VLOOKUP(I1809,[1]RewardItemConfig!$B:$F,5,FALSE)","v":185},14,3,17,"14#1858|3#550|17#185"]
[{"$nulls":6},3001810,3006810,3011810,{"$f":"VLOOKUP(G1810,[1]RewardItemConfig!$B:$F,5,FALSE)","v":1859},{"$f":"VLOOKUP(H1810,[1]RewardItemConfig!$B:$F,5,FALSE)","v":555},{"$f":"VLOOKUP(I1810,[1]RewardItemConfig!$B:$F,5,FALSE)","v":186},14,3,17,"14#1859|3#555|17#186"]
[{"$nulls":6},3001811,3006811,3011811,{"$f":"VLOOKUP(G1811,[1]RewardItemConfig!$B:$F,5,FALSE)","v":1860},{"$f":"VLOOKUP(H1811,[1]RewardItemConfig!$B:$F,5,FALSE)","v":555},{"$f":"VLOOKUP(I1811,[1]RewardItemConfig!$B:$F,5,FALSE)","v":186},14,3,17,"14#1860|3#555|17#186"]
[{"$nulls":6},3001812,3006812,3011812,{"$f":"VLOOKUP(G1812,[1]RewardItemConfig!$B:$F,5,FALSE)","v":1861},{"$f":"VLOOKUP(H1812,[1]RewardItemConfig!$B:$F,5,FALSE)","v":555},{"$f":"VLOOKUP(I1812,[1]RewardItemConfig!$B:$F,5,FALSE)","v":186},14,3,17,"14#1861|3#555|17#186"]
[{"$nulls":6},3001813,3006813,3011813,{"$f":"VLOOKUP(G1813,[1]RewardItemConfig!$B:$F,5,FALSE)","v":1862},{"$f":"VLOOKUP(H1813,[1]RewardItemConfig!$B:$F,5,FALSE)","v":555},{"$f":"VLOOKUP(I1813,[1]RewardItemConfig!$B:$F,5,FALSE)","v":186},14,3,17,"14#1862|3#555|17#186"]
[{"$nulls":6},3001814,3006814,3011814,{"$f":"VLOOKUP(G1814,[1]RewardItemConfig!$B:$F,5,FALSE)","v":1863},{"$f":"VLOOKUP(H1814,[1]RewardItemConfig!$B:$F,5,FALSE)","v":555},{"$f":"VLOOKUP(I1814,[1]RewardItemConfig!$B:$F,5,FALSE)","v":186},14,3,17,"14#1863|3#555|17#186"]
[{"$nulls":6},3001815,3006815,3011815,{"$f":"VLOOKUP(G1815,[1]RewardItemConfig!$B:$F,5,FALSE)","v":1864},{"$f":"VLOOKUP(H1815,[1]RewardItemConfig!$B:$F,5,FALSE)","v":555},{"$f":"VLOOKUP(I1815,[1]RewardItemConfig!$B:$F,5,FALSE)","v":186},14,3,17,"14#1864|3#555|17#186"]
[{"$nulls":6},3001816,3006816,3011816,{"$f":"VLOOKUP(G1816,[1]RewardItemConfig!$B:$F,5,FALSE)","v":1865},{"$f":"VLOOKUP(H1816,[1]RewardItemConfig!$B:$F,5,FALSE)","v":555},{"$f":"VLOOKUP(I1816,[1]RewardItemConfig!$B:$F,5,FALSE)","v":186},14,3,17,"14#1865|3#555|17#186"]
[{"$nulls":6},3001817,3006817,3011817,{"$f":"VLOOKUP(G1817,[1]RewardItemConfig!$B:$F,5,FALSE)","v":1866},{"$f":"VLOOKUP(H1817,[1]RewardItemConfig!$B:$F,5,FALSE)","v":555},{"$f":"VLOOKUP(I1817,[1]RewardItemConfig!$B:$F,5,FALSE)","v":186},14,3,17,"14#1866|3#555|17#186"]
[{"$nulls":6},3001818,3006818,3011818,{"$f":"VLOOKUP(G1818,[1]RewardItemConfig!$B:$F,5,FALSE)","v":1867},{"$f":"VLOOKUP(H1818,[1]RewardItemConfig!$B:$F,5,FALSE)","v":555},{"$f":"VLOOKUP(I1818,[1]RewardItemConfig!$B:$F,5,FALSE)","v":186},14,3,17,"14#1867|3#555|17#186"]
[{"$nulls":6},3001819,3006819,3011819,{"$f":"VLOOKUP(G1819,[1]RewardItemConfig!$B:$F,5,FALSE)","v":1868},{"$f":"VLOOKUP(H1819,[1]RewardItemConfig!$B:$F,5,FALSE)","v":555},{"$f":"VLOOKUP(I1819,[1]RewardItemConfig!$B:$F,5,FALSE)","v":186},14,3,17,"14#1868|3#555|17#186"]
[{"$nulls":6},3001820,3006820,3011820,{"$f":"VLOOKUP(G1820,[1]RewardItemConfig!$B:$F,5,FALSE)","v":1869},{"$f":"VLOOKUP(H1820,[1]RewardItemConfig!$B:$F,5,FALSE)","v":560},{"$f":"VLOOKUP(I1820,[1]RewardItemConfig!$B:$F,5,FALSE)","v":187},14,3,17,"14#1869|3#560|17#187"]
[{"$nulls":6},3001821,3006821,3011821,{"$f":"VLOOKUP(G1821,[1]RewardItemConfig!$B:$F,5,FALSE)","v":1870},{"$f":"VLOOKUP(H1821,[1]RewardItemConfig!$B:$F,5,FALSE)","v":560},{"$f":"VLOOKUP(I1821,[1]RewardItemConfig!$B:$F,5,FALSE)","v":187},14,3,17,"14#1870|3#560|17#187"]
[{"$nulls":6},3001822,3006822,3011822,{"$f":"VLOOKUP(G1822,[1]RewardItemConfig!$B:$F,5,FALSE)","v":1871},{"$f":"VLOOKUP(H1822,[1]RewardItemConfig!$B:$F,5,FALSE)","v":560},{"$f":"VLOOKUP(I1822,[1]RewardItemConfig!$B:$F,5,FALSE)","v":187},14,3,17,"14#1871|3#560|17#187"]
[{"$nulls":6},3001823,3006823,3011823,{"$f":"VLOOKUP(G1823,[1]RewardItemConfig!$B:$F,5,FALSE)","v":1872},{"$f":"VLOOKUP(H1823,[1]RewardItemConfig!$B:$F,5,FALSE)","v":560},{"$f":"VLOOKUP(I1823,[1]RewardItemConfig!$B:$F,5,FALSE)","v":187},14,3,17,"14#1872|3#560|17#187"]
[{"$nulls":6},3001824,3006824,3011824,{"$f":"VLOOKUP(G1824,[1]RewardItemConfig!$B:$F,5,FALSE)","v":1873},{"$f":"VLOOKUP(H1824,[1]RewardItemConfig!$B:$F,5,FALSE)","v":560},{"$f":"VLOOKUP(I1824,[1]RewardItemConfig!$B:$F,5,FALSE)","v":187},14,3,17,"14#1873|3#560|17#187"]
[{"$nulls":6},3001825,3006825,3011825,{"$f":"VLOOKUP(G1825,[1]RewardItemConfig!$B:$F,5,FALSE)","v":1874},{"$f":"VLOOKUP(H1825,[1]RewardItemConfig!$B:$F,5,FALSE)","v":560},{"$f":"VLOOKUP(I1825,[1]RewardItemConfig!$B:$F,5,FALSE)","v":187},14,3,17,"14#1874|3#560|17#187"]
[{"$nulls":6},3001826,3006826,3011826,{"$f":"VLOOKUP(G1826,[1]RewardItemConfig!$B:$F,5,FALSE)","v":1875},{"$f":"VLOOKUP(H1826,[1]RewardItemConfig!$B:$F,5,FALSE)","v":560},{"$f":"VLOOKUP(I1826,[1]RewardItemConfig!$B:$F,5,FALSE)","v":187},14,3,17,"14#1875|3#560|17#187"]
[{"$nulls":6},3001827,3006827,3011827,{"$f":"VLOOKUP(G1827,[1]RewardItemConfig!$B:$F,5,FALSE)","v":1876},{"$f":"VLOOKUP(H1827,[1]RewardItemConfig!$B:$F,5,FALSE)","v":560},{"$f":"VLOOKUP(I1827,[1]RewardItemConfig!$B:$F,5,FALSE)","v":187},14,3,17,"14#1876|3#560|17#187"]
[{"$nulls":6},3001828,3006828,3011828,{"$f":"VLOOKUP(G1828,[1]RewardItemConfig!$B:$F,5,FALSE)","v":1877},{"$f":"VLOOKUP(H1828,[1]RewardItemConfig!$B:$F,5,FALSE)","v":560},{"$f":"VLOOKUP(I1828,[1]RewardItemConfig!$B:$F,5,FALSE)","v":187},14,3,17,"14#1877|3#560|17#187"]
[{"$nulls":6},3001829,3006829,3011829,{"$f":"VLOOKUP(G1829,[1]RewardItemConfig!$B:$F,5,FALSE)","v":1878},{"$f":"VLOOKUP(H1829,[1]RewardItemConfig!$B:$F,5,FALSE)","v":560},{"$f":"VLOOKUP(I1829,[1]RewardItemConfig!$B:$F,5,FALSE)","v":187},14,3,17,"14#1878|3#560|17#187"]
[{"$nulls":6},3001830,3006830,3011830,{"$f":"VLOOKUP(G1830,[1]RewardItemConfig!$B:$F,5,FALSE)","v":1879},{"$f":"VLOOKUP(H1830,[1]RewardItemConfig!$B:$F,5,FALSE)","v":565},{"$f":"VLOOKUP(I1830,[1]RewardItemConfig!$B:$F,5,FALSE)","v":188},14,3,17,"14#1879|3#565|17#188"]
[{"$nulls":6},3001831,3006831,3011831,{"$f":"VLOOKUP(G1831,[1]RewardItemConfig!$B:$F,5,FALSE)","v":1880},{"$f":"VLOOKUP(H1831,[1]RewardItemConfig!$B:$F,5,FALSE)","v":565},{"$f":"VLOOKUP(I1831,[1]RewardItemConfig!$B:$F,5,FALSE)","v":188},14,3,17,"14#1880|3#565|17#188"]
[{"$nulls":6},3001832,3006832,3011832,{"$f":"VLOOKUP(G1832,[1]RewardItemConfig!$B:$F,5,FALSE)","v":1881},{"$f":"VLOOKUP(H1832,[1]RewardItemConfig!$B:$F,5,FALSE)","v":565},{"$f":"VLOOKUP(I1832,[1]RewardItemConfig!$B:$F,5,FALSE)","v":188},14,3,17,"14#1881|3#565|17#188"]
[{"$nulls":6},3001833,3006833,3011833,{"$f":"VLOOKUP(G1833,[1]RewardItemConfig!$B:$F,5,FALSE)","v":1882},{"$f":"VLOOKUP(H1833,[1]RewardItemConfig!$B:$F,5,FALSE)","v":565},{"$f":"VLOOKUP(I1833,[1]RewardItemConfig!$B:$F,5,FALSE)","v":188},14,3,17,"14#1882|3#565|17#188"]
[{"$nulls":6},3001834,3006834,3011834,{"$f":"VLOOKUP(G1834,[1]RewardItemConfig!$B:$F,5,FALSE)","v":1883},{"$f":"VLOOKUP(H1834,[1]RewardItemConfig!$B:$F,5,FALSE)","v":565},{"$f":"VLOOKUP(I1834,[1]RewardItemConfig!$B:$F,5,FALSE)","v":188},14,3,17,"14#1883|3#565|17#188"]
[{"$nulls":6},3001835,3006835,3011835,{"$f":"VLOOKUP(G1835,[1]RewardItemConfig!$B:$F,5,FALSE)","v":1884},{"$f":"VLOOKUP(H1835,[1]RewardItemConfig!$B:$F,5,FALSE)","v":565},{"$f":"VLOOKUP(I1835,[1]RewardItemConfig!$B:$F,5,FALSE)","v":188},14,3,17,"14#1884|3#565|17#188"]
[{"$nulls":6},3001836,3006836,3011836,{"$f":"VLOOKUP(G1836,[1]RewardItemConfig!$B:$F,5,FALSE)","v":1885},{"$f":"VLOOKUP(H1836,[1]RewardItemConfig!$B:$F,5,FALSE)","v":565},{"$f":"VLOOKUP(I1836,[1]RewardItemConfig!$B:$F,5,FALSE)","v":188},14,3,17,"14#1885|3#565|17#188"]
[{"$nulls":6},3001837,3006837,3011837,{"$f":"VLOOKUP(G1837,[1]RewardItemConfig!$B:$F,5,FALSE)","v":1886},{"$f":"VLOOKUP(H1837,[1]RewardItemConfig!$B:$F,5,FALSE)","v":565},{"$f":"VLOOKUP(I1837,[1]RewardItemConfig!$B:$F,5,FALSE)","v":188},14,3,17,"14#1886|3#565|17#188"]
[{"$nulls":6},3001838,3006838,3011838,{"$f":"VLOOKUP(G1838,[1]RewardItemConfig!$B:$F,5,FALSE)","v":1887},{"$f":"VLOOKUP(H1838,[1]RewardItemConfig!$B:$F,5,FALSE)","v":565},{"$f":"VLOOKUP(I1838,[1]RewardItemConfig!$B:$F,5,FALSE)","v":188},14,3,17,"14#1887|3#565|17#188"]
[{"$nulls":6},3001839,3006839,3011839,{"$f":"VLOOKUP(G1839,[1]RewardItemConfig!$B:$F,5,FALSE)","v":1888},{"$f":"VLOOKUP(H1839,[1]RewardItemConfig!$B:$F,5,FALSE)","v":565},{"$f":"VLOOKUP(I1839,[1]RewardItemConfig!$B:$F,5,FALSE)","v":188},14,3,17,"14#1888|3#565|17#188"]
[{"$nulls":6},3001840,3006840,3011840,{"$f":"VLOOKUP(G1840,[1]RewardItemConfig!$B:$F,5,FALSE)","v":1889},{"$f":"VLOOKUP(H1840,[1]RewardItemConfig!$B:$F,5,FALSE)","v":570},{"$f":"VLOOKUP(I1840,[1]RewardItemConfig!$B:$F,5,FALSE)","v":189},14,3,17,"14#1889|3#570|17#189"]
[{"$nulls":6},3001841,3006841,3011841,{"$f":"VLOOKUP(G1841,[1]RewardItemConfig!$B:$F,5,FALSE)","v":1890},{"$f":"VLOOKUP(H1841,[1]RewardItemConfig!$B:$F,5,FALSE)","v":570},{"$f":"VLOOKUP(I1841,[1]RewardItemConfig!$B:$F,5,FALSE)","v":189},14,3,17,"14#1890|3#570|17#189"]
[{"$nulls":6},3001842,3006842,3011842,{"$f":"VLOOKUP(G1842,[1]RewardItemConfig!$B:$F,5,FALSE)","v":1891},{"$f":"VLOOKUP(H1842,[1]RewardItemConfig!$B:$F,5,FALSE)","v":570},{"$f":"VLOOKUP(I1842,[1]RewardItemConfig!$B:$F,5,FALSE)","v":189},14,3,17,"14#1891|3#570|17#189"]
[{"$nulls":6},3001843,3006843,3011843,{"$f":"VLOOKUP(G1843,[1]RewardItemConfig!$B:$F,5,FALSE)","v":1892},{"$f":"VLOOKUP(H1843,[1]RewardItemConfig!$B:$F,5,FALSE)","v":570},{"$f":"VLOOKUP(I1843,[1]RewardItemConfig!$B:$F,5,FALSE)","v":189},14,3,17,"14#1892|3#570|17#189"]
[{"$nulls":6},3001844,3006844,3011844,{"$f":"VLOOKUP(G1844,[1]RewardItemConfig!$B:$F,5,FALSE)","v":1893},{"$f":"VLOOKUP(H1844,[1]RewardItemConfig!$B:$F,5,FALSE)","v":570},{"$f":"VLOOKUP(I1844,[1]RewardItemConfig!$B:$F,5,FALSE)","v":189},14,3,17,"14#1893|3#570|17#189"]
[{"$nulls":6},3001845,3006845,3011845,{"$f":"VLOOKUP(G1845,[1]RewardItemConfig!$B:$F,5,FALSE)","v":1894},{"$f":"VLOOKUP(H1845,[1]RewardItemConfig!$B:$F,5,FALSE)","v":570},{"$f":"VLOOKUP(I1845,[1]RewardItemConfig!$B:$F,5,FALSE)","v":189},14,3,17,"14#1894|3#570|17#189"]
[{"$nulls":6},3001846,3006846,3011846,{"$f":"VLOOKUP(G1846,[1]RewardItemConfig!$B:$F,5,FALSE)","v":1895},{"$f":"VLOOKUP(H1846,[1]RewardItemConfig!$B:$F,5,FALSE)","v":570},{"$f":"VLOOKUP(I1846,[1]RewardItemConfig!$B:$F,5,FALSE)","v":189},14,3,17,"14#1895|3#570|17#189"]
[{"$nulls":6},3001847,3006847,3011847,{"$f":"VLOOKUP(G1847,[1]RewardItemConfig!$B:$F,5,FALSE)","v":1896},{"$f":"VLOOKUP(H1847,[1]RewardItemConfig!$B:$F,5,FALSE)","v":570},{"$f":"VLOOKUP(I1847,[1]RewardItemConfig!$B:$F,5,FALSE)","v":189},14,3,17,"14#1896|3#570|17#189"]
[{"$nulls":6},3001848,3006848,3011848,{"$f":"VLOOKUP(G1848,[1]RewardItemConfig!$B:$F,5,FALSE)","v":1897},{"$f":"VLOOKUP(H1848,[1]RewardItemConfig!$B:$F,5,FALSE)","v":570},{"$f":"VLOOKUP(I1848,[1]RewardItemConfig!$B:$F,5,FALSE)","v":189},14,3,17,"14#1897|3#570|17#189"]
[{"$nulls":6},3001849,3006849,3011849,{"$f":"VLOOKUP(G1849,[1]RewardItemConfig!$B:$F,5,FALSE)","v":1898},{"$f":"VLOOKUP(H1849,[1]RewardItemConfig!$B:$F,5,FALSE)","v":570},{"$f":"VLOOKUP(I1849,[1]RewardItemConfig!$B:$F,5,FALSE)","v":189},14,3,17,"14#1898|3#570|17#189"]
[{"$nulls":6},3001850,3006850,3011850,{"$f":"VLOOKUP(G1850,[1]RewardItemConfig!$B:$F,5,FALSE)","v":1899},{"$f":"VLOOKUP(H1850,[1]RewardItemConfig!$B:$F,5,FALSE)","v":575},{"$f":"VLOOKUP(I1850,[1]RewardItemConfig!$B:$F,5,FALSE)","v":190},14,3,17,"14#1899|3#575|17#190"]
[{"$nulls":6},3001851,3006851,3011851,{"$f":"VLOOKUP(G1851,[1]RewardItemConfig!$B:$F,5,FALSE)","v":1900},{"$f":"VLOOKUP(H1851,[1]RewardItemConfig!$B:$F,5,FALSE)","v":575},{"$f":"VLOOKUP(I1851,[1]RewardItemConfig!$B:$F,5,FALSE)","v":190},14,3,17,"14#1900|3#575|17#190"]
[{"$nulls":6},3001852,3006852,3011852,{"$f":"VLOOKUP(G1852,[1]RewardItemConfig!$B:$F,5,FALSE)","v":1901},{"$f":"VLOOKUP(H1852,[1]RewardItemConfig!$B:$F,5,FALSE)","v":575},{"$f":"VLOOKUP(I1852,[1]RewardItemConfig!$B:$F,5,FALSE)","v":190},14,3,17,"14#1901|3#575|17#190"]
[{"$nulls":6},3001853,3006853,3011853,{"$f":"VLOOKUP(G1853,[1]RewardItemConfig!$B:$F,5,FALSE)","v":1902},{"$f":"VLOOKUP(H1853,[1]RewardItemConfig!$B:$F,5,FALSE)","v":575},{"$f":"VLOOKUP(I1853,[1]RewardItemConfig!$B:$F,5,FALSE)","v":190},14,3,17,"14#1902|3#575|17#190"]
[{"$nulls":6},3001854,3006854,3011854,{"$f":"VLOOKUP(G1854,[1]RewardItemConfig!$B:$F,5,FALSE)","v":1903},{"$f":"VLOOKUP(H1854,[1]RewardItemConfig!$B:$F,5,FALSE)","v":575},{"$f":"VLOOKUP(I1854,[1]RewardItemConfig!$B:$F,5,FALSE)","v":190},14,3,17,"14#1903|3#575|17#190"]
[{"$nulls":6},3001855,3006855,3011855,{"$f":"VLOOKUP(G1855,[1]RewardItemConfig!$B:$F,5,FALSE)","v":1904},{"$f":"VLOOKUP(H1855,[1]RewardItemConfig!$B:$F,5,FALSE)","v":575},{"$f":"VLOOKUP(I1855,[1]RewardItemConfig!$B:$F,5,FALSE)","v":190},14,3,17,"14#1904|3#575|17#190"]
[{"$nulls":6},3001856,3006856,3011856,{"$f":"VLOOKUP(G1856,[1]RewardItemConfig!$B:$F,5,FALSE)","v":1905},{"$f":"VLOOKUP(H1856,[1]RewardItemConfig!$B:$F,5,FALSE)","v":575},{"$f":"VLOOKUP(I1856,[1]RewardItemConfig!$B:$F,5,FALSE)","v":190},14,3,17,"14#1905|3#575|17#190"]
[{"$nulls":6},3001857,3006857,3011857,{"$f":"VLOOKUP(G1857,[1]RewardItemConfig!$B:$F,5,FALSE)","v":1906},{"$f":"VLOOKUP(H1857,[1]RewardItemConfig!$B:$F,5,FALSE)","v":575},{"$f":"VLOOKUP(I1857,[1]RewardItemConfig!$B:$F,5,FALSE)","v":190},14,3,17,"14#1906|3#575|17#190"]
[{"$nulls":6},3001858,3006858,3011858,{"$f":"VLOOKUP(G1858,[1]RewardItemConfig!$B:$F,5,FALSE)","v":1907},{"$f":"VLOOKUP(H1858,[1]RewardItemConfig!$B:$F,5,FALSE)","v":575},{"$f":"VLOOKUP(I1858,[1]RewardItemConfig!$B:$F,5,FALSE)","v":190},14,3,17,{"$f":"M1858&\"#\"&J1858&\"|\"&N1858&\"#\"&K1858&\"|\"&O1858&\"#\"&L1858","v":"14#1907|3#575|17#190"}]
[{"$nulls":6},3001859,3006859,3011859,{"$f":"VLOOKUP(G1859,[1]RewardItemConfig!$B:$F,5,FALSE)","v":1908},{"$f":"VLOOKUP(H1859,[1]RewardItemConfig!$B:$F,5,FALSE)","v":575},{"$f":"VLOOKUP(I1859,[1]RewardItemConfig!$B:$F,5,FALSE)","v":190},{"$f":"M1858","v":14},{"$f":"N1858","v":3},{"$f":"O1858","v":17},"14#1908|3#575|17#190"]
[{"$nulls":6},3001860,3006860,3011860,{"$f":"VLOOKUP(G1860,[1]RewardItemConfig!$B:$F,5,FALSE)","v":1909},{"$f":"VLOOKUP(H1860,[1]RewardItemConfig!$B:$F,5,FALSE)","v":580},{"$f":"VLOOKUP(I1860,[1]RewardItemConfig!$B:$F,5,FALSE)","v":191},14,3,17,"14#1909|3#580|17#191"]
[{"$nulls":6},3001861,3006861,3011861,{"$f":"VLOOKUP(G1861,[1]RewardItemConfig!$B:$F,5,FALSE)","v":1910},{"$f":"VLOOKUP(H1861,[1]RewardItemConfig!$B:$F,5,FALSE)","v":580},{"$f":"VLOOKUP(I1861,[1]RewardItemConfig!$B:$F,5,FALSE)","v":191},14,3,17,"14#1910|3#580|17#191"]
[{"$nulls":6},3001862,3006862,3011862,{"$f":"VLOOKUP(G1862,[1]RewardItemConfig!$B:$F,5,FALSE)","v":1911},{"$f":"VLOOKUP(H1862,[1]RewardItemConfig!$B:$F,5,FALSE)","v":580},{"$f":"VLOOKUP(I1862,[1]RewardItemConfig!$B:$F,5,FALSE)","v":191},14,3,17,"14#1911|3#580|17#191"]
[{"$nulls":6},3001863,3006863,3011863,{"$f":"VLOOKUP(G1863,[1]RewardItemConfig!$B:$F,5,FALSE)","v":1912},{"$f":"VLOOKUP(H1863,[1]RewardItemConfig!$B:$F,5,FALSE)","v":580},{"$f":"VLOOKUP(I1863,[1]RewardItemConfig!$B:$F,5,FALSE)","v":191},14,3,17,"14#1912|3#580|17#191"]
[{"$nulls":6},3001864,3006864,3011864,{"$f":"VLOOKUP(G1864,[1]RewardItemConfig!$B:$F,5,FALSE)","v":1913},{"$f":"VLOOKUP(H1864,[1]RewardItemConfig!$B:$F,5,FALSE)","v":580},{"$f":"VLOOKUP(I1864,[1]RewardItemConfig!$B:$F,5,FALSE)","v":191},14,3,17,"14#1913|3#580|17#191"]
[{"$nulls":6},3001865,3006865,3011865,{"$f":"VLOOKUP(G1865,[1]RewardItemConfig!$B:$F,5,FALSE)","v":1914},{"$f":"VLOOKUP(H1865,[1]RewardItemConfig!$B:$F,5,FALSE)","v":580},{"$f":"VLOOKUP(I1865,[1]RewardItemConfig!$B:$F,5,FALSE)","v":191},14,3,17,"14#1914|3#580|17#191"]
[{"$nulls":6},3001866,3006866,3011866,{"$f":"VLOOKUP(G1866,[1]RewardItemConfig!$B:$F,5,FALSE)","v":1915},{"$f":"VLOOKUP(H1866,[1]RewardItemConfig!$B:$F,5,FALSE)","v":580},{"$f":"VLOOKUP(I1866,[1]RewardItemConfig!$B:$F,5,FALSE)","v":191},14,3,17,"14#1915|3#580|17#191"]
[{"$nulls":6},3001867,3006867,3011867,{"$f":"VLOOKUP(G1867,[1]RewardItemConfig!$B:$F,5,FALSE)","v":1916},{"$f":"VLOOKUP(H1867,[1]RewardItemConfig!$B:$F,5,FALSE)","v":580},{"$f":"VLOOKUP(I1867,[1]RewardItemConfig!$B:$F,5,FALSE)","v":191},14,3,17,"14#1916|3#580|17#191"]
[{"$nulls":6},3001868,3006868,3011868,{"$f":"VLOOKUP(G1868,[1]RewardItemConfig!$B:$F,5,FALSE)","v":1917},{"$f":"VLOOKUP(H1868,[1]RewardItemConfig!$B:$F,5,FALSE)","v":580},{"$f":"VLOOKUP(I1868,[1]RewardItemConfig!$B:$F,5,FALSE)","v":191},14,3,17,"14#1917|3#580|17#191"]
[{"$nulls":6},3001869,3006869,3011869,{"$f":"VLOOKUP(G1869,[1]RewardItemConfig!$B:$F,5,FALSE)","v":1918},{"$f":"VLOOKUP(H1869,[1]RewardItemConfig!$B:$F,5,FALSE)","v":580},{"$f":"VLOOKUP(I1869,[1]RewardItemConfig!$B:$F,5,FALSE)","v":191},14,3,17,"14#1918|3#580|17#191"]
[{"$nulls":6},3001870,3006870,3011870,{"$f":"VLOOKUP(G1870,[1]RewardItemConfig!$B:$F,5,FALSE)","v":1919},{"$f":"VLOOKUP(H1870,[1]RewardItemConfig!$B:$F,5,FALSE)","v":585},{"$f":"VLOOKUP(I1870,[1]RewardItemConfig!$B:$F,5,FALSE)","v":192},14,3,17,"14#1919|3#585|17#192"]
[{"$nulls":6},3001871,3006871,3011871,{"$f":"VLOOKUP(G1871,[1]RewardItemConfig!$B:$F,5,FALSE)","v":1920},{"$f":"VLOOKUP(H1871,[1]RewardItemConfig!$B:$F,5,FALSE)","v":585},{"$f":"VLOOKUP(I1871,[1]RewardItemConfig!$B:$F,5,FALSE)","v":192},14,3,17,"14#1920|3#585|17#192"]
[{"$nulls":6},3001872,3006872,3011872,{"$f":"VLOOKUP(G1872,[1]RewardItemConfig!$B:$F,5,FALSE)","v":1921},{"$f":"VLOOKUP(H1872,[1]RewardItemConfig!$B:$F,5,FALSE)","v":585},{"$f":"VLOOKUP(I1872,[1]RewardItemConfig!$B:$F,5,FALSE)","v":192},14,3,17,"14#1921|3#585|17#192"]
[{"$nulls":6},3001873,3006873,3011873,{"$f":"VLOOKUP(G1873,[1]RewardItemConfig!$B:$F,5,FALSE)","v":1922},{"$f":"VLOOKUP(H1873,[1]RewardItemConfig!$B:$F,5,FALSE)","v":585},{"$f":"VLOOKUP(I1873,[1]RewardItemConfig!$B:$F,5,FALSE)","v":192},14,3,17,"14#1922|3#585|17#192"]
[{"$nulls":6},3001874,3006874,3011874,{"$f":"VLOOKUP(G1874,[1]RewardItemConfig!$B:$F,5,FALSE)","v":1923},{"$f":"VLOOKUP(H1874,[1]RewardItemConfig!$B:$F,5,FALSE)","v":585},{"$f":"VLOOKUP(I1874,[1]RewardItemConfig!$B:$F,5,FALSE)","v":192},14,3,17,"14#1923|3#585|17#192"]
[{"$nulls":6},3001875,3006875,3011875,{"$f":"VLOOKUP(G1875,[1]RewardItemConfig!$B:$F,5,FALSE)","v":1924},{"$f":"VLOOKUP(H1875,[1]RewardItemConfig!$B:$F,5,FALSE)","v":585},{"$f":"VLOOKUP(I1875,[1]RewardItemConfig!$B:$F,5,FALSE)","v":192},14,3,17,"14#1924|3#585|17#192"]
[{"$nulls":6},3001876,3006876,3011876,{"$f":"VLOOKUP(G1876,[1]RewardItemConfig!$B:$F,5,FALSE)","v":1925},{"$f":"VLOOKUP(H1876,[1]RewardItemConfig!$B:$F,5,FALSE)","v":585},{"$f":"VLOOKUP(I1876,[1]RewardItemConfig!$B:$F,5,FALSE)","v":192},14,3,17,"14#1925|3#585|17#192"]
[{"$nulls":6},3001877,3006877,3011877,{"$f":"VLOOKUP(G1877,[1]RewardItemConfig!$B:$F,5,FALSE)","v":1926},{"$f":"VLOOKUP(H1877,[1]RewardItemConfig!$B:$F,5,FALSE)","v":585},{"$f":"VLOOKUP(I1877,[1]RewardItemConfig!$B:$F,5,FALSE)","v":192},14,3,17,"14#1926|3#585|17#192"]
[{"$nulls":6},3001878,3006878,3011878,{"$f":"VLOOKUP(G1878,[1]RewardItemConfig!$B:$F,5,FALSE)","v":1927},{"$f":"VLOOKUP(H1878,[1]RewardItemConfig!$B:$F,5,FALSE)","v":585},{"$f":"VLOOKUP(I1878,[1]RewardItemConfig!$B:$F,5,FALSE)","v":192},14,3,17,"14#1927|3#585|17#192"]
[{"$nulls":6},3001879,3006879,3011879,{"$f":"VLOOKUP(G1879,[1]RewardItemConfig!$B:$F,5,FALSE)","v":1928},{"$f":"VLOOKUP(H1879,[1]RewardItemConfig!$B:$F,5,FALSE)","v":585},{"$f":"VLOOKUP(I1879,[1]RewardItemConfig!$B:$F,5,FALSE)","v":192},14,3,17,"14#1928|3#585|17#192"]
[{"$nulls":6},3001880,3006880,3011880,{"$f":"VLOOKUP(G1880,[1]RewardItemConfig!$B:$F,5,FALSE)","v":1929},{"$f":"VLOOKUP(H1880,[1]RewardItemConfig!$B:$F,5,FALSE)","v":590},{"$f":"VLOOKUP(I1880,[1]RewardItemConfig!$B:$F,5,FALSE)","v":193},14,3,17,"14#1929|3#590|17#193"]
[{"$nulls":6},3001881,3006881,3011881,{"$f":"VLOOKUP(G1881,[1]RewardItemConfig!$B:$F,5,FALSE)","v":1930},{"$f":"VLOOKUP(H1881,[1]RewardItemConfig!$B:$F,5,FALSE)","v":590},{"$f":"VLOOKUP(I1881,[1]RewardItemConfig!$B:$F,5,FALSE)","v":193},14,3,17,"14#1930|3#590|17#193"]
[{"$nulls":6},3001882,3006882,3011882,{"$f":"VLOOKUP(G1882,[1]RewardItemConfig!$B:$F,5,FALSE)","v":1931},{"$f":"VLOOKUP(H1882,[1]RewardItemConfig!$B:$F,5,FALSE)","v":590},{"$f":"VLOOKUP(I1882,[1]RewardItemConfig!$B:$F,5,FALSE)","v":193},14,3,17,"14#1931|3#590|17#193"]
[{"$nulls":6},3001883,3006883,3011883,{"$f":"VLOOKUP(G1883,[1]RewardItemConfig!$B:$F,5,FALSE)","v":1932},{"$f":"VLOOKUP(H1883,[1]RewardItemConfig!$B:$F,5,FALSE)","v":590},{"$f":"VLOOKUP(I1883,[1]RewardItemConfig!$B:$F,5,FALSE)","v":193},14,3,17,"14#1932|3#590|17#193"]
[{"$nulls":6},3001884,3006884,3011884,{"$f":"VLOOKUP(G1884,[1]RewardItemConfig!$B:$F,5,FALSE)","v":1933},{"$f":"VLOOKUP(H1884,[1]RewardItemConfig!$B:$F,5,FALSE)","v":590},{"$f":"VLOOKUP(I1884,[1]RewardItemConfig!$B:$F,5,FALSE)","v":193},14,3,17,"14#1933|3#590|17#193"]
[{"$nulls":6},3001885,3006885,3011885,{"$f":"VLOOKUP(G1885,[1]RewardItemConfig!$B:$F,5,FALSE)","v":1934},{"$f":"VLOOKUP(H1885,[1]RewardItemConfig!$B:$F,5,FALSE)","v":590},{"$f":"VLOOKUP(I1885,[1]RewardItemConfig!$B:$F,5,FALSE)","v":193},14,3,17,"14#1934|3#590|17#193"]
[{"$nulls":6},3001886,3006886,3011886,{"$f":"VLOOKUP(G1886,[1]RewardItemConfig!$B:$F,5,FALSE)","v":1935},{"$f":"VLOOKUP(H1886,[1]RewardItemConfig!$B:$F,5,FALSE)","v":590},{"$f":"VLOOKUP(I1886,[1]RewardItemConfig!$B:$F,5,FALSE)","v":193},14,3,17,"14#1935|3#590|17#193"]
[{"$nulls":6},3001887,3006887,3011887,{"$f":"VLOOKUP(G1887,[1]RewardItemConfig!$B:$F,5,FALSE)","v":1936},{"$f":"VLOOKUP(H1887,[1]RewardItemConfig!$B:$F,5,FALSE)","v":590},{"$f":"VLOOKUP(I1887,[1]RewardItemConfig!$B:$F,5,FALSE)","v":193},14,3,17,"14#1936|3#590|17#193"]
[{"$nulls":6},3001888,3006888,3011888,{"$f":"VLOOKUP(G1888,[1]RewardItemConfig!$B:$F,5,FALSE)","v":1937},{"$f":"VLOOKUP(H1888,[1]RewardItemConfig!$B:$F,5,FALSE)","v":590},{"$f":"VLOOKUP(I1888,[1]RewardItemConfig!$B:$F,5,FALSE)","v":193},14,3,17,"14#1937|3#590|17#193"]
[{"$nulls":6},3001889,3006889,3011889,{"$f":"VLOOKUP(G1889,[1]RewardItemConfig!$B:$F,5,FALSE)","v":1938},{"$f":"VLOOKUP(H1889,[1]RewardItemConfig!$B:$F,5,FALSE)","v":590},{"$f":"VLOOKUP(I1889,[1]RewardItemConfig!$B:$F,5,FALSE)","v":193},14,3,17,"14#1938|3#590|17#193"]
[{"$nulls":6},3001890,3006890,3011890,{"$f":"VLOOKUP(G1890,[1]RewardItemConfig!$B:$F,5,FALSE)","v":1939},{"$f":"VLOOKUP(H1890,[1]RewardItemConfig!$B:$F,5,FALSE)","v":595},{"$f":"VLOOKUP(I1890,[1]RewardItemConfig!$B:$F,5,FALSE)","v":194},14,3,17,"14#1939|3#595|17#194"]
[{"$nulls":6},3001891,3006891,3011891,{"$f":"VLOOKUP(G1891,[1]RewardItemConfig!$B:$F,5,FALSE)","v":1940},{"$f":"VLOOKUP(H1891,[1]RewardItemConfig!$B:$F,5,FALSE)","v":595},{"$f":"VLOOKUP(I1891,[1]RewardItemConfig!$B:$F,5,FALSE)","v":194},14,3,17,"14#1940|3#595|17#194"]
[{"$nulls":6},3001892,3006892,3011892,{"$f":"VLOOKUP(G1892,[1]RewardItemConfig!$B:$F,5,FALSE)","v":1941},{"$f":"VLOOKUP(H1892,[1]RewardItemConfig!$B:$F,5,FALSE)","v":595},{"$f":"VLOOKUP(I1892,[1]RewardItemConfig!$B:$F,5,FALSE)","v":194},14,3,17,"14#1941|3#595|17#194"]
[{"$nulls":6},3001893,3006893,3011893,{"$f":"VLOOKUP(G1893,[1]RewardItemConfig!$B:$F,5,FALSE)","v":1942},{"$f":"VLOOKUP(H1893,[1]RewardItemConfig!$B:$F,5,FALSE)","v":595},{"$f":"VLOOKUP(I1893,[1]RewardItemConfig!$B:$F,5,FALSE)","v":194},14,3,17,"14#1942|3#595|17#194"]
[{"$nulls":6},3001894,3006894,3011894,{"$f":"VLOOKUP(G1894,[1]RewardItemConfig!$B:$F,5,FALSE)","v":1943},{"$f":"VLOOKUP(H1894,[1]RewardItemConfig!$B:$F,5,FALSE)","v":595},{"$f":"VLOOKUP(I1894,[1]RewardItemConfig!$B:$F,5,FALSE)","v":194},14,3,17,"14#1943|3#595|17#194"]
[{"$nulls":6},3001895,3006895,3011895,{"$f":"VLOOKUP(G1895,[1]RewardItemConfig!$B:$F,5,FALSE)","v":1944},{"$f":"VLOOKUP(H1895,[1]RewardItemConfig!$B:$F,5,FALSE)","v":595},{"$f":"VLOOKUP(I1895,[1]RewardItemConfig!$B:$F,5,FALSE)","v":194},14,3,17,"14#1944|3#595|17#194"]
[{"$nulls":6},3001896,3006896,3011896,{"$f":"VLOOKUP(G1896,[1]RewardItemConfig!$B:$F,5,FALSE)","v":1945},{"$f":"VLOOKUP(H1896,[1]RewardItemConfig!$B:$F,5,FALSE)","v":595},{"$f":"VLOOKUP(I1896,[1]RewardItemConfig!$B:$F,5,FALSE)","v":194},14,3,17,"14#1945|3#595|17#194"]
[{"$nulls":6},3001897,3006897,3011897,{"$f":"VLOOKUP(G1897,[1]RewardItemConfig!$B:$F,5,FALSE)","v":1946},{"$f":"VLOOKUP(H1897,[1]RewardItemConfig!$B:$F,5,FALSE)","v":595},{"$f":"VLOOKUP(I1897,[1]RewardItemConfig!$B:$F,5,FALSE)","v":194},14,3,17,"14#1946|3#595|17#194"]
[{"$nulls":6},3001898,3006898,3011898,{"$f":"VLOOKUP(G1898,[1]RewardItemConfig!$B:$F,5,FALSE)","v":1947},{"$f":"VLOOKUP(H1898,[1]RewardItemConfig!$B:$F,5,FALSE)","v":595},{"$f":"VLOOKUP(I1898,[1]RewardItemConfig!$B:$F,5,FALSE)","v":194},14,3,17,"14#1947|3#595|17#194"]
[{"$nulls":6},3001899,3006899,3011899,{"$f":"VLOOKUP(G1899,[1]RewardItemConfig!$B:$F,5,FALSE)","v":1948},{"$f":"VLOOKUP(H1899,[1]RewardItemConfig!$B:$F,5,FALSE)","v":595},{"$f":"VLOOKUP(I1899,[1]RewardItemConfig!$B:$F,5,FALSE)","v":194},14,3,17,"14#1948|3#595|17#194"]
[{"$nulls":6},3001900,3006900,3011900,{"$f":"VLOOKUP(G1900,[1]RewardItemConfig!$B:$F,5,FALSE)","v":1949},{"$f":"VLOOKUP(H1900,[1]RewardItemConfig!$B:$F,5,FALSE)","v":600},{"$f":"VLOOKUP(I1900,[1]RewardItemConfig!$B:$F,5,FALSE)","v":195},14,3,17,"14#1949|3#600|17#195"]
[{"$nulls":6},3001901,3006901,3011901,{"$f":"VLOOKUP(G1901,[1]RewardItemConfig!$B:$F,5,FALSE)","v":1950},{"$f":"VLOOKUP(H1901,[1]RewardItemConfig!$B:$F,5,FALSE)","v":600},{"$f":"VLOOKUP(I1901,[1]RewardItemConfig!$B:$F,5,FALSE)","v":195},14,3,17,"14#1950|3#600|17#195"]
[{"$nulls":6},3001902,3006902,3011902,{"$f":"VLOOKUP(G1902,[1]RewardItemConfig!$B:$F,5,FALSE)","v":1951},{"$f":"VLOOKUP(H1902,[1]RewardItemConfig!$B:$F,5,FALSE)","v":600},{"$f":"VLOOKUP(I1902,[1]RewardItemConfig!$B:$F,5,FALSE)","v":195},14,3,17,"14#1951|3#600|17#195"]
[{"$nulls":6},3001903,3006903,3011903,{"$f":"VLOOKUP(G1903,[1]RewardItemConfig!$B:$F,5,FALSE)","v":1952},{"$f":"VLOOKUP(H1903,[1]RewardItemConfig!$B:$F,5,FALSE)","v":600},{"$f":"VLOOKUP(I1903,[1]RewardItemConfig!$B:$F,5,FALSE)","v":195},14,3,17,"14#1952|3#600|17#195"]
[{"$nulls":6},3001904,3006904,3011904,{"$f":"VLOOKUP(G1904,[1]RewardItemConfig!$B:$F,5,FALSE)","v":1953},{"$f":"VLOOKUP(H1904,[1]RewardItemConfig!$B:$F,5,FALSE)","v":600},{"$f":"VLOOKUP(I1904,[1]RewardItemConfig!$B:$F,5,FALSE)","v":195},14,3,17,"14#1953|3#600|17#195"]
[{"$nulls":6},3001905,3006905,3011905,{"$f":"VLOOKUP(G1905,[1]RewardItemConfig!$B:$F,5,FALSE)","v":1954},{"$f":"VLOOKUP(H1905,[1]RewardItemConfig!$B:$F,5,FALSE)","v":600},{"$f":"VLOOKUP(I1905,[1]RewardItemConfig!$B:$F,5,FALSE)","v":195},14,3,17,"14#1954|3#600|17#195"]
[{"$nulls":6},3001906,3006906,3011906,{"$f":"VLOOKUP(G1906,[1]RewardItemConfig!$B:$F,5,FALSE)","v":1955},{"$f":"VLOOKUP(H1906,[1]RewardItemConfig!$B:$F,5,FALSE)","v":600},{"$f":"VLOOKUP(I1906,[1]RewardItemConfig!$B:$F,5,FALSE)","v":195},14,3,17,"14#1955|3#600|17#195"]
[{"$nulls":6},3001907,3006907,3011907,{"$f":"VLOOKUP(G1907,[1]RewardItemConfig!$B:$F,5,FALSE)","v":1956},{"$f":"VLOOKUP(H1907,[1]RewardItemConfig!$B:$F,5,FALSE)","v":600},{"$f":"VLOOKUP(I1907,[1]RewardItemConfig!$B:$F,5,FALSE)","v":195},14,3,17,"14#1956|3#600|17#195"]
[{"$nulls":6},3001908,3006908,3011908,{"$f":"VLOOKUP(G1908,[1]RewardItemConfig!$B:$F,5,FALSE)","v":1957},{"$f":"VLOOKUP(H1908,[1]RewardItemConfig!$B:$F,5,FALSE)","v":600},{"$f":"VLOOKUP(I1908,[1]RewardItemConfig!$B:$F,5,FALSE)","v":195},14,3,17,"14#1957|3#600|17#195"]
[{"$nulls":6},3001909,3006909,3011909,{"$f":"VLOOKUP(G1909,[1]RewardItemConfig!$B:$F,5,FALSE)","v":1958},{"$f":"VLOOKUP(H1909,[1]RewardItemConfig!$B:$F,5,FALSE)","v":600},{"$f":"VLOOKUP(I1909,[1]RewardItemConfig!$B:$F,5,FALSE)","v":195},14,3,17,"14#1958|3#600|17#195"]
[{"$nulls":6},3001910,3006910,3011910,{"$f":"VLOOKUP(G1910,[1]RewardItemConfig!$B:$F,5,FALSE)","v":1959},{"$f":"VLOOKUP(H1910,[1]RewardItemConfig!$B:$F,5,FALSE)","v":605},{"$f":"VLOOKUP(I1910,[1]RewardItemConfig!$B:$F,5,FALSE)","v":196},14,3,17,"14#1959|3#605|17#196"]
[{"$nulls":6},3001911,3006911,3011911,{"$f":"VLOOKUP(G1911,[1]RewardItemConfig!$B:$F,5,FALSE)","v":1960},{"$f":"VLOOKUP(H1911,[1]RewardItemConfig!$B:$F,5,FALSE)","v":605},{"$f":"VLOOKUP(I1911,[1]RewardItemConfig!$B:$F,5,FALSE)","v":196},14,3,17,"14#1960|3#605|17#196"]
[{"$nulls":6},3001912,3006912,3011912,{"$f":"VLOOKUP(G1912,[1]RewardItemConfig!$B:$F,5,FALSE)","v":1961},{"$f":"VLOOKUP(H1912,[1]RewardItemConfig!$B:$F,5,FALSE)","v":605},{"$f":"VLOOKUP(I1912,[1]RewardItemConfig!$B:$F,5,FALSE)","v":196},14,3,17,"14#1961|3#605|17#196"]
[{"$nulls":6},3001913,3006913,3011913,{"$f":"VLOOKUP(G1913,[1]RewardItemConfig!$B:$F,5,FALSE)","v":1962},{"$f":"VLOOKUP(H1913,[1]RewardItemConfig!$B:$F,5,FALSE)","v":605},{"$f":"VLOOKUP(I1913,[1]RewardItemConfig!$B:$F,5,FALSE)","v":196},14,3,17,"14#1962|3#605|17#196"]
[{"$nulls":6},3001914,3006914,3011914,{"$f":"VLOOKUP(G1914,[1]RewardItemConfig!$B:$F,5,FALSE)","v":1963},{"$f":"VLOOKUP(H1914,[1]RewardItemConfig!$B:$F,5,FALSE)","v":605},{"$f":"VLOOKUP(I1914,[1]RewardItemConfig!$B:$F,5,FALSE)","v":196},14,3,17,"14#1963|3#605|17#196"]
[{"$nulls":6},3001915,3006915,3011915,{"$f":"VLOOKUP(G1915,[1]RewardItemConfig!$B:$F,5,FALSE)","v":1964},{"$f":"VLOOKUP(H1915,[1]RewardItemConfig!$B:$F,5,FALSE)","v":605},{"$f":"VLOOKUP(I1915,[1]RewardItemConfig!$B:$F,5,FALSE)","v":196},14,3,17,"14#1964|3#605|17#196"]
[{"$nulls":6},3001916,3006916,3011916,{"$f":"VLOOKUP(G1916,[1]RewardItemConfig!$B:$F,5,FALSE)","v":1965},{"$f":"VLOOKUP(H1916,[1]RewardItemConfig!$B:$F,5,FALSE)","v":605},{"$f":"VLOOKUP(I1916,[1]RewardItemConfig!$B:$F,5,FALSE)","v":196},14,3,17,"14#1965|3#605|17#196"]
[{"$nulls":6},3001917,3006917,3011917,{"$f":"VLOOKUP(G1917,[1]RewardItemConfig!$B:$F,5,FALSE)","v":1966},{"$f":"VLOOKUP(H1917,[1]RewardItemConfig!$B:$F,5,FALSE)","v":605},{"$f":"VLOOKUP(I1917,[1]RewardItemConfig!$B:$F,5,FALSE)","v":196},14,3,17,"14#1966|3#605|17#196"]
[{"$nulls":6},3001918,3006918,3011918,{"$f":"VLOOKUP(G1918,[1]RewardItemConfig!$B:$F,5,FALSE)","v":1967},{"$f":"VLOOKUP(H1918,[1]RewardItemConfig!$B:$F,5,FALSE)","v":605},{"$f":"VLOOKUP(I1918,[1]RewardItemConfig!$B:$F,5,FALSE)","v":196},14,3,17,"14#1967|3#605|17#196"]
[{"$nulls":6},3001919,3006919,3011919,{"$f":"VLOOKUP(G1919,[1]RewardItemConfig!$B:$F,5,FALSE)","v":1968},{"$f":"VLOOKUP(H1919,[1]RewardItemConfig!$B:$F,5,FALSE)","v":605},{"$f":"VLOOKUP(I1919,[1]RewardItemConfig!$B:$F,5,FALSE)","v":196},14,3,17,"14#1968|3#605|17#196"]
[{"$nulls":6},3001920,3006920,3011920,{"$f":"VLOOKUP(G1920,[1]RewardItemConfig!$B:$F,5,FALSE)","v":1969},{"$f":"VLOOKUP(H1920,[1]RewardItemConfig!$B:$F,5,FALSE)","v":610},{"$f":"VLOOKUP(I1920,[1]RewardItemConfig!$B:$F,5,FALSE)","v":197},14,3,17,"14#1969|3#610|17#197"]
[{"$nulls":6},3001921,3006921,3011921,{"$f":"VLOOKUP(G1921,[1]RewardItemConfig!$B:$F,5,FALSE)","v":1970},{"$f":"VLOOKUP(H1921,[1]RewardItemConfig!$B:$F,5,FALSE)","v":610},{"$f":"VLOOKUP(I1921,[1]RewardItemConfig!$B:$F,5,FALSE)","v":197},14,3,17,"14#1970|3#610|17#197"]
[{"$nulls":6},3001922,3006922,3011922,{"$f":"VLOOKUP(G1922,[1]RewardItemConfig!$B:$F,5,FALSE)","v":1971},{"$f":"VLOOKUP(H1922,[1]RewardItemConfig!$B:$F,5,FALSE)","v":610},{"$f":"VLOOKUP(I1922,[1]RewardItemConfig!$B:$F,5,FALSE)","v":197},14,3,17,{"$f":"M1922&\"#\"&J1922&\"|\"&N1922&\"#\"&K1922&\"|\"&O1922&\"#\"&L1922","v":"14#1971|3#610|17#197"}]
[{"$nulls":6},3001923,3006923,3011923,{"$f":"VLOOKUP(G1923,[1]RewardItemConfig!$B:$F,5,FALSE)","v":1972},{"$f":"VLOOKUP(H1923,[1]RewardItemConfig!$B:$F,5,FALSE)","v":610},{"$f":"VLOOKUP(I1923,[1]RewardItemConfig!$B:$F,5,FALSE)","v":197},{"$f":"M1922","v":14},{"$f":"N1922","v":3},{"$f":"O1922","v":17},"14#1972|3#610|17#197"]
[{"$nulls":6},3001924,3006924,3011924,{"$f":"VLOOKUP(G1924,[1]RewardItemConfig!$B:$F,5,FALSE)","v":1973},{"$f":"VLOOKUP(H1924,[1]RewardItemConfig!$B:$F,5,FALSE)","v":610},{"$f":"VLOOKUP(I1924,[1]RewardItemConfig!$B:$F,5,FALSE)","v":197},14,3,17,"14#1973|3#610|17#197"]
[{"$nulls":6},3001925,3006925,3011925,{"$f":"VLOOKUP(G1925,[1]RewardItemConfig!$B:$F,5,FALSE)","v":1974},{"$f":"VLOOKUP(H1925,[1]RewardItemConfig!$B:$F,5,FALSE)","v":610},{"$f":"VLOOKUP(I1925,[1]RewardItemConfig!$B:$F,5,FALSE)","v":197},14,3,17,"14#1974|3#610|17#197"]
[{"$nulls":6},3001926,3006926,3011926,{"$f":"VLOOKUP(G1926,[1]RewardItemConfig!$B:$F,5,FALSE)","v":1975},{"$f":"VLOOKUP(H1926,[1]RewardItemConfig!$B:$F,5,FALSE)","v":610},{"$f":"VLOOKUP(I1926,[1]RewardItemConfig!$B:$F,5,FALSE)","v":197},14,3,17,"14#1975|3#610|17#197"]
[{"$nulls":6},3001927,3006927,3011927,{"$f":"VLOOKUP(G1927,[1]RewardItemConfig!$B:$F,5,FALSE)","v":1976},{"$f":"VLOOKUP(H1927,[1]RewardItemConfig!$B:$F,5,FALSE)","v":610},{"$f":"VLOOKUP(I1927,[1]RewardItemConfig!$B:$F,5,FALSE)","v":197},14,3,17,"14#1976|3#610|17#197"]
[{"$nulls":6},3001928,3006928,3011928,{"$f":"VLOOKUP(G1928,[1]RewardItemConfig!$B:$F,5,FALSE)","v":1977},{"$f":"VLOOKUP(H1928,[1]RewardItemConfig!$B:$F,5,FALSE)","v":610},{"$f":"VLOOKUP(I1928,[1]RewardItemConfig!$B:$F,5,FALSE)","v":197},14,3,17,"14#1977|3#610|17#197"]
[{"$nulls":6},3001929,3006929,3011929,{"$f":"VLOOKUP(G1929,[1]RewardItemConfig!$B:$F,5,FALSE)","v":1978},{"$f":"VLOOKUP(H1929,[1]RewardItemConfig!$B:$F,5,FALSE)","v":610},{"$f":"VLOOKUP(I1929,[1]RewardItemConfig!$B:$F,5,FALSE)","v":197},14,3,17,"14#1978|3#610|17#197"]
[{"$nulls":6},3001930,3006930,3011930,{"$f":"VLOOKUP(G1930,[1]RewardItemConfig!$B:$F,5,FALSE)","v":1979},{"$f":"VLOOKUP(H1930,[1]RewardItemConfig!$B:$F,5,FALSE)","v":615},{"$f":"VLOOKUP(I1930,[1]RewardItemConfig!$B:$F,5,FALSE)","v":198},14,3,17,"14#1979|3#615|17#198"]
[{"$nulls":6},3001931,3006931,3011931,{"$f":"VLOOKUP(G1931,[1]RewardItemConfig!$B:$F,5,FALSE)","v":1980},{"$f":"VLOOKUP(H1931,[1]RewardItemConfig!$B:$F,5,FALSE)","v":615},{"$f":"VLOOKUP(I1931,[1]RewardItemConfig!$B:$F,5,FALSE)","v":198},14,3,17,"14#1980|3#615|17#198"]
[{"$nulls":6},3001932,3006932,3011932,{"$f":"VLOOKUP(G1932,[1]RewardItemConfig!$B:$F,5,FALSE)","v":1981},{"$f":"VLOOKUP(H1932,[1]RewardItemConfig!$B:$F,5,FALSE)","v":615},{"$f":"VLOOKUP(I1932,[1]RewardItemConfig!$B:$F,5,FALSE)","v":198},14,3,17,"14#1981|3#615|17#198"]
[{"$nulls":6},3001933,3006933,3011933,{"$f":"VLOOKUP(G1933,[1]RewardItemConfig!$B:$F,5,FALSE)","v":1982},{"$f":"VLOOKUP(H1933,[1]RewardItemConfig!$B:$F,5,FALSE)","v":615},{"$f":"VLOOKUP(I1933,[1]RewardItemConfig!$B:$F,5,FALSE)","v":198},14,3,17,"14#1982|3#615|17#198"]
[{"$nulls":6},3001934,3006934,3011934,{"$f":"VLOOKUP(G1934,[1]RewardItemConfig!$B:$F,5,FALSE)","v":1983},{"$f":"VLOOKUP(H1934,[1]RewardItemConfig!$B:$F,5,FALSE)","v":615},{"$f":"VLOOKUP(I1934,[1]RewardItemConfig!$B:$F,5,FALSE)","v":198},14,3,17,"14#1983|3#615|17#198"]
[{"$nulls":6},3001935,3006935,3011935,{"$f":"VLOOKUP(G1935,[1]RewardItemConfig!$B:$F,5,FALSE)","v":1984},{"$f":"VLOOKUP(H1935,[1]RewardItemConfig!$B:$F,5,FALSE)","v":615},{"$f":"VLOOKUP(I1935,[1]RewardItemConfig!$B:$F,5,FALSE)","v":198},14,3,17,"14#1984|3#615|17#198"]
[{"$nulls":6},3001936,3006936,3011936,{"$f":"VLOOKUP(G1936,[1]RewardItemConfig!$B:$F,5,FALSE)","v":1985},{"$f":"VLOOKUP(H1936,[1]RewardItemConfig!$B:$F,5,FALSE)","v":615},{"$f":"VLOOKUP(I1936,[1]RewardItemConfig!$B:$F,5,FALSE)","v":198},14,3,17,"14#1985|3#615|17#198"]
[{"$nulls":6},3001937,3006937,3011937,{"$f":"VLOOKUP(G1937,[1]RewardItemConfig!$B:$F,5,FALSE)","v":1986},{"$f":"VLOOKUP(H1937,[1]RewardItemConfig!$B:$F,5,FALSE)","v":615},{"$f":"VLOOKUP(I1937,[1]RewardItemConfig!$B:$F,5,FALSE)","v":198},14,3,17,"14#1986|3#615|17#198"]
[{"$nulls":6},3001938,3006938,3011938,{"$f":"VLOOKUP(G1938,[1]RewardItemConfig!$B:$F,5,FALSE)","v":1987},{"$f":"VLOOKUP(H1938,[1]RewardItemConfig!$B:$F,5,FALSE)","v":615},{"$f":"VLOOKUP(I1938,[1]RewardItemConfig!$B:$F,5,FALSE)","v":198},14,3,17,"14#1987|3#615|17#198"]
[{"$nulls":6},3001939,3006939,3011939,{"$f":"VLOOKUP(G1939,[1]RewardItemConfig!$B:$F,5,FALSE)","v":1988},{"$f":"VLOOKUP(H1939,[1]RewardItemConfig!$B:$F,5,FALSE)","v":615},{"$f":"VLOOKUP(I1939,[1]RewardItemConfig!$B:$F,5,FALSE)","v":198},14,3,17,"14#1988|3#615|17#198"]
[{"$nulls":6},3001940,3006940,3011940,{"$f":"VLOOKUP(G1940,[1]RewardItemConfig!$B:$F,5,FALSE)","v":1989},{"$f":"VLOOKUP(H1940,[1]RewardItemConfig!$B:$F,5,FALSE)","v":620},{"$f":"VLOOKUP(I1940,[1]RewardItemConfig!$B:$F,5,FALSE)","v":199},14,3,17,"14#1989|3#620|17#199"]
[{"$nulls":6},3001941,3006941,3011941,{"$f":"VLOOKUP(G1941,[1]RewardItemConfig!$B:$F,5,FALSE)","v":1990},{"$f":"VLOOKUP(H1941,[1]RewardItemConfig!$B:$F,5,FALSE)","v":620},{"$f":"VLOOKUP(I1941,[1]RewardItemConfig!$B:$F,5,FALSE)","v":199},14,3,17,"14#1990|3#620|17#199"]
[{"$nulls":6},3001942,3006942,3011942,{"$f":"VLOOKUP(G1942,[1]RewardItemConfig!$B:$F,5,FALSE)","v":1991},{"$f":"VLOOKUP(H1942,[1]RewardItemConfig!$B:$F,5,FALSE)","v":620},{"$f":"VLOOKUP(I1942,[1]RewardItemConfig!$B:$F,5,FALSE)","v":199},14,3,17,"14#1991|3#620|17#199"]
[{"$nulls":6},3001943,3006943,3011943,{"$f":"VLOOKUP(G1943,[1]RewardItemConfig!$B:$F,5,FALSE)","v":1992},{"$f":"VLOOKUP(H1943,[1]RewardItemConfig!$B:$F,5,FALSE)","v":620},{"$f":"VLOOKUP(I1943,[1]RewardItemConfig!$B:$F,5,FALSE)","v":199},14,3,17,"14#1992|3#620|17#199"]
[{"$nulls":6},3001944,3006944,3011944,{"$f":"VLOOKUP(G1944,[1]RewardItemConfig!$B:$F,5,FALSE)","v":1993},{"$f":"VLOOKUP(H1944,[1]RewardItemConfig!$B:$F,5,FALSE)","v":620},{"$f":"VLOOKUP(I1944,[1]RewardItemConfig!$B:$F,5,FALSE)","v":199},14,3,17,"14#1993|3#620|17#199"]
[{"$nulls":6},3001945,3006945,3011945,{"$f":"VLOOKUP(G1945,[1]RewardItemConfig!$B:$F,5,FALSE)","v":1994},{"$f":"VLOOKUP(H1945,[1]RewardItemConfig!$B:$F,5,FALSE)","v":620},{"$f":"VLOOKUP(I1945,[1]RewardItemConfig!$B:$F,5,FALSE)","v":199},14,3,17,"14#1994|3#620|17#199"]
[{"$nulls":6},3001946,3006946,3011946,{"$f":"VLOOKUP(G1946,[1]RewardItemConfig!$B:$F,5,FALSE)","v":1995},{"$f":"VLOOKUP(H1946,[1]RewardItemConfig!$B:$F,5,FALSE)","v":620},{"$f":"VLOOKUP(I1946,[1]RewardItemConfig!$B:$F,5,FALSE)","v":199},14,3,17,"14#1995|3#620|17#199"]
[{"$nulls":6},3001947,3006947,3011947,{"$f":"VLOOKUP(G1947,[1]RewardItemConfig!$B:$F,5,FALSE)","v":1996},{"$f":"VLOOKUP(H1947,[1]RewardItemConfig!$B:$F,5,FALSE)","v":620},{"$f":"VLOOKUP(I1947,[1]RewardItemConfig!$B:$F,5,FALSE)","v":199},14,3,17,"14#1996|3#620|17#199"]
[{"$nulls":6},3001948,3006948,3011948,{"$f":"VLOOKUP(G1948,[1]RewardItemConfig!$B:$F,5,FALSE)","v":1997},{"$f":"VLOOKUP(H1948,[1]RewardItemConfig!$B:$F,5,FALSE)","v":620},{"$f":"VLOOKUP(I1948,[1]RewardItemConfig!$B:$F,5,FALSE)","v":199},14,3,17,"14#1997|3#620|17#199"]
[{"$nulls":6},3001949,3006949,3011949,{"$f":"VLOOKUP(G1949,[1]RewardItemConfig!$B:$F,5,FALSE)","v":1998},{"$f":"VLOOKUP(H1949,[1]RewardItemConfig!$B:$F,5,FALSE)","v":620},{"$f":"VLOOKUP(I1949,[1]RewardItemConfig!$B:$F,5,FALSE)","v":199},14,3,17,"14#1998|3#620|17#199"]
[{"$nulls":6},3001950,3006950,3011950,{"$f":"VLOOKUP(G1950,[1]RewardItemConfig!$B:$F,5,FALSE)","v":1999},{"$f":"VLOOKUP(H1950,[1]RewardItemConfig!$B:$F,5,FALSE)","v":630},{"$f":"VLOOKUP(I1950,[1]RewardItemConfig!$B:$F,5,FALSE)","v":200},14,3,17,"14#1999|3#630|17#200"]
[{"$nulls":6},3001951,3006951,3011951,{"$f":"VLOOKUP(G1951,[1]RewardItemConfig!$B:$F,5,FALSE)","v":2000},{"$f":"VLOOKUP(H1951,[1]RewardItemConfig!$B:$F,5,FALSE)","v":630},{"$f":"VLOOKUP(I1951,[1]RewardItemConfig!$B:$F,5,FALSE)","v":200},14,3,17,"14#2000|3#630|17#200"]
[{"$nulls":6},3001952,3006952,3011952,{"$f":"VLOOKUP(G1952,[1]RewardItemConfig!$B:$F,5,FALSE)","v":2001},{"$f":"VLOOKUP(H1952,[1]RewardItemConfig!$B:$F,5,FALSE)","v":630},{"$f":"VLOOKUP(I1952,[1]RewardItemConfig!$B:$F,5,FALSE)","v":200},14,3,17,"14#2001|3#630|17#200"]
[{"$nulls":6},3001953,3006953,3011953,{"$f":"VLOOKUP(G1953,[1]RewardItemConfig!$B:$F,5,FALSE)","v":2002},{"$f":"VLOOKUP(H1953,[1]RewardItemConfig!$B:$F,5,FALSE)","v":630},{"$f":"VLOOKUP(I1953,[1]RewardItemConfig!$B:$F,5,FALSE)","v":200},14,3,17,"14#2002|3#630|17#200"]
[{"$nulls":6},3001954,3006954,3011954,{"$f":"VLOOKUP(G1954,[1]RewardItemConfig!$B:$F,5,FALSE)","v":2003},{"$f":"VLOOKUP(H1954,[1]RewardItemConfig!$B:$F,5,FALSE)","v":630},{"$f":"VLOOKUP(I1954,[1]RewardItemConfig!$B:$F,5,FALSE)","v":200},14,3,17,"14#2003|3#630|17#200"]
[{"$nulls":6},3001955,3006955,3011955,{"$f":"VLOOKUP(G1955,[1]RewardItemConfig!$B:$F,5,FALSE)","v":2004},{"$f":"VLOOKUP(H1955,[1]RewardItemConfig!$B:$F,5,FALSE)","v":630},{"$f":"VLOOKUP(I1955,[1]RewardItemConfig!$B:$F,5,FALSE)","v":200},14,3,17,"14#2004|3#630|17#200"]
[{"$nulls":6},3001956,3006956,3011956,{"$f":"VLOOKUP(G1956,[1]RewardItemConfig!$B:$F,5,FALSE)","v":2005},{"$f":"VLOOKUP(H1956,[1]RewardItemConfig!$B:$F,5,FALSE)","v":630},{"$f":"VLOOKUP(I1956,[1]RewardItemConfig!$B:$F,5,FALSE)","v":200},14,3,17,"14#2005|3#630|17#200"]
[{"$nulls":6},3001957,3006957,3011957,{"$f":"VLOOKUP(G1957,[1]RewardItemConfig!$B:$F,5,FALSE)","v":2006},{"$f":"VLOOKUP(H1957,[1]RewardItemConfig!$B:$F,5,FALSE)","v":630},{"$f":"VLOOKUP(I1957,[1]RewardItemConfig!$B:$F,5,FALSE)","v":200},14,3,17,"14#2006|3#630|17#200"]
[{"$nulls":6},3001958,3006958,3011958,{"$f":"VLOOKUP(G1958,[1]RewardItemConfig!$B:$F,5,FALSE)","v":2007},{"$f":"VLOOKUP(H1958,[1]RewardItemConfig!$B:$F,5,FALSE)","v":630},{"$f":"VLOOKUP(I1958,[1]RewardItemConfig!$B:$F,5,FALSE)","v":200},14,3,17,"14#2007|3#630|17#200"]
[{"$nulls":6},3001959,3006959,3011959,{"$f":"VLOOKUP(G1959,[1]RewardItemConfig!$B:$F,5,FALSE)","v":2008},{"$f":"VLOOKUP(H1959,[1]RewardItemConfig!$B:$F,5,FALSE)","v":630},{"$f":"VLOOKUP(I1959,[1]RewardItemConfig!$B:$F,5,FALSE)","v":200},14,3,17,"14#2008|3#630|17#200"]
[{"$nulls":6},3001960,3006960,3011960,{"$f":"VLOOKUP(G1960,[1]RewardItemConfig!$B:$F,5,FALSE)","v":2009},{"$f":"VLOOKUP(H1960,[1]RewardItemConfig!$B:$F,5,FALSE)","v":640},{"$f":"VLOOKUP(I1960,[1]RewardItemConfig!$B:$F,5,FALSE)","v":201},14,3,17,"14#2009|3#640|17#201"]
[{"$nulls":6},3001961,3006961,3011961,{"$f":"VLOOKUP(G1961,[1]RewardItemConfig!$B:$F,5,FALSE)","v":2010},{"$f":"VLOOKUP(H1961,[1]RewardItemConfig!$B:$F,5,FALSE)","v":640},{"$f":"VLOOKUP(I1961,[1]RewardItemConfig!$B:$F,5,FALSE)","v":201},14,3,17,"14#2010|3#640|17#201"]
[{"$nulls":6},3001962,3006962,3011962,{"$f":"VLOOKUP(G1962,[1]RewardItemConfig!$B:$F,5,FALSE)","v":2011},{"$f":"VLOOKUP(H1962,[1]RewardItemConfig!$B:$F,5,FALSE)","v":640},{"$f":"VLOOKUP(I1962,[1]RewardItemConfig!$B:$F,5,FALSE)","v":201},14,3,17,"14#2011|3#640|17#201"]
[{"$nulls":6},3001963,3006963,3011963,{"$f":"VLOOKUP(G1963,[1]RewardItemConfig!$B:$F,5,FALSE)","v":2012},{"$f":"VLOOKUP(H1963,[1]RewardItemConfig!$B:$F,5,FALSE)","v":640},{"$f":"VLOOKUP(I1963,[1]RewardItemConfig!$B:$F,5,FALSE)","v":201},14,3,17,"14#2012|3#640|17#201"]
[{"$nulls":6},3001964,3006964,3011964,{"$f":"VLOOKUP(G1964,[1]RewardItemConfig!$B:$F,5,FALSE)","v":2013},{"$f":"VLOOKUP(H1964,[1]RewardItemConfig!$B:$F,5,FALSE)","v":640},{"$f":"VLOOKUP(I1964,[1]RewardItemConfig!$B:$F,5,FALSE)","v":201},14,3,17,"14#2013|3#640|17#201"]
[{"$nulls":6},3001965,3006965,3011965,{"$f":"VLOOKUP(G1965,[1]RewardItemConfig!$B:$F,5,FALSE)","v":2014},{"$f":"VLOOKUP(H1965,[1]RewardItemConfig!$B:$F,5,FALSE)","v":640},{"$f":"VLOOKUP(I1965,[1]RewardItemConfig!$B:$F,5,FALSE)","v":201},14,3,17,"14#2014|3#640|17#201"]
[{"$nulls":6},3001966,3006966,3011966,{"$f":"VLOOKUP(G1966,[1]RewardItemConfig!$B:$F,5,FALSE)","v":2015},{"$f":"VLOOKUP(H1966,[1]RewardItemConfig!$B:$F,5,FALSE)","v":640},{"$f":"VLOOKUP(I1966,[1]RewardItemConfig!$B:$F,5,FALSE)","v":201},14,3,17,"14#2015|3#640|17#201"]
[{"$nulls":6},3001967,3006967,3011967,{"$f":"VLOOKUP(G1967,[1]RewardItemConfig!$B:$F,5,FALSE)","v":2016},{"$f":"VLOOKUP(H1967,[1]RewardItemConfig!$B:$F,5,FALSE)","v":640},{"$f":"VLOOKUP(I1967,[1]RewardItemConfig!$B:$F,5,FALSE)","v":201},14,3,17,"14#2016|3#640|17#201"]
[{"$nulls":6},3001968,3006968,3011968,{"$f":"VLOOKUP(G1968,[1]RewardItemConfig!$B:$F,5,FALSE)","v":2017},{"$f":"VLOOKUP(H1968,[1]RewardItemConfig!$B:$F,5,FALSE)","v":640},{"$f":"VLOOKUP(I1968,[1]RewardItemConfig!$B:$F,5,FALSE)","v":201},14,3,17,"14#2017|3#640|17#201"]
[{"$nulls":6},3001969,3006969,3011969,{"$f":"VLOOKUP(G1969,[1]RewardItemConfig!$B:$F,5,FALSE)","v":2018},{"$f":"VLOOKUP(H1969,[1]RewardItemConfig!$B:$F,5,FALSE)","v":640},{"$f":"VLOOKUP(I1969,[1]RewardItemConfig!$B:$F,5,FALSE)","v":201},14,3,17,"14#2018|3#640|17#201"]
[{"$nulls":6},3001970,3006970,3011970,{"$f":"VLOOKUP(G1970,[1]RewardItemConfig!$B:$F,5,FALSE)","v":2019},{"$f":"VLOOKUP(H1970,[1]RewardItemConfig!$B:$F,5,FALSE)","v":650},{"$f":"VLOOKUP(I1970,[1]RewardItemConfig!$B:$F,5,FALSE)","v":202},14,3,17,"14#2019|3#650|17#202"]
[{"$nulls":6},3001971,3006971,3011971,{"$f":"VLOOKUP(G1971,[1]RewardItemConfig!$B:$F,5,FALSE)","v":2020},{"$f":"VLOOKUP(H1971,[1]RewardItemConfig!$B:$F,5,FALSE)","v":650},{"$f":"VLOOKUP(I1971,[1]RewardItemConfig!$B:$F,5,FALSE)","v":202},14,3,17,"14#2020|3#650|17#202"]
[{"$nulls":6},3001972,3006972,3011972,{"$f":"VLOOKUP(G1972,[1]RewardItemConfig!$B:$F,5,FALSE)","v":2021},{"$f":"VLOOKUP(H1972,[1]RewardItemConfig!$B:$F,5,FALSE)","v":650},{"$f":"VLOOKUP(I1972,[1]RewardItemConfig!$B:$F,5,FALSE)","v":202},14,3,17,"14#2021|3#650|17#202"]
[{"$nulls":6},3001973,3006973,3011973,{"$f":"VLOOKUP(G1973,[1]RewardItemConfig!$B:$F,5,FALSE)","v":2022},{"$f":"VLOOKUP(H1973,[1]RewardItemConfig!$B:$F,5,FALSE)","v":650},{"$f":"VLOOKUP(I1973,[1]RewardItemConfig!$B:$F,5,FALSE)","v":202},14,3,17,"14#2022|3#650|17#202"]
[{"$nulls":6},3001974,3006974,3011974,{"$f":"VLOOKUP(G1974,[1]RewardItemConfig!$B:$F,5,FALSE)","v":2023},{"$f":"VLOOKUP(H1974,[1]RewardItemConfig!$B:$F,5,FALSE)","v":650},{"$f":"VLOOKUP(I1974,[1]RewardItemConfig!$B:$F,5,FALSE)","v":202},14,3,17,"14#2023|3#650|17#202"]
[{"$nulls":6},3001975,3006975,3011975,{"$f":"VLOOKUP(G1975,[1]RewardItemConfig!$B:$F,5,FALSE)","v":2024},{"$f":"VLOOKUP(H1975,[1]RewardItemConfig!$B:$F,5,FALSE)","v":650},{"$f":"VLOOKUP(I1975,[1]RewardItemConfig!$B:$F,5,FALSE)","v":202},14,3,17,"14#2024|3#650|17#202"]
[{"$nulls":6},3001976,3006976,3011976,{"$f":"VLOOKUP(G1976,[1]RewardItemConfig!$B:$F,5,FALSE)","v":2025},{"$f":"VLOOKUP(H1976,[1]RewardItemConfig!$B:$F,5,FALSE)","v":650},{"$f":"VLOOKUP(I1976,[1]RewardItemConfig!$B:$F,5,FALSE)","v":202},14,3,17,"14#2025|3#650|17#202"]
[{"$nulls":6},3001977,3006977,3011977,{"$f":"VLOOKUP(G1977,[1]RewardItemConfig!$B:$F,5,FALSE)","v":2026},{"$f":"VLOOKUP(H1977,[1]RewardItemConfig!$B:$F,5,FALSE)","v":650},{"$f":"VLOOKUP(I1977,[1]RewardItemConfig!$B:$F,5,FALSE)","v":202},14,3,17,"14#2026|3#650|17#202"]
[{"$nulls":6},3001978,3006978,3011978,{"$f":"VLOOKUP(G1978,[1]RewardItemConfig!$B:$F,5,FALSE)","v":2027},{"$f":"VLOOKUP(H1978,[1]RewardItemConfig!$B:$F,5,FALSE)","v":650},{"$f":"VLOOKUP(I1978,[1]RewardItemConfig!$B:$F,5,FALSE)","v":202},14,3,17,"14#2027|3#650|17#202"]
[{"$nulls":6},3001979,3006979,3011979,{"$f":"VLOOKUP(G1979,[1]RewardItemConfig!$B:$F,5,FALSE)","v":2028},{"$f":"VLOOKUP(H1979,[1]RewardItemConfig!$B:$F,5,FALSE)","v":650},{"$f":"VLOOKUP(I1979,[1]RewardItemConfig!$B:$F,5,FALSE)","v":202},14,3,17,"14#2028|3#650|17#202"]
[{"$nulls":6},3001980,3006980,3011980,{"$f":"VLOOKUP(G1980,[1]RewardItemConfig!$B:$F,5,FALSE)","v":2029},{"$f":"VLOOKUP(H1980,[1]RewardItemConfig!$B:$F,5,FALSE)","v":660},{"$f":"VLOOKUP(I1980,[1]RewardItemConfig!$B:$F,5,FALSE)","v":203},14,3,17,"14#2029|3#660|17#203"]
[{"$nulls":6},3001981,3006981,3011981,{"$f":"VLOOKUP(G1981,[1]RewardItemConfig!$B:$F,5,FALSE)","v":2030},{"$f":"VLOOKUP(H1981,[1]RewardItemConfig!$B:$F,5,FALSE)","v":660},{"$f":"VLOOKUP(I1981,[1]RewardItemConfig!$B:$F,5,FALSE)","v":203},14,3,17,"14#2030|3#660|17#203"]
[{"$nulls":6},3001982,3006982,3011982,{"$f":"VLOOKUP(G1982,[1]RewardItemConfig!$B:$F,5,FALSE)","v":2031},{"$f":"VLOOKUP(H1982,[1]RewardItemConfig!$B:$F,5,FALSE)","v":660},{"$f":"VLOOKUP(I1982,[1]RewardItemConfig!$B:$F,5,FALSE)","v":203},14,3,17,"14#2031|3#660|17#203"]
[{"$nulls":6},3001983,3006983,3011983,{"$f":"VLOOKUP(G1983,[1]RewardItemConfig!$B:$F,5,FALSE)","v":2032},{"$f":"VLOOKUP(H1983,[1]RewardItemConfig!$B:$F,5,FALSE)","v":660},{"$f":"VLOOKUP(I1983,[1]RewardItemConfig!$B:$F,5,FALSE)","v":203},14,3,17,"14#2032|3#660|17#203"]
[{"$nulls":6},3001984,3006984,3011984,{"$f":"VLOOKUP(G1984,[1]RewardItemConfig!$B:$F,5,FALSE)","v":2033},{"$f":"VLOOKUP(H1984,[1]RewardItemConfig!$B:$F,5,FALSE)","v":660},{"$f":"VLOOKUP(I1984,[1]RewardItemConfig!$B:$F,5,FALSE)","v":203},14,3,17,"14#2033|3#660|17#203"]
[{"$nulls":6},3001985,3006985,3011985,{"$f":"VLOOKUP(G1985,[1]RewardItemConfig!$B:$F,5,FALSE)","v":2034},{"$f":"VLOOKUP(H1985,[1]RewardItemConfig!$B:$F,5,FALSE)","v":660},{"$f":"VLOOKUP(I1985,[1]RewardItemConfig!$B:$F,5,FALSE)","v":203},14,3,17,"14#2034|3#660|17#203"]
[{"$nulls":6},3001986,3006986,3011986,{"$f":"VLOOKUP(G1986,[1]RewardItemConfig!$B:$F,5,FALSE)","v":2035},{"$f":"VLOOKUP(H1986,[1]RewardItemConfig!$B:$F,5,FALSE)","v":660},{"$f":"VLOOKUP(I1986,[1]RewardItemConfig!$B:$F,5,FALSE)","v":203},14,3,17,{"$f":"M1986&\"#\"&J1986&\"|\"&N1986&\"#\"&K1986&\"|\"&O1986&\"#\"&L1986","v":"14#2035|3#660|17#203"}]
[{"$nulls":6},3001987,3006987,3011987,{"$f":"VLOOKUP(G1987,[1]RewardItemConfig!$B:$F,5,FALSE)","v":2036},{"$f":"VLOOKUP(H1987,[1]RewardItemConfig!$B:$F,5,FALSE)","v":660},{"$f":"VLOOKUP(I1987,[1]RewardItemConfig!$B:$F,5,FALSE)","v":203},{"$f":"M1986","v":14},{"$f":"N1986","v":3},{"$f":"O1986","v":17},"14#2036|3#660|17#203"]
[{"$nulls":6},3001988,3006988,3011988,{"$f":"VLOOKUP(G1988,[1]RewardItemConfig!$B:$F,5,FALSE)","v":2037},{"$f":"VLOOKUP(H1988,[1]RewardItemConfig!$B:$F,5,FALSE)","v":660},{"$f":"VLOOKUP(I1988,[1]RewardItemConfig!$B:$F,5,FALSE)","v":203},14,3,17,"14#2037|3#660|17#203"]
[{"$nulls":6},3001989,3006989,3011989,{"$f":"VLOOKUP(G1989,[1]RewardItemConfig!$B:$F,5,FALSE)","v":2038},{"$f":"VLOOKUP(H1989,[1]RewardItemConfig!$B:$F,5,FALSE)","v":660},{"$f":"VLOOKUP(I1989,[1]RewardItemConfig!$B:$F,5,FALSE)","v":203},14,3,17,"14#2038|3#660|17#203"]
[{"$nulls":6},3001990,3006990,3011990,{"$f":"VLOOKUP(G1990,[1]RewardItemConfig!$B:$F,5,FALSE)","v":2039},{"$f":"VLOOKUP(H1990,[1]RewardItemConfig!$B:$F,5,FALSE)","v":670},{"$f":"VLOOKUP(I1990,[1]RewardItemConfig!$B:$F,5,FALSE)","v":204},14,3,17,"14#2039|3#670|17#204"]
[{"$nulls":6},3001991,3006991,3011991,{"$f":"VLOOKUP(G1991,[1]RewardItemConfig!$B:$F,5,FALSE)","v":2040},{"$f":"VLOOKUP(H1991,[1]RewardItemConfig!$B:$F,5,FALSE)","v":670},{"$f":"VLOOKUP(I1991,[1]RewardItemConfig!$B:$F,5,FALSE)","v":204},14,3,17,"14#2040|3#670|17#204"]
[{"$nulls":6},3001992,3006992,3011992,{"$f":"VLOOKUP(G1992,[1]RewardItemConfig!$B:$F,5,FALSE)","v":2041},{"$f":"VLOOKUP(H1992,[1]RewardItemConfig!$B:$F,5,FALSE)","v":670},{"$f":"VLOOKUP(I1992,[1]RewardItemConfig!$B:$F,5,FALSE)","v":204},14,3,17,"14#2041|3#670|17#204"]
[{"$nulls":6},3001993,3006993,3011993,{"$f":"VLOOKUP(G1993,[1]RewardItemConfig!$B:$F,5,FALSE)","v":2042},{"$f":"VLOOKUP(H1993,[1]RewardItemConfig!$B:$F,5,FALSE)","v":670},{"$f":"VLOOKUP(I1993,[1]RewardItemConfig!$B:$F,5,FALSE)","v":204},14,3,17,"14#2042|3#670|17#204"]
[{"$nulls":6},3001994,3006994,3011994,{"$f":"VLOOKUP(G1994,[1]RewardItemConfig!$B:$F,5,FALSE)","v":2043},{"$f":"VLOOKUP(H1994,[1]RewardItemConfig!$B:$F,5,FALSE)","v":670},{"$f":"VLOOKUP(I1994,[1]RewardItemConfig!$B:$F,5,FALSE)","v":204},14,3,17,"14#2043|3#670|17#204"]
[{"$nulls":6},3001995,3006995,3011995,{"$f":"VLOOKUP(G1995,[1]RewardItemConfig!$B:$F,5,FALSE)","v":2044},{"$f":"VLOOKUP(H1995,[1]RewardItemConfig!$B:$F,5,FALSE)","v":670},{"$f":"VLOOKUP(I1995,[1]RewardItemConfig!$B:$F,5,FALSE)","v":204},14,3,17,"14#2044|3#670|17#204"]
[{"$nulls":6},3001996,3006996,3011996,{"$f":"VLOOKUP(G1996,[1]RewardItemConfig!$B:$F,5,FALSE)","v":2045},{"$f":"VLOOKUP(H1996,[1]RewardItemConfig!$B:$F,5,FALSE)","v":670},{"$f":"VLOOKUP(I1996,[1]RewardItemConfig!$B:$F,5,FALSE)","v":204},14,3,17,"14#2045|3#670|17#204"]
[{"$nulls":6},3001997,3006997,3011997,{"$f":"VLOOKUP(G1997,[1]RewardItemConfig!$B:$F,5,FALSE)","v":2046},{"$f":"VLOOKUP(H1997,[1]RewardItemConfig!$B:$F,5,FALSE)","v":670},{"$f":"VLOOKUP(I1997,[1]RewardItemConfig!$B:$F,5,FALSE)","v":204},14,3,17,"14#2046|3#670|17#204"]
[{"$nulls":6},3001998,3006998,3011998,{"$f":"VLOOKUP(G1998,[1]RewardItemConfig!$B:$F,5,FALSE)","v":2047},{"$f":"VLOOKUP(H1998,[1]RewardItemConfig!$B:$F,5,FALSE)","v":670},{"$f":"VLOOKUP(I1998,[1]RewardItemConfig!$B:$F,5,FALSE)","v":204},14,3,17,"14#2047|3#670|17#204"]
[{"$nulls":6},3001999,3006999,3011999,{"$f":"VLOOKUP(G1999,[1]RewardItemConfig!$B:$F,5,FALSE)","v":2048},{"$f":"VLOOKUP(H1999,[1]RewardItemConfig!$B:$F,5,FALSE)","v":670},{"$f":"VLOOKUP(I1999,[1]RewardItemConfig!$B:$F,5,FALSE)","v":204},14,3,17,"14#2048|3#670|17#204"]
[{"$nulls":6},3002000,3007000,3012000,{"$f":"VLOOKUP(G2000,[1]RewardItemConfig!$B:$F,5,FALSE)","v":2049},{"$f":"VLOOKUP(H2000,[1]RewardItemConfig!$B:$F,5,FALSE)","v":680},{"$f":"VLOOKUP(I2000,[1]RewardItemConfig!$B:$F,5,FALSE)","v":205},14,3,17,"14#2049|3#680|17#205"]
[{"$nulls":6},3002001,3007001,3012001,{"$f":"VLOOKUP(G2001,[1]RewardItemConfig!$B:$F,5,FALSE)","v":2050},{"$f":"VLOOKUP(H2001,[1]RewardItemConfig!$B:$F,5,FALSE)","v":680},{"$f":"VLOOKUP(I2001,[1]RewardItemConfig!$B:$F,5,FALSE)","v":205},14,3,17,"14#2050|3#680|17#205"]
[{"$nulls":6},3002002,3007002,3012002,{"$f":"VLOOKUP(G2002,[1]RewardItemConfig!$B:$F,5,FALSE)","v":2051},{"$f":"VLOOKUP(H2002,[1]RewardItemConfig!$B:$F,5,FALSE)","v":680},{"$f":"VLOOKUP(I2002,[1]RewardItemConfig!$B:$F,5,FALSE)","v":205},14,3,17,"14#2051|3#680|17#205"]
[{"$nulls":6},3002003,3007003,3012003,{"$f":"VLOOKUP(G2003,[1]RewardItemConfig!$B:$F,5,FALSE)","v":2052},{"$f":"VLOOKUP(H2003,[1]RewardItemConfig!$B:$F,5,FALSE)","v":680},{"$f":"VLOOKUP(I2003,[1]RewardItemConfig!$B:$F,5,FALSE)","v":205},14,3,17,"14#2052|3#680|17#205"]
[{"$nulls":6},3002004,3007004,3012004,{"$f":"VLOOKUP(G2004,[1]RewardItemConfig!$B:$F,5,FALSE)","v":2053},{"$f":"VLOOKUP(H2004,[1]RewardItemConfig!$B:$F,5,FALSE)","v":680},{"$f":"VLOOKUP(I2004,[1]RewardItemConfig!$B:$F,5,FALSE)","v":205},14,3,17,"14#2053|3#680|17#205"]
[{"$nulls":6},3002005,3007005,3012005,{"$f":"VLOOKUP(G2005,[1]RewardItemConfig!$B:$F,5,FALSE)","v":2054},{"$f":"VLOOKUP(H2005,[1]RewardItemConfig!$B:$F,5,FALSE)","v":680},{"$f":"VLOOKUP(I2005,[1]RewardItemConfig!$B:$F,5,FALSE)","v":205},14,3,17,"14#2054|3#680|17#205"]
[{"$nulls":6},3002006,3007006,3012006,{"$f":"VLOOKUP(G2006,[1]RewardItemConfig!$B:$F,5,FALSE)","v":2055},{"$f":"VLOOKUP(H2006,[1]RewardItemConfig!$B:$F,5,FALSE)","v":680},{"$f":"VLOOKUP(I2006,[1]RewardItemConfig!$B:$F,5,FALSE)","v":205},14,3,17,"14#2055|3#680|17#205"]
[{"$nulls":6},3002007,3007007,3012007,{"$f":"VLOOKUP(G2007,[1]RewardItemConfig!$B:$F,5,FALSE)","v":2056},{"$f":"VLOOKUP(H2007,[1]RewardItemConfig!$B:$F,5,FALSE)","v":680},{"$f":"VLOOKUP(I2007,[1]RewardItemConfig!$B:$F,5,FALSE)","v":205},14,3,17,"14#2056|3#680|17#205"]
[{"$nulls":6},3002008,3007008,3012008,{"$f":"VLOOKUP(G2008,[1]RewardItemConfig!$B:$F,5,FALSE)","v":2057},{"$f":"VLOOKUP(H2008,[1]RewardItemConfig!$B:$F,5,FALSE)","v":680},{"$f":"VLOOKUP(I2008,[1]RewardItemConfig!$B:$F,5,FALSE)","v":205},14,3,17,"14#2057|3#680|17#205"]
[{"$nulls":6},3002009,3007009,3012009,{"$f":"VLOOKUP(G2009,[1]RewardItemConfig!$B:$F,5,FALSE)","v":2058},{"$f":"VLOOKUP(H2009,[1]RewardItemConfig!$B:$F,5,FALSE)","v":680},{"$f":"VLOOKUP(I2009,[1]RewardItemConfig!$B:$F,5,FALSE)","v":205},14,3,17,"14#2058|3#680|17#205"]
[{"$nulls":6},3002010,3007010,3012010,{"$f":"VLOOKUP(G2010,[1]RewardItemConfig!$B:$F,5,FALSE)","v":2059},{"$f":"VLOOKUP(H2010,[1]RewardItemConfig!$B:$F,5,FALSE)","v":690},{"$f":"VLOOKUP(I2010,[1]RewardItemConfig!$B:$F,5,FALSE)","v":206},14,3,17,"14#2059|3#690|17#206"]
[{"$nulls":6},3002011,3007011,3012011,{"$f":"VLOOKUP(G2011,[1]RewardItemConfig!$B:$F,5,FALSE)","v":2060},{"$f":"VLOOKUP(H2011,[1]RewardItemConfig!$B:$F,5,FALSE)","v":690},{"$f":"VLOOKUP(I2011,[1]RewardItemConfig!$B:$F,5,FALSE)","v":206},14,3,17,"14#2060|3#690|17#206"]
[{"$nulls":6},3002012,3007012,3012012,{"$f":"VLOOKUP(G2012,[1]RewardItemConfig!$B:$F,5,FALSE)","v":2061},{"$f":"VLOOKUP(H2012,[1]RewardItemConfig!$B:$F,5,FALSE)","v":690},{"$f":"VLOOKUP(I2012,[1]RewardItemConfig!$B:$F,5,FALSE)","v":206},14,3,17,"14#2061|3#690|17#206"]
[{"$nulls":6},3002013,3007013,3012013,{"$f":"VLOOKUP(G2013,[1]RewardItemConfig!$B:$F,5,FALSE)","v":2062},{"$f":"VLOOKUP(H2013,[1]RewardItemConfig!$B:$F,5,FALSE)","v":690},{"$f":"VLOOKUP(I2013,[1]RewardItemConfig!$B:$F,5,FALSE)","v":206},14,3,17,"14#2062|3#690|17#206"]
[{"$nulls":6},3002014,3007014,3012014,{"$f":"VLOOKUP(G2014,[1]RewardItemConfig!$B:$F,5,FALSE)","v":2063},{"$f":"VLOOKUP(H2014,[1]RewardItemConfig!$B:$F,5,FALSE)","v":690},{"$f":"VLOOKUP(I2014,[1]RewardItemConfig!$B:$F,5,FALSE)","v":206},14,3,17,"14#2063|3#690|17#206"]
[{"$nulls":6},3002015,3007015,3012015,{"$f":"VLOOKUP(G2015,[1]RewardItemConfig!$B:$F,5,FALSE)","v":2064},{"$f":"VLOOKUP(H2015,[1]RewardItemConfig!$B:$F,5,FALSE)","v":690},{"$f":"VLOOKUP(I2015,[1]RewardItemConfig!$B:$F,5,FALSE)","v":206},14,3,17,"14#2064|3#690|17#206"]
[{"$nulls":6},3002016,3007016,3012016,{"$f":"VLOOKUP(G2016,[1]RewardItemConfig!$B:$F,5,FALSE)","v":2065},{"$f":"VLOOKUP(H2016,[1]RewardItemConfig!$B:$F,5,FALSE)","v":690},{"$f":"VLOOKUP(I2016,[1]RewardItemConfig!$B:$F,5,FALSE)","v":206},14,3,17,"14#2065|3#690|17#206"]
[{"$nulls":6},3002017,3007017,3012017,{"$f":"VLOOKUP(G2017,[1]RewardItemConfig!$B:$F,5,FALSE)","v":2066},{"$f":"VLOOKUP(H2017,[1]RewardItemConfig!$B:$F,5,FALSE)","v":690},{"$f":"VLOOKUP(I2017,[1]RewardItemConfig!$B:$F,5,FALSE)","v":206},14,3,17,"14#2066|3#690|17#206"]
[{"$nulls":6},3002018,3007018,3012018,{"$f":"VLOOKUP(G2018,[1]RewardItemConfig!$B:$F,5,FALSE)","v":2067},{"$f":"VLOOKUP(H2018,[1]RewardItemConfig!$B:$F,5,FALSE)","v":690},{"$f":"VLOOKUP(I2018,[1]RewardItemConfig!$B:$F,5,FALSE)","v":206},14,3,17,"14#2067|3#690|17#206"]
[{"$nulls":6},3002019,3007019,3012019,{"$f":"VLOOKUP(G2019,[1]RewardItemConfig!$B:$F,5,FALSE)","v":2068},{"$f":"VLOOKUP(H2019,[1]RewardItemConfig!$B:$F,5,FALSE)","v":690},{"$f":"VLOOKUP(I2019,[1]RewardItemConfig!$B:$F,5,FALSE)","v":206},14,3,17,"14#2068|3#690|17#206"]
[{"$nulls":6},3002020,3007020,3012020,{"$f":"VLOOKUP(G2020,[1]RewardItemConfig!$B:$F,5,FALSE)","v":2069},{"$f":"VLOOKUP(H2020,[1]RewardItemConfig!$B:$F,5,FALSE)","v":700},{"$f":"VLOOKUP(I2020,[1]RewardItemConfig!$B:$F,5,FALSE)","v":207},14,3,17,"14#2069|3#700|17#207"]
[{"$nulls":6},3002021,3007021,3012021,{"$f":"VLOOKUP(G2021,[1]RewardItemConfig!$B:$F,5,FALSE)","v":2070},{"$f":"VLOOKUP(H2021,[1]RewardItemConfig!$B:$F,5,FALSE)","v":700},{"$f":"VLOOKUP(I2021,[1]RewardItemConfig!$B:$F,5,FALSE)","v":207},14,3,17,"14#2070|3#700|17#207"]
[{"$nulls":6},3002022,3007022,3012022,{"$f":"VLOOKUP(G2022,[1]RewardItemConfig!$B:$F,5,FALSE)","v":2071},{"$f":"VLOOKUP(H2022,[1]RewardItemConfig!$B:$F,5,FALSE)","v":700},{"$f":"VLOOKUP(I2022,[1]RewardItemConfig!$B:$F,5,FALSE)","v":207},14,3,17,"14#2071|3#700|17#207"]
[{"$nulls":6},3002023,3007023,3012023,{"$f":"VLOOKUP(G2023,[1]RewardItemConfig!$B:$F,5,FALSE)","v":2072},{"$f":"VLOOKUP(H2023,[1]RewardItemConfig!$B:$F,5,FALSE)","v":700},{"$f":"VLOOKUP(I2023,[1]RewardItemConfig!$B:$F,5,FALSE)","v":207},14,3,17,"14#2072|3#700|17#207"]
[{"$nulls":6},3002024,3007024,3012024,{"$f":"VLOOKUP(G2024,[1]RewardItemConfig!$B:$F,5,FALSE)","v":2073},{"$f":"VLOOKUP(H2024,[1]RewardItemConfig!$B:$F,5,FALSE)","v":700},{"$f":"VLOOKUP(I2024,[1]RewardItemConfig!$B:$F,5,FALSE)","v":207},14,3,17,"14#2073|3#700|17#207"]
[{"$nulls":6},3002025,3007025,3012025,{"$f":"VLOOKUP(G2025,[1]RewardItemConfig!$B:$F,5,FALSE)","v":2074},{"$f":"VLOOKUP(H2025,[1]RewardItemConfig!$B:$F,5,FALSE)","v":700},{"$f":"VLOOKUP(I2025,[1]RewardItemConfig!$B:$F,5,FALSE)","v":207},14,3,17,"14#2074|3#700|17#207"]
[{"$nulls":6},3002026,3007026,3012026,{"$f":"VLOOKUP(G2026,[1]RewardItemConfig!$B:$F,5,FALSE)","v":2075},{"$f":"VLOOKUP(H2026,[1]RewardItemConfig!$B:$F,5,FALSE)","v":700},{"$f":"VLOOKUP(I2026,[1]RewardItemConfig!$B:$F,5,FALSE)","v":207},14,3,17,"14#2075|3#700|17#207"]
[{"$nulls":6},3002027,3007027,3012027,{"$f":"VLOOKUP(G2027,[1]RewardItemConfig!$B:$F,5,FALSE)","v":2076},{"$f":"VLOOKUP(H2027,[1]RewardItemConfig!$B:$F,5,FALSE)","v":700},{"$f":"VLOOKUP(I2027,[1]RewardItemConfig!$B:$F,5,FALSE)","v":207},14,3,17,"14#2076|3#700|17#207"]
[{"$nulls":6},3002028,3007028,3012028,{"$f":"VLOOKUP(G2028,[1]RewardItemConfig!$B:$F,5,FALSE)","v":2077},{"$f":"VLOOKUP(H2028,[1]RewardItemConfig!$B:$F,5,FALSE)","v":700},{"$f":"VLOOKUP(I2028,[1]RewardItemConfig!$B:$F,5,FALSE)","v":207},14,3,17,"14#2077|3#700|17#207"]
[{"$nulls":6},3002029,3007029,3012029,{"$f":"VLOOKUP(G2029,[1]RewardItemConfig!$B:$F,5,FALSE)","v":2078},{"$f":"VLOOKUP(H2029,[1]RewardItemConfig!$B:$F,5,FALSE)","v":700},{"$f":"VLOOKUP(I2029,[1]RewardItemConfig!$B:$F,5,FALSE)","v":207},14,3,17,"14#2078|3#700|17#207"]
[{"$nulls":6},3002030,3007030,3012030,{"$f":"VLOOKUP(G2030,[1]RewardItemConfig!$B:$F,5,FALSE)","v":2079},{"$f":"VLOOKUP(H2030,[1]RewardItemConfig!$B:$F,5,FALSE)","v":710},{"$f":"VLOOKUP(I2030,[1]RewardItemConfig!$B:$F,5,FALSE)","v":208},14,3,17,"14#2079|3#710|17#208"]
[{"$nulls":6},3002031,3007031,3012031,{"$f":"VLOOKUP(G2031,[1]RewardItemConfig!$B:$F,5,FALSE)","v":2080},{"$f":"VLOOKUP(H2031,[1]RewardItemConfig!$B:$F,5,FALSE)","v":710},{"$f":"VLOOKUP(I2031,[1]RewardItemConfig!$B:$F,5,FALSE)","v":208},14,3,17,"14#2080|3#710|17#208"]
[{"$nulls":6},3002032,3007032,3012032,{"$f":"VLOOKUP(G2032,[1]RewardItemConfig!$B:$F,5,FALSE)","v":2081},{"$f":"VLOOKUP(H2032,[1]RewardItemConfig!$B:$F,5,FALSE)","v":710},{"$f":"VLOOKUP(I2032,[1]RewardItemConfig!$B:$F,5,FALSE)","v":208},14,3,17,"14#2081|3#710|17#208"]
[{"$nulls":6},3002033,3007033,3012033,{"$f":"VLOOKUP(G2033,[1]RewardItemConfig!$B:$F,5,FALSE)","v":2082},{"$f":"VLOOKUP(H2033,[1]RewardItemConfig!$B:$F,5,FALSE)","v":710},{"$f":"VLOOKUP(I2033,[1]RewardItemConfig!$B:$F,5,FALSE)","v":208},14,3,17,"14#2082|3#710|17#208"]
[{"$nulls":6},3002034,3007034,3012034,{"$f":"VLOOKUP(G2034,[1]RewardItemConfig!$B:$F,5,FALSE)","v":2083},{"$f":"VLOOKUP(H2034,[1]RewardItemConfig!$B:$F,5,FALSE)","v":710},{"$f":"VLOOKUP(I2034,[1]RewardItemConfig!$B:$F,5,FALSE)","v":208},14,3,17,"14#2083|3#710|17#208"]
[{"$nulls":6},3002035,3007035,3012035,{"$f":"VLOOKUP(G2035,[1]RewardItemConfig!$B:$F,5,FALSE)","v":2084},{"$f":"VLOOKUP(H2035,[1]RewardItemConfig!$B:$F,5,FALSE)","v":710},{"$f":"VLOOKUP(I2035,[1]RewardItemConfig!$B:$F,5,FALSE)","v":208},14,3,17,"14#2084|3#710|17#208"]
[{"$nulls":6},3002036,3007036,3012036,{"$f":"VLOOKUP(G2036,[1]RewardItemConfig!$B:$F,5,FALSE)","v":2085},{"$f":"VLOOKUP(H2036,[1]RewardItemConfig!$B:$F,5,FALSE)","v":710},{"$f":"VLOOKUP(I2036,[1]RewardItemConfig!$B:$F,5,FALSE)","v":208},14,3,17,"14#2085|3#710|17#208"]
[{"$nulls":6},3002037,3007037,3012037,{"$f":"VLOOKUP(G2037,[1]RewardItemConfig!$B:$F,5,FALSE)","v":2086},{"$f":"VLOOKUP(H2037,[1]RewardItemConfig!$B:$F,5,FALSE)","v":710},{"$f":"VLOOKUP(I2037,[1]RewardItemConfig!$B:$F,5,FALSE)","v":208},14,3,17,"14#2086|3#710|17#208"]
[{"$nulls":6},3002038,3007038,3012038,{"$f":"VLOOKUP(G2038,[1]RewardItemConfig!$B:$F,5,FALSE)","v":2087},{"$f":"VLOOKUP(H2038,[1]RewardItemConfig!$B:$F,5,FALSE)","v":710},{"$f":"VLOOKUP(I2038,[1]RewardItemConfig!$B:$F,5,FALSE)","v":208},14,3,17,"14#2087|3#710|17#208"]
[{"$nulls":6},3002039,3007039,3012039,{"$f":"VLOOKUP(G2039,[1]RewardItemConfig!$B:$F,5,FALSE)","v":2088},{"$f":"VLOOKUP(H2039,[1]RewardItemConfig!$B:$F,5,FALSE)","v":710},{"$f":"VLOOKUP(I2039,[1]RewardItemConfig!$B:$F,5,FALSE)","v":208},14,3,17,"14#2088|3#710|17#208"]
[{"$nulls":6},3002040,3007040,3012040,{"$f":"VLOOKUP(G2040,[1]RewardItemConfig!$B:$F,5,FALSE)","v":2089},{"$f":"VLOOKUP(H2040,[1]RewardItemConfig!$B:$F,5,FALSE)","v":720},{"$f":"VLOOKUP(I2040,[1]RewardItemConfig!$B:$F,5,FALSE)","v":209},14,3,17,"14#2089|3#720|17#209"]
[{"$nulls":6},3002041,3007041,3012041,{"$f":"VLOOKUP(G2041,[1]RewardItemConfig!$B:$F,5,FALSE)","v":2090},{"$f":"VLOOKUP(H2041,[1]RewardItemConfig!$B:$F,5,FALSE)","v":720},{"$f":"VLOOKUP(I2041,[1]RewardItemConfig!$B:$F,5,FALSE)","v":209},14,3,17,"14#2090|3#720|17#209"]
[{"$nulls":6},3002042,3007042,3012042,{"$f":"VLOOKUP(G2042,[1]RewardItemConfig!$B:$F,5,FALSE)","v":2091},{"$f":"VLOOKUP(H2042,[1]RewardItemConfig!$B:$F,5,FALSE)","v":720},{"$f":"VLOOKUP(I2042,[1]RewardItemConfig!$B:$F,5,FALSE)","v":209},14,3,17,"14#2091|3#720|17#209"]
[{"$nulls":6},3002043,3007043,3012043,{"$f":"VLOOKUP(G2043,[1]RewardItemConfig!$B:$F,5,FALSE)","v":2092},{"$f":"VLOOKUP(H2043,[1]RewardItemConfig!$B:$F,5,FALSE)","v":720},{"$f":"VLOOKUP(I2043,[1]RewardItemConfig!$B:$F,5,FALSE)","v":209},14,3,17,"14#2092|3#720|17#209"]
[{"$nulls":6},3002044,3007044,3012044,{"$f":"VLOOKUP(G2044,[1]RewardItemConfig!$B:$F,5,FALSE)","v":2093},{"$f":"VLOOKUP(H2044,[1]RewardItemConfig!$B:$F,5,FALSE)","v":720},{"$f":"VLOOKUP(I2044,[1]RewardItemConfig!$B:$F,5,FALSE)","v":209},14,3,17,"14#2093|3#720|17#209"]
[{"$nulls":6},3002045,3007045,3012045,{"$f":"VLOOKUP(G2045,[1]RewardItemConfig!$B:$F,5,FALSE)","v":2094},{"$f":"VLOOKUP(H2045,[1]RewardItemConfig!$B:$F,5,FALSE)","v":720},{"$f":"VLOOKUP(I2045,[1]RewardItemConfig!$B:$F,5,FALSE)","v":209},14,3,17,"14#2094|3#720|17#209"]
[{"$nulls":6},3002046,3007046,3012046,{"$f":"VLOOKUP(G2046,[1]RewardItemConfig!$B:$F,5,FALSE)","v":2095},{"$f":"VLOOKUP(H2046,[1]RewardItemConfig!$B:$F,5,FALSE)","v":720},{"$f":"VLOOKUP(I2046,[1]RewardItemConfig!$B:$F,5,FALSE)","v":209},14,3,17,"14#2095|3#720|17#209"]
[{"$nulls":6},3002047,3007047,3012047,{"$f":"VLOOKUP(G2047,[1]RewardItemConfig!$B:$F,5,FALSE)","v":2096},{"$f":"VLOOKUP(H2047,[1]RewardItemConfig!$B:$F,5,FALSE)","v":720},{"$f":"VLOOKUP(I2047,[1]RewardItemConfig!$B:$F,5,FALSE)","v":209},14,3,17,"14#2096|3#720|17#209"]
[{"$nulls":6},3002048,3007048,3012048,{"$f":"VLOOKUP(G2048,[1]RewardItemConfig!$B:$F,5,FALSE)","v":2097},{"$f":"VLOOKUP(H2048,[1]RewardItemConfig!$B:$F,5,FALSE)","v":720},{"$f":"VLOOKUP(I2048,[1]RewardItemConfig!$B:$F,5,FALSE)","v":209},14,3,17,"14#2097|3#720|17#209"]
[{"$nulls":6},3002049,3007049,3012049,{"$f":"VLOOKUP(G2049,[1]RewardItemConfig!$B:$F,5,FALSE)","v":2098},{"$f":"VLOOKUP(H2049,[1]RewardItemConfig!$B:$F,5,FALSE)","v":720},{"$f":"VLOOKUP(I2049,[1]RewardItemConfig!$B:$F,5,FALSE)","v":209},14,3,17,"14#2098|3#720|17#209"]
[{"$nulls":6},3002050,3007050,3012050,{"$f":"VLOOKUP(G2050,[1]RewardItemConfig!$B:$F,5,FALSE)","v":2099},{"$f":"VLOOKUP(H2050,[1]RewardItemConfig!$B:$F,5,FALSE)","v":730},{"$f":"VLOOKUP(I2050,[1]RewardItemConfig!$B:$F,5,FALSE)","v":210},14,3,17,{"$f":"M2050&\"#\"&J2050&\"|\"&N2050&\"#\"&K2050&\"|\"&O2050&\"#\"&L2050","v":"14#2099|3#730|17#210"}]
[{"$nulls":6},3002051,3007051,3012051,{"$f":"VLOOKUP(G2051,[1]RewardItemConfig!$B:$F,5,FALSE)","v":2100},{"$f":"VLOOKUP(H2051,[1]RewardItemConfig!$B:$F,5,FALSE)","v":730},{"$f":"VLOOKUP(I2051,[1]RewardItemConfig!$B:$F,5,FALSE)","v":210},{"$f":"M2050","v":14},{"$f":"N2050","v":3},{"$f":"O2050","v":17},"14#2100|3#730|17#210"]
[{"$nulls":6},3002052,3007052,3012052,{"$f":"VLOOKUP(G2052,[1]RewardItemConfig!$B:$F,5,FALSE)","v":2101},{"$f":"VLOOKUP(H2052,[1]RewardItemConfig!$B:$F,5,FALSE)","v":730},{"$f":"VLOOKUP(I2052,[1]RewardItemConfig!$B:$F,5,FALSE)","v":210},14,3,17,"14#2101|3#730|17#210"]
[{"$nulls":6},3002053,3007053,3012053,{"$f":"VLOOKUP(G2053,[1]RewardItemConfig!$B:$F,5,FALSE)","v":2102},{"$f":"VLOOKUP(H2053,[1]RewardItemConfig!$B:$F,5,FALSE)","v":730},{"$f":"VLOOKUP(I2053,[1]RewardItemConfig!$B:$F,5,FALSE)","v":210},14,3,17,"14#2102|3#730|17#210"]
[{"$nulls":6},3002054,3007054,3012054,{"$f":"VLOOKUP(G2054,[1]RewardItemConfig!$B:$F,5,FALSE)","v":2103},{"$f":"VLOOKUP(H2054,[1]RewardItemConfig!$B:$F,5,FALSE)","v":730},{"$f":"VLOOKUP(I2054,[1]RewardItemConfig!$B:$F,5,FALSE)","v":210},14,3,17,"14#2103|3#730|17#210"]
[{"$nulls":6},3002055,3007055,3012055,{"$f":"VLOOKUP(G2055,[1]RewardItemConfig!$B:$F,5,FALSE)","v":2104},{"$f":"VLOOKUP(H2055,[1]RewardItemConfig!$B:$F,5,FALSE)","v":730},{"$f":"VLOOKUP(I2055,[1]RewardItemConfig!$B:$F,5,FALSE)","v":210},14,3,17,"14#2104|3#730|17#210"]
[{"$nulls":6},3002056,3007056,3012056,{"$f":"VLOOKUP(G2056,[1]RewardItemConfig!$B:$F,5,FALSE)","v":2105},{"$f":"VLOOKUP(H2056,[1]RewardItemConfig!$B:$F,5,FALSE)","v":730},{"$f":"VLOOKUP(I2056,[1]RewardItemConfig!$B:$F,5,FALSE)","v":210},14,3,17,"14#2105|3#730|17#210"]
[{"$nulls":6},3002057,3007057,3012057,{"$f":"VLOOKUP(G2057,[1]RewardItemConfig!$B:$F,5,FALSE)","v":2106},{"$f":"VLOOKUP(H2057,[1]RewardItemConfig!$B:$F,5,FALSE)","v":730},{"$f":"VLOOKUP(I2057,[1]RewardItemConfig!$B:$F,5,FALSE)","v":210},14,3,17,"14#2106|3#730|17#210"]
[{"$nulls":6},3002058,3007058,3012058,{"$f":"VLOOKUP(G2058,[1]RewardItemConfig!$B:$F,5,FALSE)","v":2107},{"$f":"VLOOKUP(H2058,[1]RewardItemConfig!$B:$F,5,FALSE)","v":730},{"$f":"VLOOKUP(I2058,[1]RewardItemConfig!$B:$F,5,FALSE)","v":210},14,3,17,"14#2107|3#730|17#210"]
[{"$nulls":6},3002059,3007059,3012059,{"$f":"VLOOKUP(G2059,[1]RewardItemConfig!$B:$F,5,FALSE)","v":2108},{"$f":"VLOOKUP(H2059,[1]RewardItemConfig!$B:$F,5,FALSE)","v":730},{"$f":"VLOOKUP(I2059,[1]RewardItemConfig!$B:$F,5,FALSE)","v":210},14,3,17,"14#2108|3#730|17#210"]
[{"$nulls":6},3002060,3007060,3012060,{"$f":"VLOOKUP(G2060,[1]RewardItemConfig!$B:$F,5,FALSE)","v":2109},{"$f":"VLOOKUP(H2060,[1]RewardItemConfig!$B:$F,5,FALSE)","v":740},{"$f":"VLOOKUP(I2060,[1]RewardItemConfig!$B:$F,5,FALSE)","v":211},14,3,17,"14#2109|3#740|17#211"]
[{"$nulls":6},3002061,3007061,3012061,{"$f":"VLOOKUP(G2061,[1]RewardItemConfig!$B:$F,5,FALSE)","v":2110},{"$f":"VLOOKUP(H2061,[1]RewardItemConfig!$B:$F,5,FALSE)","v":740},{"$f":"VLOOKUP(I2061,[1]RewardItemConfig!$B:$F,5,FALSE)","v":211},14,3,17,"14#2110|3#740|17#211"]
[{"$nulls":6},3002062,3007062,3012062,{"$f":"VLOOKUP(G2062,[1]RewardItemConfig!$B:$F,5,FALSE)","v":2111},{"$f":"VLOOKUP(H2062,[1]RewardItemConfig!$B:$F,5,FALSE)","v":740},{"$f":"VLOOKUP(I2062,[1]RewardItemConfig!$B:$F,5,FALSE)","v":211},14,3,17,"14#2111|3#740|17#211"]
[{"$nulls":6},3002063,3007063,3012063,{"$f":"VLOOKUP(G2063,[1]RewardItemConfig!$B:$F,5,FALSE)","v":2112},{"$f":"VLOOKUP(H2063,[1]RewardItemConfig!$B:$F,5,FALSE)","v":740},{"$f":"VLOOKUP(I2063,[1]RewardItemConfig!$B:$F,5,FALSE)","v":211},14,3,17,"14#2112|3#740|17#211"]
[{"$nulls":6},3002064,3007064,3012064,{"$f":"VLOOKUP(G2064,[1]RewardItemConfig!$B:$F,5,FALSE)","v":2113},{"$f":"VLOOKUP(H2064,[1]RewardItemConfig!$B:$F,5,FALSE)","v":740},{"$f":"VLOOKUP(I2064,[1]RewardItemConfig!$B:$F,5,FALSE)","v":211},14,3,17,"14#2113|3#740|17#211"]
[{"$nulls":6},3002065,3007065,3012065,{"$f":"VLOOKUP(G2065,[1]RewardItemConfig!$B:$F,5,FALSE)","v":2114},{"$f":"VLOOKUP(H2065,[1]RewardItemConfig!$B:$F,5,FALSE)","v":740},{"$f":"VLOOKUP(I2065,[1]RewardItemConfig!$B:$F,5,FALSE)","v":211},14,3,17,"14#2114|3#740|17#211"]
[{"$nulls":6},3002066,3007066,3012066,{"$f":"VLOOKUP(G2066,[1]RewardItemConfig!$B:$F,5,FALSE)","v":2115},{"$f":"VLOOKUP(H2066,[1]RewardItemConfig!$B:$F,5,FALSE)","v":740},{"$f":"VLOOKUP(I2066,[1]RewardItemConfig!$B:$F,5,FALSE)","v":211},14,3,17,"14#2115|3#740|17#211"]
[{"$nulls":6},3002067,3007067,3012067,{"$f":"VLOOKUP(G2067,[1]RewardItemConfig!$B:$F,5,FALSE)","v":2116},{"$f":"VLOOKUP(H2067,[1]RewardItemConfig!$B:$F,5,FALSE)","v":740},{"$f":"VLOOKUP(I2067,[1]RewardItemConfig!$B:$F,5,FALSE)","v":211},14,3,17,"14#2116|3#740|17#211"]
[{"$nulls":6},3002068,3007068,3012068,{"$f":"VLOOKUP(G2068,[1]RewardItemConfig!$B:$F,5,FALSE)","v":2117},{"$f":"VLOOKUP(H2068,[1]RewardItemConfig!$B:$F,5,FALSE)","v":740},{"$f":"VLOOKUP(I2068,[1]RewardItemConfig!$B:$F,5,FALSE)","v":211},14,3,17,"14#2117|3#740|17#211"]
[{"$nulls":6},3002069,3007069,3012069,{"$f":"VLOOKUP(G2069,[1]RewardItemConfig!$B:$F,5,FALSE)","v":2118},{"$f":"VLOOKUP(H2069,[1]RewardItemConfig!$B:$F,5,FALSE)","v":740},{"$f":"VLOOKUP(I2069,[1]RewardItemConfig!$B:$F,5,FALSE)","v":211},14,3,17,"14#2118|3#740|17#211"]
[{"$nulls":6},3002070,3007070,3012070,{"$f":"VLOOKUP(G2070,[1]RewardItemConfig!$B:$F,5,FALSE)","v":2119},{"$f":"VLOOKUP(H2070,[1]RewardItemConfig!$B:$F,5,FALSE)","v":750},{"$f":"VLOOKUP(I2070,[1]RewardItemConfig!$B:$F,5,FALSE)","v":212},14,3,17,"14#2119|3#750|17#212"]
[{"$nulls":6},3002071,3007071,3012071,{"$f":"VLOOKUP(G2071,[1]RewardItemConfig!$B:$F,5,FALSE)","v":2120},{"$f":"VLOOKUP(H2071,[1]RewardItemConfig!$B:$F,5,FALSE)","v":750},{"$f":"VLOOKUP(I2071,[1]RewardItemConfig!$B:$F,5,FALSE)","v":212},14,3,17,"14#2120|3#750|17#212"]
[{"$nulls":6},3002072,3007072,3012072,{"$f":"VLOOKUP(G2072,[1]RewardItemConfig!$B:$F,5,FALSE)","v":2121},{"$f":"VLOOKUP(H2072,[1]RewardItemConfig!$B:$F,5,FALSE)","v":750},{"$f":"VLOOKUP(I2072,[1]RewardItemConfig!$B:$F,5,FALSE)","v":212},14,3,17,"14#2121|3#750|17#212"]
[{"$nulls":6},3002073,3007073,3012073,{"$f":"VLOOKUP(G2073,[1]RewardItemConfig!$B:$F,5,FALSE)","v":2122},{"$f":"VLOOKUP(H2073,[1]RewardItemConfig!$B:$F,5,FALSE)","v":750},{"$f":"VLOOKUP(I2073,[1]RewardItemConfig!$B:$F,5,FALSE)","v":212},14,3,17,"14#2122|3#750|17#212"]
[{"$nulls":6},3002074,3007074,3012074,{"$f":"VLOOKUP(G2074,[1]RewardItemConfig!$B:$F,5,FALSE)","v":2123},{"$f":"VLOOKUP(H2074,[1]RewardItemConfig!$B:$F,5,FALSE)","v":750},{"$f":"VLOOKUP(I2074,[1]RewardItemConfig!$B:$F,5,FALSE)","v":212},14,3,17,"14#2123|3#750|17#212"]
[{"$nulls":6},3002075,3007075,3012075,{"$f":"VLOOKUP(G2075,[1]RewardItemConfig!$B:$F,5,FALSE)","v":2124},{"$f":"VLOOKUP(H2075,[1]RewardItemConfig!$B:$F,5,FALSE)","v":750},{"$f":"VLOOKUP(I2075,[1]RewardItemConfig!$B:$F,5,FALSE)","v":212},14,3,17,"14#2124|3#750|17#212"]
[{"$nulls":6},3002076,3007076,3012076,{"$f":"VLOOKUP(G2076,[1]RewardItemConfig!$B:$F,5,FALSE)","v":2125},{"$f":"VLOOKUP(H2076,[1]RewardItemConfig!$B:$F,5,FALSE)","v":750},{"$f":"VLOOKUP(I2076,[1]RewardItemConfig!$B:$F,5,FALSE)","v":212},14,3,17,"14#2125|3#750|17#212"]
[{"$nulls":6},3002077,3007077,3012077,{"$f":"VLOOKUP(G2077,[1]RewardItemConfig!$B:$F,5,FALSE)","v":2126},{"$f":"VLOOKUP(H2077,[1]RewardItemConfig!$B:$F,5,FALSE)","v":750},{"$f":"VLOOKUP(I2077,[1]RewardItemConfig!$B:$F,5,FALSE)","v":212},14,3,17,"14#2126|3#750|17#212"]
[{"$nulls":6},3002078,3007078,3012078,{"$f":"VLOOKUP(G2078,[1]RewardItemConfig!$B:$F,5,FALSE)","v":2127},{"$f":"VLOOKUP(H2078,[1]RewardItemConfig!$B:$F,5,FALSE)","v":750},{"$f":"VLOOKUP(I2078,[1]RewardItemConfig!$B:$F,5,FALSE)","v":212},14,3,17,"14#2127|3#750|17#212"]
[{"$nulls":6},3002079,3007079,3012079,{"$f":"VLOOKUP(G2079,[1]RewardItemConfig!$B:$F,5,FALSE)","v":2128},{"$f":"VLOOKUP(H2079,[1]RewardItemConfig!$B:$F,5,FALSE)","v":750},{"$f":"VLOOKUP(I2079,[1]RewardItemConfig!$B:$F,5,FALSE)","v":212},14,3,17,"14#2128|3#750|17#212"]
[{"$nulls":6},3002080,3007080,3012080,{"$f":"VLOOKUP(G2080,[1]RewardItemConfig!$B:$F,5,FALSE)","v":2129},{"$f":"VLOOKUP(H2080,[1]RewardItemConfig!$B:$F,5,FALSE)","v":760},{"$f":"VLOOKUP(I2080,[1]RewardItemConfig!$B:$F,5,FALSE)","v":213},14,3,17,"14#2129|3#760|17#213"]
[{"$nulls":6},3002081,3007081,3012081,{"$f":"VLOOKUP(G2081,[1]RewardItemConfig!$B:$F,5,FALSE)","v":2130},{"$f":"VLOOKUP(H2081,[1]RewardItemConfig!$B:$F,5,FALSE)","v":760},{"$f":"VLOOKUP(I2081,[1]RewardItemConfig!$B:$F,5,FALSE)","v":213},14,3,17,"14#2130|3#760|17#213"]
[{"$nulls":6},3002082,3007082,3012082,{"$f":"VLOOKUP(G2082,[1]RewardItemConfig!$B:$F,5,FALSE)","v":2131},{"$f":"VLOOKUP(H2082,[1]RewardItemConfig!$B:$F,5,FALSE)","v":760},{"$f":"VLOOKUP(I2082,[1]RewardItemConfig!$B:$F,5,FALSE)","v":213},14,3,17,"14#2131|3#760|17#213"]
[{"$nulls":6},3002083,3007083,3012083,{"$f":"VLOOKUP(G2083,[1]RewardItemConfig!$B:$F,5,FALSE)","v":2132},{"$f":"VLOOKUP(H2083,[1]RewardItemConfig!$B:$F,5,FALSE)","v":760},{"$f":"VLOOKUP(I2083,[1]RewardItemConfig!$B:$F,5,FALSE)","v":213},14,3,17,"14#2132|3#760|17#213"]
[{"$nulls":6},3002084,3007084,3012084,{"$f":"VLOOKUP(G2084,[1]RewardItemConfig!$B:$F,5,FALSE)","v":2133},{"$f":"VLOOKUP(H2084,[1]RewardItemConfig!$B:$F,5,FALSE)","v":760},{"$f":"VLOOKUP(I2084,[1]RewardItemConfig!$B:$F,5,FALSE)","v":213},14,3,17,"14#2133|3#760|17#213"]
[{"$nulls":6},3002085,3007085,3012085,{"$f":"VLOOKUP(G2085,[1]RewardItemConfig!$B:$F,5,FALSE)","v":2134},{"$f":"VLOOKUP(H2085,[1]RewardItemConfig!$B:$F,5,FALSE)","v":760},{"$f":"VLOOKUP(I2085,[1]RewardItemConfig!$B:$F,5,FALSE)","v":213},14,3,17,"14#2134|3#760|17#213"]
[{"$nulls":6},3002086,3007086,3012086,{"$f":"VLOOKUP(G2086,[1]RewardItemConfig!$B:$F,5,FALSE)","v":2135},{"$f":"VLOOKUP(H2086,[1]RewardItemConfig!$B:$F,5,FALSE)","v":760},{"$f":"VLOOKUP(I2086,[1]RewardItemConfig!$B:$F,5,FALSE)","v":213},14,3,17,"14#2135|3#760|17#213"]
[{"$nulls":6},3002087,3007087,3012087,{"$f":"VLOOKUP(G2087,[1]RewardItemConfig!$B:$F,5,FALSE)","v":2136},{"$f":"VLOOKUP(H2087,[1]RewardItemConfig!$B:$F,5,FALSE)","v":760},{"$f":"VLOOKUP(I2087,[1]RewardItemConfig!$B:$F,5,FALSE)","v":213},14,3,17,"14#2136|3#760|17#213"]
[{"$nulls":6},3002088,3007088,3012088,{"$f":"VLOOKUP(G2088,[1]RewardItemConfig!$B:$F,5,FALSE)","v":2137},{"$f":"VLOOKUP(H2088,[1]RewardItemConfig!$B:$F,5,FALSE)","v":760},{"$f":"VLOOKUP(I2088,[1]RewardItemConfig!$B:$F,5,FALSE)","v":213},14,3,17,"14#2137|3#760|17#213"]
[{"$nulls":6},3002089,3007089,3012089,{"$f":"VLOOKUP(G2089,[1]RewardItemConfig!$B:$F,5,FALSE)","v":2138},{"$f":"VLOOKUP(H2089,[1]RewardItemConfig!$B:$F,5,FALSE)","v":760},{"$f":"VLOOKUP(I2089,[1]RewardItemConfig!$B:$F,5,FALSE)","v":213},14,3,17,"14#2138|3#760|17#213"]
[{"$nulls":6},3002090,3007090,3012090,{"$f":"VLOOKUP(G2090,[1]RewardItemConfig!$B:$F,5,FALSE)","v":2139},{"$f":"VLOOKUP(H2090,[1]RewardItemConfig!$B:$F,5,FALSE)","v":770},{"$f":"VLOOKUP(I2090,[1]RewardItemConfig!$B:$F,5,FALSE)","v":214},14,3,17,"14#2139|3#770|17#214"]
[{"$nulls":6},3002091,3007091,3012091,{"$f":"VLOOKUP(G2091,[1]RewardItemConfig!$B:$F,5,FALSE)","v":2140},{"$f":"VLOOKUP(H2091,[1]RewardItemConfig!$B:$F,5,FALSE)","v":770},{"$f":"VLOOKUP(I2091,[1]RewardItemConfig!$B:$F,5,FALSE)","v":214},14,3,17,"14#2140|3#770|17#214"]
[{"$nulls":6},3002092,3007092,3012092,{"$f":"VLOOKUP(G2092,[1]RewardItemConfig!$B:$F,5,FALSE)","v":2141},{"$f":"VLOOKUP(H2092,[1]RewardItemConfig!$B:$F,5,FALSE)","v":770},{"$f":"VLOOKUP(I2092,[1]RewardItemConfig!$B:$F,5,FALSE)","v":214},14,3,17,"14#2141|3#770|17#214"]
[{"$nulls":6},3002093,3007093,3012093,{"$f":"VLOOKUP(G2093,[1]RewardItemConfig!$B:$F,5,FALSE)","v":2142},{"$f":"VLOOKUP(H2093,[1]RewardItemConfig!$B:$F,5,FALSE)","v":770},{"$f":"VLOOKUP(I2093,[1]RewardItemConfig!$B:$F,5,FALSE)","v":214},14,3,17,"14#2142|3#770|17#214"]
[{"$nulls":6},3002094,3007094,3012094,{"$f":"VLOOKUP(G2094,[1]RewardItemConfig!$B:$F,5,FALSE)","v":2143},{"$f":"VLOOKUP(H2094,[1]RewardItemConfig!$B:$F,5,FALSE)","v":770},{"$f":"VLOOKUP(I2094,[1]RewardItemConfig!$B:$F,5,FALSE)","v":214},14,3,17,"14#2143|3#770|17#214"]
[{"$nulls":6},3002095,3007095,3012095,{"$f":"VLOOKUP(G2095,[1]RewardItemConfig!$B:$F,5,FALSE)","v":2144},{"$f":"VLOOKUP(H2095,[1]RewardItemConfig!$B:$F,5,FALSE)","v":770},{"$f":"VLOOKUP(I2095,[1]RewardItemConfig!$B:$F,5,FALSE)","v":214},14,3,17,"14#2144|3#770|17#214"]
[{"$nulls":6},3002096,3007096,3012096,{"$f":"VLOOKUP(G2096,[1]RewardItemConfig!$B:$F,5,FALSE)","v":2145},{"$f":"VLOOKUP(H2096,[1]RewardItemConfig!$B:$F,5,FALSE)","v":770},{"$f":"VLOOKUP(I2096,[1]RewardItemConfig!$B:$F,5,FALSE)","v":214},14,3,17,"14#2145|3#770|17#214"]
[{"$nulls":6},3002097,3007097,3012097,{"$f":"VLOOKUP(G2097,[1]RewardItemConfig!$B:$F,5,FALSE)","v":2146},{"$f":"VLOOKUP(H2097,[1]RewardItemConfig!$B:$F,5,FALSE)","v":770},{"$f":"VLOOKUP(I2097,[1]RewardItemConfig!$B:$F,5,FALSE)","v":214},14,3,17,"14#2146|3#770|17#214"]
[{"$nulls":6},3002098,3007098,3012098,{"$f":"VLOOKUP(G2098,[1]RewardItemConfig!$B:$F,5,FALSE)","v":2147},{"$f":"VLOOKUP(H2098,[1]RewardItemConfig!$B:$F,5,FALSE)","v":770},{"$f":"VLOOKUP(I2098,[1]RewardItemConfig!$B:$F,5,FALSE)","v":214},14,3,17,"14#2147|3#770|17#214"]
[{"$nulls":6},3002099,3007099,3012099,{"$f":"VLOOKUP(G2099,[1]RewardItemConfig!$B:$F,5,FALSE)","v":2148},{"$f":"VLOOKUP(H2099,[1]RewardItemConfig!$B:$F,5,FALSE)","v":770},{"$f":"VLOOKUP(I2099,[1]RewardItemConfig!$B:$F,5,FALSE)","v":214},14,3,17,"14#2148|3#770|17#214"]
[{"$nulls":6},3002100,3007100,3012100,{"$f":"VLOOKUP(G2100,[1]RewardItemConfig!$B:$F,5,FALSE)","v":2149},{"$f":"VLOOKUP(H2100,[1]RewardItemConfig!$B:$F,5,FALSE)","v":780},{"$f":"VLOOKUP(I2100,[1]RewardItemConfig!$B:$F,5,FALSE)","v":215},14,3,17,"14#2149|3#780|17#215"]
[{"$nulls":6},3002101,3007101,3012101,{"$f":"VLOOKUP(G2101,[1]RewardItemConfig!$B:$F,5,FALSE)","v":2150},{"$f":"VLOOKUP(H2101,[1]RewardItemConfig!$B:$F,5,FALSE)","v":780},{"$f":"VLOOKUP(I2101,[1]RewardItemConfig!$B:$F,5,FALSE)","v":215},14,3,17,"14#2150|3#780|17#215"]
[{"$nulls":6},3002102,3007102,3012102,{"$f":"VLOOKUP(G2102,[1]RewardItemConfig!$B:$F,5,FALSE)","v":2151},{"$f":"VLOOKUP(H2102,[1]RewardItemConfig!$B:$F,5,FALSE)","v":780},{"$f":"VLOOKUP(I2102,[1]RewardItemConfig!$B:$F,5,FALSE)","v":215},14,3,17,"14#2151|3#780|17#215"]
[{"$nulls":6},3002103,3007103,3012103,{"$f":"VLOOKUP(G2103,[1]RewardItemConfig!$B:$F,5,FALSE)","v":2152},{"$f":"VLOOKUP(H2103,[1]RewardItemConfig!$B:$F,5,FALSE)","v":780},{"$f":"VLOOKUP(I2103,[1]RewardItemConfig!$B:$F,5,FALSE)","v":215},14,3,17,"14#2152|3#780|17#215"]
[{"$nulls":6},3002104,3007104,3012104,{"$f":"VLOOKUP(G2104,[1]RewardItemConfig!$B:$F,5,FALSE)","v":2153},{"$f":"VLOOKUP(H2104,[1]RewardItemConfig!$B:$F,5,FALSE)","v":780},{"$f":"VLOOKUP(I2104,[1]RewardItemConfig!$B:$F,5,FALSE)","v":215},14,3,17,"14#2153|3#780|17#215"]
[{"$nulls":6},3002105,3007105,3012105,{"$f":"VLOOKUP(G2105,[1]RewardItemConfig!$B:$F,5,FALSE)","v":2154},{"$f":"VLOOKUP(H2105,[1]RewardItemConfig!$B:$F,5,FALSE)","v":780},{"$f":"VLOOKUP(I2105,[1]RewardItemConfig!$B:$F,5,FALSE)","v":215},14,3,17,"14#2154|3#780|17#215"]
[{"$nulls":6},3002106,3007106,3012106,{"$f":"VLOOKUP(G2106,[1]RewardItemConfig!$B:$F,5,FALSE)","v":2155},{"$f":"VLOOKUP(H2106,[1]RewardItemConfig!$B:$F,5,FALSE)","v":780},{"$f":"VLOOKUP(I2106,[1]RewardItemConfig!$B:$F,5,FALSE)","v":215},14,3,17,"14#2155|3#780|17#215"]
[{"$nulls":6},3002107,3007107,3012107,{"$f":"VLOOKUP(G2107,[1]RewardItemConfig!$B:$F,5,FALSE)","v":2156},{"$f":"VLOOKUP(H2107,[1]RewardItemConfig!$B:$F,5,FALSE)","v":780},{"$f":"VLOOKUP(I2107,[1]RewardItemConfig!$B:$F,5,FALSE)","v":215},14,3,17,"14#2156|3#780|17#215"]
[{"$nulls":6},3002108,3007108,3012108,{"$f":"VLOOKUP(G2108,[1]RewardItemConfig!$B:$F,5,FALSE)","v":2157},{"$f":"VLOOKUP(H2108,[1]RewardItemConfig!$B:$F,5,FALSE)","v":780},{"$f":"VLOOKUP(I2108,[1]RewardItemConfig!$B:$F,5,FALSE)","v":215},14,3,17,"14#2157|3#780|17#215"]
[{"$nulls":6},3002109,3007109,3012109,{"$f":"VLOOKUP(G2109,[1]RewardItemConfig!$B:$F,5,FALSE)","v":2158},{"$f":"VLOOKUP(H2109,[1]RewardItemConfig!$B:$F,5,FALSE)","v":780},{"$f":"VLOOKUP(I2109,[1]RewardItemConfig!$B:$F,5,FALSE)","v":215},14,3,17,"14#2158|3#780|17#215"]
[{"$nulls":6},3002110,3007110,3012110,{"$f":"VLOOKUP(G2110,[1]RewardItemConfig!$B:$F,5,FALSE)","v":2159},{"$f":"VLOOKUP(H2110,[1]RewardItemConfig!$B:$F,5,FALSE)","v":790},{"$f":"VLOOKUP(I2110,[1]RewardItemConfig!$B:$F,5,FALSE)","v":216},14,3,17,"14#2159|3#790|17#216"]
[{"$nulls":6},3002111,3007111,3012111,{"$f":"VLOOKUP(G2111,[1]RewardItemConfig!$B:$F,5,FALSE)","v":2160},{"$f":"VLOOKUP(H2111,[1]RewardItemConfig!$B:$F,5,FALSE)","v":790},{"$f":"VLOOKUP(I2111,[1]RewardItemConfig!$B:$F,5,FALSE)","v":216},14,3,17,"14#2160|3#790|17#216"]
[{"$nulls":6},3002112,3007112,3012112,{"$f":"VLOOKUP(G2112,[1]RewardItemConfig!$B:$F,5,FALSE)","v":2161},{"$f":"VLOOKUP(H2112,[1]RewardItemConfig!$B:$F,5,FALSE)","v":790},{"$f":"VLOOKUP(I2112,[1]RewardItemConfig!$B:$F,5,FALSE)","v":216},14,3,17,"14#2161|3#790|17#216"]
[{"$nulls":6},3002113,3007113,3012113,{"$f":"VLOOKUP(G2113,[1]RewardItemConfig!$B:$F,5,FALSE)","v":2162},{"$f":"VLOOKUP(H2113,[1]RewardItemConfig!$B:$F,5,FALSE)","v":790},{"$f":"VLOOKUP(I2113,[1]RewardItemConfig!$B:$F,5,FALSE)","v":216},14,3,17,"14#2162|3#790|17#216"]
[{"$nulls":6},3002114,3007114,3012114,{"$f":"VLOOKUP(G2114,[1]RewardItemConfig!$B:$F,5,FALSE)","v":2163},{"$f":"VLOOKUP(H2114,[1]RewardItemConfig!$B:$F,5,FALSE)","v":790},{"$f":"VLOOKUP(I2114,[1]RewardItemConfig!$B:$F,5,FALSE)","v":216},14,3,17,{"$f":"M2114&\"#\"&J2114&\"|\"&N2114&\"#\"&K2114&\"|\"&O2114&\"#\"&L2114","v":"14#2163|3#790|17#216"}]
[{"$nulls":6},3002115,3007115,3012115,{"$f":"VLOOKUP(G2115,[1]RewardItemConfig!$B:$F,5,FALSE)","v":2164},{"$f":"VLOOKUP(H2115,[1]RewardItemConfig!$B:$F,5,FALSE)","v":790},{"$f":"VLOOKUP(I2115,[1]RewardItemConfig!$B:$F,5,FALSE)","v":216},{"$f":"M2114","v":14},{"$f":"N2114","v":3},{"$f":"O2114","v":17},"14#2164|3#790|17#216"]
[{"$nulls":6},3002116,3007116,3012116,{"$f":"VLOOKUP(G2116,[1]RewardItemConfig!$B:$F,5,FALSE)","v":2165},{"$f":"VLOOKUP(H2116,[1]RewardItemConfig!$B:$F,5,FALSE)","v":790},{"$f":"VLOOKUP(I2116,[1]RewardItemConfig!$B:$F,5,FALSE)","v":216},14,3,17,"14#2165|3#790|17#216"]
[{"$nulls":6},3002117,3007117,3012117,{"$f":"VLOOKUP(G2117,[1]RewardItemConfig!$B:$F,5,FALSE)","v":2166},{"$f":"VLOOKUP(H2117,[1]RewardItemConfig!$B:$F,5,FALSE)","v":790},{"$f":"VLOOKUP(I2117,[1]RewardItemConfig!$B:$F,5,FALSE)","v":216},14,3,17,"14#2166|3#790|17#216"]
[{"$nulls":6},3002118,3007118,3012118,{"$f":"VLOOKUP(G2118,[1]RewardItemConfig!$B:$F,5,FALSE)","v":2167},{"$f":"VLOOKUP(H2118,[1]RewardItemConfig!$B:$F,5,FALSE)","v":790},{"$f":"VLOOKUP(I2118,[1]RewardItemConfig!$B:$F,5,FALSE)","v":216},14,3,17,"14#2167|3#790|17#216"]
[{"$nulls":6},3002119,3007119,3012119,{"$f":"VLOOKUP(G2119,[1]RewardItemConfig!$B:$F,5,FALSE)","v":2168},{"$f":"VLOOKUP(H2119,[1]RewardItemConfig!$B:$F,5,FALSE)","v":790},{"$f":"VLOOKUP(I2119,[1]RewardItemConfig!$B:$F,5,FALSE)","v":216},14,3,17,"14#2168|3#790|17#216"]
[{"$nulls":6},3002120,3007120,3012120,{"$f":"VLOOKUP(G2120,[1]RewardItemConfig!$B:$F,5,FALSE)","v":2169},{"$f":"VLOOKUP(H2120,[1]RewardItemConfig!$B:$F,5,FALSE)","v":800},{"$f":"VLOOKUP(I2120,[1]RewardItemConfig!$B:$F,5,FALSE)","v":217},14,3,17,"14#2169|3#800|17#217"]
[{"$nulls":6},3002121,3007121,3012121,{"$f":"VLOOKUP(G2121,[1]RewardItemConfig!$B:$F,5,FALSE)","v":2170},{"$f":"VLOOKUP(H2121,[1]RewardItemConfig!$B:$F,5,FALSE)","v":800},{"$f":"VLOOKUP(I2121,[1]RewardItemConfig!$B:$F,5,FALSE)","v":217},14,3,17,"14#2170|3#800|17#217"]
[{"$nulls":6},3002122,3007122,3012122,{"$f":"VLOOKUP(G2122,[1]RewardItemConfig!$B:$F,5,FALSE)","v":2171},{"$f":"VLOOKUP(H2122,[1]RewardItemConfig!$B:$F,5,FALSE)","v":800},{"$f":"VLOOKUP(I2122,[1]RewardItemConfig!$B:$F,5,FALSE)","v":217},14,3,17,"14#2171|3#800|17#217"]
[{"$nulls":6},3002123,3007123,3012123,{"$f":"VLOOKUP(G2123,[1]RewardItemConfig!$B:$F,5,FALSE)","v":2172},{"$f":"VLOOKUP(H2123,[1]RewardItemConfig!$B:$F,5,FALSE)","v":800},{"$f":"VLOOKUP(I2123,[1]RewardItemConfig!$B:$F,5,FALSE)","v":217},14,3,17,"14#2172|3#800|17#217"]
[{"$nulls":6},3002124,3007124,3012124,{"$f":"VLOOKUP(G2124,[1]RewardItemConfig!$B:$F,5,FALSE)","v":2173},{"$f":"VLOOKUP(H2124,[1]RewardItemConfig!$B:$F,5,FALSE)","v":800},{"$f":"VLOOKUP(I2124,[1]RewardItemConfig!$B:$F,5,FALSE)","v":217},14,3,17,"14#2173|3#800|17#217"]
[{"$nulls":6},3002125,3007125,3012125,{"$f":"VLOOKUP(G2125,[1]RewardItemConfig!$B:$F,5,FALSE)","v":2174},{"$f":"VLOOKUP(H2125,[1]RewardItemConfig!$B:$F,5,FALSE)","v":800},{"$f":"VLOOKUP(I2125,[1]RewardItemConfig!$B:$F,5,FALSE)","v":217},14,3,17,"14#2174|3#800|17#217"]
[{"$nulls":6},3002126,3007126,3012126,{"$f":"VLOOKUP(G2126,[1]RewardItemConfig!$B:$F,5,FALSE)","v":2175},{"$f":"VLOOKUP(H2126,[1]RewardItemConfig!$B:$F,5,FALSE)","v":800},{"$f":"VLOOKUP(I2126,[1]RewardItemConfig!$B:$F,5,FALSE)","v":217},14,3,17,"14#2175|3#800|17#217"]
[{"$nulls":6},3002127,3007127,3012127,{"$f":"VLOOKUP(G2127,[1]RewardItemConfig!$B:$F,5,FALSE)","v":2176},{"$f":"VLOOKUP(H2127,[1]RewardItemConfig!$B:$F,5,FALSE)","v":800},{"$f":"VLOOKUP(I2127,[1]RewardItemConfig!$B:$F,5,FALSE)","v":217},14,3,17,"14#2176|3#800|17#217"]
[{"$nulls":6},3002128,3007128,3012128,{"$f":"VLOOKUP(G2128,[1]RewardItemConfig!$B:$F,5,FALSE)","v":2177},{"$f":"VLOOKUP(H2128,[1]RewardItemConfig!$B:$F,5,FALSE)","v":800},{"$f":"VLOOKUP(I2128,[1]RewardItemConfig!$B:$F,5,FALSE)","v":217},14,3,17,"14#2177|3#800|17#217"]
[{"$nulls":6},3002129,3007129,3012129,{"$f":"VLOOKUP(G2129,[1]RewardItemConfig!$B:$F,5,FALSE)","v":2178},{"$f":"VLOOKUP(H2129,[1]RewardItemConfig!$B:$F,5,FALSE)","v":800},{"$f":"VLOOKUP(I2129,[1]RewardItemConfig!$B:$F,5,FALSE)","v":217},14,3,17,"14#2178|3#800|17#217"]
[{"$nulls":6},3002130,3007130,3012130,{"$f":"VLOOKUP(G2130,[1]RewardItemConfig!$B:$F,5,FALSE)","v":2179},{"$f":"VLOOKUP(H2130,[1]RewardItemConfig!$B:$F,5,FALSE)","v":810},{"$f":"VLOOKUP(I2130,[1]RewardItemConfig!$B:$F,5,FALSE)","v":218},14,3,17,"14#2179|3#810|17#218"]
[{"$nulls":6},3002131,3007131,3012131,{"$f":"VLOOKUP(G2131,[1]RewardItemConfig!$B:$F,5,FALSE)","v":2180},{"$f":"VLOOKUP(H2131,[1]RewardItemConfig!$B:$F,5,FALSE)","v":810},{"$f":"VLOOKUP(I2131,[1]RewardItemConfig!$B:$F,5,FALSE)","v":218},14,3,17,"14#2180|3#810|17#218"]
[{"$nulls":6},3002132,3007132,3012132,{"$f":"VLOOKUP(G2132,[1]RewardItemConfig!$B:$F,5,FALSE)","v":2181},{"$f":"VLOOKUP(H2132,[1]RewardItemConfig!$B:$F,5,FALSE)","v":810},{"$f":"VLOOKUP(I2132,[1]RewardItemConfig!$B:$F,5,FALSE)","v":218},14,3,17,"14#2181|3#810|17#218"]
[{"$nulls":6},3002133,3007133,3012133,{"$f":"VLOOKUP(G2133,[1]RewardItemConfig!$B:$F,5,FALSE)","v":2182},{"$f":"VLOOKUP(H2133,[1]RewardItemConfig!$B:$F,5,FALSE)","v":810},{"$f":"VLOOKUP(I2133,[1]RewardItemConfig!$B:$F,5,FALSE)","v":218},14,3,17,"14#2182|3#810|17#218"]
[{"$nulls":6},3002134,3007134,3012134,{"$f":"VLOOKUP(G2134,[1]RewardItemConfig!$B:$F,5,FALSE)","v":2183},{"$f":"VLOOKUP(H2134,[1]RewardItemConfig!$B:$F,5,FALSE)","v":810},{"$f":"VLOOKUP(I2134,[1]RewardItemConfig!$B:$F,5,FALSE)","v":218},14,3,17,"14#2183|3#810|17#218"]
[{"$nulls":6},3002135,3007135,3012135,{"$f":"VLOOKUP(G2135,[1]RewardItemConfig!$B:$F,5,FALSE)","v":2184},{"$f":"VLOOKUP(H2135,[1]RewardItemConfig!$B:$F,5,FALSE)","v":810},{"$f":"VLOOKUP(I2135,[1]RewardItemConfig!$B:$F,5,FALSE)","v":218},14,3,17,"14#2184|3#810|17#218"]
[{"$nulls":6},3002136,3007136,3012136,{"$f":"VLOOKUP(G2136,[1]RewardItemConfig!$B:$F,5,FALSE)","v":2185},{"$f":"VLOOKUP(H2136,[1]RewardItemConfig!$B:$F,5,FALSE)","v":810},{"$f":"VLOOKUP(I2136,[1]RewardItemConfig!$B:$F,5,FALSE)","v":218},14,3,17,"14#2185|3#810|17#218"]
[{"$nulls":6},3002137,3007137,3012137,{"$f":"VLOOKUP(G2137,[1]RewardItemConfig!$B:$F,5,FALSE)","v":2186},{"$f":"VLOOKUP(H2137,[1]RewardItemConfig!$B:$F,5,FALSE)","v":810},{"$f":"VLOOKUP(I2137,[1]RewardItemConfig!$B:$F,5,FALSE)","v":218},14,3,17,"14#2186|3#810|17#218"]
[{"$nulls":6},3002138,3007138,3012138,{"$f":"VLOOKUP(G2138,[1]RewardItemConfig!$B:$F,5,FALSE)","v":2187},{"$f":"VLOOKUP(H2138,[1]RewardItemConfig!$B:$F,5,FALSE)","v":810},{"$f":"VLOOKUP(I2138,[1]RewardItemConfig!$B:$F,5,FALSE)","v":218},14,3,17,"14#2187|3#810|17#218"]
[{"$nulls":6},3002139,3007139,3012139,{"$f":"VLOOKUP(G2139,[1]RewardItemConfig!$B:$F,5,FALSE)","v":2188},{"$f":"VLOOKUP(H2139,[1]RewardItemConfig!$B:$F,5,FALSE)","v":810},{"$f":"VLOOKUP(I2139,[1]RewardItemConfig!$B:$F,5,FALSE)","v":218},14,3,17,"14#2188|3#810|17#218"]
[{"$nulls":6},3002140,3007140,3012140,{"$f":"VLOOKUP(G2140,[1]RewardItemConfig!$B:$F,5,FALSE)","v":2189},{"$f":"VLOOKUP(H2140,[1]RewardItemConfig!$B:$F,5,FALSE)","v":820},{"$f":"VLOOKUP(I2140,[1]RewardItemConfig!$B:$F,5,FALSE)","v":219},14,3,17,"14#2189|3#820|17#219"]
[{"$nulls":6},3002141,3007141,3012141,{"$f":"VLOOKUP(G2141,[1]RewardItemConfig!$B:$F,5,FALSE)","v":2190},{"$f":"VLOOKUP(H2141,[1]RewardItemConfig!$B:$F,5,FALSE)","v":820},{"$f":"VLOOKUP(I2141,[1]RewardItemConfig!$B:$F,5,FALSE)","v":219},14,3,17,"14#2190|3#820|17#219"]
[{"$nulls":6},3002142,3007142,3012142,{"$f":"VLOOKUP(G2142,[1]RewardItemConfig!$B:$F,5,FALSE)","v":2191},{"$f":"VLOOKUP(H2142,[1]RewardItemConfig!$B:$F,5,FALSE)","v":820},{"$f":"VLOOKUP(I2142,[1]RewardItemConfig!$B:$F,5,FALSE)","v":219},14,3,17,"14#2191|3#820|17#219"]
[{"$nulls":6},3002143,3007143,3012143,{"$f":"VLOOKUP(G2143,[1]RewardItemConfig!$B:$F,5,FALSE)","v":2192},{"$f":"VLOOKUP(H2143,[1]RewardItemConfig!$B:$F,5,FALSE)","v":820},{"$f":"VLOOKUP(I2143,[1]RewardItemConfig!$B:$F,5,FALSE)","v":219},14,3,17,"14#2192|3#820|17#219"]
[{"$nulls":6},3002144,3007144,3012144,{"$f":"VLOOKUP(G2144,[1]RewardItemConfig!$B:$F,5,FALSE)","v":2193},{"$f":"VLOOKUP(H2144,[1]RewardItemConfig!$B:$F,5,FALSE)","v":820},{"$f":"VLOOKUP(I2144,[1]RewardItemConfig!$B:$F,5,FALSE)","v":219},14,3,17,"14#2193|3#820|17#219"]
[{"$nulls":6},3002145,3007145,3012145,{"$f":"VLOOKUP(G2145,[1]RewardItemConfig!$B:$F,5,FALSE)","v":2194},{"$f":"VLOOKUP(H2145,[1]RewardItemConfig!$B:$F,5,FALSE)","v":820},{"$f":"VLOOKUP(I2145,[1]RewardItemConfig!$B:$F,5,FALSE)","v":219},14,3,17,"14#2194|3#820|17#219"]
[{"$nulls":6},3002146,3007146,3012146,{"$f":"VLOOKUP(G2146,[1]RewardItemConfig!$B:$F,5,FALSE)","v":2195},{"$f":"VLOOKUP(H2146,[1]RewardItemConfig!$B:$F,5,FALSE)","v":820},{"$f":"VLOOKUP(I2146,[1]RewardItemConfig!$B:$F,5,FALSE)","v":219},14,3,17,"14#2195|3#820|17#219"]
[{"$nulls":6},3002147,3007147,3012147,{"$f":"VLOOKUP(G2147,[1]RewardItemConfig!$B:$F,5,FALSE)","v":2196},{"$f":"VLOOKUP(H2147,[1]RewardItemConfig!$B:$F,5,FALSE)","v":820},{"$f":"VLOOKUP(I2147,[1]RewardItemConfig!$B:$F,5,FALSE)","v":219},14,3,17,"14#2196|3#820|17#219"]
[{"$nulls":6},3002148,3007148,3012148,{"$f":"VLOOKUP(G2148,[1]RewardItemConfig!$B:$F,5,FALSE)","v":2197},{"$f":"VLOOKUP(H2148,[1]RewardItemConfig!$B:$F,5,FALSE)","v":820},{"$f":"VLOOKUP(I2148,[1]RewardItemConfig!$B:$F,5,FALSE)","v":219},14,3,17,"14#2197|3#820|17#219"]
[{"$nulls":6},3002149,3007149,3012149,{"$f":"VLOOKUP(G2149,[1]RewardItemConfig!$B:$F,5,FALSE)","v":2198},{"$f":"VLOOKUP(H2149,[1]RewardItemConfig!$B:$F,5,FALSE)","v":820},{"$f":"VLOOKUP(I2149,[1]RewardItemConfig!$B:$F,5,FALSE)","v":219},14,3,17,"14#2198|3#820|17#219"]
[{"$nulls":6},3002150,3007150,3012150,{"$f":"VLOOKUP(G2150,[1]RewardItemConfig!$B:$F,5,FALSE)","v":2199},{"$f":"VLOOKUP(H2150,[1]RewardItemConfig!$B:$F,5,FALSE)","v":830},{"$f":"VLOOKUP(I2150,[1]RewardItemConfig!$B:$F,5,FALSE)","v":220},14,3,17,"14#2199|3#830|17#220"]
[{"$nulls":6},3002151,3007151,3012151,{"$f":"VLOOKUP(G2151,[1]RewardItemConfig!$B:$F,5,FALSE)","v":2200},{"$f":"VLOOKUP(H2151,[1]RewardItemConfig!$B:$F,5,FALSE)","v":830},{"$f":"VLOOKUP(I2151,[1]RewardItemConfig!$B:$F,5,FALSE)","v":220},14,3,17,"14#2200|3#830|17#220"]
[{"$nulls":6},3002152,3007152,3012152,{"$f":"VLOOKUP(G2152,[1]RewardItemConfig!$B:$F,5,FALSE)","v":2201},{"$f":"VLOOKUP(H2152,[1]RewardItemConfig!$B:$F,5,FALSE)","v":830},{"$f":"VLOOKUP(I2152,[1]RewardItemConfig!$B:$F,5,FALSE)","v":220},14,3,17,"14#2201|3#830|17#220"]
[{"$nulls":6},3002153,3007153,3012153,{"$f":"VLOOKUP(G2153,[1]RewardItemConfig!$B:$F,5,FALSE)","v":2202},{"$f":"VLOOKUP(H2153,[1]RewardItemConfig!$B:$F,5,FALSE)","v":830},{"$f":"VLOOKUP(I2153,[1]RewardItemConfig!$B:$F,5,FALSE)","v":220},14,3,17,"14#2202|3#830|17#220"]
[{"$nulls":6},3002154,3007154,3012154,{"$f":"VLOOKUP(G2154,[1]RewardItemConfig!$B:$F,5,FALSE)","v":2203},{"$f":"VLOOKUP(H2154,[1]RewardItemConfig!$B:$F,5,FALSE)","v":830},{"$f":"VLOOKUP(I2154,[1]RewardItemConfig!$B:$F,5,FALSE)","v":220},14,3,17,"14#2203|3#830|17#220"]
[{"$nulls":6},3002155,3007155,3012155,{"$f":"VLOOKUP(G2155,[1]RewardItemConfig!$B:$F,5,FALSE)","v":2204},{"$f":"VLOOKUP(H2155,[1]RewardItemConfig!$B:$F,5,FALSE)","v":830},{"$f":"VLOOKUP(I2155,[1]RewardItemConfig!$B:$F,5,FALSE)","v":220},14,3,17,"14#2204|3#830|17#220"]
[{"$nulls":6},3002156,3007156,3012156,{"$f":"VLOOKUP(G2156,[1]RewardItemConfig!$B:$F,5,FALSE)","v":2205},{"$f":"VLOOKUP(H2156,[1]RewardItemConfig!$B:$F,5,FALSE)","v":830},{"$f":"VLOOKUP(I2156,[1]RewardItemConfig!$B:$F,5,FALSE)","v":220},14,3,17,"14#2205|3#830|17#220"]
[{"$nulls":6},3002157,3007157,3012157,{"$f":"VLOOKUP(G2157,[1]RewardItemConfig!$B:$F,5,FALSE)","v":2206},{"$f":"VLOOKUP(H2157,[1]RewardItemConfig!$B:$F,5,FALSE)","v":830},{"$f":"VLOOKUP(I2157,[1]RewardItemConfig!$B:$F,5,FALSE)","v":220},14,3,17,"14#2206|3#830|17#220"]
[{"$nulls":6},3002158,3007158,3012158,{"$f":"VLOOKUP(G2158,[1]RewardItemConfig!$B:$F,5,FALSE)","v":2207},{"$f":"VLOOKUP(H2158,[1]RewardItemConfig!$B:$F,5,FALSE)","v":830},{"$f":"VLOOKUP(I2158,[1]RewardItemConfig!$B:$F,5,FALSE)","v":220},14,3,17,"14#2207|3#830|17#220"]
[{"$nulls":6},3002159,3007159,3012159,{"$f":"VLOOKUP(G2159,[1]RewardItemConfig!$B:$F,5,FALSE)","v":2208},{"$f":"VLOOKUP(H2159,[1]RewardItemConfig!$B:$F,5,FALSE)","v":830},{"$f":"VLOOKUP(I2159,[1]RewardItemConfig!$B:$F,5,FALSE)","v":220},14,3,17,"14#2208|3#830|17#220"]
[{"$nulls":6},3002160,3007160,3012160,{"$f":"VLOOKUP(G2160,[1]RewardItemConfig!$B:$F,5,FALSE)","v":2209},{"$f":"VLOOKUP(H2160,[1]RewardItemConfig!$B:$F,5,FALSE)","v":840},{"$f":"VLOOKUP(I2160,[1]RewardItemConfig!$B:$F,5,FALSE)","v":221},14,3,17,"14#2209|3#840|17#221"]
[{"$nulls":6},3002161,3007161,3012161,{"$f":"VLOOKUP(G2161,[1]RewardItemConfig!$B:$F,5,FALSE)","v":2210},{"$f":"VLOOKUP(H2161,[1]RewardItemConfig!$B:$F,5,FALSE)","v":840},{"$f":"VLOOKUP(I2161,[1]RewardItemConfig!$B:$F,5,FALSE)","v":221},14,3,17,"14#2210|3#840|17#221"]
[{"$nulls":6},3002162,3007162,3012162,{"$f":"VLOOKUP(G2162,[1]RewardItemConfig!$B:$F,5,FALSE)","v":2211},{"$f":"VLOOKUP(H2162,[1]RewardItemConfig!$B:$F,5,FALSE)","v":840},{"$f":"VLOOKUP(I2162,[1]RewardItemConfig!$B:$F,5,FALSE)","v":221},14,3,17,"14#2211|3#840|17#221"]
[{"$nulls":6},3002163,3007163,3012163,{"$f":"VLOOKUP(G2163,[1]RewardItemConfig!$B:$F,5,FALSE)","v":2212},{"$f":"VLOOKUP(H2163,[1]RewardItemConfig!$B:$F,5,FALSE)","v":840},{"$f":"VLOOKUP(I2163,[1]RewardItemConfig!$B:$F,5,FALSE)","v":221},14,3,17,"14#2212|3#840|17#221"]
[{"$nulls":6},3002164,3007164,3012164,{"$f":"VLOOKUP(G2164,[1]RewardItemConfig!$B:$F,5,FALSE)","v":2213},{"$f":"VLOOKUP(H2164,[1]RewardItemConfig!$B:$F,5,FALSE)","v":840},{"$f":"VLOOKUP(I2164,[1]RewardItemConfig!$B:$F,5,FALSE)","v":221},14,3,17,"14#2213|3#840|17#221"]
[{"$nulls":6},3002165,3007165,3012165,{"$f":"VLOOKUP(G2165,[1]RewardItemConfig!$B:$F,5,FALSE)","v":2214},{"$f":"VLOOKUP(H2165,[1]RewardItemConfig!$B:$F,5,FALSE)","v":840},{"$f":"VLOOKUP(I2165,[1]RewardItemConfig!$B:$F,5,FALSE)","v":221},14,3,17,"14#2214|3#840|17#221"]
[{"$nulls":6},3002166,3007166,3012166,{"$f":"VLOOKUP(G2166,[1]RewardItemConfig!$B:$F,5,FALSE)","v":2215},{"$f":"VLOOKUP(H2166,[1]RewardItemConfig!$B:$F,5,FALSE)","v":840},{"$f":"VLOOKUP(I2166,[1]RewardItemConfig!$B:$F,5,FALSE)","v":221},14,3,17,"14#2215|3#840|17#221"]
[{"$nulls":6},3002167,3007167,3012167,{"$f":"VLOOKUP(G2167,[1]RewardItemConfig!$B:$F,5,FALSE)","v":2216},{"$f":"VLOOKUP(H2167,[1]RewardItemConfig!$B:$F,5,FALSE)","v":840},{"$f":"VLOOKUP(I2167,[1]RewardItemConfig!$B:$F,5,FALSE)","v":221},14,3,17,"14#2216|3#840|17#221"]
[{"$nulls":6},3002168,3007168,3012168,{"$f":"VLOOKUP(G2168,[1]RewardItemConfig!$B:$F,5,FALSE)","v":2217},{"$f":"VLOOKUP(H2168,[1]RewardItemConfig!$B:$F,5,FALSE)","v":840},{"$f":"VLOOKUP(I2168,[1]RewardItemConfig!$B:$F,5,FALSE)","v":221},14,3,17,"14#2217|3#840|17#221"]
[{"$nulls":6},3002169,3007169,3012169,{"$f":"VLOOKUP(G2169,[1]RewardItemConfig!$B:$F,5,FALSE)","v":2218},{"$f":"VLOOKUP(H2169,[1]RewardItemConfig!$B:$F,5,FALSE)","v":840},{"$f":"VLOOKUP(I2169,[1]RewardItemConfig!$B:$F,5,FALSE)","v":221},14,3,17,"14#2218|3#840|17#221"]
[{"$nulls":6},3002170,3007170,3012170,{"$f":"VLOOKUP(G2170,[1]RewardItemConfig!$B:$F,5,FALSE)","v":2219},{"$f":"VLOOKUP(H2170,[1]RewardItemConfig!$B:$F,5,FALSE)","v":850},{"$f":"VLOOKUP(I2170,[1]RewardItemConfig!$B:$F,5,FALSE)","v":222},14,3,17,"14#2219|3#850|17#222"]
[{"$nulls":6},3002171,3007171,3012171,{"$f":"VLOOKUP(G2171,[1]RewardItemConfig!$B:$F,5,FALSE)","v":2220},{"$f":"VLOOKUP(H2171,[1]RewardItemConfig!$B:$F,5,FALSE)","v":850},{"$f":"VLOOKUP(I2171,[1]RewardItemConfig!$B:$F,5,FALSE)","v":222},14,3,17,"14#2220|3#850|17#222"]
[{"$nulls":6},3002172,3007172,3012172,{"$f":"VLOOKUP(G2172,[1]RewardItemConfig!$B:$F,5,FALSE)","v":2221},{"$f":"VLOOKUP(H2172,[1]RewardItemConfig!$B:$F,5,FALSE)","v":850},{"$f":"VLOOKUP(I2172,[1]RewardItemConfig!$B:$F,5,FALSE)","v":222},14,3,17,"14#2221|3#850|17#222"]
[{"$nulls":6},3002173,3007173,3012173,{"$f":"VLOOKUP(G2173,[1]RewardItemConfig!$B:$F,5,FALSE)","v":2222},{"$f":"VLOOKUP(H2173,[1]RewardItemConfig!$B:$F,5,FALSE)","v":850},{"$f":"VLOOKUP(I2173,[1]RewardItemConfig!$B:$F,5,FALSE)","v":222},14,3,17,"14#2222|3#850|17#222"]
[{"$nulls":6},3002174,3007174,3012174,{"$f":"VLOOKUP(G2174,[1]RewardItemConfig!$B:$F,5,FALSE)","v":2223},{"$f":"VLOOKUP(H2174,[1]RewardItemConfig!$B:$F,5,FALSE)","v":850},{"$f":"VLOOKUP(I2174,[1]RewardItemConfig!$B:$F,5,FALSE)","v":222},14,3,17,"14#2223|3#850|17#222"]
[{"$nulls":6},3002175,3007175,3012175,{"$f":"VLOOKUP(G2175,[1]RewardItemConfig!$B:$F,5,FALSE)","v":2224},{"$f":"VLOOKUP(H2175,[1]RewardItemConfig!$B:$F,5,FALSE)","v":850},{"$f":"VLOOKUP(I2175,[1]RewardItemConfig!$B:$F,5,FALSE)","v":222},14,3,17,"14#2224|3#850|17#222"]
[{"$nulls":6},3002176,3007176,3012176,{"$f":"VLOOKUP(G2176,[1]RewardItemConfig!$B:$F,5,FALSE)","v":2225},{"$f":"VLOOKUP(H2176,[1]RewardItemConfig!$B:$F,5,FALSE)","v":850},{"$f":"VLOOKUP(I2176,[1]RewardItemConfig!$B:$F,5,FALSE)","v":222},14,3,17,"14#2225|3#850|17#222"]
[{"$nulls":6},3002177,3007177,3012177,{"$f":"VLOOKUP(G2177,[1]RewardItemConfig!$B:$F,5,FALSE)","v":2226},{"$f":"VLOOKUP(H2177,[1]RewardItemConfig!$B:$F,5,FALSE)","v":850},{"$f":"VLOOKUP(I2177,[1]RewardItemConfig!$B:$F,5,FALSE)","v":222},14,3,17,"14#2226|3#850|17#222"]
[{"$nulls":6},3002178,3007178,3012178,{"$f":"VLOOKUP(G2178,[1]RewardItemConfig!$B:$F,5,FALSE)","v":2227},{"$f":"VLOOKUP(H2178,[1]RewardItemConfig!$B:$F,5,FALSE)","v":850},{"$f":"VLOOKUP(I2178,[1]RewardItemConfig!$B:$F,5,FALSE)","v":222},14,3,17,{"$f":"M2178&\"#\"&J2178&\"|\"&N2178&\"#\"&K2178&\"|\"&O2178&\"#\"&L2178","v":"14#2227|3#850|17#222"}]
[{"$nulls":6},3002179,3007179,3012179,{"$f":"VLOOKUP(G2179,[1]RewardItemConfig!$B:$F,5,FALSE)","v":2228},{"$f":"VLOOKUP(H2179,[1]RewardItemConfig!$B:$F,5,FALSE)","v":850},{"$f":"VLOOKUP(I2179,[1]RewardItemConfig!$B:$F,5,FALSE)","v":222},{"$f":"M2178","v":14},{"$f":"N2178","v":3},{"$f":"O2178","v":17},"14#2228|3#850|17#222"]
[{"$nulls":6},3002180,3007180,3012180,{"$f":"VLOOKUP(G2180,[1]RewardItemConfig!$B:$F,5,FALSE)","v":2229},{"$f":"VLOOKUP(H2180,[1]RewardItemConfig!$B:$F,5,FALSE)","v":860},{"$f":"VLOOKUP(I2180,[1]RewardItemConfig!$B:$F,5,FALSE)","v":223},14,3,17,"14#2229|3#860|17#223"]
[{"$nulls":6},3002181,3007181,3012181,{"$f":"VLOOKUP(G2181,[1]RewardItemConfig!$B:$F,5,FALSE)","v":2230},{"$f":"VLOOKUP(H2181,[1]RewardItemConfig!$B:$F,5,FALSE)","v":860},{"$f":"VLOOKUP(I2181,[1]RewardItemConfig!$B:$F,5,FALSE)","v":223},14,3,17,"14#2230|3#860|17#223"]
[{"$nulls":6},3002182,3007182,3012182,{"$f":"VLOOKUP(G2182,[1]RewardItemConfig!$B:$F,5,FALSE)","v":2231},{"$f":"VLOOKUP(H2182,[1]RewardItemConfig!$B:$F,5,FALSE)","v":860},{"$f":"VLOOKUP(I2182,[1]RewardItemConfig!$B:$F,5,FALSE)","v":223},14,3,17,"14#2231|3#860|17#223"]
[{"$nulls":6},3002183,3007183,3012183,{"$f":"VLOOKUP(G2183,[1]RewardItemConfig!$B:$F,5,FALSE)","v":2232},{"$f":"VLOOKUP(H2183,[1]RewardItemConfig!$B:$F,5,FALSE)","v":860},{"$f":"VLOOKUP(I2183,[1]RewardItemConfig!$B:$F,5,FALSE)","v":223},14,3,17,"14#2232|3#860|17#223"]
[{"$nulls":6},3002184,3007184,3012184,{"$f":"VLOOKUP(G2184,[1]RewardItemConfig!$B:$F,5,FALSE)","v":2233},{"$f":"VLOOKUP(H2184,[1]RewardItemConfig!$B:$F,5,FALSE)","v":860},{"$f":"VLOOKUP(I2184,[1]RewardItemConfig!$B:$F,5,FALSE)","v":223},14,3,17,"14#2233|3#860|17#223"]
[{"$nulls":6},3002185,3007185,3012185,{"$f":"VLOOKUP(G2185,[1]RewardItemConfig!$B:$F,5,FALSE)","v":2234},{"$f":"VLOOKUP(H2185,[1]RewardItemConfig!$B:$F,5,FALSE)","v":860},{"$f":"VLOOKUP(I2185,[1]RewardItemConfig!$B:$F,5,FALSE)","v":223},14,3,17,"14#2234|3#860|17#223"]
[{"$nulls":6},3002186,3007186,3012186,{"$f":"VLOOKUP(G2186,[1]RewardItemConfig!$B:$F,5,FALSE)","v":2235},{"$f":"VLOOKUP(H2186,[1]RewardItemConfig!$B:$F,5,FALSE)","v":860},{"$f":"VLOOKUP(I2186,[1]RewardItemConfig!$B:$F,5,FALSE)","v":223},14,3,17,"14#2235|3#860|17#223"]
[{"$nulls":6},3002187,3007187,3012187,{"$f":"VLOOKUP(G2187,[1]RewardItemConfig!$B:$F,5,FALSE)","v":2236},{"$f":"VLOOKUP(H2187,[1]RewardItemConfig!$B:$F,5,FALSE)","v":860},{"$f":"VLOOKUP(I2187,[1]RewardItemConfig!$B:$F,5,FALSE)","v":223},14,3,17,"14#2236|3#860|17#223"]
[{"$nulls":6},3002188,3007188,3012188,{"$f":"VLOOKUP(G2188,[1]RewardItemConfig!$B:$F,5,FALSE)","v":2237},{"$f":"VLOOKUP(H2188,[1]RewardItemConfig!$B:$F,5,FALSE)","v":860},{"$f":"VLOOKUP(I2188,[1]RewardItemConfig!$B:$F,5,FALSE)","v":223},14,3,17,"14#2237|3#860|17#223"]
[{"$nulls":6},3002189,3007189,3012189,{"$f":"VLOOKUP(G2189,[1]RewardItemConfig!$B:$F,5,FALSE)","v":2238},{"$f":"VLOOKUP(H2189,[1]RewardItemConfig!$B:$F,5,FALSE)","v":860},{"$f":"VLOOKUP(I2189,[1]RewardItemConfig!$B:$F,5,FALSE)","v":223},14,3,17,"14#2238|3#860|17#223"]
[{"$nulls":6},3002190,3007190,3012190,{"$f":"VLOOKUP(G2190,[1]RewardItemConfig!$B:$F,5,FALSE)","v":2239},{"$f":"VLOOKUP(H2190,[1]RewardItemConfig!$B:$F,5,FALSE)","v":870},{"$f":"VLOOKUP(I2190,[1]RewardItemConfig!$B:$F,5,FALSE)","v":224},14,3,17,"14#2239|3#870|17#224"]
[{"$nulls":6},3002191,3007191,3012191,{"$f":"VLOOKUP(G2191,[1]RewardItemConfig!$B:$F,5,FALSE)","v":2240},{"$f":"VLOOKUP(H2191,[1]RewardItemConfig!$B:$F,5,FALSE)","v":870},{"$f":"VLOOKUP(I2191,[1]RewardItemConfig!$B:$F,5,FALSE)","v":224},14,3,17,"14#2240|3#870|17#224"]
[{"$nulls":6},3002192,3007192,3012192,{"$f":"VLOOKUP(G2192,[1]RewardItemConfig!$B:$F,5,FALSE)","v":2241},{"$f":"VLOOKUP(H2192,[1]RewardItemConfig!$B:$F,5,FALSE)","v":870},{"$f":"VLOOKUP(I2192,[1]RewardItemConfig!$B:$F,5,FALSE)","v":224},14,3,17,"14#2241|3#870|17#224"]
[{"$nulls":6},3002193,3007193,3012193,{"$f":"VLOOKUP(G2193,[1]RewardItemConfig!$B:$F,5,FALSE)","v":2242},{"$f":"VLOOKUP(H2193,[1]RewardItemConfig!$B:$F,5,FALSE)","v":870},{"$f":"VLOOKUP(I2193,[1]RewardItemConfig!$B:$F,5,FALSE)","v":224},14,3,17,"14#2242|3#870|17#224"]
[{"$nulls":6},3002194,3007194,3012194,{"$f":"VLOOKUP(G2194,[1]RewardItemConfig!$B:$F,5,FALSE)","v":2243},{"$f":"VLOOKUP(H2194,[1]RewardItemConfig!$B:$F,5,FALSE)","v":870},{"$f":"VLOOKUP(I2194,[1]RewardItemConfig!$B:$F,5,FALSE)","v":224},14,3,17,"14#2243|3#870|17#224"]
[{"$nulls":6},3002195,3007195,3012195,{"$f":"VLOOKUP(G2195,[1]RewardItemConfig!$B:$F,5,FALSE)","v":2244},{"$f":"VLOOKUP(H2195,[1]RewardItemConfig!$B:$F,5,FALSE)","v":870},{"$f":"VLOOKUP(I2195,[1]RewardItemConfig!$B:$F,5,FALSE)","v":224},14,3,17,"14#2244|3#870|17#224"]
[{"$nulls":6},3002196,3007196,3012196,{"$f":"VLOOKUP(G2196,[1]RewardItemConfig!$B:$F,5,FALSE)","v":2245},{"$f":"VLOOKUP(H2196,[1]RewardItemConfig!$B:$F,5,FALSE)","v":870},{"$f":"VLOOKUP(I2196,[1]RewardItemConfig!$B:$F,5,FALSE)","v":224},14,3,17,"14#2245|3#870|17#224"]
[{"$nulls":6},3002197,3007197,3012197,{"$f":"VLOOKUP(G2197,[1]RewardItemConfig!$B:$F,5,FALSE)","v":2246},{"$f":"VLOOKUP(H2197,[1]RewardItemConfig!$B:$F,5,FALSE)","v":870},{"$f":"VLOOKUP(I2197,[1]RewardItemConfig!$B:$F,5,FALSE)","v":224},14,3,17,"14#2246|3#870|17#224"]
[{"$nulls":6},3002198,3007198,3012198,{"$f":"VLOOKUP(G2198,[1]RewardItemConfig!$B:$F,5,FALSE)","v":2247},{"$f":"VLOOKUP(H2198,[1]RewardItemConfig!$B:$F,5,FALSE)","v":870},{"$f":"VLOOKUP(I2198,[1]RewardItemConfig!$B:$F,5,FALSE)","v":224},14,3,17,"14#2247|3#870|17#224"]
[{"$nulls":6},3002199,3007199,3012199,{"$f":"VLOOKUP(G2199,[1]RewardItemConfig!$B:$F,5,FALSE)","v":2248},{"$f":"VLOOKUP(H2199,[1]RewardItemConfig!$B:$F,5,FALSE)","v":870},{"$f":"VLOOKUP(I2199,[1]RewardItemConfig!$B:$F,5,FALSE)","v":224},14,3,17,"14#2248|3#870|17#224"]
[{"$nulls":6},3002200,3007200,3012200,{"$f":"VLOOKUP(G2200,[1]RewardItemConfig!$B:$F,5,FALSE)","v":2249},{"$f":"VLOOKUP(H2200,[1]RewardItemConfig!$B:$F,5,FALSE)","v":880},{"$f":"VLOOKUP(I2200,[1]RewardItemConfig!$B:$F,5,FALSE)","v":225},14,3,17,"14#2249|3#880|17#225"]
[{"$nulls":6},3002201,3007201,3012201,{"$f":"VLOOKUP(G2201,[1]RewardItemConfig!$B:$F,5,FALSE)","v":2250},{"$f":"VLOOKUP(H2201,[1]RewardItemConfig!$B:$F,5,FALSE)","v":880},{"$f":"VLOOKUP(I2201,[1]RewardItemConfig!$B:$F,5,FALSE)","v":225},14,3,17,"14#2250|3#880|17#225"]
[{"$nulls":6},3002202,3007202,3012202,{"$f":"VLOOKUP(G2202,[1]RewardItemConfig!$B:$F,5,FALSE)","v":2251},{"$f":"VLOOKUP(H2202,[1]RewardItemConfig!$B:$F,5,FALSE)","v":880},{"$f":"VLOOKUP(I2202,[1]RewardItemConfig!$B:$F,5,FALSE)","v":225},14,3,17,"14#2251|3#880|17#225"]
[{"$nulls":6},3002203,3007203,3012203,{"$f":"VLOOKUP(G2203,[1]RewardItemConfig!$B:$F,5,FALSE)","v":2252},{"$f":"VLOOKUP(H2203,[1]RewardItemConfig!$B:$F,5,FALSE)","v":880},{"$f":"VLOOKUP(I2203,[1]RewardItemConfig!$B:$F,5,FALSE)","v":225},14,3,17,"14#2252|3#880|17#225"]
[{"$nulls":6},3002204,3007204,3012204,{"$f":"VLOOKUP(G2204,[1]RewardItemConfig!$B:$F,5,FALSE)","v":2253},{"$f":"VLOOKUP(H2204,[1]RewardItemConfig!$B:$F,5,FALSE)","v":880},{"$f":"VLOOKUP(I2204,[1]RewardItemConfig!$B:$F,5,FALSE)","v":225},14,3,17,"14#2253|3#880|17#225"]
[{"$nulls":6},3002205,3007205,3012205,{"$f":"VLOOKUP(G2205,[1]RewardItemConfig!$B:$F,5,FALSE)","v":2254},{"$f":"VLOOKUP(H2205,[1]RewardItemConfig!$B:$F,5,FALSE)","v":880},{"$f":"VLOOKUP(I2205,[1]RewardItemConfig!$B:$F,5,FALSE)","v":225},14,3,17,"14#2254|3#880|17#225"]
[{"$nulls":6},3002206,3007206,3012206,{"$f":"VLOOKUP(G2206,[1]RewardItemConfig!$B:$F,5,FALSE)","v":2255},{"$f":"VLOOKUP(H2206,[1]RewardItemConfig!$B:$F,5,FALSE)","v":880},{"$f":"VLOOKUP(I2206,[1]RewardItemConfig!$B:$F,5,FALSE)","v":225},14,3,17,"14#2255|3#880|17#225"]
[{"$nulls":6},3002207,3007207,3012207,{"$f":"VLOOKUP(G2207,[1]RewardItemConfig!$B:$F,5,FALSE)","v":2256},{"$f":"VLOOKUP(H2207,[1]RewardItemConfig!$B:$F,5,FALSE)","v":880},{"$f":"VLOOKUP(I2207,[1]RewardItemConfig!$B:$F,5,FALSE)","v":225},14,3,17,"14#2256|3#880|17#225"]
[{"$nulls":6},3002208,3007208,3012208,{"$f":"VLOOKUP(G2208,[1]RewardItemConfig!$B:$F,5,FALSE)","v":2257},{"$f":"VLOOKUP(H2208,[1]RewardItemConfig!$B:$F,5,FALSE)","v":880},{"$f":"VLOOKUP(I2208,[1]RewardItemConfig!$B:$F,5,FALSE)","v":225},14,3,17,"14#2257|3#880|17#225"]
[{"$nulls":6},3002209,3007209,3012209,{"$f":"VLOOKUP(G2209,[1]RewardItemConfig!$B:$F,5,FALSE)","v":2258},{"$f":"VLOOKUP(H2209,[1]RewardItemConfig!$B:$F,5,FALSE)","v":880},{"$f":"VLOOKUP(I2209,[1]RewardItemConfig!$B:$F,5,FALSE)","v":225},14,3,17,"14#2258|3#880|17#225"]
[{"$nulls":6},3002210,3007210,3012210,{"$f":"VLOOKUP(G2210,[1]RewardItemConfig!$B:$F,5,FALSE)","v":2259},{"$f":"VLOOKUP(H2210,[1]RewardItemConfig!$B:$F,5,FALSE)","v":890},{"$f":"VLOOKUP(I2210,[1]RewardItemConfig!$B:$F,5,FALSE)","v":226},14,3,17,"14#2259|3#890|17#226"]
[{"$nulls":6},3002211,3007211,3012211,{"$f":"VLOOKUP(G2211,[1]RewardItemConfig!$B:$F,5,FALSE)","v":2260},{"$f":"VLOOKUP(H2211,[1]RewardItemConfig!$B:$F,5,FALSE)","v":890},{"$f":"VLOOKUP(I2211,[1]RewardItemConfig!$B:$F,5,FALSE)","v":226},14,3,17,"14#2260|3#890|17#226"]
[{"$nulls":6},3002212,3007212,3012212,{"$f":"VLOOKUP(G2212,[1]RewardItemConfig!$B:$F,5,FALSE)","v":2261},{"$f":"VLOOKUP(H2212,[1]RewardItemConfig!$B:$F,5,FALSE)","v":890},{"$f":"VLOOKUP(I2212,[1]RewardItemConfig!$B:$F,5,FALSE)","v":226},14,3,17,"14#2261|3#890|17#226"]
[{"$nulls":6},3002213,3007213,3012213,{"$f":"VLOOKUP(G2213,[1]RewardItemConfig!$B:$F,5,FALSE)","v":2262},{"$f":"VLOOKUP(H2213,[1]RewardItemConfig!$B:$F,5,FALSE)","v":890},{"$f":"VLOOKUP(I2213,[1]RewardItemConfig!$B:$F,5,FALSE)","v":226},14,3,17,"14#2262|3#890|17#226"]
[{"$nulls":6},3002214,3007214,3012214,{"$f":"VLOOKUP(G2214,[1]RewardItemConfig!$B:$F,5,FALSE)","v":2263},{"$f":"VLOOKUP(H2214,[1]RewardItemConfig!$B:$F,5,FALSE)","v":890},{"$f":"VLOOKUP(I2214,[1]RewardItemConfig!$B:$F,5,FALSE)","v":226},14,3,17,"14#2263|3#890|17#226"]
[{"$nulls":6},3002215,3007215,3012215,{"$f":"VLOOKUP(G2215,[1]RewardItemConfig!$B:$F,5,FALSE)","v":2264},{"$f":"VLOOKUP(H2215,[1]RewardItemConfig!$B:$F,5,FALSE)","v":890},{"$f":"VLOOKUP(I2215,[1]RewardItemConfig!$B:$F,5,FALSE)","v":226},14,3,17,"14#2264|3#890|17#226"]
[{"$nulls":6},3002216,3007216,3012216,{"$f":"VLOOKUP(G2216,[1]RewardItemConfig!$B:$F,5,FALSE)","v":2265},{"$f":"VLOOKUP(H2216,[1]RewardItemConfig!$B:$F,5,FALSE)","v":890},{"$f":"VLOOKUP(I2216,[1]RewardItemConfig!$B:$F,5,FALSE)","v":226},14,3,17,"14#2265|3#890|17#226"]
[{"$nulls":6},3002217,3007217,3012217,{"$f":"VLOOKUP(G2217,[1]RewardItemConfig!$B:$F,5,FALSE)","v":2266},{"$f":"VLOOKUP(H2217,[1]RewardItemConfig!$B:$F,5,FALSE)","v":890},{"$f":"VLOOKUP(I2217,[1]RewardItemConfig!$B:$F,5,FALSE)","v":226},14,3,17,"14#2266|3#890|17#226"]
[{"$nulls":6},3002218,3007218,3012218,{"$f":"VLOOKUP(G2218,[1]RewardItemConfig!$B:$F,5,FALSE)","v":2267},{"$f":"VLOOKUP(H2218,[1]RewardItemConfig!$B:$F,5,FALSE)","v":890},{"$f":"VLOOKUP(I2218,[1]RewardItemConfig!$B:$F,5,FALSE)","v":226},14,3,17,"14#2267|3#890|17#226"]
[{"$nulls":6},3002219,3007219,3012219,{"$f":"VLOOKUP(G2219,[1]RewardItemConfig!$B:$F,5,FALSE)","v":2268},{"$f":"VLOOKUP(H2219,[1]RewardItemConfig!$B:$F,5,FALSE)","v":890},{"$f":"VLOOKUP(I2219,[1]RewardItemConfig!$B:$F,5,FALSE)","v":226},14,3,17,"14#2268|3#890|17#226"]
[{"$nulls":6},3002220,3007220,3012220,{"$f":"VLOOKUP(G2220,[1]RewardItemConfig!$B:$F,5,FALSE)","v":2269},{"$f":"VLOOKUP(H2220,[1]RewardItemConfig!$B:$F,5,FALSE)","v":900},{"$f":"VLOOKUP(I2220,[1]RewardItemConfig!$B:$F,5,FALSE)","v":227},14,3,17,"14#2269|3#900|17#227"]
[{"$nulls":6},3002221,3007221,3012221,{"$f":"VLOOKUP(G2221,[1]RewardItemConfig!$B:$F,5,FALSE)","v":2270},{"$f":"VLOOKUP(H2221,[1]RewardItemConfig!$B:$F,5,FALSE)","v":900},{"$f":"VLOOKUP(I2221,[1]RewardItemConfig!$B:$F,5,FALSE)","v":227},14,3,17,"14#2270|3#900|17#227"]
[{"$nulls":6},3002222,3007222,3012222,{"$f":"VLOOKUP(G2222,[1]RewardItemConfig!$B:$F,5,FALSE)","v":2271},{"$f":"VLOOKUP(H2222,[1]RewardItemConfig!$B:$F,5,FALSE)","v":900},{"$f":"VLOOKUP(I2222,[1]RewardItemConfig!$B:$F,5,FALSE)","v":227},14,3,17,"14#2271|3#900|17#227"]
[{"$nulls":6},3002223,3007223,3012223,{"$f":"VLOOKUP(G2223,[1]RewardItemConfig!$B:$F,5,FALSE)","v":2272},{"$f":"VLOOKUP(H2223,[1]RewardItemConfig!$B:$F,5,FALSE)","v":900},{"$f":"VLOOKUP(I2223,[1]RewardItemConfig!$B:$F,5,FALSE)","v":227},14,3,17,"14#2272|3#900|17#227"]
[{"$nulls":6},3002224,3007224,3012224,{"$f":"VLOOKUP(G2224,[1]RewardItemConfig!$B:$F,5,FALSE)","v":2273},{"$f":"VLOOKUP(H2224,[1]RewardItemConfig!$B:$F,5,FALSE)","v":900},{"$f":"VLOOKUP(I2224,[1]RewardItemConfig!$B:$F,5,FALSE)","v":227},14,3,17,"14#2273|3#900|17#227"]
[{"$nulls":6},3002225,3007225,3012225,{"$f":"VLOOKUP(G2225,[1]RewardItemConfig!$B:$F,5,FALSE)","v":2274},{"$f":"VLOOKUP(H2225,[1]RewardItemConfig!$B:$F,5,FALSE)","v":900},{"$f":"VLOOKUP(I2225,[1]RewardItemConfig!$B:$F,5,FALSE)","v":227},14,3,17,"14#2274|3#900|17#227"]
[{"$nulls":6},3002226,3007226,3012226,{"$f":"VLOOKUP(G2226,[1]RewardItemConfig!$B:$F,5,FALSE)","v":2275},{"$f":"VLOOKUP(H2226,[1]RewardItemConfig!$B:$F,5,FALSE)","v":900},{"$f":"VLOOKUP(I2226,[1]RewardItemConfig!$B:$F,5,FALSE)","v":227},14,3,17,"14#2275|3#900|17#227"]
[{"$nulls":6},3002227,3007227,3012227,{"$f":"VLOOKUP(G2227,[1]RewardItemConfig!$B:$F,5,FALSE)","v":2276},{"$f":"VLOOKUP(H2227,[1]RewardItemConfig!$B:$F,5,FALSE)","v":900},{"$f":"VLOOKUP(I2227,[1]RewardItemConfig!$B:$F,5,FALSE)","v":227},14,3,17,"14#2276|3#900|17#227"]
[{"$nulls":6},3002228,3007228,3012228,{"$f":"VLOOKUP(G2228,[1]RewardItemConfig!$B:$F,5,FALSE)","v":2277},{"$f":"VLOOKUP(H2228,[1]RewardItemConfig!$B:$F,5,FALSE)","v":900},{"$f":"VLOOKUP(I2228,[1]RewardItemConfig!$B:$F,5,FALSE)","v":227},14,3,17,"14#2277|3#900|17#227"]
[{"$nulls":6},3002229,3007229,3012229,{"$f":"VLOOKUP(G2229,[1]RewardItemConfig!$B:$F,5,FALSE)","v":2278},{"$f":"VLOOKUP(H2229,[1]RewardItemConfig!$B:$F,5,FALSE)","v":900},{"$f":"VLOOKUP(I2229,[1]RewardItemConfig!$B:$F,5,FALSE)","v":227},14,3,17,"14#2278|3#900|17#227"]
[{"$nulls":6},3002230,3007230,3012230,{"$f":"VLOOKUP(G2230,[1]RewardItemConfig!$B:$F,5,FALSE)","v":2279},{"$f":"VLOOKUP(H2230,[1]RewardItemConfig!$B:$F,5,FALSE)","v":910},{"$f":"VLOOKUP(I2230,[1]RewardItemConfig!$B:$F,5,FALSE)","v":228},14,3,17,"14#2279|3#910|17#228"]
[{"$nulls":6},3002231,3007231,3012231,{"$f":"VLOOKUP(G2231,[1]RewardItemConfig!$B:$F,5,FALSE)","v":2280},{"$f":"VLOOKUP(H2231,[1]RewardItemConfig!$B:$F,5,FALSE)","v":910},{"$f":"VLOOKUP(I2231,[1]RewardItemConfig!$B:$F,5,FALSE)","v":228},14,3,17,"14#2280|3#910|17#228"]
[{"$nulls":6},3002232,3007232,3012232,{"$f":"VLOOKUP(G2232,[1]RewardItemConfig!$B:$F,5,FALSE)","v":2281},{"$f":"VLOOKUP(H2232,[1]RewardItemConfig!$B:$F,5,FALSE)","v":910},{"$f":"VLOOKUP(I2232,[1]RewardItemConfig!$B:$F,5,FALSE)","v":228},14,3,17,"14#2281|3#910|17#228"]
[{"$nulls":6},3002233,3007233,3012233,{"$f":"VLOOKUP(G2233,[1]RewardItemConfig!$B:$F,5,FALSE)","v":2282},{"$f":"VLOOKUP(H2233,[1]RewardItemConfig!$B:$F,5,FALSE)","v":910},{"$f":"VLOOKUP(I2233,[1]RewardItemConfig!$B:$F,5,FALSE)","v":228},14,3,17,"14#2282|3#910|17#228"]
[{"$nulls":6},3002234,3007234,3012234,{"$f":"VLOOKUP(G2234,[1]RewardItemConfig!$B:$F,5,FALSE)","v":2283},{"$f":"VLOOKUP(H2234,[1]RewardItemConfig!$B:$F,5,FALSE)","v":910},{"$f":"VLOOKUP(I2234,[1]RewardItemConfig!$B:$F,5,FALSE)","v":228},14,3,17,"14#2283|3#910|17#228"]
[{"$nulls":6},3002235,3007235,3012235,{"$f":"VLOOKUP(G2235,[1]RewardItemConfig!$B:$F,5,FALSE)","v":2284},{"$f":"VLOOKUP(H2235,[1]RewardItemConfig!$B:$F,5,FALSE)","v":910},{"$f":"VLOOKUP(I2235,[1]RewardItemConfig!$B:$F,5,FALSE)","v":228},14,3,17,"14#2284|3#910|17#228"]
[{"$nulls":6},3002236,3007236,3012236,{"$f":"VLOOKUP(G2236,[1]RewardItemConfig!$B:$F,5,FALSE)","v":2285},{"$f":"VLOOKUP(H2236,[1]RewardItemConfig!$B:$F,5,FALSE)","v":910},{"$f":"VLOOKUP(I2236,[1]RewardItemConfig!$B:$F,5,FALSE)","v":228},14,3,17,"14#2285|3#910|17#228"]
[{"$nulls":6},3002237,3007237,3012237,{"$f":"VLOOKUP(G2237,[1]RewardItemConfig!$B:$F,5,FALSE)","v":2286},{"$f":"VLOOKUP(H2237,[1]RewardItemConfig!$B:$F,5,FALSE)","v":910},{"$f":"VLOOKUP(I2237,[1]RewardItemConfig!$B:$F,5,FALSE)","v":228},14,3,17,"14#2286|3#910|17#228"]
[{"$nulls":6},3002238,3007238,3012238,{"$f":"VLOOKUP(G2238,[1]RewardItemConfig!$B:$F,5,FALSE)","v":2287},{"$f":"VLOOKUP(H2238,[1]RewardItemConfig!$B:$F,5,FALSE)","v":910},{"$f":"VLOOKUP(I2238,[1]RewardItemConfig!$B:$F,5,FALSE)","v":228},14,3,17,"14#2287|3#910|17#228"]
[{"$nulls":6},3002239,3007239,3012239,{"$f":"VLOOKUP(G2239,[1]RewardItemConfig!$B:$F,5,FALSE)","v":2288},{"$f":"VLOOKUP(H2239,[1]RewardItemConfig!$B:$F,5,FALSE)","v":910},{"$f":"VLOOKUP(I2239,[1]RewardItemConfig!$B:$F,5,FALSE)","v":228},14,3,17,"14#2288|3#910|17#228"]
[{"$nulls":6},3002240,3007240,3012240,{"$f":"VLOOKUP(G2240,[1]RewardItemConfig!$B:$F,5,FALSE)","v":2289},{"$f":"VLOOKUP(H2240,[1]RewardItemConfig!$B:$F,5,FALSE)","v":920},{"$f":"VLOOKUP(I2240,[1]RewardItemConfig!$B:$F,5,FALSE)","v":229},14,3,17,"14#2289|3#920|17#229"]
[{"$nulls":6},3002241,3007241,3012241,{"$f":"VLOOKUP(G2241,[1]RewardItemConfig!$B:$F,5,FALSE)","v":2290},{"$f":"VLOOKUP(H2241,[1]RewardItemConfig!$B:$F,5,FALSE)","v":920},{"$f":"VLOOKUP(I2241,[1]RewardItemConfig!$B:$F,5,FALSE)","v":229},14,3,17,"14#2290|3#920|17#229"]
[{"$nulls":6},3002242,3007242,3012242,{"$f":"VLOOKUP(G2242,[1]RewardItemConfig!$B:$F,5,FALSE)","v":2291},{"$f":"VLOOKUP(H2242,[1]RewardItemConfig!$B:$F,5,FALSE)","v":920},{"$f":"VLOOKUP(I2242,[1]RewardItemConfig!$B:$F,5,FALSE)","v":229},14,3,17,{"$f":"M2242&\"#\"&J2242&\"|\"&N2242&\"#\"&K2242&\"|\"&O2242&\"#\"&L2242","v":"14#2291|3#920|17#229"}]
[{"$nulls":6},3002243,3007243,3012243,{"$f":"VLOOKUP(G2243,[1]RewardItemConfig!$B:$F,5,FALSE)","v":2292},{"$f":"VLOOKUP(H2243,[1]RewardItemConfig!$B:$F,5,FALSE)","v":920},{"$f":"VLOOKUP(I2243,[1]RewardItemConfig!$B:$F,5,FALSE)","v":229},{"$f":"M2242","v":14},{"$f":"N2242","v":3},{"$f":"O2242","v":17},"14#2292|3#920|17#229"]
[{"$nulls":6},3002244,3007244,3012244,{"$f":"VLOOKUP(G2244,[1]RewardItemConfig!$B:$F,5,FALSE)","v":2293},{"$f":"VLOOKUP(H2244,[1]RewardItemConfig!$B:$F,5,FALSE)","v":920},{"$f":"VLOOKUP(I2244,[1]RewardItemConfig!$B:$F,5,FALSE)","v":229},14,3,17,"14#2293|3#920|17#229"]
[{"$nulls":6},3002245,3007245,3012245,{"$f":"VLOOKUP(G2245,[1]RewardItemConfig!$B:$F,5,FALSE)","v":2294},{"$f":"VLOOKUP(H2245,[1]RewardItemConfig!$B:$F,5,FALSE)","v":920},{"$f":"VLOOKUP(I2245,[1]RewardItemConfig!$B:$F,5,FALSE)","v":229},14,3,17,"14#2294|3#920|17#229"]
[{"$nulls":6},3002246,3007246,3012246,{"$f":"VLOOKUP(G2246,[1]RewardItemConfig!$B:$F,5,FALSE)","v":2295},{"$f":"VLOOKUP(H2246,[1]RewardItemConfig!$B:$F,5,FALSE)","v":920},{"$f":"VLOOKUP(I2246,[1]RewardItemConfig!$B:$F,5,FALSE)","v":229},14,3,17,"14#2295|3#920|17#229"]
[{"$nulls":6},3002247,3007247,3012247,{"$f":"VLOOKUP(G2247,[1]RewardItemConfig!$B:$F,5,FALSE)","v":2296},{"$f":"VLOOKUP(H2247,[1]RewardItemConfig!$B:$F,5,FALSE)","v":920},{"$f":"VLOOKUP(I2247,[1]RewardItemConfig!$B:$F,5,FALSE)","v":229},14,3,17,"14#2296|3#920|17#229"]
[{"$nulls":6},3002248,3007248,3012248,{"$f":"VLOOKUP(G2248,[1]RewardItemConfig!$B:$F,5,FALSE)","v":2297},{"$f":"VLOOKUP(H2248,[1]RewardItemConfig!$B:$F,5,FALSE)","v":920},{"$f":"VLOOKUP(I2248,[1]RewardItemConfig!$B:$F,5,FALSE)","v":229},14,3,17,"14#2297|3#920|17#229"]
[{"$nulls":6},3002249,3007249,3012249,{"$f":"VLOOKUP(G2249,[1]RewardItemConfig!$B:$F,5,FALSE)","v":2298},{"$f":"VLOOKUP(H2249,[1]RewardItemConfig!$B:$F,5,FALSE)","v":920},{"$f":"VLOOKUP(I2249,[1]RewardItemConfig!$B:$F,5,FALSE)","v":229},14,3,17,"14#2298|3#920|17#229"]
[{"$nulls":6},3002250,3007250,3012250,{"$f":"VLOOKUP(G2250,[1]RewardItemConfig!$B:$F,5,FALSE)","v":2299},{"$f":"VLOOKUP(H2250,[1]RewardItemConfig!$B:$F,5,FALSE)","v":930},{"$f":"VLOOKUP(I2250,[1]RewardItemConfig!$B:$F,5,FALSE)","v":230},14,3,17,"14#2299|3#930|17#230"]
[{"$nulls":6},3002251,3007251,3012251,{"$f":"VLOOKUP(G2251,[1]RewardItemConfig!$B:$F,5,FALSE)","v":2300},{"$f":"VLOOKUP(H2251,[1]RewardItemConfig!$B:$F,5,FALSE)","v":930},{"$f":"VLOOKUP(I2251,[1]RewardItemConfig!$B:$F,5,FALSE)","v":230},14,3,17,"14#2300|3#930|17#230"]
[{"$nulls":6},3002252,3007252,3012252,{"$f":"VLOOKUP(G2252,[1]RewardItemConfig!$B:$F,5,FALSE)","v":2301},{"$f":"VLOOKUP(H2252,[1]RewardItemConfig!$B:$F,5,FALSE)","v":930},{"$f":"VLOOKUP(I2252,[1]RewardItemConfig!$B:$F,5,FALSE)","v":230},14,3,17,"14#2301|3#930|17#230"]
[{"$nulls":6},3002253,3007253,3012253,{"$f":"VLOOKUP(G2253,[1]RewardItemConfig!$B:$F,5,FALSE)","v":2302},{"$f":"VLOOKUP(H2253,[1]RewardItemConfig!$B:$F,5,FALSE)","v":930},{"$f":"VLOOKUP(I2253,[1]RewardItemConfig!$B:$F,5,FALSE)","v":230},14,3,17,"14#2302|3#930|17#230"]
[{"$nulls":6},3002254,3007254,3012254,{"$f":"VLOOKUP(G2254,[1]RewardItemConfig!$B:$F,5,FALSE)","v":2303},{"$f":"VLOOKUP(H2254,[1]RewardItemConfig!$B:$F,5,FALSE)","v":930},{"$f":"VLOOKUP(I2254,[1]RewardItemConfig!$B:$F,5,FALSE)","v":230},14,3,17,"14#2303|3#930|17#230"]
[{"$nulls":6},3002255,3007255,3012255,{"$f":"VLOOKUP(G2255,[1]RewardItemConfig!$B:$F,5,FALSE)","v":2304},{"$f":"VLOOKUP(H2255,[1]RewardItemConfig!$B:$F,5,FALSE)","v":930},{"$f":"VLOOKUP(I2255,[1]RewardItemConfig!$B:$F,5,FALSE)","v":230},14,3,17,"14#2304|3#930|17#230"]
[{"$nulls":6},3002256,3007256,3012256,{"$f":"VLOOKUP(G2256,[1]RewardItemConfig!$B:$F,5,FALSE)","v":2305},{"$f":"VLOOKUP(H2256,[1]RewardItemConfig!$B:$F,5,FALSE)","v":930},{"$f":"VLOOKUP(I2256,[1]RewardItemConfig!$B:$F,5,FALSE)","v":230},14,3,17,"14#2305|3#930|17#230"]
[{"$nulls":6},3002257,3007257,3012257,{"$f":"VLOOKUP(G2257,[1]RewardItemConfig!$B:$F,5,FALSE)","v":2306},{"$f":"VLOOKUP(H2257,[1]RewardItemConfig!$B:$F,5,FALSE)","v":930},{"$f":"VLOOKUP(I2257,[1]RewardItemConfig!$B:$F,5,FALSE)","v":230},14,3,17,"14#2306|3#930|17#230"]
[{"$nulls":6},3002258,3007258,3012258,{"$f":"VLOOKUP(G2258,[1]RewardItemConfig!$B:$F,5,FALSE)","v":2307},{"$f":"VLOOKUP(H2258,[1]RewardItemConfig!$B:$F,5,FALSE)","v":930},{"$f":"VLOOKUP(I2258,[1]RewardItemConfig!$B:$F,5,FALSE)","v":230},14,3,17,"14#2307|3#930|17#230"]
[{"$nulls":6},3002259,3007259,3012259,{"$f":"VLOOKUP(G2259,[1]RewardItemConfig!$B:$F,5,FALSE)","v":2308},{"$f":"VLOOKUP(H2259,[1]RewardItemConfig!$B:$F,5,FALSE)","v":930},{"$f":"VLOOKUP(I2259,[1]RewardItemConfig!$B:$F,5,FALSE)","v":230},14,3,17,"14#2308|3#930|17#230"]
[{"$nulls":6},3002260,3007260,3012260,{"$f":"VLOOKUP(G2260,[1]RewardItemConfig!$B:$F,5,FALSE)","v":2309},{"$f":"VLOOKUP(H2260,[1]RewardItemConfig!$B:$F,5,FALSE)","v":940},{"$f":"VLOOKUP(I2260,[1]RewardItemConfig!$B:$F,5,FALSE)","v":231},14,3,17,"14#2309|3#940|17#231"]
[{"$nulls":6},3002261,3007261,3012261,{"$f":"VLOOKUP(G2261,[1]RewardItemConfig!$B:$F,5,FALSE)","v":2310},{"$f":"VLOOKUP(H2261,[1]RewardItemConfig!$B:$F,5,FALSE)","v":940},{"$f":"VLOOKUP(I2261,[1]RewardItemConfig!$B:$F,5,FALSE)","v":231},14,3,17,"14#2310|3#940|17#231"]
[{"$nulls":6},3002262,3007262,3012262,{"$f":"VLOOKUP(G2262,[1]RewardItemConfig!$B:$F,5,FALSE)","v":2311},{"$f":"VLOOKUP(H2262,[1]RewardItemConfig!$B:$F,5,FALSE)","v":940},{"$f":"VLOOKUP(I2262,[1]RewardItemConfig!$B:$F,5,FALSE)","v":231},14,3,17,"14#2311|3#940|17#231"]
[{"$nulls":6},3002263,3007263,3012263,{"$f":"VLOOKUP(G2263,[1]RewardItemConfig!$B:$F,5,FALSE)","v":2312},{"$f":"VLOOKUP(H2263,[1]RewardItemConfig!$B:$F,5,FALSE)","v":940},{"$f":"VLOOKUP(I2263,[1]RewardItemConfig!$B:$F,5,FALSE)","v":231},14,3,17,"14#2312|3#940|17#231"]
[{"$nulls":6},3002264,3007264,3012264,{"$f":"VLOOKUP(G2264,[1]RewardItemConfig!$B:$F,5,FALSE)","v":2313},{"$f":"VLOOKUP(H2264,[1]RewardItemConfig!$B:$F,5,FALSE)","v":940},{"$f":"VLOOKUP(I2264,[1]RewardItemConfig!$B:$F,5,FALSE)","v":231},14,3,17,"14#2313|3#940|17#231"]
[{"$nulls":6},3002265,3007265,3012265,{"$f":"VLOOKUP(G2265,[1]RewardItemConfig!$B:$F,5,FALSE)","v":2314},{"$f":"VLOOKUP(H2265,[1]RewardItemConfig!$B:$F,5,FALSE)","v":940},{"$f":"VLOOKUP(I2265,[1]RewardItemConfig!$B:$F,5,FALSE)","v":231},14,3,17,"14#2314|3#940|17#231"]
[{"$nulls":6},3002266,3007266,3012266,{"$f":"VLOOKUP(G2266,[1]RewardItemConfig!$B:$F,5,FALSE)","v":2315},{"$f":"VLOOKUP(H2266,[1]RewardItemConfig!$B:$F,5,FALSE)","v":940},{"$f":"VLOOKUP(I2266,[1]RewardItemConfig!$B:$F,5,FALSE)","v":231},14,3,17,"14#2315|3#940|17#231"]
[{"$nulls":6},3002267,3007267,3012267,{"$f":"VLOOKUP(G2267,[1]RewardItemConfig!$B:$F,5,FALSE)","v":2316},{"$f":"VLOOKUP(H2267,[1]RewardItemConfig!$B:$F,5,FALSE)","v":940},{"$f":"VLOOKUP(I2267,[1]RewardItemConfig!$B:$F,5,FALSE)","v":231},14,3,17,"14#2316|3#940|17#231"]
[{"$nulls":6},3002268,3007268,3012268,{"$f":"VLOOKUP(G2268,[1]RewardItemConfig!$B:$F,5,FALSE)","v":2317},{"$f":"VLOOKUP(H2268,[1]RewardItemConfig!$B:$F,5,FALSE)","v":940},{"$f":"VLOOKUP(I2268,[1]RewardItemConfig!$B:$F,5,FALSE)","v":231},14,3,17,"14#2317|3#940|17#231"]
[{"$nulls":6},3002269,3007269,3012269,{"$f":"VLOOKUP(G2269,[1]RewardItemConfig!$B:$F,5,FALSE)","v":2318},{"$f":"VLOOKUP(H2269,[1]RewardItemConfig!$B:$F,5,FALSE)","v":940},{"$f":"VLOOKUP(I2269,[1]RewardItemConfig!$B:$F,5,FALSE)","v":231},14,3,17,"14#2318|3#940|17#231"]
[{"$nulls":6},3002270,3007270,3012270,{"$f":"VLOOKUP(G2270,[1]RewardItemConfig!$B:$F,5,FALSE)","v":2319},{"$f":"VLOOKUP(H2270,[1]RewardItemConfig!$B:$F,5,FALSE)","v":950},{"$f":"VLOOKUP(I2270,[1]RewardItemConfig!$B:$F,5,FALSE)","v":232},14,3,17,"14#2319|3#950|17#232"]
[{"$nulls":6},3002271,3007271,3012271,{"$f":"VLOOKUP(G2271,[1]RewardItemConfig!$B:$F,5,FALSE)","v":2320},{"$f":"VLOOKUP(H2271,[1]RewardItemConfig!$B:$F,5,FALSE)","v":950},{"$f":"VLOOKUP(I2271,[1]RewardItemConfig!$B:$F,5,FALSE)","v":232},14,3,17,"14#2320|3#950|17#232"]
[{"$nulls":6},3002272,3007272,3012272,{"$f":"VLOOKUP(G2272,[1]RewardItemConfig!$B:$F,5,FALSE)","v":2321},{"$f":"VLOOKUP(H2272,[1]RewardItemConfig!$B:$F,5,FALSE)","v":950},{"$f":"VLOOKUP(I2272,[1]RewardItemConfig!$B:$F,5,FALSE)","v":232},14,3,17,"14#2321|3#950|17#232"]
[{"$nulls":6},3002273,3007273,3012273,{"$f":"VLOOKUP(G2273,[1]RewardItemConfig!$B:$F,5,FALSE)","v":2322},{"$f":"VLOOKUP(H2273,[1]RewardItemConfig!$B:$F,5,FALSE)","v":950},{"$f":"VLOOKUP(I2273,[1]RewardItemConfig!$B:$F,5,FALSE)","v":232},14,3,17,"14#2322|3#950|17#232"]
[{"$nulls":6},3002274,3007274,3012274,{"$f":"VLOOKUP(G2274,[1]RewardItemConfig!$B:$F,5,FALSE)","v":2323},{"$f":"VLOOKUP(H2274,[1]RewardItemConfig!$B:$F,5,FALSE)","v":950},{"$f":"VLOOKUP(I2274,[1]RewardItemConfig!$B:$F,5,FALSE)","v":232},14,3,17,"14#2323|3#950|17#232"]
[{"$nulls":6},3002275,3007275,3012275,{"$f":"VLOOKUP(G2275,[1]RewardItemConfig!$B:$F,5,FALSE)","v":2324},{"$f":"VLOOKUP(H2275,[1]RewardItemConfig!$B:$F,5,FALSE)","v":950},{"$f":"VLOOKUP(I2275,[1]RewardItemConfig!$B:$F,5,FALSE)","v":232},14,3,17,"14#2324|3#950|17#232"]
[{"$nulls":6},3002276,3007276,3012276,{"$f":"VLOOKUP(G2276,[1]RewardItemConfig!$B:$F,5,FALSE)","v":2325},{"$f":"VLOOKUP(H2276,[1]RewardItemConfig!$B:$F,5,FALSE)","v":950},{"$f":"VLOOKUP(I2276,[1]RewardItemConfig!$B:$F,5,FALSE)","v":232},14,3,17,"14#2325|3#950|17#232"]
[{"$nulls":6},3002277,3007277,3012277,{"$f":"VLOOKUP(G2277,[1]RewardItemConfig!$B:$F,5,FALSE)","v":2326},{"$f":"VLOOKUP(H2277,[1]RewardItemConfig!$B:$F,5,FALSE)","v":950},{"$f":"VLOOKUP(I2277,[1]RewardItemConfig!$B:$F,5,FALSE)","v":232},14,3,17,"14#2326|3#950|17#232"]
[{"$nulls":6},3002278,3007278,3012278,{"$f":"VLOOKUP(G2278,[1]RewardItemConfig!$B:$F,5,FALSE)","v":2327},{"$f":"VLOOKUP(H2278,[1]RewardItemConfig!$B:$F,5,FALSE)","v":950},{"$f":"VLOOKUP(I2278,[1]RewardItemConfig!$B:$F,5,FALSE)","v":232},14,3,17,"14#2327|3#950|17#232"]
[{"$nulls":6},3002279,3007279,3012279,{"$f":"VLOOKUP(G2279,[1]RewardItemConfig!$B:$F,5,FALSE)","v":2328},{"$f":"VLOOKUP(H2279,[1]RewardItemConfig!$B:$F,5,FALSE)","v":950},{"$f":"VLOOKUP(I2279,[1]RewardItemConfig!$B:$F,5,FALSE)","v":232},14,3,17,"14#2328|3#950|17#232"]
[{"$nulls":6},3002280,3007280,3012280,{"$f":"VLOOKUP(G2280,[1]RewardItemConfig!$B:$F,5,FALSE)","v":2329},{"$f":"VLOOKUP(H2280,[1]RewardItemConfig!$B:$F,5,FALSE)","v":960},{"$f":"VLOOKUP(I2280,[1]RewardItemConfig!$B:$F,5,FALSE)","v":233},14,3,17,"14#2329|3#960|17#233"]
[{"$nulls":6},3002281,3007281,3012281,{"$f":"VLOOKUP(G2281,[1]RewardItemConfig!$B:$F,5,FALSE)","v":2330},{"$f":"VLOOKUP(H2281,[1]RewardItemConfig!$B:$F,5,FALSE)","v":960},{"$f":"VLOOKUP(I2281,[1]RewardItemConfig!$B:$F,5,FALSE)","v":233},14,3,17,"14#2330|3#960|17#233"]
[{"$nulls":6},3002282,3007282,3012282,{"$f":"VLOOKUP(G2282,[1]RewardItemConfig!$B:$F,5,FALSE)","v":2331},{"$f":"VLOOKUP(H2282,[1]RewardItemConfig!$B:$F,5,FALSE)","v":960},{"$f":"VLOOKUP(I2282,[1]RewardItemConfig!$B:$F,5,FALSE)","v":233},14,3,17,"14#2331|3#960|17#233"]
[{"$nulls":6},3002283,3007283,3012283,{"$f":"VLOOKUP(G2283,[1]RewardItemConfig!$B:$F,5,FALSE)","v":2332},{"$f":"VLOOKUP(H2283,[1]RewardItemConfig!$B:$F,5,FALSE)","v":960},{"$f":"VLOOKUP(I2283,[1]RewardItemConfig!$B:$F,5,FALSE)","v":233},14,3,17,"14#2332|3#960|17#233"]
[{"$nulls":6},3002284,3007284,3012284,{"$f":"VLOOKUP(G2284,[1]RewardItemConfig!$B:$F,5,FALSE)","v":2333},{"$f":"VLOOKUP(H2284,[1]RewardItemConfig!$B:$F,5,FALSE)","v":960},{"$f":"VLOOKUP(I2284,[1]RewardItemConfig!$B:$F,5,FALSE)","v":233},14,3,17,"14#2333|3#960|17#233"]
[{"$nulls":6},3002285,3007285,3012285,{"$f":"VLOOKUP(G2285,[1]RewardItemConfig!$B:$F,5,FALSE)","v":2334},{"$f":"VLOOKUP(H2285,[1]RewardItemConfig!$B:$F,5,FALSE)","v":960},{"$f":"VLOOKUP(I2285,[1]RewardItemConfig!$B:$F,5,FALSE)","v":233},14,3,17,"14#2334|3#960|17#233"]
[{"$nulls":6},3002286,3007286,3012286,{"$f":"VLOOKUP(G2286,[1]RewardItemConfig!$B:$F,5,FALSE)","v":2335},{"$f":"VLOOKUP(H2286,[1]RewardItemConfig!$B:$F,5,FALSE)","v":960},{"$f":"VLOOKUP(I2286,[1]RewardItemConfig!$B:$F,5,FALSE)","v":233},14,3,17,"14#2335|3#960|17#233"]
[{"$nulls":6},3002287,3007287,3012287,{"$f":"VLOOKUP(G2287,[1]RewardItemConfig!$B:$F,5,FALSE)","v":2336},{"$f":"VLOOKUP(H2287,[1]RewardItemConfig!$B:$F,5,FALSE)","v":960},{"$f":"VLOOKUP(I2287,[1]RewardItemConfig!$B:$F,5,FALSE)","v":233},14,3,17,"14#2336|3#960|17#233"]
[{"$nulls":6},3002288,3007288,3012288,{"$f":"VLOOKUP(G2288,[1]RewardItemConfig!$B:$F,5,FALSE)","v":2337},{"$f":"VLOOKUP(H2288,[1]RewardItemConfig!$B:$F,5,FALSE)","v":960},{"$f":"VLOOKUP(I2288,[1]RewardItemConfig!$B:$F,5,FALSE)","v":233},14,3,17,"14#2337|3#960|17#233"]
[{"$nulls":6},3002289,3007289,3012289,{"$f":"VLOOKUP(G2289,[1]RewardItemConfig!$B:$F,5,FALSE)","v":2338},{"$f":"VLOOKUP(H2289,[1]RewardItemConfig!$B:$F,5,FALSE)","v":960},{"$f":"VLOOKUP(I2289,[1]RewardItemConfig!$B:$F,5,FALSE)","v":233},14,3,17,"14#2338|3#960|17#233"]
[{"$nulls":6},3002290,3007290,3012290,{"$f":"VLOOKUP(G2290,[1]RewardItemConfig!$B:$F,5,FALSE)","v":2339},{"$f":"VLOOKUP(H2290,[1]RewardItemConfig!$B:$F,5,FALSE)","v":970},{"$f":"VLOOKUP(I2290,[1]RewardItemConfig!$B:$F,5,FALSE)","v":234},14,3,17,"14#2339|3#970|17#234"]
[{"$nulls":6},3002291,3007291,3012291,{"$f":"VLOOKUP(G2291,[1]RewardItemConfig!$B:$F,5,FALSE)","v":2340},{"$f":"VLOOKUP(H2291,[1]RewardItemConfig!$B:$F,5,FALSE)","v":970},{"$f":"VLOOKUP(I2291,[1]RewardItemConfig!$B:$F,5,FALSE)","v":234},14,3,17,"14#2340|3#970|17#234"]
[{"$nulls":6},3002292,3007292,3012292,{"$f":"VLOOKUP(G2292,[1]RewardItemConfig!$B:$F,5,FALSE)","v":2341},{"$f":"VLOOKUP(H2292,[1]RewardItemConfig!$B:$F,5,FALSE)","v":970},{"$f":"VLOOKUP(I2292,[1]RewardItemConfig!$B:$F,5,FALSE)","v":234},14,3,17,"14#2341|3#970|17#234"]
[{"$nulls":6},3002293,3007293,3012293,{"$f":"VLOOKUP(G2293,[1]RewardItemConfig!$B:$F,5,FALSE)","v":2342},{"$f":"VLOOKUP(H2293,[1]RewardItemConfig!$B:$F,5,FALSE)","v":970},{"$f":"VLOOKUP(I2293,[1]RewardItemConfig!$B:$F,5,FALSE)","v":234},14,3,17,"14#2342|3#970|17#234"]
[{"$nulls":6},3002294,3007294,3012294,{"$f":"VLOOKUP(G2294,[1]RewardItemConfig!$B:$F,5,FALSE)","v":2343},{"$f":"VLOOKUP(H2294,[1]RewardItemConfig!$B:$F,5,FALSE)","v":970},{"$f":"VLOOKUP(I2294,[1]RewardItemConfig!$B:$F,5,FALSE)","v":234},14,3,17,"14#2343|3#970|17#234"]
[{"$nulls":6},3002295,3007295,3012295,{"$f":"VLOOKUP(G2295,[1]RewardItemConfig!$B:$F,5,FALSE)","v":2344},{"$f":"VLOOKUP(H2295,[1]RewardItemConfig!$B:$F,5,FALSE)","v":970},{"$f":"VLOOKUP(I2295,[1]RewardItemConfig!$B:$F,5,FALSE)","v":234},14,3,17,"14#2344|3#970|17#234"]
[{"$nulls":6},3002296,3007296,3012296,{"$f":"VLOOKUP(G2296,[1]RewardItemConfig!$B:$F,5,FALSE)","v":2345},{"$f":"VLOOKUP(H2296,[1]RewardItemConfig!$B:$F,5,FALSE)","v":970},{"$f":"VLOOKUP(I2296,[1]RewardItemConfig!$B:$F,5,FALSE)","v":234},14,3,17,"14#2345|3#970|17#234"]
[{"$nulls":6},3002297,3007297,3012297,{"$f":"VLOOKUP(G2297,[1]RewardItemConfig!$B:$F,5,FALSE)","v":2346},{"$f":"VLOOKUP(H2297,[1]RewardItemConfig!$B:$F,5,FALSE)","v":970},{"$f":"VLOOKUP(I2297,[1]RewardItemConfig!$B:$F,5,FALSE)","v":234},14,3,17,"14#2346|3#970|17#234"]
[{"$nulls":6},3002298,3007298,3012298,{"$f":"VLOOKUP(G2298,[1]RewardItemConfig!$B:$F,5,FALSE)","v":2347},{"$f":"VLOOKUP(H2298,[1]RewardItemConfig!$B:$F,5,FALSE)","v":970},{"$f":"VLOOKUP(I2298,[1]RewardItemConfig!$B:$F,5,FALSE)","v":234},14,3,17,"14#2347|3#970|17#234"]
[{"$nulls":6},3002299,3007299,3012299,{"$f":"VLOOKUP(G2299,[1]RewardItemConfig!$B:$F,5,FALSE)","v":2348},{"$f":"VLOOKUP(H2299,[1]RewardItemConfig!$B:$F,5,FALSE)","v":970},{"$f":"VLOOKUP(I2299,[1]RewardItemConfig!$B:$F,5,FALSE)","v":234},14,3,17,"14#2348|3#970|17#234"]
[{"$nulls":6},3002300,3007300,3012300,{"$f":"VLOOKUP(G2300,[1]RewardItemConfig!$B:$F,5,FALSE)","v":2349},{"$f":"VLOOKUP(H2300,[1]RewardItemConfig!$B:$F,5,FALSE)","v":980},{"$f":"VLOOKUP(I2300,[1]RewardItemConfig!$B:$F,5,FALSE)","v":235},14,3,17,"14#2349|3#980|17#235"]
[{"$nulls":6},3002301,3007301,3012301,{"$f":"VLOOKUP(G2301,[1]RewardItemConfig!$B:$F,5,FALSE)","v":2350},{"$f":"VLOOKUP(H2301,[1]RewardItemConfig!$B:$F,5,FALSE)","v":980},{"$f":"VLOOKUP(I2301,[1]RewardItemConfig!$B:$F,5,FALSE)","v":235},14,3,17,"14#2350|3#980|17#235"]
[{"$nulls":6},3002302,3007302,3012302,{"$f":"VLOOKUP(G2302,[1]RewardItemConfig!$B:$F,5,FALSE)","v":2351},{"$f":"VLOOKUP(H2302,[1]RewardItemConfig!$B:$F,5,FALSE)","v":980},{"$f":"VLOOKUP(I2302,[1]RewardItemConfig!$B:$F,5,FALSE)","v":235},14,3,17,"14#2351|3#980|17#235"]
[{"$nulls":6},3002303,3007303,3012303,{"$f":"VLOOKUP(G2303,[1]RewardItemConfig!$B:$F,5,FALSE)","v":2352},{"$f":"VLOOKUP(H2303,[1]RewardItemConfig!$B:$F,5,FALSE)","v":980},{"$f":"VLOOKUP(I2303,[1]RewardItemConfig!$B:$F,5,FALSE)","v":235},14,3,17,"14#2352|3#980|17#235"]
[{"$nulls":6},3002304,3007304,3012304,{"$f":"VLOOKUP(G2304,[1]RewardItemConfig!$B:$F,5,FALSE)","v":2353},{"$f":"VLOOKUP(H2304,[1]RewardItemConfig!$B:$F,5,FALSE)","v":980},{"$f":"VLOOKUP(I2304,[1]RewardItemConfig!$B:$F,5,FALSE)","v":235},14,3,17,"14#2353|3#980|17#235"]
[{"$nulls":6},3002305,3007305,3012305,{"$f":"VLOOKUP(G2305,[1]RewardItemConfig!$B:$F,5,FALSE)","v":2354},{"$f":"VLOOKUP(H2305,[1]RewardItemConfig!$B:$F,5,FALSE)","v":980},{"$f":"VLOOKUP(I2305,[1]RewardItemConfig!$B:$F,5,FALSE)","v":235},14,3,17,"14#2354|3#980|17#235"]
[{"$nulls":6},3002306,3007306,3012306,{"$f":"VLOOKUP(G2306,[1]RewardItemConfig!$B:$F,5,FALSE)","v":2355},{"$f":"VLOOKUP(H2306,[1]RewardItemConfig!$B:$F,5,FALSE)","v":980},{"$f":"VLOOKUP(I2306,[1]RewardItemConfig!$B:$F,5,FALSE)","v":235},14,3,17,{"$f":"M2306&\"#\"&J2306&\"|\"&N2306&\"#\"&K2306&\"|\"&O2306&\"#\"&L2306","v":"14#2355|3#980|17#235"}]
[{"$nulls":6},3002307,3007307,3012307,{"$f":"VLOOKUP(G2307,[1]RewardItemConfig!$B:$F,5,FALSE)","v":2356},{"$f":"VLOOKUP(H2307,[1]RewardItemConfig!$B:$F,5,FALSE)","v":980},{"$f":"VLOOKUP(I2307,[1]RewardItemConfig!$B:$F,5,FALSE)","v":235},{"$f":"M2306","v":14},{"$f":"N2306","v":3},{"$f":"O2306","v":17},"14#2356|3#980|17#235"]
[{"$nulls":6},3002308,3007308,3012308,{"$f":"VLOOKUP(G2308,[1]RewardItemConfig!$B:$F,5,FALSE)","v":2357},{"$f":"VLOOKUP(H2308,[1]RewardItemConfig!$B:$F,5,FALSE)","v":980},{"$f":"VLOOKUP(I2308,[1]RewardItemConfig!$B:$F,5,FALSE)","v":235},14,3,17,"14#2357|3#980|17#235"]
[{"$nulls":6},3002309,3007309,3012309,{"$f":"VLOOKUP(G2309,[1]RewardItemConfig!$B:$F,5,FALSE)","v":2358},{"$f":"VLOOKUP(H2309,[1]RewardItemConfig!$B:$F,5,FALSE)","v":980},{"$f":"VLOOKUP(I2309,[1]RewardItemConfig!$B:$F,5,FALSE)","v":235},14,3,17,"14#2358|3#980|17#235"]
[{"$nulls":6},3002310,3007310,3012310,{"$f":"VLOOKUP(G2310,[1]RewardItemConfig!$B:$F,5,FALSE)","v":2359},{"$f":"VLOOKUP(H2310,[1]RewardItemConfig!$B:$F,5,FALSE)","v":990},{"$f":"VLOOKUP(I2310,[1]RewardItemConfig!$B:$F,5,FALSE)","v":236},14,3,17,"14#2359|3#990|17#236"]
[{"$nulls":6},3002311,3007311,3012311,{"$f":"VLOOKUP(G2311,[1]RewardItemConfig!$B:$F,5,FALSE)","v":2360},{"$f":"VLOOKUP(H2311,[1]RewardItemConfig!$B:$F,5,FALSE)","v":990},{"$f":"VLOOKUP(I2311,[1]RewardItemConfig!$B:$F,5,FALSE)","v":236},14,3,17,"14#2360|3#990|17#236"]
[{"$nulls":6},3002312,3007312,3012312,{"$f":"VLOOKUP(G2312,[1]RewardItemConfig!$B:$F,5,FALSE)","v":2361},{"$f":"VLOOKUP(H2312,[1]RewardItemConfig!$B:$F,5,FALSE)","v":990},{"$f":"VLOOKUP(I2312,[1]RewardItemConfig!$B:$F,5,FALSE)","v":236},14,3,17,"14#2361|3#990|17#236"]
[{"$nulls":6},3002313,3007313,3012313,{"$f":"VLOOKUP(G2313,[1]RewardItemConfig!$B:$F,5,FALSE)","v":2362},{"$f":"VLOOKUP(H2313,[1]RewardItemConfig!$B:$F,5,FALSE)","v":990},{"$f":"VLOOKUP(I2313,[1]RewardItemConfig!$B:$F,5,FALSE)","v":236},14,3,17,"14#2362|3#990|17#236"]
[{"$nulls":6},3002314,3007314,3012314,{"$f":"VLOOKUP(G2314,[1]RewardItemConfig!$B:$F,5,FALSE)","v":2363},{"$f":"VLOOKUP(H2314,[1]RewardItemConfig!$B:$F,5,FALSE)","v":990},{"$f":"VLOOKUP(I2314,[1]RewardItemConfig!$B:$F,5,FALSE)","v":236},14,3,17,"14#2363|3#990|17#236"]
[{"$nulls":6},3002315,3007315,3012315,{"$f":"VLOOKUP(G2315,[1]RewardItemConfig!$B:$F,5,FALSE)","v":2364},{"$f":"VLOOKUP(H2315,[1]RewardItemConfig!$B:$F,5,FALSE)","v":990},{"$f":"VLOOKUP(I2315,[1]RewardItemConfig!$B:$F,5,FALSE)","v":236},14,3,17,"14#2364|3#990|17#236"]
[{"$nulls":6},3002316,3007316,3012316,{"$f":"VLOOKUP(G2316,[1]RewardItemConfig!$B:$F,5,FALSE)","v":2365},{"$f":"VLOOKUP(H2316,[1]RewardItemConfig!$B:$F,5,FALSE)","v":990},{"$f":"VLOOKUP(I2316,[1]RewardItemConfig!$B:$F,5,FALSE)","v":236},14,3,17,"14#2365|3#990|17#236"]
[{"$nulls":6},3002317,3007317,3012317,{"$f":"VLOOKUP(G2317,[1]RewardItemConfig!$B:$F,5,FALSE)","v":2366},{"$f":"VLOOKUP(H2317,[1]RewardItemConfig!$B:$F,5,FALSE)","v":990},{"$f":"VLOOKUP(I2317,[1]RewardItemConfig!$B:$F,5,FALSE)","v":236},14,3,17,"14#2366|3#990|17#236"]
[{"$nulls":6},3002318,3007318,3012318,{"$f":"VLOOKUP(G2318,[1]RewardItemConfig!$B:$F,5,FALSE)","v":2367},{"$f":"VLOOKUP(H2318,[1]RewardItemConfig!$B:$F,5,FALSE)","v":990},{"$f":"VLOOKUP(I2318,[1]RewardItemConfig!$B:$F,5,FALSE)","v":236},14,3,17,"14#2367|3#990|17#236"]
[{"$nulls":6},3002319,3007319,3012319,{"$f":"VLOOKUP(G2319,[1]RewardItemConfig!$B:$F,5,FALSE)","v":2368},{"$f":"VLOOKUP(H2319,[1]RewardItemConfig!$B:$F,5,FALSE)","v":990},{"$f":"VLOOKUP(I2319,[1]RewardItemConfig!$B:$F,5,FALSE)","v":236},14,3,17,"14#2368|3#990|17#236"]
[{"$nulls":6},3002320,3007320,3012320,{"$f":"VLOOKUP(G2320,[1]RewardItemConfig!$B:$F,5,FALSE)","v":2369},{"$f":"VLOOKUP(H2320,[1]RewardItemConfig!$B:$F,5,FALSE)","v":1000},{"$f":"VLOOKUP(I2320,[1]RewardItemConfig!$B:$F,5,FALSE)","v":237},14,3,17,"14#2369|3#1000|17#237"]
[{"$nulls":6},3002321,3007321,3012321,{"$f":"VLOOKUP(G2321,[1]RewardItemConfig!$B:$F,5,FALSE)","v":2370},{"$f":"VLOOKUP(H2321,[1]RewardItemConfig!$B:$F,5,FALSE)","v":1000},{"$f":"VLOOKUP(I2321,[1]RewardItemConfig!$B:$F,5,FALSE)","v":237},14,3,17,"14#2370|3#1000|17#237"]
[{"$nulls":6},3002322,3007322,3012322,{"$f":"VLOOKUP(G2322,[1]RewardItemConfig!$B:$F,5,FALSE)","v":2371},{"$f":"VLOOKUP(H2322,[1]RewardItemConfig!$B:$F,5,FALSE)","v":1000},{"$f":"VLOOKUP(I2322,[1]RewardItemConfig!$B:$F,5,FALSE)","v":237},14,3,17,"14#2371|3#1000|17#237"]
[{"$nulls":6},3002323,3007323,3012323,{"$f":"VLOOKUP(G2323,[1]RewardItemConfig!$B:$F,5,FALSE)","v":2372},{"$f":"VLOOKUP(H2323,[1]RewardItemConfig!$B:$F,5,FALSE)","v":1000},{"$f":"VLOOKUP(I2323,[1]RewardItemConfig!$B:$F,5,FALSE)","v":237},14,3,17,"14#2372|3#1000|17#237"]
[{"$nulls":6},3002324,3007324,3012324,{"$f":"VLOOKUP(G2324,[1]RewardItemConfig!$B:$F,5,FALSE)","v":2373},{"$f":"VLOOKUP(H2324,[1]RewardItemConfig!$B:$F,5,FALSE)","v":1000},{"$f":"VLOOKUP(I2324,[1]RewardItemConfig!$B:$F,5,FALSE)","v":237},14,3,17,"14#2373|3#1000|17#237"]
[{"$nulls":6},3002325,3007325,3012325,{"$f":"VLOOKUP(G2325,[1]RewardItemConfig!$B:$F,5,FALSE)","v":2374},{"$f":"VLOOKUP(H2325,[1]RewardItemConfig!$B:$F,5,FALSE)","v":1000},{"$f":"VLOOKUP(I2325,[1]RewardItemConfig!$B:$F,5,FALSE)","v":237},14,3,17,"14#2374|3#1000|17#237"]
[{"$nulls":6},3002326,3007326,3012326,{"$f":"VLOOKUP(G2326,[1]RewardItemConfig!$B:$F,5,FALSE)","v":2375},{"$f":"VLOOKUP(H2326,[1]RewardItemConfig!$B:$F,5,FALSE)","v":1000},{"$f":"VLOOKUP(I2326,[1]RewardItemConfig!$B:$F,5,FALSE)","v":237},14,3,17,"14#2375|3#1000|17#237"]
[{"$nulls":6},3002327,3007327,3012327,{"$f":"VLOOKUP(G2327,[1]RewardItemConfig!$B:$F,5,FALSE)","v":2376},{"$f":"VLOOKUP(H2327,[1]RewardItemConfig!$B:$F,5,FALSE)","v":1000},{"$f":"VLOOKUP(I2327,[1]RewardItemConfig!$B:$F,5,FALSE)","v":237},14,3,17,"14#2376|3#1000|17#237"]
[{"$nulls":6},3002328,3007328,3012328,{"$f":"VLOOKUP(G2328,[1]RewardItemConfig!$B:$F,5,FALSE)","v":2377},{"$f":"VLOOKUP(H2328,[1]RewardItemConfig!$B:$F,5,FALSE)","v":1000},{"$f":"VLOOKUP(I2328,[1]RewardItemConfig!$B:$F,5,FALSE)","v":237},14,3,17,"14#2377|3#1000|17#237"]
[{"$nulls":6},3002329,3007329,3012329,{"$f":"VLOOKUP(G2329,[1]RewardItemConfig!$B:$F,5,FALSE)","v":2378},{"$f":"VLOOKUP(H2329,[1]RewardItemConfig!$B:$F,5,FALSE)","v":1000},{"$f":"VLOOKUP(I2329,[1]RewardItemConfig!$B:$F,5,FALSE)","v":237},14,3,17,"14#2378|3#1000|17#237"]
[{"$nulls":6},3002330,3007330,3012330,{"$f":"VLOOKUP(G2330,[1]RewardItemConfig!$B:$F,5,FALSE)","v":2379},{"$f":"VLOOKUP(H2330,[1]RewardItemConfig!$B:$F,5,FALSE)","v":1010},{"$f":"VLOOKUP(I2330,[1]RewardItemConfig!$B:$F,5,FALSE)","v":238},14,3,17,"14#2379|3#1010|17#238"]
[{"$nulls":6},3002331,3007331,3012331,{"$f":"VLOOKUP(G2331,[1]RewardItemConfig!$B:$F,5,FALSE)","v":2380},{"$f":"VLOOKUP(H2331,[1]RewardItemConfig!$B:$F,5,FALSE)","v":1010},{"$f":"VLOOKUP(I2331,[1]RewardItemConfig!$B:$F,5,FALSE)","v":238},14,3,17,"14#2380|3#1010|17#238"]
[{"$nulls":6},3002332,3007332,3012332,{"$f":"VLOOKUP(G2332,[1]RewardItemConfig!$B:$F,5,FALSE)","v":2381},{"$f":"VLOOKUP(H2332,[1]RewardItemConfig!$B:$F,5,FALSE)","v":1010},{"$f":"VLOOKUP(I2332,[1]RewardItemConfig!$B:$F,5,FALSE)","v":238},14,3,17,"14#2381|3#1010|17#238"]
[{"$nulls":6},3002333,3007333,3012333,{"$f":"VLOOKUP(G2333,[1]RewardItemConfig!$B:$F,5,FALSE)","v":2382},{"$f":"VLOOKUP(H2333,[1]RewardItemConfig!$B:$F,5,FALSE)","v":1010},{"$f":"VLOOKUP(I2333,[1]RewardItemConfig!$B:$F,5,FALSE)","v":238},14,3,17,"14#2382|3#1010|17#238"]
[{"$nulls":6},3002334,3007334,3012334,{"$f":"VLOOKUP(G2334,[1]RewardItemConfig!$B:$F,5,FALSE)","v":2383},{"$f":"VLOOKUP(H2334,[1]RewardItemConfig!$B:$F,5,FALSE)","v":1010},{"$f":"VLOOKUP(I2334,[1]RewardItemConfig!$B:$F,5,FALSE)","v":238},14,3,17,"14#2383|3#1010|17#238"]
[{"$nulls":6},3002335,3007335,3012335,{"$f":"VLOOKUP(G2335,[1]RewardItemConfig!$B:$F,5,FALSE)","v":2384},{"$f":"VLOOKUP(H2335,[1]RewardItemConfig!$B:$F,5,FALSE)","v":1010},{"$f":"VLOOKUP(I2335,[1]RewardItemConfig!$B:$F,5,FALSE)","v":238},14,3,17,"14#2384|3#1010|17#238"]
[{"$nulls":6},3002336,3007336,3012336,{"$f":"VLOOKUP(G2336,[1]RewardItemConfig!$B:$F,5,FALSE)","v":2385},{"$f":"VLOOKUP(H2336,[1]RewardItemConfig!$B:$F,5,FALSE)","v":1010},{"$f":"VLOOKUP(I2336,[1]RewardItemConfig!$B:$F,5,FALSE)","v":238},14,3,17,"14#2385|3#1010|17#238"]
[{"$nulls":6},3002337,3007337,3012337,{"$f":"VLOOKUP(G2337,[1]RewardItemConfig!$B:$F,5,FALSE)","v":2386},{"$f":"VLOOKUP(H2337,[1]RewardItemConfig!$B:$F,5,FALSE)","v":1010},{"$f":"VLOOKUP(I2337,[1]RewardItemConfig!$B:$F,5,FALSE)","v":238},14,3,17,"14#2386|3#1010|17#238"]
[{"$nulls":6},3002338,3007338,3012338,{"$f":"VLOOKUP(G2338,[1]RewardItemConfig!$B:$F,5,FALSE)","v":2387},{"$f":"VLOOKUP(H2338,[1]RewardItemConfig!$B:$F,5,FALSE)","v":1010},{"$f":"VLOOKUP(I2338,[1]RewardItemConfig!$B:$F,5,FALSE)","v":238},14,3,17,"14#2387|3#1010|17#238"]
[{"$nulls":6},3002339,3007339,3012339,{"$f":"VLOOKUP(G2339,[1]RewardItemConfig!$B:$F,5,FALSE)","v":2388},{"$f":"VLOOKUP(H2339,[1]RewardItemConfig!$B:$F,5,FALSE)","v":1010},{"$f":"VLOOKUP(I2339,[1]RewardItemConfig!$B:$F,5,FALSE)","v":238},14,3,17,"14#2388|3#1010|17#238"]
[{"$nulls":6},3002340,3007340,3012340,{"$f":"VLOOKUP(G2340,[1]RewardItemConfig!$B:$F,5,FALSE)","v":2389},{"$f":"VLOOKUP(H2340,[1]RewardItemConfig!$B:$F,5,FALSE)","v":1020},{"$f":"VLOOKUP(I2340,[1]RewardItemConfig!$B:$F,5,FALSE)","v":239},14,3,17,"14#2389|3#1020|17#239"]
[{"$nulls":6},3002341,3007341,3012341,{"$f":"VLOOKUP(G2341,[1]RewardItemConfig!$B:$F,5,FALSE)","v":2390},{"$f":"VLOOKUP(H2341,[1]RewardItemConfig!$B:$F,5,FALSE)","v":1020},{"$f":"VLOOKUP(I2341,[1]RewardItemConfig!$B:$F,5,FALSE)","v":239},14,3,17,"14#2390|3#1020|17#239"]
[{"$nulls":6},3002342,3007342,3012342,{"$f":"VLOOKUP(G2342,[1]RewardItemConfig!$B:$F,5,FALSE)","v":2391},{"$f":"VLOOKUP(H2342,[1]RewardItemConfig!$B:$F,5,FALSE)","v":1020},{"$f":"VLOOKUP(I2342,[1]RewardItemConfig!$B:$F,5,FALSE)","v":239},14,3,17,"14#2391|3#1020|17#239"]
[{"$nulls":6},3002343,3007343,3012343,{"$f":"VLOOKUP(G2343,[1]RewardItemConfig!$B:$F,5,FALSE)","v":2392},{"$f":"VLOOKUP(H2343,[1]RewardItemConfig!$B:$F,5,FALSE)","v":1020},{"$f":"VLOOKUP(I2343,[1]RewardItemConfig!$B:$F,5,FALSE)","v":239},14,3,17,"14#2392|3#1020|17#239"]
[{"$nulls":6},3002344,3007344,3012344,{"$f":"VLOOKUP(G2344,[1]RewardItemConfig!$B:$F,5,FALSE)","v":2393},{"$f":"VLOOKUP(H2344,[1]RewardItemConfig!$B:$F,5,FALSE)","v":1020},{"$f":"VLOOKUP(I2344,[1]RewardItemConfig!$B:$F,5,FALSE)","v":239},14,3,17,"14#2393|3#1020|17#239"]
[{"$nulls":6},3002345,3007345,3012345,{"$f":"VLOOKUP(G2345,[1]RewardItemConfig!$B:$F,5,FALSE)","v":2394},{"$f":"VLOOKUP(H2345,[1]RewardItemConfig!$B:$F,5,FALSE)","v":1020},{"$f":"VLOOKUP(I2345,[1]RewardItemConfig!$B:$F,5,FALSE)","v":239},14,3,17,"14#2394|3#1020|17#239"]
[{"$nulls":6},3002346,3007346,3012346,{"$f":"VLOOKUP(G2346,[1]RewardItemConfig!$B:$F,5,FALSE)","v":2395},{"$f":"VLOOKUP(H2346,[1]RewardItemConfig!$B:$F,5,FALSE)","v":1020},{"$f":"VLOOKUP(I2346,[1]RewardItemConfig!$B:$F,5,FALSE)","v":239},14,3,17,"14#2395|3#1020|17#239"]
[{"$nulls":6},3002347,3007347,3012347,{"$f":"VLOOKUP(G2347,[1]RewardItemConfig!$B:$F,5,FALSE)","v":2396},{"$f":"VLOOKUP(H2347,[1]RewardItemConfig!$B:$F,5,FALSE)","v":1020},{"$f":"VLOOKUP(I2347,[1]RewardItemConfig!$B:$F,5,FALSE)","v":239},14,3,17,"14#2396|3#1020|17#239"]
[{"$nulls":6},3002348,3007348,3012348,{"$f":"VLOOKUP(G2348,[1]RewardItemConfig!$B:$F,5,FALSE)","v":2397},{"$f":"VLOOKUP(H2348,[1]RewardItemConfig!$B:$F,5,FALSE)","v":1020},{"$f":"VLOOKUP(I2348,[1]RewardItemConfig!$B:$F,5,FALSE)","v":239},14,3,17,"14#2397|3#1020|17#239"]
[{"$nulls":6},3002349,3007349,3012349,{"$f":"VLOOKUP(G2349,[1]RewardItemConfig!$B:$F,5,FALSE)","v":2398},{"$f":"VLOOKUP(H2349,[1]RewardItemConfig!$B:$F,5,FALSE)","v":1020},{"$f":"VLOOKUP(I2349,[1]RewardItemConfig!$B:$F,5,FALSE)","v":239},14,3,17,"14#2398|3#1020|17#239"]
[{"$nulls":6},3002350,3007350,3012350,{"$f":"VLOOKUP(G2350,[1]RewardItemConfig!$B:$F,5,FALSE)","v":2399},{"$f":"VLOOKUP(H2350,[1]RewardItemConfig!$B:$F,5,FALSE)","v":1030},{"$f":"VLOOKUP(I2350,[1]RewardItemConfig!$B:$F,5,FALSE)","v":240},14,3,17,"14#2399|3#1030|17#240"]
[{"$nulls":6},3002351,3007351,3012351,{"$f":"VLOOKUP(G2351,[1]RewardItemConfig!$B:$F,5,FALSE)","v":2400},{"$f":"VLOOKUP(H2351,[1]RewardItemConfig!$B:$F,5,FALSE)","v":1030},{"$f":"VLOOKUP(I2351,[1]RewardItemConfig!$B:$F,5,FALSE)","v":240},14,3,17,"14#2400|3#1030|17#240"]
[{"$nulls":6},3002352,3007352,3012352,{"$f":"VLOOKUP(G2352,[1]RewardItemConfig!$B:$F,5,FALSE)","v":2401},{"$f":"VLOOKUP(H2352,[1]RewardItemConfig!$B:$F,5,FALSE)","v":1030},{"$f":"VLOOKUP(I2352,[1]RewardItemConfig!$B:$F,5,FALSE)","v":240},14,3,17,"14#2401|3#1030|17#240"]
[{"$nulls":6},3002353,3007353,3012353,{"$f":"VLOOKUP(G2353,[1]RewardItemConfig!$B:$F,5,FALSE)","v":2402},{"$f":"VLOOKUP(H2353,[1]RewardItemConfig!$B:$F,5,FALSE)","v":1030},{"$f":"VLOOKUP(I2353,[1]RewardItemConfig!$B:$F,5,FALSE)","v":240},14,3,17,"14#2402|3#1030|17#240"]
[{"$nulls":6},3002354,3007354,3012354,{"$f":"VLOOKUP(G2354,[1]RewardItemConfig!$B:$F,5,FALSE)","v":2403},{"$f":"VLOOKUP(H2354,[1]RewardItemConfig!$B:$F,5,FALSE)","v":1030},{"$f":"VLOOKUP(I2354,[1]RewardItemConfig!$B:$F,5,FALSE)","v":240},14,3,17,"14#2403|3#1030|17#240"]
[{"$nulls":6},3002355,3007355,3012355,{"$f":"VLOOKUP(G2355,[1]RewardItemConfig!$B:$F,5,FALSE)","v":2404},{"$f":"VLOOKUP(H2355,[1]RewardItemConfig!$B:$F,5,FALSE)","v":1030},{"$f":"VLOOKUP(I2355,[1]RewardItemConfig!$B:$F,5,FALSE)","v":240},14,3,17,"14#2404|3#1030|17#240"]
[{"$nulls":6},3002356,3007356,3012356,{"$f":"VLOOKUP(G2356,[1]RewardItemConfig!$B:$F,5,FALSE)","v":2405},{"$f":"VLOOKUP(H2356,[1]RewardItemConfig!$B:$F,5,FALSE)","v":1030},{"$f":"VLOOKUP(I2356,[1]RewardItemConfig!$B:$F,5,FALSE)","v":240},14,3,17,"14#2405|3#1030|17#240"]
[{"$nulls":6},3002357,3007357,3012357,{"$f":"VLOOKUP(G2357,[1]RewardItemConfig!$B:$F,5,FALSE)","v":2406},{"$f":"VLOOKUP(H2357,[1]RewardItemConfig!$B:$F,5,FALSE)","v":1030},{"$f":"VLOOKUP(I2357,[1]RewardItemConfig!$B:$F,5,FALSE)","v":240},14,3,17,"14#2406|3#1030|17#240"]
[{"$nulls":6},3002358,3007358,3012358,{"$f":"VLOOKUP(G2358,[1]RewardItemConfig!$B:$F,5,FALSE)","v":2407},{"$f":"VLOOKUP(H2358,[1]RewardItemConfig!$B:$F,5,FALSE)","v":1030},{"$f":"VLOOKUP(I2358,[1]RewardItemConfig!$B:$F,5,FALSE)","v":240},14,3,17,"14#2407|3#1030|17#240"]
[{"$nulls":6},3002359,3007359,3012359,{"$f":"VLOOKUP(G2359,[1]RewardItemConfig!$B:$F,5,FALSE)","v":2408},{"$f":"VLOOKUP(H2359,[1]RewardItemConfig!$B:$F,5,FALSE)","v":1030},{"$f":"VLOOKUP(I2359,[1]RewardItemConfig!$B:$F,5,FALSE)","v":240},14,3,17,"14#2408|3#1030|17#240"]
[{"$nulls":6},3002360,3007360,3012360,{"$f":"VLOOKUP(G2360,[1]RewardItemConfig!$B:$F,5,FALSE)","v":2409},{"$f":"VLOOKUP(H2360,[1]RewardItemConfig!$B:$F,5,FALSE)","v":1040},{"$f":"VLOOKUP(I2360,[1]RewardItemConfig!$B:$F,5,FALSE)","v":241},14,3,17,"14#2409|3#1040|17#241"]
[{"$nulls":6},3002361,3007361,3012361,{"$f":"VLOOKUP(G2361,[1]RewardItemConfig!$B:$F,5,FALSE)","v":2410},{"$f":"VLOOKUP(H2361,[1]RewardItemConfig!$B:$F,5,FALSE)","v":1040},{"$f":"VLOOKUP(I2361,[1]RewardItemConfig!$B:$F,5,FALSE)","v":241},14,3,17,"14#2410|3#1040|17#241"]
[{"$nulls":6},3002362,3007362,3012362,{"$f":"VLOOKUP(G2362,[1]RewardItemConfig!$B:$F,5,FALSE)","v":2411},{"$f":"VLOOKUP(H2362,[1]RewardItemConfig!$B:$F,5,FALSE)","v":1040},{"$f":"VLOOKUP(I2362,[1]RewardItemConfig!$B:$F,5,FALSE)","v":241},14,3,17,"14#2411|3#1040|17#241"]
[{"$nulls":6},3002363,3007363,3012363,{"$f":"VLOOKUP(G2363,[1]RewardItemConfig!$B:$F,5,FALSE)","v":2412},{"$f":"VLOOKUP(H2363,[1]RewardItemConfig!$B:$F,5,FALSE)","v":1040},{"$f":"VLOOKUP(I2363,[1]RewardItemConfig!$B:$F,5,FALSE)","v":241},14,3,17,"14#2412|3#1040|17#241"]
[{"$nulls":6},3002364,3007364,3012364,{"$f":"VLOOKUP(G2364,[1]RewardItemConfig!$B:$F,5,FALSE)","v":2413},{"$f":"VLOOKUP(H2364,[1]RewardItemConfig!$B:$F,5,FALSE)","v":1040},{"$f":"VLOOKUP(I2364,[1]RewardItemConfig!$B:$F,5,FALSE)","v":241},14,3,17,"14#2413|3#1040|17#241"]
[{"$nulls":6},3002365,3007365,3012365,{"$f":"VLOOKUP(G2365,[1]RewardItemConfig!$B:$F,5,FALSE)","v":2414},{"$f":"VLOOKUP(H2365,[1]RewardItemConfig!$B:$F,5,FALSE)","v":1040},{"$f":"VLOOKUP(I2365,[1]RewardItemConfig!$B:$F,5,FALSE)","v":241},14,3,17,"14#2414|3#1040|17#241"]
[{"$nulls":6},3002366,3007366,3012366,{"$f":"VLOOKUP(G2366,[1]RewardItemConfig!$B:$F,5,FALSE)","v":2415},{"$f":"VLOOKUP(H2366,[1]RewardItemConfig!$B:$F,5,FALSE)","v":1040},{"$f":"VLOOKUP(I2366,[1]RewardItemConfig!$B:$F,5,FALSE)","v":241},14,3,17,"14#2415|3#1040|17#241"]
[{"$nulls":6},3002367,3007367,3012367,{"$f":"VLOOKUP(G2367,[1]RewardItemConfig!$B:$F,5,FALSE)","v":2416},{"$f":"VLOOKUP(H2367,[1]RewardItemConfig!$B:$F,5,FALSE)","v":1040},{"$f":"VLOOKUP(I2367,[1]RewardItemConfig!$B:$F,5,FALSE)","v":241},14,3,17,"14#2416|3#1040|17#241"]
[{"$nulls":6},3002368,3007368,3012368,{"$f":"VLOOKUP(G2368,[1]RewardItemConfig!$B:$F,5,FALSE)","v":2417},{"$f":"VLOOKUP(H2368,[1]RewardItemConfig!$B:$F,5,FALSE)","v":1040},{"$f":"VLOOKUP(I2368,[1]RewardItemConfig!$B:$F,5,FALSE)","v":241},14,3,17,"14#2417|3#1040|17#241"]
[{"$nulls":6},3002369,3007369,3012369,{"$f":"VLOOKUP(G2369,[1]RewardItemConfig!$B:$F,5,FALSE)","v":2418},{"$f":"VLOOKUP(H2369,[1]RewardItemConfig!$B:$F,5,FALSE)","v":1040},{"$f":"VLOOKUP(I2369,[1]RewardItemConfig!$B:$F,5,FALSE)","v":241},14,3,17,"14#2418|3#1040|17#241"]
[{"$nulls":6},3002370,3007370,3012370,{"$f":"VLOOKUP(G2370,[1]RewardItemConfig!$B:$F,5,FALSE)","v":2419},{"$f":"VLOOKUP(H2370,[1]RewardItemConfig!$B:$F,5,FALSE)","v":1050},{"$f":"VLOOKUP(I2370,[1]RewardItemConfig!$B:$F,5,FALSE)","v":242},14,3,17,{"$f":"M2370&\"#\"&J2370&\"|\"&N2370&\"#\"&K2370&\"|\"&O2370&\"#\"&L2370","v":"14#2419|3#1050|17#242"}]
[{"$nulls":6},3002371,3007371,3012371,{"$f":"VLOOKUP(G2371,[1]RewardItemConfig!$B:$F,5,FALSE)","v":2420},{"$f":"VLOOKUP(H2371,[1]RewardItemConfig!$B:$F,5,FALSE)","v":1050},{"$f":"VLOOKUP(I2371,[1]RewardItemConfig!$B:$F,5,FALSE)","v":242},{"$f":"M2370","v":14},{"$f":"N2370","v":3},{"$f":"O2370","v":17},"14#2420|3#1050|17#242"]
[{"$nulls":6},3002372,3007372,3012372,{"$f":"VLOOKUP(G2372,[1]RewardItemConfig!$B:$F,5,FALSE)","v":2421},{"$f":"VLOOKUP(H2372,[1]RewardItemConfig!$B:$F,5,FALSE)","v":1050},{"$f":"VLOOKUP(I2372,[1]RewardItemConfig!$B:$F,5,FALSE)","v":242},14,3,17,"14#2421|3#1050|17#242"]
[{"$nulls":6},3002373,3007373,3012373,{"$f":"VLOOKUP(G2373,[1]RewardItemConfig!$B:$F,5,FALSE)","v":2422},{"$f":"VLOOKUP(H2373,[1]RewardItemConfig!$B:$F,5,FALSE)","v":1050},{"$f":"VLOOKUP(I2373,[1]RewardItemConfig!$B:$F,5,FALSE)","v":242},14,3,17,"14#2422|3#1050|17#242"]
[{"$nulls":6},3002374,3007374,3012374,{"$f":"VLOOKUP(G2374,[1]RewardItemConfig!$B:$F,5,FALSE)","v":2423},{"$f":"VLOOKUP(H2374,[1]RewardItemConfig!$B:$F,5,FALSE)","v":1050},{"$f":"VLOOKUP(I2374,[1]RewardItemConfig!$B:$F,5,FALSE)","v":242},14,3,17,"14#2423|3#1050|17#242"]
[{"$nulls":6},3002375,3007375,3012375,{"$f":"VLOOKUP(G2375,[1]RewardItemConfig!$B:$F,5,FALSE)","v":2424},{"$f":"VLOOKUP(H2375,[1]RewardItemConfig!$B:$F,5,FALSE)","v":1050},{"$f":"VLOOKUP(I2375,[1]RewardItemConfig!$B:$F,5,FALSE)","v":242},14,3,17,"14#2424|3#1050|17#242"]
[{"$nulls":6},3002376,3007376,3012376,{"$f":"VLOOKUP(G2376,[1]RewardItemConfig!$B:$F,5,FALSE)","v":2425},{"$f":"VLOOKUP(H2376,[1]RewardItemConfig!$B:$F,5,FALSE)","v":1050},{"$f":"VLOOKUP(I2376,[1]RewardItemConfig!$B:$F,5,FALSE)","v":242},14,3,17,"14#2425|3#1050|17#242"]
[{"$nulls":6},3002377,3007377,3012377,{"$f":"VLOOKUP(G2377,[1]RewardItemConfig!$B:$F,5,FALSE)","v":2426},{"$f":"VLOOKUP(H2377,[1]RewardItemConfig!$B:$F,5,FALSE)","v":1050},{"$f":"VLOOKUP(I2377,[1]RewardItemConfig!$B:$F,5,FALSE)","v":242},14,3,17,"14#2426|3#1050|17#242"]
[{"$nulls":6},3002378,3007378,3012378,{"$f":"VLOOKUP(G2378,[1]RewardItemConfig!$B:$F,5,FALSE)","v":2427},{"$f":"VLOOKUP(H2378,[1]RewardItemConfig!$B:$F,5,FALSE)","v":1050},{"$f":"VLOOKUP(I2378,[1]RewardItemConfig!$B:$F,5,FALSE)","v":242},14,3,17,"14#2427|3#1050|17#242"]
[{"$nulls":6},3002379,3007379,3012379,{"$f":"VLOOKUP(G2379,[1]RewardItemConfig!$B:$F,5,FALSE)","v":2428},{"$f":"VLOOKUP(H2379,[1]RewardItemConfig!$B:$F,5,FALSE)","v":1050},{"$f":"VLOOKUP(I2379,[1]RewardItemConfig!$B:$F,5,FALSE)","v":242},14,3,17,"14#2428|3#1050|17#242"]
[{"$nulls":6},3002380,3007380,3012380,{"$f":"VLOOKUP(G2380,[1]RewardItemConfig!$B:$F,5,FALSE)","v":2429},{"$f":"VLOOKUP(H2380,[1]RewardItemConfig!$B:$F,5,FALSE)","v":1060},{"$f":"VLOOKUP(I2380,[1]RewardItemConfig!$B:$F,5,FALSE)","v":243},14,3,17,"14#2429|3#1060|17#243"]
[{"$nulls":6},3002381,3007381,3012381,{"$f":"VLOOKUP(G2381,[1]RewardItemConfig!$B:$F,5,FALSE)","v":2430},{"$f":"VLOOKUP(H2381,[1]RewardItemConfig!$B:$F,5,FALSE)","v":1060},{"$f":"VLOOKUP(I2381,[1]RewardItemConfig!$B:$F,5,FALSE)","v":243},14,3,17,"14#2430|3#1060|17#243"]
[{"$nulls":6},3002382,3007382,3012382,{"$f":"VLOOKUP(G2382,[1]RewardItemConfig!$B:$F,5,FALSE)","v":2431},{"$f":"VLOOKUP(H2382,[1]RewardItemConfig!$B:$F,5,FALSE)","v":1060},{"$f":"VLOOKUP(I2382,[1]RewardItemConfig!$B:$F,5,FALSE)","v":243},14,3,17,"14#2431|3#1060|17#243"]
[{"$nulls":6},3002383,3007383,3012383,{"$f":"VLOOKUP(G2383,[1]RewardItemConfig!$B:$F,5,FALSE)","v":2432},{"$f":"VLOOKUP(H2383,[1]RewardItemConfig!$B:$F,5,FALSE)","v":1060},{"$f":"VLOOKUP(I2383,[1]RewardItemConfig!$B:$F,5,FALSE)","v":243},14,3,17,"14#2432|3#1060|17#243"]
[{"$nulls":6},3002384,3007384,3012384,{"$f":"VLOOKUP(G2384,[1]RewardItemConfig!$B:$F,5,FALSE)","v":2433},{"$f":"VLOOKUP(H2384,[1]RewardItemConfig!$B:$F,5,FALSE)","v":1060},{"$f":"VLOOKUP(I2384,[1]RewardItemConfig!$B:$F,5,FALSE)","v":243},14,3,17,"14#2433|3#1060|17#243"]
[{"$nulls":6},3002385,3007385,3012385,{"$f":"VLOOKUP(G2385,[1]RewardItemConfig!$B:$F,5,FALSE)","v":2434},{"$f":"VLOOKUP(H2385,[1]RewardItemConfig!$B:$F,5,FALSE)","v":1060},{"$f":"VLOOKUP(I2385,[1]RewardItemConfig!$B:$F,5,FALSE)","v":243},14,3,17,"14#2434|3#1060|17#243"]
[{"$nulls":6},3002386,3007386,3012386,{"$f":"VLOOKUP(G2386,[1]RewardItemConfig!$B:$F,5,FALSE)","v":2435},{"$f":"VLOOKUP(H2386,[1]RewardItemConfig!$B:$F,5,FALSE)","v":1060},{"$f":"VLOOKUP(I2386,[1]RewardItemConfig!$B:$F,5,FALSE)","v":243},14,3,17,"14#2435|3#1060|17#243"]
[{"$nulls":6},3002387,3007387,3012387,{"$f":"VLOOKUP(G2387,[1]RewardItemConfig!$B:$F,5,FALSE)","v":2436},{"$f":"VLOOKUP(H2387,[1]RewardItemConfig!$B:$F,5,FALSE)","v":1060},{"$f":"VLOOKUP(I2387,[1]RewardItemConfig!$B:$F,5,FALSE)","v":243},14,3,17,"14#2436|3#1060|17#243"]
[{"$nulls":6},3002388,3007388,3012388,{"$f":"VLOOKUP(G2388,[1]RewardItemConfig!$B:$F,5,FALSE)","v":2437},{"$f":"VLOOKUP(H2388,[1]RewardItemConfig!$B:$F,5,FALSE)","v":1060},{"$f":"VLOOKUP(I2388,[1]RewardItemConfig!$B:$F,5,FALSE)","v":243},14,3,17,"14#2437|3#1060|17#243"]
[{"$nulls":6},3002389,3007389,3012389,{"$f":"VLOOKUP(G2389,[1]RewardItemConfig!$B:$F,5,FALSE)","v":2438},{"$f":"VLOOKUP(H2389,[1]RewardItemConfig!$B:$F,5,FALSE)","v":1060},{"$f":"VLOOKUP(I2389,[1]RewardItemConfig!$B:$F,5,FALSE)","v":243},14,3,17,"14#2438|3#1060|17#243"]
[{"$nulls":6},3002390,3007390,3012390,{"$f":"VLOOKUP(G2390,[1]RewardItemConfig!$B:$F,5,FALSE)","v":2439},{"$f":"VLOOKUP(H2390,[1]RewardItemConfig!$B:$F,5,FALSE)","v":1070},{"$f":"VLOOKUP(I2390,[1]RewardItemConfig!$B:$F,5,FALSE)","v":244},14,3,17,"14#2439|3#1070|17#244"]
[{"$nulls":6},3002391,3007391,3012391,{"$f":"VLOOKUP(G2391,[1]RewardItemConfig!$B:$F,5,FALSE)","v":2440},{"$f":"VLOOKUP(H2391,[1]RewardItemConfig!$B:$F,5,FALSE)","v":1070},{"$f":"VLOOKUP(I2391,[1]RewardItemConfig!$B:$F,5,FALSE)","v":244},14,3,17,"14#2440|3#1070|17#244"]
[{"$nulls":6},3002392,3007392,3012392,{"$f":"VLOOKUP(G2392,[1]RewardItemConfig!$B:$F,5,FALSE)","v":2441},{"$f":"VLOOKUP(H2392,[1]RewardItemConfig!$B:$F,5,FALSE)","v":1070},{"$f":"VLOOKUP(I2392,[1]RewardItemConfig!$B:$F,5,FALSE)","v":244},14,3,17,"14#2441|3#1070|17#244"]
[{"$nulls":6},3002393,3007393,3012393,{"$f":"VLOOKUP(G2393,[1]RewardItemConfig!$B:$F,5,FALSE)","v":2442},{"$f":"VLOOKUP(H2393,[1]RewardItemConfig!$B:$F,5,FALSE)","v":1070},{"$f":"VLOOKUP(I2393,[1]RewardItemConfig!$B:$F,5,FALSE)","v":244},14,3,17,"14#2442|3#1070|17#244"]
[{"$nulls":6},3002394,3007394,3012394,{"$f":"VLOOKUP(G2394,[1]RewardItemConfig!$B:$F,5,FALSE)","v":2443},{"$f":"VLOOKUP(H2394,[1]RewardItemConfig!$B:$F,5,FALSE)","v":1070},{"$f":"VLOOKUP(I2394,[1]RewardItemConfig!$B:$F,5,FALSE)","v":244},14,3,17,"14#2443|3#1070|17#244"]
[{"$nulls":6},3002395,3007395,3012395,{"$f":"VLOOKUP(G2395,[1]RewardItemConfig!$B:$F,5,FALSE)","v":2444},{"$f":"VLOOKUP(H2395,[1]RewardItemConfig!$B:$F,5,FALSE)","v":1070},{"$f":"VLOOKUP(I2395,[1]RewardItemConfig!$B:$F,5,FALSE)","v":244},14,3,17,"14#2444|3#1070|17#244"]
[{"$nulls":6},3002396,3007396,3012396,{"$f":"VLOOKUP(G2396,[1]RewardItemConfig!$B:$F,5,FALSE)","v":2445},{"$f":"VLOOKUP(H2396,[1]RewardItemConfig!$B:$F,5,FALSE)","v":1070},{"$f":"VLOOKUP(I2396,[1]RewardItemConfig!$B:$F,5,FALSE)","v":244},14,3,17,"14#2445|3#1070|17#244"]
[{"$nulls":6},3002397,3007397,3012397,{"$f":"VLOOKUP(G2397,[1]RewardItemConfig!$B:$F,5,FALSE)","v":2446},{"$f":"VLOOKUP(H2397,[1]RewardItemConfig!$B:$F,5,FALSE)","v":1070},{"$f":"VLOOKUP(I2397,[1]RewardItemConfig!$B:$F,5,FALSE)","v":244},14,3,17,"14#2446|3#1070|17#244"]
[{"$nulls":6},3002398,3007398,3012398,{"$f":"VLOOKUP(G2398,[1]RewardItemConfig!$B:$F,5,FALSE)","v":2447},{"$f":"VLOOKUP(H2398,[1]RewardItemConfig!$B:$F,5,FALSE)","v":1070},{"$f":"VLOOKUP(I2398,[1]RewardItemConfig!$B:$F,5,FALSE)","v":244},14,3,17,"14#2447|3#1070|17#244"]
[{"$nulls":6},3002399,3007399,3012399,{"$f":"VLOOKUP(G2399,[1]RewardItemConfig!$B:$F,5,FALSE)","v":2448},{"$f":"VLOOKUP(H2399,[1]RewardItemConfig!$B:$F,5,FALSE)","v":1070},{"$f":"VLOOKUP(I2399,[1]RewardItemConfig!$B:$F,5,FALSE)","v":244},14,3,17,"14#2448|3#1070|17#244"]
[{"$nulls":6},3002400,3007400,3012400,{"$f":"VLOOKUP(G2400,[1]RewardItemConfig!$B:$F,5,FALSE)","v":2449},{"$f":"VLOOKUP(H2400,[1]RewardItemConfig!$B:$F,5,FALSE)","v":1080},{"$f":"VLOOKUP(I2400,[1]RewardItemConfig!$B:$F,5,FALSE)","v":245},14,3,17,"14#2449|3#1080|17#245"]
[{"$nulls":6},3002401,3007401,3012401,{"$f":"VLOOKUP(G2401,[1]RewardItemConfig!$B:$F,5,FALSE)","v":2450},{"$f":"VLOOKUP(H2401,[1]RewardItemConfig!$B:$F,5,FALSE)","v":1080},{"$f":"VLOOKUP(I2401,[1]RewardItemConfig!$B:$F,5,FALSE)","v":245},14,3,17,"14#2450|3#1080|17#245"]
[{"$nulls":6},3002402,3007402,3012402,{"$f":"VLOOKUP(G2402,[1]RewardItemConfig!$B:$F,5,FALSE)","v":2451},{"$f":"VLOOKUP(H2402,[1]RewardItemConfig!$B:$F,5,FALSE)","v":1080},{"$f":"VLOOKUP(I2402,[1]RewardItemConfig!$B:$F,5,FALSE)","v":245},14,3,17,"14#2451|3#1080|17#245"]
[{"$nulls":6},3002403,3007403,3012403,{"$f":"VLOOKUP(G2403,[1]RewardItemConfig!$B:$F,5,FALSE)","v":2452},{"$f":"VLOOKUP(H2403,[1]RewardItemConfig!$B:$F,5,FALSE)","v":1080},{"$f":"VLOOKUP(I2403,[1]RewardItemConfig!$B:$F,5,FALSE)","v":245},14,3,17,"14#2452|3#1080|17#245"]
[{"$nulls":6},3002404,3007404,3012404,{"$f":"VLOOKUP(G2404,[1]RewardItemConfig!$B:$F,5,FALSE)","v":2453},{"$f":"VLOOKUP(H2404,[1]RewardItemConfig!$B:$F,5,FALSE)","v":1080},{"$f":"VLOOKUP(I2404,[1]RewardItemConfig!$B:$F,5,FALSE)","v":245},14,3,17,"14#2453|3#1080|17#245"]
[{"$nulls":6},3002405,3007405,3012405,{"$f":"VLOOKUP(G2405,[1]RewardItemConfig!$B:$F,5,FALSE)","v":2454},{"$f":"VLOOKUP(H2405,[1]RewardItemConfig!$B:$F,5,FALSE)","v":1080},{"$f":"VLOOKUP(I2405,[1]RewardItemConfig!$B:$F,5,FALSE)","v":245},14,3,17,"14#2454|3#1080|17#245"]
[{"$nulls":6},3002406,3007406,3012406,{"$f":"VLOOKUP(G2406,[1]RewardItemConfig!$B:$F,5,FALSE)","v":2455},{"$f":"VLOOKUP(H2406,[1]RewardItemConfig!$B:$F,5,FALSE)","v":1080},{"$f":"VLOOKUP(I2406,[1]RewardItemConfig!$B:$F,5,FALSE)","v":245},14,3,17,"14#2455|3#1080|17#245"]
[{"$nulls":6},3002407,3007407,3012407,{"$f":"VLOOKUP(G2407,[1]RewardItemConfig!$B:$F,5,FALSE)","v":2456},{"$f":"VLOOKUP(H2407,[1]RewardItemConfig!$B:$F,5,FALSE)","v":1080},{"$f":"VLOOKUP(I2407,[1]RewardItemConfig!$B:$F,5,FALSE)","v":245},14,3,17,"14#2456|3#1080|17#245"]
[{"$nulls":6},3002408,3007408,3012408,{"$f":"VLOOKUP(G2408,[1]RewardItemConfig!$B:$F,5,FALSE)","v":2457},{"$f":"VLOOKUP(H2408,[1]RewardItemConfig!$B:$F,5,FALSE)","v":1080},{"$f":"VLOOKUP(I2408,[1]RewardItemConfig!$B:$F,5,FALSE)","v":245},14,3,17,"14#2457|3#1080|17#245"]
[{"$nulls":6},3002409,3007409,3012409,{"$f":"VLOOKUP(G2409,[1]RewardItemConfig!$B:$F,5,FALSE)","v":2458},{"$f":"VLOOKUP(H2409,[1]RewardItemConfig!$B:$F,5,FALSE)","v":1080},{"$f":"VLOOKUP(I2409,[1]RewardItemConfig!$B:$F,5,FALSE)","v":245},14,3,17,"14#2458|3#1080|17#245"]
[{"$nulls":6},3002410,3007410,3012410,{"$f":"VLOOKUP(G2410,[1]RewardItemConfig!$B:$F,5,FALSE)","v":2459},{"$f":"VLOOKUP(H2410,[1]RewardItemConfig!$B:$F,5,FALSE)","v":1090},{"$f":"VLOOKUP(I2410,[1]RewardItemConfig!$B:$F,5,FALSE)","v":246},14,3,17,"14#2459|3#1090|17#246"]
[{"$nulls":6},3002411,3007411,3012411,{"$f":"VLOOKUP(G2411,[1]RewardItemConfig!$B:$F,5,FALSE)","v":2460},{"$f":"VLOOKUP(H2411,[1]RewardItemConfig!$B:$F,5,FALSE)","v":1090},{"$f":"VLOOKUP(I2411,[1]RewardItemConfig!$B:$F,5,FALSE)","v":246},14,3,17,"14#2460|3#1090|17#246"]
[{"$nulls":6},3002412,3007412,3012412,{"$f":"VLOOKUP(G2412,[1]RewardItemConfig!$B:$F,5,FALSE)","v":2461},{"$f":"VLOOKUP(H2412,[1]RewardItemConfig!$B:$F,5,FALSE)","v":1090},{"$f":"VLOOKUP(I2412,[1]RewardItemConfig!$B:$F,5,FALSE)","v":246},14,3,17,"14#2461|3#1090|17#246"]
[{"$nulls":6},3002413,3007413,3012413,{"$f":"VLOOKUP(G2413,[1]RewardItemConfig!$B:$F,5,FALSE)","v":2462},{"$f":"VLOOKUP(H2413,[1]RewardItemConfig!$B:$F,5,FALSE)","v":1090},{"$f":"VLOOKUP(I2413,[1]RewardItemConfig!$B:$F,5,FALSE)","v":246},14,3,17,"14#2462|3#1090|17#246"]
[{"$nulls":6},3002414,3007414,3012414,{"$f":"VLOOKUP(G2414,[1]RewardItemConfig!$B:$F,5,FALSE)","v":2463},{"$f":"VLOOKUP(H2414,[1]RewardItemConfig!$B:$F,5,FALSE)","v":1090},{"$f":"VLOOKUP(I2414,[1]RewardItemConfig!$B:$F,5,FALSE)","v":246},14,3,17,"14#2463|3#1090|17#246"]
[{"$nulls":6},3002415,3007415,3012415,{"$f":"VLOOKUP(G2415,[1]RewardItemConfig!$B:$F,5,FALSE)","v":2464},{"$f":"VLOOKUP(H2415,[1]RewardItemConfig!$B:$F,5,FALSE)","v":1090},{"$f":"VLOOKUP(I2415,[1]RewardItemConfig!$B:$F,5,FALSE)","v":246},14,3,17,"14#2464|3#1090|17#246"]
[{"$nulls":6},3002416,3007416,3012416,{"$f":"VLOOKUP(G2416,[1]RewardItemConfig!$B:$F,5,FALSE)","v":2465},{"$f":"VLOOKUP(H2416,[1]RewardItemConfig!$B:$F,5,FALSE)","v":1090},{"$f":"VLOOKUP(I2416,[1]RewardItemConfig!$B:$F,5,FALSE)","v":246},14,3,17,"14#2465|3#1090|17#246"]
[{"$nulls":6},3002417,3007417,3012417,{"$f":"VLOOKUP(G2417,[1]RewardItemConfig!$B:$F,5,FALSE)","v":2466},{"$f":"VLOOKUP(H2417,[1]RewardItemConfig!$B:$F,5,FALSE)","v":1090},{"$f":"VLOOKUP(I2417,[1]RewardItemConfig!$B:$F,5,FALSE)","v":246},14,3,17,"14#2466|3#1090|17#246"]
[{"$nulls":6},3002418,3007418,3012418,{"$f":"VLOOKUP(G2418,[1]RewardItemConfig!$B:$F,5,FALSE)","v":2467},{"$f":"VLOOKUP(H2418,[1]RewardItemConfig!$B:$F,5,FALSE)","v":1090},{"$f":"VLOOKUP(I2418,[1]RewardItemConfig!$B:$F,5,FALSE)","v":246},14,3,17,"14#2467|3#1090|17#246"]
[{"$nulls":6},3002419,3007419,3012419,{"$f":"VLOOKUP(G2419,[1]RewardItemConfig!$B:$F,5,FALSE)","v":2468},{"$f":"VLOOKUP(H2419,[1]RewardItemConfig!$B:$F,5,FALSE)","v":1090},{"$f":"VLOOKUP(I2419,[1]RewardItemConfig!$B:$F,5,FALSE)","v":246},14,3,17,"14#2468|3#1090|17#246"]
[{"$nulls":6},3002420,3007420,3012420,{"$f":"VLOOKUP(G2420,[1]RewardItemConfig!$B:$F,5,FALSE)","v":2469},{"$f":"VLOOKUP(H2420,[1]RewardItemConfig!$B:$F,5,FALSE)","v":1100},{"$f":"VLOOKUP(I2420,[1]RewardItemConfig!$B:$F,5,FALSE)","v":247},14,3,17,"14#2469|3#1100|17#247"]
[{"$nulls":6},3002421,3007421,3012421,{"$f":"VLOOKUP(G2421,[1]RewardItemConfig!$B:$F,5,FALSE)","v":2470},{"$f":"VLOOKUP(H2421,[1]RewardItemConfig!$B:$F,5,FALSE)","v":1100},{"$f":"VLOOKUP(I2421,[1]RewardItemConfig!$B:$F,5,FALSE)","v":247},14,3,17,"14#2470|3#1100|17#247"]
[{"$nulls":6},3002422,3007422,3012422,{"$f":"VLOOKUP(G2422,[1]RewardItemConfig!$B:$F,5,FALSE)","v":2471},{"$f":"VLOOKUP(H2422,[1]RewardItemConfig!$B:$F,5,FALSE)","v":1100},{"$f":"VLOOKUP(I2422,[1]RewardItemConfig!$B:$F,5,FALSE)","v":247},14,3,17,"14#2471|3#1100|17#247"]
[{"$nulls":6},3002423,3007423,3012423,{"$f":"VLOOKUP(G2423,[1]RewardItemConfig!$B:$F,5,FALSE)","v":2472},{"$f":"VLOOKUP(H2423,[1]RewardItemConfig!$B:$F,5,FALSE)","v":1100},{"$f":"VLOOKUP(I2423,[1]RewardItemConfig!$B:$F,5,FALSE)","v":247},14,3,17,"14#2472|3#1100|17#247"]
[{"$nulls":6},3002424,3007424,3012424,{"$f":"VLOOKUP(G2424,[1]RewardItemConfig!$B:$F,5,FALSE)","v":2473},{"$f":"VLOOKUP(H2424,[1]RewardItemConfig!$B:$F,5,FALSE)","v":1100},{"$f":"VLOOKUP(I2424,[1]RewardItemConfig!$B:$F,5,FALSE)","v":247},14,3,17,"14#2473|3#1100|17#247"]
[{"$nulls":6},3002425,3007425,3012425,{"$f":"VLOOKUP(G2425,[1]RewardItemConfig!$B:$F,5,FALSE)","v":2474},{"$f":"VLOOKUP(H2425,[1]RewardItemConfig!$B:$F,5,FALSE)","v":1100},{"$f":"VLOOKUP(I2425,[1]RewardItemConfig!$B:$F,5,FALSE)","v":247},14,3,17,"14#2474|3#1100|17#247"]
[{"$nulls":6},3002426,3007426,3012426,{"$f":"VLOOKUP(G2426,[1]RewardItemConfig!$B:$F,5,FALSE)","v":2475},{"$f":"VLOOKUP(H2426,[1]RewardItemConfig!$B:$F,5,FALSE)","v":1100},{"$f":"VLOOKUP(I2426,[1]RewardItemConfig!$B:$F,5,FALSE)","v":247},14,3,17,"14#2475|3#1100|17#247"]
[{"$nulls":6},3002427,3007427,3012427,{"$f":"VLOOKUP(G2427,[1]RewardItemConfig!$B:$F,5,FALSE)","v":2476},{"$f":"VLOOKUP(H2427,[1]RewardItemConfig!$B:$F,5,FALSE)","v":1100},{"$f":"VLOOKUP(I2427,[1]RewardItemConfig!$B:$F,5,FALSE)","v":247},14,3,17,"14#2476|3#1100|17#247"]
[{"$nulls":6},3002428,3007428,3012428,{"$f":"VLOOKUP(G2428,[1]RewardItemConfig!$B:$F,5,FALSE)","v":2477},{"$f":"VLOOKUP(H2428,[1]RewardItemConfig!$B:$F,5,FALSE)","v":1100},{"$f":"VLOOKUP(I2428,[1]RewardItemConfig!$B:$F,5,FALSE)","v":247},14,3,17,"14#2477|3#1100|17#247"]
[{"$nulls":6},3002429,3007429,3012429,{"$f":"VLOOKUP(G2429,[1]RewardItemConfig!$B:$F,5,FALSE)","v":2478},{"$f":"VLOOKUP(H2429,[1]RewardItemConfig!$B:$F,5,FALSE)","v":1100},{"$f":"VLOOKUP(I2429,[1]RewardItemConfig!$B:$F,5,FALSE)","v":247},14,3,17,"14#2478|3#1100|17#247"]
[{"$nulls":6},3002430,3007430,3012430,{"$f":"VLOOKUP(G2430,[1]RewardItemConfig!$B:$F,5,FALSE)","v":2479},{"$f":"VLOOKUP(H2430,[1]RewardItemConfig!$B:$F,5,FALSE)","v":1110},{"$f":"VLOOKUP(I2430,[1]RewardItemConfig!$B:$F,5,FALSE)","v":248},14,3,17,"14#2479|3#1110|17#248"]
[{"$nulls":6},3002431,3007431,3012431,{"$f":"VLOOKUP(G2431,[1]RewardItemConfig!$B:$F,5,FALSE)","v":2480},{"$f":"VLOOKUP(H2431,[1]RewardItemConfig!$B:$F,5,FALSE)","v":1110},{"$f":"VLOOKUP(I2431,[1]RewardItemConfig!$B:$F,5,FALSE)","v":248},14,3,17,"14#2480|3#1110|17#248"]
[{"$nulls":6},3002432,3007432,3012432,{"$f":"VLOOKUP(G2432,[1]RewardItemConfig!$B:$F,5,FALSE)","v":2481},{"$f":"VLOOKUP(H2432,[1]RewardItemConfig!$B:$F,5,FALSE)","v":1110},{"$f":"VLOOKUP(I2432,[1]RewardItemConfig!$B:$F,5,FALSE)","v":248},14,3,17,"14#2481|3#1110|17#248"]
[{"$nulls":6},3002433,3007433,3012433,{"$f":"VLOOKUP(G2433,[1]RewardItemConfig!$B:$F,5,FALSE)","v":2482},{"$f":"VLOOKUP(H2433,[1]RewardItemConfig!$B:$F,5,FALSE)","v":1110},{"$f":"VLOOKUP(I2433,[1]RewardItemConfig!$B:$F,5,FALSE)","v":248},14,3,17,"14#2482|3#1110|17#248"]
[{"$nulls":6},3002434,3007434,3012434,{"$f":"VLOOKUP(G2434,[1]RewardItemConfig!$B:$F,5,FALSE)","v":2483},{"$f":"VLOOKUP(H2434,[1]RewardItemConfig!$B:$F,5,FALSE)","v":1110},{"$f":"VLOOKUP(I2434,[1]RewardItemConfig!$B:$F,5,FALSE)","v":248},14,3,17,{"$f":"M2434&\"#\"&J2434&\"|\"&N2434&\"#\"&K2434&\"|\"&O2434&\"#\"&L2434","v":"14#2483|3#1110|17#248"}]
[{"$nulls":6},3002435,3007435,3012435,{"$f":"VLOOKUP(G2435,[1]RewardItemConfig!$B:$F,5,FALSE)","v":2484},{"$f":"VLOOKUP(H2435,[1]RewardItemConfig!$B:$F,5,FALSE)","v":1110},{"$f":"VLOOKUP(I2435,[1]RewardItemConfig!$B:$F,5,FALSE)","v":248},{"$f":"M2434","v":14},{"$f":"N2434","v":3},{"$f":"O2434","v":17},"14#2484|3#1110|17#248"]
[{"$nulls":6},3002436,3007436,3012436,{"$f":"VLOOKUP(G2436,[1]RewardItemConfig!$B:$F,5,FALSE)","v":2485},{"$f":"VLOOKUP(H2436,[1]RewardItemConfig!$B:$F,5,FALSE)","v":1110},{"$f":"VLOOKUP(I2436,[1]RewardItemConfig!$B:$F,5,FALSE)","v":248},14,3,17,"14#2485|3#1110|17#248"]
[{"$nulls":6},3002437,3007437,3012437,{"$f":"VLOOKUP(G2437,[1]RewardItemConfig!$B:$F,5,FALSE)","v":2486},{"$f":"VLOOKUP(H2437,[1]RewardItemConfig!$B:$F,5,FALSE)","v":1110},{"$f":"VLOOKUP(I2437,[1]RewardItemConfig!$B:$F,5,FALSE)","v":248},14,3,17,"14#2486|3#1110|17#248"]
[{"$nulls":6},3002438,3007438,3012438,{"$f":"VLOOKUP(G2438,[1]RewardItemConfig!$B:$F,5,FALSE)","v":2487},{"$f":"VLOOKUP(H2438,[1]RewardItemConfig!$B:$F,5,FALSE)","v":1110},{"$f":"VLOOKUP(I2438,[1]RewardItemConfig!$B:$F,5,FALSE)","v":248},14,3,17,"14#2487|3#1110|17#248"]
[{"$nulls":6},3002439,3007439,3012439,{"$f":"VLOOKUP(G2439,[1]RewardItemConfig!$B:$F,5,FALSE)","v":2488},{"$f":"VLOOKUP(H2439,[1]RewardItemConfig!$B:$F,5,FALSE)","v":1110},{"$f":"VLOOKUP(I2439,[1]RewardItemConfig!$B:$F,5,FALSE)","v":248},14,3,17,"14#2488|3#1110|17#248"]
[{"$nulls":6},3002440,3007440,3012440,{"$f":"VLOOKUP(G2440,[1]RewardItemConfig!$B:$F,5,FALSE)","v":2489},{"$f":"VLOOKUP(H2440,[1]RewardItemConfig!$B:$F,5,FALSE)","v":1120},{"$f":"VLOOKUP(I2440,[1]RewardItemConfig!$B:$F,5,FALSE)","v":249},14,3,17,"14#2489|3#1120|17#249"]
[{"$nulls":6},3002441,3007441,3012441,{"$f":"VLOOKUP(G2441,[1]RewardItemConfig!$B:$F,5,FALSE)","v":2490},{"$f":"VLOOKUP(H2441,[1]RewardItemConfig!$B:$F,5,FALSE)","v":1120},{"$f":"VLOOKUP(I2441,[1]RewardItemConfig!$B:$F,5,FALSE)","v":249},14,3,17,"14#2490|3#1120|17#249"]
[{"$nulls":6},3002442,3007442,3012442,{"$f":"VLOOKUP(G2442,[1]RewardItemConfig!$B:$F,5,FALSE)","v":2491},{"$f":"VLOOKUP(H2442,[1]RewardItemConfig!$B:$F,5,FALSE)","v":1120},{"$f":"VLOOKUP(I2442,[1]RewardItemConfig!$B:$F,5,FALSE)","v":249},14,3,17,"14#2491|3#1120|17#249"]
[{"$nulls":6},3002443,3007443,3012443,{"$f":"VLOOKUP(G2443,[1]RewardItemConfig!$B:$F,5,FALSE)","v":2492},{"$f":"VLOOKUP(H2443,[1]RewardItemConfig!$B:$F,5,FALSE)","v":1120},{"$f":"VLOOKUP(I2443,[1]RewardItemConfig!$B:$F,5,FALSE)","v":249},14,3,17,"14#2492|3#1120|17#249"]
[{"$nulls":6},3002444,3007444,3012444,{"$f":"VLOOKUP(G2444,[1]RewardItemConfig!$B:$F,5,FALSE)","v":2493},{"$f":"VLOOKUP(H2444,[1]RewardItemConfig!$B:$F,5,FALSE)","v":1120},{"$f":"VLOOKUP(I2444,[1]RewardItemConfig!$B:$F,5,FALSE)","v":249},14,3,17,"14#2493|3#1120|17#249"]
[{"$nulls":6},3002445,3007445,3012445,{"$f":"VLOOKUP(G2445,[1]RewardItemConfig!$B:$F,5,FALSE)","v":2494},{"$f":"VLOOKUP(H2445,[1]RewardItemConfig!$B:$F,5,FALSE)","v":1120},{"$f":"VLOOKUP(I2445,[1]RewardItemConfig!$B:$F,5,FALSE)","v":249},14,3,17,"14#2494|3#1120|17#249"]
[{"$nulls":6},3002446,3007446,3012446,{"$f":"VLOOKUP(G2446,[1]RewardItemConfig!$B:$F,5,FALSE)","v":2495},{"$f":"VLOOKUP(H2446,[1]RewardItemConfig!$B:$F,5,FALSE)","v":1120},{"$f":"VLOOKUP(I2446,[1]RewardItemConfig!$B:$F,5,FALSE)","v":249},14,3,17,"14#2495|3#1120|17#249"]
[{"$nulls":6},3002447,3007447,3012447,{"$f":"VLOOKUP(G2447,[1]RewardItemConfig!$B:$F,5,FALSE)","v":2496},{"$f":"VLOOKUP(H2447,[1]RewardItemConfig!$B:$F,5,FALSE)","v":1120},{"$f":"VLOOKUP(I2447,[1]RewardItemConfig!$B:$F,5,FALSE)","v":249},14,3,17,"14#2496|3#1120|17#249"]
[{"$nulls":6},3002448,3007448,3012448,{"$f":"VLOOKUP(G2448,[1]RewardItemConfig!$B:$F,5,FALSE)","v":2497},{"$f":"VLOOKUP(H2448,[1]RewardItemConfig!$B:$F,5,FALSE)","v":1120},{"$f":"VLOOKUP(I2448,[1]RewardItemConfig!$B:$F,5,FALSE)","v":249},14,3,17,"14#2497|3#1120|17#249"]
[{"$nulls":6},3002449,3007449,3012449,{"$f":"VLOOKUP(G2449,[1]RewardItemConfig!$B:$F,5,FALSE)","v":2498},{"$f":"VLOOKUP(H2449,[1]RewardItemConfig!$B:$F,5,FALSE)","v":1120},{"$f":"VLOOKUP(I2449,[1]RewardItemConfig!$B:$F,5,FALSE)","v":249},14,3,17,"14#2498|3#1120|17#249"]
[{"$nulls":6},3002450,3007450,3012450,{"$f":"VLOOKUP(G2450,[1]RewardItemConfig!$B:$F,5,FALSE)","v":2499},{"$f":"VLOOKUP(H2450,[1]RewardItemConfig!$B:$F,5,FALSE)","v":1130},{"$f":"VLOOKUP(I2450,[1]RewardItemConfig!$B:$F,5,FALSE)","v":250},14,3,17,"14#2499|3#1130|17#250"]
[{"$nulls":6},3002451,3007451,3012451,{"$f":"VLOOKUP(G2451,[1]RewardItemConfig!$B:$F,5,FALSE)","v":2500},{"$f":"VLOOKUP(H2451,[1]RewardItemConfig!$B:$F,5,FALSE)","v":1130},{"$f":"VLOOKUP(I2451,[1]RewardItemConfig!$B:$F,5,FALSE)","v":250},14,3,17,"14#2500|3#1130|17#250"]
[{"$nulls":6},3002452,3007452,3012452,{"$f":"VLOOKUP(G2452,[1]RewardItemConfig!$B:$F,5,FALSE)","v":2501},{"$f":"VLOOKUP(H2452,[1]RewardItemConfig!$B:$F,5,FALSE)","v":1130},{"$f":"VLOOKUP(I2452,[1]RewardItemConfig!$B:$F,5,FALSE)","v":250},14,3,17,"14#2501|3#1130|17#250"]
[{"$nulls":6},3002453,3007453,3012453,{"$f":"VLOOKUP(G2453,[1]RewardItemConfig!$B:$F,5,FALSE)","v":2502},{"$f":"VLOOKUP(H2453,[1]RewardItemConfig!$B:$F,5,FALSE)","v":1130},{"$f":"VLOOKUP(I2453,[1]RewardItemConfig!$B:$F,5,FALSE)","v":250},14,3,17,"14#2502|3#1130|17#250"]
[{"$nulls":6},3002454,3007454,3012454,{"$f":"VLOOKUP(G2454,[1]RewardItemConfig!$B:$F,5,FALSE)","v":2503},{"$f":"VLOOKUP(H2454,[1]RewardItemConfig!$B:$F,5,FALSE)","v":1130},{"$f":"VLOOKUP(I2454,[1]RewardItemConfig!$B:$F,5,FALSE)","v":250},14,3,17,"14#2503|3#1130|17#250"]
[{"$nulls":6},3002455,3007455,3012455,{"$f":"VLOOKUP(G2455,[1]RewardItemConfig!$B:$F,5,FALSE)","v":2504},{"$f":"VLOOKUP(H2455,[1]RewardItemConfig!$B:$F,5,FALSE)","v":1130},{"$f":"VLOOKUP(I2455,[1]RewardItemConfig!$B:$F,5,FALSE)","v":250},14,3,17,"14#2504|3#1130|17#250"]
[{"$nulls":6},3002456,3007456,3012456,{"$f":"VLOOKUP(G2456,[1]RewardItemConfig!$B:$F,5,FALSE)","v":2505},{"$f":"VLOOKUP(H2456,[1]RewardItemConfig!$B:$F,5,FALSE)","v":1130},{"$f":"VLOOKUP(I2456,[1]RewardItemConfig!$B:$F,5,FALSE)","v":250},14,3,17,"14#2505|3#1130|17#250"]
[{"$nulls":6},3002457,3007457,3012457,{"$f":"VLOOKUP(G2457,[1]RewardItemConfig!$B:$F,5,FALSE)","v":2506},{"$f":"VLOOKUP(H2457,[1]RewardItemConfig!$B:$F,5,FALSE)","v":1130},{"$f":"VLOOKUP(I2457,[1]RewardItemConfig!$B:$F,5,FALSE)","v":250},14,3,17,"14#2506|3#1130|17#250"]
[{"$nulls":6},3002458,3007458,3012458,{"$f":"VLOOKUP(G2458,[1]RewardItemConfig!$B:$F,5,FALSE)","v":2507},{"$f":"VLOOKUP(H2458,[1]RewardItemConfig!$B:$F,5,FALSE)","v":1130},{"$f":"VLOOKUP(I2458,[1]RewardItemConfig!$B:$F,5,FALSE)","v":250},14,3,17,"14#2507|3#1130|17#250"]
[{"$nulls":6},3002459,3007459,3012459,{"$f":"VLOOKUP(G2459,[1]RewardItemConfig!$B:$F,5,FALSE)","v":2508},{"$f":"VLOOKUP(H2459,[1]RewardItemConfig!$B:$F,5,FALSE)","v":1130},{"$f":"VLOOKUP(I2459,[1]RewardItemConfig!$B:$F,5,FALSE)","v":250},14,3,17,"14#2508|3#1130|17#250"]
[{"$nulls":6},3002460,3007460,3012460,{"$f":"VLOOKUP(G2460,[1]RewardItemConfig!$B:$F,5,FALSE)","v":2509},{"$f":"VLOOKUP(H2460,[1]RewardItemConfig!$B:$F,5,FALSE)","v":1140},{"$f":"VLOOKUP(I2460,[1]RewardItemConfig!$B:$F,5,FALSE)","v":251},14,3,17,"14#2509|3#1140|17#251"]
[{"$nulls":6},3002461,3007461,3012461,{"$f":"VLOOKUP(G2461,[1]RewardItemConfig!$B:$F,5,FALSE)","v":2510},{"$f":"VLOOKUP(H2461,[1]RewardItemConfig!$B:$F,5,FALSE)","v":1140},{"$f":"VLOOKUP(I2461,[1]RewardItemConfig!$B:$F,5,FALSE)","v":251},14,3,17,"14#2510|3#1140|17#251"]
[{"$nulls":6},3002462,3007462,3012462,{"$f":"VLOOKUP(G2462,[1]RewardItemConfig!$B:$F,5,FALSE)","v":2511},{"$f":"VLOOKUP(H2462,[1]RewardItemConfig!$B:$F,5,FALSE)","v":1140},{"$f":"VLOOKUP(I2462,[1]RewardItemConfig!$B:$F,5,FALSE)","v":251},14,3,17,"14#2511|3#1140|17#251"]
[{"$nulls":6},3002463,3007463,3012463,{"$f":"VLOOKUP(G2463,[1]RewardItemConfig!$B:$F,5,FALSE)","v":2512},{"$f":"VLOOKUP(H2463,[1]RewardItemConfig!$B:$F,5,FALSE)","v":1140},{"$f":"VLOOKUP(I2463,[1]RewardItemConfig!$B:$F,5,FALSE)","v":251},14,3,17,"14#2512|3#1140|17#251"]
[{"$nulls":6},3002464,3007464,3012464,{"$f":"VLOOKUP(G2464,[1]RewardItemConfig!$B:$F,5,FALSE)","v":2513},{"$f":"VLOOKUP(H2464,[1]RewardItemConfig!$B:$F,5,FALSE)","v":1140},{"$f":"VLOOKUP(I2464,[1]RewardItemConfig!$B:$F,5,FALSE)","v":251},14,3,17,"14#2513|3#1140|17#251"]
[{"$nulls":6},3002465,3007465,3012465,{"$f":"VLOOKUP(G2465,[1]RewardItemConfig!$B:$F,5,FALSE)","v":2514},{"$f":"VLOOKUP(H2465,[1]RewardItemConfig!$B:$F,5,FALSE)","v":1140},{"$f":"VLOOKUP(I2465,[1]RewardItemConfig!$B:$F,5,FALSE)","v":251},14,3,17,"14#2514|3#1140|17#251"]
[{"$nulls":6},3002466,3007466,3012466,{"$f":"VLOOKUP(G2466,[1]RewardItemConfig!$B:$F,5,FALSE)","v":2515},{"$f":"VLOOKUP(H2466,[1]RewardItemConfig!$B:$F,5,FALSE)","v":1140},{"$f":"VLOOKUP(I2466,[1]RewardItemConfig!$B:$F,5,FALSE)","v":251},14,3,17,"14#2515|3#1140|17#251"]
[{"$nulls":6},3002467,3007467,3012467,{"$f":"VLOOKUP(G2467,[1]RewardItemConfig!$B:$F,5,FALSE)","v":2516},{"$f":"VLOOKUP(H2467,[1]RewardItemConfig!$B:$F,5,FALSE)","v":1140},{"$f":"VLOOKUP(I2467,[1]RewardItemConfig!$B:$F,5,FALSE)","v":251},14,3,17,"14#2516|3#1140|17#251"]
[{"$nulls":6},3002468,3007468,3012468,{"$f":"VLOOKUP(G2468,[1]RewardItemConfig!$B:$F,5,FALSE)","v":2517},{"$f":"VLOOKUP(H2468,[1]RewardItemConfig!$B:$F,5,FALSE)","v":1140},{"$f":"VLOOKUP(I2468,[1]RewardItemConfig!$B:$F,5,FALSE)","v":251},14,3,17,"14#2517|3#1140|17#251"]
[{"$nulls":6},3002469,3007469,3012469,{"$f":"VLOOKUP(G2469,[1]RewardItemConfig!$B:$F,5,FALSE)","v":2518},{"$f":"VLOOKUP(H2469,[1]RewardItemConfig!$B:$F,5,FALSE)","v":1140},{"$f":"VLOOKUP(I2469,[1]RewardItemConfig!$B:$F,5,FALSE)","v":251},14,3,17,"14#2518|3#1140|17#251"]
[{"$nulls":6},3002470,3007470,3012470,{"$f":"VLOOKUP(G2470,[1]RewardItemConfig!$B:$F,5,FALSE)","v":2519},{"$f":"VLOOKUP(H2470,[1]RewardItemConfig!$B:$F,5,FALSE)","v":1150},{"$f":"VLOOKUP(I2470,[1]RewardItemConfig!$B:$F,5,FALSE)","v":252},14,3,17,"14#2519|3#1150|17#252"]
[{"$nulls":6},3002471,3007471,3012471,{"$f":"VLOOKUP(G2471,[1]RewardItemConfig!$B:$F,5,FALSE)","v":2520},{"$f":"VLOOKUP(H2471,[1]RewardItemConfig!$B:$F,5,FALSE)","v":1150},{"$f":"VLOOKUP(I2471,[1]RewardItemConfig!$B:$F,5,FALSE)","v":252},14,3,17,"14#2520|3#1150|17#252"]
[{"$nulls":6},3002472,3007472,3012472,{"$f":"VLOOKUP(G2472,[1]RewardItemConfig!$B:$F,5,FALSE)","v":2521},{"$f":"VLOOKUP(H2472,[1]RewardItemConfig!$B:$F,5,FALSE)","v":1150},{"$f":"VLOOKUP(I2472,[1]RewardItemConfig!$B:$F,5,FALSE)","v":252},14,3,17,"14#2521|3#1150|17#252"]
[{"$nulls":6},3002473,3007473,3012473,{"$f":"VLOOKUP(G2473,[1]RewardItemConfig!$B:$F,5,FALSE)","v":2522},{"$f":"VLOOKUP(H2473,[1]RewardItemConfig!$B:$F,5,FALSE)","v":1150},{"$f":"VLOOKUP(I2473,[1]RewardItemConfig!$B:$F,5,FALSE)","v":252},14,3,17,"14#2522|3#1150|17#252"]
[{"$nulls":6},3002474,3007474,3012474,{"$f":"VLOOKUP(G2474,[1]RewardItemConfig!$B:$F,5,FALSE)","v":2523},{"$f":"VLOOKUP(H2474,[1]RewardItemConfig!$B:$F,5,FALSE)","v":1150},{"$f":"VLOOKUP(I2474,[1]RewardItemConfig!$B:$F,5,FALSE)","v":252},14,3,17,"14#2523|3#1150|17#252"]
[{"$nulls":6},3002475,3007475,3012475,{"$f":"VLOOKUP(G2475,[1]RewardItemConfig!$B:$F,5,FALSE)","v":2524},{"$f":"VLOOKUP(H2475,[1]RewardItemConfig!$B:$F,5,FALSE)","v":1150},{"$f":"VLOOKUP(I2475,[1]RewardItemConfig!$B:$F,5,FALSE)","v":252},14,3,17,"14#2524|3#1150|17#252"]
[{"$nulls":6},3002476,3007476,3012476,{"$f":"VLOOKUP(G2476,[1]RewardItemConfig!$B:$F,5,FALSE)","v":2525},{"$f":"VLOOKUP(H2476,[1]RewardItemConfig!$B:$F,5,FALSE)","v":1150},{"$f":"VLOOKUP(I2476,[1]RewardItemConfig!$B:$F,5,FALSE)","v":252},14,3,17,"14#2525|3#1150|17#252"]
[{"$nulls":6},3002477,3007477,3012477,{"$f":"VLOOKUP(G2477,[1]RewardItemConfig!$B:$F,5,FALSE)","v":2526},{"$f":"VLOOKUP(H2477,[1]RewardItemConfig!$B:$F,5,FALSE)","v":1150},{"$f":"VLOOKUP(I2477,[1]RewardItemConfig!$B:$F,5,FALSE)","v":252},14,3,17,"14#2526|3#1150|17#252"]
[{"$nulls":6},3002478,3007478,3012478,{"$f":"VLOOKUP(G2478,[1]RewardItemConfig!$B:$F,5,FALSE)","v":2527},{"$f":"VLOOKUP(H2478,[1]RewardItemConfig!$B:$F,5,FALSE)","v":1150},{"$f":"VLOOKUP(I2478,[1]RewardItemConfig!$B:$F,5,FALSE)","v":252},14,3,17,"14#2527|3#1150|17#252"]
[{"$nulls":6},3002479,3007479,3012479,{"$f":"VLOOKUP(G2479,[1]RewardItemConfig!$B:$F,5,FALSE)","v":2528},{"$f":"VLOOKUP(H2479,[1]RewardItemConfig!$B:$F,5,FALSE)","v":1150},{"$f":"VLOOKUP(I2479,[1]RewardItemConfig!$B:$F,5,FALSE)","v":252},14,3,17,"14#2528|3#1150|17#252"]
[{"$nulls":6},3002480,3007480,3012480,{"$f":"VLOOKUP(G2480,[1]RewardItemConfig!$B:$F,5,FALSE)","v":2529},{"$f":"VLOOKUP(H2480,[1]RewardItemConfig!$B:$F,5,FALSE)","v":1160},{"$f":"VLOOKUP(I2480,[1]RewardItemConfig!$B:$F,5,FALSE)","v":253},14,3,17,"14#2529|3#1160|17#253"]
[{"$nulls":6},3002481,3007481,3012481,{"$f":"VLOOKUP(G2481,[1]RewardItemConfig!$B:$F,5,FALSE)","v":2530},{"$f":"VLOOKUP(H2481,[1]RewardItemConfig!$B:$F,5,FALSE)","v":1160},{"$f":"VLOOKUP(I2481,[1]RewardItemConfig!$B:$F,5,FALSE)","v":253},14,3,17,"14#2530|3#1160|17#253"]
[{"$nulls":6},3002482,3007482,3012482,{"$f":"VLOOKUP(G2482,[1]RewardItemConfig!$B:$F,5,FALSE)","v":2531},{"$f":"VLOOKUP(H2482,[1]RewardItemConfig!$B:$F,5,FALSE)","v":1160},{"$f":"VLOOKUP(I2482,[1]RewardItemConfig!$B:$F,5,FALSE)","v":253},14,3,17,"14#2531|3#1160|17#253"]
[{"$nulls":6},3002483,3007483,3012483,{"$f":"VLOOKUP(G2483,[1]RewardItemConfig!$B:$F,5,FALSE)","v":2532},{"$f":"VLOOKUP(H2483,[1]RewardItemConfig!$B:$F,5,FALSE)","v":1160},{"$f":"VLOOKUP(I2483,[1]RewardItemConfig!$B:$F,5,FALSE)","v":253},14,3,17,"14#2532|3#1160|17#253"]
[{"$nulls":6},3002484,3007484,3012484,{"$f":"VLOOKUP(G2484,[1]RewardItemConfig!$B:$F,5,FALSE)","v":2533},{"$f":"VLOOKUP(H2484,[1]RewardItemConfig!$B:$F,5,FALSE)","v":1160},{"$f":"VLOOKUP(I2484,[1]RewardItemConfig!$B:$F,5,FALSE)","v":253},14,3,17,"14#2533|3#1160|17#253"]
[{"$nulls":6},3002485,3007485,3012485,{"$f":"VLOOKUP(G2485,[1]RewardItemConfig!$B:$F,5,FALSE)","v":2534},{"$f":"VLOOKUP(H2485,[1]RewardItemConfig!$B:$F,5,FALSE)","v":1160},{"$f":"VLOOKUP(I2485,[1]RewardItemConfig!$B:$F,5,FALSE)","v":253},14,3,17,"14#2534|3#1160|17#253"]
[{"$nulls":6},3002486,3007486,3012486,{"$f":"VLOOKUP(G2486,[1]RewardItemConfig!$B:$F,5,FALSE)","v":2535},{"$f":"VLOOKUP(H2486,[1]RewardItemConfig!$B:$F,5,FALSE)","v":1160},{"$f":"VLOOKUP(I2486,[1]RewardItemConfig!$B:$F,5,FALSE)","v":253},14,3,17,"14#2535|3#1160|17#253"]
[{"$nulls":6},3002487,3007487,3012487,{"$f":"VLOOKUP(G2487,[1]RewardItemConfig!$B:$F,5,FALSE)","v":2536},{"$f":"VLOOKUP(H2487,[1]RewardItemConfig!$B:$F,5,FALSE)","v":1160},{"$f":"VLOOKUP(I2487,[1]RewardItemConfig!$B:$F,5,FALSE)","v":253},14,3,17,"14#2536|3#1160|17#253"]
[{"$nulls":6},3002488,3007488,3012488,{"$f":"VLOOKUP(G2488,[1]RewardItemConfig!$B:$F,5,FALSE)","v":2537},{"$f":"VLOOKUP(H2488,[1]RewardItemConfig!$B:$F,5,FALSE)","v":1160},{"$f":"VLOOKUP(I2488,[1]RewardItemConfig!$B:$F,5,FALSE)","v":253},14,3,17,"14#2537|3#1160|17#253"]
[{"$nulls":6},3002489,3007489,3012489,{"$f":"VLOOKUP(G2489,[1]RewardItemConfig!$B:$F,5,FALSE)","v":2538},{"$f":"VLOOKUP(H2489,[1]RewardItemConfig!$B:$F,5,FALSE)","v":1160},{"$f":"VLOOKUP(I2489,[1]RewardItemConfig!$B:$F,5,FALSE)","v":253},14,3,17,"14#2538|3#1160|17#253"]
[{"$nulls":6},3002490,3007490,3012490,{"$f":"VLOOKUP(G2490,[1]RewardItemConfig!$B:$F,5,FALSE)","v":2539},{"$f":"VLOOKUP(H2490,[1]RewardItemConfig!$B:$F,5,FALSE)","v":1170},{"$f":"VLOOKUP(I2490,[1]RewardItemConfig!$B:$F,5,FALSE)","v":254},14,3,17,"14#2539|3#1170|17#254"]
[{"$nulls":6},3002491,3007491,3012491,{"$f":"VLOOKUP(G2491,[1]RewardItemConfig!$B:$F,5,FALSE)","v":2540},{"$f":"VLOOKUP(H2491,[1]RewardItemConfig!$B:$F,5,FALSE)","v":1170},{"$f":"VLOOKUP(I2491,[1]RewardItemConfig!$B:$F,5,FALSE)","v":254},14,3,17,"14#2540|3#1170|17#254"]
[{"$nulls":6},3002492,3007492,3012492,{"$f":"VLOOKUP(G2492,[1]RewardItemConfig!$B:$F,5,FALSE)","v":2541},{"$f":"VLOOKUP(H2492,[1]RewardItemConfig!$B:$F,5,FALSE)","v":1170},{"$f":"VLOOKUP(I2492,[1]RewardItemConfig!$B:$F,5,FALSE)","v":254},14,3,17,"14#2541|3#1170|17#254"]
[{"$nulls":6},3002493,3007493,3012493,{"$f":"VLOOKUP(G2493,[1]RewardItemConfig!$B:$F,5,FALSE)","v":2542},{"$f":"VLOOKUP(H2493,[1]RewardItemConfig!$B:$F,5,FALSE)","v":1170},{"$f":"VLOOKUP(I2493,[1]RewardItemConfig!$B:$F,5,FALSE)","v":254},14,3,17,"14#2542|3#1170|17#254"]
[{"$nulls":6},3002494,3007494,3012494,{"$f":"VLOOKUP(G2494,[1]RewardItemConfig!$B:$F,5,FALSE)","v":2543},{"$f":"VLOOKUP(H2494,[1]RewardItemConfig!$B:$F,5,FALSE)","v":1170},{"$f":"VLOOKUP(I2494,[1]RewardItemConfig!$B:$F,5,FALSE)","v":254},14,3,17,"14#2543|3#1170|17#254"]
[{"$nulls":6},3002495,3007495,3012495,{"$f":"VLOOKUP(G2495,[1]RewardItemConfig!$B:$F,5,FALSE)","v":2544},{"$f":"VLOOKUP(H2495,[1]RewardItemConfig!$B:$F,5,FALSE)","v":1170},{"$f":"VLOOKUP(I2495,[1]RewardItemConfig!$B:$F,5,FALSE)","v":254},14,3,17,"14#2544|3#1170|17#254"]
[{"$nulls":6},3002496,3007496,3012496,{"$f":"VLOOKUP(G2496,[1]RewardItemConfig!$B:$F,5,FALSE)","v":2545},{"$f":"VLOOKUP(H2496,[1]RewardItemConfig!$B:$F,5,FALSE)","v":1170},{"$f":"VLOOKUP(I2496,[1]RewardItemConfig!$B:$F,5,FALSE)","v":254},14,3,17,"14#2545|3#1170|17#254"]
[{"$nulls":6},3002497,3007497,3012497,{"$f":"VLOOKUP(G2497,[1]RewardItemConfig!$B:$F,5,FALSE)","v":2546},{"$f":"VLOOKUP(H2497,[1]RewardItemConfig!$B:$F,5,FALSE)","v":1170},{"$f":"VLOOKUP(I2497,[1]RewardItemConfig!$B:$F,5,FALSE)","v":254},14,3,17,"14#2546|3#1170|17#254"]
[{"$nulls":6},3002498,3007498,3012498,{"$f":"VLOOKUP(G2498,[1]RewardItemConfig!$B:$F,5,FALSE)","v":2547},{"$f":"VLOOKUP(H2498,[1]RewardItemConfig!$B:$F,5,FALSE)","v":1170},{"$f":"VLOOKUP(I2498,[1]RewardItemConfig!$B:$F,5,FALSE)","v":254},14,3,17,{"$f":"M2498&\"#\"&J2498&\"|\"&N2498&\"#\"&K2498&\"|\"&O2498&\"#\"&L2498","v":"14#2547|3#1170|17#254"}]
[{"$nulls":6},3002499,3007499,3012499,{"$f":"VLOOKUP(G2499,[1]RewardItemConfig!$B:$F,5,FALSE)","v":2548},{"$f":"VLOOKUP(H2499,[1]RewardItemConfig!$B:$F,5,FALSE)","v":1170},{"$f":"VLOOKUP(I2499,[1]RewardItemConfig!$B:$F,5,FALSE)","v":254},{"$f":"M2498","v":14},{"$f":"N2498","v":3},{"$f":"O2498","v":17},"14#2548|3#1170|17#254"]
[{"$nulls":6},3002500,3007500,3012500,{"$f":"VLOOKUP(G2500,[1]RewardItemConfig!$B:$F,5,FALSE)","v":2549},{"$f":"VLOOKUP(H2500,[1]RewardItemConfig!$B:$F,5,FALSE)","v":1180},{"$f":"VLOOKUP(I2500,[1]RewardItemConfig!$B:$F,5,FALSE)","v":255},14,3,17,"14#2549|3#1180|17#255"]
[{"$nulls":6},3002501,3007501,3012501,{"$f":"VLOOKUP(G2501,[1]RewardItemConfig!$B:$F,5,FALSE)","v":2550},{"$f":"VLOOKUP(H2501,[1]RewardItemConfig!$B:$F,5,FALSE)","v":1180},{"$f":"VLOOKUP(I2501,[1]RewardItemConfig!$B:$F,5,FALSE)","v":255},14,3,17,"14#2550|3#1180|17#255"]
[{"$nulls":6},3002502,3007502,3012502,{"$f":"VLOOKUP(G2502,[1]RewardItemConfig!$B:$F,5,FALSE)","v":2551},{"$f":"VLOOKUP(H2502,[1]RewardItemConfig!$B:$F,5,FALSE)","v":1180},{"$f":"VLOOKUP(I2502,[1]RewardItemConfig!$B:$F,5,FALSE)","v":255},14,3,17,"14#2551|3#1180|17#255"]
[{"$nulls":6},3002503,3007503,3012503,{"$f":"VLOOKUP(G2503,[1]RewardItemConfig!$B:$F,5,FALSE)","v":2552},{"$f":"VLOOKUP(H2503,[1]RewardItemConfig!$B:$F,5,FALSE)","v":1180},{"$f":"VLOOKUP(I2503,[1]RewardItemConfig!$B:$F,5,FALSE)","v":255},14,3,17,"14#2552|3#1180|17#255"]
[{"$nulls":6},3002504,3007504,3012504,{"$f":"VLOOKUP(G2504,[1]RewardItemConfig!$B:$F,5,FALSE)","v":2553},{"$f":"VLOOKUP(H2504,[1]RewardItemConfig!$B:$F,5,FALSE)","v":1180},{"$f":"VLOOKUP(I2504,[1]RewardItemConfig!$B:$F,5,FALSE)","v":255},14,3,17,"14#2553|3#1180|17#255"]
[{"$nulls":6},3002505,3007505,3012505,{"$f":"VLOOKUP(G2505,[1]RewardItemConfig!$B:$F,5,FALSE)","v":2554},{"$f":"VLOOKUP(H2505,[1]RewardItemConfig!$B:$F,5,FALSE)","v":1180},{"$f":"VLOOKUP(I2505,[1]RewardItemConfig!$B:$F,5,FALSE)","v":255},14,3,17,"14#2554|3#1180|17#255"]
[{"$nulls":6},3002506,3007506,3012506,{"$f":"VLOOKUP(G2506,[1]RewardItemConfig!$B:$F,5,FALSE)","v":2555},{"$f":"VLOOKUP(H2506,[1]RewardItemConfig!$B:$F,5,FALSE)","v":1180},{"$f":"VLOOKUP(I2506,[1]RewardItemConfig!$B:$F,5,FALSE)","v":255},14,3,17,"14#2555|3#1180|17#255"]
[{"$nulls":6},3002507,3007507,3012507,{"$f":"VLOOKUP(G2507,[1]RewardItemConfig!$B:$F,5,FALSE)","v":2556},{"$f":"VLOOKUP(H2507,[1]RewardItemConfig!$B:$F,5,FALSE)","v":1180},{"$f":"VLOOKUP(I2507,[1]RewardItemConfig!$B:$F,5,FALSE)","v":255},14,3,17,"14#2556|3#1180|17#255"]
[{"$nulls":6},3002508,3007508,3012508,{"$f":"VLOOKUP(G2508,[1]RewardItemConfig!$B:$F,5,FALSE)","v":2557},{"$f":"VLOOKUP(H2508,[1]RewardItemConfig!$B:$F,5,FALSE)","v":1180},{"$f":"VLOOKUP(I2508,[1]RewardItemConfig!$B:$F,5,FALSE)","v":255},14,3,17,"14#2557|3#1180|17#255"]
[{"$nulls":6},3002509,3007509,3012509,{"$f":"VLOOKUP(G2509,[1]RewardItemConfig!$B:$F,5,FALSE)","v":2558},{"$f":"VLOOKUP(H2509,[1]RewardItemConfig!$B:$F,5,FALSE)","v":1180},{"$f":"VLOOKUP(I2509,[1]RewardItemConfig!$B:$F,5,FALSE)","v":255},14,3,17,"14#2558|3#1180|17#255"]
[{"$nulls":6},3002510,3007510,3012510,{"$f":"VLOOKUP(G2510,[1]RewardItemConfig!$B:$F,5,FALSE)","v":2559},{"$f":"VLOOKUP(H2510,[1]RewardItemConfig!$B:$F,5,FALSE)","v":1190},{"$f":"VLOOKUP(I2510,[1]RewardItemConfig!$B:$F,5,FALSE)","v":256},14,3,17,"14#2559|3#1190|17#256"]
[{"$nulls":6},3002511,3007511,3012511,{"$f":"VLOOKUP(G2511,[1]RewardItemConfig!$B:$F,5,FALSE)","v":2560},{"$f":"VLOOKUP(H2511,[1]RewardItemConfig!$B:$F,5,FALSE)","v":1190},{"$f":"VLOOKUP(I2511,[1]RewardItemConfig!$B:$F,5,FALSE)","v":256},14,3,17,"14#2560|3#1190|17#256"]
[{"$nulls":6},3002512,3007512,3012512,{"$f":"VLOOKUP(G2512,[1]RewardItemConfig!$B:$F,5,FALSE)","v":2561},{"$f":"VLOOKUP(H2512,[1]RewardItemConfig!$B:$F,5,FALSE)","v":1190},{"$f":"VLOOKUP(I2512,[1]RewardItemConfig!$B:$F,5,FALSE)","v":256},14,3,17,"14#2561|3#1190|17#256"]
[{"$nulls":6},3002513,3007513,3012513,{"$f":"VLOOKUP(G2513,[1]RewardItemConfig!$B:$F,5,FALSE)","v":2562},{"$f":"VLOOKUP(H2513,[1]RewardItemConfig!$B:$F,5,FALSE)","v":1190},{"$f":"VLOOKUP(I2513,[1]RewardItemConfig!$B:$F,5,FALSE)","v":256},14,3,17,"14#2562|3#1190|17#256"]
[{"$nulls":6},3002514,3007514,3012514,{"$f":"VLOOKUP(G2514,[1]RewardItemConfig!$B:$F,5,FALSE)","v":2563},{"$f":"VLOOKUP(H2514,[1]RewardItemConfig!$B:$F,5,FALSE)","v":1190},{"$f":"VLOOKUP(I2514,[1]RewardItemConfig!$B:$F,5,FALSE)","v":256},14,3,17,"14#2563|3#1190|17#256"]
[{"$nulls":6},3002515,3007515,3012515,{"$f":"VLOOKUP(G2515,[1]RewardItemConfig!$B:$F,5,FALSE)","v":2564},{"$f":"VLOOKUP(H2515,[1]RewardItemConfig!$B:$F,5,FALSE)","v":1190},{"$f":"VLOOKUP(I2515,[1]RewardItemConfig!$B:$F,5,FALSE)","v":256},14,3,17,"14#2564|3#1190|17#256"]
[{"$nulls":6},3002516,3007516,3012516,{"$f":"VLOOKUP(G2516,[1]RewardItemConfig!$B:$F,5,FALSE)","v":2565},{"$f":"VLOOKUP(H2516,[1]RewardItemConfig!$B:$F,5,FALSE)","v":1190},{"$f":"VLOOKUP(I2516,[1]RewardItemConfig!$B:$F,5,FALSE)","v":256},14,3,17,"14#2565|3#1190|17#256"]
[{"$nulls":6},3002517,3007517,3012517,{"$f":"VLOOKUP(G2517,[1]RewardItemConfig!$B:$F,5,FALSE)","v":2566},{"$f":"VLOOKUP(H2517,[1]RewardItemConfig!$B:$F,5,FALSE)","v":1190},{"$f":"VLOOKUP(I2517,[1]RewardItemConfig!$B:$F,5,FALSE)","v":256},14,3,17,"14#2566|3#1190|17#256"]
[{"$nulls":6},3002518,3007518,3012518,{"$f":"VLOOKUP(G2518,[1]RewardItemConfig!$B:$F,5,FALSE)","v":2567},{"$f":"VLOOKUP(H2518,[1]RewardItemConfig!$B:$F,5,FALSE)","v":1190},{"$f":"VLOOKUP(I2518,[1]RewardItemConfig!$B:$F,5,FALSE)","v":256},14,3,17,"14#2567|3#1190|17#256"]
[{"$nulls":6},3002519,3007519,3012519,{"$f":"VLOOKUP(G2519,[1]RewardItemConfig!$B:$F,5,FALSE)","v":2568},{"$f":"VLOOKUP(H2519,[1]RewardItemConfig!$B:$F,5,FALSE)","v":1190},{"$f":"VLOOKUP(I2519,[1]RewardItemConfig!$B:$F,5,FALSE)","v":256},14,3,17,"14#2568|3#1190|17#256"]
[{"$nulls":6},3002520,3007520,3012520,{"$f":"VLOOKUP(G2520,[1]RewardItemConfig!$B:$F,5,FALSE)","v":2569},{"$f":"VLOOKUP(H2520,[1]RewardItemConfig!$B:$F,5,FALSE)","v":1200},{"$f":"VLOOKUP(I2520,[1]RewardItemConfig!$B:$F,5,FALSE)","v":257},14,3,17,"14#2569|3#1200|17#257"]
[{"$nulls":6},3002521,3007521,3012521,{"$f":"VLOOKUP(G2521,[1]RewardItemConfig!$B:$F,5,FALSE)","v":2570},{"$f":"VLOOKUP(H2521,[1]RewardItemConfig!$B:$F,5,FALSE)","v":1200},{"$f":"VLOOKUP(I2521,[1]RewardItemConfig!$B:$F,5,FALSE)","v":257},14,3,17,"14#2570|3#1200|17#257"]
[{"$nulls":6},3002522,3007522,3012522,{"$f":"VLOOKUP(G2522,[1]RewardItemConfig!$B:$F,5,FALSE)","v":2571},{"$f":"VLOOKUP(H2522,[1]RewardItemConfig!$B:$F,5,FALSE)","v":1200},{"$f":"VLOOKUP(I2522,[1]RewardItemConfig!$B:$F,5,FALSE)","v":257},14,3,17,"14#2571|3#1200|17#257"]
[{"$nulls":6},3002523,3007523,3012523,{"$f":"VLOOKUP(G2523,[1]RewardItemConfig!$B:$F,5,FALSE)","v":2572},{"$f":"VLOOKUP(H2523,[1]RewardItemConfig!$B:$F,5,FALSE)","v":1200},{"$f":"VLOOKUP(I2523,[1]RewardItemConfig!$B:$F,5,FALSE)","v":257},14,3,17,"14#2572|3#1200|17#257"]
[{"$nulls":6},3002524,3007524,3012524,{"$f":"VLOOKUP(G2524,[1]RewardItemConfig!$B:$F,5,FALSE)","v":2573},{"$f":"VLOOKUP(H2524,[1]RewardItemConfig!$B:$F,5,FALSE)","v":1200},{"$f":"VLOOKUP(I2524,[1]RewardItemConfig!$B:$F,5,FALSE)","v":257},14,3,17,"14#2573|3#1200|17#257"]
[{"$nulls":6},3002525,3007525,3012525,{"$f":"VLOOKUP(G2525,[1]RewardItemConfig!$B:$F,5,FALSE)","v":2574},{"$f":"VLOOKUP(H2525,[1]RewardItemConfig!$B:$F,5,FALSE)","v":1200},{"$f":"VLOOKUP(I2525,[1]RewardItemConfig!$B:$F,5,FALSE)","v":257},14,3,17,"14#2574|3#1200|17#257"]
[{"$nulls":6},3002526,3007526,3012526,{"$f":"VLOOKUP(G2526,[1]RewardItemConfig!$B:$F,5,FALSE)","v":2575},{"$f":"VLOOKUP(H2526,[1]RewardItemConfig!$B:$F,5,FALSE)","v":1200},{"$f":"VLOOKUP(I2526,[1]RewardItemConfig!$B:$F,5,FALSE)","v":257},14,3,17,"14#2575|3#1200|17#257"]
[{"$nulls":6},3002527,3007527,3012527,{"$f":"VLOOKUP(G2527,[1]RewardItemConfig!$B:$F,5,FALSE)","v":2576},{"$f":"VLOOKUP(H2527,[1]RewardItemConfig!$B:$F,5,FALSE)","v":1200},{"$f":"VLOOKUP(I2527,[1]RewardItemConfig!$B:$F,5,FALSE)","v":257},14,3,17,"14#2576|3#1200|17#257"]
[{"$nulls":6},3002528,3007528,3012528,{"$f":"VLOOKUP(G2528,[1]RewardItemConfig!$B:$F,5,FALSE)","v":2577},{"$f":"VLOOKUP(H2528,[1]RewardItemConfig!$B:$F,5,FALSE)","v":1200},{"$f":"VLOOKUP(I2528,[1]RewardItemConfig!$B:$F,5,FALSE)","v":257},14,3,17,"14#2577|3#1200|17#257"]
[{"$nulls":6},3002529,3007529,3012529,{"$f":"VLOOKUP(G2529,[1]RewardItemConfig!$B:$F,5,FALSE)","v":2578},{"$f":"VLOOKUP(H2529,[1]RewardItemConfig!$B:$F,5,FALSE)","v":1200},{"$f":"VLOOKUP(I2529,[1]RewardItemConfig!$B:$F,5,FALSE)","v":257},14,3,17,"14#2578|3#1200|17#257"]
[{"$nulls":6},3002530,3007530,3012530,{"$f":"VLOOKUP(G2530,[1]RewardItemConfig!$B:$F,5,FALSE)","v":2579},{"$f":"VLOOKUP(H2530,[1]RewardItemConfig!$B:$F,5,FALSE)","v":1210},{"$f":"VLOOKUP(I2530,[1]RewardItemConfig!$B:$F,5,FALSE)","v":258},14,3,17,"14#2579|3#1210|17#258"]
[{"$nulls":6},3002531,3007531,3012531,{"$f":"VLOOKUP(G2531,[1]RewardItemConfig!$B:$F,5,FALSE)","v":2580},{"$f":"VLOOKUP(H2531,[1]RewardItemConfig!$B:$F,5,FALSE)","v":1210},{"$f":"VLOOKUP(I2531,[1]RewardItemConfig!$B:$F,5,FALSE)","v":258},14,3,17,"14#2580|3#1210|17#258"]
[{"$nulls":6},3002532,3007532,3012532,{"$f":"VLOOKUP(G2532,[1]RewardItemConfig!$B:$F,5,FALSE)","v":2581},{"$f":"VLOOKUP(H2532,[1]RewardItemConfig!$B:$F,5,FALSE)","v":1210},{"$f":"VLOOKUP(I2532,[1]RewardItemConfig!$B:$F,5,FALSE)","v":258},14,3,17,"14#2581|3#1210|17#258"]
[{"$nulls":6},3002533,3007533,3012533,{"$f":"VLOOKUP(G2533,[1]RewardItemConfig!$B:$F,5,FALSE)","v":2582},{"$f":"VLOOKUP(H2533,[1]RewardItemConfig!$B:$F,5,FALSE)","v":1210},{"$f":"VLOOKUP(I2533,[1]RewardItemConfig!$B:$F,5,FALSE)","v":258},14,3,17,"14#2582|3#1210|17#258"]
[{"$nulls":6},3002534,3007534,3012534,{"$f":"VLOOKUP(G2534,[1]RewardItemConfig!$B:$F,5,FALSE)","v":2583},{"$f":"VLOOKUP(H2534,[1]RewardItemConfig!$B:$F,5,FALSE)","v":1210},{"$f":"VLOOKUP(I2534,[1]RewardItemConfig!$B:$F,5,FALSE)","v":258},14,3,17,"14#2583|3#1210|17#258"]
[{"$nulls":6},3002535,3007535,3012535,{"$f":"VLOOKUP(G2535,[1]RewardItemConfig!$B:$F,5,FALSE)","v":2584},{"$f":"VLOOKUP(H2535,[1]RewardItemConfig!$B:$F,5,FALSE)","v":1210},{"$f":"VLOOKUP(I2535,[1]RewardItemConfig!$B:$F,5,FALSE)","v":258},14,3,17,"14#2584|3#1210|17#258"]
[{"$nulls":6},3002536,3007536,3012536,{"$f":"VLOOKUP(G2536,[1]RewardItemConfig!$B:$F,5,FALSE)","v":2585},{"$f":"VLOOKUP(H2536,[1]RewardItemConfig!$B:$F,5,FALSE)","v":1210},{"$f":"VLOOKUP(I2536,[1]RewardItemConfig!$B:$F,5,FALSE)","v":258},14,3,17,"14#2585|3#1210|17#258"]
[{"$nulls":6},3002537,3007537,3012537,{"$f":"VLOOKUP(G2537,[1]RewardItemConfig!$B:$F,5,FALSE)","v":2586},{"$f":"VLOOKUP(H2537,[1]RewardItemConfig!$B:$F,5,FALSE)","v":1210},{"$f":"VLOOKUP(I2537,[1]RewardItemConfig!$B:$F,5,FALSE)","v":258},14,3,17,"14#2586|3#1210|17#258"]
[{"$nulls":6},3002538,3007538,3012538,{"$f":"VLOOKUP(G2538,[1]RewardItemConfig!$B:$F,5,FALSE)","v":2587},{"$f":"VLOOKUP(H2538,[1]RewardItemConfig!$B:$F,5,FALSE)","v":1210},{"$f":"VLOOKUP(I2538,[1]RewardItemConfig!$B:$F,5,FALSE)","v":258},14,3,17,"14#2587|3#1210|17#258"]
[{"$nulls":6},3002539,3007539,3012539,{"$f":"VLOOKUP(G2539,[1]RewardItemConfig!$B:$F,5,FALSE)","v":2588},{"$f":"VLOOKUP(H2539,[1]RewardItemConfig!$B:$F,5,FALSE)","v":1210},{"$f":"VLOOKUP(I2539,[1]RewardItemConfig!$B:$F,5,FALSE)","v":258},14,3,17,"14#2588|3#1210|17#258"]
[{"$nulls":6},3002540,3007540,3012540,{"$f":"VLOOKUP(G2540,[1]RewardItemConfig!$B:$F,5,FALSE)","v":2589},{"$f":"VLOOKUP(H2540,[1]RewardItemConfig!$B:$F,5,FALSE)","v":1220},{"$f":"VLOOKUP(I2540,[1]RewardItemConfig!$B:$F,5,FALSE)","v":259},14,3,17,"14#2589|3#1220|17#259"]
[{"$nulls":6},3002541,3007541,3012541,{"$f":"VLOOKUP(G2541,[1]RewardItemConfig!$B:$F,5,FALSE)","v":2590},{"$f":"VLOOKUP(H2541,[1]RewardItemConfig!$B:$F,5,FALSE)","v":1220},{"$f":"VLOOKUP(I2541,[1]RewardItemConfig!$B:$F,5,FALSE)","v":259},14,3,17,"14#2590|3#1220|17#259"]
[{"$nulls":6},3002542,3007542,3012542,{"$f":"VLOOKUP(G2542,[1]RewardItemConfig!$B:$F,5,FALSE)","v":2591},{"$f":"VLOOKUP(H2542,[1]RewardItemConfig!$B:$F,5,FALSE)","v":1220},{"$f":"VLOOKUP(I2542,[1]RewardItemConfig!$B:$F,5,FALSE)","v":259},14,3,17,"14#2591|3#1220|17#259"]
[{"$nulls":6},3002543,3007543,3012543,{"$f":"VLOOKUP(G2543,[1]RewardItemConfig!$B:$F,5,FALSE)","v":2592},{"$f":"VLOOKUP(H2543,[1]RewardItemConfig!$B:$F,5,FALSE)","v":1220},{"$f":"VLOOKUP(I2543,[1]RewardItemConfig!$B:$F,5,FALSE)","v":259},14,3,17,"14#2592|3#1220|17#259"]
[{"$nulls":6},3002544,3007544,3012544,{"$f":"VLOOKUP(G2544,[1]RewardItemConfig!$B:$F,5,FALSE)","v":2593},{"$f":"VLOOKUP(H2544,[1]RewardItemConfig!$B:$F,5,FALSE)","v":1220},{"$f":"VLOOKUP(I2544,[1]RewardItemConfig!$B:$F,5,FALSE)","v":259},14,3,17,"14#2593|3#1220|17#259"]
[{"$nulls":6},3002545,3007545,3012545,{"$f":"VLOOKUP(G2545,[1]RewardItemConfig!$B:$F,5,FALSE)","v":2594},{"$f":"VLOOKUP(H2545,[1]RewardItemConfig!$B:$F,5,FALSE)","v":1220},{"$f":"VLOOKUP(I2545,[1]RewardItemConfig!$B:$F,5,FALSE)","v":259},14,3,17,"14#2594|3#1220|17#259"]
[{"$nulls":6},3002546,3007546,3012546,{"$f":"VLOOKUP(G2546,[1]RewardItemConfig!$B:$F,5,FALSE)","v":2595},{"$f":"VLOOKUP(H2546,[1]RewardItemConfig!$B:$F,5,FALSE)","v":1220},{"$f":"VLOOKUP(I2546,[1]RewardItemConfig!$B:$F,5,FALSE)","v":259},14,3,17,"14#2595|3#1220|17#259"]
[{"$nulls":6},3002547,3007547,3012547,{"$f":"VLOOKUP(G2547,[1]RewardItemConfig!$B:$F,5,FALSE)","v":2596},{"$f":"VLOOKUP(H2547,[1]RewardItemConfig!$B:$F,5,FALSE)","v":1220},{"$f":"VLOOKUP(I2547,[1]RewardItemConfig!$B:$F,5,FALSE)","v":259},14,3,17,"14#2596|3#1220|17#259"]
[{"$nulls":6},3002548,3007548,3012548,{"$f":"VLOOKUP(G2548,[1]RewardItemConfig!$B:$F,5,FALSE)","v":2597},{"$f":"VLOOKUP(H2548,[1]RewardItemConfig!$B:$F,5,FALSE)","v":1220},{"$f":"VLOOKUP(I2548,[1]RewardItemConfig!$B:$F,5,FALSE)","v":259},14,3,17,"14#2597|3#1220|17#259"]
[{"$nulls":6},3002549,3007549,3012549,{"$f":"VLOOKUP(G2549,[1]RewardItemConfig!$B:$F,5,FALSE)","v":2598},{"$f":"VLOOKUP(H2549,[1]RewardItemConfig!$B:$F,5,FALSE)","v":1220},{"$f":"VLOOKUP(I2549,[1]RewardItemConfig!$B:$F,5,FALSE)","v":259},14,3,17,"14#2598|3#1220|17#259"]
[{"$nulls":6},3002550,3007550,3012550,{"$f":"VLOOKUP(G2550,[1]RewardItemConfig!$B:$F,5,FALSE)","v":2599},{"$f":"VLOOKUP(H2550,[1]RewardItemConfig!$B:$F,5,FALSE)","v":1230},{"$f":"VLOOKUP(I2550,[1]RewardItemConfig!$B:$F,5,FALSE)","v":260},14,3,17,"14#2599|3#1230|17#260"]