{"text_format":"3","workbook":"xlsx","n_sheets":3,"sheets":["PlayerLevelConfig","Sheet1","点金增益"],"not_rendered":{"external_links":2,"defined_names":1},"read":"whole","date_system":"1900"}

{"sheet":"PlayerLevelConfig","index":0,"n_rows":207,"n_cols":14,"rows_kept":207}
[null,"PlayerLv","Exp","MaxEnergy","AddEnergy","ExtraAdd","MazeTreasureMax","HeroPower","EquipPower","DifferDemonsPower","GiftPower","RingsPower","SoulPower","TreasurePower"]
[null,"int","int","int","int","int","int","int","int","int","int","int","int","int"]
[null,2,2,2,2,2,2,3,3,3,3,3,3,3]
[null,"角色等级","升至下一级所需的经验","角色等级对应的体力上限（废弃）","升级增加当前体力的数额（废弃）","购买商品额外增益（万分比）","迷宫寻宝道具存储上限","猎妖师养成","装备养成","异妖养成","天赋养成","戒灵养成","魂印养成","法宝养成"]
["默认值",0,0,0,0]
["正确性校对"]
["校对值"]
[null,1,120,0,0,0,18000,292,105,0,0,0,0,0]
[null,2,360,0,0,0,{"$f":"G8","v":18000},585,210,0,0,0,0,0]
[null,3,720,0,0,0,18000,878,315,0,0,0,0,0]
[null,4,1200,0,0,0,{"$f":"G10","v":18000},1170,420,0,0,0,0,0]
[null,5,1700,0,0,0,18000,1463,525,0,0,0,0,0]
[null,6,2280,0,0,0,{"$f":"G12","v":18000},1756,630,0,0,0,0,0]
[null,7,3680,0,0,0,18000,2049,735,0,0,0,0,0]
[null,8,5140,0,0,0,{"$f":"G14","v":18000},2341,840,0,0,0,0,0]
[null,9,6680,0,0,0,18000,2634,945,0,0,0,0,0]
[null,10,8770,0,0,0,{"$f":"G16","v":18000},2927,1050,0,0,0,0,0]
[null,11,11650,0,0,0,18000,3220,1155,0,0,0,0,0]
[null,12,14700,0,0,0,{"$f":"G18","v":18000},3512,1260,0,0,0,0,0]
[null,13,17860,0,0,0,18000,3805,1365,0,0,0,0,0]
[null,14,20880,0,0,0,{"$f":"G20","v":18000},4098,1470,0,0,0,0,0]
[null,15,23940,0,0,0,18000,4390,1575,0,0,0,0,0]
[null,16,27030,0,0,0,{"$f":"G22","v":18000},4683,1680,0,0,0,0,0]
[null,17,30190,0,0,0,18000,4976,1785,0,0,0,0,0]
[null,18,33330,0,0,0,{"$f":"G24","v":18000},5269,1890,0,0,0,0,0]
[null,19,36260,0,0,0,18000,5561,1995,0,0,0,0,0]
[null,20,39380,0,0,0,{"$f":"G26","v":18000},5854,2100,0,0,0,0,0]
[null,21,42815,0,0,0,{"$f":"G8+2000","v":20000},6147,2205,0,0,0,0,0]
[null,22,46325,0,0,0,{"$f":"G9+2000","v":20000},6440,2310,0,0,0,0,0]
[null,23,50215,0,0,0,20000,7378,2310,0,0,0,0,0]
[null,24,54505,0,0,0,20000,7699,2310,1497,0,0,0,0]
[null,25,59210,0,0,0,20000,8020,2310,1560,0,0,0,0]
[null,26,64350,0,0,0,20000,8468,2310,1745,46,0,0,0]
[null,27,69940,0,0,0,20000,8794,2310,1812,48,0,0,0]
[null,28,76000,0,0,0,20000,9120,2310,1880,50,0,0,0]
[null,29,82545,0,0,0,20000,9647,2310,2126,106,0,0,0]
[null,30,89595,0,0,5000,{"$f":"G36","v":20000},9980,2310,2200,110,0,1320,0]
[null,31,97160,0,0,5000,{"$f":"G28+2000","v":22000},10598,4088,2431,145,0,1395,0]
[null,32,105270,0,0,5000,22000,10940,4220,2510,150,0,1440,0]
[null,33,113930,0,0,5000,22000,10940,4220,2746,291,0,1523,0]
[null,34,123160,0,0,5000,22000,10940,4220,2830,300,0,1570,0]
[null,35,132985,0,0,5000,22000,11569,4220,2877,388,0,1570,1273]
[null,36,143415,0,0,5000,22000,11900,4220,2960,400,0,1570,1310]
[null,37,154470,0,0,5000,22000,12850,4220,3280,520,0,1570,1310]
[null,38,166165,0,0,5000,22000,14391,4220,3322,652,0,1570,1310]
[null,39,178520,0,0,5000,22000,14770,4220,3410,670,0,1570,1310]
[null,40,191555,0,0,{"$f":"F37+5000","v":10000},22000,14770,7040,3730,820,0,1570,1430]
[null,41,205280,0,0,{"$f":"F38+5000","v":10000},24000,14770,7040,3768,937,0,1570,1430]
[null,42,219715,0,0,10000,24000,14770,7040,3860,960,0,1570,1430]
[null,43,234880,0,0,10000,24000,15600,7040,4180,1050,0,1570,2770]
[null,44,250795,0,0,10000,24000,15600,7040,4310,1130,0,1570,2770]
[null,45,267470,0,0,10000,24000,15600,7040,4630,1220,0,1570,2770]
[null,46,284920,0,0,10000,{"$f":"G48+1000","v":25000},15600,7040,4760,1310,0,1570,2770]
[null,47,303175,0,0,10000,{"$f":"G49+1000","v":25000},15600,7040,5080,1400,0,1570,2770]
[null,48,322245,0,0,10000,25000,15600,7040,5210,1500,0,1570,2770]
[null,49,342145,0,0,10000,25000,15600,7040,5350,1600,0,1570,2770]
[null,50,362895,0,0,15000,25000,16440,7040,5800,1790,0,1570,2770]
[null,51,384510,0,0,15000,26000,17270,7040,5800,1880,0,1690,2770]
[null,52,407015,0,0,15000,26000,17270,7040,5980,2160,0,1690,2770]
[null,53,430420,0,0,15000,26000,18100,15240,5980,2300,0,1690,2770]
[null,54,454740,0,0,15000,26000,18100,15240,6180,2600,0,1690,2770]
[null,55,480000,0,0,15000,26000,18930,15240,6440,2910,0,1690,3530]
[null,56,506215,0,0,15000,27000,18930,15240,6580,3170,0,1690,3530]
[null,57,533400,0,0,15000,27000,19670,15240,6710,3740,0,1690,3530]
[null,58,561575,0,0,15000,27000,19670,15240,6770,3830,0,1690,3530]
[null,59,590755,0,0,15000,27000,20400,15240,6840,4110,0,1690,3530]
[null,60,620960,0,0,20000,27000,20400,15240,6910,4530,0,1690,3530]
[null,61,652205,0,0,20000,28000,21140,15240,7040,4940,0,1690,3530]
[null,62,684505,0,0,20000,28000,21870,15240,7110,5290,0,1690,3530]
[null,63,717885,0,0,20000,28000,21870,15240,7170,5500,0,1690,3530]
[null,64,752355,0,0,20000,28000,22600,15240,7240,5670,0,1690,3530]
[null,65,787935,0,0,20000,28000,23590,15240,7630,6040,0,2240,4820]
[null,66,824640,0,0,20000,29000,23590,15240,8030,6570,0,2240,4820]
[null,67,862495,0,0,20000,29000,24580,26910,8320,7040,0,2790,4820]
[null,68,901510,0,0,20000,29000,25560,26910,8410,7590,0,2790,4820]
[null,69,941700,0,0,20000,29000,25560,26910,8610,8380,0,2790,4820]
[null,70,983095,0,0,25000,29000,26550,26910,8800,9010,0,3340,4820]
[null,71,1025700,0,0,25000,30000,26550,26910,8900,10030,0,3340,4820]
[null,72,1069535,0,0,25000,30000,27540,26910,9250,10740,0,4140,9380]
[null,73,1114620,0,0,{"$f":"F70+5000","v":25000},30000,27540,26910,9370,10810,0,4140,9380]
[null,74,1160970,0,0,25000,30000,29190,26910,9460,11140,0,4140,9380]
[null,75,1208605,0,0,25000,30000,30850,26910,9520,11290,0,4140,9380]
[null,76,1257545,0,0,25000,{"$f":"G78","v":30000},30850,26910,9550,11340,0,4140,9380]
[null,77,1307795,0,0,25000,{"$f":"G79","v":30000},32500,26910,10390,11580,0,4140,9380]
[null,78,1359385,0,0,25000,30000,34160,26910,10780,11690,0,4140,9380]
[null,79,1412330,0,0,25000,30000,35820,26910,11070,11790,0,4140,9380]
[null,80,1466640,0,0,30000,30000,35820,26910,11360,12430,0,4140,9380]
[null,81,1522340,0,0,30000,30000,39900,26910,12140,12590,0,7470,13350]
[null,82,1579450,0,0,30000,30000,39900,26910,12820,13290,0,7470,13350]
[null,83,1637975,0,0,30000,30000,43980,26910,13110,14090,0,8350,13350]
[null,84,1697945,0,0,30000,30000,48070,26910,13400,14680,0,8350,13350]
[null,85,1759365,0,0,30000,30000,52150,26910,13840,15190,0,8790,13350]
[null,86,1822265,0,0,30000,30000,60810,26910,13960,15680,0,9670,13350]
[null,87,1886655,0,0,30000,30000,60000,34000,14080,16580,0,9670,13350]
[null,88,1952555,0,0,30000,30000,60000,34000,15000,18000,0,10260,7500]
[null,89,2019980,0,0,30000,30000,60000,34000,15660,18630,0,10260,7500]
[null,90,2088950,0,0,35000,30000,60000,34000,15960,20250,0,10480,7500]
[null,91,2159480,0,0,35000,30000,60000,34000,17310,20780,0,10480,7500]
[null,92,2231590,0,0,35000,30000,60000,34000,17800,24140,0,10480,7500]
[null,93,2305295,0,0,35000,30000,60000,34000,18710,33440,0,11610,7500]
[null,94,2380610,0,0,35000,30000,60000,34000,19320,35480,0,11610,7500]
[null,95,2457560,0,0,35000,30000,60000,34000,19740,37350,0,13210,7500]
[null,96,2536155,0,0,35000,30000,60000,34000,20050,38460,0,13370,7500]
[null,97,2616415,0,0,35000,30000,60000,34000,20650,39220,0,14500,7500]
[null,98,2698360,0,0,35000,30000,60000,34000,20980,39660,0,14500,7500]
[null,99,2782005,0,0,35000,30000,60000,34000,20980,40000,0,14500,7500]
[null,100,2867365,0,0,40000,30000,60000,34000,20980,40000,0,14500,7500]
[null,101,2954460,0,0,40000,30000,60000,34000,20980,40000,0,14500,7500]
[null,102,3043305,0,0,40000,30000,60000,34000,20980,40000,0,14500,7500]
[null,103,3133920,0,0,40000,30000,60000,34000,20980,40000,0,14500,7500]
[null,104,3226320,0,0,40000,30000,60000,34000,20980,40000,0,14500,7500]
[null,105,3320530,0,0,{"$f":"F102+5000","v":40000},30000,60000,34000,20980,40000,0,14500,7500]
[null,106,3416555,0,0,{"$f":"F103+5000","v":40000},30000,60000,34000,20980,40000,0,14500,7500]
[null,107,3514420,0,0,{"$f":"F104+5000","v":40000},30000,60000,34000,20980,40000,0,14500,7500]
[null,108,3614145,0,0,{"$f":"F105+5000","v":40000},30000,60000,34000,20980,40000,0,14500,7500]
[null,109,3715740,0,0,{"$f":"F106+5000","v":40000},{"$f":"G111","v":30000},60000,34000,20980,40000,0,14500,7500]
[null,110,3819225,0,0,{"$f":"F107","v":40000},30000,60000,34000,20980,40000,0,14500,7500]
[null,111,3924620,0,0,{"$f":"F108","v":40000},30000,60000,34000,20980,40000,0,14500,7500]
[null,112,4031935,0,0,40000,30000,60000,34000,20980,40000,0,14500,7500]
[null,113,4141200,0,0,40000,30000,60000,34000,20980,40000,0,14500,7500]
[null,114,4252420,0,0,40000,30000,60000,34000,20980,40000,0,14500,7500]
[null,115,4365620,0,0,40000,30000,60000,34000,20980,40000,0,14500,7500]
[null,116,4480815,0,0,40000,30000,60000,34000,20980,40000,0,14500,7500]
[null,117,4598020,0,0,40000,30000,60000,34000,20980,40000,0,14500,7500]
[null,118,4717255,0,0,40000,30000,60000,34000,20980,40000,0,14500,7500]
[null,119,4838535,0,0,40000,30000,60000,34000,20980,40000,0,14500,7500]
[null,120,4961880,0,0,40000,30000,60000,34000,20980,40000,0,14500,7500]
[null,121,5087310,0,0,40000,30000,60000,34000,20980,40000,0,14500,7500]
[null,122,5214835,0,0,40000,30000,60000,34000,20980,40000,0,14500,7500]
[null,123,5344475,0,0,40000,30000,60000,34000,20980,40000,0,14500,7500]
[null,124,5476250,0,0,40000,30000,60000,34000,20980,40000,0,14500,7500]
[null,125,5610175,0,0,40000,30000,60000,34000,20980,40000,0,14500,7500]
[null,126,5746270,0,0,40000,30000,60000,34000,20980,40000,0,14500,7500]
[null,127,5884550,0,0,40000,30000,60000,34000,20980,40000,0,14500,7500]
[null,128,6025035,0,0,40000,30000,60000,34000,20980,40000,0,14500,7500]
[null,129,6167735,0,0,40000,30000,60000,34000,20980,40000,0,14500,7500]
[null,130,6312675,0,0,40000,30000,60000,34000,20980,40000,0,14500,7500]
[null,131,6459870,0,0,40000,30000,60000,34000,20980,40000,0,14500,7500]
[null,132,6609340,0,0,40000,30000,60000,34000,20980,40000,0,14500,7500]
[null,133,6761095,0,0,40000,30000,60000,34000,20980,40000,0,14500,7500]
[null,134,6915160,0,0,40000,30000,60000,34000,20980,40000,0,14500,7500]
[null,135,7071545,0,0,40000,30000,60000,34000,20980,40000,0,14500,7500]
[null,136,7230275,0,0,40000,30000,60000,34000,20980,40000,0,14500,7500]
[null,137,7391365,0,0,40000,30000,60000,34000,20980,40000,0,14500,7500]
[null,138,7554830,0,0,40000,30000,60000,34000,20980,40000,0,14500,7500]
[null,139,7720685,0,0,40000,30000,60000,34000,20980,40000,0,14500,7500]
[null,140,7888955,0,0,40000,30000,60000,34000,20980,40000,0,14500,7500]
[null,141,8059655,0,0,40000,{"$f":"G143","v":30000},60000,34000,20980,40000,0,14500,7500]
[null,142,8232795,0,0,40000,30000,60000,34000,20980,40000,0,14500,7500]
[null,143,8408400,0,0,{"$f":"F140","v":40000},30000,60000,34000,20980,40000,0,14500,7500]
[null,144,8586490,0,0,40000,30000,60000,34000,20980,40000,0,14500,7500]
[null,145,8767070,0,0,40000,30000,60000,34000,20980,40000,0,14500,7500]
[null,146,8950170,0,0,40000,30000,60000,34000,20980,40000,0,14500,7500]
[null,147,9135800,0,0,40000,30000,60000,34000,20980,40000,0,14500,7500]
[null,148,9323985,0,0,40000,30000,60000,34000,20980,40000,0,14500,7500]
[null,149,9514730,0,0,40000,30000,60000,34000,20980,40000,0,14500,7500]
[null,150,9708065,0,0,40000,30000,60000,34000,20980,40000,0,14500,7500]
[null,151,9904000,0,0,40000,30000,60000,34000,20980,40000,0,14500,7500]
[null,152,10102550,0,0,40000,30000,60000,34000,20980,40000,0,14500,7500]
[null,153,10303740,0,0,40000,30000,60000,34000,20980,40000,0,14500,7500]
[null,154,10507585,0,0,40000,30000,60000,34000,20980,40000,0,14500,7500]
[null,155,10714100,0,0,40000,30000,60000,34000,20980,40000,0,14500,7500]
[null,156,10923300,0,0,40000,30000,60000,34000,20980,40000,0,14500,7500]
[null,157,11135210,0,0,40000,30000,60000,34000,20980,40000,0,14500,7500]
[null,158,11349845,0,0,40000,30000,60000,34000,20980,40000,0,14500,7500]
[null,159,11567215,0,0,40000,30000,60000,34000,20980,40000,0,14500,7500]
[null,160,11787345,0,0,40000,30000,60000,34000,20980,40000,0,14500,7500]
[null,161,12010250,0,0,40000,30000,60000,34000,20980,40000,0,14500,7500]
[null,162,12235950,0,0,40000,30000,60000,34000,20980,40000,0,14500,7500]
[null,163,12464460,0,0,40000,30000,60000,34000,20980,40000,0,14500,7500]
[null,164,12695795,0,0,40000,30000,60000,34000,20980,40000,0,14500,7500]
[null,165,12929975,0,0,40000,30000,60000,34000,20980,40000,0,14500,7500]
[null,166,13167015,0,0,40000,30000,60000,34000,20980,40000,0,14500,7500]
[null,167,13406935,0,0,40000,30000,60000,34000,20980,40000,0,14500,7500]
[null,168,13649755,0,0,40000,30000,60000,34000,20980,40000,0,14500,7500]
[null,169,13895485,0,0,40000,30000,60000,34000,20980,40000,0,14500,7500]
[null,170,14144145,0,0,40000,30000,60000,34000,20980,40000,0,14500,7500]
[null,171,14395760,0,0,40000,30000,60000,34000,20980,40000,0,14500,7500]
[null,172,14650335,0,0,40000,30000,60000,34000,20980,40000,0,14500,7500]
[null,173,14907895,0,0,40000,30000,60000,34000,20980,40000,0,14500,7500]
[null,174,15168460,0,0,40000,30000,60000,34000,20980,40000,0,14500,7500]
[null,175,15432040,0,0,40000,30000,60000,34000,20980,40000,0,14500,7500]
[null,176,15698655,0,0,40000,30000,60000,34000,20980,40000,0,14500,7500]
[null,177,15968320,0,0,40000,30000,60000,34000,20980,40000,0,14500,7500]
[null,178,16241060,0,0,40000,30000,60000,34000,20980,40000,0,14500,7500]
[null,179,16516885,0,0,40000,30000,60000,34000,20980,40000,0,14500,7500]
[null,180,16795810,0,0,40000,30000,60000,34000,20980,40000,0,14500,7500]
[null,181,17077865,0,0,40000,30000,60000,34000,20980,40000,0,14500,7500]
[null,182,17363055,0,0,40000,30000,60000,34000,20980,40000,0,14500,7500]
[null,183,17651405,0,0,40000,30000,60000,34000,20980,40000,0,14500,7500]
[null,184,17942925,0,0,40000,30000,60000,34000,20980,40000,0,14500,7500]
[null,185,18237640,0,0,40000,30000,60000,34000,20980,40000,0,14500,7500]
[null,186,18535560,0,0,40000,30000,60000,34000,20980,40000,0,14500,7500]
[null,187,18836710,0,0,40000,30000,60000,34000,20980,40000,0,14500,7500]
[null,188,19141100,0,0,40000,30000,60000,34000,20980,40000,0,14500,7500]
[null,189,19448755,0,0,40000,30000,60000,34000,20980,40000,0,14500,7500]
[null,190,19759685,0,0,40000,30000,60000,34000,20980,40000,0,14500,7500]
[null,191,20073915,0,0,40000,30000,60000,34000,20980,40000,0,14500,7500]
[null,192,20391450,0,0,40000,30000,60000,34000,20980,40000,0,14500,7500]
[null,193,20712320,0,0,40000,30000,60000,34000,20980,40000,0,14500,7500]
[null,194,21036540,0,0,40000,30000,60000,34000,20980,40000,0,14500,7500]
[null,195,21364120,0,0,40000,30000,60000,34000,20980,40000,0,14500,7500]
[null,196,21695085,0,0,40000,30000,60000,34000,20980,40000,0,14500,7500]
[null,197,22029450,0,0,40000,30000,60000,34000,20980,40000,0,14500,7500]
[null,198,22367230,0,0,40000,30000,60000,34000,20980,40000,0,14500,7500]
[null,199,22708445,0,0,40000,30000,60000,34000,20980,40000,0,14500,7500]
[null,200,22707945,0,0,40000,30000,60000,34000,20980,40000,0,14500,7500]

{"sheet":"Sheet1","index":1,"n_rows":250,"n_cols":12,"rows_kept":250}
[14,500,null,3,12,null,{"$f":"[2]!SUMSTRING(A1:B1,\"#\")","v":{"$error":"#NAME?"}},null,null,{"$f":"[2]!SUMSTRING(D1:E1,\"#\")","v":{"$error":"#NAME?"}},null,{"$f":"[2]!SUMSTRING(G1:J1,\"|\")","v":{"$error":"#NAME?"}}]
[14,600,null,3,14,null,{"$f":"[2]!SUMSTRING(A2:B2,\"#\")","v":{"$error":"#NAME?"}},null,null,{"$f":"[2]!SUMSTRING(D2:E2,\"#\")","v":{"$error":"#NAME?"}},null,{"$f":"[2]!SUMSTRING(G2:J2,\"|\")","v":{"$error":"#NAME?"}}]
[14,700,null,3,16,null,{"$f":"[2]!SUMSTRING(A3:B3,\"#\")","v":{"$error":"#NAME?"}},null,null,{"$f":"[2]!SUMSTRING(D3:E3,\"#\")","v":{"$error":"#NAME?"}},null,{"$f":"[2]!SUMSTRING(G3:J3,\"|\")","v":{"$error":"#NAME?"}}]
[14,800,null,3,18,null,{"$f":"[2]!SUMSTRING(A4:B4,\"#\")","v":{"$error":"#NAME?"}},null,null,{"$f":"[2]!SUMSTRING(D4:E4,\"#\")","v":{"$error":"#NAME?"}},null,{"$f":"[2]!SUMSTRING(G4:J4,\"|\")","v":{"$error":"#NAME?"}}]
[14,900,null,3,20,null,{"$f":"[2]!SUMSTRING(A5:B5,\"#\")","v":{"$error":"#NAME?"}},null,null,{"$f":"[2]!SUMSTRING(D5:E5,\"#\")","v":{"$error":"#NAME?"}},null,{"$f":"[2]!SUMSTRING(G5:J5,\"|\")","v":{"$error":"#NAME?"}}]
[14,1000,null,3,22,null,{"$f":"[2]!SUMSTRING(A6:B6,\"#\")","v":{"$error":"#NAME?"}},null,null,{"$f":"[2]!SUMSTRING(D6:E6,\"#\")","v":{"$error":"#NAME?"}},null,{"$f":"[2]!SUMSTRING(G6:J6,\"|\")","v":{"$error":"#NAME?"}}]
[14,1100,null,3,24,null,{"$f":"[2]!SUMSTRING(A7:B7,\"#\")","v":{"$error":"#NAME?"}},null,null,{"$f":"[2]!SUMSTRING(D7:E7,\"#\")","v":{"$error":"#NAME?"}},null,{"$f":"[2]!SUMSTRING(G7:J7,\"|\")","v":{"$error":"#NAME?"}}]
[14,1200,null,3,26,null,{"$f":"[2]!SUMSTRING(A8:B8,\"#\")","v":{"$error":"#NAME?"}},null,null,{"$f":"[2]!SUMSTRING(D8:E8,\"#\")","v":{"$error":"#NAME?"}},null,{"$f":"[2]!SUMSTRING(G8:J8,\"|\")","v":{"$error":"#NAME?"}}]
[14,1300,null,3,28,null,{"$f":"[2]!SUMSTRING(A9:B9,\"#\")","v":{"$error":"#NAME?"}},null,null,{"$f":"[2]!SUMSTRING(D9:E9,\"#\")","v":{"$error":"#NAME?"}},null,{"$f":"[2]!SUMSTRING(G9:J9,\"|\")","v":{"$error":"#NAME?"}}]
[14,1400,null,3,30,null,{"$f":"[2]!SUMSTRING(A10:B10,\"#\")","v":{"$error":"#NAME?"}},null,null,{"$f":"[2]!SUMSTRING(D10:E10,\"#\")","v":{"$error":"#NAME?"}},null,{"$f":"[2]!SUMSTRING(G10:J10,\"|\")","v":{"$error":"#NAME?"}}]
[14,1500,null,3,32,null,{"$f":"[2]!SUMSTRING(A11:B11,\"#\")","v":{"$error":"#NAME?"}},null,null,{"$f":"[2]!SUMSTRING(D11:E11,\"#\")","v":{"$error":"#NAME?"}},null,{"$f":"[2]!SUMSTRING(G11:J11,\"|\")","v":{"$error":"#NAME?"}}]
[14,1600,null,3,34,null,{"$f":"[2]!SUMSTRING(A12:B12,\"#\")","v":{"$error":"#NAME?"}},null,null,{"$f":"[2]!SUMSTRING(D12:E12,\"#\")","v":{"$error":"#NAME?"}},null,{"$f":"[2]!SUMSTRING(G12:J12,\"|\")","v":{"$error":"#NAME?"}}]
[14,1700,null,3,36,null,{"$f":"[2]!SUMSTRING(A13:B13,\"#\")","v":{"$error":"#NAME?"}},null,null,{"$f":"[2]!SUMSTRING(D13:E13,\"#\")","v":{"$error":"#NAME?"}},null,{"$f":"[2]!SUMSTRING(G13:J13,\"|\")","v":{"$error":"#NAME?"}}]
[14,1800,null,3,38,null,{"$f":"[2]!SUMSTRING(A14:B14,\"#\")","v":{"$error":"#NAME?"}},null,null,{"$f":"[2]!SUMSTRING(D14:E14,\"#\")","v":{"$error":"#NAME?"}},null,{"$f":"[2]!SUMSTRING(G14:J14,\"|\")","v":{"$error":"#NAME?"}}]
[14,1900,null,3,40,null,{"$f":"[2]!SUMSTRING(A15:B15,\"#\")","v":{"$error":"#NAME?"}},null,null,{"$f":"[2]!SUMSTRING(D15:E15,\"#\")","v":{"$error":"#NAME?"}},null,{"$f":"[2]!SUMSTRING(G15:J15,\"|\")","v":{"$error":"#NAME?"}}]
[14,2000,null,3,42,null,{"$f":"[2]!SUMSTRING(A16:B16,\"#\")","v":{"$error":"#NAME?"}},null,null,{"$f":"[2]!SUMSTRING(D16:E16,\"#\")","v":{"$error":"#NAME?"}},null,{"$f":"[2]!SUMSTRING(G16:J16,\"|\")","v":{"$error":"#NAME?"}}]
[14,2100,null,3,44,null,{"$f":"[2]!SUMSTRING(A17:B17,\"#\")","v":{"$error":"#NAME?"}},null,null,{"$f":"[2]!SUMSTRING(D17:E17,\"#\")","v":{"$error":"#NAME?"}},null,{"$f":"[2]!SUMSTRING(G17:J17,\"|\")","v":{"$error":"#NAME?"}}]
[14,2200,null,3,46,null,{"$f":"[2]!SUMSTRING(A18:B18,\"#\")","v":{"$error":"#NAME?"}},null,null,{"$f":"[2]!SUMSTRING(D18:E18,\"#\")","v":{"$error":"#NAME?"}},null,{"$f":"[2]!SUMSTRING(G18:J18,\"|\")","v":{"$error":"#NAME?"}}]
[14,2300,null,3,48,null,{"$f":"[2]!SUMSTRING(A19:B19,\"#\")","v":{"$error":"#NAME?"}},null,null,{"$f":"[2]!SUMSTRING(D19:E19,\"#\")","v":{"$error":"#NAME?"}},null,{"$f":"[2]!SUMSTRING(G19:J19,\"|\")","v":{"$error":"#NAME?"}}]
[14,2400,null,3,50,null,{"$f":"[2]!SUMSTRING(A20:B20,\"#\")","v":{"$error":"#NAME?"}},null,null,{"$f":"[2]!SUMSTRING(D20:E20,\"#\")","v":{"$error":"#NAME?"}},null,{"$f":"[2]!SUMSTRING(G20:J20,\"|\")","v":{"$error":"#NAME?"}}]
[14,2500,null,3,52,null,{"$f":"[2]!SUMSTRING(A21:B21,\"#\")","v":{"$error":"#NAME?"}},null,null,{"$f":"[2]!SUMSTRING(D21:E21,\"#\")","v":{"$error":"#NAME?"}},null,{"$f":"[2]!SUMSTRING(G21:J21,\"|\")","v":{"$error":"#NAME?"}}]
[14,2600,null,3,54,null,{"$f":"[2]!SUMSTRING(A22:B22,\"#\")","v":{"$error":"#NAME?"}},null,null,{"$f":"[2]!SUMSTRING(D22:E22,\"#\")","v":{"$error":"#NAME?"}},null,{"$f":"[2]!SUMSTRING(G22:J22,\"|\")","v":{"$error":"#NAME?"}}]
[14,2700,null,3,56,null,{"$f":"[2]!SUMSTRING(A23:B23,\"#\")","v":{"$error":"#NAME?"}},null,null,{"$f":"[2]!SUMSTRING(D23:E23,\"#\")","v":{"$error":"#NAME?"}},null,{"$f":"[2]!SUMSTRING(G23:J23,\"|\")","v":{"$error":"#NAME?"}}]
[14,2800,null,3,58,null,{"$f":"[2]!SUMSTRING(A24:B24,\"#\")","v":{"$error":"#NAME?"}},null,null,{"$f":"[2]!SUMSTRING(D24:E24,\"#\")","v":{"$error":"#NAME?"}},null,{"$f":"[2]!SUMSTRING(G24:J24,\"|\")","v":{"$error":"#NAME?"}}]
[14,2900,null,3,60,null,{"$f":"[2]!SUMSTRING(A25:B25,\"#\")","v":{"$error":"#NAME?"}},null,null,{"$f":"[2]!SUMSTRING(D25:E25,\"#\")","v":{"$error":"#NAME?"}},null,{"$f":"[2]!SUMSTRING(G25:J25,\"|\")","v":{"$error":"#NAME?"}}]
[14,3000,null,3,62,null,{"$f":"[2]!SUMSTRING(A26:B26,\"#\")","v":{"$error":"#NAME?"}},null,null,{"$f":"[2]!SUMSTRING(D26:E26,\"#\")","v":{"$error":"#NAME?"}},null,{"$f":"[2]!SUMSTRING(G26:J26,\"|\")","v":{"$error":"#NAME?"}}]
[14,3100,null,3,64,null,{"$f":"[2]!SUMSTRING(A27:B27,\"#\")","v":{"$error":"#NAME?"}},null,null,{"$f":"[2]!SUMSTRING(D27:E27,\"#\")","v":{"$error":"#NAME?"}},null,{"$f":"[2]!SUMSTRING(G27:J27,\"|\")","v":{"$error":"#NAME?"}}]
[14,3200,null,3,66,null,{"$f":"[2]!SUMSTRING(A28:B28,\"#\")","v":{"$error":"#NAME?"}},null,null,{"$f":"[2]!SUMSTRING(D28:E28,\"#\")","v":{"$error":"#NAME?"}},null,{"$f":"[2]!SUMSTRING(G28:J28,\"|\")","v":{"$error":"#NAME?"}}]
[14,3300,null,3,68,null,{"$f":"[2]!SUMSTRING(A29:B29,\"#\")","v":{"$error":"#NAME?"}},null,null,{"$f":"[2]!SUMSTRING(D29:E29,\"#\")","v":{"$error":"#NAME?"}},null,{"$f":"[2]!SUMSTRING(G29:J29,\"|\")","v":{"$error":"#NAME?"}}]
[14,3500,null,3,70,null,{"$f":"[2]!SUMSTRING(A30:B30,\"#\")","v":{"$error":"#NAME?"}},null,null,{"$f":"[2]!SUMSTRING(D30:E30,\"#\")","v":{"$error":"#NAME?"}},null,{"$f":"[2]!SUMSTRING(G30:J30,\"|\")","v":{"$error":"#NAME?"}}]
[14,3700,null,3,72,null,{"$f":"[2]!SUMSTRING(A31:B31,\"#\")","v":{"$error":"#NAME?"}},null,null,{"$f":"[2]!SUMSTRING(D31:E31,\"#\")","v":{"$error":"#NAME?"}},null,{"$f":"[2]!SUMSTRING(G31:J31,\"|\")","v":{"$error":"#NAME?"}}]
[14,3900,null,3,74,null,{"$f":"[2]!SUMSTRING(A32:B32,\"#\")","v":{"$error":"#NAME?"}},null,null,{"$f":"[2]!SUMSTRING(D32:E32,\"#\")","v":{"$error":"#NAME?"}},null,{"$f":"[2]!SUMSTRING(G32:J32,\"|\")","v":{"$error":"#NAME?"}}]
[14,4100,null,3,76,null,{"$f":"[2]!SUMSTRING(A33:B33,\"#\")","v":{"$error":"#NAME?"}},null,null,{"$f":"[2]!SUMSTRING(D33:E33,\"#\")","v":{"$error":"#NAME?"}},null,{"$f":"[2]!SUMSTRING(G33:J33,\"|\")","v":{"$error":"#NAME?"}}]
[14,4300,null,3,78,null,{"$f":"[2]!SUMSTRING(A34:B34,\"#\")","v":{"$error":"#NAME?"}},null,null,{"$f":"[2]!SUMSTRING(D34:E34,\"#\")","v":{"$error":"#NAME?"}},null,{"$f":"[2]!SUMSTRING(G34:J34,\"|\")","v":{"$error":"#NAME?"}}]
[14,4500,null,3,80,null,{"$f":"[2]!SUMSTRING(A35:B35,\"#\")","v":{"$error":"#NAME?"}},null,null,{"$f":"[2]!SUMSTRING(D35:E35,\"#\")","v":{"$error":"#NAME?"}},null,{"$f":"[2]!SUMSTRING(G35:J35,\"|\")","v":{"$error":"#NAME?"}}]
[14,4700,null,3,82,null,{"$f":"[2]!SUMSTRING(A36:B36,\"#\")","v":{"$error":"#NAME?"}},null,null,{"$f":"[2]!SUMSTRING(D36:E36,\"#\")","v":{"$error":"#NAME?"}},null,{"$f":"[2]!SUMSTRING(G36:J36,\"|\")","v":{"$error":"#NAME?"}}]
[14,4900,null,3,84,null,{"$f":"[2]!SUMSTRING(A37:B37,\"#\")","v":{"$error":"#NAME?"}},null,null,{"$f":"[2]!SUMSTRING(D37:E37,\"#\")","v":{"$error":"#NAME?"}},null,{"$f":"[2]!SUMSTRING(G37:J37,\"|\")","v":{"$error":"#NAME?"}}]
[14,5100,null,3,86,null,{"$f":"[2]!SUMSTRING(A38:B38,\"#\")","v":{"$error":"#NAME?"}},null,null,{"$f":"[2]!SUMSTRING(D38:E38,\"#\")","v":{"$error":"#NAME?"}},null,{"$f":"[2]!SUMSTRING(G38:J38,\"|\")","v":{"$error":"#NAME?"}}]
[14,5300,null,3,88,null,{"$f":"[2]!SUMSTRING(A39:B39,\"#\")","v":{"$error":"#NAME?"}},null,null,{"$f":"[2]!SUMSTRING(D39:E39,\"#\")","v":{"$error":"#NAME?"}},null,{"$f":"[2]!SUMSTRING(G39:J39,\"|\")","v":{"$error":"#NAME?"}}]
[14,5500,null,3,90,null,{"$f":"[2]!SUMSTRING(A40:B40,\"#\")","v":{"$error":"#NAME?"}},null,null,{"$f":"[2]!SUMSTRING(D40:E40,\"#\")","v":{"$error":"#NAME?"}},null,{"$f":"[2]!SUMSTRING(G40:J40,\"|\")","v":{"$error":"#NAME?"}}]
[14,5700,null,3,92,null,{"$f":"[2]!SUMSTRING(A41:B41,\"#\")","v":{"$error":"#NAME?"}},null,null,{"$f":"[2]!SUMSTRING(D41:E41,\"#\")","v":{"$error":"#NAME?"}},null,{"$f":"[2]!SUMSTRING(G41:J41,\"|\")","v":{"$error":"#NAME?"}}]
[14,5900,null,3,94,null,{"$f":"[2]!SUMSTRING(A42:B42,\"#\")","v":{"$error":"#NAME?"}},null,null,{"$f":"[2]!SUMSTRING(D42:E42,\"#\")","v":{"$error":"#NAME?"}},null,{"$f":"[2]!SUMSTRING(G42:J42,\"|\")","v":{"$error":"#NAME?"}}]
[14,6100,null,3,96,null,{"$f":"[2]!SUMSTRING(A43:B43,\"#\")","v":{"$error":"#NAME?"}},null,null,{"$f":"[2]!SUMSTRING(D43:E43,\"#\")","v":{"$error":"#NAME?"}},null,{"$f":"[2]!SUMSTRING(G43:J43,\"|\")","v":{"$error":"#NAME?"}}]
[14,6300,null,3,98,null,{"$f":"[2]!SUMSTRING(A44:B44,\"#\")","v":{"$error":"#NAME?"}},null,null,{"$f":"[2]!SUMSTRING(D44:E44,\"#\")","v":{"$error":"#NAME?"}},null,{"$f":"[2]!SUMSTRING(G44:J44,\"|\")","v":{"$error":"#NAME?"}}]
[14,6500,null,3,100,null,{"$f":"[2]!SUMSTRING(A45:B45,\"#\")","v":{"$error":"#NAME?"}},null,null,{"$f":"[2]!SUMSTRING(D45:E45,\"#\")","v":{"$error":"#NAME?"}},null,{"$f":"[2]!SUMSTRING(G45:J45,\"|\")","v":{"$error":"#NAME?"}}]
[14,6700,null,3,102,null,{"$f":"[2]!SUMSTRING(A46:B46,\"#\")","v":{"$error":"#NAME?"}},null,null,{"$f":"[2]!SUMSTRING(D46:E46,\"#\")","v":{"$error":"#NAME?"}},null,{"$f":"[2]!SUMSTRING(G46:J46,\"|\")","v":{"$error":"#NAME?"}}]
[14,6900,null,3,104,null,{"$f":"[2]!SUMSTRING(A47:B47,\"#\")","v":{"$error":"#NAME?"}},null,null,{"$f":"[2]!SUMSTRING(D47:E47,\"#\")","v":{"$error":"#NAME?"}},null,{"$f":"[2]!SUMSTRING(G47:J47,\"|\")","v":{"$error":"#NAME?"}}]
[14,7100,null,3,106,null,{"$f":"[2]!SUMSTRING(A48:B48,\"#\")","v":{"$error":"#NAME?"}},null,null,{"$f":"[2]!SUMSTRING(D48:E48,\"#\")","v":{"$error":"#NAME?"}},null,{"$f":"[2]!SUMSTRING(G48:J48,\"|\")","v":{"$error":"#NAME?"}}]
[14,7300,null,3,108,null,{"$f":"[2]!SUMSTRING(A49:B49,\"#\")","v":{"$error":"#NAME?"}},null,null,{"$f":"[2]!SUMSTRING(D49:E49,\"#\")","v":{"$error":"#NAME?"}},null,{"$f":"[2]!SUMSTRING(G49:J49,\"|\")","v":{"$error":"#NAME?"}}]
[14,7500,null,3,110,null,{"$f":"[2]!SUMSTRING(A50:B50,\"#\")","v":{"$error":"#NAME?"}},null,null,{"$f":"[2]!SUMSTRING(D50:E50,\"#\")","v":{"$error":"#NAME?"}},null,{"$f":"[2]!SUMSTRING(G50:J50,\"|\")","v":{"$error":"#NAME?"}}]
[14,7700,null,3,112,null,{"$f":"[2]!SUMSTRING(A51:B51,\"#\")","v":{"$error":"#NAME?"}},null,null,{"$f":"[2]!SUMSTRING(D51:E51,\"#\")","v":{"$error":"#NAME?"}},null,{"$f":"[2]!SUMSTRING(G51:J51,\"|\")","v":{"$error":"#NAME?"}}]
[14,7900,null,3,114,null,{"$f":"[2]!SUMSTRING(A52:B52,\"#\")","v":{"$error":"#NAME?"}},null,null,{"$f":"[2]!SUMSTRING(D52:E52,\"#\")","v":{"$error":"#NAME?"}},null,{"$f":"[2]!SUMSTRING(G52:J52,\"|\")","v":{"$error":"#NAME?"}}]
[14,8100,null,3,116,null,{"$f":"[2]!SUMSTRING(A53:B53,\"#\")","v":{"$error":"#NAME?"}},null,null,{"$f":"[2]!SUMSTRING(D53:E53,\"#\")","v":{"$error":"#NAME?"}},null,{"$f":"[2]!SUMSTRING(G53:J53,\"|\")","v":{"$error":"#NAME?"}}]
[14,8300,null,3,118,null,{"$f":"[2]!SUMSTRING(A54:B54,\"#\")","v":{"$error":"#NAME?"}},null,null,{"$f":"[2]!SUMSTRING(D54:E54,\"#\")","v":{"$error":"#NAME?"}},null,{"$f":"[2]!SUMSTRING(G54:J54,\"|\")","v":{"$error":"#NAME?"}}]
[14,8500,null,3,120,null,{"$f":"[2]!SUMSTRING(A55:B55,\"#\")","v":{"$error":"#NAME?"}},null,null,{"$f":"[2]!SUMSTRING(D55:E55,\"#\")","v":{"$error":"#NAME?"}},null,{"$f":"[2]!SUMSTRING(G55:J55,\"|\")","v":{"$error":"#NAME?"}}]
[14,8700,null,3,122,null,{"$f":"[2]!SUMSTRING(A56:B56,\"#\")","v":{"$error":"#NAME?"}},null,null,{"$f":"[2]!SUMSTRING(D56:E56,\"#\")","v":{"$error":"#NAME?"}},null,{"$f":"[2]!SUMSTRING(G56:J56,\"|\")","v":{"$error":"#NAME?"}}]
[14,8900,null,3,124,null,{"$f":"[2]!SUMSTRING(A57:B57,\"#\")","v":{"$error":"#NAME?"}},null,null,{"$f":"[2]!SUMSTRING(D57:E57,\"#\")","v":{"$error":"#NAME?"}},null,{"$f":"[2]!SUMSTRING(G57:J57,\"|\")","v":{"$error":"#NAME?"}}]
[14,9100,null,3,126,null,{"$f":"[2]!SUMSTRING(A58:B58,\"#\")","v":{"$error":"#NAME?"}},null,null,{"$f":"[2]!SUMSTRING(D58:E58,\"#\")","v":{"$error":"#NAME?"}},null,{"$f":"[2]!SUMSTRING(G58:J58,\"|\")","v":{"$error":"#NAME?"}}]
[14,9300,null,3,128,null,{"$f":"[2]!SUMSTRING(A59:B59,\"#\")","v":{"$error":"#NAME?"}},null,null,{"$f":"[2]!SUMSTRING(D59:E59,\"#\")","v":{"$error":"#NAME?"}},null,{"$f":"[2]!SUMSTRING(G59:J59,\"|\")","v":{"$error":"#NAME?"}}]
[14,10000,null,3,130,null,{"$f":"[2]!SUMSTRING(A60:B60,\"#\")","v":{"$error":"#NAME?"}},null,null,{"$f":"[2]!SUMSTRING(D60:E60,\"#\")","v":{"$error":"#NAME?"}},null,{"$f":"[2]!SUMSTRING(G60:J60,\"|\")","v":{"$error":"#NAME?"}}]
[14,10700,null,3,132,null,{"$f":"[2]!SUMSTRING(A61:B61,\"#\")","v":{"$error":"#NAME?"}},null,null,{"$f":"[2]!SUMSTRING(D61:E61,\"#\")","v":{"$error":"#NAME?"}},null,{"$f":"[2]!SUMSTRING(G61:J61,\"|\")","v":{"$error":"#NAME?"}}]
[14,11400,null,3,134,null,{"$f":"[2]!SUMSTRING(A62:B62,\"#\")","v":{"$error":"#NAME?"}},null,null,{"$f":"[2]!SUMSTRING(D62:E62,\"#\")","v":{"$error":"#NAME?"}},null,{"$f":"[2]!SUMSTRING(G62:J62,\"|\")","v":{"$error":"#NAME?"}}]
[14,12100,null,3,136,null,{"$f":"[2]!SUMSTRING(A63:B63,\"#\")","v":{"$error":"#NAME?"}},null,null,{"$f":"[2]!SUMSTRING(D63:E63,\"#\")","v":{"$error":"#NAME?"}},null,{"$f":"[2]!SUMSTRING(G63:J63,\"|\")","v":{"$error":"#NAME?"}}]
[14,12800,null,3,138,null,{"$f":"[2]!SUMSTRING(A64:B64,\"#\")","v":{"$error":"#NAME?"}},null,null,{"$f":"[2]!SUMSTRING(D64:E64,\"#\")","v":{"$error":"#NAME?"}},null,{"$f":"[2]!SUMSTRING(G64:J64,\"|\")","v":{"$error":"#NAME?"}}]
[14,13500,null,3,140,null,{"$f":"[2]!SUMSTRING(A65:B65,\"#\")","v":{"$error":"#NAME?"}},null,null,{"$f":"[2]!SUMSTRING(D65:E65,\"#\")","v":{"$error":"#NAME?"}},null,{"$f":"[2]!SUMSTRING(G65:J65,\"|\")","v":{"$error":"#NAME?"}}]
[14,14200,null,3,142,null,{"$f":"[2]!SUMSTRING(A66:B66,\"#\")","v":{"$error":"#NAME?"}},null,null,{"$f":"[2]!SUMSTRING(D66:E66,\"#\")","v":{"$error":"#NAME?"}},null,{"$f":"[2]!SUMSTRING(G66:J66,\"|\")","v":{"$error":"#NAME?"}}]
[14,14900,null,3,144,null,{"$f":"[2]!SUMSTRING(A67:B67,\"#\")","v":{"$error":"#NAME?"}},null,null,{"$f":"[2]!SUMSTRING(D67:E67,\"#\")","v":{"$error":"#NAME?"}},null,{"$f":"[2]!SUMSTRING(G67:J67,\"|\")","v":{"$error":"#NAME?"}}]
[14,15600,null,3,146,null,{"$f":"[2]!SUMSTRING(A68:B68,\"#\")","v":{"$error":"#NAME?"}},null,null,{"$f":"[2]!SUMSTRING(D68:E68,\"#\")","v":{"$error":"#NAME?"}},null,{"$f":"[2]!SUMSTRING(G68:J68,\"|\")","v":{"$error":"#NAME?"}}]
[14,16300,null,3,148,null,{"$f":"[2]!SUMSTRING(A69:B69,\"#\")","v":{"$error":"#NAME?"}},null,null,{"$f":"[2]!SUMSTRING(D69:E69,\"#\")","v":{"$error":"#NAME?"}},null,{"$f":"[2]!SUMSTRING(G69:J69,\"|\")","v":{"$error":"#NAME?"}}]
[14,17000,null,3,150,null,{"$f":"[2]!SUMSTRING(A70:B70,\"#\")","v":{"$error":"#NAME?"}},null,null,{"$f":"[2]!SUMSTRING(D70:E70,\"#\")","v":{"$error":"#NAME?"}},null,{"$f":"[2]!SUMSTRING(G70:J70,\"|\")","v":{"$error":"#NAME?"}}]
[14,17700,null,3,152,null,{"$f":"[2]!SUMSTRING(A71:B71,\"#\")","v":{"$error":"#NAME?"}},null,null,{"$f":"[2]!SUMSTRING(D71:E71,\"#\")","v":{"$error":"#NAME?"}},null,{"$f":"[2]!SUMSTRING(G71:J71,\"|\")","v":{"$error":"#NAME?"}}]
[14,18400,null,3,154,null,{"$f":"[2]!SUMSTRING(A72:B72,\"#\")","v":{"$error":"#NAME?"}},null,null,{"$f":"[2]!SUMSTRING(D72:E72,\"#\")","v":{"$error":"#NAME?"}},null,{"$f":"[2]!SUMSTRING(G72:J72,\"|\")","v":{"$error":"#NAME?"}}]
[14,19100,null,3,156,null,{"$f":"[2]!SUMSTRING(A73:B73,\"#\")","v":{"$error":"#NAME?"}},null,null,{"$f":"[2]!SUMSTRING(D73:E73,\"#\")","v":{"$error":"#NAME?"}},null,{"$f":"[2]!SUMSTRING(G73:J73,\"|\")","v":{"$error":"#NAME?"}}]
[14,19800,null,3,158,null,{"$f":"[2]!SUMSTRING(A74:B74,\"#\")","v":{"$error":"#NAME?"}},null,null,{"$f":"[2]!SUMSTRING(D74:E74,\"#\")","v":{"$error":"#NAME?"}},null,{"$f":"[2]!SUMSTRING(G74:J74,\"|\")","v":{"$error":"#NAME?"}}]
[14,20500,null,3,160,null,{"$f":"[2]!SUMSTRING(A75:B75,\"#\")","v":{"$error":"#NAME?"}},null,null,{"$f":"[2]!SUMSTRING(D75:E75,\"#\")","v":{"$error":"#NAME?"}},null,{"$f":"[2]!SUMSTRING(G75:J75,\"|\")","v":{"$error":"#NAME?"}}]
[14,21200,null,3,162,null,{"$f":"[2]!SUMSTRING(A76:B76,\"#\")","v":{"$error":"#NAME?"}},null,null,{"$f":"[2]!SUMSTRING(D76:E76,\"#\")","v":{"$error":"#NAME?"}},null,{"$f":"[2]!SUMSTRING(G76:J76,\"|\")","v":{"$error":"#NAME?"}}]
[14,21900,null,3,164,null,{"$f":"[2]!SUMSTRING(A77:B77,\"#\")","v":{"$error":"#NAME?"}},null,null,{"$f":"[2]!SUMSTRING(D77:E77,\"#\")","v":{"$error":"#NAME?"}},null,{"$f":"[2]!SUMSTRING(G77:J77,\"|\")","v":{"$error":"#NAME?"}}]
[14,22600,null,3,166,null,{"$f":"[2]!SUMSTRING(A78:B78,\"#\")","v":{"$error":"#NAME?"}},null,null,{"$f":"[2]!SUMSTRING(D78:E78,\"#\")","v":{"$error":"#NAME?"}},null,{"$f":"[2]!SUMSTRING(G78:J78,\"|\")","v":{"$error":"#NAME?"}}]
[14,23300,null,3,168,null,{"$f":"[2]!SUMSTRING(A79:B79,\"#\")","v":{"$error":"#NAME?"}},null,null,{"$f":"[2]!SUMSTRING(D79:E79,\"#\")","v":{"$error":"#NAME?"}},null,{"$f":"[2]!SUMSTRING(G79:J79,\"|\")","v":{"$error":"#NAME?"}}]
[14,24000,null,3,170,null,{"$f":"[2]!SUMSTRING(A80:B80,\"#\")","v":{"$error":"#NAME?"}},null,null,{"$f":"[2]!SUMSTRING(D80:E80,\"#\")","v":{"$error":"#NAME?"}},null,{"$f":"[2]!SUMSTRING(G80:J80,\"|\")","v":{"$error":"#NAME?"}}]
[14,24700,null,3,172,null,{"$f":"[2]!SUMSTRING(A81:B81,\"#\")","v":{"$error":"#NAME?"}},null,null,{"$f":"[2]!SUMSTRING(D81:E81,\"#\")","v":{"$error":"#NAME?"}},null,{"$f":"[2]!SUMSTRING(G81:J81,\"|\")","v":{"$error":"#NAME?"}}]
[14,25400,null,3,174,null,{"$f":"[2]!SUMSTRING(A82:B82,\"#\")","v":{"$error":"#NAME?"}},null,null,{"$f":"[2]!SUMSTRING(D82:E82,\"#\")","v":{"$error":"#NAME?"}},null,{"$f":"[2]!SUMSTRING(G82:J82,\"|\")","v":{"$error":"#NAME?"}}]
[14,26100,null,3,176,null,{"$f":"[2]!SUMSTRING(A83:B83,\"#\")","v":{"$error":"#NAME?"}},null,null,{"$f":"[2]!SUMSTRING(D83:E83,\"#\")","v":{"$error":"#NAME?"}},null,{"$f":"[2]!SUMSTRING(G83:J83,\"|\")","v":{"$error":"#NAME?"}}]
[14,26800,null,3,178,null,{"$f":"[2]!SUMSTRING(A84:B84,\"#\")","v":{"$error":"#NAME?"}},null,null,{"$f":"[2]!SUMSTRING(D84:E84,\"#\")","v":{"$error":"#NAME?"}},null,{"$f":"[2]!SUMSTRING(G84:J84,\"|\")","v":{"$error":"#NAME?"}}]
[14,27500,null,3,180,null,{"$f":"[2]!SUMSTRING(A85:B85,\"#\")","v":{"$error":"#NAME?"}},null,null,{"$f":"[2]!SUMSTRING(D85:E85,\"#\")","v":{"$error":"#NAME?"}},null,{"$f":"[2]!SUMSTRING(G85:J85,\"|\")","v":{"$error":"#NAME?"}}]
[14,28200,null,3,182,null,{"$f":"[2]!SUMSTRING(A86:B86,\"#\")","v":{"$error":"#NAME?"}},null,null,{"$f":"[2]!SUMSTRING(D86:E86,\"#\")","v":{"$error":"#NAME?"}},null,{"$f":"[2]!SUMSTRING(G86:J86,\"|\")","v":{"$error":"#NAME?"}}]
[14,28900,null,3,184,null,{"$f":"[2]!SUMSTRING(A87:B87,\"#\")","v":{"$error":"#NAME?"}},null,null,{"$f":"[2]!SUMSTRING(D87:E87,\"#\")","v":{"$error":"#NAME?"}},null,{"$f":"[2]!SUMSTRING(G87:J87,\"|\")","v":{"$error":"#NAME?"}}]
[14,29600,null,3,186,null,{"$f":"[2]!SUMSTRING(A88:B88,\"#\")","v":{"$error":"#NAME?"}},null,null,{"$f":"[2]!SUMSTRING(D88:E88,\"#\")","v":{"$error":"#NAME?"}},null,{"$f":"[2]!SUMSTRING(G88:J88,\"|\")","v":{"$error":"#NAME?"}}]
[14,30300,null,3,188,null,{"$f":"[2]!SUMSTRING(A89:B89,\"#\")","v":{"$error":"#NAME?"}},null,null,{"$f":"[2]!SUMSTRING(D89:E89,\"#\")","v":{"$error":"#NAME?"}},null,{"$f":"[2]!SUMSTRING(G89:J89,\"|\")","v":{"$error":"#NAME?"}}]
[14,31000,null,3,190,null,{"$f":"[2]!SUMSTRING(A90:B90,\"#\")","v":{"$error":"#NAME?"}},null,null,{"$f":"[2]!SUMSTRING(D90:E90,\"#\")","v":{"$error":"#NAME?"}},null,{"$f":"[2]!SUMSTRING(G90:J90,\"|\")","v":{"$error":"#NAME?"}}]
[14,31700,null,3,192,null,{"$f":"[2]!SUMSTRING(A91:B91,\"#\")","v":{"$error":"#NAME?"}},null,null,{"$f":"[2]!SUMSTRING(D91:E91,\"#\")","v":{"$error":"#NAME?"}},null,{"$f":"[2]!SUMSTRING(G91:J91,\"|\")","v":{"$error":"#NAME?"}}]
[14,32400,null,3,194,null,{"$f":"[2]!SUMSTRING(A92:B92,\"#\")","v":{"$error":"#NAME?"}},null,null,{"$f":"[2]!SUMSTRING(D92:E92,\"#\")","v":{"$error":"#NAME?"}},null,{"$f":"[2]!SUMSTRING(G92:J92,\"|\")","v":{"$error":"#NAME?"}}]
[14,33100,null,3,196,null,{"$f":"[2]!SUMSTRING(A93:B93,\"#\")","v":{"$error":"#NAME?"}},null,null,{"$f":"[2]!SUMSTRING(D93:E93,\"#\")","v":{"$error":"#NAME?"}},null,{"$f":"[2]!SUMSTRING(G93:J93,\"|\")","v":{"$error":"#NAME?"}}]
[14,33800,null,3,198,null,{"$f":"[2]!SUMSTRING(A94:B94,\"#\")","v":{"$error":"#NAME?"}},null,null,{"$f":"[2]!SUMSTRING(D94:E94,\"#\")","v":{"$error":"#NAME?"}},null,{"$f":"[2]!SUMSTRING(G94:J94,\"|\")","v":{"$error":"#NAME?"}}]
[14,34500,null,3,200,null,{"$f":"[2]!SUMSTRING(A95:B95,\"#\")","v":{"$error":"#NAME?"}},null,null,{"$f":"[2]!SUMSTRING(D95:E95,\"#\")","v":{"$error":"#NAME?"}},null,{"$f":"[2]!SUMSTRING(G95:J95,\"|\")","v":{"$error":"#NAME?"}}]
[14,35200,null,3,202,null,{"$f":"[2]!SUMSTRING(A96:B96,\"#\")","v":{"$error":"#NAME?"}},null,null,{"$f":"[2]!SUMSTRING(D96:E96,\"#\")","v":{"$error":"#NAME?"}},null,{"$f":"[2]!SUMSTRING(G96:J96,\"|\")","v":{"$error":"#NAME?"}}]
[14,35900,null,3,204,null,{"$f":"[2]!SUMSTRING(A97:B97,\"#\")","v":{"$error":"#NAME?"}},null,null,{"$f":"[2]!SUMSTRING(D97:E97,\"#\")","v":{"$error":"#NAME?"}},null,{"$f":"[2]!SUMSTRING(G97:J97,\"|\")","v":{"$error":"#NAME?"}}]
[14,36600,null,3,206,null,{"$f":"[2]!SUMSTRING(A98:B98,\"#\")","v":{"$error":"#NAME?"}},null,null,{"$f":"[2]!SUMSTRING(D98:E98,\"#\")","v":{"$error":"#NAME?"}},null,{"$f":"[2]!SUMSTRING(G98:J98,\"|\")","v":{"$error":"#NAME?"}}]
[14,37300,null,3,208,null,{"$f":"[2]!SUMSTRING(A99:B99,\"#\")","v":{"$error":"#NAME?"}},null,null,{"$f":"[2]!SUMSTRING(D99:E99,\"#\")","v":{"$error":"#NAME?"}},null,{"$f":"[2]!SUMSTRING(G99:J99,\"|\")","v":{"$error":"#NAME?"}}]
[14,38000,null,3,228,null,{"$f":"[2]!SUMSTRING(A100:B100,\"#\")","v":{"$error":"#NAME?"}},null,null,{"$f":"[2]!SUMSTRING(D100:E100,\"#\")","v":{"$error":"#NAME?"}},null,{"$f":"[2]!SUMSTRING(G100:J100,\"|\")","v":{"$error":"#NAME?"}}]
[14,39000,null,3,248,null,{"$f":"[2]!SUMSTRING(A101:B101,\"#\")","v":{"$error":"#NAME?"}},null,null,{"$f":"[2]!SUMSTRING(D101:E101,\"#\")","v":{"$error":"#NAME?"}},null,{"$f":"[2]!SUMSTRING(G101:J101,\"|\")","v":{"$error":"#NAME?"}}]
[14,40000,null,3,268,null,{"$f":"[2]!SUMSTRING(A102:B102,\"#\")","v":{"$error":"#NAME?"}},null,null,{"$f":"[2]!SUMSTRING(D102:E102,\"#\")","v":{"$error":"#NAME?"}},null,{"$f":"[2]!SUMSTRING(G102:J102,\"|\")","v":{"$error":"#NAME?"}}]
[14,41000,null,3,288,null,{"$f":"[2]!SUMSTRING(A103:B103,\"#\")","v":{"$error":"#NAME?"}},null,null,{"$f":"[2]!SUMSTRING(D103:E103,\"#\")","v":{"$error":"#NAME?"}},null,{"$f":"[2]!SUMSTRING(G103:J103,\"|\")","v":{"$error":"#NAME?"}}]
[14,42000,null,3,308,null,{"$f":"[2]!SUMSTRING(A104:B104,\"#\")","v":{"$error":"#NAME?"}},null,null,{"$f":"[2]!SUMSTRING(D104:E104,\"#\")","v":{"$error":"#NAME?"}},null,{"$f":"[2]!SUMSTRING(G104:J104,\"|\")","v":{"$error":"#NAME?"}}]
[14,43000,null,3,328,null,{"$f":"[2]!SUMSTRING(A105:B105,\"#\")","v":{"$error":"#NAME?"}},null,null,{"$f":"[2]!SUMSTRING(D105:E105,\"#\")","v":{"$error":"#NAME?"}},null,{"$f":"[2]!SUMSTRING(G105:J105,\"|\")","v":{"$error":"#NAME?"}}]
[14,44000,null,3,348,null,{"$f":"[2]!SUMSTRING(A106:B106,\"#\")","v":{"$error":"#NAME?"}},null,null,{"$f":"[2]!SUMSTRING(D106:E106,\"#\")","v":{"$error":"#NAME?"}},null,{"$f":"[2]!SUMSTRING(G106:J106,\"|\")","v":{"$error":"#NAME?"}}]
[14,45000,null,3,368,null,{"$f":"[2]!SUMSTRING(A107:B107,\"#\")","v":{"$error":"#NAME?"}},null,null,{"$f":"[2]!SUMSTRING(D107:E107,\"#\")","v":{"$error":"#NAME?"}},null,{"$f":"[2]!SUMSTRING(G107:J107,\"|\")","v":{"$error":"#NAME?"}}]
[14,46000,null,3,388,null,{"$f":"[2]!SUMSTRING(A108:B108,\"#\")","v":{"$error":"#NAME?"}},null,null,{"$f":"[2]!SUMSTRING(D108:E108,\"#\")","v":{"$error":"#NAME?"}},null,{"$f":"[2]!SUMSTRING(G108:J108,\"|\")","v":{"$error":"#NAME?"}}]
[14,47000,null,3,408,null,{"$f":"[2]!SUMSTRING(A109:B109,\"#\")","v":{"$error":"#NAME?"}},null,null,{"$f":"[2]!SUMSTRING(D109:E109,\"#\")","v":{"$error":"#NAME?"}},null,{"$f":"[2]!SUMSTRING(G109:J109,\"|\")","v":{"$error":"#NAME?"}}]
[14,48000,null,3,428,null,{"$f":"[2]!SUMSTRING(A110:B110,\"#\")","v":{"$error":"#NAME?"}},null,null,{"$f":"[2]!SUMSTRING(D110:E110,\"#\")","v":{"$error":"#NAME?"}},null,{"$f":"[2]!SUMSTRING(G110:J110,\"|\")","v":{"$error":"#NAME?"}}]
[14,49000,null,3,448,null,{"$f":"[2]!SUMSTRING(A111:B111,\"#\")","v":{"$error":"#NAME?"}},null,null,{"$f":"[2]!SUMSTRING(D111:E111,\"#\")","v":{"$error":"#NAME?"}},null,{"$f":"[2]!SUMSTRING(G111:J111,\"|\")","v":{"$error":"#NAME?"}}]
[14,50000,null,3,468,null,{"$f":"[2]!SUMSTRING(A112:B112,\"#\")","v":{"$error":"#NAME?"}},null,null,{"$f":"[2]!SUMSTRING(D112:E112,\"#\")","v":{"$error":"#NAME?"}},null,{"$f":"[2]!SUMSTRING(G112:J112,\"|\")","v":{"$error":"#NAME?"}}]
[14,51000,null,3,488,null,{"$f":"[2]!SUMSTRING(A113:B113,\"#\")","v":{"$error":"#NAME?"}},null,null,{"$f":"[2]!SUMSTRING(D113:E113,\"#\")","v":{"$error":"#NAME?"}},null,{"$f":"[2]!SUMSTRING(G113:J113,\"|\")","v":{"$error":"#NAME?"}}]
[14,52000,null,3,508,null,{"$f":"[2]!SUMSTRING(A114:B114,\"#\")","v":{"$error":"#NAME?"}},null,null,{"$f":"[2]!SUMSTRING(D114:E114,\"#\")","v":{"$error":"#NAME?"}},null,{"$f":"[2]!SUMSTRING(G114:J114,\"|\")","v":{"$error":"#NAME?"}}]
[14,53000,null,3,528,null,{"$f":"[2]!SUMSTRING(A115:B115,\"#\")","v":{"$error":"#NAME?"}},null,null,{"$f":"[2]!SUMSTRING(D115:E115,\"#\")","v":{"$error":"#NAME?"}},null,{"$f":"[2]!SUMSTRING(G115:J115,\"|\")","v":{"$error":"#NAME?"}}]
[14,54000,null,3,548,null,{"$f":"[2]!SUMSTRING(A116:B116,\"#\")","v":{"$error":"#NAME?"}},null,null,{"$f":"[2]!SUMSTRING(D116:E116,\"#\")","v":{"$error":"#NAME?"}},null,{"$f":"[2]!SUMSTRING(G116:J116,\"|\")","v":{"$error":"#NAME?"}}]
[14,55000,null,3,568,null,{"$f":"[2]!SUMSTRING(A117:B117,\"#\")","v":{"$error":"#NAME?"}},null,null,{"$f":"[2]!SUMSTRING(D117:E117,\"#\")","v":{"$error":"#NAME?"}},null,{"$f":"[2]!SUMSTRING(G117:J117,\"|\")","v":{"$error":"#NAME?"}}]
[14,56000,null,3,588,null,{"$f":"[2]!SUMSTRING(A118:B118,\"#\")","v":{"$error":"#NAME?"}},null,null,{"$f":"[2]!SUMSTRING(D118:E118,\"#\")","v":{"$error":"#NAME?"}},null,{"$f":"[2]!SUMSTRING(G118:J118,\"|\")","v":{"$error":"#NAME?"}}]
[14,57000,null,3,608,null,{"$f":"[2]!SUMSTRING(A119:B119,\"#\")","v":{"$error":"#NAME?"}},null,null,{"$f":"[2]!SUMSTRING(D119:E119,\"#\")","v":{"$error":"#NAME?"}},null,{"$f":"[2]!SUMSTRING(G119:J119,\"|\")","v":{"$error":"#NAME?"}}]
[14,58000,null,3,628,null,{"$f":"[2]!SUMSTRING(A120:B120,\"#\")","v":{"$error":"#NAME?"}},null,null,{"$f":"[2]!SUMSTRING(D120:E120,\"#\")","v":{"$error":"#NAME?"}},null,{"$f":"[2]!SUMSTRING(G120:J120,\"|\")","v":{"$error":"#NAME?"}}]
[14,59000,null,3,648,null,{"$f":"[2]!SUMSTRING(A121:B121,\"#\")","v":{"$error":"#NAME?"}},null,null,{"$f":"[2]!SUMSTRING(D121:E121,\"#\")","v":{"$error":"#NAME?"}},null,{"$f":"[2]!SUMSTRING(G121:J121,\"|\")","v":{"$error":"#NAME?"}}]
[14,60000,null,3,668,null,{"$f":"[2]!SUMSTRING(A122:B122,\"#\")","v":{"$error":"#NAME?"}},null,null,{"$f":"[2]!SUMSTRING(D122:E122,\"#\")","v":{"$error":"#NAME?"}},null,{"$f":"[2]!SUMSTRING(G122:J122,\"|\")","v":{"$error":"#NAME?"}}]
[14,61000,null,3,688,null,{"$f":"[2]!SUMSTRING(A123:B123,\"#\")","v":{"$error":"#NAME?"}},null,null,{"$f":"[2]!SUMSTRING(D123:E123,\"#\")","v":{"$error":"#NAME?"}},null,{"$f":"[2]!SUMSTRING(G123:J123,\"|\")","v":{"$error":"#NAME?"}}]
[14,62000,null,3,708,null,{"$f":"[2]!SUMSTRING(A124:B124,\"#\")","v":{"$error":"#NAME?"}},null,null,{"$f":"[2]!SUMSTRING(D124:E124,\"#\")","v":{"$error":"#NAME?"}},null,{"$f":"[2]!SUMSTRING(G124:J124,\"|\")","v":{"$error":"#NAME?"}}]
[14,63000,null,3,728,null,{"$f":"[2]!SUMSTRING(A125:B125,\"#\")","v":{"$error":"#NAME?"}},null,null,{"$f":"[2]!SUMSTRING(D125:E125,\"#\")","v":{"$error":"#NAME?"}},null,{"$f":"[2]!SUMSTRING(G125:J125,\"|\")","v":{"$error":"#NAME?"}}]
[14,64000,null,3,748,null,{"$f":"[2]!SUMSTRING(A126:B126,\"#\")","v":{"$error":"#NAME?"}},null,null,{"$f":"[2]!SUMSTRING(D126:E126,\"#\")","v":{"$error":"#NAME?"}},null,{"$f":"[2]!SUMSTRING(G126:J126,\"|\")","v":{"$error":"#NAME?"}}]
[14,65000,null,3,768,null,{"$f":"[2]!SUMSTRING(A127:B127,\"#\")","v":{"$error":"#NAME?"}},null,null,{"$f":"[2]!SUMSTRING(D127:E127,\"#\")","v":{"$error":"#NAME?"}},null,{"$f":"[2]!SUMSTRING(G127:J127,\"|\")","v":{"$error":"#NAME?"}}]
[14,66000,null,3,788,null,{"$f":"[2]!SUMSTRING(A128:B128,\"#\")","v":{"$error":"#NAME?"}},null,null,{"$f":"[2]!SUMSTRING(D128:E128,\"#\")","v":{"$error":"#NAME?"}},null,{"$f":"[2]!SUMSTRING(G128:J128,\"|\")","v":{"$error":"#NAME?"}}]
[14,67000,null,3,808,null,{"$f":"[2]!SUMSTRING(A129:B129,\"#\")","v":{"$error":"#NAME?"}},null,null,{"$f":"[2]!SUMSTRING(D129:E129,\"#\")","v":{"$error":"#NAME?"}},null,{"$f":"[2]!SUMSTRING(G129:J129,\"|\")","v":{"$error":"#NAME?"}}]
[14,68000,null,3,828,null,{"$f":"[2]!SUMSTRING(A130:B130,\"#\")","v":{"$error":"#NAME?"}},null,null,{"$f":"[2]!SUMSTRING(D130:E130,\"#\")","v":{"$error":"#NAME?"}},null,{"$f":"[2]!SUMSTRING(G130:J130,\"|\")","v":{"$error":"#NAME?"}}]
[14,69000,null,3,848,null,{"$f":"[2]!SUMSTRING(A131:B131,\"#\")","v":{"$error":"#NAME?"}},null,null,{"$f":"[2]!SUMSTRING(D131:E131,\"#\")","v":{"$error":"#NAME?"}},null,{"$f":"[2]!SUMSTRING(G131:J131,\"|\")","v":{"$error":"#NAME?"}}]
[14,70000,null,3,868,null,{"$f":"[2]!SUMSTRING(A132:B132,\"#\")","v":{"$error":"#NAME?"}},null,null,{"$f":"[2]!SUMSTRING(D132:E132,\"#\")","v":{"$error":"#NAME?"}},null,{"$f":"[2]!SUMSTRING(G132:J132,\"|\")","v":{"$error":"#NAME?"}}]
[14,71000,null,3,888,null,{"$f":"[2]!SUMSTRING(A133:B133,\"#\")","v":{"$error":"#NAME?"}},null,null,{"$f":"[2]!SUMSTRING(D133:E133,\"#\")","v":{"$error":"#NAME?"}},null,{"$f":"[2]!SUMSTRING(G133:J133,\"|\")","v":{"$error":"#NAME?"}}]
[14,72000,null,3,908,null,{"$f":"[2]!SUMSTRING(A134:B134,\"#\")","v":{"$error":"#NAME?"}},null,null,{"$f":"[2]!SUMSTRING(D134:E134,\"#\")","v":{"$error":"#NAME?"}},null,{"$f":"[2]!SUMSTRING(G134:J134,\"|\")","v":{"$error":"#NAME?"}}]
[14,73000,null,3,928,null,{"$f":"[2]!SUMSTRING(A135:B135,\"#\")","v":{"$error":"#NAME?"}},null,null,{"$f":"[2]!SUMSTRING(D135:E135,\"#\")","v":{"$error":"#NAME?"}},null,{"$f":"[2]!SUMSTRING(G135:J135,\"|\")","v":{"$error":"#NAME?"}}]
[14,74000,null,3,948,null,{"$f":"[2]!SUMSTRING(A136:B136,\"#\")","v":{"$error":"#NAME?"}},null,null,{"$f":"[2]!SUMSTRING(D136:E136,\"#\")","v":{"$error":"#NAME?"}},null,{"$f":"[2]!SUMSTRING(G136:J136,\"|\")","v":{"$error":"#NAME?"}}]
[14,75000,null,3,968,null,{"$f":"[2]!SUMSTRING(A137:B137,\"#\")","v":{"$error":"#NAME?"}},null,null,{"$f":"[2]!SUMSTRING(D137:E137,\"#\")","v":{"$error":"#NAME?"}},null,{"$f":"[2]!SUMSTRING(G137:J137,\"|\")","v":{"$error":"#NAME?"}}]
[14,76000,null,3,988,null,{"$f":"[2]!SUMSTRING(A138:B138,\"#\")","v":{"$error":"#NAME?"}},null,null,{"$f":"[2]!SUMSTRING(D138:E138,\"#\")","v":{"$error":"#NAME?"}},null,{"$f":"[2]!SUMSTRING(G138:J138,\"|\")","v":{"$error":"#NAME?"}}]
[14,77000,null,3,1008,null,{"$f":"[2]!SUMSTRING(A139:B139,\"#\")","v":{"$error":"#NAME?"}},null,null,{"$f":"[2]!SUMSTRING(D139:E139,\"#\")","v":{"$error":"#NAME?"}},null,{"$f":"[2]!SUMSTRING(G139:J139,\"|\")","v":{"$error":"#NAME?"}}]
[14,80000,null,3,1068,null,{"$f":"[2]!SUMSTRING(A140:B140,\"#\")","v":{"$error":"#NAME?"}},null,null,{"$f":"[2]!SUMSTRING(D140:E140,\"#\")","v":{"$error":"#NAME?"}},null,{"$f":"[2]!SUMSTRING(G140:J140,\"|\")","v":{"$error":"#NAME?"}}]
[14,83000,null,3,1128,null,{"$f":"[2]!SUMSTRING(A141:B141,\"#\")","v":{"$error":"#NAME?"}},null,null,{"$f":"[2]!SUMSTRING(D141:E141,\"#\")","v":{"$error":"#NAME?"}},null,{"$f":"[2]!SUMSTRING(G141:J141,\"|\")","v":{"$error":"#NAME?"}}]
[14,86000,null,3,1188,null,{"$f":"[2]!SUMSTRING(A142:B142,\"#\")","v":{"$error":"#NAME?"}},null,null,{"$f":"[2]!SUMSTRING(D142:E142,\"#\")","v":{"$error":"#NAME?"}},null,{"$f":"[2]!SUMSTRING(G142:J142,\"|\")","v":{"$error":"#NAME?"}}]
[14,89000,null,3,1248,null,{"$f":"[2]!SUMSTRING(A143:B143,\"#\")","v":{"$error":"#NAME?"}},null,null,{"$f":"[2]!SUMSTRING(D143:E143,\"#\")","v":{"$error":"#NAME?"}},null,{"$f":"[2]!SUMSTRING(G143:J143,\"|\")","v":{"$error":"#NAME?"}}]
[14,92000,null,3,1308,null,{"$f":"[2]!SUMSTRING(A144:B144,\"#\")","v":{"$error":"#NAME?"}},null,null,{"$f":"[2]!SUMSTRING(D144:E144,\"#\")","v":{"$error":"#NAME?"}},null,{"$f":"[2]!SUMSTRING(G144:J144,\"|\")","v":{"$error":"#NAME?"}}]
[14,95000,null,3,1368,null,{"$f":"[2]!SUMSTRING(A145:B145,\"#\")","v":{"$error":"#NAME?"}},null,null,{"$f":"[2]!SUMSTRING(D145:E145,\"#\")","v":{"$error":"#NAME?"}},null,{"$f":"[2]!SUMSTRING(G145:J145,\"|\")","v":{"$error":"#NAME?"}}]
[14,98000,null,3,1428,null,{"$f":"[2]!SUMSTRING(A146:B146,\"#\")","v":{"$error":"#NAME?"}},null,null,{"$f":"[2]!SUMSTRING(D146:E146,\"#\")","v":{"$error":"#NAME?"}},null,{"$f":"[2]!SUMSTRING(G146:J146,\"|\")","v":{"$error":"#NAME?"}}]
[14,101000,null,3,1488,null,{"$f":"[2]!SUMSTRING(A147:B147,\"#\")","v":{"$error":"#NAME?"}},null,null,{"$f":"[2]!SUMSTRING(D147:E147,\"#\")","v":{"$error":"#NAME?"}},null,{"$f":"[2]!SUMSTRING(G147:J147,\"|\")","v":{"$error":"#NAME?"}}]
[14,104000,null,3,1548,null,{"$f":"[2]!SUMSTRING(A148:B148,\"#\")","v":{"$error":"#NAME?"}},null,null,{"$f":"[2]!SUMSTRING(D148:E148,\"#\")","v":{"$error":"#NAME?"}},null,{"$f":"[2]!SUMSTRING(G148:J148,\"|\")","v":{"$error":"#NAME?"}}]
[14,107000,null,3,1608,null,{"$f":"[2]!SUMSTRING(A149:B149,\"#\")","v":{"$error":"#NAME?"}},null,null,{"$f":"[2]!SUMSTRING(D149:E149,\"#\")","v":{"$error":"#NAME?"}},null,{"$f":"[2]!SUMSTRING(G149:J149,\"|\")","v":{"$error":"#NAME?"}}]
[14,110000,null,3,1668,null,{"$f":"[2]!SUMSTRING(A150:B150,\"#\")","v":{"$error":"#NAME?"}},null,null,{"$f":"[2]!SUMSTRING(D150:E150,\"#\")","v":{"$error":"#NAME?"}},null,{"$f":"[2]!SUMSTRING(G150:J150,\"|\")","v":{"$error":"#NAME?"}}]
[14,113000,null,3,1728,null,{"$f":"[2]!SUMSTRING(A151:B151,\"#\")","v":{"$error":"#NAME?"}},null,null,{"$f":"[2]!SUMSTRING(D151:E151,\"#\")","v":{"$error":"#NAME?"}},null,{"$f":"[2]!SUMSTRING(G151:J151,\"|\")","v":{"$error":"#NAME?"}}]
[14,116000,null,3,1788,null,{"$f":"[2]!SUMSTRING(A152:B152,\"#\")","v":{"$error":"#NAME?"}},null,null,{"$f":"[2]!SUMSTRING(D152:E152,\"#\")","v":{"$error":"#NAME?"}},null,{"$f":"[2]!SUMSTRING(G152:J152,\"|\")","v":{"$error":"#NAME?"}}]
[14,119000,null,3,1848,null,{"$f":"[2]!SUMSTRING(A153:B153,\"#\")","v":{"$error":"#NAME?"}},null,null,{"$f":"[2]!SUMSTRING(D153:E153,\"#\")","v":{"$error":"#NAME?"}},null,{"$f":"[2]!SUMSTRING(G153:J153,\"|\")","v":{"$error":"#NAME?"}}]
[14,122000,null,3,1908,null,{"$f":"[2]!SUMSTRING(A154:B154,\"#\")","v":{"$error":"#NAME?"}},null,null,{"$f":"[2]!SUMSTRING(D154:E154,\"#\")","v":{"$error":"#NAME?"}},null,{"$f":"[2]!SUMSTRING(G154:J154,\"|\")","v":{"$error":"#NAME?"}}]
[14,125000,null,3,1968,null,{"$f":"[2]!SUMSTRING(A155:B155,\"#\")","v":{"$error":"#NAME?"}},null,null,{"$f":"[2]!SUMSTRING(D155:E155,\"#\")","v":{"$error":"#NAME?"}},null,{"$f":"[2]!SUMSTRING(G155:J155,\"|\")","v":{"$error":"#NAME?"}}]
[14,128000,null,3,2028,null,{"$f":"[2]!SUMSTRING(A156:B156,\"#\")","v":{"$error":"#NAME?"}},null,null,{"$f":"[2]!SUMSTRING(D156:E156,\"#\")","v":{"$error":"#NAME?"}},null,{"$f":"[2]!SUMSTRING(G156:J156,\"|\")","v":{"$error":"#NAME?"}}]
[14,131000,null,3,2088,null,{"$f":"[2]!SUMSTRING(A157:B157,\"#\")","v":{"$error":"#NAME?"}},null,null,{"$f":"[2]!SUMSTRING(D157:E157,\"#\")","v":{"$error":"#NAME?"}},null,{"$f":"[2]!SUMSTRING(G157:J157,\"|\")","v":{"$error":"#NAME?"}}]
[14,134000,null,3,2148,null,{"$f":"[2]!SUMSTRING(A158:B158,\"#\")","v":{"$error":"#NAME?"}},null,null,{"$f":"[2]!SUMSTRING(D158:E158,\"#\")","v":{"$error":"#NAME?"}},null,{"$f":"[2]!SUMSTRING(G158:J158,\"|\")","v":{"$error":"#NAME?"}}]
[14,137000,null,3,2208,null,{"$f":"[2]!SUMSTRING(A159:B159,\"#\")","v":{"$error":"#NAME?"}},null,null,{"$f":"[2]!SUMSTRING(D159:E159,\"#\")","v":{"$error":"#NAME?"}},null,{"$f":"[2]!SUMSTRING(G159:J159,\"|\")","v":{"$error":"#NAME?"}}]
[14,140000,null,3,2268,null,{"$f":"[2]!SUMSTRING(A160:B160,\"#\")","v":{"$error":"#NAME?"}},null,null,{"$f":"[2]!SUMSTRING(D160:E160,\"#\")","v":{"$error":"#NAME?"}},null,{"$f":"[2]!SUMSTRING(G160:J160,\"|\")","v":{"$error":"#NAME?"}}]
[14,145000,null,3,2328,null,{"$f":"[2]!SUMSTRING(A161:B161,\"#\")","v":{"$error":"#NAME?"}},null,null,{"$f":"[2]!SUMSTRING(D161:E161,\"#\")","v":{"$error":"#NAME?"}},null,{"$f":"[2]!SUMSTRING(G161:J161,\"|\")","v":{"$error":"#NAME?"}}]
[14,150000,null,3,2388,null,{"$f":"[2]!SUMSTRING(A162:B162,\"#\")","v":{"$error":"#NAME?"}},null,null,{"$f":"[2]!SUMSTRING(D162:E162,\"#\")","v":{"$error":"#NAME?"}},null,{"$f":"[2]!SUMSTRING(G162:J162,\"|\")","v":{"$error":"#NAME?"}}]
[14,155000,null,3,2448,null,{"$f":"[2]!SUMSTRING(A163:B163,\"#\")","v":{"$error":"#NAME?"}},null,null,{"$f":"[2]!SUMSTRING(D163:E163,\"#\")","v":{"$error":"#NAME?"}},null,{"$f":"[2]!SUMSTRING(G163:J163,\"|\")","v":{"$error":"#NAME?"}}]
[14,160000,null,3,2508,null,{"$f":"[2]!SUMSTRING(A164:B164,\"#\")","v":{"$error":"#NAME?"}},null,null,{"$f":"[2]!SUMSTRING(D164:E164,\"#\")","v":{"$error":"#NAME?"}},null,{"$f":"[2]!SUMSTRING(G164:J164,\"|\")","v":{"$error":"#NAME?"}}]
[14,165000,null,3,2568,null,{"$f":"[2]!SUMSTRING(A165:B165,\"#\")","v":{"$error":"#NAME?"}},null,null,{"$f":"[2]!SUMSTRING(D165:E165,\"#\")","v":{"$error":"#NAME?"}},null,{"$f":"[2]!SUMSTRING(G165:J165,\"|\")","v":{"$error":"#NAME?"}}]
[14,170000,null,3,2628,null,{"$f":"[2]!SUMSTRING(A166:B166,\"#\")","v":{"$error":"#NAME?"}},null,null,{"$f":"[2]!SUMSTRING(D166:E166,\"#\")","v":{"$error":"#NAME?"}},null,{"$f":"[2]!SUMSTRING(G166:J166,\"|\")","v":{"$error":"#NAME?"}}]
[14,175000,null,3,2688,null,{"$f":"[2]!SUMSTRING(A167:B167,\"#\")","v":{"$error":"#NAME?"}},null,null,{"$f":"[2]!SUMSTRING(D167:E167,\"#\")","v":{"$error":"#NAME?"}},null,{"$f":"[2]!SUMSTRING(G167:J167,\"|\")","v":{"$error":"#NAME?"}}]
[14,180000,null,3,2748,null,{"$f":"[2]!SUMSTRING(A168:B168,\"#\")","v":{"$error":"#NAME?"}},null,null,{"$f":"[2]!SUMSTRING(D168:E168,\"#\")","v":{"$error":"#NAME?"}},null,{"$f":"[2]!SUMSTRING(G168:J168,\"|\")","v":{"$error":"#NAME?"}}]
[14,185000,null,3,2808,null,{"$f":"[2]!SUMSTRING(A169:B169,\"#\")","v":{"$error":"#NAME?"}},null,null,{"$f":"[2]!SUMSTRING(D169:E169,\"#\")","v":{"$error":"#NAME?"}},null,{"$f":"[2]!SUMSTRING(G169:J169,\"|\")","v":{"$error":"#NAME?"}}]
[14,190000,null,3,2868,null,{"$f":"[2]!SUMSTRING(A170:B170,\"#\")","v":{"$error":"#NAME?"}},null,null,{"$f":"[2]!SUMSTRING(D170:E170,\"#\")","v":{"$error":"#NAME?"}},null,{"$f":"[2]!SUMSTRING(G170:J170,\"|\")","v":{"$error":"#NAME?"}}]
[14,195000,null,3,2928,null,{"$f":"[2]!SUMSTRING(A171:B171,\"#\")","v":{"$error":"#NAME?"}},null,null,{"$f":"[2]!SUMSTRING(D171:E171,\"#\")","v":{"$error":"#NAME?"}},null,{"$f":"[2]!SUMSTRING(G171:J171,\"|\")","v":{"$error":"#NAME?"}}]
[14,200000,null,3,2988,null,{"$f":"[2]!SUMSTRING(A172:B172,\"#\")","v":{"$error":"#NAME?"}},null,null,{"$f":"[2]!SUMSTRING(D172:E172,\"#\")","v":{"$error":"#NAME?"}},null,{"$f":"[2]!SUMSTRING(G172:J172,\"|\")","v":{"$error":"#NAME?"}}]
[14,205000,null,3,3048,null,{"$f":"[2]!SUMSTRING(A173:B173,\"#\")","v":{"$error":"#NAME?"}},null,null,{"$f":"[2]!SUMSTRING(D173:E173,\"#\")","v":{"$error":"#NAME?"}},null,{"$f":"[2]!SUMSTRING(G173:J173,\"|\")","v":{"$error":"#NAME?"}}]
[14,210000,null,3,3108,null,{"$f":"[2]!SUMSTRING(A174:B174,\"#\")","v":{"$error":"#NAME?"}},null,null,{"$f":"[2]!SUMSTRING(D174:E174,\"#\")","v":{"$error":"#NAME?"}},null,{"$f":"[2]!SUMSTRING(G174:J174,\"|\")","v":{"$error":"#NAME?"}}]
[14,215000,null,3,3168,null,{"$f":"[2]!SUMSTRING(A175:B175,\"#\")","v":{"$error":"#NAME?"}},null,null,{"$f":"[2]!SUMSTRING(D175:E175,\"#\")","v":{"$error":"#NAME?"}},null,{"$f":"[2]!SUMSTRING(G175:J175,\"|\")","v":{"$error":"#NAME?"}}]
[14,220000,null,3,3228,null,{"$f":"[2]!SUMSTRING(A176:B176,\"#\")","v":{"$error":"#NAME?"}},null,null,{"$f":"[2]!SUMSTRING(D176:E176,\"#\")","v":{"$error":"#NAME?"}},null,{"$f":"[2]!SUMSTRING(G176:J176,\"|\")","v":{"$error":"#NAME?"}}]
[14,225000,null,3,3288,null,{"$f":"[2]!SUMSTRING(A177:B177,\"#\")","v":{"$error":"#NAME?"}},null,null,{"$f":"[2]!SUMSTRING(D177:E177,\"#\")","v":{"$error":"#NAME?"}},null,{"$f":"[2]!SUMSTRING(G177:J177,\"|\")","v":{"$error":"#NAME?"}}]
[14,230000,null,3,3348,null,{"$f":"[2]!SUMSTRING(A178:B178,\"#\")","v":{"$error":"#NAME?"}},null,null,{"$f":"[2]!SUMSTRING(D178:E178,\"#\")","v":{"$error":"#NAME?"}},null,{"$f":"[2]!SUMSTRING(G178:J178,\"|\")","v":{"$error":"#NAME?"}}]
[14,235000,null,3,3408,null,{"$f":"[2]!SUMSTRING(A179:B179,\"#\")","v":{"$error":"#NAME?"}},null,null,{"$f":"[2]!SUMSTRING(D179:E179,\"#\")","v":{"$error":"#NAME?"}},null,{"$f":"[2]!SUMSTRING(G179:J179,\"|\")","v":{"$error":"#NAME?"}}]
[14,240000,null,3,3468,null,{"$f":"[2]!SUMSTRING(A180:B180,\"#\")","v":{"$error":"#NAME?"}},null,null,{"$f":"[2]!SUMSTRING(D180:E180,\"#\")","v":{"$error":"#NAME?"}},null,{"$f":"[2]!SUMSTRING(G180:J180,\"|\")","v":{"$error":"#NAME?"}}]
[14,245000,null,3,3528,null,{"$f":"[2]!SUMSTRING(A181:B181,\"#\")","v":{"$error":"#NAME?"}},null,null,{"$f":"[2]!SUMSTRING(D181:E181,\"#\")","v":{"$error":"#NAME?"}},null,{"$f":"[2]!SUMSTRING(G181:J181,\"|\")","v":{"$error":"#NAME?"}}]
[14,250000,null,3,3588,null,{"$f":"[2]!SUMSTRING(A182:B182,\"#\")","v":{"$error":"#NAME?"}},null,null,{"$f":"[2]!SUMSTRING(D182:E182,\"#\")","v":{"$error":"#NAME?"}},null,{"$f":"[2]!SUMSTRING(G182:J182,\"|\")","v":{"$error":"#NAME?"}}]
[14,255000,null,3,3648,null,{"$f":"[2]!SUMSTRING(A183:B183,\"#\")","v":{"$error":"#NAME?"}},null,null,{"$f":"[2]!SUMSTRING(D183:E183,\"#\")","v":{"$error":"#NAME?"}},null,{"$f":"[2]!SUMSTRING(G183:J183,\"|\")","v":{"$error":"#NAME?"}}]
[14,260000,null,3,3708,null,{"$f":"[2]!SUMSTRING(A184:B184,\"#\")","v":{"$error":"#NAME?"}},null,null,{"$f":"[2]!SUMSTRING(D184:E184,\"#\")","v":{"$error":"#NAME?"}},null,{"$f":"[2]!SUMSTRING(G184:J184,\"|\")","v":{"$error":"#NAME?"}}]
[14,265000,null,3,3768,null,{"$f":"[2]!SUMSTRING(A185:B185,\"#\")","v":{"$error":"#NAME?"}},null,null,{"$f":"[2]!SUMSTRING(D185:E185,\"#\")","v":{"$error":"#NAME?"}},null,{"$f":"[2]!SUMSTRING(G185:J185,\"|\")","v":{"$error":"#NAME?"}}]
[14,270000,null,3,3828,null,{"$f":"[2]!SUMSTRING(A186:B186,\"#\")","v":{"$error":"#NAME?"}},null,null,{"$f":"[2]!SUMSTRING(D186:E186,\"#\")","v":{"$error":"#NAME?"}},null,{"$f":"[2]!SUMSTRING(G186:J186,\"|\")","v":{"$error":"#NAME?"}}]
[14,275000,null,3,3888,null,{"$f":"[2]!SUMSTRING(A187:B187,\"#\")","v":{"$error":"#NAME?"}},null,null,{"$f":"[2]!SUMSTRING(D187:E187,\"#\")","v":{"$error":"#NAME?"}},null,{"$f":"[2]!SUMSTRING(G187:J187,\"|\")","v":{"$error":"#NAME?"}}]
[14,280000,null,3,3948,null,{"$f":"[2]!SUMSTRING(A188:B188,\"#\")","v":{"$error":"#NAME?"}},null,null,{"$f":"[2]!SUMSTRING(D188:E188,\"#\")","v":{"$error":"#NAME?"}},null,{"$f":"[2]!SUMSTRING(G188:J188,\"|\")","v":{"$error":"#NAME?"}}]
[14,285000,null,3,4008,null,{"$f":"[2]!SUMSTRING(A189:B189,\"#\")","v":{"$error":"#NAME?"}},null,null,{"$f":"[2]!SUMSTRING(D189:E189,\"#\")","v":{"$error":"#NAME?"}},null,{"$f":"[2]!SUMSTRING(G189:J189,\"|\")","v":{"$error":"#NAME?"}}]
[14,290000,null,3,4068,null,{"$f":"[2]!SUMSTRING(A190:B190,\"#\")","v":{"$error":"#NAME?"}},null,null,{"$f":"[2]!SUMSTRING(D190:E190,\"#\")","v":{"$error":"#NAME?"}},null,{"$f":"[2]!SUMSTRING(G190:J190,\"|\")","v":{"$error":"#NAME?"}}]
[14,295000,null,3,4128,null,{"$f":"[2]!SUMSTRING(A191:B191,\"#\")","v":{"$error":"#NAME?"}},null,null,{"$f":"[2]!SUMSTRING(D191:E191,\"#\")","v":{"$error":"#NAME?"}},null,{"$f":"[2]!SUMSTRING(G191:J191,\"|\")","v":{"$error":"#NAME?"}}]
[14,300000,null,3,4188,null,{"$f":"[2]!SUMSTRING(A192:B192,\"#\")","v":{"$error":"#NAME?"}},null,null,{"$f":"[2]!SUMSTRING(D192:E192,\"#\")","v":{"$error":"#NAME?"}},null,{"$f":"[2]!SUMSTRING(G192:J192,\"|\")","v":{"$error":"#NAME?"}}]
[14,305000,null,3,4248,null,{"$f":"[2]!SUMSTRING(A193:B193,\"#\")","v":{"$error":"#NAME?"}},null,null,{"$f":"[2]!SUMSTRING(D193:E193,\"#\")","v":{"$error":"#NAME?"}},null,{"$f":"[2]!SUMSTRING(G193:J193,\"|\")","v":{"$error":"#NAME?"}}]
[14,310000,null,3,4308,null,{"$f":"[2]!SUMSTRING(A194:B194,\"#\")","v":{"$error":"#NAME?"}},null,null,{"$f":"[2]!SUMSTRING(D194:E194,\"#\")","v":{"$error":"#NAME?"}},null,{"$f":"[2]!SUMSTRING(G194:J194,\"|\")","v":{"$error":"#NAME?"}}]
[14,315000,null,3,4368,null,{"$f":"[2]!SUMSTRING(A195:B195,\"#\")","v":{"$error":"#NAME?"}},null,null,{"$f":"[2]!SUMSTRING(D195:E195,\"#\")","v":{"$error":"#NAME?"}},null,{"$f":"[2]!SUMSTRING(G195:J195,\"|\")","v":{"$error":"#NAME?"}}]
[14,320000,null,3,4428,null,{"$f":"[2]!SUMSTRING(A196:B196,\"#\")","v":{"$error":"#NAME?"}},null,null,{"$f":"[2]!SUMSTRING(D196:E196,\"#\")","v":{"$error":"#NAME?"}},null,{"$f":"[2]!SUMSTRING(G196:J196,\"|\")","v":{"$error":"#NAME?"}}]
[14,325000,null,3,4488,null,{"$f":"[2]!SUMSTRING(A197:B197,\"#\")","v":{"$error":"#NAME?"}},null,null,{"$f":"[2]!SUMSTRING(D197:E197,\"#\")","v":{"$error":"#NAME?"}},null,{"$f":"[2]!SUMSTRING(G197:J197,\"|\")","v":{"$error":"#NAME?"}}]
[14,330000,null,3,4548,null,{"$f":"[2]!SUMSTRING(A198:B198,\"#\")","v":{"$error":"#NAME?"}},null,null,{"$f":"[2]!SUMSTRING(D198:E198,\"#\")","v":{"$error":"#NAME?"}},null,{"$f":"[2]!SUMSTRING(G198:J198,\"|\")","v":{"$error":"#NAME?"}}]
[14,335000,null,3,4596,null,{"$f":"[2]!SUMSTRING(A199:B199,\"#\")","v":{"$error":"#NAME?"}},null,null,{"$f":"[2]!SUMSTRING(D199:E199,\"#\")","v":{"$error":"#NAME?"}},null,{"$f":"[2]!SUMSTRING(G199:J199,\"|\")","v":{"$error":"#NAME?"}}]
[14,340000,null,3,4716,null,{"$f":"[2]!SUMSTRING(A200:B200,\"#\")","v":{"$error":"#NAME?"}},null,null,{"$f":"[2]!SUMSTRING(D200:E200,\"#\")","v":{"$error":"#NAME?"}},null,{"$f":"[2]!SUMSTRING(G200:J200,\"|\")","v":{"$error":"#NAME?"}}]
[14,345000,null,3,4836,null,{"$f":"[2]!SUMSTRING(A201:B201,\"#\")","v":{"$error":"#NAME?"}},null,null,{"$f":"[2]!SUMSTRING(D201:E201,\"#\")","v":{"$error":"#NAME?"}},null,{"$f":"[2]!SUMSTRING(G201:J201,\"|\")","v":{"$error":"#NAME?"}}]
[14,350000,null,3,4956,null,{"$f":"[2]!SUMSTRING(A202:B202,\"#\")","v":{"$error":"#NAME?"}},null,null,{"$f":"[2]!SUMSTRING(D202:E202,\"#\")","v":{"$error":"#NAME?"}},null,{"$f":"[2]!SUMSTRING(G202:J202,\"|\")","v":{"$error":"#NAME?"}}]
[14,355000,null,3,5076,null,{"$f":"[2]!SUMSTRING(A203:B203,\"#\")","v":{"$error":"#NAME?"}},null,null,{"$f":"[2]!SUMSTRING(D203:E203,\"#\")","v":{"$error":"#NAME?"}},null,{"$f":"[2]!SUMSTRING(G203:J203,\"|\")","v":{"$error":"#NAME?"}}]
[14,360000,null,3,5196,null,{"$f":"[2]!SUMSTRING(A204:B204,\"#\")","v":{"$error":"#NAME?"}},null,null,{"$f":"[2]!SUMSTRING(D204:E204,\"#\")","v":{"$error":"#NAME?"}},null,{"$f":"[2]!SUMSTRING(G204:J204,\"|\")","v":{"$error":"#NAME?"}}]
[14,365000,null,3,5316,null,{"$f":"[2]!SUMSTRING(A205:B205,\"#\")","v":{"$error":"#NAME?"}},null,null,{"$f":"[2]!SUMSTRING(D205:E205,\"#\")","v":{"$error":"#NAME?"}},null,{"$f":"[2]!SUMSTRING(G205:J205,\"|\")","v":{"$error":"#NAME?"}}]
[14,370000,null,3,5436,null,{"$f":"[2]!SUMSTRING(A206:B206,\"#\")","v":{"$error":"#NAME?"}},null,null,{"$f":"[2]!SUMSTRING(D206:E206,\"#\")","v":{"$error":"#NAME?"}},null,{"$f":"[2]!SUMSTRING(G206:J206,\"|\")","v":{"$error":"#NAME?"}}]
[14,375000,null,3,5556,null,{"$f":"[2]!SUMSTRING(A207:B207,\"#\")","v":{"$error":"#NAME?"}},null,null,{"$f":"[2]!SUMSTRING(D207:E207,\"#\")","v":{"$error":"#NAME?"}},null,{"$f":"[2]!SUMSTRING(G207:J207,\"|\")","v":{"$error":"#NAME?"}}]
[14,380000,null,3,5676,null,{"$f":"[2]!SUMSTRING(A208:B208,\"#\")","v":{"$error":"#NAME?"}},null,null,{"$f":"[2]!SUMSTRING(D208:E208,\"#\")","v":{"$error":"#NAME?"}},null,{"$f":"[2]!SUMSTRING(G208:J208,\"|\")","v":{"$error":"#NAME?"}}]
[14,385000,null,3,5796,null,{"$f":"[2]!SUMSTRING(A209:B209,\"#\")","v":{"$error":"#NAME?"}},null,null,{"$f":"[2]!SUMSTRING(D209:E209,\"#\")","v":{"$error":"#NAME?"}},null,{"$f":"[2]!SUMSTRING(G209:J209,\"|\")","v":{"$error":"#NAME?"}}]
[14,390000,null,3,5916,null,{"$f":"[2]!SUMSTRING(A210:B210,\"#\")","v":{"$error":"#NAME?"}},null,null,{"$f":"[2]!SUMSTRING(D210:E210,\"#\")","v":{"$error":"#NAME?"}},null,{"$f":"[2]!SUMSTRING(G210:J210,\"|\")","v":{"$error":"#NAME?"}}]
[14,395000,null,3,6036,null,{"$f":"[2]!SUMSTRING(A211:B211,\"#\")","v":{"$error":"#NAME?"}},null,null,{"$f":"[2]!SUMSTRING(D211:E211,\"#\")","v":{"$error":"#NAME?"}},null,{"$f":"[2]!SUMSTRING(G211:J211,\"|\")","v":{"$error":"#NAME?"}}]
[14,400000,null,3,6156,null,{"$f":"[2]!SUMSTRING(A212:B212,\"#\")","v":{"$error":"#NAME?"}},null,null,{"$f":"[2]!SUMSTRING(D212:E212,\"#\")","v":{"$error":"#NAME?"}},null,{"$f":"[2]!SUMSTRING(G212:J212,\"|\")","v":{"$error":"#NAME?"}}]
[14,405000,null,3,6276,null,{"$f":"[2]!SUMSTRING(A213:B213,\"#\")","v":{"$error":"#NAME?"}},null,null,{"$f":"[2]!SUMSTRING(D213:E213,\"#\")","v":{"$error":"#NAME?"}},null,{"$f":"[2]!SUMSTRING(G213:J213,\"|\")","v":{"$error":"#NAME?"}}]
[14,410000,null,3,6396,null,{"$f":"[2]!SUMSTRING(A214:B214,\"#\")","v":{"$error":"#NAME?"}},null,null,{"$f":"[2]!SUMSTRING(D214:E214,\"#\")","v":{"$error":"#NAME?"}},null,{"$f":"[2]!SUMSTRING(G214:J214,\"|\")","v":{"$error":"#NAME?"}}]
[14,415000,null,3,6516,null,{"$f":"[2]!SUMSTRING(A215:B215,\"#\")","v":{"$error":"#NAME?"}},null,null,{"$f":"[2]!SUMSTRING(D215:E215,\"#\")","v":{"$error":"#NAME?"}},null,{"$f":"[2]!SUMSTRING(G215:J215,\"|\")","v":{"$error":"#NAME?"}}]
[14,420000,null,3,6636,null,{"$f":"[2]!SUMSTRING(A216:B216,\"#\")","v":{"$error":"#NAME?"}},null,null,{"$f":"[2]!SUMSTRING(D216:E216,\"#\")","v":{"$error":"#NAME?"}},null,{"$f":"[2]!SUMSTRING(G216:J216,\"|\")","v":{"$error":"#NAME?"}}]
[14,425000,null,3,6756,null,{"$f":"[2]!SUMSTRING(A217:B217,\"#\")","v":{"$error":"#NAME?"}},null,null,{"$f":"[2]!SUMSTRING(D217:E217,\"#\")","v":{"$error":"#NAME?"}},null,{"$f":"[2]!SUMSTRING(G217:J217,\"|\")","v":{"$error":"#NAME?"}}]
[14,430000,null,3,6876,null,{"$f":"[2]!SUMSTRING(A218:B218,\"#\")","v":{"$error":"#NAME?"}},null,null,{"$f":"[2]!SUMSTRING(D218:E218,\"#\")","v":{"$error":"#NAME?"}},null,{"$f":"[2]!SUMSTRING(G218:J218,\"|\")","v":{"$error":"#NAME?"}}]
[14,435000,null,3,6996,null,{"$f":"[2]!SUMSTRING(A219:B219,\"#\")","v":{"$error":"#NAME?"}},null,null,{"$f":"[2]!SUMSTRING(D219:E219,\"#\")","v":{"$error":"#NAME?"}},null,{"$f":"[2]!SUMSTRING(G219:J219,\"|\")","v":{"$error":"#NAME?"}}]
[14,440000,null,3,7116,null,{"$f":"[2]!SUMSTRING(A220:B220,\"#\")","v":{"$error":"#NAME?"}},null,null,{"$f":"[2]!SUMSTRING(D220:E220,\"#\")","v":{"$error":"#NAME?"}},null,{"$f":"[2]!SUMSTRING(G220:J220,\"|\")","v":{"$error":"#NAME?"}}]
[14,445000,null,3,7236,null,{"$f":"[2]!SUMSTRING(A221:B221,\"#\")","v":{"$error":"#NAME?"}},null,null,{"$f":"[2]!SUMSTRING(D221:E221,\"#\")","v":{"$error":"#NAME?"}},null,{"$f":"[2]!SUMSTRING(G221:J221,\"|\")","v":{"$error":"#NAME?"}}]
[14,450000,null,3,7356,null,{"$f":"[2]!SUMSTRING(A222:B222,\"#\")","v":{"$error":"#NAME?"}},null,null,{"$f":"[2]!SUMSTRING(D222:E222,\"#\")","v":{"$error":"#NAME?"}},null,{"$f":"[2]!SUMSTRING(G222:J222,\"|\")","v":{"$error":"#NAME?"}}]
[14,455000,null,3,7476,null,{"$f":"[2]!SUMSTRING(A223:B223,\"#\")","v":{"$error":"#NAME?"}},null,null,{"$f":"[2]!SUMSTRING(D223:E223,\"#\")","v":{"$error":"#NAME?"}},null,{"$f":"[2]!SUMSTRING(G223:J223,\"|\")","v":{"$error":"#NAME?"}}]
[14,460000,null,3,7596,null,{"$f":"[2]!SUMSTRING(A224:B224,\"#\")","v":{"$error":"#NAME?"}},null,null,{"$f":"[2]!SUMSTRING(D224:E224,\"#\")","v":{"$error":"#NAME?"}},null,{"$f":"[2]!SUMSTRING(G224:J224,\"|\")","v":{"$error":"#NAME?"}}]
[14,465000,null,3,7716,null,{"$f":"[2]!SUMSTRING(A225:B225,\"#\")","v":{"$error":"#NAME?"}},null,null,{"$f":"[2]!SUMSTRING(D225:E225,\"#\")","v":{"$error":"#NAME?"}},null,{"$f":"[2]!SUMSTRING(G225:J225,\"|\")","v":{"$error":"#NAME?"}}]
[14,470000,null,3,7836,null,{"$f":"[2]!SUMSTRING(A226:B226,\"#\")","v":{"$error":"#NAME?"}},null,null,{"$f":"[2]!SUMSTRING(D226:E226,\"#\")","v":{"$error":"#NAME?"}},null,{"$f":"[2]!SUMSTRING(G226:J226,\"|\")","v":{"$error":"#NAME?"}}]
[14,475000,null,3,7956,null,{"$f":"[2]!SUMSTRING(A227:B227,\"#\")","v":{"$error":"#NAME?"}},null,null,{"$f":"[2]!SUMSTRING(D227:E227,\"#\")","v":{"$error":"#NAME?"}},null,{"$f":"[2]!SUMSTRING(G227:J227,\"|\")","v":{"$error":"#NAME?"}}]
[14,480000,null,3,8076,null,{"$f":"[2]!SUMSTRING(A228:B228,\"#\")","v":{"$error":"#NAME?"}},null,null,{"$f":"[2]!SUMSTRING(D228:E228,\"#\")","v":{"$error":"#NAME?"}},null,{"$f":"[2]!SUMSTRING(G228:J228,\"|\")","v":{"$error":"#NAME?"}}]
[14,485000,null,3,8196,null,{"$f":"[2]!SUMSTRING(A229:B229,\"#\")","v":{"$error":"#NAME?"}},null,null,{"$f":"[2]!SUMSTRING(D229:E229,\"#\")","v":{"$error":"#NAME?"}},null,{"$f":"[2]!SUMSTRING(G229:J229,\"|\")","v":{"$error":"#NAME?"}}]
[14,490000,null,3,8316,null,{"$f":"[2]!SUMSTRING(A230:B230,\"#\")","v":{"$error":"#NAME?"}},null,null,{"$f":"[2]!SUMSTRING(D230:E230,\"#\")","v":{"$error":"#NAME?"}},null,{"$f":"[2]!SUMSTRING(G230:J230,\"|\")","v":{"$error":"#NAME?"}}]
[14,495000,null,3,8436,null,{"$f":"[2]!SUMSTRING(A231:B231,\"#\")","v":{"$error":"#NAME?"}},null,null,{"$f":"[2]!SUMSTRING(D231:E231,\"#\")","v":{"$error":"#NAME?"}},null,{"$f":"[2]!SUMSTRING(G231:J231,\"|\")","v":{"$error":"#NAME?"}}]
[14,500000,null,3,8556,null,{"$f":"[2]!SUMSTRING(A232:B232,\"#\")","v":{"$error":"#NAME?"}},null,null,{"$f":"[2]!SUMSTRING(D232:E232,\"#\")","v":{"$error":"#NAME?"}},null,{"$f":"[2]!SUMSTRING(G232:J232,\"|\")","v":{"$error":"#NAME?"}}]
[14,505000,null,3,8676,null,{"$f":"[2]!SUMSTRING(A233:B233,\"#\")","v":{"$error":"#NAME?"}},null,null,{"$f":"[2]!SUMSTRING(D233:E233,\"#\")","v":{"$error":"#NAME?"}},null,{"$f":"[2]!SUMSTRING(G233:J233,\"|\")","v":{"$error":"#NAME?"}}]
[14,510000,null,3,8796,null,{"$f":"[2]!SUMSTRING(A234:B234,\"#\")","v":{"$error":"#NAME?"}},null,null,{"$f":"[2]!SUMSTRING(D234:E234,\"#\")","v":{"$error":"#NAME?"}},null,{"$f":"[2]!SUMSTRING(G234:J234,\"|\")","v":{"$error":"#NAME?"}}]
[14,515000,null,3,8916,null,{"$f":"[2]!SUMSTRING(A235:B235,\"#\")","v":{"$error":"#NAME?"}},null,null,{"$f":"[2]!SUMSTRING(D235:E235,\"#\")","v":{"$error":"#NAME?"}},null,{"$f":"[2]!SUMSTRING(G235:J235,\"|\")","v":{"$error":"#NAME?"}}]
[14,520000,null,3,9036,null,{"$f":"[2]!SUMSTRING(A236:B236,\"#\")","v":{"$error":"#NAME?"}},null,null,{"$f":"[2]!SUMSTRING(D236:E236,\"#\")","v":{"$error":"#NAME?"}},null,{"$f":"[2]!SUMSTRING(G236:J236,\"|\")","v":{"$error":"#NAME?"}}]
[14,525000,null,3,9156,null,{"$f":"[2]!SUMSTRING(A237:B237,\"#\")","v":{"$error":"#NAME?"}},null,null,{"$f":"[2]!SUMSTRING(D237:E237,\"#\")","v":{"$error":"#NAME?"}},null,{"$f":"[2]!SUMSTRING(G237:J237,\"|\")","v":{"$error":"#NAME?"}}]
[14,530000,null,3,9276,null,{"$f":"[2]!SUMSTRING(A238:B238,\"#\")","v":{"$error":"#NAME?"}},null,null,{"$f":"[2]!SUMSTRING(D238:E238,\"#\")","v":{"$error":"#NAME?"}},null,{"$f":"[2]!SUMSTRING(G238:J238,\"|\")","v":{"$error":"#NAME?"}}]
[14,535000,null,3,9396,null,{"$f":"[2]!SUMSTRING(A239:B239,\"#\")","v":{"$error":"#NAME?"}},null,null,{"$f":"[2]!SUMSTRING(D239:E239,\"#\")","v":{"$error":"#NAME?"}},null,{"$f":"[2]!SUMSTRING(G239:J239,\"|\")","v":{"$error":"#NAME?"}}]
[14,540000,null,3,9516,null,{"$f":"[2]!SUMSTRING(A240:B240,\"#\")","v":{"$error":"#NAME?"}},null,null,{"$f":"[2]!SUMSTRING(D240:E240,\"#\")","v":{"$error":"#NAME?"}},null,{"$f":"[2]!SUMSTRING(G240:J240,\"|\")","v":{"$error":"#NAME?"}}]
[14,545000,null,3,9636,null,{"$f":"[2]!SUMSTRING(A241:B241,\"#\")","v":{"$error":"#NAME?"}},null,null,{"$f":"[2]!SUMSTRING(D241:E241,\"#\")","v":{"$error":"#NAME?"}},null,{"$f":"[2]!SUMSTRING(G241:J241,\"|\")","v":{"$error":"#NAME?"}}]
[14,550000,null,3,9756,null,{"$f":"[2]!SUMSTRING(A242:B242,\"#\")","v":{"$error":"#NAME?"}},null,null,{"$f":"[2]!SUMSTRING(D242:E242,\"#\")","v":{"$error":"#NAME?"}},null,{"$f":"[2]!SUMSTRING(G242:J242,\"|\")","v":{"$error":"#NAME?"}}]
[14,555000,null,3,9876,null,{"$f":"[2]!SUMSTRING(A243:B243,\"#\")","v":{"$error":"#NAME?"}},null,null,{"$f":"[2]!SUMSTRING(D243:E243,\"#\")","v":{"$error":"#NAME?"}},null,{"$f":"[2]!SUMSTRING(G243:J243,\"|\")","v":{"$error":"#NAME?"}}]
[14,560000,null,3,9996,null,{"$f":"[2]!SUMSTRING(A244:B244,\"#\")","v":{"$error":"#NAME?"}},null,null,{"$f":"[2]!SUMSTRING(D244:E244,\"#\")","v":{"$error":"#NAME?"}},null,{"$f":"[2]!SUMSTRING(G244:J244,\"|\")","v":{"$error":"#NAME?"}}]
[14,565000,null,3,10116,null,{"$f":"[2]!SUMSTRING(A245:B245,\"#\")","v":{"$error":"#NAME?"}},null,null,{"$f":"[2]!SUMSTRING(D245:E245,\"#\")","v":{"$error":"#NAME?"}},null,{"$f":"[2]!SUMSTRING(G245:J245,\"|\")","v":{"$error":"#NAME?"}}]
[14,570000,null,3,10236,null,{"$f":"[2]!SUMSTRING(A246:B246,\"#\")","v":{"$error":"#NAME?"}},null,null,{"$f":"[2]!SUMSTRING(D246:E246,\"#\")","v":{"$error":"#NAME?"}},null,{"$f":"[2]!SUMSTRING(G246:J246,\"|\")","v":{"$error":"#NAME?"}}]
[14,575000,null,3,10356,null,{"$f":"[2]!SUMSTRING(A247:B247,\"#\")","v":{"$error":"#NAME?"}},null,null,{"$f":"[2]!SUMSTRING(D247:E247,\"#\")","v":{"$error":"#NAME?"}},null,{"$f":"[2]!SUMSTRING(G247:J247,\"|\")","v":{"$error":"#NAME?"}}]
[14,580000,null,3,10476,null,{"$f":"[2]!SUMSTRING(A248:B248,\"#\")","v":{"$error":"#NAME?"}},null,null,{"$f":"[2]!SUMSTRING(D248:E248,\"#\")","v":{"$error":"#NAME?"}},null,{"$f":"[2]!SUMSTRING(G248:J248,\"|\")","v":{"$error":"#NAME?"}}]
[14,585000,null,3,10596,null,{"$f":"[2]!SUMSTRING(A249:B249,\"#\")","v":{"$error":"#NAME?"}},null,null,{"$f":"[2]!SUMSTRING(D249:E249,\"#\")","v":{"$error":"#NAME?"}},null,{"$f":"[2]!SUMSTRING(G249:J249,\"|\")","v":{"$error":"#NAME?"}}]
[{"$nulls":4},0]

{"sheet":"点金增益","index":2,"n_rows":29,"n_cols":17,"rows_kept":29}
[]
[]
[]
[]
[]
[{"$nulls":4},"基数",28000,null,"基数",28000,null,null,"基数",28000,null,"基数",28000]
[]
[{"$nulls":4},"等级","点金倍率",{"$nulls":5},"等级","点金倍率"]
[{"$nulls":4},20,1,{"$f":"ROUND($F$7*F9,0)","v":0},{"$nulls":4},20,1,{"$f":"ROUND($F$7*M9,0)","v":0}]
[{"$nulls":4},30,2.357100766,0,{"$f":"F10-1","v":1.3571007659999998},{"$f":"INT(H10*10000)","v":13571},13600,null,30,{"$f":"M9+0.5","v":1.5},0,{"$f":"M10-1","v":0.5},{"$f":"INT(O10*10000)","v":5000},13600]
[{"$nulls":4},40,5.21410332,0,4.21410332,42141,42200,null,40,2,0,1,10000,42200]
[{"$nulls":4},50,11.1426046,0,10.1426046,101426,101500,null,50,2.5,0,1.5,15000,101500]
[{"$nulls":4},60,18.71400511,0,17.71400511,177140,177200,null,60,3,0,2,20000,177200]
[{"$nulls":4},70,32.71361226,0,31.713612259999998,317136,317200,null,70,3.5,0,2.5,25000,317200]
[{"$nulls":4},80,42.57061481,0,41.57061481,415706,415800,null,80,4,0,{"$f":"M15-1","v":3},{"$f":"INT(O15*10000)","v":30000},415800]
[{"$nulls":11},{"$f":"L15+10","v":90},4.5,{"$f":"ROUND($F$7*M16,0)","v":0},{"$f":"M16-1","v":3.5},{"$f":"INT(O16*10000)","v":35000}]
[{"$nulls":11},100,5,0,4,40000]
[{"$nulls":11},110,5,0,4,40000]
[{"$nulls":11},120,5,0,4,40000]
[{"$nulls":4},{"$f":"E6","v":"基数"},{"$f":"F6","v":28000},{"$nulls":5},130,5,0,4,40000]
[{"$nulls":11},140,5,0,4,40000]
[{"$nulls":4},{"$f":"E8","v":"等级"},{"$f":"F8","v":"点金倍率"},"实际点金",{"$nulls":4},150,5,0,4,40000]
[{"$nulls":4},20,1,{"$f":"INT(F23*$F$20)","v":28000},{"$nulls":4},160,5,0,4,40000]
[{"$nulls":4},30,2.357100766,{"$f":"INT(F24*$F$20)","v":65998},{"$nulls":4},170,5,0,4,40000]
[{"$nulls":4},40,5.21410332,145994]
[{"$nulls":4},50,11.1426046,311992]
[{"$nulls":4},60,18.71400511,523992]
[{"$nulls":4},70,32.71361226,915981]
[{"$nulls":4},80,42.57061481,1191977]