{"text_format":"3","workbook":"xlsx","n_sheets":3,"sheets":["HeroLevelConfig","备注页","Sheet1"],"not_rendered":{"external_links":2,"defined_names":2},"read":"whole","date_system":"1900"}

{"sheet":"HeroLevelConfig","index":0,"n_rows":337,"n_cols":11,"rows_kept":337}
[null,"Id","Level","CharacterLevelPara","SpeedLevelPara","Consume","SumConsume","RankupReturn","NoUse1","NoUse2","NoUse3"]
[null,"int","int","mut,int#int,2","float","mut,int#int,2","mut,int#int,2","mut,int#int,2","float","float","float"]
[null,2,2,2,2,2,2,2,0,0,0]
[null,"索引","等级","等级增量\n(攻击/生命/护甲/魔抗）","速度升级参数","升至下一级消耗的材料数","升级累计消耗材料\n（返还材料用，需要关联Gamesetting）","提升返还材料（迷）","备注速度","备注速度","备注速度"]
["默认值",0,0,0,0,"null",null,null,0,0,0]
["正确性校对"]
["校对值"]
[null,1,1,"2#0|1#0|3#0|4#0",{"v":1,"d":"1.000000"},"14#20|3#5",null,null,{"$f":"(C8+10)/11","v":1}]
[null,2,2,"2#9|1#60|3#3|4#3",1.045455,"14#40|3#10","14#20|3#5","14#42|3#20",{"$f":"(C9+10)/11","v":1.0909090909090908},{"$f":"I9-I8","v":0.09090909090909083},{"$f":"I8+J9/2","v":1.0454545454545454}]
[null,3,3,"2#18|1#120|3#6|4#6",1.090909,"14#70|3#20","14#60|3#15","14#104|3#40",1.1818181818181819,{"$f":"I10-I9","v":0.09090909090909105},{"$f":"K9+J10/2","v":1.0909090909090908}]
[null,4,4,"2#27|1#180|3#9|4#9",1.136364,"14#110|3#30","14#130|3#35","14#208|3#70",1.2727272727272727,0.09090909090909083,{"$f":"K10+J11/2","v":1.1363636363636362}]
[null,5,5,"2#36|1#240|3#12|4#12",1.181818,"14#170|3#45","14#240|3#65","14#365|3#115",1.3636363636363635,0.09090909090909083,1.1818181818181817]
[null,6,6,"2#48|1#320|3#16|4#16",1.227273,"14#225|3#65","14#410|3#110","14#587|3#170",1.4545454545454546,0.09090909090909105,1.227272727272727]
[null,7,7,"2#60|1#400|3#20|4#20",1.272727,"14#305|3#80","14#635|3#175","14#887|3#245",1.5454545454545454,0.09090909090909083,1.2727272727272725]
[null,8,8,"2#72|1#480|3#24|4#24",1.318182,"14#395|3#105","14#940|3#255","14#1277|3#335",1.6363636363636365,0.09090909090909105,1.318181818181818]
[null,9,9,"2#84|1#560|3#28|4#28",1.363636,"14#495|3#135","14#1335|3#360","14#1770|3#450",1.7272727272727273,0.09090909090909083,1.3636363636363633]
[null,10,10,"2#96|1#640|3#32|4#32",1.409091,"14#615|3#170","14#1830|3#495","14#2380|3#590",1.8181818181818181,0.09090909090909083,1.4090909090909087]
[null,11,11,"2#111|1#740|3#37|4#37",1.454545,"14#745|3#215","14#2445|3#665","14#3121|3#760",1.9090909090909092,0.09090909090909105,1.4545454545454541]
[null,12,12,"2#126|1#840|3#42|4#42",{"v":1.5,"d":"1.500000"},"14#890|3#265","14#3190|3#880","14#4007|3#965",2,0.09090909090909083,1.4999999999999996]
[null,13,13,"2#141|1#940|3#47|4#47",1.545455,"14#1050|3#320","14#4080|3#1145","14#5053|3#1215",2.090909090909091,0.09090909090909083,1.545454545454545]
[null,14,14,"2#156|1#1040|3#52|4#52",1.590909,"14#1225|3#385","14#5130|3#1465","14#6274|3#1510",2.1818181818181817,0.09090909090909083,1.5909090909090904]
[null,15,15,"2#171|1#1140|3#57|4#57",1.636364,"14#1415|3#465","14#6355|3#1850","14#7685|3#1860",2.272727272727273,0.09090909090909127,1.636363636363636]
[null,16,16,"2#189|1#1260|3#63|4#63",1.681818,"14#1620|3#550","14#7770|3#2315","14#9302|3#2270",2.3636363636363638,0.09090909090909083,1.6818181818181814]
[null,17,17,"2#207|1#1380|3#69|4#69",1.727273,"14#1840|3#645","14#9390|3#2865","14#11141|3#2745",2.4545454545454546,0.09090909090909083,1.7272727272727268]
[null,18,18,"2#225|1#1500|3#75|4#75",1.772727,"14#2080|3#755","14#11230|3#3510","14#13219|3#3295",2.5454545454545454,0.09090909090909083,1.7727272727272723]
[null,19,19,"2#243|1#1620|3#81|4#81",1.818182,"14#2335|3#875","14#13310|3#4265","14#15553|3#3930",2.6363636363636362,0.09090909090909083,1.8181818181818177]
[null,20,20,"2#261|1#1740|3#87|4#87",1.863636,"14#2610|3#1010","14#15645|3#5140","14#18160|3#4655",2.727272727272727,0.09090909090909083,1.863636363636363]
[null,21,21,"2#282|1#1880|3#94|4#94",1.909091,"14#2900|3#1160","14#18255|3#6150","14#21058|3#5485",2.8181818181818183,0.09090909090909127,1.9090909090909087]
[null,22,22,"2#303|1#2020|3#101|4#101",1.954545,"14#3210|3#1320","14#21155|3#7310","14#24265|3#6425",2.909090909090909,0.09090909090909083,1.9545454545454541]
[null,23,23,"2#324|1#2160|3#108|4#108",{"v":2,"d":"2.000000"},"14#3540|3#1500","14#24365|3#8630","14#27800|3#7485",3,0.09090909090909083,1.9999999999999996]
[null,24,24,"2#345|1#2300|3#115|4#115",2.045455,"14#3885|3#1690","14#27905|3#10130","14#31682|3#8680",3.090909090909091,0.09090909090909083,2.045454545454545]
[null,25,25,"2#366|1#2440|3#122|4#122",2.090909,"14#4250|3#1900","14#31790|3#11820","14#35930|3#10015",3.1818181818181817,0.09090909090909083,2.0909090909090904]
[null,26,26,"2#390|1#2600|3#130|4#130",2.136364,"14#4635|3#2130","14#36040|3#13720","14#40564|3#11505",3.272727272727273,0.09090909090909127,2.136363636363636]
[null,27,27,"2#414|1#2760|3#138|4#138",2.181818,"14#5045|3#2375","14#40675|3#15850","14#45604|3#13160",3.3636363636363638,0.09090909090909083,2.181818181818181]
[null,28,28,"2#438|1#2920|3#146|4#146",2.227273,"14#5470|3#2640","14#45720|3#18225","14#51071|3#14995",3.4545454545454546,0.09090909090909083,2.2272727272727266]
[null,29,29,"2#462|1#3080|3#154|4#154",2.272727,"14#5920|3#2920","14#51190|3#20865","14#56986|3#17020",3.5454545454545454,0.09090909090909083,2.272727272727272]
[null,30,30,"2#486|1#3240|3#162|4#162",2.318182,"14#6385|3#3225","14#57110|3#23785","14#63370|3#19250",3.6363636363636362,0.09090909090909083,2.3181818181818175]
[null,31,31,"2#513|1#3420|3#171|4#171",2.363636,"14#6880|3#3545","14#63495|3#27010","14#70245|3#21700",3.727272727272727,0.09090909090909083,2.363636363636363]
[null,32,32,"2#540|1#3600|3#180|4#180",2.409091,"14#7390|3#3890","14#70375|3#30555","14#77633|3#24380",3.8181818181818183,0.09090909090909127,2.4090909090909083]
[null,33,33,"2#567|1#3780|3#189|4#189",2.454545,"14#7925|3#4260","14#77765|3#34445","14#85556|3#27305",3.909090909090909,0.09090909090909083,2.4545454545454537]
[null,34,34,"2#594|1#3960|3#198|4#198",{"v":2.5,"d":"2.500000"},"14#8485|3#4645","14#85690|3#38705","14#94037|3#30495",4,0.09090909090909083,2.499999999999999]
[null,35,35,"2#621|1#4140|3#207|4#207",2.545455,"14#9065|3#5060","14#94175|3#43350","14#103100|3#33960",4.090909090909091,0.09090909090909083,2.5454545454545445]
[null,36,36,"2#651|1#4340|3#217|4#217",2.590909,"14#9670|3#5495","14#103240|3#48410","14#112768|3#37720",4.181818181818182,0.09090909090909083,2.59090909090909]
[null,37,37,"2#681|1#4540|3#227|4#227",2.636364,"14#10300|3#5955","14#112910|3#53905","14#123065|3#41790",4.2727272727272725,0.09090909090909083,2.6363636363636354]
[null,38,38,"2#711|1#4740|3#237|4#237",2.681818,"14#10955|3#6440","14#123210|3#59860","14#134016|3#46185",4.363636363636363,0.09090909090909083,2.6818181818181808]
[null,39,39,"2#741|1#4940|3#247|4#247",2.727273,"14#11635|3#6955","14#134165|3#66300","14#145646|3#50925",4.454545454545454,0.09090909090909083,2.727272727272726]
[null,40,40,"2#771|1#5140|3#257|4#257",2.772727,"14#12335|3#7490","14#145800|3#73255","14#157980|3#56025",4.545454545454546,0.09090909090909172,2.772727272727272]
[null,41,41,"2#804|1#5360|3#268|4#268",2.818182,"14#13065|3#8055","14#158135|3#80745","14#171043|3#61505",4.636363636363637,0.09090909090909083,2.8181818181818175]
[null,42,42,"2#837|1#5580|3#279|4#279",2.863636,"14#13820|3#8650","14#171200|3#88800","14#184861|3#67385",4.7272727272727275,0.09090909090909083,2.863636363636363]
[null,43,43,"2#870|1#5800|3#290|4#290",2.909091,"14#14605|3#9270","14#185020|3#97450","14#199461|3#73680",4.818181818181818,0.09090909090909083,2.9090909090909083]
[null,44,44,"2#903|1#6020|3#301|4#301",2.954545,"14#15410|3#9920","14#199625|3#106720","14#214870|3#80410",4.909090909090909,0.09090909090909083,2.9545454545454537]
[null,45,45,"2#936|1#6240|3#312|4#312",{"v":3,"d":"3.000000"},"14#16250|3#10600","14#215035|3#116640","14#231115|3#87595",5,0.09090909090909083,2.999999999999999]
[null,46,46,"2#972|1#6480|3#324|4#324",3.045455,"14#17110|3#11305","14#231285|3#127240","14#248223|3#95255",5.090909090909091,0.09090909090909083,3.0454545454545445]
[null,47,47,"2#1008|1#6720|3#336|4#336",3.090909,"14#18000|3#12050","14#248395|3#138545","14#266222|3#103410",5.181818181818182,0.09090909090909083,3.09090909090909]
[null,48,48,"2#1044|1#6960|3#348|4#348",3.136364,"14#18920|3#12820","14#266395|3#150595","14#285141|3#112085",5.2727272727272725,0.09090909090909083,3.1363636363636354]
[null,49,49,"2#1080|1#7200|3#360|4#360",3.181818,"14#19870|3#13625","14#285315|3#163415","14#305008|3#121295",5.363636363636363,0.09090909090909083,3.1818181818181808]
[null,50,50,"2#1116|1#7440|3#372|4#372",3.227273,"14#20850|3#14460","14#305185|3#177040","14#325853|3#131065",5.454545454545454,0.09090909090909083,3.227272727272726]
[null,51,51,"2#1155|1#7700|3#385|4#385",3.272727,"14#21855|3#15330","14#326035|3#191500","14#347705|3#141420",5.545454545454546,0.09090909090909172,3.272727272727272]
[null,52,52,"2#1194|1#7960|3#398|4#398",3.318182,"14#22890|3#16230","14#347890|3#206830","14#370594|3#152380",5.636363636363637,0.09090909090909083,3.3181818181818175]
[null,53,53,"2#1233|1#8220|3#411|4#411",3.363636,"14#23960|3#17170","14#370780|3#223060","14#394550|3#163965",5.7272727272727275,0.09090909090909083,3.363636363636363]
[null,54,54,"2#1272|1#8480|3#424|4#424",3.409091,"14#25055|3#18140","14#394740|3#240230","14#419604|3#176200",5.818181818181818,0.09090909090909083,3.4090909090909083]
[null,55,55,"2#1311|1#8740|3#437|4#437",3.454545,"14#26185|3#19150","14#419795|3#258370","14#445787|3#189110",5.909090909090909,0.09090909090909083,3.4545454545454537]
[null,56,56,"2#1353|1#9020|3#451|4#451",{"v":3.5,"d":"3.500000"},"14#27345|3#20195","14#445980|3#277520","14#473131|3#202720",6,0.09090909090909083,3.499999999999999]
[null,57,57,"2#1395|1#9300|3#465|4#465",3.545455,"14#28540|3#21275","14#473325|3#297715","14#501667|3#217055",6.090909090909091,0.09090909090909083,3.5454545454545445]
[null,58,58,"2#1437|1#9580|3#479|4#479",3.590909,"14#29765|3#22395","14#501865|3#318990","14#531428|3#232135",6.181818181818182,0.09090909090909083,3.59090909090909]
[null,59,59,"2#1479|1#9860|3#493|4#493",3.636364,"14#31020|3#23550","14#531630|3#341385","14#562446|3#247990",6.2727272727272725,0.09090909090909083,3.6363636363636354]
[null,60,60,"2#1521|1#10140|3#507|4#507",3.681818,"14#32310|3#24745","14#562650|3#364935","14#594754|3#264645",6.363636363636363,0.09090909090909083,3.6818181818181808]
[null,61,61,"2#1566|1#10440|3#522|4#522",3.727273,"14#33635|3#25980","14#594960|3#389680","14#628386|3#282125",6.454545454545454,0.09090909090909083,3.727272727272726]
[null,62,62,"2#1611|1#10740|3#537|4#537",3.772727,"14#34995|3#27250","14#628595|3#415660","14#663375|3#300455",6.545454545454546,0.09090909090909172,3.772727272727272]
[null,63,63,"2#1656|1#11040|3#552|4#552",3.818182,"14#36385|3#28565","14#663590|3#442910","14#699755|3#319665",6.636363636363637,0.09090909090909083,3.8181818181818175]
[null,64,64,"2#1701|1#11340|3#567|4#567",3.863636,"14#37810|3#29920","14#699975|3#471475","14#737560|3#339780",6.7272727272727275,0.09090909090909083,3.863636363636363]
[null,65,65,"2#1746|1#11640|3#582|4#582",3.909091,"14#39270|3#31315","14#737785|3#501395","14#776825|3#360825",6.818181818181818,0.09090909090909083,3.9090909090909083]
[null,66,66,"2#1794|1#11960|3#598|4#598",3.954545,"14#40770|3#32750","14#777055|3#532710","14#817585|3#382830",{"$f":"(C73+10)/11","v":6.909090909090909},0.09090909090909083,3.9545454545454537]
[null,67,67,"2#1842|1#12280|3#614|4#614",{"v":4,"d":"4.000000"},"14#42300|3#34230","14#817825|3#565460","14#859875|3#405825",7,{"$f":"I74-I73","v":0.09090909090909083},3.999999999999999]
[null,68,68,"2#1890|1#12600|3#630|4#630",4.045455,"14#43870|3#35755","14#860125|3#599690","14#903730|3#429840",7.090909090909091,0.09090909090909083,{"$f":"K74+J75/2","v":4.045454545454545}]
[null,69,69,"2#1938|1#12920|3#646|4#646",4.090909,"14#45475|3#37320","14#903995|3#635445","14#949186|3#454900",7.181818181818182,0.09090909090909083,4.09090909090909]
[null,70,70,"2#1986|1#13240|3#662|4#662",4.136364,"14#47120|3#38930","14#949470|3#672765","14#996279|3#481035",7.2727272727272725,0.09090909090909083,4.136363636363635]
[null,71,71,"2#2037|1#13580|3#679|4#679",4.181818,"14#48800|3#40585","14#996590|3#711695","14#1045045|3#508275",7.363636363636363,0.09090909090909083,4.18181818181818]
[null,72,72,"2#2088|1#13920|3#696|4#696",4.227273,"14#50515|3#42285","14#1045390|3#752280","14#1095521|3#536650",7.454545454545454,0.09090909090909083,4.227272727272725]
[null,73,73,"2#2139|1#14260|3#713|4#713",4.272727,"14#52270|3#44030","14#1095905|3#794565","14#1147744|3#566190",7.545454545454546,0.09090909090909172,4.272727272727271]
[null,74,74,"2#2190|1#14600|3#730|4#730",4.318182,"14#54065|3#45820","14#1148175|3#838595","14#1201751|3#596930",7.636363636363637,0.09090909090909083,4.318181818181817]
[null,75,75,"2#2241|1#14940|3#747|4#747",4.363636,"14#55900|3#47660","14#1202240|3#884415","14#1257579|3#628895",7.7272727272727275,0.09090909090909083,4.3636363636363615]
[null,76,76,"2#2295|1#15300|3#765|4#765",4.409091,"14#57770|3#49545","14#1258140|3#932075","14#1315266|3#662120",7.818181818181818,0.09090909090909083,4.4090909090909065]
[null,77,77,"2#2349|1#15660|3#783|4#783",4.454545,"14#59680|3#51475","14#1315910|3#981620","14#1374850|3#696635",7.909090909090909,0.09090909090909083,4.4545454545454515]
[null,78,78,"2#2403|1#16020|3#801|4#801",{"v":4.5,"d":"4.500000"},"14#61635|3#53455","14#1375590|3#1033095","14#1436370|3#732475",8,0.09090909090909083,4.4999999999999964]
[null,79,79,"2#2457|1#16380|3#819|4#819",4.545455,"14#63625|3#55485","14#1437225|3#1086550","14#1499864|3#769670",8.090909090909092,0.09090909090909172,4.545454545454542]
[null,80,80,"2#2511|1#16740|3#837|4#837",4.590909,"14#65660|3#57565","14#1500850|3#1142035","14#1565371|3#808255",8.181818181818182,0.09090909090908994,4.590909090909087]
[null,81,81,"2#2568|1#17120|3#856|4#856",4.636364,"14#67735|3#59695","14#1566510|3#1199600","14#1632931|3#848260",8.272727272727273,0.09090909090909172,4.636363636363633]
[null,82,82,"2#2625|1#17500|3#875|4#875",4.681818,"14#69850|3#61875","14#1634245|3#1259295","14#1702583|3#889720",8.363636363636363,0.09090909090908994,4.681818181818178]
[null,83,83,"2#2682|1#17880|3#894|4#894",4.727273,"14#72010|3#64105","14#1704095|3#1321170","14#1774367|3#932670",8.454545454545455,0.09090909090909172,4.727272727272724]
[null,84,84,"2#2739|1#18260|3#913|4#913",4.772727,"14#74210|3#66385","14#1776105|3#1385275","14#1848323|3#977140",8.545454545454545,0.09090909090908994,4.772727272727269]
[null,85,85,"2#2796|1#18640|3#932|4#932",4.818182,"14#76455|3#68715","14#1850315|3#1451660","14#1924492|3#1023170",8.636363636363637,0.09090909090909172,4.818181818181815]
[null,86,86,"2#2856|1#19040|3#952|4#952",4.863636,"14#78740|3#71100","14#1926770|3#1520375","14#2002915|3#1070790",8.727272727272727,0.09090909090908994,4.86363636363636]
[null,87,87,"2#2916|1#19440|3#972|4#972",4.909091,"14#81070|3#73540","14#2005510|3#1591475","14#2083633|3#1120040",8.818181818181818,0.09090909090909172,4.909090909090906]
[null,88,88,"2#2976|1#19840|3#992|4#992",4.954545,"14#83445|3#76030","14#2086580|3#1665015","14#2166687|3#1170950",8.909090909090908,0.09090909090908994,4.954545454545451]
[null,89,89,"2#3036|1#20240|3#1012|4#1012",{"v":5,"d":"5.000000"},"14#85865|3#78575","14#2170025|3#1741045","14#2252119|3#1223560",9,0.09090909090909172,4.9999999999999964]
[null,90,90,"2#3096|1#20640|3#1032|4#1032",5.045455,"14#88330|3#81170","14#2255890|3#1819620","14#2339971|3#1277905",9.090909090909092,0.09090909090909172,5.045454545454542]
[null,91,91,"2#3159|1#21060|3#1053|4#1053",5.090909,"14#90835|3#83825","14#2344220|3#1900790","14#2430285|3#1334020",9.181818181818182,0.09090909090908994,5.090909090909087]
[null,92,92,"2#3222|1#21480|3#1074|4#1074",5.136364,"14#93390|3#86535","14#2435055|3#1984615","14#2523104|3#1391945",9.272727272727273,0.09090909090909172,5.136363636363633]
[null,93,93,"2#3285|1#21900|3#1095|4#1095",5.181818,"14#95990|3#89295","14#2528445|3#2071150","14#2618471|3#1451715",9.363636363636363,0.09090909090908994,5.181818181818178]
[null,94,94,"2#3348|1#22320|3#1116|4#1116",5.227273,"14#98640|3#92115","14#2624435|3#2160445","14#2716429|3#1513365",9.454545454545455,0.09090909090909172,5.227272727272724]
[null,95,95,"2#3411|1#22740|3#1137|4#1137",5.272727,"14#101330|3#94995","14#2723075|3#2252560","14#2817021|3#1576935",9.545454545454545,0.09090909090908994,5.272727272727269]
[null,96,96,"2#3477|1#23180|3#1159|4#1159",5.318182,"14#104070|3#97925","14#2824405|3#2347555","14#2920291|3#1642460",9.636363636363637,0.09090909090909172,5.318181818181815]
[null,97,97,"2#3543|1#23620|3#1181|4#1181",5.363636,"14#106860|3#100915","14#2928475|3#2445480","14#3026283|3#1709985",9.727272727272727,0.09090909090908994,5.36363636363636]
[null,98,98,"2#3609|1#24060|3#1203|4#1203",5.409091,"14#109695|3#103965","14#3035335|3#2546395","14#3135042|3#1779545",9.818181818181818,0.09090909090909172,5.409090909090906]
[null,99,99,"2#3675|1#24500|3#1225|4#1225",5.454545,"14#112580|3#107070","14#3145030|3#2650360","14#3246612|3#1851175",9.909090909090908,0.09090909090908994,5.454545454545451]
[null,100,100,"2#3741|1#24940|3#1247|4#1247",{"v":5.5137,"d":"5.513700"},"14#115510|3#110235","14#3257610|3#2757430","14#3361038|3#1924920",10,0.09090909090909172,5.4999999999999964]
[null,101,101,"2#3810|1#25400|3#1270|4#1270",5.573417,"14#118495|3#113460","14#3373120|3#2867665","14#3478366|3#2000815",10.090909090909092,null,{"$f":"I108-4.5","v":5.590909090909092}]
[null,102,102,"2#3879|1#25860|3#1293|4#1293",5.633134,"14#121525|3#116885","14#3491615|3#2981125","14#3598641|3#2078995",10.181818181818182,null,{"$f":"I109-4.5","v":5.681818181818182}]
[null,103,103,"2#3948|1#26320|3#1316|4#1316",5.692852,"14#124605|3#120375","14#3613140|3#3098010","14#3721909|3#2159505",10.272727272727273,null,5.772727272727273]
[null,104,104,"2#4017|1#26780|3#1339|4#1339",5.752569,"14#127735|3#123935","14#3737745|3#3218385","14#3848216|3#2242390",10.363636363636363,null,5.863636363636363]
[null,105,105,"2#4086|1#27240|3#1362|4#1362",5.812286,"14#130920|3#127565","14#3865480|3#3342320","14#3977609|3#2327695",10.454545454545455,null,5.954545454545455]
[null,106,106,"2#4158|1#27720|3#1386|4#1386",5.872003,"14#134150|3#131265","14#3996400|3#3469885","14#4110135|3#2415470",10.545454545454545,null,6.045454545454545]
[null,107,107,"2#4230|1#28200|3#1410|4#1410",{"v":5.93172,"d":"5.931720"},"14#137435|3#135035","14#4130550|3#3601150","14#4245841|3#2505760",10.636363636363637,null,6.136363636363637]
[null,108,108,"2#4302|1#28680|3#1434|4#1434",5.991438,"14#140770|3#138875","14#4267985|3#3736185","14#4384774|3#2598615",10.727272727272727,null,6.227272727272727]
[null,109,109,"2#4374|1#29160|3#1458|4#1458",6.051155,"14#144160|3#142790","14#4408755|3#3875060","14#4526982|3#2694085",10.818181818181818,null,6.318181818181818]
[null,110,110,"2#4446|1#29640|3#1482|4#1482",6.110872,"14#147600|3#146780","14#4552915|3#4017850","14#4672513|3#2792215",10.909090909090908,null,6.409090909090908]
[null,111,111,"2#4521|1#30140|3#1507|4#1507",6.170589,"14#151095|3#150840","14#4700515|3#4164630","14#4821415|3#2893055",11,null,6.5]
[null,112,112,"2#4596|1#30640|3#1532|4#1532",6.230306,"14#154640|3#154975","14#4851610|3#4315470","14#4973737|3#2996655",11.090909090909092,null,6.590909090909092]
[null,113,113,"2#4671|1#31140|3#1557|4#1557",6.290024,"14#158245|3#159185","14#5006250|3#4470445","14#5129528|3#3103065",11.181818181818182,null,6.681818181818182]
[null,114,114,"2#4746|1#31640|3#1582|4#1582",6.349741,"14#161900|3#163475","14#5164495|3#4629630","14#5288837|3#3212335",11.272727272727273,null,6.772727272727273]
[null,115,115,"2#4821|1#32140|3#1607|4#1607",6.409458,"14#165610|3#167835","14#5326395|3#4793105","14#5451713|3#3324515",11.363636363636363,null,6.863636363636363]
[null,116,116,"2#4899|1#32660|3#1633|4#1633",6.469175,"14#169375|3#172275","14#5492005|3#4960940","14#5618206|3#3439660",11.454545454545455,null,6.954545454545455]
[null,117,117,"2#4977|1#33180|3#1659|4#1659",6.528893,"14#173195|3#176795","14#5661380|3#5133215","14#5788366|3#3557820",11.545454545454545,null,7.045454545454545]
[null,118,118,"2#5055|1#33700|3#1685|4#1685",{"v":6.58861,"d":"6.588610"},"14#177070|3#181390","14#5834575|3#5310010","14#5962244|3#3679045",11.636363636363637,null,7.136363636363637]
[null,119,119,"2#5133|1#34220|3#1711|4#1711",6.648327,"14#181000|3#186065","14#6011645|3#5491400","14#6139890|3#3803390",11.727272727272727,null,7.227272727272727]
[null,120,120,"2#5211|1#34740|3#1737|4#1737",6.708044,"14#184990|3#190820","14#6192645|3#5677465","14#6321355|3#3930905",11.818181818181818,null,7.318181818181818]
[null,121,121,"2#5292|1#35280|3#1764|4#1764",6.767761,"14#189035|3#195655","14#6377635|3#5868285","14#6506691|3#4061650",11.909090909090908,null,7.409090909090908]
[null,122,122,"2#5373|1#35820|3#1791|4#1791",6.827479,"14#193135|3#200575","14#6566670|3#6063940","14#6695949|3#4195675",12,null,7.5]
[null,123,123,"2#5454|1#36360|3#1818|4#1818",6.887196,"14#197295|3#205570","14#6759805|3#6264515","14#6889181|3#4333035",12.090909090909092,null,7.590909090909092]
[null,124,124,"2#5535|1#36900|3#1845|4#1845",6.946913,"14#201515|3#210655","14#6957100|3#6470085","14#7086439|3#4473785",12.181818181818182,null,7.681818181818182]
[null,125,125,"2#5616|1#37440|3#1872|4#1872",{"v":7.00663,"d":"7.006630"},"14#205790|3#215815","14#7158615|3#6680740","14#7287776|3#4617980",12.272727272727273,null,7.772727272727273]
[null,126,126,"2#5700|1#38000|3#1900|4#1900",7.066347,"14#210130|3#221065","14#7364405|3#6896555","14#7493245|3#4765675",12.363636363636363,null,7.863636363636363]
[null,127,127,"2#5784|1#38560|3#1928|4#1928",7.126065,"14#214525|3#226400","14#7574535|3#7117620","14#7702899|3#4916925",12.454545454545455,null,7.954545454545455]
[null,128,128,"2#5868|1#39120|3#1956|4#1956",7.185782,"14#218980|3#231815","14#7789060|3#7344020","14#7916791|3#5071790",12.545454545454545,null,8.045454545454545]
[null,129,129,"2#5952|1#39680|3#1984|4#1984",7.245499,"14#223495|3#237320","14#8008040|3#7575835","14#8134975|3#5230330",12.636363636363637,null,8.136363636363637]
[null,130,130,"2#6036|1#40240|3#2012|4#2012",7.305216,"14#228070|3#242910","14#8231535|3#7813155","14#8357505|3#5392600",{"$f":"(C137+10)/11","v":12.727272727272727},null,8.227272727272727]
[null,131,131,"2#6123|1#40820|3#2041|4#2041",7.364933,"14#232705|3#248585","14#8459605|3#8056065","14#8584435|3#5558655",12.818181818181818,null,8.318181818181818]
[null,132,132,"2#6210|1#41400|3#2070|4#2070",7.424651,"14#237400|3#254355","14#8692310|3#8304650","14#8815820|3#5728555",12.909090909090908,null,8.409090909090908]
[null,133,133,"2#6297|1#41980|3#2099|4#2099",7.484368,"14#242160|3#260205","14#8929710|3#8559005","14#9051715|3#5902360",13,null,8.5]
[null,134,134,"2#6384|1#42560|3#2128|4#2128",7.544085,"14#246980|3#266150","14#9171870|3#8819210","14#9292175|3#6080130",13.090909090909092,null,8.590909090909092]
[null,135,135,"2#6471|1#43140|3#2157|4#2157",7.603802,"14#251865|3#272185","14#9418850|3#9085360","14#9537255|3#6261925",13.181818181818182,null,8.681818181818182]
[null,136,136,"2#6561|1#43740|3#2187|4#2187",7.663519,"14#256810|3#278305","14#9670715|3#9357545","14#9787011|3#6447805",13.272727272727273,null,8.772727272727273]
[null,137,137,"2#6651|1#44340|3#2217|4#2217",7.723237,"14#261820|3#284520","14#9927525|3#9635850","14#10041499|3#6637830",13.363636363636363,null,8.863636363636363]
[null,138,138,"2#6741|1#44940|3#2247|4#2247",7.782954,"14#266890|3#290830","14#10189345|3#9920370","14#10300776|3#6832065",13.454545454545455,null,8.954545454545455]
[null,139,139,"2#6831|1#45540|3#2277|4#2277",7.842671,"14#272025|3#297230","14#10456235|3#10211200","14#10564898|3#7030570",13.545454545454545,null,9.045454545454545]
[null,140,140,"2#6921|1#46140|3#2307|4#2307",7.902388,"14#277230|3#303720","14#10728260|3#10508430","14#10833922|3#7233405",13.636363636363637,null,9.136363636363637]
[null,141,141,"2#7014|1#46760|3#2338|4#2338",7.964919,"14#282495|3#310310","14#11005490|3#10812150","14#11107906|3#7440635",13.727272727272727,null,9.227272727272727]
[null,142,142,"2#7107|1#47380|3#2369|4#2369",8.027449,"14#287825|3#316990","14#11287985|3#11122460","14#11386907|3#7652320",13.818181818181818,null,9.318181818181818]
[null,143,143,"2#7200|1#48000|3#2400|4#2400",{"v":8.08998,"d":"8.089980"},"14#293220|3#323765","14#11575810|3#11439450","14#11670983|3#7868525",13.909090909090908,null,9.409090909090908]
[null,144,144,"2#7293|1#48620|3#2431|4#2431",{"v":8.15251,"d":"8.152510"},"14#298680|3#330640","14#11869030|3#11763215","14#11960192|3#8089315",14,null,9.5]
[null,145,145,"2#7386|1#49240|3#2462|4#2462",8.215041,"14#304210|3#337610","14#12167710|3#12093855","14#12254593|3#8314755",14.090909090909092,null,9.590909090909092]
[null,146,146,"2#7482|1#49880|3#2494|4#2494",8.277571,"14#309805|3#344675","14#12471920|3#12431465","14#12554245|3#8544910",14.181818181818182,null,9.681818181818182]
[null,147,147,"2#7578|1#50520|3#2526|4#2526",8.340102,"14#315465|3#351840","14#12781725|3#12776140","14#12859207|3#8779840",14.272727272727273,null,9.772727272727273]
[null,148,148,"2#7674|1#51160|3#2558|4#2558",8.402632,"14#321195|3#359105","14#13097190|3#13127980","14#13169538|3#9019615",14.363636363636363,null,9.863636363636363]
[null,149,149,"2#7770|1#51800|3#2590|4#2590",8.465163,"14#326990|3#366470","14#13418385|3#13487085","14#13485298|3#9264305",14.454545454545455,null,9.954545454545455]
[null,150,150,"2#7866|1#52440|3#2622|4#2622",8.527693,"14#332855|3#373930","14#13745375|3#13853555","14#13806547|3#9513970",14.545454545454545,null,10.045454545454545]
[null,151,151,"2#7965|1#53100|3#2655|4#2655",8.590224,"14#338790|3#381495","14#14078230|3#14227485","14#14133345|3#9768680",14.636363636363637,null,10.136363636363637]
[null,152,152,"2#8064|1#53760|3#2688|4#2688",8.652755,"14#344795|3#389160","14#14417020|3#14608980","14#14465753|3#10028505",14.727272727272727,null,10.227272727272727]
[null,153,153,"2#8163|1#54420|3#2721|4#2721",8.715285,"14#350865|3#396930","14#14761815|3#14998140","14#14803832|3#10293510",14.818181818181818,null,10.318181818181818]
[null,154,154,"2#8262|1#55080|3#2754|4#2754",8.777816,"14#357010|3#404800","14#15112680|3#15395070","14#15147643|3#10563765",14.909090909090908,null,10.409090909090908]
[null,155,155,"2#8361|1#55740|3#2787|4#2787",8.840346,"14#363220|3#412775","14#15469690|3#15799870","14#15497247|3#10839340",15,null,10.5]
[null,156,156,"2#8463|1#56420|3#2821|4#2821",8.902877,"14#369505|3#420850","14#15832910|3#16212645","14#15852706|3#11120300",15.090909090909092,null,10.590909090909092]
[null,157,157,"2#8565|1#57100|3#2855|4#2855",8.965407,"14#375855|3#429035","14#16202415|3#16633495","14#16214082|3#11406720",15.181818181818182,null,10.681818181818182]
[null,158,158,"2#8667|1#57780|3#2889|4#2889",9.027938,"14#382280|3#437320","14#16578270|3#17062530","14#16581438|3#11698665",15.272727272727273,null,10.772727272727273]
[null,159,159,"2#8769|1#58460|3#2923|4#2923",9.090468,"14#388780|3#445715","14#16960550|3#17499850","14#16954836|3#11996210",15.363636363636363,null,10.863636363636363]
[null,160,160,"2#8871|1#59140|3#2957|4#2957",9.152999,"14#395350|3#454215","14#17349330|3#17945565","14#17334339|3#12299425",15.454545454545455,null,10.954545454545455]
[null,161,161,"2#8976|1#59840|3#2992|4#2992",{"v":9.21778,"d":"9.217780"},"14#401990|3#462825","14#17744680|3#18399780","14#17720011|3#12608380",15.545454545454545,null,11.045454545454545]
[null,162,162,"2#9081|1#60540|3#3027|4#3027",9.282561,"14#408705|3#471545","14#18146670|3#18862605","14#18111915|3#12923150",15.636363636363637,null,11.136363636363637]
[null,163,163,"2#9186|1#61240|3#3062|4#3062",9.347342,"14#415490|3#480370","14#18555375|3#19334150","14#18510115|3#13243805",15.727272727272727,null,11.227272727272727]
[null,164,164,"2#9291|1#61940|3#3097|4#3097",9.412123,"14#422355|3#489305","14#18970865|3#19814520","14#18914675|3#13570420",15.818181818181818,null,11.318181818181818]
[null,165,165,"2#9396|1#62640|3#3132|4#3132",9.476905,"14#429290|3#498350","14#19393220|3#20303825","14#19325660|3#13903070",15.909090909090908,null,11.409090909090908]
[null,166,166,"2#9504|1#63360|3#3168|4#3168",9.541686,"14#436300|3#507505","14#19822510|3#20802175","14#19743135|3#14241825",16,null,{"$f":"I173-4.5","v":11.5}]
[null,167,167,"2#9612|1#64080|3#3204|4#3204",9.606467,"14#443385|3#516775","14#20258810|3#21309680","14#20167165|3#14586765",16.09090909090909,null,11.59090909090909]
[null,168,168,"2#9720|1#64800|3#3240|4#3240",9.671248,"14#450545|3#526155","14#20702195|3#21826455","14#20597815|3#14937960",16.181818181818183,null,11.681818181818183]
[null,169,169,"2#9828|1#65520|3#3276|4#3276",9.736029,"14#457780|3#535645","14#21152740|3#22352610","14#21035151|3#15295485",16.272727272727273,null,11.772727272727273]
[null,170,170,"2#9936|1#66240|3#3312|4#3312",{"v":9.80081,"d":"9.800810"},"14#465090|3#545255","14#21610520|3#22888255","14#21479239|3#15659415",16.363636363636363,null,11.863636363636363]
[null,171,171,"2#10047|1#66980|3#3349|4#3349",9.865592,"14#472480|3#554975","14#22075610|3#23433510","14#21930145|3#16029830",16.454545454545453,null,11.954545454545453]
[null,172,172,"2#10158|1#67720|3#3386|4#3386",9.930373,"14#479945|3#564810","14#22548090|3#23988485","14#22387936|3#16406805",16.545454545454547,null,12.045454545454547]
[null,173,173,"2#10269|1#68460|3#3423|4#3423",9.995154,"14#487485|3#574765","14#23028035|3#24553295","14#22852679|3#16790415",16.636363636363637,null,12.136363636363637]
[null,174,174,"2#10380|1#69200|3#3460|4#3460",10.059935,"14#495105|3#584830","14#23515520|3#25128060","14#23324441|3#17180740",16.727272727272727,null,12.227272727272727]
[null,175,175,"2#10491|1#69940|3#3497|4#3497",10.124716,"14#502805|3#595015","14#24010625|3#25712890","14#23803289|3#17577860",16.818181818181817,null,12.318181818181817]
[null,176,176,"2#10605|1#70700|3#3535|4#3535",10.189497,"14#510580|3#605320","14#24513430|3#26307905","14#24289291|3#17981850",16.90909090909091,null,12.40909090909091]
[null,177,177,"2#10719|1#71460|3#3573|4#3573",10.254279,"14#518435|3#615740","14#25024010|3#26913225","14#24782515|3#18392790",17,null,12.5]
[null,178,178,"2#10833|1#72220|3#3611|4#3611",{"v":10.31906,"d":"10.319060"},"14#526370|3#626280","14#25542445|3#27528965","14#25283030|3#18810760",17.09090909090909,null,12.59090909090909]
[null,179,179,"2#10947|1#72980|3#3649|4#3649",10.383841,"14#534385|3#636940","14#26068815|3#28155245","14#25790904|3#19235840",17.181818181818183,null,12.681818181818183]
[null,180,180,"2#11061|1#73740|3#3687|4#3687",10.448622,"14#542480|3#647720","14#26603200|3#28792185","14#26306206|3#19668105",17.272727272727273,null,12.772727272727273]
[null,181,181,"2#11178|1#74520|3#3726|4#3726",10.516779,"14#550655|3#658620","14#27145680|3#29439905","14#26829006|3#20107640",17.363636363636363,null,12.863636363636363]
[null,182,182,"2#11295|1#75300|3#3765|4#3765",10.584936,"14#558920|3#669640","14#27696335|3#30098525","14#27359373|3#20554530",17.454545454545453,null,12.954545454545453]
[null,183,183,"2#11412|1#76080|3#3804|4#3804",10.653093,"14#567280|3#680785","14#28255255|3#30768165","14#27897377|3#21008850",17.545454545454547,null,13.045454545454547]
[null,184,184,"2#11529|1#76860|3#3843|4#3843",10.721251,"14#575735|3#692055","14#28822535|3#31448950","14#28443088|3#21470685",17.636363636363637,null,13.136363636363637]
[null,185,185,"2#11646|1#77640|3#3882|4#3882",10.789408,"14#584290|3#703445","14#29398270|3#32141005","14#28996577|3#21940115",17.727272727272727,null,13.227272727272727]
[null,186,186,"2#11766|1#78440|3#3922|4#3922",10.857565,"14#592950|3#714965","14#29982560|3#32844450","14#29557915|3#22417225",17.818181818181817,null,13.318181818181817]
[null,187,187,"2#11886|1#79240|3#3962|4#3962",10.925722,"14#601715|3#726605","14#30575510|3#33559415","14#30127173|3#22902100",17.90909090909091,null,13.40909090909091]
[null,188,188,"2#12006|1#80040|3#4002|4#4002",10.993879,"14#610595|3#738370","14#31177225|3#34286020","14#30704422|3#23394825",18,null,13.5]
[null,189,189,"2#12126|1#80840|3#4042|4#4042",11.062036,"14#619595|3#750265","14#31787820|3#35024390","14#31289734|3#23895480",18.09090909090909,null,13.59090909090909]
[null,190,190,"2#12246|1#81640|3#4082|4#4082",11.130193,"14#628715|3#762285","14#32407415|3#35774655","14#31883181|3#24404150",18.181818181818183,null,13.681818181818183]
[null,191,191,"2#12369|1#82460|3#4123|4#4123",11.198351,"14#637965|3#774435","14#33036130|3#36536940","14#32484835|3#24920920",18.272727272727273,null,13.772727272727273]
[null,192,192,"2#12492|1#83280|3#4164|4#4164",11.266508,"14#647340|3#786710","14#33674095|3#37311375","14#33094769|3#25445880",18.363636363636363,null,13.863636363636363]
[null,193,193,"2#12615|1#84100|3#4205|4#4205",11.334665,"14#656855|3#799120","14#34321435|3#38098085","14#33713056|3#25979115",18.454545454545453,null,13.954545454545453]
[null,194,194,"2#12738|1#84920|3#4246|4#4246",11.402822,"14#666510|3#811655","14#34978290|3#38897205","14#34339769|3#26520710",{"$f":"(C201+10)/11","v":18.545454545454547},null,14.045454545454547]
[null,195,195,"2#12861|1#85740|3#4287|4#4287",11.470979,"14#676305|3#824320","14#35644800|3#39708860","14#34974981|3#27070750",18.636363636363637,null,14.136363636363637]
[null,196,196,"2#12987|1#86580|3#4329|4#4329",11.539136,"14#686250|3#837120","14#36321105|3#40533180","14#35618766|3#27629325",18.727272727272727,null,14.227272727272727]
[null,197,197,"2#13113|1#87420|3#4371|4#4371",11.607293,"14#696350|3#850050","14#37007355|3#41370300","14#36271198|3#28196520",18.818181818181817,null,14.318181818181817]
[null,198,198,"2#13239|1#88260|3#4413|4#4413",11.675451,"14#706610|3#863110","14#37703705|3#42220350","14#36932352|3#28772425",18.90909090909091,null,14.40909090909091]
[null,199,199,"2#13365|1#89100|3#4455|4#4455",11.743608,"14#717030|3#876305","14#38410315|3#43083460","14#37602302|3#29357130",19,null,14.5]
[null,200,200,"2#13491|1#89940|3#4497|4#4497",11.811765,"14#727620|3#889635","14#39127345|3#43959765","14#38281123|3#29950725",19.09090909090909,null,14.59090909090909]
[null,201,201,"2#13620|1#90800|3#4540|4#4540",11.885549,"14#738380|3#903100","14#39854965|3#44849400","14#38968891|3#30553300",19.181818181818183,null,14.681818181818183]
[null,202,202,"2#13749|1#91660|3#4583|4#4583",11.959332,"14#749320|3#916695","14#40593345|3#45752500","14#39665681|3#31164940",19.272727272727273,null,14.772727272727273]
[null,203,203,"2#13878|1#92520|3#4626|4#4626",12.033116,"14#760440|3#930430","14#41342665|3#46669195","14#40371569|3#31785740",19.363636363636363,null,14.863636363636363]
[null,204,204,"2#14007|1#93380|3#4669|4#4669",{"v":12.1069,"d":"12.106900"},"14#771750|3#944305","14#42103105|3#47599625","14#41086631|3#32415790",19.454545454545453,null,14.954545454545453]
[null,205,205,"2#14136|1#94240|3#4712|4#4712",12.180684,"14#783250|3#958310","14#42874855|3#48543930","14#41810944|3#33055180",19.545454545454547,null,15.045454545454547]
[null,206,206,"2#14268|1#95120|3#4756|4#4756",12.254467,"14#794945|3#972460","14#43658105|3#49502240","14#42544585|3#33704005",19.636363636363637,null,15.136363636363637]
[null,207,207,"2#14400|1#96000|3#4800|4#4800",12.328251,"14#806845|3#986745","14#44453050|3#50474700","14#43287631|3#34362355",19.727272727272727,null,15.227272727272727]
[null,208,208,"2#14532|1#96880|3#4844|4#4844",12.402035,"14#818955|3#1001170","14#45259895|3#51461445","14#44040159|3#35030325",19.818181818181817,null,15.318181818181817]
[null,209,209,"2#14664|1#97760|3#4888|4#4888",12.475819,"14#831275|3#1015735","14#46078850|3#52462615","14#44802247|3#35708010",19.90909090909091,null,15.40909090909091]
[null,210,210,"2#14796|1#98640|3#4932|4#4932",12.549602,"14#843810|3#1030440","14#46910125|3#53478350","14#45573973|3#36395500",20,null,15.5]
[null,211,211,"2#14931|1#99540|3#4977|4#4977",12.623386,"14#856570|3#1045285","14#47753935|3#54508790","14#46355415|3#37092890",20.09090909090909,null,15.59090909090909]
[null,212,212,"2#15066|1#100440|3#5022|4#5022",{"v":12.69717,"d":"12.697170"},"14#869560|3#1060275","14#48610505|3#55554075","14#47146652|3#37800275",20.181818181818183,null,15.681818181818183]
[null,213,213,"2#15201|1#101340|3#5067|4#5067",12.770954,"14#882780|3#1075405","14#49480065|3#56614350","14#47947763|3#38517750",20.272727272727273,null,15.772727272727273]
[null,214,214,"2#15336|1#102240|3#5112|4#5112",12.844737,"14#896245|3#1090680","14#50362845|3#57689755","14#48758827|3#39245410",20.363636363636363,null,15.863636363636363]
[null,215,215,"2#15471|1#103140|3#5157|4#5157",12.918521,"14#909950|3#1109735","14#51259090|3#58780435","14#49579923|3#39983350",20.454545454545453,null,15.954545454545453]
[null,216,216,"2#15609|1#104060|3#5203|4#5203",12.992305,"14#923900|3#1129040","14#52169040|3#59890170","14#50411131|3#40731670",20.545454545454547,null,16.045454545454547]
[null,217,217,"2#15747|1#104980|3#5249|4#5249",13.066089,"14#938110|3#1148595","14#53092940|3#61019210","14#51252531|3#41490465",20.636363636363637,null,16.136363636363637]
[null,218,218,"2#15885|1#105900|3#5295|4#5295",13.139872,"14#952580|3#1168395","14#54031050|3#62167805","14#52104204|3#42259830",20.727272727272727,null,16.227272727272727]
[null,219,219,"2#16023|1#106820|3#5341|4#5341",13.213656,"14#967315|3#1188455","14#54983630|3#63336200","14#52966230|3#43039865",20.818181818181817,null,16.318181818181817]
[null,220,220,"2#16161|1#107740|3#5387|4#5387",{"v":13.28744,"d":"13.287440"},"14#982325|3#1208770","14#55950945|3#64524655","14#53838690|3#43830670",20.90909090909091,null,16.40909090909091]
[null,221,221,"2#16302|1#108680|3#5434|4#5434",13.360849,"14#997610|3#1229340","14#56933270|3#65733425","14#54721666|3#44632340",21,null,16.5]
[null,222,222,"2#16443|1#109620|3#5481|4#5481",13.434257,"14#1013180|3#1250170","14#57930880|3#66962765","14#55615239|3#45444980",21.09090909090909,null,16.59090909090909]
[null,223,223,"2#16584|1#110560|3#5528|4#5528",13.507666,"14#1029035|3#1271265","14#58944060|3#68212935","14#56519491|3#46268685",21.181818181818183,null,16.681818181818183]
[null,224,224,"2#16725|1#111500|3#5575|4#5575",13.581075,"14#1045185|3#1292625","14#59973095|3#69484200","14#57434504|3#47103555",21.272727272727273,null,16.772727272727273]
[null,225,225,"2#16866|1#112440|3#5622|4#5622",13.654483,"14#1061635|3#1314245","14#61018280|3#70776825","14#58360361|3#47949690",21.363636363636363,null,16.863636363636363]
[null,226,226,"2#17010|1#113400|3#5670|4#5670",13.727892,"14#1078390|3#1336140","14#62079915|3#72091070","14#59297145|3#48807195",21.454545454545453,null,16.954545454545453]
[null,227,227,"2#17154|1#114360|3#5718|4#5718",13.801301,"14#1095460|3#1358305","14#63158305|3#73427210","14#60244939|3#49676170",21.545454545454547,null,17.045454545454547]
[null,228,228,"2#17298|1#115320|3#5766|4#5766",13.874709,"14#1112845|3#1380740","14#64253765|3#74785515","14#61203826|3#50556715",21.636363636363637,null,17.136363636363637]
[null,229,229,"2#17442|1#116280|3#5814|4#5814",13.948118,"14#1130555|3#1403450","14#65366610|3#76166255","14#62173890|3#51448930",21.727272727272727,null,17.227272727272727]
[null,230,230,"2#17586|1#117240|3#5862|4#5862",14.021527,"14#1148590|3#1426440","14#66497165|3#77569705","14#63155215|3#52352925",21.818181818181817,null,{"$f":"I237-4.5","v":17.318181818181817}]
[null,231,231,"2#17733|1#118220|3#5911|4#5911",14.094935,"14#1166965|3#1449710","14#67645755|3#78996145","14#64147885|3#53268795",21.90909090909091,null,17.40909090909091]
[null,232,232,"2#17880|1#119200|3#5960|4#5960",14.168344,"14#1185680|3#1473260","14#68812720|3#80445855","14#65151985|3#54196650",22,null,17.5]
[null,233,233,"2#18027|1#120180|3#6009|4#6009",14.241752,"14#1204745|3#1497095","14#69998400|3#81919115","14#66167600|3#55136590",22.09090909090909,null,17.59090909090909]
[null,234,234,"2#18174|1#121160|3#6058|4#6058",14.315161,"14#1224160|3#1521215","14#71203145|3#83416210","14#67194815|3#56088725",22.181818181818183,null,17.681818181818183]
[null,235,235,"2#18321|1#122140|3#6107|4#6107",{"v":14.38857,"d":"14.388570"},"14#1243940|3#1545625","14#72427305|3#84937425","14#68233715|3#57053155",22.272727272727273,null,17.772727272727273]
[null,236,236,"2#18471|1#123140|3#6157|4#6157",14.461978,"14#1264080|3#1570325","14#73671245|3#86483050","14#69284386|3#58029985",22.363636363636363,null,17.863636363636363]
[null,237,237,"2#18621|1#124140|3#6207|4#6207",14.535387,"14#1284600|3#1595320","14#74935325|3#88053375","14#70346914|3#59019325",22.454545454545453,null,17.954545454545453]
[null,238,238,"2#18771|1#125140|3#6257|4#6257",14.608796,"14#1305495|3#1620610","14#76219925|3#89648695","14#71421386|3#60021280",22.545454545454547,null,18.045454545454547]
[null,239,239,"2#18921|1#126140|3#6307|4#6307",14.682204,"14#1326775|3#1646200","14#77525420|3#91269305","14#72507888|3#61035955",22.636363636363637,null,18.136363636363637]
[null,240,240,"2#19071|1#127140|3#6357|4#6357",14.755613,"14#1348445|3#1672085","14#78852195|3#92915505","14#73606507|3#62063460",22.727272727272727,null,18.227272727272727]
[null,241,241,"2#19224|1#128160|3#6408|4#6408",14.829022,"14#1370515|3#1698275","14#80200640|3#94587590","14#74717331|3#63103900",22.818181818181817,null,18.318181818181817]
[null,242,242,"2#19377|1#129180|3#6459|4#6459",{"v":14.90243,"d":"14.902430"},"14#1392985|3#1724770","14#81571155|3#96285865","14#75840447|3#64157385",22.90909090909091,null,18.40909090909091]
[null,243,243,"2#19530|1#130200|3#6510|4#6510",14.975839,"14#1415870|3#1751575","14#82964140|3#98010635","14#76975943|3#65224025",23,null,18.5]
[null,244,244,"2#19683|1#131220|3#6561|4#6561",15.049248,"14#1439170|3#1778685","14#84380010|3#99762210","14#78123907|3#66303925",23.09090909090909,null,18.59090909090909]
[null,245,245,"2#19836|1#132240|3#6612|4#6612",15.122656,"14#1462895|3#1806110","14#85819180|3#101540895","14#79284428|3#67397195",23.181818181818183,null,18.681818181818183]
[null,246,246,"2#19992|1#133280|3#6664|4#6664",15.196065,"14#1487050|3#1833850","14#87282075|3#103347005","14#80457595|3#68503950",23.272727272727273,null,18.772727272727273]
[null,247,247,"2#20148|1#134320|3#6716|4#6716",15.269474,"14#1511645|3#1861905","14#88769125|3#105180855","14#81643497|3#69624295",23.363636363636363,null,18.863636363636363]
[null,248,248,"2#20304|1#135360|3#6768|4#6768",15.342882,"14#1536680|3#1890280","14#90280770|3#107042760","14#82842223|3#70758345",23.454545454545453,null,18.954545454545453]
[null,249,249,"2#20460|1#136400|3#6820|4#6820",15.416291,"14#1562170|3#1918975","14#91817450|3#108933040","14#84053863|3#71906210",23.545454545454547,null,19.045454545454547]
[null,250,250,"2#20616|1#137440|3#6872|4#6872",{"v":15.4897,"d":"15.489700"},"14#1588110|3#1947995","14#93379620|3#110852015","14#85278507|3#73068000",23.636363636363637,null,19.136363636363637]
[null,251,251,"2#20775|1#138500|3#6925|4#6925",15.560558,"14#1614520|3#1977340","14#94967730|3#112800010","14#86516245|3#74243830",{"$f":"(C258+10)/11","v":23.727272727272727},null,{"$f":"I258-4.5","v":19.227272727272727}]
[null,252,252,"2#20934|1#139560|3#6978|4#6978",15.631415,"14#1641400|3#2007015","14#96582250|3#114777350","14#87767168|3#75433810",23.818181818181817,null,19.318181818181817]
[null,253,253,"2#21093|1#140620|3#7031|4#7031",15.702273,"14#1668755|3#2037020","14#98223650|3#116784365","14#89031367|3#76638055",23.90909090909091,null,19.40909090909091]
[null,254,254,"2#21252|1#141680|3#7084|4#7084",15.773131,"14#1696600|3#2067360","14#99892405|3#118821385","14#90308933|3#77856675",24,null,19.5]
[null,255,255,"2#21411|1#142740|3#7137|4#7137",15.843989,"14#1724930|3#2098035","14#101589005|3#120888745","14#91599957|3#79089790",24.09090909090909,null,19.59090909090909]
[null,256,256,"2#21573|1#143820|3#7191|4#7191",15.914847,"14#1753765|3#2129045","14#103313935|3#122986780","14#92904531|3#80337510",24.181818181818183,null,19.681818181818183]
[null,257,257,"2#21735|1#144900|3#7245|4#7245",15.985705,"14#1783105|3#2160400","14#105067700|3#125115825","14#94222747|3#81599950",24.272727272727273,null,19.772727272727273]
[null,258,258,"2#21897|1#145980|3#7299|4#7299",16.056563,"14#1812955|3#2192100","14#106850805|3#127276225","14#95554698|3#82877225",24.363636363636363,null,19.863636363636363]
[null,259,259,"2#22059|1#147060|3#7353|4#7353",16.127421,"14#1843325|3#2224145","14#108663760|3#129468325","14#96900476|3#84169455",24.454545454545453,null,19.954545454545453]
[null,260,260,"2#22221|1#148140|3#7407|4#7407",16.198279,"14#1874225|3#2256535","14#110507085|3#131692470","14#98260174|3#85476755",24.545454545454547,null,20.045454545454547]
[null,261,261,"2#22386|1#149240|3#7462|4#7462",16.269137,"14#1905660|3#2289280","14#112381310|3#133949005","14#99633886|3#86799240",24.636363636363637,null,20.136363636363637]
[null,262,262,"2#22551|1#150340|3#7517|4#7517",16.339995,"14#1937635|3#2322375","14#114286970|3#136238285","14#101021705|3#88137025",24.727272727272727,null,20.227272727272727]
[null,263,263,"2#22716|1#151440|3#7572|4#7572",16.410853,"14#1970160|3#2355825","14#116224605|3#138560660","14#102423725|3#89490235",24.818181818181817,null,20.318181818181817]
[null,264,264,"2#22881|1#152540|3#7627|4#7627",{"v":16.48171,"d":"16.481710"},"14#2003240|3#2389635","14#118194765|3#140916485","14#103840040|3#90858980",24.90909090909091,null,20.40909090909091]
[null,265,265,"2#23046|1#153640|3#7682|4#7682",16.552568,"14#2036880|3#2423810","14#120198005|3#143306120","14#105270745|3#92243385",25,null,20.5]
[null,266,266,"2#23214|1#154760|3#7738|4#7738",16.623426,"14#2071095|3#2458345","14#122234885|3#145729930","14#106715935|3#93643565",25.09090909090909,null,20.59090909090909]
[null,267,267,"2#23382|1#155880|3#7794|4#7794",16.694284,"14#2105890|3#2493245","14#124305980|3#148188275","14#108175705|3#95059640",25.181818181818183,null,20.681818181818183]
[null,268,268,"2#23550|1#157000|3#7850|4#7850",16.765142,"14#2141270|3#2528515","14#126411870|3#150681520","14#109650150|3#96491730",25.272727272727273,null,20.772727272727273]
[null,269,269,"2#23718|1#158120|3#7906|4#7906",{"v":16.836,"d":"16.836000"},"14#2177240|3#2564155","14#128553140|3#153210035","14#111139366|3#97939955",25.363636363636363,null,20.863636363636363]
[null,270,270,"2#23886|1#159240|3#7962|4#7962",16.906858,"14#2213815|3#2600170","14#130730380|3#155774190","14#112643449|3#99404440",25.454545454545453,null,20.954545454545453]
[null,271,271,"2#24057|1#160380|3#8019|4#8019",16.977716,"14#2251000|3#2636565","14#132944195|3#158374360","14#114162495|3#100885300",25.545454545454547,null,21.045454545454547]
[null,272,272,"2#24228|1#161520|3#8076|4#8076",17.048574,"14#2288800|3#2673335","14#135195195|3#161010925","14#115696601|3#102382660",25.636363636363637,null,21.136363636363637]
[null,273,273,"2#24399|1#162660|3#8133|4#8133",17.119432,"14#2327220|3#2710485","14#137483995|3#163684260","14#117245864|3#103896645",25.727272727272727,null,21.227272727272727]
[null,274,274,"2#24570|1#163800|3#8190|4#8190",{"v":17.19029,"d":"17.190290"},"14#2366275|3#2748020","14#139811215|3#166394745","14#118810381|3#105427375",25.818181818181817,null,21.318181818181817]
[null,275,275,"2#24741|1#164940|3#8247|4#8247",17.261148,"14#2405970|3#2785945","14#142177490|3#169142765","14#120390249|3#106974970",25.90909090909091,null,21.40909090909091]
[null,276,276,"2#24915|1#166100|3#8305|4#8305",17.332005,"14#2446315|3#2824260","14#144583460|3#171928710","14#121985566|3#108539555",26,null,21.5]
[null,277,277,"2#25089|1#167260|3#8363|4#8363",17.402863,"14#2487310|3#2862965","14#147029775|3#174752970","14#123596430|3#110121255",26.09090909090909,null,21.59090909090909]
[null,278,278,"2#25263|1#168420|3#8421|4#8421",17.473721,"14#2528970|3#2902065","14#149517085|3#177615935","14#125222940|3#111720195",26.181818181818183,null,21.681818181818183]
[null,279,279,"2#25437|1#169580|3#8479|4#8479",17.544579,"14#2571305|3#2941560","14#152046055|3#180518000","14#126865194|3#113336500",26.272727272727273,null,21.772727272727273]
[null,280,280,"2#25611|1#170740|3#8537|4#8537",17.615437,"14#2614315|3#2981455","14#154617360|3#183459560","14#128523291|3#114970295",26.363636363636363,null,21.863636363636363]
[null,281,281,"2#25788|1#171920|3#8596|4#8596",17.686295,"14#2658015|3#3021755","14#157231675|3#186441015","14#130197331|3#116621705",26.454545454545453,null,21.954545454545453]
[null,282,282,"2#25965|1#173100|3#8655|4#8655",17.757153,"14#2702405|3#3062460","14#159889690|3#189462770","14#131887413|3#118290855",26.545454545454547,null,22.045454545454547]
[null,283,283,"2#26142|1#174280|3#8714|4#8714",17.828011,"14#2747500|3#3103575","14#162592095|3#192525230","14#133593637|3#119977875",26.636363636363637,null,22.136363636363637]
[null,284,284,"2#26319|1#175460|3#8773|4#8773",17.898869,"14#2793310|3#3145100","14#165339595|3#195628805","14#135316103|3#121682890",26.727272727272727,null,22.227272727272727]
[null,285,285,"2#26496|1#176640|3#8832|4#8832",17.969727,"14#2839835|3#3187040","14#168132905|3#198773905","14#137054912|3#123406030",26.818181818181817,null,22.318181818181817]
[null,286,286,"2#26676|1#177840|3#8892|4#8892",18.040585,"14#2887090|3#3229395","14#170972740|3#201960945","14#138810165|3#125147420",26.90909090909091,null,22.40909090909091]
[null,287,287,"2#26856|1#179040|3#8952|4#8952",18.111443,"14#2935080|3#3272165","14#173859830|3#205190340","14#140581963|3#126907190",27,null,22.5]
[null,288,288,"2#27036|1#180240|3#9012|4#9012",{"v":18.1823,"d":"18.182300"},"14#2983815|3#3315360","14#176794910|3#208462505","14#142370407|3#128685465",27.09090909090909,null,22.59090909090909]
[null,289,289,"2#27216|1#181440|3#9072|4#9072",18.253158,"14#3033305|3#3358980","14#179778725|3#211777865","14#144175599|3#130482380",27.181818181818183,null,22.681818181818183]
[null,290,290,"2#27396|1#182640|3#9132|4#9132",18.324016,"14#3083555|3#3403030","14#182812030|3#215136845","14#145997641|3#132298065",27.272727272727273,null,22.772727272727273]
[null,291,291,"2#27579|1#183860|3#9193|4#9193",18.394874,"14#3134570|3#3447505","14#185895585|3#218539875","14#147836635|3#134132645",27.363636363636363,null,22.863636363636363]
[null,292,292,"2#27762|1#185080|3#9254|4#9254",18.465732,"14#3186370|3#3492415","14#189030155|3#221987380","14#149692684|3#135986255",27.454545454545453,null,22.954545454545453]
[null,293,293,"2#27945|1#186300|3#9315|4#9315",{"v":18.53659,"d":"18.536590"},"14#3238950|3#3537765","14#192216525|3#225479795","14#151565891|3#137859025",27.545454545454547,null,23.045454545454547]
[null,294,294,"2#28128|1#187520|3#9376|4#9376",18.607448,"14#3292325|3#3583545","14#195455475|3#229017560","14#153456359|3#139751085",27.636363636363637,null,23.136363636363637]
[null,295,295,"2#28311|1#188740|3#9437|4#9437",18.678306,"14#3346505|3#3629775","14#198747800|3#232601105","14#155364191|3#141662570",27.727272727272727,null,23.227272727272727]
[null,296,296,"2#28497|1#189980|3#9499|4#9499",18.749164,"14#3401500|3#3676440","14#202094305|3#236230880","14#157289491|3#143593610",27.818181818181817,null,23.318181818181817]
[null,297,297,"2#28683|1#191220|3#9561|4#9561",18.820022,"14#3457310|3#3723560","14#205495805|3#239907320","14#159232363|3#145544340",27.90909090909091,null,23.40909090909091]
[null,298,298,"2#28869|1#192460|3#9623|4#9623",{"v":18.89088,"d":"18.890880"},"14#3513955|3#3771125","14#208953115|3#243630880","14#161192912|3#147514890",28,null,23.5]
[null,299,299,"2#29055|1#193700|3#9685|4#9685",18.961738,"14#3571435|3#3819145","14#212467070|3#247402005","14#163171242|3#149505400",28.09090909090909,null,23.59090909090909]
[null,300,300,"2#29241|1#194940|3#9747|4#9747",19.032595,"14#3629760|3#3867620","14#216038505|3#251221150","14#165167458|3#151516000",28.181818181818183,null,23.681818181818183]
[null,{"$f":"B307+1","v":301},{"$f":"C307+1","v":301},"2#29430|1#196200|3#9810|4#9810",19.103453,"14#3688945|3#3916550","14#219668265|3#255088770","14#167181666|3#153546825"]
[null,{"$f":"B308+1","v":302},{"$f":"C308+1","v":302},"2#29619|1#197460|3#9873|4#9873",19.174311,"14#3748990|3#3965945","14#223357210|3#259005320","14#169213971|3#155598010"]
[null,303,303,"2#29808|1#198720|3#9936|4#9936",19.245169,"14#3809915|3#4015800","14#227106200|3#262971265","14#171264479|3#157669690"]
[null,304,304,"2#29997|1#199980|3#9999|4#9999",19.316027,"14#3871715|3#4066125","14#230916115|3#266987065","14#173333296|3#159762005"]
[null,305,305,"2#30186|1#201240|3#10062|4#10062",19.386885,"14#3934410|3#4116920","14#234787830|3#271053190","14#175420529|3#161875090"]
[null,306,306,"2#30378|1#202520|3#10126|4#10126",19.457743,"14#3998005|3#4168190","14#238722240|3#275170110","14#177526285|3#164009080"]
[null,307,307,"2#30570|1#203800|3#10190|4#10190",19.528601,"14#4062510|3#4219930","14#242720245|3#279338300","14#179650671|3#166164110"]
[null,308,308,"2#30762|1#205080|3#10254|4#10254",19.599459,"14#4127935|3#4272150","14#246782755|3#283558230","14#181793794|3#168340325"]
[null,309,309,"2#30954|1#206360|3#10318|4#10318",19.670317,"14#4194285|3#4324855","14#250910690|3#287830380","14#183955762|3#170537860"]
[null,310,310,"2#31146|1#207640|3#10382|4#10382",19.741175,"14#4261570|3#4378040","14#255104975|3#292155235","14#186136683|3#172756855"]
[null,311,311,"2#31341|1#208940|3#10447|4#10447",19.812033,"14#4329805|3#4431715","14#259366545|3#296533275","14#188336665|3#174997445"]
[null,312,312,"2#31536|1#210240|3#10512|4#10512",19.88289,"14#4398990|3#4485880","14#263696350|3#300964990","14#190555817|3#177259775"]
[null,313,313,"2#31731|1#211540|3#10577|4#10577",19.953748,"14#4469145|3#4540540","14#268095340|3#305450870","14#192794248|3#179543980"]
[null,314,314,"2#31926|1#212840|3#10642|4#10642",20.024606,"14#4540270|3#4595695","14#272564485|3#309991410","14#195052067|3#181850205"]
[null,315,315,"2#32121|1#214140|3#10707|4#10707",20.095464,"14#4612380|3#4651345","14#277104755|3#314587105","14#197329383|3#184178590"]
[null,316,316,"2#32319|1#215460|3#10773|4#10773",20.166322,"14#4685485|3#4707505","14#281717135|3#319238450","14#199626306|3#186529275"]
[null,317,317,"2#32517|1#216780|3#10839|4#10839",20.23718,"14#4759590|3#4764165","14#286402620|3#323945955","14#201942946|3#188902405"]
[null,318,318,"2#32715|1#218100|3#10905|4#10905",20.308038,"14#4834705|3#4821335","14#291162210|3#328710120","14#204279414|3#191298120"]
[null,319,319,"2#32913|1#219420|3#10971|4#10971",20.378896,"14#4910840|3#4879015","14#295996915|3#333531455","14#206635820|3#193716565"]
[null,320,320,"2#33111|1#220740|3#11037|4#11037",20.449754,"14#4988010|3#4937210","14#300907755|3#338410470","14#209012275|3#196157880"]
[null,321,321,"2#33312|1#222080|3#11104|4#11104",20.520612,"14#5066220|3#4995920","14#305895765|3#343347680","14#211408891|3#198622210"]
[null,322,322,"2#33513|1#223420|3#11171|4#11171",20.59147,"14#5145475|3#5055155","14#310961985|3#348343600","14#213825779|3#201109700"]
[null,323,323,"2#33714|1#224760|3#11238|4#11238",20.662328,"14#5225795|3#5114910","14#316107460|3#353398755","14#216263051|3#203620495"]
[null,324,324,"2#33915|1#226100|3#11305|4#11305",20.733186,"14#5307180|3#5175190","14#321333255|3#358513665","14#218720819|3#206154740"]
[null,325,325,"2#34116|1#227440|3#11372|4#11372",20.804043,"14#5389645|3#5236005","14#326640435|3#363688855","14#221199196|3#208712580"]
[null,326,326,"2#34320|1#228800|3#11440|4#11440",20.874901,"14#5473200|3#5297345","14#332030080|3#368924860","14#223698295|3#211294165"]
[null,327,327,"2#34524|1#230160|3#11508|4#11508",20.945759,"14#5557855|3#5359225","14#337503280|3#374222205","14#226218229|3#213899635"]
[null,328,328,"2#34728|1#231520|3#11576|4#11576",21.016617,"14#5643620|3#5421645","14#343061135|3#379581430","14#228759111|3#216529140"]
[null,329,329,"2#34932|1#232880|3#11644|4#11644",21.087475,"14#5730500|3#5484605","14#348704755|3#385003075","14#231321055|3#219182830"]
[null,330,330,"2#35136|1#234240|3#11712|4#11712",21.158333,"14#5818510|3#5548115","14#354435255|3#390487680","14#233904175|3#221860850"]

{"sheet":"备注页","index":1,"n_rows":250,"n_cols":23,"rows_kept":250}
[14,500,null,3,60,null,{"$f":"[2]!SUMSTRING(A1:B1,\"#\")","v":{"$error":"#NAME?"}},null,null,{"$f":"[2]!SUMSTRING(D1:E1,\"#\")","v":{"$error":"#NAME?"}},null,{"$f":"[2]!SUMSTRING(G1:J1,\"|\")","v":{"$error":"#NAME?"}},null,14,{"$f":"SUM($B$1:B1)*0.6","v":300},3,{"$f":"SUM($E$1:E1)*0.6","v":36},null,{"$f":"[2]!SUMSTRING(N1:O1,\"#\")","v":{"$error":"#NAME?"}},null,{"$f":"[2]!SUMSTRING(P1:Q1,\"#\")","v":{"$error":"#NAME?"}},null,{"$f":"[2]!SUMSTRING(S1:U1,\"|\")","v":{"$error":"#NAME?"}}]
[14,600,null,3,70,null,{"$f":"[2]!SUMSTRING(A2:B2,\"#\")","v":{"$error":"#NAME?"}},null,null,{"$f":"[2]!SUMSTRING(D2:E2,\"#\")","v":{"$error":"#NAME?"}},null,{"$f":"[2]!SUMSTRING(G2:J2,\"|\")","v":{"$error":"#NAME?"}},null,14,{"$f":"SUM($B$1:B2)*0.6","v":660},3,{"$f":"SUM($E$1:E2)*0.6","v":78},null,{"$f":"[2]!SUMSTRING(N2:O2,\"#\")","v":{"$error":"#NAME?"}},null,{"$f":"[2]!SUMSTRING(P2:Q2,\"#\")","v":{"$error":"#NAME?"}},null,{"$f":"[2]!SUMSTRING(S2:U2,\"|\")","v":{"$error":"#NAME?"}}]
[14,700,null,3,80,null,{"$f":"[2]!SUMSTRING(A3:B3,\"#\")","v":{"$error":"#NAME?"}},null,null,{"$f":"[2]!SUMSTRING(D3:E3,\"#\")","v":{"$error":"#NAME?"}},null,{"$f":"[2]!SUMSTRING(G3:J3,\"|\")","v":{"$error":"#NAME?"}},null,14,{"$f":"SUM($B$1:B3)*0.6","v":1080},3,{"$f":"SUM($E$1:E3)*0.6","v":126},null,{"$f":"[2]!SUMSTRING(N3:O3,\"#\")","v":{"$error":"#NAME?"}},null,{"$f":"[2]!SUMSTRING(P3:Q3,\"#\")","v":{"$error":"#NAME?"}},null,{"$f":"[2]!SUMSTRING(S3:U3,\"|\")","v":{"$error":"#NAME?"}}]
[14,800,null,3,90,null,{"$f":"[2]!SUMSTRING(A4:B4,\"#\")","v":{"$error":"#NAME?"}},null,null,{"$f":"[2]!SUMSTRING(D4:E4,\"#\")","v":{"$error":"#NAME?"}},null,{"$f":"[2]!SUMSTRING(G4:J4,\"|\")","v":{"$error":"#NAME?"}},null,14,{"$f":"SUM($B$1:B4)*0.6","v":1560},3,{"$f":"SUM($E$1:E4)*0.6","v":180},null,{"$f":"[2]!SUMSTRING(N4:O4,\"#\")","v":{"$error":"#NAME?"}},null,{"$f":"[2]!SUMSTRING(P4:Q4,\"#\")","v":{"$error":"#NAME?"}},null,{"$f":"[2]!SUMSTRING(S4:U4,\"|\")","v":{"$error":"#NAME?"}}]
[14,900,null,3,100,null,{"$f":"[2]!SUMSTRING(A5:B5,\"#\")","v":{"$error":"#NAME?"}},null,null,{"$f":"[2]!SUMSTRING(D5:E5,\"#\")","v":{"$error":"#NAME?"}},null,{"$f":"[2]!SUMSTRING(G5:J5,\"|\")","v":{"$error":"#NAME?"}},null,14,{"$f":"SUM($B$1:B5)*0.6","v":2100},3,{"$f":"SUM($E$1:E5)*0.6","v":240},null,{"$f":"[2]!SUMSTRING(N5:O5,\"#\")","v":{"$error":"#NAME?"}},null,{"$f":"[2]!SUMSTRING(P5:Q5,\"#\")","v":{"$error":"#NAME?"}},null,{"$f":"[2]!SUMSTRING(S5:U5,\"|\")","v":{"$error":"#NAME?"}}]
[14,1000,null,3,110,null,{"$f":"[2]!SUMSTRING(A6:B6,\"#\")","v":{"$error":"#NAME?"}},null,null,{"$f":"[2]!SUMSTRING(D6:E6,\"#\")","v":{"$error":"#NAME?"}},null,{"$f":"[2]!SUMSTRING(G6:J6,\"|\")","v":{"$error":"#NAME?"}},null,14,{"$f":"SUM($B$1:B6)*0.6","v":2700},3,{"$f":"SUM($E$1:E6)*0.6","v":306},null,{"$f":"[2]!SUMSTRING(N6:O6,\"#\")","v":{"$error":"#NAME?"}},null,{"$f":"[2]!SUMSTRING(P6:Q6,\"#\")","v":{"$error":"#NAME?"}},null,{"$f":"[2]!SUMSTRING(S6:U6,\"|\")","v":{"$error":"#NAME?"}}]
[14,1100,null,3,120,null,{"$f":"[2]!SUMSTRING(A7:B7,\"#\")","v":{"$error":"#NAME?"}},null,null,{"$f":"[2]!SUMSTRING(D7:E7,\"#\")","v":{"$error":"#NAME?"}},null,{"$f":"[2]!SUMSTRING(G7:J7,\"|\")","v":{"$error":"#NAME?"}},null,14,{"$f":"SUM($B$1:B7)*0.6","v":3360},3,{"$f":"SUM($E$1:E7)*0.6","v":378},null,{"$f":"[2]!SUMSTRING(N7:O7,\"#\")","v":{"$error":"#NAME?"}},null,{"$f":"[2]!SUMSTRING(P7:Q7,\"#\")","v":{"$error":"#NAME?"}},null,{"$f":"[2]!SUMSTRING(S7:U7,\"|\")","v":{"$error":"#NAME?"}}]
[14,1200,null,3,130,null,{"$f":"[2]!SUMSTRING(A8:B8,\"#\")","v":{"$error":"#NAME?"}},null,null,{"$f":"[2]!SUMSTRING(D8:E8,\"#\")","v":{"$error":"#NAME?"}},null,{"$f":"[2]!SUMSTRING(G8:J8,\"|\")","v":{"$error":"#NAME?"}},null,14,{"$f":"SUM($B$1:B8)*0.6","v":4080},3,{"$f":"SUM($E$1:E8)*0.6","v":456},null,{"$f":"[2]!SUMSTRING(N8:O8,\"#\")","v":{"$error":"#NAME?"}},null,{"$f":"[2]!SUMSTRING(P8:Q8,\"#\")","v":{"$error":"#NAME?"}},null,{"$f":"[2]!SUMSTRING(S8:U8,\"|\")","v":{"$error":"#NAME?"}}]
[14,1300,null,3,140,null,{"$f":"[2]!SUMSTRING(A9:B9,\"#\")","v":{"$error":"#NAME?"}},null,null,{"$f":"[2]!SUMSTRING(D9:E9,\"#\")","v":{"$error":"#NAME?"}},null,{"$f":"[2]!SUMSTRING(G9:J9,\"|\")","v":{"$error":"#NAME?"}},null,14,{"$f":"SUM($B$1:B9)*0.6","v":4860},3,{"$f":"SUM($E$1:E9)*0.6","v":540},null,{"$f":"[2]!SUMSTRING(N9:O9,\"#\")","v":{"$error":"#NAME?"}},null,{"$f":"[2]!SUMSTRING(P9:Q9,\"#\")","v":{"$error":"#NAME?"}},null,{"$f":"[2]!SUMSTRING(S9:U9,\"|\")","v":{"$error":"#NAME?"}}]
[14,1400,null,3,150,null,{"$f":"[2]!SUMSTRING(A10:B10,\"#\")","v":{"$error":"#NAME?"}},null,null,{"$f":"[2]!SUMSTRING(D10:E10,\"#\")","v":{"$error":"#NAME?"}},null,{"$f":"[2]!SUMSTRING(G10:J10,\"|\")","v":{"$error":"#NAME?"}},null,14,{"$f":"SUM($B$1:B10)*0.6","v":5700},3,{"$f":"SUM($E$1:E10)*0.6","v":630},null,{"$f":"[2]!SUMSTRING(N10:O10,\"#\")","v":{"$error":"#NAME?"}},null,{"$f":"[2]!SUMSTRING(P10:Q10,\"#\")","v":{"$error":"#NAME?"}},null,{"$f":"[2]!SUMSTRING(S10:U10,\"|\")","v":{"$error":"#NAME?"}}]
[14,1500,null,3,160,null,{"$f":"[2]!SUMSTRING(A11:B11,\"#\")","v":{"$error":"#NAME?"}},null,null,{"$f":"[2]!SUMSTRING(D11:E11,\"#\")","v":{"$error":"#NAME?"}},null,{"$f":"[2]!SUMSTRING(G11:J11,\"|\")","v":{"$error":"#NAME?"}},null,14,{"$f":"SUM($B$1:B11)*0.6","v":6600},3,{"$f":"SUM($E$1:E11)*0.6","v":726},null,{"$f":"[2]!SUMSTRING(N11:O11,\"#\")","v":{"$error":"#NAME?"}},null,{"$f":"[2]!SUMSTRING(P11:Q11,\"#\")","v":{"$error":"#NAME?"}},null,{"$f":"[2]!SUMSTRING(S11:U11,\"|\")","v":{"$error":"#NAME?"}}]
[14,1600,null,3,170,null,{"$f":"[2]!SUMSTRING(A12:B12,\"#\")","v":{"$error":"#NAME?"}},null,null,{"$f":"[2]!SUMSTRING(D12:E12,\"#\")","v":{"$error":"#NAME?"}},null,{"$f":"[2]!SUMSTRING(G12:J12,\"|\")","v":{"$error":"#NAME?"}},null,14,{"$f":"SUM($B$1:B12)*0.6","v":7560},3,{"$f":"SUM($E$1:E12)*0.6","v":828},null,{"$f":"[2]!SUMSTRING(N12:O12,\"#\")","v":{"$error":"#NAME?"}},null,{"$f":"[2]!SUMSTRING(P12:Q12,\"#\")","v":{"$error":"#NAME?"}},null,{"$f":"[2]!SUMSTRING(S12:U12,\"|\")","v":{"$error":"#NAME?"}}]
[14,1700,null,3,180,null,{"$f":"[2]!SUMSTRING(A13:B13,\"#\")","v":{"$error":"#NAME?"}},null,null,{"$f":"[2]!SUMSTRING(D13:E13,\"#\")","v":{"$error":"#NAME?"}},null,{"$f":"[2]!SUMSTRING(G13:J13,\"|\")","v":{"$error":"#NAME?"}},null,14,{"$f":"SUM($B$1:B13)*0.6","v":8580},3,{"$f":"SUM($E$1:E13)*0.6","v":936},null,{"$f":"[2]!SUMSTRING(N13:O13,\"#\")","v":{"$error":"#NAME?"}},null,{"$f":"[2]!SUMSTRING(P13:Q13,\"#\")","v":{"$error":"#NAME?"}},null,{"$f":"[2]!SUMSTRING(S13:U13,\"|\")","v":{"$error":"#NAME?"}}]
[14,1800,null,3,190,null,{"$f":"[2]!SUMSTRING(A14:B14,\"#\")","v":{"$error":"#NAME?"}},null,null,{"$f":"[2]!SUMSTRING(D14:E14,\"#\")","v":{"$error":"#NAME?"}},null,{"$f":"[2]!SUMSTRING(G14:J14,\"|\")","v":{"$error":"#NAME?"}},null,14,{"$f":"SUM($B$1:B14)*0.6","v":9660},3,{"$f":"SUM($E$1:E14)*0.6","v":1050},null,{"$f":"[2]!SUMSTRING(N14:O14,\"#\")","v":{"$error":"#NAME?"}},null,{"$f":"[2]!SUMSTRING(P14:Q14,\"#\")","v":{"$error":"#NAME?"}},null,{"$f":"[2]!SUMSTRING(S14:U14,\"|\")","v":{"$error":"#NAME?"}}]
[14,1900,null,3,200,null,{"$f":"[2]!SUMSTRING(A15:B15,\"#\")","v":{"$error":"#NAME?"}},null,null,{"$f":"[2]!SUMSTRING(D15:E15,\"#\")","v":{"$error":"#NAME?"}},null,{"$f":"[2]!SUMSTRING(G15:J15,\"|\")","v":{"$error":"#NAME?"}},null,14,{"$f":"SUM($B$1:B15)*0.6","v":10800},3,{"$f":"SUM($E$1:E15)*0.6","v":1170},null,{"$f":"[2]!SUMSTRING(N15:O15,\"#\")","v":{"$error":"#NAME?"}},null,{"$f":"[2]!SUMSTRING(P15:Q15,\"#\")","v":{"$error":"#NAME?"}},null,{"$f":"[2]!SUMSTRING(S15:U15,\"|\")","v":{"$error":"#NAME?"}}]
[14,2000,null,3,210,null,{"$f":"[2]!SUMSTRING(A16:B16,\"#\")","v":{"$error":"#NAME?"}},null,null,{"$f":"[2]!SUMSTRING(D16:E16,\"#\")","v":{"$error":"#NAME?"}},null,{"$f":"[2]!SUMSTRING(G16:J16,\"|\")","v":{"$error":"#NAME?"}},null,14,{"$f":"SUM($B$1:B16)*0.6","v":12000},3,{"$f":"SUM($E$1:E16)*0.6","v":1296},null,{"$f":"[2]!SUMSTRING(N16:O16,\"#\")","v":{"$error":"#NAME?"}},null,{"$f":"[2]!SUMSTRING(P16:Q16,\"#\")","v":{"$error":"#NAME?"}},null,{"$f":"[2]!SUMSTRING(S16:U16,\"|\")","v":{"$error":"#NAME?"}}]
[14,2100,null,3,220,null,{"$f":"[2]!SUMSTRING(A17:B17,\"#\")","v":{"$error":"#NAME?"}},null,null,{"$f":"[2]!SUMSTRING(D17:E17,\"#\")","v":{"$error":"#NAME?"}},null,{"$f":"[2]!SUMSTRING(G17:J17,\"|\")","v":{"$error":"#NAME?"}},null,14,{"$f":"SUM($B$1:B17)*0.6","v":13260},3,{"$f":"SUM($E$1:E17)*0.6","v":1428},null,{"$f":"[2]!SUMSTRING(N17:O17,\"#\")","v":{"$error":"#NAME?"}},null,{"$f":"[2]!SUMSTRING(P17:Q17,\"#\")","v":{"$error":"#NAME?"}},null,{"$f":"[2]!SUMSTRING(S17:U17,\"|\")","v":{"$error":"#NAME?"}}]
[14,2200,null,3,230,null,{"$f":"[2]!SUMSTRING(A18:B18,\"#\")","v":{"$error":"#NAME?"}},null,null,{"$f":"[2]!SUMSTRING(D18:E18,\"#\")","v":{"$error":"#NAME?"}},null,{"$f":"[2]!SUMSTRING(G18:J18,\"|\")","v":{"$error":"#NAME?"}},null,14,{"$f":"SUM($B$1:B18)*0.6","v":14580},3,{"$f":"SUM($E$1:E18)*0.6","v":1566},null,{"$f":"[2]!SUMSTRING(N18:O18,\"#\")","v":{"$error":"#NAME?"}},null,{"$f":"[2]!SUMSTRING(P18:Q18,\"#\")","v":{"$error":"#NAME?"}},null,{"$f":"[2]!SUMSTRING(S18:U18,\"|\")","v":{"$error":"#NAME?"}}]
[14,2300,null,3,240,null,{"$f":"[2]!SUMSTRING(A19:B19,\"#\")","v":{"$error":"#NAME?"}},null,null,{"$f":"[2]!SUMSTRING(D19:E19,\"#\")","v":{"$error":"#NAME?"}},null,{"$f":"[2]!SUMSTRING(G19:J19,\"|\")","v":{"$error":"#NAME?"}},null,14,{"$f":"SUM($B$1:B19)*0.6","v":15960},3,{"$f":"SUM($E$1:E19)*0.6","v":1710},null,{"$f":"[2]!SUMSTRING(N19:O19,\"#\")","v":{"$error":"#NAME?"}},null,{"$f":"[2]!SUMSTRING(P19:Q19,\"#\")","v":{"$error":"#NAME?"}},null,{"$f":"[2]!SUMSTRING(S19:U19,\"|\")","v":{"$error":"#NAME?"}}]
[14,2400,null,3,250,null,{"$f":"[2]!SUMSTRING(A20:B20,\"#\")","v":{"$error":"#NAME?"}},null,null,{"$f":"[2]!SUMSTRING(D20:E20,\"#\")","v":{"$error":"#NAME?"}},null,{"$f":"[2]!SUMSTRING(G20:J20,\"|\")","v":{"$error":"#NAME?"}},null,14,{"$f":"SUM($B$1:B20)*0.6","v":17400},3,{"$f":"SUM($E$1:E20)*0.6","v":1860},null,{"$f":"[2]!SUMSTRING(N20:O20,\"#\")","v":{"$error":"#NAME?"}},null,{"$f":"[2]!SUMSTRING(P20:Q20,\"#\")","v":{"$error":"#NAME?"}},null,{"$f":"[2]!SUMSTRING(S20:U20,\"|\")","v":{"$error":"#NAME?"}}]
[14,2500,null,3,260,null,{"$f":"[2]!SUMSTRING(A21:B21,\"#\")","v":{"$error":"#NAME?"}},null,null,{"$f":"[2]!SUMSTRING(D21:E21,\"#\")","v":{"$error":"#NAME?"}},null,{"$f":"[2]!SUMSTRING(G21:J21,\"|\")","v":{"$error":"#NAME?"}},null,14,{"$f":"SUM($B$1:B21)*0.6","v":18900},3,{"$f":"SUM($E$1:E21)*0.6","v":2016},null,{"$f":"[2]!SUMSTRING(N21:O21,\"#\")","v":{"$error":"#NAME?"}},null,{"$f":"[2]!SUMSTRING(P21:Q21,\"#\")","v":{"$error":"#NAME?"}},null,{"$f":"[2]!SUMSTRING(S21:U21,\"|\")","v":{"$error":"#NAME?"}}]
[14,2600,null,3,270,null,{"$f":"[2]!SUMSTRING(A22:B22,\"#\")","v":{"$error":"#NAME?"}},null,null,{"$f":"[2]!SUMSTRING(D22:E22,\"#\")","v":{"$error":"#NAME?"}},null,{"$f":"[2]!SUMSTRING(G22:J22,\"|\")","v":{"$error":"#NAME?"}},null,14,{"$f":"SUM($B$1:B22)*0.6","v":20460},3,{"$f":"SUM($E$1:E22)*0.6","v":2178},null,{"$f":"[2]!SUMSTRING(N22:O22,\"#\")","v":{"$error":"#NAME?"}},null,{"$f":"[2]!SUMSTRING(P22:Q22,\"#\")","v":{"$error":"#NAME?"}},null,{"$f":"[2]!SUMSTRING(S22:U22,\"|\")","v":{"$error":"#NAME?"}}]
[14,2700,null,3,280,null,{"$f":"[2]!SUMSTRING(A23:B23,\"#\")","v":{"$error":"#NAME?"}},null,null,{"$f":"[2]!SUMSTRING(D23:E23,\"#\")","v":{"$error":"#NAME?"}},null,{"$f":"[2]!SUMSTRING(G23:J23,\"|\")","v":{"$error":"#NAME?"}},null,14,{"$f":"SUM($B$1:B23)*0.6","v":22080},3,{"$f":"SUM($E$1:E23)*0.6","v":2346},null,{"$f":"[2]!SUMSTRING(N23:O23,\"#\")","v":{"$error":"#NAME?"}},null,{"$f":"[2]!SUMSTRING(P23:Q23,\"#\")","v":{"$error":"#NAME?"}},null,{"$f":"[2]!SUMSTRING(S23:U23,\"|\")","v":{"$error":"#NAME?"}}]
[14,2800,null,3,290,null,{"$f":"[2]!SUMSTRING(A24:B24,\"#\")","v":{"$error":"#NAME?"}},null,null,{"$f":"[2]!SUMSTRING(D24:E24,\"#\")","v":{"$error":"#NAME?"}},null,{"$f":"[2]!SUMSTRING(G24:J24,\"|\")","v":{"$error":"#NAME?"}},null,14,{"$f":"SUM($B$1:B24)*0.6","v":23760},3,{"$f":"SUM($E$1:E24)*0.6","v":2520},null,{"$f":"[2]!SUMSTRING(N24:O24,\"#\")","v":{"$error":"#NAME?"}},null,{"$f":"[2]!SUMSTRING(P24:Q24,\"#\")","v":{"$error":"#NAME?"}},null,{"$f":"[2]!SUMSTRING(S24:U24,\"|\")","v":{"$error":"#NAME?"}}]
[14,2900,null,3,300,null,{"$f":"[2]!SUMSTRING(A25:B25,\"#\")","v":{"$error":"#NAME?"}},null,null,{"$f":"[2]!SUMSTRING(D25:E25,\"#\")","v":{"$error":"#NAME?"}},null,{"$f":"[2]!SUMSTRING(G25:J25,\"|\")","v":{"$error":"#NAME?"}},null,14,{"$f":"SUM($B$1:B25)*0.6","v":25500},3,{"$f":"SUM($E$1:E25)*0.6","v":2700},null,{"$f":"[2]!SUMSTRING(N25:O25,\"#\")","v":{"$error":"#NAME?"}},null,{"$f":"[2]!SUMSTRING(P25:Q25,\"#\")","v":{"$error":"#NAME?"}},null,{"$f":"[2]!SUMSTRING(S25:U25,\"|\")","v":{"$error":"#NAME?"}}]
[14,3000,null,3,310,null,{"$f":"[2]!SUMSTRING(A26:B26,\"#\")","v":{"$error":"#NAME?"}},null,null,{"$f":"[2]!SUMSTRING(D26:E26,\"#\")","v":{"$error":"#NAME?"}},null,{"$f":"[2]!SUMSTRING(G26:J26,\"|\")","v":{"$error":"#NAME?"}},null,14,{"$f":"SUM($B$1:B26)*0.6","v":27300},3,{"$f":"SUM($E$1:E26)*0.6","v":2886},null,{"$f":"[2]!SUMSTRING(N26:O26,\"#\")","v":{"$error":"#NAME?"}},null,{"$f":"[2]!SUMSTRING(P26:Q26,\"#\")","v":{"$error":"#NAME?"}},null,{"$f":"[2]!SUMSTRING(S26:U26,\"|\")","v":{"$error":"#NAME?"}}]
[14,3100,null,3,320,null,{"$f":"[2]!SUMSTRING(A27:B27,\"#\")","v":{"$error":"#NAME?"}},null,null,{"$f":"[2]!SUMSTRING(D27:E27,\"#\")","v":{"$error":"#NAME?"}},null,{"$f":"[2]!SUMSTRING(G27:J27,\"|\")","v":{"$error":"#NAME?"}},null,14,{"$f":"SUM($B$1:B27)*0.6","v":29160},3,{"$f":"SUM($E$1:E27)*0.6","v":3078},null,{"$f":"[2]!SUMSTRING(N27:O27,\"#\")","v":{"$error":"#NAME?"}},null,{"$f":"[2]!SUMSTRING(P27:Q27,\"#\")","v":{"$error":"#NAME?"}},null,{"$f":"[2]!SUMSTRING(S27:U27,\"|\")","v":{"$error":"#NAME?"}}]
[14,3200,null,3,330,null,{"$f":"[2]!SUMSTRING(A28:B28,\"#\")","v":{"$error":"#NAME?"}},null,null,{"$f":"[2]!SUMSTRING(D28:E28,\"#\")","v":{"$error":"#NAME?"}},null,{"$f":"[2]!SUMSTRING(G28:J28,\"|\")","v":{"$error":"#NAME?"}},null,14,{"$f":"SUM($B$1:B28)*0.6","v":31080},3,{"$f":"SUM($E$1:E28)*0.6","v":3276},null,{"$f":"[2]!SUMSTRING(N28:O28,\"#\")","v":{"$error":"#NAME?"}},null,{"$f":"[2]!SUMSTRING(P28:Q28,\"#\")","v":{"$error":"#NAME?"}},null,{"$f":"[2]!SUMSTRING(S28:U28,\"|\")","v":{"$error":"#NAME?"}}]
[14,3300,null,3,340,null,{"$f":"[2]!SUMSTRING(A29:B29,\"#\")","v":{"$error":"#NAME?"}},null,null,{"$f":"[2]!SUMSTRING(D29:E29,\"#\")","v":{"$error":"#NAME?"}},null,{"$f":"[2]!SUMSTRING(G29:J29,\"|\")","v":{"$error":"#NAME?"}},null,14,{"$f":"SUM($B$1:B29)*0.6","v":33060},3,{"$f":"SUM($E$1:E29)*0.6","v":3480},null,{"$f":"[2]!SUMSTRING(N29:O29,\"#\")","v":{"$error":"#NAME?"}},null,{"$f":"[2]!SUMSTRING(P29:Q29,\"#\")","v":{"$error":"#NAME?"}},null,{"$f":"[2]!SUMSTRING(S29:U29,\"|\")","v":{"$error":"#NAME?"}}]
[14,3500,null,3,350,null,{"$f":"[2]!SUMSTRING(A30:B30,\"#\")","v":{"$error":"#NAME?"}},null,null,{"$f":"[2]!SUMSTRING(D30:E30,\"#\")","v":{"$error":"#NAME?"}},null,{"$f":"[2]!SUMSTRING(G30:J30,\"|\")","v":{"$error":"#NAME?"}},null,14,{"$f":"SUM($B$1:B30)*0.6","v":35160},3,{"$f":"SUM($E$1:E30)*0.6","v":3690},null,{"$f":"[2]!SUMSTRING(N30:O30,\"#\")","v":{"$error":"#NAME?"}},null,{"$f":"[2]!SUMSTRING(P30:Q30,\"#\")","v":{"$error":"#NAME?"}},null,{"$f":"[2]!SUMSTRING(S30:U30,\"|\")","v":{"$error":"#NAME?"}}]
[14,3700,null,3,360,null,{"$f":"[2]!SUMSTRING(A31:B31,\"#\")","v":{"$error":"#NAME?"}},null,null,{"$f":"[2]!SUMSTRING(D31:E31,\"#\")","v":{"$error":"#NAME?"}},null,{"$f":"[2]!SUMSTRING(G31:J31,\"|\")","v":{"$error":"#NAME?"}},null,14,{"$f":"SUM($B$1:B31)*0.6","v":37380},3,{"$f":"SUM($E$1:E31)*0.6","v":3906},null,{"$f":"[2]!SUMSTRING(N31:O31,\"#\")","v":{"$error":"#NAME?"}},null,{"$f":"[2]!SUMSTRING(P31:Q31,\"#\")","v":{"$error":"#NAME?"}},null,{"$f":"[2]!SUMSTRING(S31:U31,\"|\")","v":{"$error":"#NAME?"}}]
[14,3900,null,3,370,null,{"$f":"[2]!SUMSTRING(A32:B32,\"#\")","v":{"$error":"#NAME?"}},null,null,{"$f":"[2]!SUMSTRING(D32:E32,\"#\")","v":{"$error":"#NAME?"}},null,{"$f":"[2]!SUMSTRING(G32:J32,\"|\")","v":{"$error":"#NAME?"}},null,14,{"$f":"SUM($B$1:B32)*0.6","v":39720},3,{"$f":"SUM($E$1:E32)*0.6","v":4128},null,{"$f":"[2]!SUMSTRING(N32:O32,\"#\")","v":{"$error":"#NAME?"}},null,{"$f":"[2]!SUMSTRING(P32:Q32,\"#\")","v":{"$error":"#NAME?"}},null,{"$f":"[2]!SUMSTRING(S32:U32,\"|\")","v":{"$error":"#NAME?"}}]
[14,4100,null,3,380,null,{"$f":"[2]!SUMSTRING(A33:B33,\"#\")","v":{"$error":"#NAME?"}},null,null,{"$f":"[2]!SUMSTRING(D33:E33,\"#\")","v":{"$error":"#NAME?"}},null,{"$f":"[2]!SUMSTRING(G33:J33,\"|\")","v":{"$error":"#NAME?"}},null,14,{"$f":"SUM($B$1:B33)*0.6","v":42180},3,{"$f":"SUM($E$1:E33)*0.6","v":4356},null,{"$f":"[2]!SUMSTRING(N33:O33,\"#\")","v":{"$error":"#NAME?"}},null,{"$f":"[2]!SUMSTRING(P33:Q33,\"#\")","v":{"$error":"#NAME?"}},null,{"$f":"[2]!SUMSTRING(S33:U33,\"|\")","v":{"$error":"#NAME?"}}]
[14,4300,null,3,390,null,{"$f":"[2]!SUMSTRING(A34:B34,\"#\")","v":{"$error":"#NAME?"}},null,null,{"$f":"[2]!SUMSTRING(D34:E34,\"#\")","v":{"$error":"#NAME?"}},null,{"$f":"[2]!SUMSTRING(G34:J34,\"|\")","v":{"$error":"#NAME?"}},null,14,{"$f":"SUM($B$1:B34)*0.6","v":44760},3,{"$f":"SUM($E$1:E34)*0.6","v":4590},null,{"$f":"[2]!SUMSTRING(N34:O34,\"#\")","v":{"$error":"#NAME?"}},null,{"$f":"[2]!SUMSTRING(P34:Q34,\"#\")","v":{"$error":"#NAME?"}},null,{"$f":"[2]!SUMSTRING(S34:U34,\"|\")","v":{"$error":"#NAME?"}}]
[14,4500,null,3,400,null,{"$f":"[2]!SUMSTRING(A35:B35,\"#\")","v":{"$error":"#NAME?"}},null,null,{"$f":"[2]!SUMSTRING(D35:E35,\"#\")","v":{"$error":"#NAME?"}},null,{"$f":"[2]!SUMSTRING(G35:J35,\"|\")","v":{"$error":"#NAME?"}},null,14,{"$f":"SUM($B$1:B35)*0.6","v":47460},3,{"$f":"SUM($E$1:E35)*0.6","v":4830},null,{"$f":"[2]!SUMSTRING(N35:O35,\"#\")","v":{"$error":"#NAME?"}},null,{"$f":"[2]!SUMSTRING(P35:Q35,\"#\")","v":{"$error":"#NAME?"}},null,{"$f":"[2]!SUMSTRING(S35:U35,\"|\")","v":{"$error":"#NAME?"}}]
[14,4700,null,3,410,null,{"$f":"[2]!SUMSTRING(A36:B36,\"#\")","v":{"$error":"#NAME?"}},null,null,{"$f":"[2]!SUMSTRING(D36:E36,\"#\")","v":{"$error":"#NAME?"}},null,{"$f":"[2]!SUMSTRING(G36:J36,\"|\")","v":{"$error":"#NAME?"}},null,14,{"$f":"SUM($B$1:B36)*0.6","v":50280},3,{"$f":"SUM($E$1:E36)*0.6","v":5076},null,{"$f":"[2]!SUMSTRING(N36:O36,\"#\")","v":{"$error":"#NAME?"}},null,{"$f":"[2]!SUMSTRING(P36:Q36,\"#\")","v":{"$error":"#NAME?"}},null,{"$f":"[2]!SUMSTRING(S36:U36,\"|\")","v":{"$error":"#NAME?"}}]
[14,4900,null,3,420,null,{"$f":"[2]!SUMSTRING(A37:B37,\"#\")","v":{"$error":"#NAME?"}},null,null,{"$f":"[2]!SUMSTRING(D37:E37,\"#\")","v":{"$error":"#NAME?"}},null,{"$f":"[2]!SUMSTRING(G37:J37,\"|\")","v":{"$error":"#NAME?"}},null,14,{"$f":"SUM($B$1:B37)*0.6","v":53220},3,{"$f":"SUM($E$1:E37)*0.6","v":5328},null,{"$f":"[2]!SUMSTRING(N37:O37,\"#\")","v":{"$error":"#NAME?"}},null,{"$f":"[2]!SUMSTRING(P37:Q37,\"#\")","v":{"$error":"#NAME?"}},null,{"$f":"[2]!SUMSTRING(S37:U37,\"|\")","v":{"$error":"#NAME?"}}]
[14,5100,null,3,430,null,{"$f":"[2]!SUMSTRING(A38:B38,\"#\")","v":{"$error":"#NAME?"}},null,null,{"$f":"[2]!SUMSTRING(D38:E38,\"#\")","v":{"$error":"#NAME?"}},null,{"$f":"[2]!SUMSTRING(G38:J38,\"|\")","v":{"$error":"#NAME?"}},null,14,{"$f":"SUM($B$1:B38)*0.6","v":56280},3,{"$f":"SUM($E$1:E38)*0.6","v":5586},null,{"$f":"[2]!SUMSTRING(N38:O38,\"#\")","v":{"$error":"#NAME?"}},null,{"$f":"[2]!SUMSTRING(P38:Q38,\"#\")","v":{"$error":"#NAME?"}},null,{"$f":"[2]!SUMSTRING(S38:U38,\"|\")","v":{"$error":"#NAME?"}}]
[14,5300,null,3,440,null,{"$f":"[2]!SUMSTRING(A39:B39,\"#\")","v":{"$error":"#NAME?"}},null,null,{"$f":"[2]!SUMSTRING(D39:E39,\"#\")","v":{"$error":"#NAME?"}},null,{"$f":"[2]!SUMSTRING(G39:J39,\"|\")","v":{"$error":"#NAME?"}},null,14,{"$f":"SUM($B$1:B39)*0.6","v":59460},3,{"$f":"SUM($E$1:E39)*0.6","v":5850},null,{"$f":"[2]!SUMSTRING(N39:O39,\"#\")","v":{"$error":"#NAME?"}},null,{"$f":"[2]!SUMSTRING(P39:Q39,\"#\")","v":{"$error":"#NAME?"}},null,{"$f":"[2]!SUMSTRING(S39:U39,\"|\")","v":{"$error":"#NAME?"}}]
[14,5500,null,3,450,null,{"$f":"[2]!SUMSTRING(A40:B40,\"#\")","v":{"$error":"#NAME?"}},null,null,{"$f":"[2]!SUMSTRING(D40:E40,\"#\")","v":{"$error":"#NAME?"}},null,{"$f":"[2]!SUMSTRING(G40:J40,\"|\")","v":{"$error":"#NAME?"}},null,14,{"$f":"SUM($B$1:B40)*0.6","v":62760},3,{"$f":"SUM($E$1:E40)*0.6","v":6120},null,{"$f":"[2]!SUMSTRING(N40:O40,\"#\")","v":{"$error":"#NAME?"}},null,{"$f":"[2]!SUMSTRING(P40:Q40,\"#\")","v":{"$error":"#NAME?"}},null,{"$f":"[2]!SUMSTRING(S40:U40,\"|\")","v":{"$error":"#NAME?"}}]
[14,5700,null,3,460,null,{"$f":"[2]!SUMSTRING(A41:B41,\"#\")","v":{"$error":"#NAME?"}},null,null,{"$f":"[2]!SUMSTRING(D41:E41,\"#\")","v":{"$error":"#NAME?"}},null,{"$f":"[2]!SUMSTRING(G41:J41,\"|\")","v":{"$error":"#NAME?"}},null,14,{"$f":"SUM($B$1:B41)*0.6","v":66180},3,{"$f":"SUM($E$1:E41)*0.6","v":6396},null,{"$f":"[2]!SUMSTRING(N41:O41,\"#\")","v":{"$error":"#NAME?"}},null,{"$f":"[2]!SUMSTRING(P41:Q41,\"#\")","v":{"$error":"#NAME?"}},null,{"$f":"[2]!SUMSTRING(S41:U41,\"|\")","v":{"$error":"#NAME?"}}]
[14,5900,null,3,470,null,{"$f":"[2]!SUMSTRING(A42:B42,\"#\")","v":{"$error":"#NAME?"}},null,null,{"$f":"[2]!SUMSTRING(D42:E42,\"#\")","v":{"$error":"#NAME?"}},null,{"$f":"[2]!SUMSTRING(G42:J42,\"|\")","v":{"$error":"#NAME?"}},null,14,{"$f":"SUM($B$1:B42)*0.6","v":69720},3,{"$f":"SUM($E$1:E42)*0.6","v":6678},null,{"$f":"[2]!SUMSTRING(N42:O42,\"#\")","v":{"$error":"#NAME?"}},null,{"$f":"[2]!SUMSTRING(P42:Q42,\"#\")","v":{"$error":"#NAME?"}},null,{"$f":"[2]!SUMSTRING(S42:U42,\"|\")","v":{"$error":"#NAME?"}}]
[14,6100,null,3,480,null,{"$f":"[2]!SUMSTRING(A43:B43,\"#\")","v":{"$error":"#NAME?"}},null,null,{"$f":"[2]!SUMSTRING(D43:E43,\"#\")","v":{"$error":"#NAME?"}},null,{"$f":"[2]!SUMSTRING(G43:J43,\"|\")","v":{"$error":"#NAME?"}},null,14,{"$f":"SUM($B$1:B43)*0.6","v":73380},3,{"$f":"SUM($E$1:E43)*0.6","v":6966},null,{"$f":"[2]!SUMSTRING(N43:O43,\"#\")","v":{"$error":"#NAME?"}},null,{"$f":"[2]!SUMSTRING(P43:Q43,\"#\")","v":{"$error":"#NAME?"}},null,{"$f":"[2]!SUMSTRING(S43:U43,\"|\")","v":{"$error":"#NAME?"}}]
[14,6300,null,3,490,null,{"$f":"[2]!SUMSTRING(A44:B44,\"#\")","v":{"$error":"#NAME?"}},null,null,{"$f":"[2]!SUMSTRING(D44:E44,\"#\")","v":{"$error":"#NAME?"}},null,{"$f":"[2]!SUMSTRING(G44:J44,\"|\")","v":{"$error":"#NAME?"}},null,14,{"$f":"SUM($B$1:B44)*0.6","v":77160},3,{"$f":"SUM($E$1:E44)*0.6","v":7260},null,{"$f":"[2]!SUMSTRING(N44:O44,\"#\")","v":{"$error":"#NAME?"}},null,{"$f":"[2]!SUMSTRING(P44:Q44,\"#\")","v":{"$error":"#NAME?"}},null,{"$f":"[2]!SUMSTRING(S44:U44,\"|\")","v":{"$error":"#NAME?"}}]
[14,6500,null,3,500,null,{"$f":"[2]!SUMSTRING(A45:B45,\"#\")","v":{"$error":"#NAME?"}},null,null,{"$f":"[2]!SUMSTRING(D45:E45,\"#\")","v":{"$error":"#NAME?"}},null,{"$f":"[2]!SUMSTRING(G45:J45,\"|\")","v":{"$error":"#NAME?"}},null,14,{"$f":"SUM($B$1:B45)*0.6","v":81060},3,{"$f":"SUM($E$1:E45)*0.6","v":7560},null,{"$f":"[2]!SUMSTRING(N45:O45,\"#\")","v":{"$error":"#NAME?"}},null,{"$f":"[2]!SUMSTRING(P45:Q45,\"#\")","v":{"$error":"#NAME?"}},null,{"$f":"[2]!SUMSTRING(S45:U45,\"|\")","v":{"$error":"#NAME?"}}]
[14,6700,null,3,510,null,{"$f":"[2]!SUMSTRING(A46:B46,\"#\")","v":{"$error":"#NAME?"}},null,null,{"$f":"[2]!SUMSTRING(D46:E46,\"#\")","v":{"$error":"#NAME?"}},null,{"$f":"[2]!SUMSTRING(G46:J46,\"|\")","v":{"$error":"#NAME?"}},null,14,{"$f":"SUM($B$1:B46)*0.6","v":85080},3,{"$f":"SUM($E$1:E46)*0.6","v":7866},null,{"$f":"[2]!SUMSTRING(N46:O46,\"#\")","v":{"$error":"#NAME?"}},null,{"$f":"[2]!SUMSTRING(P46:Q46,\"#\")","v":{"$error":"#NAME?"}},null,{"$f":"[2]!SUMSTRING(S46:U46,\"|\")","v":{"$error":"#NAME?"}}]
[14,6900,null,3,520,null,{"$f":"[2]!SUMSTRING(A47:B47,\"#\")","v":{"$error":"#NAME?"}},null,null,{"$f":"[2]!SUMSTRING(D47:E47,\"#\")","v":{"$error":"#NAME?"}},null,{"$f":"[2]!SUMSTRING(G47:J47,\"|\")","v":{"$error":"#NAME?"}},null,14,{"$f":"SUM($B$1:B47)*0.6","v":89220},3,{"$f":"SUM($E$1:E47)*0.6","v":8178},null,{"$f":"[2]!SUMSTRING(N47:O47,\"#\")","v":{"$error":"#NAME?"}},null,{"$f":"[2]!SUMSTRING(P47:Q47,\"#\")","v":{"$error":"#NAME?"}},null,{"$f":"[2]!SUMSTRING(S47:U47,\"|\")","v":{"$error":"#NAME?"}}]
[14,7100,null,3,530,null,{"$f":"[2]!SUMSTRING(A48:B48,\"#\")","v":{"$error":"#NAME?"}},null,null,{"$f":"[2]!SUMSTRING(D48:E48,\"#\")","v":{"$error":"#NAME?"}},null,{"$f":"[2]!SUMSTRING(G48:J48,\"|\")","v":{"$error":"#NAME?"}},null,14,{"$f":"SUM($B$1:B48)*0.6","v":93480},3,{"$f":"SUM($E$1:E48)*0.6","v":8496},null,{"$f":"[2]!SUMSTRING(N48:O48,\"#\")","v":{"$error":"#NAME?"}},null,{"$f":"[2]!SUMSTRING(P48:Q48,\"#\")","v":{"$error":"#NAME?"}},null,{"$f":"[2]!SUMSTRING(S48:U48,\"|\")","v":{"$error":"#NAME?"}}]
[14,7300,null,3,540,null,{"$f":"[2]!SUMSTRING(A49:B49,\"#\")","v":{"$error":"#NAME?"}},null,null,{"$f":"[2]!SUMSTRING(D49:E49,\"#\")","v":{"$error":"#NAME?"}},null,{"$f":"[2]!SUMSTRING(G49:J49,\"|\")","v":{"$error":"#NAME?"}},null,14,{"$f":"SUM($B$1:B49)*0.6","v":97860},3,{"$f":"SUM($E$1:E49)*0.6","v":8820},null,{"$f":"[2]!SUMSTRING(N49:O49,\"#\")","v":{"$error":"#NAME?"}},null,{"$f":"[2]!SUMSTRING(P49:Q49,\"#\")","v":{"$error":"#NAME?"}},null,{"$f":"[2]!SUMSTRING(S49:U49,\"|\")","v":{"$error":"#NAME?"}}]
[14,7500,null,3,550,null,{"$f":"[2]!SUMSTRING(A50:B50,\"#\")","v":{"$error":"#NAME?"}},null,null,{"$f":"[2]!SUMSTRING(D50:E50,\"#\")","v":{"$error":"#NAME?"}},null,{"$f":"[2]!SUMSTRING(G50:J50,\"|\")","v":{"$error":"#NAME?"}},null,14,{"$f":"SUM($B$1:B50)*0.6","v":102360},3,{"$f":"SUM($E$1:E50)*0.6","v":9150},null,{"$f":"[2]!SUMSTRING(N50:O50,\"#\")","v":{"$error":"#NAME?"}},null,{"$f":"[2]!SUMSTRING(P50:Q50,\"#\")","v":{"$error":"#NAME?"}},null,{"$f":"[2]!SUMSTRING(S50:U50,\"|\")","v":{"$error":"#NAME?"}}]
[14,7700,null,3,560,null,{"$f":"[2]!SUMSTRING(A51:B51,\"#\")","v":{"$error":"#NAME?"}},null,null,{"$f":"[2]!SUMSTRING(D51:E51,\"#\")","v":{"$error":"#NAME?"}},null,{"$f":"[2]!SUMSTRING(G51:J51,\"|\")","v":{"$error":"#NAME?"}},null,14,{"$f":"SUM($B$1:B51)*0.6","v":106980},3,{"$f":"SUM($E$1:E51)*0.6","v":9486},null,{"$f":"[2]!SUMSTRING(N51:O51,\"#\")","v":{"$error":"#NAME?"}},null,{"$f":"[2]!SUMSTRING(P51:Q51,\"#\")","v":{"$error":"#NAME?"}},null,{"$f":"[2]!SUMSTRING(S51:U51,\"|\")","v":{"$error":"#NAME?"}}]
[14,7900,null,3,570,null,{"$f":"[2]!SUMSTRING(A52:B52,\"#\")","v":{"$error":"#NAME?"}},null,null,{"$f":"[2]!SUMSTRING(D52:E52,\"#\")","v":{"$error":"#NAME?"}},null,{"$f":"[2]!SUMSTRING(G52:J52,\"|\")","v":{"$error":"#NAME?"}},null,14,{"$f":"SUM($B$1:B52)*0.6","v":111720},3,{"$f":"SUM($E$1:E52)*0.6","v":9828},null,{"$f":"[2]!SUMSTRING(N52:O52,\"#\")","v":{"$error":"#NAME?"}},null,{"$f":"[2]!SUMSTRING(P52:Q52,\"#\")","v":{"$error":"#NAME?"}},null,{"$f":"[2]!SUMSTRING(S52:U52,\"|\")","v":{"$error":"#NAME?"}}]
[14,8100,null,3,580,null,{"$f":"[2]!SUMSTRING(A53:B53,\"#\")","v":{"$error":"#NAME?"}},null,null,{"$f":"[2]!SUMSTRING(D53:E53,\"#\")","v":{"$error":"#NAME?"}},null,{"$f":"[2]!SUMSTRING(G53:J53,\"|\")","v":{"$error":"#NAME?"}},null,14,{"$f":"SUM($B$1:B53)*0.6","v":116580},3,{"$f":"SUM($E$1:E53)*0.6","v":10176},null,{"$f":"[2]!SUMSTRING(N53:O53,\"#\")","v":{"$error":"#NAME?"}},null,{"$f":"[2]!SUMSTRING(P53:Q53,\"#\")","v":{"$error":"#NAME?"}},null,{"$f":"[2]!SUMSTRING(S53:U53,\"|\")","v":{"$error":"#NAME?"}}]
[14,8300,null,3,590,null,{"$f":"[2]!SUMSTRING(A54:B54,\"#\")","v":{"$error":"#NAME?"}},null,null,{"$f":"[2]!SUMSTRING(D54:E54,\"#\")","v":{"$error":"#NAME?"}},null,{"$f":"[2]!SUMSTRING(G54:J54,\"|\")","v":{"$error":"#NAME?"}},null,14,{"$f":"SUM($B$1:B54)*0.6","v":121560},3,{"$f":"SUM($E$1:E54)*0.6","v":10530},null,{"$f":"[2]!SUMSTRING(N54:O54,\"#\")","v":{"$error":"#NAME?"}},null,{"$f":"[2]!SUMSTRING(P54:Q54,\"#\")","v":{"$error":"#NAME?"}},null,{"$f":"[2]!SUMSTRING(S54:U54,\"|\")","v":{"$error":"#NAME?"}}]
[14,8500,null,3,600,null,{"$f":"[2]!SUMSTRING(A55:B55,\"#\")","v":{"$error":"#NAME?"}},null,null,{"$f":"[2]!SUMSTRING(D55:E55,\"#\")","v":{"$error":"#NAME?"}},null,{"$f":"[2]!SUMSTRING(G55:J55,\"|\")","v":{"$error":"#NAME?"}},null,14,{"$f":"SUM($B$1:B55)*0.6","v":126660},3,{"$f":"SUM($E$1:E55)*0.6","v":10890},null,{"$f":"[2]!SUMSTRING(N55:O55,\"#\")","v":{"$error":"#NAME?"}},null,{"$f":"[2]!SUMSTRING(P55:Q55,\"#\")","v":{"$error":"#NAME?"}},null,{"$f":"[2]!SUMSTRING(S55:U55,\"|\")","v":{"$error":"#NAME?"}}]
[14,8700,null,3,610,null,{"$f":"[2]!SUMSTRING(A56:B56,\"#\")","v":{"$error":"#NAME?"}},null,null,{"$f":"[2]!SUMSTRING(D56:E56,\"#\")","v":{"$error":"#NAME?"}},null,{"$f":"[2]!SUMSTRING(G56:J56,\"|\")","v":{"$error":"#NAME?"}},null,14,{"$f":"SUM($B$1:B56)*0.6","v":131880},3,{"$f":"SUM($E$1:E56)*0.6","v":11256},null,{"$f":"[2]!SUMSTRING(N56:O56,\"#\")","v":{"$error":"#NAME?"}},null,{"$f":"[2]!SUMSTRING(P56:Q56,\"#\")","v":{"$error":"#NAME?"}},null,{"$f":"[2]!SUMSTRING(S56:U56,\"|\")","v":{"$error":"#NAME?"}}]
[14,8900,null,3,620,null,{"$f":"[2]!SUMSTRING(A57:B57,\"#\")","v":{"$error":"#NAME?"}},null,null,{"$f":"[2]!SUMSTRING(D57:E57,\"#\")","v":{"$error":"#NAME?"}},null,{"$f":"[2]!SUMSTRING(G57:J57,\"|\")","v":{"$error":"#NAME?"}},null,14,{"$f":"SUM($B$1:B57)*0.6","v":137220},3,{"$f":"SUM($E$1:E57)*0.6","v":11628},null,{"$f":"[2]!SUMSTRING(N57:O57,\"#\")","v":{"$error":"#NAME?"}},null,{"$f":"[2]!SUMSTRING(P57:Q57,\"#\")","v":{"$error":"#NAME?"}},null,{"$f":"[2]!SUMSTRING(S57:U57,\"|\")","v":{"$error":"#NAME?"}}]
[14,9100,null,3,630,null,{"$f":"[2]!SUMSTRING(A58:B58,\"#\")","v":{"$error":"#NAME?"}},null,null,{"$f":"[2]!SUMSTRING(D58:E58,\"#\")","v":{"$error":"#NAME?"}},null,{"$f":"[2]!SUMSTRING(G58:J58,\"|\")","v":{"$error":"#NAME?"}},null,14,{"$f":"SUM($B$1:B58)*0.6","v":142680},3,{"$f":"SUM($E$1:E58)*0.6","v":12006},null,{"$f":"[2]!SUMSTRING(N58:O58,\"#\")","v":{"$error":"#NAME?"}},null,{"$f":"[2]!SUMSTRING(P58:Q58,\"#\")","v":{"$error":"#NAME?"}},null,{"$f":"[2]!SUMSTRING(S58:U58,\"|\")","v":{"$error":"#NAME?"}}]
[14,9300,null,3,640,null,{"$f":"[2]!SUMSTRING(A59:B59,\"#\")","v":{"$error":"#NAME?"}},null,null,{"$f":"[2]!SUMSTRING(D59:E59,\"#\")","v":{"$error":"#NAME?"}},null,{"$f":"[2]!SUMSTRING(G59:J59,\"|\")","v":{"$error":"#NAME?"}},null,14,{"$f":"SUM($B$1:B59)*0.6","v":148260},3,{"$f":"SUM($E$1:E59)*0.6","v":12390},null,{"$f":"[2]!SUMSTRING(N59:O59,\"#\")","v":{"$error":"#NAME?"}},null,{"$f":"[2]!SUMSTRING(P59:Q59,\"#\")","v":{"$error":"#NAME?"}},null,{"$f":"[2]!SUMSTRING(S59:U59,\"|\")","v":{"$error":"#NAME?"}}]
[14,10000,null,3,650,null,{"$f":"[2]!SUMSTRING(A60:B60,\"#\")","v":{"$error":"#NAME?"}},null,null,{"$f":"[2]!SUMSTRING(D60:E60,\"#\")","v":{"$error":"#NAME?"}},null,{"$f":"[2]!SUMSTRING(G60:J60,\"|\")","v":{"$error":"#NAME?"}},null,14,{"$f":"SUM($B$1:B60)*0.6","v":154260},3,{"$f":"SUM($E$1:E60)*0.6","v":12780},null,{"$f":"[2]!SUMSTRING(N60:O60,\"#\")","v":{"$error":"#NAME?"}},null,{"$f":"[2]!SUMSTRING(P60:Q60,\"#\")","v":{"$error":"#NAME?"}},null,{"$f":"[2]!SUMSTRING(S60:U60,\"|\")","v":{"$error":"#NAME?"}}]
[14,10700,null,3,660,null,{"$f":"[2]!SUMSTRING(A61:B61,\"#\")","v":{"$error":"#NAME?"}},null,null,{"$f":"[2]!SUMSTRING(D61:E61,\"#\")","v":{"$error":"#NAME?"}},null,{"$f":"[2]!SUMSTRING(G61:J61,\"|\")","v":{"$error":"#NAME?"}},null,14,{"$f":"SUM($B$1:B61)*0.6","v":160680},3,{"$f":"SUM($E$1:E61)*0.6","v":13176},null,{"$f":"[2]!SUMSTRING(N61:O61,\"#\")","v":{"$error":"#NAME?"}},null,{"$f":"[2]!SUMSTRING(P61:Q61,\"#\")","v":{"$error":"#NAME?"}},null,{"$f":"[2]!SUMSTRING(S61:U61,\"|\")","v":{"$error":"#NAME?"}}]
[14,11400,null,3,670,null,{"$f":"[2]!SUMSTRING(A62:B62,\"#\")","v":{"$error":"#NAME?"}},null,null,{"$f":"[2]!SUMSTRING(D62:E62,\"#\")","v":{"$error":"#NAME?"}},null,{"$f":"[2]!SUMSTRING(G62:J62,\"|\")","v":{"$error":"#NAME?"}},null,14,{"$f":"SUM($B$1:B62)*0.6","v":167520},3,{"$f":"SUM($E$1:E62)*0.6","v":13578},null,{"$f":"[2]!SUMSTRING(N62:O62,\"#\")","v":{"$error":"#NAME?"}},null,{"$f":"[2]!SUMSTRING(P62:Q62,\"#\")","v":{"$error":"#NAME?"}},null,{"$f":"[2]!SUMSTRING(S62:U62,\"|\")","v":{"$error":"#NAME?"}}]
[14,12100,null,3,680,null,{"$f":"[2]!SUMSTRING(A63:B63,\"#\")","v":{"$error":"#NAME?"}},null,null,{"$f":"[2]!SUMSTRING(D63:E63,\"#\")","v":{"$error":"#NAME?"}},null,{"$f":"[2]!SUMSTRING(G63:J63,\"|\")","v":{"$error":"#NAME?"}},null,14,{"$f":"SUM($B$1:B63)*0.6","v":174780},3,{"$f":"SUM($E$1:E63)*0.6","v":13986},null,{"$f":"[2]!SUMSTRING(N63:O63,\"#\")","v":{"$error":"#NAME?"}},null,{"$f":"[2]!SUMSTRING(P63:Q63,\"#\")","v":{"$error":"#NAME?"}},null,{"$f":"[2]!SUMSTRING(S63:U63,\"|\")","v":{"$error":"#NAME?"}}]
[14,12800,null,3,690,null,{"$f":"[2]!SUMSTRING(A64:B64,\"#\")","v":{"$error":"#NAME?"}},null,null,{"$f":"[2]!SUMSTRING(D64:E64,\"#\")","v":{"$error":"#NAME?"}},null,{"$f":"[2]!SUMSTRING(G64:J64,\"|\")","v":{"$error":"#NAME?"}},null,14,{"$f":"SUM($B$1:B64)*0.6","v":182460},3,{"$f":"SUM($E$1:E64)*0.6","v":14400},null,{"$f":"[2]!SUMSTRING(N64:O64,\"#\")","v":{"$error":"#NAME?"}},null,{"$f":"[2]!SUMSTRING(P64:Q64,\"#\")","v":{"$error":"#NAME?"}},null,{"$f":"[2]!SUMSTRING(S64:U64,\"|\")","v":{"$error":"#NAME?"}}]
[14,13500,null,3,700,null,{"$f":"[2]!SUMSTRING(A65:B65,\"#\")","v":{"$error":"#NAME?"}},null,null,{"$f":"[2]!SUMSTRING(D65:E65,\"#\")","v":{"$error":"#NAME?"}},null,{"$f":"[2]!SUMSTRING(G65:J65,\"|\")","v":{"$error":"#NAME?"}},null,14,{"$f":"SUM($B$1:B65)*0.6","v":190560},3,{"$f":"SUM($E$1:E65)*0.6","v":14820},null,{"$f":"[2]!SUMSTRING(N65:O65,\"#\")","v":{"$error":"#NAME?"}},null,{"$f":"[2]!SUMSTRING(P65:Q65,\"#\")","v":{"$error":"#NAME?"}},null,{"$f":"[2]!SUMSTRING(S65:U65,\"|\")","v":{"$error":"#NAME?"}}]
[14,14200,null,3,710,null,{"$f":"[2]!SUMSTRING(A66:B66,\"#\")","v":{"$error":"#NAME?"}},null,null,{"$f":"[2]!SUMSTRING(D66:E66,\"#\")","v":{"$error":"#NAME?"}},null,{"$f":"[2]!SUMSTRING(G66:J66,\"|\")","v":{"$error":"#NAME?"}},null,14,{"$f":"SUM($B$1:B66)*0.6","v":199080},3,{"$f":"SUM($E$1:E66)*0.6","v":15246},null,{"$f":"[2]!SUMSTRING(N66:O66,\"#\")","v":{"$error":"#NAME?"}},null,{"$f":"[2]!SUMSTRING(P66:Q66,\"#\")","v":{"$error":"#NAME?"}},null,{"$f":"[2]!SUMSTRING(S66:U66,\"|\")","v":{"$error":"#NAME?"}}]
[14,14900,null,3,720,null,{"$f":"[2]!SUMSTRING(A67:B67,\"#\")","v":{"$error":"#NAME?"}},null,null,{"$f":"[2]!SUMSTRING(D67:E67,\"#\")","v":{"$error":"#NAME?"}},null,{"$f":"[2]!SUMSTRING(G67:J67,\"|\")","v":{"$error":"#NAME?"}},null,14,{"$f":"SUM($B$1:B67)*0.6","v":208020},3,{"$f":"SUM($E$1:E67)*0.6","v":15678},null,{"$f":"[2]!SUMSTRING(N67:O67,\"#\")","v":{"$error":"#NAME?"}},null,{"$f":"[2]!SUMSTRING(P67:Q67,\"#\")","v":{"$error":"#NAME?"}},null,{"$f":"[2]!SUMSTRING(S67:U67,\"|\")","v":{"$error":"#NAME?"}}]
[14,15600,null,3,730,null,{"$f":"[2]!SUMSTRING(A68:B68,\"#\")","v":{"$error":"#NAME?"}},null,null,{"$f":"[2]!SUMSTRING(D68:E68,\"#\")","v":{"$error":"#NAME?"}},null,{"$f":"[2]!SUMSTRING(G68:J68,\"|\")","v":{"$error":"#NAME?"}},null,14,{"$f":"SUM($B$1:B68)*0.6","v":217380},3,{"$f":"SUM($E$1:E68)*0.6","v":16116},null,{"$f":"[2]!SUMSTRING(N68:O68,\"#\")","v":{"$error":"#NAME?"}},null,{"$f":"[2]!SUMSTRING(P68:Q68,\"#\")","v":{"$error":"#NAME?"}},null,{"$f":"[2]!SUMSTRING(S68:U68,\"|\")","v":{"$error":"#NAME?"}}]
[14,16300,null,3,740,null,{"$f":"[2]!SUMSTRING(A69:B69,\"#\")","v":{"$error":"#NAME?"}},null,null,{"$f":"[2]!SUMSTRING(D69:E69,\"#\")","v":{"$error":"#NAME?"}},null,{"$f":"[2]!SUMSTRING(G69:J69,\"|\")","v":{"$error":"#NAME?"}},null,14,{"$f":"SUM($B$1:B69)*0.6","v":227160},3,{"$f":"SUM($E$1:E69)*0.6","v":16560},null,{"$f":"[2]!SUMSTRING(N69:O69,\"#\")","v":{"$error":"#NAME?"}},null,{"$f":"[2]!SUMSTRING(P69:Q69,\"#\")","v":{"$error":"#NAME?"}},null,{"$f":"[2]!SUMSTRING(S69:U69,\"|\")","v":{"$error":"#NAME?"}}]
[14,17000,null,3,750,null,{"$f":"[2]!SUMSTRING(A70:B70,\"#\")","v":{"$error":"#NAME?"}},null,null,{"$f":"[2]!SUMSTRING(D70:E70,\"#\")","v":{"$error":"#NAME?"}},null,{"$f":"[2]!SUMSTRING(G70:J70,\"|\")","v":{"$error":"#NAME?"}},null,14,{"$f":"SUM($B$1:B70)*0.6","v":237360},3,{"$f":"SUM($E$1:E70)*0.6","v":17010},null,{"$f":"[2]!SUMSTRING(N70:O70,\"#\")","v":{"$error":"#NAME?"}},null,{"$f":"[2]!SUMSTRING(P70:Q70,\"#\")","v":{"$error":"#NAME?"}},null,{"$f":"[2]!SUMSTRING(S70:U70,\"|\")","v":{"$error":"#NAME?"}}]
[14,17700,null,3,760,null,{"$f":"[2]!SUMSTRING(A71:B71,\"#\")","v":{"$error":"#NAME?"}},null,null,{"$f":"[2]!SUMSTRING(D71:E71,\"#\")","v":{"$error":"#NAME?"}},null,{"$f":"[2]!SUMSTRING(G71:J71,\"|\")","v":{"$error":"#NAME?"}},null,14,{"$f":"SUM($B$1:B71)*0.6","v":247980},3,{"$f":"SUM($E$1:E71)*0.6","v":17466},null,{"$f":"[2]!SUMSTRING(N71:O71,\"#\")","v":{"$error":"#NAME?"}},null,{"$f":"[2]!SUMSTRING(P71:Q71,\"#\")","v":{"$error":"#NAME?"}},null,{"$f":"[2]!SUMSTRING(S71:U71,\"|\")","v":{"$error":"#NAME?"}}]
[14,18400,null,3,770,null,{"$f":"[2]!SUMSTRING(A72:B72,\"#\")","v":{"$error":"#NAME?"}},null,null,{"$f":"[2]!SUMSTRING(D72:E72,\"#\")","v":{"$error":"#NAME?"}},null,{"$f":"[2]!SUMSTRING(G72:J72,\"|\")","v":{"$error":"#NAME?"}},null,14,{"$f":"SUM($B$1:B72)*0.6","v":259020},3,{"$f":"SUM($E$1:E72)*0.6","v":17928},null,{"$f":"[2]!SUMSTRING(N72:O72,\"#\")","v":{"$error":"#NAME?"}},null,{"$f":"[2]!SUMSTRING(P72:Q72,\"#\")","v":{"$error":"#NAME?"}},null,{"$f":"[2]!SUMSTRING(S72:U72,\"|\")","v":{"$error":"#NAME?"}}]
[14,19100,null,3,780,null,{"$f":"[2]!SUMSTRING(A73:B73,\"#\")","v":{"$error":"#NAME?"}},null,null,{"$f":"[2]!SUMSTRING(D73:E73,\"#\")","v":{"$error":"#NAME?"}},null,{"$f":"[2]!SUMSTRING(G73:J73,\"|\")","v":{"$error":"#NAME?"}},null,14,{"$f":"SUM($B$1:B73)*0.6","v":270480},3,{"$f":"SUM($E$1:E73)*0.6","v":18396},null,{"$f":"[2]!SUMSTRING(N73:O73,\"#\")","v":{"$error":"#NAME?"}},null,{"$f":"[2]!SUMSTRING(P73:Q73,\"#\")","v":{"$error":"#NAME?"}},null,{"$f":"[2]!SUMSTRING(S73:U73,\"|\")","v":{"$error":"#NAME?"}}]
[14,19800,null,3,790,null,{"$f":"[2]!SUMSTRING(A74:B74,\"#\")","v":{"$error":"#NAME?"}},null,null,{"$f":"[2]!SUMSTRING(D74:E74,\"#\")","v":{"$error":"#NAME?"}},null,{"$f":"[2]!SUMSTRING(G74:J74,\"|\")","v":{"$error":"#NAME?"}},null,14,{"$f":"SUM($B$1:B74)*0.6","v":282360},3,{"$f":"SUM($E$1:E74)*0.6","v":18870},null,{"$f":"[2]!SUMSTRING(N74:O74,\"#\")","v":{"$error":"#NAME?"}},null,{"$f":"[2]!SUMSTRING(P74:Q74,\"#\")","v":{"$error":"#NAME?"}},null,{"$f":"[2]!SUMSTRING(S74:U74,\"|\")","v":{"$error":"#NAME?"}}]
[14,20500,null,3,800,null,{"$f":"[2]!SUMSTRING(A75:B75,\"#\")","v":{"$error":"#NAME?"}},null,null,{"$f":"[2]!SUMSTRING(D75:E75,\"#\")","v":{"$error":"#NAME?"}},null,{"$f":"[2]!SUMSTRING(G75:J75,\"|\")","v":{"$error":"#NAME?"}},null,14,{"$f":"SUM($B$1:B75)*0.6","v":294660},3,{"$f":"SUM($E$1:E75)*0.6","v":19350},null,{"$f":"[2]!SUMSTRING(N75:O75,\"#\")","v":{"$error":"#NAME?"}},null,{"$f":"[2]!SUMSTRING(P75:Q75,\"#\")","v":{"$error":"#NAME?"}},null,{"$f":"[2]!SUMSTRING(S75:U75,\"|\")","v":{"$error":"#NAME?"}}]
[14,21200,null,3,810,null,{"$f":"[2]!SUMSTRING(A76:B76,\"#\")","v":{"$error":"#NAME?"}},null,null,{"$f":"[2]!SUMSTRING(D76:E76,\"#\")","v":{"$error":"#NAME?"}},null,{"$f":"[2]!SUMSTRING(G76:J76,\"|\")","v":{"$error":"#NAME?"}},null,14,{"$f":"SUM($B$1:B76)*0.6","v":307380},3,{"$f":"SUM($E$1:E76)*0.6","v":19836},null,{"$f":"[2]!SUMSTRING(N76:O76,\"#\")","v":{"$error":"#NAME?"}},null,{"$f":"[2]!SUMSTRING(P76:Q76,\"#\")","v":{"$error":"#NAME?"}},null,{"$f":"[2]!SUMSTRING(S76:U76,\"|\")","v":{"$error":"#NAME?"}}]
[14,21900,null,3,820,null,{"$f":"[2]!SUMSTRING(A77:B77,\"#\")","v":{"$error":"#NAME?"}},null,null,{"$f":"[2]!SUMSTRING(D77:E77,\"#\")","v":{"$error":"#NAME?"}},null,{"$f":"[2]!SUMSTRING(G77:J77,\"|\")","v":{"$error":"#NAME?"}},null,14,{"$f":"SUM($B$1:B77)*0.6","v":320520},3,{"$f":"SUM($E$1:E77)*0.6","v":20328},null,{"$f":"[2]!SUMSTRING(N77:O77,\"#\")","v":{"$error":"#NAME?"}},null,{"$f":"[2]!SUMSTRING(P77:Q77,\"#\")","v":{"$error":"#NAME?"}},null,{"$f":"[2]!SUMSTRING(S77:U77,\"|\")","v":{"$error":"#NAME?"}}]
[14,22600,null,3,830,null,{"$f":"[2]!SUMSTRING(A78:B78,\"#\")","v":{"$error":"#NAME?"}},null,null,{"$f":"[2]!SUMSTRING(D78:E78,\"#\")","v":{"$error":"#NAME?"}},null,{"$f":"[2]!SUMSTRING(G78:J78,\"|\")","v":{"$error":"#NAME?"}},null,14,{"$f":"SUM($B$1:B78)*0.6","v":334080},3,{"$f":"SUM($E$1:E78)*0.6","v":20826},null,{"$f":"[2]!SUMSTRING(N78:O78,\"#\")","v":{"$error":"#NAME?"}},null,{"$f":"[2]!SUMSTRING(P78:Q78,\"#\")","v":{"$error":"#NAME?"}},null,{"$f":"[2]!SUMSTRING(S78:U78,\"|\")","v":{"$error":"#NAME?"}}]
[14,23300,null,3,840,null,{"$f":"[2]!SUMSTRING(A79:B79,\"#\")","v":{"$error":"#NAME?"}},null,null,{"$f":"[2]!SUMSTRING(D79:E79,\"#\")","v":{"$error":"#NAME?"}},null,{"$f":"[2]!SUMSTRING(G79:J79,\"|\")","v":{"$error":"#NAME?"}},null,14,{"$f":"SUM($B$1:B79)*0.6","v":348060},3,{"$f":"SUM($E$1:E79)*0.6","v":21330},null,{"$f":"[2]!SUMSTRING(N79:O79,\"#\")","v":{"$error":"#NAME?"}},null,{"$f":"[2]!SUMSTRING(P79:Q79,\"#\")","v":{"$error":"#NAME?"}},null,{"$f":"[2]!SUMSTRING(S79:U79,\"|\")","v":{"$error":"#NAME?"}}]
[14,24000,null,3,850,null,{"$f":"[2]!SUMSTRING(A80:B80,\"#\")","v":{"$error":"#NAME?"}},null,null,{"$f":"[2]!SUMSTRING(D80:E80,\"#\")","v":{"$error":"#NAME?"}},null,{"$f":"[2]!SUMSTRING(G80:J80,\"|\")","v":{"$error":"#NAME?"}},null,14,{"$f":"SUM($B$1:B80)*0.6","v":362460},3,{"$f":"SUM($E$1:E80)*0.6","v":21840},null,{"$f":"[2]!SUMSTRING(N80:O80,\"#\")","v":{"$error":"#NAME?"}},null,{"$f":"[2]!SUMSTRING(P80:Q80,\"#\")","v":{"$error":"#NAME?"}},null,{"$f":"[2]!SUMSTRING(S80:U80,\"|\")","v":{"$error":"#NAME?"}}]
[14,24700,null,3,860,null,{"$f":"[2]!SUMSTRING(A81:B81,\"#\")","v":{"$error":"#NAME?"}},null,null,{"$f":"[2]!SUMSTRING(D81:E81,\"#\")","v":{"$error":"#NAME?"}},null,{"$f":"[2]!SUMSTRING(G81:J81,\"|\")","v":{"$error":"#NAME?"}},null,14,{"$f":"SUM($B$1:B81)*0.6","v":377280},3,{"$f":"SUM($E$1:E81)*0.6","v":22356},null,{"$f":"[2]!SUMSTRING(N81:O81,\"#\")","v":{"$error":"#NAME?"}},null,{"$f":"[2]!SUMSTRING(P81:Q81,\"#\")","v":{"$error":"#NAME?"}},null,{"$f":"[2]!SUMSTRING(S81:U81,\"|\")","v":{"$error":"#NAME?"}}]
[14,25400,null,3,870,null,{"$f":"[2]!SUMSTRING(A82:B82,\"#\")","v":{"$error":"#NAME?"}},null,null,{"$f":"[2]!SUMSTRING(D82:E82,\"#\")","v":{"$error":"#NAME?"}},null,{"$f":"[2]!SUMSTRING(G82:J82,\"|\")","v":{"$error":"#NAME?"}},null,14,{"$f":"SUM($B$1:B82)*0.6","v":392520},3,{"$f":"SUM($E$1:E82)*0.6","v":22878},null,{"$f":"[2]!SUMSTRING(N82:O82,\"#\")","v":{"$error":"#NAME?"}},null,{"$f":"[2]!SUMSTRING(P82:Q82,\"#\")","v":{"$error":"#NAME?"}},null,{"$f":"[2]!SUMSTRING(S82:U82,\"|\")","v":{"$error":"#NAME?"}}]
[14,26100,null,3,880,null,{"$f":"[2]!SUMSTRING(A83:B83,\"#\")","v":{"$error":"#NAME?"}},null,null,{"$f":"[2]!SUMSTRING(D83:E83,\"#\")","v":{"$error":"#NAME?"}},null,{"$f":"[2]!SUMSTRING(G83:J83,\"|\")","v":{"$error":"#NAME?"}},null,14,{"$f":"SUM($B$1:B83)*0.6","v":408180},3,{"$f":"SUM($E$1:E83)*0.6","v":23406},null,{"$f":"[2]!SUMSTRING(N83:O83,\"#\")","v":{"$error":"#NAME?"}},null,{"$f":"[2]!SUMSTRING(P83:Q83,\"#\")","v":{"$error":"#NAME?"}},null,{"$f":"[2]!SUMSTRING(S83:U83,\"|\")","v":{"$error":"#NAME?"}}]
[14,26800,null,3,890,null,{"$f":"[2]!SUMSTRING(A84:B84,\"#\")","v":{"$error":"#NAME?"}},null,null,{"$f":"[2]!SUMSTRING(D84:E84,\"#\")","v":{"$error":"#NAME?"}},null,{"$f":"[2]!SUMSTRING(G84:J84,\"|\")","v":{"$error":"#NAME?"}},null,14,{"$f":"SUM($B$1:B84)*0.6","v":424260},3,{"$f":"SUM($E$1:E84)*0.6","v":23940},null,{"$f":"[2]!SUMSTRING(N84:O84,\"#\")","v":{"$error":"#NAME?"}},null,{"$f":"[2]!SUMSTRING(P84:Q84,\"#\")","v":{"$error":"#NAME?"}},null,{"$f":"[2]!SUMSTRING(S84:U84,\"|\")","v":{"$error":"#NAME?"}}]
[14,27500,null,3,900,null,{"$f":"[2]!SUMSTRING(A85:B85,\"#\")","v":{"$error":"#NAME?"}},null,null,{"$f":"[2]!SUMSTRING(D85:E85,\"#\")","v":{"$error":"#NAME?"}},null,{"$f":"[2]!SUMSTRING(G85:J85,\"|\")","v":{"$error":"#NAME?"}},null,14,{"$f":"SUM($B$1:B85)*0.6","v":440760},3,{"$f":"SUM($E$1:E85)*0.6","v":24480},null,{"$f":"[2]!SUMSTRING(N85:O85,\"#\")","v":{"$error":"#NAME?"}},null,{"$f":"[2]!SUMSTRING(P85:Q85,\"#\")","v":{"$error":"#NAME?"}},null,{"$f":"[2]!SUMSTRING(S85:U85,\"|\")","v":{"$error":"#NAME?"}}]
[14,28200,null,3,910,null,{"$f":"[2]!SUMSTRING(A86:B86,\"#\")","v":{"$error":"#NAME?"}},null,null,{"$f":"[2]!SUMSTRING(D86:E86,\"#\")","v":{"$error":"#NAME?"}},null,{"$f":"[2]!SUMSTRING(G86:J86,\"|\")","v":{"$error":"#NAME?"}},null,14,{"$f":"SUM($B$1:B86)*0.6","v":457680},3,{"$f":"SUM($E$1:E86)*0.6","v":25026},null,{"$f":"[2]!SUMSTRING(N86:O86,\"#\")","v":{"$error":"#NAME?"}},null,{"$f":"[2]!SUMSTRING(P86:Q86,\"#\")","v":{"$error":"#NAME?"}},null,{"$f":"[2]!SUMSTRING(S86:U86,\"|\")","v":{"$error":"#NAME?"}}]
[14,28900,null,3,920,null,{"$f":"[2]!SUMSTRING(A87:B87,\"#\")","v":{"$error":"#NAME?"}},null,null,{"$f":"[2]!SUMSTRING(D87:E87,\"#\")","v":{"$error":"#NAME?"}},null,{"$f":"[2]!SUMSTRING(G87:J87,\"|\")","v":{"$error":"#NAME?"}},null,14,{"$f":"SUM($B$1:B87)*0.6","v":475020},3,{"$f":"SUM($E$1:E87)*0.6","v":25578},null,{"$f":"[2]!SUMSTRING(N87:O87,\"#\")","v":{"$error":"#NAME?"}},null,{"$f":"[2]!SUMSTRING(P87:Q87,\"#\")","v":{"$error":"#NAME?"}},null,{"$f":"[2]!SUMSTRING(S87:U87,\"|\")","v":{"$error":"#NAME?"}}]
[14,29600,null,3,930,null,{"$f":"[2]!SUMSTRING(A88:B88,\"#\")","v":{"$error":"#NAME?"}},null,null,{"$f":"[2]!SUMSTRING(D88:E88,\"#\")","v":{"$error":"#NAME?"}},null,{"$f":"[2]!SUMSTRING(G88:J88,\"|\")","v":{"$error":"#NAME?"}},null,14,{"$f":"SUM($B$1:B88)*0.6","v":492780},3,{"$f":"SUM($E$1:E88)*0.6","v":26136},null,{"$f":"[2]!SUMSTRING(N88:O88,\"#\")","v":{"$error":"#NAME?"}},null,{"$f":"[2]!SUMSTRING(P88:Q88,\"#\")","v":{"$error":"#NAME?"}},null,{"$f":"[2]!SUMSTRING(S88:U88,\"|\")","v":{"$error":"#NAME?"}}]
[14,30300,null,3,940,null,{"$f":"[2]!SUMSTRING(A89:B89,\"#\")","v":{"$error":"#NAME?"}},null,null,{"$f":"[2]!SUMSTRING(D89:E89,\"#\")","v":{"$error":"#NAME?"}},null,{"$f":"[2]!SUMSTRING(G89:J89,\"|\")","v":{"$error":"#NAME?"}},null,14,{"$f":"SUM($B$1:B89)*0.6","v":510960},3,{"$f":"SUM($E$1:E89)*0.6","v":26700},null,{"$f":"[2]!SUMSTRING(N89:O89,\"#\")","v":{"$error":"#NAME?"}},null,{"$f":"[2]!SUMSTRING(P89:Q89,\"#\")","v":{"$error":"#NAME?"}},null,{"$f":"[2]!SUMSTRING(S89:U89,\"|\")","v":{"$error":"#NAME?"}}]
[14,31000,null,3,950,null,{"$f":"[2]!SUMSTRING(A90:B90,\"#\")","v":{"$error":"#NAME?"}},null,null,{"$f":"[2]!SUMSTRING(D90:E90,\"#\")","v":{"$error":"#NAME?"}},null,{"$f":"[2]!SUMSTRING(G90:J90,\"|\")","v":{"$error":"#NAME?"}},null,14,{"$f":"SUM($B$1:B90)*0.6","v":529560},3,{"$f":"SUM($E$1:E90)*0.6","v":27270},null,{"$f":"[2]!SUMSTRING(N90:O90,\"#\")","v":{"$error":"#NAME?"}},null,{"$f":"[2]!SUMSTRING(P90:Q90,\"#\")","v":{"$error":"#NAME?"}},null,{"$f":"[2]!SUMSTRING(S90:U90,\"|\")","v":{"$error":"#NAME?"}}]
[14,31700,null,3,960,null,{"$f":"[2]!SUMSTRING(A91:B91,\"#\")","v":{"$error":"#NAME?"}},null,null,{"$f":"[2]!SUMSTRING(D91:E91,\"#\")","v":{"$error":"#NAME?"}},null,{"$f":"[2]!SUMSTRING(G91:J91,\"|\")","v":{"$error":"#NAME?"}},null,14,{"$f":"SUM($B$1:B91)*0.6","v":548580},3,{"$f":"SUM($E$1:E91)*0.6","v":27846},null,{"$f":"[2]!SUMSTRING(N91:O91,\"#\")","v":{"$error":"#NAME?"}},null,{"$f":"[2]!SUMSTRING(P91:Q91,\"#\")","v":{"$error":"#NAME?"}},null,{"$f":"[2]!SUMSTRING(S91:U91,\"|\")","v":{"$error":"#NAME?"}}]
[14,32400,null,3,970,null,{"$f":"[2]!SUMSTRING(A92:B92,\"#\")","v":{"$error":"#NAME?"}},null,null,{"$f":"[2]!SUMSTRING(D92:E92,\"#\")","v":{"$error":"#NAME?"}},null,{"$f":"[2]!SUMSTRING(G92:J92,\"|\")","v":{"$error":"#NAME?"}},null,14,{"$f":"SUM($B$1:B92)*0.6","v":568020},3,{"$f":"SUM($E$1:E92)*0.6","v":28428},null,{"$f":"[2]!SUMSTRING(N92:O92,\"#\")","v":{"$error":"#NAME?"}},null,{"$f":"[2]!SUMSTRING(P92:Q92,\"#\")","v":{"$error":"#NAME?"}},null,{"$f":"[2]!SUMSTRING(S92:U92,\"|\")","v":{"$error":"#NAME?"}}]
[14,33100,null,3,980,null,{"$f":"[2]!SUMSTRING(A93:B93,\"#\")","v":{"$error":"#NAME?"}},null,null,{"$f":"[2]!SUMSTRING(D93:E93,\"#\")","v":{"$error":"#NAME?"}},null,{"$f":"[2]!SUMSTRING(G93:J93,\"|\")","v":{"$error":"#NAME?"}},null,14,{"$f":"SUM($B$1:B93)*0.6","v":587880},3,{"$f":"SUM($E$1:E93)*0.6","v":29016},null,{"$f":"[2]!SUMSTRING(N93:O93,\"#\")","v":{"$error":"#NAME?"}},null,{"$f":"[2]!SUMSTRING(P93:Q93,\"#\")","v":{"$error":"#NAME?"}},null,{"$f":"[2]!SUMSTRING(S93:U93,\"|\")","v":{"$error":"#NAME?"}}]
[14,33800,null,3,990,null,{"$f":"[2]!SUMSTRING(A94:B94,\"#\")","v":{"$error":"#NAME?"}},null,null,{"$f":"[2]!SUMSTRING(D94:E94,\"#\")","v":{"$error":"#NAME?"}},null,{"$f":"[2]!SUMSTRING(G94:J94,\"|\")","v":{"$error":"#NAME?"}},null,14,{"$f":"SUM($B$1:B94)*0.6","v":608160},3,{"$f":"SUM($E$1:E94)*0.6","v":29610},null,{"$f":"[2]!SUMSTRING(N94:O94,\"#\")","v":{"$error":"#NAME?"}},null,{"$f":"[2]!SUMSTRING(P94:Q94,\"#\")","v":{"$error":"#NAME?"}},null,{"$f":"[2]!SUMSTRING(S94:U94,\"|\")","v":{"$error":"#NAME?"}}]
[14,34500,null,3,1000,null,{"$f":"[2]!SUMSTRING(A95:B95,\"#\")","v":{"$error":"#NAME?"}},null,null,{"$f":"[2]!SUMSTRING(D95:E95,\"#\")","v":{"$error":"#NAME?"}},null,{"$f":"[2]!SUMSTRING(G95:J95,\"|\")","v":{"$error":"#NAME?"}},null,14,{"$f":"SUM($B$1:B95)*0.6","v":628860},3,{"$f":"SUM($E$1:E95)*0.6","v":30210},null,{"$f":"[2]!SUMSTRING(N95:O95,\"#\")","v":{"$error":"#NAME?"}},null,{"$f":"[2]!SUMSTRING(P95:Q95,\"#\")","v":{"$error":"#NAME?"}},null,{"$f":"[2]!SUMSTRING(S95:U95,\"|\")","v":{"$error":"#NAME?"}}]
[14,35200,null,3,1010,null,{"$f":"[2]!SUMSTRING(A96:B96,\"#\")","v":{"$error":"#NAME?"}},null,null,{"$f":"[2]!SUMSTRING(D96:E96,\"#\")","v":{"$error":"#NAME?"}},null,{"$f":"[2]!SUMSTRING(G96:J96,\"|\")","v":{"$error":"#NAME?"}},null,14,{"$f":"SUM($B$1:B96)*0.6","v":649980},3,{"$f":"SUM($E$1:E96)*0.6","v":30816},null,{"$f":"[2]!SUMSTRING(N96:O96,\"#\")","v":{"$error":"#NAME?"}},null,{"$f":"[2]!SUMSTRING(P96:Q96,\"#\")","v":{"$error":"#NAME?"}},null,{"$f":"[2]!SUMSTRING(S96:U96,\"|\")","v":{"$error":"#NAME?"}}]
[14,35900,null,3,1020,null,{"$f":"[2]!SUMSTRING(A97:B97,\"#\")","v":{"$error":"#NAME?"}},null,null,{"$f":"[2]!SUMSTRING(D97:E97,\"#\")","v":{"$error":"#NAME?"}},null,{"$f":"[2]!SUMSTRING(G97:J97,\"|\")","v":{"$error":"#NAME?"}},null,14,{"$f":"SUM($B$1:B97)*0.6","v":671520},3,{"$f":"SUM($E$1:E97)*0.6","v":31428},null,{"$f":"[2]!SUMSTRING(N97:O97,\"#\")","v":{"$error":"#NAME?"}},null,{"$f":"[2]!SUMSTRING(P97:Q97,\"#\")","v":{"$error":"#NAME?"}},null,{"$f":"[2]!SUMSTRING(S97:U97,\"|\")","v":{"$error":"#NAME?"}}]
[14,36600,null,3,1030,null,{"$f":"[2]!SUMSTRING(A98:B98,\"#\")","v":{"$error":"#NAME?"}},null,null,{"$f":"[2]!SUMSTRING(D98:E98,\"#\")","v":{"$error":"#NAME?"}},null,{"$f":"[2]!SUMSTRING(G98:J98,\"|\")","v":{"$error":"#NAME?"}},null,14,{"$f":"SUM($B$1:B98)*0.6","v":693480},3,{"$f":"SUM($E$1:E98)*0.6","v":32046},null,{"$f":"[2]!SUMSTRING(N98:O98,\"#\")","v":{"$error":"#NAME?"}},null,{"$f":"[2]!SUMSTRING(P98:Q98,\"#\")","v":{"$error":"#NAME?"}},null,{"$f":"[2]!SUMSTRING(S98:U98,\"|\")","v":{"$error":"#NAME?"}}]
[14,37300,null,3,1040,null,{"$f":"[2]!SUMSTRING(A99:B99,\"#\")","v":{"$error":"#NAME?"}},null,null,{"$f":"[2]!SUMSTRING(D99:E99,\"#\")","v":{"$error":"#NAME?"}},null,{"$f":"[2]!SUMSTRING(G99:J99,\"|\")","v":{"$error":"#NAME?"}},null,14,{"$f":"SUM($B$1:B99)*0.6","v":715860},3,{"$f":"SUM($E$1:E99)*0.6","v":32670},null,{"$f":"[2]!SUMSTRING(N99:O99,\"#\")","v":{"$error":"#NAME?"}},null,{"$f":"[2]!SUMSTRING(P99:Q99,\"#\")","v":{"$error":"#NAME?"}},null,{"$f":"[2]!SUMSTRING(S99:U99,\"|\")","v":{"$error":"#NAME?"}}]
[14,38000,null,3,1140,null,{"$f":"[2]!SUMSTRING(A100:B100,\"#\")","v":{"$error":"#NAME?"}},null,null,{"$f":"[2]!SUMSTRING(D100:E100,\"#\")","v":{"$error":"#NAME?"}},null,{"$f":"[2]!SUMSTRING(G100:J100,\"|\")","v":{"$error":"#NAME?"}},null,14,{"$f":"SUM($B$1:B100)*0.6","v":738660},3,{"$f":"SUM($E$1:E100)*0.6","v":33354},null,{"$f":"[2]!SUMSTRING(N100:O100,\"#\")","v":{"$error":"#NAME?"}},null,{"$f":"[2]!SUMSTRING(P100:Q100,\"#\")","v":{"$error":"#NAME?"}},null,{"$f":"[2]!SUMSTRING(S100:U100,\"|\")","v":{"$error":"#NAME?"}}]
[14,39000,null,3,1240,null,{"$f":"[2]!SUMSTRING(A101:B101,\"#\")","v":{"$error":"#NAME?"}},null,null,{"$f":"[2]!SUMSTRING(D101:E101,\"#\")","v":{"$error":"#NAME?"}},null,{"$f":"[2]!SUMSTRING(G101:J101,\"|\")","v":{"$error":"#NAME?"}},null,14,{"$f":"SUM($B$1:B101)*0.6","v":762060},3,{"$f":"SUM($E$1:E101)*0.6","v":34098},null,{"$f":"[2]!SUMSTRING(N101:O101,\"#\")","v":{"$error":"#NAME?"}},null,{"$f":"[2]!SUMSTRING(P101:Q101,\"#\")","v":{"$error":"#NAME?"}},null,{"$f":"[2]!SUMSTRING(S101:U101,\"|\")","v":{"$error":"#NAME?"}}]
[14,40000,null,3,1340,null,{"$f":"[2]!SUMSTRING(A102:B102,\"#\")","v":{"$error":"#NAME?"}},null,null,{"$f":"[2]!SUMSTRING(D102:E102,\"#\")","v":{"$error":"#NAME?"}},null,{"$f":"[2]!SUMSTRING(G102:J102,\"|\")","v":{"$error":"#NAME?"}},null,14,{"$f":"SUM($B$1:B102)*0.6","v":786060},3,{"$f":"SUM($E$1:E102)*0.6","v":34902},null,{"$f":"[2]!SUMSTRING(N102:O102,\"#\")","v":{"$error":"#NAME?"}},null,{"$f":"[2]!SUMSTRING(P102:Q102,\"#\")","v":{"$error":"#NAME?"}},null,{"$f":"[2]!SUMSTRING(S102:U102,\"|\")","v":{"$error":"#NAME?"}}]
[14,41000,null,3,1440,null,{"$f":"[2]!SUMSTRING(A103:B103,\"#\")","v":{"$error":"#NAME?"}},null,null,{"$f":"[2]!SUMSTRING(D103:E103,\"#\")","v":{"$error":"#NAME?"}},null,{"$f":"[2]!SUMSTRING(G103:J103,\"|\")","v":{"$error":"#NAME?"}},null,14,{"$f":"SUM($B$1:B103)*0.6","v":810660},3,{"$f":"SUM($E$1:E103)*0.6","v":35766},null,{"$f":"[2]!SUMSTRING(N103:O103,\"#\")","v":{"$error":"#NAME?"}},null,{"$f":"[2]!SUMSTRING(P103:Q103,\"#\")","v":{"$error":"#NAME?"}},null,{"$f":"[2]!SUMSTRING(S103:U103,\"|\")","v":{"$error":"#NAME?"}}]
[14,42000,null,3,1540,null,{"$f":"[2]!SUMSTRING(A104:B104,\"#\")","v":{"$error":"#NAME?"}},null,null,{"$f":"[2]!SUMSTRING(D104:E104,\"#\")","v":{"$error":"#NAME?"}},null,{"$f":"[2]!SUMSTRING(G104:J104,\"|\")","v":{"$error":"#NAME?"}},null,14,{"$f":"SUM($B$1:B104)*0.6","v":835860},3,{"$f":"SUM($E$1:E104)*0.6","v":36690},null,{"$f":"[2]!SUMSTRING(N104:O104,\"#\")","v":{"$error":"#NAME?"}},null,{"$f":"[2]!SUMSTRING(P104:Q104,\"#\")","v":{"$error":"#NAME?"}},null,{"$f":"[2]!SUMSTRING(S104:U104,\"|\")","v":{"$error":"#NAME?"}}]
[14,43000,null,3,1640,null,{"$f":"[2]!SUMSTRING(A105:B105,\"#\")","v":{"$error":"#NAME?"}},null,null,{"$f":"[2]!SUMSTRING(D105:E105,\"#\")","v":{"$error":"#NAME?"}},null,{"$f":"[2]!SUMSTRING(G105:J105,\"|\")","v":{"$error":"#NAME?"}},null,14,{"$f":"SUM($B$1:B105)*0.6","v":861660},3,{"$f":"SUM($E$1:E105)*0.6","v":37674},null,{"$f":"[2]!SUMSTRING(N105:O105,\"#\")","v":{"$error":"#NAME?"}},null,{"$f":"[2]!SUMSTRING(P105:Q105,\"#\")","v":{"$error":"#NAME?"}},null,{"$f":"[2]!SUMSTRING(S105:U105,\"|\")","v":{"$error":"#NAME?"}}]
[14,44000,null,3,1740,null,{"$f":"[2]!SUMSTRING(A106:B106,\"#\")","v":{"$error":"#NAME?"}},null,null,{"$f":"[2]!SUMSTRING(D106:E106,\"#\")","v":{"$error":"#NAME?"}},null,{"$f":"[2]!SUMSTRING(G106:J106,\"|\")","v":{"$error":"#NAME?"}},null,14,{"$f":"SUM($B$1:B106)*0.6","v":888060},3,{"$f":"SUM($E$1:E106)*0.6","v":38718},null,{"$f":"[2]!SUMSTRING(N106:O106,\"#\")","v":{"$error":"#NAME?"}},null,{"$f":"[2]!SUMSTRING(P106:Q106,\"#\")","v":{"$error":"#NAME?"}},null,{"$f":"[2]!SUMSTRING(S106:U106,\"|\")","v":{"$error":"#NAME?"}}]
[14,45000,null,3,1840,null,{"$f":"[2]!SUMSTRING(A107:B107,\"#\")","v":{"$error":"#NAME?"}},null,null,{"$f":"[2]!SUMSTRING(D107:E107,\"#\")","v":{"$error":"#NAME?"}},null,{"$f":"[2]!SUMSTRING(G107:J107,\"|\")","v":{"$error":"#NAME?"}},null,14,{"$f":"SUM($B$1:B107)*0.6","v":915060},3,{"$f":"SUM($E$1:E107)*0.6","v":39822},null,{"$f":"[2]!SUMSTRING(N107:O107,\"#\")","v":{"$error":"#NAME?"}},null,{"$f":"[2]!SUMSTRING(P107:Q107,\"#\")","v":{"$error":"#NAME?"}},null,{"$f":"[2]!SUMSTRING(S107:U107,\"|\")","v":{"$error":"#NAME?"}}]
[14,46000,null,3,1940,null,{"$f":"[2]!SUMSTRING(A108:B108,\"#\")","v":{"$error":"#NAME?"}},null,null,{"$f":"[2]!SUMSTRING(D108:E108,\"#\")","v":{"$error":"#NAME?"}},null,{"$f":"[2]!SUMSTRING(G108:J108,\"|\")","v":{"$error":"#NAME?"}},null,14,{"$f":"SUM($B$1:B108)*0.6","v":942660},3,{"$f":"SUM($E$1:E108)*0.6","v":40986},null,{"$f":"[2]!SUMSTRING(N108:O108,\"#\")","v":{"$error":"#NAME?"}},null,{"$f":"[2]!SUMSTRING(P108:Q108,\"#\")","v":{"$error":"#NAME?"}},null,{"$f":"[2]!SUMSTRING(S108:U108,\"|\")","v":{"$error":"#NAME?"}}]
[14,47000,null,3,2040,null,{"$f":"[2]!SUMSTRING(A109:B109,\"#\")","v":{"$error":"#NAME?"}},null,null,{"$f":"[2]!SUMSTRING(D109:E109,\"#\")","v":{"$error":"#NAME?"}},null,{"$f":"[2]!SUMSTRING(G109:J109,\"|\")","v":{"$error":"#NAME?"}},null,14,{"$f":"SUM($B$1:B109)*0.6","v":970860},3,{"$f":"SUM($E$1:E109)*0.6","v":42210},null,{"$f":"[2]!SUMSTRING(N109:O109,\"#\")","v":{"$error":"#NAME?"}},null,{"$f":"[2]!SUMSTRING(P109:Q109,\"#\")","v":{"$error":"#NAME?"}},null,{"$f":"[2]!SUMSTRING(S109:U109,\"|\")","v":{"$error":"#NAME?"}}]
[14,48000,null,3,2140,null,{"$f":"[2]!SUMSTRING(A110:B110,\"#\")","v":{"$error":"#NAME?"}},null,null,{"$f":"[2]!SUMSTRING(D110:E110,\"#\")","v":{"$error":"#NAME?"}},null,{"$f":"[2]!SUMSTRING(G110:J110,\"|\")","v":{"$error":"#NAME?"}},null,14,{"$f":"SUM($B$1:B110)*0.6","v":999660},3,{"$f":"SUM($E$1:E110)*0.6","v":43494},null,{"$f":"[2]!SUMSTRING(N110:O110,\"#\")","v":{"$error":"#NAME?"}},null,{"$f":"[2]!SUMSTRING(P110:Q110,\"#\")","v":{"$error":"#NAME?"}},null,{"$f":"[2]!SUMSTRING(S110:U110,\"|\")","v":{"$error":"#NAME?"}}]
[14,49000,null,3,2240,null,{"$f":"[2]!SUMSTRING(A111:B111,\"#\")","v":{"$error":"#NAME?"}},null,null,{"$f":"[2]!SUMSTRING(D111:E111,\"#\")","v":{"$error":"#NAME?"}},null,{"$f":"[2]!SUMSTRING(G111:J111,\"|\")","v":{"$error":"#NAME?"}},null,14,{"$f":"SUM($B$1:B111)*0.6","v":1029060},3,{"$f":"SUM($E$1:E111)*0.6","v":44838},null,{"$f":"[2]!SUMSTRING(N111:O111,\"#\")","v":{"$error":"#NAME?"}},null,{"$f":"[2]!SUMSTRING(P111:Q111,\"#\")","v":{"$error":"#NAME?"}},null,{"$f":"[2]!SUMSTRING(S111:U111,\"|\")","v":{"$error":"#NAME?"}}]
[14,50000,null,3,2340,null,{"$f":"[2]!SUMSTRING(A112:B112,\"#\")","v":{"$error":"#NAME?"}},null,null,{"$f":"[2]!SUMSTRING(D112:E112,\"#\")","v":{"$error":"#NAME?"}},null,{"$f":"[2]!SUMSTRING(G112:J112,\"|\")","v":{"$error":"#NAME?"}},null,14,{"$f":"SUM($B$1:B112)*0.6","v":1059060},3,{"$f":"SUM($E$1:E112)*0.6","v":46242},null,{"$f":"[2]!SUMSTRING(N112:O112,\"#\")","v":{"$error":"#NAME?"}},null,{"$f":"[2]!SUMSTRING(P112:Q112,\"#\")","v":{"$error":"#NAME?"}},null,{"$f":"[2]!SUMSTRING(S112:U112,\"|\")","v":{"$error":"#NAME?"}}]
[14,51000,null,3,2440,null,{"$f":"[2]!SUMSTRING(A113:B113,\"#\")","v":{"$error":"#NAME?"}},null,null,{"$f":"[2]!SUMSTRING(D113:E113,\"#\")","v":{"$error":"#NAME?"}},null,{"$f":"[2]!SUMSTRING(G113:J113,\"|\")","v":{"$error":"#NAME?"}},null,14,{"$f":"SUM($B$1:B113)*0.6","v":1089660},3,{"$f":"SUM($E$1:E113)*0.6","v":47706},null,{"$f":"[2]!SUMSTRING(N113:O113,\"#\")","v":{"$error":"#NAME?"}},null,{"$f":"[2]!SUMSTRING(P113:Q113,\"#\")","v":{"$error":"#NAME?"}},null,{"$f":"[2]!SUMSTRING(S113:U113,\"|\")","v":{"$error":"#NAME?"}}]
[14,52000,null,3,2540,null,{"$f":"[2]!SUMSTRING(A114:B114,\"#\")","v":{"$error":"#NAME?"}},null,null,{"$f":"[2]!SUMSTRING(D114:E114,\"#\")","v":{"$error":"#NAME?"}},null,{"$f":"[2]!SUMSTRING(G114:J114,\"|\")","v":{"$error":"#NAME?"}},null,14,{"$f":"SUM($B$1:B114)*0.6","v":1120860},3,{"$f":"SUM($E$1:E114)*0.6","v":49230},null,{"$f":"[2]!SUMSTRING(N114:O114,\"#\")","v":{"$error":"#NAME?"}},null,{"$f":"[2]!SUMSTRING(P114:Q114,\"#\")","v":{"$error":"#NAME?"}},null,{"$f":"[2]!SUMSTRING(S114:U114,\"|\")","v":{"$error":"#NAME?"}}]
[14,53000,null,3,2640,null,{"$f":"[2]!SUMSTRING(A115:B115,\"#\")","v":{"$error":"#NAME?"}},null,null,{"$f":"[2]!SUMSTRING(D115:E115,\"#\")","v":{"$error":"#NAME?"}},null,{"$f":"[2]!SUMSTRING(G115:J115,\"|\")","v":{"$error":"#NAME?"}},null,14,{"$f":"SUM($B$1:B115)*0.6","v":1152660},3,{"$f":"SUM($E$1:E115)*0.6","v":50814},null,{"$f":"[2]!SUMSTRING(N115:O115,\"#\")","v":{"$error":"#NAME?"}},null,{"$f":"[2]!SUMSTRING(P115:Q115,\"#\")","v":{"$error":"#NAME?"}},null,{"$f":"[2]!SUMSTRING(S115:U115,\"|\")","v":{"$error":"#NAME?"}}]
[14,54000,null,3,2740,null,{"$f":"[2]!SUMSTRING(A116:B116,\"#\")","v":{"$error":"#NAME?"}},null,null,{"$f":"[2]!SUMSTRING(D116:E116,\"#\")","v":{"$error":"#NAME?"}},null,{"$f":"[2]!SUMSTRING(G116:J116,\"|\")","v":{"$error":"#NAME?"}},null,14,{"$f":"SUM($B$1:B116)*0.6","v":1185060},3,{"$f":"SUM($E$1:E116)*0.6","v":52458},null,{"$f":"[2]!SUMSTRING(N116:O116,\"#\")","v":{"$error":"#NAME?"}},null,{"$f":"[2]!SUMSTRING(P116:Q116,\"#\")","v":{"$error":"#NAME?"}},null,{"$f":"[2]!SUMSTRING(S116:U116,\"|\")","v":{"$error":"#NAME?"}}]
[14,55000,null,3,2840,null,{"$f":"[2]!SUMSTRING(A117:B117,\"#\")","v":{"$error":"#NAME?"}},null,null,{"$f":"[2]!SUMSTRING(D117:E117,\"#\")","v":{"$error":"#NAME?"}},null,{"$f":"[2]!SUMSTRING(G117:J117,\"|\")","v":{"$error":"#NAME?"}},null,14,{"$f":"SUM($B$1:B117)*0.6","v":1218060},3,{"$f":"SUM($E$1:E117)*0.6","v":54162},null,{"$f":"[2]!SUMSTRING(N117:O117,\"#\")","v":{"$error":"#NAME?"}},null,{"$f":"[2]!SUMSTRING(P117:Q117,\"#\")","v":{"$error":"#NAME?"}},null,{"$f":"[2]!SUMSTRING(S117:U117,\"|\")","v":{"$error":"#NAME?"}}]
[14,56000,null,3,2940,null,{"$f":"[2]!SUMSTRING(A118:B118,\"#\")","v":{"$error":"#NAME?"}},null,null,{"$f":"[2]!SUMSTRING(D118:E118,\"#\")","v":{"$error":"#NAME?"}},null,{"$f":"[2]!SUMSTRING(G118:J118,\"|\")","v":{"$error":"#NAME?"}},null,14,{"$f":"SUM($B$1:B118)*0.6","v":1251660},3,{"$f":"SUM($E$1:E118)*0.6","v":55926},null,{"$f":"[2]!SUMSTRING(N118:O118,\"#\")","v":{"$error":"#NAME?"}},null,{"$f":"[2]!SUMSTRING(P118:Q118,\"#\")","v":{"$error":"#NAME?"}},null,{"$f":"[2]!SUMSTRING(S118:U118,\"|\")","v":{"$error":"#NAME?"}}]
[14,57000,null,3,3040,null,{"$f":"[2]!SUMSTRING(A119:B119,\"#\")","v":{"$error":"#NAME?"}},null,null,{"$f":"[2]!SUMSTRING(D119:E119,\"#\")","v":{"$error":"#NAME?"}},null,{"$f":"[2]!SUMSTRING(G119:J119,\"|\")","v":{"$error":"#NAME?"}},null,14,{"$f":"SUM($B$1:B119)*0.6","v":1285860},3,{"$f":"SUM($E$1:E119)*0.6","v":57750},null,{"$f":"[2]!SUMSTRING(N119:O119,\"#\")","v":{"$error":"#NAME?"}},null,{"$f":"[2]!SUMSTRING(P119:Q119,\"#\")","v":{"$error":"#NAME?"}},null,{"$f":"[2]!SUMSTRING(S119:U119,\"|\")","v":{"$error":"#NAME?"}}]
[14,58000,null,3,3140,null,{"$f":"[2]!SUMSTRING(A120:B120,\"#\")","v":{"$error":"#NAME?"}},null,null,{"$f":"[2]!SUMSTRING(D120:E120,\"#\")","v":{"$error":"#NAME?"}},null,{"$f":"[2]!SUMSTRING(G120:J120,\"|\")","v":{"$error":"#NAME?"}},null,14,{"$f":"SUM($B$1:B120)*0.6","v":1320660},3,{"$f":"SUM($E$1:E120)*0.6","v":59634},null,{"$f":"[2]!SUMSTRING(N120:O120,\"#\")","v":{"$error":"#NAME?"}},null,{"$f":"[2]!SUMSTRING(P120:Q120,\"#\")","v":{"$error":"#NAME?"}},null,{"$f":"[2]!SUMSTRING(S120:U120,\"|\")","v":{"$error":"#NAME?"}}]
[14,59000,null,3,3240,null,{"$f":"[2]!SUMSTRING(A121:B121,\"#\")","v":{"$error":"#NAME?"}},null,null,{"$f":"[2]!SUMSTRING(D121:E121,\"#\")","v":{"$error":"#NAME?"}},null,{"$f":"[2]!SUMSTRING(G121:J121,\"|\")","v":{"$error":"#NAME?"}},null,14,{"$f":"SUM($B$1:B121)*0.6","v":1356060},3,{"$f":"SUM($E$1:E121)*0.6","v":61578},null,{"$f":"[2]!SUMSTRING(N121:O121,\"#\")","v":{"$error":"#NAME?"}},null,{"$f":"[2]!SUMSTRING(P121:Q121,\"#\")","v":{"$error":"#NAME?"}},null,{"$f":"[2]!SUMSTRING(S121:U121,\"|\")","v":{"$error":"#NAME?"}}]
[14,60000,null,3,3340,null,{"$f":"[2]!SUMSTRING(A122:B122,\"#\")","v":{"$error":"#NAME?"}},null,null,{"$f":"[2]!SUMSTRING(D122:E122,\"#\")","v":{"$error":"#NAME?"}},null,{"$f":"[2]!SUMSTRING(G122:J122,\"|\")","v":{"$error":"#NAME?"}},null,14,{"$f":"SUM($B$1:B122)*0.6","v":1392060},3,{"$f":"SUM($E$1:E122)*0.6","v":63582},null,{"$f":"[2]!SUMSTRING(N122:O122,\"#\")","v":{"$error":"#NAME?"}},null,{"$f":"[2]!SUMSTRING(P122:Q122,\"#\")","v":{"$error":"#NAME?"}},null,{"$f":"[2]!SUMSTRING(S122:U122,\"|\")","v":{"$error":"#NAME?"}}]
[14,61000,null,3,3440,null,{"$f":"[2]!SUMSTRING(A123:B123,\"#\")","v":{"$error":"#NAME?"}},null,null,{"$f":"[2]!SUMSTRING(D123:E123,\"#\")","v":{"$error":"#NAME?"}},null,{"$f":"[2]!SUMSTRING(G123:J123,\"|\")","v":{"$error":"#NAME?"}},null,14,{"$f":"SUM($B$1:B123)*0.6","v":1428660},3,{"$f":"SUM($E$1:E123)*0.6","v":65646},null,{"$f":"[2]!SUMSTRING(N123:O123,\"#\")","v":{"$error":"#NAME?"}},null,{"$f":"[2]!SUMSTRING(P123:Q123,\"#\")","v":{"$error":"#NAME?"}},null,{"$f":"[2]!SUMSTRING(S123:U123,\"|\")","v":{"$error":"#NAME?"}}]
[14,62000,null,3,3540,null,{"$f":"[2]!SUMSTRING(A124:B124,\"#\")","v":{"$error":"#NAME?"}},null,null,{"$f":"[2]!SUMSTRING(D124:E124,\"#\")","v":{"$error":"#NAME?"}},null,{"$f":"[2]!SUMSTRING(G124:J124,\"|\")","v":{"$error":"#NAME?"}},null,14,{"$f":"SUM($B$1:B124)*0.6","v":1465860},3,{"$f":"SUM($E$1:E124)*0.6","v":67770},null,{"$f":"[2]!SUMSTRING(N124:O124,\"#\")","v":{"$error":"#NAME?"}},null,{"$f":"[2]!SUMSTRING(P124:Q124,\"#\")","v":{"$error":"#NAME?"}},null,{"$f":"[2]!SUMSTRING(S124:U124,\"|\")","v":{"$error":"#NAME?"}}]
[14,63000,null,3,3640,null,{"$f":"[2]!SUMSTRING(A125:B125,\"#\")","v":{"$error":"#NAME?"}},null,null,{"$f":"[2]!SUMSTRING(D125:E125,\"#\")","v":{"$error":"#NAME?"}},null,{"$f":"[2]!SUMSTRING(G125:J125,\"|\")","v":{"$error":"#NAME?"}},null,14,{"$f":"SUM($B$1:B125)*0.6","v":1503660},3,{"$f":"SUM($E$1:E125)*0.6","v":69954},null,{"$f":"[2]!SUMSTRING(N125:O125,\"#\")","v":{"$error":"#NAME?"}},null,{"$f":"[2]!SUMSTRING(P125:Q125,\"#\")","v":{"$error":"#NAME?"}},null,{"$f":"[2]!SUMSTRING(S125:U125,\"|\")","v":{"$error":"#NAME?"}}]
[14,64000,null,3,3740,null,{"$f":"[2]!SUMSTRING(A126:B126,\"#\")","v":{"$error":"#NAME?"}},null,null,{"$f":"[2]!SUMSTRING(D126:E126,\"#\")","v":{"$error":"#NAME?"}},null,{"$f":"[2]!SUMSTRING(G126:J126,\"|\")","v":{"$error":"#NAME?"}},null,14,{"$f":"SUM($B$1:B126)*0.6","v":1542060},3,{"$f":"SUM($E$1:E126)*0.6","v":72198},null,{"$f":"[2]!SUMSTRING(N126:O126,\"#\")","v":{"$error":"#NAME?"}},null,{"$f":"[2]!SUMSTRING(P126:Q126,\"#\")","v":{"$error":"#NAME?"}},null,{"$f":"[2]!SUMSTRING(S126:U126,\"|\")","v":{"$error":"#NAME?"}}]
[14,65000,null,3,3840,null,{"$f":"[2]!SUMSTRING(A127:B127,\"#\")","v":{"$error":"#NAME?"}},null,null,{"$f":"[2]!SUMSTRING(D127:E127,\"#\")","v":{"$error":"#NAME?"}},null,{"$f":"[2]!SUMSTRING(G127:J127,\"|\")","v":{"$error":"#NAME?"}},null,14,{"$f":"SUM($B$1:B127)*0.6","v":1581060},3,{"$f":"SUM($E$1:E127)*0.6","v":74502},null,{"$f":"[2]!SUMSTRING(N127:O127,\"#\")","v":{"$error":"#NAME?"}},null,{"$f":"[2]!SUMSTRING(P127:Q127,\"#\")","v":{"$error":"#NAME?"}},null,{"$f":"[2]!SUMSTRING(S127:U127,\"|\")","v":{"$error":"#NAME?"}}]
[14,66000,null,3,3940,null,{"$f":"[2]!SUMSTRING(A128:B128,\"#\")","v":{"$error":"#NAME?"}},null,null,{"$f":"[2]!SUMSTRING(D128:E128,\"#\")","v":{"$error":"#NAME?"}},null,{"$f":"[2]!SUMSTRING(G128:J128,\"|\")","v":{"$error":"#NAME?"}},null,14,{"$f":"SUM($B$1:B128)*0.6","v":1620660},3,{"$f":"SUM($E$1:E128)*0.6","v":76866},null,{"$f":"[2]!SUMSTRING(N128:O128,\"#\")","v":{"$error":"#NAME?"}},null,{"$f":"[2]!SUMSTRING(P128:Q128,\"#\")","v":{"$error":"#NAME?"}},null,{"$f":"[2]!SUMSTRING(S128:U128,\"|\")","v":{"$error":"#NAME?"}}]
[14,67000,null,3,4040,null,{"$f":"[2]!SUMSTRING(A129:B129,\"#\")","v":{"$error":"#NAME?"}},null,null,{"$f":"[2]!SUMSTRING(D129:E129,\"#\")","v":{"$error":"#NAME?"}},null,{"$f":"[2]!SUMSTRING(G129:J129,\"|\")","v":{"$error":"#NAME?"}},null,14,{"$f":"SUM($B$1:B129)*0.6","v":1660860},3,{"$f":"SUM($E$1:E129)*0.6","v":79290},null,{"$f":"[2]!SUMSTRING(N129:O129,\"#\")","v":{"$error":"#NAME?"}},null,{"$f":"[2]!SUMSTRING(P129:Q129,\"#\")","v":{"$error":"#NAME?"}},null,{"$f":"[2]!SUMSTRING(S129:U129,\"|\")","v":{"$error":"#NAME?"}}]
[14,68000,null,3,4140,null,{"$f":"[2]!SUMSTRING(A130:B130,\"#\")","v":{"$error":"#NAME?"}},null,null,{"$f":"[2]!SUMSTRING(D130:E130,\"#\")","v":{"$error":"#NAME?"}},null,{"$f":"[2]!SUMSTRING(G130:J130,\"|\")","v":{"$error":"#NAME?"}},null,14,{"$f":"SUM($B$1:B130)*0.6","v":1701660},3,{"$f":"SUM($E$1:E130)*0.6","v":81774},null,{"$f":"[2]!SUMSTRING(N130:O130,\"#\")","v":{"$error":"#NAME?"}},null,{"$f":"[2]!SUMSTRING(P130:Q130,\"#\")","v":{"$error":"#NAME?"}},null,{"$f":"[2]!SUMSTRING(S130:U130,\"|\")","v":{"$error":"#NAME?"}}]
[14,69000,null,3,4240,null,{"$f":"[2]!SUMSTRING(A131:B131,\"#\")","v":{"$error":"#NAME?"}},null,null,{"$f":"[2]!SUMSTRING(D131:E131,\"#\")","v":{"$error":"#NAME?"}},null,{"$f":"[2]!SUMSTRING(G131:J131,\"|\")","v":{"$error":"#NAME?"}},null,14,{"$f":"SUM($B$1:B131)*0.6","v":1743060},3,{"$f":"SUM($E$1:E131)*0.6","v":84318},null,{"$f":"[2]!SUMSTRING(N131:O131,\"#\")","v":{"$error":"#NAME?"}},null,{"$f":"[2]!SUMSTRING(P131:Q131,\"#\")","v":{"$error":"#NAME?"}},null,{"$f":"[2]!SUMSTRING(S131:U131,\"|\")","v":{"$error":"#NAME?"}}]
[14,70000,null,3,4340,null,{"$f":"[2]!SUMSTRING(A132:B132,\"#\")","v":{"$error":"#NAME?"}},null,null,{"$f":"[2]!SUMSTRING(D132:E132,\"#\")","v":{"$error":"#NAME?"}},null,{"$f":"[2]!SUMSTRING(G132:J132,\"|\")","v":{"$error":"#NAME?"}},null,14,{"$f":"SUM($B$1:B132)*0.6","v":1785060},3,{"$f":"SUM($E$1:E132)*0.6","v":86922},null,{"$f":"[2]!SUMSTRING(N132:O132,\"#\")","v":{"$error":"#NAME?"}},null,{"$f":"[2]!SUMSTRING(P132:Q132,\"#\")","v":{"$error":"#NAME?"}},null,{"$f":"[2]!SUMSTRING(S132:U132,\"|\")","v":{"$error":"#NAME?"}}]
[14,71000,null,3,4440,null,{"$f":"[2]!SUMSTRING(A133:B133,\"#\")","v":{"$error":"#NAME?"}},null,null,{"$f":"[2]!SUMSTRING(D133:E133,\"#\")","v":{"$error":"#NAME?"}},null,{"$f":"[2]!SUMSTRING(G133:J133,\"|\")","v":{"$error":"#NAME?"}},null,14,{"$f":"SUM($B$1:B133)*0.6","v":1827660},3,{"$f":"SUM($E$1:E133)*0.6","v":89586},null,{"$f":"[2]!SUMSTRING(N133:O133,\"#\")","v":{"$error":"#NAME?"}},null,{"$f":"[2]!SUMSTRING(P133:Q133,\"#\")","v":{"$error":"#NAME?"}},null,{"$f":"[2]!SUMSTRING(S133:U133,\"|\")","v":{"$error":"#NAME?"}}]
[14,72000,null,3,4540,null,{"$f":"[2]!SUMSTRING(A134:B134,\"#\")","v":{"$error":"#NAME?"}},null,null,{"$f":"[2]!SUMSTRING(D134:E134,\"#\")","v":{"$error":"#NAME?"}},null,{"$f":"[2]!SUMSTRING(G134:J134,\"|\")","v":{"$error":"#NAME?"}},null,14,{"$f":"SUM($B$1:B134)*0.6","v":1870860},3,{"$f":"SUM($E$1:E134)*0.6","v":92310},null,{"$f":"[2]!SUMSTRING(N134:O134,\"#\")","v":{"$error":"#NAME?"}},null,{"$f":"[2]!SUMSTRING(P134:Q134,\"#\")","v":{"$error":"#NAME?"}},null,{"$f":"[2]!SUMSTRING(S134:U134,\"|\")","v":{"$error":"#NAME?"}}]
[14,73000,null,3,4640,null,{"$f":"[2]!SUMSTRING(A135:B135,\"#\")","v":{"$error":"#NAME?"}},null,null,{"$f":"[2]!SUMSTRING(D135:E135,\"#\")","v":{"$error":"#NAME?"}},null,{"$f":"[2]!SUMSTRING(G135:J135,\"|\")","v":{"$error":"#NAME?"}},null,14,{"$f":"SUM($B$1:B135)*0.6","v":1914660},3,{"$f":"SUM($E$1:E135)*0.6","v":95094},null,{"$f":"[2]!SUMSTRING(N135:O135,\"#\")","v":{"$error":"#NAME?"}},null,{"$f":"[2]!SUMSTRING(P135:Q135,\"#\")","v":{"$error":"#NAME?"}},null,{"$f":"[2]!SUMSTRING(S135:U135,\"|\")","v":{"$error":"#NAME?"}}]
[14,74000,null,3,4740,null,{"$f":"[2]!SUMSTRING(A136:B136,\"#\")","v":{"$error":"#NAME?"}},null,null,{"$f":"[2]!SUMSTRING(D136:E136,\"#\")","v":{"$error":"#NAME?"}},null,{"$f":"[2]!SUMSTRING(G136:J136,\"|\")","v":{"$error":"#NAME?"}},null,14,{"$f":"SUM($B$1:B136)*0.6","v":1959060},3,{"$f":"SUM($E$1:E136)*0.6","v":97938},null,{"$f":"[2]!SUMSTRING(N136:O136,\"#\")","v":{"$error":"#NAME?"}},null,{"$f":"[2]!SUMSTRING(P136:Q136,\"#\")","v":{"$error":"#NAME?"}},null,{"$f":"[2]!SUMSTRING(S136:U136,\"|\")","v":{"$error":"#NAME?"}}]
[14,75000,null,3,4840,null,{"$f":"[2]!SUMSTRING(A137:B137,\"#\")","v":{"$error":"#NAME?"}},null,null,{"$f":"[2]!SUMSTRING(D137:E137,\"#\")","v":{"$error":"#NAME?"}},null,{"$f":"[2]!SUMSTRING(G137:J137,\"|\")","v":{"$error":"#NAME?"}},null,14,{"$f":"SUM($B$1:B137)*0.6","v":2004060},3,{"$f":"SUM($E$1:E137)*0.6","v":100842},null,{"$f":"[2]!SUMSTRING(N137:O137,\"#\")","v":{"$error":"#NAME?"}},null,{"$f":"[2]!SUMSTRING(P137:Q137,\"#\")","v":{"$error":"#NAME?"}},null,{"$f":"[2]!SUMSTRING(S137:U137,\"|\")","v":{"$error":"#NAME?"}}]
[14,76000,null,3,4940,null,{"$f":"[2]!SUMSTRING(A138:B138,\"#\")","v":{"$error":"#NAME?"}},null,null,{"$f":"[2]!SUMSTRING(D138:E138,\"#\")","v":{"$error":"#NAME?"}},null,{"$f":"[2]!SUMSTRING(G138:J138,\"|\")","v":{"$error":"#NAME?"}},null,14,{"$f":"SUM($B$1:B138)*0.6","v":2049660},3,{"$f":"SUM($E$1:E138)*0.6","v":103806},null,{"$f":"[2]!SUMSTRING(N138:O138,\"#\")","v":{"$error":"#NAME?"}},null,{"$f":"[2]!SUMSTRING(P138:Q138,\"#\")","v":{"$error":"#NAME?"}},null,{"$f":"[2]!SUMSTRING(S138:U138,\"|\")","v":{"$error":"#NAME?"}}]
[14,77000,null,3,5040,null,{"$f":"[2]!SUMSTRING(A139:B139,\"#\")","v":{"$error":"#NAME?"}},null,null,{"$f":"[2]!SUMSTRING(D139:E139,\"#\")","v":{"$error":"#NAME?"}},null,{"$f":"[2]!SUMSTRING(G139:J139,\"|\")","v":{"$error":"#NAME?"}},null,14,{"$f":"SUM($B$1:B139)*0.6","v":2095860},3,{"$f":"SUM($E$1:E139)*0.6","v":106830},null,{"$f":"[2]!SUMSTRING(N139:O139,\"#\")","v":{"$error":"#NAME?"}},null,{"$f":"[2]!SUMSTRING(P139:Q139,\"#\")","v":{"$error":"#NAME?"}},null,{"$f":"[2]!SUMSTRING(S139:U139,\"|\")","v":{"$error":"#NAME?"}}]
[14,80000,null,3,5340,null,{"$f":"[2]!SUMSTRING(A140:B140,\"#\")","v":{"$error":"#NAME?"}},null,null,{"$f":"[2]!SUMSTRING(D140:E140,\"#\")","v":{"$error":"#NAME?"}},null,{"$f":"[2]!SUMSTRING(G140:J140,\"|\")","v":{"$error":"#NAME?"}},null,14,{"$f":"SUM($B$1:B140)*0.6","v":2143860},3,{"$f":"SUM($E$1:E140)*0.6","v":110034},null,{"$f":"[2]!SUMSTRING(N140:O140,\"#\")","v":{"$error":"#NAME?"}},null,{"$f":"[2]!SUMSTRING(P140:Q140,\"#\")","v":{"$error":"#NAME?"}},null,{"$f":"[2]!SUMSTRING(S140:U140,\"|\")","v":{"$error":"#NAME?"}}]
[14,83000,null,3,6140,null,{"$f":"[2]!SUMSTRING(A141:B141,\"#\")","v":{"$error":"#NAME?"}},null,null,{"$f":"[2]!SUMSTRING(D141:E141,\"#\")","v":{"$error":"#NAME?"}},null,{"$f":"[2]!SUMSTRING(G141:J141,\"|\")","v":{"$error":"#NAME?"}},null,14,{"$f":"SUM($B$1:B141)*0.6","v":2193660},3,{"$f":"SUM($E$1:E141)*0.6","v":113718},null,{"$f":"[2]!SUMSTRING(N141:O141,\"#\")","v":{"$error":"#NAME?"}},null,{"$f":"[2]!SUMSTRING(P141:Q141,\"#\")","v":{"$error":"#NAME?"}},null,{"$f":"[2]!SUMSTRING(S141:U141,\"|\")","v":{"$error":"#NAME?"}}]
[14,86000,null,3,7440,null,{"$f":"[2]!SUMSTRING(A142:B142,\"#\")","v":{"$error":"#NAME?"}},null,null,{"$f":"[2]!SUMSTRING(D142:E142,\"#\")","v":{"$error":"#NAME?"}},null,{"$f":"[2]!SUMSTRING(G142:J142,\"|\")","v":{"$error":"#NAME?"}},null,14,{"$f":"SUM($B$1:B142)*0.6","v":2245260},3,{"$f":"SUM($E$1:E142)*0.6","v":118182},null,{"$f":"[2]!SUMSTRING(N142:O142,\"#\")","v":{"$error":"#NAME?"}},null,{"$f":"[2]!SUMSTRING(P142:Q142,\"#\")","v":{"$error":"#NAME?"}},null,{"$f":"[2]!SUMSTRING(S142:U142,\"|\")","v":{"$error":"#NAME?"}}]
[14,89000,null,3,8740,null,{"$f":"[2]!SUMSTRING(A143:B143,\"#\")","v":{"$error":"#NAME?"}},null,null,{"$f":"[2]!SUMSTRING(D143:E143,\"#\")","v":{"$error":"#NAME?"}},null,{"$f":"[2]!SUMSTRING(G143:J143,\"|\")","v":{"$error":"#NAME?"}},null,14,{"$f":"SUM($B$1:B143)*0.6","v":2298660},3,{"$f":"SUM($E$1:E143)*0.6","v":123426},null,{"$f":"[2]!SUMSTRING(N143:O143,\"#\")","v":{"$error":"#NAME?"}},null,{"$f":"[2]!SUMSTRING(P143:Q143,\"#\")","v":{"$error":"#NAME?"}},null,{"$f":"[2]!SUMSTRING(S143:U143,\"|\")","v":{"$error":"#NAME?"}}]
[14,92000,null,3,10040,null,{"$f":"[2]!SUMSTRING(A144:B144,\"#\")","v":{"$error":"#NAME?"}},null,null,{"$f":"[2]!SUMSTRING(D144:E144,\"#\")","v":{"$error":"#NAME?"}},null,{"$f":"[2]!SUMSTRING(G144:J144,\"|\")","v":{"$error":"#NAME?"}},null,14,{"$f":"SUM($B$1:B144)*0.6","v":2353860},3,{"$f":"SUM($E$1:E144)*0.6","v":129450},null,{"$f":"[2]!SUMSTRING(N144:O144,\"#\")","v":{"$error":"#NAME?"}},null,{"$f":"[2]!SUMSTRING(P144:Q144,\"#\")","v":{"$error":"#NAME?"}},null,{"$f":"[2]!SUMSTRING(S144:U144,\"|\")","v":{"$error":"#NAME?"}}]
[14,95000,null,3,11340,null,{"$f":"[2]!SUMSTRING(A145:B145,\"#\")","v":{"$error":"#NAME?"}},null,null,{"$f":"[2]!SUMSTRING(D145:E145,\"#\")","v":{"$error":"#NAME?"}},null,{"$f":"[2]!SUMSTRING(G145:J145,\"|\")","v":{"$error":"#NAME?"}},null,14,{"$f":"SUM($B$1:B145)*0.6","v":2410860},3,{"$f":"SUM($E$1:E145)*0.6","v":136254},null,{"$f":"[2]!SUMSTRING(N145:O145,\"#\")","v":{"$error":"#NAME?"}},null,{"$f":"[2]!SUMSTRING(P145:Q145,\"#\")","v":{"$error":"#NAME?"}},null,{"$f":"[2]!SUMSTRING(S145:U145,\"|\")","v":{"$error":"#NAME?"}}]
[14,98000,null,3,12640,null,{"$f":"[2]!SUMSTRING(A146:B146,\"#\")","v":{"$error":"#NAME?"}},null,null,{"$f":"[2]!SUMSTRING(D146:E146,\"#\")","v":{"$error":"#NAME?"}},null,{"$f":"[2]!SUMSTRING(G146:J146,\"|\")","v":{"$error":"#NAME?"}},null,14,{"$f":"SUM($B$1:B146)*0.6","v":2469660},3,{"$f":"SUM($E$1:E146)*0.6","v":143838},null,{"$f":"[2]!SUMSTRING(N146:O146,\"#\")","v":{"$error":"#NAME?"}},null,{"$f":"[2]!SUMSTRING(P146:Q146,\"#\")","v":{"$error":"#NAME?"}},null,{"$f":"[2]!SUMSTRING(S146:U146,\"|\")","v":{"$error":"#NAME?"}}]
[14,101000,null,3,13940,null,{"$f":"[2]!SUMSTRING(A147:B147,\"#\")","v":{"$error":"#NAME?"}},null,null,{"$f":"[2]!SUMSTRING(D147:E147,\"#\")","v":{"$error":"#NAME?"}},null,{"$f":"[2]!SUMSTRING(G147:J147,\"|\")","v":{"$error":"#NAME?"}},null,14,{"$f":"SUM($B$1:B147)*0.6","v":2530260},3,{"$f":"SUM($E$1:E147)*0.6","v":152202},null,{"$f":"[2]!SUMSTRING(N147:O147,\"#\")","v":{"$error":"#NAME?"}},null,{"$f":"[2]!SUMSTRING(P147:Q147,\"#\")","v":{"$error":"#NAME?"}},null,{"$f":"[2]!SUMSTRING(S147:U147,\"|\")","v":{"$error":"#NAME?"}}]
[14,104000,null,3,15240,null,{"$f":"[2]!SUMSTRING(A148:B148,\"#\")","v":{"$error":"#NAME?"}},null,null,{"$f":"[2]!SUMSTRING(D148:E148,\"#\")","v":{"$error":"#NAME?"}},null,{"$f":"[2]!SUMSTRING(G148:J148,\"|\")","v":{"$error":"#NAME?"}},null,14,{"$f":"SUM($B$1:B148)*0.6","v":2592660},3,{"$f":"SUM($E$1:E148)*0.6","v":161346},null,{"$f":"[2]!SUMSTRING(N148:O148,\"#\")","v":{"$error":"#NAME?"}},null,{"$f":"[2]!SUMSTRING(P148:Q148,\"#\")","v":{"$error":"#NAME?"}},null,{"$f":"[2]!SUMSTRING(S148:U148,\"|\")","v":{"$error":"#NAME?"}}]
[14,107000,null,3,16540,null,{"$f":"[2]!SUMSTRING(A149:B149,\"#\")","v":{"$error":"#NAME?"}},null,null,{"$f":"[2]!SUMSTRING(D149:E149,\"#\")","v":{"$error":"#NAME?"}},null,{"$f":"[2]!SUMSTRING(G149:J149,\"|\")","v":{"$error":"#NAME?"}},null,14,{"$f":"SUM($B$1:B149)*0.6","v":2656860},3,{"$f":"SUM($E$1:E149)*0.6","v":171270},null,{"$f":"[2]!SUMSTRING(N149:O149,\"#\")","v":{"$error":"#NAME?"}},null,{"$f":"[2]!SUMSTRING(P149:Q149,\"#\")","v":{"$error":"#NAME?"}},null,{"$f":"[2]!SUMSTRING(S149:U149,\"|\")","v":{"$error":"#NAME?"}}]
[14,110000,null,3,17840,null,{"$f":"[2]!SUMSTRING(A150:B150,\"#\")","v":{"$error":"#NAME?"}},null,null,{"$f":"[2]!SUMSTRING(D150:E150,\"#\")","v":{"$error":"#NAME?"}},null,{"$f":"[2]!SUMSTRING(G150:J150,\"|\")","v":{"$error":"#NAME?"}},null,14,{"$f":"SUM($B$1:B150)*0.6","v":2722860},3,{"$f":"SUM($E$1:E150)*0.6","v":181974},null,{"$f":"[2]!SUMSTRING(N150:O150,\"#\")","v":{"$error":"#NAME?"}},null,{"$f":"[2]!SUMSTRING(P150:Q150,\"#\")","v":{"$error":"#NAME?"}},null,{"$f":"[2]!SUMSTRING(S150:U150,\"|\")","v":{"$error":"#NAME?"}}]
[14,113000,null,3,19140,null,{"$f":"[2]!SUMSTRING(A151:B151,\"#\")","v":{"$error":"#NAME?"}},null,null,{"$f":"[2]!SUMSTRING(D151:E151,\"#\")","v":{"$error":"#NAME?"}},null,{"$f":"[2]!SUMSTRING(G151:J151,\"|\")","v":{"$error":"#NAME?"}},null,14,{"$f":"SUM($B$1:B151)*0.6","v":2790660},3,{"$f":"SUM($E$1:E151)*0.6","v":193458},null,{"$f":"[2]!SUMSTRING(N151:O151,\"#\")","v":{"$error":"#NAME?"}},null,{"$f":"[2]!SUMSTRING(P151:Q151,\"#\")","v":{"$error":"#NAME?"}},null,{"$f":"[2]!SUMSTRING(S151:U151,\"|\")","v":{"$error":"#NAME?"}}]
[14,116000,null,3,20440,null,{"$f":"[2]!SUMSTRING(A152:B152,\"#\")","v":{"$error":"#NAME?"}},null,null,{"$f":"[2]!SUMSTRING(D152:E152,\"#\")","v":{"$error":"#NAME?"}},null,{"$f":"[2]!SUMSTRING(G152:J152,\"|\")","v":{"$error":"#NAME?"}},null,14,{"$f":"SUM($B$1:B152)*0.6","v":2860260},3,{"$f":"SUM($E$1:E152)*0.6","v":205722},null,{"$f":"[2]!SUMSTRING(N152:O152,\"#\")","v":{"$error":"#NAME?"}},null,{"$f":"[2]!SUMSTRING(P152:Q152,\"#\")","v":{"$error":"#NAME?"}},null,{"$f":"[2]!SUMSTRING(S152:U152,\"|\")","v":{"$error":"#NAME?"}}]
[14,119000,null,3,21740,null,{"$f":"[2]!SUMSTRING(A153:B153,\"#\")","v":{"$error":"#NAME?"}},null,null,{"$f":"[2]!SUMSTRING(D153:E153,\"#\")","v":{"$error":"#NAME?"}},null,{"$f":"[2]!SUMSTRING(G153:J153,\"|\")","v":{"$error":"#NAME?"}},null,14,{"$f":"SUM($B$1:B153)*0.6","v":2931660},3,{"$f":"SUM($E$1:E153)*0.6","v":218766},null,{"$f":"[2]!SUMSTRING(N153:O153,\"#\")","v":{"$error":"#NAME?"}},null,{"$f":"[2]!SUMSTRING(P153:Q153,\"#\")","v":{"$error":"#NAME?"}},null,{"$f":"[2]!SUMSTRING(S153:U153,\"|\")","v":{"$error":"#NAME?"}}]
[14,122000,null,3,23040,null,{"$f":"[2]!SUMSTRING(A154:B154,\"#\")","v":{"$error":"#NAME?"}},null,null,{"$f":"[2]!SUMSTRING(D154:E154,\"#\")","v":{"$error":"#NAME?"}},null,{"$f":"[2]!SUMSTRING(G154:J154,\"|\")","v":{"$error":"#NAME?"}},null,14,{"$f":"SUM($B$1:B154)*0.6","v":3004860},3,{"$f":"SUM($E$1:E154)*0.6","v":232590},null,{"$f":"[2]!SUMSTRING(N154:O154,\"#\")","v":{"$error":"#NAME?"}},null,{"$f":"[2]!SUMSTRING(P154:Q154,\"#\")","v":{"$error":"#NAME?"}},null,{"$f":"[2]!SUMSTRING(S154:U154,\"|\")","v":{"$error":"#NAME?"}}]
[14,125000,null,3,24340,null,{"$f":"[2]!SUMSTRING(A155:B155,\"#\")","v":{"$error":"#NAME?"}},null,null,{"$f":"[2]!SUMSTRING(D155:E155,\"#\")","v":{"$error":"#NAME?"}},null,{"$f":"[2]!SUMSTRING(G155:J155,\"|\")","v":{"$error":"#NAME?"}},null,14,{"$f":"SUM($B$1:B155)*0.6","v":3079860},3,{"$f":"SUM($E$1:E155)*0.6","v":247194},null,{"$f":"[2]!SUMSTRING(N155:O155,\"#\")","v":{"$error":"#NAME?"}},null,{"$f":"[2]!SUMSTRING(P155:Q155,\"#\")","v":{"$error":"#NAME?"}},null,{"$f":"[2]!SUMSTRING(S155:U155,\"|\")","v":{"$error":"#NAME?"}}]
[14,128000,null,3,25640,null,{"$f":"[2]!SUMSTRING(A156:B156,\"#\")","v":{"$error":"#NAME?"}},null,null,{"$f":"[2]!SUMSTRING(D156:E156,\"#\")","v":{"$error":"#NAME?"}},null,{"$f":"[2]!SUMSTRING(G156:J156,\"|\")","v":{"$error":"#NAME?"}},null,14,{"$f":"SUM($B$1:B156)*0.6","v":3156660},3,{"$f":"SUM($E$1:E156)*0.6","v":262578},null,{"$f":"[2]!SUMSTRING(N156:O156,\"#\")","v":{"$error":"#NAME?"}},null,{"$f":"[2]!SUMSTRING(P156:Q156,\"#\")","v":{"$error":"#NAME?"}},null,{"$f":"[2]!SUMSTRING(S156:U156,\"|\")","v":{"$error":"#NAME?"}}]
[14,131000,null,3,26940,null,{"$f":"[2]!SUMSTRING(A157:B157,\"#\")","v":{"$error":"#NAME?"}},null,null,{"$f":"[2]!SUMSTRING(D157:E157,\"#\")","v":{"$error":"#NAME?"}},null,{"$f":"[2]!SUMSTRING(G157:J157,\"|\")","v":{"$error":"#NAME?"}},null,14,{"$f":"SUM($B$1:B157)*0.6","v":3235260},3,{"$f":"SUM($E$1:E157)*0.6","v":278742},null,{"$f":"[2]!SUMSTRING(N157:O157,\"#\")","v":{"$error":"#NAME?"}},null,{"$f":"[2]!SUMSTRING(P157:Q157,\"#\")","v":{"$error":"#NAME?"}},null,{"$f":"[2]!SUMSTRING(S157:U157,\"|\")","v":{"$error":"#NAME?"}}]
[14,134000,null,3,28240,null,{"$f":"[2]!SUMSTRING(A158:B158,\"#\")","v":{"$error":"#NAME?"}},null,null,{"$f":"[2]!SUMSTRING(D158:E158,\"#\")","v":{"$error":"#NAME?"}},null,{"$f":"[2]!SUMSTRING(G158:J158,\"|\")","v":{"$error":"#NAME?"}},null,14,{"$f":"SUM($B$1:B158)*0.6","v":3315660},3,{"$f":"SUM($E$1:E158)*0.6","v":295686},null,{"$f":"[2]!SUMSTRING(N158:O158,\"#\")","v":{"$error":"#NAME?"}},null,{"$f":"[2]!SUMSTRING(P158:Q158,\"#\")","v":{"$error":"#NAME?"}},null,{"$f":"[2]!SUMSTRING(S158:U158,\"|\")","v":{"$error":"#NAME?"}}]
[14,137000,null,3,29540,null,{"$f":"[2]!SUMSTRING(A159:B159,\"#\")","v":{"$error":"#NAME?"}},null,null,{"$f":"[2]!SUMSTRING(D159:E159,\"#\")","v":{"$error":"#NAME?"}},null,{"$f":"[2]!SUMSTRING(G159:J159,\"|\")","v":{"$error":"#NAME?"}},null,14,{"$f":"SUM($B$1:B159)*0.6","v":3397860},3,{"$f":"SUM($E$1:E159)*0.6","v":313410},null,{"$f":"[2]!SUMSTRING(N159:O159,\"#\")","v":{"$error":"#NAME?"}},null,{"$f":"[2]!SUMSTRING(P159:Q159,\"#\")","v":{"$error":"#NAME?"}},null,{"$f":"[2]!SUMSTRING(S159:U159,\"|\")","v":{"$error":"#NAME?"}}]
[14,140000,null,3,30840,null,{"$f":"[2]!SUMSTRING(A160:B160,\"#\")","v":{"$error":"#NAME?"}},null,null,{"$f":"[2]!SUMSTRING(D160:E160,\"#\")","v":{"$error":"#NAME?"}},null,{"$f":"[2]!SUMSTRING(G160:J160,\"|\")","v":{"$error":"#NAME?"}},null,14,{"$f":"SUM($B$1:B160)*0.6","v":3481860},3,{"$f":"SUM($E$1:E160)*0.6","v":331914},null,{"$f":"[2]!SUMSTRING(N160:O160,\"#\")","v":{"$error":"#NAME?"}},null,{"$f":"[2]!SUMSTRING(P160:Q160,\"#\")","v":{"$error":"#NAME?"}},null,{"$f":"[2]!SUMSTRING(S160:U160,\"|\")","v":{"$error":"#NAME?"}}]
[14,145000,null,3,32000,null,{"$f":"[2]!SUMSTRING(A161:B161,\"#\")","v":{"$error":"#NAME?"}},null,null,{"$f":"[2]!SUMSTRING(D161:E161,\"#\")","v":{"$error":"#NAME?"}},null,{"$f":"[2]!SUMSTRING(G161:J161,\"|\")","v":{"$error":"#NAME?"}},null,14,{"$f":"SUM($B$1:B161)*0.6","v":3568860},3,{"$f":"SUM($E$1:E161)*0.6","v":351114},null,{"$f":"[2]!SUMSTRING(N161:O161,\"#\")","v":{"$error":"#NAME?"}},null,{"$f":"[2]!SUMSTRING(P161:Q161,\"#\")","v":{"$error":"#NAME?"}},null,{"$f":"[2]!SUMSTRING(S161:U161,\"|\")","v":{"$error":"#NAME?"}}]
[14,150000,null,3,33160,null,{"$f":"[2]!SUMSTRING(A162:B162,\"#\")","v":{"$error":"#NAME?"}},null,null,{"$f":"[2]!SUMSTRING(D162:E162,\"#\")","v":{"$error":"#NAME?"}},null,{"$f":"[2]!SUMSTRING(G162:J162,\"|\")","v":{"$error":"#NAME?"}},null,14,{"$f":"SUM($B$1:B162)*0.6","v":3658860},3,{"$f":"SUM($E$1:E162)*0.6","v":371010},null,{"$f":"[2]!SUMSTRING(N162:O162,\"#\")","v":{"$error":"#NAME?"}},null,{"$f":"[2]!SUMSTRING(P162:Q162,\"#\")","v":{"$error":"#NAME?"}},null,{"$f":"[2]!SUMSTRING(S162:U162,\"|\")","v":{"$error":"#NAME?"}}]
[14,155000,null,3,34320,null,{"$f":"[2]!SUMSTRING(A163:B163,\"#\")","v":{"$error":"#NAME?"}},null,null,{"$f":"[2]!SUMSTRING(D163:E163,\"#\")","v":{"$error":"#NAME?"}},null,{"$f":"[2]!SUMSTRING(G163:J163,\"|\")","v":{"$error":"#NAME?"}},null,14,{"$f":"SUM($B$1:B163)*0.6","v":3751860},3,{"$f":"SUM($E$1:E163)*0.6","v":391602},null,{"$f":"[2]!SUMSTRING(N163:O163,\"#\")","v":{"$error":"#NAME?"}},null,{"$f":"[2]!SUMSTRING(P163:Q163,\"#\")","v":{"$error":"#NAME?"}},null,{"$f":"[2]!SUMSTRING(S163:U163,\"|\")","v":{"$error":"#NAME?"}}]
[14,160000,null,3,35480,null,{"$f":"[2]!SUMSTRING(A164:B164,\"#\")","v":{"$error":"#NAME?"}},null,null,{"$f":"[2]!SUMSTRING(D164:E164,\"#\")","v":{"$error":"#NAME?"}},null,{"$f":"[2]!SUMSTRING(G164:J164,\"|\")","v":{"$error":"#NAME?"}},null,14,{"$f":"SUM($B$1:B164)*0.6","v":3847860},3,{"$f":"SUM($E$1:E164)*0.6","v":412890},null,{"$f":"[2]!SUMSTRING(N164:O164,\"#\")","v":{"$error":"#NAME?"}},null,{"$f":"[2]!SUMSTRING(P164:Q164,\"#\")","v":{"$error":"#NAME?"}},null,{"$f":"[2]!SUMSTRING(S164:U164,\"|\")","v":{"$error":"#NAME?"}}]
[14,165000,null,3,36640,null,{"$f":"[2]!SUMSTRING(A165:B165,\"#\")","v":{"$error":"#NAME?"}},null,null,{"$f":"[2]!SUMSTRING(D165:E165,\"#\")","v":{"$error":"#NAME?"}},null,{"$f":"[2]!SUMSTRING(G165:J165,\"|\")","v":{"$error":"#NAME?"}},null,14,{"$f":"SUM($B$1:B165)*0.6","v":3946860},3,{"$f":"SUM($E$1:E165)*0.6","v":434874},null,{"$f":"[2]!SUMSTRING(N165:O165,\"#\")","v":{"$error":"#NAME?"}},null,{"$f":"[2]!SUMSTRING(P165:Q165,\"#\")","v":{"$error":"#NAME?"}},null,{"$f":"[2]!SUMSTRING(S165:U165,\"|\")","v":{"$error":"#NAME?"}}]
[14,170000,null,3,37800,null,{"$f":"[2]!SUMSTRING(A166:B166,\"#\")","v":{"$error":"#NAME?"}},null,null,{"$f":"[2]!SUMSTRING(D166:E166,\"#\")","v":{"$error":"#NAME?"}},null,{"$f":"[2]!SUMSTRING(G166:J166,\"|\")","v":{"$error":"#NAME?"}},null,14,{"$f":"SUM($B$1:B166)*0.6","v":4048860},3,{"$f":"SUM($E$1:E166)*0.6","v":457554},null,{"$f":"[2]!SUMSTRING(N166:O166,\"#\")","v":{"$error":"#NAME?"}},null,{"$f":"[2]!SUMSTRING(P166:Q166,\"#\")","v":{"$error":"#NAME?"}},null,{"$f":"[2]!SUMSTRING(S166:U166,\"|\")","v":{"$error":"#NAME?"}}]
[14,175000,null,3,38960,null,{"$f":"[2]!SUMSTRING(A167:B167,\"#\")","v":{"$error":"#NAME?"}},null,null,{"$f":"[2]!SUMSTRING(D167:E167,\"#\")","v":{"$error":"#NAME?"}},null,{"$f":"[2]!SUMSTRING(G167:J167,\"|\")","v":{"$error":"#NAME?"}},null,14,{"$f":"SUM($B$1:B167)*0.6","v":4153860},3,{"$f":"SUM($E$1:E167)*0.6","v":480930},null,{"$f":"[2]!SUMSTRING(N167:O167,\"#\")","v":{"$error":"#NAME?"}},null,{"$f":"[2]!SUMSTRING(P167:Q167,\"#\")","v":{"$error":"#NAME?"}},null,{"$f":"[2]!SUMSTRING(S167:U167,\"|\")","v":{"$error":"#NAME?"}}]
[14,180000,null,3,40120,null,{"$f":"[2]!SUMSTRING(A168:B168,\"#\")","v":{"$error":"#NAME?"}},null,null,{"$f":"[2]!SUMSTRING(D168:E168,\"#\")","v":{"$error":"#NAME?"}},null,{"$f":"[2]!SUMSTRING(G168:J168,\"|\")","v":{"$error":"#NAME?"}},null,14,{"$f":"SUM($B$1:B168)*0.6","v":4261860},3,{"$f":"SUM($E$1:E168)*0.6","v":505002},null,{"$f":"[2]!SUMSTRING(N168:O168,\"#\")","v":{"$error":"#NAME?"}},null,{"$f":"[2]!SUMSTRING(P168:Q168,\"#\")","v":{"$error":"#NAME?"}},null,{"$f":"[2]!SUMSTRING(S168:U168,\"|\")","v":{"$error":"#NAME?"}}]
[14,185000,null,3,41280,null,{"$f":"[2]!SUMSTRING(A169:B169,\"#\")","v":{"$error":"#NAME?"}},null,null,{"$f":"[2]!SUMSTRING(D169:E169,\"#\")","v":{"$error":"#NAME?"}},null,{"$f":"[2]!SUMSTRING(G169:J169,\"|\")","v":{"$error":"#NAME?"}},null,14,{"$f":"SUM($B$1:B169)*0.6","v":4372860},3,{"$f":"SUM($E$1:E169)*0.6","v":529770},null,{"$f":"[2]!SUMSTRING(N169:O169,\"#\")","v":{"$error":"#NAME?"}},null,{"$f":"[2]!SUMSTRING(P169:Q169,\"#\")","v":{"$error":"#NAME?"}},null,{"$f":"[2]!SUMSTRING(S169:U169,\"|\")","v":{"$error":"#NAME?"}}]
[14,190000,null,3,42440,null,{"$f":"[2]!SUMSTRING(A170:B170,\"#\")","v":{"$error":"#NAME?"}},null,null,{"$f":"[2]!SUMSTRING(D170:E170,\"#\")","v":{"$error":"#NAME?"}},null,{"$f":"[2]!SUMSTRING(G170:J170,\"|\")","v":{"$error":"#NAME?"}},null,14,{"$f":"SUM($B$1:B170)*0.6","v":4486860},3,{"$f":"SUM($E$1:E170)*0.6","v":555234},null,{"$f":"[2]!SUMSTRING(N170:O170,\"#\")","v":{"$error":"#NAME?"}},null,{"$f":"[2]!SUMSTRING(P170:Q170,\"#\")","v":{"$error":"#NAME?"}},null,{"$f":"[2]!SUMSTRING(S170:U170,\"|\")","v":{"$error":"#NAME?"}}]
[14,195000,null,3,43600,null,{"$f":"[2]!SUMSTRING(A171:B171,\"#\")","v":{"$error":"#NAME?"}},null,null,{"$f":"[2]!SUMSTRING(D171:E171,\"#\")","v":{"$error":"#NAME?"}},null,{"$f":"[2]!SUMSTRING(G171:J171,\"|\")","v":{"$error":"#NAME?"}},null,14,{"$f":"SUM($B$1:B171)*0.6","v":4603860},3,{"$f":"SUM($E$1:E171)*0.6","v":581394},null,{"$f":"[2]!SUMSTRING(N171:O171,\"#\")","v":{"$error":"#NAME?"}},null,{"$f":"[2]!SUMSTRING(P171:Q171,\"#\")","v":{"$error":"#NAME?"}},null,{"$f":"[2]!SUMSTRING(S171:U171,\"|\")","v":{"$error":"#NAME?"}}]
[14,200000,null,3,44760,null,{"$f":"[2]!SUMSTRING(A172:B172,\"#\")","v":{"$error":"#NAME?"}},null,null,{"$f":"[2]!SUMSTRING(D172:E172,\"#\")","v":{"$error":"#NAME?"}},null,{"$f":"[2]!SUMSTRING(G172:J172,\"|\")","v":{"$error":"#NAME?"}},null,14,{"$f":"SUM($B$1:B172)*0.6","v":4723860},3,{"$f":"SUM($E$1:E172)*0.6","v":608250},null,{"$f":"[2]!SUMSTRING(N172:O172,\"#\")","v":{"$error":"#NAME?"}},null,{"$f":"[2]!SUMSTRING(P172:Q172,\"#\")","v":{"$error":"#NAME?"}},null,{"$f":"[2]!SUMSTRING(S172:U172,\"|\")","v":{"$error":"#NAME?"}}]
[14,205000,null,3,45920,null,{"$f":"[2]!SUMSTRING(A173:B173,\"#\")","v":{"$error":"#NAME?"}},null,null,{"$f":"[2]!SUMSTRING(D173:E173,\"#\")","v":{"$error":"#NAME?"}},null,{"$f":"[2]!SUMSTRING(G173:J173,\"|\")","v":{"$error":"#NAME?"}},null,14,{"$f":"SUM($B$1:B173)*0.6","v":4846860},3,{"$f":"SUM($E$1:E173)*0.6","v":635802},null,{"$f":"[2]!SUMSTRING(N173:O173,\"#\")","v":{"$error":"#NAME?"}},null,{"$f":"[2]!SUMSTRING(P173:Q173,\"#\")","v":{"$error":"#NAME?"}},null,{"$f":"[2]!SUMSTRING(S173:U173,\"|\")","v":{"$error":"#NAME?"}}]
[14,210000,null,3,47080,null,{"$f":"[2]!SUMSTRING(A174:B174,\"#\")","v":{"$error":"#NAME?"}},null,null,{"$f":"[2]!SUMSTRING(D174:E174,\"#\")","v":{"$error":"#NAME?"}},null,{"$f":"[2]!SUMSTRING(G174:J174,\"|\")","v":{"$error":"#NAME?"}},null,14,{"$f":"SUM($B$1:B174)*0.6","v":4972860},3,{"$f":"SUM($E$1:E174)*0.6","v":664050},null,{"$f":"[2]!SUMSTRING(N174:O174,\"#\")","v":{"$error":"#NAME?"}},null,{"$f":"[2]!SUMSTRING(P174:Q174,\"#\")","v":{"$error":"#NAME?"}},null,{"$f":"[2]!SUMSTRING(S174:U174,\"|\")","v":{"$error":"#NAME?"}}]
[14,215000,null,3,48240,null,{"$f":"[2]!SUMSTRING(A175:B175,\"#\")","v":{"$error":"#NAME?"}},null,null,{"$f":"[2]!SUMSTRING(D175:E175,\"#\")","v":{"$error":"#NAME?"}},null,{"$f":"[2]!SUMSTRING(G175:J175,\"|\")","v":{"$error":"#NAME?"}},null,14,{"$f":"SUM($B$1:B175)*0.6","v":5101860},3,{"$f":"SUM($E$1:E175)*0.6","v":692994},null,{"$f":"[2]!SUMSTRING(N175:O175,\"#\")","v":{"$error":"#NAME?"}},null,{"$f":"[2]!SUMSTRING(P175:Q175,\"#\")","v":{"$error":"#NAME?"}},null,{"$f":"[2]!SUMSTRING(S175:U175,\"|\")","v":{"$error":"#NAME?"}}]
[14,220000,null,3,49400,null,{"$f":"[2]!SUMSTRING(A176:B176,\"#\")","v":{"$error":"#NAME?"}},null,null,{"$f":"[2]!SUMSTRING(D176:E176,\"#\")","v":{"$error":"#NAME?"}},null,{"$f":"[2]!SUMSTRING(G176:J176,\"|\")","v":{"$error":"#NAME?"}},null,14,{"$f":"SUM($B$1:B176)*0.6","v":5233860},3,{"$f":"SUM($E$1:E176)*0.6","v":722634},null,{"$f":"[2]!SUMSTRING(N176:O176,\"#\")","v":{"$error":"#NAME?"}},null,{"$f":"[2]!SUMSTRING(P176:Q176,\"#\")","v":{"$error":"#NAME?"}},null,{"$f":"[2]!SUMSTRING(S176:U176,\"|\")","v":{"$error":"#NAME?"}}]
[14,225000,null,3,50560,null,{"$f":"[2]!SUMSTRING(A177:B177,\"#\")","v":{"$error":"#NAME?"}},null,null,{"$f":"[2]!SUMSTRING(D177:E177,\"#\")","v":{"$error":"#NAME?"}},null,{"$f":"[2]!SUMSTRING(G177:J177,\"|\")","v":{"$error":"#NAME?"}},null,14,{"$f":"SUM($B$1:B177)*0.6","v":5368860},3,{"$f":"SUM($E$1:E177)*0.6","v":752970},null,{"$f":"[2]!SUMSTRING(N177:O177,\"#\")","v":{"$error":"#NAME?"}},null,{"$f":"[2]!SUMSTRING(P177:Q177,\"#\")","v":{"$error":"#NAME?"}},null,{"$f":"[2]!SUMSTRING(S177:U177,\"|\")","v":{"$error":"#NAME?"}}]
[14,230000,null,3,51720,null,{"$f":"[2]!SUMSTRING(A178:B178,\"#\")","v":{"$error":"#NAME?"}},null,null,{"$f":"[2]!SUMSTRING(D178:E178,\"#\")","v":{"$error":"#NAME?"}},null,{"$f":"[2]!SUMSTRING(G178:J178,\"|\")","v":{"$error":"#NAME?"}},null,14,{"$f":"SUM($B$1:B178)*0.6","v":5506860},3,{"$f":"SUM($E$1:E178)*0.6","v":784002},null,{"$f":"[2]!SUMSTRING(N178:O178,\"#\")","v":{"$error":"#NAME?"}},null,{"$f":"[2]!SUMSTRING(P178:Q178,\"#\")","v":{"$error":"#NAME?"}},null,{"$f":"[2]!SUMSTRING(S178:U178,\"|\")","v":{"$error":"#NAME?"}}]
[14,235000,null,3,52880,null,{"$f":"[2]!SUMSTRING(A179:B179,\"#\")","v":{"$error":"#NAME?"}},null,null,{"$f":"[2]!SUMSTRING(D179:E179,\"#\")","v":{"$error":"#NAME?"}},null,{"$f":"[2]!SUMSTRING(G179:J179,\"|\")","v":{"$error":"#NAME?"}},null,14,{"$f":"SUM($B$1:B179)*0.6","v":5647860},3,{"$f":"SUM($E$1:E179)*0.6","v":815730},null,{"$f":"[2]!SUMSTRING(N179:O179,\"#\")","v":{"$error":"#NAME?"}},null,{"$f":"[2]!SUMSTRING(P179:Q179,\"#\")","v":{"$error":"#NAME?"}},null,{"$f":"[2]!SUMSTRING(S179:U179,\"|\")","v":{"$error":"#NAME?"}}]
[14,240000,null,3,54040,null,{"$f":"[2]!SUMSTRING(A180:B180,\"#\")","v":{"$error":"#NAME?"}},null,null,{"$f":"[2]!SUMSTRING(D180:E180,\"#\")","v":{"$error":"#NAME?"}},null,{"$f":"[2]!SUMSTRING(G180:J180,\"|\")","v":{"$error":"#NAME?"}},null,14,{"$f":"SUM($B$1:B180)*0.6","v":5791860},3,{"$f":"SUM($E$1:E180)*0.6","v":848154},null,{"$f":"[2]!SUMSTRING(N180:O180,\"#\")","v":{"$error":"#NAME?"}},null,{"$f":"[2]!SUMSTRING(P180:Q180,\"#\")","v":{"$error":"#NAME?"}},null,{"$f":"[2]!SUMSTRING(S180:U180,\"|\")","v":{"$error":"#NAME?"}}]
[14,245000,null,3,55200,null,{"$f":"[2]!SUMSTRING(A181:B181,\"#\")","v":{"$error":"#NAME?"}},null,null,{"$f":"[2]!SUMSTRING(D181:E181,\"#\")","v":{"$error":"#NAME?"}},null,{"$f":"[2]!SUMSTRING(G181:J181,\"|\")","v":{"$error":"#NAME?"}},null,14,{"$f":"SUM($B$1:B181)*0.6","v":5938860},3,{"$f":"SUM($E$1:E181)*0.6","v":881274},null,{"$f":"[2]!SUMSTRING(N181:O181,\"#\")","v":{"$error":"#NAME?"}},null,{"$f":"[2]!SUMSTRING(P181:Q181,\"#\")","v":{"$error":"#NAME?"}},null,{"$f":"[2]!SUMSTRING(S181:U181,\"|\")","v":{"$error":"#NAME?"}}]
[14,250000,null,3,56360,null,{"$f":"[2]!SUMSTRING(A182:B182,\"#\")","v":{"$error":"#NAME?"}},null,null,{"$f":"[2]!SUMSTRING(D182:E182,\"#\")","v":{"$error":"#NAME?"}},null,{"$f":"[2]!SUMSTRING(G182:J182,\"|\")","v":{"$error":"#NAME?"}},null,14,{"$f":"SUM($B$1:B182)*0.6","v":6088860},3,{"$f":"SUM($E$1:E182)*0.6","v":915090},null,{"$f":"[2]!SUMSTRING(N182:O182,\"#\")","v":{"$error":"#NAME?"}},null,{"$f":"[2]!SUMSTRING(P182:Q182,\"#\")","v":{"$error":"#NAME?"}},null,{"$f":"[2]!SUMSTRING(S182:U182,\"|\")","v":{"$error":"#NAME?"}}]
[14,255000,null,3,57520,null,{"$f":"[2]!SUMSTRING(A183:B183,\"#\")","v":{"$error":"#NAME?"}},null,null,{"$f":"[2]!SUMSTRING(D183:E183,\"#\")","v":{"$error":"#NAME?"}},null,{"$f":"[2]!SUMSTRING(G183:J183,\"|\")","v":{"$error":"#NAME?"}},null,14,{"$f":"SUM($B$1:B183)*0.6","v":6241860},3,{"$f":"SUM($E$1:E183)*0.6","v":949602},null,{"$f":"[2]!SUMSTRING(N183:O183,\"#\")","v":{"$error":"#NAME?"}},null,{"$f":"[2]!SUMSTRING(P183:Q183,\"#\")","v":{"$error":"#NAME?"}},null,{"$f":"[2]!SUMSTRING(S183:U183,\"|\")","v":{"$error":"#NAME?"}}]
[14,260000,null,3,58680,null,{"$f":"[2]!SUMSTRING(A184:B184,\"#\")","v":{"$error":"#NAME?"}},null,null,{"$f":"[2]!SUMSTRING(D184:E184,\"#\")","v":{"$error":"#NAME?"}},null,{"$f":"[2]!SUMSTRING(G184:J184,\"|\")","v":{"$error":"#NAME?"}},null,14,{"$f":"SUM($B$1:B184)*0.6","v":6397860},3,{"$f":"SUM($E$1:E184)*0.6","v":984810},null,{"$f":"[2]!SUMSTRING(N184:O184,\"#\")","v":{"$error":"#NAME?"}},null,{"$f":"[2]!SUMSTRING(P184:Q184,\"#\")","v":{"$error":"#NAME?"}},null,{"$f":"[2]!SUMSTRING(S184:U184,\"|\")","v":{"$error":"#NAME?"}}]
[14,265000,null,3,59840,null,{"$f":"[2]!SUMSTRING(A185:B185,\"#\")","v":{"$error":"#NAME?"}},null,null,{"$f":"[2]!SUMSTRING(D185:E185,\"#\")","v":{"$error":"#NAME?"}},null,{"$f":"[2]!SUMSTRING(G185:J185,\"|\")","v":{"$error":"#NAME?"}},null,14,{"$f":"SUM($B$1:B185)*0.6","v":6556860},3,{"$f":"SUM($E$1:E185)*0.6","v":1020714},null,{"$f":"[2]!SUMSTRING(N185:O185,\"#\")","v":{"$error":"#NAME?"}},null,{"$f":"[2]!SUMSTRING(P185:Q185,\"#\")","v":{"$error":"#NAME?"}},null,{"$f":"[2]!SUMSTRING(S185:U185,\"|\")","v":{"$error":"#NAME?"}}]
[14,270000,null,3,61000,null,{"$f":"[2]!SUMSTRING(A186:B186,\"#\")","v":{"$error":"#NAME?"}},null,null,{"$f":"[2]!SUMSTRING(D186:E186,\"#\")","v":{"$error":"#NAME?"}},null,{"$f":"[2]!SUMSTRING(G186:J186,\"|\")","v":{"$error":"#NAME?"}},null,14,{"$f":"SUM($B$1:B186)*0.6","v":6718860},3,{"$f":"SUM($E$1:E186)*0.6","v":1057314},null,{"$f":"[2]!SUMSTRING(N186:O186,\"#\")","v":{"$error":"#NAME?"}},null,{"$f":"[2]!SUMSTRING(P186:Q186,\"#\")","v":{"$error":"#NAME?"}},null,{"$f":"[2]!SUMSTRING(S186:U186,\"|\")","v":{"$error":"#NAME?"}}]
[14,275000,null,3,62160,null,{"$f":"[2]!SUMSTRING(A187:B187,\"#\")","v":{"$error":"#NAME?"}},null,null,{"$f":"[2]!SUMSTRING(D187:E187,\"#\")","v":{"$error":"#NAME?"}},null,{"$f":"[2]!SUMSTRING(G187:J187,\"|\")","v":{"$error":"#NAME?"}},null,14,{"$f":"SUM($B$1:B187)*0.6","v":6883860},3,{"$f":"SUM($E$1:E187)*0.6","v":1094610},null,{"$f":"[2]!SUMSTRING(N187:O187,\"#\")","v":{"$error":"#NAME?"}},null,{"$f":"[2]!SUMSTRING(P187:Q187,\"#\")","v":{"$error":"#NAME?"}},null,{"$f":"[2]!SUMSTRING(S187:U187,\"|\")","v":{"$error":"#NAME?"}}]
[14,280000,null,3,63320,null,{"$f":"[2]!SUMSTRING(A188:B188,\"#\")","v":{"$error":"#NAME?"}},null,null,{"$f":"[2]!SUMSTRING(D188:E188,\"#\")","v":{"$error":"#NAME?"}},null,{"$f":"[2]!SUMSTRING(G188:J188,\"|\")","v":{"$error":"#NAME?"}},null,14,{"$f":"SUM($B$1:B188)*0.6","v":7051860},3,{"$f":"SUM($E$1:E188)*0.6","v":1132602},null,{"$f":"[2]!SUMSTRING(N188:O188,\"#\")","v":{"$error":"#NAME?"}},null,{"$f":"[2]!SUMSTRING(P188:Q188,\"#\")","v":{"$error":"#NAME?"}},null,{"$f":"[2]!SUMSTRING(S188:U188,\"|\")","v":{"$error":"#NAME?"}}]
[14,285000,null,3,64480,null,{"$f":"[2]!SUMSTRING(A189:B189,\"#\")","v":{"$error":"#NAME?"}},null,null,{"$f":"[2]!SUMSTRING(D189:E189,\"#\")","v":{"$error":"#NAME?"}},null,{"$f":"[2]!SUMSTRING(G189:J189,\"|\")","v":{"$error":"#NAME?"}},null,14,{"$f":"SUM($B$1:B189)*0.6","v":7222860},3,{"$f":"SUM($E$1:E189)*0.6","v":1171290},null,{"$f":"[2]!SUMSTRING(N189:O189,\"#\")","v":{"$error":"#NAME?"}},null,{"$f":"[2]!SUMSTRING(P189:Q189,\"#\")","v":{"$error":"#NAME?"}},null,{"$f":"[2]!SUMSTRING(S189:U189,\"|\")","v":{"$error":"#NAME?"}}]
[14,290000,null,3,65640,null,{"$f":"[2]!SUMSTRING(A190:B190,\"#\")","v":{"$error":"#NAME?"}},null,null,{"$f":"[2]!SUMSTRING(D190:E190,\"#\")","v":{"$error":"#NAME?"}},null,{"$f":"[2]!SUMSTRING(G190:J190,\"|\")","v":{"$error":"#NAME?"}},null,14,{"$f":"SUM($B$1:B190)*0.6","v":7396860},3,{"$f":"SUM($E$1:E190)*0.6","v":1210674},null,{"$f":"[2]!SUMSTRING(N190:O190,\"#\")","v":{"$error":"#NAME?"}},null,{"$f":"[2]!SUMSTRING(P190:Q190,\"#\")","v":{"$error":"#NAME?"}},null,{"$f":"[2]!SUMSTRING(S190:U190,\"|\")","v":{"$error":"#NAME?"}}]
[14,295000,null,3,66800,null,{"$f":"[2]!SUMSTRING(A191:B191,\"#\")","v":{"$error":"#NAME?"}},null,null,{"$f":"[2]!SUMSTRING(D191:E191,\"#\")","v":{"$error":"#NAME?"}},null,{"$f":"[2]!SUMSTRING(G191:J191,\"|\")","v":{"$error":"#NAME?"}},null,14,{"$f":"SUM($B$1:B191)*0.6","v":7573860},3,{"$f":"SUM($E$1:E191)*0.6","v":1250754},null,{"$f":"[2]!SUMSTRING(N191:O191,\"#\")","v":{"$error":"#NAME?"}},null,{"$f":"[2]!SUMSTRING(P191:Q191,\"#\")","v":{"$error":"#NAME?"}},null,{"$f":"[2]!SUMSTRING(S191:U191,\"|\")","v":{"$error":"#NAME?"}}]
[14,300000,null,3,67960,null,{"$f":"[2]!SUMSTRING(A192:B192,\"#\")","v":{"$error":"#NAME?"}},null,null,{"$f":"[2]!SUMSTRING(D192:E192,\"#\")","v":{"$error":"#NAME?"}},null,{"$f":"[2]!SUMSTRING(G192:J192,\"|\")","v":{"$error":"#NAME?"}},null,14,{"$f":"SUM($B$1:B192)*0.6","v":7753860},3,{"$f":"SUM($E$1:E192)*0.6","v":1291530},null,{"$f":"[2]!SUMSTRING(N192:O192,\"#\")","v":{"$error":"#NAME?"}},null,{"$f":"[2]!SUMSTRING(P192:Q192,\"#\")","v":{"$error":"#NAME?"}},null,{"$f":"[2]!SUMSTRING(S192:U192,\"|\")","v":{"$error":"#NAME?"}}]
[14,305000,null,3,69120,null,{"$f":"[2]!SUMSTRING(A193:B193,\"#\")","v":{"$error":"#NAME?"}},null,null,{"$f":"[2]!SUMSTRING(D193:E193,\"#\")","v":{"$error":"#NAME?"}},null,{"$f":"[2]!SUMSTRING(G193:J193,\"|\")","v":{"$error":"#NAME?"}},null,14,{"$f":"SUM($B$1:B193)*0.6","v":7936860},3,{"$f":"SUM($E$1:E193)*0.6","v":1333002},null,{"$f":"[2]!SUMSTRING(N193:O193,\"#\")","v":{"$error":"#NAME?"}},null,{"$f":"[2]!SUMSTRING(P193:Q193,\"#\")","v":{"$error":"#NAME?"}},null,{"$f":"[2]!SUMSTRING(S193:U193,\"|\")","v":{"$error":"#NAME?"}}]
[14,310000,null,3,70280,null,{"$f":"[2]!SUMSTRING(A194:B194,\"#\")","v":{"$error":"#NAME?"}},null,null,{"$f":"[2]!SUMSTRING(D194:E194,\"#\")","v":{"$error":"#NAME?"}},null,{"$f":"[2]!SUMSTRING(G194:J194,\"|\")","v":{"$error":"#NAME?"}},null,14,{"$f":"SUM($B$1:B194)*0.6","v":8122860},3,{"$f":"SUM($E$1:E194)*0.6","v":1375170},null,{"$f":"[2]!SUMSTRING(N194:O194,\"#\")","v":{"$error":"#NAME?"}},null,{"$f":"[2]!SUMSTRING(P194:Q194,\"#\")","v":{"$error":"#NAME?"}},null,{"$f":"[2]!SUMSTRING(S194:U194,\"|\")","v":{"$error":"#NAME?"}}]
[14,315000,null,3,71440,null,{"$f":"[2]!SUMSTRING(A195:B195,\"#\")","v":{"$error":"#NAME?"}},null,null,{"$f":"[2]!SUMSTRING(D195:E195,\"#\")","v":{"$error":"#NAME?"}},null,{"$f":"[2]!SUMSTRING(G195:J195,\"|\")","v":{"$error":"#NAME?"}},null,14,{"$f":"SUM($B$1:B195)*0.6","v":8311860},3,{"$f":"SUM($E$1:E195)*0.6","v":1418034},null,{"$f":"[2]!SUMSTRING(N195:O195,\"#\")","v":{"$error":"#NAME?"}},null,{"$f":"[2]!SUMSTRING(P195:Q195,\"#\")","v":{"$error":"#NAME?"}},null,{"$f":"[2]!SUMSTRING(S195:U195,\"|\")","v":{"$error":"#NAME?"}}]
[14,320000,null,3,72600,null,{"$f":"[2]!SUMSTRING(A196:B196,\"#\")","v":{"$error":"#NAME?"}},null,null,{"$f":"[2]!SUMSTRING(D196:E196,\"#\")","v":{"$error":"#NAME?"}},null,{"$f":"[2]!SUMSTRING(G196:J196,\"|\")","v":{"$error":"#NAME?"}},null,14,{"$f":"SUM($B$1:B196)*0.6","v":8503860},3,{"$f":"SUM($E$1:E196)*0.6","v":1461594},null,{"$f":"[2]!SUMSTRING(N196:O196,\"#\")","v":{"$error":"#NAME?"}},null,{"$f":"[2]!SUMSTRING(P196:Q196,\"#\")","v":{"$error":"#NAME?"}},null,{"$f":"[2]!SUMSTRING(S196:U196,\"|\")","v":{"$error":"#NAME?"}}]
[14,325000,null,3,73760,null,{"$f":"[2]!SUMSTRING(A197:B197,\"#\")","v":{"$error":"#NAME?"}},null,null,{"$f":"[2]!SUMSTRING(D197:E197,\"#\")","v":{"$error":"#NAME?"}},null,{"$f":"[2]!SUMSTRING(G197:J197,\"|\")","v":{"$error":"#NAME?"}},null,14,{"$f":"SUM($B$1:B197)*0.6","v":8698860},3,{"$f":"SUM($E$1:E197)*0.6","v":1505850},null,{"$f":"[2]!SUMSTRING(N197:O197,\"#\")","v":{"$error":"#NAME?"}},null,{"$f":"[2]!SUMSTRING(P197:Q197,\"#\")","v":{"$error":"#NAME?"}},null,{"$f":"[2]!SUMSTRING(S197:U197,\"|\")","v":{"$error":"#NAME?"}}]
[14,330000,null,3,74920,null,{"$f":"[2]!SUMSTRING(A198:B198,\"#\")","v":{"$error":"#NAME?"}},null,null,{"$f":"[2]!SUMSTRING(D198:E198,\"#\")","v":{"$error":"#NAME?"}},null,{"$f":"[2]!SUMSTRING(G198:J198,\"|\")","v":{"$error":"#NAME?"}},null,14,{"$f":"SUM($B$1:B198)*0.6","v":8896860},3,{"$f":"SUM($E$1:E198)*0.6","v":1550802},null,{"$f":"[2]!SUMSTRING(N198:O198,\"#\")","v":{"$error":"#NAME?"}},null,{"$f":"[2]!SUMSTRING(P198:Q198,\"#\")","v":{"$error":"#NAME?"}},null,{"$f":"[2]!SUMSTRING(S198:U198,\"|\")","v":{"$error":"#NAME?"}}]
[14,335000,null,3,76080,null,{"$f":"[2]!SUMSTRING(A199:B199,\"#\")","v":{"$error":"#NAME?"}},null,null,{"$f":"[2]!SUMSTRING(D199:E199,\"#\")","v":{"$error":"#NAME?"}},null,{"$f":"[2]!SUMSTRING(G199:J199,\"|\")","v":{"$error":"#NAME?"}},null,14,{"$f":"SUM($B$1:B199)*0.6","v":9097860},3,{"$f":"SUM($E$1:E199)*0.6","v":1596450},null,{"$f":"[2]!SUMSTRING(N199:O199,\"#\")","v":{"$error":"#NAME?"}},null,{"$f":"[2]!SUMSTRING(P199:Q199,\"#\")","v":{"$error":"#NAME?"}},null,{"$f":"[2]!SUMSTRING(S199:U199,\"|\")","v":{"$error":"#NAME?"}}]
[14,340000,null,3,77240,null,{"$f":"[2]!SUMSTRING(A200:B200,\"#\")","v":{"$error":"#NAME?"}},null,null,{"$f":"[2]!SUMSTRING(D200:E200,\"#\")","v":{"$error":"#NAME?"}},null,{"$f":"[2]!SUMSTRING(G200:J200,\"|\")","v":{"$error":"#NAME?"}},null,14,{"$f":"SUM($B$1:B200)*0.6","v":9301860},3,{"$f":"SUM($E$1:E200)*0.6","v":1642794},null,{"$f":"[2]!SUMSTRING(N200:O200,\"#\")","v":{"$error":"#NAME?"}},null,{"$f":"[2]!SUMSTRING(P200:Q200,\"#\")","v":{"$error":"#NAME?"}},null,{"$f":"[2]!SUMSTRING(S200:U200,\"|\")","v":{"$error":"#NAME?"}}]
[14,345000,null,3,80000,null,{"$f":"[2]!SUMSTRING(A201:B201,\"#\")","v":{"$error":"#NAME?"}},null,null,{"$f":"[2]!SUMSTRING(D201:E201,\"#\")","v":{"$error":"#NAME?"}},null,{"$f":"[2]!SUMSTRING(G201:J201,\"|\")","v":{"$error":"#NAME?"}},null,14,{"$f":"SUM($B$1:B201)*0.6","v":9508860},3,{"$f":"SUM($E$1:E201)*0.6","v":1690794},null,{"$f":"[2]!SUMSTRING(N201:O201,\"#\")","v":{"$error":"#NAME?"}},null,{"$f":"[2]!SUMSTRING(P201:Q201,\"#\")","v":{"$error":"#NAME?"}},null,{"$f":"[2]!SUMSTRING(S201:U201,\"|\")","v":{"$error":"#NAME?"}}]
[14,350000,null,3,82760,null,{"$f":"[2]!SUMSTRING(A202:B202,\"#\")","v":{"$error":"#NAME?"}},null,null,{"$f":"[2]!SUMSTRING(D202:E202,\"#\")","v":{"$error":"#NAME?"}},null,{"$f":"[2]!SUMSTRING(G202:J202,\"|\")","v":{"$error":"#NAME?"}},null,14,{"$f":"SUM($B$1:B202)*0.6","v":9718860},3,{"$f":"SUM($E$1:E202)*0.6","v":1740450},null,{"$f":"[2]!SUMSTRING(N202:O202,\"#\")","v":{"$error":"#NAME?"}},null,{"$f":"[2]!SUMSTRING(P202:Q202,\"#\")","v":{"$error":"#NAME?"}},null,{"$f":"[2]!SUMSTRING(S202:U202,\"|\")","v":{"$error":"#NAME?"}}]
[14,355000,null,3,85520,null,{"$f":"[2]!SUMSTRING(A203:B203,\"#\")","v":{"$error":"#NAME?"}},null,null,{"$f":"[2]!SUMSTRING(D203:E203,\"#\")","v":{"$error":"#NAME?"}},null,{"$f":"[2]!SUMSTRING(G203:J203,\"|\")","v":{"$error":"#NAME?"}},null,14,{"$f":"SUM($B$1:B203)*0.6","v":9931860},3,{"$f":"SUM($E$1:E203)*0.6","v":1791762},null,{"$f":"[2]!SUMSTRING(N203:O203,\"#\")","v":{"$error":"#NAME?"}},null,{"$f":"[2]!SUMSTRING(P203:Q203,\"#\")","v":{"$error":"#NAME?"}},null,{"$f":"[2]!SUMSTRING(S203:U203,\"|\")","v":{"$error":"#NAME?"}}]
[14,360000,null,3,88280,null,{"$f":"[2]!SUMSTRING(A204:B204,\"#\")","v":{"$error":"#NAME?"}},null,null,{"$f":"[2]!SUMSTRING(D204:E204,\"#\")","v":{"$error":"#NAME?"}},null,{"$f":"[2]!SUMSTRING(G204:J204,\"|\")","v":{"$error":"#NAME?"}},null,14,{"$f":"SUM($B$1:B204)*0.6","v":10147860},3,{"$f":"SUM($E$1:E204)*0.6","v":1844730},null,{"$f":"[2]!SUMSTRING(N204:O204,\"#\")","v":{"$error":"#NAME?"}},null,{"$f":"[2]!SUMSTRING(P204:Q204,\"#\")","v":{"$error":"#NAME?"}},null,{"$f":"[2]!SUMSTRING(S204:U204,\"|\")","v":{"$error":"#NAME?"}}]
[14,365000,null,3,91040,null,{"$f":"[2]!SUMSTRING(A205:B205,\"#\")","v":{"$error":"#NAME?"}},null,null,{"$f":"[2]!SUMSTRING(D205:E205,\"#\")","v":{"$error":"#NAME?"}},null,{"$f":"[2]!SUMSTRING(G205:J205,\"|\")","v":{"$error":"#NAME?"}},null,14,{"$f":"SUM($B$1:B205)*0.6","v":10366860},3,{"$f":"SUM($E$1:E205)*0.6","v":1899354},null,{"$f":"[2]!SUMSTRING(N205:O205,\"#\")","v":{"$error":"#NAME?"}},null,{"$f":"[2]!SUMSTRING(P205:Q205,\"#\")","v":{"$error":"#NAME?"}},null,{"$f":"[2]!SUMSTRING(S205:U205,\"|\")","v":{"$error":"#NAME?"}}]
[14,370000,null,3,93800,null,{"$f":"[2]!SUMSTRING(A206:B206,\"#\")","v":{"$error":"#NAME?"}},null,null,{"$f":"[2]!SUMSTRING(D206:E206,\"#\")","v":{"$error":"#NAME?"}},null,{"$f":"[2]!SUMSTRING(G206:J206,\"|\")","v":{"$error":"#NAME?"}},null,14,{"$f":"SUM($B$1:B206)*0.6","v":10588860},3,{"$f":"SUM($E$1:E206)*0.6","v":1955634},null,{"$f":"[2]!SUMSTRING(N206:O206,\"#\")","v":{"$error":"#NAME?"}},null,{"$f":"[2]!SUMSTRING(P206:Q206,\"#\")","v":{"$error":"#NAME?"}},null,{"$f":"[2]!SUMSTRING(S206:U206,\"|\")","v":{"$error":"#NAME?"}}]
[14,375000,null,3,96560,null,{"$f":"[2]!SUMSTRING(A207:B207,\"#\")","v":{"$error":"#NAME?"}},null,null,{"$f":"[2]!SUMSTRING(D207:E207,\"#\")","v":{"$error":"#NAME?"}},null,{"$f":"[2]!SUMSTRING(G207:J207,\"|\")","v":{"$error":"#NAME?"}},null,14,{"$f":"SUM($B$1:B207)*0.6","v":10813860},3,{"$f":"SUM($E$1:E207)*0.6","v":2013570},null,{"$f":"[2]!SUMSTRING(N207:O207,\"#\")","v":{"$error":"#NAME?"}},null,{"$f":"[2]!SUMSTRING(P207:Q207,\"#\")","v":{"$error":"#NAME?"}},null,{"$f":"[2]!SUMSTRING(S207:U207,\"|\")","v":{"$error":"#NAME?"}}]
[14,380000,null,3,99320,null,{"$f":"[2]!SUMSTRING(A208:B208,\"#\")","v":{"$error":"#NAME?"}},null,null,{"$f":"[2]!SUMSTRING(D208:E208,\"#\")","v":{"$error":"#NAME?"}},null,{"$f":"[2]!SUMSTRING(G208:J208,\"|\")","v":{"$error":"#NAME?"}},null,14,{"$f":"SUM($B$1:B208)*0.6","v":11041860},3,{"$f":"SUM($E$1:E208)*0.6","v":2073162},null,{"$f":"[2]!SUMSTRING(N208:O208,\"#\")","v":{"$error":"#NAME?"}},null,{"$f":"[2]!SUMSTRING(P208:Q208,\"#\")","v":{"$error":"#NAME?"}},null,{"$f":"[2]!SUMSTRING(S208:U208,\"|\")","v":{"$error":"#NAME?"}}]
[14,385000,null,3,102080,null,{"$f":"[2]!SUMSTRING(A209:B209,\"#\")","v":{"$error":"#NAME?"}},null,null,{"$f":"[2]!SUMSTRING(D209:E209,\"#\")","v":{"$error":"#NAME?"}},null,{"$f":"[2]!SUMSTRING(G209:J209,\"|\")","v":{"$error":"#NAME?"}},null,14,{"$f":"SUM($B$1:B209)*0.6","v":11272860},3,{"$f":"SUM($E$1:E209)*0.6","v":2134410},null,{"$f":"[2]!SUMSTRING(N209:O209,\"#\")","v":{"$error":"#NAME?"}},null,{"$f":"[2]!SUMSTRING(P209:Q209,\"#\")","v":{"$error":"#NAME?"}},null,{"$f":"[2]!SUMSTRING(S209:U209,\"|\")","v":{"$error":"#NAME?"}}]
[14,390000,null,3,104840,null,{"$f":"[2]!SUMSTRING(A210:B210,\"#\")","v":{"$error":"#NAME?"}},null,null,{"$f":"[2]!SUMSTRING(D210:E210,\"#\")","v":{"$error":"#NAME?"}},null,{"$f":"[2]!SUMSTRING(G210:J210,\"|\")","v":{"$error":"#NAME?"}},null,14,{"$f":"SUM($B$1:B210)*0.6","v":11506860},3,{"$f":"SUM($E$1:E210)*0.6","v":2197314},null,{"$f":"[2]!SUMSTRING(N210:O210,\"#\")","v":{"$error":"#NAME?"}},null,{"$f":"[2]!SUMSTRING(P210:Q210,\"#\")","v":{"$error":"#NAME?"}},null,{"$f":"[2]!SUMSTRING(S210:U210,\"|\")","v":{"$error":"#NAME?"}}]
[14,395000,null,3,107600,null,{"$f":"[2]!SUMSTRING(A211:B211,\"#\")","v":{"$error":"#NAME?"}},null,null,{"$f":"[2]!SUMSTRING(D211:E211,\"#\")","v":{"$error":"#NAME?"}},null,{"$f":"[2]!SUMSTRING(G211:J211,\"|\")","v":{"$error":"#NAME?"}},null,14,{"$f":"SUM($B$1:B211)*0.6","v":11743860},3,{"$f":"SUM($E$1:E211)*0.6","v":2261874},null,{"$f":"[2]!SUMSTRING(N211:O211,\"#\")","v":{"$error":"#NAME?"}},null,{"$f":"[2]!SUMSTRING(P211:Q211,\"#\")","v":{"$error":"#NAME?"}},null,{"$f":"[2]!SUMSTRING(S211:U211,\"|\")","v":{"$error":"#NAME?"}}]
[14,400000,null,3,110360,null,{"$f":"[2]!SUMSTRING(A212:B212,\"#\")","v":{"$error":"#NAME?"}},null,null,{"$f":"[2]!SUMSTRING(D212:E212,\"#\")","v":{"$error":"#NAME?"}},null,{"$f":"[2]!SUMSTRING(G212:J212,\"|\")","v":{"$error":"#NAME?"}},null,14,{"$f":"SUM($B$1:B212)*0.6","v":11983860},3,{"$f":"SUM($E$1:E212)*0.6","v":2328090},null,{"$f":"[2]!SUMSTRING(N212:O212,\"#\")","v":{"$error":"#NAME?"}},null,{"$f":"[2]!SUMSTRING(P212:Q212,\"#\")","v":{"$error":"#NAME?"}},null,{"$f":"[2]!SUMSTRING(S212:U212,\"|\")","v":{"$error":"#NAME?"}}]
[14,405000,null,3,113120,null,{"$f":"[2]!SUMSTRING(A213:B213,\"#\")","v":{"$error":"#NAME?"}},null,null,{"$f":"[2]!SUMSTRING(D213:E213,\"#\")","v":{"$error":"#NAME?"}},null,{"$f":"[2]!SUMSTRING(G213:J213,\"|\")","v":{"$error":"#NAME?"}},null,14,{"$f":"SUM($B$1:B213)*0.6","v":12226860},3,{"$f":"SUM($E$1:E213)*0.6","v":2395962},null,{"$f":"[2]!SUMSTRING(N213:O213,\"#\")","v":{"$error":"#NAME?"}},null,{"$f":"[2]!SUMSTRING(P213:Q213,\"#\")","v":{"$error":"#NAME?"}},null,{"$f":"[2]!SUMSTRING(S213:U213,\"|\")","v":{"$error":"#NAME?"}}]
[14,410000,null,3,115880,null,{"$f":"[2]!SUMSTRING(A214:B214,\"#\")","v":{"$error":"#NAME?"}},null,null,{"$f":"[2]!SUMSTRING(D214:E214,\"#\")","v":{"$error":"#NAME?"}},null,{"$f":"[2]!SUMSTRING(G214:J214,\"|\")","v":{"$error":"#NAME?"}},null,14,{"$f":"SUM($B$1:B214)*0.6","v":12472860},3,{"$f":"SUM($E$1:E214)*0.6","v":2465490},null,{"$f":"[2]!SUMSTRING(N214:O214,\"#\")","v":{"$error":"#NAME?"}},null,{"$f":"[2]!SUMSTRING(P214:Q214,\"#\")","v":{"$error":"#NAME?"}},null,{"$f":"[2]!SUMSTRING(S214:U214,\"|\")","v":{"$error":"#NAME?"}}]
[14,415000,null,3,118640,null,{"$f":"[2]!SUMSTRING(A215:B215,\"#\")","v":{"$error":"#NAME?"}},null,null,{"$f":"[2]!SUMSTRING(D215:E215,\"#\")","v":{"$error":"#NAME?"}},null,{"$f":"[2]!SUMSTRING(G215:J215,\"|\")","v":{"$error":"#NAME?"}},null,14,{"$f":"SUM($B$1:B215)*0.6","v":12721860},3,{"$f":"SUM($E$1:E215)*0.6","v":2536674},null,{"$f":"[2]!SUMSTRING(N215:O215,\"#\")","v":{"$error":"#NAME?"}},null,{"$f":"[2]!SUMSTRING(P215:Q215,\"#\")","v":{"$error":"#NAME?"}},null,{"$f":"[2]!SUMSTRING(S215:U215,\"|\")","v":{"$error":"#NAME?"}}]
[14,420000,null,3,121400,null,{"$f":"[2]!SUMSTRING(A216:B216,\"#\")","v":{"$error":"#NAME?"}},null,null,{"$f":"[2]!SUMSTRING(D216:E216,\"#\")","v":{"$error":"#NAME?"}},null,{"$f":"[2]!SUMSTRING(G216:J216,\"|\")","v":{"$error":"#NAME?"}},null,14,{"$f":"SUM($B$1:B216)*0.6","v":12973860},3,{"$f":"SUM($E$1:E216)*0.6","v":2609514},null,{"$f":"[2]!SUMSTRING(N216:O216,\"#\")","v":{"$error":"#NAME?"}},null,{"$f":"[2]!SUMSTRING(P216:Q216,\"#\")","v":{"$error":"#NAME?"}},null,{"$f":"[2]!SUMSTRING(S216:U216,\"|\")","v":{"$error":"#NAME?"}}]
[14,425000,null,3,124160,null,{"$f":"[2]!SUMSTRING(A217:B217,\"#\")","v":{"$error":"#NAME?"}},null,null,{"$f":"[2]!SUMSTRING(D217:E217,\"#\")","v":{"$error":"#NAME?"}},null,{"$f":"[2]!SUMSTRING(G217:J217,\"|\")","v":{"$error":"#NAME?"}},null,14,{"$f":"SUM($B$1:B217)*0.6","v":13228860},3,{"$f":"SUM($E$1:E217)*0.6","v":2684010},null,{"$f":"[2]!SUMSTRING(N217:O217,\"#\")","v":{"$error":"#NAME?"}},null,{"$f":"[2]!SUMSTRING(P217:Q217,\"#\")","v":{"$error":"#NAME?"}},null,{"$f":"[2]!SUMSTRING(S217:U217,\"|\")","v":{"$error":"#NAME?"}}]
[14,430000,null,3,126920,null,{"$f":"[2]!SUMSTRING(A218:B218,\"#\")","v":{"$error":"#NAME?"}},null,null,{"$f":"[2]!SUMSTRING(D218:E218,\"#\")","v":{"$error":"#NAME?"}},null,{"$f":"[2]!SUMSTRING(G218:J218,\"|\")","v":{"$error":"#NAME?"}},null,14,{"$f":"SUM($B$1:B218)*0.6","v":13486860},3,{"$f":"SUM($E$1:E218)*0.6","v":2760162},null,{"$f":"[2]!SUMSTRING(N218:O218,\"#\")","v":{"$error":"#NAME?"}},null,{"$f":"[2]!SUMSTRING(P218:Q218,\"#\")","v":{"$error":"#NAME?"}},null,{"$f":"[2]!SUMSTRING(S218:U218,\"|\")","v":{"$error":"#NAME?"}}]
[14,435000,null,3,129680,null,{"$f":"[2]!SUMSTRING(A219:B219,\"#\")","v":{"$error":"#NAME?"}},null,null,{"$f":"[2]!SUMSTRING(D219:E219,\"#\")","v":{"$error":"#NAME?"}},null,{"$f":"[2]!SUMSTRING(G219:J219,\"|\")","v":{"$error":"#NAME?"}},null,14,{"$f":"SUM($B$1:B219)*0.6","v":13747860},3,{"$f":"SUM($E$1:E219)*0.6","v":2837970},null,{"$f":"[2]!SUMSTRING(N219:O219,\"#\")","v":{"$error":"#NAME?"}},null,{"$f":"[2]!SUMSTRING(P219:Q219,\"#\")","v":{"$error":"#NAME?"}},null,{"$f":"[2]!SUMSTRING(S219:U219,\"|\")","v":{"$error":"#NAME?"}}]
[14,440000,null,3,132440,null,{"$f":"[2]!SUMSTRING(A220:B220,\"#\")","v":{"$error":"#NAME?"}},null,null,{"$f":"[2]!SUMSTRING(D220:E220,\"#\")","v":{"$error":"#NAME?"}},null,{"$f":"[2]!SUMSTRING(G220:J220,\"|\")","v":{"$error":"#NAME?"}},null,14,{"$f":"SUM($B$1:B220)*0.6","v":14011860},3,{"$f":"SUM($E$1:E220)*0.6","v":2917434},null,{"$f":"[2]!SUMSTRING(N220:O220,\"#\")","v":{"$error":"#NAME?"}},null,{"$f":"[2]!SUMSTRING(P220:Q220,\"#\")","v":{"$error":"#NAME?"}},null,{"$f":"[2]!SUMSTRING(S220:U220,\"|\")","v":{"$error":"#NAME?"}}]
[14,445000,null,3,135200,null,{"$f":"[2]!SUMSTRING(A221:B221,\"#\")","v":{"$error":"#NAME?"}},null,null,{"$f":"[2]!SUMSTRING(D221:E221,\"#\")","v":{"$error":"#NAME?"}},null,{"$f":"[2]!SUMSTRING(G221:J221,\"|\")","v":{"$error":"#NAME?"}},null,14,{"$f":"SUM($B$1:B221)*0.6","v":14278860},3,{"$f":"SUM($E$1:E221)*0.6","v":2998554},null,{"$f":"[2]!SUMSTRING(N221:O221,\"#\")","v":{"$error":"#NAME?"}},null,{"$f":"[2]!SUMSTRING(P221:Q221,\"#\")","v":{"$error":"#NAME?"}},null,{"$f":"[2]!SUMSTRING(S221:U221,\"|\")","v":{"$error":"#NAME?"}}]
[14,450000,null,3,137960,null,{"$f":"[2]!SUMSTRING(A222:B222,\"#\")","v":{"$error":"#NAME?"}},null,null,{"$f":"[2]!SUMSTRING(D222:E222,\"#\")","v":{"$error":"#NAME?"}},null,{"$f":"[2]!SUMSTRING(G222:J222,\"|\")","v":{"$error":"#NAME?"}},null,14,{"$f":"SUM($B$1:B222)*0.6","v":14548860},3,{"$f":"SUM($E$1:E222)*0.6","v":3081330},null,{"$f":"[2]!SUMSTRING(N222:O222,\"#\")","v":{"$error":"#NAME?"}},null,{"$f":"[2]!SUMSTRING(P222:Q222,\"#\")","v":{"$error":"#NAME?"}},null,{"$f":"[2]!SUMSTRING(S222:U222,\"|\")","v":{"$error":"#NAME?"}}]
[14,455000,null,3,140720,null,{"$f":"[2]!SUMSTRING(A223:B223,\"#\")","v":{"$error":"#NAME?"}},null,null,{"$f":"[2]!SUMSTRING(D223:E223,\"#\")","v":{"$error":"#NAME?"}},null,{"$f":"[2]!SUMSTRING(G223:J223,\"|\")","v":{"$error":"#NAME?"}},null,14,{"$f":"SUM($B$1:B223)*0.6","v":14821860},3,{"$f":"SUM($E$1:E223)*0.6","v":3165762},null,{"$f":"[2]!SUMSTRING(N223:O223,\"#\")","v":{"$error":"#NAME?"}},null,{"$f":"[2]!SUMSTRING(P223:Q223,\"#\")","v":{"$error":"#NAME?"}},null,{"$f":"[2]!SUMSTRING(S223:U223,\"|\")","v":{"$error":"#NAME?"}}]
[14,460000,null,3,143480,null,{"$f":"[2]!SUMSTRING(A224:B224,\"#\")","v":{"$error":"#NAME?"}},null,null,{"$f":"[2]!SUMSTRING(D224:E224,\"#\")","v":{"$error":"#NAME?"}},null,{"$f":"[2]!SUMSTRING(G224:J224,\"|\")","v":{"$error":"#NAME?"}},null,14,{"$f":"SUM($B$1:B224)*0.6","v":15097860},3,{"$f":"SUM($E$1:E224)*0.6","v":3251850},null,{"$f":"[2]!SUMSTRING(N224:O224,\"#\")","v":{"$error":"#NAME?"}},null,{"$f":"[2]!SUMSTRING(P224:Q224,\"#\")","v":{"$error":"#NAME?"}},null,{"$f":"[2]!SUMSTRING(S224:U224,\"|\")","v":{"$error":"#NAME?"}}]
[14,465000,null,3,146240,null,{"$f":"[2]!SUMSTRING(A225:B225,\"#\")","v":{"$error":"#NAME?"}},null,null,{"$f":"[2]!SUMSTRING(D225:E225,\"#\")","v":{"$error":"#NAME?"}},null,{"$f":"[2]!SUMSTRING(G225:J225,\"|\")","v":{"$error":"#NAME?"}},null,14,{"$f":"SUM($B$1:B225)*0.6","v":15376860},3,{"$f":"SUM($E$1:E225)*0.6","v":3339594},null,{"$f":"[2]!SUMSTRING(N225:O225,\"#\")","v":{"$error":"#NAME?"}},null,{"$f":"[2]!SUMSTRING(P225:Q225,\"#\")","v":{"$error":"#NAME?"}},null,{"$f":"[2]!SUMSTRING(S225:U225,\"|\")","v":{"$error":"#NAME?"}}]
[14,470000,null,3,149000,null,{"$f":"[2]!SUMSTRING(A226:B226,\"#\")","v":{"$error":"#NAME?"}},null,null,{"$f":"[2]!SUMSTRING(D226:E226,\"#\")","v":{"$error":"#NAME?"}},null,{"$f":"[2]!SUMSTRING(G226:J226,\"|\")","v":{"$error":"#NAME?"}},null,14,{"$f":"SUM($B$1:B226)*0.6","v":15658860},3,{"$f":"SUM($E$1:E226)*0.6","v":3428994},null,{"$f":"[2]!SUMSTRING(N226:O226,\"#\")","v":{"$error":"#NAME?"}},null,{"$f":"[2]!SUMSTRING(P226:Q226,\"#\")","v":{"$error":"#NAME?"}},null,{"$f":"[2]!SUMSTRING(S226:U226,\"|\")","v":{"$error":"#NAME?"}}]
[14,475000,null,3,151760,null,{"$f":"[2]!SUMSTRING(A227:B227,\"#\")","v":{"$error":"#NAME?"}},null,null,{"$f":"[2]!SUMSTRING(D227:E227,\"#\")","v":{"$error":"#NAME?"}},null,{"$f":"[2]!SUMSTRING(G227:J227,\"|\")","v":{"$error":"#NAME?"}},null,14,{"$f":"SUM($B$1:B227)*0.6","v":15943860},3,{"$f":"SUM($E$1:E227)*0.6","v":3520050},null,{"$f":"[2]!SUMSTRING(N227:O227,\"#\")","v":{"$error":"#NAME?"}},null,{"$f":"[2]!SUMSTRING(P227:Q227,\"#\")","v":{"$error":"#NAME?"}},null,{"$f":"[2]!SUMSTRING(S227:U227,\"|\")","v":{"$error":"#NAME?"}}]
[14,480000,null,3,154520,null,{"$f":"[2]!SUMSTRING(A228:B228,\"#\")","v":{"$error":"#NAME?"}},null,null,{"$f":"[2]!SUMSTRING(D228:E228,\"#\")","v":{"$error":"#NAME?"}},null,{"$f":"[2]!SUMSTRING(G228:J228,\"|\")","v":{"$error":"#NAME?"}},null,14,{"$f":"SUM($B$1:B228)*0.6","v":16231860},3,{"$f":"SUM($E$1:E228)*0.6","v":3612762},null,{"$f":"[2]!SUMSTRING(N228:O228,\"#\")","v":{"$error":"#NAME?"}},null,{"$f":"[2]!SUMSTRING(P228:Q228,\"#\")","v":{"$error":"#NAME?"}},null,{"$f":"[2]!SUMSTRING(S228:U228,\"|\")","v":{"$error":"#NAME?"}}]
[14,485000,null,3,157280,null,{"$f":"[2]!SUMSTRING(A229:B229,\"#\")","v":{"$error":"#NAME?"}},null,null,{"$f":"[2]!SUMSTRING(D229:E229,\"#\")","v":{"$error":"#NAME?"}},null,{"$f":"[2]!SUMSTRING(G229:J229,\"|\")","v":{"$error":"#NAME?"}},null,14,{"$f":"SUM($B$1:B229)*0.6","v":16522860},3,{"$f":"SUM($E$1:E229)*0.6","v":3707130},null,{"$f":"[2]!SUMSTRING(N229:O229,\"#\")","v":{"$error":"#NAME?"}},null,{"$f":"[2]!SUMSTRING(P229:Q229,\"#\")","v":{"$error":"#NAME?"}},null,{"$f":"[2]!SUMSTRING(S229:U229,\"|\")","v":{"$error":"#NAME?"}}]
[14,490000,null,3,160040,null,{"$f":"[2]!SUMSTRING(A230:B230,\"#\")","v":{"$error":"#NAME?"}},null,null,{"$f":"[2]!SUMSTRING(D230:E230,\"#\")","v":{"$error":"#NAME?"}},null,{"$f":"[2]!SUMSTRING(G230:J230,\"|\")","v":{"$error":"#NAME?"}},null,14,{"$f":"SUM($B$1:B230)*0.6","v":16816860},3,{"$f":"SUM($E$1:E230)*0.6","v":3803154},null,{"$f":"[2]!SUMSTRING(N230:O230,\"#\")","v":{"$error":"#NAME?"}},null,{"$f":"[2]!SUMSTRING(P230:Q230,\"#\")","v":{"$error":"#NAME?"}},null,{"$f":"[2]!SUMSTRING(S230:U230,\"|\")","v":{"$error":"#NAME?"}}]
[14,495000,null,3,162800,null,{"$f":"[2]!SUMSTRING(A231:B231,\"#\")","v":{"$error":"#NAME?"}},null,null,{"$f":"[2]!SUMSTRING(D231:E231,\"#\")","v":{"$error":"#NAME?"}},null,{"$f":"[2]!SUMSTRING(G231:J231,\"|\")","v":{"$error":"#NAME?"}},null,14,{"$f":"SUM($B$1:B231)*0.6","v":17113860},3,{"$f":"SUM($E$1:E231)*0.6","v":3900834},null,{"$f":"[2]!SUMSTRING(N231:O231,\"#\")","v":{"$error":"#NAME?"}},null,{"$f":"[2]!SUMSTRING(P231:Q231,\"#\")","v":{"$error":"#NAME?"}},null,{"$f":"[2]!SUMSTRING(S231:U231,\"|\")","v":{"$error":"#NAME?"}}]
[14,500000,null,3,165560,null,{"$f":"[2]!SUMSTRING(A232:B232,\"#\")","v":{"$error":"#NAME?"}},null,null,{"$f":"[2]!SUMSTRING(D232:E232,\"#\")","v":{"$error":"#NAME?"}},null,{"$f":"[2]!SUMSTRING(G232:J232,\"|\")","v":{"$error":"#NAME?"}},null,14,{"$f":"SUM($B$1:B232)*0.6","v":17413860},3,{"$f":"SUM($E$1:E232)*0.6","v":4000170},null,{"$f":"[2]!SUMSTRING(N232:O232,\"#\")","v":{"$error":"#NAME?"}},null,{"$f":"[2]!SUMSTRING(P232:Q232,\"#\")","v":{"$error":"#NAME?"}},null,{"$f":"[2]!SUMSTRING(S232:U232,\"|\")","v":{"$error":"#NAME?"}}]
[14,505000,null,3,168320,null,{"$f":"[2]!SUMSTRING(A233:B233,\"#\")","v":{"$error":"#NAME?"}},null,null,{"$f":"[2]!SUMSTRING(D233:E233,\"#\")","v":{"$error":"#NAME?"}},null,{"$f":"[2]!SUMSTRING(G233:J233,\"|\")","v":{"$error":"#NAME?"}},null,14,{"$f":"SUM($B$1:B233)*0.6","v":17716860},3,{"$f":"SUM($E$1:E233)*0.6","v":4101162},null,{"$f":"[2]!SUMSTRING(N233:O233,\"#\")","v":{"$error":"#NAME?"}},null,{"$f":"[2]!SUMSTRING(P233:Q233,\"#\")","v":{"$error":"#NAME?"}},null,{"$f":"[2]!SUMSTRING(S233:U233,\"|\")","v":{"$error":"#NAME?"}}]
[14,510000,null,3,171080,null,{"$f":"[2]!SUMSTRING(A234:B234,\"#\")","v":{"$error":"#NAME?"}},null,null,{"$f":"[2]!SUMSTRING(D234:E234,\"#\")","v":{"$error":"#NAME?"}},null,{"$f":"[2]!SUMSTRING(G234:J234,\"|\")","v":{"$error":"#NAME?"}},null,14,{"$f":"SUM($B$1:B234)*0.6","v":18022860},3,{"$f":"SUM($E$1:E234)*0.6","v":4203810},null,{"$f":"[2]!SUMSTRING(N234:O234,\"#\")","v":{"$error":"#NAME?"}},null,{"$f":"[2]!SUMSTRING(P234:Q234,\"#\")","v":{"$error":"#NAME?"}},null,{"$f":"[2]!SUMSTRING(S234:U234,\"|\")","v":{"$error":"#NAME?"}}]
[14,515000,null,3,173840,null,{"$f":"[2]!SUMSTRING(A235:B235,\"#\")","v":{"$error":"#NAME?"}},null,null,{"$f":"[2]!SUMSTRING(D235:E235,\"#\")","v":{"$error":"#NAME?"}},null,{"$f":"[2]!SUMSTRING(G235:J235,\"|\")","v":{"$error":"#NAME?"}},null,14,{"$f":"SUM($B$1:B235)*0.6","v":18331860},3,{"$f":"SUM($E$1:E235)*0.6","v":4308114},null,{"$f":"[2]!SUMSTRING(N235:O235,\"#\")","v":{"$error":"#NAME?"}},null,{"$f":"[2]!SUMSTRING(P235:Q235,\"#\")","v":{"$error":"#NAME?"}},null,{"$f":"[2]!SUMSTRING(S235:U235,\"|\")","v":{"$error":"#NAME?"}}]
[14,520000,null,3,176600,null,{"$f":"[2]!SUMSTRING(A236:B236,\"#\")","v":{"$error":"#NAME?"}},null,null,{"$f":"[2]!SUMSTRING(D236:E236,\"#\")","v":{"$error":"#NAME?"}},null,{"$f":"[2]!SUMSTRING(G236:J236,\"|\")","v":{"$error":"#NAME?"}},null,14,{"$f":"SUM($B$1:B236)*0.6","v":18643860},3,{"$f":"SUM($E$1:E236)*0.6","v":4414074},null,{"$f":"[2]!SUMSTRING(N236:O236,\"#\")","v":{"$error":"#NAME?"}},null,{"$f":"[2]!SUMSTRING(P236:Q236,\"#\")","v":{"$error":"#NAME?"}},null,{"$f":"[2]!SUMSTRING(S236:U236,\"|\")","v":{"$error":"#NAME?"}}]
[14,525000,null,3,179360,null,{"$f":"[2]!SUMSTRING(A237:B237,\"#\")","v":{"$error":"#NAME?"}},null,null,{"$f":"[2]!SUMSTRING(D237:E237,\"#\")","v":{"$error":"#NAME?"}},null,{"$f":"[2]!SUMSTRING(G237:J237,\"|\")","v":{"$error":"#NAME?"}},null,14,{"$f":"SUM($B$1:B237)*0.6","v":18958860},3,{"$f":"SUM($E$1:E237)*0.6","v":4521690},null,{"$f":"[2]!SUMSTRING(N237:O237,\"#\")","v":{"$error":"#NAME?"}},null,{"$f":"[2]!SUMSTRING(P237:Q237,\"#\")","v":{"$error":"#NAME?"}},null,{"$f":"[2]!SUMSTRING(S237:U237,\"|\")","v":{"$error":"#NAME?"}}]
[14,530000,null,3,182120,null,{"$f":"[2]!SUMSTRING(A238:B238,\"#\")","v":{"$error":"#NAME?"}},null,null,{"$f":"[2]!SUMSTRING(D238:E238,\"#\")","v":{"$error":"#NAME?"}},null,{"$f":"[2]!SUMSTRING(G238:J238,\"|\")","v":{"$error":"#NAME?"}},null,14,{"$f":"SUM($B$1:B238)*0.6","v":19276860},3,{"$f":"SUM($E$1:E238)*0.6","v":4630962},null,{"$f":"[2]!SUMSTRING(N238:O238,\"#\")","v":{"$error":"#NAME?"}},null,{"$f":"[2]!SUMSTRING(P238:Q238,\"#\")","v":{"$error":"#NAME?"}},null,{"$f":"[2]!SUMSTRING(S238:U238,\"|\")","v":{"$error":"#NAME?"}}]
[14,535000,null,3,184880,null,{"$f":"[2]!SUMSTRING(A239:B239,\"#\")","v":{"$error":"#NAME?"}},null,null,{"$f":"[2]!SUMSTRING(D239:E239,\"#\")","v":{"$error":"#NAME?"}},null,{"$f":"[2]!SUMSTRING(G239:J239,\"|\")","v":{"$error":"#NAME?"}},null,14,{"$f":"SUM($B$1:B239)*0.6","v":19597860},3,{"$f":"SUM($E$1:E239)*0.6","v":4741890},null,{"$f":"[2]!SUMSTRING(N239:O239,\"#\")","v":{"$error":"#NAME?"}},null,{"$f":"[2]!SUMSTRING(P239:Q239,\"#\")","v":{"$error":"#NAME?"}},null,{"$f":"[2]!SUMSTRING(S239:U239,\"|\")","v":{"$error":"#NAME?"}}]
[14,540000,null,3,187640,null,{"$f":"[2]!SUMSTRING(A240:B240,\"#\")","v":{"$error":"#NAME?"}},null,null,{"$f":"[2]!SUMSTRING(D240:E240,\"#\")","v":{"$error":"#NAME?"}},null,{"$f":"[2]!SUMSTRING(G240:J240,\"|\")","v":{"$error":"#NAME?"}},null,14,{"$f":"SUM($B$1:B240)*0.6","v":19921860},3,{"$f":"SUM($E$1:E240)*0.6","v":4854474},null,{"$f":"[2]!SUMSTRING(N240:O240,\"#\")","v":{"$error":"#NAME?"}},null,{"$f":"[2]!SUMSTRING(P240:Q240,\"#\")","v":{"$error":"#NAME?"}},null,{"$f":"[2]!SUMSTRING(S240:U240,\"|\")","v":{"$error":"#NAME?"}}]
[14,545000,null,3,190400,null,{"$f":"[2]!SUMSTRING(A241:B241,\"#\")","v":{"$error":"#NAME?"}},null,null,{"$f":"[2]!SUMSTRING(D241:E241,\"#\")","v":{"$error":"#NAME?"}},null,{"$f":"[2]!SUMSTRING(G241:J241,\"|\")","v":{"$error":"#NAME?"}},null,14,{"$f":"SUM($B$1:B241)*0.6","v":20248860},3,{"$f":"SUM($E$1:E241)*0.6","v":4968714},null,{"$f":"[2]!SUMSTRING(N241:O241,\"#\")","v":{"$error":"#NAME?"}},null,{"$f":"[2]!SUMSTRING(P241:Q241,\"#\")","v":{"$error":"#NAME?"}},null,{"$f":"[2]!SUMSTRING(S241:U241,\"|\")","v":{"$error":"#NAME?"}}]
[14,550000,null,3,193160,null,{"$f":"[2]!SUMSTRING(A242:B242,\"#\")","v":{"$error":"#NAME?"}},null,null,{"$f":"[2]!SUMSTRING(D242:E242,\"#\")","v":{"$error":"#NAME?"}},null,{"$f":"[2]!SUMSTRING(G242:J242,\"|\")","v":{"$error":"#NAME?"}},null,14,{"$f":"SUM($B$1:B242)*0.6","v":20578860},3,{"$f":"SUM($E$1:E242)*0.6","v":5084610},null,{"$f":"[2]!SUMSTRING(N242:O242,\"#\")","v":{"$error":"#NAME?"}},null,{"$f":"[2]!SUMSTRING(P242:Q242,\"#\")","v":{"$error":"#NAME?"}},null,{"$f":"[2]!SUMSTRING(S242:U242,\"|\")","v":{"$error":"#NAME?"}}]
[14,555000,null,3,195920,null,{"$f":"[2]!SUMSTRING(A243:B243,\"#\")","v":{"$error":"#NAME?"}},null,null,{"$f":"[2]!SUMSTRING(D243:E243,\"#\")","v":{"$error":"#NAME?"}},null,{"$f":"[2]!SUMSTRING(G243:J243,\"|\")","v":{"$error":"#NAME?"}},null,14,{"$f":"SUM($B$1:B243)*0.6","v":20911860},3,{"$f":"SUM($E$1:E243)*0.6","v":5202162},null,{"$f":"[2]!SUMSTRING(N243:O243,\"#\")","v":{"$error":"#NAME?"}},null,{"$f":"[2]!SUMSTRING(P243:Q243,\"#\")","v":{"$error":"#NAME?"}},null,{"$f":"[2]!SUMSTRING(S243:U243,\"|\")","v":{"$error":"#NAME?"}}]
[14,560000,null,3,198680,null,{"$f":"[2]!SUMSTRING(A244:B244,\"#\")","v":{"$error":"#NAME?"}},null,null,{"$f":"[2]!SUMSTRING(D244:E244,\"#\")","v":{"$error":"#NAME?"}},null,{"$f":"[2]!SUMSTRING(G244:J244,\"|\")","v":{"$error":"#NAME?"}},null,14,{"$f":"SUM($B$1:B244)*0.6","v":21247860},3,{"$f":"SUM($E$1:E244)*0.6","v":5321370},null,{"$f":"[2]!SUMSTRING(N244:O244,\"#\")","v":{"$error":"#NAME?"}},null,{"$f":"[2]!SUMSTRING(P244:Q244,\"#\")","v":{"$error":"#NAME?"}},null,{"$f":"[2]!SUMSTRING(S244:U244,\"|\")","v":{"$error":"#NAME?"}}]
[14,565000,null,3,201440,null,{"$f":"[2]!SUMSTRING(A245:B245,\"#\")","v":{"$error":"#NAME?"}},null,null,{"$f":"[2]!SUMSTRING(D245:E245,\"#\")","v":{"$error":"#NAME?"}},null,{"$f":"[2]!SUMSTRING(G245:J245,\"|\")","v":{"$error":"#NAME?"}},null,14,{"$f":"SUM($B$1:B245)*0.6","v":21586860},3,{"$f":"SUM($E$1:E245)*0.6","v":5442234},null,{"$f":"[2]!SUMSTRING(N245:O245,\"#\")","v":{"$error":"#NAME?"}},null,{"$f":"[2]!SUMSTRING(P245:Q245,\"#\")","v":{"$error":"#NAME?"}},null,{"$f":"[2]!SUMSTRING(S245:U245,\"|\")","v":{"$error":"#NAME?"}}]
[14,570000,null,3,204200,null,{"$f":"[2]!SUMSTRING(A246:B246,\"#\")","v":{"$error":"#NAME?"}},null,null,{"$f":"[2]!SUMSTRING(D246:E246,\"#\")","v":{"$error":"#NAME?"}},null,{"$f":"[2]!SUMSTRING(G246:J246,\"|\")","v":{"$error":"#NAME?"}},null,14,{"$f":"SUM($B$1:B246)*0.6","v":21928860},3,{"$f":"SUM($E$1:E246)*0.6","v":5564754},null,{"$f":"[2]!SUMSTRING(N246:O246,\"#\")","v":{"$error":"#NAME?"}},null,{"$f":"[2]!SUMSTRING(P246:Q246,\"#\")","v":{"$error":"#NAME?"}},null,{"$f":"[2]!SUMSTRING(S246:U246,\"|\")","v":{"$error":"#NAME?"}}]
[14,575000,null,3,206960,null,{"$f":"[2]!SUMSTRING(A247:B247,\"#\")","v":{"$error":"#NAME?"}},null,null,{"$f":"[2]!SUMSTRING(D247:E247,\"#\")","v":{"$error":"#NAME?"}},null,{"$f":"[2]!SUMSTRING(G247:J247,\"|\")","v":{"$error":"#NAME?"}},null,14,{"$f":"SUM($B$1:B247)*0.6","v":22273860},3,{"$f":"SUM($E$1:E247)*0.6","v":5688930},null,{"$f":"[2]!SUMSTRING(N247:O247,\"#\")","v":{"$error":"#NAME?"}},null,{"$f":"[2]!SUMSTRING(P247:Q247,\"#\")","v":{"$error":"#NAME?"}},null,{"$f":"[2]!SUMSTRING(S247:U247,\"|\")","v":{"$error":"#NAME?"}}]
[14,580000,null,3,209720,null,{"$f":"[2]!SUMSTRING(A248:B248,\"#\")","v":{"$error":"#NAME?"}},null,null,{"$f":"[2]!SUMSTRING(D248:E248,\"#\")","v":{"$error":"#NAME?"}},null,{"$f":"[2]!SUMSTRING(G248:J248,\"|\")","v":{"$error":"#NAME?"}},null,14,{"$f":"SUM($B$1:B248)*0.6","v":22621860},3,{"$f":"SUM($E$1:E248)*0.6","v":5814762},null,{"$f":"[2]!SUMSTRING(N248:O248,\"#\")","v":{"$error":"#NAME?"}},null,{"$f":"[2]!SUMSTRING(P248:Q248,\"#\")","v":{"$error":"#NAME?"}},null,{"$f":"[2]!SUMSTRING(S248:U248,\"|\")","v":{"$error":"#NAME?"}}]
[14,585000,null,3,212480,null,{"$f":"[2]!SUMSTRING(A249:B249,\"#\")","v":{"$error":"#NAME?"}},null,null,{"$f":"[2]!SUMSTRING(D249:E249,\"#\")","v":{"$error":"#NAME?"}},null,{"$f":"[2]!SUMSTRING(G249:J249,\"|\")","v":{"$error":"#NAME?"}},null,14,{"$f":"SUM($B$1:B249)*0.6","v":22972860},3,{"$f":"SUM($E$1:E249)*0.6","v":5942250},null,{"$f":"[2]!SUMSTRING(N249:O249,\"#\")","v":{"$error":"#NAME?"}},null,{"$f":"[2]!SUMSTRING(P249:Q249,\"#\")","v":{"$error":"#NAME?"}},null,{"$f":"[2]!SUMSTRING(S249:U249,\"|\")","v":{"$error":"#NAME?"}}]
[{"$nulls":4},0]

{"sheet":"Sheet1","index":2,"n_rows":401,"n_cols":18,"rows_kept":401}
[{"$nulls":8},14,5788700,"3#396340"]
[null,115600,14,{"$f":"B2*1.5","v":173400},"3#16290",{"$f":"C2&\"#\"&D2&\"|\"&E2","v":"14#173400|3#16290"},null,null,14,{"$f":"J1+D2","v":5962100},"3#412630",{"$f":"I2&\"#\"&J2&\"|\"&K2","v":"14#5962100|3#412630"},null,null,{"v":1,"d":"1.000000"},{"v":1,"d":"1.000000"},{"$f":"ROUND(O2,6)","v":1},{"$f":"ROUND(P2,6)","v":1}]
[null,118600,14,{"$f":"B3*1.5","v":177900},"3#17090",{"$f":"C3&\"#\"&D3&\"|\"&E3","v":"14#177900|3#17090"},null,null,14,{"$f":"J2+D3","v":6140000},"3#429720",{"$f":"I3&\"#\"&J3&\"|\"&K3","v":"14#6140000|3#429720"},null,null,{"v":1.03939393939394,"d":"1.039394"},{"v":1.04545454545455,"d":"1.045455"},{"$f":"ROUND(O3,6)","v":1.039394},{"$f":"ROUND(P3,6)","v":1.045455}]
[null,121600,14,182400,"3#17890","14#182400|3#17890",null,null,14,6322400,"3#447610","14#6322400|3#447610",null,null,{"v":1.07878787878788,"d":"1.078788"},{"v":1.09090909090909,"d":"1.090909"},1.078788,1.090909]
[null,124600,14,186900,"3#18690","14#186900|3#18690",null,null,14,6509300,"3#466300","14#6509300|3#466300",null,null,{"v":1.11818181818182,"d":"1.118182"},{"v":1.13636363636364,"d":"1.136364"},1.118182,1.136364]
[null,127600,14,191400,"3#19490","14#191400|3#19490",null,null,14,6700700,"3#485790","14#6700700|3#485790",null,null,{"v":1.15757575757576,"d":"1.157576"},{"v":1.18181818181818,"d":"1.181818"},1.157576,1.181818]
[null,130600,14,195900,"3#20290","14#195900|3#20290",null,null,14,6896600,"3#506080","14#6896600|3#506080",null,null,{"v":1.1969696969697,"d":"1.196970"},{"v":1.22727272727273,"d":"1.227273"},1.19697,1.227273]
[null,133600,14,200400,"3#21090","14#200400|3#21090",null,null,14,7097000,"3#527170","14#7097000|3#527170",null,null,{"v":1.23636363636364,"d":"1.236364"},{"v":1.27272727272727,"d":"1.272727"},1.236364,1.272727]
[null,136600,14,204900,"3#21890","14#204900|3#21890",null,null,14,7301900,"3#549060","14#7301900|3#549060",null,null,{"v":1.27575757575758,"d":"1.275758"},{"v":1.31818181818182,"d":"1.318182"},1.275758,1.318182]
[null,139600,14,209400,"3#22690","14#209400|3#22690",null,null,14,7511300,"3#571750","14#7511300|3#571750",null,null,{"v":1.31515151515152,"d":"1.315152"},{"v":1.36363636363636,"d":"1.363636"},1.315152,1.363636]
[null,142600,14,213900,"3#23490","14#213900|3#23490",null,null,14,7725200,"3#595240","14#7725200|3#595240",null,null,{"v":1.35454545454546,"d":"1.354545"},{"v":1.40909090909091,"d":"1.409091"},1.354545,1.409091]
[null,145600,14,218400,"3#24290","14#218400|3#24290",null,null,14,7943600,"3#619530","14#7943600|3#619530",null,null,{"v":1.3939393939394,"d":"1.393939"},{"v":1.45454545454545,"d":"1.454545"},1.393939,1.454545]
[null,148600,14,222900,"3#25090","14#222900|3#25090",null,null,14,8166500,"3#644620","14#8166500|3#644620",null,null,{"v":1.43333333333333,"d":"1.433333"},{"v":1.5,"d":"1.500000"},1.433333,1.5]
[null,151600,14,227400,"3#25890","14#227400|3#25890",null,null,14,8393900,"3#670510","14#8393900|3#670510",null,null,{"v":1.47272727272727,"d":"1.472727"},{"v":1.54545454545454,"d":"1.545455"},1.472727,1.545455]
[null,154600,14,231900,"3#26690","14#231900|3#26690",null,null,14,8625800,"3#697200","14#8625800|3#697200",null,null,{"v":1.51212121212121,"d":"1.512121"},{"v":1.59090909090909,"d":"1.590909"},1.512121,1.590909]
[null,157600,14,236400,"3#27490","14#236400|3#27490",null,null,14,8862200,"3#724690","14#8862200|3#724690",null,null,{"v":1.55151515151515,"d":"1.551515"},{"v":1.63636363636364,"d":"1.636364"},1.551515,1.636364]
[null,160600,14,240900,"3#28290","14#240900|3#28290",null,null,14,9103100,"3#752980","14#9103100|3#752980",null,null,{"v":1.59090909090909,"d":"1.590909"},{"v":1.68181818181818,"d":"1.681818"},1.590909,1.681818]
[null,163600,14,245400,"3#29090","14#245400|3#29090",null,null,14,9348500,"3#782070","14#9348500|3#782070",null,null,{"v":1.63030303030303,"d":"1.630303"},{"v":1.72727272727273,"d":"1.727273"},1.630303,1.727273]
[null,166600,14,249900,"3#29890","14#249900|3#29890",null,null,14,9598400,"3#811960","14#9598400|3#811960",null,null,{"v":1.66969696969697,"d":"1.669697"},{"v":1.77272727272727,"d":"1.772727"},1.669697,1.772727]
[null,169600,14,254400,"3#30690","14#254400|3#30690",null,null,14,9852800,"3#842650","14#9852800|3#842650",null,null,{"v":1.70909090909091,"d":"1.709091"},{"v":1.81818181818182,"d":"1.818182"},1.709091,1.818182]
[null,172600,14,258900,"3#31490","14#258900|3#31490",null,null,14,10111700,"3#874140","14#10111700|3#874140",null,null,{"v":1.74848484848485,"d":"1.748485"},{"v":1.86363636363636,"d":"1.863636"},1.748485,1.863636]
[null,175600,14,263400,"3#32290","14#263400|3#32290",null,null,14,10375100,"3#906430","14#10375100|3#906430",null,null,{"v":1.78787878787879,"d":"1.787879"},{"v":1.90909090909091,"d":"1.909091"},1.787879,1.909091]
[null,178600,14,267900,"3#33090","14#267900|3#33090",null,null,14,10643000,"3#939520","14#10643000|3#939520",null,null,{"v":1.82727272727273,"d":"1.827273"},{"v":1.95454545454545,"d":"1.954545"},1.827273,1.954545]
[null,181600,14,272400,"3#33890","14#272400|3#33890",null,null,14,10915400,"3#973410","14#10915400|3#973410",null,null,{"v":1.86666666666667,"d":"1.866667"},{"v":2,"d":"2.000000"},1.866667,2]
[null,184600,14,276900,"3#34690","14#276900|3#34690",null,null,14,11192300,"3#1008100","14#11192300|3#1008100",null,null,{"v":1.90606060606061,"d":"1.906061"},{"v":2.04545454545454,"d":"2.045455"},1.906061,2.045455]
[null,187600,14,281400,"3#35490","14#281400|3#35490",null,null,14,11473700,"3#1043590","14#11473700|3#1043590",null,null,{"v":1.94545454545455,"d":"1.945455"},{"v":2.09090909090909,"d":"2.090909"},1.945455,2.090909]
[null,190600,14,285900,"3#36290","14#285900|3#36290",null,null,14,11759600,"3#1079880","14#11759600|3#1079880",null,null,{"v":1.98484848484849,"d":"1.984848"},{"v":2.13636363636364,"d":"2.136364"},1.984848,2.136364]
[null,193600,14,290400,"3#37090","14#290400|3#37090",null,null,14,12050000,"3#1116970","14#12050000|3#1116970",null,null,{"v":2.02424242424243,"d":"2.024242"},{"v":2.18181818181818,"d":"2.181818"},2.024242,2.181818]
[null,196600,14,294900,"3#37890","14#294900|3#37890",null,null,14,12344900,"3#1154860","14#12344900|3#1154860",null,null,{"v":2.06363636363637,"d":"2.063636"},{"v":2.22727272727273,"d":"2.227273"},2.063636,2.227273]
[null,199600,14,299400,"3#38690","14#299400|3#38690",null,null,14,12644300,"3#1193550","14#12644300|3#1193550",null,null,{"v":2.10303030303031,"d":"2.103030"},{"v":2.27272727272727,"d":"2.272727"},2.10303,2.272727]
[null,202600,14,303900,"3#39490","14#303900|3#39490",null,null,14,12948200,"3#1233040","14#12948200|3#1233040",null,null,{"v":2.14242424242425,"d":"2.142424"},{"v":2.31818181818182,"d":"2.318182"},2.142424,2.318182]
[null,205600,14,308400,"3#40290","14#308400|3#40290",null,null,14,13256600,"3#1273330","14#13256600|3#1273330",null,null,{"v":2.18181818181819,"d":"2.181818"},{"v":2.36363636363636,"d":"2.363636"},2.181818,2.363636]
[null,208600,14,312900,"3#41090","14#312900|3#41090",null,null,14,13569500,"3#1314420","14#13569500|3#1314420",null,null,{"v":2.22121212121213,"d":"2.221212"},{"v":2.40909090909091,"d":"2.409091"},2.221212,2.409091]
[null,211600,14,317400,"3#41890","14#317400|3#41890",null,null,14,13886900,"3#1356310","14#13886900|3#1356310",null,null,{"v":2.26060606060607,"d":"2.260606"},{"v":2.45454545454545,"d":"2.454545"},2.260606,2.454545]
[null,214600,14,321900,"3#42690","14#321900|3#42690",null,null,14,14208800,"3#1399000","14#14208800|3#1399000",null,null,{"v":2.3,"d":"2.300000"},{"v":2.5,"d":"2.500000"},2.3,2.5]
[null,217600,14,326400,"3#43490","14#326400|3#43490",null,null,14,14535200,"3#1442490","14#14535200|3#1442490",null,null,{"v":2.33939393939394,"d":"2.339394"},{"v":2.54545454545454,"d":"2.545455"},2.339394,2.545455]
[null,220600,14,330900,"3#44290","14#330900|3#44290",null,null,14,14866100,"3#1486780","14#14866100|3#1486780",null,null,{"v":2.37878787878788,"d":"2.378788"},{"v":2.59090909090909,"d":"2.590909"},2.378788,2.590909]
[null,223600,14,335400,"3#45090","14#335400|3#45090",null,null,14,15201500,"3#1531870","14#15201500|3#1531870",null,null,{"v":2.41818181818182,"d":"2.418182"},{"v":2.63636363636363,"d":"2.636364"},2.418182,2.636364]
[null,226600,14,339900,"3#45890","14#339900|3#45890",null,null,14,15541400,"3#1577760","14#15541400|3#1577760",null,null,{"v":2.45757575757576,"d":"2.457576"},{"v":2.68181818181818,"d":"2.681818"},2.457576,2.681818]
[null,229600,14,344400,"3#46690","14#344400|3#46690",null,null,14,15885800,"3#1624450","14#15885800|3#1624450",null,null,{"v":2.4969696969697,"d":"2.496970"},{"v":2.72727272727273,"d":"2.727273"},2.49697,2.727273]
[null,232600,14,348900,"3#47490","14#348900|3#47490",null,null,14,16234700,"3#1671940","14#16234700|3#1671940",null,null,{"v":2.53636363636364,"d":"2.536364"},{"v":2.77272727272727,"d":"2.772727"},2.536364,2.772727]
[null,237000,14,355500,"3#48500","14#355500|3#48500",null,null,14,16590200,"3#1720440","14#16590200|3#1720440",null,null,{"v":2.57575757575758,"d":"2.575758"},{"v":2.81818181818182,"d":"2.818182"},2.575758,2.818182]
[null,241000,14,361500,"3#49500","14#361500|3#49500",null,null,14,16951700,"3#1769940","14#16951700|3#1769940",null,null,{"v":2.61515151515152,"d":"2.615152"},{"v":2.86363636363636,"d":"2.863636"},2.615152,2.863636]
[null,245000,14,367500,"3#50500","14#367500|3#50500",null,null,14,17319200,"3#1820440","14#17319200|3#1820440",null,null,{"v":2.65454545454546,"d":"2.654545"},{"v":2.90909090909091,"d":"2.909091"},2.654545,2.909091]
[null,249000,14,373500,"3#51500","14#373500|3#51500",null,null,14,17692700,"3#1871940","14#17692700|3#1871940",null,null,{"v":2.6939393939394,"d":"2.693939"},{"v":2.95454545454545,"d":"2.954545"},2.693939,2.954545]
[null,253000,14,379500,"3#52500","14#379500|3#52500",null,null,14,18072200,"3#1924440","14#18072200|3#1924440",null,null,{"v":2.73333333333334,"d":"2.733333"},{"v":3,"d":"3.000000"},2.733333,3]
[null,257000,14,385500,"3#53500","14#385500|3#53500",null,null,14,18457700,"3#1977940","14#18457700|3#1977940",null,null,{"v":2.77272727272728,"d":"2.772727"},{"v":3.04545454545454,"d":"3.045455"},2.772727,3.045455]
[null,261000,14,391500,"3#54500","14#391500|3#54500",null,null,14,18849200,"3#2032440","14#18849200|3#2032440",null,null,{"v":2.81212121212122,"d":"2.812121"},{"v":3.09090909090909,"d":"3.090909"},2.812121,3.090909]
[null,265000,14,397500,"3#55500","14#397500|3#55500",null,null,14,19246700,"3#2087940","14#19246700|3#2087940",null,null,{"v":2.85151515151516,"d":"2.851515"},{"v":3.13636363636363,"d":"3.136364"},2.851515,3.136364]
[null,269000,14,403500,"3#56500","14#403500|3#56500",null,null,14,19650200,"3#2144440","14#19650200|3#2144440",null,null,{"v":2.8909090909091,"d":"2.890909"},{"v":3.18181818181818,"d":"3.181818"},2.890909,3.181818]
[null,273000,14,409500,"3#57500","14#409500|3#57500",null,null,14,20059700,"3#2201940","14#20059700|3#2201940",null,null,{"v":2.93030303030304,"d":"2.930303"},{"v":3.22727272727273,"d":"3.227273"},2.930303,3.227273]
[null,277000,14,415500,"3#58500","14#415500|3#58500",null,null,14,20475200,"3#2260440","14#20475200|3#2260440",null,null,{"v":2.96969696969698,"d":"2.969697"},{"v":3.27272727272727,"d":"3.272727"},2.969697,3.272727]
[null,281000,14,421500,"3#59500","14#421500|3#59500",null,null,14,20896700,"3#2319940","14#20896700|3#2319940",null,null,{"v":3.00909090909092,"d":"3.009091"},{"v":3.31818181818182,"d":"3.318182"},3.009091,3.318182]
[null,285000,14,427500,"3#60500","14#427500|3#60500",null,null,14,21324200,"3#2380440","14#21324200|3#2380440",null,null,{"v":3.04848484848486,"d":"3.048485"},{"v":3.36363636363636,"d":"3.363636"},3.048485,3.363636]
[null,289000,14,433500,"3#61500","14#433500|3#61500",null,null,14,21757700,"3#2441940","14#21757700|3#2441940",null,null,{"v":3.0878787878788,"d":"3.087879"},{"v":3.40909090909091,"d":"3.409091"},3.087879,3.409091]
[null,293000,14,439500,"3#62500","14#439500|3#62500",null,null,14,22197200,"3#2504440","14#22197200|3#2504440",null,null,{"v":3.12727272727273,"d":"3.127273"},{"v":3.45454545454545,"d":"3.454545"},3.127273,3.454545]
[null,297000,14,445500,"3#63500","14#445500|3#63500",null,null,14,22642700,"3#2567940","14#22642700|3#2567940",null,null,{"v":3.16666666666667,"d":"3.166667"},{"v":3.5,"d":"3.500000"},3.166667,3.5]
[null,301000,14,451500,"3#64500","14#451500|3#64500",null,null,14,23094200,"3#2632440","14#23094200|3#2632440",null,null,{"v":3.20606060606061,"d":"3.206061"},{"v":3.54545454545454,"d":"3.545455"},3.206061,3.545455]
[null,305000,14,457500,"3#65500","14#457500|3#65500",null,null,14,23551700,"3#2697940","14#23551700|3#2697940",null,null,{"v":3.24545454545455,"d":"3.245455"},{"v":3.59090909090909,"d":"3.590909"},3.245455,3.590909]
[null,309000,14,463500,"3#66500","14#463500|3#66500",null,null,14,24015200,"3#2764440","14#24015200|3#2764440",null,null,{"v":3.28484848484849,"d":"3.284848"},{"v":3.63636363636363,"d":"3.636364"},3.284848,3.636364]
[null,313000,14,469500,"3#67500","14#469500|3#67500",null,null,14,24484700,"3#2831940","14#24484700|3#2831940",null,null,{"v":3.32424242424243,"d":"3.324242"},{"v":3.68181818181818,"d":"3.681818"},3.324242,3.681818]
[null,318000,14,477000,"3#69000","14#477000|3#69000",null,null,14,24961700,"3#2900940","14#24961700|3#2900940",null,null,{"v":3.36363636363637,"d":"3.363636"},{"v":3.72727272727272,"d":"3.727273"},3.363636,3.727273]
[null,323000,14,484500,"3#70500","14#484500|3#70500",null,null,14,25446200,"3#2971440","14#25446200|3#2971440",null,null,{"v":3.40303030303031,"d":"3.403030"},{"v":3.77272727272727,"d":"3.772727"},3.40303,3.772727]
[null,328000,14,492000,"3#72000","14#492000|3#72000",null,null,14,25938200,"3#3043440","14#25938200|3#3043440",null,null,{"v":3.44242424242425,"d":"3.442424"},{"v":3.81818181818182,"d":"3.818182"},3.442424,3.818182]
[null,333000,14,499500,"3#73500","14#499500|3#73500",null,null,14,26437700,"3#3116940","14#26437700|3#3116940",null,null,{"v":3.48181818181819,"d":"3.481818"},{"v":3.86363636363636,"d":"3.863636"},3.481818,3.863636]
[null,338000,14,507000,"3#75000","14#507000|3#75000",null,null,14,26944700,"3#3191940","14#26944700|3#3191940",null,null,{"v":3.52121212121213,"d":"3.521212"},{"v":3.90909090909091,"d":"3.909091"},3.521212,3.909091]
[null,343000,14,{"$f":"B67*1.5","v":514500},"3#76500",{"$f":"C67&\"#\"&D67&\"|\"&E67","v":"14#514500|3#76500"},null,null,14,{"$f":"J66+D67","v":27459200},"3#3268440",{"$f":"I67&\"#\"&J67&\"|\"&K67","v":"14#27459200|3#3268440"},null,null,{"v":3.56060606060607,"d":"3.560606"},{"v":3.95454545454545,"d":"3.954545"},{"$f":"ROUND(O67,6)","v":3.560606},{"$f":"ROUND(P67,6)","v":3.954545}]
[null,348000,14,522000,"3#78000","14#522000|3#78000",null,null,14,27981200,"3#3346440","14#27981200|3#3346440",null,null,{"v":3.60000000000001,"d":"3.600000"},{"v":4,"d":"4.000000"},3.6,4]
[null,353000,14,529500,"3#79500","14#529500|3#79500",null,null,14,28510700,"3#3425940","14#28510700|3#3425940",null,null,{"v":3.63939393939395,"d":"3.639394"},{"v":4.04545454545454,"d":"4.045455"},3.639394,4.045455]
[null,358000,14,537000,"3#81000","14#537000|3#81000",null,null,14,29047700,"3#3506940","14#29047700|3#3506940",null,null,{"v":3.67878787878789,"d":"3.678788"},{"v":4.09090909090909,"d":"4.090909"},3.678788,4.090909]
[null,363000,14,544500,"3#82500","14#544500|3#82500",null,null,14,29592200,"3#3589440","14#29592200|3#3589440",null,null,{"v":3.71818181818183,"d":"3.718182"},{"v":4.13636363636363,"d":"4.136364"},3.718182,4.136364]
[null,368000,14,552000,"3#84000","14#552000|3#84000",null,null,14,30144200,"3#3673440","14#30144200|3#3673440",null,null,{"v":3.75757575757577,"d":"3.757576"},{"v":4.18181818181818,"d":"4.181818"},3.757576,4.181818]
[null,373000,14,559500,"3#85500","14#559500|3#85500",null,null,14,30703700,"3#3758940","14#30703700|3#3758940",null,null,{"v":3.79696969696971,"d":"3.796970"},{"v":4.22727272727272,"d":"4.227273"},3.79697,4.227273]
[null,378000,14,567000,"3#87000","14#567000|3#87000",null,null,14,31270700,"3#3845940","14#31270700|3#3845940",null,null,{"v":3.83636363636365,"d":"3.836364"},{"v":4.27272727272727,"d":"4.272727"},3.836364,4.272727]
[null,383000,14,574500,"3#88500","14#574500|3#88500",null,null,14,31845200,"3#3934440","14#31845200|3#3934440",null,null,{"v":3.87575757575759,"d":"3.875758"},{"v":4.31818181818181,"d":"4.318182"},3.875758,4.318182]
[null,388000,14,582000,"3#90000","14#582000|3#90000",null,null,14,32427200,"3#4024440","14#32427200|3#4024440",null,null,{"v":3.91515151515153,"d":"3.915152"},{"v":4.36363636363636,"d":"4.363636"},3.915152,4.363636]
[null,393000,14,589500,"3#91500","14#589500|3#91500",null,null,14,33016700,"3#4115940","14#33016700|3#4115940",null,null,{"v":3.95454545454547,"d":"3.954545"},{"v":4.4090909090909,"d":"4.409091"},3.954545,4.409091]
[null,398000,14,597000,"3#93000","14#597000|3#93000",null,null,14,33613700,"3#4208940","14#33613700|3#4208940",null,null,{"v":3.9939393939394,"d":"3.993939"},{"v":4.45454545454545,"d":"4.454545"},3.993939,4.454545]
[null,403000,14,604500,"3#94500","14#604500|3#94500",null,null,14,34218200,"3#4303440","14#34218200|3#4303440",null,null,{"v":4.03333333333334,"d":"4.033333"},{"v":4.49999999999999,"d":"4.500000"},4.033333,4.5]
[null,408000,14,612000,"3#96000","14#612000|3#96000",null,null,14,34830200,"3#4399440","14#34830200|3#4399440",null,null,{"v":4.07272727272728,"d":"4.072727"},{"v":4.54545454545454,"d":"4.545455"},4.072727,4.545455]
[null,413000,14,619500,"3#97500","14#619500|3#97500",null,null,14,35449700,"3#4496940","14#35449700|3#4496940",null,null,{"v":4.11212121212122,"d":"4.112121"},{"v":4.59090909090908,"d":"4.590909"},4.112121,4.590909]
[null,418000,14,627000,"3#99000","14#627000|3#99000",null,null,14,36076700,"3#4595940","14#36076700|3#4595940",null,null,{"v":4.15151515151516,"d":"4.151515"},{"v":4.63636363636363,"d":"4.636364"},4.151515,4.636364]
[null,423000,14,634500,"3#100500","14#634500|3#100500",null,null,14,36711200,"3#4696440","14#36711200|3#4696440",null,null,{"v":4.1909090909091,"d":"4.190909"},{"v":4.68181818181817,"d":"4.681818"},4.190909,4.681818]
[null,428000,14,642000,"3#102000","14#642000|3#102000",null,null,14,37353200,"3#4798440","14#37353200|3#4798440",null,null,{"v":4.23030303030304,"d":"4.230303"},{"v":4.72727272727272,"d":"4.727273"},4.230303,4.727273]
[null,433000,14,649500,"3#103500","14#649500|3#103500",null,null,14,38002700,"3#4901940","14#38002700|3#4901940",null,null,{"v":4.26969696969698,"d":"4.269697"},{"v":4.77272727272726,"d":"4.772727"},4.269697,4.772727]
[null,438000,14,657000,"3#105000","14#657000|3#105000",null,null,14,38659700,"3#5006940","14#38659700|3#5006940",null,null,{"v":4.30909090909092,"d":"4.309091"},{"v":4.81818181818181,"d":"4.818182"},4.309091,4.818182]
[null,443000,14,664500,"3#106500","14#664500|3#106500",null,null,14,39324200,"3#5113440","14#39324200|3#5113440",null,null,{"v":4.34848484848486,"d":"4.348485"},{"v":4.86363636363635,"d":"4.863636"},4.348485,4.863636]
[null,448000,14,672000,"3#108000","14#672000|3#108000",null,null,14,39996200,"3#5221440","14#39996200|3#5221440",null,null,{"v":4.3878787878788,"d":"4.387879"},{"v":4.9090909090909,"d":"4.909091"},4.387879,4.909091]
[null,453000,14,679500,"3#109500","14#679500|3#109500",null,null,14,40675700,"3#5330940","14#40675700|3#5330940",null,null,{"v":4.42727272727273,"d":"4.427273"},{"v":4.95454545454544,"d":"4.954545"},4.427273,4.954545]
[null,458000,14,687000,"3#111000","14#687000|3#111000",null,null,14,41362700,"3#5441940","14#41362700|3#5441940",null,null,{"v":4.46666666666667,"d":"4.466667"},{"v":4.99999999999999,"d":"5.000000"},4.466667,5]
[null,463000,14,694500,"3#113000","14#694500|3#113000",null,null,14,42057200,"3#5554940","14#42057200|3#5554940",null,null,{"v":4.50606060606061,"d":"4.506061"},{"v":5.04545454545453,"d":"5.045455"},4.506061,5.045455]
[null,468000,14,702000,"3#115000","14#702000|3#115000",null,null,14,42759200,"3#5669940","14#42759200|3#5669940",null,null,{"v":4.54545454545455,"d":"4.545455"},{"v":5.09090909090908,"d":"5.090909"},4.545455,5.090909]
[null,473000,14,709500,"3#117000","14#709500|3#117000",null,null,14,43468700,"3#5786940","14#43468700|3#5786940",null,null,{"v":4.58484848484849,"d":"4.584848"},{"v":5.13636363636362,"d":"5.136364"},4.584848,5.136364]
[null,478000,14,717000,"3#119000","14#717000|3#119000",null,null,14,44185700,"3#5905940","14#44185700|3#5905940",null,null,{"v":4.62424242424243,"d":"4.624242"},{"v":5.18181818181817,"d":"5.181818"},4.624242,5.181818]
[null,483000,14,724500,"3#121000","14#724500|3#121000",null,null,14,44910200,"3#6026940","14#44910200|3#6026940",null,null,{"v":4.66363636363637,"d":"4.663636"},{"v":5.22727272727271,"d":"5.227273"},4.663636,5.227273]
[null,488000,14,732000,"3#123000","14#732000|3#123000",null,null,14,45642200,"3#6149940","14#45642200|3#6149940",null,null,{"v":4.70303030303031,"d":"4.703030"},{"v":5.27272727272726,"d":"5.272727"},4.70303,5.272727]
[null,493000,14,739500,"3#125000","14#739500|3#125000",null,null,14,46381700,"3#6274940","14#46381700|3#6274940",null,null,{"v":4.74242424242425,"d":"4.742424"},{"v":5.3181818181818,"d":"5.318182"},4.742424,5.318182]
[null,498000,14,747000,"3#127000","14#747000|3#127000",null,null,14,47128700,"3#6401940","14#47128700|3#6401940",null,null,{"v":4.78181818181819,"d":"4.781818"},{"v":5.36363636363635,"d":"5.363636"},4.781818,5.363636]
[null,503000,14,754500,"3#129000","14#754500|3#129000",null,null,14,47883200,"3#6530940","14#47883200|3#6530940",null,null,{"v":4.82121212121213,"d":"4.821212"},{"v":5.40909090909089,"d":"5.409091"},4.821212,5.409091]
[null,508000,14,762000,"3#131000","14#762000|3#131000",null,null,14,48645200,"3#6661940","14#48645200|3#6661940",null,null,{"v":4.86060606060606,"d":"4.860606"},{"v":5.45454545454544,"d":"5.454545"},4.860606,5.454545]
[null,513000,14,769500,"3#133000","14#769500|3#133000",null,null,14,49414700,"3#6794940","14#49414700|3#6794940",null,null,{"v":4.94200000000001,"d":"4.942000"},{"v":5.51369999999998,"d":"5.513700"},4.942,5.5137]
[null,518000,14,777000,"3#135000","14#777000|3#135000",null,null,14,50191700,"3#6929940","14#50191700|3#6929940",null,null,{"v":5.0241681366615,"d":"5.024168"},{"v":5.57341720758631,"d":"5.573417"},5.024168,5.573417]
[null,523000,14,784500,"3#137000","14#784500|3#137000",null,null,14,50976200,"3#7066940","14#50976200|3#7066940",null,null,{"v":5.10633627332299,"d":"5.106336"},{"v":5.63313441517264,"d":"5.633134"},5.106336,5.633134]
[null,528000,14,792000,"3#139000","14#792000|3#139000",null,null,14,51768200,"3#7205940","14#51768200|3#7205940",null,null,{"v":5.18850440998448,"d":"5.188504"},{"v":5.69285162275896,"d":"5.692852"},5.188504,5.692852]
[null,533000,14,799500,"3#141000","14#799500|3#141000",null,null,14,52567700,"3#7346940","14#52567700|3#7346940",null,null,{"v":5.27067254664597,"d":"5.270673"},{"v":5.75256883034529,"d":"5.752569"},5.270673,5.752569]
[null,538000,14,807000,"3#143000","14#807000|3#143000",null,null,14,53374700,"3#7489940","14#53374700|3#7489940",null,null,{"v":5.35284068330746,"d":"5.352841"},{"v":5.81228603793162,"d":"5.812286"},5.352841,5.812286]
[null,543000,14,814500,"3#145000","14#814500|3#145000",null,null,14,54189200,"3#7634940","14#54189200|3#7634940",null,null,{"v":5.43500881996894,"d":"5.435009"},{"v":5.87200324551794,"d":"5.872003"},5.435009,5.872003]
[null,548000,14,822000,"3#147000","14#822000|3#147000",null,null,14,55011200,"3#7781940","14#55011200|3#7781940",null,null,{"v":5.51717695663043,"d":"5.517177"},{"v":5.93172045310427,"d":"5.931720"},5.517177,5.93172]
[null,553000,14,829500,"3#149000","14#829500|3#149000",null,null,14,55840700,"3#7930940","14#55840700|3#7930940",null,null,{"v":5.59934509329192,"d":"5.599345"},{"v":5.9914376606906,"d":"5.991438"},5.599345,5.991438]
[null,558000,14,837000,"3#151000","14#837000|3#151000",null,null,14,56677700,"3#8081940","14#56677700|3#8081940",null,null,{"v":5.68151322995341,"d":"5.681513"},{"v":6.05115486827692,"d":"6.051155"},5.681513,6.051155]
[null,563000,14,844500,"3#153000","14#844500|3#153000",null,null,14,57522200,"3#8234940","14#57522200|3#8234940",null,null,{"v":5.7636813666149,"d":"5.763681"},{"v":6.11087207586325,"d":"6.110872"},5.763681,6.110872]
[null,568000,14,852000,"3#155000","14#852000|3#155000",null,null,14,58374200,"3#8389940","14#58374200|3#8389940",null,null,{"v":5.84584950327639,"d":"5.845850"},{"v":6.17058928344958,"d":"6.170589"},5.84585,6.170589]
[null,573000,14,859500,"3#157000","14#859500|3#157000",null,null,14,59233700,"3#8546940","14#59233700|3#8546940",null,null,{"v":5.92801763993788,"d":"5.928018"},{"v":6.2303064910359,"d":"6.230306"},5.928018,6.230306]
[null,578000,14,867000,"3#159000","14#867000|3#159000",null,null,14,60100700,"3#8705940","14#60100700|3#8705940",null,null,{"v":6.01018577659936,"d":"6.010186"},{"v":6.29002369862223,"d":"6.290024"},6.010186,6.290024]
[null,583000,14,874500,"3#161000","14#874500|3#161000",null,null,14,60975200,"3#8866940","14#60975200|3#8866940",null,null,{"v":6.09235391326085,"d":"6.092354"},{"v":6.34974090620856,"d":"6.349741"},6.092354,6.349741]
[null,588000,14,882000,"3#163000","14#882000|3#163000",null,null,14,61857200,"3#9029940","14#61857200|3#9029940",null,null,{"v":6.17452204992234,"d":"6.174522"},{"v":6.40945811379489,"d":"6.409458"},6.174522,6.409458]
[null,593000,14,889500,"3#165000","14#889500|3#165000",null,null,14,62746700,"3#9194940","14#62746700|3#9194940",null,null,{"v":6.25669018658383,"d":"6.256690"},{"v":6.46917532138121,"d":"6.469175"},6.25669,6.469175]
[null,598000,14,897000,"3#167000","14#897000|3#167000",null,null,14,63643700,"3#9361940","14#63643700|3#9361940",null,null,{"v":6.33885832324532,"d":"6.338858"},{"v":6.52889252896754,"d":"6.528893"},6.338858,6.528893]
[null,603000,14,904500,"3#169000","14#904500|3#169000",null,null,14,64548200,"3#9530940","14#64548200|3#9530940",null,null,{"v":6.42102645990681,"d":"6.421026"},{"v":6.58860973655387,"d":"6.588610"},6.421026,6.58861]
[null,608000,14,912000,"3#171000","14#912000|3#171000",null,null,14,65460200,"3#9701940","14#65460200|3#9701940",null,null,{"v":6.5031945965683,"d":"6.503195"},{"v":6.64832694414019,"d":"6.648327"},6.503195,6.648327]
[null,613000,14,919500,"3#173000","14#919500|3#173000",null,null,14,66379700,"3#9874940","14#66379700|3#9874940",null,null,{"v":6.58536273322978,"d":"6.585363"},{"v":6.70804415172652,"d":"6.708044"},6.585363,6.708044]
[null,618000,14,927000,"3#175000","14#927000|3#175000",null,null,14,67306700,"3#10049940","14#67306700|3#10049940",null,null,{"v":6.66753086989127,"d":"6.667531"},{"v":6.76776135931285,"d":"6.767761"},6.667531,6.767761]
[null,623000,14,934500,"3#177000","14#934500|3#177000",null,null,14,68241200,"3#10226940","14#68241200|3#10226940",null,null,{"v":6.74969900655276,"d":"6.749699"},{"v":6.82747856689917,"d":"6.827479"},6.749699,6.827479]
[null,628000,14,942000,"3#179000","14#942000|3#179000",null,null,14,69183200,"3#10405940","14#69183200|3#10405940",null,null,{"v":6.83186714321425,"d":"6.831867"},{"v":6.8871957744855,"d":"6.887196"},6.831867,6.887196]
[null,633000,14,949500,"3#181000","14#949500|3#181000",null,null,14,70132700,"3#10586940","14#70132700|3#10586940",null,null,{"v":6.91403527987574,"d":"6.914035"},{"v":6.94691298207183,"d":"6.946913"},6.914035,6.946913]
[null,638000,14,957000,"3#183000","14#957000|3#183000",null,null,14,71089700,"3#10769940","14#71089700|3#10769940",null,null,{"v":6.99620341653723,"d":"6.996203"},{"v":7.00663018965815,"d":"7.006630"},6.996203,7.00663]
[null,643000,14,964500,"3#185000","14#964500|3#185000",null,null,14,72054200,"3#10954940","14#72054200|3#10954940",null,null,{"v":7.07837155319872,"d":"7.078372"},{"v":7.06634739724448,"d":"7.066347"},7.078372,7.066347]
[null,648000,14,972000,"3#187000","14#972000|3#187000",null,null,14,73026200,"3#11141940","14#73026200|3#11141940",null,null,{"v":7.1605396898602,"d":"7.160540"},{"v":7.12606460483081,"d":"7.126065"},7.16054,7.126065]
[null,653000,14,979500,"3#189000","14#979500|3#189000",null,null,14,74005700,"3#11330940","14#74005700|3#11330940",null,null,{"v":7.24270782652169,"d":"7.242708"},{"v":7.18578181241713,"d":"7.185782"},7.242708,7.185782]
[null,658000,14,987000,"3#191000","14#987000|3#191000",null,null,14,74992700,"3#11521940","14#74992700|3#11521940",null,null,{"v":7.32487596318318,"d":"7.324876"},{"v":7.24549902000346,"d":"7.245499"},7.324876,7.245499]
[null,663000,14,{"$f":"B131*1.5","v":994500},"3#193000",{"$f":"C131&\"#\"&D131&\"|\"&E131","v":"14#994500|3#193000"},null,null,14,{"$f":"J130+D131","v":75987200},"3#11714940",{"$f":"I131&\"#\"&J131&\"|\"&K131","v":"14#75987200|3#11714940"},null,null,{"v":7.40704409984467,"d":"7.407044"},{"v":7.30521622758979,"d":"7.305216"},{"$f":"ROUND(O131,6)","v":7.407044},{"$f":"ROUND(P131,6)","v":7.305216}]
[null,668000,14,1002000,"3#195000","14#1002000|3#195000",null,null,14,76989200,"3#11909940","14#76989200|3#11909940",null,null,{"v":7.48921223650616,"d":"7.489212"},{"v":7.36493343517611,"d":"7.364933"},7.489212,7.364933]
[null,673000,14,1009500,"3#197000","14#1009500|3#197000",null,null,14,77998700,"3#12106940","14#77998700|3#12106940",null,null,{"v":7.57138037316765,"d":"7.571380"},{"v":7.42465064276244,"d":"7.424651"},7.57138,7.424651]
[null,678000,14,1017000,"3#199000","14#1017000|3#199000",null,null,14,79015700,"3#12305940","14#79015700|3#12305940",null,null,{"v":7.65354850982914,"d":"7.653549"},{"v":7.48436785034877,"d":"7.484368"},7.653549,7.484368]
[null,683000,14,1024500,"3#201000","14#1024500|3#201000",null,null,14,80040200,"3#12506940","14#80040200|3#12506940",null,null,{"v":7.73571664649062,"d":"7.735717"},{"v":7.54408505793509,"d":"7.544085"},7.735717,7.544085]
[null,688000,14,1032000,"3#203000","14#1032000|3#203000",null,null,14,81072200,"3#12709940","14#81072200|3#12709940",null,null,{"v":7.81788478315211,"d":"7.817885"},{"v":7.60380226552142,"d":"7.603802"},7.817885,7.603802]
[null,691000,14,1036500,"3#205000","14#1036500|3#205000",null,null,14,82108700,"3#12914940","14#82108700|3#12914940",null,null,{"v":7.9000529198136,"d":"7.900053"},{"v":7.66351947310775,"d":"7.663519"},7.900053,7.663519]
[null,694000,14,1041000,"3#207000","14#1041000|3#207000",null,null,14,83149700,"3#13121940","14#83149700|3#13121940",null,null,{"v":7.98222105647509,"d":"7.982221"},{"v":7.72323668069408,"d":"7.723237"},7.982221,7.723237]
[null,697000,14,1045500,"3#209000","14#1045500|3#209000",null,null,14,84195200,"3#13330940","14#84195200|3#13330940",null,null,{"v":8.06438919313658,"d":"8.064389"},{"v":7.7829538882804,"d":"7.782954"},8.064389,7.782954]
[null,700000,14,1050000,"3#210000","14#1050000|3#210000",null,null,14,85245200,"3#13540940","14#85245200|3#13540940",null,null,{"v":8.14655732979807,"d":"8.146557"},{"v":7.84267109586673,"d":"7.842671"},8.146557,7.842671]
[null,700000,14,1050000,"3#210000","14#1050000|3#210000",null,null,14,86295200,"3#13750940","14#86295200|3#13750940",null,null,{"v":8.22872546645956,"d":"8.228725"},{"v":7.90238830345306,"d":"7.902388"},8.228725,7.902388]
[null,700000,14,1050000,"3#210000","14#1050000|3#210000",null,null,14,87345200,"3#13960940","14#87345200|3#13960940",null,null,{"v":8.3155829704638,"d":"8.315583"},{"v":7.96491882169829,"d":"7.964919"},8.315583,7.964919]
[null,700000,14,1050000,"3#210000","14#1050000|3#210000",null,null,14,88395200,"3#14170940","14#88395200|3#14170940",null,null,{"v":8.40244047446805,"d":"8.402440"},{"v":8.02744933994352,"d":"8.027449"},8.40244,8.027449]
[null,700000,14,1050000,"3#210000","14#1050000|3#210000",null,null,14,89445200,"3#14380940","14#89445200|3#14380940",null,null,{"v":8.4892979784723,"d":"8.489298"},{"v":8.08997985818875,"d":"8.089980"},8.489298,8.08998]
[null,700000,14,1050000,"3#210000","14#1050000|3#210000",null,null,14,90495200,"3#14590940","14#90495200|3#14590940",null,null,{"v":8.57615548247655,"d":"8.576155"},{"v":8.15251037643398,"d":"8.152510"},8.576155,8.15251]
[null,700000,14,1050000,"3#210000","14#1050000|3#210000",null,null,14,91545200,"3#14800940","14#91545200|3#14800940",null,null,{"v":8.6630129864808,"d":"8.663013"},{"v":8.21504089467921,"d":"8.215041"},8.663013,8.215041]
[null,700000,14,1050000,"3#210000","14#1050000|3#210000",null,null,14,92595200,"3#15010940","14#92595200|3#15010940",null,null,{"v":8.74987049048505,"d":"8.749870"},{"v":8.27757141292444,"d":"8.277571"},8.74987,8.277571]
[null,700000,14,1050000,"3#210000","14#1050000|3#210000",null,null,14,93645200,"3#15220940","14#93645200|3#15220940",null,null,{"v":8.83672799448929,"d":"8.836728"},{"v":8.34010193116967,"d":"8.340102"},8.836728,8.340102]
[null,700000,14,1050000,"3#210000","14#1050000|3#210000",null,null,14,94695200,"3#15430940","14#94695200|3#15430940",null,null,{"v":8.92358549849354,"d":"8.923585"},{"v":8.4026324494149,"d":"8.402632"},8.923585,8.402632]
[null,700000,14,1050000,"3#210000","14#1050000|3#210000",null,null,14,95745200,"3#15640940","14#95745200|3#15640940",null,null,{"v":9.01044300249779,"d":"9.010443"},{"v":8.46516296766013,"d":"8.465163"},9.010443,8.465163]
[null,700000,14,1050000,"3#210000","14#1050000|3#210000",null,null,14,96795200,"3#15850940","14#96795200|3#15850940",null,null,{"v":9.09730050650204,"d":"9.097301"},{"v":8.52769348590536,"d":"8.527693"},9.097301,8.527693]
[null,700000,14,1050000,"3#210000","14#1050000|3#210000",null,null,14,97845200,"3#16060940","14#97845200|3#16060940",null,null,{"v":9.18415801050629,"d":"9.184158"},{"v":8.59022400415059,"d":"8.590224"},9.184158,8.590224]
[null,700000,14,1050000,"3#210000","14#1050000|3#210000",null,null,14,98895200,"3#16270940","14#98895200|3#16270940",null,null,{"v":9.27101551451054,"d":"9.271016"},{"v":8.65275452239582,"d":"8.652755"},9.271016,8.652755]
[null,700000,14,1050000,"3#210000","14#1050000|3#210000",null,null,14,99945200,"3#16480940","14#99945200|3#16480940",null,null,{"v":9.35787301851478,"d":"9.357873"},{"v":8.71528504064105,"d":"8.715285"},9.357873,8.715285]
[null,700000,14,1050000,"3#210000","14#1050000|3#210000",null,null,14,100995200,"3#16690940","14#100995200|3#16690940",null,null,{"v":9.44473052251903,"d":"9.444731"},{"v":8.77781555888628,"d":"8.777816"},9.444731,8.777816]
[null,700000,14,1050000,"3#210000","14#1050000|3#210000",null,null,14,102045200,"3#16900940","14#102045200|3#16900940",null,null,{"v":9.53158802652328,"d":"9.531588"},{"v":8.84034607713151,"d":"8.840346"},9.531588,8.840346]
[null,700000,14,1050000,"3#210000","14#1050000|3#210000",null,null,14,103095200,"3#17110940","14#103095200|3#17110940",null,null,{"v":9.61844553052753,"d":"9.618446"},{"v":8.90287659537674,"d":"8.902877"},9.618446,8.902877]
[null,700000,14,1050000,"3#210000","14#1050000|3#210000",null,null,14,104145200,"3#17320940","14#104145200|3#17320940",null,null,{"v":9.70530303453178,"d":"9.705303"},{"v":8.96540711362197,"d":"8.965407"},9.705303,8.965407]
[null,700000,14,1050000,"3#210000","14#1050000|3#210000",null,null,14,105195200,"3#17530940","14#105195200|3#17530940",null,null,{"v":9.79216053853603,"d":"9.792161"},{"v":9.0279376318672,"d":"9.027938"},9.792161,9.027938]
[null,700000,14,1050000,"3#210000","14#1050000|3#210000",null,null,14,106245200,"3#17740940","14#106245200|3#17740940",null,null,{"v":9.87901804254027,"d":"9.879018"},{"v":9.09046815011243,"d":"9.090468"},9.879018,9.090468]
[null,700000,14,1050000,"3#210000","14#1050000|3#210000",null,null,14,107295200,"3#17950940","14#107295200|3#17950940",null,null,{"v":9.96587554654452,"d":"9.965876"},{"v":9.15299866835766,"d":"9.152999"},9.965876,9.152999]
[null,700000,14,1050000,"3#210000","14#1050000|3#210000",null,null,14,108345200,"3#18160940","14#108345200|3#18160940",null,null,{"v":10.0609947028003,"d":"10.060995"},{"v":9.21777983513002,"d":"9.217780"},10.060995,9.21778]
[null,700000,14,1050000,"3#210000","14#1050000|3#210000",null,null,14,109395200,"3#18370940","14#109395200|3#18370940",null,null,{"v":10.156113859056,"d":"10.156114"},{"v":9.28256100190237,"d":"9.282561"},10.156114,9.282561]
[null,700000,14,1050000,"3#210000","14#1050000|3#210000",null,null,14,110445200,"3#18580940","14#110445200|3#18580940",null,null,{"v":10.2512330153118,"d":"10.251233"},{"v":9.34734216867472,"d":"9.347342"},10.251233,9.347342]
[null,700000,14,1050000,"3#210000","14#1050000|3#210000",null,null,14,111495200,"3#18790940","14#111495200|3#18790940",null,null,{"v":10.3463521715676,"d":"10.346352"},{"v":9.41212333544707,"d":"9.412123"},10.346352,9.412123]
[null,700000,14,1050000,"3#210000","14#1050000|3#210000",null,null,14,112545200,"3#19000940","14#112545200|3#19000940",null,null,{"v":10.4414713278233,"d":"10.441471"},{"v":9.47690450221943,"d":"9.476905"},10.441471,9.476905]
[null,700000,14,1050000,"3#210000","14#1050000|3#210000",null,null,14,113595200,"3#19210940","14#113595200|3#19210940",null,null,{"v":10.5365904840791,"d":"10.536590"},{"v":9.54168566899178,"d":"9.541686"},10.53659,9.541686]
[null,700000,14,1050000,"3#210000","14#1050000|3#210000",null,null,14,114645200,"3#19420940","14#114645200|3#19420940",null,null,{"v":10.6317096403349,"d":"10.631710"},{"v":9.60646683576413,"d":"9.606467"},10.63171,9.606467]
[null,700000,14,1050000,"3#210000","14#1050000|3#210000",null,null,14,115695200,"3#19630940","14#115695200|3#19630940",null,null,{"v":10.7268287965906,"d":"10.726829"},{"v":9.67124800253648,"d":"9.671248"},10.726829,9.671248]
[null,700000,14,1050000,"3#210000","14#1050000|3#210000",null,null,14,116745200,"3#19840940","14#116745200|3#19840940",null,null,{"v":10.8219479528464,"d":"10.821948"},{"v":9.73602916930884,"d":"9.736029"},10.821948,9.736029]
[null,700000,14,1050000,"3#210000","14#1050000|3#210000",null,null,14,117795200,"3#20050940","14#117795200|3#20050940",null,null,{"v":10.9170671091021,"d":"10.917067"},{"v":9.80081033608119,"d":"9.800810"},10.917067,9.80081]
[null,700000,14,1050000,"3#210000","14#1050000|3#210000",null,null,14,118845200,"3#20260940","14#118845200|3#20260940",null,null,{"v":11.0121862653579,"d":"11.012186"},{"v":9.86559150285354,"d":"9.865592"},11.012186,9.865592]
[null,700000,14,1050000,"3#210000","14#1050000|3#210000",null,null,14,119895200,"3#20470940","14#119895200|3#20470940",null,null,{"v":11.1073054216137,"d":"11.107305"},{"v":9.93037266962589,"d":"9.930373"},11.107305,9.930373]
[null,700000,14,1050000,"3#210000","14#1050000|3#210000",null,null,14,120945200,"3#20680940","14#120945200|3#20680940",null,null,{"v":11.2024245778694,"d":"11.202425"},{"v":9.99515383639825,"d":"9.995154"},11.202425,9.995154]
[null,700000,14,1050000,"3#210000","14#1050000|3#210000",null,null,14,121995200,"3#20890940","14#121995200|3#20890940",null,null,{"v":11.2975437341252,"d":"11.297544"},{"v":10.0599350031706,"d":"10.059935"},11.297544,10.059935]
[null,700000,14,1050000,"3#210000","14#1050000|3#210000",null,null,14,123045200,"3#21100940","14#123045200|3#21100940",null,null,{"v":11.392662890381,"d":"11.392663"},{"v":10.1247161699429,"d":"10.124716"},11.392663,10.124716]
[null,700000,14,1050000,"3#210000","14#1050000|3#210000",null,null,14,124095200,"3#21310940","14#124095200|3#21310940",null,null,{"v":11.4877820466367,"d":"11.487782"},{"v":10.1894973367153,"d":"10.189497"},11.487782,10.189497]
[null,700000,14,1050000,"3#210000","14#1050000|3#210000",null,null,14,125145200,"3#21520940","14#125145200|3#21520940",null,null,{"v":11.5829012028925,"d":"11.582901"},{"v":10.2542785034877,"d":"10.254279"},11.582901,10.254279]
[null,700000,14,1050000,"3#210000","14#1050000|3#210000",null,null,14,126195200,"3#21730940","14#126195200|3#21730940",null,null,{"v":11.6780203591482,"d":"11.678020"},{"v":10.31905967026,"d":"10.319060"},11.67802,10.31906]
[null,700000,14,1050000,"3#210000","14#1050000|3#210000",null,null,14,127245200,"3#21940940","14#127245200|3#21940940",null,null,{"v":11.773139515404,"d":"11.773140"},{"v":10.3838408370324,"d":"10.383841"},11.77314,10.383841]
[null,700000,14,1050000,"3#210000","14#1050000|3#210000",null,null,14,128295200,"3#22150940","14#128295200|3#22150940",null,null,{"v":11.8682586716598,"d":"11.868259"},{"v":10.4486220038047,"d":"10.448622"},11.868259,10.448622]
[null,700000,14,1050000,"3#210000","14#1050000|3#210000",null,null,14,129345200,"3#22360940","14#129345200|3#22360940",null,null,{"v":11.9778537933571,"d":"11.977854"},{"v":10.5167791433677,"d":"10.516779"},11.977854,10.516779]
[null,700000,14,1050000,"3#210000","14#1050000|3#210000",null,null,14,130395200,"3#22570940","14#130395200|3#22570940",null,null,{"v":12.0874489150545,"d":"12.087449"},{"v":10.5849362829308,"d":"10.584936"},12.087449,10.584936]
[null,700000,14,1050000,"3#210000","14#1050000|3#210000",null,null,14,131445200,"3#22780940","14#131445200|3#22780940",null,null,{"v":12.1970440367518,"d":"12.197044"},{"v":10.6530934224938,"d":"10.653093"},12.197044,10.653093]
[null,700000,14,1050000,"3#210000","14#1050000|3#210000",null,null,14,132495200,"3#22990940","14#132495200|3#22990940",null,null,{"v":12.3066391584492,"d":"12.306639"},{"v":10.7212505620569,"d":"10.721251"},12.306639,10.721251]
[null,700000,14,1050000,"3#210000","14#1050000|3#210000",null,null,14,133545200,"3#23200940","14#133545200|3#23200940",null,null,{"v":12.4162342801465,"d":"12.416234"},{"v":10.7894077016199,"d":"10.789408"},12.416234,10.789408]
[null,700000,14,1050000,"3#210000","14#1050000|3#210000",null,null,14,134595200,"3#23410940","14#134595200|3#23410940",null,null,{"v":12.5258294018439,"d":"12.525829"},{"v":10.8575648411829,"d":"10.857565"},12.525829,10.857565]
[null,700000,14,1050000,"3#210000","14#1050000|3#210000",null,null,14,135645200,"3#23620940","14#135645200|3#23620940",null,null,{"v":12.6354245235412,"d":"12.635425"},{"v":10.925721980746,"d":"10.925722"},12.635425,10.925722]
[null,700000,14,1050000,"3#210000","14#1050000|3#210000",null,null,14,136695200,"3#23830940","14#136695200|3#23830940",null,null,{"v":12.7450196452386,"d":"12.745020"},{"v":10.993879120309,"d":"10.993879"},12.74502,10.993879]
[null,700000,14,1050000,"3#210000","14#1050000|3#210000",null,null,14,137745200,"3#24040940","14#137745200|3#24040940",null,null,{"v":12.8546147669359,"d":"12.854615"},{"v":11.0620362598721,"d":"11.062036"},12.854615,11.062036]
[null,700000,14,1050000,"3#210000","14#1050000|3#210000",null,null,14,138795200,"3#24250940","14#138795200|3#24250940",null,null,{"v":12.9642098886333,"d":"12.964210"},{"v":11.1301933994351,"d":"11.130193"},12.96421,11.130193]
[null,700000,14,1050000,"3#210000","14#1050000|3#210000",null,null,14,139845200,"3#24460940","14#139845200|3#24460940",null,null,{"v":13.0738050103306,"d":"13.073805"},{"v":11.1983505389981,"d":"11.198351"},13.073805,11.198351]
[null,700000,14,1050000,"3#210000","14#1050000|3#210000",null,null,14,140895200,"3#24670940","14#140895200|3#24670940",null,null,{"v":13.183400132028,"d":"13.183400"},{"v":11.2665076785612,"d":"11.266508"},13.1834,11.266508]
[null,700000,14,1050000,"3#210000","14#1050000|3#210000",null,null,14,141945200,"3#24880940","14#141945200|3#24880940",null,null,{"v":13.2929952537253,"d":"13.292995"},{"v":11.3346648181242,"d":"11.334665"},13.292995,11.334665]
[null,700000,14,{"$f":"B195*1.5","v":1050000},"3#210000",{"$f":"C195&\"#\"&D195&\"|\"&E195","v":"14#1050000|3#210000"},null,null,14,{"$f":"J194+D195","v":142995200},"3#25090940",{"$f":"I195&\"#\"&J195&\"|\"&K195","v":"14#142995200|3#25090940"},null,null,{"v":13.4025903754227,"d":"13.402590"},{"v":11.4028219576872,"d":"11.402822"},{"$f":"ROUND(O195,6)","v":13.40259},{"$f":"ROUND(P195,6)","v":11.402822}]
[null,700000,14,1050000,"3#210000","14#1050000|3#210000",null,null,14,144045200,"3#25300940","14#144045200|3#25300940",null,null,{"v":13.51218549712,"d":"13.512185"},{"v":11.4709790972503,"d":"11.470979"},13.512185,11.470979]
[null,700000,14,1050000,"3#210000","14#1050000|3#210000",null,null,14,145095200,"3#25510940","14#145095200|3#25510940",null,null,{"v":13.6217806188174,"d":"13.621781"},{"v":11.5391362368133,"d":"11.539136"},13.621781,11.539136]
[null,700000,14,1050000,"3#210000","14#1050000|3#210000",null,null,14,146145200,"3#25720940","14#146145200|3#25720940",null,null,{"v":13.7313757405147,"d":"13.731376"},{"v":11.6072933763764,"d":"11.607293"},13.731376,11.607293]
[null,700000,14,1050000,"3#210000","14#1050000|3#210000",null,null,14,147195200,"3#25930940","14#147195200|3#25930940",null,null,{"v":13.8409708622121,"d":"13.840971"},{"v":11.6754505159394,"d":"11.675451"},13.840971,11.675451]
[null,700000,14,1050000,"3#210000","14#1050000|3#210000",null,null,14,148245200,"3#26140940","14#148245200|3#26140940",null,null,{"v":13.9505659839094,"d":"13.950566"},{"v":11.7436076555024,"d":"11.743608"},13.950566,11.743608]
[null,700000,14,1050000,"3#210000","14#1050000|3#210000",null,null,14,149295200,"3#26350940","14#149295200|3#26350940",null,null,{"v":14.0601611056068,"d":"14.060161"},{"v":11.8117647950655,"d":"11.811765"},14.060161,11.811765]
[null,700000,14,1050000,"3#210000","14#1050000|3#210000",null,null,14,150345200,"3#26560940","14#150345200|3#26560940",null,null,{"v":14.1968596499179,"d":"14.196860"},{"v":11.8855485559463,"d":"11.885549"},14.19686,11.885549]
[null,700000,14,1050000,"3#210000","14#1050000|3#210000",null,null,14,151395200,"3#26770940","14#151395200|3#26770940",null,null,{"v":14.3335581942291,"d":"14.333558"},{"v":11.9593323168272,"d":"11.959332"},14.333558,11.959332]
[null,700000,14,1050000,"3#210000","14#1050000|3#210000",null,null,14,152445200,"3#26980940","14#152445200|3#26980940",null,null,{"v":14.4702567385402,"d":"14.470257"},{"v":12.033116077708,"d":"12.033116"},14.470257,12.033116]
[null,700000,14,1050000,"3#210000","14#1050000|3#210000",null,null,14,153495200,"3#27190940","14#153495200|3#27190940",null,null,{"v":14.6069552828514,"d":"14.606955"},{"v":12.1068998385888,"d":"12.106900"},14.606955,12.1069]
[null,700000,14,1050000,"3#210000","14#1050000|3#210000",null,null,14,154545200,"3#27400940","14#154545200|3#27400940",null,null,{"v":14.7436538271625,"d":"14.743654"},{"v":12.1806835994697,"d":"12.180684"},14.743654,12.180684]
[null,700000,14,1050000,"3#210000","14#1050000|3#210000",null,null,14,155595200,"3#27610940","14#155595200|3#27610940",null,null,{"v":14.8803523714737,"d":"14.880352"},{"v":12.2544673603505,"d":"12.254467"},14.880352,12.254467]
[null,700000,14,1050000,"3#210000","14#1050000|3#210000",null,null,14,156645200,"3#27820940","14#156645200|3#27820940",null,null,{"v":15.0170509157848,"d":"15.017051"},{"v":12.3282511212314,"d":"12.328251"},15.017051,12.328251]
[null,700000,14,1050000,"3#210000","14#1050000|3#210000",null,null,14,157695200,"3#28030940","14#157695200|3#28030940",null,null,{"v":15.153749460096,"d":"15.153749"},{"v":12.4020348821122,"d":"12.402035"},15.153749,12.402035]
[null,700000,14,1050000,"3#210000","14#1050000|3#210000",null,null,14,158745200,"3#28240940","14#158745200|3#28240940",null,null,{"v":15.2904480044071,"d":"15.290448"},{"v":12.4758186429931,"d":"12.475819"},15.290448,12.475819]
[null,700000,14,1050000,"3#210000","14#1050000|3#210000",null,null,14,159795200,"3#28450940","14#159795200|3#28450940",null,null,{"v":15.4271465487183,"d":"15.427147"},{"v":12.5496024038739,"d":"12.549602"},15.427147,12.549602]
[null,700000,14,1050000,"3#210000","14#1050000|3#210000",null,null,14,160845200,"3#28660940","14#160845200|3#28660940",null,null,{"v":15.5638450930295,"d":"15.563845"},{"v":12.6233861647548,"d":"12.623386"},15.563845,12.623386]
[null,700000,14,1050000,"3#210000","14#1050000|3#210000",null,null,14,161895200,"3#28870940","14#161895200|3#28870940",null,null,{"v":15.7005436373406,"d":"15.700544"},{"v":12.6971699256356,"d":"12.697170"},15.700544,12.69717]
[null,700000,14,1050000,"3#210000","14#1050000|3#210000",null,null,14,162945200,"3#29080940","14#162945200|3#29080940",null,null,{"v":15.8372421816518,"d":"15.837242"},{"v":12.7709536865165,"d":"12.770954"},15.837242,12.770954]
[null,700000,14,1050000,"3#210000","14#1050000|3#210000",null,null,14,163995200,"3#29290940","14#163995200|3#29290940",null,null,{"v":15.9739407259629,"d":"15.973941"},{"v":12.8447374473973,"d":"12.844737"},15.973941,12.844737]
[null,700000,14,1050000,"3#210000","14#1050000|3#210000",null,null,14,165045200,"3#29500940","14#165045200|3#29500940",null,null,{"v":16.1106392702741,"d":"16.110639"},{"v":12.9185212082781,"d":"12.918521"},16.110639,12.918521]
[null,700000,14,1050000,"3#210000","14#1050000|3#210000",null,null,14,166095200,"3#29710940","14#166095200|3#29710940",null,null,{"v":16.2473378145852,"d":"16.247338"},{"v":12.992304969159,"d":"12.992305"},16.247338,12.992305]
[null,700000,14,1050000,"3#210000","14#1050000|3#210000",null,null,14,167145200,"3#29920940","14#167145200|3#29920940",null,null,{"v":16.3840363588964,"d":"16.384036"},{"v":13.0660887300398,"d":"13.066089"},16.384036,13.066089]
[null,700000,14,1050000,"3#210000","14#1050000|3#210000",null,null,14,168195200,"3#30130940","14#168195200|3#30130940",null,null,{"v":16.5207349032075,"d":"16.520735"},{"v":13.1398724909207,"d":"13.139872"},16.520735,13.139872]
[null,700000,14,1050000,"3#210000","14#1050000|3#210000",null,null,14,169245200,"3#30340940","14#169245200|3#30340940",null,null,{"v":16.6574334475187,"d":"16.657433"},{"v":13.2136562518015,"d":"13.213656"},16.657433,13.213656]
[null,700000,14,1050000,"3#210000","14#1050000|3#210000",null,null,14,170295200,"3#30550940","14#170295200|3#30550940",null,null,{"v":16.7941319918298,"d":"16.794132"},{"v":13.2874400126824,"d":"13.287440"},16.794132,13.28744]
[null,700000,14,1050000,"3#210000","14#1050000|3#210000",null,null,14,171345200,"3#30760940","14#171345200|3#30760940",null,null,{"v":16.9637699444087,"d":"16.963770"},{"v":13.3608486654754,"d":"13.360849"},16.96377,13.360849]
[null,700000,14,1050000,"3#210000","14#1050000|3#210000",null,null,14,172395200,"3#30970940","14#172395200|3#30970940",null,null,{"v":17.1334078969876,"d":"17.133408"},{"v":13.4342573182684,"d":"13.434257"},17.133408,13.434257]
[null,700000,14,1050000,"3#210000","14#1050000|3#210000",null,null,14,173445200,"3#31180940","14#173445200|3#31180940",null,null,{"v":17.3030458495665,"d":"17.303046"},{"v":13.5076659710613,"d":"13.507666"},17.303046,13.507666]
[null,700000,14,1050000,"3#210000","14#1050000|3#210000",null,null,14,174495200,"3#31390940","14#174495200|3#31390940",null,null,{"v":17.4726838021454,"d":"17.472684"},{"v":13.5810746238543,"d":"13.581075"},17.472684,13.581075]
[null,700000,14,1050000,"3#210000","14#1050000|3#210000",null,null,14,175545200,"3#31600940","14#175545200|3#31600940",null,null,{"v":17.6423217547243,"d":"17.642322"},{"v":13.6544832766473,"d":"13.654483"},17.642322,13.654483]
[null,700000,14,1050000,"3#210000","14#1050000|3#210000",null,null,14,176595200,"3#31810940","14#176595200|3#31810940",null,null,{"v":17.8119597073032,"d":"17.811960"},{"v":13.7278919294403,"d":"13.727892"},17.81196,13.727892]
[null,700000,14,1050000,"3#210000","14#1050000|3#210000",null,null,14,177645200,"3#32020940","14#177645200|3#32020940",null,null,{"v":17.9815976598821,"d":"17.981598"},{"v":13.8013005822333,"d":"13.801301"},17.981598,13.801301]
[null,700000,14,1050000,"3#210000","14#1050000|3#210000",null,null,14,178695200,"3#32230940","14#178695200|3#32230940",null,null,{"v":18.151235612461,"d":"18.151236"},{"v":13.8747092350263,"d":"13.874709"},18.151236,13.874709]
[null,700000,14,1050000,"3#210000","14#1050000|3#210000",null,null,14,179745200,"3#32440940","14#179745200|3#32440940",null,null,{"v":18.3208735650399,"d":"18.320874"},{"v":13.9481178878193,"d":"13.948118"},18.320874,13.948118]
[null,700000,14,1050000,"3#210000","14#1050000|3#210000",null,null,14,180795200,"3#32650940","14#180795200|3#32650940",null,null,{"v":18.4905115176188,"d":"18.490512"},{"v":14.0215265406123,"d":"14.021527"},18.490512,14.021527]
[null,700000,14,1050000,"3#210000","14#1050000|3#210000",null,null,14,181845200,"3#32860940","14#181845200|3#32860940",null,null,{"v":18.6601494701977,"d":"18.660149"},{"v":14.0949351934053,"d":"14.094935"},18.660149,14.094935]
[null,700000,14,1050000,"3#210000","14#1050000|3#210000",null,null,14,182895200,"3#33070940","14#182895200|3#33070940",null,null,{"v":18.8297874227766,"d":"18.829787"},{"v":14.1683438461983,"d":"14.168344"},18.829787,14.168344]
[null,700000,14,1050000,"3#210000","14#1050000|3#210000",null,null,14,183945200,"3#33280940","14#183945200|3#33280940",null,null,{"v":18.9994253753555,"d":"18.999425"},{"v":14.2417524989912,"d":"14.241752"},18.999425,14.241752]
[null,700000,14,1050000,"3#210000","14#1050000|3#210000",null,null,14,184995200,"3#33490940","14#184995200|3#33490940",null,null,{"v":19.1690633279344,"d":"19.169063"},{"v":14.3151611517842,"d":"14.315161"},19.169063,14.315161]
[null,700000,14,1050000,"3#210000","14#1050000|3#210000",null,null,14,186045200,"3#33700940","14#186045200|3#33700940",null,null,{"v":19.3387012805133,"d":"19.338701"},{"v":14.3885698045772,"d":"14.388570"},19.338701,14.38857]
[null,700000,14,1050000,"3#210000","14#1050000|3#210000",null,null,14,187095200,"3#33910940","14#187095200|3#33910940",null,null,{"v":19.5083392330922,"d":"19.508339"},{"v":14.4619784573702,"d":"14.461978"},19.508339,14.461978]
[null,700000,14,1050000,"3#210000","14#1050000|3#210000",null,null,14,188145200,"3#34120940","14#188145200|3#34120940",null,null,{"v":19.6779771856711,"d":"19.677977"},{"v":14.5353871101632,"d":"14.535387"},19.677977,14.535387]
[null,700000,14,1050000,"3#210000","14#1050000|3#210000",null,null,14,189195200,"3#34330940","14#189195200|3#34330940",null,null,{"v":19.84761513825,"d":"19.847615"},{"v":14.6087957629562,"d":"14.608796"},19.847615,14.608796]
[null,700000,14,1050000,"3#210000","14#1050000|3#210000",null,null,14,190245200,"3#34540940","14#190245200|3#34540940",null,null,{"v":20.0172530908289,"d":"20.017253"},{"v":14.6822044157492,"d":"14.682204"},20.017253,14.682204]
[null,700000,14,1050000,"3#210000","14#1050000|3#210000",null,null,14,191295200,null,"14#191295200|",null,null,{"v":20.1868910434078,"d":"20.186891"},{"v":14.7556130685422,"d":"14.755613"},20.186891,14.755613]
[{"$nulls":14},{"v":20.3565289959867,"d":"20.356529"},{"v":14.8290217213352,"d":"14.829022"},20.356529,14.829022]
[{"$nulls":14},{"v":20.5261669485656,"d":"20.526167"},{"v":14.9024303741282,"d":"14.902430"},20.526167,14.90243]
[{"$nulls":14},{"v":20.6958049011445,"d":"20.695805"},{"v":14.9758390269211,"d":"14.975839"},20.695805,14.975839]
[{"$nulls":14},{"v":20.8654428537234,"d":"20.865443"},{"v":15.0492476797141,"d":"15.049248"},20.865443,15.049248]
[{"$nulls":14},{"v":21.0350808063023,"d":"21.035081"},{"v":15.1226563325071,"d":"15.122656"},21.035081,15.122656]
[{"$nulls":14},{"v":21.2047187588812,"d":"21.204719"},{"v":15.1960649853001,"d":"15.196065"},21.204719,15.196065]
[{"$nulls":14},{"v":21.3743567114601,"d":"21.374357"},{"v":15.2694736380931,"d":"15.269474"},21.374357,15.269474]
[{"$nulls":14},{"v":21.543994664039,"d":"21.543995"},{"v":15.3428822908861,"d":"15.342882"},21.543995,15.342882]
[{"$nulls":14},{"v":21.7136326166179,"d":"21.713633"},{"v":15.4162909436791,"d":"15.416291"},21.713633,15.416291]
[{"$nulls":14},{"v":21.8832705691968,"d":"21.883271"},{"v":15.4896995964721,"d":"15.489700"},21.883271,15.4897]
[{"$nulls":14},{"v":22.0864703741566,"d":"22.086470"},{"v":15.5605575142677,"d":"15.560558"},22.08647,15.560558]
[{"$nulls":14},{"v":22.2896701791163,"d":"22.289670"},{"v":15.6314154320632,"d":"15.631415"},22.28967,15.631415]
[{"$nulls":14},{"v":22.4928699840761,"d":"22.492870"},{"v":15.7022733498588,"d":"15.702273"},22.49287,15.702273]
[{"$nulls":14},{"v":22.6960697890358,"d":"22.696070"},{"v":15.7731312676544,"d":"15.773131"},22.69607,15.773131]
[{"$nulls":14},{"v":22.8992695939956,"d":"22.899270"},{"v":15.84398918545,"d":"15.843989"},22.89927,15.843989]
[{"$nulls":14},{"v":23.1024693989554,"d":"23.102469"},{"v":15.9148471032456,"d":"15.914847"},23.102469,15.914847]
[{"$nulls":14},{"v":23.3056692039151,"d":"23.305669"},{"v":15.9857050210412,"d":"15.985705"},23.305669,15.985705]
[{"$nulls":14},{"v":23.5088690088749,"d":"23.508869"},{"v":16.0565629388368,"d":"16.056563"},{"$f":"ROUND(O259,6)","v":23.508869},{"$f":"ROUND(P259,6)","v":16.056563}]
[{"$nulls":14},{"v":23.7120688138346,"d":"23.712069"},{"v":16.1274208566323,"d":"16.127421"},23.712069,16.127421]
[{"$nulls":14},{"v":23.9152686187944,"d":"23.915269"},{"v":16.1982787744279,"d":"16.198279"},23.915269,16.198279]
[{"$nulls":14},{"v":24.1184684237541,"d":"24.118468"},{"v":16.2691366922235,"d":"16.269137"},24.118468,16.269137]
[{"$nulls":14},{"v":24.3216682287139,"d":"24.321668"},{"v":16.3399946100191,"d":"16.339995"},24.321668,16.339995]
[{"$nulls":14},{"v":24.5248680336737,"d":"24.524868"},{"v":16.4108525278147,"d":"16.410853"},24.524868,16.410853]
[{"$nulls":14},{"v":24.7280678386334,"d":"24.728068"},{"v":16.4817104456103,"d":"16.481710"},24.728068,16.48171]
[{"$nulls":14},{"v":24.9312676435932,"d":"24.931268"},{"v":16.5525683634059,"d":"16.552568"},24.931268,16.552568]
[{"$nulls":14},{"v":25.1344674485529,"d":"25.134467"},{"v":16.6234262812014,"d":"16.623426"},25.134467,16.623426]
[{"$nulls":14},{"v":25.3376672535127,"d":"25.337667"},{"v":16.694284198997,"d":"16.694284"},25.337667,16.694284]
[{"$nulls":14},{"v":25.5408670584725,"d":"25.540867"},{"v":16.7651421167926,"d":"16.765142"},25.540867,16.765142]
[{"$nulls":14},{"v":25.7440668634322,"d":"25.744067"},{"v":16.8360000345882,"d":"16.836000"},25.744067,16.836]
[{"$nulls":14},{"v":25.947266668392,"d":"25.947267"},{"v":16.9068579523838,"d":"16.906858"},25.947267,16.906858]
[{"$nulls":14},{"v":26.1504664733517,"d":"26.150466"},{"v":16.9777158701794,"d":"16.977716"},26.150466,16.977716]
[{"$nulls":14},{"v":26.3536662783115,"d":"26.353666"},{"v":17.048573787975,"d":"17.048574"},26.353666,17.048574]
[{"$nulls":14},{"v":26.5568660832713,"d":"26.556866"},{"v":17.1194317057705,"d":"17.119432"},26.556866,17.119432]
[{"$nulls":14},{"v":26.760065888231,"d":"26.760066"},{"v":17.1902896235661,"d":"17.190290"},26.760066,17.19029]
[{"$nulls":14},{"v":26.9632656931908,"d":"26.963266"},{"v":17.2611475413617,"d":"17.261148"},26.963266,17.261148]
[{"$nulls":14},{"v":27.1664654981505,"d":"27.166465"},{"v":17.3320054591573,"d":"17.332005"},27.166465,17.332005]
[{"$nulls":14},{"v":27.3696653031103,"d":"27.369665"},{"v":17.4028633769529,"d":"17.402863"},27.369665,17.402863]
[{"$nulls":14},{"v":27.5728651080701,"d":"27.572865"},{"v":17.4737212947485,"d":"17.473721"},27.572865,17.473721]
[{"$nulls":14},{"v":27.7760649130298,"d":"27.776065"},{"v":17.5445792125441,"d":"17.544579"},27.776065,17.544579]
[{"$nulls":14},{"v":27.9792647179896,"d":"27.979265"},{"v":17.6154371303396,"d":"17.615437"},27.979265,17.615437]
[{"$nulls":14},{"v":28.1824645229493,"d":"28.182465"},{"v":17.6862950481352,"d":"17.686295"},28.182465,17.686295]
[{"$nulls":14},{"v":28.3856643279091,"d":"28.385664"},{"v":17.7571529659308,"d":"17.757153"},28.385664,17.757153]
[{"$nulls":14},{"v":28.5888641328688,"d":"28.588864"},{"v":17.8280108837264,"d":"17.828011"},28.588864,17.828011]
[{"$nulls":14},{"v":28.7920639378286,"d":"28.792064"},{"v":17.898868801522,"d":"17.898869"},28.792064,17.898869]
[{"$nulls":14},{"v":28.9952637427884,"d":"28.995264"},{"v":17.9697267193176,"d":"17.969727"},28.995264,17.969727]
[{"$nulls":14},{"v":29.1984635477481,"d":"29.198464"},{"v":18.0405846371131,"d":"18.040585"},29.198464,18.040585]
[{"$nulls":14},{"v":29.4016633527079,"d":"29.401663"},{"v":18.1114425549087,"d":"18.111443"},29.401663,18.111443]
[{"$nulls":14},{"v":29.6048631576676,"d":"29.604863"},{"v":18.1823004727043,"d":"18.182300"},29.604863,18.1823]
[{"$nulls":14},{"v":29.8080629626274,"d":"29.808063"},{"v":18.2531583904999,"d":"18.253158"},29.808063,18.253158]
[{"$nulls":14},{"v":30.0112627675872,"d":"30.011263"},{"v":18.3240163082955,"d":"18.324016"},30.011263,18.324016]
[{"$nulls":14},{"v":30.2144625725469,"d":"30.214463"},{"v":18.3948742260911,"d":"18.394874"},30.214463,18.394874]
[{"$nulls":14},{"v":30.4176623775067,"d":"30.417662"},{"v":18.4657321438867,"d":"18.465732"},30.417662,18.465732]
[{"$nulls":14},{"v":30.6208621824664,"d":"30.620862"},{"v":18.5365900616822,"d":"18.536590"},30.620862,18.53659]
[{"$nulls":14},{"v":30.8240619874262,"d":"30.824062"},{"v":18.6074479794778,"d":"18.607448"},30.824062,18.607448]
[{"$nulls":14},{"v":31.027261792386,"d":"31.027262"},{"v":18.6783058972734,"d":"18.678306"},31.027262,18.678306]
[{"$nulls":14},{"v":31.2304615973457,"d":"31.230462"},{"v":18.749163815069,"d":"18.749164"},31.230462,18.749164]
[{"$nulls":14},{"v":31.4336614023055,"d":"31.433661"},{"v":18.8200217328646,"d":"18.820022"},31.433661,18.820022]
[{"$nulls":14},{"v":31.6368612072652,"d":"31.636861"},{"v":18.8908796506602,"d":"18.890880"},31.636861,18.89088]
[{"$nulls":14},{"v":31.840061012225,"d":"31.840061"},{"v":18.9617375684558,"d":"18.961738"},31.840061,18.961738]
[{"$nulls":14},{"v":32.0432608171848,"d":"32.043261"},{"v":19.0325954862513,"d":"19.032595"},32.043261,19.032595]
[{"$nulls":14},32.2464606221445,19.1034534040469,32.246461,19.103453]
[{"$nulls":14},32.4496604271042,19.1743113218425,32.44966,19.174311]
[{"$nulls":14},32.652860232064,19.2451692396381,32.65286,19.245169]
[{"$nulls":14},32.8560600370237,19.3160271574337,32.85606,19.316027]
[{"$nulls":14},33.0592598419835,19.3868850752293,33.05926,19.386885]
[{"$nulls":14},33.2624596469433,19.4577429930249,33.26246,19.457743]
[{"$nulls":14},33.465659451903,19.5286009108204,33.465659,19.528601]
[{"$nulls":14},33.6688592568628,19.599458828616,33.668859,19.599459]
[{"$nulls":14},33.8720590618225,19.6703167464116,33.872059,19.670317]
[{"$nulls":14},34.0752588667823,19.7411746642072,34.075259,19.741175]
[{"$nulls":14},34.2784586717421,19.8120325820028,34.278459,19.812033]
[{"$nulls":14},34.4816584767018,19.8828904997984,34.481658,19.88289]
[{"$nulls":14},34.6848582816616,19.953748417594,34.684858,19.953748]
[{"$nulls":14},34.8880580866213,20.0246063353895,34.888058,20.024606]
[{"$nulls":14},35.0912578915811,20.0954642531851,35.091258,20.095464]
[{"$nulls":14},35.2944576965409,20.1663221709807,35.294458,20.166322]
[{"$nulls":14},35.4976575015006,20.2371800887763,35.497658,20.23718]
[{"$nulls":14},35.7008573064604,20.3080380065719,35.700857,20.308038]
[{"$nulls":14},35.9040571114201,20.3788959243675,35.904057,20.378896]
[{"$nulls":14},36.1072569163799,20.4497538421631,36.107257,20.449754]
[{"$nulls":14},36.3104567213396,20.5206117599586,36.310457,20.520612]
[{"$nulls":14},36.5136565262994,20.5914696777542,{"$f":"ROUND(O323,6)","v":36.513657},{"$f":"ROUND(P323,6)","v":20.59147}]
[{"$nulls":14},36.7168563312592,20.6623275955498,36.716856,20.662328]
[{"$nulls":14},36.9200561362189,20.7331855133454,36.920056,20.733186]
[{"$nulls":14},37.1232559411787,20.804043431141,37.123256,20.804043]
[{"$nulls":14},37.3264557461384,20.8749013489366,37.326456,20.874901]
[{"$nulls":14},37.5296555510982,20.9457592667322,37.529656,20.945759]
[{"$nulls":14},37.732855356058,21.0166171845277,37.732855,21.016617]
[{"$nulls":14},37.9360551610177,21.0874751023233,37.936055,21.087475]
[{"$nulls":14},38.1392549659775,21.1583330201189,38.139255,21.158333]
[{"$nulls":14},38.3424547709372,21.2291909379145,38.342455,21.229191]
[{"$nulls":14},38.545654575897,21.3000488557101,38.545655,21.300049]
[{"$nulls":14},38.7488543808568,21.3709067735057,38.748854,21.370907]
[{"$nulls":14},38.9520541858165,21.4417646913013,38.952054,21.441765]
[{"$nulls":14},39.1552539907763,21.5126226090968,39.155254,21.512623]
[{"$nulls":14},39.358453795736,21.5834805268924,39.358454,21.583481]
[{"$nulls":14},39.5616536006958,21.654338444688,39.561654,21.654338]
[{"$nulls":14},39.7648534056556,21.7251963624836,39.764853,21.725196]
[{"$nulls":14},39.9680532106153,21.7960542802792,39.968053,21.796054]
[{"$nulls":14},40.1712530155751,21.8669121980748,40.171253,21.866912]
[{"$nulls":14},40.3744528205348,21.9377701158704,40.374453,21.93777]
[{"$nulls":14},40.5776526254946,22.0086280336659,40.577653,22.008628]
[{"$nulls":14},40.7808524304543,22.0794859514615,40.780852,22.079486]
[{"$nulls":14},40.9840522354141,22.1503438692571,40.984052,22.150344]
[{"$nulls":14},41.1872520403739,22.2212017870527,41.187252,22.221202]
[{"$nulls":14},41.3904518453336,22.2920597048483,41.390452,22.29206]
[{"$nulls":14},41.5936516502934,22.3629176226439,41.593652,22.362918]
[{"$nulls":14},41.7968514552531,22.4337755404394,41.796851,22.433776]
[{"$nulls":14},42.0000512602129,22.504633458235,42.000051,22.504633]
[{"$nulls":14},42.2032510651727,22.5754913760306,42.203251,22.575491]
[{"$nulls":14},42.4064508701324,22.6463492938262,42.406451,22.646349]
[{"$nulls":14},42.6096506750922,22.7172072116218,42.609651,22.717207]
[{"$nulls":14},42.8128504800519,22.7880651294174,42.81285,22.788065]
[{"$nulls":14},43.0160502850117,22.858923047213,43.01605,22.858923]
[{"$nulls":14},43.2192500899715,22.9297809650085,43.21925,22.929781]
[{"$nulls":14},43.4224498949312,23.0006388828041,43.42245,23.000639]
[{"$nulls":14},43.625649699891,23.0714968005997,43.62565,23.071497]
[{"$nulls":14},43.8288495048507,23.1423547183953,43.82885,23.142355]
[{"$nulls":14},44.0320493098105,23.2132126361909,44.032049,23.213213]
[{"$nulls":14},44.2352491147702,23.2840705539865,44.235249,23.284071]
[{"$nulls":14},44.43844891973,23.3549284717821,44.438449,23.354928]
[{"$nulls":14},44.6416487246898,23.4257863895776,44.641649,23.425786]
[{"$nulls":14},44.8448485296495,23.4966443073732,44.844849,23.496644]
[{"$nulls":14},45.0480483346093,23.5675022251688,45.048048,23.567502]
[{"$nulls":14},45.251248139569,23.6383601429644,45.251248,23.63836]
[{"$nulls":14},45.4544479445288,23.70921806076,45.454448,23.709218]
[{"$nulls":14},45.6576477494886,23.7800759785556,45.657648,23.780076]
[{"$nulls":14},45.8608475544483,23.8509338963512,45.860848,23.850934]
[{"$nulls":14},46.0640473594081,23.9217918141467,46.064047,23.921792]
[{"$nulls":14},46.2672471643678,23.9926497319423,46.267247,23.99265]
[{"$nulls":14},46.4704469693276,24.0635076497379,46.470447,24.063508]
[{"$nulls":14},46.6736467742874,24.1343655675335,46.673647,24.134366]
[{"$nulls":14},46.8768465792471,24.2052234853291,46.876847,24.205223]
[{"$nulls":14},47.0800463842069,24.2760814031247,47.080046,24.276081]
[{"$nulls":14},47.2832461891666,24.3469393209203,47.283246,24.346939]
[{"$nulls":14},47.4864459941264,24.4177972387158,47.486446,24.417797]
[{"$nulls":14},47.6896457990862,24.4886551565114,47.689646,24.488655]
[{"$nulls":14},47.8928456040459,24.559513074307,47.892846,24.559513]
[{"$nulls":14},48.0960454090057,24.6303709921026,48.096045,24.630371]
[{"$nulls":14},48.2992452139654,24.7012289098982,48.299245,24.701229]
[{"$nulls":14},48.5024450189252,24.7720868276938,48.502445,24.772087]
[{"$nulls":14},48.7056448238849,24.8429447454894,48.705645,24.842945]
[{"$nulls":14},48.9088446288447,24.9138026632849,48.908845,24.913803]
[{"$nulls":14},49.1120444338045,24.9846605810805,49.112044,24.984661]
[{"$nulls":14},49.3152442387642,25.0555184988761,49.315244,25.055518]
[{"$nulls":14},49.518444043724,25.1263764166717,{"$f":"ROUND(O387,6)","v":49.518444},{"$f":"ROUND(P387,6)","v":25.126376}]
[{"$nulls":14},49.7216438486837,25.1972343344673,49.721644,25.197234]
[{"$nulls":14},49.9248436536435,25.2680922522629,49.924844,25.268092]
[{"$nulls":14},50.1280434586033,25.3389501700585,50.128043,25.33895]
[{"$nulls":14},50.331243263563,25.409808087854,50.331243,25.409808]
[{"$nulls":14},50.5344430685228,25.4806660056496,50.534443,25.480666]
[{"$nulls":14},50.7376428734825,25.5515239234452,50.737643,25.551524]
[{"$nulls":14},50.9408426784423,25.6223818412408,50.940843,25.622382]
[{"$nulls":14},51.1440424834021,25.6932397590364,51.144042,25.69324]
[{"$nulls":14},51.3472422883618,25.764097676832,51.347242,25.764098]
[{"$nulls":14},51.5504420933216,25.8349555946276,51.550442,25.834956]
[{"$nulls":14},51.7536418982813,25.9058135124231,51.753642,25.905814]
[{"$nulls":14},51.9568417032411,25.9766714302187,51.956842,25.976671]
[{"$nulls":14},52.1600415082008,26.0475293480143,52.160042,26.047529]
[{"$nulls":14},52.3632413131606,26.1183872658099,52.363241,26.118387]