{"text_format":"3","workbook":"xlsx","n_sheets":2,"sheets":["DailyChallengeConfig","Sheet1"],"not_rendered":{"external_links":1},"read":"whole","date_system":"1900"}

{"sheet":"DailyChallengeConfig","index":0,"n_rows":52,"n_cols":9,"rows_kept":52}
[null,"Id","Type","OpenRules","Quality","Reward","RewardView","MonsterId","PrivilegeId"]
[null,"int","int","mut,int#int,2","int","mut,int#int,1","mut,int#int,2","int","mut,int#int,1"]
[null,2,2,2,3,4,3,2,2]
[null,"ID","副本类型\n1金币\n2经验\n3角色碎片\n4法宝\n5魂印","开启条件\n1#玩家等级\n2#关卡id\n3#玩家战力","难度\n1简单 2普通\n3困难 4噩梦\n5炼狱 6地狱\n7深渊 8传奇\n9神话","通关奖励","奖励预览","关卡怪物组","购买次数上限特权#免费特权"]
["默认值",0,null,"null",null,0]
["正确性校对"]
["校对值"]
[null,1,1,"1#2|3#2000",1,9001,"14#100000|4#10",60001,"101#106"]
[null,2,1,"1#2|3#20000",2,9002,"14#150000|4#20",60002,"101#106"]
[null,3,1,"1#2|3#100000",3,9003,"14#200000|4#30",60003,"101#106"]
[null,4,1,"1#2|3#250000",4,9004,"14#250000|4#40",60004,"101#106"]
[null,5,1,"1#2|3#480000",5,9005,"14#300000|4#50",60005,"101#106"]
[null,6,1,"1#2|3#920000",6,9006,"14#350000|4#60",60006,"101#106"]
[null,7,1,"1#2|3#1360000",7,9007,"14#400000|4#70",60007,"101#106"]
[null,8,1,"1#2|3#1920000",8,9008,"14#450000|4#80",60008,"101#106"]
[null,9,1,"1#2|3#2520000",9,9009,"14#500000|4#100",60009,"101#106"]
[null,10,2,"1#2|3#2000",1,9010,"3#80000",60101,"102#107"]
[null,11,2,"1#2|3#40000",2,9011,"3#110000",60102,"102#107"]
[null,12,2,"1#2|3#120000",3,9012,"3#140000",60103,"102#107"]
[null,13,2,"1#2|3#280000",4,9013,"3#170000",60104,"102#107"]
[null,14,2,"1#2|3#560000",5,9014,"3#200000",60105,"102#107"]
[null,15,2,"1#2|3#1000000",6,9015,"3#230000",60106,"102#107"]
[null,16,2,"1#2|3#1520000",7,9016,"3#260000",60107,"102#107"]
[null,17,2,"1#2|3#2070000",8,9017,"3#300000",60108,"102#107"]
[null,18,2,"1#2|3#2660000",9,9018,"3#350000",60109,"102#107"]
[null,19,3,"1#2|3#2000",1,9019,"12001#10|12012#2",60201,"103#108"]
[null,20,3,"1#2|3#60000",2,9020,"12001#20|12012#5",60202,"103#108"]
[null,21,3,"1#2|3#140000",3,9021,"12001#20|12012#10",60203,"103#108"]
[null,22,3,"1#2|3#320000",4,9022,"12001#20|12012#15",60204,"103#108"]
[null,23,3,"1#2|3#640000",5,9023,"12001#20|12012#20",60205,"103#108"]
[null,24,3,"1#2|3#1080000",6,9024,"12001#30|12012#25",60206,"103#108"]
[null,25,3,"1#2|3#1680000",7,9025,"12001#30|12012#30",60207,"103#108"]
[null,26,3,"1#2|3#2230000",8,9026,"12012#30|12013#1",60208,"103#108"]
[null,27,3,"1#2|3#2840000",9,9027,"12012#30|12013#2",60209,"103#108"]
[null,28,4,"1#2|3#2000",1,9028,"1001#1000",60301,"104#109"]
[null,29,4,"1#2|3#80000",2,9029,"1001#1250",60302,"104#109"]
[null,30,4,"1#2|3#160000",3,9030,"1001#1500",60303,"104#109"]
[null,31,4,"1#2|3#350000",4,9031,"1001#1750",60304,"104#109"]
[null,32,4,"1#2|3#720000",5,9032,"1001#2000",60305,"104#109"]
[null,33,4,"1#2|3#1160000",6,9033,"1001#2250",60306,"104#109"]
[null,34,4,"1#2|3#1840000",7,9034,"1001#2500",60307,"104#109"]
[null,35,4,"1#2|3#2390000",8,9035,"1001#2750",60308,"104#109"]
[null,36,4,"1#2|3#3000000",9,9036,"1001#3000",60309,"104#109"]
[null,37,5,"1#2|3#2000",1,9037,"66#80",60401,"105#110"]
[null,38,5,"1#2|3#100000",2,9038,"66#90",60402,"105#110"]
[null,39,5,"1#2|3#180000",3,9039,"66#100",60403,"105#110"]
[null,40,5,"1#2|3#390000",4,9040,"66#110",60404,"105#110"]
[null,41,5,"1#2|3#800000",5,9041,"66#120",60405,"105#110"]
[null,42,5,"1#2|3#1240000",6,9042,"66#140",60406,"105#110"]
[null,43,5,"1#2|3#2000000",7,9043,"66#160",60407,"105#110"]
[null,44,5,"1#2|3#2550000",8,9044,"66#180",60408,"105#110"]
[null,45,5,"1#2|3#3160000",9,9045,"66#200",60409,"105#110"]

{"sheet":"Sheet1","index":1,"n_rows":271,"n_cols":16,"rows_kept":271}
[{"$nulls":11},7,8,9,10,10]
[1,6000,{"$f":"B2*0.9","v":5400},{"$f":"$C2/6/4/0.15","v":1500},{"$f":"$C2/6/4/1","v":225},{"$f":"$C2/6/4/3","v":75},{"$f":"$C2/6/4/3","v":75},null,null,1,{"$f":"VLOOKUP(J2,$A:$B,2,FALSE)","v":6000},{"$f":"VLOOKUP($K2,[1]关卡对应玩家属性表!$Q:$Z,L$1,FALSE)","v":2},{"$f":"VLOOKUP($K2,[1]关卡对应玩家属性表!$Q:$Z,M$1,FALSE)","v":2142},{"$f":"VLOOKUP($K2,[1]关卡对应玩家属性表!$Q:$Z,N$1,FALSE)","v":459},{"$f":"VLOOKUP($K2,[1]关卡对应玩家属性表!$Q:$Z,O$1,FALSE)","v":153},{"$f":"VLOOKUP($K2,[1]关卡对应玩家属性表!$Q:$Z,P$1,FALSE)","v":153}]
[2,20000,{"$f":"B3*0.9","v":18000},{"$f":"$C3/6/4/0.15","v":5000},{"$f":"$C3/6/4/1","v":750},{"$f":"$C3/6/4/3","v":250},250,null,null,1,{"$f":"VLOOKUP(J3,$A:$B,2,FALSE)","v":6000},{"$f":"VLOOKUP($K3,[1]关卡对应玩家属性表!$Q:$Z,L$1,FALSE)","v":2},{"$f":"VLOOKUP($K3,[1]关卡对应玩家属性表!$Q:$Z,M$1,FALSE)","v":2142},{"$f":"VLOOKUP($K3,[1]关卡对应玩家属性表!$Q:$Z,N$1,FALSE)","v":459},{"$f":"VLOOKUP($K3,[1]关卡对应玩家属性表!$Q:$Z,O$1,FALSE)","v":153},{"$f":"VLOOKUP($K3,[1]关卡对应玩家属性表!$Q:$Z,P$1,FALSE)","v":153}]
[3,99000,89100,24750,3712.5,1237.5,1237.5,null,null,1,6000,{"$f":"VLOOKUP($K4,[1]关卡对应玩家属性表!$Q:$Z,L$1,FALSE)","v":2},{"$f":"VLOOKUP($K4,[1]关卡对应玩家属性表!$Q:$Z,M$1,FALSE)","v":2142},{"$f":"VLOOKUP($K4,[1]关卡对应玩家属性表!$Q:$Z,N$1,FALSE)","v":459},{"$f":"VLOOKUP($K4,[1]关卡对应玩家属性表!$Q:$Z,O$1,FALSE)","v":153},{"$f":"VLOOKUP($K4,[1]关卡对应玩家属性表!$Q:$Z,P$1,FALSE)","v":153}]
[4,204000,183600,51000,7650,2550,2550,null,null,1,6000,{"$f":"VLOOKUP($K5,[1]关卡对应玩家属性表!$Q:$Z,L$1,FALSE)","v":2},{"$f":"VLOOKUP($K5,[1]关卡对应玩家属性表!$Q:$Z,M$1,FALSE)","v":2142},{"$f":"VLOOKUP($K5,[1]关卡对应玩家属性表!$Q:$Z,N$1,FALSE)","v":459},{"$f":"VLOOKUP($K5,[1]关卡对应玩家属性表!$Q:$Z,O$1,FALSE)","v":153},{"$f":"VLOOKUP($K5,[1]关卡对应玩家属性表!$Q:$Z,P$1,FALSE)","v":153}]
[5,332000,298800,83000,12450,4150,4150,null,null,1,6000,{"$f":"VLOOKUP($K6,[1]关卡对应玩家属性表!$Q:$Z,L$1,FALSE)","v":2},{"$f":"VLOOKUP($K6,[1]关卡对应玩家属性表!$Q:$Z,M$1,FALSE)","v":2142},{"$f":"VLOOKUP($K6,[1]关卡对应玩家属性表!$Q:$Z,N$1,FALSE)","v":459},{"$f":"VLOOKUP($K6,[1]关卡对应玩家属性表!$Q:$Z,O$1,FALSE)","v":153},{"$f":"VLOOKUP($K6,[1]关卡对应玩家属性表!$Q:$Z,P$1,FALSE)","v":153}]
[6,1060000,954000,265000,39750,13250,13250,null,null,1,6000,{"$f":"VLOOKUP($K7,[1]关卡对应玩家属性表!$Q:$Z,L$1,FALSE)","v":2},{"$f":"VLOOKUP($K7,[1]关卡对应玩家属性表!$Q:$Z,M$1,FALSE)","v":2142},{"$f":"VLOOKUP($K7,[1]关卡对应玩家属性表!$Q:$Z,N$1,FALSE)","v":459},{"$f":"VLOOKUP($K7,[1]关卡对应玩家属性表!$Q:$Z,O$1,FALSE)","v":153},{"$f":"VLOOKUP($K7,[1]关卡对应玩家属性表!$Q:$Z,P$1,FALSE)","v":153}]
[7,1165000,1048500,291250,43687.5,14562.5,14562.5,null,null,{"$f":"J2+1","v":2},20000,{"$f":"VLOOKUP($K8,[1]关卡对应玩家属性表!$Q:$Z,L$1,FALSE)","v":27},{"$f":"VLOOKUP($K8,[1]关卡对应玩家属性表!$Q:$Z,M$1,FALSE)","v":5094},{"$f":"VLOOKUP($K8,[1]关卡对应玩家属性表!$Q:$Z,N$1,FALSE)","v":962},{"$f":"VLOOKUP($K8,[1]关卡对应玩家属性表!$Q:$Z,O$1,FALSE)","v":283},{"$f":"VLOOKUP($K8,[1]关卡对应玩家属性表!$Q:$Z,P$1,FALSE)","v":283}]
[8,1916000,1724400,479000,71850,23950,23950,null,null,{"$f":"J3+1","v":2},20000,{"$f":"VLOOKUP($K9,[1]关卡对应玩家属性表!$Q:$Z,L$1,FALSE)","v":27},{"$f":"VLOOKUP($K9,[1]关卡对应玩家属性表!$Q:$Z,M$1,FALSE)","v":5094},{"$f":"VLOOKUP($K9,[1]关卡对应玩家属性表!$Q:$Z,N$1,FALSE)","v":962},{"$f":"VLOOKUP($K9,[1]关卡对应玩家属性表!$Q:$Z,O$1,FALSE)","v":283},{"$f":"VLOOKUP($K9,[1]关卡对应玩家属性表!$Q:$Z,P$1,FALSE)","v":283}]
[9,2505000,2254500,626250,93937.5,31312.5,31312.5,null,null,2,20000,{"$f":"VLOOKUP($K10,[1]关卡对应玩家属性表!$Q:$Z,L$1,FALSE)","v":27},{"$f":"VLOOKUP($K10,[1]关卡对应玩家属性表!$Q:$Z,M$1,FALSE)","v":5094},{"$f":"VLOOKUP($K10,[1]关卡对应玩家属性表!$Q:$Z,N$1,FALSE)","v":962},{"$f":"VLOOKUP($K10,[1]关卡对应玩家属性表!$Q:$Z,O$1,FALSE)","v":283},{"$f":"VLOOKUP($K10,[1]关卡对应玩家属性表!$Q:$Z,P$1,FALSE)","v":283}]
[10,8000,7200,2000,300,100,100,null,null,2,20000,{"$f":"VLOOKUP($K11,[1]关卡对应玩家属性表!$Q:$Z,L$1,FALSE)","v":27},{"$f":"VLOOKUP($K11,[1]关卡对应玩家属性表!$Q:$Z,M$1,FALSE)","v":5094},{"$f":"VLOOKUP($K11,[1]关卡对应玩家属性表!$Q:$Z,N$1,FALSE)","v":962},{"$f":"VLOOKUP($K11,[1]关卡对应玩家属性表!$Q:$Z,O$1,FALSE)","v":283},{"$f":"VLOOKUP($K11,[1]关卡对应玩家属性表!$Q:$Z,P$1,FALSE)","v":283}]
[11,33000,29700,8250,1237.5,412.5,412.5,null,null,2,20000,{"$f":"VLOOKUP($K12,[1]关卡对应玩家属性表!$Q:$Z,L$1,FALSE)","v":27},{"$f":"VLOOKUP($K12,[1]关卡对应玩家属性表!$Q:$Z,M$1,FALSE)","v":5094},{"$f":"VLOOKUP($K12,[1]关卡对应玩家属性表!$Q:$Z,N$1,FALSE)","v":962},{"$f":"VLOOKUP($K12,[1]关卡对应玩家属性表!$Q:$Z,O$1,FALSE)","v":283},{"$f":"VLOOKUP($K12,[1]关卡对应玩家属性表!$Q:$Z,P$1,FALSE)","v":283}]
[12,109000,98100,27250,4087.5,1362.5,1362.5,null,null,2,20000,{"$f":"VLOOKUP($K13,[1]关卡对应玩家属性表!$Q:$Z,L$1,FALSE)","v":27},{"$f":"VLOOKUP($K13,[1]关卡对应玩家属性表!$Q:$Z,M$1,FALSE)","v":5094},{"$f":"VLOOKUP($K13,[1]关卡对应玩家属性表!$Q:$Z,N$1,FALSE)","v":962},{"$f":"VLOOKUP($K13,[1]关卡对应玩家属性表!$Q:$Z,O$1,FALSE)","v":283},{"$f":"VLOOKUP($K13,[1]关卡对应玩家属性表!$Q:$Z,P$1,FALSE)","v":283}]
[13,291000,261900,72750,10912.5,3637.5,3637.5,null,null,3,99000,{"$f":"VLOOKUP($K14,[1]关卡对应玩家属性表!$Q:$Z,L$1,FALSE)","v":53},{"$f":"VLOOKUP($K14,[1]关卡对应玩家属性表!$Q:$Z,M$1,FALSE)","v":30745},{"$f":"VLOOKUP($K14,[1]关卡对应玩家属性表!$Q:$Z,N$1,FALSE)","v":5330},{"$f":"VLOOKUP($K14,[1]关卡对应玩家属性表!$Q:$Z,O$1,FALSE)","v":1325},{"$f":"VLOOKUP($K14,[1]关卡对应玩家属性表!$Q:$Z,P$1,FALSE)","v":1325}]
[14,570000,513000,142500,21375,7125,7125,null,null,3,99000,{"$f":"VLOOKUP($K15,[1]关卡对应玩家属性表!$Q:$Z,L$1,FALSE)","v":53},{"$f":"VLOOKUP($K15,[1]关卡对应玩家属性表!$Q:$Z,M$1,FALSE)","v":30745},{"$f":"VLOOKUP($K15,[1]关卡对应玩家属性表!$Q:$Z,N$1,FALSE)","v":5330},{"$f":"VLOOKUP($K15,[1]关卡对应玩家属性表!$Q:$Z,O$1,FALSE)","v":1325},{"$f":"VLOOKUP($K15,[1]关卡对应玩家属性表!$Q:$Z,P$1,FALSE)","v":1325}]
[15,1063000,956700,265750,39862.5,13287.5,13287.5,null,null,3,99000,{"$f":"VLOOKUP($K16,[1]关卡对应玩家属性表!$Q:$Z,L$1,FALSE)","v":53},{"$f":"VLOOKUP($K16,[1]关卡对应玩家属性表!$Q:$Z,M$1,FALSE)","v":30745},{"$f":"VLOOKUP($K16,[1]关卡对应玩家属性表!$Q:$Z,N$1,FALSE)","v":5330},{"$f":"VLOOKUP($K16,[1]关卡对应玩家属性表!$Q:$Z,O$1,FALSE)","v":1325},{"$f":"VLOOKUP($K16,[1]关卡对应玩家属性表!$Q:$Z,P$1,FALSE)","v":1325}]
[16,1670000,1503000,417500,62625,20875,20875,null,null,3,99000,{"$f":"VLOOKUP($K17,[1]关卡对应玩家属性表!$Q:$Z,L$1,FALSE)","v":53},{"$f":"VLOOKUP($K17,[1]关卡对应玩家属性表!$Q:$Z,M$1,FALSE)","v":30745},{"$f":"VLOOKUP($K17,[1]关卡对应玩家属性表!$Q:$Z,N$1,FALSE)","v":5330},{"$f":"VLOOKUP($K17,[1]关卡对应玩家属性表!$Q:$Z,O$1,FALSE)","v":1325},{"$f":"VLOOKUP($K17,[1]关卡对应玩家属性表!$Q:$Z,P$1,FALSE)","v":1325}]
[17,2070000,1863000,517500,77625,25875,25875,null,null,3,99000,{"$f":"VLOOKUP($K18,[1]关卡对应玩家属性表!$Q:$Z,L$1,FALSE)","v":53},{"$f":"VLOOKUP($K18,[1]关卡对应玩家属性表!$Q:$Z,M$1,FALSE)","v":30745},{"$f":"VLOOKUP($K18,[1]关卡对应玩家属性表!$Q:$Z,N$1,FALSE)","v":5330},{"$f":"VLOOKUP($K18,[1]关卡对应玩家属性表!$Q:$Z,O$1,FALSE)","v":1325},{"$f":"VLOOKUP($K18,[1]关卡对应玩家属性表!$Q:$Z,P$1,FALSE)","v":1325}]
[18,2664000,2397600,666000,99900,33300,33300,null,null,3,99000,{"$f":"VLOOKUP($K19,[1]关卡对应玩家属性表!$Q:$Z,L$1,FALSE)","v":53},{"$f":"VLOOKUP($K19,[1]关卡对应玩家属性表!$Q:$Z,M$1,FALSE)","v":30745},{"$f":"VLOOKUP($K19,[1]关卡对应玩家属性表!$Q:$Z,N$1,FALSE)","v":5330},{"$f":"VLOOKUP($K19,[1]关卡对应玩家属性表!$Q:$Z,O$1,FALSE)","v":1325},{"$f":"VLOOKUP($K19,[1]关卡对应玩家属性表!$Q:$Z,P$1,FALSE)","v":1325}]
[19,12000,10800,3000,450,150,150,null,null,4,204000,{"$f":"VLOOKUP($K20,[1]关卡对应玩家属性表!$Q:$Z,L$1,FALSE)","v":70},{"$f":"VLOOKUP($K20,[1]关卡对应玩家属性表!$Q:$Z,M$1,FALSE)","v":69858},{"$f":"VLOOKUP($K20,[1]关卡对应玩家属性表!$Q:$Z,N$1,FALSE)","v":11690},{"$f":"VLOOKUP($K20,[1]关卡对应玩家属性表!$Q:$Z,O$1,FALSE)","v":2349},{"$f":"VLOOKUP($K20,[1]关卡对应玩家属性表!$Q:$Z,P$1,FALSE)","v":2349}]
[20,59000,53100,14750,2212.5,737.5,737.5,null,null,4,204000,{"$f":"VLOOKUP($K21,[1]关卡对应玩家属性表!$Q:$Z,L$1,FALSE)","v":70},{"$f":"VLOOKUP($K21,[1]关卡对应玩家属性表!$Q:$Z,M$1,FALSE)","v":69858},{"$f":"VLOOKUP($K21,[1]关卡对应玩家属性表!$Q:$Z,N$1,FALSE)","v":11690},{"$f":"VLOOKUP($K21,[1]关卡对应玩家属性表!$Q:$Z,O$1,FALSE)","v":2349},{"$f":"VLOOKUP($K21,[1]关卡对应玩家属性表!$Q:$Z,P$1,FALSE)","v":2349}]
[21,113000,101700,28250,4237.5,1412.5,1412.5,null,null,4,204000,{"$f":"VLOOKUP($K22,[1]关卡对应玩家属性表!$Q:$Z,L$1,FALSE)","v":70},{"$f":"VLOOKUP($K22,[1]关卡对应玩家属性表!$Q:$Z,M$1,FALSE)","v":69858},{"$f":"VLOOKUP($K22,[1]关卡对应玩家属性表!$Q:$Z,N$1,FALSE)","v":11690},{"$f":"VLOOKUP($K22,[1]关卡对应玩家属性表!$Q:$Z,O$1,FALSE)","v":2349},{"$f":"VLOOKUP($K22,[1]关卡对应玩家属性表!$Q:$Z,P$1,FALSE)","v":2349}]
[22,307000,276300,76750,11512.5,3837.5,3837.5,null,null,4,204000,{"$f":"VLOOKUP($K23,[1]关卡对应玩家属性表!$Q:$Z,L$1,FALSE)","v":70},{"$f":"VLOOKUP($K23,[1]关卡对应玩家属性表!$Q:$Z,M$1,FALSE)","v":69858},{"$f":"VLOOKUP($K23,[1]关卡对应玩家属性表!$Q:$Z,N$1,FALSE)","v":11690},{"$f":"VLOOKUP($K23,[1]关卡对应玩家属性表!$Q:$Z,O$1,FALSE)","v":2349},{"$f":"VLOOKUP($K23,[1]关卡对应玩家属性表!$Q:$Z,P$1,FALSE)","v":2349}]
[23,590000,531000,147500,22125,7375,7375,null,null,4,204000,{"$f":"VLOOKUP($K24,[1]关卡对应玩家属性表!$Q:$Z,L$1,FALSE)","v":70},{"$f":"VLOOKUP($K24,[1]关卡对应玩家属性表!$Q:$Z,M$1,FALSE)","v":69858},{"$f":"VLOOKUP($K24,[1]关卡对应玩家属性表!$Q:$Z,N$1,FALSE)","v":11690},{"$f":"VLOOKUP($K24,[1]关卡对应玩家属性表!$Q:$Z,O$1,FALSE)","v":2349},{"$f":"VLOOKUP($K24,[1]关卡对应玩家属性表!$Q:$Z,P$1,FALSE)","v":2349}]
[24,1075000,967500,268750,40312.5,13437.5,13437.5,null,null,4,204000,{"$f":"VLOOKUP($K25,[1]关卡对应玩家属性表!$Q:$Z,L$1,FALSE)","v":70},{"$f":"VLOOKUP($K25,[1]关卡对应玩家属性表!$Q:$Z,M$1,FALSE)","v":69858},{"$f":"VLOOKUP($K25,[1]关卡对应玩家属性表!$Q:$Z,N$1,FALSE)","v":11690},{"$f":"VLOOKUP($K25,[1]关卡对应玩家属性表!$Q:$Z,O$1,FALSE)","v":2349},{"$f":"VLOOKUP($K25,[1]关卡对应玩家属性表!$Q:$Z,P$1,FALSE)","v":2349}]
[25,1689000,1520100,422250,63337.5,21112.5,21112.5,null,null,5,332000,{"$f":"VLOOKUP($K26,[1]关卡对应玩家属性表!$Q:$Z,L$1,FALSE)","v":80},{"$f":"VLOOKUP($K26,[1]关卡对应玩家属性表!$Q:$Z,M$1,FALSE)","v":129626},{"$f":"VLOOKUP($K26,[1]关卡对应玩家属性表!$Q:$Z,N$1,FALSE)","v":21360},{"$f":"VLOOKUP($K26,[1]关卡对应玩家属性表!$Q:$Z,O$1,FALSE)","v":2582},{"$f":"VLOOKUP($K26,[1]关卡对应玩家属性表!$Q:$Z,P$1,FALSE)","v":2582}]
[26,2233000,2009700,558250,83737.5,27912.5,27912.5,null,null,5,332000,{"$f":"VLOOKUP($K27,[1]关卡对应玩家属性表!$Q:$Z,L$1,FALSE)","v":80},{"$f":"VLOOKUP($K27,[1]关卡对应玩家属性表!$Q:$Z,M$1,FALSE)","v":129626},{"$f":"VLOOKUP($K27,[1]关卡对应玩家属性表!$Q:$Z,N$1,FALSE)","v":21360},{"$f":"VLOOKUP($K27,[1]关卡对应玩家属性表!$Q:$Z,O$1,FALSE)","v":2582},{"$f":"VLOOKUP($K27,[1]关卡对应玩家属性表!$Q:$Z,P$1,FALSE)","v":2582}]
[27,2842000,2557800,710500,106575,35525,35525,null,null,5,332000,{"$f":"VLOOKUP($K28,[1]关卡对应玩家属性表!$Q:$Z,L$1,FALSE)","v":80},{"$f":"VLOOKUP($K28,[1]关卡对应玩家属性表!$Q:$Z,M$1,FALSE)","v":129626},{"$f":"VLOOKUP($K28,[1]关卡对应玩家属性表!$Q:$Z,N$1,FALSE)","v":21360},{"$f":"VLOOKUP($K28,[1]关卡对应玩家属性表!$Q:$Z,O$1,FALSE)","v":2582},{"$f":"VLOOKUP($K28,[1]关卡对应玩家属性表!$Q:$Z,P$1,FALSE)","v":2582}]
[28,16000,14400,4000,600,200,200,null,null,5,332000,{"$f":"VLOOKUP($K29,[1]关卡对应玩家属性表!$Q:$Z,L$1,FALSE)","v":80},{"$f":"VLOOKUP($K29,[1]关卡对应玩家属性表!$Q:$Z,M$1,FALSE)","v":129626},{"$f":"VLOOKUP($K29,[1]关卡对应玩家属性表!$Q:$Z,N$1,FALSE)","v":21360},{"$f":"VLOOKUP($K29,[1]关卡对应玩家属性表!$Q:$Z,O$1,FALSE)","v":2582},{"$f":"VLOOKUP($K29,[1]关卡对应玩家属性表!$Q:$Z,P$1,FALSE)","v":2582}]
[29,94000,84600,23500,3525,1175,1175,null,null,5,332000,{"$f":"VLOOKUP($K30,[1]关卡对应玩家属性表!$Q:$Z,L$1,FALSE)","v":80},{"$f":"VLOOKUP($K30,[1]关卡对应玩家属性表!$Q:$Z,M$1,FALSE)","v":129626},{"$f":"VLOOKUP($K30,[1]关卡对应玩家属性表!$Q:$Z,N$1,FALSE)","v":21360},{"$f":"VLOOKUP($K30,[1]关卡对应玩家属性表!$Q:$Z,O$1,FALSE)","v":2582},{"$f":"VLOOKUP($K30,[1]关卡对应玩家属性表!$Q:$Z,P$1,FALSE)","v":2582}]
[30,123000,110700,30750,4612.5,1537.5,1537.5,null,null,5,332000,{"$f":"VLOOKUP($K31,[1]关卡对应玩家属性表!$Q:$Z,L$1,FALSE)","v":80},{"$f":"VLOOKUP($K31,[1]关卡对应玩家属性表!$Q:$Z,M$1,FALSE)","v":129626},{"$f":"VLOOKUP($K31,[1]关卡对应玩家属性表!$Q:$Z,N$1,FALSE)","v":21360},{"$f":"VLOOKUP($K31,[1]关卡对应玩家属性表!$Q:$Z,O$1,FALSE)","v":2582},{"$f":"VLOOKUP($K31,[1]关卡对应玩家属性表!$Q:$Z,P$1,FALSE)","v":2582}]
[31,327000,294300,81750,12262.5,4087.5,4087.5,null,null,6,1060000,{"$f":"VLOOKUP($K32,[1]关卡对应玩家属性表!$Q:$Z,L$1,FALSE)","v":101},{"$f":"VLOOKUP($K32,[1]关卡对应玩家属性表!$Q:$Z,M$1,FALSE)","v":449742},{"$f":"VLOOKUP($K32,[1]关卡对应玩家属性表!$Q:$Z,N$1,FALSE)","v":70357},{"$f":"VLOOKUP($K32,[1]关卡对应玩家属性表!$Q:$Z,O$1,FALSE)","v":6348},{"$f":"VLOOKUP($K32,[1]关卡对应玩家属性表!$Q:$Z,P$1,FALSE)","v":6348}]
[32,703000,632700,175750,26362.5,8787.5,8787.5,null,null,6,1060000,{"$f":"VLOOKUP($K33,[1]关卡对应玩家属性表!$Q:$Z,L$1,FALSE)","v":101},{"$f":"VLOOKUP($K33,[1]关卡对应玩家属性表!$Q:$Z,M$1,FALSE)","v":449742},{"$f":"VLOOKUP($K33,[1]关卡对应玩家属性表!$Q:$Z,N$1,FALSE)","v":70357},{"$f":"VLOOKUP($K33,[1]关卡对应玩家属性表!$Q:$Z,O$1,FALSE)","v":6348},{"$f":"VLOOKUP($K33,[1]关卡对应玩家属性表!$Q:$Z,P$1,FALSE)","v":6348}]
[33,1156000,1040400,289000,43350,14450,14450,null,null,6,1060000,{"$f":"VLOOKUP($K34,[1]关卡对应玩家属性表!$Q:$Z,L$1,FALSE)","v":101},{"$f":"VLOOKUP($K34,[1]关卡对应玩家属性表!$Q:$Z,M$1,FALSE)","v":449742},{"$f":"VLOOKUP($K34,[1]关卡对应玩家属性表!$Q:$Z,N$1,FALSE)","v":70357},{"$f":"VLOOKUP($K34,[1]关卡对应玩家属性表!$Q:$Z,O$1,FALSE)","v":6348},{"$f":"VLOOKUP($K34,[1]关卡对应玩家属性表!$Q:$Z,P$1,FALSE)","v":6348}]
[34,1846000,1661400,461500,69225,23075,23075,null,null,6,1060000,{"$f":"VLOOKUP($K35,[1]关卡对应玩家属性表!$Q:$Z,L$1,FALSE)","v":101},{"$f":"VLOOKUP($K35,[1]关卡对应玩家属性表!$Q:$Z,M$1,FALSE)","v":449742},{"$f":"VLOOKUP($K35,[1]关卡对应玩家属性表!$Q:$Z,N$1,FALSE)","v":70357},{"$f":"VLOOKUP($K35,[1]关卡对应玩家属性表!$Q:$Z,O$1,FALSE)","v":6348},{"$f":"VLOOKUP($K35,[1]关卡对应玩家属性表!$Q:$Z,P$1,FALSE)","v":6348}]
[35,2398000,2158200,599500,89925,29975,29975,null,null,6,1060000,{"$f":"VLOOKUP($K36,[1]关卡对应玩家属性表!$Q:$Z,L$1,FALSE)","v":101},{"$f":"VLOOKUP($K36,[1]关卡对应玩家属性表!$Q:$Z,M$1,FALSE)","v":449742},{"$f":"VLOOKUP($K36,[1]关卡对应玩家属性表!$Q:$Z,N$1,FALSE)","v":70357},{"$f":"VLOOKUP($K36,[1]关卡对应玩家属性表!$Q:$Z,O$1,FALSE)","v":6348},{"$f":"VLOOKUP($K36,[1]关卡对应玩家属性表!$Q:$Z,P$1,FALSE)","v":6348}]
[36,2998000,2698200,749500,112425,37475,37475,null,null,6,1060000,{"$f":"VLOOKUP($K37,[1]关卡对应玩家属性表!$Q:$Z,L$1,FALSE)","v":101},{"$f":"VLOOKUP($K37,[1]关卡对应玩家属性表!$Q:$Z,M$1,FALSE)","v":449742},{"$f":"VLOOKUP($K37,[1]关卡对应玩家属性表!$Q:$Z,N$1,FALSE)","v":70357},{"$f":"VLOOKUP($K37,[1]关卡对应玩家属性表!$Q:$Z,O$1,FALSE)","v":6348},{"$f":"VLOOKUP($K37,[1]关卡对应玩家属性表!$Q:$Z,P$1,FALSE)","v":6348}]
[37,20000,18000,5000,750,250,250,null,null,7,1165000,{"$f":"VLOOKUP($K38,[1]关卡对应玩家属性表!$Q:$Z,L$1,FALSE)","v":119},{"$f":"VLOOKUP($K38,[1]关卡对应玩家属性表!$Q:$Z,M$1,FALSE)","v":498018},{"$f":"VLOOKUP($K38,[1]关卡对应玩家属性表!$Q:$Z,N$1,FALSE)","v":77552},{"$f":"VLOOKUP($K38,[1]关卡对应玩家属性表!$Q:$Z,O$1,FALSE)","v":6786},{"$f":"VLOOKUP($K38,[1]关卡对应玩家属性表!$Q:$Z,P$1,FALSE)","v":6786}]
[38,106000,95400,26500,3975,1325,1325,null,null,7,1165000,{"$f":"VLOOKUP($K39,[1]关卡对应玩家属性表!$Q:$Z,L$1,FALSE)","v":119},{"$f":"VLOOKUP($K39,[1]关卡对应玩家属性表!$Q:$Z,M$1,FALSE)","v":498018},{"$f":"VLOOKUP($K39,[1]关卡对应玩家属性表!$Q:$Z,N$1,FALSE)","v":77552},{"$f":"VLOOKUP($K39,[1]关卡对应玩家属性表!$Q:$Z,O$1,FALSE)","v":6786},{"$f":"VLOOKUP($K39,[1]关卡对应玩家属性表!$Q:$Z,P$1,FALSE)","v":6786}]
[39,192000,172800,48000,7200,2400,2400,null,null,7,1165000,{"$f":"VLOOKUP($K40,[1]关卡对应玩家属性表!$Q:$Z,L$1,FALSE)","v":119},{"$f":"VLOOKUP($K40,[1]关卡对应玩家属性表!$Q:$Z,M$1,FALSE)","v":498018},{"$f":"VLOOKUP($K40,[1]关卡对应玩家属性表!$Q:$Z,N$1,FALSE)","v":77552},{"$f":"VLOOKUP($K40,[1]关卡对应玩家属性表!$Q:$Z,O$1,FALSE)","v":6786},{"$f":"VLOOKUP($K40,[1]关卡对应玩家属性表!$Q:$Z,P$1,FALSE)","v":6786}]
[40,332000,298800,83000,12450,4150,4150,null,null,7,1165000,{"$f":"VLOOKUP($K41,[1]关卡对应玩家属性表!$Q:$Z,L$1,FALSE)","v":119},{"$f":"VLOOKUP($K41,[1]关卡对应玩家属性表!$Q:$Z,M$1,FALSE)","v":498018},{"$f":"VLOOKUP($K41,[1]关卡对应玩家属性表!$Q:$Z,N$1,FALSE)","v":77552},{"$f":"VLOOKUP($K41,[1]关卡对应玩家属性表!$Q:$Z,O$1,FALSE)","v":6786},{"$f":"VLOOKUP($K41,[1]关卡对应玩家属性表!$Q:$Z,P$1,FALSE)","v":6786}]
[41,706000,635400,176500,26475,8825,8825,null,null,7,1165000,{"$f":"VLOOKUP($K42,[1]关卡对应玩家属性表!$Q:$Z,L$1,FALSE)","v":119},{"$f":"VLOOKUP($K42,[1]关卡对应玩家属性表!$Q:$Z,M$1,FALSE)","v":498018},{"$f":"VLOOKUP($K42,[1]关卡对应玩家属性表!$Q:$Z,N$1,FALSE)","v":77552},{"$f":"VLOOKUP($K42,[1]关卡对应玩家属性表!$Q:$Z,O$1,FALSE)","v":6786},{"$f":"VLOOKUP($K42,[1]关卡对应玩家属性表!$Q:$Z,P$1,FALSE)","v":6786}]
[42,1165000,1048500,291250,43687.5,14562.5,14562.5,null,null,7,1165000,{"$f":"VLOOKUP($K43,[1]关卡对应玩家属性表!$Q:$Z,L$1,FALSE)","v":119},{"$f":"VLOOKUP($K43,[1]关卡对应玩家属性表!$Q:$Z,M$1,FALSE)","v":498018},{"$f":"VLOOKUP($K43,[1]关卡对应玩家属性表!$Q:$Z,N$1,FALSE)","v":77552},{"$f":"VLOOKUP($K43,[1]关卡对应玩家属性表!$Q:$Z,O$1,FALSE)","v":6786},{"$f":"VLOOKUP($K43,[1]关卡对应玩家属性表!$Q:$Z,P$1,FALSE)","v":6786}]
[43,2001000,1800900,500250,75037.5,25012.5,25012.5,null,null,8,1916000,{"$f":"VLOOKUP($K44,[1]关卡对应玩家属性表!$Q:$Z,L$1,FALSE)","v":143},{"$f":"VLOOKUP($K44,[1]关卡对应玩家属性表!$Q:$Z,M$1,FALSE)","v":854790},{"$f":"VLOOKUP($K44,[1]关卡对应玩家属性表!$Q:$Z,N$1,FALSE)","v":136634},{"$f":"VLOOKUP($K44,[1]关卡对应玩家属性表!$Q:$Z,O$1,FALSE)","v":7530},{"$f":"VLOOKUP($K44,[1]关卡对应玩家属性表!$Q:$Z,P$1,FALSE)","v":7530}]
[44,2617000,2355300,654250,98137.5,32712.5,32712.5,null,null,8,1916000,{"$f":"VLOOKUP($K45,[1]关卡对应玩家属性表!$Q:$Z,L$1,FALSE)","v":143},{"$f":"VLOOKUP($K45,[1]关卡对应玩家属性表!$Q:$Z,M$1,FALSE)","v":854790},{"$f":"VLOOKUP($K45,[1]关卡对应玩家属性表!$Q:$Z,N$1,FALSE)","v":136634},{"$f":"VLOOKUP($K45,[1]关卡对应玩家属性表!$Q:$Z,O$1,FALSE)","v":7530},{"$f":"VLOOKUP($K45,[1]关卡对应玩家属性表!$Q:$Z,P$1,FALSE)","v":7530}]
[45,3168000,2851200,792000,118800,39600,39600,null,null,8,1916000,{"$f":"VLOOKUP($K46,[1]关卡对应玩家属性表!$Q:$Z,L$1,FALSE)","v":143},{"$f":"VLOOKUP($K46,[1]关卡对应玩家属性表!$Q:$Z,M$1,FALSE)","v":854790},{"$f":"VLOOKUP($K46,[1]关卡对应玩家属性表!$Q:$Z,N$1,FALSE)","v":136634},{"$f":"VLOOKUP($K46,[1]关卡对应玩家属性表!$Q:$Z,O$1,FALSE)","v":7530},{"$f":"VLOOKUP($K46,[1]关卡对应玩家属性表!$Q:$Z,P$1,FALSE)","v":7530}]
[{"$nulls":9},8,1916000,{"$f":"VLOOKUP($K47,[1]关卡对应玩家属性表!$Q:$Z,L$1,FALSE)","v":143},{"$f":"VLOOKUP($K47,[1]关卡对应玩家属性表!$Q:$Z,M$1,FALSE)","v":854790},{"$f":"VLOOKUP($K47,[1]关卡对应玩家属性表!$Q:$Z,N$1,FALSE)","v":136634},{"$f":"VLOOKUP($K47,[1]关卡对应玩家属性表!$Q:$Z,O$1,FALSE)","v":7530},{"$f":"VLOOKUP($K47,[1]关卡对应玩家属性表!$Q:$Z,P$1,FALSE)","v":7530}]
[{"$nulls":9},8,1916000,{"$f":"VLOOKUP($K48,[1]关卡对应玩家属性表!$Q:$Z,L$1,FALSE)","v":143},{"$f":"VLOOKUP($K48,[1]关卡对应玩家属性表!$Q:$Z,M$1,FALSE)","v":854790},{"$f":"VLOOKUP($K48,[1]关卡对应玩家属性表!$Q:$Z,N$1,FALSE)","v":136634},{"$f":"VLOOKUP($K48,[1]关卡对应玩家属性表!$Q:$Z,O$1,FALSE)","v":7530},{"$f":"VLOOKUP($K48,[1]关卡对应玩家属性表!$Q:$Z,P$1,FALSE)","v":7530}]
[{"$nulls":9},8,1916000,{"$f":"VLOOKUP($K49,[1]关卡对应玩家属性表!$Q:$Z,L$1,FALSE)","v":143},{"$f":"VLOOKUP($K49,[1]关卡对应玩家属性表!$Q:$Z,M$1,FALSE)","v":854790},{"$f":"VLOOKUP($K49,[1]关卡对应玩家属性表!$Q:$Z,N$1,FALSE)","v":136634},{"$f":"VLOOKUP($K49,[1]关卡对应玩家属性表!$Q:$Z,O$1,FALSE)","v":7530},{"$f":"VLOOKUP($K49,[1]关卡对应玩家属性表!$Q:$Z,P$1,FALSE)","v":7530}]
[{"$nulls":9},9,2505000,{"$f":"VLOOKUP($K50,[1]关卡对应玩家属性表!$Q:$Z,L$1,FALSE)","v":179},{"$f":"VLOOKUP($K50,[1]关卡对应玩家属性表!$Q:$Z,M$1,FALSE)","v":1140102},{"$f":"VLOOKUP($K50,[1]关卡对应玩家属性表!$Q:$Z,N$1,FALSE)","v":179407},{"$f":"VLOOKUP($K50,[1]关卡对应玩家属性表!$Q:$Z,O$1,FALSE)","v":8772},{"$f":"VLOOKUP($K50,[1]关卡对应玩家属性表!$Q:$Z,P$1,FALSE)","v":8772}]
[{"$nulls":9},9,2505000,{"$f":"VLOOKUP($K51,[1]关卡对应玩家属性表!$Q:$Z,L$1,FALSE)","v":179},{"$f":"VLOOKUP($K51,[1]关卡对应玩家属性表!$Q:$Z,M$1,FALSE)","v":1140102},{"$f":"VLOOKUP($K51,[1]关卡对应玩家属性表!$Q:$Z,N$1,FALSE)","v":179407},{"$f":"VLOOKUP($K51,[1]关卡对应玩家属性表!$Q:$Z,O$1,FALSE)","v":8772},{"$f":"VLOOKUP($K51,[1]关卡对应玩家属性表!$Q:$Z,P$1,FALSE)","v":8772}]
[{"$nulls":9},9,2505000,{"$f":"VLOOKUP($K52,[1]关卡对应玩家属性表!$Q:$Z,L$1,FALSE)","v":179},{"$f":"VLOOKUP($K52,[1]关卡对应玩家属性表!$Q:$Z,M$1,FALSE)","v":1140102},{"$f":"VLOOKUP($K52,[1]关卡对应玩家属性表!$Q:$Z,N$1,FALSE)","v":179407},{"$f":"VLOOKUP($K52,[1]关卡对应玩家属性表!$Q:$Z,O$1,FALSE)","v":8772},{"$f":"VLOOKUP($K52,[1]关卡对应玩家属性表!$Q:$Z,P$1,FALSE)","v":8772}]
[{"$nulls":9},9,2505000,{"$f":"VLOOKUP($K53,[1]关卡对应玩家属性表!$Q:$Z,L$1,FALSE)","v":179},{"$f":"VLOOKUP($K53,[1]关卡对应玩家属性表!$Q:$Z,M$1,FALSE)","v":1140102},{"$f":"VLOOKUP($K53,[1]关卡对应玩家属性表!$Q:$Z,N$1,FALSE)","v":179407},{"$f":"VLOOKUP($K53,[1]关卡对应玩家属性表!$Q:$Z,O$1,FALSE)","v":8772},{"$f":"VLOOKUP($K53,[1]关卡对应玩家属性表!$Q:$Z,P$1,FALSE)","v":8772}]
[{"$nulls":9},9,2505000,{"$f":"VLOOKUP($K54,[1]关卡对应玩家属性表!$Q:$Z,L$1,FALSE)","v":179},{"$f":"VLOOKUP($K54,[1]关卡对应玩家属性表!$Q:$Z,M$1,FALSE)","v":1140102},{"$f":"VLOOKUP($K54,[1]关卡对应玩家属性表!$Q:$Z,N$1,FALSE)","v":179407},{"$f":"VLOOKUP($K54,[1]关卡对应玩家属性表!$Q:$Z,O$1,FALSE)","v":8772},{"$f":"VLOOKUP($K54,[1]关卡对应玩家属性表!$Q:$Z,P$1,FALSE)","v":8772}]
[{"$nulls":9},9,2505000,{"$f":"VLOOKUP($K55,[1]关卡对应玩家属性表!$Q:$Z,L$1,FALSE)","v":179},{"$f":"VLOOKUP($K55,[1]关卡对应玩家属性表!$Q:$Z,M$1,FALSE)","v":1140102},{"$f":"VLOOKUP($K55,[1]关卡对应玩家属性表!$Q:$Z,N$1,FALSE)","v":179407},{"$f":"VLOOKUP($K55,[1]关卡对应玩家属性表!$Q:$Z,O$1,FALSE)","v":8772},{"$f":"VLOOKUP($K55,[1]关卡对应玩家属性表!$Q:$Z,P$1,FALSE)","v":8772}]
[{"$nulls":9},10,8000,{"$f":"VLOOKUP($K56,[1]关卡对应玩家属性表!$Q:$Z,L$1,FALSE)","v":3},{"$f":"VLOOKUP($K56,[1]关卡对应玩家属性表!$Q:$Z,M$1,FALSE)","v":2226},{"$f":"VLOOKUP($K56,[1]关卡对应玩家属性表!$Q:$Z,N$1,FALSE)","v":477},{"$f":"VLOOKUP($K56,[1]关卡对应玩家属性表!$Q:$Z,O$1,FALSE)","v":159},{"$f":"VLOOKUP($K56,[1]关卡对应玩家属性表!$Q:$Z,P$1,FALSE)","v":159}]
[{"$nulls":9},10,8000,{"$f":"VLOOKUP($K57,[1]关卡对应玩家属性表!$Q:$Z,L$1,FALSE)","v":3},{"$f":"VLOOKUP($K57,[1]关卡对应玩家属性表!$Q:$Z,M$1,FALSE)","v":2226},{"$f":"VLOOKUP($K57,[1]关卡对应玩家属性表!$Q:$Z,N$1,FALSE)","v":477},{"$f":"VLOOKUP($K57,[1]关卡对应玩家属性表!$Q:$Z,O$1,FALSE)","v":159},{"$f":"VLOOKUP($K57,[1]关卡对应玩家属性表!$Q:$Z,P$1,FALSE)","v":159}]
[{"$nulls":9},10,8000,{"$f":"VLOOKUP($K58,[1]关卡对应玩家属性表!$Q:$Z,L$1,FALSE)","v":3},{"$f":"VLOOKUP($K58,[1]关卡对应玩家属性表!$Q:$Z,M$1,FALSE)","v":2226},{"$f":"VLOOKUP($K58,[1]关卡对应玩家属性表!$Q:$Z,N$1,FALSE)","v":477},{"$f":"VLOOKUP($K58,[1]关卡对应玩家属性表!$Q:$Z,O$1,FALSE)","v":159},{"$f":"VLOOKUP($K58,[1]关卡对应玩家属性表!$Q:$Z,P$1,FALSE)","v":159}]
[{"$nulls":9},10,8000,{"$f":"VLOOKUP($K59,[1]关卡对应玩家属性表!$Q:$Z,L$1,FALSE)","v":3},{"$f":"VLOOKUP($K59,[1]关卡对应玩家属性表!$Q:$Z,M$1,FALSE)","v":2226},{"$f":"VLOOKUP($K59,[1]关卡对应玩家属性表!$Q:$Z,N$1,FALSE)","v":477},{"$f":"VLOOKUP($K59,[1]关卡对应玩家属性表!$Q:$Z,O$1,FALSE)","v":159},{"$f":"VLOOKUP($K59,[1]关卡对应玩家属性表!$Q:$Z,P$1,FALSE)","v":159}]
[{"$nulls":9},10,8000,{"$f":"VLOOKUP($K60,[1]关卡对应玩家属性表!$Q:$Z,L$1,FALSE)","v":3},{"$f":"VLOOKUP($K60,[1]关卡对应玩家属性表!$Q:$Z,M$1,FALSE)","v":2226},{"$f":"VLOOKUP($K60,[1]关卡对应玩家属性表!$Q:$Z,N$1,FALSE)","v":477},{"$f":"VLOOKUP($K60,[1]关卡对应玩家属性表!$Q:$Z,O$1,FALSE)","v":159},{"$f":"VLOOKUP($K60,[1]关卡对应玩家属性表!$Q:$Z,P$1,FALSE)","v":159}]
[{"$nulls":9},10,8000,{"$f":"VLOOKUP($K61,[1]关卡对应玩家属性表!$Q:$Z,L$1,FALSE)","v":3},{"$f":"VLOOKUP($K61,[1]关卡对应玩家属性表!$Q:$Z,M$1,FALSE)","v":2226},{"$f":"VLOOKUP($K61,[1]关卡对应玩家属性表!$Q:$Z,N$1,FALSE)","v":477},{"$f":"VLOOKUP($K61,[1]关卡对应玩家属性表!$Q:$Z,O$1,FALSE)","v":159},{"$f":"VLOOKUP($K61,[1]关卡对应玩家属性表!$Q:$Z,P$1,FALSE)","v":159}]
[{"$nulls":9},11,33000,{"$f":"VLOOKUP($K62,[1]关卡对应玩家属性表!$Q:$Z,L$1,FALSE)","v":40},{"$f":"VLOOKUP($K62,[1]关卡对应玩家属性表!$Q:$Z,M$1,FALSE)","v":9974},{"$f":"VLOOKUP($K62,[1]关卡对应玩家属性表!$Q:$Z,N$1,FALSE)","v":1510},{"$f":"VLOOKUP($K62,[1]关卡对应玩家属性表!$Q:$Z,O$1,FALSE)","v":452},{"$f":"VLOOKUP($K62,[1]关卡对应玩家属性表!$Q:$Z,P$1,FALSE)","v":452}]
[{"$nulls":9},11,33000,{"$f":"VLOOKUP($K63,[1]关卡对应玩家属性表!$Q:$Z,L$1,FALSE)","v":40},{"$f":"VLOOKUP($K63,[1]关卡对应玩家属性表!$Q:$Z,M$1,FALSE)","v":9974},{"$f":"VLOOKUP($K63,[1]关卡对应玩家属性表!$Q:$Z,N$1,FALSE)","v":1510},{"$f":"VLOOKUP($K63,[1]关卡对应玩家属性表!$Q:$Z,O$1,FALSE)","v":452},{"$f":"VLOOKUP($K63,[1]关卡对应玩家属性表!$Q:$Z,P$1,FALSE)","v":452}]
[{"$nulls":9},11,33000,{"$f":"VLOOKUP($K64,[1]关卡对应玩家属性表!$Q:$Z,L$1,FALSE)","v":40},{"$f":"VLOOKUP($K64,[1]关卡对应玩家属性表!$Q:$Z,M$1,FALSE)","v":9974},{"$f":"VLOOKUP($K64,[1]关卡对应玩家属性表!$Q:$Z,N$1,FALSE)","v":1510},{"$f":"VLOOKUP($K64,[1]关卡对应玩家属性表!$Q:$Z,O$1,FALSE)","v":452},{"$f":"VLOOKUP($K64,[1]关卡对应玩家属性表!$Q:$Z,P$1,FALSE)","v":452}]
[{"$nulls":9},11,33000,{"$f":"VLOOKUP($K65,[1]关卡对应玩家属性表!$Q:$Z,L$1,FALSE)","v":40},{"$f":"VLOOKUP($K65,[1]关卡对应玩家属性表!$Q:$Z,M$1,FALSE)","v":9974},{"$f":"VLOOKUP($K65,[1]关卡对应玩家属性表!$Q:$Z,N$1,FALSE)","v":1510},{"$f":"VLOOKUP($K65,[1]关卡对应玩家属性表!$Q:$Z,O$1,FALSE)","v":452},{"$f":"VLOOKUP($K65,[1]关卡对应玩家属性表!$Q:$Z,P$1,FALSE)","v":452}]
[{"$nulls":9},11,33000,{"$f":"VLOOKUP($K66,[1]关卡对应玩家属性表!$Q:$Z,L$1,FALSE)","v":40},{"$f":"VLOOKUP($K66,[1]关卡对应玩家属性表!$Q:$Z,M$1,FALSE)","v":9974},{"$f":"VLOOKUP($K66,[1]关卡对应玩家属性表!$Q:$Z,N$1,FALSE)","v":1510},{"$f":"VLOOKUP($K66,[1]关卡对应玩家属性表!$Q:$Z,O$1,FALSE)","v":452},{"$f":"VLOOKUP($K66,[1]关卡对应玩家属性表!$Q:$Z,P$1,FALSE)","v":452}]
[{"$nulls":9},11,{"$f":"VLOOKUP(J67,$A:$B,2,FALSE)","v":33000},{"$f":"VLOOKUP($K67,[1]关卡对应玩家属性表!$Q:$Z,L$1,FALSE)","v":40},{"$f":"VLOOKUP($K67,[1]关卡对应玩家属性表!$Q:$Z,M$1,FALSE)","v":9974},{"$f":"VLOOKUP($K67,[1]关卡对应玩家属性表!$Q:$Z,N$1,FALSE)","v":1510},{"$f":"VLOOKUP($K67,[1]关卡对应玩家属性表!$Q:$Z,O$1,FALSE)","v":452},{"$f":"VLOOKUP($K67,[1]关卡对应玩家属性表!$Q:$Z,P$1,FALSE)","v":452}]
[{"$nulls":9},12,109000,{"$f":"VLOOKUP($K68,[1]关卡对应玩家属性表!$Q:$Z,L$1,FALSE)","v":57},{"$f":"VLOOKUP($K68,[1]关卡对应玩家属性表!$Q:$Z,M$1,FALSE)","v":35424},{"$f":"VLOOKUP($K68,[1]关卡对应玩家属性表!$Q:$Z,N$1,FALSE)","v":6050},{"$f":"VLOOKUP($K68,[1]关卡对应玩家属性表!$Q:$Z,O$1,FALSE)","v":1374},{"$f":"VLOOKUP($K68,[1]关卡对应玩家属性表!$Q:$Z,P$1,FALSE)","v":1374}]
[{"$nulls":9},12,109000,{"$f":"VLOOKUP($K69,[1]关卡对应玩家属性表!$Q:$Z,L$1,FALSE)","v":57},{"$f":"VLOOKUP($K69,[1]关卡对应玩家属性表!$Q:$Z,M$1,FALSE)","v":35424},{"$f":"VLOOKUP($K69,[1]关卡对应玩家属性表!$Q:$Z,N$1,FALSE)","v":6050},{"$f":"VLOOKUP($K69,[1]关卡对应玩家属性表!$Q:$Z,O$1,FALSE)","v":1374},{"$f":"VLOOKUP($K69,[1]关卡对应玩家属性表!$Q:$Z,P$1,FALSE)","v":1374}]
[{"$nulls":9},12,109000,{"$f":"VLOOKUP($K70,[1]关卡对应玩家属性表!$Q:$Z,L$1,FALSE)","v":57},{"$f":"VLOOKUP($K70,[1]关卡对应玩家属性表!$Q:$Z,M$1,FALSE)","v":35424},{"$f":"VLOOKUP($K70,[1]关卡对应玩家属性表!$Q:$Z,N$1,FALSE)","v":6050},{"$f":"VLOOKUP($K70,[1]关卡对应玩家属性表!$Q:$Z,O$1,FALSE)","v":1374},{"$f":"VLOOKUP($K70,[1]关卡对应玩家属性表!$Q:$Z,P$1,FALSE)","v":1374}]
[{"$nulls":9},12,109000,{"$f":"VLOOKUP($K71,[1]关卡对应玩家属性表!$Q:$Z,L$1,FALSE)","v":57},{"$f":"VLOOKUP($K71,[1]关卡对应玩家属性表!$Q:$Z,M$1,FALSE)","v":35424},{"$f":"VLOOKUP($K71,[1]关卡对应玩家属性表!$Q:$Z,N$1,FALSE)","v":6050},{"$f":"VLOOKUP($K71,[1]关卡对应玩家属性表!$Q:$Z,O$1,FALSE)","v":1374},{"$f":"VLOOKUP($K71,[1]关卡对应玩家属性表!$Q:$Z,P$1,FALSE)","v":1374}]
[{"$nulls":9},12,109000,{"$f":"VLOOKUP($K72,[1]关卡对应玩家属性表!$Q:$Z,L$1,FALSE)","v":57},{"$f":"VLOOKUP($K72,[1]关卡对应玩家属性表!$Q:$Z,M$1,FALSE)","v":35424},{"$f":"VLOOKUP($K72,[1]关卡对应玩家属性表!$Q:$Z,N$1,FALSE)","v":6050},{"$f":"VLOOKUP($K72,[1]关卡对应玩家属性表!$Q:$Z,O$1,FALSE)","v":1374},{"$f":"VLOOKUP($K72,[1]关卡对应玩家属性表!$Q:$Z,P$1,FALSE)","v":1374}]
[{"$nulls":9},{"$f":"J67+1","v":12},109000,{"$f":"VLOOKUP($K73,[1]关卡对应玩家属性表!$Q:$Z,L$1,FALSE)","v":57},{"$f":"VLOOKUP($K73,[1]关卡对应玩家属性表!$Q:$Z,M$1,FALSE)","v":35424},{"$f":"VLOOKUP($K73,[1]关卡对应玩家属性表!$Q:$Z,N$1,FALSE)","v":6050},{"$f":"VLOOKUP($K73,[1]关卡对应玩家属性表!$Q:$Z,O$1,FALSE)","v":1374},{"$f":"VLOOKUP($K73,[1]关卡对应玩家属性表!$Q:$Z,P$1,FALSE)","v":1374}]
[{"$nulls":9},13,291000,{"$f":"VLOOKUP($K74,[1]关卡对应玩家属性表!$Q:$Z,L$1,FALSE)","v":70},{"$f":"VLOOKUP($K74,[1]关卡对应玩家属性表!$Q:$Z,M$1,FALSE)","v":111512},{"$f":"VLOOKUP($K74,[1]关卡对应玩家属性表!$Q:$Z,N$1,FALSE)","v":18446},{"$f":"VLOOKUP($K74,[1]关卡对应玩家属性表!$Q:$Z,O$1,FALSE)","v":2410},{"$f":"VLOOKUP($K74,[1]关卡对应玩家属性表!$Q:$Z,P$1,FALSE)","v":2410}]
[{"$nulls":9},13,291000,{"$f":"VLOOKUP($K75,[1]关卡对应玩家属性表!$Q:$Z,L$1,FALSE)","v":70},{"$f":"VLOOKUP($K75,[1]关卡对应玩家属性表!$Q:$Z,M$1,FALSE)","v":111512},{"$f":"VLOOKUP($K75,[1]关卡对应玩家属性表!$Q:$Z,N$1,FALSE)","v":18446},{"$f":"VLOOKUP($K75,[1]关卡对应玩家属性表!$Q:$Z,O$1,FALSE)","v":2410},{"$f":"VLOOKUP($K75,[1]关卡对应玩家属性表!$Q:$Z,P$1,FALSE)","v":2410}]
[{"$nulls":9},13,291000,{"$f":"VLOOKUP($K76,[1]关卡对应玩家属性表!$Q:$Z,L$1,FALSE)","v":70},{"$f":"VLOOKUP($K76,[1]关卡对应玩家属性表!$Q:$Z,M$1,FALSE)","v":111512},{"$f":"VLOOKUP($K76,[1]关卡对应玩家属性表!$Q:$Z,N$1,FALSE)","v":18446},{"$f":"VLOOKUP($K76,[1]关卡对应玩家属性表!$Q:$Z,O$1,FALSE)","v":2410},{"$f":"VLOOKUP($K76,[1]关卡对应玩家属性表!$Q:$Z,P$1,FALSE)","v":2410}]
[{"$nulls":9},13,291000,{"$f":"VLOOKUP($K77,[1]关卡对应玩家属性表!$Q:$Z,L$1,FALSE)","v":70},{"$f":"VLOOKUP($K77,[1]关卡对应玩家属性表!$Q:$Z,M$1,FALSE)","v":111512},{"$f":"VLOOKUP($K77,[1]关卡对应玩家属性表!$Q:$Z,N$1,FALSE)","v":18446},{"$f":"VLOOKUP($K77,[1]关卡对应玩家属性表!$Q:$Z,O$1,FALSE)","v":2410},{"$f":"VLOOKUP($K77,[1]关卡对应玩家属性表!$Q:$Z,P$1,FALSE)","v":2410}]
[{"$nulls":9},13,291000,{"$f":"VLOOKUP($K78,[1]关卡对应玩家属性表!$Q:$Z,L$1,FALSE)","v":70},{"$f":"VLOOKUP($K78,[1]关卡对应玩家属性表!$Q:$Z,M$1,FALSE)","v":111512},{"$f":"VLOOKUP($K78,[1]关卡对应玩家属性表!$Q:$Z,N$1,FALSE)","v":18446},{"$f":"VLOOKUP($K78,[1]关卡对应玩家属性表!$Q:$Z,O$1,FALSE)","v":2410},{"$f":"VLOOKUP($K78,[1]关卡对应玩家属性表!$Q:$Z,P$1,FALSE)","v":2410}]
[{"$nulls":9},13,291000,{"$f":"VLOOKUP($K79,[1]关卡对应玩家属性表!$Q:$Z,L$1,FALSE)","v":70},{"$f":"VLOOKUP($K79,[1]关卡对应玩家属性表!$Q:$Z,M$1,FALSE)","v":111512},{"$f":"VLOOKUP($K79,[1]关卡对应玩家属性表!$Q:$Z,N$1,FALSE)","v":18446},{"$f":"VLOOKUP($K79,[1]关卡对应玩家属性表!$Q:$Z,O$1,FALSE)","v":2410},{"$f":"VLOOKUP($K79,[1]关卡对应玩家属性表!$Q:$Z,P$1,FALSE)","v":2410}]
[{"$nulls":9},14,570000,{"$f":"VLOOKUP($K80,[1]关卡对应玩家属性表!$Q:$Z,L$1,FALSE)","v":81},{"$f":"VLOOKUP($K80,[1]关卡对应玩家属性表!$Q:$Z,M$1,FALSE)","v":233540},{"$f":"VLOOKUP($K80,[1]关卡对应玩家属性表!$Q:$Z,N$1,FALSE)","v":37348},{"$f":"VLOOKUP($K80,[1]关卡对应玩家属性表!$Q:$Z,O$1,FALSE)","v":3860},{"$f":"VLOOKUP($K80,[1]关卡对应玩家属性表!$Q:$Z,P$1,FALSE)","v":3860}]
[{"$nulls":9},14,570000,{"$f":"VLOOKUP($K81,[1]关卡对应玩家属性表!$Q:$Z,L$1,FALSE)","v":81},{"$f":"VLOOKUP($K81,[1]关卡对应玩家属性表!$Q:$Z,M$1,FALSE)","v":233540},{"$f":"VLOOKUP($K81,[1]关卡对应玩家属性表!$Q:$Z,N$1,FALSE)","v":37348},{"$f":"VLOOKUP($K81,[1]关卡对应玩家属性表!$Q:$Z,O$1,FALSE)","v":3860},{"$f":"VLOOKUP($K81,[1]关卡对应玩家属性表!$Q:$Z,P$1,FALSE)","v":3860}]
[{"$nulls":9},14,570000,{"$f":"VLOOKUP($K82,[1]关卡对应玩家属性表!$Q:$Z,L$1,FALSE)","v":81},{"$f":"VLOOKUP($K82,[1]关卡对应玩家属性表!$Q:$Z,M$1,FALSE)","v":233540},{"$f":"VLOOKUP($K82,[1]关卡对应玩家属性表!$Q:$Z,N$1,FALSE)","v":37348},{"$f":"VLOOKUP($K82,[1]关卡对应玩家属性表!$Q:$Z,O$1,FALSE)","v":3860},{"$f":"VLOOKUP($K82,[1]关卡对应玩家属性表!$Q:$Z,P$1,FALSE)","v":3860}]
[{"$nulls":9},14,570000,{"$f":"VLOOKUP($K83,[1]关卡对应玩家属性表!$Q:$Z,L$1,FALSE)","v":81},{"$f":"VLOOKUP($K83,[1]关卡对应玩家属性表!$Q:$Z,M$1,FALSE)","v":233540},{"$f":"VLOOKUP($K83,[1]关卡对应玩家属性表!$Q:$Z,N$1,FALSE)","v":37348},{"$f":"VLOOKUP($K83,[1]关卡对应玩家属性表!$Q:$Z,O$1,FALSE)","v":3860},{"$f":"VLOOKUP($K83,[1]关卡对应玩家属性表!$Q:$Z,P$1,FALSE)","v":3860}]
[{"$nulls":9},14,570000,{"$f":"VLOOKUP($K84,[1]关卡对应玩家属性表!$Q:$Z,L$1,FALSE)","v":81},{"$f":"VLOOKUP($K84,[1]关卡对应玩家属性表!$Q:$Z,M$1,FALSE)","v":233540},{"$f":"VLOOKUP($K84,[1]关卡对应玩家属性表!$Q:$Z,N$1,FALSE)","v":37348},{"$f":"VLOOKUP($K84,[1]关卡对应玩家属性表!$Q:$Z,O$1,FALSE)","v":3860},{"$f":"VLOOKUP($K84,[1]关卡对应玩家属性表!$Q:$Z,P$1,FALSE)","v":3860}]
[{"$nulls":9},14,570000,{"$f":"VLOOKUP($K85,[1]关卡对应玩家属性表!$Q:$Z,L$1,FALSE)","v":81},{"$f":"VLOOKUP($K85,[1]关卡对应玩家属性表!$Q:$Z,M$1,FALSE)","v":233540},{"$f":"VLOOKUP($K85,[1]关卡对应玩家属性表!$Q:$Z,N$1,FALSE)","v":37348},{"$f":"VLOOKUP($K85,[1]关卡对应玩家属性表!$Q:$Z,O$1,FALSE)","v":3860},{"$f":"VLOOKUP($K85,[1]关卡对应玩家属性表!$Q:$Z,P$1,FALSE)","v":3860}]
[{"$nulls":9},15,1063000,{"$f":"VLOOKUP($K86,[1]关卡对应玩家属性表!$Q:$Z,L$1,FALSE)","v":102},{"$f":"VLOOKUP($K86,[1]关卡对应玩家属性表!$Q:$Z,M$1,FALSE)","v":451394},{"$f":"VLOOKUP($K86,[1]关卡对应玩家属性表!$Q:$Z,N$1,FALSE)","v":70614},{"$f":"VLOOKUP($K86,[1]关卡对应玩家属性表!$Q:$Z,O$1,FALSE)","v":6371},{"$f":"VLOOKUP($K86,[1]关卡对应玩家属性表!$Q:$Z,P$1,FALSE)","v":6371}]
[{"$nulls":9},15,1063000,{"$f":"VLOOKUP($K87,[1]关卡对应玩家属性表!$Q:$Z,L$1,FALSE)","v":102},{"$f":"VLOOKUP($K87,[1]关卡对应玩家属性表!$Q:$Z,M$1,FALSE)","v":451394},{"$f":"VLOOKUP($K87,[1]关卡对应玩家属性表!$Q:$Z,N$1,FALSE)","v":70614},{"$f":"VLOOKUP($K87,[1]关卡对应玩家属性表!$Q:$Z,O$1,FALSE)","v":6371},{"$f":"VLOOKUP($K87,[1]关卡对应玩家属性表!$Q:$Z,P$1,FALSE)","v":6371}]
[{"$nulls":9},15,1063000,{"$f":"VLOOKUP($K88,[1]关卡对应玩家属性表!$Q:$Z,L$1,FALSE)","v":102},{"$f":"VLOOKUP($K88,[1]关卡对应玩家属性表!$Q:$Z,M$1,FALSE)","v":451394},{"$f":"VLOOKUP($K88,[1]关卡对应玩家属性表!$Q:$Z,N$1,FALSE)","v":70614},{"$f":"VLOOKUP($K88,[1]关卡对应玩家属性表!$Q:$Z,O$1,FALSE)","v":6371},{"$f":"VLOOKUP($K88,[1]关卡对应玩家属性表!$Q:$Z,P$1,FALSE)","v":6371}]
[{"$nulls":9},15,1063000,{"$f":"VLOOKUP($K89,[1]关卡对应玩家属性表!$Q:$Z,L$1,FALSE)","v":102},{"$f":"VLOOKUP($K89,[1]关卡对应玩家属性表!$Q:$Z,M$1,FALSE)","v":451394},{"$f":"VLOOKUP($K89,[1]关卡对应玩家属性表!$Q:$Z,N$1,FALSE)","v":70614},{"$f":"VLOOKUP($K89,[1]关卡对应玩家属性表!$Q:$Z,O$1,FALSE)","v":6371},{"$f":"VLOOKUP($K89,[1]关卡对应玩家属性表!$Q:$Z,P$1,FALSE)","v":6371}]
[{"$nulls":9},15,1063000,{"$f":"VLOOKUP($K90,[1]关卡对应玩家属性表!$Q:$Z,L$1,FALSE)","v":102},{"$f":"VLOOKUP($K90,[1]关卡对应玩家属性表!$Q:$Z,M$1,FALSE)","v":451394},{"$f":"VLOOKUP($K90,[1]关卡对应玩家属性表!$Q:$Z,N$1,FALSE)","v":70614},{"$f":"VLOOKUP($K90,[1]关卡对应玩家属性表!$Q:$Z,O$1,FALSE)","v":6371},{"$f":"VLOOKUP($K90,[1]关卡对应玩家属性表!$Q:$Z,P$1,FALSE)","v":6371}]
[{"$nulls":9},15,1063000,{"$f":"VLOOKUP($K91,[1]关卡对应玩家属性表!$Q:$Z,L$1,FALSE)","v":102},{"$f":"VLOOKUP($K91,[1]关卡对应玩家属性表!$Q:$Z,M$1,FALSE)","v":451394},{"$f":"VLOOKUP($K91,[1]关卡对应玩家属性表!$Q:$Z,N$1,FALSE)","v":70614},{"$f":"VLOOKUP($K91,[1]关卡对应玩家属性表!$Q:$Z,O$1,FALSE)","v":6371},{"$f":"VLOOKUP($K91,[1]关卡对应玩家属性表!$Q:$Z,P$1,FALSE)","v":6371}]
[{"$nulls":9},16,1670000,{"$f":"VLOOKUP($K92,[1]关卡对应玩家属性表!$Q:$Z,L$1,FALSE)","v":119},{"$f":"VLOOKUP($K92,[1]关卡对应玩家属性表!$Q:$Z,M$1,FALSE)","v":739142},{"$f":"VLOOKUP($K92,[1]关卡对应玩家属性表!$Q:$Z,N$1,FALSE)","v":118882},{"$f":"VLOOKUP($K92,[1]关卡对应玩家属性表!$Q:$Z,O$1,FALSE)","v":6847},{"$f":"VLOOKUP($K92,[1]关卡对应玩家属性表!$Q:$Z,P$1,FALSE)","v":6847}]
[{"$nulls":9},16,1670000,{"$f":"VLOOKUP($K93,[1]关卡对应玩家属性表!$Q:$Z,L$1,FALSE)","v":119},{"$f":"VLOOKUP($K93,[1]关卡对应玩家属性表!$Q:$Z,M$1,FALSE)","v":739142},{"$f":"VLOOKUP($K93,[1]关卡对应玩家属性表!$Q:$Z,N$1,FALSE)","v":118882},{"$f":"VLOOKUP($K93,[1]关卡对应玩家属性表!$Q:$Z,O$1,FALSE)","v":6847},{"$f":"VLOOKUP($K93,[1]关卡对应玩家属性表!$Q:$Z,P$1,FALSE)","v":6847}]
[{"$nulls":9},16,1670000,{"$f":"VLOOKUP($K94,[1]关卡对应玩家属性表!$Q:$Z,L$1,FALSE)","v":119},{"$f":"VLOOKUP($K94,[1]关卡对应玩家属性表!$Q:$Z,M$1,FALSE)","v":739142},{"$f":"VLOOKUP($K94,[1]关卡对应玩家属性表!$Q:$Z,N$1,FALSE)","v":118882},{"$f":"VLOOKUP($K94,[1]关卡对应玩家属性表!$Q:$Z,O$1,FALSE)","v":6847},{"$f":"VLOOKUP($K94,[1]关卡对应玩家属性表!$Q:$Z,P$1,FALSE)","v":6847}]
[{"$nulls":9},16,1670000,{"$f":"VLOOKUP($K95,[1]关卡对应玩家属性表!$Q:$Z,L$1,FALSE)","v":119},{"$f":"VLOOKUP($K95,[1]关卡对应玩家属性表!$Q:$Z,M$1,FALSE)","v":739142},{"$f":"VLOOKUP($K95,[1]关卡对应玩家属性表!$Q:$Z,N$1,FALSE)","v":118882},{"$f":"VLOOKUP($K95,[1]关卡对应玩家属性表!$Q:$Z,O$1,FALSE)","v":6847},{"$f":"VLOOKUP($K95,[1]关卡对应玩家属性表!$Q:$Z,P$1,FALSE)","v":6847}]
[{"$nulls":9},16,1670000,{"$f":"VLOOKUP($K96,[1]关卡对应玩家属性表!$Q:$Z,L$1,FALSE)","v":119},{"$f":"VLOOKUP($K96,[1]关卡对应玩家属性表!$Q:$Z,M$1,FALSE)","v":739142},{"$f":"VLOOKUP($K96,[1]关卡对应玩家属性表!$Q:$Z,N$1,FALSE)","v":118882},{"$f":"VLOOKUP($K96,[1]关卡对应玩家属性表!$Q:$Z,O$1,FALSE)","v":6847},{"$f":"VLOOKUP($K96,[1]关卡对应玩家属性表!$Q:$Z,P$1,FALSE)","v":6847}]
[{"$nulls":9},16,1670000,{"$f":"VLOOKUP($K97,[1]关卡对应玩家属性表!$Q:$Z,L$1,FALSE)","v":119},{"$f":"VLOOKUP($K97,[1]关卡对应玩家属性表!$Q:$Z,M$1,FALSE)","v":739142},{"$f":"VLOOKUP($K97,[1]关卡对应玩家属性表!$Q:$Z,N$1,FALSE)","v":118882},{"$f":"VLOOKUP($K97,[1]关卡对应玩家属性表!$Q:$Z,O$1,FALSE)","v":6847},{"$f":"VLOOKUP($K97,[1]关卡对应玩家属性表!$Q:$Z,P$1,FALSE)","v":6847}]
[{"$nulls":9},17,2070000,{"$f":"VLOOKUP($K98,[1]关卡对应玩家属性表!$Q:$Z,L$1,FALSE)","v":152},{"$f":"VLOOKUP($K98,[1]关卡对应玩家属性表!$Q:$Z,M$1,FALSE)","v":929968},{"$f":"VLOOKUP($K98,[1]关卡对应玩家属性表!$Q:$Z,N$1,FALSE)","v":147812},{"$f":"VLOOKUP($K98,[1]关卡对应玩家属性表!$Q:$Z,O$1,FALSE)","v":7819},{"$f":"VLOOKUP($K98,[1]关卡对应玩家属性表!$Q:$Z,P$1,FALSE)","v":7819}]
[{"$nulls":9},17,2070000,{"$f":"VLOOKUP($K99,[1]关卡对应玩家属性表!$Q:$Z,L$1,FALSE)","v":152},{"$f":"VLOOKUP($K99,[1]关卡对应玩家属性表!$Q:$Z,M$1,FALSE)","v":929968},{"$f":"VLOOKUP($K99,[1]关卡对应玩家属性表!$Q:$Z,N$1,FALSE)","v":147812},{"$f":"VLOOKUP($K99,[1]关卡对应玩家属性表!$Q:$Z,O$1,FALSE)","v":7819},{"$f":"VLOOKUP($K99,[1]关卡对应玩家属性表!$Q:$Z,P$1,FALSE)","v":7819}]
[{"$nulls":9},17,2070000,{"$f":"VLOOKUP($K100,[1]关卡对应玩家属性表!$Q:$Z,L$1,FALSE)","v":152},{"$f":"VLOOKUP($K100,[1]关卡对应玩家属性表!$Q:$Z,M$1,FALSE)","v":929968},{"$f":"VLOOKUP($K100,[1]关卡对应玩家属性表!$Q:$Z,N$1,FALSE)","v":147812},{"$f":"VLOOKUP($K100,[1]关卡对应玩家属性表!$Q:$Z,O$1,FALSE)","v":7819},{"$f":"VLOOKUP($K100,[1]关卡对应玩家属性表!$Q:$Z,P$1,FALSE)","v":7819}]
[{"$nulls":9},17,2070000,{"$f":"VLOOKUP($K101,[1]关卡对应玩家属性表!$Q:$Z,L$1,FALSE)","v":152},{"$f":"VLOOKUP($K101,[1]关卡对应玩家属性表!$Q:$Z,M$1,FALSE)","v":929968},{"$f":"VLOOKUP($K101,[1]关卡对应玩家属性表!$Q:$Z,N$1,FALSE)","v":147812},{"$f":"VLOOKUP($K101,[1]关卡对应玩家属性表!$Q:$Z,O$1,FALSE)","v":7819},{"$f":"VLOOKUP($K101,[1]关卡对应玩家属性表!$Q:$Z,P$1,FALSE)","v":7819}]
[{"$nulls":9},17,2070000,{"$f":"VLOOKUP($K102,[1]关卡对应玩家属性表!$Q:$Z,L$1,FALSE)","v":152},{"$f":"VLOOKUP($K102,[1]关卡对应玩家属性表!$Q:$Z,M$1,FALSE)","v":929968},{"$f":"VLOOKUP($K102,[1]关卡对应玩家属性表!$Q:$Z,N$1,FALSE)","v":147812},{"$f":"VLOOKUP($K102,[1]关卡对应玩家属性表!$Q:$Z,O$1,FALSE)","v":7819},{"$f":"VLOOKUP($K102,[1]关卡对应玩家属性表!$Q:$Z,P$1,FALSE)","v":7819}]
[{"$nulls":9},17,2070000,{"$f":"VLOOKUP($K103,[1]关卡对应玩家属性表!$Q:$Z,L$1,FALSE)","v":152},{"$f":"VLOOKUP($K103,[1]关卡对应玩家属性表!$Q:$Z,M$1,FALSE)","v":929968},{"$f":"VLOOKUP($K103,[1]关卡对应玩家属性表!$Q:$Z,N$1,FALSE)","v":147812},{"$f":"VLOOKUP($K103,[1]关卡对应玩家属性表!$Q:$Z,O$1,FALSE)","v":7819},{"$f":"VLOOKUP($K103,[1]关卡对应玩家属性表!$Q:$Z,P$1,FALSE)","v":7819}]
[{"$nulls":9},18,2664000,{"$f":"VLOOKUP($K104,[1]关卡对应玩家属性表!$Q:$Z,L$1,FALSE)","v":185},{"$f":"VLOOKUP($K104,[1]关卡对应玩家属性表!$Q:$Z,M$1,FALSE)","v":1219288},{"$f":"VLOOKUP($K104,[1]关卡对应玩家属性表!$Q:$Z,N$1,FALSE)","v":191023},{"$f":"VLOOKUP($K104,[1]关卡对应玩家属性表!$Q:$Z,O$1,FALSE)","v":9004},{"$f":"VLOOKUP($K104,[1]关卡对应玩家属性表!$Q:$Z,P$1,FALSE)","v":9004}]
[{"$nulls":9},18,2664000,{"$f":"VLOOKUP($K105,[1]关卡对应玩家属性表!$Q:$Z,L$1,FALSE)","v":185},{"$f":"VLOOKUP($K105,[1]关卡对应玩家属性表!$Q:$Z,M$1,FALSE)","v":1219288},{"$f":"VLOOKUP($K105,[1]关卡对应玩家属性表!$Q:$Z,N$1,FALSE)","v":191023},{"$f":"VLOOKUP($K105,[1]关卡对应玩家属性表!$Q:$Z,O$1,FALSE)","v":9004},{"$f":"VLOOKUP($K105,[1]关卡对应玩家属性表!$Q:$Z,P$1,FALSE)","v":9004}]
[{"$nulls":9},18,2664000,{"$f":"VLOOKUP($K106,[1]关卡对应玩家属性表!$Q:$Z,L$1,FALSE)","v":185},{"$f":"VLOOKUP($K106,[1]关卡对应玩家属性表!$Q:$Z,M$1,FALSE)","v":1219288},{"$f":"VLOOKUP($K106,[1]关卡对应玩家属性表!$Q:$Z,N$1,FALSE)","v":191023},{"$f":"VLOOKUP($K106,[1]关卡对应玩家属性表!$Q:$Z,O$1,FALSE)","v":9004},{"$f":"VLOOKUP($K106,[1]关卡对应玩家属性表!$Q:$Z,P$1,FALSE)","v":9004}]
[{"$nulls":9},18,2664000,{"$f":"VLOOKUP($K107,[1]关卡对应玩家属性表!$Q:$Z,L$1,FALSE)","v":185},{"$f":"VLOOKUP($K107,[1]关卡对应玩家属性表!$Q:$Z,M$1,FALSE)","v":1219288},{"$f":"VLOOKUP($K107,[1]关卡对应玩家属性表!$Q:$Z,N$1,FALSE)","v":191023},{"$f":"VLOOKUP($K107,[1]关卡对应玩家属性表!$Q:$Z,O$1,FALSE)","v":9004},{"$f":"VLOOKUP($K107,[1]关卡对应玩家属性表!$Q:$Z,P$1,FALSE)","v":9004}]
[{"$nulls":9},18,2664000,{"$f":"VLOOKUP($K108,[1]关卡对应玩家属性表!$Q:$Z,L$1,FALSE)","v":185},{"$f":"VLOOKUP($K108,[1]关卡对应玩家属性表!$Q:$Z,M$1,FALSE)","v":1219288},{"$f":"VLOOKUP($K108,[1]关卡对应玩家属性表!$Q:$Z,N$1,FALSE)","v":191023},{"$f":"VLOOKUP($K108,[1]关卡对应玩家属性表!$Q:$Z,O$1,FALSE)","v":9004},{"$f":"VLOOKUP($K108,[1]关卡对应玩家属性表!$Q:$Z,P$1,FALSE)","v":9004}]
[{"$nulls":9},18,2664000,{"$f":"VLOOKUP($K109,[1]关卡对应玩家属性表!$Q:$Z,L$1,FALSE)","v":185},{"$f":"VLOOKUP($K109,[1]关卡对应玩家属性表!$Q:$Z,M$1,FALSE)","v":1219288},{"$f":"VLOOKUP($K109,[1]关卡对应玩家属性表!$Q:$Z,N$1,FALSE)","v":191023},{"$f":"VLOOKUP($K109,[1]关卡对应玩家属性表!$Q:$Z,O$1,FALSE)","v":9004},{"$f":"VLOOKUP($K109,[1]关卡对应玩家属性表!$Q:$Z,P$1,FALSE)","v":9004}]
[{"$nulls":9},19,12000,{"$f":"VLOOKUP($K110,[1]关卡对应玩家属性表!$Q:$Z,L$1,FALSE)","v":5},{"$f":"VLOOKUP($K110,[1]关卡对应玩家属性表!$Q:$Z,M$1,FALSE)","v":2268},{"$f":"VLOOKUP($K110,[1]关卡对应玩家属性表!$Q:$Z,N$1,FALSE)","v":486},{"$f":"VLOOKUP($K110,[1]关卡对应玩家属性表!$Q:$Z,O$1,FALSE)","v":162},{"$f":"VLOOKUP($K110,[1]关卡对应玩家属性表!$Q:$Z,P$1,FALSE)","v":162}]
[{"$nulls":9},19,12000,{"$f":"VLOOKUP($K111,[1]关卡对应玩家属性表!$Q:$Z,L$1,FALSE)","v":5},{"$f":"VLOOKUP($K111,[1]关卡对应玩家属性表!$Q:$Z,M$1,FALSE)","v":2268},{"$f":"VLOOKUP($K111,[1]关卡对应玩家属性表!$Q:$Z,N$1,FALSE)","v":486},{"$f":"VLOOKUP($K111,[1]关卡对应玩家属性表!$Q:$Z,O$1,FALSE)","v":162},{"$f":"VLOOKUP($K111,[1]关卡对应玩家属性表!$Q:$Z,P$1,FALSE)","v":162}]
[{"$nulls":9},19,12000,{"$f":"VLOOKUP($K112,[1]关卡对应玩家属性表!$Q:$Z,L$1,FALSE)","v":5},{"$f":"VLOOKUP($K112,[1]关卡对应玩家属性表!$Q:$Z,M$1,FALSE)","v":2268},{"$f":"VLOOKUP($K112,[1]关卡对应玩家属性表!$Q:$Z,N$1,FALSE)","v":486},{"$f":"VLOOKUP($K112,[1]关卡对应玩家属性表!$Q:$Z,O$1,FALSE)","v":162},{"$f":"VLOOKUP($K112,[1]关卡对应玩家属性表!$Q:$Z,P$1,FALSE)","v":162}]
[{"$nulls":9},19,12000,{"$f":"VLOOKUP($K113,[1]关卡对应玩家属性表!$Q:$Z,L$1,FALSE)","v":5},{"$f":"VLOOKUP($K113,[1]关卡对应玩家属性表!$Q:$Z,M$1,FALSE)","v":2268},{"$f":"VLOOKUP($K113,[1]关卡对应玩家属性表!$Q:$Z,N$1,FALSE)","v":486},{"$f":"VLOOKUP($K113,[1]关卡对应玩家属性表!$Q:$Z,O$1,FALSE)","v":162},{"$f":"VLOOKUP($K113,[1]关卡对应玩家属性表!$Q:$Z,P$1,FALSE)","v":162}]
[{"$nulls":9},19,12000,{"$f":"VLOOKUP($K114,[1]关卡对应玩家属性表!$Q:$Z,L$1,FALSE)","v":5},{"$f":"VLOOKUP($K114,[1]关卡对应玩家属性表!$Q:$Z,M$1,FALSE)","v":2268},{"$f":"VLOOKUP($K114,[1]关卡对应玩家属性表!$Q:$Z,N$1,FALSE)","v":486},{"$f":"VLOOKUP($K114,[1]关卡对应玩家属性表!$Q:$Z,O$1,FALSE)","v":162},{"$f":"VLOOKUP($K114,[1]关卡对应玩家属性表!$Q:$Z,P$1,FALSE)","v":162}]
[{"$nulls":9},19,12000,{"$f":"VLOOKUP($K115,[1]关卡对应玩家属性表!$Q:$Z,L$1,FALSE)","v":5},{"$f":"VLOOKUP($K115,[1]关卡对应玩家属性表!$Q:$Z,M$1,FALSE)","v":2268},{"$f":"VLOOKUP($K115,[1]关卡对应玩家属性表!$Q:$Z,N$1,FALSE)","v":486},{"$f":"VLOOKUP($K115,[1]关卡对应玩家属性表!$Q:$Z,O$1,FALSE)","v":162},{"$f":"VLOOKUP($K115,[1]关卡对应玩家属性表!$Q:$Z,P$1,FALSE)","v":162}]
[{"$nulls":9},20,59000,{"$f":"VLOOKUP($K116,[1]关卡对应玩家属性表!$Q:$Z,L$1,FALSE)","v":50},{"$f":"VLOOKUP($K116,[1]关卡对应玩家属性表!$Q:$Z,M$1,FALSE)","v":17888},{"$f":"VLOOKUP($K116,[1]关卡对应玩家属性表!$Q:$Z,N$1,FALSE)","v":3117},{"$f":"VLOOKUP($K116,[1]关卡对应玩家属性表!$Q:$Z,O$1,FALSE)","v":814},{"$f":"VLOOKUP($K116,[1]关卡对应玩家属性表!$Q:$Z,P$1,FALSE)","v":814}]
[{"$nulls":9},20,59000,{"$f":"VLOOKUP($K117,[1]关卡对应玩家属性表!$Q:$Z,L$1,FALSE)","v":50},{"$f":"VLOOKUP($K117,[1]关卡对应玩家属性表!$Q:$Z,M$1,FALSE)","v":17888},{"$f":"VLOOKUP($K117,[1]关卡对应玩家属性表!$Q:$Z,N$1,FALSE)","v":3117},{"$f":"VLOOKUP($K117,[1]关卡对应玩家属性表!$Q:$Z,O$1,FALSE)","v":814},{"$f":"VLOOKUP($K117,[1]关卡对应玩家属性表!$Q:$Z,P$1,FALSE)","v":814}]
[{"$nulls":9},20,59000,{"$f":"VLOOKUP($K118,[1]关卡对应玩家属性表!$Q:$Z,L$1,FALSE)","v":50},{"$f":"VLOOKUP($K118,[1]关卡对应玩家属性表!$Q:$Z,M$1,FALSE)","v":17888},{"$f":"VLOOKUP($K118,[1]关卡对应玩家属性表!$Q:$Z,N$1,FALSE)","v":3117},{"$f":"VLOOKUP($K118,[1]关卡对应玩家属性表!$Q:$Z,O$1,FALSE)","v":814},{"$f":"VLOOKUP($K118,[1]关卡对应玩家属性表!$Q:$Z,P$1,FALSE)","v":814}]
[{"$nulls":9},20,59000,{"$f":"VLOOKUP($K119,[1]关卡对应玩家属性表!$Q:$Z,L$1,FALSE)","v":50},{"$f":"VLOOKUP($K119,[1]关卡对应玩家属性表!$Q:$Z,M$1,FALSE)","v":17888},{"$f":"VLOOKUP($K119,[1]关卡对应玩家属性表!$Q:$Z,N$1,FALSE)","v":3117},{"$f":"VLOOKUP($K119,[1]关卡对应玩家属性表!$Q:$Z,O$1,FALSE)","v":814},{"$f":"VLOOKUP($K119,[1]关卡对应玩家属性表!$Q:$Z,P$1,FALSE)","v":814}]
[{"$nulls":9},20,59000,{"$f":"VLOOKUP($K120,[1]关卡对应玩家属性表!$Q:$Z,L$1,FALSE)","v":50},{"$f":"VLOOKUP($K120,[1]关卡对应玩家属性表!$Q:$Z,M$1,FALSE)","v":17888},{"$f":"VLOOKUP($K120,[1]关卡对应玩家属性表!$Q:$Z,N$1,FALSE)","v":3117},{"$f":"VLOOKUP($K120,[1]关卡对应玩家属性表!$Q:$Z,O$1,FALSE)","v":814},{"$f":"VLOOKUP($K120,[1]关卡对应玩家属性表!$Q:$Z,P$1,FALSE)","v":814}]
[{"$nulls":9},{"$f":"J115+1","v":20},59000,{"$f":"VLOOKUP($K121,[1]关卡对应玩家属性表!$Q:$Z,L$1,FALSE)","v":50},{"$f":"VLOOKUP($K121,[1]关卡对应玩家属性表!$Q:$Z,M$1,FALSE)","v":17888},{"$f":"VLOOKUP($K121,[1]关卡对应玩家属性表!$Q:$Z,N$1,FALSE)","v":3117},{"$f":"VLOOKUP($K121,[1]关卡对应玩家属性表!$Q:$Z,O$1,FALSE)","v":814},{"$f":"VLOOKUP($K121,[1]关卡对应玩家属性表!$Q:$Z,P$1,FALSE)","v":814}]
[{"$nulls":9},{"$f":"J116+1","v":21},113000,{"$f":"VLOOKUP($K122,[1]关卡对应玩家属性表!$Q:$Z,L$1,FALSE)","v":60},{"$f":"VLOOKUP($K122,[1]关卡对应玩家属性表!$Q:$Z,M$1,FALSE)","v":36548},{"$f":"VLOOKUP($K122,[1]关卡对应玩家属性表!$Q:$Z,N$1,FALSE)","v":6242},{"$f":"VLOOKUP($K122,[1]关卡对应玩家属性表!$Q:$Z,O$1,FALSE)","v":1418},{"$f":"VLOOKUP($K122,[1]关卡对应玩家属性表!$Q:$Z,P$1,FALSE)","v":1418}]
[{"$nulls":9},21,113000,{"$f":"VLOOKUP($K123,[1]关卡对应玩家属性表!$Q:$Z,L$1,FALSE)","v":60},{"$f":"VLOOKUP($K123,[1]关卡对应玩家属性表!$Q:$Z,M$1,FALSE)","v":36548},{"$f":"VLOOKUP($K123,[1]关卡对应玩家属性表!$Q:$Z,N$1,FALSE)","v":6242},{"$f":"VLOOKUP($K123,[1]关卡对应玩家属性表!$Q:$Z,O$1,FALSE)","v":1418},{"$f":"VLOOKUP($K123,[1]关卡对应玩家属性表!$Q:$Z,P$1,FALSE)","v":1418}]
[{"$nulls":9},21,113000,{"$f":"VLOOKUP($K124,[1]关卡对应玩家属性表!$Q:$Z,L$1,FALSE)","v":60},{"$f":"VLOOKUP($K124,[1]关卡对应玩家属性表!$Q:$Z,M$1,FALSE)","v":36548},{"$f":"VLOOKUP($K124,[1]关卡对应玩家属性表!$Q:$Z,N$1,FALSE)","v":6242},{"$f":"VLOOKUP($K124,[1]关卡对应玩家属性表!$Q:$Z,O$1,FALSE)","v":1418},{"$f":"VLOOKUP($K124,[1]关卡对应玩家属性表!$Q:$Z,P$1,FALSE)","v":1418}]
[{"$nulls":9},21,113000,{"$f":"VLOOKUP($K125,[1]关卡对应玩家属性表!$Q:$Z,L$1,FALSE)","v":60},{"$f":"VLOOKUP($K125,[1]关卡对应玩家属性表!$Q:$Z,M$1,FALSE)","v":36548},{"$f":"VLOOKUP($K125,[1]关卡对应玩家属性表!$Q:$Z,N$1,FALSE)","v":6242},{"$f":"VLOOKUP($K125,[1]关卡对应玩家属性表!$Q:$Z,O$1,FALSE)","v":1418},{"$f":"VLOOKUP($K125,[1]关卡对应玩家属性表!$Q:$Z,P$1,FALSE)","v":1418}]
[{"$nulls":9},21,113000,{"$f":"VLOOKUP($K126,[1]关卡对应玩家属性表!$Q:$Z,L$1,FALSE)","v":60},{"$f":"VLOOKUP($K126,[1]关卡对应玩家属性表!$Q:$Z,M$1,FALSE)","v":36548},{"$f":"VLOOKUP($K126,[1]关卡对应玩家属性表!$Q:$Z,N$1,FALSE)","v":6242},{"$f":"VLOOKUP($K126,[1]关卡对应玩家属性表!$Q:$Z,O$1,FALSE)","v":1418},{"$f":"VLOOKUP($K126,[1]关卡对应玩家属性表!$Q:$Z,P$1,FALSE)","v":1418}]
[{"$nulls":9},21,113000,{"$f":"VLOOKUP($K127,[1]关卡对应玩家属性表!$Q:$Z,L$1,FALSE)","v":60},{"$f":"VLOOKUP($K127,[1]关卡对应玩家属性表!$Q:$Z,M$1,FALSE)","v":36548},{"$f":"VLOOKUP($K127,[1]关卡对应玩家属性表!$Q:$Z,N$1,FALSE)","v":6242},{"$f":"VLOOKUP($K127,[1]关卡对应玩家属性表!$Q:$Z,O$1,FALSE)","v":1418},{"$f":"VLOOKUP($K127,[1]关卡对应玩家属性表!$Q:$Z,P$1,FALSE)","v":1418}]
[{"$nulls":9},22,307000,{"$f":"VLOOKUP($K128,[1]关卡对应玩家属性表!$Q:$Z,L$1,FALSE)","v":78},{"$f":"VLOOKUP($K128,[1]关卡对应玩家属性表!$Q:$Z,M$1,FALSE)","v":117974},{"$f":"VLOOKUP($K128,[1]关卡对应玩家属性表!$Q:$Z,N$1,FALSE)","v":19514},{"$f":"VLOOKUP($K128,[1]关卡对应玩家属性表!$Q:$Z,O$1,FALSE)","v":2546},{"$f":"VLOOKUP($K128,[1]关卡对应玩家属性表!$Q:$Z,P$1,FALSE)","v":2546}]
[{"$nulls":9},22,307000,{"$f":"VLOOKUP($K129,[1]关卡对应玩家属性表!$Q:$Z,L$1,FALSE)","v":78},{"$f":"VLOOKUP($K129,[1]关卡对应玩家属性表!$Q:$Z,M$1,FALSE)","v":117974},{"$f":"VLOOKUP($K129,[1]关卡对应玩家属性表!$Q:$Z,N$1,FALSE)","v":19514},{"$f":"VLOOKUP($K129,[1]关卡对应玩家属性表!$Q:$Z,O$1,FALSE)","v":2546},{"$f":"VLOOKUP($K129,[1]关卡对应玩家属性表!$Q:$Z,P$1,FALSE)","v":2546}]
[{"$nulls":9},22,307000,{"$f":"VLOOKUP($K130,[1]关卡对应玩家属性表!$Q:$Z,L$1,FALSE)","v":78},{"$f":"VLOOKUP($K130,[1]关卡对应玩家属性表!$Q:$Z,M$1,FALSE)","v":117974},{"$f":"VLOOKUP($K130,[1]关卡对应玩家属性表!$Q:$Z,N$1,FALSE)","v":19514},{"$f":"VLOOKUP($K130,[1]关卡对应玩家属性表!$Q:$Z,O$1,FALSE)","v":2546},{"$f":"VLOOKUP($K130,[1]关卡对应玩家属性表!$Q:$Z,P$1,FALSE)","v":2546}]
[{"$nulls":9},22,{"$f":"VLOOKUP(J131,$A:$B,2,FALSE)","v":307000},{"$f":"VLOOKUP($K131,[1]关卡对应玩家属性表!$Q:$Z,L$1,FALSE)","v":78},{"$f":"VLOOKUP($K131,[1]关卡对应玩家属性表!$Q:$Z,M$1,FALSE)","v":117974},{"$f":"VLOOKUP($K131,[1]关卡对应玩家属性表!$Q:$Z,N$1,FALSE)","v":19514},{"$f":"VLOOKUP($K131,[1]关卡对应玩家属性表!$Q:$Z,O$1,FALSE)","v":2546},{"$f":"VLOOKUP($K131,[1]关卡对应玩家属性表!$Q:$Z,P$1,FALSE)","v":2546}]
[{"$nulls":9},22,307000,{"$f":"VLOOKUP($K132,[1]关卡对应玩家属性表!$Q:$Z,L$1,FALSE)","v":78},{"$f":"VLOOKUP($K132,[1]关卡对应玩家属性表!$Q:$Z,M$1,FALSE)","v":117974},{"$f":"VLOOKUP($K132,[1]关卡对应玩家属性表!$Q:$Z,N$1,FALSE)","v":19514},{"$f":"VLOOKUP($K132,[1]关卡对应玩家属性表!$Q:$Z,O$1,FALSE)","v":2546},{"$f":"VLOOKUP($K132,[1]关卡对应玩家属性表!$Q:$Z,P$1,FALSE)","v":2546}]
[{"$nulls":9},22,307000,{"$f":"VLOOKUP($K133,[1]关卡对应玩家属性表!$Q:$Z,L$1,FALSE)","v":78},{"$f":"VLOOKUP($K133,[1]关卡对应玩家属性表!$Q:$Z,M$1,FALSE)","v":117974},{"$f":"VLOOKUP($K133,[1]关卡对应玩家属性表!$Q:$Z,N$1,FALSE)","v":19514},{"$f":"VLOOKUP($K133,[1]关卡对应玩家属性表!$Q:$Z,O$1,FALSE)","v":2546},{"$f":"VLOOKUP($K133,[1]关卡对应玩家属性表!$Q:$Z,P$1,FALSE)","v":2546}]
[{"$nulls":9},23,590000,{"$f":"VLOOKUP($K134,[1]关卡对应玩家属性表!$Q:$Z,L$1,FALSE)","v":88},{"$f":"VLOOKUP($K134,[1]关卡对应玩家属性表!$Q:$Z,M$1,FALSE)","v":241826},{"$f":"VLOOKUP($K134,[1]关卡对应玩家属性表!$Q:$Z,N$1,FALSE)","v":38673},{"$f":"VLOOKUP($K134,[1]关卡对应玩家属性表!$Q:$Z,O$1,FALSE)","v":3995},{"$f":"VLOOKUP($K134,[1]关卡对应玩家属性表!$Q:$Z,P$1,FALSE)","v":3995}]
[{"$nulls":9},23,590000,{"$f":"VLOOKUP($K135,[1]关卡对应玩家属性表!$Q:$Z,L$1,FALSE)","v":88},{"$f":"VLOOKUP($K135,[1]关卡对应玩家属性表!$Q:$Z,M$1,FALSE)","v":241826},{"$f":"VLOOKUP($K135,[1]关卡对应玩家属性表!$Q:$Z,N$1,FALSE)","v":38673},{"$f":"VLOOKUP($K135,[1]关卡对应玩家属性表!$Q:$Z,O$1,FALSE)","v":3995},{"$f":"VLOOKUP($K135,[1]关卡对应玩家属性表!$Q:$Z,P$1,FALSE)","v":3995}]
[{"$nulls":9},23,590000,{"$f":"VLOOKUP($K136,[1]关卡对应玩家属性表!$Q:$Z,L$1,FALSE)","v":88},{"$f":"VLOOKUP($K136,[1]关卡对应玩家属性表!$Q:$Z,M$1,FALSE)","v":241826},{"$f":"VLOOKUP($K136,[1]关卡对应玩家属性表!$Q:$Z,N$1,FALSE)","v":38673},{"$f":"VLOOKUP($K136,[1]关卡对应玩家属性表!$Q:$Z,O$1,FALSE)","v":3995},{"$f":"VLOOKUP($K136,[1]关卡对应玩家属性表!$Q:$Z,P$1,FALSE)","v":3995}]
[{"$nulls":9},23,590000,{"$f":"VLOOKUP($K137,[1]关卡对应玩家属性表!$Q:$Z,L$1,FALSE)","v":88},{"$f":"VLOOKUP($K137,[1]关卡对应玩家属性表!$Q:$Z,M$1,FALSE)","v":241826},{"$f":"VLOOKUP($K137,[1]关卡对应玩家属性表!$Q:$Z,N$1,FALSE)","v":38673},{"$f":"VLOOKUP($K137,[1]关卡对应玩家属性表!$Q:$Z,O$1,FALSE)","v":3995},{"$f":"VLOOKUP($K137,[1]关卡对应玩家属性表!$Q:$Z,P$1,FALSE)","v":3995}]
[{"$nulls":9},23,590000,{"$f":"VLOOKUP($K138,[1]关卡对应玩家属性表!$Q:$Z,L$1,FALSE)","v":88},{"$f":"VLOOKUP($K138,[1]关卡对应玩家属性表!$Q:$Z,M$1,FALSE)","v":241826},{"$f":"VLOOKUP($K138,[1]关卡对应玩家属性表!$Q:$Z,N$1,FALSE)","v":38673},{"$f":"VLOOKUP($K138,[1]关卡对应玩家属性表!$Q:$Z,O$1,FALSE)","v":3995},{"$f":"VLOOKUP($K138,[1]关卡对应玩家属性表!$Q:$Z,P$1,FALSE)","v":3995}]
[{"$nulls":9},23,590000,{"$f":"VLOOKUP($K139,[1]关卡对应玩家属性表!$Q:$Z,L$1,FALSE)","v":88},{"$f":"VLOOKUP($K139,[1]关卡对应玩家属性表!$Q:$Z,M$1,FALSE)","v":241826},{"$f":"VLOOKUP($K139,[1]关卡对应玩家属性表!$Q:$Z,N$1,FALSE)","v":38673},{"$f":"VLOOKUP($K139,[1]关卡对应玩家属性表!$Q:$Z,O$1,FALSE)","v":3995},{"$f":"VLOOKUP($K139,[1]关卡对应玩家属性表!$Q:$Z,P$1,FALSE)","v":3995}]
[{"$nulls":9},24,1075000,{"$f":"VLOOKUP($K140,[1]关卡对应玩家属性表!$Q:$Z,L$1,FALSE)","v":105},{"$f":"VLOOKUP($K140,[1]关卡对应玩家属性表!$Q:$Z,M$1,FALSE)","v":456320},{"$f":"VLOOKUP($K140,[1]关卡对应玩家属性表!$Q:$Z,N$1,FALSE)","v":71385},{"$f":"VLOOKUP($K140,[1]关卡对应玩家属性表!$Q:$Z,O$1,FALSE)","v":6440},{"$f":"VLOOKUP($K140,[1]关卡对应玩家属性表!$Q:$Z,P$1,FALSE)","v":6440}]
[{"$nulls":9},24,1075000,{"$f":"VLOOKUP($K141,[1]关卡对应玩家属性表!$Q:$Z,L$1,FALSE)","v":105},{"$f":"VLOOKUP($K141,[1]关卡对应玩家属性表!$Q:$Z,M$1,FALSE)","v":456320},{"$f":"VLOOKUP($K141,[1]关卡对应玩家属性表!$Q:$Z,N$1,FALSE)","v":71385},{"$f":"VLOOKUP($K141,[1]关卡对应玩家属性表!$Q:$Z,O$1,FALSE)","v":6440},{"$f":"VLOOKUP($K141,[1]关卡对应玩家属性表!$Q:$Z,P$1,FALSE)","v":6440}]
[{"$nulls":9},24,1075000,{"$f":"VLOOKUP($K142,[1]关卡对应玩家属性表!$Q:$Z,L$1,FALSE)","v":105},{"$f":"VLOOKUP($K142,[1]关卡对应玩家属性表!$Q:$Z,M$1,FALSE)","v":456320},{"$f":"VLOOKUP($K142,[1]关卡对应玩家属性表!$Q:$Z,N$1,FALSE)","v":71385},{"$f":"VLOOKUP($K142,[1]关卡对应玩家属性表!$Q:$Z,O$1,FALSE)","v":6440},{"$f":"VLOOKUP($K142,[1]关卡对应玩家属性表!$Q:$Z,P$1,FALSE)","v":6440}]
[{"$nulls":9},24,1075000,{"$f":"VLOOKUP($K143,[1]关卡对应玩家属性表!$Q:$Z,L$1,FALSE)","v":105},{"$f":"VLOOKUP($K143,[1]关卡对应玩家属性表!$Q:$Z,M$1,FALSE)","v":456320},{"$f":"VLOOKUP($K143,[1]关卡对应玩家属性表!$Q:$Z,N$1,FALSE)","v":71385},{"$f":"VLOOKUP($K143,[1]关卡对应玩家属性表!$Q:$Z,O$1,FALSE)","v":6440},{"$f":"VLOOKUP($K143,[1]关卡对应玩家属性表!$Q:$Z,P$1,FALSE)","v":6440}]
[{"$nulls":9},24,1075000,{"$f":"VLOOKUP($K144,[1]关卡对应玩家属性表!$Q:$Z,L$1,FALSE)","v":105},{"$f":"VLOOKUP($K144,[1]关卡对应玩家属性表!$Q:$Z,M$1,FALSE)","v":456320},{"$f":"VLOOKUP($K144,[1]关卡对应玩家属性表!$Q:$Z,N$1,FALSE)","v":71385},{"$f":"VLOOKUP($K144,[1]关卡对应玩家属性表!$Q:$Z,O$1,FALSE)","v":6440},{"$f":"VLOOKUP($K144,[1]关卡对应玩家属性表!$Q:$Z,P$1,FALSE)","v":6440}]
[{"$nulls":9},24,1075000,{"$f":"VLOOKUP($K145,[1]关卡对应玩家属性表!$Q:$Z,L$1,FALSE)","v":105},{"$f":"VLOOKUP($K145,[1]关卡对应玩家属性表!$Q:$Z,M$1,FALSE)","v":456320},{"$f":"VLOOKUP($K145,[1]关卡对应玩家属性表!$Q:$Z,N$1,FALSE)","v":71385},{"$f":"VLOOKUP($K145,[1]关卡对应玩家属性表!$Q:$Z,O$1,FALSE)","v":6440},{"$f":"VLOOKUP($K145,[1]关卡对应玩家属性表!$Q:$Z,P$1,FALSE)","v":6440}]
[{"$nulls":9},25,1689000,{"$f":"VLOOKUP($K146,[1]关卡对应玩家属性表!$Q:$Z,L$1,FALSE)","v":122},{"$f":"VLOOKUP($K146,[1]关卡对应玩家属性表!$Q:$Z,M$1,FALSE)","v":747778},{"$f":"VLOOKUP($K146,[1]关卡对应玩家属性表!$Q:$Z,N$1,FALSE)","v":120273},{"$f":"VLOOKUP($K146,[1]关卡对应玩家属性表!$Q:$Z,O$1,FALSE)","v":6925},{"$f":"VLOOKUP($K146,[1]关卡对应玩家属性表!$Q:$Z,P$1,FALSE)","v":6925}]
[{"$nulls":9},25,1689000,{"$f":"VLOOKUP($K147,[1]关卡对应玩家属性表!$Q:$Z,L$1,FALSE)","v":122},{"$f":"VLOOKUP($K147,[1]关卡对应玩家属性表!$Q:$Z,M$1,FALSE)","v":747778},{"$f":"VLOOKUP($K147,[1]关卡对应玩家属性表!$Q:$Z,N$1,FALSE)","v":120273},{"$f":"VLOOKUP($K147,[1]关卡对应玩家属性表!$Q:$Z,O$1,FALSE)","v":6925},{"$f":"VLOOKUP($K147,[1]关卡对应玩家属性表!$Q:$Z,P$1,FALSE)","v":6925}]
[{"$nulls":9},25,1689000,{"$f":"VLOOKUP($K148,[1]关卡对应玩家属性表!$Q:$Z,L$1,FALSE)","v":122},{"$f":"VLOOKUP($K148,[1]关卡对应玩家属性表!$Q:$Z,M$1,FALSE)","v":747778},{"$f":"VLOOKUP($K148,[1]关卡对应玩家属性表!$Q:$Z,N$1,FALSE)","v":120273},{"$f":"VLOOKUP($K148,[1]关卡对应玩家属性表!$Q:$Z,O$1,FALSE)","v":6925},{"$f":"VLOOKUP($K148,[1]关卡对应玩家属性表!$Q:$Z,P$1,FALSE)","v":6925}]
[{"$nulls":9},25,1689000,{"$f":"VLOOKUP($K149,[1]关卡对应玩家属性表!$Q:$Z,L$1,FALSE)","v":122},{"$f":"VLOOKUP($K149,[1]关卡对应玩家属性表!$Q:$Z,M$1,FALSE)","v":747778},{"$f":"VLOOKUP($K149,[1]关卡对应玩家属性表!$Q:$Z,N$1,FALSE)","v":120273},{"$f":"VLOOKUP($K149,[1]关卡对应玩家属性表!$Q:$Z,O$1,FALSE)","v":6925},{"$f":"VLOOKUP($K149,[1]关卡对应玩家属性表!$Q:$Z,P$1,FALSE)","v":6925}]
[{"$nulls":9},25,1689000,{"$f":"VLOOKUP($K150,[1]关卡对应玩家属性表!$Q:$Z,L$1,FALSE)","v":122},{"$f":"VLOOKUP($K150,[1]关卡对应玩家属性表!$Q:$Z,M$1,FALSE)","v":747778},{"$f":"VLOOKUP($K150,[1]关卡对应玩家属性表!$Q:$Z,N$1,FALSE)","v":120273},{"$f":"VLOOKUP($K150,[1]关卡对应玩家属性表!$Q:$Z,O$1,FALSE)","v":6925},{"$f":"VLOOKUP($K150,[1]关卡对应玩家属性表!$Q:$Z,P$1,FALSE)","v":6925}]
[{"$nulls":9},25,1689000,{"$f":"VLOOKUP($K151,[1]关卡对应玩家属性表!$Q:$Z,L$1,FALSE)","v":122},{"$f":"VLOOKUP($K151,[1]关卡对应玩家属性表!$Q:$Z,M$1,FALSE)","v":747778},{"$f":"VLOOKUP($K151,[1]关卡对应玩家属性表!$Q:$Z,N$1,FALSE)","v":120273},{"$f":"VLOOKUP($K151,[1]关卡对应玩家属性表!$Q:$Z,O$1,FALSE)","v":6925},{"$f":"VLOOKUP($K151,[1]关卡对应玩家属性表!$Q:$Z,P$1,FALSE)","v":6925}]
[{"$nulls":9},26,2233000,{"$f":"VLOOKUP($K152,[1]关卡对应玩家属性表!$Q:$Z,L$1,FALSE)","v":161},{"$f":"VLOOKUP($K152,[1]关卡对应玩家属性表!$Q:$Z,M$1,FALSE)","v":1010172},{"$f":"VLOOKUP($K152,[1]关卡对应玩家属性表!$Q:$Z,N$1,FALSE)","v":159725},{"$f":"VLOOKUP($K152,[1]关卡对应玩家属性表!$Q:$Z,O$1,FALSE)","v":8118},{"$f":"VLOOKUP($K152,[1]关卡对应玩家属性表!$Q:$Z,P$1,FALSE)","v":8118}]
[{"$nulls":9},26,2233000,{"$f":"VLOOKUP($K153,[1]关卡对应玩家属性表!$Q:$Z,L$1,FALSE)","v":161},{"$f":"VLOOKUP($K153,[1]关卡对应玩家属性表!$Q:$Z,M$1,FALSE)","v":1010172},{"$f":"VLOOKUP($K153,[1]关卡对应玩家属性表!$Q:$Z,N$1,FALSE)","v":159725},{"$f":"VLOOKUP($K153,[1]关卡对应玩家属性表!$Q:$Z,O$1,FALSE)","v":8118},{"$f":"VLOOKUP($K153,[1]关卡对应玩家属性表!$Q:$Z,P$1,FALSE)","v":8118}]
[{"$nulls":9},26,2233000,{"$f":"VLOOKUP($K154,[1]关卡对应玩家属性表!$Q:$Z,L$1,FALSE)","v":161},{"$f":"VLOOKUP($K154,[1]关卡对应玩家属性表!$Q:$Z,M$1,FALSE)","v":1010172},{"$f":"VLOOKUP($K154,[1]关卡对应玩家属性表!$Q:$Z,N$1,FALSE)","v":159725},{"$f":"VLOOKUP($K154,[1]关卡对应玩家属性表!$Q:$Z,O$1,FALSE)","v":8118},{"$f":"VLOOKUP($K154,[1]关卡对应玩家属性表!$Q:$Z,P$1,FALSE)","v":8118}]
[{"$nulls":9},26,2233000,{"$f":"VLOOKUP($K155,[1]关卡对应玩家属性表!$Q:$Z,L$1,FALSE)","v":161},{"$f":"VLOOKUP($K155,[1]关卡对应玩家属性表!$Q:$Z,M$1,FALSE)","v":1010172},{"$f":"VLOOKUP($K155,[1]关卡对应玩家属性表!$Q:$Z,N$1,FALSE)","v":159725},{"$f":"VLOOKUP($K155,[1]关卡对应玩家属性表!$Q:$Z,O$1,FALSE)","v":8118},{"$f":"VLOOKUP($K155,[1]关卡对应玩家属性表!$Q:$Z,P$1,FALSE)","v":8118}]
[{"$nulls":9},26,2233000,{"$f":"VLOOKUP($K156,[1]关卡对应玩家属性表!$Q:$Z,L$1,FALSE)","v":161},{"$f":"VLOOKUP($K156,[1]关卡对应玩家属性表!$Q:$Z,M$1,FALSE)","v":1010172},{"$f":"VLOOKUP($K156,[1]关卡对应玩家属性表!$Q:$Z,N$1,FALSE)","v":159725},{"$f":"VLOOKUP($K156,[1]关卡对应玩家属性表!$Q:$Z,O$1,FALSE)","v":8118},{"$f":"VLOOKUP($K156,[1]关卡对应玩家属性表!$Q:$Z,P$1,FALSE)","v":8118}]
[{"$nulls":9},26,2233000,{"$f":"VLOOKUP($K157,[1]关卡对应玩家属性表!$Q:$Z,L$1,FALSE)","v":161},{"$f":"VLOOKUP($K157,[1]关卡对应玩家属性表!$Q:$Z,M$1,FALSE)","v":1010172},{"$f":"VLOOKUP($K157,[1]关卡对应玩家属性表!$Q:$Z,N$1,FALSE)","v":159725},{"$f":"VLOOKUP($K157,[1]关卡对应玩家属性表!$Q:$Z,O$1,FALSE)","v":8118},{"$f":"VLOOKUP($K157,[1]关卡对应玩家属性表!$Q:$Z,P$1,FALSE)","v":8118}]
[{"$nulls":9},{"$f":"J152+1","v":27},2842000,{"$f":"VLOOKUP($K158,[1]关卡对应玩家属性表!$Q:$Z,L$1,FALSE)","v":192},{"$f":"VLOOKUP($K158,[1]关卡对应玩家属性表!$Q:$Z,M$1,FALSE)","v":1307870},{"$f":"VLOOKUP($K158,[1]关卡对应玩家属性表!$Q:$Z,N$1,FALSE)","v":204062},{"$f":"VLOOKUP($K158,[1]关卡对应玩家属性表!$Q:$Z,O$1,FALSE)","v":9284},{"$f":"VLOOKUP($K158,[1]关卡对应玩家属性表!$Q:$Z,P$1,FALSE)","v":9284}]
[{"$nulls":9},{"$f":"J153+1","v":27},2842000,{"$f":"VLOOKUP($K159,[1]关卡对应玩家属性表!$Q:$Z,L$1,FALSE)","v":192},{"$f":"VLOOKUP($K159,[1]关卡对应玩家属性表!$Q:$Z,M$1,FALSE)","v":1307870},{"$f":"VLOOKUP($K159,[1]关卡对应玩家属性表!$Q:$Z,N$1,FALSE)","v":204062},{"$f":"VLOOKUP($K159,[1]关卡对应玩家属性表!$Q:$Z,O$1,FALSE)","v":9284},{"$f":"VLOOKUP($K159,[1]关卡对应玩家属性表!$Q:$Z,P$1,FALSE)","v":9284}]
[{"$nulls":9},27,2842000,{"$f":"VLOOKUP($K160,[1]关卡对应玩家属性表!$Q:$Z,L$1,FALSE)","v":192},{"$f":"VLOOKUP($K160,[1]关卡对应玩家属性表!$Q:$Z,M$1,FALSE)","v":1307870},{"$f":"VLOOKUP($K160,[1]关卡对应玩家属性表!$Q:$Z,N$1,FALSE)","v":204062},{"$f":"VLOOKUP($K160,[1]关卡对应玩家属性表!$Q:$Z,O$1,FALSE)","v":9284},{"$f":"VLOOKUP($K160,[1]关卡对应玩家属性表!$Q:$Z,P$1,FALSE)","v":9284}]
[{"$nulls":9},27,2842000,{"$f":"VLOOKUP($K161,[1]关卡对应玩家属性表!$Q:$Z,L$1,FALSE)","v":192},{"$f":"VLOOKUP($K161,[1]关卡对应玩家属性表!$Q:$Z,M$1,FALSE)","v":1307870},{"$f":"VLOOKUP($K161,[1]关卡对应玩家属性表!$Q:$Z,N$1,FALSE)","v":204062},{"$f":"VLOOKUP($K161,[1]关卡对应玩家属性表!$Q:$Z,O$1,FALSE)","v":9284},{"$f":"VLOOKUP($K161,[1]关卡对应玩家属性表!$Q:$Z,P$1,FALSE)","v":9284}]
[{"$nulls":9},27,2842000,{"$f":"VLOOKUP($K162,[1]关卡对应玩家属性表!$Q:$Z,L$1,FALSE)","v":192},{"$f":"VLOOKUP($K162,[1]关卡对应玩家属性表!$Q:$Z,M$1,FALSE)","v":1307870},{"$f":"VLOOKUP($K162,[1]关卡对应玩家属性表!$Q:$Z,N$1,FALSE)","v":204062},{"$f":"VLOOKUP($K162,[1]关卡对应玩家属性表!$Q:$Z,O$1,FALSE)","v":9284},{"$f":"VLOOKUP($K162,[1]关卡对应玩家属性表!$Q:$Z,P$1,FALSE)","v":9284}]
[{"$nulls":9},27,2842000,{"$f":"VLOOKUP($K163,[1]关卡对应玩家属性表!$Q:$Z,L$1,FALSE)","v":192},{"$f":"VLOOKUP($K163,[1]关卡对应玩家属性表!$Q:$Z,M$1,FALSE)","v":1307870},{"$f":"VLOOKUP($K163,[1]关卡对应玩家属性表!$Q:$Z,N$1,FALSE)","v":204062},{"$f":"VLOOKUP($K163,[1]关卡对应玩家属性表!$Q:$Z,O$1,FALSE)","v":9284},{"$f":"VLOOKUP($K163,[1]关卡对应玩家属性表!$Q:$Z,P$1,FALSE)","v":9284}]
[{"$nulls":9},28,16000,{"$f":"VLOOKUP($K164,[1]关卡对应玩家属性表!$Q:$Z,L$1,FALSE)","v":18},{"$f":"VLOOKUP($K164,[1]关卡对应玩家属性表!$Q:$Z,M$1,FALSE)","v":3996},{"$f":"VLOOKUP($K164,[1]关卡对应玩家属性表!$Q:$Z,N$1,FALSE)","v":754},{"$f":"VLOOKUP($K164,[1]关卡对应玩家属性表!$Q:$Z,O$1,FALSE)","v":222},{"$f":"VLOOKUP($K164,[1]关卡对应玩家属性表!$Q:$Z,P$1,FALSE)","v":222}]
[{"$nulls":9},28,16000,{"$f":"VLOOKUP($K165,[1]关卡对应玩家属性表!$Q:$Z,L$1,FALSE)","v":18},{"$f":"VLOOKUP($K165,[1]关卡对应玩家属性表!$Q:$Z,M$1,FALSE)","v":3996},{"$f":"VLOOKUP($K165,[1]关卡对应玩家属性表!$Q:$Z,N$1,FALSE)","v":754},{"$f":"VLOOKUP($K165,[1]关卡对应玩家属性表!$Q:$Z,O$1,FALSE)","v":222},{"$f":"VLOOKUP($K165,[1]关卡对应玩家属性表!$Q:$Z,P$1,FALSE)","v":222}]
[{"$nulls":9},28,16000,{"$f":"VLOOKUP($K166,[1]关卡对应玩家属性表!$Q:$Z,L$1,FALSE)","v":18},{"$f":"VLOOKUP($K166,[1]关卡对应玩家属性表!$Q:$Z,M$1,FALSE)","v":3996},{"$f":"VLOOKUP($K166,[1]关卡对应玩家属性表!$Q:$Z,N$1,FALSE)","v":754},{"$f":"VLOOKUP($K166,[1]关卡对应玩家属性表!$Q:$Z,O$1,FALSE)","v":222},{"$f":"VLOOKUP($K166,[1]关卡对应玩家属性表!$Q:$Z,P$1,FALSE)","v":222}]
[{"$nulls":9},28,16000,{"$f":"VLOOKUP($K167,[1]关卡对应玩家属性表!$Q:$Z,L$1,FALSE)","v":18},{"$f":"VLOOKUP($K167,[1]关卡对应玩家属性表!$Q:$Z,M$1,FALSE)","v":3996},{"$f":"VLOOKUP($K167,[1]关卡对应玩家属性表!$Q:$Z,N$1,FALSE)","v":754},{"$f":"VLOOKUP($K167,[1]关卡对应玩家属性表!$Q:$Z,O$1,FALSE)","v":222},{"$f":"VLOOKUP($K167,[1]关卡对应玩家属性表!$Q:$Z,P$1,FALSE)","v":222}]
[{"$nulls":9},28,16000,{"$f":"VLOOKUP($K168,[1]关卡对应玩家属性表!$Q:$Z,L$1,FALSE)","v":18},{"$f":"VLOOKUP($K168,[1]关卡对应玩家属性表!$Q:$Z,M$1,FALSE)","v":3996},{"$f":"VLOOKUP($K168,[1]关卡对应玩家属性表!$Q:$Z,N$1,FALSE)","v":754},{"$f":"VLOOKUP($K168,[1]关卡对应玩家属性表!$Q:$Z,O$1,FALSE)","v":222},{"$f":"VLOOKUP($K168,[1]关卡对应玩家属性表!$Q:$Z,P$1,FALSE)","v":222}]
[{"$nulls":9},28,16000,{"$f":"VLOOKUP($K169,[1]关卡对应玩家属性表!$Q:$Z,L$1,FALSE)","v":18},{"$f":"VLOOKUP($K169,[1]关卡对应玩家属性表!$Q:$Z,M$1,FALSE)","v":3996},{"$f":"VLOOKUP($K169,[1]关卡对应玩家属性表!$Q:$Z,N$1,FALSE)","v":754},{"$f":"VLOOKUP($K169,[1]关卡对应玩家属性表!$Q:$Z,O$1,FALSE)","v":222},{"$f":"VLOOKUP($K169,[1]关卡对应玩家属性表!$Q:$Z,P$1,FALSE)","v":222}]
[{"$nulls":9},29,94000,{"$f":"VLOOKUP($K170,[1]关卡对应玩家属性表!$Q:$Z,L$1,FALSE)","v":51},{"$f":"VLOOKUP($K170,[1]关卡对应玩家属性表!$Q:$Z,M$1,FALSE)","v":28898},{"$f":"VLOOKUP($K170,[1]关卡对应玩家属性表!$Q:$Z,N$1,FALSE)","v":5028},{"$f":"VLOOKUP($K170,[1]关卡对应玩家属性表!$Q:$Z,O$1,FALSE)","v":1295},{"$f":"VLOOKUP($K170,[1]关卡对应玩家属性表!$Q:$Z,P$1,FALSE)","v":1295}]
[{"$nulls":9},29,94000,{"$f":"VLOOKUP($K171,[1]关卡对应玩家属性表!$Q:$Z,L$1,FALSE)","v":51},{"$f":"VLOOKUP($K171,[1]关卡对应玩家属性表!$Q:$Z,M$1,FALSE)","v":28898},{"$f":"VLOOKUP($K171,[1]关卡对应玩家属性表!$Q:$Z,N$1,FALSE)","v":5028},{"$f":"VLOOKUP($K171,[1]关卡对应玩家属性表!$Q:$Z,O$1,FALSE)","v":1295},{"$f":"VLOOKUP($K171,[1]关卡对应玩家属性表!$Q:$Z,P$1,FALSE)","v":1295}]
[{"$nulls":9},29,94000,{"$f":"VLOOKUP($K172,[1]关卡对应玩家属性表!$Q:$Z,L$1,FALSE)","v":51},{"$f":"VLOOKUP($K172,[1]关卡对应玩家属性表!$Q:$Z,M$1,FALSE)","v":28898},{"$f":"VLOOKUP($K172,[1]关卡对应玩家属性表!$Q:$Z,N$1,FALSE)","v":5028},{"$f":"VLOOKUP($K172,[1]关卡对应玩家属性表!$Q:$Z,O$1,FALSE)","v":1295},{"$f":"VLOOKUP($K172,[1]关卡对应玩家属性表!$Q:$Z,P$1,FALSE)","v":1295}]
[{"$nulls":9},29,94000,{"$f":"VLOOKUP($K173,[1]关卡对应玩家属性表!$Q:$Z,L$1,FALSE)","v":51},{"$f":"VLOOKUP($K173,[1]关卡对应玩家属性表!$Q:$Z,M$1,FALSE)","v":28898},{"$f":"VLOOKUP($K173,[1]关卡对应玩家属性表!$Q:$Z,N$1,FALSE)","v":5028},{"$f":"VLOOKUP($K173,[1]关卡对应玩家属性表!$Q:$Z,O$1,FALSE)","v":1295},{"$f":"VLOOKUP($K173,[1]关卡对应玩家属性表!$Q:$Z,P$1,FALSE)","v":1295}]
[{"$nulls":9},29,94000,{"$f":"VLOOKUP($K174,[1]关卡对应玩家属性表!$Q:$Z,L$1,FALSE)","v":51},{"$f":"VLOOKUP($K174,[1]关卡对应玩家属性表!$Q:$Z,M$1,FALSE)","v":28898},{"$f":"VLOOKUP($K174,[1]关卡对应玩家属性表!$Q:$Z,N$1,FALSE)","v":5028},{"$f":"VLOOKUP($K174,[1]关卡对应玩家属性表!$Q:$Z,O$1,FALSE)","v":1295},{"$f":"VLOOKUP($K174,[1]关卡对应玩家属性表!$Q:$Z,P$1,FALSE)","v":1295}]
[{"$nulls":9},29,94000,{"$f":"VLOOKUP($K175,[1]关卡对应玩家属性表!$Q:$Z,L$1,FALSE)","v":51},{"$f":"VLOOKUP($K175,[1]关卡对应玩家属性表!$Q:$Z,M$1,FALSE)","v":28898},{"$f":"VLOOKUP($K175,[1]关卡对应玩家属性表!$Q:$Z,N$1,FALSE)","v":5028},{"$f":"VLOOKUP($K175,[1]关卡对应玩家属性表!$Q:$Z,O$1,FALSE)","v":1295},{"$f":"VLOOKUP($K175,[1]关卡对应玩家属性表!$Q:$Z,P$1,FALSE)","v":1295}]
[{"$nulls":9},30,123000,{"$f":"VLOOKUP($K176,[1]关卡对应玩家属性表!$Q:$Z,L$1,FALSE)","v":60},{"$f":"VLOOKUP($K176,[1]关卡对应玩家属性表!$Q:$Z,M$1,FALSE)","v":42202},{"$f":"VLOOKUP($K176,[1]关卡对应玩家属性表!$Q:$Z,N$1,FALSE)","v":7062},{"$f":"VLOOKUP($K176,[1]关卡对应玩家属性表!$Q:$Z,O$1,FALSE)","v":1420},{"$f":"VLOOKUP($K176,[1]关卡对应玩家属性表!$Q:$Z,P$1,FALSE)","v":1420}]
[{"$nulls":9},30,123000,{"$f":"VLOOKUP($K177,[1]关卡对应玩家属性表!$Q:$Z,L$1,FALSE)","v":60},{"$f":"VLOOKUP($K177,[1]关卡对应玩家属性表!$Q:$Z,M$1,FALSE)","v":42202},{"$f":"VLOOKUP($K177,[1]关卡对应玩家属性表!$Q:$Z,N$1,FALSE)","v":7062},{"$f":"VLOOKUP($K177,[1]关卡对应玩家属性表!$Q:$Z,O$1,FALSE)","v":1420},{"$f":"VLOOKUP($K177,[1]关卡对应玩家属性表!$Q:$Z,P$1,FALSE)","v":1420}]
[{"$nulls":9},30,123000,{"$f":"VLOOKUP($K178,[1]关卡对应玩家属性表!$Q:$Z,L$1,FALSE)","v":60},{"$f":"VLOOKUP($K178,[1]关卡对应玩家属性表!$Q:$Z,M$1,FALSE)","v":42202},{"$f":"VLOOKUP($K178,[1]关卡对应玩家属性表!$Q:$Z,N$1,FALSE)","v":7062},{"$f":"VLOOKUP($K178,[1]关卡对应玩家属性表!$Q:$Z,O$1,FALSE)","v":1420},{"$f":"VLOOKUP($K178,[1]关卡对应玩家属性表!$Q:$Z,P$1,FALSE)","v":1420}]
[{"$nulls":9},30,123000,{"$f":"VLOOKUP($K179,[1]关卡对应玩家属性表!$Q:$Z,L$1,FALSE)","v":60},{"$f":"VLOOKUP($K179,[1]关卡对应玩家属性表!$Q:$Z,M$1,FALSE)","v":42202},{"$f":"VLOOKUP($K179,[1]关卡对应玩家属性表!$Q:$Z,N$1,FALSE)","v":7062},{"$f":"VLOOKUP($K179,[1]关卡对应玩家属性表!$Q:$Z,O$1,FALSE)","v":1420},{"$f":"VLOOKUP($K179,[1]关卡对应玩家属性表!$Q:$Z,P$1,FALSE)","v":1420}]
[{"$nulls":9},30,123000,{"$f":"VLOOKUP($K180,[1]关卡对应玩家属性表!$Q:$Z,L$1,FALSE)","v":60},{"$f":"VLOOKUP($K180,[1]关卡对应玩家属性表!$Q:$Z,M$1,FALSE)","v":42202},{"$f":"VLOOKUP($K180,[1]关卡对应玩家属性表!$Q:$Z,N$1,FALSE)","v":7062},{"$f":"VLOOKUP($K180,[1]关卡对应玩家属性表!$Q:$Z,O$1,FALSE)","v":1420},{"$f":"VLOOKUP($K180,[1]关卡对应玩家属性表!$Q:$Z,P$1,FALSE)","v":1420}]
[{"$nulls":9},30,123000,{"$f":"VLOOKUP($K181,[1]关卡对应玩家属性表!$Q:$Z,L$1,FALSE)","v":60},{"$f":"VLOOKUP($K181,[1]关卡对应玩家属性表!$Q:$Z,M$1,FALSE)","v":42202},{"$f":"VLOOKUP($K181,[1]关卡对应玩家属性表!$Q:$Z,N$1,FALSE)","v":7062},{"$f":"VLOOKUP($K181,[1]关卡对应玩家属性表!$Q:$Z,O$1,FALSE)","v":1420},{"$f":"VLOOKUP($K181,[1]关卡对应玩家属性表!$Q:$Z,P$1,FALSE)","v":1420}]
[{"$nulls":9},31,327000,{"$f":"VLOOKUP($K182,[1]关卡对应玩家属性表!$Q:$Z,L$1,FALSE)","v":78},{"$f":"VLOOKUP($K182,[1]关卡对应玩家属性表!$Q:$Z,M$1,FALSE)","v":127838},{"$f":"VLOOKUP($K182,[1]关卡对应玩家属性表!$Q:$Z,N$1,FALSE)","v":21068},{"$f":"VLOOKUP($K182,[1]关卡对应玩家属性表!$Q:$Z,O$1,FALSE)","v":2549},{"$f":"VLOOKUP($K182,[1]关卡对应玩家属性表!$Q:$Z,P$1,FALSE)","v":2549}]
[{"$nulls":9},31,327000,{"$f":"VLOOKUP($K183,[1]关卡对应玩家属性表!$Q:$Z,L$1,FALSE)","v":78},{"$f":"VLOOKUP($K183,[1]关卡对应玩家属性表!$Q:$Z,M$1,FALSE)","v":127838},{"$f":"VLOOKUP($K183,[1]关卡对应玩家属性表!$Q:$Z,N$1,FALSE)","v":21068},{"$f":"VLOOKUP($K183,[1]关卡对应玩家属性表!$Q:$Z,O$1,FALSE)","v":2549},{"$f":"VLOOKUP($K183,[1]关卡对应玩家属性表!$Q:$Z,P$1,FALSE)","v":2549}]
[{"$nulls":9},31,327000,{"$f":"VLOOKUP($K184,[1]关卡对应玩家属性表!$Q:$Z,L$1,FALSE)","v":78},{"$f":"VLOOKUP($K184,[1]关卡对应玩家属性表!$Q:$Z,M$1,FALSE)","v":127838},{"$f":"VLOOKUP($K184,[1]关卡对应玩家属性表!$Q:$Z,N$1,FALSE)","v":21068},{"$f":"VLOOKUP($K184,[1]关卡对应玩家属性表!$Q:$Z,O$1,FALSE)","v":2549},{"$f":"VLOOKUP($K184,[1]关卡对应玩家属性表!$Q:$Z,P$1,FALSE)","v":2549}]
[{"$nulls":9},31,327000,{"$f":"VLOOKUP($K185,[1]关卡对应玩家属性表!$Q:$Z,L$1,FALSE)","v":78},{"$f":"VLOOKUP($K185,[1]关卡对应玩家属性表!$Q:$Z,M$1,FALSE)","v":127838},{"$f":"VLOOKUP($K185,[1]关卡对应玩家属性表!$Q:$Z,N$1,FALSE)","v":21068},{"$f":"VLOOKUP($K185,[1]关卡对应玩家属性表!$Q:$Z,O$1,FALSE)","v":2549},{"$f":"VLOOKUP($K185,[1]关卡对应玩家属性表!$Q:$Z,P$1,FALSE)","v":2549}]
[{"$nulls":9},31,327000,{"$f":"VLOOKUP($K186,[1]关卡对应玩家属性表!$Q:$Z,L$1,FALSE)","v":78},{"$f":"VLOOKUP($K186,[1]关卡对应玩家属性表!$Q:$Z,M$1,FALSE)","v":127838},{"$f":"VLOOKUP($K186,[1]关卡对应玩家属性表!$Q:$Z,N$1,FALSE)","v":21068},{"$f":"VLOOKUP($K186,[1]关卡对应玩家属性表!$Q:$Z,O$1,FALSE)","v":2549},{"$f":"VLOOKUP($K186,[1]关卡对应玩家属性表!$Q:$Z,P$1,FALSE)","v":2549}]
[{"$nulls":9},31,327000,{"$f":"VLOOKUP($K187,[1]关卡对应玩家属性表!$Q:$Z,L$1,FALSE)","v":78},{"$f":"VLOOKUP($K187,[1]关卡对应玩家属性表!$Q:$Z,M$1,FALSE)","v":127838},{"$f":"VLOOKUP($K187,[1]关卡对应玩家属性表!$Q:$Z,N$1,FALSE)","v":21068},{"$f":"VLOOKUP($K187,[1]关卡对应玩家属性表!$Q:$Z,O$1,FALSE)","v":2549},{"$f":"VLOOKUP($K187,[1]关卡对应玩家属性表!$Q:$Z,P$1,FALSE)","v":2549}]
[{"$nulls":9},32,703000,{"$f":"VLOOKUP($K188,[1]关卡对应玩家属性表!$Q:$Z,L$1,FALSE)","v":99},{"$f":"VLOOKUP($K188,[1]关卡对应玩家属性表!$Q:$Z,M$1,FALSE)","v":298052},{"$f":"VLOOKUP($K188,[1]关卡对应玩家属性表!$Q:$Z,N$1,FALSE)","v":46634},{"$f":"VLOOKUP($K188,[1]关卡对应玩家属性表!$Q:$Z,O$1,FALSE)","v":4226},{"$f":"VLOOKUP($K188,[1]关卡对应玩家属性表!$Q:$Z,P$1,FALSE)","v":4226}]
[{"$nulls":9},32,703000,{"$f":"VLOOKUP($K189,[1]关卡对应玩家属性表!$Q:$Z,L$1,FALSE)","v":99},{"$f":"VLOOKUP($K189,[1]关卡对应玩家属性表!$Q:$Z,M$1,FALSE)","v":298052},{"$f":"VLOOKUP($K189,[1]关卡对应玩家属性表!$Q:$Z,N$1,FALSE)","v":46634},{"$f":"VLOOKUP($K189,[1]关卡对应玩家属性表!$Q:$Z,O$1,FALSE)","v":4226},{"$f":"VLOOKUP($K189,[1]关卡对应玩家属性表!$Q:$Z,P$1,FALSE)","v":4226}]
[{"$nulls":9},32,703000,{"$f":"VLOOKUP($K190,[1]关卡对应玩家属性表!$Q:$Z,L$1,FALSE)","v":99},{"$f":"VLOOKUP($K190,[1]关卡对应玩家属性表!$Q:$Z,M$1,FALSE)","v":298052},{"$f":"VLOOKUP($K190,[1]关卡对应玩家属性表!$Q:$Z,N$1,FALSE)","v":46634},{"$f":"VLOOKUP($K190,[1]关卡对应玩家属性表!$Q:$Z,O$1,FALSE)","v":4226},{"$f":"VLOOKUP($K190,[1]关卡对应玩家属性表!$Q:$Z,P$1,FALSE)","v":4226}]
[{"$nulls":9},32,703000,{"$f":"VLOOKUP($K191,[1]关卡对应玩家属性表!$Q:$Z,L$1,FALSE)","v":99},{"$f":"VLOOKUP($K191,[1]关卡对应玩家属性表!$Q:$Z,M$1,FALSE)","v":298052},{"$f":"VLOOKUP($K191,[1]关卡对应玩家属性表!$Q:$Z,N$1,FALSE)","v":46634},{"$f":"VLOOKUP($K191,[1]关卡对应玩家属性表!$Q:$Z,O$1,FALSE)","v":4226},{"$f":"VLOOKUP($K191,[1]关卡对应玩家属性表!$Q:$Z,P$1,FALSE)","v":4226}]
[{"$nulls":9},32,703000,{"$f":"VLOOKUP($K192,[1]关卡对应玩家属性表!$Q:$Z,L$1,FALSE)","v":99},{"$f":"VLOOKUP($K192,[1]关卡对应玩家属性表!$Q:$Z,M$1,FALSE)","v":298052},{"$f":"VLOOKUP($K192,[1]关卡对应玩家属性表!$Q:$Z,N$1,FALSE)","v":46634},{"$f":"VLOOKUP($K192,[1]关卡对应玩家属性表!$Q:$Z,O$1,FALSE)","v":4226},{"$f":"VLOOKUP($K192,[1]关卡对应玩家属性表!$Q:$Z,P$1,FALSE)","v":4226}]
[{"$nulls":9},32,703000,{"$f":"VLOOKUP($K193,[1]关卡对应玩家属性表!$Q:$Z,L$1,FALSE)","v":99},{"$f":"VLOOKUP($K193,[1]关卡对应玩家属性表!$Q:$Z,M$1,FALSE)","v":298052},{"$f":"VLOOKUP($K193,[1]关卡对应玩家属性表!$Q:$Z,N$1,FALSE)","v":46634},{"$f":"VLOOKUP($K193,[1]关卡对应玩家属性表!$Q:$Z,O$1,FALSE)","v":4226},{"$f":"VLOOKUP($K193,[1]关卡对应玩家属性表!$Q:$Z,P$1,FALSE)","v":4226}]
[{"$nulls":9},33,1156000,{"$f":"VLOOKUP($K194,[1]关卡对应玩家属性表!$Q:$Z,L$1,FALSE)","v":117},{"$f":"VLOOKUP($K194,[1]关卡对应玩家属性表!$Q:$Z,M$1,FALSE)","v":494180},{"$f":"VLOOKUP($K194,[1]关卡对应玩家属性表!$Q:$Z,N$1,FALSE)","v":76953},{"$f":"VLOOKUP($K194,[1]关卡对应玩家属性表!$Q:$Z,O$1,FALSE)","v":6734},{"$f":"VLOOKUP($K194,[1]关卡对应玩家属性表!$Q:$Z,P$1,FALSE)","v":6734}]
[{"$nulls":9},33,{"$f":"VLOOKUP(J195,$A:$B,2,FALSE)","v":1156000},{"$f":"VLOOKUP($K195,[1]关卡对应玩家属性表!$Q:$Z,L$1,FALSE)","v":117},{"$f":"VLOOKUP($K195,[1]关卡对应玩家属性表!$Q:$Z,M$1,FALSE)","v":494180},{"$f":"VLOOKUP($K195,[1]关卡对应玩家属性表!$Q:$Z,N$1,FALSE)","v":76953},{"$f":"VLOOKUP($K195,[1]关卡对应玩家属性表!$Q:$Z,O$1,FALSE)","v":6734},{"$f":"VLOOKUP($K195,[1]关卡对应玩家属性表!$Q:$Z,P$1,FALSE)","v":6734}]
[{"$nulls":9},33,1156000,{"$f":"VLOOKUP($K196,[1]关卡对应玩家属性表!$Q:$Z,L$1,FALSE)","v":117},{"$f":"VLOOKUP($K196,[1]关卡对应玩家属性表!$Q:$Z,M$1,FALSE)","v":494180},{"$f":"VLOOKUP($K196,[1]关卡对应玩家属性表!$Q:$Z,N$1,FALSE)","v":76953},{"$f":"VLOOKUP($K196,[1]关卡对应玩家属性表!$Q:$Z,O$1,FALSE)","v":6734},{"$f":"VLOOKUP($K196,[1]关卡对应玩家属性表!$Q:$Z,P$1,FALSE)","v":6734}]
[{"$nulls":9},33,1156000,{"$f":"VLOOKUP($K197,[1]关卡对应玩家属性表!$Q:$Z,L$1,FALSE)","v":117},{"$f":"VLOOKUP($K197,[1]关卡对应玩家属性表!$Q:$Z,M$1,FALSE)","v":494180},{"$f":"VLOOKUP($K197,[1]关卡对应玩家属性表!$Q:$Z,N$1,FALSE)","v":76953},{"$f":"VLOOKUP($K197,[1]关卡对应玩家属性表!$Q:$Z,O$1,FALSE)","v":6734},{"$f":"VLOOKUP($K197,[1]关卡对应玩家属性表!$Q:$Z,P$1,FALSE)","v":6734}]
[{"$nulls":9},33,1156000,{"$f":"VLOOKUP($K198,[1]关卡对应玩家属性表!$Q:$Z,L$1,FALSE)","v":117},{"$f":"VLOOKUP($K198,[1]关卡对应玩家属性表!$Q:$Z,M$1,FALSE)","v":494180},{"$f":"VLOOKUP($K198,[1]关卡对应玩家属性表!$Q:$Z,N$1,FALSE)","v":76953},{"$f":"VLOOKUP($K198,[1]关卡对应玩家属性表!$Q:$Z,O$1,FALSE)","v":6734},{"$f":"VLOOKUP($K198,[1]关卡对应玩家属性表!$Q:$Z,P$1,FALSE)","v":6734}]
[{"$nulls":9},33,1156000,{"$f":"VLOOKUP($K199,[1]关卡对应玩家属性表!$Q:$Z,L$1,FALSE)","v":117},{"$f":"VLOOKUP($K199,[1]关卡对应玩家属性表!$Q:$Z,M$1,FALSE)","v":494180},{"$f":"VLOOKUP($K199,[1]关卡对应玩家属性表!$Q:$Z,N$1,FALSE)","v":76953},{"$f":"VLOOKUP($K199,[1]关卡对应玩家属性表!$Q:$Z,O$1,FALSE)","v":6734},{"$f":"VLOOKUP($K199,[1]关卡对应玩家属性表!$Q:$Z,P$1,FALSE)","v":6734}]
[{"$nulls":9},34,1846000,{"$f":"VLOOKUP($K200,[1]关卡对应玩家属性表!$Q:$Z,L$1,FALSE)","v":134},{"$f":"VLOOKUP($K200,[1]关卡对应玩家属性表!$Q:$Z,M$1,FALSE)","v":823662},{"$f":"VLOOKUP($K200,[1]关卡对应玩家属性表!$Q:$Z,N$1,FALSE)","v":131659},{"$f":"VLOOKUP($K200,[1]关卡对应玩家属性表!$Q:$Z,O$1,FALSE)","v":7260},{"$f":"VLOOKUP($K200,[1]关卡对应玩家属性表!$Q:$Z,P$1,FALSE)","v":7260}]
[{"$nulls":9},34,1846000,{"$f":"VLOOKUP($K201,[1]关卡对应玩家属性表!$Q:$Z,L$1,FALSE)","v":134},{"$f":"VLOOKUP($K201,[1]关卡对应玩家属性表!$Q:$Z,M$1,FALSE)","v":823662},{"$f":"VLOOKUP($K201,[1]关卡对应玩家属性表!$Q:$Z,N$1,FALSE)","v":131659},{"$f":"VLOOKUP($K201,[1]关卡对应玩家属性表!$Q:$Z,O$1,FALSE)","v":7260},{"$f":"VLOOKUP($K201,[1]关卡对应玩家属性表!$Q:$Z,P$1,FALSE)","v":7260}]
[{"$nulls":9},34,1846000,{"$f":"VLOOKUP($K202,[1]关卡对应玩家属性表!$Q:$Z,L$1,FALSE)","v":134},{"$f":"VLOOKUP($K202,[1]关卡对应玩家属性表!$Q:$Z,M$1,FALSE)","v":823662},{"$f":"VLOOKUP($K202,[1]关卡对应玩家属性表!$Q:$Z,N$1,FALSE)","v":131659},{"$f":"VLOOKUP($K202,[1]关卡对应玩家属性表!$Q:$Z,O$1,FALSE)","v":7260},{"$f":"VLOOKUP($K202,[1]关卡对应玩家属性表!$Q:$Z,P$1,FALSE)","v":7260}]
[{"$nulls":9},34,1846000,{"$f":"VLOOKUP($K203,[1]关卡对应玩家属性表!$Q:$Z,L$1,FALSE)","v":134},{"$f":"VLOOKUP($K203,[1]关卡对应玩家属性表!$Q:$Z,M$1,FALSE)","v":823662},{"$f":"VLOOKUP($K203,[1]关卡对应玩家属性表!$Q:$Z,N$1,FALSE)","v":131659},{"$f":"VLOOKUP($K203,[1]关卡对应玩家属性表!$Q:$Z,O$1,FALSE)","v":7260},{"$f":"VLOOKUP($K203,[1]关卡对应玩家属性表!$Q:$Z,P$1,FALSE)","v":7260}]
[{"$nulls":9},34,1846000,{"$f":"VLOOKUP($K204,[1]关卡对应玩家属性表!$Q:$Z,L$1,FALSE)","v":134},{"$f":"VLOOKUP($K204,[1]关卡对应玩家属性表!$Q:$Z,M$1,FALSE)","v":823662},{"$f":"VLOOKUP($K204,[1]关卡对应玩家属性表!$Q:$Z,N$1,FALSE)","v":131659},{"$f":"VLOOKUP($K204,[1]关卡对应玩家属性表!$Q:$Z,O$1,FALSE)","v":7260},{"$f":"VLOOKUP($K204,[1]关卡对应玩家属性表!$Q:$Z,P$1,FALSE)","v":7260}]
[{"$nulls":9},34,1846000,{"$f":"VLOOKUP($K205,[1]关卡对应玩家属性表!$Q:$Z,L$1,FALSE)","v":134},{"$f":"VLOOKUP($K205,[1]关卡对应玩家属性表!$Q:$Z,M$1,FALSE)","v":823662},{"$f":"VLOOKUP($K205,[1]关卡对应玩家属性表!$Q:$Z,N$1,FALSE)","v":131659},{"$f":"VLOOKUP($K205,[1]关卡对应玩家属性表!$Q:$Z,O$1,FALSE)","v":7260},{"$f":"VLOOKUP($K205,[1]关卡对应玩家属性表!$Q:$Z,P$1,FALSE)","v":7260}]
[{"$nulls":9},35,2398000,{"$f":"VLOOKUP($K206,[1]关卡对应玩家属性表!$Q:$Z,L$1,FALSE)","v":169},{"$f":"VLOOKUP($K206,[1]关卡对应玩家属性表!$Q:$Z,M$1,FALSE)","v":1091224},{"$f":"VLOOKUP($K206,[1]关卡对应玩家属性表!$Q:$Z,N$1,FALSE)","v":171719},{"$f":"VLOOKUP($K206,[1]关卡对应玩家属性表!$Q:$Z,O$1,FALSE)","v":8401},{"$f":"VLOOKUP($K206,[1]关卡对应玩家属性表!$Q:$Z,P$1,FALSE)","v":8401}]
[{"$nulls":9},35,2398000,{"$f":"VLOOKUP($K207,[1]关卡对应玩家属性表!$Q:$Z,L$1,FALSE)","v":169},{"$f":"VLOOKUP($K207,[1]关卡对应玩家属性表!$Q:$Z,M$1,FALSE)","v":1091224},{"$f":"VLOOKUP($K207,[1]关卡对应玩家属性表!$Q:$Z,N$1,FALSE)","v":171719},{"$f":"VLOOKUP($K207,[1]关卡对应玩家属性表!$Q:$Z,O$1,FALSE)","v":8401},{"$f":"VLOOKUP($K207,[1]关卡对应玩家属性表!$Q:$Z,P$1,FALSE)","v":8401}]
[{"$nulls":9},35,2398000,{"$f":"VLOOKUP($K208,[1]关卡对应玩家属性表!$Q:$Z,L$1,FALSE)","v":169},{"$f":"VLOOKUP($K208,[1]关卡对应玩家属性表!$Q:$Z,M$1,FALSE)","v":1091224},{"$f":"VLOOKUP($K208,[1]关卡对应玩家属性表!$Q:$Z,N$1,FALSE)","v":171719},{"$f":"VLOOKUP($K208,[1]关卡对应玩家属性表!$Q:$Z,O$1,FALSE)","v":8401},{"$f":"VLOOKUP($K208,[1]关卡对应玩家属性表!$Q:$Z,P$1,FALSE)","v":8401}]
[{"$nulls":9},35,2398000,{"$f":"VLOOKUP($K209,[1]关卡对应玩家属性表!$Q:$Z,L$1,FALSE)","v":169},{"$f":"VLOOKUP($K209,[1]关卡对应玩家属性表!$Q:$Z,M$1,FALSE)","v":1091224},{"$f":"VLOOKUP($K209,[1]关卡对应玩家属性表!$Q:$Z,N$1,FALSE)","v":171719},{"$f":"VLOOKUP($K209,[1]关卡对应玩家属性表!$Q:$Z,O$1,FALSE)","v":8401},{"$f":"VLOOKUP($K209,[1]关卡对应玩家属性表!$Q:$Z,P$1,FALSE)","v":8401}]
[{"$nulls":9},35,2398000,{"$f":"VLOOKUP($K210,[1]关卡对应玩家属性表!$Q:$Z,L$1,FALSE)","v":169},{"$f":"VLOOKUP($K210,[1]关卡对应玩家属性表!$Q:$Z,M$1,FALSE)","v":1091224},{"$f":"VLOOKUP($K210,[1]关卡对应玩家属性表!$Q:$Z,N$1,FALSE)","v":171719},{"$f":"VLOOKUP($K210,[1]关卡对应玩家属性表!$Q:$Z,O$1,FALSE)","v":8401},{"$f":"VLOOKUP($K210,[1]关卡对应玩家属性表!$Q:$Z,P$1,FALSE)","v":8401}]
[{"$nulls":9},35,2398000,{"$f":"VLOOKUP($K211,[1]关卡对应玩家属性表!$Q:$Z,L$1,FALSE)","v":169},{"$f":"VLOOKUP($K211,[1]关卡对应玩家属性表!$Q:$Z,M$1,FALSE)","v":1091224},{"$f":"VLOOKUP($K211,[1]关卡对应玩家属性表!$Q:$Z,N$1,FALSE)","v":171719},{"$f":"VLOOKUP($K211,[1]关卡对应玩家属性表!$Q:$Z,O$1,FALSE)","v":8401},{"$f":"VLOOKUP($K211,[1]关卡对应玩家属性表!$Q:$Z,P$1,FALSE)","v":8401}]
[{"$nulls":9},36,2998000,{"$f":"VLOOKUP($K212,[1]关卡对应玩家属性表!$Q:$Z,L$1,FALSE)","v":204},{"$f":"VLOOKUP($K212,[1]关卡对应玩家属性表!$Q:$Z,M$1,FALSE)","v":1379650},{"$f":"VLOOKUP($K212,[1]关卡对应玩家属性表!$Q:$Z,N$1,FALSE)","v":215256},{"$f":"VLOOKUP($K212,[1]关卡对应玩家属性表!$Q:$Z,O$1,FALSE)","v":9787},{"$f":"VLOOKUP($K212,[1]关卡对应玩家属性表!$Q:$Z,P$1,FALSE)","v":9787}]
[{"$nulls":9},36,2998000,{"$f":"VLOOKUP($K213,[1]关卡对应玩家属性表!$Q:$Z,L$1,FALSE)","v":204},{"$f":"VLOOKUP($K213,[1]关卡对应玩家属性表!$Q:$Z,M$1,FALSE)","v":1379650},{"$f":"VLOOKUP($K213,[1]关卡对应玩家属性表!$Q:$Z,N$1,FALSE)","v":215256},{"$f":"VLOOKUP($K213,[1]关卡对应玩家属性表!$Q:$Z,O$1,FALSE)","v":9787},{"$f":"VLOOKUP($K213,[1]关卡对应玩家属性表!$Q:$Z,P$1,FALSE)","v":9787}]
[{"$nulls":9},36,2998000,{"$f":"VLOOKUP($K214,[1]关卡对应玩家属性表!$Q:$Z,L$1,FALSE)","v":204},{"$f":"VLOOKUP($K214,[1]关卡对应玩家属性表!$Q:$Z,M$1,FALSE)","v":1379650},{"$f":"VLOOKUP($K214,[1]关卡对应玩家属性表!$Q:$Z,N$1,FALSE)","v":215256},{"$f":"VLOOKUP($K214,[1]关卡对应玩家属性表!$Q:$Z,O$1,FALSE)","v":9787},{"$f":"VLOOKUP($K214,[1]关卡对应玩家属性表!$Q:$Z,P$1,FALSE)","v":9787}]
[{"$nulls":9},36,2998000,{"$f":"VLOOKUP($K215,[1]关卡对应玩家属性表!$Q:$Z,L$1,FALSE)","v":204},{"$f":"VLOOKUP($K215,[1]关卡对应玩家属性表!$Q:$Z,M$1,FALSE)","v":1379650},{"$f":"VLOOKUP($K215,[1]关卡对应玩家属性表!$Q:$Z,N$1,FALSE)","v":215256},{"$f":"VLOOKUP($K215,[1]关卡对应玩家属性表!$Q:$Z,O$1,FALSE)","v":9787},{"$f":"VLOOKUP($K215,[1]关卡对应玩家属性表!$Q:$Z,P$1,FALSE)","v":9787}]
[{"$nulls":9},36,2998000,{"$f":"VLOOKUP($K216,[1]关卡对应玩家属性表!$Q:$Z,L$1,FALSE)","v":204},{"$f":"VLOOKUP($K216,[1]关卡对应玩家属性表!$Q:$Z,M$1,FALSE)","v":1379650},{"$f":"VLOOKUP($K216,[1]关卡对应玩家属性表!$Q:$Z,N$1,FALSE)","v":215256},{"$f":"VLOOKUP($K216,[1]关卡对应玩家属性表!$Q:$Z,O$1,FALSE)","v":9787},{"$f":"VLOOKUP($K216,[1]关卡对应玩家属性表!$Q:$Z,P$1,FALSE)","v":9787}]
[{"$nulls":9},36,2998000,{"$f":"VLOOKUP($K217,[1]关卡对应玩家属性表!$Q:$Z,L$1,FALSE)","v":204},{"$f":"VLOOKUP($K217,[1]关卡对应玩家属性表!$Q:$Z,M$1,FALSE)","v":1379650},{"$f":"VLOOKUP($K217,[1]关卡对应玩家属性表!$Q:$Z,N$1,FALSE)","v":215256},{"$f":"VLOOKUP($K217,[1]关卡对应玩家属性表!$Q:$Z,O$1,FALSE)","v":9787},{"$f":"VLOOKUP($K217,[1]关卡对应玩家属性表!$Q:$Z,P$1,FALSE)","v":9787}]
[{"$nulls":9},37,20000,{"$f":"VLOOKUP($K218,[1]关卡对应玩家属性表!$Q:$Z,L$1,FALSE)","v":27},{"$f":"VLOOKUP($K218,[1]关卡对应玩家属性表!$Q:$Z,M$1,FALSE)","v":5094},{"$f":"VLOOKUP($K218,[1]关卡对应玩家属性表!$Q:$Z,N$1,FALSE)","v":962},{"$f":"VLOOKUP($K218,[1]关卡对应玩家属性表!$Q:$Z,O$1,FALSE)","v":283},{"$f":"VLOOKUP($K218,[1]关卡对应玩家属性表!$Q:$Z,P$1,FALSE)","v":283}]
[{"$nulls":9},37,20000,{"$f":"VLOOKUP($K219,[1]关卡对应玩家属性表!$Q:$Z,L$1,FALSE)","v":27},{"$f":"VLOOKUP($K219,[1]关卡对应玩家属性表!$Q:$Z,M$1,FALSE)","v":5094},{"$f":"VLOOKUP($K219,[1]关卡对应玩家属性表!$Q:$Z,N$1,FALSE)","v":962},{"$f":"VLOOKUP($K219,[1]关卡对应玩家属性表!$Q:$Z,O$1,FALSE)","v":283},{"$f":"VLOOKUP($K219,[1]关卡对应玩家属性表!$Q:$Z,P$1,FALSE)","v":283}]
[{"$nulls":9},37,20000,{"$f":"VLOOKUP($K220,[1]关卡对应玩家属性表!$Q:$Z,L$1,FALSE)","v":27},{"$f":"VLOOKUP($K220,[1]关卡对应玩家属性表!$Q:$Z,M$1,FALSE)","v":5094},{"$f":"VLOOKUP($K220,[1]关卡对应玩家属性表!$Q:$Z,N$1,FALSE)","v":962},{"$f":"VLOOKUP($K220,[1]关卡对应玩家属性表!$Q:$Z,O$1,FALSE)","v":283},{"$f":"VLOOKUP($K220,[1]关卡对应玩家属性表!$Q:$Z,P$1,FALSE)","v":283}]
[{"$nulls":9},37,20000,{"$f":"VLOOKUP($K221,[1]关卡对应玩家属性表!$Q:$Z,L$1,FALSE)","v":27},{"$f":"VLOOKUP($K221,[1]关卡对应玩家属性表!$Q:$Z,M$1,FALSE)","v":5094},{"$f":"VLOOKUP($K221,[1]关卡对应玩家属性表!$Q:$Z,N$1,FALSE)","v":962},{"$f":"VLOOKUP($K221,[1]关卡对应玩家属性表!$Q:$Z,O$1,FALSE)","v":283},{"$f":"VLOOKUP($K221,[1]关卡对应玩家属性表!$Q:$Z,P$1,FALSE)","v":283}]
[{"$nulls":9},37,20000,{"$f":"VLOOKUP($K222,[1]关卡对应玩家属性表!$Q:$Z,L$1,FALSE)","v":27},{"$f":"VLOOKUP($K222,[1]关卡对应玩家属性表!$Q:$Z,M$1,FALSE)","v":5094},{"$f":"VLOOKUP($K222,[1]关卡对应玩家属性表!$Q:$Z,N$1,FALSE)","v":962},{"$f":"VLOOKUP($K222,[1]关卡对应玩家属性表!$Q:$Z,O$1,FALSE)","v":283},{"$f":"VLOOKUP($K222,[1]关卡对应玩家属性表!$Q:$Z,P$1,FALSE)","v":283}]
[{"$nulls":9},{"$f":"J217+1","v":37},20000,{"$f":"VLOOKUP($K223,[1]关卡对应玩家属性表!$Q:$Z,L$1,FALSE)","v":27},{"$f":"VLOOKUP($K223,[1]关卡对应玩家属性表!$Q:$Z,M$1,FALSE)","v":5094},{"$f":"VLOOKUP($K223,[1]关卡对应玩家属性表!$Q:$Z,N$1,FALSE)","v":962},{"$f":"VLOOKUP($K223,[1]关卡对应玩家属性表!$Q:$Z,O$1,FALSE)","v":283},{"$f":"VLOOKUP($K223,[1]关卡对应玩家属性表!$Q:$Z,P$1,FALSE)","v":283}]
[{"$nulls":9},38,106000,{"$f":"VLOOKUP($K224,[1]关卡对应玩家属性表!$Q:$Z,L$1,FALSE)","v":54},{"$f":"VLOOKUP($K224,[1]关卡对应玩家属性表!$Q:$Z,M$1,FALSE)","v":34432},{"$f":"VLOOKUP($K224,[1]关卡对应玩家属性表!$Q:$Z,N$1,FALSE)","v":5881},{"$f":"VLOOKUP($K224,[1]关卡对应玩家属性表!$Q:$Z,O$1,FALSE)","v":1336},{"$f":"VLOOKUP($K224,[1]关卡对应玩家属性表!$Q:$Z,P$1,FALSE)","v":1336}]
[{"$nulls":9},38,106000,{"$f":"VLOOKUP($K225,[1]关卡对应玩家属性表!$Q:$Z,L$1,FALSE)","v":54},{"$f":"VLOOKUP($K225,[1]关卡对应玩家属性表!$Q:$Z,M$1,FALSE)","v":34432},{"$f":"VLOOKUP($K225,[1]关卡对应玩家属性表!$Q:$Z,N$1,FALSE)","v":5881},{"$f":"VLOOKUP($K225,[1]关卡对应玩家属性表!$Q:$Z,O$1,FALSE)","v":1336},{"$f":"VLOOKUP($K225,[1]关卡对应玩家属性表!$Q:$Z,P$1,FALSE)","v":1336}]
[{"$nulls":9},38,106000,{"$f":"VLOOKUP($K226,[1]关卡对应玩家属性表!$Q:$Z,L$1,FALSE)","v":54},{"$f":"VLOOKUP($K226,[1]关卡对应玩家属性表!$Q:$Z,M$1,FALSE)","v":34432},{"$f":"VLOOKUP($K226,[1]关卡对应玩家属性表!$Q:$Z,N$1,FALSE)","v":5881},{"$f":"VLOOKUP($K226,[1]关卡对应玩家属性表!$Q:$Z,O$1,FALSE)","v":1336},{"$f":"VLOOKUP($K226,[1]关卡对应玩家属性表!$Q:$Z,P$1,FALSE)","v":1336}]
[{"$nulls":9},38,106000,{"$f":"VLOOKUP($K227,[1]关卡对应玩家属性表!$Q:$Z,L$1,FALSE)","v":54},{"$f":"VLOOKUP($K227,[1]关卡对应玩家属性表!$Q:$Z,M$1,FALSE)","v":34432},{"$f":"VLOOKUP($K227,[1]关卡对应玩家属性表!$Q:$Z,N$1,FALSE)","v":5881},{"$f":"VLOOKUP($K227,[1]关卡对应玩家属性表!$Q:$Z,O$1,FALSE)","v":1336},{"$f":"VLOOKUP($K227,[1]关卡对应玩家属性表!$Q:$Z,P$1,FALSE)","v":1336}]
[{"$nulls":9},38,106000,{"$f":"VLOOKUP($K228,[1]关卡对应玩家属性表!$Q:$Z,L$1,FALSE)","v":54},{"$f":"VLOOKUP($K228,[1]关卡对应玩家属性表!$Q:$Z,M$1,FALSE)","v":34432},{"$f":"VLOOKUP($K228,[1]关卡对应玩家属性表!$Q:$Z,N$1,FALSE)","v":5881},{"$f":"VLOOKUP($K228,[1]关卡对应玩家属性表!$Q:$Z,O$1,FALSE)","v":1336},{"$f":"VLOOKUP($K228,[1]关卡对应玩家属性表!$Q:$Z,P$1,FALSE)","v":1336}]
[{"$nulls":9},38,106000,{"$f":"VLOOKUP($K229,[1]关卡对应玩家属性表!$Q:$Z,L$1,FALSE)","v":54},{"$f":"VLOOKUP($K229,[1]关卡对应玩家属性表!$Q:$Z,M$1,FALSE)","v":34432},{"$f":"VLOOKUP($K229,[1]关卡对应玩家属性表!$Q:$Z,N$1,FALSE)","v":5881},{"$f":"VLOOKUP($K229,[1]关卡对应玩家属性表!$Q:$Z,O$1,FALSE)","v":1336},{"$f":"VLOOKUP($K229,[1]关卡对应玩家属性表!$Q:$Z,P$1,FALSE)","v":1336}]
[{"$nulls":9},39,192000,{"$f":"VLOOKUP($K230,[1]关卡对应玩家属性表!$Q:$Z,L$1,FALSE)","v":61},{"$f":"VLOOKUP($K230,[1]关卡对应玩家属性表!$Q:$Z,M$1,FALSE)","v":65726},{"$f":"VLOOKUP($K230,[1]关卡对应玩家属性表!$Q:$Z,N$1,FALSE)","v":10998},{"$f":"VLOOKUP($K230,[1]关卡对应玩家属性表!$Q:$Z,O$1,FALSE)","v":2210},{"$f":"VLOOKUP($K230,[1]关卡对应玩家属性表!$Q:$Z,P$1,FALSE)","v":2210}]
[{"$nulls":9},39,192000,{"$f":"VLOOKUP($K231,[1]关卡对应玩家属性表!$Q:$Z,L$1,FALSE)","v":61},{"$f":"VLOOKUP($K231,[1]关卡对应玩家属性表!$Q:$Z,M$1,FALSE)","v":65726},{"$f":"VLOOKUP($K231,[1]关卡对应玩家属性表!$Q:$Z,N$1,FALSE)","v":10998},{"$f":"VLOOKUP($K231,[1]关卡对应玩家属性表!$Q:$Z,O$1,FALSE)","v":2210},{"$f":"VLOOKUP($K231,[1]关卡对应玩家属性表!$Q:$Z,P$1,FALSE)","v":2210}]
[{"$nulls":9},{"$f":"J226+1","v":39},192000,{"$f":"VLOOKUP($K232,[1]关卡对应玩家属性表!$Q:$Z,L$1,FALSE)","v":61},{"$f":"VLOOKUP($K232,[1]关卡对应玩家属性表!$Q:$Z,M$1,FALSE)","v":65726},{"$f":"VLOOKUP($K232,[1]关卡对应玩家属性表!$Q:$Z,N$1,FALSE)","v":10998},{"$f":"VLOOKUP($K232,[1]关卡对应玩家属性表!$Q:$Z,O$1,FALSE)","v":2210},{"$f":"VLOOKUP($K232,[1]关卡对应玩家属性表!$Q:$Z,P$1,FALSE)","v":2210}]
[{"$nulls":9},{"$f":"J227+1","v":39},192000,{"$f":"VLOOKUP($K233,[1]关卡对应玩家属性表!$Q:$Z,L$1,FALSE)","v":61},{"$f":"VLOOKUP($K233,[1]关卡对应玩家属性表!$Q:$Z,M$1,FALSE)","v":65726},{"$f":"VLOOKUP($K233,[1]关卡对应玩家属性表!$Q:$Z,N$1,FALSE)","v":10998},{"$f":"VLOOKUP($K233,[1]关卡对应玩家属性表!$Q:$Z,O$1,FALSE)","v":2210},{"$f":"VLOOKUP($K233,[1]关卡对应玩家属性表!$Q:$Z,P$1,FALSE)","v":2210}]
[{"$nulls":9},39,192000,{"$f":"VLOOKUP($K234,[1]关卡对应玩家属性表!$Q:$Z,L$1,FALSE)","v":61},{"$f":"VLOOKUP($K234,[1]关卡对应玩家属性表!$Q:$Z,M$1,FALSE)","v":65726},{"$f":"VLOOKUP($K234,[1]关卡对应玩家属性表!$Q:$Z,N$1,FALSE)","v":10998},{"$f":"VLOOKUP($K234,[1]关卡对应玩家属性表!$Q:$Z,O$1,FALSE)","v":2210},{"$f":"VLOOKUP($K234,[1]关卡对应玩家属性表!$Q:$Z,P$1,FALSE)","v":2210}]
[{"$nulls":9},39,192000,{"$f":"VLOOKUP($K235,[1]关卡对应玩家属性表!$Q:$Z,L$1,FALSE)","v":61},{"$f":"VLOOKUP($K235,[1]关卡对应玩家属性表!$Q:$Z,M$1,FALSE)","v":65726},{"$f":"VLOOKUP($K235,[1]关卡对应玩家属性表!$Q:$Z,N$1,FALSE)","v":10998},{"$f":"VLOOKUP($K235,[1]关卡对应玩家属性表!$Q:$Z,O$1,FALSE)","v":2210},{"$f":"VLOOKUP($K235,[1]关卡对应玩家属性表!$Q:$Z,P$1,FALSE)","v":2210}]
[{"$nulls":9},40,332000,{"$f":"VLOOKUP($K236,[1]关卡对应玩家属性表!$Q:$Z,L$1,FALSE)","v":80},{"$f":"VLOOKUP($K236,[1]关卡对应玩家属性表!$Q:$Z,M$1,FALSE)","v":129626},{"$f":"VLOOKUP($K236,[1]关卡对应玩家属性表!$Q:$Z,N$1,FALSE)","v":21360},{"$f":"VLOOKUP($K236,[1]关卡对应玩家属性表!$Q:$Z,O$1,FALSE)","v":2582},{"$f":"VLOOKUP($K236,[1]关卡对应玩家属性表!$Q:$Z,P$1,FALSE)","v":2582}]
[{"$nulls":9},40,332000,{"$f":"VLOOKUP($K237,[1]关卡对应玩家属性表!$Q:$Z,L$1,FALSE)","v":80},{"$f":"VLOOKUP($K237,[1]关卡对应玩家属性表!$Q:$Z,M$1,FALSE)","v":129626},{"$f":"VLOOKUP($K237,[1]关卡对应玩家属性表!$Q:$Z,N$1,FALSE)","v":21360},{"$f":"VLOOKUP($K237,[1]关卡对应玩家属性表!$Q:$Z,O$1,FALSE)","v":2582},{"$f":"VLOOKUP($K237,[1]关卡对应玩家属性表!$Q:$Z,P$1,FALSE)","v":2582}]
[{"$nulls":9},40,332000,{"$f":"VLOOKUP($K238,[1]关卡对应玩家属性表!$Q:$Z,L$1,FALSE)","v":80},{"$f":"VLOOKUP($K238,[1]关卡对应玩家属性表!$Q:$Z,M$1,FALSE)","v":129626},{"$f":"VLOOKUP($K238,[1]关卡对应玩家属性表!$Q:$Z,N$1,FALSE)","v":21360},{"$f":"VLOOKUP($K238,[1]关卡对应玩家属性表!$Q:$Z,O$1,FALSE)","v":2582},{"$f":"VLOOKUP($K238,[1]关卡对应玩家属性表!$Q:$Z,P$1,FALSE)","v":2582}]
[{"$nulls":9},40,332000,{"$f":"VLOOKUP($K239,[1]关卡对应玩家属性表!$Q:$Z,L$1,FALSE)","v":80},{"$f":"VLOOKUP($K239,[1]关卡对应玩家属性表!$Q:$Z,M$1,FALSE)","v":129626},{"$f":"VLOOKUP($K239,[1]关卡对应玩家属性表!$Q:$Z,N$1,FALSE)","v":21360},{"$f":"VLOOKUP($K239,[1]关卡对应玩家属性表!$Q:$Z,O$1,FALSE)","v":2582},{"$f":"VLOOKUP($K239,[1]关卡对应玩家属性表!$Q:$Z,P$1,FALSE)","v":2582}]
[{"$nulls":9},40,332000,{"$f":"VLOOKUP($K240,[1]关卡对应玩家属性表!$Q:$Z,L$1,FALSE)","v":80},{"$f":"VLOOKUP($K240,[1]关卡对应玩家属性表!$Q:$Z,M$1,FALSE)","v":129626},{"$f":"VLOOKUP($K240,[1]关卡对应玩家属性表!$Q:$Z,N$1,FALSE)","v":21360},{"$f":"VLOOKUP($K240,[1]关卡对应玩家属性表!$Q:$Z,O$1,FALSE)","v":2582},{"$f":"VLOOKUP($K240,[1]关卡对应玩家属性表!$Q:$Z,P$1,FALSE)","v":2582}]
[{"$nulls":9},40,332000,{"$f":"VLOOKUP($K241,[1]关卡对应玩家属性表!$Q:$Z,L$1,FALSE)","v":80},{"$f":"VLOOKUP($K241,[1]关卡对应玩家属性表!$Q:$Z,M$1,FALSE)","v":129626},{"$f":"VLOOKUP($K241,[1]关卡对应玩家属性表!$Q:$Z,N$1,FALSE)","v":21360},{"$f":"VLOOKUP($K241,[1]关卡对应玩家属性表!$Q:$Z,O$1,FALSE)","v":2582},{"$f":"VLOOKUP($K241,[1]关卡对应玩家属性表!$Q:$Z,P$1,FALSE)","v":2582}]
[{"$nulls":9},41,706000,{"$f":"VLOOKUP($K242,[1]关卡对应玩家属性表!$Q:$Z,L$1,FALSE)","v":100},{"$f":"VLOOKUP($K242,[1]关卡对应玩家属性表!$Q:$Z,M$1,FALSE)","v":299622},{"$f":"VLOOKUP($K242,[1]关卡对应玩家属性表!$Q:$Z,N$1,FALSE)","v":46880},{"$f":"VLOOKUP($K242,[1]关卡对应玩家属性表!$Q:$Z,O$1,FALSE)","v":4248},{"$f":"VLOOKUP($K242,[1]关卡对应玩家属性表!$Q:$Z,P$1,FALSE)","v":4248}]
[{"$nulls":9},41,706000,{"$f":"VLOOKUP($K243,[1]关卡对应玩家属性表!$Q:$Z,L$1,FALSE)","v":100},{"$f":"VLOOKUP($K243,[1]关卡对应玩家属性表!$Q:$Z,M$1,FALSE)","v":299622},{"$f":"VLOOKUP($K243,[1]关卡对应玩家属性表!$Q:$Z,N$1,FALSE)","v":46880},{"$f":"VLOOKUP($K243,[1]关卡对应玩家属性表!$Q:$Z,O$1,FALSE)","v":4248},{"$f":"VLOOKUP($K243,[1]关卡对应玩家属性表!$Q:$Z,P$1,FALSE)","v":4248}]
[{"$nulls":9},41,706000,{"$f":"VLOOKUP($K244,[1]关卡对应玩家属性表!$Q:$Z,L$1,FALSE)","v":100},{"$f":"VLOOKUP($K244,[1]关卡对应玩家属性表!$Q:$Z,M$1,FALSE)","v":299622},{"$f":"VLOOKUP($K244,[1]关卡对应玩家属性表!$Q:$Z,N$1,FALSE)","v":46880},{"$f":"VLOOKUP($K244,[1]关卡对应玩家属性表!$Q:$Z,O$1,FALSE)","v":4248},{"$f":"VLOOKUP($K244,[1]关卡对应玩家属性表!$Q:$Z,P$1,FALSE)","v":4248}]
[{"$nulls":9},41,706000,{"$f":"VLOOKUP($K245,[1]关卡对应玩家属性表!$Q:$Z,L$1,FALSE)","v":100},{"$f":"VLOOKUP($K245,[1]关卡对应玩家属性表!$Q:$Z,M$1,FALSE)","v":299622},{"$f":"VLOOKUP($K245,[1]关卡对应玩家属性表!$Q:$Z,N$1,FALSE)","v":46880},{"$f":"VLOOKUP($K245,[1]关卡对应玩家属性表!$Q:$Z,O$1,FALSE)","v":4248},{"$f":"VLOOKUP($K245,[1]关卡对应玩家属性表!$Q:$Z,P$1,FALSE)","v":4248}]
[{"$nulls":9},41,706000,{"$f":"VLOOKUP($K246,[1]关卡对应玩家属性表!$Q:$Z,L$1,FALSE)","v":100},{"$f":"VLOOKUP($K246,[1]关卡对应玩家属性表!$Q:$Z,M$1,FALSE)","v":299622},{"$f":"VLOOKUP($K246,[1]关卡对应玩家属性表!$Q:$Z,N$1,FALSE)","v":46880},{"$f":"VLOOKUP($K246,[1]关卡对应玩家属性表!$Q:$Z,O$1,FALSE)","v":4248},{"$f":"VLOOKUP($K246,[1]关卡对应玩家属性表!$Q:$Z,P$1,FALSE)","v":4248}]
[{"$nulls":9},41,706000,{"$f":"VLOOKUP($K247,[1]关卡对应玩家属性表!$Q:$Z,L$1,FALSE)","v":100},{"$f":"VLOOKUP($K247,[1]关卡对应玩家属性表!$Q:$Z,M$1,FALSE)","v":299622},{"$f":"VLOOKUP($K247,[1]关卡对应玩家属性表!$Q:$Z,N$1,FALSE)","v":46880},{"$f":"VLOOKUP($K247,[1]关卡对应玩家属性表!$Q:$Z,O$1,FALSE)","v":4248},{"$f":"VLOOKUP($K247,[1]关卡对应玩家属性表!$Q:$Z,P$1,FALSE)","v":4248}]
[{"$nulls":9},42,1165000,{"$f":"VLOOKUP($K248,[1]关卡对应玩家属性表!$Q:$Z,L$1,FALSE)","v":119},{"$f":"VLOOKUP($K248,[1]关卡对应玩家属性表!$Q:$Z,M$1,FALSE)","v":498018},{"$f":"VLOOKUP($K248,[1]关卡对应玩家属性表!$Q:$Z,N$1,FALSE)","v":77552},{"$f":"VLOOKUP($K248,[1]关卡对应玩家属性表!$Q:$Z,O$1,FALSE)","v":6786},{"$f":"VLOOKUP($K248,[1]关卡对应玩家属性表!$Q:$Z,P$1,FALSE)","v":6786}]
[{"$nulls":9},42,1165000,{"$f":"VLOOKUP($K249,[1]关卡对应玩家属性表!$Q:$Z,L$1,FALSE)","v":119},{"$f":"VLOOKUP($K249,[1]关卡对应玩家属性表!$Q:$Z,M$1,FALSE)","v":498018},{"$f":"VLOOKUP($K249,[1]关卡对应玩家属性表!$Q:$Z,N$1,FALSE)","v":77552},{"$f":"VLOOKUP($K249,[1]关卡对应玩家属性表!$Q:$Z,O$1,FALSE)","v":6786},{"$f":"VLOOKUP($K249,[1]关卡对应玩家属性表!$Q:$Z,P$1,FALSE)","v":6786}]
[{"$nulls":9},42,1165000,{"$f":"VLOOKUP($K250,[1]关卡对应玩家属性表!$Q:$Z,L$1,FALSE)","v":119},{"$f":"VLOOKUP($K250,[1]关卡对应玩家属性表!$Q:$Z,M$1,FALSE)","v":498018},{"$f":"VLOOKUP($K250,[1]关卡对应玩家属性表!$Q:$Z,N$1,FALSE)","v":77552},{"$f":"VLOOKUP($K250,[1]关卡对应玩家属性表!$Q:$Z,O$1,FALSE)","v":6786},{"$f":"VLOOKUP($K250,[1]关卡对应玩家属性表!$Q:$Z,P$1,FALSE)","v":6786}]
[{"$nulls":9},42,1165000,{"$f":"VLOOKUP($K251,[1]关卡对应玩家属性表!$Q:$Z,L$1,FALSE)","v":119},{"$f":"VLOOKUP($K251,[1]关卡对应玩家属性表!$Q:$Z,M$1,FALSE)","v":498018},{"$f":"VLOOKUP($K251,[1]关卡对应玩家属性表!$Q:$Z,N$1,FALSE)","v":77552},{"$f":"VLOOKUP($K251,[1]关卡对应玩家属性表!$Q:$Z,O$1,FALSE)","v":6786},{"$f":"VLOOKUP($K251,[1]关卡对应玩家属性表!$Q:$Z,P$1,FALSE)","v":6786}]
[{"$nulls":9},42,1165000,{"$f":"VLOOKUP($K252,[1]关卡对应玩家属性表!$Q:$Z,L$1,FALSE)","v":119},{"$f":"VLOOKUP($K252,[1]关卡对应玩家属性表!$Q:$Z,M$1,FALSE)","v":498018},{"$f":"VLOOKUP($K252,[1]关卡对应玩家属性表!$Q:$Z,N$1,FALSE)","v":77552},{"$f":"VLOOKUP($K252,[1]关卡对应玩家属性表!$Q:$Z,O$1,FALSE)","v":6786},{"$f":"VLOOKUP($K252,[1]关卡对应玩家属性表!$Q:$Z,P$1,FALSE)","v":6786}]
[{"$nulls":9},42,1165000,{"$f":"VLOOKUP($K253,[1]关卡对应玩家属性表!$Q:$Z,L$1,FALSE)","v":119},{"$f":"VLOOKUP($K253,[1]关卡对应玩家属性表!$Q:$Z,M$1,FALSE)","v":498018},{"$f":"VLOOKUP($K253,[1]关卡对应玩家属性表!$Q:$Z,N$1,FALSE)","v":77552},{"$f":"VLOOKUP($K253,[1]关卡对应玩家属性表!$Q:$Z,O$1,FALSE)","v":6786},{"$f":"VLOOKUP($K253,[1]关卡对应玩家属性表!$Q:$Z,P$1,FALSE)","v":6786}]
[{"$nulls":9},43,2001000,{"$f":"VLOOKUP($K254,[1]关卡对应玩家属性表!$Q:$Z,L$1,FALSE)","v":144},{"$f":"VLOOKUP($K254,[1]关卡对应玩家属性表!$Q:$Z,M$1,FALSE)","v":899098},{"$f":"VLOOKUP($K254,[1]关卡对应玩家属性表!$Q:$Z,N$1,FALSE)","v":142907},{"$f":"VLOOKUP($K254,[1]关卡对应玩家属性表!$Q:$Z,O$1,FALSE)","v":7561},{"$f":"VLOOKUP($K254,[1]关卡对应玩家属性表!$Q:$Z,P$1,FALSE)","v":7561}]
[{"$nulls":9},43,2001000,{"$f":"VLOOKUP($K255,[1]关卡对应玩家属性表!$Q:$Z,L$1,FALSE)","v":144},{"$f":"VLOOKUP($K255,[1]关卡对应玩家属性表!$Q:$Z,M$1,FALSE)","v":899098},{"$f":"VLOOKUP($K255,[1]关卡对应玩家属性表!$Q:$Z,N$1,FALSE)","v":142907},{"$f":"VLOOKUP($K255,[1]关卡对应玩家属性表!$Q:$Z,O$1,FALSE)","v":7561},{"$f":"VLOOKUP($K255,[1]关卡对应玩家属性表!$Q:$Z,P$1,FALSE)","v":7561}]
[{"$nulls":9},43,2001000,{"$f":"VLOOKUP($K256,[1]关卡对应玩家属性表!$Q:$Z,L$1,FALSE)","v":144},{"$f":"VLOOKUP($K256,[1]关卡对应玩家属性表!$Q:$Z,M$1,FALSE)","v":899098},{"$f":"VLOOKUP($K256,[1]关卡对应玩家属性表!$Q:$Z,N$1,FALSE)","v":142907},{"$f":"VLOOKUP($K256,[1]关卡对应玩家属性表!$Q:$Z,O$1,FALSE)","v":7561},{"$f":"VLOOKUP($K256,[1]关卡对应玩家属性表!$Q:$Z,P$1,FALSE)","v":7561}]
[{"$nulls":9},43,2001000,{"$f":"VLOOKUP($K257,[1]关卡对应玩家属性表!$Q:$Z,L$1,FALSE)","v":144},{"$f":"VLOOKUP($K257,[1]关卡对应玩家属性表!$Q:$Z,M$1,FALSE)","v":899098},{"$f":"VLOOKUP($K257,[1]关卡对应玩家属性表!$Q:$Z,N$1,FALSE)","v":142907},{"$f":"VLOOKUP($K257,[1]关卡对应玩家属性表!$Q:$Z,O$1,FALSE)","v":7561},{"$f":"VLOOKUP($K257,[1]关卡对应玩家属性表!$Q:$Z,P$1,FALSE)","v":7561}]
[{"$nulls":9},43,2001000,{"$f":"VLOOKUP($K258,[1]关卡对应玩家属性表!$Q:$Z,L$1,FALSE)","v":144},{"$f":"VLOOKUP($K258,[1]关卡对应玩家属性表!$Q:$Z,M$1,FALSE)","v":899098},{"$f":"VLOOKUP($K258,[1]关卡对应玩家属性表!$Q:$Z,N$1,FALSE)","v":142907},{"$f":"VLOOKUP($K258,[1]关卡对应玩家属性表!$Q:$Z,O$1,FALSE)","v":7561},{"$f":"VLOOKUP($K258,[1]关卡对应玩家属性表!$Q:$Z,P$1,FALSE)","v":7561}]
[{"$nulls":9},43,{"$f":"VLOOKUP(J259,$A:$B,2,FALSE)","v":2001000},{"$f":"VLOOKUP($K259,[1]关卡对应玩家属性表!$Q:$Z,L$1,FALSE)","v":144},{"$f":"VLOOKUP($K259,[1]关卡对应玩家属性表!$Q:$Z,M$1,FALSE)","v":899098},{"$f":"VLOOKUP($K259,[1]关卡对应玩家属性表!$Q:$Z,N$1,FALSE)","v":142907},{"$f":"VLOOKUP($K259,[1]关卡对应玩家属性表!$Q:$Z,O$1,FALSE)","v":7561},{"$f":"VLOOKUP($K259,[1]关卡对应玩家属性表!$Q:$Z,P$1,FALSE)","v":7561}]
[{"$nulls":9},44,2617000,{"$f":"VLOOKUP($K260,[1]关卡对应玩家属性表!$Q:$Z,L$1,FALSE)","v":181},{"$f":"VLOOKUP($K260,[1]关卡对应玩家属性表!$Q:$Z,M$1,FALSE)","v":1197880},{"$f":"VLOOKUP($K260,[1]关卡对应玩家属性表!$Q:$Z,N$1,FALSE)","v":187670},{"$f":"VLOOKUP($K260,[1]关卡对应玩家属性表!$Q:$Z,O$1,FALSE)","v":8848},{"$f":"VLOOKUP($K260,[1]关卡对应玩家属性表!$Q:$Z,P$1,FALSE)","v":8848}]
[{"$nulls":9},44,2617000,{"$f":"VLOOKUP($K261,[1]关卡对应玩家属性表!$Q:$Z,L$1,FALSE)","v":181},{"$f":"VLOOKUP($K261,[1]关卡对应玩家属性表!$Q:$Z,M$1,FALSE)","v":1197880},{"$f":"VLOOKUP($K261,[1]关卡对应玩家属性表!$Q:$Z,N$1,FALSE)","v":187670},{"$f":"VLOOKUP($K261,[1]关卡对应玩家属性表!$Q:$Z,O$1,FALSE)","v":8848},{"$f":"VLOOKUP($K261,[1]关卡对应玩家属性表!$Q:$Z,P$1,FALSE)","v":8848}]
[{"$nulls":9},44,2617000,{"$f":"VLOOKUP($K262,[1]关卡对应玩家属性表!$Q:$Z,L$1,FALSE)","v":181},{"$f":"VLOOKUP($K262,[1]关卡对应玩家属性表!$Q:$Z,M$1,FALSE)","v":1197880},{"$f":"VLOOKUP($K262,[1]关卡对应玩家属性表!$Q:$Z,N$1,FALSE)","v":187670},{"$f":"VLOOKUP($K262,[1]关卡对应玩家属性表!$Q:$Z,O$1,FALSE)","v":8848},{"$f":"VLOOKUP($K262,[1]关卡对应玩家属性表!$Q:$Z,P$1,FALSE)","v":8848}]
[{"$nulls":9},44,2617000,{"$f":"VLOOKUP($K263,[1]关卡对应玩家属性表!$Q:$Z,L$1,FALSE)","v":181},{"$f":"VLOOKUP($K263,[1]关卡对应玩家属性表!$Q:$Z,M$1,FALSE)","v":1197880},{"$f":"VLOOKUP($K263,[1]关卡对应玩家属性表!$Q:$Z,N$1,FALSE)","v":187670},{"$f":"VLOOKUP($K263,[1]关卡对应玩家属性表!$Q:$Z,O$1,FALSE)","v":8848},{"$f":"VLOOKUP($K263,[1]关卡对应玩家属性表!$Q:$Z,P$1,FALSE)","v":8848}]
[{"$nulls":9},44,2617000,{"$f":"VLOOKUP($K264,[1]关卡对应玩家属性表!$Q:$Z,L$1,FALSE)","v":181},{"$f":"VLOOKUP($K264,[1]关卡对应玩家属性表!$Q:$Z,M$1,FALSE)","v":1197880},{"$f":"VLOOKUP($K264,[1]关卡对应玩家属性表!$Q:$Z,N$1,FALSE)","v":187670},{"$f":"VLOOKUP($K264,[1]关卡对应玩家属性表!$Q:$Z,O$1,FALSE)","v":8848},{"$f":"VLOOKUP($K264,[1]关卡对应玩家属性表!$Q:$Z,P$1,FALSE)","v":8848}]
[{"$nulls":9},44,2617000,{"$f":"VLOOKUP($K265,[1]关卡对应玩家属性表!$Q:$Z,L$1,FALSE)","v":181},{"$f":"VLOOKUP($K265,[1]关卡对应玩家属性表!$Q:$Z,M$1,FALSE)","v":1197880},{"$f":"VLOOKUP($K265,[1]关卡对应玩家属性表!$Q:$Z,N$1,FALSE)","v":187670},{"$f":"VLOOKUP($K265,[1]关卡对应玩家属性表!$Q:$Z,O$1,FALSE)","v":8848},{"$f":"VLOOKUP($K265,[1]关卡对应玩家属性表!$Q:$Z,P$1,FALSE)","v":8848}]
[{"$nulls":9},45,3168000,{"$f":"VLOOKUP($K266,[1]关卡对应玩家属性表!$Q:$Z,L$1,FALSE)","v":209},{"$f":"VLOOKUP($K266,[1]关卡对应玩家属性表!$Q:$Z,M$1,FALSE)","v":1464870},{"$f":"VLOOKUP($K266,[1]关卡对应玩家属性表!$Q:$Z,N$1,FALSE)","v":227683},{"$f":"VLOOKUP($K266,[1]关卡对应玩家属性表!$Q:$Z,O$1,FALSE)","v":10005},{"$f":"VLOOKUP($K266,[1]关卡对应玩家属性表!$Q:$Z,P$1,FALSE)","v":10005}]
[{"$nulls":9},45,3168000,{"$f":"VLOOKUP($K267,[1]关卡对应玩家属性表!$Q:$Z,L$1,FALSE)","v":209},{"$f":"VLOOKUP($K267,[1]关卡对应玩家属性表!$Q:$Z,M$1,FALSE)","v":1464870},{"$f":"VLOOKUP($K267,[1]关卡对应玩家属性表!$Q:$Z,N$1,FALSE)","v":227683},{"$f":"VLOOKUP($K267,[1]关卡对应玩家属性表!$Q:$Z,O$1,FALSE)","v":10005},{"$f":"VLOOKUP($K267,[1]关卡对应玩家属性表!$Q:$Z,P$1,FALSE)","v":10005}]
[{"$nulls":9},45,3168000,{"$f":"VLOOKUP($K268,[1]关卡对应玩家属性表!$Q:$Z,L$1,FALSE)","v":209},{"$f":"VLOOKUP($K268,[1]关卡对应玩家属性表!$Q:$Z,M$1,FALSE)","v":1464870},{"$f":"VLOOKUP($K268,[1]关卡对应玩家属性表!$Q:$Z,N$1,FALSE)","v":227683},{"$f":"VLOOKUP($K268,[1]关卡对应玩家属性表!$Q:$Z,O$1,FALSE)","v":10005},{"$f":"VLOOKUP($K268,[1]关卡对应玩家属性表!$Q:$Z,P$1,FALSE)","v":10005}]
[{"$nulls":9},45,3168000,{"$f":"VLOOKUP($K269,[1]关卡对应玩家属性表!$Q:$Z,L$1,FALSE)","v":209},{"$f":"VLOOKUP($K269,[1]关卡对应玩家属性表!$Q:$Z,M$1,FALSE)","v":1464870},{"$f":"VLOOKUP($K269,[1]关卡对应玩家属性表!$Q:$Z,N$1,FALSE)","v":227683},{"$f":"VLOOKUP($K269,[1]关卡对应玩家属性表!$Q:$Z,O$1,FALSE)","v":10005},{"$f":"VLOOKUP($K269,[1]关卡对应玩家属性表!$Q:$Z,P$1,FALSE)","v":10005}]
[{"$nulls":9},45,3168000,{"$f":"VLOOKUP($K270,[1]关卡对应玩家属性表!$Q:$Z,L$1,FALSE)","v":209},{"$f":"VLOOKUP($K270,[1]关卡对应玩家属性表!$Q:$Z,M$1,FALSE)","v":1464870},{"$f":"VLOOKUP($K270,[1]关卡对应玩家属性表!$Q:$Z,N$1,FALSE)","v":227683},{"$f":"VLOOKUP($K270,[1]关卡对应玩家属性表!$Q:$Z,O$1,FALSE)","v":10005},{"$f":"VLOOKUP($K270,[1]关卡对应玩家属性表!$Q:$Z,P$1,FALSE)","v":10005}]
[{"$nulls":9},45,3168000,{"$f":"VLOOKUP($K271,[1]关卡对应玩家属性表!$Q:$Z,L$1,FALSE)","v":209},{"$f":"VLOOKUP($K271,[1]关卡对应玩家属性表!$Q:$Z,M$1,FALSE)","v":1464870},{"$f":"VLOOKUP($K271,[1]关卡对应玩家属性表!$Q:$Z,N$1,FALSE)","v":227683},{"$f":"VLOOKUP($K271,[1]关卡对应玩家属性表!$Q:$Z,O$1,FALSE)","v":10005},{"$f":"VLOOKUP($K271,[1]关卡对应玩家属性表!$Q:$Z,P$1,FALSE)","v":10005}]