{"text_format":"3","workbook":"xlsx","n_sheets":3,"sheets":["HeroRankupGroup","Sheet1","Sheet2"],"not_rendered":{"external_links":1},"read":"whole","date_system":"1900"}

{"sheet":"HeroRankupGroup","index":0,"n_rows":86,"n_cols":7,"rows_kept":86}
[null,"Id","Issame","StarLimit","IsSameClan","IsId","Name"]
[null,"int","int","int","int","int","string"]
[null,2,2,2,2,2,3]
[null,"id","是否需要同名卡","星级要求","是否同系","指定id","备注"]
["默认值",0,0,0,0,0,{"$f":"\"\"","v":""}]
["正确性校对"]
["校对值"]
[null,1,1,3,1,0,{"$f":"D8&\"星\"&\"同名\"","v":"3星同名"}]
[null,2,1,4,1,0,{"$f":"D9&\"星\"&\"同名\"","v":"4星同名"}]
[null,3,1,5,1,0,"5星同名"]
[null,4,1,6,1,0,"6星同名"]
[null,5,1,7,1,0,"7星同名"]
[null,6,1,8,1,0,"8星同名"]
[null,7,1,9,1,0,"9星同名"]
[null,8,0,3,0,0,{"$f":"D15&\"星\"&\"任意\"","v":"3星任意"}]
[null,9,0,4,0,0,"4星任意"]
[null,10,0,5,0,0,"5星任意"]
[null,11,0,6,0,0,"6星任意"]
[null,12,0,7,0,0,"7星任意"]
[null,13,0,8,0,0,"8星任意"]
[null,14,0,9,0,0,"9星任意"]
[null,15,0,3,1,0,{"$f":"D22&\"星\"&\"同元素\"","v":"3星同元素"}]
[null,16,0,4,1,0,{"$f":"D23&\"星\"&\"同元素\"","v":"4星同元素"}]
[null,17,0,5,1,0,"5星同元素"]
[null,18,0,6,1,0,"6星同元素"]
[null,19,0,7,1,0,"7星同元素"]
[null,20,0,8,1,0,"8星同元素"]
[null,21,0,9,1,0,"9星同元素"]
[null,22,0,5,0,10046,"5星涂山狐"]
[null,23,0,5,0,10028,"5星通天教主"]
[null,24,0,5,0,10031,"5星黄风姬"]
[null,25,0,5,0,10035,"5星红孩儿"]
[null,26,0,5,0,10028,"5星通天教主"]
[null,27,0,5,0,10045,"5星百花仙子"]
[null,28,0,5,0,10029,"5星梦蝶"]
[null,29,0,5,0,10031,"5星黄风姬"]
[null,30,0,5,0,10046,"5星涂山狐"]
[null,31,0,5,0,10030,"5星韩湘子"]
[null,32,0,5,0,10044,"5星混世魔王"]
[null,33,0,5,0,10030,"5星韩湘子"]
[null,34,0,5,0,10027,"5星孟婆"]
[null,35,0,5,0,10032,"5星石矶娘娘"]
[null,36,0,5,0,10029,"5星梦蝶"]
[null,37,0,5,0,10036,"5星赵公明"]
[null,38,0,5,0,10035,"5星红孩儿"]
[null,39,0,5,0,10044,"5星混世魔王"]
[null,40,0,5,0,10038,"5星夜叉"]
[null,41,0,5,0,10045,"5星百花仙子"]
[null,42,0,5,0,10032,"5星石矶娘娘"]
[null,43,0,5,0,10039,"5星女英"]
[null,44,0,5,0,10034,"5星小白龙"]
[null,45,0,5,0,10027,"5星孟婆"]
[null,46,0,5,0,10069,"5星火将军"]
[null,47,0,5,0,10037,"5星罗刹"]
[null,48,0,5,0,10071,"5星水护法"]
[null,49,0,5,0,10059,"5星水神使"]
[null,50,0,5,0,10063,"5星火魔使"]
[null,51,0,5,0,10064,"5星风魔使"]
[null,52,0,5,0,10058,"5星风神使"]
[null,53,0,5,0,10066,"5星土魔使"]
[null,54,0,5,0,10039,"5星女英"]
[null,55,0,5,0,10061,"5星光神使"]
[null,56,0,5,0,10067,"5星光魔使"]
[null,57,0,5,0,10068,"5星暗魔使"]
[null,58,0,5,0,10070,"5星奔雷手"]
[null,59,0,5,0,10072,"5星土行孙"]
[null,60,0,5,0,10062,"5星暗神使"]
[null,61,0,5,0,10035,"5星红孩儿"]
[null,62,0,5,0,10038,"5星夜叉"]
[null,63,0,5,0,10025,"5星吴刚"]
[null,64,0,5,0,10037,"5星罗刹"]
[null,65,0,5,0,10057,"5星火神使"]
[null,66,0,5,0,10060,"5星土神使"]
[null,67,0,5,0,10065,"5星水魔使"]
[null,68,0,5,0,10045,"5星百花仙子"]
[null,69,0,5,0,10034,"5星小白龙"]
[null,70,0,5,0,10036,"5星赵公明"]
[null,71,0,5,0,10025,"5星吴刚"]
[null,72,0,5,0,10034,"5星小白龙"]
[null,73,0,5,0,10025,"5星吴刚"]
[null,74,0,10,0,0,{"$f":"D81&\"星\"&\"任意\"","v":"10星任意"}]
[null,75,0,11,0,0,"11星任意"]
[null,76,0,12,0,0,{"$f":"D83&\"星\"&\"任意\"","v":"12星任意"}]
[null,77,0,10,1,0,{"$f":"D84&\"星\"&\"同元素\"","v":"10星同元素"}]
[null,78,0,11,1,0,{"$f":"D85&\"星\"&\"同元素\"","v":"11星同元素"}]
[null,79,0,12,1,0,{"$f":"D86&\"星\"&\"同元素\"","v":"12星同元素"}]

{"sheet":"Sheet1","index":1,"n_rows":52,"n_cols":11,"rows_kept":52}
[10024,{"$f":"VLOOKUP(A1,[1]HeroConfig!$B:$D,3,0)","v":"许槿然"},{"$nulls":5},10001,"孙策","吕蒙",10046]
[10025,{"$f":"VLOOKUP(A2,[1]HeroConfig!$B:$D,3,0)","v":"唐萱"},{"$nulls":5},10002,"张辽","曹丕",10028]
[10026,{"$f":"VLOOKUP(A3,[1]HeroConfig!$B:$D,3,0)","v":"孙晴"},{"$nulls":5},10003,"夏侯惇","许褚",10031]
[10027,{"$f":"VLOOKUP(A4,[1]HeroConfig!$B:$D,3,0)","v":"宁月"},{"$nulls":5},10004,"大乔","陆逊",10035]
[10028,{"$f":"VLOOKUP(A5,[1]HeroConfig!$B:$D,3,0)","v":"紫川"},{"$nulls":5},10005,"郭嘉","曹丕",10028]
[10029,{"$f":"VLOOKUP(A6,[1]HeroConfig!$B:$D,3,0)","v":"晏息"},{"$nulls":5},10006,"张郃","甄姬",10045]
[10030,{"$f":"VLOOKUP(A7,[1]HeroConfig!$B:$D,3,0)","v":"瑶瑶"},{"$nulls":5},10007,"刘备","魏延",10029]
[10031,{"$f":"VLOOKUP(A8,[1]HeroConfig!$B:$D,3,0)","v":"贾裴武"},{"$nulls":5},10008,"曹操","许褚",10031]
[10032,{"$f":"VLOOKUP(A9,[1]HeroConfig!$B:$D,3,0)","v":"雷燕"},{"$nulls":5},10009,"小乔","吕蒙",10046]
[10033,{"$f":"VLOOKUP(A10,[1]HeroConfig!$B:$D,3,0)","v":"辛夷"},{"$nulls":5},10010,"马超","庞统",10030]
[10034,{"$f":"VLOOKUP(A11,[1]HeroConfig!$B:$D,3,0)","v":"伏冥"},{"$nulls":5},10011,"司马懿","典韦",10044]
[10035,{"$f":"VLOOKUP(A12,[1]HeroConfig!$B:$D,3,0)","v":"司空染"},{"$nulls":5},10012,"张飞","庞统",10030]
[10036,{"$f":"VLOOKUP(A13,[1]HeroConfig!$B:$D,3,0)","v":"解幽"},{"$nulls":5},10013,"袁绍","张角",10027]
[10037,{"$f":"VLOOKUP(A14,[1]HeroConfig!$B:$D,3,0)","v":"薛苓"},{"$nulls":5},10014,"周瑜","甘宁",10032]
[10038,{"$f":"VLOOKUP(A15,[1]HeroConfig!$B:$D,3,0)","v":"常申"},{"$nulls":5},10015,"关羽","魏延",10029]
[10039,{"$f":"VLOOKUP(A16,[1]HeroConfig!$B:$D,3,0)","v":"呼延腾"},{"$nulls":5},10016,"孙坚","鲁肃",10036]
[10040,{"$f":"VLOOKUP(A17,[1]HeroConfig!$B:$D,3,0)","v":"冉宜"},{"$nulls":5},10017,"孙权","陆逊",10035]
[10041,{"$f":"VLOOKUP(A18,[1]HeroConfig!$B:$D,3,0)","v":"孟灿"},{"$nulls":5},10018,"荀彧","典韦",10044]
[10042,{"$f":"VLOOKUP(A19,[1]HeroConfig!$B:$D,3,0)","v":"叶辽"},{"$nulls":5},10019,"董卓","于吉",10038]
[10043,{"$f":"VLOOKUP(A20,[1]HeroConfig!$B:$D,3,0)","v":"乌廉"},{"$nulls":5},10020,"曹仁","甄姬",10045]
[10044,{"$f":"VLOOKUP(A21,[1]HeroConfig!$B:$D,3,0)","v":"姜燧"},{"$nulls":5},10021,"太史慈","甘宁",10032]
[10045,{"$f":"VLOOKUP(A22,[1]HeroConfig!$B:$D,3,0)","v":"苏可"},{"$nulls":5},10022,"诸葛亮","姜维",10039]
[10046,{"$f":"VLOOKUP(A23,[1]HeroConfig!$B:$D,3,0)","v":"林越"},{"$nulls":5},10023,"赵云","马岱",10034]
[10024,{"$f":"VLOOKUP(A24,[1]HeroConfig!$B:$D,3,0)","v":"许槿然"},{"$nulls":5},10024,"华佗","张角",10027]
[10025,{"$f":"VLOOKUP(A25,[1]HeroConfig!$B:$D,3,0)","v":"唐萱"},{"$nulls":5},10025,"贾诩","文丑",10069]
[10026,{"$f":"VLOOKUP(A26,[1]HeroConfig!$B:$D,3,0)","v":"孙晴"},{"$nulls":5},10026,"吕布","公孙瓒",10037]
[10027,{"$f":"VLOOKUP(A27,[1]HeroConfig!$B:$D,3,0)","v":"宁月"},{"$nulls":5},10027,"张角","少年吕布",10071]
[10028,{"$f":"VLOOKUP(A28,[1]HeroConfig!$B:$D,3,0)","v":"紫川"},{"$nulls":5},10028,"曹丕","少年曹操",10059]
[10029,{"$f":"VLOOKUP(A29,[1]HeroConfig!$B:$D,3,0)","v":"晏息"},{"$nulls":5},10029,"魏延","少年赵云",10063]
[10030,{"$f":"VLOOKUP(A30,[1]HeroConfig!$B:$D,3,0)","v":"瑶瑶"},{"$nulls":5},10030,"庞统","少年关羽",10064]
[10031,{"$f":"VLOOKUP(A31,[1]HeroConfig!$B:$D,3,0)","v":"贾裴武"},{"$nulls":5},10031,"许褚","夏侯渊",10058]
[10032,{"$f":"VLOOKUP(A32,[1]HeroConfig!$B:$D,3,0)","v":"雷燕"},{"$nulls":5},10032,"甘宁","步练师",10066]
[10033,{"$f":"VLOOKUP(A33,[1]HeroConfig!$B:$D,3,0)","v":"辛夷"},{"$nulls":5},10033,"黄月英","姜维",10039]
[10034,{"$f":"VLOOKUP(A34,[1]HeroConfig!$B:$D,3,0)","v":"伏冥"},{"$nulls":5},10034,"马岱","孟获",10061]
[10035,{"$f":"VLOOKUP(A35,[1]HeroConfig!$B:$D,3,0)","v":"司空染"},{"$nulls":5},10035,"陆逊","少年周瑜",10067]
[10036,{"$f":"VLOOKUP(A36,[1]HeroConfig!$B:$D,3,0)","v":"解幽"},{"$nulls":5},10036,"鲁肃","少女小乔",10068]
[10037,{"$f":"VLOOKUP(A37,[1]HeroConfig!$B:$D,3,0)","v":"薛苓"},{"$nulls":5},10037,"公孙瓒","颜良",10070]
[10038,{"$f":"VLOOKUP(A38,[1]HeroConfig!$B:$D,3,0)","v":"常申"},{"$nulls":5},10038,"于吉","少女貂蝉",10072]
[10039,{"$f":"VLOOKUP(A39,[1]HeroConfig!$B:$D,3,0)","v":"呼延腾"},{"$nulls":5},10039,"姜维","祝融",10062]
[10040,{"$f":"VLOOKUP(A40,[1]HeroConfig!$B:$D,3,0)","v":"冉宜"},{"$nulls":5},10040,"张昭","陆逊",10035]
[10041,{"$f":"VLOOKUP(A41,[1]HeroConfig!$B:$D,3,0)","v":"孟灿"},{"$nulls":5},10041,"华雄","于吉",10038]
[10042,{"$f":"VLOOKUP(A42,[1]HeroConfig!$B:$D,3,0)","v":"叶辽"},{"$nulls":5},10042,"袁术","贾诩",10025]
[10043,{"$f":"VLOOKUP(A43,[1]HeroConfig!$B:$D,3,0)","v":"乌廉"},{"$nulls":5},10043,"貂蝉","公孙瓒",10037]
[10044,{"$f":"VLOOKUP(A44,[1]HeroConfig!$B:$D,3,0)","v":"姜燧"},{"$nulls":5},10044,"典韦","乐进",10057]
[10045,{"$f":"VLOOKUP(A45,[1]HeroConfig!$B:$D,3,0)","v":"苏可"},{"$nulls":5},10045,"甄姬","少女甄姬",10060]
[10046,{"$f":"VLOOKUP(A46,[1]HeroConfig!$B:$D,3,0)","v":"林越"},{"$nulls":5},10046,"吕蒙","凌统",10065]
[10047,{"$f":"VLOOKUP(A47,[1]HeroConfig!$B:$D,3,0)","v":"赤肥肥"},{"$nulls":5},10085,"曹植","甄姬",10045]
[10048,{"$f":"VLOOKUP(A48,[1]HeroConfig!$B:$D,3,0)","v":"银肥肥"},{"$nulls":5},10086,"刘禅","马岱",10034]
[10049,{"$f":"VLOOKUP(A49,[1]HeroConfig!$B:$D,3,0)","v":"苍肥肥"},{"$nulls":5},10087,"孙尚香","鲁肃",10036]
[10050,{"$f":"VLOOKUP(A50,[1]HeroConfig!$B:$D,3,0)","v":"金肥肥"},{"$nulls":5},10088,"左慈","贾诩",10025]
[10051,{"$f":"VLOOKUP(A51,[1]HeroConfig!$B:$D,3,0)","v":"阳魔"},{"$nulls":5},10089,"黄忠","马岱",10034]
[10052,{"$f":"VLOOKUP(A52,[1]HeroConfig!$B:$D,3,0)","v":"阴魔"},{"$nulls":5},10090,"陈宫","贾诩",10025]

{"sheet":"Sheet2","index":2,"n_rows":52,"n_cols":4,"rows_kept":52}
["涂山狐",null,"涂山狐",{"$f":"\"5星\"&C1","v":"5星涂山狐"}]
["吕洞宾",null,"通天教主",{"$f":"\"5星\"&C2","v":"5星通天教主"}]
["黄风",null,"黄风姬","5星黄风姬"]
["喵铃",null,"红孩儿","5星红孩儿"]
["吕洞宾",null,"通天教主","5星通天教主"]
["百花仙子",null,"百花仙子","5星百花仙子"]
["梦蝶",null,"梦蝶","5星梦蝶"]
["黄风",null,"黄风姬","5星黄风姬"]
["涂山狐",null,"涂山狐","5星涂山狐"]
["韩湘子",null,"韩湘子","5星韩湘子"]
["混世魔王",null,"混世魔王","5星混世魔王"]
["韩湘子",null,"韩湘子","5星韩湘子"]
["伏冥",null,"孟婆","5星孟婆"]
["石矶娘娘",null,"石矶娘娘","5星石矶娘娘"]
["梦蝶",null,"梦蝶","5星梦蝶"]
["赵公明",null,"赵公明","5星赵公明"]
["喵铃",null,"红孩儿","5星红孩儿"]
["混世魔王",null,"混世魔王","5星混世魔王"]
["夜游神",null,"夜叉","5星夜叉"]
["百花仙子",null,"百花仙子","5星百花仙子"]
["石矶娘娘",null,"石矶娘娘","5星石矶娘娘"]
["女英",null,"女英","5星女英"]
["小白龙",null,"小白龙","5星小白龙"]
["伏冥",null,"孟婆","5星孟婆"]
["火将军",null,"火将军","5星火将军"]
["影莉",null,"罗刹","5星罗刹"]
["水护法",null,"水护法","5星水护法"]
["水神使",null,"水神使","5星水神使"]
["火魔使",null,"火魔使","5星火魔使"]
["风魔使",null,"风魔使","5星风魔使"]
["风神使",null,"风神使","5星风神使"]
["土魔使",null,"土魔使","5星土魔使"]
["女英",null,"女英","5星女英"]
["光神使",null,"光神使","5星光神使"]
["光魔使",null,"光魔使","5星光魔使"]
["暗魔使",null,"暗魔使","5星暗魔使"]
["奔雷手",null,"奔雷手","5星奔雷手"]
["土行孙",null,"土行孙","5星土行孙"]
["暗神使",null,"暗神使","5星暗神使"]
["喵铃",null,"红孩儿","5星红孩儿"]
["夜游神",null,"夜叉","5星夜叉"]
["吴刚",null,"吴刚","5星吴刚"]
["影莉",null,"罗刹","5星罗刹"]
["火神使",null,"火神使","5星火神使"]
["土神使",null,"土神使","5星土神使"]
["水魔使",null,"水魔使","5星水魔使"]
["百花仙子",null,"百花仙子","5星百花仙子"]
["小白龙",null,"小白龙","5星小白龙"]
["赵公明",null,"赵公明","5星赵公明"]
["吴刚",null,"吴刚","5星吴刚"]
["小白龙",null,"小白龙","5星小白龙"]
["吴刚",null,"吴刚","5星吴刚"]