{"text_format":"3","workbook":"xlsx","n_sheets":2,"sheets":["ArenaRobotConfig","Sheet1"],"not_rendered":{"defined_names":1},"read":"whole","date_system":"1900"}

{"sheet":"ArenaRobotConfig","index":0,"n_rows":264,"n_cols":11,"rows_kept":264}
[null,"Id","RobotName","RobotLevel","RobotScore","RoleId","RoleLv","DifferDemonsId","DifferDemonsLv","PoolId","Nouse"]
[null,"int","string","int","int","mut,int#int,1","int","mut,int#int,1","int","int","string"]
[null,4,4,4,4,4,4,4,4,4,0]
[null,"索引","机器人姓名","机器人玩家等级","机器人玩家积分","妖灵师列表","妖灵师对应等级","异妖列表","异妖阶级","所属库id","策划备注"]
["默认值",0,null,null,0,"null",0,"null",0]
["正确性校对"]
["校对值"]
[null,1,"微生哲远",9,960,"10064#10048#10053#10050#10054#10052",20,null,null,1]
[null,2,"长孙骏勇",9,985,"10047#10048#10053#10050#10059#10052",18,null,null,1]
[null,3,"夹谷骏家",8,963,"10047#10048#10049#10050#10051#10052",22,null,null,1]
[null,4,"闾丘帝晖",8,985,"10047#10048#10049#10050#10051#10052",18,null,null,1]
[null,5,"柳震荣",10,978,"10064#10048#10070#10050#10054#10052",21,null,null,1]
[null,6,"谷梁帝博",10,972,"10047#10048#10053#10050#10051#10052",21,null,null,1]
[null,7,"云濡驰",10,961,"10047#10048#10049#10050#10054#10052",19,null,null,1]
[null,8,"东郭骏家",9,954,"10047#10061#10053#10050#10054#10052",22,null,null,1]
[null,9,"卫运林",8,958,"10047#10048#10049#10050#10054#10052",19,null,null,1]
[null,10,"方濡驰",9,976,"10047#10048#10053#10066#10051#10052",20,null,null,1]
[null,11,"褚师逸芃",10,984,"10047#10048#10072#10050#10069#10052",22,null,null,1]
[null,12,"司空骏暄",9,978,"10047#10061#10053#10050#10054#10052",22,null,null,1]
[null,13,"钱濡初",8,985,"10047#10048#10049#10050#10054#10052",18,null,null,1]
[null,14,"南荣桂美",10,966,"10047#10057#10053#10050#10054#10060",21,null,null,1]
[null,15,"昌家祥",10,995,"10047#10048#10072#10050#10058#10052",21,null,null,1]
[null,16,"子书骏家",13,1010,"10047#10057#10053#10066#10054#10065",37,null,null,2]
[null,17,"皇甫濡驰",15,1001,"10047#10048#10049#10068#10069#10065",35,null,null,2]
[null,18,"史信轩",15,1016,"10047#10048#10053#10050#10069#10052",34,null,null,2]
[null,19,"宗政骞逸",14,1034,"10047#10048#10072#10067#10069#10052",33,null,null,2]
[null,20,"呼延佑骏",13,1031,"10047#10057#10049#10068#10069#10052",37,null,null,2]
[null,21,"濮阳歆岚",15,1016,"10062#10061#10070#10050#10051#10052",34,null,null,2]
[null,22,"郎炳天",12,1054,"10047#10061#10049#10050#10069#10060",36,null,null,2]
[null,23,"赵辰鸿",15,1038,"10064#10061#10053#10050#10059#10052",30,null,null,2]
[null,24,"漆雕妍雨",13,1012,"10047#10048#10071#10066#10054#10065",30,null,null,2]
[null,25,"姜晨星",14,1056,"10047#10061#10049#10068#10054#10060",37,null,null,2]
[null,26,"轩辕天辰",14,1059,"10064#10048#10071#10050#10058#10052",30,null,null,2]
[null,27,"独孤晨晓",15,1047,"10047#10061#10049#10068#10058#10052",36,null,null,2]
[null,28,"申屠成强",12,1004,"10047#10048#10071#10067#10058#10052",30,null,null,2]
[null,29,"孔嘉瑞",12,1007,"10047#10057#10049#10067#10054#10060",31,null,null,2]
[null,30,"奚睿振",14,1042,"10047#10057#10072#10050#10059#10052",36,null,null,2]
[null,31,"公仲禧轩",12,1008,"10047#10057#10072#10066#10054#10052",33,null,null,2]
[null,32,"仲孙锐辰",13,1038,"10047#10048#10072#10066#10069#10052",30,null,null,2]
[null,33,"贯丘驰振",14,1022,"10047#10061#10070#10050#10054#10060",35,null,null,2]
[null,34,"奚林爵",12,1056,"10047#10061#10049#10067#10069#10052",33,null,null,2]
[null,35,"南宫祯家",12,1056,"10047#10048#10070#10066#10069#10052",31,null,null,2]
[null,36,"端木寅康",15,1057,"10062#10048#10053#10050#10058#10060",37,null,null,2]
[null,37,"赵远杰",13,1032,"10062#10048#10049#10066#10058#10052",36,null,null,2]
[null,38,"西门彤岚",15,1006,"10062#10061#10049#10050#10054#10060",34,null,null,2]
[null,39,"俞钊康",14,1012,"10047#10061#10070#10050#10054#10065",35,null,null,2]
[null,40,"李骏暄",14,1016,"10047#10048#10071#10066#10051#10065",32,null,null,2]
[null,41,"酆璐凡",13,1059,"10064#10048#10053#10068#10051#10060",37,null,null,2]
[null,42,"拓跋博骏",13,1041,"10047#10048#10053#10067#10069#10063",34,null,null,2]
[null,43,"呼延锦烁",12,1043,"10047#10048#10070#10067#10054#10063",33,null,null,2]
[null,44,"公祖蔓辰",14,1008,"10047#10048#10070#10068#10059#10052",30,null,null,2]
[null,45,"南宫睿振",14,1031,"10062#10048#10049#10050#10058#10065",37,null,null,2]
[null,46,"子车炳成",22,1119,"10062#10007#10071#10066#10040#10065",45,null,null,3]
[null,47,"谢辰运",20,1074,"10064#10061#10038#10066#10030#10063",49,null,null,3]
[null,48,"水凡腾",21,1064,"10062#10061#10042#10023#10059#10065",49,null,null,3]
[null,49,"郑嘉瑞",25,1086,"10064#10057#10071#10029#10058#10032",49,null,null,3]
[null,50,"华荣谛",23,1087,"10064#10005#10072#10067#10040#10063",48,null,null,3]
[null,51,"许相如",23,1120,"10003#10061#10016#10066#10058#10063",45,null,null,3]
[null,52,"微生逸星",24,1094,"10064#10057#10070#10066#10013#10090",42,null,null,3]
[null,53,"葛濡初",25,1118,"10018#10061#10070#10012#10058#10065",47,null,null,3]
[null,54,"公门雪芙",25,1111,"10062#10057#10042#10067#10069#10046",50,null,null,3]
[null,55,"金运钊",21,1075,"10062#10057#10071#10043#10045#10063",47,null,null,3]
[null,56,"公山成辰",21,1061,"10062#10002#10071#10028#10059#10065",42,null,null,3]
[null,57,"水昭彤",25,1062,"10064#10057#10008#10068#10058#10032",44,null,null,3]
[null,58,"姜梁升",24,1080,"10019#10057#10071#10009#10059#10063",43,null,null,3]
[null,59,"呼延嘉瑞",21,1095,"10062#10061#10038#10068#10069#10026",48,null,null,3]
[null,60,"公仲祥远",25,1090,"10019#10057#10071#10029#10059#10065",44,null,null,3]
[null,61,"葛雨雅",20,1063,"10062#10010#10070#10067#10031#10060",49,null,null,3]
[null,62,"鲍辰祜",25,1102,"10064#10057#10004#10067#10059#10090",49,null,null,3]
[null,63,"王中树",20,1068,"10064#10057#10070#10068#10089#10014",44,null,null,3]
[null,64,"公坚烁梁",25,1063,"10018#10057#10070#10068#10069#10014",47,null,null,3]
[null,65,"公仪澄驰",21,1120,"10062#10087#10004#10066#10058#10063",48,null,null,3]
[null,66,"韦德杰",22,1084,"10019#10005#10071#10068#10069#10060",51,null,null,3]
[null,67,"柏馨美",23,1109,"10062#10057#10004#10067#10058#10090",48,null,null,3]
[null,68,"韦腾锟",23,1084,"10036#10057#10072#10068#10059#10033",51,null,null,3]
[null,69,"范振然",23,1061,"10062#10007#10070#10022#10059#10060",49,null,null,3]
[null,70,"任年骞",21,1114,"10018#10057#10072#10066#10045#10060",49,null,null,3]
[null,71,"鲍骞权",21,1066,"10006#10057#10070#10067#10058#10014",44,null,null,3]
[null,72,"卫辰韦",20,1120,"10062#10057#10016#10066#10058#10032",43,null,null,3]
[null,73,"邹良佑",24,1116,"10062#10057#10070#10009#10015#10060",46,null,null,3]
[null,74,"马爵初",24,1084,"10064#10061#10011#10068#10058#10014",51,null,null,3]
[null,75,"孙帝晖",24,1098,"10064#10010#10072#10012#10058#10060",46,null,null,3]
[null,76,"万俟辰星",33,1125,"10044#10002#10071#10029#10024#10026",63,null,null,4]
[null,77,"戚阳晨",33,1164,"10034#10007#10042#10088#10069#10027",60,null,null,4]
[null,78,"陶晖辞",34,1144,"10019#10007#10042#10009#10015#10063",63,null,null,4]
[null,79,"姜辰运",35,1123,"10018#10010#10072#10039#10030#10090",63,null,null,4]
[null,80,"乐正锦烁",35,1153,"10019#10010#10021#10012#10015#10017",62,null,null,4]
[null,81,"公仪骞权",34,1133,"10001#10035#10011#10088#10059#10033",65,null,null,4]
[null,82,"公仪优初",32,1134,"10019#10002#10070#10028#10013#10032",66,null,null,4]
[null,83,"周成强",34,1179,"10062#10005#10004#10023#10015#10014",63,null,null,4]
[null,84,"花荣谛",30,1176,"10018#10087#10008#10067#10031#10027",61,null,null,4]
[null,85,"仲孙宇嘉",32,1124,"10018#10085#10008#10028#10058#10014",62,null,null,4]
[null,86,"公伯天辰",32,1137,"10044#10002#10086#10022#10025#10060",63,null,null,4]
[null,87,"谢锐星",33,1130,"10018#10061#10016#10009#10025#10032",59,null,null,4]
[null,88,"雷泽皓",31,1163,"10062#10010#10042#10028#10030#10033",63,null,null,4]
[null,89,"公仪炳成",30,1150,"10001#10087#10086#10067#10015#10017",60,null,null,4]
[null,90,"苏鑫鸿",35,1123,"10003#10035#10008#10022#10013#10032",66,null,null,4]
[null,91,"史允权",35,1162,"10003#10085#10004#10029#10040#10033",64,null,null,4]
[null,92,"昌蔓鑫",34,1163,"10044#10007#10004#10039#10089#10032",66,null,null,4]
[null,93,"孙皓宇",33,1159,"10006#10037#10011#10039#10024#10017",60,null,null,4]
[null,94,"蒋涛家",30,1143,"10001#10020#10021#10039#10024#10026",61,null,null,4]
[null,95,"花荣谛",35,1126,"10044#10085#10008#10028#10013#10026",64,null,null,4]
[null,96,"东郭昭彤",33,1142,"10034#10007#10042#10009#10031#10046",66,null,null,4]
[null,97,"鲍宇潍",32,1180,"10019#10087#10021#10009#10031#10033",60,null,null,4]
[null,98,"慕容辰翰",33,1139,"10001#10085#10016#10039#10025#10046",63,null,null,4]
[null,99,"褚师振晨",35,1127,"10036#10002#10004#10009#10089#10041",60,null,null,4]
[null,100,"欧阳俊晨",32,1134,"10034#10035#10011#10028#10025#10033",60,null,null,4]
[null,101,"慕容裕帝",33,1180,"10003#10007#10011#10028#10025#10090",65,null,null,4]
[null,102,"俞逸远",31,1166,"10003#10037#10016#10022#10015#10041",66,null,null,4]
[null,103,"段干槐裕",35,1167,"10003#10010#10004#10088#10015#10090",66,null,null,4]
[null,104,"褚师振晨",35,1142,"10019#10037#10042#10022#10015#10014",66,null,null,4]
[null,105,"欧阳俊晨",35,1158,"10003#10010#10011#10009#10024#10041",66,null,null,4]
[null,106,"慕容裕帝",32,1164,"10001#10007#10008#10009#10030#10046",65,null,null,4]
[null,107,"俞逸远",33,1153,"10034#10010#10042#10028#10045#10041",62,null,null,4]
[null,108,"慕容裕帝",32,1139,"10019#10020#10011#10012#10024#10046",60,null,null,4]
[null,109,"俞逸远",35,1154,"10003#10085#10011#10022#10024#10027",65,null,null,4]
[null,110,"公门运骏",45,1233,"10044#10005#10004#10023#10045#10014",75,null,null,5]
[null,111,"拓跋帝祥",42,1188,"10018#10037#10016#10088#10031#10046",84,null,null,5]
[null,112,"公门皓宇",45,1181,"10006#10020#10011#10023#10089#10041",81,null,null,5]
[null,113,"子桑泽海",43,1230,"10003#10020#10038#10023#10089#10027",85,null,null,5]
[null,114,"公西龙骞",42,1246,"10003#10035#10016#10029#10024#10033",82,null,null,5]
[null,115,"壤驷柏祯",44,1238,"10036#10007#10011#10023#10089#10046",84,null,null,5]
[null,116,"戚阳晨",42,1250,"10003#10010#10004#10012#10015#10090",77,null,null,5]
[null,117,"陶晖辞",41,1211,"10006#10035#10038#10022#10030#10033",79,null,null,5]
[null,118,"姜辰运",42,1221,"10034#10035#10021#10012#10031#10027",73,null,null,5]
[null,119,"章骞峰",44,1193,"10034#10002#10042#10039#10089#10017",76,null,null,5]
[null,120,"贯丘骏勇",44,1206,"10003#10005#10004#10023#10031#10046",83,null,null,5]
[null,121,"漆雕禧轩",44,1217,"10036#10085#10086#10029#10024#10032",81,null,null,5]
[null,122,"乐正锦烁",43,1230,"10006#10002#10008#10043#10031#10033",74,null,null,5]
[null,123,"公仪骞权",41,1206,"10001#10037#10011#10023#10045#10014",76,null,null,5]
[null,124,"端木腾休",42,1186,"10001#10005#10042#10012#10015#10032",77,null,null,5]
[null,125,"卫辰韦",43,1245,"10034#10035#10004#10012#10015#10017",84,null,null,5]
[null,126,"邹良佑",41,1242,"10019#10035#10038#10043#10030#10041",79,null,null,5]
[null,127,"马爵初",41,1235,"10019#10005#10042#10029#10045#10027",76,null,null,5]
[null,128,"孙帝晖",45,1237,"10044#10037#10042#10012#10013#10027",78,null,null,5]
[null,129,"万俟辰星",42,1240,"10019#10007#10011#10028#10040#10026",78,null,null,5]
[null,130,"戚阳晨",43,1209,"10036#10020#10038#10029#10025#10041",84,null,null,5]
[null,131,"陶晖辞",45,1208,"10006#10020#10011#10039#10089#10014",83,null,null,5]
[null,132,"姜辰运",43,1250,"10044#10010#10086#10028#10030#10027",76,null,null,5]
[null,133,"乐正锦烁",41,1237,"10006#10020#10038#10039#10045#10033",78,null,null,5]
[null,134,"公仪骞权",42,1232,"10003#10035#10042#10043#10015#10032",82,null,null,5]
[null,135,"公仪优初",45,1201,"10044#10035#10086#10023#10030#10033",79,null,null,5]
[null,136,"周成强",41,1235,"10006#10085#10004#10039#10040#10032",77,null,null,5]
[null,137,"花荣谛",45,1222,"10036#10035#10042#10028#10030#10046",83,null,null,5]
[null,138,"仲孙宇嘉",44,1197,"10003#10005#10011#10009#10030#10032",76,null,null,5]
[null,139,"公伯天辰",43,1242,"10018#10085#10011#10029#10031#10027",85,null,null,5]
[null,140,"皇甫运康",61,1253,"10018#10010#10016#10022#10040#10027",101,null,null,6]
[null,141,"韩允权",69,1276,"10044#10085#10016#10009#10015#10017",100,null,null,6]
[null,142,"公仪优初",65,1346,"10001#10087#10021#10009#10013#10014",102,null,null,6]
[null,143,"东宫炳辰",65,1284,"10001#10087#10004#10022#10024#10041",107,null,null,6]
[null,144,"周成强",67,1320,"10036#10005#10021#10009#10015#10090",104,null,null,6]
[null,145,"严睿振",68,1288,"10003#10005#10038#10023#10013#10032",117,null,null,6]
[null,146,"潘睿栋",70,1259,"10003#10002#10038#10088#10089#10026",109,null,null,6]
[null,147,"贯丘辰贤",64,1340,"10034#10010#10011#10029#10030#10033",110,null,null,6]
[null,148,"鲁辰震",68,1264,"10044#10010#10086#10012#10040#10026",113,null,null,6]
[null,149,"潘锦栋",61,1286,"10036#10085#10021#10028#10013#10041",119,null,null,6]
[null,150,"岑歆岚",67,1260,"10006#10005#10038#10012#10015#10014",107,null,null,6]
[null,151,"施运康",64,1273,"10019#10037#10004#10029#10045#10026",108,null,null,6]
[null,152,"宇文梓振",70,1304,"10018#10005#10004#10028#10030#10041",112,null,null,6]
[null,153,"褚师运鸿",61,1307,"10036#10005#10008#10022#10089#10046",101,null,null,6]
[null,154,"太叔姿芝",65,1266,"10019#10005#10038#10012#10015#10032",103,null,null,6]
[null,155,"公门濡骞",64,1337,"10006#10087#10021#10023#10040#10027",103,null,null,6]
[null,156,"百里萱雪",62,1265,"10003#10037#10086#10088#10024#10026",101,null,null,6]
[null,157,"公仪炳成",60,1302,"10018#10005#10008#10028#10024#10032",117,null,null,6]
[null,158,"梁丘腾锟",70,1324,"10001#10035#10008#10028#10013#10017",101,null,null,6]
[null,159,"施逸振",68,1256,"10044#10002#10016#10039#10024#10017",120,null,null,6]
[null,160,"第五桂依",62,1280,"10044#10002#10021#10088#10015#10090",119,null,null,6]
[null,161,"司寇采欢",70,1307,"10034#10035#10011#10088#10040#10027",101,null,null,6]
[null,162,"壤驷相如",65,1295,"10036#10002#10008#10023#10024#10027",107,null,null,6]
[null,163,"苏鑫鸿",61,1332,"10036#10087#10042#10009#10040#10027",112,null,null,6]
[null,164,"公良睿运",61,1271,"10003#10035#10004#10088#10040#10014",107,null,null,6]
[null,165,"袁祥远",66,1317,"10001#10037#10042#10009#10031#10090",116,null,null,6]
[null,166,"司空文延",65,1343,"10006#10037#10016#10028#10025#10032",100,null,null,6]
[null,167,"金辰起",60,1301,"10018#10037#10004#10009#10030#10033",109,null,null,6]
[null,168,"仲孙宇嘉",69,1311,"10036#10002#10021#10028#10015#10026",112,null,null,6]
[null,169,"段干桂美",70,1334,"10036#10020#10021#10009#10089#10017",101,null,null,6]
[null,170,"郑雪璐",100,1411,"10006#10002#10086#10088#10025#10032",174,null,null,7]
[null,171,"吴驰嘉",91,1369,"10006#10010#10016#10088#10045#10017",155,null,null,7]
[null,172,"史哲仕",100,1354,"10044#10037#10038#10022#10013#10017",178,null,null,7]
[null,173,"公伯天辰",90,1372,"10034#10037#10086#10029#10024#10041",175,null,null,7]
[null,174,"闻人良佑",87,1417,"10036#10020#10042#10012#10025#10014",178,null,null,7]
[null,175,"吕星畅",105,1435,"10018#10087#10008#10012#10015#10027",168,null,null,7]
[null,176,"谢锐星",98,1415,"10006#10035#10086#10028#10015#10026",149,null,null,7]
[null,177,"公户沛梦",105,1355,"10006#10005#10086#10009#10024#10032",165,null,null,7]
[null,178,"公仲桓初",99,1449,"10018#10005#10021#10012#10040#10046",173,null,null,7]
[null,179,"贯丘佳胤",87,1408,"10019#10010#10042#10043#10031#10014",154,null,null,7]
[null,180,"公羊然骏",91,1354,"10006#10037#10008#10088#10030#10090",168,null,null,7]
[null,181,"呼延天禧",87,1442,"10036#10037#10042#10028#10025#10090",180,null,null,7]
[null,182,"雷泽皓",85,1383,"10001#10020#10016#10022#10031#10090",169,null,null,7]
[null,183,"万俟辰星",93,1421,"10034#10007#10004#10012#10024#10033",165,null,null,7]
[null,184,"段干运钊",93,1412,"10001#10002#10042#10029#10030#10014",151,null,null,7]
[null,185,"许睿栋",90,1416,"10036#10020#10008#10088#10015#10033",179,null,null,7]
[null,186,"孙珍蔚",97,1436,"10019#10010#10038#10088#10015#10026",175,null,null,7]
[null,187,"东郭逸芃",90,1385,"10019#10002#10038#10029#10031#10017",144,null,null,7]
[null,188,"宗政然澄",100,1381,"10036#10087#10011#10022#10025#10017",152,null,null,7]
[null,189,"何龙中",103,1448,"10018#10087#10038#10043#10031#10017",166,null,null,7]
[null,190,"南荣龙中",102,1402,"10036#10035#10038#10039#10025#10027",157,null,null,7]
[null,191,"公坚炳天",95,1404,"10003#10007#10004#10088#10015#10033",148,null,null,7]
[null,192,"慕容恒震",85,1383,"10036#10007#10021#10023#10013#10041",170,null,null,7]
[null,193,"昌信轩",105,1441,"10044#10087#10016#10043#10013#10027",162,null,null,7]
[null,194,"许良佑",101,1399,"10006#10087#10016#10043#10045#10033",177,null,null,7]
[null,195,"严骏裕",105,1384,"10036#10035#10042#10022#10045#10033",173,null,null,7]
[null,196,"公仲桂美",87,1399,"10001#10020#10086#10028#10025#10026",161,null,null,7]
[null,197,"宇文蕾璟",89,1413,"10019#10085#10021#10029#10089#10014",159,null,null,7]
[null,198,"皇甫栋晨",93,1400,"10019#10035#10086#10088#10089#10026",152,null,null,7]
[null,199,"赫连泽驰",90,1353,"10034#10010#10021#10088#10015#10014",155,null,null,7]
[null,200,"公玉佳胤",128,1473,"10001#10087#10004#10088#10013#10027",215,null,null,8]
[null,201,"公门骏暄",120,1463,"10044#10037#10008#10039#10089#10014",204,null,null,8]
[null,202,"史允权",120,1477,"10018#10085#10011#10023#10025#10041",218,null,null,8]
[null,203,"昌蔓鑫",130,1451,"10019#10007#10021#10028#10013#10090",209,null,null,8]
[null,204,"孙皓宇",125,1490,"10003#10035#10004#10023#10089#10046",208,null,null,8]
[null,205,"蒋涛家",123,1550,"10018#10035#10011#10012#10030#10041",216,null,null,8]
[null,206,"花荣谛",126,1483,"10034#10085#10008#10028#10015#10017",210,null,null,8]
[null,207,"东郭昭彤",126,1548,"10001#10087#10038#10088#10030#10027",209,null,null,8]
[null,208,"鲍宇潍",121,1559,"10006#10085#10021#10029#10013#10090",214,null,null,8]
[null,209,"慕容辰翰",125,1540,"10044#10007#10042#10009#10025#10041",202,null,null,8]
[null,210,"褚师振晨",129,1538,"10036#10020#10011#10023#10013#10046",218,null,null,8]
[null,211,"欧阳俊晨",129,1471,"10003#10085#10086#10009#10031#10032",200,null,null,8]
[null,212,"慕容裕帝",128,1457,"10036#10035#10042#10028#10024#10033",200,null,null,8]
[null,213,"俞逸远",123,1519,"10001#10005#10086#10012#10024#10026",218,null,null,8]
[null,214,"段干槐裕",120,1570,"10003#10010#10042#10039#10031#10041",220,null,null,8]
[null,215,"公仪炳成",125,1562,"10044#10020#10011#10039#10089#10046",206,null,null,8]
[null,216,"苏鑫鸿",125,1542,"10044#10085#10004#10039#10030#10032",206,null,null,8]
[null,217,"仲孙宇嘉",126,1467,"10019#10005#10004#10028#10030#10033",204,null,null,8]
[null,218,"公伯天辰",123,1467,"10044#10087#10004#10028#10024#10041",205,null,null,8]
[null,219,"谢锐星",120,1544,"10036#10020#10042#10029#10015#10033",209,null,null,8]
[null,220,"雷泽皓",125,1549,"10018#10037#10038#10039#10089#10032",207,null,null,8]
[null,221,"万俟辰星",130,1488,"10036#10037#10042#10022#10013#10046",200,null,null,8]
[null,222,"戚阳晨",127,1489,"10044#10005#10004#10009#10025#10090",213,null,null,8]
[null,223,"陶晖辞",121,1455,"10019#10035#10004#10022#10089#10046",203,null,null,8]
[null,224,"姜辰运",125,1522,"10034#10087#10038#10043#10030#10014",218,null,null,8]
[null,225,"乐正锦烁",122,1512,"10006#10035#10011#10023#10013#10014",209,null,null,8]
[null,226,"公仪骞权",123,1487,"10018#10020#10086#10009#10024#10027",209,null,null,8]
[null,227,"公仪优初",126,1597,"10036#10007#10042#10009#10031#10032",201,null,null,8]
[null,228,"周成强",126,1452,"10019#10087#10004#10043#10015#10026",211,null,null,8]
[null,229,"花荣谛",127,1594,"10034#10085#10086#10039#10045#10032",204,null,null,8]
[null,230,"乐正锦烁",10,800,"10064#10054",10,null,null,9]
[null,231,"公仪骞权",10,800,"10050#10052",10,null,null,9]
[null,232,"公仪优初",10,800,"10051#10052",10,null,null,9]
[null,233,"周成强",10,800,"10049#10050",10,null,null,9]
[null,234,"花荣谛",10,800,"10070#10050",10,null,null,9]
[null,235,"孙帝晖",144,1744,"10003#10087#10042#10029#10040#10033",237,null,null,10]
[null,236,"万俟辰星",139,1712,"10018#10005#10038#10043#10089#10041",250,null,null,10]
[null,237,"戚阳晨",138,1713,"10034#10035#10016#10028#10025#10032",247,null,null,10]
[null,238,"陶晖辞",140,1622,"10001#10010#10008#10023#10024#10026",252,null,null,10]
[null,239,"姜辰运",138,1668,"10036#10085#10008#10043#10015#10014",235,null,null,10]
[null,240,"公门濡骞",141,1672,"10036#10002#10011#10039#10025#10027",249,null,null,10]
[null,241,"百里萱雪",143,1749,"10034#10002#10021#10029#10013#10046",243,null,null,10]
[null,242,"公仪炳成",135,1742,"10001#10005#10086#10043#10024#10014",247,null,null,10]
[null,243,"梁丘腾锟",138,1628,"10036#10035#10008#10043#10040#10041",245,null,null,10]
[null,244,"施逸振",150,1620,"10018#10002#10038#10009#10030#10027",242,null,null,10]
[null,245,"第五桂依",149,1631,"10044#10010#10086#10009#10013#10032",246,null,null,10]
[null,246,"司寇采欢",142,1725,"10036#10010#10016#10012#10015#10033",239,null,null,10]
[null,247,"壤驷相如",140,1645,"10036#10005#10021#10023#10024#10017",245,null,null,10]
[null,248,"苏鑫鸿",140,1738,"10001#10002#10086#10028#10013#10014",238,null,null,10]
[null,249,"公良睿运",136,1636,"10003#10002#10011#10028#10013#10017",243,null,null,10]
[null,250,"公伯天辰",138,1711,"10018#10010#10038#10012#10045#10041",245,null,null,10]
[null,251,"闻人良佑",138,1743,"10001#10037#10042#10028#10013#10046",255,null,null,10]
[null,252,"吕星畅",137,1702,"10001#10020#10004#10043#10031#10090",242,null,null,10]
[null,253,"谢锐星",138,1673,"10019#10007#10011#10023#10040#10090",239,null,null,10]
[null,254,"公户沛梦",137,1743,"10001#10020#10038#10029#10024#10041",253,null,null,10]
[null,255,"公仲桓初",135,1621,"10036#10037#10011#10023#10013#10014",249,null,null,10]
[null,256,"贯丘佳胤",135,1707,"10006#10085#10011#10028#10025#10014",241,null,null,10]
[null,257,"公羊然骏",140,1603,"10044#10007#10016#10009#10015#10027",237,null,null,10]

{"sheet":"Sheet1","index":1,"n_rows":258,"n_cols":19,"rows_kept":258}
["id","等级","玩家等级","位置",1,2,3,4,5,6]
[1,{"$f":"VLOOKUP($A2,ArenaRobotConfig!$B:$G,6,TRUE)","v":20},{"$f":"VLOOKUP($A2,ArenaRobotConfig!$B:$G,3,TRUE)","v":9},"星级",4,3,3,3,3,3,null,10064,10048,10053,10050,10054,10052,null,{"$f":"L2&\"#\"&M2&\"#\"&N2&\"#\"&O2&\"#\"&P2&\"#\"&Q2","v":"10064#10048#10053#10050#10054#10052"}]
[2,{"$f":"VLOOKUP($A3,ArenaRobotConfig!$B:$G,6,TRUE)","v":18},{"$f":"VLOOKUP($A3,ArenaRobotConfig!$B:$G,3,TRUE)","v":9},null,3,3,3,3,4,3,null,10047,10048,10053,10050,10059,10052,null,{"$f":"L3&\"#\"&M3&\"#\"&N3&\"#\"&O3&\"#\"&P3&\"#\"&Q3","v":"10047#10048#10053#10050#10059#10052"}]
[3,{"$f":"VLOOKUP($A4,ArenaRobotConfig!$B:$G,6,TRUE)","v":22},{"$f":"VLOOKUP($A4,ArenaRobotConfig!$B:$G,3,TRUE)","v":8},null,3,3,3,3,3,3,null,10047,10048,10049,10050,10051,10052,null,"10047#10048#10049#10050#10051#10052"]
[4,{"$f":"VLOOKUP($A5,ArenaRobotConfig!$B:$G,6,TRUE)","v":18},{"$f":"VLOOKUP($A5,ArenaRobotConfig!$B:$G,3,TRUE)","v":8},null,3,3,3,3,3,3,null,10047,10048,10049,10050,10051,10052,null,"10047#10048#10049#10050#10051#10052"]
[5,{"$f":"VLOOKUP($A6,ArenaRobotConfig!$B:$G,6,TRUE)","v":21},{"$f":"VLOOKUP($A6,ArenaRobotConfig!$B:$G,3,TRUE)","v":10},null,4,3,4,3,3,3,null,10064,10048,10070,10050,10054,10052,null,"10064#10048#10070#10050#10054#10052"]
[6,{"$f":"VLOOKUP($A7,ArenaRobotConfig!$B:$G,6,TRUE)","v":21},{"$f":"VLOOKUP($A7,ArenaRobotConfig!$B:$G,3,TRUE)","v":10},null,3,3,3,3,3,3,null,10047,10048,10053,10050,10051,10052,null,"10047#10048#10053#10050#10051#10052"]
[7,{"$f":"VLOOKUP($A8,ArenaRobotConfig!$B:$G,6,TRUE)","v":19},{"$f":"VLOOKUP($A8,ArenaRobotConfig!$B:$G,3,TRUE)","v":10},null,3,3,3,3,3,3,null,10047,10048,10049,10050,10054,10052,null,"10047#10048#10049#10050#10054#10052"]
[8,{"$f":"VLOOKUP($A9,ArenaRobotConfig!$B:$G,6,TRUE)","v":22},{"$f":"VLOOKUP($A9,ArenaRobotConfig!$B:$G,3,TRUE)","v":9},null,3,4,3,3,3,3,null,10047,10061,10053,10050,10054,10052,null,"10047#10061#10053#10050#10054#10052"]
[9,{"$f":"VLOOKUP($A10,ArenaRobotConfig!$B:$G,6,TRUE)","v":19},{"$f":"VLOOKUP($A10,ArenaRobotConfig!$B:$G,3,TRUE)","v":8},null,3,3,3,3,3,3,null,10047,10048,10049,10050,10054,10052,null,"10047#10048#10049#10050#10054#10052"]
[10,{"$f":"VLOOKUP($A11,ArenaRobotConfig!$B:$G,6,TRUE)","v":20},{"$f":"VLOOKUP($A11,ArenaRobotConfig!$B:$G,3,TRUE)","v":9},null,3,3,3,4,3,3,null,10047,10048,10053,10066,10051,10052,null,"10047#10048#10053#10066#10051#10052"]
[11,{"$f":"VLOOKUP($A12,ArenaRobotConfig!$B:$G,6,TRUE)","v":22},{"$f":"VLOOKUP($A12,ArenaRobotConfig!$B:$G,3,TRUE)","v":10},null,3,3,4,3,4,3,null,10047,10048,10072,10050,10069,10052,null,"10047#10048#10072#10050#10069#10052"]
[12,{"$f":"VLOOKUP($A13,ArenaRobotConfig!$B:$G,6,TRUE)","v":22},{"$f":"VLOOKUP($A13,ArenaRobotConfig!$B:$G,3,TRUE)","v":9},null,3,4,3,3,3,3,null,10047,10061,10053,10050,10054,10052,null,"10047#10061#10053#10050#10054#10052"]
[13,{"$f":"VLOOKUP($A14,ArenaRobotConfig!$B:$G,6,TRUE)","v":18},{"$f":"VLOOKUP($A14,ArenaRobotConfig!$B:$G,3,TRUE)","v":8},null,3,3,3,3,3,3,null,10047,10048,10049,10050,10054,10052,null,"10047#10048#10049#10050#10054#10052"]
[14,{"$f":"VLOOKUP($A15,ArenaRobotConfig!$B:$G,6,TRUE)","v":21},{"$f":"VLOOKUP($A15,ArenaRobotConfig!$B:$G,3,TRUE)","v":10},null,3,4,3,3,3,4,null,10047,10057,10053,10050,10054,10060,null,"10047#10057#10053#10050#10054#10060"]
[15,{"$f":"VLOOKUP($A16,ArenaRobotConfig!$B:$G,6,TRUE)","v":21},{"$f":"VLOOKUP($A16,ArenaRobotConfig!$B:$G,3,TRUE)","v":10},null,3,3,4,3,4,3,null,10047,10048,10072,10050,10058,10052,null,"10047#10048#10072#10050#10058#10052"]
[16,{"$f":"VLOOKUP($A17,ArenaRobotConfig!$B:$G,6,TRUE)","v":37},{"$f":"VLOOKUP($A17,ArenaRobotConfig!$B:$G,3,TRUE)","v":13},null,3,4,3,4,3,4,null,10047,10057,10053,10066,10054,10065,null,"10047#10057#10053#10066#10054#10065"]
[17,{"$f":"VLOOKUP($A18,ArenaRobotConfig!$B:$G,6,TRUE)","v":35},{"$f":"VLOOKUP($A18,ArenaRobotConfig!$B:$G,3,TRUE)","v":15},null,3,3,3,4,4,4,null,10047,10048,10049,10068,10069,10065,null,"10047#10048#10049#10068#10069#10065"]
[18,{"$f":"VLOOKUP($A19,ArenaRobotConfig!$B:$G,6,TRUE)","v":34},{"$f":"VLOOKUP($A19,ArenaRobotConfig!$B:$G,3,TRUE)","v":15},null,3,3,3,3,4,3,null,10047,10048,10053,10050,10069,10052,null,"10047#10048#10053#10050#10069#10052"]
[19,{"$f":"VLOOKUP($A20,ArenaRobotConfig!$B:$G,6,TRUE)","v":33},{"$f":"VLOOKUP($A20,ArenaRobotConfig!$B:$G,3,TRUE)","v":14},null,3,3,4,4,4,3,null,10047,10048,10072,10067,10069,10052,null,"10047#10048#10072#10067#10069#10052"]
[20,{"$f":"VLOOKUP($A21,ArenaRobotConfig!$B:$G,6,TRUE)","v":37},{"$f":"VLOOKUP($A21,ArenaRobotConfig!$B:$G,3,TRUE)","v":13},null,3,4,3,4,4,3,null,10047,10057,10049,10068,10069,10052,null,"10047#10057#10049#10068#10069#10052"]
[21,{"$f":"VLOOKUP($A22,ArenaRobotConfig!$B:$G,6,TRUE)","v":34},{"$f":"VLOOKUP($A22,ArenaRobotConfig!$B:$G,3,TRUE)","v":15},null,4,4,4,3,3,3,null,10062,10061,10070,10050,10051,10052,null,"10062#10061#10070#10050#10051#10052"]
[22,{"$f":"VLOOKUP($A23,ArenaRobotConfig!$B:$G,6,TRUE)","v":36},{"$f":"VLOOKUP($A23,ArenaRobotConfig!$B:$G,3,TRUE)","v":12},null,3,4,3,3,4,4,null,10047,10061,10049,10050,10069,10060,null,"10047#10061#10049#10050#10069#10060"]
[23,{"$f":"VLOOKUP($A24,ArenaRobotConfig!$B:$G,6,TRUE)","v":30},{"$f":"VLOOKUP($A24,ArenaRobotConfig!$B:$G,3,TRUE)","v":15},null,4,4,3,3,4,3,null,10064,10061,10053,10050,10059,10052,null,"10064#10061#10053#10050#10059#10052"]
[24,{"$f":"VLOOKUP($A25,ArenaRobotConfig!$B:$G,6,TRUE)","v":30},{"$f":"VLOOKUP($A25,ArenaRobotConfig!$B:$G,3,TRUE)","v":13},null,3,3,4,4,3,4,null,10047,10048,10071,10066,10054,10065,null,"10047#10048#10071#10066#10054#10065"]
[25,{"$f":"VLOOKUP($A26,ArenaRobotConfig!$B:$G,6,TRUE)","v":37},{"$f":"VLOOKUP($A26,ArenaRobotConfig!$B:$G,3,TRUE)","v":14},null,3,4,3,4,3,4,null,10047,10061,10049,10068,10054,10060,null,"10047#10061#10049#10068#10054#10060"]
[26,{"$f":"VLOOKUP($A27,ArenaRobotConfig!$B:$G,6,TRUE)","v":30},{"$f":"VLOOKUP($A27,ArenaRobotConfig!$B:$G,3,TRUE)","v":14},null,4,3,4,3,4,3,null,10064,10048,10071,10050,10058,10052,null,"10064#10048#10071#10050#10058#10052"]
[27,{"$f":"VLOOKUP($A28,ArenaRobotConfig!$B:$G,6,TRUE)","v":36},{"$f":"VLOOKUP($A28,ArenaRobotConfig!$B:$G,3,TRUE)","v":15},null,3,4,3,4,4,3,null,10047,10061,10049,10068,10058,10052,null,"10047#10061#10049#10068#10058#10052"]
[28,{"$f":"VLOOKUP($A29,ArenaRobotConfig!$B:$G,6,TRUE)","v":30},{"$f":"VLOOKUP($A29,ArenaRobotConfig!$B:$G,3,TRUE)","v":12},null,3,3,4,4,4,3,null,10047,10048,10071,10067,10058,10052,null,"10047#10048#10071#10067#10058#10052"]
[29,{"$f":"VLOOKUP($A30,ArenaRobotConfig!$B:$G,6,TRUE)","v":31},{"$f":"VLOOKUP($A30,ArenaRobotConfig!$B:$G,3,TRUE)","v":12},null,3,4,3,4,3,4,null,10047,10057,10049,10067,10054,10060,null,"10047#10057#10049#10067#10054#10060"]
[30,{"$f":"VLOOKUP($A31,ArenaRobotConfig!$B:$G,6,TRUE)","v":36},{"$f":"VLOOKUP($A31,ArenaRobotConfig!$B:$G,3,TRUE)","v":14},null,3,4,4,3,4,3,null,10047,10057,10072,10050,10059,10052,null,"10047#10057#10072#10050#10059#10052"]
[31,{"$f":"VLOOKUP($A32,ArenaRobotConfig!$B:$G,6,TRUE)","v":33},{"$f":"VLOOKUP($A32,ArenaRobotConfig!$B:$G,3,TRUE)","v":12},null,3,4,4,4,3,3,null,10047,10057,10072,10066,10054,10052,null,"10047#10057#10072#10066#10054#10052"]
[32,{"$f":"VLOOKUP($A33,ArenaRobotConfig!$B:$G,6,TRUE)","v":30},{"$f":"VLOOKUP($A33,ArenaRobotConfig!$B:$G,3,TRUE)","v":13},null,3,3,4,4,4,3,null,10047,10048,10072,10066,10069,10052,null,"10047#10048#10072#10066#10069#10052"]
[33,{"$f":"VLOOKUP($A34,ArenaRobotConfig!$B:$G,6,TRUE)","v":35},{"$f":"VLOOKUP($A34,ArenaRobotConfig!$B:$G,3,TRUE)","v":14},null,3,4,4,3,3,4,null,10047,10061,10070,10050,10054,10060,null,"10047#10061#10070#10050#10054#10060"]
[34,{"$f":"VLOOKUP($A35,ArenaRobotConfig!$B:$G,6,TRUE)","v":33},{"$f":"VLOOKUP($A35,ArenaRobotConfig!$B:$G,3,TRUE)","v":12},null,3,4,3,4,4,3,null,10047,10061,10049,10067,10069,10052,null,"10047#10061#10049#10067#10069#10052"]
[35,{"$f":"VLOOKUP($A36,ArenaRobotConfig!$B:$G,6,TRUE)","v":31},{"$f":"VLOOKUP($A36,ArenaRobotConfig!$B:$G,3,TRUE)","v":12},null,3,3,4,4,4,3,null,10047,10048,10070,10066,10069,10052,null,"10047#10048#10070#10066#10069#10052"]
[36,{"$f":"VLOOKUP($A37,ArenaRobotConfig!$B:$G,6,TRUE)","v":37},{"$f":"VLOOKUP($A37,ArenaRobotConfig!$B:$G,3,TRUE)","v":15},null,4,3,3,3,4,4,null,10062,10048,10053,10050,10058,10060,null,"10062#10048#10053#10050#10058#10060"]
[37,{"$f":"VLOOKUP($A38,ArenaRobotConfig!$B:$G,6,TRUE)","v":36},{"$f":"VLOOKUP($A38,ArenaRobotConfig!$B:$G,3,TRUE)","v":13},null,4,3,3,4,4,3,null,10062,10048,10049,10066,10058,10052,null,"10062#10048#10049#10066#10058#10052"]
[38,{"$f":"VLOOKUP($A39,ArenaRobotConfig!$B:$G,6,TRUE)","v":34},{"$f":"VLOOKUP($A39,ArenaRobotConfig!$B:$G,3,TRUE)","v":15},null,4,4,3,3,3,4,null,10062,10061,10049,10050,10054,10060,null,"10062#10061#10049#10050#10054#10060"]
[39,{"$f":"VLOOKUP($A40,ArenaRobotConfig!$B:$G,6,TRUE)","v":35},{"$f":"VLOOKUP($A40,ArenaRobotConfig!$B:$G,3,TRUE)","v":14},null,3,4,4,3,3,4,null,10047,10061,10070,10050,10054,10065,null,"10047#10061#10070#10050#10054#10065"]
[40,{"$f":"VLOOKUP($A41,ArenaRobotConfig!$B:$G,6,TRUE)","v":32},{"$f":"VLOOKUP($A41,ArenaRobotConfig!$B:$G,3,TRUE)","v":14},null,3,3,4,4,3,4,null,10047,10048,10071,10066,10051,10065,null,"10047#10048#10071#10066#10051#10065"]
[41,{"$f":"VLOOKUP($A42,ArenaRobotConfig!$B:$G,6,TRUE)","v":37},{"$f":"VLOOKUP($A42,ArenaRobotConfig!$B:$G,3,TRUE)","v":13},null,4,3,3,4,3,4,null,10064,10048,10053,10068,10051,10060,null,"10064#10048#10053#10068#10051#10060"]
[42,{"$f":"VLOOKUP($A43,ArenaRobotConfig!$B:$G,6,TRUE)","v":34},{"$f":"VLOOKUP($A43,ArenaRobotConfig!$B:$G,3,TRUE)","v":13},null,3,3,3,4,4,4,null,10047,10048,10053,10067,10069,10063,null,"10047#10048#10053#10067#10069#10063"]
[43,{"$f":"VLOOKUP($A44,ArenaRobotConfig!$B:$G,6,TRUE)","v":33},{"$f":"VLOOKUP($A44,ArenaRobotConfig!$B:$G,3,TRUE)","v":12},null,3,3,4,4,3,4,null,10047,10048,10070,10067,10054,10063,null,"10047#10048#10070#10067#10054#10063"]
[44,{"$f":"VLOOKUP($A45,ArenaRobotConfig!$B:$G,6,TRUE)","v":30},{"$f":"VLOOKUP($A45,ArenaRobotConfig!$B:$G,3,TRUE)","v":14},null,3,3,4,4,4,3,null,10047,10048,10070,10068,10059,10052,null,"10047#10048#10070#10068#10059#10052"]
[45,{"$f":"VLOOKUP($A46,ArenaRobotConfig!$B:$G,6,TRUE)","v":37},{"$f":"VLOOKUP($A46,ArenaRobotConfig!$B:$G,3,TRUE)","v":14},null,4,3,3,3,4,4,null,10062,10048,10049,10050,10058,10065,null,"10062#10048#10049#10050#10058#10065"]
[46,{"$f":"VLOOKUP($A47,ArenaRobotConfig!$B:$G,6,TRUE)","v":45},{"$f":"VLOOKUP($A47,ArenaRobotConfig!$B:$G,3,TRUE)","v":22},null,4,5,4,4,5,4,null,10062,10007,10071,10066,10040,10065,null,"10062#10007#10071#10066#10040#10065"]
[47,{"$f":"VLOOKUP($A48,ArenaRobotConfig!$B:$G,6,TRUE)","v":49},{"$f":"VLOOKUP($A48,ArenaRobotConfig!$B:$G,3,TRUE)","v":20},null,4,4,5,4,5,4,null,10064,10061,10038,10066,10030,10063,null,"10064#10061#10038#10066#10030#10063"]
[48,{"$f":"VLOOKUP($A49,ArenaRobotConfig!$B:$G,6,TRUE)","v":49},{"$f":"VLOOKUP($A49,ArenaRobotConfig!$B:$G,3,TRUE)","v":21},null,4,4,5,5,4,4,null,10062,10061,10042,10023,10059,10065,null,"10062#10061#10042#10023#10059#10065"]
[49,{"$f":"VLOOKUP($A50,ArenaRobotConfig!$B:$G,6,TRUE)","v":49},{"$f":"VLOOKUP($A50,ArenaRobotConfig!$B:$G,3,TRUE)","v":25},null,4,4,4,5,4,5,null,10064,10057,10071,10029,10058,10032,null,"10064#10057#10071#10029#10058#10032"]
[50,{"$f":"VLOOKUP($A51,ArenaRobotConfig!$B:$G,6,TRUE)","v":48},{"$f":"VLOOKUP($A51,ArenaRobotConfig!$B:$G,3,TRUE)","v":23},null,4,5,4,4,5,4,null,10064,10005,10072,10067,10040,10063,null,"10064#10005#10072#10067#10040#10063"]
[51,{"$f":"VLOOKUP($A52,ArenaRobotConfig!$B:$G,6,TRUE)","v":45},{"$f":"VLOOKUP($A52,ArenaRobotConfig!$B:$G,3,TRUE)","v":23},null,5,4,5,4,4,4,null,10003,10061,10016,10066,10058,10063,null,"10003#10061#10016#10066#10058#10063"]
[52,{"$f":"VLOOKUP($A53,ArenaRobotConfig!$B:$G,6,TRUE)","v":42},{"$f":"VLOOKUP($A53,ArenaRobotConfig!$B:$G,3,TRUE)","v":24},null,4,4,4,4,5,5,null,10064,10057,10070,10066,10013,10090,null,"10064#10057#10070#10066#10013#10090"]
[53,{"$f":"VLOOKUP($A54,ArenaRobotConfig!$B:$G,6,TRUE)","v":47},{"$f":"VLOOKUP($A54,ArenaRobotConfig!$B:$G,3,TRUE)","v":25},null,5,4,4,5,4,4,null,10018,10061,10070,10012,10058,10065,null,"10018#10061#10070#10012#10058#10065"]
[54,{"$f":"VLOOKUP($A55,ArenaRobotConfig!$B:$G,6,TRUE)","v":50},{"$f":"VLOOKUP($A55,ArenaRobotConfig!$B:$G,3,TRUE)","v":25},null,4,4,5,4,4,5,null,10062,10057,10042,10067,10069,10046,null,"10062#10057#10042#10067#10069#10046"]
[55,{"$f":"VLOOKUP($A56,ArenaRobotConfig!$B:$G,6,TRUE)","v":47},{"$f":"VLOOKUP($A56,ArenaRobotConfig!$B:$G,3,TRUE)","v":21},null,4,4,4,5,5,4,null,10062,10057,10071,10043,10045,10063,null,"10062#10057#10071#10043#10045#10063"]
[56,{"$f":"VLOOKUP($A57,ArenaRobotConfig!$B:$G,6,TRUE)","v":42},{"$f":"VLOOKUP($A57,ArenaRobotConfig!$B:$G,3,TRUE)","v":21},null,4,5,4,5,4,4,null,10062,10002,10071,10028,10059,10065,null,"10062#10002#10071#10028#10059#10065"]
[57,{"$f":"VLOOKUP($A58,ArenaRobotConfig!$B:$G,6,TRUE)","v":44},{"$f":"VLOOKUP($A58,ArenaRobotConfig!$B:$G,3,TRUE)","v":25},null,4,4,5,4,4,5,null,10064,10057,10008,10068,10058,10032,null,"10064#10057#10008#10068#10058#10032"]
[58,{"$f":"VLOOKUP($A59,ArenaRobotConfig!$B:$G,6,TRUE)","v":43},{"$f":"VLOOKUP($A59,ArenaRobotConfig!$B:$G,3,TRUE)","v":24},null,5,4,4,5,4,4,null,10019,10057,10071,10009,10059,10063,null,"10019#10057#10071#10009#10059#10063"]
[59,{"$f":"VLOOKUP($A60,ArenaRobotConfig!$B:$G,6,TRUE)","v":48},{"$f":"VLOOKUP($A60,ArenaRobotConfig!$B:$G,3,TRUE)","v":21},null,4,4,5,4,4,5,null,10062,10061,10038,10068,10069,10026,null,"10062#10061#10038#10068#10069#10026"]
[60,{"$f":"VLOOKUP($A61,ArenaRobotConfig!$B:$G,6,TRUE)","v":44},{"$f":"VLOOKUP($A61,ArenaRobotConfig!$B:$G,3,TRUE)","v":25},null,5,4,4,5,4,4,null,10019,10057,10071,10029,10059,10065,null,"10019#10057#10071#10029#10059#10065"]
[61,{"$f":"VLOOKUP($A62,ArenaRobotConfig!$B:$G,6,TRUE)","v":49},{"$f":"VLOOKUP($A62,ArenaRobotConfig!$B:$G,3,TRUE)","v":20},null,4,5,4,4,5,4,null,10062,10010,10070,10067,10031,10060,null,"10062#10010#10070#10067#10031#10060"]
[62,{"$f":"VLOOKUP($A63,ArenaRobotConfig!$B:$G,6,TRUE)","v":49},{"$f":"VLOOKUP($A63,ArenaRobotConfig!$B:$G,3,TRUE)","v":25},null,4,4,5,4,4,5,null,10064,10057,10004,10067,10059,10090,null,"10064#10057#10004#10067#10059#10090"]
[63,{"$f":"VLOOKUP($A64,ArenaRobotConfig!$B:$G,6,TRUE)","v":44},{"$f":"VLOOKUP($A64,ArenaRobotConfig!$B:$G,3,TRUE)","v":20},null,4,4,4,4,5,5,null,10064,10057,10070,10068,10089,10014,null,"10064#10057#10070#10068#10089#10014"]
[64,{"$f":"VLOOKUP($A65,ArenaRobotConfig!$B:$G,6,TRUE)","v":47},{"$f":"VLOOKUP($A65,ArenaRobotConfig!$B:$G,3,TRUE)","v":25},null,5,4,4,4,4,5,null,10018,10057,10070,10068,10069,10014,null,"10018#10057#10070#10068#10069#10014"]
[65,{"$f":"VLOOKUP($A66,ArenaRobotConfig!$B:$G,6,TRUE)","v":48},{"$f":"VLOOKUP($A66,ArenaRobotConfig!$B:$G,3,TRUE)","v":21},null,4,5,5,4,4,4,null,10062,10087,10004,10066,10058,10063,null,"10062#10087#10004#10066#10058#10063"]
[66,{"$f":"VLOOKUP($A67,ArenaRobotConfig!$B:$G,6,TRUE)","v":51},{"$f":"VLOOKUP($A67,ArenaRobotConfig!$B:$G,3,TRUE)","v":22},null,5,5,4,4,4,4,null,10019,10005,10071,10068,10069,10060,null,{"$f":"L67&\"#\"&M67&\"#\"&N67&\"#\"&O67&\"#\"&P67&\"#\"&Q67","v":"10019#10005#10071#10068#10069#10060"}]
[67,{"$f":"VLOOKUP($A68,ArenaRobotConfig!$B:$G,6,TRUE)","v":48},{"$f":"VLOOKUP($A68,ArenaRobotConfig!$B:$G,3,TRUE)","v":23},null,4,4,5,4,4,5,null,10062,10057,10004,10067,10058,10090,null,"10062#10057#10004#10067#10058#10090"]
[68,{"$f":"VLOOKUP($A69,ArenaRobotConfig!$B:$G,6,TRUE)","v":51},{"$f":"VLOOKUP($A69,ArenaRobotConfig!$B:$G,3,TRUE)","v":23},null,5,4,4,4,4,5,null,10036,10057,10072,10068,10059,10033,null,"10036#10057#10072#10068#10059#10033"]
[69,{"$f":"VLOOKUP($A70,ArenaRobotConfig!$B:$G,6,TRUE)","v":49},{"$f":"VLOOKUP($A70,ArenaRobotConfig!$B:$G,3,TRUE)","v":23},null,4,5,4,5,4,4,null,10062,10007,10070,10022,10059,10060,null,"10062#10007#10070#10022#10059#10060"]
[70,{"$f":"VLOOKUP($A71,ArenaRobotConfig!$B:$G,6,TRUE)","v":49},{"$f":"VLOOKUP($A71,ArenaRobotConfig!$B:$G,3,TRUE)","v":21},null,5,4,4,4,5,4,null,10018,10057,10072,10066,10045,10060,null,"10018#10057#10072#10066#10045#10060"]
[71,{"$f":"VLOOKUP($A72,ArenaRobotConfig!$B:$G,6,TRUE)","v":44},{"$f":"VLOOKUP($A72,ArenaRobotConfig!$B:$G,3,TRUE)","v":21},null,5,4,4,4,4,5,null,10006,10057,10070,10067,10058,10014,null,"10006#10057#10070#10067#10058#10014"]
[72,{"$f":"VLOOKUP($A73,ArenaRobotConfig!$B:$G,6,TRUE)","v":43},{"$f":"VLOOKUP($A73,ArenaRobotConfig!$B:$G,3,TRUE)","v":20},null,4,4,5,4,4,5,null,10062,10057,10016,10066,10058,10032,null,"10062#10057#10016#10066#10058#10032"]
[73,{"$f":"VLOOKUP($A74,ArenaRobotConfig!$B:$G,6,TRUE)","v":46},{"$f":"VLOOKUP($A74,ArenaRobotConfig!$B:$G,3,TRUE)","v":24},null,4,4,4,5,5,4,null,10062,10057,10070,10009,10015,10060,null,"10062#10057#10070#10009#10015#10060"]
[74,{"$f":"VLOOKUP($A75,ArenaRobotConfig!$B:$G,6,TRUE)","v":51},{"$f":"VLOOKUP($A75,ArenaRobotConfig!$B:$G,3,TRUE)","v":24},null,4,4,5,4,4,5,null,10064,10061,10011,10068,10058,10014,null,"10064#10061#10011#10068#10058#10014"]
[75,{"$f":"VLOOKUP($A76,ArenaRobotConfig!$B:$G,6,TRUE)","v":46},{"$f":"VLOOKUP($A76,ArenaRobotConfig!$B:$G,3,TRUE)","v":24},null,4,5,4,5,4,4,null,10064,10010,10072,10012,10058,10060,null,"10064#10010#10072#10012#10058#10060"]
[76,{"$f":"VLOOKUP($A77,ArenaRobotConfig!$B:$G,6,TRUE)","v":63},{"$f":"VLOOKUP($A77,ArenaRobotConfig!$B:$G,3,TRUE)","v":33},null,5,5,4,5,5,5,null,10044,10002,10071,10029,10024,10026,null,"10044#10002#10071#10029#10024#10026"]
[77,{"$f":"VLOOKUP($A78,ArenaRobotConfig!$B:$G,6,TRUE)","v":60},{"$f":"VLOOKUP($A78,ArenaRobotConfig!$B:$G,3,TRUE)","v":33},null,5,5,5,5,4,5,null,10034,10007,10042,10088,10069,10027,null,"10034#10007#10042#10088#10069#10027"]
[78,{"$f":"VLOOKUP($A79,ArenaRobotConfig!$B:$G,6,TRUE)","v":63},{"$f":"VLOOKUP($A79,ArenaRobotConfig!$B:$G,3,TRUE)","v":34},null,5,5,5,5,5,4,null,10019,10007,10042,10009,10015,10063,null,"10019#10007#10042#10009#10015#10063"]
[79,{"$f":"VLOOKUP($A80,ArenaRobotConfig!$B:$G,6,TRUE)","v":63},{"$f":"VLOOKUP($A80,ArenaRobotConfig!$B:$G,3,TRUE)","v":35},null,5,5,4,5,5,5,null,10018,10010,10072,10039,10030,10090,null,"10018#10010#10072#10039#10030#10090"]
[80,{"$f":"VLOOKUP($A81,ArenaRobotConfig!$B:$G,6,TRUE)","v":62},{"$f":"VLOOKUP($A81,ArenaRobotConfig!$B:$G,3,TRUE)","v":35},null,5,5,5,5,5,5,null,10019,10010,10021,10012,10015,10017,null,"10019#10010#10021#10012#10015#10017"]
[81,{"$f":"VLOOKUP($A82,ArenaRobotConfig!$B:$G,6,TRUE)","v":65},{"$f":"VLOOKUP($A82,ArenaRobotConfig!$B:$G,3,TRUE)","v":34},null,5,5,5,5,4,5,null,10001,10035,10011,10088,10059,10033,null,"10001#10035#10011#10088#10059#10033"]
[82,{"$f":"VLOOKUP($A83,ArenaRobotConfig!$B:$G,6,TRUE)","v":66},{"$f":"VLOOKUP($A83,ArenaRobotConfig!$B:$G,3,TRUE)","v":32},null,5,5,4,5,5,5,null,10019,10002,10070,10028,10013,10032,null,"10019#10002#10070#10028#10013#10032"]
[83,{"$f":"VLOOKUP($A84,ArenaRobotConfig!$B:$G,6,TRUE)","v":63},{"$f":"VLOOKUP($A84,ArenaRobotConfig!$B:$G,3,TRUE)","v":34},null,4,5,5,5,5,5,null,10062,10005,10004,10023,10015,10014,null,"10062#10005#10004#10023#10015#10014"]
[84,{"$f":"VLOOKUP($A85,ArenaRobotConfig!$B:$G,6,TRUE)","v":61},{"$f":"VLOOKUP($A85,ArenaRobotConfig!$B:$G,3,TRUE)","v":30},null,5,5,5,4,5,5,null,10018,10087,10008,10067,10031,10027,null,"10018#10087#10008#10067#10031#10027"]
[85,{"$f":"VLOOKUP($A86,ArenaRobotConfig!$B:$G,6,TRUE)","v":62},{"$f":"VLOOKUP($A86,ArenaRobotConfig!$B:$G,3,TRUE)","v":32},null,5,5,5,5,4,5,null,10018,10085,10008,10028,10058,10014,null,"10018#10085#10008#10028#10058#10014"]
[86,{"$f":"VLOOKUP($A87,ArenaRobotConfig!$B:$G,6,TRUE)","v":63},{"$f":"VLOOKUP($A87,ArenaRobotConfig!$B:$G,3,TRUE)","v":32},null,5,5,5,5,5,4,null,10044,10002,10086,10022,10025,10060,null,"10044#10002#10086#10022#10025#10060"]
[87,{"$f":"VLOOKUP($A88,ArenaRobotConfig!$B:$G,6,TRUE)","v":59},{"$f":"VLOOKUP($A88,ArenaRobotConfig!$B:$G,3,TRUE)","v":33},null,5,4,5,5,5,5,null,10018,10061,10016,10009,10025,10032,null,"10018#10061#10016#10009#10025#10032"]
[88,{"$f":"VLOOKUP($A89,ArenaRobotConfig!$B:$G,6,TRUE)","v":63},{"$f":"VLOOKUP($A89,ArenaRobotConfig!$B:$G,3,TRUE)","v":31},null,4,5,5,5,5,5,null,10062,10010,10042,10028,10030,10033,null,"10062#10010#10042#10028#10030#10033"]
[89,{"$f":"VLOOKUP($A90,ArenaRobotConfig!$B:$G,6,TRUE)","v":60},{"$f":"VLOOKUP($A90,ArenaRobotConfig!$B:$G,3,TRUE)","v":30},null,5,5,5,4,5,5,null,10001,10087,10086,10067,10015,10017,null,"10001#10087#10086#10067#10015#10017"]
[90,{"$f":"VLOOKUP($A91,ArenaRobotConfig!$B:$G,6,TRUE)","v":66},{"$f":"VLOOKUP($A91,ArenaRobotConfig!$B:$G,3,TRUE)","v":35},null,5,5,5,5,5,5,null,10003,10035,10008,10022,10013,10032,null,"10003#10035#10008#10022#10013#10032"]
[91,{"$f":"VLOOKUP($A92,ArenaRobotConfig!$B:$G,6,TRUE)","v":64},{"$f":"VLOOKUP($A92,ArenaRobotConfig!$B:$G,3,TRUE)","v":35},null,5,5,5,5,5,5,null,10003,10085,10004,10029,10040,10033,null,"10003#10085#10004#10029#10040#10033"]
[92,{"$f":"VLOOKUP($A93,ArenaRobotConfig!$B:$G,6,TRUE)","v":66},{"$f":"VLOOKUP($A93,ArenaRobotConfig!$B:$G,3,TRUE)","v":34},null,5,5,5,5,5,5,null,10044,10007,10004,10039,10089,10032,null,"10044#10007#10004#10039#10089#10032"]
[93,{"$f":"VLOOKUP($A94,ArenaRobotConfig!$B:$G,6,TRUE)","v":60},{"$f":"VLOOKUP($A94,ArenaRobotConfig!$B:$G,3,TRUE)","v":33},null,5,5,5,5,5,5,null,10006,10037,10011,10039,10024,10017,null,"10006#10037#10011#10039#10024#10017"]
[94,{"$f":"VLOOKUP($A95,ArenaRobotConfig!$B:$G,6,TRUE)","v":61},{"$f":"VLOOKUP($A95,ArenaRobotConfig!$B:$G,3,TRUE)","v":30},null,5,5,5,5,5,5,null,10001,10020,10021,10039,10024,10026,null,"10001#10020#10021#10039#10024#10026"]
[95,{"$f":"VLOOKUP($A96,ArenaRobotConfig!$B:$G,6,TRUE)","v":64},{"$f":"VLOOKUP($A96,ArenaRobotConfig!$B:$G,3,TRUE)","v":35},null,5,5,5,5,5,5,null,10044,10085,10008,10028,10013,10026,null,"10044#10085#10008#10028#10013#10026"]
[96,{"$f":"VLOOKUP($A97,ArenaRobotConfig!$B:$G,6,TRUE)","v":66},{"$f":"VLOOKUP($A97,ArenaRobotConfig!$B:$G,3,TRUE)","v":33},null,5,5,5,5,5,5,null,10034,10007,10042,10009,10031,10046,null,"10034#10007#10042#10009#10031#10046"]
[97,{"$f":"VLOOKUP($A98,ArenaRobotConfig!$B:$G,6,TRUE)","v":60},{"$f":"VLOOKUP($A98,ArenaRobotConfig!$B:$G,3,TRUE)","v":32},null,5,5,5,5,5,5,null,10019,10087,10021,10009,10031,10033,null,"10019#10087#10021#10009#10031#10033"]
[98,{"$f":"VLOOKUP($A99,ArenaRobotConfig!$B:$G,6,TRUE)","v":63},{"$f":"VLOOKUP($A99,ArenaRobotConfig!$B:$G,3,TRUE)","v":33},null,5,5,5,5,5,5,null,10001,10085,10016,10039,10025,10046,null,"10001#10085#10016#10039#10025#10046"]
[99,{"$f":"VLOOKUP($A100,ArenaRobotConfig!$B:$G,6,TRUE)","v":60},{"$f":"VLOOKUP($A100,ArenaRobotConfig!$B:$G,3,TRUE)","v":35},null,5,5,5,5,5,5,null,10036,10002,10004,10009,10089,10041,null,"10036#10002#10004#10009#10089#10041"]
[100,{"$f":"VLOOKUP($A101,ArenaRobotConfig!$B:$G,6,TRUE)","v":60},{"$f":"VLOOKUP($A101,ArenaRobotConfig!$B:$G,3,TRUE)","v":32},null,5,5,5,5,5,5,null,10034,10035,10011,10028,10025,10033,null,"10034#10035#10011#10028#10025#10033"]
[101,{"$f":"VLOOKUP($A102,ArenaRobotConfig!$B:$G,6,TRUE)","v":65},{"$f":"VLOOKUP($A102,ArenaRobotConfig!$B:$G,3,TRUE)","v":33},null,5,5,5,5,5,5,null,10003,10007,10011,10028,10025,10090,null,"10003#10007#10011#10028#10025#10090"]
[102,{"$f":"VLOOKUP($A103,ArenaRobotConfig!$B:$G,6,TRUE)","v":66},{"$f":"VLOOKUP($A103,ArenaRobotConfig!$B:$G,3,TRUE)","v":31},null,5,5,5,5,5,5,null,10003,10037,10016,10022,10015,10041,null,"10003#10037#10016#10022#10015#10041"]
[103,{"$f":"VLOOKUP($A104,ArenaRobotConfig!$B:$G,6,TRUE)","v":66},{"$f":"VLOOKUP($A104,ArenaRobotConfig!$B:$G,3,TRUE)","v":35},null,5,5,5,5,5,5,null,10003,10010,10004,10088,10015,10090,null,"10003#10010#10004#10088#10015#10090"]
[104,{"$f":"VLOOKUP($A105,ArenaRobotConfig!$B:$G,6,TRUE)","v":66},{"$f":"VLOOKUP($A105,ArenaRobotConfig!$B:$G,3,TRUE)","v":35},null,5,5,5,5,5,5,null,10019,10037,10042,10022,10015,10014,null,"10019#10037#10042#10022#10015#10014"]
[105,{"$f":"VLOOKUP($A106,ArenaRobotConfig!$B:$G,6,TRUE)","v":66},{"$f":"VLOOKUP($A106,ArenaRobotConfig!$B:$G,3,TRUE)","v":35},null,5,5,5,5,5,5,null,10003,10010,10011,10009,10024,10041,null,"10003#10010#10011#10009#10024#10041"]
[106,{"$f":"VLOOKUP($A107,ArenaRobotConfig!$B:$G,6,TRUE)","v":65},{"$f":"VLOOKUP($A107,ArenaRobotConfig!$B:$G,3,TRUE)","v":32},null,5,5,5,5,5,5,null,10001,10007,10008,10009,10030,10046,null,"10001#10007#10008#10009#10030#10046"]
[107,{"$f":"VLOOKUP($A108,ArenaRobotConfig!$B:$G,6,TRUE)","v":62},{"$f":"VLOOKUP($A108,ArenaRobotConfig!$B:$G,3,TRUE)","v":33},null,5,5,5,5,5,5,null,10034,10010,10042,10028,10045,10041,null,"10034#10010#10042#10028#10045#10041"]
[108,{"$f":"VLOOKUP($A109,ArenaRobotConfig!$B:$G,6,TRUE)","v":60},{"$f":"VLOOKUP($A109,ArenaRobotConfig!$B:$G,3,TRUE)","v":32},null,5,5,5,5,5,5,null,10019,10020,10011,10012,10024,10046,null,"10019#10020#10011#10012#10024#10046"]
[109,{"$f":"VLOOKUP($A110,ArenaRobotConfig!$B:$G,6,TRUE)","v":65},{"$f":"VLOOKUP($A110,ArenaRobotConfig!$B:$G,3,TRUE)","v":35},null,5,5,5,5,5,5,null,10003,10085,10011,10022,10024,10027,null,"10003#10085#10011#10022#10024#10027"]
[110,{"$f":"VLOOKUP($A111,ArenaRobotConfig!$B:$G,6,TRUE)","v":75},{"$f":"VLOOKUP($A111,ArenaRobotConfig!$B:$G,3,TRUE)","v":45},null,5,5,5,5,5,5,null,10044,10005,10004,10023,10045,10014,null,"10044#10005#10004#10023#10045#10014"]
[111,{"$f":"VLOOKUP($A112,ArenaRobotConfig!$B:$G,6,TRUE)","v":84},{"$f":"VLOOKUP($A112,ArenaRobotConfig!$B:$G,3,TRUE)","v":42},null,5,5,5,5,5,5,null,10018,10037,10016,10088,10031,10046,null,"10018#10037#10016#10088#10031#10046"]
[112,{"$f":"VLOOKUP($A113,ArenaRobotConfig!$B:$G,6,TRUE)","v":81},{"$f":"VLOOKUP($A113,ArenaRobotConfig!$B:$G,3,TRUE)","v":45},null,5,5,5,5,5,5,null,10006,10020,10011,10023,10089,10041,null,"10006#10020#10011#10023#10089#10041"]
[113,{"$f":"VLOOKUP($A114,ArenaRobotConfig!$B:$G,6,TRUE)","v":85},{"$f":"VLOOKUP($A114,ArenaRobotConfig!$B:$G,3,TRUE)","v":43},null,5,5,5,5,5,5,null,10003,10020,10038,10023,10089,10027,null,"10003#10020#10038#10023#10089#10027"]
[114,{"$f":"VLOOKUP($A115,ArenaRobotConfig!$B:$G,6,TRUE)","v":82},{"$f":"VLOOKUP($A115,ArenaRobotConfig!$B:$G,3,TRUE)","v":42},null,5,5,5,5,5,5,null,10003,10035,10016,10029,10024,10033,null,"10003#10035#10016#10029#10024#10033"]
[115,{"$f":"VLOOKUP($A116,ArenaRobotConfig!$B:$G,6,TRUE)","v":84},{"$f":"VLOOKUP($A116,ArenaRobotConfig!$B:$G,3,TRUE)","v":44},null,5,5,5,5,5,5,null,10036,10007,10011,10023,10089,10046,null,"10036#10007#10011#10023#10089#10046"]
[116,{"$f":"VLOOKUP($A117,ArenaRobotConfig!$B:$G,6,TRUE)","v":77},{"$f":"VLOOKUP($A117,ArenaRobotConfig!$B:$G,3,TRUE)","v":42},null,5,5,5,5,5,5,null,10003,10010,10004,10012,10015,10090,null,"10003#10010#10004#10012#10015#10090"]
[117,{"$f":"VLOOKUP($A118,ArenaRobotConfig!$B:$G,6,TRUE)","v":79},{"$f":"VLOOKUP($A118,ArenaRobotConfig!$B:$G,3,TRUE)","v":41},null,5,5,5,5,5,5,null,10006,10035,10038,10022,10030,10033,null,"10006#10035#10038#10022#10030#10033"]
[118,{"$f":"VLOOKUP($A119,ArenaRobotConfig!$B:$G,6,TRUE)","v":73},{"$f":"VLOOKUP($A119,ArenaRobotConfig!$B:$G,3,TRUE)","v":42},null,5,5,5,5,5,5,null,10034,10035,10021,10012,10031,10027,null,"10034#10035#10021#10012#10031#10027"]
[119,{"$f":"VLOOKUP($A120,ArenaRobotConfig!$B:$G,6,TRUE)","v":76},{"$f":"VLOOKUP($A120,ArenaRobotConfig!$B:$G,3,TRUE)","v":44},null,5,5,5,5,5,5,null,10034,10002,10042,10039,10089,10017,null,"10034#10002#10042#10039#10089#10017"]
[120,{"$f":"VLOOKUP($A121,ArenaRobotConfig!$B:$G,6,TRUE)","v":83},{"$f":"VLOOKUP($A121,ArenaRobotConfig!$B:$G,3,TRUE)","v":44},null,5,5,5,5,5,5,null,10003,10005,10004,10023,10031,10046,null,"10003#10005#10004#10023#10031#10046"]
[121,{"$f":"VLOOKUP($A122,ArenaRobotConfig!$B:$G,6,TRUE)","v":81},{"$f":"VLOOKUP($A122,ArenaRobotConfig!$B:$G,3,TRUE)","v":44},null,5,5,5,5,5,5,null,10036,10085,10086,10029,10024,10032,null,"10036#10085#10086#10029#10024#10032"]
[122,{"$f":"VLOOKUP($A123,ArenaRobotConfig!$B:$G,6,TRUE)","v":74},{"$f":"VLOOKUP($A123,ArenaRobotConfig!$B:$G,3,TRUE)","v":43},null,5,5,5,5,5,5,null,10006,10002,10008,10043,10031,10033,null,"10006#10002#10008#10043#10031#10033"]
[123,{"$f":"VLOOKUP($A124,ArenaRobotConfig!$B:$G,6,TRUE)","v":76},{"$f":"VLOOKUP($A124,ArenaRobotConfig!$B:$G,3,TRUE)","v":41},null,5,5,5,5,5,5,null,10001,10037,10011,10023,10045,10014,null,"10001#10037#10011#10023#10045#10014"]
[124,{"$f":"VLOOKUP($A125,ArenaRobotConfig!$B:$G,6,TRUE)","v":77},{"$f":"VLOOKUP($A125,ArenaRobotConfig!$B:$G,3,TRUE)","v":42},null,5,5,5,5,5,5,null,10001,10005,10042,10012,10015,10032,null,"10001#10005#10042#10012#10015#10032"]
[125,{"$f":"VLOOKUP($A126,ArenaRobotConfig!$B:$G,6,TRUE)","v":84},{"$f":"VLOOKUP($A126,ArenaRobotConfig!$B:$G,3,TRUE)","v":43},null,5,5,5,5,5,5,null,10034,10035,10004,10012,10015,10017,null,"10034#10035#10004#10012#10015#10017"]
[126,{"$f":"VLOOKUP($A127,ArenaRobotConfig!$B:$G,6,TRUE)","v":79},{"$f":"VLOOKUP($A127,ArenaRobotConfig!$B:$G,3,TRUE)","v":41},null,5,5,5,5,5,5,null,10019,10035,10038,10043,10030,10041,null,"10019#10035#10038#10043#10030#10041"]
[127,{"$f":"VLOOKUP($A128,ArenaRobotConfig!$B:$G,6,TRUE)","v":76},{"$f":"VLOOKUP($A128,ArenaRobotConfig!$B:$G,3,TRUE)","v":41},null,5,5,5,5,5,5,null,10019,10005,10042,10029,10045,10027,null,"10019#10005#10042#10029#10045#10027"]
[128,{"$f":"VLOOKUP($A129,ArenaRobotConfig!$B:$G,6,TRUE)","v":78},{"$f":"VLOOKUP($A129,ArenaRobotConfig!$B:$G,3,TRUE)","v":45},null,5,5,5,5,5,5,null,10044,10037,10042,10012,10013,10027,null,"10044#10037#10042#10012#10013#10027"]
[129,{"$f":"VLOOKUP($A130,ArenaRobotConfig!$B:$G,6,TRUE)","v":78},{"$f":"VLOOKUP($A130,ArenaRobotConfig!$B:$G,3,TRUE)","v":42},null,5,5,5,5,5,5,null,10019,10007,10011,10028,10040,10026,null,"10019#10007#10011#10028#10040#10026"]
[130,{"$f":"VLOOKUP($A131,ArenaRobotConfig!$B:$G,6,TRUE)","v":84},{"$f":"VLOOKUP($A131,ArenaRobotConfig!$B:$G,3,TRUE)","v":43},null,5,5,5,5,5,5,null,10036,10020,10038,10029,10025,10041,null,{"$f":"L131&\"#\"&M131&\"#\"&N131&\"#\"&O131&\"#\"&P131&\"#\"&Q131","v":"10036#10020#10038#10029#10025#10041"}]
[131,{"$f":"VLOOKUP($A132,ArenaRobotConfig!$B:$G,6,TRUE)","v":83},{"$f":"VLOOKUP($A132,ArenaRobotConfig!$B:$G,3,TRUE)","v":45},null,5,5,5,5,5,5,null,10006,10020,10011,10039,10089,10014,null,"10006#10020#10011#10039#10089#10014"]
[132,{"$f":"VLOOKUP($A133,ArenaRobotConfig!$B:$G,6,TRUE)","v":76},{"$f":"VLOOKUP($A133,ArenaRobotConfig!$B:$G,3,TRUE)","v":43},null,5,5,5,5,5,5,null,10044,10010,10086,10028,10030,10027,null,"10044#10010#10086#10028#10030#10027"]
[133,{"$f":"VLOOKUP($A134,ArenaRobotConfig!$B:$G,6,TRUE)","v":78},{"$f":"VLOOKUP($A134,ArenaRobotConfig!$B:$G,3,TRUE)","v":41},null,5,5,5,5,5,5,null,10006,10020,10038,10039,10045,10033,null,"10006#10020#10038#10039#10045#10033"]
[134,{"$f":"VLOOKUP($A135,ArenaRobotConfig!$B:$G,6,TRUE)","v":82},{"$f":"VLOOKUP($A135,ArenaRobotConfig!$B:$G,3,TRUE)","v":42},null,5,5,5,5,5,5,null,10003,10035,10042,10043,10015,10032,null,"10003#10035#10042#10043#10015#10032"]
[135,{"$f":"VLOOKUP($A136,ArenaRobotConfig!$B:$G,6,TRUE)","v":79},{"$f":"VLOOKUP($A136,ArenaRobotConfig!$B:$G,3,TRUE)","v":45},null,5,5,5,5,5,5,null,10044,10035,10086,10023,10030,10033,null,"10044#10035#10086#10023#10030#10033"]
[136,{"$f":"VLOOKUP($A137,ArenaRobotConfig!$B:$G,6,TRUE)","v":77},{"$f":"VLOOKUP($A137,ArenaRobotConfig!$B:$G,3,TRUE)","v":41},null,5,5,5,5,5,5,null,10006,10085,10004,10039,10040,10032,null,"10006#10085#10004#10039#10040#10032"]
[137,{"$f":"VLOOKUP($A138,ArenaRobotConfig!$B:$G,6,TRUE)","v":83},{"$f":"VLOOKUP($A138,ArenaRobotConfig!$B:$G,3,TRUE)","v":45},null,5,5,5,5,5,5,null,10036,10035,10042,10028,10030,10046,null,"10036#10035#10042#10028#10030#10046"]
[138,{"$f":"VLOOKUP($A139,ArenaRobotConfig!$B:$G,6,TRUE)","v":76},{"$f":"VLOOKUP($A139,ArenaRobotConfig!$B:$G,3,TRUE)","v":44},null,5,5,5,5,5,5,null,10003,10005,10011,10009,10030,10032,null,"10003#10005#10011#10009#10030#10032"]
[139,{"$f":"VLOOKUP($A140,ArenaRobotConfig!$B:$G,6,TRUE)","v":85},{"$f":"VLOOKUP($A140,ArenaRobotConfig!$B:$G,3,TRUE)","v":43},null,5,5,5,5,5,5,null,10018,10085,10011,10029,10031,10027,null,"10018#10085#10011#10029#10031#10027"]
[140,{"$f":"VLOOKUP($A141,ArenaRobotConfig!$B:$G,6,TRUE)","v":101},{"$f":"VLOOKUP($A141,ArenaRobotConfig!$B:$G,3,TRUE)","v":61},null,5,5,5,5,5,5,null,10018,10010,10016,10022,10040,10027,null,"10018#10010#10016#10022#10040#10027"]
[141,{"$f":"VLOOKUP($A142,ArenaRobotConfig!$B:$G,6,TRUE)","v":100},{"$f":"VLOOKUP($A142,ArenaRobotConfig!$B:$G,3,TRUE)","v":69},null,5,5,5,5,5,5,null,10044,10085,10016,10009,10015,10017,null,"10044#10085#10016#10009#10015#10017"]
[142,{"$f":"VLOOKUP($A143,ArenaRobotConfig!$B:$G,6,TRUE)","v":102},{"$f":"VLOOKUP($A143,ArenaRobotConfig!$B:$G,3,TRUE)","v":65},null,5,5,5,5,5,5,null,10001,10087,10021,10009,10013,10014,null,"10001#10087#10021#10009#10013#10014"]
[143,{"$f":"VLOOKUP($A144,ArenaRobotConfig!$B:$G,6,TRUE)","v":107},{"$f":"VLOOKUP($A144,ArenaRobotConfig!$B:$G,3,TRUE)","v":65},null,5,5,5,5,5,5,null,10001,10087,10004,10022,10024,10041,null,"10001#10087#10004#10022#10024#10041"]
[144,{"$f":"VLOOKUP($A145,ArenaRobotConfig!$B:$G,6,TRUE)","v":104},{"$f":"VLOOKUP($A145,ArenaRobotConfig!$B:$G,3,TRUE)","v":67},null,5,5,5,5,5,5,null,10036,10005,10021,10009,10015,10090,null,"10036#10005#10021#10009#10015#10090"]
[145,{"$f":"VLOOKUP($A146,ArenaRobotConfig!$B:$G,6,TRUE)","v":117},{"$f":"VLOOKUP($A146,ArenaRobotConfig!$B:$G,3,TRUE)","v":68},null,5,5,5,5,5,5,null,10003,10005,10038,10023,10013,10032,null,"10003#10005#10038#10023#10013#10032"]
[146,{"$f":"VLOOKUP($A147,ArenaRobotConfig!$B:$G,6,TRUE)","v":109},{"$f":"VLOOKUP($A147,ArenaRobotConfig!$B:$G,3,TRUE)","v":70},null,5,5,5,5,5,5,null,10003,10002,10038,10088,10089,10026,null,"10003#10002#10038#10088#10089#10026"]
[147,{"$f":"VLOOKUP($A148,ArenaRobotConfig!$B:$G,6,TRUE)","v":110},{"$f":"VLOOKUP($A148,ArenaRobotConfig!$B:$G,3,TRUE)","v":64},null,5,5,5,5,5,5,null,10034,10010,10011,10029,10030,10033,null,"10034#10010#10011#10029#10030#10033"]
[148,{"$f":"VLOOKUP($A149,ArenaRobotConfig!$B:$G,6,TRUE)","v":113},{"$f":"VLOOKUP($A149,ArenaRobotConfig!$B:$G,3,TRUE)","v":68},null,5,5,5,5,5,5,null,10044,10010,10086,10012,10040,10026,null,"10044#10010#10086#10012#10040#10026"]
[149,{"$f":"VLOOKUP($A150,ArenaRobotConfig!$B:$G,6,TRUE)","v":119},{"$f":"VLOOKUP($A150,ArenaRobotConfig!$B:$G,3,TRUE)","v":61},null,5,5,5,5,5,5,null,10036,10085,10021,10028,10013,10041,null,"10036#10085#10021#10028#10013#10041"]
[150,{"$f":"VLOOKUP($A151,ArenaRobotConfig!$B:$G,6,TRUE)","v":107},{"$f":"VLOOKUP($A151,ArenaRobotConfig!$B:$G,3,TRUE)","v":67},null,5,5,5,5,5,5,null,10006,10005,10038,10012,10015,10014,null,"10006#10005#10038#10012#10015#10014"]
[151,{"$f":"VLOOKUP($A152,ArenaRobotConfig!$B:$G,6,TRUE)","v":108},{"$f":"VLOOKUP($A152,ArenaRobotConfig!$B:$G,3,TRUE)","v":64},null,5,5,5,5,5,5,null,10019,10037,10004,10029,10045,10026,null,"10019#10037#10004#10029#10045#10026"]
[152,{"$f":"VLOOKUP($A153,ArenaRobotConfig!$B:$G,6,TRUE)","v":112},{"$f":"VLOOKUP($A153,ArenaRobotConfig!$B:$G,3,TRUE)","v":70},null,5,5,5,5,5,5,null,10018,10005,10004,10028,10030,10041,null,"10018#10005#10004#10028#10030#10041"]
[153,{"$f":"VLOOKUP($A154,ArenaRobotConfig!$B:$G,6,TRUE)","v":101},{"$f":"VLOOKUP($A154,ArenaRobotConfig!$B:$G,3,TRUE)","v":61},null,5,5,5,5,5,5,null,10036,10005,10008,10022,10089,10046,null,"10036#10005#10008#10022#10089#10046"]
[154,{"$f":"VLOOKUP($A155,ArenaRobotConfig!$B:$G,6,TRUE)","v":103},{"$f":"VLOOKUP($A155,ArenaRobotConfig!$B:$G,3,TRUE)","v":65},null,5,5,5,5,5,5,null,10019,10005,10038,10012,10015,10032,null,"10019#10005#10038#10012#10015#10032"]
[155,{"$f":"VLOOKUP($A156,ArenaRobotConfig!$B:$G,6,TRUE)","v":103},{"$f":"VLOOKUP($A156,ArenaRobotConfig!$B:$G,3,TRUE)","v":64},null,5,5,5,5,5,5,null,10006,10087,10021,10023,10040,10027,null,"10006#10087#10021#10023#10040#10027"]
[156,{"$f":"VLOOKUP($A157,ArenaRobotConfig!$B:$G,6,TRUE)","v":101},{"$f":"VLOOKUP($A157,ArenaRobotConfig!$B:$G,3,TRUE)","v":62},null,5,5,5,5,5,5,null,10003,10037,10086,10088,10024,10026,null,"10003#10037#10086#10088#10024#10026"]
[157,{"$f":"VLOOKUP($A158,ArenaRobotConfig!$B:$G,6,TRUE)","v":117},{"$f":"VLOOKUP($A158,ArenaRobotConfig!$B:$G,3,TRUE)","v":60},null,5,5,5,5,5,5,null,10018,10005,10008,10028,10024,10032,null,"10018#10005#10008#10028#10024#10032"]
[158,{"$f":"VLOOKUP($A159,ArenaRobotConfig!$B:$G,6,TRUE)","v":101},{"$f":"VLOOKUP($A159,ArenaRobotConfig!$B:$G,3,TRUE)","v":70},null,5,5,5,5,5,5,null,10001,10035,10008,10028,10013,10017,null,"10001#10035#10008#10028#10013#10017"]
[159,{"$f":"VLOOKUP($A160,ArenaRobotConfig!$B:$G,6,TRUE)","v":120},{"$f":"VLOOKUP($A160,ArenaRobotConfig!$B:$G,3,TRUE)","v":68},null,5,5,5,5,5,5,null,10044,10002,10016,10039,10024,10017,null,"10044#10002#10016#10039#10024#10017"]
[160,{"$f":"VLOOKUP($A161,ArenaRobotConfig!$B:$G,6,TRUE)","v":119},{"$f":"VLOOKUP($A161,ArenaRobotConfig!$B:$G,3,TRUE)","v":62},null,5,5,5,5,5,5,null,10044,10002,10021,10088,10015,10090,null,"10044#10002#10021#10088#10015#10090"]
[161,{"$f":"VLOOKUP($A162,ArenaRobotConfig!$B:$G,6,TRUE)","v":101},{"$f":"VLOOKUP($A162,ArenaRobotConfig!$B:$G,3,TRUE)","v":70},null,5,5,5,5,5,5,null,10034,10035,10011,10088,10040,10027,null,"10034#10035#10011#10088#10040#10027"]
[162,{"$f":"VLOOKUP($A163,ArenaRobotConfig!$B:$G,6,TRUE)","v":107},{"$f":"VLOOKUP($A163,ArenaRobotConfig!$B:$G,3,TRUE)","v":65},null,5,5,5,5,5,5,null,10036,10002,10008,10023,10024,10027,null,"10036#10002#10008#10023#10024#10027"]
[163,{"$f":"VLOOKUP($A164,ArenaRobotConfig!$B:$G,6,TRUE)","v":112},{"$f":"VLOOKUP($A164,ArenaRobotConfig!$B:$G,3,TRUE)","v":61},null,5,5,5,5,5,5,null,10036,10087,10042,10009,10040,10027,null,"10036#10087#10042#10009#10040#10027"]
[164,{"$f":"VLOOKUP($A165,ArenaRobotConfig!$B:$G,6,TRUE)","v":107},{"$f":"VLOOKUP($A165,ArenaRobotConfig!$B:$G,3,TRUE)","v":61},null,5,5,5,5,5,5,null,10003,10035,10004,10088,10040,10014,null,"10003#10035#10004#10088#10040#10014"]
[165,{"$f":"VLOOKUP($A166,ArenaRobotConfig!$B:$G,6,TRUE)","v":116},{"$f":"VLOOKUP($A166,ArenaRobotConfig!$B:$G,3,TRUE)","v":66},null,5,5,5,5,5,5,null,10001,10037,10042,10009,10031,10090,null,"10001#10037#10042#10009#10031#10090"]
[166,{"$f":"VLOOKUP($A167,ArenaRobotConfig!$B:$G,6,TRUE)","v":100},{"$f":"VLOOKUP($A167,ArenaRobotConfig!$B:$G,3,TRUE)","v":65},null,5,5,5,5,5,5,null,10006,10037,10016,10028,10025,10032,null,"10006#10037#10016#10028#10025#10032"]
[167,{"$f":"VLOOKUP($A168,ArenaRobotConfig!$B:$G,6,TRUE)","v":109},{"$f":"VLOOKUP($A168,ArenaRobotConfig!$B:$G,3,TRUE)","v":60},null,5,5,5,5,5,5,null,10018,10037,10004,10009,10030,10033,null,"10018#10037#10004#10009#10030#10033"]
[168,{"$f":"VLOOKUP($A169,ArenaRobotConfig!$B:$G,6,TRUE)","v":112},{"$f":"VLOOKUP($A169,ArenaRobotConfig!$B:$G,3,TRUE)","v":69},null,5,5,5,5,5,5,null,10036,10002,10021,10028,10015,10026,null,"10036#10002#10021#10028#10015#10026"]
[169,{"$f":"VLOOKUP($A170,ArenaRobotConfig!$B:$G,6,TRUE)","v":101},{"$f":"VLOOKUP($A170,ArenaRobotConfig!$B:$G,3,TRUE)","v":70},null,5,5,5,5,5,5,null,10036,10020,10021,10009,10089,10017,null,"10036#10020#10021#10009#10089#10017"]
[170,{"$f":"VLOOKUP($A171,ArenaRobotConfig!$B:$G,6,TRUE)","v":174},{"$f":"VLOOKUP($A171,ArenaRobotConfig!$B:$G,3,TRUE)","v":100},null,5,5,5,5,5,5,null,10006,10002,10086,10088,10025,10032,null,"10006#10002#10086#10088#10025#10032"]
[171,{"$f":"VLOOKUP($A172,ArenaRobotConfig!$B:$G,6,TRUE)","v":155},{"$f":"VLOOKUP($A172,ArenaRobotConfig!$B:$G,3,TRUE)","v":91},null,5,5,5,5,5,5,null,10006,10010,10016,10088,10045,10017,null,"10006#10010#10016#10088#10045#10017"]
[172,{"$f":"VLOOKUP($A173,ArenaRobotConfig!$B:$G,6,TRUE)","v":178},{"$f":"VLOOKUP($A173,ArenaRobotConfig!$B:$G,3,TRUE)","v":100},null,5,5,5,5,5,5,null,10044,10037,10038,10022,10013,10017,null,"10044#10037#10038#10022#10013#10017"]
[173,{"$f":"VLOOKUP($A174,ArenaRobotConfig!$B:$G,6,TRUE)","v":175},{"$f":"VLOOKUP($A174,ArenaRobotConfig!$B:$G,3,TRUE)","v":90},null,5,5,5,5,5,5,null,10034,10037,10086,10029,10024,10041,null,"10034#10037#10086#10029#10024#10041"]
[174,{"$f":"VLOOKUP($A175,ArenaRobotConfig!$B:$G,6,TRUE)","v":178},{"$f":"VLOOKUP($A175,ArenaRobotConfig!$B:$G,3,TRUE)","v":87},null,5,5,5,5,5,5,null,10036,10020,10042,10012,10025,10014,null,"10036#10020#10042#10012#10025#10014"]
[175,{"$f":"VLOOKUP($A176,ArenaRobotConfig!$B:$G,6,TRUE)","v":168},{"$f":"VLOOKUP($A176,ArenaRobotConfig!$B:$G,3,TRUE)","v":105},null,5,5,5,5,5,5,null,10018,10087,10008,10012,10015,10027,null,"10018#10087#10008#10012#10015#10027"]
[176,{"$f":"VLOOKUP($A177,ArenaRobotConfig!$B:$G,6,TRUE)","v":149},{"$f":"VLOOKUP($A177,ArenaRobotConfig!$B:$G,3,TRUE)","v":98},null,5,5,5,5,5,5,null,10006,10035,10086,10028,10015,10026,null,"10006#10035#10086#10028#10015#10026"]
[177,{"$f":"VLOOKUP($A178,ArenaRobotConfig!$B:$G,6,TRUE)","v":165},{"$f":"VLOOKUP($A178,ArenaRobotConfig!$B:$G,3,TRUE)","v":105},null,5,5,5,5,5,5,null,10006,10005,10086,10009,10024,10032,null,"10006#10005#10086#10009#10024#10032"]
[178,{"$f":"VLOOKUP($A179,ArenaRobotConfig!$B:$G,6,TRUE)","v":173},{"$f":"VLOOKUP($A179,ArenaRobotConfig!$B:$G,3,TRUE)","v":99},null,5,5,5,5,5,5,null,10018,10005,10021,10012,10040,10046,null,"10018#10005#10021#10012#10040#10046"]
[179,{"$f":"VLOOKUP($A180,ArenaRobotConfig!$B:$G,6,TRUE)","v":154},{"$f":"VLOOKUP($A180,ArenaRobotConfig!$B:$G,3,TRUE)","v":87},null,5,5,5,5,5,5,null,10019,10010,10042,10043,10031,10014,null,"10019#10010#10042#10043#10031#10014"]
[180,{"$f":"VLOOKUP($A181,ArenaRobotConfig!$B:$G,6,TRUE)","v":168},{"$f":"VLOOKUP($A181,ArenaRobotConfig!$B:$G,3,TRUE)","v":91},null,5,5,5,5,5,5,null,10006,10037,10008,10088,10030,10090,null,"10006#10037#10008#10088#10030#10090"]
[181,{"$f":"VLOOKUP($A182,ArenaRobotConfig!$B:$G,6,TRUE)","v":180},{"$f":"VLOOKUP($A182,ArenaRobotConfig!$B:$G,3,TRUE)","v":87},null,5,5,5,5,5,5,null,10036,10037,10042,10028,10025,10090,null,"10036#10037#10042#10028#10025#10090"]
[182,{"$f":"VLOOKUP($A183,ArenaRobotConfig!$B:$G,6,TRUE)","v":169},{"$f":"VLOOKUP($A183,ArenaRobotConfig!$B:$G,3,TRUE)","v":85},null,5,5,5,5,5,5,null,10001,10020,10016,10022,10031,10090,null,"10001#10020#10016#10022#10031#10090"]
[183,{"$f":"VLOOKUP($A184,ArenaRobotConfig!$B:$G,6,TRUE)","v":165},{"$f":"VLOOKUP($A184,ArenaRobotConfig!$B:$G,3,TRUE)","v":93},null,5,5,5,5,5,5,null,10034,10007,10004,10012,10024,10033,null,"10034#10007#10004#10012#10024#10033"]
[184,{"$f":"VLOOKUP($A185,ArenaRobotConfig!$B:$G,6,TRUE)","v":151},{"$f":"VLOOKUP($A185,ArenaRobotConfig!$B:$G,3,TRUE)","v":93},null,5,5,5,5,5,5,null,10001,10002,10042,10029,10030,10014,null,"10001#10002#10042#10029#10030#10014"]
[185,{"$f":"VLOOKUP($A186,ArenaRobotConfig!$B:$G,6,TRUE)","v":179},{"$f":"VLOOKUP($A186,ArenaRobotConfig!$B:$G,3,TRUE)","v":90},null,5,5,5,5,5,5,null,10036,10020,10008,10088,10015,10033,null,"10036#10020#10008#10088#10015#10033"]
[186,{"$f":"VLOOKUP($A187,ArenaRobotConfig!$B:$G,6,TRUE)","v":175},{"$f":"VLOOKUP($A187,ArenaRobotConfig!$B:$G,3,TRUE)","v":97},null,5,5,5,5,5,5,null,10019,10010,10038,10088,10015,10026,null,"10019#10010#10038#10088#10015#10026"]
[187,{"$f":"VLOOKUP($A188,ArenaRobotConfig!$B:$G,6,TRUE)","v":144},{"$f":"VLOOKUP($A188,ArenaRobotConfig!$B:$G,3,TRUE)","v":90},null,5,5,5,5,5,5,null,10019,10002,10038,10029,10031,10017,null,"10019#10002#10038#10029#10031#10017"]
[188,{"$f":"VLOOKUP($A189,ArenaRobotConfig!$B:$G,6,TRUE)","v":152},{"$f":"VLOOKUP($A189,ArenaRobotConfig!$B:$G,3,TRUE)","v":100},null,5,5,5,5,5,5,null,10036,10087,10011,10022,10025,10017,null,"10036#10087#10011#10022#10025#10017"]
[189,{"$f":"VLOOKUP($A190,ArenaRobotConfig!$B:$G,6,TRUE)","v":166},{"$f":"VLOOKUP($A190,ArenaRobotConfig!$B:$G,3,TRUE)","v":103},null,5,5,5,5,5,5,null,10018,10087,10038,10043,10031,10017,null,"10018#10087#10038#10043#10031#10017"]
[190,{"$f":"VLOOKUP($A191,ArenaRobotConfig!$B:$G,6,TRUE)","v":157},{"$f":"VLOOKUP($A191,ArenaRobotConfig!$B:$G,3,TRUE)","v":102},null,5,5,5,5,5,5,null,10036,10035,10038,10039,10025,10027,null,"10036#10035#10038#10039#10025#10027"]
[191,{"$f":"VLOOKUP($A192,ArenaRobotConfig!$B:$G,6,TRUE)","v":148},{"$f":"VLOOKUP($A192,ArenaRobotConfig!$B:$G,3,TRUE)","v":95},null,5,5,5,5,5,5,null,10003,10007,10004,10088,10015,10033,null,"10003#10007#10004#10088#10015#10033"]
[192,{"$f":"VLOOKUP($A193,ArenaRobotConfig!$B:$G,6,TRUE)","v":170},{"$f":"VLOOKUP($A193,ArenaRobotConfig!$B:$G,3,TRUE)","v":85},null,5,5,5,5,5,5,null,10036,10007,10021,10023,10013,10041,null,"10036#10007#10021#10023#10013#10041"]
[193,{"$f":"VLOOKUP($A194,ArenaRobotConfig!$B:$G,6,TRUE)","v":162},{"$f":"VLOOKUP($A194,ArenaRobotConfig!$B:$G,3,TRUE)","v":105},null,5,5,5,5,5,5,null,10044,10087,10016,10043,10013,10027,null,"10044#10087#10016#10043#10013#10027"]
[194,{"$f":"VLOOKUP($A195,ArenaRobotConfig!$B:$G,6,TRUE)","v":177},{"$f":"VLOOKUP($A195,ArenaRobotConfig!$B:$G,3,TRUE)","v":101},null,5,5,5,5,5,5,null,10006,10087,10016,10043,10045,10033,null,{"$f":"L195&\"#\"&M195&\"#\"&N195&\"#\"&O195&\"#\"&P195&\"#\"&Q195","v":"10006#10087#10016#10043#10045#10033"}]
[195,{"$f":"VLOOKUP($A196,ArenaRobotConfig!$B:$G,6,TRUE)","v":173},{"$f":"VLOOKUP($A196,ArenaRobotConfig!$B:$G,3,TRUE)","v":105},null,5,5,5,5,5,5,null,10036,10035,10042,10022,10045,10033,null,"10036#10035#10042#10022#10045#10033"]
[196,{"$f":"VLOOKUP($A197,ArenaRobotConfig!$B:$G,6,TRUE)","v":161},{"$f":"VLOOKUP($A197,ArenaRobotConfig!$B:$G,3,TRUE)","v":87},null,5,5,5,5,5,5,null,10001,10020,10086,10028,10025,10026,null,"10001#10020#10086#10028#10025#10026"]
[197,{"$f":"VLOOKUP($A198,ArenaRobotConfig!$B:$G,6,TRUE)","v":159},{"$f":"VLOOKUP($A198,ArenaRobotConfig!$B:$G,3,TRUE)","v":89},null,5,5,5,5,5,5,null,10019,10085,10021,10029,10089,10014,null,"10019#10085#10021#10029#10089#10014"]
[198,{"$f":"VLOOKUP($A199,ArenaRobotConfig!$B:$G,6,TRUE)","v":152},{"$f":"VLOOKUP($A199,ArenaRobotConfig!$B:$G,3,TRUE)","v":93},null,5,5,5,5,5,5,null,10019,10035,10086,10088,10089,10026,null,"10019#10035#10086#10088#10089#10026"]
[199,{"$f":"VLOOKUP($A200,ArenaRobotConfig!$B:$G,6,TRUE)","v":155},{"$f":"VLOOKUP($A200,ArenaRobotConfig!$B:$G,3,TRUE)","v":90},null,5,5,5,5,5,5,null,10034,10010,10021,10088,10015,10014,null,"10034#10010#10021#10088#10015#10014"]
[200,{"$f":"VLOOKUP($A201,ArenaRobotConfig!$B:$G,6,TRUE)","v":215},{"$f":"VLOOKUP($A201,ArenaRobotConfig!$B:$G,3,TRUE)","v":128},null,5,5,5,5,5,5,null,10001,10087,10004,10088,10013,10027,null,"10001#10087#10004#10088#10013#10027"]
[201,{"$f":"VLOOKUP($A202,ArenaRobotConfig!$B:$G,6,TRUE)","v":204},{"$f":"VLOOKUP($A202,ArenaRobotConfig!$B:$G,3,TRUE)","v":120},null,5,5,5,5,5,5,null,10044,10037,10008,10039,10089,10014,null,"10044#10037#10008#10039#10089#10014"]
[202,{"$f":"VLOOKUP($A203,ArenaRobotConfig!$B:$G,6,TRUE)","v":218},{"$f":"VLOOKUP($A203,ArenaRobotConfig!$B:$G,3,TRUE)","v":120},null,5,5,5,5,5,5,null,10018,10085,10011,10023,10025,10041,null,"10018#10085#10011#10023#10025#10041"]
[203,{"$f":"VLOOKUP($A204,ArenaRobotConfig!$B:$G,6,TRUE)","v":209},{"$f":"VLOOKUP($A204,ArenaRobotConfig!$B:$G,3,TRUE)","v":130},null,5,5,5,5,5,5,null,10019,10007,10021,10028,10013,10090,null,"10019#10007#10021#10028#10013#10090"]
[204,{"$f":"VLOOKUP($A205,ArenaRobotConfig!$B:$G,6,TRUE)","v":208},{"$f":"VLOOKUP($A205,ArenaRobotConfig!$B:$G,3,TRUE)","v":125},null,5,5,5,5,5,5,null,10003,10035,10004,10023,10089,10046,null,"10003#10035#10004#10023#10089#10046"]
[205,{"$f":"VLOOKUP($A206,ArenaRobotConfig!$B:$G,6,TRUE)","v":216},{"$f":"VLOOKUP($A206,ArenaRobotConfig!$B:$G,3,TRUE)","v":123},null,5,5,5,5,5,5,null,10018,10035,10011,10012,10030,10041,null,"10018#10035#10011#10012#10030#10041"]
[206,{"$f":"VLOOKUP($A207,ArenaRobotConfig!$B:$G,6,TRUE)","v":210},{"$f":"VLOOKUP($A207,ArenaRobotConfig!$B:$G,3,TRUE)","v":126},null,5,5,5,5,5,5,null,10034,10085,10008,10028,10015,10017,null,"10034#10085#10008#10028#10015#10017"]
[207,{"$f":"VLOOKUP($A208,ArenaRobotConfig!$B:$G,6,TRUE)","v":209},{"$f":"VLOOKUP($A208,ArenaRobotConfig!$B:$G,3,TRUE)","v":126},null,5,5,5,5,5,5,null,10001,10087,10038,10088,10030,10027,null,"10001#10087#10038#10088#10030#10027"]
[208,{"$f":"VLOOKUP($A209,ArenaRobotConfig!$B:$G,6,TRUE)","v":214},{"$f":"VLOOKUP($A209,ArenaRobotConfig!$B:$G,3,TRUE)","v":121},null,5,5,5,5,5,5,null,10006,10085,10021,10029,10013,10090,null,"10006#10085#10021#10029#10013#10090"]
[209,{"$f":"VLOOKUP($A210,ArenaRobotConfig!$B:$G,6,TRUE)","v":202},{"$f":"VLOOKUP($A210,ArenaRobotConfig!$B:$G,3,TRUE)","v":125},null,5,5,5,5,5,5,null,10044,10007,10042,10009,10025,10041,null,"10044#10007#10042#10009#10025#10041"]
[210,{"$f":"VLOOKUP($A211,ArenaRobotConfig!$B:$G,6,TRUE)","v":218},{"$f":"VLOOKUP($A211,ArenaRobotConfig!$B:$G,3,TRUE)","v":129},null,5,5,5,5,5,5,null,10036,10020,10011,10023,10013,10046,null,"10036#10020#10011#10023#10013#10046"]
[211,{"$f":"VLOOKUP($A212,ArenaRobotConfig!$B:$G,6,TRUE)","v":200},{"$f":"VLOOKUP($A212,ArenaRobotConfig!$B:$G,3,TRUE)","v":129},null,5,5,5,5,5,5,null,10003,10085,10086,10009,10031,10032,null,"10003#10085#10086#10009#10031#10032"]
[212,{"$f":"VLOOKUP($A213,ArenaRobotConfig!$B:$G,6,TRUE)","v":200},{"$f":"VLOOKUP($A213,ArenaRobotConfig!$B:$G,3,TRUE)","v":128},null,5,5,5,5,5,5,null,10036,10035,10042,10028,10024,10033,null,"10036#10035#10042#10028#10024#10033"]
[213,{"$f":"VLOOKUP($A214,ArenaRobotConfig!$B:$G,6,TRUE)","v":218},{"$f":"VLOOKUP($A214,ArenaRobotConfig!$B:$G,3,TRUE)","v":123},null,5,5,5,5,5,5,null,10001,10005,10086,10012,10024,10026,null,"10001#10005#10086#10012#10024#10026"]
[214,{"$f":"VLOOKUP($A215,ArenaRobotConfig!$B:$G,6,TRUE)","v":220},{"$f":"VLOOKUP($A215,ArenaRobotConfig!$B:$G,3,TRUE)","v":120},null,5,5,5,5,5,5,null,10003,10010,10042,10039,10031,10041,null,"10003#10010#10042#10039#10031#10041"]
[215,{"$f":"VLOOKUP($A216,ArenaRobotConfig!$B:$G,6,TRUE)","v":206},{"$f":"VLOOKUP($A216,ArenaRobotConfig!$B:$G,3,TRUE)","v":125},null,5,5,5,5,5,5,null,10044,10020,10011,10039,10089,10046,null,"10044#10020#10011#10039#10089#10046"]
[216,{"$f":"VLOOKUP($A217,ArenaRobotConfig!$B:$G,6,TRUE)","v":206},{"$f":"VLOOKUP($A217,ArenaRobotConfig!$B:$G,3,TRUE)","v":125},null,5,5,5,5,5,5,null,10044,10085,10004,10039,10030,10032,null,"10044#10085#10004#10039#10030#10032"]
[217,{"$f":"VLOOKUP($A218,ArenaRobotConfig!$B:$G,6,TRUE)","v":204},{"$f":"VLOOKUP($A218,ArenaRobotConfig!$B:$G,3,TRUE)","v":126},null,5,5,5,5,5,5,null,10019,10005,10004,10028,10030,10033,null,"10019#10005#10004#10028#10030#10033"]
[218,{"$f":"VLOOKUP($A219,ArenaRobotConfig!$B:$G,6,TRUE)","v":205},{"$f":"VLOOKUP($A219,ArenaRobotConfig!$B:$G,3,TRUE)","v":123},null,5,5,5,5,5,5,null,10044,10087,10004,10028,10024,10041,null,"10044#10087#10004#10028#10024#10041"]
[219,{"$f":"VLOOKUP($A220,ArenaRobotConfig!$B:$G,6,TRUE)","v":209},{"$f":"VLOOKUP($A220,ArenaRobotConfig!$B:$G,3,TRUE)","v":120},null,5,5,5,5,5,5,null,10036,10020,10042,10029,10015,10033,null,"10036#10020#10042#10029#10015#10033"]
[220,{"$f":"VLOOKUP($A221,ArenaRobotConfig!$B:$G,6,TRUE)","v":207},{"$f":"VLOOKUP($A221,ArenaRobotConfig!$B:$G,3,TRUE)","v":125},null,5,5,5,5,5,5,null,10018,10037,10038,10039,10089,10032,null,"10018#10037#10038#10039#10089#10032"]
[221,{"$f":"VLOOKUP($A222,ArenaRobotConfig!$B:$G,6,TRUE)","v":200},{"$f":"VLOOKUP($A222,ArenaRobotConfig!$B:$G,3,TRUE)","v":130},null,5,5,5,5,5,5,null,10036,10037,10042,10022,10013,10046,null,"10036#10037#10042#10022#10013#10046"]
[222,{"$f":"VLOOKUP($A223,ArenaRobotConfig!$B:$G,6,TRUE)","v":213},{"$f":"VLOOKUP($A223,ArenaRobotConfig!$B:$G,3,TRUE)","v":127},null,5,5,5,5,5,5,null,10044,10005,10004,10009,10025,10090,null,"10044#10005#10004#10009#10025#10090"]
[223,{"$f":"VLOOKUP($A224,ArenaRobotConfig!$B:$G,6,TRUE)","v":203},{"$f":"VLOOKUP($A224,ArenaRobotConfig!$B:$G,3,TRUE)","v":121},null,5,5,5,5,5,5,null,10019,10035,10004,10022,10089,10046,null,"10019#10035#10004#10022#10089#10046"]
[224,{"$f":"VLOOKUP($A225,ArenaRobotConfig!$B:$G,6,TRUE)","v":218},{"$f":"VLOOKUP($A225,ArenaRobotConfig!$B:$G,3,TRUE)","v":125},null,5,5,5,5,5,5,null,10034,10087,10038,10043,10030,10014,null,"10034#10087#10038#10043#10030#10014"]
[225,{"$f":"VLOOKUP($A226,ArenaRobotConfig!$B:$G,6,TRUE)","v":209},{"$f":"VLOOKUP($A226,ArenaRobotConfig!$B:$G,3,TRUE)","v":122},null,5,5,5,5,5,5,null,10006,10035,10011,10023,10013,10014,null,"10006#10035#10011#10023#10013#10014"]
[226,{"$f":"VLOOKUP($A227,ArenaRobotConfig!$B:$G,6,TRUE)","v":209},{"$f":"VLOOKUP($A227,ArenaRobotConfig!$B:$G,3,TRUE)","v":123},null,5,5,5,5,5,5,null,10018,10020,10086,10009,10024,10027,null,"10018#10020#10086#10009#10024#10027"]
[227,{"$f":"VLOOKUP($A228,ArenaRobotConfig!$B:$G,6,TRUE)","v":201},{"$f":"VLOOKUP($A228,ArenaRobotConfig!$B:$G,3,TRUE)","v":126},null,5,5,5,5,5,5,null,10036,10007,10042,10009,10031,10032,null,"10036#10007#10042#10009#10031#10032"]
[228,{"$f":"VLOOKUP($A229,ArenaRobotConfig!$B:$G,6,TRUE)","v":211},{"$f":"VLOOKUP($A229,ArenaRobotConfig!$B:$G,3,TRUE)","v":126},null,5,5,5,5,5,5,null,10019,10087,10004,10043,10015,10026,null,"10019#10087#10004#10043#10015#10026"]
[229,{"$f":"VLOOKUP($A230,ArenaRobotConfig!$B:$G,6,TRUE)","v":204},{"$f":"VLOOKUP($A230,ArenaRobotConfig!$B:$G,3,TRUE)","v":127},null,5,5,5,5,5,5,null,10034,10085,10086,10039,10045,10032,null,"10034#10085#10086#10039#10045#10032"]
[230,{"$f":"VLOOKUP($A231,ArenaRobotConfig!$B:$G,6,TRUE)","v":10},{"$f":"VLOOKUP($A231,ArenaRobotConfig!$B:$G,3,TRUE)","v":10},null,5,5,5,5,5,5,null,10036,10007,10086,10043,10025,10046,null,"10036#10007#10086#10043#10025#10046"]
[231,{"$f":"VLOOKUP($A232,ArenaRobotConfig!$B:$G,6,TRUE)","v":10},{"$f":"VLOOKUP($A232,ArenaRobotConfig!$B:$G,3,TRUE)","v":10},null,5,5,5,5,5,5,null,10034,10010,10021,10088,10045,10046,null,"10034#10010#10021#10088#10045#10046"]
[232,{"$f":"VLOOKUP($A233,ArenaRobotConfig!$B:$G,6,TRUE)","v":10},{"$f":"VLOOKUP($A233,ArenaRobotConfig!$B:$G,3,TRUE)","v":10},null,5,5,5,5,5,5,null,10044,10087,10011,10088,10025,10041,null,"10044#10087#10011#10088#10025#10041"]
[233,{"$f":"VLOOKUP($A234,ArenaRobotConfig!$B:$G,6,TRUE)","v":10},{"$f":"VLOOKUP($A234,ArenaRobotConfig!$B:$G,3,TRUE)","v":10},null,5,5,5,5,5,5,null,10018,10037,10016,10009,10025,10026,null,"10018#10037#10016#10009#10025#10026"]
[234,{"$f":"VLOOKUP($A235,ArenaRobotConfig!$B:$G,6,TRUE)","v":10},{"$f":"VLOOKUP($A235,ArenaRobotConfig!$B:$G,3,TRUE)","v":10},null,5,5,5,5,5,5,null,10003,10010,10004,10029,10040,10033,null,"10003#10010#10004#10029#10040#10033"]
[235,{"$f":"VLOOKUP($A236,ArenaRobotConfig!$B:$G,6,TRUE)","v":237},{"$f":"VLOOKUP($A236,ArenaRobotConfig!$B:$G,3,TRUE)","v":144},null,5,5,5,5,5,5,null,10003,10087,10042,10029,10040,10033,null,"10003#10087#10042#10029#10040#10033"]
[236,{"$f":"VLOOKUP($A237,ArenaRobotConfig!$B:$G,6,TRUE)","v":250},{"$f":"VLOOKUP($A237,ArenaRobotConfig!$B:$G,3,TRUE)","v":139},null,5,5,5,5,5,5,null,10018,10005,10038,10043,10089,10041,null,"10018#10005#10038#10043#10089#10041"]
[237,{"$f":"VLOOKUP($A238,ArenaRobotConfig!$B:$G,6,TRUE)","v":247},{"$f":"VLOOKUP($A238,ArenaRobotConfig!$B:$G,3,TRUE)","v":138},null,5,5,5,5,5,5,null,10034,10035,10016,10028,10025,10032,null,"10034#10035#10016#10028#10025#10032"]
[238,{"$f":"VLOOKUP($A239,ArenaRobotConfig!$B:$G,6,TRUE)","v":252},{"$f":"VLOOKUP($A239,ArenaRobotConfig!$B:$G,3,TRUE)","v":140},null,5,5,5,5,5,5,null,10001,10010,10008,10023,10024,10026,null,"10001#10010#10008#10023#10024#10026"]
[239,{"$f":"VLOOKUP($A240,ArenaRobotConfig!$B:$G,6,TRUE)","v":235},{"$f":"VLOOKUP($A240,ArenaRobotConfig!$B:$G,3,TRUE)","v":138},null,5,5,5,5,5,5,null,10036,10085,10008,10043,10015,10014,null,"10036#10085#10008#10043#10015#10014"]
[240,{"$f":"VLOOKUP($A241,ArenaRobotConfig!$B:$G,6,TRUE)","v":249},{"$f":"VLOOKUP($A241,ArenaRobotConfig!$B:$G,3,TRUE)","v":141},null,5,5,5,5,5,5,null,10036,10002,10011,10039,10025,10027,null,"10036#10002#10011#10039#10025#10027"]
[241,{"$f":"VLOOKUP($A242,ArenaRobotConfig!$B:$G,6,TRUE)","v":243},{"$f":"VLOOKUP($A242,ArenaRobotConfig!$B:$G,3,TRUE)","v":143},null,5,5,5,5,5,5,null,10034,10002,10021,10029,10013,10046,null,"10034#10002#10021#10029#10013#10046"]
[242,{"$f":"VLOOKUP($A243,ArenaRobotConfig!$B:$G,6,TRUE)","v":247},{"$f":"VLOOKUP($A243,ArenaRobotConfig!$B:$G,3,TRUE)","v":135},null,5,5,5,5,5,5,null,10001,10005,10086,10043,10024,10014,null,"10001#10005#10086#10043#10024#10014"]
[243,{"$f":"VLOOKUP($A244,ArenaRobotConfig!$B:$G,6,TRUE)","v":245},{"$f":"VLOOKUP($A244,ArenaRobotConfig!$B:$G,3,TRUE)","v":138},null,5,5,5,5,5,5,null,10036,10035,10008,10043,10040,10041,null,"10036#10035#10008#10043#10040#10041"]
[244,{"$f":"VLOOKUP($A245,ArenaRobotConfig!$B:$G,6,TRUE)","v":242},{"$f":"VLOOKUP($A245,ArenaRobotConfig!$B:$G,3,TRUE)","v":150},null,5,5,5,5,5,5,null,10018,10002,10038,10009,10030,10027,null,"10018#10002#10038#10009#10030#10027"]
[245,{"$f":"VLOOKUP($A246,ArenaRobotConfig!$B:$G,6,TRUE)","v":246},{"$f":"VLOOKUP($A246,ArenaRobotConfig!$B:$G,3,TRUE)","v":149},null,5,5,5,5,5,5,null,10044,10010,10086,10009,10013,10032,null,"10044#10010#10086#10009#10013#10032"]
[246,{"$f":"VLOOKUP($A247,ArenaRobotConfig!$B:$G,6,TRUE)","v":239},{"$f":"VLOOKUP($A247,ArenaRobotConfig!$B:$G,3,TRUE)","v":142},null,5,5,5,5,5,5,null,10036,10010,10016,10012,10015,10033,null,"10036#10010#10016#10012#10015#10033"]
[247,{"$f":"VLOOKUP($A248,ArenaRobotConfig!$B:$G,6,TRUE)","v":245},{"$f":"VLOOKUP($A248,ArenaRobotConfig!$B:$G,3,TRUE)","v":140},null,5,5,5,5,5,5,null,10036,10005,10021,10023,10024,10017,null,"10036#10005#10021#10023#10024#10017"]
[248,{"$f":"VLOOKUP($A249,ArenaRobotConfig!$B:$G,6,TRUE)","v":238},{"$f":"VLOOKUP($A249,ArenaRobotConfig!$B:$G,3,TRUE)","v":140},null,5,5,5,5,5,5,null,10001,10002,10086,10028,10013,10014,null,"10001#10002#10086#10028#10013#10014"]
[249,{"$f":"VLOOKUP($A250,ArenaRobotConfig!$B:$G,6,TRUE)","v":243},{"$f":"VLOOKUP($A250,ArenaRobotConfig!$B:$G,3,TRUE)","v":136},null,5,5,5,5,5,5,null,10003,10002,10011,10028,10013,10017,null,"10003#10002#10011#10028#10013#10017"]
[250,{"$f":"VLOOKUP($A251,ArenaRobotConfig!$B:$G,6,TRUE)","v":245},{"$f":"VLOOKUP($A251,ArenaRobotConfig!$B:$G,3,TRUE)","v":138},null,5,5,5,5,5,5,null,10018,10010,10038,10012,10045,10041,null,"10018#10010#10038#10012#10045#10041"]
[251,{"$f":"VLOOKUP($A252,ArenaRobotConfig!$B:$G,6,TRUE)","v":255},{"$f":"VLOOKUP($A252,ArenaRobotConfig!$B:$G,3,TRUE)","v":138},null,5,5,5,5,5,5,null,10001,10037,10042,10028,10013,10046,null,"10001#10037#10042#10028#10013#10046"]
[252,{"$f":"VLOOKUP($A253,ArenaRobotConfig!$B:$G,6,TRUE)","v":242},{"$f":"VLOOKUP($A253,ArenaRobotConfig!$B:$G,3,TRUE)","v":137},null,5,5,5,5,5,5,null,10001,10020,10004,10043,10031,10090,null,"10001#10020#10004#10043#10031#10090"]
[253,{"$f":"VLOOKUP($A254,ArenaRobotConfig!$B:$G,6,TRUE)","v":239},{"$f":"VLOOKUP($A254,ArenaRobotConfig!$B:$G,3,TRUE)","v":138},null,5,5,5,5,5,5,null,10019,10007,10011,10023,10040,10090,null,"10019#10007#10011#10023#10040#10090"]
[254,{"$f":"VLOOKUP($A255,ArenaRobotConfig!$B:$G,6,TRUE)","v":253},{"$f":"VLOOKUP($A255,ArenaRobotConfig!$B:$G,3,TRUE)","v":137},null,5,5,5,5,5,5,null,10001,10020,10038,10029,10024,10041,null,"10001#10020#10038#10029#10024#10041"]
[255,{"$f":"VLOOKUP($A256,ArenaRobotConfig!$B:$G,6,TRUE)","v":249},{"$f":"VLOOKUP($A256,ArenaRobotConfig!$B:$G,3,TRUE)","v":135},null,5,5,5,5,5,5,null,10036,10037,10011,10023,10013,10014,null,"10036#10037#10011#10023#10013#10014"]
[256,{"$f":"VLOOKUP($A257,ArenaRobotConfig!$B:$G,6,TRUE)","v":241},{"$f":"VLOOKUP($A257,ArenaRobotConfig!$B:$G,3,TRUE)","v":135},null,5,5,5,5,5,5,null,10006,10085,10011,10028,10025,10014,null,"10006#10085#10011#10028#10025#10014"]
[257,{"$f":"VLOOKUP($A258,ArenaRobotConfig!$B:$G,6,TRUE)","v":237},{"$f":"VLOOKUP($A258,ArenaRobotConfig!$B:$G,3,TRUE)","v":140},null,5,5,5,5,5,5,null,10044,10007,10016,10009,10015,10027,null,"10044#10007#10016#10009#10015#10027"]