{"text_format":"3","workbook":"xlsx","n_sheets":5,"sheets":["DifferDemonsConfig","辅助表","配件表","整体表","属性表"],"not_rendered":{"external_links":1},"read":"whole","date_system":"1900"}

{"sheet":"DifferDemonsConfig","index":0,"n_rows":17,"n_cols":14,"rows_kept":17}
[null,"Id","OpenRules","Name","Quality","Icon","LiveIcon","Scale","Position","Effect","AvatarResourceID","LockAvatarResourceID","ComonpentList","Aptitude"]
[null,"int","mut,int#int,2","string","int","int","int","float","mut,float#float,1","string","int","int","mut,int#int,1","int"]
[null,2,4,2,2,3,3,3,3,3,3,3,2,3]
[null,"ID","异妖开放条件","异妖名字","异妖资质","Icon头像资源ID\n","静态立绘资源id","异妖缩放值","位置","每个异妖都有不同的特效 这里填特效名字 字符串","立绘资源ID","未激活的时候的立绘Id","异妖配件列表","异妖资质"]
["默认值",0,"null",{"$f":"\"\"","v":""},null,0,{"$nulls":3},{"$f":"\"\"","v":""},0,0,"null","null"]
["正确性校对"]
["校对值"]
[null,1,null,"刀劳鬼",6,null,206,0.55,"0#50",{"$nulls":3},"6001#6002#6003",16]
[null,2,null,"蒸笼仔",6,null,201,0.6,"0#0",{"$nulls":3},"6004#6005#6006",16]
[null,3,null,"横公",6,null,203,0.55,"0#0",{"$nulls":3},"6007#6008#6009",16]
[null,4,null,"拘魂姬",6,null,202,0.7,"0#-30",{"$nulls":3},"6010#6011#6012",16]
[null,5,null,"火鼠",7,null,207,0.48,"100#100",{"$nulls":3},"6013#6014#6015#6016",17]
[null,6,null,"拦面叟",7,null,210,0.6,"0#80",{"$nulls":3},"6017#6018#6019#6020",17]
[null,7,null,"孙龙",7,null,204,0.9,"0#80",{"$nulls":3},"6021#6022#6023#6024",17]
[null,8,null,"陌刀",7,null,208,0.76,"20#120",{"$nulls":3},"6025#6026#6027#6028",17]
[null,9,null,"风狸",7,null,205,0.8,"80#100",{"$nulls":3},"6029#6030#6031#6032",17]
[null,10,null,"天麟",7,null,209,0.5,"0#120",{"$nulls":3},"6033#6034#6035#6036",18]

{"sheet":"辅助表","index":1,"n_rows":65,"n_cols":18,"rows_kept":65,"merged":[[10,0,10,2],[10,5,10,7],[19,0,19,4],[19,6,19,10],[19,13,19,17],[37,0,37,4],[37,6,37,10],[37,13,37,17],[53,0,53,4]]}
["异妖加成倍数",null,40,null,null,"异妖速度倍数",4.52]
[]
["生命",2400,{"$nulls":3},"速度",176]
["攻击",200]
["护甲",200]
["魔抗",200]
[]
[]
[]
["生命、攻击属性的分配设计"]
["攻击",{"$nulls":4},"生命"]
[null,"权重","占比",{"$nulls":3},"权重","占比"]
["紫色",1,{"$f":"B13/SUM($B$13:$B$14)*$C$1","v":8},null,null,"紫色",1,{"$f":"G13/SUM($B$13:$B$14)*$C$1*10","v":80}]
["橙色",4,{"$f":"B14/SUM($B$13:$B$14)*$C$1","v":32},null,null,"橙色",4,{"$f":"G14/SUM($B$13:$B$14)*$C$1*10","v":320}]
[]
[]
["紫色生命加成的配件个数",null,null,{"$f":"4*2","v":8}]
["紫色攻击加成的配件个数",null,null,{"$f":"4*2","v":8}]
[]
["生命属性",{"$nulls":5},"攻击属性",{"$nulls":6},"效果命中"]
["等级","权重","属性占比","每级数值","当前阶级",null,"等级","权重","属性占比","每级数值","当前阶级",null,null,"等级","权重","属性占比","每级数值","当前阶级"]
[1,0.1,{"$f":"B22/SUM($B$22:$B$31)","v":{"v":0.0350877192982456,"d":"4%"}},{"$f":"C22*$B$3*10","v":842.105263157895},{"$f":"INT(SUM($D$22:D22))","v":842},null,1,0.1,{"$f":"H22/SUM($B$22:$B$31)","v":{"v":0.0350877192982456,"d":"4%"}},{"$f":"I22*$B$4*1","v":7.01754385964912},{"$f":"INT(SUM($J$22:J22))","v":7},null,null,1,0.1,{"$f":"O22/SUM($B$22:$B$31)","v":{"v":0.0350877192982456,"d":"4%"}},{"$f":"P22*0.6","v":0.0210526315789474},{"$f":"ROUNDDOWN(SUM($Q$22:Q22),2)/2*100","v":1}]
[2,0.15,{"$f":"B23/SUM($B$22:$B$31)","v":{"v":0.0526315789473684,"d":"5%"}},{"$f":"C23*$B$3*10","v":1263.15789473684},{"$f":"INT(SUM($D$22:D23))","v":2105},null,2,0.15,{"$f":"H23/SUM($B$22:$B$31)","v":{"v":0.0526315789473684,"d":"5%"}},{"$f":"I23*$B$4*1","v":10.5263157894737},{"$f":"INT(SUM($J$22:J23))","v":17},null,null,2,0.15,{"$f":"O23/SUM($B$22:$B$31)","v":{"v":0.0526315789473684,"d":"5%"}},{"$f":"P23*0.6","v":0.031578947368421},{"$f":"ROUNDDOWN(SUM($Q$22:Q23),2)/2*100","v":2.5}]
[3,0.15,{"v":0.0526315789473684,"d":"5%"},1263.15789473684,{"$f":"INT(SUM($D$22:D24))","v":3368},null,3,0.15,{"v":0.0526315789473684,"d":"5%"},10.5263157894737,{"$f":"INT(SUM($J$22:J24))","v":28},null,null,3,0.15,{"v":0.0526315789473684,"d":"5%"},0.031578947368421,{"$f":"ROUNDDOWN(SUM($Q$22:Q24),2)/2*100","v":4}]
[4,0.2,{"v":0.0701754385964912,"d":"7%"},1684.21052631579,{"$f":"INT(SUM($D$22:D25))","v":5052},null,4,0.2,{"v":0.0701754385964912,"d":"7%"},14.0350877192982,{"$f":"INT(SUM($J$22:J25))","v":42},null,null,4,0.2,{"v":0.0701754385964912,"d":"7%"},0.0421052631578947,{"$f":"ROUNDDOWN(SUM($Q$22:Q25),2)/2*100","v":6}]
[5,0.25,{"v":0.087719298245614,"d":"9%"},2105.26315789474,{"$f":"INT(SUM($D$22:D26))","v":7157},null,5,0.25,{"v":0.087719298245614,"d":"9%"},17.5438596491228,{"$f":"INT(SUM($J$22:J26))","v":59},null,null,5,0.25,{"v":0.087719298245614,"d":"9%"},0.0526315789473684,{"$f":"ROUNDDOWN(SUM($Q$22:Q26),2)/2*100","v":8.5}]
[6,0.3,{"v":0.105263157894737,"d":"11%"},2526.31578947368,{"$f":"INT(SUM($D$22:D27))","v":9684},null,6,0.3,{"v":0.105263157894737,"d":"11%"},21.0526315789474,{"$f":"INT(SUM($J$22:J27))","v":80},null,null,6,0.3,{"v":0.105263157894737,"d":"11%"},0.0631578947368421,{"$f":"ROUNDDOWN(SUM($Q$22:Q27),2)/2*100","v":12}]
[7,0.35,{"v":0.12280701754386,"d":"12%"},2947.36842105263,{"$f":"INT(SUM($D$22:D28))","v":12631},null,7,0.35,{"v":0.12280701754386,"d":"12%"},24.5614035087719,{"$f":"INT(SUM($J$22:J28))","v":105},null,null,7,0.35,{"v":0.12280701754386,"d":"12%"},0.0736842105263158,{"$f":"ROUNDDOWN(SUM($Q$22:Q28),2)/2*100","v":15.5}]
[8,0.4,{"v":0.140350877192982,"d":"14%"},3368.42105263158,{"$f":"INT(SUM($D$22:D29))","v":16000},null,8,0.4,{"v":0.140350877192982,"d":"14%"},28.0701754385965,{"$f":"INT(SUM($J$22:J29))","v":133},null,null,8,0.4,{"v":0.140350877192982,"d":"14%"},0.0842105263157895,{"$f":"ROUNDDOWN(SUM($Q$22:Q29),2)/2*100","v":20}]
[9,0.45,{"v":0.157894736842105,"d":"16%"},3789.47368421053,{"$f":"INT(SUM($D$22:D30))","v":19789},null,9,0.45,{"v":0.157894736842105,"d":"16%"},31.5789473684211,{"$f":"INT(SUM($J$22:J30))","v":164},null,null,9,0.45,{"v":0.157894736842105,"d":"16%"},0.0947368421052631,{"$f":"ROUNDDOWN(SUM($Q$22:Q30),2)/2*100","v":24.5}]
[10,0.5,{"v":0.175438596491228,"d":"18%"},4210.52631578947,{"$f":"INT(SUM($D$22:D31))","v":24000},null,10,0.5,{"v":0.175438596491228,"d":"18%"},35.0877192982456,{"$f":"INT(SUM($J$22:J31))","v":200},null,null,10,0.5,{"v":0.175438596491228,"d":"18%"},0.105263157894737,{"$f":"ROUNDDOWN(SUM($Q$22:Q31),2)/2*100","v":30}]
[]
[]
[]
["橙色生命加成配件",null,20]
["橙色攻击加成配件",null,20]
[]
["生命属性",{"$nulls":5},"生命属性",{"$nulls":6},"效果命中"]
["等级","权重","属性占比","每级数值","当前阶级",null,"等级","权重","属性占比","每级数值","当前阶级",null,null,"等级","权重","属性占比","每级数值","当前阶级"]
[1,0.1,{"$f":"B40/SUM($B$22:$B$31)","v":{"v":0.0350877192982456,"d":"4%"}},{"$f":"C40*$B$3*32/20*10","v":1347.36842105263},{"$f":"INT(SUM($D$40:D40))","v":1347},null,1,0.1,{"$f":"H40/SUM($B$22:$B$31)","v":{"v":0.0350877192982456,"d":"4%"}},{"$f":"I40*$B$4*32/20","v":11.2280701754386},{"$f":"INT(SUM($J$40:J40))","v":11},null,null,1,0.1,{"$f":"O40/SUM($B$22:$B$31)","v":{"v":0.0350877192982456,"d":"4%"}},{"$f":"P40*0.3","v":0.0105263157894737},{"$f":"ROUNDDOWN(SUM($Q$40:Q40),2)*100","v":1}]
[2,0.15,{"$f":"B41/SUM($B$22:$B$31)","v":{"v":0.0526315789473684,"d":"5%"}},{"$f":"C41*$B$3*32/20*10","v":2021.05263157895},{"$f":"INT(SUM($D$40:D41))","v":3368},null,2,0.15,{"$f":"H41/SUM($B$22:$B$31)","v":{"v":0.0526315789473684,"d":"5%"}},{"$f":"I41*$B$4*32/20","v":16.8421052631579},{"$f":"INT(SUM($J$40:J41))","v":28},null,null,2,0.15,{"$f":"O41/SUM($B$22:$B$31)","v":{"v":0.0526315789473684,"d":"5%"}},{"$f":"P41*0.3","v":0.0157894736842105},{"$f":"ROUNDDOWN(SUM($Q$40:Q41),2)*100","v":2}]
[3,0.15,{"v":0.0526315789473684,"d":"5%"},2021.05263157895,{"$f":"INT(SUM($D$40:D42))","v":5389},null,3,0.15,{"v":0.0526315789473684,"d":"5%"},16.8421052631579,{"$f":"INT(SUM($J$40:J42))","v":44},null,null,3,0.15,{"v":0.0526315789473684,"d":"5%"},0.0157894736842105,{"$f":"ROUNDDOWN(SUM($Q$40:Q42),2)*100","v":4}]
[4,0.2,{"v":0.0701754385964912,"d":"7%"},2694.73684210526,{"$f":"INT(SUM($D$40:D43))","v":8084},null,4,0.2,{"v":0.0701754385964912,"d":"7%"},22.4561403508772,{"$f":"INT(SUM($J$40:J43))","v":67},null,null,4,0.2,{"v":0.0701754385964912,"d":"7%"},0.0210526315789474,{"$f":"ROUNDDOWN(SUM($Q$40:Q43),2)*100","v":6}]
[5,0.25,{"v":0.087719298245614,"d":"9%"},3368.42105263158,{"$f":"INT(SUM($D$40:D44))","v":11452},null,5,0.25,{"v":0.087719298245614,"d":"9%"},28.0701754385965,{"$f":"INT(SUM($J$40:J44))","v":95},null,null,5,0.25,{"v":0.087719298245614,"d":"9%"},0.0263157894736842,{"$f":"ROUNDDOWN(SUM($Q$40:Q44),2)*100","v":8}]
[6,0.3,{"v":0.105263157894737,"d":"11%"},4042.1052631579,{"$f":"INT(SUM($D$40:D45))","v":15494},null,6,0.3,{"v":0.105263157894737,"d":"11%"},33.6842105263158,{"$f":"INT(SUM($J$40:J45))","v":129},null,null,6,0.3,{"v":0.105263157894737,"d":"11%"},0.031578947368421,{"$f":"ROUNDDOWN(SUM($Q$40:Q45),2)*100","v":12}]
[7,0.35,{"v":0.12280701754386,"d":"12%"},4715.78947368421,{"$f":"INT(SUM($D$40:D46))","v":20210},null,7,0.35,{"v":0.12280701754386,"d":"12%"},39.2982456140351,{"$f":"INT(SUM($J$40:J46))","v":168},null,null,7,0.35,{"v":0.12280701754386,"d":"12%"},0.0368421052631579,{"$f":"ROUNDDOWN(SUM($Q$40:Q46),2)*100","v":15}]
[8,0.4,{"v":0.140350877192982,"d":"14%"},5389.47368421053,{"$f":"INT(SUM($D$40:D47))","v":25600},null,8,0.4,{"v":0.140350877192982,"d":"14%"},44.9122807017544,{"$f":"INT(SUM($J$40:J47))","v":213},null,null,8,0.4,{"v":0.140350877192982,"d":"14%"},0.0421052631578947,{"$f":"ROUNDDOWN(SUM($Q$40:Q47),2)*100","v":20}]
[9,0.45,{"v":0.157894736842105,"d":"16%"},6063.15789473684,{"$f":"INT(SUM($D$40:D48))","v":31663},null,9,0.45,{"v":0.157894736842105,"d":"16%"},50.5263157894737,{"$f":"INT(SUM($J$40:J48))","v":263},null,null,9,0.45,{"v":0.157894736842105,"d":"16%"},0.0473684210526316,{"$f":"ROUNDDOWN(SUM($Q$40:Q48),2)*100","v":24}]
[10,0.5,{"v":0.175438596491228,"d":"18%"},6736.84210526316,{"$f":"INT(SUM($D$40:D49))","v":38400},null,10,0.5,{"v":0.175438596491228,"d":"18%"},56.140350877193,{"$f":"INT(SUM($J$40:J49))","v":320},null,null,10,0.5,{"v":0.175438596491228,"d":"18%"},0.0526315789473684,{"$f":"ROUNDDOWN(SUM($Q$40:Q49),2)*100","v":30}]
[]
[]
[]
[]
["速度属性"]
["等级","权重","属性占比","每级数值","当前阶级"]
[1,0.1,{"$f":"B56/SUM($B$22:$B$31)","v":{"v":0.0350877192982456,"d":"4%"}},{"$f":"C56*$G$3*$G$1/2","v":13.9564912280702},{"$f":"INT(SUM($D$56:D56))","v":13}]
[2,0.15,{"$f":"B57/SUM($B$22:$B$31)","v":{"v":0.0526315789473684,"d":"5%"}},{"$f":"C57*$G$3*$G$1/2","v":20.9347368421053},{"$f":"INT(SUM($D$56:D57))","v":34}]
[3,0.15,{"v":0.0526315789473684,"d":"5%"},20.9347368421053,{"$f":"INT(SUM($D$56:D58))","v":55}]
[4,0.2,{"v":0.0701754385964912,"d":"7%"},27.9129824561403,{"$f":"INT(SUM($D$56:D59))","v":83}]
[5,0.25,{"v":0.087719298245614,"d":"9%"},34.8912280701754,{"$f":"INT(SUM($D$56:D60))","v":118}]
[6,0.3,{"v":0.105263157894737,"d":"11%"},41.8694736842105,{"$f":"INT(SUM($D$56:D61))","v":160}]
[7,0.35,{"v":0.12280701754386,"d":"12%"},48.8477192982456,{"$f":"INT(SUM($D$56:D62))","v":209}]
[8,0.4,{"v":0.140350877192982,"d":"14%"},55.8259649122807,{"$f":"INT(SUM($D$56:D63))","v":265}]
[9,0.45,{"v":0.157894736842105,"d":"16%"},62.8042105263158,{"$f":"INT(SUM($D$56:D64))","v":327}]
[10,0.5,{"v":0.175438596491228,"d":"18%"},69.7824561403509,{"$f":"INT(SUM($D$56:D65))","v":397}]

{"sheet":"配件表","index":2,"n_rows":321,"n_cols":28,"rows_kept":321}
["配件名称","配件id","阶级","消耗物品1","数量","消耗物品2","数量","输出1","输出2","消耗","属性1","数值","属性2","数值","属性3","数值","输出","异妖","品质"]
[{"$f":"\"配件\"&B2","v":"配件1"},1,1,6001,1,5,0,{"$f":"[1]!SUMSTRING(D2:E2,\"#\")","v":{"$error":"#NAME?"}},{"$f":"[1]!SUMSTRING(F2:G2,\"#\")","v":{"$error":"#NAME?"}},{"$f":"[1]!SUMSTRING(H2:I2,\"|\")","v":{"$error":"#NAME?"}},"生命",842,"攻击",7,null,null,{"$f":"IF(O2=\"\",VLOOKUP(K2,属性表!$H:$I,2,0)&\"#\"&配件表!L2&\"|\"&VLOOKUP(M2,属性表!$H:$I,2,0)&\"#\"&配件表!N2,VLOOKUP(K2,属性表!$H:$I,2,0)&\"#\"&配件表!L2&\"|\"&VLOOKUP(M2,属性表!$H:$I,2,0)&\"#\"&配件表!N2&\"|\"&VLOOKUP(O2,属性表!$H:$I,2,0)&\"#\"&配件表!P2)","v":"1#842|2#7"},{"$f":"VLOOKUP(B2,$Y:$Z,2,0)","v":"异妖1"},{"$f":"VLOOKUP(R2,$Z:$AA,2,0)","v":"紫色"},{"$nulls":5},1,"异妖1","紫色"]
[{"$f":"\"配件\"&B3","v":"配件1"},1,2,6001,1,5,40,{"$f":"[1]!SUMSTRING(D3:E3,\"#\")","v":{"$error":"#NAME?"}},{"$f":"[1]!SUMSTRING(F3:G3,\"#\")","v":{"$error":"#NAME?"}},{"$f":"[1]!SUMSTRING(H3:I3,\"|\")","v":{"$error":"#NAME?"}},"生命",2105,"攻击",17,null,null,{"$f":"IF(O3=\"\",VLOOKUP(K3,属性表!$H:$I,2,0)&\"#\"&配件表!L3&\"|\"&VLOOKUP(M3,属性表!$H:$I,2,0)&\"#\"&配件表!N3,VLOOKUP(K3,属性表!$H:$I,2,0)&\"#\"&配件表!L3&\"|\"&VLOOKUP(M3,属性表!$H:$I,2,0)&\"#\"&配件表!N3&\"|\"&VLOOKUP(O3,属性表!$H:$I,2,0)&\"#\"&配件表!P3)","v":"1#2105|2#17"},"异妖1","紫色",{"$nulls":5},2,"异妖1","紫色"]
["配件1",1,3,6001,2,5,65,{"$f":"[1]!SUMSTRING(D4:E4,\"#\")","v":{"$error":"#NAME?"}},{"$f":"[1]!SUMSTRING(F4:G4,\"#\")","v":{"$error":"#NAME?"}},{"$f":"[1]!SUMSTRING(H4:I4,\"|\")","v":{"$error":"#NAME?"}},"生命",3368,"攻击",28,null,null,{"$f":"IF(O4=\"\",VLOOKUP(K4,属性表!$H:$I,2,0)&\"#\"&配件表!L4&\"|\"&VLOOKUP(M4,属性表!$H:$I,2,0)&\"#\"&配件表!N4,VLOOKUP(K4,属性表!$H:$I,2,0)&\"#\"&配件表!L4&\"|\"&VLOOKUP(M4,属性表!$H:$I,2,0)&\"#\"&配件表!N4&\"|\"&VLOOKUP(O4,属性表!$H:$I,2,0)&\"#\"&配件表!P4)","v":"1#3368|2#28"},"异妖1","紫色",{"$nulls":5},3,"异妖1","紫色",{"$f":"[1]!SUMSTRING(Y2:Y4,\"#\")","v":{"$error":"#NAME?"}}]
["配件1",1,4,6001,2,5,100,{"$f":"[1]!SUMSTRING(D5:E5,\"#\")","v":{"$error":"#NAME?"}},{"$f":"[1]!SUMSTRING(F5:G5,\"#\")","v":{"$error":"#NAME?"}},{"$f":"[1]!SUMSTRING(H5:I5,\"|\")","v":{"$error":"#NAME?"}},"生命",5052,"攻击",42,null,null,{"$f":"IF(O5=\"\",VLOOKUP(K5,属性表!$H:$I,2,0)&\"#\"&配件表!L5&\"|\"&VLOOKUP(M5,属性表!$H:$I,2,0)&\"#\"&配件表!N5,VLOOKUP(K5,属性表!$H:$I,2,0)&\"#\"&配件表!L5&\"|\"&VLOOKUP(M5,属性表!$H:$I,2,0)&\"#\"&配件表!N5&\"|\"&VLOOKUP(O5,属性表!$H:$I,2,0)&\"#\"&配件表!P5)","v":"1#5052|2#42"},"异妖1","紫色",{"$nulls":5},4,{"$f":"\"异妖\"&CEILING(Y5/3,1)","v":"异妖2"},"紫色"]
["配件1",1,5,6001,3,5,135,{"$f":"[1]!SUMSTRING(D6:E6,\"#\")","v":{"$error":"#NAME?"}},{"$f":"[1]!SUMSTRING(F6:G6,\"#\")","v":{"$error":"#NAME?"}},{"$f":"[1]!SUMSTRING(H6:I6,\"|\")","v":{"$error":"#NAME?"}},"生命",7157,"攻击",59,null,null,{"$f":"IF(O6=\"\",VLOOKUP(K6,属性表!$H:$I,2,0)&\"#\"&配件表!L6&\"|\"&VLOOKUP(M6,属性表!$H:$I,2,0)&\"#\"&配件表!N6,VLOOKUP(K6,属性表!$H:$I,2,0)&\"#\"&配件表!L6&\"|\"&VLOOKUP(M6,属性表!$H:$I,2,0)&\"#\"&配件表!N6&\"|\"&VLOOKUP(O6,属性表!$H:$I,2,0)&\"#\"&配件表!P6)","v":"1#7157|2#59"},"异妖1","紫色",{"$nulls":5},5,{"$f":"\"异妖\"&CEILING(Y6/3,1)","v":"异妖2"},"紫色"]
["配件1",1,6,6001,3,5,180,{"$f":"[1]!SUMSTRING(D7:E7,\"#\")","v":{"$error":"#NAME?"}},{"$f":"[1]!SUMSTRING(F7:G7,\"#\")","v":{"$error":"#NAME?"}},{"$f":"[1]!SUMSTRING(H7:I7,\"|\")","v":{"$error":"#NAME?"}},"生命",9684,"攻击",80,null,null,{"$f":"IF(O7=\"\",VLOOKUP(K7,属性表!$H:$I,2,0)&\"#\"&配件表!L7&\"|\"&VLOOKUP(M7,属性表!$H:$I,2,0)&\"#\"&配件表!N7,VLOOKUP(K7,属性表!$H:$I,2,0)&\"#\"&配件表!L7&\"|\"&VLOOKUP(M7,属性表!$H:$I,2,0)&\"#\"&配件表!N7&\"|\"&VLOOKUP(O7,属性表!$H:$I,2,0)&\"#\"&配件表!P7)","v":"1#9684|2#80"},"异妖1","紫色",{"$nulls":5},6,"异妖2","紫色",{"$f":"[1]!SUMSTRING(Y5:Y7,\"#\")","v":{"$error":"#NAME?"}}]
["配件1",1,7,6001,4,5,235,{"$f":"[1]!SUMSTRING(D8:E8,\"#\")","v":{"$error":"#NAME?"}},{"$f":"[1]!SUMSTRING(F8:G8,\"#\")","v":{"$error":"#NAME?"}},{"$f":"[1]!SUMSTRING(H8:I8,\"|\")","v":{"$error":"#NAME?"}},"生命",12631,"攻击",105,null,null,{"$f":"IF(O8=\"\",VLOOKUP(K8,属性表!$H:$I,2,0)&\"#\"&配件表!L8&\"|\"&VLOOKUP(M8,属性表!$H:$I,2,0)&\"#\"&配件表!N8,VLOOKUP(K8,属性表!$H:$I,2,0)&\"#\"&配件表!L8&\"|\"&VLOOKUP(M8,属性表!$H:$I,2,0)&\"#\"&配件表!N8&\"|\"&VLOOKUP(O8,属性表!$H:$I,2,0)&\"#\"&配件表!P8)","v":"1#12631|2#105"},"异妖1","紫色",{"$nulls":5},7,"异妖3","紫色"]
["配件1",1,8,6001,5,5,290,{"$f":"[1]!SUMSTRING(D9:E9,\"#\")","v":{"$error":"#NAME?"}},{"$f":"[1]!SUMSTRING(F9:G9,\"#\")","v":{"$error":"#NAME?"}},{"$f":"[1]!SUMSTRING(H9:I9,\"|\")","v":{"$error":"#NAME?"}},"生命",16000,"攻击",133,null,null,{"$f":"IF(O9=\"\",VLOOKUP(K9,属性表!$H:$I,2,0)&\"#\"&配件表!L9&\"|\"&VLOOKUP(M9,属性表!$H:$I,2,0)&\"#\"&配件表!N9,VLOOKUP(K9,属性表!$H:$I,2,0)&\"#\"&配件表!L9&\"|\"&VLOOKUP(M9,属性表!$H:$I,2,0)&\"#\"&配件表!N9&\"|\"&VLOOKUP(O9,属性表!$H:$I,2,0)&\"#\"&配件表!P9)","v":"1#16000|2#133"},"异妖1","紫色",{"$nulls":5},8,"异妖3","紫色"]
["配件1",1,9,6001,6,5,355,{"$f":"[1]!SUMSTRING(D10:E10,\"#\")","v":{"$error":"#NAME?"}},{"$f":"[1]!SUMSTRING(F10:G10,\"#\")","v":{"$error":"#NAME?"}},{"$f":"[1]!SUMSTRING(H10:I10,\"|\")","v":{"$error":"#NAME?"}},"生命",19789,"攻击",164,null,null,{"$f":"IF(O10=\"\",VLOOKUP(K10,属性表!$H:$I,2,0)&\"#\"&配件表!L10&\"|\"&VLOOKUP(M10,属性表!$H:$I,2,0)&\"#\"&配件表!N10,VLOOKUP(K10,属性表!$H:$I,2,0)&\"#\"&配件表!L10&\"|\"&VLOOKUP(M10,属性表!$H:$I,2,0)&\"#\"&配件表!N10&\"|\"&VLOOKUP(O10,属性表!$H:$I,2,0)&\"#\"&配件表!P10)","v":"1#19789|2#164"},"异妖1","紫色",{"$nulls":5},9,"异妖3","紫色",{"$f":"[1]!SUMSTRING(Y8:Y10,\"#\")","v":{"$error":"#NAME?"}}]
["配件1",1,10,6001,8,5,420,{"$f":"[1]!SUMSTRING(D11:E11,\"#\")","v":{"$error":"#NAME?"}},{"$f":"[1]!SUMSTRING(F11:G11,\"#\")","v":{"$error":"#NAME?"}},{"$f":"[1]!SUMSTRING(H11:I11,\"|\")","v":{"$error":"#NAME?"}},"生命",24000,"攻击",200,null,null,{"$f":"IF(O11=\"\",VLOOKUP(K11,属性表!$H:$I,2,0)&\"#\"&配件表!L11&\"|\"&VLOOKUP(M11,属性表!$H:$I,2,0)&\"#\"&配件表!N11,VLOOKUP(K11,属性表!$H:$I,2,0)&\"#\"&配件表!L11&\"|\"&VLOOKUP(M11,属性表!$H:$I,2,0)&\"#\"&配件表!N11&\"|\"&VLOOKUP(O11,属性表!$H:$I,2,0)&\"#\"&配件表!P11)","v":"1#24000|2#200"},"异妖1","紫色",{"$nulls":5},10,"异妖4","紫色"]
["配件2",{"$f":"B2+1","v":2},{"$f":"C2","v":1},{"$f":"D2+1","v":6002},{"$f":"E2","v":1},{"$f":"F2","v":5},{"$f":"G2","v":0},{"$f":"[1]!SUMSTRING(D12:E12,\"#\")","v":{"$error":"#NAME?"}},{"$f":"[1]!SUMSTRING(F12:G12,\"#\")","v":{"$error":"#NAME?"}},{"$f":"[1]!SUMSTRING(H12:I12,\"|\")","v":{"$error":"#NAME?"}},"生命",842,"护甲",{"$f":"N2*5","v":35},null,null,{"$f":"IF(O12=\"\",VLOOKUP(K12,属性表!$H:$I,2,0)&\"#\"&配件表!L12&\"|\"&VLOOKUP(M12,属性表!$H:$I,2,0)&\"#\"&配件表!N12,VLOOKUP(K12,属性表!$H:$I,2,0)&\"#\"&配件表!L12&\"|\"&VLOOKUP(M12,属性表!$H:$I,2,0)&\"#\"&配件表!N12&\"|\"&VLOOKUP(O12,属性表!$H:$I,2,0)&\"#\"&配件表!P12)","v":"1#842|3#35"},"异妖1","紫色",{"$nulls":5},11,"异妖4","紫色"]
["配件2",{"$f":"B3+1","v":2},{"$f":"C3","v":2},{"$f":"D3+1","v":6002},{"$f":"E3","v":1},5,40,{"$f":"[1]!SUMSTRING(D13:E13,\"#\")","v":{"$error":"#NAME?"}},{"$f":"[1]!SUMSTRING(F13:G13,\"#\")","v":{"$error":"#NAME?"}},{"$f":"[1]!SUMSTRING(H13:I13,\"|\")","v":{"$error":"#NAME?"}},"生命",2105,"护甲",{"$f":"N3*5","v":85},null,null,{"$f":"IF(O13=\"\",VLOOKUP(K13,属性表!$H:$I,2,0)&\"#\"&配件表!L13&\"|\"&VLOOKUP(M13,属性表!$H:$I,2,0)&\"#\"&配件表!N13,VLOOKUP(K13,属性表!$H:$I,2,0)&\"#\"&配件表!L13&\"|\"&VLOOKUP(M13,属性表!$H:$I,2,0)&\"#\"&配件表!N13&\"|\"&VLOOKUP(O13,属性表!$H:$I,2,0)&\"#\"&配件表!P13)","v":"1#2105|3#85"},"异妖1","紫色",{"$nulls":5},12,"异妖4","紫色",{"$f":"[1]!SUMSTRING(Y11:Y13,\"#\")","v":{"$error":"#NAME?"}}]
["配件2",2,3,6002,{"$f":"E4","v":2},5,65,{"$f":"[1]!SUMSTRING(D14:E14,\"#\")","v":{"$error":"#NAME?"}},{"$f":"[1]!SUMSTRING(F14:G14,\"#\")","v":{"$error":"#NAME?"}},{"$f":"[1]!SUMSTRING(H14:I14,\"|\")","v":{"$error":"#NAME?"}},"生命",3368,"护甲",140,null,null,{"$f":"IF(O14=\"\",VLOOKUP(K14,属性表!$H:$I,2,0)&\"#\"&配件表!L14&\"|\"&VLOOKUP(M14,属性表!$H:$I,2,0)&\"#\"&配件表!N14,VLOOKUP(K14,属性表!$H:$I,2,0)&\"#\"&配件表!L14&\"|\"&VLOOKUP(M14,属性表!$H:$I,2,0)&\"#\"&配件表!N14&\"|\"&VLOOKUP(O14,属性表!$H:$I,2,0)&\"#\"&配件表!P14)","v":"1#3368|3#140"},"异妖1","紫色",{"$nulls":5},13,{"$f":"\"异妖\"&CEILING(Y14/4,1)+1","v":"异妖5"},"橙色"]
["配件2",2,4,6002,{"$f":"E5","v":2},5,100,{"$f":"[1]!SUMSTRING(D15:E15,\"#\")","v":{"$error":"#NAME?"}},{"$f":"[1]!SUMSTRING(F15:G15,\"#\")","v":{"$error":"#NAME?"}},{"$f":"[1]!SUMSTRING(H15:I15,\"|\")","v":{"$error":"#NAME?"}},"生命",5052,"护甲",210,null,null,{"$f":"IF(O15=\"\",VLOOKUP(K15,属性表!$H:$I,2,0)&\"#\"&配件表!L15&\"|\"&VLOOKUP(M15,属性表!$H:$I,2,0)&\"#\"&配件表!N15,VLOOKUP(K15,属性表!$H:$I,2,0)&\"#\"&配件表!L15&\"|\"&VLOOKUP(M15,属性表!$H:$I,2,0)&\"#\"&配件表!N15&\"|\"&VLOOKUP(O15,属性表!$H:$I,2,0)&\"#\"&配件表!P15)","v":"1#5052|3#210"},"异妖1","紫色",{"$nulls":5},14,{"$f":"\"异妖\"&CEILING(Y15/4,1)+1","v":"异妖5"},"橙色"]
["配件2",2,5,6002,{"$f":"E6","v":3},5,135,{"$f":"[1]!SUMSTRING(D16:E16,\"#\")","v":{"$error":"#NAME?"}},{"$f":"[1]!SUMSTRING(F16:G16,\"#\")","v":{"$error":"#NAME?"}},{"$f":"[1]!SUMSTRING(H16:I16,\"|\")","v":{"$error":"#NAME?"}},"生命",7157,"护甲",295,null,null,{"$f":"IF(O16=\"\",VLOOKUP(K16,属性表!$H:$I,2,0)&\"#\"&配件表!L16&\"|\"&VLOOKUP(M16,属性表!$H:$I,2,0)&\"#\"&配件表!N16,VLOOKUP(K16,属性表!$H:$I,2,0)&\"#\"&配件表!L16&\"|\"&VLOOKUP(M16,属性表!$H:$I,2,0)&\"#\"&配件表!N16&\"|\"&VLOOKUP(O16,属性表!$H:$I,2,0)&\"#\"&配件表!P16)","v":"1#7157|3#295"},"异妖1","紫色",{"$nulls":5},15,"异妖5","橙色"]
["配件2",2,6,6002,{"$f":"E7","v":3},5,180,{"$f":"[1]!SUMSTRING(D17:E17,\"#\")","v":{"$error":"#NAME?"}},{"$f":"[1]!SUMSTRING(F17:G17,\"#\")","v":{"$error":"#NAME?"}},{"$f":"[1]!SUMSTRING(H17:I17,\"|\")","v":{"$error":"#NAME?"}},"生命",9684,"护甲",400,null,null,{"$f":"IF(O17=\"\",VLOOKUP(K17,属性表!$H:$I,2,0)&\"#\"&配件表!L17&\"|\"&VLOOKUP(M17,属性表!$H:$I,2,0)&\"#\"&配件表!N17,VLOOKUP(K17,属性表!$H:$I,2,0)&\"#\"&配件表!L17&\"|\"&VLOOKUP(M17,属性表!$H:$I,2,0)&\"#\"&配件表!N17&\"|\"&VLOOKUP(O17,属性表!$H:$I,2,0)&\"#\"&配件表!P17)","v":"1#9684|3#400"},"异妖1","紫色",{"$nulls":5},16,"异妖5","橙色",{"$f":"[1]!SUMSTRING(Y14:Y17,\"#\")","v":{"$error":"#NAME?"}}]
["配件2",2,7,6002,{"$f":"E8","v":4},5,235,{"$f":"[1]!SUMSTRING(D18:E18,\"#\")","v":{"$error":"#NAME?"}},{"$f":"[1]!SUMSTRING(F18:G18,\"#\")","v":{"$error":"#NAME?"}},{"$f":"[1]!SUMSTRING(H18:I18,\"|\")","v":{"$error":"#NAME?"}},"生命",12631,"护甲",525,null,null,{"$f":"IF(O18=\"\",VLOOKUP(K18,属性表!$H:$I,2,0)&\"#\"&配件表!L18&\"|\"&VLOOKUP(M18,属性表!$H:$I,2,0)&\"#\"&配件表!N18,VLOOKUP(K18,属性表!$H:$I,2,0)&\"#\"&配件表!L18&\"|\"&VLOOKUP(M18,属性表!$H:$I,2,0)&\"#\"&配件表!N18&\"|\"&VLOOKUP(O18,属性表!$H:$I,2,0)&\"#\"&配件表!P18)","v":"1#12631|3#525"},"异妖1","紫色",{"$nulls":5},17,"异妖6","橙色"]
["配件2",2,8,6002,{"$f":"E9","v":5},5,290,{"$f":"[1]!SUMSTRING(D19:E19,\"#\")","v":{"$error":"#NAME?"}},{"$f":"[1]!SUMSTRING(F19:G19,\"#\")","v":{"$error":"#NAME?"}},{"$f":"[1]!SUMSTRING(H19:I19,\"|\")","v":{"$error":"#NAME?"}},"生命",16000,"护甲",665,null,null,{"$f":"IF(O19=\"\",VLOOKUP(K19,属性表!$H:$I,2,0)&\"#\"&配件表!L19&\"|\"&VLOOKUP(M19,属性表!$H:$I,2,0)&\"#\"&配件表!N19,VLOOKUP(K19,属性表!$H:$I,2,0)&\"#\"&配件表!L19&\"|\"&VLOOKUP(M19,属性表!$H:$I,2,0)&\"#\"&配件表!N19&\"|\"&VLOOKUP(O19,属性表!$H:$I,2,0)&\"#\"&配件表!P19)","v":"1#16000|3#665"},"异妖1","紫色",{"$nulls":5},18,"异妖6","橙色"]
["配件2",2,9,6002,{"$f":"E10","v":6},5,355,{"$f":"[1]!SUMSTRING(D20:E20,\"#\")","v":{"$error":"#NAME?"}},{"$f":"[1]!SUMSTRING(F20:G20,\"#\")","v":{"$error":"#NAME?"}},{"$f":"[1]!SUMSTRING(H20:I20,\"|\")","v":{"$error":"#NAME?"}},"生命",19789,"护甲",820,null,null,{"$f":"IF(O20=\"\",VLOOKUP(K20,属性表!$H:$I,2,0)&\"#\"&配件表!L20&\"|\"&VLOOKUP(M20,属性表!$H:$I,2,0)&\"#\"&配件表!N20,VLOOKUP(K20,属性表!$H:$I,2,0)&\"#\"&配件表!L20&\"|\"&VLOOKUP(M20,属性表!$H:$I,2,0)&\"#\"&配件表!N20&\"|\"&VLOOKUP(O20,属性表!$H:$I,2,0)&\"#\"&配件表!P20)","v":"1#19789|3#820"},"异妖1","紫色",{"$nulls":5},19,"异妖6","橙色"]
["配件2",2,10,6002,{"$f":"E11","v":8},5,420,{"$f":"[1]!SUMSTRING(D21:E21,\"#\")","v":{"$error":"#NAME?"}},{"$f":"[1]!SUMSTRING(F21:G21,\"#\")","v":{"$error":"#NAME?"}},{"$f":"[1]!SUMSTRING(H21:I21,\"|\")","v":{"$error":"#NAME?"}},"生命",24000,"护甲",1000,null,null,{"$f":"IF(O21=\"\",VLOOKUP(K21,属性表!$H:$I,2,0)&\"#\"&配件表!L21&\"|\"&VLOOKUP(M21,属性表!$H:$I,2,0)&\"#\"&配件表!N21,VLOOKUP(K21,属性表!$H:$I,2,0)&\"#\"&配件表!L21&\"|\"&VLOOKUP(M21,属性表!$H:$I,2,0)&\"#\"&配件表!N21&\"|\"&VLOOKUP(O21,属性表!$H:$I,2,0)&\"#\"&配件表!P21)","v":"1#24000|3#1000"},"异妖1","紫色",{"$nulls":5},20,"异妖6","橙色",{"$f":"[1]!SUMSTRING(Y18:Y21,\"#\")","v":{"$error":"#NAME?"}}]
["配件3",3,1,6003,{"$f":"E12","v":1},5,0,{"$f":"[1]!SUMSTRING(D22:E22,\"#\")","v":{"$error":"#NAME?"}},{"$f":"[1]!SUMSTRING(F22:G22,\"#\")","v":{"$error":"#NAME?"}},{"$f":"[1]!SUMSTRING(H22:I22,\"|\")","v":{"$error":"#NAME?"}},"攻击",7,"护甲",70,null,null,{"$f":"IF(O22=\"\",VLOOKUP(K22,属性表!$H:$I,2,0)&\"#\"&配件表!L22&\"|\"&VLOOKUP(M22,属性表!$H:$I,2,0)&\"#\"&配件表!N22,VLOOKUP(K22,属性表!$H:$I,2,0)&\"#\"&配件表!L22&\"|\"&VLOOKUP(M22,属性表!$H:$I,2,0)&\"#\"&配件表!N22&\"|\"&VLOOKUP(O22,属性表!$H:$I,2,0)&\"#\"&配件表!P22)","v":"2#7|3#70"},"异妖1","紫色",{"$nulls":5},21,"异妖7","橙色"]
["配件3",3,2,6003,{"$f":"E13","v":1},5,40,{"$f":"[1]!SUMSTRING(D23:E23,\"#\")","v":{"$error":"#NAME?"}},{"$f":"[1]!SUMSTRING(F23:G23,\"#\")","v":{"$error":"#NAME?"}},{"$f":"[1]!SUMSTRING(H23:I23,\"|\")","v":{"$error":"#NAME?"}},"攻击",17,"护甲",175,null,null,{"$f":"IF(O23=\"\",VLOOKUP(K23,属性表!$H:$I,2,0)&\"#\"&配件表!L23&\"|\"&VLOOKUP(M23,属性表!$H:$I,2,0)&\"#\"&配件表!N23,VLOOKUP(K23,属性表!$H:$I,2,0)&\"#\"&配件表!L23&\"|\"&VLOOKUP(M23,属性表!$H:$I,2,0)&\"#\"&配件表!N23&\"|\"&VLOOKUP(O23,属性表!$H:$I,2,0)&\"#\"&配件表!P23)","v":"2#17|3#175"},"异妖1","紫色",{"$nulls":5},22,"异妖7","橙色"]
["配件3",3,3,6003,{"$f":"E14","v":2},5,65,{"$f":"[1]!SUMSTRING(D24:E24,\"#\")","v":{"$error":"#NAME?"}},{"$f":"[1]!SUMSTRING(F24:G24,\"#\")","v":{"$error":"#NAME?"}},{"$f":"[1]!SUMSTRING(H24:I24,\"|\")","v":{"$error":"#NAME?"}},"攻击",28,"护甲",280,null,null,{"$f":"IF(O24=\"\",VLOOKUP(K24,属性表!$H:$I,2,0)&\"#\"&配件表!L24&\"|\"&VLOOKUP(M24,属性表!$H:$I,2,0)&\"#\"&配件表!N24,VLOOKUP(K24,属性表!$H:$I,2,0)&\"#\"&配件表!L24&\"|\"&VLOOKUP(M24,属性表!$H:$I,2,0)&\"#\"&配件表!N24&\"|\"&VLOOKUP(O24,属性表!$H:$I,2,0)&\"#\"&配件表!P24)","v":"2#28|3#280"},"异妖1","紫色",{"$nulls":5},23,"异妖7","橙色"]
["配件3",3,4,6003,{"$f":"E15","v":2},5,100,{"$f":"[1]!SUMSTRING(D25:E25,\"#\")","v":{"$error":"#NAME?"}},{"$f":"[1]!SUMSTRING(F25:G25,\"#\")","v":{"$error":"#NAME?"}},{"$f":"[1]!SUMSTRING(H25:I25,\"|\")","v":{"$error":"#NAME?"}},"攻击",42,"护甲",420,null,null,{"$f":"IF(O25=\"\",VLOOKUP(K25,属性表!$H:$I,2,0)&\"#\"&配件表!L25&\"|\"&VLOOKUP(M25,属性表!$H:$I,2,0)&\"#\"&配件表!N25,VLOOKUP(K25,属性表!$H:$I,2,0)&\"#\"&配件表!L25&\"|\"&VLOOKUP(M25,属性表!$H:$I,2,0)&\"#\"&配件表!N25&\"|\"&VLOOKUP(O25,属性表!$H:$I,2,0)&\"#\"&配件表!P25)","v":"2#42|3#420"},"异妖1","紫色",{"$nulls":5},24,"异妖7","橙色",{"$f":"[1]!SUMSTRING(Y22:Y25,\"#\")","v":{"$error":"#NAME?"}}]
["配件3",3,5,6003,{"$f":"E16","v":3},5,135,{"$f":"[1]!SUMSTRING(D26:E26,\"#\")","v":{"$error":"#NAME?"}},{"$f":"[1]!SUMSTRING(F26:G26,\"#\")","v":{"$error":"#NAME?"}},{"$f":"[1]!SUMSTRING(H26:I26,\"|\")","v":{"$error":"#NAME?"}},"攻击",59,"护甲",595,null,null,{"$f":"IF(O26=\"\",VLOOKUP(K26,属性表!$H:$I,2,0)&\"#\"&配件表!L26&\"|\"&VLOOKUP(M26,属性表!$H:$I,2,0)&\"#\"&配件表!N26,VLOOKUP(K26,属性表!$H:$I,2,0)&\"#\"&配件表!L26&\"|\"&VLOOKUP(M26,属性表!$H:$I,2,0)&\"#\"&配件表!N26&\"|\"&VLOOKUP(O26,属性表!$H:$I,2,0)&\"#\"&配件表!P26)","v":"2#59|3#595"},"异妖1","紫色",{"$nulls":5},25,"异妖8","橙色"]
["配件3",3,6,6003,{"$f":"E17","v":3},5,180,{"$f":"[1]!SUMSTRING(D27:E27,\"#\")","v":{"$error":"#NAME?"}},{"$f":"[1]!SUMSTRING(F27:G27,\"#\")","v":{"$error":"#NAME?"}},{"$f":"[1]!SUMSTRING(H27:I27,\"|\")","v":{"$error":"#NAME?"}},"攻击",80,"护甲",805,null,null,{"$f":"IF(O27=\"\",VLOOKUP(K27,属性表!$H:$I,2,0)&\"#\"&配件表!L27&\"|\"&VLOOKUP(M27,属性表!$H:$I,2,0)&\"#\"&配件表!N27,VLOOKUP(K27,属性表!$H:$I,2,0)&\"#\"&配件表!L27&\"|\"&VLOOKUP(M27,属性表!$H:$I,2,0)&\"#\"&配件表!N27&\"|\"&VLOOKUP(O27,属性表!$H:$I,2,0)&\"#\"&配件表!P27)","v":"2#80|3#805"},"异妖1","紫色",{"$nulls":5},26,"异妖8","橙色"]
["配件3",3,7,6003,{"$f":"E18","v":4},5,235,{"$f":"[1]!SUMSTRING(D28:E28,\"#\")","v":{"$error":"#NAME?"}},{"$f":"[1]!SUMSTRING(F28:G28,\"#\")","v":{"$error":"#NAME?"}},{"$f":"[1]!SUMSTRING(H28:I28,\"|\")","v":{"$error":"#NAME?"}},"攻击",105,"护甲",1050,null,null,{"$f":"IF(O28=\"\",VLOOKUP(K28,属性表!$H:$I,2,0)&\"#\"&配件表!L28&\"|\"&VLOOKUP(M28,属性表!$H:$I,2,0)&\"#\"&配件表!N28,VLOOKUP(K28,属性表!$H:$I,2,0)&\"#\"&配件表!L28&\"|\"&VLOOKUP(M28,属性表!$H:$I,2,0)&\"#\"&配件表!N28&\"|\"&VLOOKUP(O28,属性表!$H:$I,2,0)&\"#\"&配件表!P28)","v":"2#105|3#1050"},"异妖1","紫色",{"$nulls":5},27,"异妖8","橙色"]
["配件3",3,8,6003,{"$f":"E19","v":5},5,290,{"$f":"[1]!SUMSTRING(D29:E29,\"#\")","v":{"$error":"#NAME?"}},{"$f":"[1]!SUMSTRING(F29:G29,\"#\")","v":{"$error":"#NAME?"}},{"$f":"[1]!SUMSTRING(H29:I29,\"|\")","v":{"$error":"#NAME?"}},"攻击",133,"护甲",1330,null,null,{"$f":"IF(O29=\"\",VLOOKUP(K29,属性表!$H:$I,2,0)&\"#\"&配件表!L29&\"|\"&VLOOKUP(M29,属性表!$H:$I,2,0)&\"#\"&配件表!N29,VLOOKUP(K29,属性表!$H:$I,2,0)&\"#\"&配件表!L29&\"|\"&VLOOKUP(M29,属性表!$H:$I,2,0)&\"#\"&配件表!N29&\"|\"&VLOOKUP(O29,属性表!$H:$I,2,0)&\"#\"&配件表!P29)","v":"2#133|3#1330"},"异妖1","紫色",{"$nulls":5},28,"异妖8","橙色",{"$f":"[1]!SUMSTRING(Y26:Y29,\"#\")","v":{"$error":"#NAME?"}}]
["配件3",3,9,6003,{"$f":"E20","v":6},5,355,{"$f":"[1]!SUMSTRING(D30:E30,\"#\")","v":{"$error":"#NAME?"}},{"$f":"[1]!SUMSTRING(F30:G30,\"#\")","v":{"$error":"#NAME?"}},{"$f":"[1]!SUMSTRING(H30:I30,\"|\")","v":{"$error":"#NAME?"}},"攻击",164,"护甲",1645,null,null,{"$f":"IF(O30=\"\",VLOOKUP(K30,属性表!$H:$I,2,0)&\"#\"&配件表!L30&\"|\"&VLOOKUP(M30,属性表!$H:$I,2,0)&\"#\"&配件表!N30,VLOOKUP(K30,属性表!$H:$I,2,0)&\"#\"&配件表!L30&\"|\"&VLOOKUP(M30,属性表!$H:$I,2,0)&\"#\"&配件表!N30&\"|\"&VLOOKUP(O30,属性表!$H:$I,2,0)&\"#\"&配件表!P30)","v":"2#164|3#1645"},"异妖1","紫色",{"$nulls":5},29,"异妖9","橙色"]
["配件3",3,10,6003,{"$f":"E21","v":8},5,420,{"$f":"[1]!SUMSTRING(D31:E31,\"#\")","v":{"$error":"#NAME?"}},{"$f":"[1]!SUMSTRING(F31:G31,\"#\")","v":{"$error":"#NAME?"}},{"$f":"[1]!SUMSTRING(H31:I31,\"|\")","v":{"$error":"#NAME?"}},"攻击",200,"护甲",2000,null,null,{"$f":"IF(O31=\"\",VLOOKUP(K31,属性表!$H:$I,2,0)&\"#\"&配件表!L31&\"|\"&VLOOKUP(M31,属性表!$H:$I,2,0)&\"#\"&配件表!N31,VLOOKUP(K31,属性表!$H:$I,2,0)&\"#\"&配件表!L31&\"|\"&VLOOKUP(M31,属性表!$H:$I,2,0)&\"#\"&配件表!N31&\"|\"&VLOOKUP(O31,属性表!$H:$I,2,0)&\"#\"&配件表!P31)","v":"2#200|3#2000"},"异妖1","紫色",{"$nulls":5},30,"异妖9","橙色"]
["配件4",4,1,6004,{"$f":"E22","v":1},5,0,{"$f":"[1]!SUMSTRING(D32:E32,\"#\")","v":{"$error":"#NAME?"}},{"$f":"[1]!SUMSTRING(F32:G32,\"#\")","v":{"$error":"#NAME?"}},{"$f":"[1]!SUMSTRING(H32:I32,\"|\")","v":{"$error":"#NAME?"}},"生命",842,"攻击",7,null,null,{"$f":"IF(O32=\"\",VLOOKUP(K32,属性表!$H:$I,2,0)&\"#\"&配件表!L32&\"|\"&VLOOKUP(M32,属性表!$H:$I,2,0)&\"#\"&配件表!N32,VLOOKUP(K32,属性表!$H:$I,2,0)&\"#\"&配件表!L32&\"|\"&VLOOKUP(M32,属性表!$H:$I,2,0)&\"#\"&配件表!N32&\"|\"&VLOOKUP(O32,属性表!$H:$I,2,0)&\"#\"&配件表!P32)","v":"1#842|2#7"},"异妖2","紫色",{"$nulls":5},31,"异妖9","橙色"]
["配件4",4,2,6004,{"$f":"E23","v":1},5,40,{"$f":"[1]!SUMSTRING(D33:E33,\"#\")","v":{"$error":"#NAME?"}},{"$f":"[1]!SUMSTRING(F33:G33,\"#\")","v":{"$error":"#NAME?"}},{"$f":"[1]!SUMSTRING(H33:I33,\"|\")","v":{"$error":"#NAME?"}},"生命",2105,"攻击",17,null,null,{"$f":"IF(O33=\"\",VLOOKUP(K33,属性表!$H:$I,2,0)&\"#\"&配件表!L33&\"|\"&VLOOKUP(M33,属性表!$H:$I,2,0)&\"#\"&配件表!N33,VLOOKUP(K33,属性表!$H:$I,2,0)&\"#\"&配件表!L33&\"|\"&VLOOKUP(M33,属性表!$H:$I,2,0)&\"#\"&配件表!N33&\"|\"&VLOOKUP(O33,属性表!$H:$I,2,0)&\"#\"&配件表!P33)","v":"1#2105|2#17"},"异妖2","紫色",{"$nulls":5},32,"异妖9","橙色",{"$f":"[1]!SUMSTRING(Y30:Y33,\"#\")","v":{"$error":"#NAME?"}}]
["配件4",4,3,6004,{"$f":"E24","v":2},5,65,{"$f":"[1]!SUMSTRING(D34:E34,\"#\")","v":{"$error":"#NAME?"}},{"$f":"[1]!SUMSTRING(F34:G34,\"#\")","v":{"$error":"#NAME?"}},{"$f":"[1]!SUMSTRING(H34:I34,\"|\")","v":{"$error":"#NAME?"}},"生命",3368,"攻击",28,null,null,{"$f":"IF(O34=\"\",VLOOKUP(K34,属性表!$H:$I,2,0)&\"#\"&配件表!L34&\"|\"&VLOOKUP(M34,属性表!$H:$I,2,0)&\"#\"&配件表!N34,VLOOKUP(K34,属性表!$H:$I,2,0)&\"#\"&配件表!L34&\"|\"&VLOOKUP(M34,属性表!$H:$I,2,0)&\"#\"&配件表!N34&\"|\"&VLOOKUP(O34,属性表!$H:$I,2,0)&\"#\"&配件表!P34)","v":"1#3368|2#28"},{"$f":"VLOOKUP(B34,$Y:$Z,2,0)","v":"异妖2"},{"$f":"VLOOKUP(R34,$Z:$AA,2,0)","v":"紫色"}]
["配件4",4,4,6004,{"$f":"E25","v":2},5,100,{"$f":"[1]!SUMSTRING(D35:E35,\"#\")","v":{"$error":"#NAME?"}},{"$f":"[1]!SUMSTRING(F35:G35,\"#\")","v":{"$error":"#NAME?"}},{"$f":"[1]!SUMSTRING(H35:I35,\"|\")","v":{"$error":"#NAME?"}},"生命",5052,"攻击",42,null,null,{"$f":"IF(O35=\"\",VLOOKUP(K35,属性表!$H:$I,2,0)&\"#\"&配件表!L35&\"|\"&VLOOKUP(M35,属性表!$H:$I,2,0)&\"#\"&配件表!N35,VLOOKUP(K35,属性表!$H:$I,2,0)&\"#\"&配件表!L35&\"|\"&VLOOKUP(M35,属性表!$H:$I,2,0)&\"#\"&配件表!N35&\"|\"&VLOOKUP(O35,属性表!$H:$I,2,0)&\"#\"&配件表!P35)","v":"1#5052|2#42"},"异妖2","紫色"]
["配件4",4,5,6004,{"$f":"E26","v":3},5,135,{"$f":"[1]!SUMSTRING(D36:E36,\"#\")","v":{"$error":"#NAME?"}},{"$f":"[1]!SUMSTRING(F36:G36,\"#\")","v":{"$error":"#NAME?"}},{"$f":"[1]!SUMSTRING(H36:I36,\"|\")","v":{"$error":"#NAME?"}},"生命",7157,"攻击",59,null,null,{"$f":"IF(O36=\"\",VLOOKUP(K36,属性表!$H:$I,2,0)&\"#\"&配件表!L36&\"|\"&VLOOKUP(M36,属性表!$H:$I,2,0)&\"#\"&配件表!N36,VLOOKUP(K36,属性表!$H:$I,2,0)&\"#\"&配件表!L36&\"|\"&VLOOKUP(M36,属性表!$H:$I,2,0)&\"#\"&配件表!N36&\"|\"&VLOOKUP(O36,属性表!$H:$I,2,0)&\"#\"&配件表!P36)","v":"1#7157|2#59"},"异妖2","紫色"]
["配件4",4,6,6004,{"$f":"E27","v":3},5,180,{"$f":"[1]!SUMSTRING(D37:E37,\"#\")","v":{"$error":"#NAME?"}},{"$f":"[1]!SUMSTRING(F37:G37,\"#\")","v":{"$error":"#NAME?"}},{"$f":"[1]!SUMSTRING(H37:I37,\"|\")","v":{"$error":"#NAME?"}},"生命",9684,"攻击",80,null,null,{"$f":"IF(O37=\"\",VLOOKUP(K37,属性表!$H:$I,2,0)&\"#\"&配件表!L37&\"|\"&VLOOKUP(M37,属性表!$H:$I,2,0)&\"#\"&配件表!N37,VLOOKUP(K37,属性表!$H:$I,2,0)&\"#\"&配件表!L37&\"|\"&VLOOKUP(M37,属性表!$H:$I,2,0)&\"#\"&配件表!N37&\"|\"&VLOOKUP(O37,属性表!$H:$I,2,0)&\"#\"&配件表!P37)","v":"1#9684|2#80"},"异妖2","紫色"]
["配件4",4,7,6004,{"$f":"E28","v":4},5,235,{"$f":"[1]!SUMSTRING(D38:E38,\"#\")","v":{"$error":"#NAME?"}},{"$f":"[1]!SUMSTRING(F38:G38,\"#\")","v":{"$error":"#NAME?"}},{"$f":"[1]!SUMSTRING(H38:I38,\"|\")","v":{"$error":"#NAME?"}},"生命",12631,"攻击",105,null,null,{"$f":"IF(O38=\"\",VLOOKUP(K38,属性表!$H:$I,2,0)&\"#\"&配件表!L38&\"|\"&VLOOKUP(M38,属性表!$H:$I,2,0)&\"#\"&配件表!N38,VLOOKUP(K38,属性表!$H:$I,2,0)&\"#\"&配件表!L38&\"|\"&VLOOKUP(M38,属性表!$H:$I,2,0)&\"#\"&配件表!N38&\"|\"&VLOOKUP(O38,属性表!$H:$I,2,0)&\"#\"&配件表!P38)","v":"1#12631|2#105"},"异妖2","紫色"]
["配件4",4,8,6004,{"$f":"E29","v":5},5,290,{"$f":"[1]!SUMSTRING(D39:E39,\"#\")","v":{"$error":"#NAME?"}},{"$f":"[1]!SUMSTRING(F39:G39,\"#\")","v":{"$error":"#NAME?"}},{"$f":"[1]!SUMSTRING(H39:I39,\"|\")","v":{"$error":"#NAME?"}},"生命",16000,"攻击",133,null,null,{"$f":"IF(O39=\"\",VLOOKUP(K39,属性表!$H:$I,2,0)&\"#\"&配件表!L39&\"|\"&VLOOKUP(M39,属性表!$H:$I,2,0)&\"#\"&配件表!N39,VLOOKUP(K39,属性表!$H:$I,2,0)&\"#\"&配件表!L39&\"|\"&VLOOKUP(M39,属性表!$H:$I,2,0)&\"#\"&配件表!N39&\"|\"&VLOOKUP(O39,属性表!$H:$I,2,0)&\"#\"&配件表!P39)","v":"1#16000|2#133"},"异妖2","紫色"]
["配件4",4,9,6004,{"$f":"E30","v":6},5,355,{"$f":"[1]!SUMSTRING(D40:E40,\"#\")","v":{"$error":"#NAME?"}},{"$f":"[1]!SUMSTRING(F40:G40,\"#\")","v":{"$error":"#NAME?"}},{"$f":"[1]!SUMSTRING(H40:I40,\"|\")","v":{"$error":"#NAME?"}},"生命",19789,"攻击",164,null,null,{"$f":"IF(O40=\"\",VLOOKUP(K40,属性表!$H:$I,2,0)&\"#\"&配件表!L40&\"|\"&VLOOKUP(M40,属性表!$H:$I,2,0)&\"#\"&配件表!N40,VLOOKUP(K40,属性表!$H:$I,2,0)&\"#\"&配件表!L40&\"|\"&VLOOKUP(M40,属性表!$H:$I,2,0)&\"#\"&配件表!N40&\"|\"&VLOOKUP(O40,属性表!$H:$I,2,0)&\"#\"&配件表!P40)","v":"1#19789|2#164"},"异妖2","紫色"]
["配件4",4,10,6004,{"$f":"E31","v":8},5,420,{"$f":"[1]!SUMSTRING(D41:E41,\"#\")","v":{"$error":"#NAME?"}},{"$f":"[1]!SUMSTRING(F41:G41,\"#\")","v":{"$error":"#NAME?"}},{"$f":"[1]!SUMSTRING(H41:I41,\"|\")","v":{"$error":"#NAME?"}},"生命",24000,"攻击",200,null,null,{"$f":"IF(O41=\"\",VLOOKUP(K41,属性表!$H:$I,2,0)&\"#\"&配件表!L41&\"|\"&VLOOKUP(M41,属性表!$H:$I,2,0)&\"#\"&配件表!N41,VLOOKUP(K41,属性表!$H:$I,2,0)&\"#\"&配件表!L41&\"|\"&VLOOKUP(M41,属性表!$H:$I,2,0)&\"#\"&配件表!N41&\"|\"&VLOOKUP(O41,属性表!$H:$I,2,0)&\"#\"&配件表!P41)","v":"1#24000|2#200"},"异妖2","紫色"]
["配件5",5,1,6005,{"$f":"E32","v":1},5,0,{"$f":"[1]!SUMSTRING(D42:E42,\"#\")","v":{"$error":"#NAME?"}},{"$f":"[1]!SUMSTRING(F42:G42,\"#\")","v":{"$error":"#NAME?"}},{"$f":"[1]!SUMSTRING(H42:I42,\"|\")","v":{"$error":"#NAME?"}},"生命",842,"魔抗",70,null,null,{"$f":"IF(O42=\"\",VLOOKUP(K42,属性表!$H:$I,2,0)&\"#\"&配件表!L42&\"|\"&VLOOKUP(M42,属性表!$H:$I,2,0)&\"#\"&配件表!N42,VLOOKUP(K42,属性表!$H:$I,2,0)&\"#\"&配件表!L42&\"|\"&VLOOKUP(M42,属性表!$H:$I,2,0)&\"#\"&配件表!N42&\"|\"&VLOOKUP(O42,属性表!$H:$I,2,0)&\"#\"&配件表!P42)","v":"1#842|4#70"},"异妖2","紫色"]
["配件5",5,2,6005,{"$f":"E33","v":1},5,40,{"$f":"[1]!SUMSTRING(D43:E43,\"#\")","v":{"$error":"#NAME?"}},{"$f":"[1]!SUMSTRING(F43:G43,\"#\")","v":{"$error":"#NAME?"}},{"$f":"[1]!SUMSTRING(H43:I43,\"|\")","v":{"$error":"#NAME?"}},"生命",2105,"魔抗",175,null,null,{"$f":"IF(O43=\"\",VLOOKUP(K43,属性表!$H:$I,2,0)&\"#\"&配件表!L43&\"|\"&VLOOKUP(M43,属性表!$H:$I,2,0)&\"#\"&配件表!N43,VLOOKUP(K43,属性表!$H:$I,2,0)&\"#\"&配件表!L43&\"|\"&VLOOKUP(M43,属性表!$H:$I,2,0)&\"#\"&配件表!N43&\"|\"&VLOOKUP(O43,属性表!$H:$I,2,0)&\"#\"&配件表!P43)","v":"1#2105|4#175"},"异妖2","紫色"]
["配件5",5,3,6005,{"$f":"E34","v":2},5,65,{"$f":"[1]!SUMSTRING(D44:E44,\"#\")","v":{"$error":"#NAME?"}},{"$f":"[1]!SUMSTRING(F44:G44,\"#\")","v":{"$error":"#NAME?"}},{"$f":"[1]!SUMSTRING(H44:I44,\"|\")","v":{"$error":"#NAME?"}},"生命",3368,"魔抗",280,null,null,{"$f":"IF(O44=\"\",VLOOKUP(K44,属性表!$H:$I,2,0)&\"#\"&配件表!L44&\"|\"&VLOOKUP(M44,属性表!$H:$I,2,0)&\"#\"&配件表!N44,VLOOKUP(K44,属性表!$H:$I,2,0)&\"#\"&配件表!L44&\"|\"&VLOOKUP(M44,属性表!$H:$I,2,0)&\"#\"&配件表!N44&\"|\"&VLOOKUP(O44,属性表!$H:$I,2,0)&\"#\"&配件表!P44)","v":"1#3368|4#280"},"异妖2","紫色"]
["配件5",5,4,6005,{"$f":"E35","v":2},5,100,{"$f":"[1]!SUMSTRING(D45:E45,\"#\")","v":{"$error":"#NAME?"}},{"$f":"[1]!SUMSTRING(F45:G45,\"#\")","v":{"$error":"#NAME?"}},{"$f":"[1]!SUMSTRING(H45:I45,\"|\")","v":{"$error":"#NAME?"}},"生命",5052,"魔抗",420,null,null,{"$f":"IF(O45=\"\",VLOOKUP(K45,属性表!$H:$I,2,0)&\"#\"&配件表!L45&\"|\"&VLOOKUP(M45,属性表!$H:$I,2,0)&\"#\"&配件表!N45,VLOOKUP(K45,属性表!$H:$I,2,0)&\"#\"&配件表!L45&\"|\"&VLOOKUP(M45,属性表!$H:$I,2,0)&\"#\"&配件表!N45&\"|\"&VLOOKUP(O45,属性表!$H:$I,2,0)&\"#\"&配件表!P45)","v":"1#5052|4#420"},"异妖2","紫色"]
["配件5",5,5,6005,{"$f":"E36","v":3},5,135,{"$f":"[1]!SUMSTRING(D46:E46,\"#\")","v":{"$error":"#NAME?"}},{"$f":"[1]!SUMSTRING(F46:G46,\"#\")","v":{"$error":"#NAME?"}},{"$f":"[1]!SUMSTRING(H46:I46,\"|\")","v":{"$error":"#NAME?"}},"生命",7157,"魔抗",595,null,null,{"$f":"IF(O46=\"\",VLOOKUP(K46,属性表!$H:$I,2,0)&\"#\"&配件表!L46&\"|\"&VLOOKUP(M46,属性表!$H:$I,2,0)&\"#\"&配件表!N46,VLOOKUP(K46,属性表!$H:$I,2,0)&\"#\"&配件表!L46&\"|\"&VLOOKUP(M46,属性表!$H:$I,2,0)&\"#\"&配件表!N46&\"|\"&VLOOKUP(O46,属性表!$H:$I,2,0)&\"#\"&配件表!P46)","v":"1#7157|4#595"},"异妖2","紫色"]
["配件5",5,6,6005,{"$f":"E37","v":3},5,180,{"$f":"[1]!SUMSTRING(D47:E47,\"#\")","v":{"$error":"#NAME?"}},{"$f":"[1]!SUMSTRING(F47:G47,\"#\")","v":{"$error":"#NAME?"}},{"$f":"[1]!SUMSTRING(H47:I47,\"|\")","v":{"$error":"#NAME?"}},"生命",9684,"魔抗",805,null,null,{"$f":"IF(O47=\"\",VLOOKUP(K47,属性表!$H:$I,2,0)&\"#\"&配件表!L47&\"|\"&VLOOKUP(M47,属性表!$H:$I,2,0)&\"#\"&配件表!N47,VLOOKUP(K47,属性表!$H:$I,2,0)&\"#\"&配件表!L47&\"|\"&VLOOKUP(M47,属性表!$H:$I,2,0)&\"#\"&配件表!N47&\"|\"&VLOOKUP(O47,属性表!$H:$I,2,0)&\"#\"&配件表!P47)","v":"1#9684|4#805"},"异妖2","紫色"]
["配件5",5,7,6005,{"$f":"E38","v":4},5,235,{"$f":"[1]!SUMSTRING(D48:E48,\"#\")","v":{"$error":"#NAME?"}},{"$f":"[1]!SUMSTRING(F48:G48,\"#\")","v":{"$error":"#NAME?"}},{"$f":"[1]!SUMSTRING(H48:I48,\"|\")","v":{"$error":"#NAME?"}},"生命",12631,"魔抗",1050,null,null,{"$f":"IF(O48=\"\",VLOOKUP(K48,属性表!$H:$I,2,0)&\"#\"&配件表!L48&\"|\"&VLOOKUP(M48,属性表!$H:$I,2,0)&\"#\"&配件表!N48,VLOOKUP(K48,属性表!$H:$I,2,0)&\"#\"&配件表!L48&\"|\"&VLOOKUP(M48,属性表!$H:$I,2,0)&\"#\"&配件表!N48&\"|\"&VLOOKUP(O48,属性表!$H:$I,2,0)&\"#\"&配件表!P48)","v":"1#12631|4#1050"},"异妖2","紫色"]
["配件5",5,8,6005,{"$f":"E39","v":5},5,290,{"$f":"[1]!SUMSTRING(D49:E49,\"#\")","v":{"$error":"#NAME?"}},{"$f":"[1]!SUMSTRING(F49:G49,\"#\")","v":{"$error":"#NAME?"}},{"$f":"[1]!SUMSTRING(H49:I49,\"|\")","v":{"$error":"#NAME?"}},"生命",16000,"魔抗",1330,null,null,{"$f":"IF(O49=\"\",VLOOKUP(K49,属性表!$H:$I,2,0)&\"#\"&配件表!L49&\"|\"&VLOOKUP(M49,属性表!$H:$I,2,0)&\"#\"&配件表!N49,VLOOKUP(K49,属性表!$H:$I,2,0)&\"#\"&配件表!L49&\"|\"&VLOOKUP(M49,属性表!$H:$I,2,0)&\"#\"&配件表!N49&\"|\"&VLOOKUP(O49,属性表!$H:$I,2,0)&\"#\"&配件表!P49)","v":"1#16000|4#1330"},"异妖2","紫色"]
["配件5",5,9,6005,{"$f":"E40","v":6},5,355,{"$f":"[1]!SUMSTRING(D50:E50,\"#\")","v":{"$error":"#NAME?"}},{"$f":"[1]!SUMSTRING(F50:G50,\"#\")","v":{"$error":"#NAME?"}},{"$f":"[1]!SUMSTRING(H50:I50,\"|\")","v":{"$error":"#NAME?"}},"生命",19789,"魔抗",1645,null,null,{"$f":"IF(O50=\"\",VLOOKUP(K50,属性表!$H:$I,2,0)&\"#\"&配件表!L50&\"|\"&VLOOKUP(M50,属性表!$H:$I,2,0)&\"#\"&配件表!N50,VLOOKUP(K50,属性表!$H:$I,2,0)&\"#\"&配件表!L50&\"|\"&VLOOKUP(M50,属性表!$H:$I,2,0)&\"#\"&配件表!N50&\"|\"&VLOOKUP(O50,属性表!$H:$I,2,0)&\"#\"&配件表!P50)","v":"1#19789|4#1645"},"异妖2","紫色"]
["配件5",5,10,6005,{"$f":"E41","v":8},5,420,{"$f":"[1]!SUMSTRING(D51:E51,\"#\")","v":{"$error":"#NAME?"}},{"$f":"[1]!SUMSTRING(F51:G51,\"#\")","v":{"$error":"#NAME?"}},{"$f":"[1]!SUMSTRING(H51:I51,\"|\")","v":{"$error":"#NAME?"}},"生命",24000,"魔抗",2000,null,null,{"$f":"IF(O51=\"\",VLOOKUP(K51,属性表!$H:$I,2,0)&\"#\"&配件表!L51&\"|\"&VLOOKUP(M51,属性表!$H:$I,2,0)&\"#\"&配件表!N51,VLOOKUP(K51,属性表!$H:$I,2,0)&\"#\"&配件表!L51&\"|\"&VLOOKUP(M51,属性表!$H:$I,2,0)&\"#\"&配件表!N51&\"|\"&VLOOKUP(O51,属性表!$H:$I,2,0)&\"#\"&配件表!P51)","v":"1#24000|4#2000"},"异妖2","紫色"]
["配件6",6,1,6006,{"$f":"E42","v":1},5,0,{"$f":"[1]!SUMSTRING(D52:E52,\"#\")","v":{"$error":"#NAME?"}},{"$f":"[1]!SUMSTRING(F52:G52,\"#\")","v":{"$error":"#NAME?"}},{"$f":"[1]!SUMSTRING(H52:I52,\"|\")","v":{"$error":"#NAME?"}},"攻击",7,"魔抗",70,null,null,{"$f":"IF(O52=\"\",VLOOKUP(K52,属性表!$H:$I,2,0)&\"#\"&配件表!L52&\"|\"&VLOOKUP(M52,属性表!$H:$I,2,0)&\"#\"&配件表!N52,VLOOKUP(K52,属性表!$H:$I,2,0)&\"#\"&配件表!L52&\"|\"&VLOOKUP(M52,属性表!$H:$I,2,0)&\"#\"&配件表!N52&\"|\"&VLOOKUP(O52,属性表!$H:$I,2,0)&\"#\"&配件表!P52)","v":"2#7|4#70"},"异妖2","紫色"]
["配件6",6,2,6006,{"$f":"E43","v":1},5,40,{"$f":"[1]!SUMSTRING(D53:E53,\"#\")","v":{"$error":"#NAME?"}},{"$f":"[1]!SUMSTRING(F53:G53,\"#\")","v":{"$error":"#NAME?"}},{"$f":"[1]!SUMSTRING(H53:I53,\"|\")","v":{"$error":"#NAME?"}},"攻击",17,"魔抗",175,null,null,{"$f":"IF(O53=\"\",VLOOKUP(K53,属性表!$H:$I,2,0)&\"#\"&配件表!L53&\"|\"&VLOOKUP(M53,属性表!$H:$I,2,0)&\"#\"&配件表!N53,VLOOKUP(K53,属性表!$H:$I,2,0)&\"#\"&配件表!L53&\"|\"&VLOOKUP(M53,属性表!$H:$I,2,0)&\"#\"&配件表!N53&\"|\"&VLOOKUP(O53,属性表!$H:$I,2,0)&\"#\"&配件表!P53)","v":"2#17|4#175"},"异妖2","紫色"]
["配件6",6,3,6006,{"$f":"E44","v":2},5,65,{"$f":"[1]!SUMSTRING(D54:E54,\"#\")","v":{"$error":"#NAME?"}},{"$f":"[1]!SUMSTRING(F54:G54,\"#\")","v":{"$error":"#NAME?"}},{"$f":"[1]!SUMSTRING(H54:I54,\"|\")","v":{"$error":"#NAME?"}},"攻击",28,"魔抗",280,null,null,{"$f":"IF(O54=\"\",VLOOKUP(K54,属性表!$H:$I,2,0)&\"#\"&配件表!L54&\"|\"&VLOOKUP(M54,属性表!$H:$I,2,0)&\"#\"&配件表!N54,VLOOKUP(K54,属性表!$H:$I,2,0)&\"#\"&配件表!L54&\"|\"&VLOOKUP(M54,属性表!$H:$I,2,0)&\"#\"&配件表!N54&\"|\"&VLOOKUP(O54,属性表!$H:$I,2,0)&\"#\"&配件表!P54)","v":"2#28|4#280"},"异妖2","紫色"]
["配件6",6,4,6006,{"$f":"E45","v":2},5,100,{"$f":"[1]!SUMSTRING(D55:E55,\"#\")","v":{"$error":"#NAME?"}},{"$f":"[1]!SUMSTRING(F55:G55,\"#\")","v":{"$error":"#NAME?"}},{"$f":"[1]!SUMSTRING(H55:I55,\"|\")","v":{"$error":"#NAME?"}},"攻击",42,"魔抗",420,null,null,{"$f":"IF(O55=\"\",VLOOKUP(K55,属性表!$H:$I,2,0)&\"#\"&配件表!L55&\"|\"&VLOOKUP(M55,属性表!$H:$I,2,0)&\"#\"&配件表!N55,VLOOKUP(K55,属性表!$H:$I,2,0)&\"#\"&配件表!L55&\"|\"&VLOOKUP(M55,属性表!$H:$I,2,0)&\"#\"&配件表!N55&\"|\"&VLOOKUP(O55,属性表!$H:$I,2,0)&\"#\"&配件表!P55)","v":"2#42|4#420"},"异妖2","紫色"]
["配件6",6,5,6006,{"$f":"E46","v":3},5,135,{"$f":"[1]!SUMSTRING(D56:E56,\"#\")","v":{"$error":"#NAME?"}},{"$f":"[1]!SUMSTRING(F56:G56,\"#\")","v":{"$error":"#NAME?"}},{"$f":"[1]!SUMSTRING(H56:I56,\"|\")","v":{"$error":"#NAME?"}},"攻击",59,"魔抗",595,null,null,{"$f":"IF(O56=\"\",VLOOKUP(K56,属性表!$H:$I,2,0)&\"#\"&配件表!L56&\"|\"&VLOOKUP(M56,属性表!$H:$I,2,0)&\"#\"&配件表!N56,VLOOKUP(K56,属性表!$H:$I,2,0)&\"#\"&配件表!L56&\"|\"&VLOOKUP(M56,属性表!$H:$I,2,0)&\"#\"&配件表!N56&\"|\"&VLOOKUP(O56,属性表!$H:$I,2,0)&\"#\"&配件表!P56)","v":"2#59|4#595"},"异妖2","紫色"]
["配件6",6,6,6006,{"$f":"E47","v":3},5,180,{"$f":"[1]!SUMSTRING(D57:E57,\"#\")","v":{"$error":"#NAME?"}},{"$f":"[1]!SUMSTRING(F57:G57,\"#\")","v":{"$error":"#NAME?"}},{"$f":"[1]!SUMSTRING(H57:I57,\"|\")","v":{"$error":"#NAME?"}},"攻击",80,"魔抗",805,null,null,{"$f":"IF(O57=\"\",VLOOKUP(K57,属性表!$H:$I,2,0)&\"#\"&配件表!L57&\"|\"&VLOOKUP(M57,属性表!$H:$I,2,0)&\"#\"&配件表!N57,VLOOKUP(K57,属性表!$H:$I,2,0)&\"#\"&配件表!L57&\"|\"&VLOOKUP(M57,属性表!$H:$I,2,0)&\"#\"&配件表!N57&\"|\"&VLOOKUP(O57,属性表!$H:$I,2,0)&\"#\"&配件表!P57)","v":"2#80|4#805"},"异妖2","紫色"]
["配件6",6,7,6006,{"$f":"E48","v":4},5,235,{"$f":"[1]!SUMSTRING(D58:E58,\"#\")","v":{"$error":"#NAME?"}},{"$f":"[1]!SUMSTRING(F58:G58,\"#\")","v":{"$error":"#NAME?"}},{"$f":"[1]!SUMSTRING(H58:I58,\"|\")","v":{"$error":"#NAME?"}},"攻击",105,"魔抗",1050,null,null,{"$f":"IF(O58=\"\",VLOOKUP(K58,属性表!$H:$I,2,0)&\"#\"&配件表!L58&\"|\"&VLOOKUP(M58,属性表!$H:$I,2,0)&\"#\"&配件表!N58,VLOOKUP(K58,属性表!$H:$I,2,0)&\"#\"&配件表!L58&\"|\"&VLOOKUP(M58,属性表!$H:$I,2,0)&\"#\"&配件表!N58&\"|\"&VLOOKUP(O58,属性表!$H:$I,2,0)&\"#\"&配件表!P58)","v":"2#105|4#1050"},"异妖2","紫色"]
["配件6",6,8,6006,{"$f":"E49","v":5},5,290,{"$f":"[1]!SUMSTRING(D59:E59,\"#\")","v":{"$error":"#NAME?"}},{"$f":"[1]!SUMSTRING(F59:G59,\"#\")","v":{"$error":"#NAME?"}},{"$f":"[1]!SUMSTRING(H59:I59,\"|\")","v":{"$error":"#NAME?"}},"攻击",133,"魔抗",1330,null,null,{"$f":"IF(O59=\"\",VLOOKUP(K59,属性表!$H:$I,2,0)&\"#\"&配件表!L59&\"|\"&VLOOKUP(M59,属性表!$H:$I,2,0)&\"#\"&配件表!N59,VLOOKUP(K59,属性表!$H:$I,2,0)&\"#\"&配件表!L59&\"|\"&VLOOKUP(M59,属性表!$H:$I,2,0)&\"#\"&配件表!N59&\"|\"&VLOOKUP(O59,属性表!$H:$I,2,0)&\"#\"&配件表!P59)","v":"2#133|4#1330"},"异妖2","紫色"]
["配件6",6,9,6006,{"$f":"E50","v":6},5,355,{"$f":"[1]!SUMSTRING(D60:E60,\"#\")","v":{"$error":"#NAME?"}},{"$f":"[1]!SUMSTRING(F60:G60,\"#\")","v":{"$error":"#NAME?"}},{"$f":"[1]!SUMSTRING(H60:I60,\"|\")","v":{"$error":"#NAME?"}},"攻击",164,"魔抗",1645,null,null,{"$f":"IF(O60=\"\",VLOOKUP(K60,属性表!$H:$I,2,0)&\"#\"&配件表!L60&\"|\"&VLOOKUP(M60,属性表!$H:$I,2,0)&\"#\"&配件表!N60,VLOOKUP(K60,属性表!$H:$I,2,0)&\"#\"&配件表!L60&\"|\"&VLOOKUP(M60,属性表!$H:$I,2,0)&\"#\"&配件表!N60&\"|\"&VLOOKUP(O60,属性表!$H:$I,2,0)&\"#\"&配件表!P60)","v":"2#164|4#1645"},"异妖2","紫色"]
["配件6",6,10,6006,{"$f":"E51","v":8},5,420,{"$f":"[1]!SUMSTRING(D61:E61,\"#\")","v":{"$error":"#NAME?"}},{"$f":"[1]!SUMSTRING(F61:G61,\"#\")","v":{"$error":"#NAME?"}},{"$f":"[1]!SUMSTRING(H61:I61,\"|\")","v":{"$error":"#NAME?"}},"攻击",200,"魔抗",2000,null,null,{"$f":"IF(O61=\"\",VLOOKUP(K61,属性表!$H:$I,2,0)&\"#\"&配件表!L61&\"|\"&VLOOKUP(M61,属性表!$H:$I,2,0)&\"#\"&配件表!N61,VLOOKUP(K61,属性表!$H:$I,2,0)&\"#\"&配件表!L61&\"|\"&VLOOKUP(M61,属性表!$H:$I,2,0)&\"#\"&配件表!N61&\"|\"&VLOOKUP(O61,属性表!$H:$I,2,0)&\"#\"&配件表!P61)","v":"2#200|4#2000"},"异妖2","紫色"]
["配件7",7,1,6007,{"$f":"E52","v":1},5,0,{"$f":"[1]!SUMSTRING(D62:E62,\"#\")","v":{"$error":"#NAME?"}},{"$f":"[1]!SUMSTRING(F62:G62,\"#\")","v":{"$error":"#NAME?"}},{"$f":"[1]!SUMSTRING(H62:I62,\"|\")","v":{"$error":"#NAME?"}},"生命",842,"攻击",7,null,null,{"$f":"IF(O62=\"\",VLOOKUP(K62,属性表!$H:$I,2,0)&\"#\"&配件表!L62&\"|\"&VLOOKUP(M62,属性表!$H:$I,2,0)&\"#\"&配件表!N62,VLOOKUP(K62,属性表!$H:$I,2,0)&\"#\"&配件表!L62&\"|\"&VLOOKUP(M62,属性表!$H:$I,2,0)&\"#\"&配件表!N62&\"|\"&VLOOKUP(O62,属性表!$H:$I,2,0)&\"#\"&配件表!P62)","v":"1#842|2#7"},"异妖3","紫色"]
["配件7",7,2,6007,{"$f":"E53","v":1},5,40,{"$f":"[1]!SUMSTRING(D63:E63,\"#\")","v":{"$error":"#NAME?"}},{"$f":"[1]!SUMSTRING(F63:G63,\"#\")","v":{"$error":"#NAME?"}},{"$f":"[1]!SUMSTRING(H63:I63,\"|\")","v":{"$error":"#NAME?"}},"生命",2105,"攻击",17,null,null,{"$f":"IF(O63=\"\",VLOOKUP(K63,属性表!$H:$I,2,0)&\"#\"&配件表!L63&\"|\"&VLOOKUP(M63,属性表!$H:$I,2,0)&\"#\"&配件表!N63,VLOOKUP(K63,属性表!$H:$I,2,0)&\"#\"&配件表!L63&\"|\"&VLOOKUP(M63,属性表!$H:$I,2,0)&\"#\"&配件表!N63&\"|\"&VLOOKUP(O63,属性表!$H:$I,2,0)&\"#\"&配件表!P63)","v":"1#2105|2#17"},"异妖3","紫色"]
["配件7",7,3,6007,{"$f":"E54","v":2},5,65,{"$f":"[1]!SUMSTRING(D64:E64,\"#\")","v":{"$error":"#NAME?"}},{"$f":"[1]!SUMSTRING(F64:G64,\"#\")","v":{"$error":"#NAME?"}},{"$f":"[1]!SUMSTRING(H64:I64,\"|\")","v":{"$error":"#NAME?"}},"生命",3368,"攻击",28,null,null,{"$f":"IF(O64=\"\",VLOOKUP(K64,属性表!$H:$I,2,0)&\"#\"&配件表!L64&\"|\"&VLOOKUP(M64,属性表!$H:$I,2,0)&\"#\"&配件表!N64,VLOOKUP(K64,属性表!$H:$I,2,0)&\"#\"&配件表!L64&\"|\"&VLOOKUP(M64,属性表!$H:$I,2,0)&\"#\"&配件表!N64&\"|\"&VLOOKUP(O64,属性表!$H:$I,2,0)&\"#\"&配件表!P64)","v":"1#3368|2#28"},"异妖3","紫色"]
["配件7",7,4,6007,{"$f":"E55","v":2},5,100,{"$f":"[1]!SUMSTRING(D65:E65,\"#\")","v":{"$error":"#NAME?"}},{"$f":"[1]!SUMSTRING(F65:G65,\"#\")","v":{"$error":"#NAME?"}},{"$f":"[1]!SUMSTRING(H65:I65,\"|\")","v":{"$error":"#NAME?"}},"生命",5052,"攻击",42,null,null,{"$f":"IF(O65=\"\",VLOOKUP(K65,属性表!$H:$I,2,0)&\"#\"&配件表!L65&\"|\"&VLOOKUP(M65,属性表!$H:$I,2,0)&\"#\"&配件表!N65,VLOOKUP(K65,属性表!$H:$I,2,0)&\"#\"&配件表!L65&\"|\"&VLOOKUP(M65,属性表!$H:$I,2,0)&\"#\"&配件表!N65&\"|\"&VLOOKUP(O65,属性表!$H:$I,2,0)&\"#\"&配件表!P65)","v":"1#5052|2#42"},"异妖3","紫色"]
["配件7",7,5,6007,{"$f":"E56","v":3},5,135,{"$f":"[1]!SUMSTRING(D66:E66,\"#\")","v":{"$error":"#NAME?"}},{"$f":"[1]!SUMSTRING(F66:G66,\"#\")","v":{"$error":"#NAME?"}},{"$f":"[1]!SUMSTRING(H66:I66,\"|\")","v":{"$error":"#NAME?"}},"生命",7157,"攻击",59,null,null,{"$f":"IF(O66=\"\",VLOOKUP(K66,属性表!$H:$I,2,0)&\"#\"&配件表!L66&\"|\"&VLOOKUP(M66,属性表!$H:$I,2,0)&\"#\"&配件表!N66,VLOOKUP(K66,属性表!$H:$I,2,0)&\"#\"&配件表!L66&\"|\"&VLOOKUP(M66,属性表!$H:$I,2,0)&\"#\"&配件表!N66&\"|\"&VLOOKUP(O66,属性表!$H:$I,2,0)&\"#\"&配件表!P66)","v":"1#7157|2#59"},{"$f":"VLOOKUP(B66,$Y:$Z,2,0)","v":"异妖3"},{"$f":"VLOOKUP(R66,$Z:$AA,2,0)","v":"紫色"}]
[{"$f":"\"配件\"&B67","v":"配件7"},7,6,6007,{"$f":"E57","v":3},5,180,{"$f":"[1]!SUMSTRING(D67:E67,\"#\")","v":{"$error":"#NAME?"}},{"$f":"[1]!SUMSTRING(F67:G67,\"#\")","v":{"$error":"#NAME?"}},{"$f":"[1]!SUMSTRING(H67:I67,\"|\")","v":{"$error":"#NAME?"}},"生命",9684,"攻击",80,null,null,{"$f":"IF(O67=\"\",VLOOKUP(K67,属性表!$H:$I,2,0)&\"#\"&配件表!L67&\"|\"&VLOOKUP(M67,属性表!$H:$I,2,0)&\"#\"&配件表!N67,VLOOKUP(K67,属性表!$H:$I,2,0)&\"#\"&配件表!L67&\"|\"&VLOOKUP(M67,属性表!$H:$I,2,0)&\"#\"&配件表!N67&\"|\"&VLOOKUP(O67,属性表!$H:$I,2,0)&\"#\"&配件表!P67)","v":"1#9684|2#80"},"异妖3","紫色"]
["配件7",7,7,6007,{"$f":"E58","v":4},5,235,{"$f":"[1]!SUMSTRING(D68:E68,\"#\")","v":{"$error":"#NAME?"}},{"$f":"[1]!SUMSTRING(F68:G68,\"#\")","v":{"$error":"#NAME?"}},{"$f":"[1]!SUMSTRING(H68:I68,\"|\")","v":{"$error":"#NAME?"}},"生命",12631,"攻击",105,null,null,{"$f":"IF(O68=\"\",VLOOKUP(K68,属性表!$H:$I,2,0)&\"#\"&配件表!L68&\"|\"&VLOOKUP(M68,属性表!$H:$I,2,0)&\"#\"&配件表!N68,VLOOKUP(K68,属性表!$H:$I,2,0)&\"#\"&配件表!L68&\"|\"&VLOOKUP(M68,属性表!$H:$I,2,0)&\"#\"&配件表!N68&\"|\"&VLOOKUP(O68,属性表!$H:$I,2,0)&\"#\"&配件表!P68)","v":"1#12631|2#105"},"异妖3","紫色"]
["配件7",7,8,6007,{"$f":"E59","v":5},5,290,{"$f":"[1]!SUMSTRING(D69:E69,\"#\")","v":{"$error":"#NAME?"}},{"$f":"[1]!SUMSTRING(F69:G69,\"#\")","v":{"$error":"#NAME?"}},{"$f":"[1]!SUMSTRING(H69:I69,\"|\")","v":{"$error":"#NAME?"}},"生命",16000,"攻击",133,null,null,{"$f":"IF(O69=\"\",VLOOKUP(K69,属性表!$H:$I,2,0)&\"#\"&配件表!L69&\"|\"&VLOOKUP(M69,属性表!$H:$I,2,0)&\"#\"&配件表!N69,VLOOKUP(K69,属性表!$H:$I,2,0)&\"#\"&配件表!L69&\"|\"&VLOOKUP(M69,属性表!$H:$I,2,0)&\"#\"&配件表!N69&\"|\"&VLOOKUP(O69,属性表!$H:$I,2,0)&\"#\"&配件表!P69)","v":"1#16000|2#133"},"异妖3","紫色"]
["配件7",7,9,6007,{"$f":"E60","v":6},5,355,{"$f":"[1]!SUMSTRING(D70:E70,\"#\")","v":{"$error":"#NAME?"}},{"$f":"[1]!SUMSTRING(F70:G70,\"#\")","v":{"$error":"#NAME?"}},{"$f":"[1]!SUMSTRING(H70:I70,\"|\")","v":{"$error":"#NAME?"}},"生命",19789,"攻击",164,null,null,{"$f":"IF(O70=\"\",VLOOKUP(K70,属性表!$H:$I,2,0)&\"#\"&配件表!L70&\"|\"&VLOOKUP(M70,属性表!$H:$I,2,0)&\"#\"&配件表!N70,VLOOKUP(K70,属性表!$H:$I,2,0)&\"#\"&配件表!L70&\"|\"&VLOOKUP(M70,属性表!$H:$I,2,0)&\"#\"&配件表!N70&\"|\"&VLOOKUP(O70,属性表!$H:$I,2,0)&\"#\"&配件表!P70)","v":"1#19789|2#164"},"异妖3","紫色"]
["配件7",7,10,6007,{"$f":"E61","v":8},5,420,{"$f":"[1]!SUMSTRING(D71:E71,\"#\")","v":{"$error":"#NAME?"}},{"$f":"[1]!SUMSTRING(F71:G71,\"#\")","v":{"$error":"#NAME?"}},{"$f":"[1]!SUMSTRING(H71:I71,\"|\")","v":{"$error":"#NAME?"}},"生命",24000,"攻击",200,null,null,{"$f":"IF(O71=\"\",VLOOKUP(K71,属性表!$H:$I,2,0)&\"#\"&配件表!L71&\"|\"&VLOOKUP(M71,属性表!$H:$I,2,0)&\"#\"&配件表!N71,VLOOKUP(K71,属性表!$H:$I,2,0)&\"#\"&配件表!L71&\"|\"&VLOOKUP(M71,属性表!$H:$I,2,0)&\"#\"&配件表!N71&\"|\"&VLOOKUP(O71,属性表!$H:$I,2,0)&\"#\"&配件表!P71)","v":"1#24000|2#200"},"异妖3","紫色"]
["配件8",8,1,6008,{"$f":"E62","v":1},5,0,{"$f":"[1]!SUMSTRING(D72:E72,\"#\")","v":{"$error":"#NAME?"}},{"$f":"[1]!SUMSTRING(F72:G72,\"#\")","v":{"$error":"#NAME?"}},{"$f":"[1]!SUMSTRING(H72:I72,\"|\")","v":{"$error":"#NAME?"}},"生命",842,"效果命中",1,null,null,{"$f":"IF(O72=\"\",VLOOKUP(K72,属性表!$H:$I,2,0)&\"#\"&配件表!L72&\"|\"&VLOOKUP(M72,属性表!$H:$I,2,0)&\"#\"&配件表!N72,VLOOKUP(K72,属性表!$H:$I,2,0)&\"#\"&配件表!L72&\"|\"&VLOOKUP(M72,属性表!$H:$I,2,0)&\"#\"&配件表!N72&\"|\"&VLOOKUP(O72,属性表!$H:$I,2,0)&\"#\"&配件表!P72)","v":"1#842|53#1"},"异妖3","紫色"]
["配件8",8,2,6008,{"$f":"E63","v":1},5,40,{"$f":"[1]!SUMSTRING(D73:E73,\"#\")","v":{"$error":"#NAME?"}},{"$f":"[1]!SUMSTRING(F73:G73,\"#\")","v":{"$error":"#NAME?"}},{"$f":"[1]!SUMSTRING(H73:I73,\"|\")","v":{"$error":"#NAME?"}},"生命",2105,"效果命中",2,null,null,{"$f":"IF(O73=\"\",VLOOKUP(K73,属性表!$H:$I,2,0)&\"#\"&配件表!L73&\"|\"&VLOOKUP(M73,属性表!$H:$I,2,0)&\"#\"&配件表!N73,VLOOKUP(K73,属性表!$H:$I,2,0)&\"#\"&配件表!L73&\"|\"&VLOOKUP(M73,属性表!$H:$I,2,0)&\"#\"&配件表!N73&\"|\"&VLOOKUP(O73,属性表!$H:$I,2,0)&\"#\"&配件表!P73)","v":"1#2105|53#2"},"异妖3","紫色"]
["配件8",8,3,6008,{"$f":"E64","v":2},5,65,{"$f":"[1]!SUMSTRING(D74:E74,\"#\")","v":{"$error":"#NAME?"}},{"$f":"[1]!SUMSTRING(F74:G74,\"#\")","v":{"$error":"#NAME?"}},{"$f":"[1]!SUMSTRING(H74:I74,\"|\")","v":{"$error":"#NAME?"}},"生命",3368,"效果命中",4,null,null,{"$f":"IF(O74=\"\",VLOOKUP(K74,属性表!$H:$I,2,0)&\"#\"&配件表!L74&\"|\"&VLOOKUP(M74,属性表!$H:$I,2,0)&\"#\"&配件表!N74,VLOOKUP(K74,属性表!$H:$I,2,0)&\"#\"&配件表!L74&\"|\"&VLOOKUP(M74,属性表!$H:$I,2,0)&\"#\"&配件表!N74&\"|\"&VLOOKUP(O74,属性表!$H:$I,2,0)&\"#\"&配件表!P74)","v":"1#3368|53#4"},"异妖3","紫色"]
["配件8",8,4,6008,{"$f":"E65","v":2},5,100,{"$f":"[1]!SUMSTRING(D75:E75,\"#\")","v":{"$error":"#NAME?"}},{"$f":"[1]!SUMSTRING(F75:G75,\"#\")","v":{"$error":"#NAME?"}},{"$f":"[1]!SUMSTRING(H75:I75,\"|\")","v":{"$error":"#NAME?"}},"生命",5052,"效果命中",6,null,null,{"$f":"IF(O75=\"\",VLOOKUP(K75,属性表!$H:$I,2,0)&\"#\"&配件表!L75&\"|\"&VLOOKUP(M75,属性表!$H:$I,2,0)&\"#\"&配件表!N75,VLOOKUP(K75,属性表!$H:$I,2,0)&\"#\"&配件表!L75&\"|\"&VLOOKUP(M75,属性表!$H:$I,2,0)&\"#\"&配件表!N75&\"|\"&VLOOKUP(O75,属性表!$H:$I,2,0)&\"#\"&配件表!P75)","v":"1#5052|53#6"},"异妖3","紫色"]
["配件8",8,5,6008,{"$f":"E66","v":3},5,135,{"$f":"[1]!SUMSTRING(D76:E76,\"#\")","v":{"$error":"#NAME?"}},{"$f":"[1]!SUMSTRING(F76:G76,\"#\")","v":{"$error":"#NAME?"}},{"$f":"[1]!SUMSTRING(H76:I76,\"|\")","v":{"$error":"#NAME?"}},"生命",7157,"效果命中",9,null,null,{"$f":"IF(O76=\"\",VLOOKUP(K76,属性表!$H:$I,2,0)&\"#\"&配件表!L76&\"|\"&VLOOKUP(M76,属性表!$H:$I,2,0)&\"#\"&配件表!N76,VLOOKUP(K76,属性表!$H:$I,2,0)&\"#\"&配件表!L76&\"|\"&VLOOKUP(M76,属性表!$H:$I,2,0)&\"#\"&配件表!N76&\"|\"&VLOOKUP(O76,属性表!$H:$I,2,0)&\"#\"&配件表!P76)","v":"1#7157|53#9"},"异妖3","紫色"]
["配件8",{"$f":"B67+1","v":8},{"$f":"C67","v":6},{"$f":"D67+1","v":6008},{"$f":"E67","v":3},5,180,{"$f":"[1]!SUMSTRING(D77:E77,\"#\")","v":{"$error":"#NAME?"}},{"$f":"[1]!SUMSTRING(F77:G77,\"#\")","v":{"$error":"#NAME?"}},{"$f":"[1]!SUMSTRING(H77:I77,\"|\")","v":{"$error":"#NAME?"}},"生命",9684,"效果命中",12,null,null,{"$f":"IF(O77=\"\",VLOOKUP(K77,属性表!$H:$I,2,0)&\"#\"&配件表!L77&\"|\"&VLOOKUP(M77,属性表!$H:$I,2,0)&\"#\"&配件表!N77,VLOOKUP(K77,属性表!$H:$I,2,0)&\"#\"&配件表!L77&\"|\"&VLOOKUP(M77,属性表!$H:$I,2,0)&\"#\"&配件表!N77&\"|\"&VLOOKUP(O77,属性表!$H:$I,2,0)&\"#\"&配件表!P77)","v":"1#9684|53#12"},"异妖3","紫色"]
["配件8",8,7,6008,{"$f":"E68","v":4},5,235,{"$f":"[1]!SUMSTRING(D78:E78,\"#\")","v":{"$error":"#NAME?"}},{"$f":"[1]!SUMSTRING(F78:G78,\"#\")","v":{"$error":"#NAME?"}},{"$f":"[1]!SUMSTRING(H78:I78,\"|\")","v":{"$error":"#NAME?"}},"生命",12631,"效果命中",16,null,null,{"$f":"IF(O78=\"\",VLOOKUP(K78,属性表!$H:$I,2,0)&\"#\"&配件表!L78&\"|\"&VLOOKUP(M78,属性表!$H:$I,2,0)&\"#\"&配件表!N78,VLOOKUP(K78,属性表!$H:$I,2,0)&\"#\"&配件表!L78&\"|\"&VLOOKUP(M78,属性表!$H:$I,2,0)&\"#\"&配件表!N78&\"|\"&VLOOKUP(O78,属性表!$H:$I,2,0)&\"#\"&配件表!P78)","v":"1#12631|53#16"},"异妖3","紫色"]
["配件8",8,8,6008,{"$f":"E69","v":5},5,290,{"$f":"[1]!SUMSTRING(D79:E79,\"#\")","v":{"$error":"#NAME?"}},{"$f":"[1]!SUMSTRING(F79:G79,\"#\")","v":{"$error":"#NAME?"}},{"$f":"[1]!SUMSTRING(H79:I79,\"|\")","v":{"$error":"#NAME?"}},"生命",16000,"效果命中",20,null,null,{"$f":"IF(O79=\"\",VLOOKUP(K79,属性表!$H:$I,2,0)&\"#\"&配件表!L79&\"|\"&VLOOKUP(M79,属性表!$H:$I,2,0)&\"#\"&配件表!N79,VLOOKUP(K79,属性表!$H:$I,2,0)&\"#\"&配件表!L79&\"|\"&VLOOKUP(M79,属性表!$H:$I,2,0)&\"#\"&配件表!N79&\"|\"&VLOOKUP(O79,属性表!$H:$I,2,0)&\"#\"&配件表!P79)","v":"1#16000|53#20"},"异妖3","紫色"]
["配件8",8,9,6008,{"$f":"E70","v":6},5,355,{"$f":"[1]!SUMSTRING(D80:E80,\"#\")","v":{"$error":"#NAME?"}},{"$f":"[1]!SUMSTRING(F80:G80,\"#\")","v":{"$error":"#NAME?"}},{"$f":"[1]!SUMSTRING(H80:I80,\"|\")","v":{"$error":"#NAME?"}},"生命",19789,"效果命中",25,null,null,{"$f":"IF(O80=\"\",VLOOKUP(K80,属性表!$H:$I,2,0)&\"#\"&配件表!L80&\"|\"&VLOOKUP(M80,属性表!$H:$I,2,0)&\"#\"&配件表!N80,VLOOKUP(K80,属性表!$H:$I,2,0)&\"#\"&配件表!L80&\"|\"&VLOOKUP(M80,属性表!$H:$I,2,0)&\"#\"&配件表!N80&\"|\"&VLOOKUP(O80,属性表!$H:$I,2,0)&\"#\"&配件表!P80)","v":"1#19789|53#25"},"异妖3","紫色"]
["配件8",8,10,6008,{"$f":"E71","v":8},5,420,{"$f":"[1]!SUMSTRING(D81:E81,\"#\")","v":{"$error":"#NAME?"}},{"$f":"[1]!SUMSTRING(F81:G81,\"#\")","v":{"$error":"#NAME?"}},{"$f":"[1]!SUMSTRING(H81:I81,\"|\")","v":{"$error":"#NAME?"}},"生命",24000,"效果命中",30,null,null,{"$f":"IF(O81=\"\",VLOOKUP(K81,属性表!$H:$I,2,0)&\"#\"&配件表!L81&\"|\"&VLOOKUP(M81,属性表!$H:$I,2,0)&\"#\"&配件表!N81,VLOOKUP(K81,属性表!$H:$I,2,0)&\"#\"&配件表!L81&\"|\"&VLOOKUP(M81,属性表!$H:$I,2,0)&\"#\"&配件表!N81&\"|\"&VLOOKUP(O81,属性表!$H:$I,2,0)&\"#\"&配件表!P81)","v":"1#24000|53#30"},"异妖3","紫色"]
["配件9",9,1,6009,{"$f":"E72","v":1},5,0,{"$f":"[1]!SUMSTRING(D82:E82,\"#\")","v":{"$error":"#NAME?"}},{"$f":"[1]!SUMSTRING(F82:G82,\"#\")","v":{"$error":"#NAME?"}},{"$f":"[1]!SUMSTRING(H82:I82,\"|\")","v":{"$error":"#NAME?"}},"攻击",7,"效果命中",1,null,null,{"$f":"IF(O82=\"\",VLOOKUP(K82,属性表!$H:$I,2,0)&\"#\"&配件表!L82&\"|\"&VLOOKUP(M82,属性表!$H:$I,2,0)&\"#\"&配件表!N82,VLOOKUP(K82,属性表!$H:$I,2,0)&\"#\"&配件表!L82&\"|\"&VLOOKUP(M82,属性表!$H:$I,2,0)&\"#\"&配件表!N82&\"|\"&VLOOKUP(O82,属性表!$H:$I,2,0)&\"#\"&配件表!P82)","v":"2#7|53#1"},"异妖3","紫色"]
["配件9",9,2,6009,{"$f":"E73","v":1},5,40,{"$f":"[1]!SUMSTRING(D83:E83,\"#\")","v":{"$error":"#NAME?"}},{"$f":"[1]!SUMSTRING(F83:G83,\"#\")","v":{"$error":"#NAME?"}},{"$f":"[1]!SUMSTRING(H83:I83,\"|\")","v":{"$error":"#NAME?"}},"攻击",17,"效果命中",2,null,null,{"$f":"IF(O83=\"\",VLOOKUP(K83,属性表!$H:$I,2,0)&\"#\"&配件表!L83&\"|\"&VLOOKUP(M83,属性表!$H:$I,2,0)&\"#\"&配件表!N83,VLOOKUP(K83,属性表!$H:$I,2,0)&\"#\"&配件表!L83&\"|\"&VLOOKUP(M83,属性表!$H:$I,2,0)&\"#\"&配件表!N83&\"|\"&VLOOKUP(O83,属性表!$H:$I,2,0)&\"#\"&配件表!P83)","v":"2#17|53#2"},"异妖3","紫色"]
["配件9",9,3,6009,{"$f":"E74","v":2},5,65,{"$f":"[1]!SUMSTRING(D84:E84,\"#\")","v":{"$error":"#NAME?"}},{"$f":"[1]!SUMSTRING(F84:G84,\"#\")","v":{"$error":"#NAME?"}},{"$f":"[1]!SUMSTRING(H84:I84,\"|\")","v":{"$error":"#NAME?"}},"攻击",28,"效果命中",4,null,null,{"$f":"IF(O84=\"\",VLOOKUP(K84,属性表!$H:$I,2,0)&\"#\"&配件表!L84&\"|\"&VLOOKUP(M84,属性表!$H:$I,2,0)&\"#\"&配件表!N84,VLOOKUP(K84,属性表!$H:$I,2,0)&\"#\"&配件表!L84&\"|\"&VLOOKUP(M84,属性表!$H:$I,2,0)&\"#\"&配件表!N84&\"|\"&VLOOKUP(O84,属性表!$H:$I,2,0)&\"#\"&配件表!P84)","v":"2#28|53#4"},"异妖3","紫色"]
["配件9",9,4,6009,{"$f":"E75","v":2},5,100,{"$f":"[1]!SUMSTRING(D85:E85,\"#\")","v":{"$error":"#NAME?"}},{"$f":"[1]!SUMSTRING(F85:G85,\"#\")","v":{"$error":"#NAME?"}},{"$f":"[1]!SUMSTRING(H85:I85,\"|\")","v":{"$error":"#NAME?"}},"攻击",42,"效果命中",6,null,null,{"$f":"IF(O85=\"\",VLOOKUP(K85,属性表!$H:$I,2,0)&\"#\"&配件表!L85&\"|\"&VLOOKUP(M85,属性表!$H:$I,2,0)&\"#\"&配件表!N85,VLOOKUP(K85,属性表!$H:$I,2,0)&\"#\"&配件表!L85&\"|\"&VLOOKUP(M85,属性表!$H:$I,2,0)&\"#\"&配件表!N85&\"|\"&VLOOKUP(O85,属性表!$H:$I,2,0)&\"#\"&配件表!P85)","v":"2#42|53#6"},"异妖3","紫色"]
["配件9",9,5,6009,{"$f":"E76","v":3},5,135,{"$f":"[1]!SUMSTRING(D86:E86,\"#\")","v":{"$error":"#NAME?"}},{"$f":"[1]!SUMSTRING(F86:G86,\"#\")","v":{"$error":"#NAME?"}},{"$f":"[1]!SUMSTRING(H86:I86,\"|\")","v":{"$error":"#NAME?"}},"攻击",59,"效果命中",9,null,null,{"$f":"IF(O86=\"\",VLOOKUP(K86,属性表!$H:$I,2,0)&\"#\"&配件表!L86&\"|\"&VLOOKUP(M86,属性表!$H:$I,2,0)&\"#\"&配件表!N86,VLOOKUP(K86,属性表!$H:$I,2,0)&\"#\"&配件表!L86&\"|\"&VLOOKUP(M86,属性表!$H:$I,2,0)&\"#\"&配件表!N86&\"|\"&VLOOKUP(O86,属性表!$H:$I,2,0)&\"#\"&配件表!P86)","v":"2#59|53#9"},"异妖3","紫色"]
["配件9",9,6,6009,{"$f":"E77","v":3},5,180,{"$f":"[1]!SUMSTRING(D87:E87,\"#\")","v":{"$error":"#NAME?"}},{"$f":"[1]!SUMSTRING(F87:G87,\"#\")","v":{"$error":"#NAME?"}},{"$f":"[1]!SUMSTRING(H87:I87,\"|\")","v":{"$error":"#NAME?"}},"攻击",80,"效果命中",12,null,null,{"$f":"IF(O87=\"\",VLOOKUP(K87,属性表!$H:$I,2,0)&\"#\"&配件表!L87&\"|\"&VLOOKUP(M87,属性表!$H:$I,2,0)&\"#\"&配件表!N87,VLOOKUP(K87,属性表!$H:$I,2,0)&\"#\"&配件表!L87&\"|\"&VLOOKUP(M87,属性表!$H:$I,2,0)&\"#\"&配件表!N87&\"|\"&VLOOKUP(O87,属性表!$H:$I,2,0)&\"#\"&配件表!P87)","v":"2#80|53#12"},"异妖3","紫色"]
["配件9",9,7,6009,{"$f":"E78","v":4},5,235,{"$f":"[1]!SUMSTRING(D88:E88,\"#\")","v":{"$error":"#NAME?"}},{"$f":"[1]!SUMSTRING(F88:G88,\"#\")","v":{"$error":"#NAME?"}},{"$f":"[1]!SUMSTRING(H88:I88,\"|\")","v":{"$error":"#NAME?"}},"攻击",105,"效果命中",16,null,null,{"$f":"IF(O88=\"\",VLOOKUP(K88,属性表!$H:$I,2,0)&\"#\"&配件表!L88&\"|\"&VLOOKUP(M88,属性表!$H:$I,2,0)&\"#\"&配件表!N88,VLOOKUP(K88,属性表!$H:$I,2,0)&\"#\"&配件表!L88&\"|\"&VLOOKUP(M88,属性表!$H:$I,2,0)&\"#\"&配件表!N88&\"|\"&VLOOKUP(O88,属性表!$H:$I,2,0)&\"#\"&配件表!P88)","v":"2#105|53#16"},"异妖3","紫色"]
["配件9",9,8,6009,{"$f":"E79","v":5},5,290,{"$f":"[1]!SUMSTRING(D89:E89,\"#\")","v":{"$error":"#NAME?"}},{"$f":"[1]!SUMSTRING(F89:G89,\"#\")","v":{"$error":"#NAME?"}},{"$f":"[1]!SUMSTRING(H89:I89,\"|\")","v":{"$error":"#NAME?"}},"攻击",133,"效果命中",20,null,null,{"$f":"IF(O89=\"\",VLOOKUP(K89,属性表!$H:$I,2,0)&\"#\"&配件表!L89&\"|\"&VLOOKUP(M89,属性表!$H:$I,2,0)&\"#\"&配件表!N89,VLOOKUP(K89,属性表!$H:$I,2,0)&\"#\"&配件表!L89&\"|\"&VLOOKUP(M89,属性表!$H:$I,2,0)&\"#\"&配件表!N89&\"|\"&VLOOKUP(O89,属性表!$H:$I,2,0)&\"#\"&配件表!P89)","v":"2#133|53#20"},"异妖3","紫色"]
["配件9",9,9,6009,{"$f":"E80","v":6},5,355,{"$f":"[1]!SUMSTRING(D90:E90,\"#\")","v":{"$error":"#NAME?"}},{"$f":"[1]!SUMSTRING(F90:G90,\"#\")","v":{"$error":"#NAME?"}},{"$f":"[1]!SUMSTRING(H90:I90,\"|\")","v":{"$error":"#NAME?"}},"攻击",164,"效果命中",25,null,null,{"$f":"IF(O90=\"\",VLOOKUP(K90,属性表!$H:$I,2,0)&\"#\"&配件表!L90&\"|\"&VLOOKUP(M90,属性表!$H:$I,2,0)&\"#\"&配件表!N90,VLOOKUP(K90,属性表!$H:$I,2,0)&\"#\"&配件表!L90&\"|\"&VLOOKUP(M90,属性表!$H:$I,2,0)&\"#\"&配件表!N90&\"|\"&VLOOKUP(O90,属性表!$H:$I,2,0)&\"#\"&配件表!P90)","v":"2#164|53#25"},"异妖3","紫色"]
["配件9",9,10,6009,{"$f":"E81","v":8},5,420,{"$f":"[1]!SUMSTRING(D91:E91,\"#\")","v":{"$error":"#NAME?"}},{"$f":"[1]!SUMSTRING(F91:G91,\"#\")","v":{"$error":"#NAME?"}},{"$f":"[1]!SUMSTRING(H91:I91,\"|\")","v":{"$error":"#NAME?"}},"攻击",200,"效果命中",30,null,null,{"$f":"IF(O91=\"\",VLOOKUP(K91,属性表!$H:$I,2,0)&\"#\"&配件表!L91&\"|\"&VLOOKUP(M91,属性表!$H:$I,2,0)&\"#\"&配件表!N91,VLOOKUP(K91,属性表!$H:$I,2,0)&\"#\"&配件表!L91&\"|\"&VLOOKUP(M91,属性表!$H:$I,2,0)&\"#\"&配件表!N91&\"|\"&VLOOKUP(O91,属性表!$H:$I,2,0)&\"#\"&配件表!P91)","v":"2#200|53#30"},"异妖3","紫色"]
["配件10",10,1,6010,{"$f":"E82","v":1},5,0,{"$f":"[1]!SUMSTRING(D92:E92,\"#\")","v":{"$error":"#NAME?"}},{"$f":"[1]!SUMSTRING(F92:G92,\"#\")","v":{"$error":"#NAME?"}},{"$f":"[1]!SUMSTRING(H92:I92,\"|\")","v":{"$error":"#NAME?"}},"生命",842,"攻击",7,null,null,{"$f":"IF(O92=\"\",VLOOKUP(K92,属性表!$H:$I,2,0)&\"#\"&配件表!L92&\"|\"&VLOOKUP(M92,属性表!$H:$I,2,0)&\"#\"&配件表!N92,VLOOKUP(K92,属性表!$H:$I,2,0)&\"#\"&配件表!L92&\"|\"&VLOOKUP(M92,属性表!$H:$I,2,0)&\"#\"&配件表!N92&\"|\"&VLOOKUP(O92,属性表!$H:$I,2,0)&\"#\"&配件表!P92)","v":"1#842|2#7"},"异妖4","紫色"]
["配件10",10,2,6010,{"$f":"E83","v":1},5,40,{"$f":"[1]!SUMSTRING(D93:E93,\"#\")","v":{"$error":"#NAME?"}},{"$f":"[1]!SUMSTRING(F93:G93,\"#\")","v":{"$error":"#NAME?"}},{"$f":"[1]!SUMSTRING(H93:I93,\"|\")","v":{"$error":"#NAME?"}},"生命",2105,"攻击",17,null,null,{"$f":"IF(O93=\"\",VLOOKUP(K93,属性表!$H:$I,2,0)&\"#\"&配件表!L93&\"|\"&VLOOKUP(M93,属性表!$H:$I,2,0)&\"#\"&配件表!N93,VLOOKUP(K93,属性表!$H:$I,2,0)&\"#\"&配件表!L93&\"|\"&VLOOKUP(M93,属性表!$H:$I,2,0)&\"#\"&配件表!N93&\"|\"&VLOOKUP(O93,属性表!$H:$I,2,0)&\"#\"&配件表!P93)","v":"1#2105|2#17"},"异妖4","紫色"]
["配件10",10,3,6010,{"$f":"E84","v":2},5,65,{"$f":"[1]!SUMSTRING(D94:E94,\"#\")","v":{"$error":"#NAME?"}},{"$f":"[1]!SUMSTRING(F94:G94,\"#\")","v":{"$error":"#NAME?"}},{"$f":"[1]!SUMSTRING(H94:I94,\"|\")","v":{"$error":"#NAME?"}},"生命",3368,"攻击",28,null,null,{"$f":"IF(O94=\"\",VLOOKUP(K94,属性表!$H:$I,2,0)&\"#\"&配件表!L94&\"|\"&VLOOKUP(M94,属性表!$H:$I,2,0)&\"#\"&配件表!N94,VLOOKUP(K94,属性表!$H:$I,2,0)&\"#\"&配件表!L94&\"|\"&VLOOKUP(M94,属性表!$H:$I,2,0)&\"#\"&配件表!N94&\"|\"&VLOOKUP(O94,属性表!$H:$I,2,0)&\"#\"&配件表!P94)","v":"1#3368|2#28"},"异妖4","紫色"]
["配件10",10,4,6010,{"$f":"E85","v":2},5,100,{"$f":"[1]!SUMSTRING(D95:E95,\"#\")","v":{"$error":"#NAME?"}},{"$f":"[1]!SUMSTRING(F95:G95,\"#\")","v":{"$error":"#NAME?"}},{"$f":"[1]!SUMSTRING(H95:I95,\"|\")","v":{"$error":"#NAME?"}},"生命",5052,"攻击",42,null,null,{"$f":"IF(O95=\"\",VLOOKUP(K95,属性表!$H:$I,2,0)&\"#\"&配件表!L95&\"|\"&VLOOKUP(M95,属性表!$H:$I,2,0)&\"#\"&配件表!N95,VLOOKUP(K95,属性表!$H:$I,2,0)&\"#\"&配件表!L95&\"|\"&VLOOKUP(M95,属性表!$H:$I,2,0)&\"#\"&配件表!N95&\"|\"&VLOOKUP(O95,属性表!$H:$I,2,0)&\"#\"&配件表!P95)","v":"1#5052|2#42"},"异妖4","紫色"]
["配件10",10,5,6010,{"$f":"E86","v":3},5,135,{"$f":"[1]!SUMSTRING(D96:E96,\"#\")","v":{"$error":"#NAME?"}},{"$f":"[1]!SUMSTRING(F96:G96,\"#\")","v":{"$error":"#NAME?"}},{"$f":"[1]!SUMSTRING(H96:I96,\"|\")","v":{"$error":"#NAME?"}},"生命",7157,"攻击",59,null,null,{"$f":"IF(O96=\"\",VLOOKUP(K96,属性表!$H:$I,2,0)&\"#\"&配件表!L96&\"|\"&VLOOKUP(M96,属性表!$H:$I,2,0)&\"#\"&配件表!N96,VLOOKUP(K96,属性表!$H:$I,2,0)&\"#\"&配件表!L96&\"|\"&VLOOKUP(M96,属性表!$H:$I,2,0)&\"#\"&配件表!N96&\"|\"&VLOOKUP(O96,属性表!$H:$I,2,0)&\"#\"&配件表!P96)","v":"1#7157|2#59"},"异妖4","紫色"]
["配件10",10,6,6010,{"$f":"E87","v":3},5,180,{"$f":"[1]!SUMSTRING(D97:E97,\"#\")","v":{"$error":"#NAME?"}},{"$f":"[1]!SUMSTRING(F97:G97,\"#\")","v":{"$error":"#NAME?"}},{"$f":"[1]!SUMSTRING(H97:I97,\"|\")","v":{"$error":"#NAME?"}},"生命",9684,"攻击",80,null,null,{"$f":"IF(O97=\"\",VLOOKUP(K97,属性表!$H:$I,2,0)&\"#\"&配件表!L97&\"|\"&VLOOKUP(M97,属性表!$H:$I,2,0)&\"#\"&配件表!N97,VLOOKUP(K97,属性表!$H:$I,2,0)&\"#\"&配件表!L97&\"|\"&VLOOKUP(M97,属性表!$H:$I,2,0)&\"#\"&配件表!N97&\"|\"&VLOOKUP(O97,属性表!$H:$I,2,0)&\"#\"&配件表!P97)","v":"1#9684|2#80"},"异妖4","紫色"]
["配件10",10,7,6010,{"$f":"E88","v":4},5,235,{"$f":"[1]!SUMSTRING(D98:E98,\"#\")","v":{"$error":"#NAME?"}},{"$f":"[1]!SUMSTRING(F98:G98,\"#\")","v":{"$error":"#NAME?"}},{"$f":"[1]!SUMSTRING(H98:I98,\"|\")","v":{"$error":"#NAME?"}},"生命",12631,"攻击",105,null,null,{"$f":"IF(O98=\"\",VLOOKUP(K98,属性表!$H:$I,2,0)&\"#\"&配件表!L98&\"|\"&VLOOKUP(M98,属性表!$H:$I,2,0)&\"#\"&配件表!N98,VLOOKUP(K98,属性表!$H:$I,2,0)&\"#\"&配件表!L98&\"|\"&VLOOKUP(M98,属性表!$H:$I,2,0)&\"#\"&配件表!N98&\"|\"&VLOOKUP(O98,属性表!$H:$I,2,0)&\"#\"&配件表!P98)","v":"1#12631|2#105"},{"$f":"VLOOKUP(B98,$Y:$Z,2,0)","v":"异妖4"},{"$f":"VLOOKUP(R98,$Z:$AA,2,0)","v":"紫色"}]
["配件10",10,8,6010,{"$f":"E89","v":5},5,290,{"$f":"[1]!SUMSTRING(D99:E99,\"#\")","v":{"$error":"#NAME?"}},{"$f":"[1]!SUMSTRING(F99:G99,\"#\")","v":{"$error":"#NAME?"}},{"$f":"[1]!SUMSTRING(H99:I99,\"|\")","v":{"$error":"#NAME?"}},"生命",16000,"攻击",133,null,null,{"$f":"IF(O99=\"\",VLOOKUP(K99,属性表!$H:$I,2,0)&\"#\"&配件表!L99&\"|\"&VLOOKUP(M99,属性表!$H:$I,2,0)&\"#\"&配件表!N99,VLOOKUP(K99,属性表!$H:$I,2,0)&\"#\"&配件表!L99&\"|\"&VLOOKUP(M99,属性表!$H:$I,2,0)&\"#\"&配件表!N99&\"|\"&VLOOKUP(O99,属性表!$H:$I,2,0)&\"#\"&配件表!P99)","v":"1#16000|2#133"},"异妖4","紫色"]
["配件10",10,9,6010,{"$f":"E90","v":6},5,355,{"$f":"[1]!SUMSTRING(D100:E100,\"#\")","v":{"$error":"#NAME?"}},{"$f":"[1]!SUMSTRING(F100:G100,\"#\")","v":{"$error":"#NAME?"}},{"$f":"[1]!SUMSTRING(H100:I100,\"|\")","v":{"$error":"#NAME?"}},"生命",19789,"攻击",164,null,null,{"$f":"IF(O100=\"\",VLOOKUP(K100,属性表!$H:$I,2,0)&\"#\"&配件表!L100&\"|\"&VLOOKUP(M100,属性表!$H:$I,2,0)&\"#\"&配件表!N100,VLOOKUP(K100,属性表!$H:$I,2,0)&\"#\"&配件表!L100&\"|\"&VLOOKUP(M100,属性表!$H:$I,2,0)&\"#\"&配件表!N100&\"|\"&VLOOKUP(O100,属性表!$H:$I,2,0)&\"#\"&配件表!P100)","v":"1#19789|2#164"},"异妖4","紫色"]
["配件10",10,10,6010,{"$f":"E91","v":8},5,420,{"$f":"[1]!SUMSTRING(D101:E101,\"#\")","v":{"$error":"#NAME?"}},{"$f":"[1]!SUMSTRING(F101:G101,\"#\")","v":{"$error":"#NAME?"}},{"$f":"[1]!SUMSTRING(H101:I101,\"|\")","v":{"$error":"#NAME?"}},"生命",24000,"攻击",200,null,null,{"$f":"IF(O101=\"\",VLOOKUP(K101,属性表!$H:$I,2,0)&\"#\"&配件表!L101&\"|\"&VLOOKUP(M101,属性表!$H:$I,2,0)&\"#\"&配件表!N101,VLOOKUP(K101,属性表!$H:$I,2,0)&\"#\"&配件表!L101&\"|\"&VLOOKUP(M101,属性表!$H:$I,2,0)&\"#\"&配件表!N101&\"|\"&VLOOKUP(O101,属性表!$H:$I,2,0)&\"#\"&配件表!P101)","v":"1#24000|2#200"},"异妖4","紫色"]
["配件11",11,1,6011,{"$f":"E92","v":1},5,0,{"$f":"[1]!SUMSTRING(D102:E102,\"#\")","v":{"$error":"#NAME?"}},{"$f":"[1]!SUMSTRING(F102:G102,\"#\")","v":{"$error":"#NAME?"}},{"$f":"[1]!SUMSTRING(H102:I102,\"|\")","v":{"$error":"#NAME?"}},"生命",842,"效果抵抗",1,null,null,{"$f":"IF(O102=\"\",VLOOKUP(K102,属性表!$H:$I,2,0)&\"#\"&配件表!L102&\"|\"&VLOOKUP(M102,属性表!$H:$I,2,0)&\"#\"&配件表!N102,VLOOKUP(K102,属性表!$H:$I,2,0)&\"#\"&配件表!L102&\"|\"&VLOOKUP(M102,属性表!$H:$I,2,0)&\"#\"&配件表!N102&\"|\"&VLOOKUP(O102,属性表!$H:$I,2,0)&\"#\"&配件表!P102)","v":"1#842|54#1"},"异妖4","紫色"]
["配件11",11,2,6011,{"$f":"E93","v":1},5,40,{"$f":"[1]!SUMSTRING(D103:E103,\"#\")","v":{"$error":"#NAME?"}},{"$f":"[1]!SUMSTRING(F103:G103,\"#\")","v":{"$error":"#NAME?"}},{"$f":"[1]!SUMSTRING(H103:I103,\"|\")","v":{"$error":"#NAME?"}},"生命",2105,"效果抵抗",2,null,null,{"$f":"IF(O103=\"\",VLOOKUP(K103,属性表!$H:$I,2,0)&\"#\"&配件表!L103&\"|\"&VLOOKUP(M103,属性表!$H:$I,2,0)&\"#\"&配件表!N103,VLOOKUP(K103,属性表!$H:$I,2,0)&\"#\"&配件表!L103&\"|\"&VLOOKUP(M103,属性表!$H:$I,2,0)&\"#\"&配件表!N103&\"|\"&VLOOKUP(O103,属性表!$H:$I,2,0)&\"#\"&配件表!P103)","v":"1#2105|54#2"},"异妖4","紫色"]
["配件11",11,3,6011,{"$f":"E94","v":2},5,65,{"$f":"[1]!SUMSTRING(D104:E104,\"#\")","v":{"$error":"#NAME?"}},{"$f":"[1]!SUMSTRING(F104:G104,\"#\")","v":{"$error":"#NAME?"}},{"$f":"[1]!SUMSTRING(H104:I104,\"|\")","v":{"$error":"#NAME?"}},"生命",3368,"效果抵抗",4,null,null,{"$f":"IF(O104=\"\",VLOOKUP(K104,属性表!$H:$I,2,0)&\"#\"&配件表!L104&\"|\"&VLOOKUP(M104,属性表!$H:$I,2,0)&\"#\"&配件表!N104,VLOOKUP(K104,属性表!$H:$I,2,0)&\"#\"&配件表!L104&\"|\"&VLOOKUP(M104,属性表!$H:$I,2,0)&\"#\"&配件表!N104&\"|\"&VLOOKUP(O104,属性表!$H:$I,2,0)&\"#\"&配件表!P104)","v":"1#3368|54#4"},"异妖4","紫色"]
["配件11",11,4,6011,{"$f":"E95","v":2},5,100,{"$f":"[1]!SUMSTRING(D105:E105,\"#\")","v":{"$error":"#NAME?"}},{"$f":"[1]!SUMSTRING(F105:G105,\"#\")","v":{"$error":"#NAME?"}},{"$f":"[1]!SUMSTRING(H105:I105,\"|\")","v":{"$error":"#NAME?"}},"生命",5052,"效果抵抗",6,null,null,{"$f":"IF(O105=\"\",VLOOKUP(K105,属性表!$H:$I,2,0)&\"#\"&配件表!L105&\"|\"&VLOOKUP(M105,属性表!$H:$I,2,0)&\"#\"&配件表!N105,VLOOKUP(K105,属性表!$H:$I,2,0)&\"#\"&配件表!L105&\"|\"&VLOOKUP(M105,属性表!$H:$I,2,0)&\"#\"&配件表!N105&\"|\"&VLOOKUP(O105,属性表!$H:$I,2,0)&\"#\"&配件表!P105)","v":"1#5052|54#6"},"异妖4","紫色"]
["配件11",11,5,6011,{"$f":"E96","v":3},5,135,{"$f":"[1]!SUMSTRING(D106:E106,\"#\")","v":{"$error":"#NAME?"}},{"$f":"[1]!SUMSTRING(F106:G106,\"#\")","v":{"$error":"#NAME?"}},{"$f":"[1]!SUMSTRING(H106:I106,\"|\")","v":{"$error":"#NAME?"}},"生命",7157,"效果抵抗",9,null,null,{"$f":"IF(O106=\"\",VLOOKUP(K106,属性表!$H:$I,2,0)&\"#\"&配件表!L106&\"|\"&VLOOKUP(M106,属性表!$H:$I,2,0)&\"#\"&配件表!N106,VLOOKUP(K106,属性表!$H:$I,2,0)&\"#\"&配件表!L106&\"|\"&VLOOKUP(M106,属性表!$H:$I,2,0)&\"#\"&配件表!N106&\"|\"&VLOOKUP(O106,属性表!$H:$I,2,0)&\"#\"&配件表!P106)","v":"1#7157|54#9"},"异妖4","紫色"]
["配件11",11,6,6011,{"$f":"E97","v":3},5,180,{"$f":"[1]!SUMSTRING(D107:E107,\"#\")","v":{"$error":"#NAME?"}},{"$f":"[1]!SUMSTRING(F107:G107,\"#\")","v":{"$error":"#NAME?"}},{"$f":"[1]!SUMSTRING(H107:I107,\"|\")","v":{"$error":"#NAME?"}},"生命",9684,"效果抵抗",12,null,null,{"$f":"IF(O107=\"\",VLOOKUP(K107,属性表!$H:$I,2,0)&\"#\"&配件表!L107&\"|\"&VLOOKUP(M107,属性表!$H:$I,2,0)&\"#\"&配件表!N107,VLOOKUP(K107,属性表!$H:$I,2,0)&\"#\"&配件表!L107&\"|\"&VLOOKUP(M107,属性表!$H:$I,2,0)&\"#\"&配件表!N107&\"|\"&VLOOKUP(O107,属性表!$H:$I,2,0)&\"#\"&配件表!P107)","v":"1#9684|54#12"},"异妖4","紫色"]
["配件11",11,7,6011,{"$f":"E98","v":4},5,235,{"$f":"[1]!SUMSTRING(D108:E108,\"#\")","v":{"$error":"#NAME?"}},{"$f":"[1]!SUMSTRING(F108:G108,\"#\")","v":{"$error":"#NAME?"}},{"$f":"[1]!SUMSTRING(H108:I108,\"|\")","v":{"$error":"#NAME?"}},"生命",12631,"效果抵抗",16,null,null,{"$f":"IF(O108=\"\",VLOOKUP(K108,属性表!$H:$I,2,0)&\"#\"&配件表!L108&\"|\"&VLOOKUP(M108,属性表!$H:$I,2,0)&\"#\"&配件表!N108,VLOOKUP(K108,属性表!$H:$I,2,0)&\"#\"&配件表!L108&\"|\"&VLOOKUP(M108,属性表!$H:$I,2,0)&\"#\"&配件表!N108&\"|\"&VLOOKUP(O108,属性表!$H:$I,2,0)&\"#\"&配件表!P108)","v":"1#12631|54#16"},"异妖4","紫色"]
["配件11",11,8,6011,{"$f":"E99","v":5},5,290,{"$f":"[1]!SUMSTRING(D109:E109,\"#\")","v":{"$error":"#NAME?"}},{"$f":"[1]!SUMSTRING(F109:G109,\"#\")","v":{"$error":"#NAME?"}},{"$f":"[1]!SUMSTRING(H109:I109,\"|\")","v":{"$error":"#NAME?"}},"生命",16000,"效果抵抗",20,null,null,{"$f":"IF(O109=\"\",VLOOKUP(K109,属性表!$H:$I,2,0)&\"#\"&配件表!L109&\"|\"&VLOOKUP(M109,属性表!$H:$I,2,0)&\"#\"&配件表!N109,VLOOKUP(K109,属性表!$H:$I,2,0)&\"#\"&配件表!L109&\"|\"&VLOOKUP(M109,属性表!$H:$I,2,0)&\"#\"&配件表!N109&\"|\"&VLOOKUP(O109,属性表!$H:$I,2,0)&\"#\"&配件表!P109)","v":"1#16000|54#20"},"异妖4","紫色"]
["配件11",11,9,6011,{"$f":"E100","v":6},5,355,{"$f":"[1]!SUMSTRING(D110:E110,\"#\")","v":{"$error":"#NAME?"}},{"$f":"[1]!SUMSTRING(F110:G110,\"#\")","v":{"$error":"#NAME?"}},{"$f":"[1]!SUMSTRING(H110:I110,\"|\")","v":{"$error":"#NAME?"}},"生命",19789,"效果抵抗",25,null,null,{"$f":"IF(O110=\"\",VLOOKUP(K110,属性表!$H:$I,2,0)&\"#\"&配件表!L110&\"|\"&VLOOKUP(M110,属性表!$H:$I,2,0)&\"#\"&配件表!N110,VLOOKUP(K110,属性表!$H:$I,2,0)&\"#\"&配件表!L110&\"|\"&VLOOKUP(M110,属性表!$H:$I,2,0)&\"#\"&配件表!N110&\"|\"&VLOOKUP(O110,属性表!$H:$I,2,0)&\"#\"&配件表!P110)","v":"1#19789|54#25"},"异妖4","紫色"]
["配件11",11,10,6011,{"$f":"E101","v":8},5,420,{"$f":"[1]!SUMSTRING(D111:E111,\"#\")","v":{"$error":"#NAME?"}},{"$f":"[1]!SUMSTRING(F111:G111,\"#\")","v":{"$error":"#NAME?"}},{"$f":"[1]!SUMSTRING(H111:I111,\"|\")","v":{"$error":"#NAME?"}},"生命",24000,"效果抵抗",30,null,null,{"$f":"IF(O111=\"\",VLOOKUP(K111,属性表!$H:$I,2,0)&\"#\"&配件表!L111&\"|\"&VLOOKUP(M111,属性表!$H:$I,2,0)&\"#\"&配件表!N111,VLOOKUP(K111,属性表!$H:$I,2,0)&\"#\"&配件表!L111&\"|\"&VLOOKUP(M111,属性表!$H:$I,2,0)&\"#\"&配件表!N111&\"|\"&VLOOKUP(O111,属性表!$H:$I,2,0)&\"#\"&配件表!P111)","v":"1#24000|54#30"},"异妖4","紫色"]
["配件12",12,1,6012,{"$f":"E102","v":1},5,0,{"$f":"[1]!SUMSTRING(D112:E112,\"#\")","v":{"$error":"#NAME?"}},{"$f":"[1]!SUMSTRING(F112:G112,\"#\")","v":{"$error":"#NAME?"}},{"$f":"[1]!SUMSTRING(H112:I112,\"|\")","v":{"$error":"#NAME?"}},"攻击",7,"效果抵抗",1,null,{"$f":"IF(K112=\"生命\",L112,\"\")","v":""},{"$f":"IF(O112=\"\",VLOOKUP(K112,属性表!$H:$I,2,0)&\"#\"&配件表!L112&\"|\"&VLOOKUP(M112,属性表!$H:$I,2,0)&\"#\"&配件表!N112,VLOOKUP(K112,属性表!$H:$I,2,0)&\"#\"&配件表!L112&\"|\"&VLOOKUP(M112,属性表!$H:$I,2,0)&\"#\"&配件表!N112&\"|\"&VLOOKUP(O112,属性表!$H:$I,2,0)&\"#\"&配件表!P112)","v":"2#7|54#1"},"异妖4","紫色"]
["配件12",12,2,6012,{"$f":"E103","v":1},5,40,{"$f":"[1]!SUMSTRING(D113:E113,\"#\")","v":{"$error":"#NAME?"}},{"$f":"[1]!SUMSTRING(F113:G113,\"#\")","v":{"$error":"#NAME?"}},{"$f":"[1]!SUMSTRING(H113:I113,\"|\")","v":{"$error":"#NAME?"}},"攻击",17,"效果抵抗",2,null,"",{"$f":"IF(O113=\"\",VLOOKUP(K113,属性表!$H:$I,2,0)&\"#\"&配件表!L113&\"|\"&VLOOKUP(M113,属性表!$H:$I,2,0)&\"#\"&配件表!N113,VLOOKUP(K113,属性表!$H:$I,2,0)&\"#\"&配件表!L113&\"|\"&VLOOKUP(M113,属性表!$H:$I,2,0)&\"#\"&配件表!N113&\"|\"&VLOOKUP(O113,属性表!$H:$I,2,0)&\"#\"&配件表!P113)","v":"2#17|54#2"},"异妖4","紫色"]
["配件12",12,3,6012,{"$f":"E104","v":2},5,65,{"$f":"[1]!SUMSTRING(D114:E114,\"#\")","v":{"$error":"#NAME?"}},{"$f":"[1]!SUMSTRING(F114:G114,\"#\")","v":{"$error":"#NAME?"}},{"$f":"[1]!SUMSTRING(H114:I114,\"|\")","v":{"$error":"#NAME?"}},"攻击",28,"效果抵抗",4,null,"",{"$f":"IF(O114=\"\",VLOOKUP(K114,属性表!$H:$I,2,0)&\"#\"&配件表!L114&\"|\"&VLOOKUP(M114,属性表!$H:$I,2,0)&\"#\"&配件表!N114,VLOOKUP(K114,属性表!$H:$I,2,0)&\"#\"&配件表!L114&\"|\"&VLOOKUP(M114,属性表!$H:$I,2,0)&\"#\"&配件表!N114&\"|\"&VLOOKUP(O114,属性表!$H:$I,2,0)&\"#\"&配件表!P114)","v":"2#28|54#4"},"异妖4","紫色"]
["配件12",12,4,6012,{"$f":"E105","v":2},5,100,{"$f":"[1]!SUMSTRING(D115:E115,\"#\")","v":{"$error":"#NAME?"}},{"$f":"[1]!SUMSTRING(F115:G115,\"#\")","v":{"$error":"#NAME?"}},{"$f":"[1]!SUMSTRING(H115:I115,\"|\")","v":{"$error":"#NAME?"}},"攻击",42,"效果抵抗",6,null,"",{"$f":"IF(O115=\"\",VLOOKUP(K115,属性表!$H:$I,2,0)&\"#\"&配件表!L115&\"|\"&VLOOKUP(M115,属性表!$H:$I,2,0)&\"#\"&配件表!N115,VLOOKUP(K115,属性表!$H:$I,2,0)&\"#\"&配件表!L115&\"|\"&VLOOKUP(M115,属性表!$H:$I,2,0)&\"#\"&配件表!N115&\"|\"&VLOOKUP(O115,属性表!$H:$I,2,0)&\"#\"&配件表!P115)","v":"2#42|54#6"},"异妖4","紫色"]
["配件12",12,5,6012,{"$f":"E106","v":3},5,135,{"$f":"[1]!SUMSTRING(D116:E116,\"#\")","v":{"$error":"#NAME?"}},{"$f":"[1]!SUMSTRING(F116:G116,\"#\")","v":{"$error":"#NAME?"}},{"$f":"[1]!SUMSTRING(H116:I116,\"|\")","v":{"$error":"#NAME?"}},"攻击",59,"效果抵抗",9,null,"",{"$f":"IF(O116=\"\",VLOOKUP(K116,属性表!$H:$I,2,0)&\"#\"&配件表!L116&\"|\"&VLOOKUP(M116,属性表!$H:$I,2,0)&\"#\"&配件表!N116,VLOOKUP(K116,属性表!$H:$I,2,0)&\"#\"&配件表!L116&\"|\"&VLOOKUP(M116,属性表!$H:$I,2,0)&\"#\"&配件表!N116&\"|\"&VLOOKUP(O116,属性表!$H:$I,2,0)&\"#\"&配件表!P116)","v":"2#59|54#9"},"异妖4","紫色"]
["配件12",12,6,6012,{"$f":"E107","v":3},5,180,{"$f":"[1]!SUMSTRING(D117:E117,\"#\")","v":{"$error":"#NAME?"}},{"$f":"[1]!SUMSTRING(F117:G117,\"#\")","v":{"$error":"#NAME?"}},{"$f":"[1]!SUMSTRING(H117:I117,\"|\")","v":{"$error":"#NAME?"}},"攻击",80,"效果抵抗",12,null,"",{"$f":"IF(O117=\"\",VLOOKUP(K117,属性表!$H:$I,2,0)&\"#\"&配件表!L117&\"|\"&VLOOKUP(M117,属性表!$H:$I,2,0)&\"#\"&配件表!N117,VLOOKUP(K117,属性表!$H:$I,2,0)&\"#\"&配件表!L117&\"|\"&VLOOKUP(M117,属性表!$H:$I,2,0)&\"#\"&配件表!N117&\"|\"&VLOOKUP(O117,属性表!$H:$I,2,0)&\"#\"&配件表!P117)","v":"2#80|54#12"},"异妖4","紫色"]
["配件12",12,7,6012,{"$f":"E108","v":4},5,235,{"$f":"[1]!SUMSTRING(D118:E118,\"#\")","v":{"$error":"#NAME?"}},{"$f":"[1]!SUMSTRING(F118:G118,\"#\")","v":{"$error":"#NAME?"}},{"$f":"[1]!SUMSTRING(H118:I118,\"|\")","v":{"$error":"#NAME?"}},"攻击",105,"效果抵抗",16,null,"",{"$f":"IF(O118=\"\",VLOOKUP(K118,属性表!$H:$I,2,0)&\"#\"&配件表!L118&\"|\"&VLOOKUP(M118,属性表!$H:$I,2,0)&\"#\"&配件表!N118,VLOOKUP(K118,属性表!$H:$I,2,0)&\"#\"&配件表!L118&\"|\"&VLOOKUP(M118,属性表!$H:$I,2,0)&\"#\"&配件表!N118&\"|\"&VLOOKUP(O118,属性表!$H:$I,2,0)&\"#\"&配件表!P118)","v":"2#105|54#16"},"异妖4","紫色"]
["配件12",12,8,6012,{"$f":"E109","v":5},5,290,{"$f":"[1]!SUMSTRING(D119:E119,\"#\")","v":{"$error":"#NAME?"}},{"$f":"[1]!SUMSTRING(F119:G119,\"#\")","v":{"$error":"#NAME?"}},{"$f":"[1]!SUMSTRING(H119:I119,\"|\")","v":{"$error":"#NAME?"}},"攻击",133,"效果抵抗",20,null,"",{"$f":"IF(O119=\"\",VLOOKUP(K119,属性表!$H:$I,2,0)&\"#\"&配件表!L119&\"|\"&VLOOKUP(M119,属性表!$H:$I,2,0)&\"#\"&配件表!N119,VLOOKUP(K119,属性表!$H:$I,2,0)&\"#\"&配件表!L119&\"|\"&VLOOKUP(M119,属性表!$H:$I,2,0)&\"#\"&配件表!N119&\"|\"&VLOOKUP(O119,属性表!$H:$I,2,0)&\"#\"&配件表!P119)","v":"2#133|54#20"},"异妖4","紫色"]
["配件12",12,9,6012,{"$f":"E110","v":6},5,355,{"$f":"[1]!SUMSTRING(D120:E120,\"#\")","v":{"$error":"#NAME?"}},{"$f":"[1]!SUMSTRING(F120:G120,\"#\")","v":{"$error":"#NAME?"}},{"$f":"[1]!SUMSTRING(H120:I120,\"|\")","v":{"$error":"#NAME?"}},"攻击",164,"效果抵抗",25,null,"",{"$f":"IF(O120=\"\",VLOOKUP(K120,属性表!$H:$I,2,0)&\"#\"&配件表!L120&\"|\"&VLOOKUP(M120,属性表!$H:$I,2,0)&\"#\"&配件表!N120,VLOOKUP(K120,属性表!$H:$I,2,0)&\"#\"&配件表!L120&\"|\"&VLOOKUP(M120,属性表!$H:$I,2,0)&\"#\"&配件表!N120&\"|\"&VLOOKUP(O120,属性表!$H:$I,2,0)&\"#\"&配件表!P120)","v":"2#164|54#25"},"异妖4","紫色"]
["配件12",12,10,6012,{"$f":"E111","v":8},5,420,{"$f":"[1]!SUMSTRING(D121:E121,\"#\")","v":{"$error":"#NAME?"}},{"$f":"[1]!SUMSTRING(F121:G121,\"#\")","v":{"$error":"#NAME?"}},{"$f":"[1]!SUMSTRING(H121:I121,\"|\")","v":{"$error":"#NAME?"}},"攻击",200,"效果抵抗",30,null,"",{"$f":"IF(O121=\"\",VLOOKUP(K121,属性表!$H:$I,2,0)&\"#\"&配件表!L121&\"|\"&VLOOKUP(M121,属性表!$H:$I,2,0)&\"#\"&配件表!N121,VLOOKUP(K121,属性表!$H:$I,2,0)&\"#\"&配件表!L121&\"|\"&VLOOKUP(M121,属性表!$H:$I,2,0)&\"#\"&配件表!N121&\"|\"&VLOOKUP(O121,属性表!$H:$I,2,0)&\"#\"&配件表!P121)","v":"2#200|54#30"},"异妖4","紫色"]
["配件13",13,1,6013,{"$f":"E112","v":1},5,0,{"$f":"[1]!SUMSTRING(D122:E122,\"#\")","v":{"$error":"#NAME?"}},{"$f":"[1]!SUMSTRING(F122:G122,\"#\")","v":{"$error":"#NAME?"}},{"$f":"[1]!SUMSTRING(H122:I122,\"|\")","v":{"$error":"#NAME?"}},"生命",1347,"攻击",11,null,null,{"$f":"IF(O122=\"\",VLOOKUP(K122,属性表!$H:$I,2,0)&\"#\"&配件表!L122&\"|\"&VLOOKUP(M122,属性表!$H:$I,2,0)&\"#\"&配件表!N122,VLOOKUP(K122,属性表!$H:$I,2,0)&\"#\"&配件表!L122&\"|\"&VLOOKUP(M122,属性表!$H:$I,2,0)&\"#\"&配件表!N122&\"|\"&VLOOKUP(O122,属性表!$H:$I,2,0)&\"#\"&配件表!P122)","v":"1#1347|2#11"},{"$f":"VLOOKUP(B122,$Y:$Z,2,0)","v":"异妖5"},{"$f":"VLOOKUP(R122,$Z:$AA,2,0)","v":"橙色"}]
["配件13",13,2,6013,{"$f":"E113","v":1},5,40,{"$f":"[1]!SUMSTRING(D123:E123,\"#\")","v":{"$error":"#NAME?"}},{"$f":"[1]!SUMSTRING(F123:G123,\"#\")","v":{"$error":"#NAME?"}},{"$f":"[1]!SUMSTRING(H123:I123,\"|\")","v":{"$error":"#NAME?"}},"生命",3368,"攻击",28,"火攻（%）",2,{"$f":"IF(O123=\"\",VLOOKUP(K123,属性表!$H:$I,2,0)&\"#\"&配件表!L123&\"|\"&VLOOKUP(M123,属性表!$H:$I,2,0)&\"#\"&配件表!N123,VLOOKUP(K123,属性表!$H:$I,2,0)&\"#\"&配件表!L123&\"|\"&VLOOKUP(M123,属性表!$H:$I,2,0)&\"#\"&配件表!N123&\"|\"&VLOOKUP(O123,属性表!$H:$I,2,0)&\"#\"&配件表!P123)","v":"1#3368|2#28|101#2"},"异妖5","橙色"]
["配件13",13,3,6013,{"$f":"E114","v":2},5,65,{"$f":"[1]!SUMSTRING(D124:E124,\"#\")","v":{"$error":"#NAME?"}},{"$f":"[1]!SUMSTRING(F124:G124,\"#\")","v":{"$error":"#NAME?"}},{"$f":"[1]!SUMSTRING(H124:I124,\"|\")","v":{"$error":"#NAME?"}},"生命",5389,"攻击",44,null,null,{"$f":"IF(O124=\"\",VLOOKUP(K124,属性表!$H:$I,2,0)&\"#\"&配件表!L124&\"|\"&VLOOKUP(M124,属性表!$H:$I,2,0)&\"#\"&配件表!N124,VLOOKUP(K124,属性表!$H:$I,2,0)&\"#\"&配件表!L124&\"|\"&VLOOKUP(M124,属性表!$H:$I,2,0)&\"#\"&配件表!N124&\"|\"&VLOOKUP(O124,属性表!$H:$I,2,0)&\"#\"&配件表!P124)","v":"1#5389|2#44"},"异妖5","橙色"]
["配件13",13,4,6013,{"$f":"E115","v":2},5,100,{"$f":"[1]!SUMSTRING(D125:E125,\"#\")","v":{"$error":"#NAME?"}},{"$f":"[1]!SUMSTRING(F125:G125,\"#\")","v":{"$error":"#NAME?"}},{"$f":"[1]!SUMSTRING(H125:I125,\"|\")","v":{"$error":"#NAME?"}},"生命",8084,"攻击",67,"火攻（%）",6,{"$f":"IF(O125=\"\",VLOOKUP(K125,属性表!$H:$I,2,0)&\"#\"&配件表!L125&\"|\"&VLOOKUP(M125,属性表!$H:$I,2,0)&\"#\"&配件表!N125,VLOOKUP(K125,属性表!$H:$I,2,0)&\"#\"&配件表!L125&\"|\"&VLOOKUP(M125,属性表!$H:$I,2,0)&\"#\"&配件表!N125&\"|\"&VLOOKUP(O125,属性表!$H:$I,2,0)&\"#\"&配件表!P125)","v":"1#8084|2#67|101#6"},"异妖5","橙色"]
["配件13",13,5,6013,{"$f":"E116","v":3},5,135,{"$f":"[1]!SUMSTRING(D126:E126,\"#\")","v":{"$error":"#NAME?"}},{"$f":"[1]!SUMSTRING(F126:G126,\"#\")","v":{"$error":"#NAME?"}},{"$f":"[1]!SUMSTRING(H126:I126,\"|\")","v":{"$error":"#NAME?"}},"生命",11452,"攻击",95,null,null,{"$f":"IF(O126=\"\",VLOOKUP(K126,属性表!$H:$I,2,0)&\"#\"&配件表!L126&\"|\"&VLOOKUP(M126,属性表!$H:$I,2,0)&\"#\"&配件表!N126,VLOOKUP(K126,属性表!$H:$I,2,0)&\"#\"&配件表!L126&\"|\"&VLOOKUP(M126,属性表!$H:$I,2,0)&\"#\"&配件表!N126&\"|\"&VLOOKUP(O126,属性表!$H:$I,2,0)&\"#\"&配件表!P126)","v":"1#11452|2#95"},"异妖5","橙色"]
["配件13",13,6,6013,{"$f":"E117","v":3},5,180,{"$f":"[1]!SUMSTRING(D127:E127,\"#\")","v":{"$error":"#NAME?"}},{"$f":"[1]!SUMSTRING(F127:G127,\"#\")","v":{"$error":"#NAME?"}},{"$f":"[1]!SUMSTRING(H127:I127,\"|\")","v":{"$error":"#NAME?"}},"生命",15494,"攻击",129,"火攻（%）",12,{"$f":"IF(O127=\"\",VLOOKUP(K127,属性表!$H:$I,2,0)&\"#\"&配件表!L127&\"|\"&VLOOKUP(M127,属性表!$H:$I,2,0)&\"#\"&配件表!N127,VLOOKUP(K127,属性表!$H:$I,2,0)&\"#\"&配件表!L127&\"|\"&VLOOKUP(M127,属性表!$H:$I,2,0)&\"#\"&配件表!N127&\"|\"&VLOOKUP(O127,属性表!$H:$I,2,0)&\"#\"&配件表!P127)","v":"1#15494|2#129|101#12"},"异妖5","橙色"]
["配件13",13,7,6013,{"$f":"E118","v":4},5,235,{"$f":"[1]!SUMSTRING(D128:E128,\"#\")","v":{"$error":"#NAME?"}},{"$f":"[1]!SUMSTRING(F128:G128,\"#\")","v":{"$error":"#NAME?"}},{"$f":"[1]!SUMSTRING(H128:I128,\"|\")","v":{"$error":"#NAME?"}},"生命",20210,"攻击",168,null,null,{"$f":"IF(O128=\"\",VLOOKUP(K128,属性表!$H:$I,2,0)&\"#\"&配件表!L128&\"|\"&VLOOKUP(M128,属性表!$H:$I,2,0)&\"#\"&配件表!N128,VLOOKUP(K128,属性表!$H:$I,2,0)&\"#\"&配件表!L128&\"|\"&VLOOKUP(M128,属性表!$H:$I,2,0)&\"#\"&配件表!N128&\"|\"&VLOOKUP(O128,属性表!$H:$I,2,0)&\"#\"&配件表!P128)","v":"1#20210|2#168"},"异妖5","橙色"]
["配件13",13,8,6013,{"$f":"E119","v":5},5,290,{"$f":"[1]!SUMSTRING(D129:E129,\"#\")","v":{"$error":"#NAME?"}},{"$f":"[1]!SUMSTRING(F129:G129,\"#\")","v":{"$error":"#NAME?"}},{"$f":"[1]!SUMSTRING(H129:I129,\"|\")","v":{"$error":"#NAME?"}},"生命",25600,"攻击",213,"火攻（%）",20,{"$f":"IF(O129=\"\",VLOOKUP(K129,属性表!$H:$I,2,0)&\"#\"&配件表!L129&\"|\"&VLOOKUP(M129,属性表!$H:$I,2,0)&\"#\"&配件表!N129,VLOOKUP(K129,属性表!$H:$I,2,0)&\"#\"&配件表!L129&\"|\"&VLOOKUP(M129,属性表!$H:$I,2,0)&\"#\"&配件表!N129&\"|\"&VLOOKUP(O129,属性表!$H:$I,2,0)&\"#\"&配件表!P129)","v":"1#25600|2#213|101#20"},"异妖5","橙色"]
["配件13",13,9,6013,{"$f":"E120","v":6},5,355,{"$f":"[1]!SUMSTRING(D130:E130,\"#\")","v":{"$error":"#NAME?"}},{"$f":"[1]!SUMSTRING(F130:G130,\"#\")","v":{"$error":"#NAME?"}},{"$f":"[1]!SUMSTRING(H130:I130,\"|\")","v":{"$error":"#NAME?"}},"生命",31663,"攻击",263,null,null,{"$f":"IF(O130=\"\",VLOOKUP(K130,属性表!$H:$I,2,0)&\"#\"&配件表!L130&\"|\"&VLOOKUP(M130,属性表!$H:$I,2,0)&\"#\"&配件表!N130,VLOOKUP(K130,属性表!$H:$I,2,0)&\"#\"&配件表!L130&\"|\"&VLOOKUP(M130,属性表!$H:$I,2,0)&\"#\"&配件表!N130&\"|\"&VLOOKUP(O130,属性表!$H:$I,2,0)&\"#\"&配件表!P130)","v":"1#31663|2#263"},"异妖5","橙色"]
[{"$f":"\"配件\"&B131","v":"配件13"},13,10,6013,{"$f":"E121","v":8},5,420,{"$f":"[1]!SUMSTRING(D131:E131,\"#\")","v":{"$error":"#NAME?"}},{"$f":"[1]!SUMSTRING(F131:G131,\"#\")","v":{"$error":"#NAME?"}},{"$f":"[1]!SUMSTRING(H131:I131,\"|\")","v":{"$error":"#NAME?"}},"生命",38400,"攻击",320,"火攻（%）",30,{"$f":"IF(O131=\"\",VLOOKUP(K131,属性表!$H:$I,2,0)&\"#\"&配件表!L131&\"|\"&VLOOKUP(M131,属性表!$H:$I,2,0)&\"#\"&配件表!N131,VLOOKUP(K131,属性表!$H:$I,2,0)&\"#\"&配件表!L131&\"|\"&VLOOKUP(M131,属性表!$H:$I,2,0)&\"#\"&配件表!N131&\"|\"&VLOOKUP(O131,属性表!$H:$I,2,0)&\"#\"&配件表!P131)","v":"1#38400|2#320|101#30"},"异妖5","橙色"]
["配件14",14,1,6014,{"$f":"E122","v":1},5,0,{"$f":"[1]!SUMSTRING(D132:E132,\"#\")","v":{"$error":"#NAME?"}},{"$f":"[1]!SUMSTRING(F132:G132,\"#\")","v":{"$error":"#NAME?"}},{"$f":"[1]!SUMSTRING(H132:I132,\"|\")","v":{"$error":"#NAME?"}},"生命",1347,"攻击",11,null,null,{"$f":"IF(O132=\"\",VLOOKUP(K132,属性表!$H:$I,2,0)&\"#\"&配件表!L132&\"|\"&VLOOKUP(M132,属性表!$H:$I,2,0)&\"#\"&配件表!N132,VLOOKUP(K132,属性表!$H:$I,2,0)&\"#\"&配件表!L132&\"|\"&VLOOKUP(M132,属性表!$H:$I,2,0)&\"#\"&配件表!N132&\"|\"&VLOOKUP(O132,属性表!$H:$I,2,0)&\"#\"&配件表!P132)","v":"1#1347|2#11"},"异妖5","橙色"]
["配件14",14,2,6014,{"$f":"E123","v":1},5,40,{"$f":"[1]!SUMSTRING(D133:E133,\"#\")","v":{"$error":"#NAME?"}},{"$f":"[1]!SUMSTRING(F133:G133,\"#\")","v":{"$error":"#NAME?"}},{"$f":"[1]!SUMSTRING(H133:I133,\"|\")","v":{"$error":"#NAME?"}},"生命",3368,"攻击",28,"水攻（%）",2,{"$f":"IF(O133=\"\",VLOOKUP(K133,属性表!$H:$I,2,0)&\"#\"&配件表!L133&\"|\"&VLOOKUP(M133,属性表!$H:$I,2,0)&\"#\"&配件表!N133,VLOOKUP(K133,属性表!$H:$I,2,0)&\"#\"&配件表!L133&\"|\"&VLOOKUP(M133,属性表!$H:$I,2,0)&\"#\"&配件表!N133&\"|\"&VLOOKUP(O133,属性表!$H:$I,2,0)&\"#\"&配件表!P133)","v":"1#3368|2#28|103#2"},"异妖5","橙色"]
["配件14",14,3,6014,{"$f":"E124","v":2},5,65,{"$f":"[1]!SUMSTRING(D134:E134,\"#\")","v":{"$error":"#NAME?"}},{"$f":"[1]!SUMSTRING(F134:G134,\"#\")","v":{"$error":"#NAME?"}},{"$f":"[1]!SUMSTRING(H134:I134,\"|\")","v":{"$error":"#NAME?"}},"生命",5389,"攻击",44,null,null,{"$f":"IF(O134=\"\",VLOOKUP(K134,属性表!$H:$I,2,0)&\"#\"&配件表!L134&\"|\"&VLOOKUP(M134,属性表!$H:$I,2,0)&\"#\"&配件表!N134,VLOOKUP(K134,属性表!$H:$I,2,0)&\"#\"&配件表!L134&\"|\"&VLOOKUP(M134,属性表!$H:$I,2,0)&\"#\"&配件表!N134&\"|\"&VLOOKUP(O134,属性表!$H:$I,2,0)&\"#\"&配件表!P134)","v":"1#5389|2#44"},"异妖5","橙色"]
["配件14",14,4,6014,{"$f":"E125","v":2},5,100,{"$f":"[1]!SUMSTRING(D135:E135,\"#\")","v":{"$error":"#NAME?"}},{"$f":"[1]!SUMSTRING(F135:G135,\"#\")","v":{"$error":"#NAME?"}},{"$f":"[1]!SUMSTRING(H135:I135,\"|\")","v":{"$error":"#NAME?"}},"生命",8084,"攻击",67,"水攻（%）",6,{"$f":"IF(O135=\"\",VLOOKUP(K135,属性表!$H:$I,2,0)&\"#\"&配件表!L135&\"|\"&VLOOKUP(M135,属性表!$H:$I,2,0)&\"#\"&配件表!N135,VLOOKUP(K135,属性表!$H:$I,2,0)&\"#\"&配件表!L135&\"|\"&VLOOKUP(M135,属性表!$H:$I,2,0)&\"#\"&配件表!N135&\"|\"&VLOOKUP(O135,属性表!$H:$I,2,0)&\"#\"&配件表!P135)","v":"1#8084|2#67|103#6"},"异妖5","橙色"]
["配件14",14,5,6014,{"$f":"E126","v":3},5,135,{"$f":"[1]!SUMSTRING(D136:E136,\"#\")","v":{"$error":"#NAME?"}},{"$f":"[1]!SUMSTRING(F136:G136,\"#\")","v":{"$error":"#NAME?"}},{"$f":"[1]!SUMSTRING(H136:I136,\"|\")","v":{"$error":"#NAME?"}},"生命",11452,"攻击",95,null,null,{"$f":"IF(O136=\"\",VLOOKUP(K136,属性表!$H:$I,2,0)&\"#\"&配件表!L136&\"|\"&VLOOKUP(M136,属性表!$H:$I,2,0)&\"#\"&配件表!N136,VLOOKUP(K136,属性表!$H:$I,2,0)&\"#\"&配件表!L136&\"|\"&VLOOKUP(M136,属性表!$H:$I,2,0)&\"#\"&配件表!N136&\"|\"&VLOOKUP(O136,属性表!$H:$I,2,0)&\"#\"&配件表!P136)","v":"1#11452|2#95"},"异妖5","橙色"]
["配件14",14,6,6014,{"$f":"E127","v":3},5,180,{"$f":"[1]!SUMSTRING(D137:E137,\"#\")","v":{"$error":"#NAME?"}},{"$f":"[1]!SUMSTRING(F137:G137,\"#\")","v":{"$error":"#NAME?"}},{"$f":"[1]!SUMSTRING(H137:I137,\"|\")","v":{"$error":"#NAME?"}},"生命",15494,"攻击",129,"水攻（%）",12,{"$f":"IF(O137=\"\",VLOOKUP(K137,属性表!$H:$I,2,0)&\"#\"&配件表!L137&\"|\"&VLOOKUP(M137,属性表!$H:$I,2,0)&\"#\"&配件表!N137,VLOOKUP(K137,属性表!$H:$I,2,0)&\"#\"&配件表!L137&\"|\"&VLOOKUP(M137,属性表!$H:$I,2,0)&\"#\"&配件表!N137&\"|\"&VLOOKUP(O137,属性表!$H:$I,2,0)&\"#\"&配件表!P137)","v":"1#15494|2#129|103#12"},"异妖5","橙色"]
["配件14",14,7,6014,{"$f":"E128","v":4},5,235,{"$f":"[1]!SUMSTRING(D138:E138,\"#\")","v":{"$error":"#NAME?"}},{"$f":"[1]!SUMSTRING(F138:G138,\"#\")","v":{"$error":"#NAME?"}},{"$f":"[1]!SUMSTRING(H138:I138,\"|\")","v":{"$error":"#NAME?"}},"生命",20210,"攻击",168,null,null,{"$f":"IF(O138=\"\",VLOOKUP(K138,属性表!$H:$I,2,0)&\"#\"&配件表!L138&\"|\"&VLOOKUP(M138,属性表!$H:$I,2,0)&\"#\"&配件表!N138,VLOOKUP(K138,属性表!$H:$I,2,0)&\"#\"&配件表!L138&\"|\"&VLOOKUP(M138,属性表!$H:$I,2,0)&\"#\"&配件表!N138&\"|\"&VLOOKUP(O138,属性表!$H:$I,2,0)&\"#\"&配件表!P138)","v":"1#20210|2#168"},"异妖5","橙色"]
["配件14",14,8,6014,{"$f":"E129","v":5},5,290,{"$f":"[1]!SUMSTRING(D139:E139,\"#\")","v":{"$error":"#NAME?"}},{"$f":"[1]!SUMSTRING(F139:G139,\"#\")","v":{"$error":"#NAME?"}},{"$f":"[1]!SUMSTRING(H139:I139,\"|\")","v":{"$error":"#NAME?"}},"生命",25600,"攻击",213,"水攻（%）",20,{"$f":"IF(O139=\"\",VLOOKUP(K139,属性表!$H:$I,2,0)&\"#\"&配件表!L139&\"|\"&VLOOKUP(M139,属性表!$H:$I,2,0)&\"#\"&配件表!N139,VLOOKUP(K139,属性表!$H:$I,2,0)&\"#\"&配件表!L139&\"|\"&VLOOKUP(M139,属性表!$H:$I,2,0)&\"#\"&配件表!N139&\"|\"&VLOOKUP(O139,属性表!$H:$I,2,0)&\"#\"&配件表!P139)","v":"1#25600|2#213|103#20"},"异妖5","橙色"]
["配件14",14,9,6014,{"$f":"E130","v":6},5,355,{"$f":"[1]!SUMSTRING(D140:E140,\"#\")","v":{"$error":"#NAME?"}},{"$f":"[1]!SUMSTRING(F140:G140,\"#\")","v":{"$error":"#NAME?"}},{"$f":"[1]!SUMSTRING(H140:I140,\"|\")","v":{"$error":"#NAME?"}},"生命",31663,"攻击",263,null,null,{"$f":"IF(O140=\"\",VLOOKUP(K140,属性表!$H:$I,2,0)&\"#\"&配件表!L140&\"|\"&VLOOKUP(M140,属性表!$H:$I,2,0)&\"#\"&配件表!N140,VLOOKUP(K140,属性表!$H:$I,2,0)&\"#\"&配件表!L140&\"|\"&VLOOKUP(M140,属性表!$H:$I,2,0)&\"#\"&配件表!N140&\"|\"&VLOOKUP(O140,属性表!$H:$I,2,0)&\"#\"&配件表!P140)","v":"1#31663|2#263"},"异妖5","橙色"]
["配件14",{"$f":"B131+1","v":14},{"$f":"C131","v":10},{"$f":"D131+1","v":6014},{"$f":"E131","v":8},5,420,{"$f":"[1]!SUMSTRING(D141:E141,\"#\")","v":{"$error":"#NAME?"}},{"$f":"[1]!SUMSTRING(F141:G141,\"#\")","v":{"$error":"#NAME?"}},{"$f":"[1]!SUMSTRING(H141:I141,\"|\")","v":{"$error":"#NAME?"}},"生命",38400,"攻击",320,"水攻（%）",30,{"$f":"IF(O141=\"\",VLOOKUP(K141,属性表!$H:$I,2,0)&\"#\"&配件表!L141&\"|\"&VLOOKUP(M141,属性表!$H:$I,2,0)&\"#\"&配件表!N141,VLOOKUP(K141,属性表!$H:$I,2,0)&\"#\"&配件表!L141&\"|\"&VLOOKUP(M141,属性表!$H:$I,2,0)&\"#\"&配件表!N141&\"|\"&VLOOKUP(O141,属性表!$H:$I,2,0)&\"#\"&配件表!P141)","v":"1#38400|2#320|103#30"},"异妖5","橙色"]
["配件15",15,1,6015,{"$f":"E132","v":1},5,0,{"$f":"[1]!SUMSTRING(D142:E142,\"#\")","v":{"$error":"#NAME?"}},{"$f":"[1]!SUMSTRING(F142:G142,\"#\")","v":{"$error":"#NAME?"}},{"$f":"[1]!SUMSTRING(H142:I142,\"|\")","v":{"$error":"#NAME?"}},"生命",1347,"攻击",11,null,null,{"$f":"IF(O142=\"\",VLOOKUP(K142,属性表!$H:$I,2,0)&\"#\"&配件表!L142&\"|\"&VLOOKUP(M142,属性表!$H:$I,2,0)&\"#\"&配件表!N142,VLOOKUP(K142,属性表!$H:$I,2,0)&\"#\"&配件表!L142&\"|\"&VLOOKUP(M142,属性表!$H:$I,2,0)&\"#\"&配件表!N142&\"|\"&VLOOKUP(O142,属性表!$H:$I,2,0)&\"#\"&配件表!P142)","v":"1#1347|2#11"},"异妖5","橙色"]
["配件15",15,2,6015,{"$f":"E133","v":1},5,40,{"$f":"[1]!SUMSTRING(D143:E143,\"#\")","v":{"$error":"#NAME?"}},{"$f":"[1]!SUMSTRING(F143:G143,\"#\")","v":{"$error":"#NAME?"}},{"$f":"[1]!SUMSTRING(H143:I143,\"|\")","v":{"$error":"#NAME?"}},"生命",3368,"攻击",28,"地攻（%）",2,{"$f":"IF(O143=\"\",VLOOKUP(K143,属性表!$H:$I,2,0)&\"#\"&配件表!L143&\"|\"&VLOOKUP(M143,属性表!$H:$I,2,0)&\"#\"&配件表!N143,VLOOKUP(K143,属性表!$H:$I,2,0)&\"#\"&配件表!L143&\"|\"&VLOOKUP(M143,属性表!$H:$I,2,0)&\"#\"&配件表!N143&\"|\"&VLOOKUP(O143,属性表!$H:$I,2,0)&\"#\"&配件表!P143)","v":"1#3368|2#28|104#2"},"异妖5","橙色"]
["配件15",15,3,6015,{"$f":"E134","v":2},5,65,{"$f":"[1]!SUMSTRING(D144:E144,\"#\")","v":{"$error":"#NAME?"}},{"$f":"[1]!SUMSTRING(F144:G144,\"#\")","v":{"$error":"#NAME?"}},{"$f":"[1]!SUMSTRING(H144:I144,\"|\")","v":{"$error":"#NAME?"}},"生命",5389,"攻击",44,null,null,{"$f":"IF(O144=\"\",VLOOKUP(K144,属性表!$H:$I,2,0)&\"#\"&配件表!L144&\"|\"&VLOOKUP(M144,属性表!$H:$I,2,0)&\"#\"&配件表!N144,VLOOKUP(K144,属性表!$H:$I,2,0)&\"#\"&配件表!L144&\"|\"&VLOOKUP(M144,属性表!$H:$I,2,0)&\"#\"&配件表!N144&\"|\"&VLOOKUP(O144,属性表!$H:$I,2,0)&\"#\"&配件表!P144)","v":"1#5389|2#44"},"异妖5","橙色"]
["配件15",15,4,6015,{"$f":"E135","v":2},5,100,{"$f":"[1]!SUMSTRING(D145:E145,\"#\")","v":{"$error":"#NAME?"}},{"$f":"[1]!SUMSTRING(F145:G145,\"#\")","v":{"$error":"#NAME?"}},{"$f":"[1]!SUMSTRING(H145:I145,\"|\")","v":{"$error":"#NAME?"}},"生命",8084,"攻击",67,"地攻（%）",6,{"$f":"IF(O145=\"\",VLOOKUP(K145,属性表!$H:$I,2,0)&\"#\"&配件表!L145&\"|\"&VLOOKUP(M145,属性表!$H:$I,2,0)&\"#\"&配件表!N145,VLOOKUP(K145,属性表!$H:$I,2,0)&\"#\"&配件表!L145&\"|\"&VLOOKUP(M145,属性表!$H:$I,2,0)&\"#\"&配件表!N145&\"|\"&VLOOKUP(O145,属性表!$H:$I,2,0)&\"#\"&配件表!P145)","v":"1#8084|2#67|104#6"},"异妖5","橙色"]
["配件15",15,5,6015,{"$f":"E136","v":3},5,135,{"$f":"[1]!SUMSTRING(D146:E146,\"#\")","v":{"$error":"#NAME?"}},{"$f":"[1]!SUMSTRING(F146:G146,\"#\")","v":{"$error":"#NAME?"}},{"$f":"[1]!SUMSTRING(H146:I146,\"|\")","v":{"$error":"#NAME?"}},"生命",11452,"攻击",95,null,null,{"$f":"IF(O146=\"\",VLOOKUP(K146,属性表!$H:$I,2,0)&\"#\"&配件表!L146&\"|\"&VLOOKUP(M146,属性表!$H:$I,2,0)&\"#\"&配件表!N146,VLOOKUP(K146,属性表!$H:$I,2,0)&\"#\"&配件表!L146&\"|\"&VLOOKUP(M146,属性表!$H:$I,2,0)&\"#\"&配件表!N146&\"|\"&VLOOKUP(O146,属性表!$H:$I,2,0)&\"#\"&配件表!P146)","v":"1#11452|2#95"},"异妖5","橙色"]
["配件15",15,6,6015,{"$f":"E137","v":3},5,180,{"$f":"[1]!SUMSTRING(D147:E147,\"#\")","v":{"$error":"#NAME?"}},{"$f":"[1]!SUMSTRING(F147:G147,\"#\")","v":{"$error":"#NAME?"}},{"$f":"[1]!SUMSTRING(H147:I147,\"|\")","v":{"$error":"#NAME?"}},"生命",15494,"攻击",129,"地攻（%）",12,{"$f":"IF(O147=\"\",VLOOKUP(K147,属性表!$H:$I,2,0)&\"#\"&配件表!L147&\"|\"&VLOOKUP(M147,属性表!$H:$I,2,0)&\"#\"&配件表!N147,VLOOKUP(K147,属性表!$H:$I,2,0)&\"#\"&配件表!L147&\"|\"&VLOOKUP(M147,属性表!$H:$I,2,0)&\"#\"&配件表!N147&\"|\"&VLOOKUP(O147,属性表!$H:$I,2,0)&\"#\"&配件表!P147)","v":"1#15494|2#129|104#12"},"异妖5","橙色"]
["配件15",15,7,6015,{"$f":"E138","v":4},5,235,{"$f":"[1]!SUMSTRING(D148:E148,\"#\")","v":{"$error":"#NAME?"}},{"$f":"[1]!SUMSTRING(F148:G148,\"#\")","v":{"$error":"#NAME?"}},{"$f":"[1]!SUMSTRING(H148:I148,\"|\")","v":{"$error":"#NAME?"}},"生命",20210,"攻击",168,null,null,{"$f":"IF(O148=\"\",VLOOKUP(K148,属性表!$H:$I,2,0)&\"#\"&配件表!L148&\"|\"&VLOOKUP(M148,属性表!$H:$I,2,0)&\"#\"&配件表!N148,VLOOKUP(K148,属性表!$H:$I,2,0)&\"#\"&配件表!L148&\"|\"&VLOOKUP(M148,属性表!$H:$I,2,0)&\"#\"&配件表!N148&\"|\"&VLOOKUP(O148,属性表!$H:$I,2,0)&\"#\"&配件表!P148)","v":"1#20210|2#168"},"异妖5","橙色"]
["配件15",15,8,6015,{"$f":"E139","v":5},5,290,{"$f":"[1]!SUMSTRING(D149:E149,\"#\")","v":{"$error":"#NAME?"}},{"$f":"[1]!SUMSTRING(F149:G149,\"#\")","v":{"$error":"#NAME?"}},{"$f":"[1]!SUMSTRING(H149:I149,\"|\")","v":{"$error":"#NAME?"}},"生命",25600,"攻击",213,"地攻（%）",20,{"$f":"IF(O149=\"\",VLOOKUP(K149,属性表!$H:$I,2,0)&\"#\"&配件表!L149&\"|\"&VLOOKUP(M149,属性表!$H:$I,2,0)&\"#\"&配件表!N149,VLOOKUP(K149,属性表!$H:$I,2,0)&\"#\"&配件表!L149&\"|\"&VLOOKUP(M149,属性表!$H:$I,2,0)&\"#\"&配件表!N149&\"|\"&VLOOKUP(O149,属性表!$H:$I,2,0)&\"#\"&配件表!P149)","v":"1#25600|2#213|104#20"},"异妖5","橙色"]
["配件15",15,9,6015,{"$f":"E140","v":6},5,355,{"$f":"[1]!SUMSTRING(D150:E150,\"#\")","v":{"$error":"#NAME?"}},{"$f":"[1]!SUMSTRING(F150:G150,\"#\")","v":{"$error":"#NAME?"}},{"$f":"[1]!SUMSTRING(H150:I150,\"|\")","v":{"$error":"#NAME?"}},"生命",31663,"攻击",263,null,null,{"$f":"IF(O150=\"\",VLOOKUP(K150,属性表!$H:$I,2,0)&\"#\"&配件表!L150&\"|\"&VLOOKUP(M150,属性表!$H:$I,2,0)&\"#\"&配件表!N150,VLOOKUP(K150,属性表!$H:$I,2,0)&\"#\"&配件表!L150&\"|\"&VLOOKUP(M150,属性表!$H:$I,2,0)&\"#\"&配件表!N150&\"|\"&VLOOKUP(O150,属性表!$H:$I,2,0)&\"#\"&配件表!P150)","v":"1#31663|2#263"},"异妖5","橙色"]
["配件15",15,10,6015,{"$f":"E141","v":8},5,420,{"$f":"[1]!SUMSTRING(D151:E151,\"#\")","v":{"$error":"#NAME?"}},{"$f":"[1]!SUMSTRING(F151:G151,\"#\")","v":{"$error":"#NAME?"}},{"$f":"[1]!SUMSTRING(H151:I151,\"|\")","v":{"$error":"#NAME?"}},"生命",38400,"攻击",320,"地攻（%）",30,{"$f":"IF(O151=\"\",VLOOKUP(K151,属性表!$H:$I,2,0)&\"#\"&配件表!L151&\"|\"&VLOOKUP(M151,属性表!$H:$I,2,0)&\"#\"&配件表!N151,VLOOKUP(K151,属性表!$H:$I,2,0)&\"#\"&配件表!L151&\"|\"&VLOOKUP(M151,属性表!$H:$I,2,0)&\"#\"&配件表!N151&\"|\"&VLOOKUP(O151,属性表!$H:$I,2,0)&\"#\"&配件表!P151)","v":"1#38400|2#320|104#30"},"异妖5","橙色"]
["配件16",16,1,6016,{"$f":"E142","v":1},5,0,{"$f":"[1]!SUMSTRING(D152:E152,\"#\")","v":{"$error":"#NAME?"}},{"$f":"[1]!SUMSTRING(F152:G152,\"#\")","v":{"$error":"#NAME?"}},{"$f":"[1]!SUMSTRING(H152:I152,\"|\")","v":{"$error":"#NAME?"}},"生命",1347,"攻击",11,null,null,{"$f":"IF(O152=\"\",VLOOKUP(K152,属性表!$H:$I,2,0)&\"#\"&配件表!L152&\"|\"&VLOOKUP(M152,属性表!$H:$I,2,0)&\"#\"&配件表!N152,VLOOKUP(K152,属性表!$H:$I,2,0)&\"#\"&配件表!L152&\"|\"&VLOOKUP(M152,属性表!$H:$I,2,0)&\"#\"&配件表!N152&\"|\"&VLOOKUP(O152,属性表!$H:$I,2,0)&\"#\"&配件表!P152)","v":"1#1347|2#11"},"异妖5","橙色"]
["配件16",16,2,6016,{"$f":"E143","v":1},5,40,{"$f":"[1]!SUMSTRING(D153:E153,\"#\")","v":{"$error":"#NAME?"}},{"$f":"[1]!SUMSTRING(F153:G153,\"#\")","v":{"$error":"#NAME?"}},{"$f":"[1]!SUMSTRING(H153:I153,\"|\")","v":{"$error":"#NAME?"}},"生命",3368,"攻击",28,"风攻（%）",2,{"$f":"IF(O153=\"\",VLOOKUP(K153,属性表!$H:$I,2,0)&\"#\"&配件表!L153&\"|\"&VLOOKUP(M153,属性表!$H:$I,2,0)&\"#\"&配件表!N153,VLOOKUP(K153,属性表!$H:$I,2,0)&\"#\"&配件表!L153&\"|\"&VLOOKUP(M153,属性表!$H:$I,2,0)&\"#\"&配件表!N153&\"|\"&VLOOKUP(O153,属性表!$H:$I,2,0)&\"#\"&配件表!P153)","v":"1#3368|2#28|102#2"},"异妖5","橙色"]
["配件16",16,3,6016,{"$f":"E144","v":2},5,65,{"$f":"[1]!SUMSTRING(D154:E154,\"#\")","v":{"$error":"#NAME?"}},{"$f":"[1]!SUMSTRING(F154:G154,\"#\")","v":{"$error":"#NAME?"}},{"$f":"[1]!SUMSTRING(H154:I154,\"|\")","v":{"$error":"#NAME?"}},"生命",5389,"攻击",44,null,null,{"$f":"IF(O154=\"\",VLOOKUP(K154,属性表!$H:$I,2,0)&\"#\"&配件表!L154&\"|\"&VLOOKUP(M154,属性表!$H:$I,2,0)&\"#\"&配件表!N154,VLOOKUP(K154,属性表!$H:$I,2,0)&\"#\"&配件表!L154&\"|\"&VLOOKUP(M154,属性表!$H:$I,2,0)&\"#\"&配件表!N154&\"|\"&VLOOKUP(O154,属性表!$H:$I,2,0)&\"#\"&配件表!P154)","v":"1#5389|2#44"},"异妖5","橙色"]
["配件16",16,4,6016,{"$f":"E145","v":2},5,100,{"$f":"[1]!SUMSTRING(D155:E155,\"#\")","v":{"$error":"#NAME?"}},{"$f":"[1]!SUMSTRING(F155:G155,\"#\")","v":{"$error":"#NAME?"}},{"$f":"[1]!SUMSTRING(H155:I155,\"|\")","v":{"$error":"#NAME?"}},"生命",8084,"攻击",67,"风攻（%）",6,{"$f":"IF(O155=\"\",VLOOKUP(K155,属性表!$H:$I,2,0)&\"#\"&配件表!L155&\"|\"&VLOOKUP(M155,属性表!$H:$I,2,0)&\"#\"&配件表!N155,VLOOKUP(K155,属性表!$H:$I,2,0)&\"#\"&配件表!L155&\"|\"&VLOOKUP(M155,属性表!$H:$I,2,0)&\"#\"&配件表!N155&\"|\"&VLOOKUP(O155,属性表!$H:$I,2,0)&\"#\"&配件表!P155)","v":"1#8084|2#67|102#6"},"异妖5","橙色"]
["配件16",16,5,6016,{"$f":"E146","v":3},5,135,{"$f":"[1]!SUMSTRING(D156:E156,\"#\")","v":{"$error":"#NAME?"}},{"$f":"[1]!SUMSTRING(F156:G156,\"#\")","v":{"$error":"#NAME?"}},{"$f":"[1]!SUMSTRING(H156:I156,\"|\")","v":{"$error":"#NAME?"}},"生命",11452,"攻击",95,null,null,{"$f":"IF(O156=\"\",VLOOKUP(K156,属性表!$H:$I,2,0)&\"#\"&配件表!L156&\"|\"&VLOOKUP(M156,属性表!$H:$I,2,0)&\"#\"&配件表!N156,VLOOKUP(K156,属性表!$H:$I,2,0)&\"#\"&配件表!L156&\"|\"&VLOOKUP(M156,属性表!$H:$I,2,0)&\"#\"&配件表!N156&\"|\"&VLOOKUP(O156,属性表!$H:$I,2,0)&\"#\"&配件表!P156)","v":"1#11452|2#95"},"异妖5","橙色"]
["配件16",16,6,6016,{"$f":"E147","v":3},5,180,{"$f":"[1]!SUMSTRING(D157:E157,\"#\")","v":{"$error":"#NAME?"}},{"$f":"[1]!SUMSTRING(F157:G157,\"#\")","v":{"$error":"#NAME?"}},{"$f":"[1]!SUMSTRING(H157:I157,\"|\")","v":{"$error":"#NAME?"}},"生命",15494,"攻击",129,"风攻（%）",12,{"$f":"IF(O157=\"\",VLOOKUP(K157,属性表!$H:$I,2,0)&\"#\"&配件表!L157&\"|\"&VLOOKUP(M157,属性表!$H:$I,2,0)&\"#\"&配件表!N157,VLOOKUP(K157,属性表!$H:$I,2,0)&\"#\"&配件表!L157&\"|\"&VLOOKUP(M157,属性表!$H:$I,2,0)&\"#\"&配件表!N157&\"|\"&VLOOKUP(O157,属性表!$H:$I,2,0)&\"#\"&配件表!P157)","v":"1#15494|2#129|102#12"},"异妖5","橙色"]
["配件16",16,7,6016,{"$f":"E148","v":4},5,235,{"$f":"[1]!SUMSTRING(D158:E158,\"#\")","v":{"$error":"#NAME?"}},{"$f":"[1]!SUMSTRING(F158:G158,\"#\")","v":{"$error":"#NAME?"}},{"$f":"[1]!SUMSTRING(H158:I158,\"|\")","v":{"$error":"#NAME?"}},"生命",20210,"攻击",168,null,null,{"$f":"IF(O158=\"\",VLOOKUP(K158,属性表!$H:$I,2,0)&\"#\"&配件表!L158&\"|\"&VLOOKUP(M158,属性表!$H:$I,2,0)&\"#\"&配件表!N158,VLOOKUP(K158,属性表!$H:$I,2,0)&\"#\"&配件表!L158&\"|\"&VLOOKUP(M158,属性表!$H:$I,2,0)&\"#\"&配件表!N158&\"|\"&VLOOKUP(O158,属性表!$H:$I,2,0)&\"#\"&配件表!P158)","v":"1#20210|2#168"},"异妖5","橙色"]
["配件16",16,8,6016,{"$f":"E149","v":5},5,290,{"$f":"[1]!SUMSTRING(D159:E159,\"#\")","v":{"$error":"#NAME?"}},{"$f":"[1]!SUMSTRING(F159:G159,\"#\")","v":{"$error":"#NAME?"}},{"$f":"[1]!SUMSTRING(H159:I159,\"|\")","v":{"$error":"#NAME?"}},"生命",25600,"攻击",213,"风攻（%）",20,{"$f":"IF(O159=\"\",VLOOKUP(K159,属性表!$H:$I,2,0)&\"#\"&配件表!L159&\"|\"&VLOOKUP(M159,属性表!$H:$I,2,0)&\"#\"&配件表!N159,VLOOKUP(K159,属性表!$H:$I,2,0)&\"#\"&配件表!L159&\"|\"&VLOOKUP(M159,属性表!$H:$I,2,0)&\"#\"&配件表!N159&\"|\"&VLOOKUP(O159,属性表!$H:$I,2,0)&\"#\"&配件表!P159)","v":"1#25600|2#213|102#20"},"异妖5","橙色"]
["配件16",16,9,6016,{"$f":"E150","v":6},5,355,{"$f":"[1]!SUMSTRING(D160:E160,\"#\")","v":{"$error":"#NAME?"}},{"$f":"[1]!SUMSTRING(F160:G160,\"#\")","v":{"$error":"#NAME?"}},{"$f":"[1]!SUMSTRING(H160:I160,\"|\")","v":{"$error":"#NAME?"}},"生命",31663,"攻击",263,null,null,{"$f":"IF(O160=\"\",VLOOKUP(K160,属性表!$H:$I,2,0)&\"#\"&配件表!L160&\"|\"&VLOOKUP(M160,属性表!$H:$I,2,0)&\"#\"&配件表!N160,VLOOKUP(K160,属性表!$H:$I,2,0)&\"#\"&配件表!L160&\"|\"&VLOOKUP(M160,属性表!$H:$I,2,0)&\"#\"&配件表!N160&\"|\"&VLOOKUP(O160,属性表!$H:$I,2,0)&\"#\"&配件表!P160)","v":"1#31663|2#263"},"异妖5","橙色"]
["配件16",16,10,6016,{"$f":"E151","v":8},5,420,{"$f":"[1]!SUMSTRING(D161:E161,\"#\")","v":{"$error":"#NAME?"}},{"$f":"[1]!SUMSTRING(F161:G161,\"#\")","v":{"$error":"#NAME?"}},{"$f":"[1]!SUMSTRING(H161:I161,\"|\")","v":{"$error":"#NAME?"}},"生命",38400,"攻击",320,"风攻（%）",30,{"$f":"IF(O161=\"\",VLOOKUP(K161,属性表!$H:$I,2,0)&\"#\"&配件表!L161&\"|\"&VLOOKUP(M161,属性表!$H:$I,2,0)&\"#\"&配件表!N161,VLOOKUP(K161,属性表!$H:$I,2,0)&\"#\"&配件表!L161&\"|\"&VLOOKUP(M161,属性表!$H:$I,2,0)&\"#\"&配件表!N161&\"|\"&VLOOKUP(O161,属性表!$H:$I,2,0)&\"#\"&配件表!P161)","v":"1#38400|2#320|102#30"},"异妖5","橙色"]
["配件17",17,1,6017,{"$f":"E152","v":1},5,0,{"$f":"[1]!SUMSTRING(D162:E162,\"#\")","v":{"$error":"#NAME?"}},{"$f":"[1]!SUMSTRING(F162:G162,\"#\")","v":{"$error":"#NAME?"}},{"$f":"[1]!SUMSTRING(H162:I162,\"|\")","v":{"$error":"#NAME?"}},"生命",1347,"攻击",11,null,null,{"$f":"IF(O162=\"\",VLOOKUP(K162,属性表!$H:$I,2,0)&\"#\"&配件表!L162&\"|\"&VLOOKUP(M162,属性表!$H:$I,2,0)&\"#\"&配件表!N162,VLOOKUP(K162,属性表!$H:$I,2,0)&\"#\"&配件表!L162&\"|\"&VLOOKUP(M162,属性表!$H:$I,2,0)&\"#\"&配件表!N162&\"|\"&VLOOKUP(O162,属性表!$H:$I,2,0)&\"#\"&配件表!P162)","v":"1#1347|2#11"},"异妖6","橙色"]
["配件17",17,2,6017,{"$f":"E153","v":1},5,40,{"$f":"[1]!SUMSTRING(D163:E163,\"#\")","v":{"$error":"#NAME?"}},{"$f":"[1]!SUMSTRING(F163:G163,\"#\")","v":{"$error":"#NAME?"}},{"$f":"[1]!SUMSTRING(H163:I163,\"|\")","v":{"$error":"#NAME?"}},"生命",3368,"攻击",28,"火抗（%）",2,{"$f":"IF(O163=\"\",VLOOKUP(K163,属性表!$H:$I,2,0)&\"#\"&配件表!L163&\"|\"&VLOOKUP(M163,属性表!$H:$I,2,0)&\"#\"&配件表!N163,VLOOKUP(K163,属性表!$H:$I,2,0)&\"#\"&配件表!L163&\"|\"&VLOOKUP(M163,属性表!$H:$I,2,0)&\"#\"&配件表!N163&\"|\"&VLOOKUP(O163,属性表!$H:$I,2,0)&\"#\"&配件表!P163)","v":"1#3368|2#28|107#2"},"异妖6","橙色"]
["配件17",17,3,6017,{"$f":"E154","v":2},5,65,{"$f":"[1]!SUMSTRING(D164:E164,\"#\")","v":{"$error":"#NAME?"}},{"$f":"[1]!SUMSTRING(F164:G164,\"#\")","v":{"$error":"#NAME?"}},{"$f":"[1]!SUMSTRING(H164:I164,\"|\")","v":{"$error":"#NAME?"}},"生命",5389,"攻击",44,null,null,{"$f":"IF(O164=\"\",VLOOKUP(K164,属性表!$H:$I,2,0)&\"#\"&配件表!L164&\"|\"&VLOOKUP(M164,属性表!$H:$I,2,0)&\"#\"&配件表!N164,VLOOKUP(K164,属性表!$H:$I,2,0)&\"#\"&配件表!L164&\"|\"&VLOOKUP(M164,属性表!$H:$I,2,0)&\"#\"&配件表!N164&\"|\"&VLOOKUP(O164,属性表!$H:$I,2,0)&\"#\"&配件表!P164)","v":"1#5389|2#44"},"异妖6","橙色"]
["配件17",17,4,6017,{"$f":"E155","v":2},5,100,{"$f":"[1]!SUMSTRING(D165:E165,\"#\")","v":{"$error":"#NAME?"}},{"$f":"[1]!SUMSTRING(F165:G165,\"#\")","v":{"$error":"#NAME?"}},{"$f":"[1]!SUMSTRING(H165:I165,\"|\")","v":{"$error":"#NAME?"}},"生命",8084,"攻击",67,"火抗（%）",6,{"$f":"IF(O165=\"\",VLOOKUP(K165,属性表!$H:$I,2,0)&\"#\"&配件表!L165&\"|\"&VLOOKUP(M165,属性表!$H:$I,2,0)&\"#\"&配件表!N165,VLOOKUP(K165,属性表!$H:$I,2,0)&\"#\"&配件表!L165&\"|\"&VLOOKUP(M165,属性表!$H:$I,2,0)&\"#\"&配件表!N165&\"|\"&VLOOKUP(O165,属性表!$H:$I,2,0)&\"#\"&配件表!P165)","v":"1#8084|2#67|107#6"},"异妖6","橙色"]
["配件17",17,5,6017,{"$f":"E156","v":3},5,135,{"$f":"[1]!SUMSTRING(D166:E166,\"#\")","v":{"$error":"#NAME?"}},{"$f":"[1]!SUMSTRING(F166:G166,\"#\")","v":{"$error":"#NAME?"}},{"$f":"[1]!SUMSTRING(H166:I166,\"|\")","v":{"$error":"#NAME?"}},"生命",11452,"攻击",95,null,null,{"$f":"IF(O166=\"\",VLOOKUP(K166,属性表!$H:$I,2,0)&\"#\"&配件表!L166&\"|\"&VLOOKUP(M166,属性表!$H:$I,2,0)&\"#\"&配件表!N166,VLOOKUP(K166,属性表!$H:$I,2,0)&\"#\"&配件表!L166&\"|\"&VLOOKUP(M166,属性表!$H:$I,2,0)&\"#\"&配件表!N166&\"|\"&VLOOKUP(O166,属性表!$H:$I,2,0)&\"#\"&配件表!P166)","v":"1#11452|2#95"},"异妖6","橙色"]
["配件17",17,6,6017,{"$f":"E157","v":3},5,180,{"$f":"[1]!SUMSTRING(D167:E167,\"#\")","v":{"$error":"#NAME?"}},{"$f":"[1]!SUMSTRING(F167:G167,\"#\")","v":{"$error":"#NAME?"}},{"$f":"[1]!SUMSTRING(H167:I167,\"|\")","v":{"$error":"#NAME?"}},"生命",15494,"攻击",129,"火抗（%）",12,{"$f":"IF(O167=\"\",VLOOKUP(K167,属性表!$H:$I,2,0)&\"#\"&配件表!L167&\"|\"&VLOOKUP(M167,属性表!$H:$I,2,0)&\"#\"&配件表!N167,VLOOKUP(K167,属性表!$H:$I,2,0)&\"#\"&配件表!L167&\"|\"&VLOOKUP(M167,属性表!$H:$I,2,0)&\"#\"&配件表!N167&\"|\"&VLOOKUP(O167,属性表!$H:$I,2,0)&\"#\"&配件表!P167)","v":"1#15494|2#129|107#12"},"异妖6","橙色"]
["配件17",17,7,6017,{"$f":"E158","v":4},5,235,{"$f":"[1]!SUMSTRING(D168:E168,\"#\")","v":{"$error":"#NAME?"}},{"$f":"[1]!SUMSTRING(F168:G168,\"#\")","v":{"$error":"#NAME?"}},{"$f":"[1]!SUMSTRING(H168:I168,\"|\")","v":{"$error":"#NAME?"}},"生命",20210,"攻击",168,null,null,{"$f":"IF(O168=\"\",VLOOKUP(K168,属性表!$H:$I,2,0)&\"#\"&配件表!L168&\"|\"&VLOOKUP(M168,属性表!$H:$I,2,0)&\"#\"&配件表!N168,VLOOKUP(K168,属性表!$H:$I,2,0)&\"#\"&配件表!L168&\"|\"&VLOOKUP(M168,属性表!$H:$I,2,0)&\"#\"&配件表!N168&\"|\"&VLOOKUP(O168,属性表!$H:$I,2,0)&\"#\"&配件表!P168)","v":"1#20210|2#168"},"异妖6","橙色"]
["配件17",17,8,6017,{"$f":"E159","v":5},5,290,{"$f":"[1]!SUMSTRING(D169:E169,\"#\")","v":{"$error":"#NAME?"}},{"$f":"[1]!SUMSTRING(F169:G169,\"#\")","v":{"$error":"#NAME?"}},{"$f":"[1]!SUMSTRING(H169:I169,\"|\")","v":{"$error":"#NAME?"}},"生命",25600,"攻击",213,"火抗（%）",20,{"$f":"IF(O169=\"\",VLOOKUP(K169,属性表!$H:$I,2,0)&\"#\"&配件表!L169&\"|\"&VLOOKUP(M169,属性表!$H:$I,2,0)&\"#\"&配件表!N169,VLOOKUP(K169,属性表!$H:$I,2,0)&\"#\"&配件表!L169&\"|\"&VLOOKUP(M169,属性表!$H:$I,2,0)&\"#\"&配件表!N169&\"|\"&VLOOKUP(O169,属性表!$H:$I,2,0)&\"#\"&配件表!P169)","v":"1#25600|2#213|107#20"},"异妖6","橙色"]
["配件17",17,9,6017,{"$f":"E160","v":6},5,355,{"$f":"[1]!SUMSTRING(D170:E170,\"#\")","v":{"$error":"#NAME?"}},{"$f":"[1]!SUMSTRING(F170:G170,\"#\")","v":{"$error":"#NAME?"}},{"$f":"[1]!SUMSTRING(H170:I170,\"|\")","v":{"$error":"#NAME?"}},"生命",31663,"攻击",263,null,null,{"$f":"IF(O170=\"\",VLOOKUP(K170,属性表!$H:$I,2,0)&\"#\"&配件表!L170&\"|\"&VLOOKUP(M170,属性表!$H:$I,2,0)&\"#\"&配件表!N170,VLOOKUP(K170,属性表!$H:$I,2,0)&\"#\"&配件表!L170&\"|\"&VLOOKUP(M170,属性表!$H:$I,2,0)&\"#\"&配件表!N170&\"|\"&VLOOKUP(O170,属性表!$H:$I,2,0)&\"#\"&配件表!P170)","v":"1#31663|2#263"},"异妖6","橙色"]
["配件17",17,10,6017,{"$f":"E161","v":8},5,420,{"$f":"[1]!SUMSTRING(D171:E171,\"#\")","v":{"$error":"#NAME?"}},{"$f":"[1]!SUMSTRING(F171:G171,\"#\")","v":{"$error":"#NAME?"}},{"$f":"[1]!SUMSTRING(H171:I171,\"|\")","v":{"$error":"#NAME?"}},"生命",38400,"攻击",320,"火抗（%）",30,{"$f":"IF(O171=\"\",VLOOKUP(K171,属性表!$H:$I,2,0)&\"#\"&配件表!L171&\"|\"&VLOOKUP(M171,属性表!$H:$I,2,0)&\"#\"&配件表!N171,VLOOKUP(K171,属性表!$H:$I,2,0)&\"#\"&配件表!L171&\"|\"&VLOOKUP(M171,属性表!$H:$I,2,0)&\"#\"&配件表!N171&\"|\"&VLOOKUP(O171,属性表!$H:$I,2,0)&\"#\"&配件表!P171)","v":"1#38400|2#320|107#30"},"异妖6","橙色"]
["配件18",18,1,6018,{"$f":"E162","v":1},5,0,{"$f":"[1]!SUMSTRING(D172:E172,\"#\")","v":{"$error":"#NAME?"}},{"$f":"[1]!SUMSTRING(F172:G172,\"#\")","v":{"$error":"#NAME?"}},{"$f":"[1]!SUMSTRING(H172:I172,\"|\")","v":{"$error":"#NAME?"}},"生命",1347,"攻击",11,null,null,{"$f":"IF(O172=\"\",VLOOKUP(K172,属性表!$H:$I,2,0)&\"#\"&配件表!L172&\"|\"&VLOOKUP(M172,属性表!$H:$I,2,0)&\"#\"&配件表!N172,VLOOKUP(K172,属性表!$H:$I,2,0)&\"#\"&配件表!L172&\"|\"&VLOOKUP(M172,属性表!$H:$I,2,0)&\"#\"&配件表!N172&\"|\"&VLOOKUP(O172,属性表!$H:$I,2,0)&\"#\"&配件表!P172)","v":"1#1347|2#11"},"异妖6","橙色"]
["配件18",18,2,6018,{"$f":"E163","v":1},5,40,{"$f":"[1]!SUMSTRING(D173:E173,\"#\")","v":{"$error":"#NAME?"}},{"$f":"[1]!SUMSTRING(F173:G173,\"#\")","v":{"$error":"#NAME?"}},{"$f":"[1]!SUMSTRING(H173:I173,\"|\")","v":{"$error":"#NAME?"}},"生命",3368,"攻击",28,"水抗（%）",2,{"$f":"IF(O173=\"\",VLOOKUP(K173,属性表!$H:$I,2,0)&\"#\"&配件表!L173&\"|\"&VLOOKUP(M173,属性表!$H:$I,2,0)&\"#\"&配件表!N173,VLOOKUP(K173,属性表!$H:$I,2,0)&\"#\"&配件表!L173&\"|\"&VLOOKUP(M173,属性表!$H:$I,2,0)&\"#\"&配件表!N173&\"|\"&VLOOKUP(O173,属性表!$H:$I,2,0)&\"#\"&配件表!P173)","v":"1#3368|2#28|109#2"},"异妖6","橙色"]
["配件18",18,3,6018,{"$f":"E164","v":2},5,65,{"$f":"[1]!SUMSTRING(D174:E174,\"#\")","v":{"$error":"#NAME?"}},{"$f":"[1]!SUMSTRING(F174:G174,\"#\")","v":{"$error":"#NAME?"}},{"$f":"[1]!SUMSTRING(H174:I174,\"|\")","v":{"$error":"#NAME?"}},"生命",5389,"攻击",44,null,null,{"$f":"IF(O174=\"\",VLOOKUP(K174,属性表!$H:$I,2,0)&\"#\"&配件表!L174&\"|\"&VLOOKUP(M174,属性表!$H:$I,2,0)&\"#\"&配件表!N174,VLOOKUP(K174,属性表!$H:$I,2,0)&\"#\"&配件表!L174&\"|\"&VLOOKUP(M174,属性表!$H:$I,2,0)&\"#\"&配件表!N174&\"|\"&VLOOKUP(O174,属性表!$H:$I,2,0)&\"#\"&配件表!P174)","v":"1#5389|2#44"},"异妖6","橙色"]
["配件18",18,4,6018,{"$f":"E165","v":2},5,100,{"$f":"[1]!SUMSTRING(D175:E175,\"#\")","v":{"$error":"#NAME?"}},{"$f":"[1]!SUMSTRING(F175:G175,\"#\")","v":{"$error":"#NAME?"}},{"$f":"[1]!SUMSTRING(H175:I175,\"|\")","v":{"$error":"#NAME?"}},"生命",8084,"攻击",67,"水抗（%）",6,{"$f":"IF(O175=\"\",VLOOKUP(K175,属性表!$H:$I,2,0)&\"#\"&配件表!L175&\"|\"&VLOOKUP(M175,属性表!$H:$I,2,0)&\"#\"&配件表!N175,VLOOKUP(K175,属性表!$H:$I,2,0)&\"#\"&配件表!L175&\"|\"&VLOOKUP(M175,属性表!$H:$I,2,0)&\"#\"&配件表!N175&\"|\"&VLOOKUP(O175,属性表!$H:$I,2,0)&\"#\"&配件表!P175)","v":"1#8084|2#67|109#6"},"异妖6","橙色"]
["配件18",18,5,6018,{"$f":"E166","v":3},5,135,{"$f":"[1]!SUMSTRING(D176:E176,\"#\")","v":{"$error":"#NAME?"}},{"$f":"[1]!SUMSTRING(F176:G176,\"#\")","v":{"$error":"#NAME?"}},{"$f":"[1]!SUMSTRING(H176:I176,\"|\")","v":{"$error":"#NAME?"}},"生命",11452,"攻击",95,null,null,{"$f":"IF(O176=\"\",VLOOKUP(K176,属性表!$H:$I,2,0)&\"#\"&配件表!L176&\"|\"&VLOOKUP(M176,属性表!$H:$I,2,0)&\"#\"&配件表!N176,VLOOKUP(K176,属性表!$H:$I,2,0)&\"#\"&配件表!L176&\"|\"&VLOOKUP(M176,属性表!$H:$I,2,0)&\"#\"&配件表!N176&\"|\"&VLOOKUP(O176,属性表!$H:$I,2,0)&\"#\"&配件表!P176)","v":"1#11452|2#95"},"异妖6","橙色"]
["配件18",18,6,6018,{"$f":"E167","v":3},5,180,{"$f":"[1]!SUMSTRING(D177:E177,\"#\")","v":{"$error":"#NAME?"}},{"$f":"[1]!SUMSTRING(F177:G177,\"#\")","v":{"$error":"#NAME?"}},{"$f":"[1]!SUMSTRING(H177:I177,\"|\")","v":{"$error":"#NAME?"}},"生命",15494,"攻击",129,"水抗（%）",12,{"$f":"IF(O177=\"\",VLOOKUP(K177,属性表!$H:$I,2,0)&\"#\"&配件表!L177&\"|\"&VLOOKUP(M177,属性表!$H:$I,2,0)&\"#\"&配件表!N177,VLOOKUP(K177,属性表!$H:$I,2,0)&\"#\"&配件表!L177&\"|\"&VLOOKUP(M177,属性表!$H:$I,2,0)&\"#\"&配件表!N177&\"|\"&VLOOKUP(O177,属性表!$H:$I,2,0)&\"#\"&配件表!P177)","v":"1#15494|2#129|109#12"},"异妖6","橙色"]
["配件18",18,7,6018,{"$f":"E168","v":4},5,235,{"$f":"[1]!SUMSTRING(D178:E178,\"#\")","v":{"$error":"#NAME?"}},{"$f":"[1]!SUMSTRING(F178:G178,\"#\")","v":{"$error":"#NAME?"}},{"$f":"[1]!SUMSTRING(H178:I178,\"|\")","v":{"$error":"#NAME?"}},"生命",20210,"攻击",168,null,null,{"$f":"IF(O178=\"\",VLOOKUP(K178,属性表!$H:$I,2,0)&\"#\"&配件表!L178&\"|\"&VLOOKUP(M178,属性表!$H:$I,2,0)&\"#\"&配件表!N178,VLOOKUP(K178,属性表!$H:$I,2,0)&\"#\"&配件表!L178&\"|\"&VLOOKUP(M178,属性表!$H:$I,2,0)&\"#\"&配件表!N178&\"|\"&VLOOKUP(O178,属性表!$H:$I,2,0)&\"#\"&配件表!P178)","v":"1#20210|2#168"},"异妖6","橙色"]
["配件18",18,8,6018,{"$f":"E169","v":5},5,290,{"$f":"[1]!SUMSTRING(D179:E179,\"#\")","v":{"$error":"#NAME?"}},{"$f":"[1]!SUMSTRING(F179:G179,\"#\")","v":{"$error":"#NAME?"}},{"$f":"[1]!SUMSTRING(H179:I179,\"|\")","v":{"$error":"#NAME?"}},"生命",25600,"攻击",213,"水抗（%）",20,{"$f":"IF(O179=\"\",VLOOKUP(K179,属性表!$H:$I,2,0)&\"#\"&配件表!L179&\"|\"&VLOOKUP(M179,属性表!$H:$I,2,0)&\"#\"&配件表!N179,VLOOKUP(K179,属性表!$H:$I,2,0)&\"#\"&配件表!L179&\"|\"&VLOOKUP(M179,属性表!$H:$I,2,0)&\"#\"&配件表!N179&\"|\"&VLOOKUP(O179,属性表!$H:$I,2,0)&\"#\"&配件表!P179)","v":"1#25600|2#213|109#20"},"异妖6","橙色"]
["配件18",18,9,6018,{"$f":"E170","v":6},5,355,{"$f":"[1]!SUMSTRING(D180:E180,\"#\")","v":{"$error":"#NAME?"}},{"$f":"[1]!SUMSTRING(F180:G180,\"#\")","v":{"$error":"#NAME?"}},{"$f":"[1]!SUMSTRING(H180:I180,\"|\")","v":{"$error":"#NAME?"}},"生命",31663,"攻击",263,null,null,{"$f":"IF(O180=\"\",VLOOKUP(K180,属性表!$H:$I,2,0)&\"#\"&配件表!L180&\"|\"&VLOOKUP(M180,属性表!$H:$I,2,0)&\"#\"&配件表!N180,VLOOKUP(K180,属性表!$H:$I,2,0)&\"#\"&配件表!L180&\"|\"&VLOOKUP(M180,属性表!$H:$I,2,0)&\"#\"&配件表!N180&\"|\"&VLOOKUP(O180,属性表!$H:$I,2,0)&\"#\"&配件表!P180)","v":"1#31663|2#263"},"异妖6","橙色"]
["配件18",18,10,6018,{"$f":"E171","v":8},5,420,{"$f":"[1]!SUMSTRING(D181:E181,\"#\")","v":{"$error":"#NAME?"}},{"$f":"[1]!SUMSTRING(F181:G181,\"#\")","v":{"$error":"#NAME?"}},{"$f":"[1]!SUMSTRING(H181:I181,\"|\")","v":{"$error":"#NAME?"}},"生命",38400,"攻击",320,"水抗（%）",30,{"$f":"IF(O181=\"\",VLOOKUP(K181,属性表!$H:$I,2,0)&\"#\"&配件表!L181&\"|\"&VLOOKUP(M181,属性表!$H:$I,2,0)&\"#\"&配件表!N181,VLOOKUP(K181,属性表!$H:$I,2,0)&\"#\"&配件表!L181&\"|\"&VLOOKUP(M181,属性表!$H:$I,2,0)&\"#\"&配件表!N181&\"|\"&VLOOKUP(O181,属性表!$H:$I,2,0)&\"#\"&配件表!P181)","v":"1#38400|2#320|109#30"},"异妖6","橙色"]
["配件19",19,1,6019,{"$f":"E172","v":1},5,0,{"$f":"[1]!SUMSTRING(D182:E182,\"#\")","v":{"$error":"#NAME?"}},{"$f":"[1]!SUMSTRING(F182:G182,\"#\")","v":{"$error":"#NAME?"}},{"$f":"[1]!SUMSTRING(H182:I182,\"|\")","v":{"$error":"#NAME?"}},"生命",1347,"攻击",11,null,null,{"$f":"IF(O182=\"\",VLOOKUP(K182,属性表!$H:$I,2,0)&\"#\"&配件表!L182&\"|\"&VLOOKUP(M182,属性表!$H:$I,2,0)&\"#\"&配件表!N182,VLOOKUP(K182,属性表!$H:$I,2,0)&\"#\"&配件表!L182&\"|\"&VLOOKUP(M182,属性表!$H:$I,2,0)&\"#\"&配件表!N182&\"|\"&VLOOKUP(O182,属性表!$H:$I,2,0)&\"#\"&配件表!P182)","v":"1#1347|2#11"},"异妖6","橙色"]
["配件19",19,2,6019,{"$f":"E173","v":1},5,40,{"$f":"[1]!SUMSTRING(D183:E183,\"#\")","v":{"$error":"#NAME?"}},{"$f":"[1]!SUMSTRING(F183:G183,\"#\")","v":{"$error":"#NAME?"}},{"$f":"[1]!SUMSTRING(H183:I183,\"|\")","v":{"$error":"#NAME?"}},"生命",3368,"攻击",28,"地抗（%）",2,{"$f":"IF(O183=\"\",VLOOKUP(K183,属性表!$H:$I,2,0)&\"#\"&配件表!L183&\"|\"&VLOOKUP(M183,属性表!$H:$I,2,0)&\"#\"&配件表!N183,VLOOKUP(K183,属性表!$H:$I,2,0)&\"#\"&配件表!L183&\"|\"&VLOOKUP(M183,属性表!$H:$I,2,0)&\"#\"&配件表!N183&\"|\"&VLOOKUP(O183,属性表!$H:$I,2,0)&\"#\"&配件表!P183)","v":"1#3368|2#28|110#2"},"异妖6","橙色"]
["配件19",19,3,6019,{"$f":"E174","v":2},5,65,{"$f":"[1]!SUMSTRING(D184:E184,\"#\")","v":{"$error":"#NAME?"}},{"$f":"[1]!SUMSTRING(F184:G184,\"#\")","v":{"$error":"#NAME?"}},{"$f":"[1]!SUMSTRING(H184:I184,\"|\")","v":{"$error":"#NAME?"}},"生命",5389,"攻击",44,null,null,{"$f":"IF(O184=\"\",VLOOKUP(K184,属性表!$H:$I,2,0)&\"#\"&配件表!L184&\"|\"&VLOOKUP(M184,属性表!$H:$I,2,0)&\"#\"&配件表!N184,VLOOKUP(K184,属性表!$H:$I,2,0)&\"#\"&配件表!L184&\"|\"&VLOOKUP(M184,属性表!$H:$I,2,0)&\"#\"&配件表!N184&\"|\"&VLOOKUP(O184,属性表!$H:$I,2,0)&\"#\"&配件表!P184)","v":"1#5389|2#44"},"异妖6","橙色"]
["配件19",19,4,6019,{"$f":"E175","v":2},5,100,{"$f":"[1]!SUMSTRING(D185:E185,\"#\")","v":{"$error":"#NAME?"}},{"$f":"[1]!SUMSTRING(F185:G185,\"#\")","v":{"$error":"#NAME?"}},{"$f":"[1]!SUMSTRING(H185:I185,\"|\")","v":{"$error":"#NAME?"}},"生命",8084,"攻击",67,"地抗（%）",6,{"$f":"IF(O185=\"\",VLOOKUP(K185,属性表!$H:$I,2,0)&\"#\"&配件表!L185&\"|\"&VLOOKUP(M185,属性表!$H:$I,2,0)&\"#\"&配件表!N185,VLOOKUP(K185,属性表!$H:$I,2,0)&\"#\"&配件表!L185&\"|\"&VLOOKUP(M185,属性表!$H:$I,2,0)&\"#\"&配件表!N185&\"|\"&VLOOKUP(O185,属性表!$H:$I,2,0)&\"#\"&配件表!P185)","v":"1#8084|2#67|110#6"},"异妖6","橙色"]
["配件19",19,5,6019,{"$f":"E176","v":3},5,135,{"$f":"[1]!SUMSTRING(D186:E186,\"#\")","v":{"$error":"#NAME?"}},{"$f":"[1]!SUMSTRING(F186:G186,\"#\")","v":{"$error":"#NAME?"}},{"$f":"[1]!SUMSTRING(H186:I186,\"|\")","v":{"$error":"#NAME?"}},"生命",11452,"攻击",95,null,null,{"$f":"IF(O186=\"\",VLOOKUP(K186,属性表!$H:$I,2,0)&\"#\"&配件表!L186&\"|\"&VLOOKUP(M186,属性表!$H:$I,2,0)&\"#\"&配件表!N186,VLOOKUP(K186,属性表!$H:$I,2,0)&\"#\"&配件表!L186&\"|\"&VLOOKUP(M186,属性表!$H:$I,2,0)&\"#\"&配件表!N186&\"|\"&VLOOKUP(O186,属性表!$H:$I,2,0)&\"#\"&配件表!P186)","v":"1#11452|2#95"},{"$f":"VLOOKUP(B186,$Y:$Z,2,0)","v":"异妖6"},{"$f":"VLOOKUP(R186,$Z:$AA,2,0)","v":"橙色"}]
["配件19",19,6,6019,{"$f":"E177","v":3},5,180,{"$f":"[1]!SUMSTRING(D187:E187,\"#\")","v":{"$error":"#NAME?"}},{"$f":"[1]!SUMSTRING(F187:G187,\"#\")","v":{"$error":"#NAME?"}},{"$f":"[1]!SUMSTRING(H187:I187,\"|\")","v":{"$error":"#NAME?"}},"生命",15494,"攻击",129,"地抗（%）",12,{"$f":"IF(O187=\"\",VLOOKUP(K187,属性表!$H:$I,2,0)&\"#\"&配件表!L187&\"|\"&VLOOKUP(M187,属性表!$H:$I,2,0)&\"#\"&配件表!N187,VLOOKUP(K187,属性表!$H:$I,2,0)&\"#\"&配件表!L187&\"|\"&VLOOKUP(M187,属性表!$H:$I,2,0)&\"#\"&配件表!N187&\"|\"&VLOOKUP(O187,属性表!$H:$I,2,0)&\"#\"&配件表!P187)","v":"1#15494|2#129|110#12"},"异妖6","橙色"]
["配件19",19,7,6019,{"$f":"E178","v":4},5,235,{"$f":"[1]!SUMSTRING(D188:E188,\"#\")","v":{"$error":"#NAME?"}},{"$f":"[1]!SUMSTRING(F188:G188,\"#\")","v":{"$error":"#NAME?"}},{"$f":"[1]!SUMSTRING(H188:I188,\"|\")","v":{"$error":"#NAME?"}},"生命",20210,"攻击",168,null,null,{"$f":"IF(O188=\"\",VLOOKUP(K188,属性表!$H:$I,2,0)&\"#\"&配件表!L188&\"|\"&VLOOKUP(M188,属性表!$H:$I,2,0)&\"#\"&配件表!N188,VLOOKUP(K188,属性表!$H:$I,2,0)&\"#\"&配件表!L188&\"|\"&VLOOKUP(M188,属性表!$H:$I,2,0)&\"#\"&配件表!N188&\"|\"&VLOOKUP(O188,属性表!$H:$I,2,0)&\"#\"&配件表!P188)","v":"1#20210|2#168"},"异妖6","橙色"]
["配件19",19,8,6019,{"$f":"E179","v":5},5,290,{"$f":"[1]!SUMSTRING(D189:E189,\"#\")","v":{"$error":"#NAME?"}},{"$f":"[1]!SUMSTRING(F189:G189,\"#\")","v":{"$error":"#NAME?"}},{"$f":"[1]!SUMSTRING(H189:I189,\"|\")","v":{"$error":"#NAME?"}},"生命",25600,"攻击",213,"地抗（%）",20,{"$f":"IF(O189=\"\",VLOOKUP(K189,属性表!$H:$I,2,0)&\"#\"&配件表!L189&\"|\"&VLOOKUP(M189,属性表!$H:$I,2,0)&\"#\"&配件表!N189,VLOOKUP(K189,属性表!$H:$I,2,0)&\"#\"&配件表!L189&\"|\"&VLOOKUP(M189,属性表!$H:$I,2,0)&\"#\"&配件表!N189&\"|\"&VLOOKUP(O189,属性表!$H:$I,2,0)&\"#\"&配件表!P189)","v":"1#25600|2#213|110#20"},"异妖6","橙色"]
["配件19",19,9,6019,{"$f":"E180","v":6},5,355,{"$f":"[1]!SUMSTRING(D190:E190,\"#\")","v":{"$error":"#NAME?"}},{"$f":"[1]!SUMSTRING(F190:G190,\"#\")","v":{"$error":"#NAME?"}},{"$f":"[1]!SUMSTRING(H190:I190,\"|\")","v":{"$error":"#NAME?"}},"生命",31663,"攻击",263,null,null,{"$f":"IF(O190=\"\",VLOOKUP(K190,属性表!$H:$I,2,0)&\"#\"&配件表!L190&\"|\"&VLOOKUP(M190,属性表!$H:$I,2,0)&\"#\"&配件表!N190,VLOOKUP(K190,属性表!$H:$I,2,0)&\"#\"&配件表!L190&\"|\"&VLOOKUP(M190,属性表!$H:$I,2,0)&\"#\"&配件表!N190&\"|\"&VLOOKUP(O190,属性表!$H:$I,2,0)&\"#\"&配件表!P190)","v":"1#31663|2#263"},"异妖6","橙色"]
["配件19",19,10,6019,{"$f":"E181","v":8},5,420,{"$f":"[1]!SUMSTRING(D191:E191,\"#\")","v":{"$error":"#NAME?"}},{"$f":"[1]!SUMSTRING(F191:G191,\"#\")","v":{"$error":"#NAME?"}},{"$f":"[1]!SUMSTRING(H191:I191,\"|\")","v":{"$error":"#NAME?"}},"生命",38400,"攻击",320,"地抗（%）",30,{"$f":"IF(O191=\"\",VLOOKUP(K191,属性表!$H:$I,2,0)&\"#\"&配件表!L191&\"|\"&VLOOKUP(M191,属性表!$H:$I,2,0)&\"#\"&配件表!N191,VLOOKUP(K191,属性表!$H:$I,2,0)&\"#\"&配件表!L191&\"|\"&VLOOKUP(M191,属性表!$H:$I,2,0)&\"#\"&配件表!N191&\"|\"&VLOOKUP(O191,属性表!$H:$I,2,0)&\"#\"&配件表!P191)","v":"1#38400|2#320|110#30"},"异妖6","橙色"]
["配件20",20,1,6020,{"$f":"E182","v":1},5,0,{"$f":"[1]!SUMSTRING(D192:E192,\"#\")","v":{"$error":"#NAME?"}},{"$f":"[1]!SUMSTRING(F192:G192,\"#\")","v":{"$error":"#NAME?"}},{"$f":"[1]!SUMSTRING(H192:I192,\"|\")","v":{"$error":"#NAME?"}},"生命",1347,"攻击",11,null,null,{"$f":"IF(O192=\"\",VLOOKUP(K192,属性表!$H:$I,2,0)&\"#\"&配件表!L192&\"|\"&VLOOKUP(M192,属性表!$H:$I,2,0)&\"#\"&配件表!N192,VLOOKUP(K192,属性表!$H:$I,2,0)&\"#\"&配件表!L192&\"|\"&VLOOKUP(M192,属性表!$H:$I,2,0)&\"#\"&配件表!N192&\"|\"&VLOOKUP(O192,属性表!$H:$I,2,0)&\"#\"&配件表!P192)","v":"1#1347|2#11"},"异妖6","橙色"]
["配件20",20,2,6020,{"$f":"E183","v":1},5,40,{"$f":"[1]!SUMSTRING(D193:E193,\"#\")","v":{"$error":"#NAME?"}},{"$f":"[1]!SUMSTRING(F193:G193,\"#\")","v":{"$error":"#NAME?"}},{"$f":"[1]!SUMSTRING(H193:I193,\"|\")","v":{"$error":"#NAME?"}},"生命",3368,"攻击",28,"风抗（%）",2,{"$f":"IF(O193=\"\",VLOOKUP(K193,属性表!$H:$I,2,0)&\"#\"&配件表!L193&\"|\"&VLOOKUP(M193,属性表!$H:$I,2,0)&\"#\"&配件表!N193,VLOOKUP(K193,属性表!$H:$I,2,0)&\"#\"&配件表!L193&\"|\"&VLOOKUP(M193,属性表!$H:$I,2,0)&\"#\"&配件表!N193&\"|\"&VLOOKUP(O193,属性表!$H:$I,2,0)&\"#\"&配件表!P193)","v":"1#3368|2#28|108#2"},"异妖6","橙色"]
["配件20",20,3,6020,{"$f":"E184","v":2},5,65,{"$f":"[1]!SUMSTRING(D194:E194,\"#\")","v":{"$error":"#NAME?"}},{"$f":"[1]!SUMSTRING(F194:G194,\"#\")","v":{"$error":"#NAME?"}},{"$f":"[1]!SUMSTRING(H194:I194,\"|\")","v":{"$error":"#NAME?"}},"生命",5389,"攻击",44,null,null,{"$f":"IF(O194=\"\",VLOOKUP(K194,属性表!$H:$I,2,0)&\"#\"&配件表!L194&\"|\"&VLOOKUP(M194,属性表!$H:$I,2,0)&\"#\"&配件表!N194,VLOOKUP(K194,属性表!$H:$I,2,0)&\"#\"&配件表!L194&\"|\"&VLOOKUP(M194,属性表!$H:$I,2,0)&\"#\"&配件表!N194&\"|\"&VLOOKUP(O194,属性表!$H:$I,2,0)&\"#\"&配件表!P194)","v":"1#5389|2#44"},"异妖6","橙色"]
[{"$f":"\"配件\"&B195","v":"配件20"},20,4,6020,{"$f":"E185","v":2},5,100,{"$f":"[1]!SUMSTRING(D195:E195,\"#\")","v":{"$error":"#NAME?"}},{"$f":"[1]!SUMSTRING(F195:G195,\"#\")","v":{"$error":"#NAME?"}},{"$f":"[1]!SUMSTRING(H195:I195,\"|\")","v":{"$error":"#NAME?"}},"生命",8084,"攻击",67,"风抗（%）",6,{"$f":"IF(O195=\"\",VLOOKUP(K195,属性表!$H:$I,2,0)&\"#\"&配件表!L195&\"|\"&VLOOKUP(M195,属性表!$H:$I,2,0)&\"#\"&配件表!N195,VLOOKUP(K195,属性表!$H:$I,2,0)&\"#\"&配件表!L195&\"|\"&VLOOKUP(M195,属性表!$H:$I,2,0)&\"#\"&配件表!N195&\"|\"&VLOOKUP(O195,属性表!$H:$I,2,0)&\"#\"&配件表!P195)","v":"1#8084|2#67|108#6"},"异妖6","橙色"]
["配件20",20,5,6020,{"$f":"E186","v":3},5,135,{"$f":"[1]!SUMSTRING(D196:E196,\"#\")","v":{"$error":"#NAME?"}},{"$f":"[1]!SUMSTRING(F196:G196,\"#\")","v":{"$error":"#NAME?"}},{"$f":"[1]!SUMSTRING(H196:I196,\"|\")","v":{"$error":"#NAME?"}},"生命",11452,"攻击",95,null,null,{"$f":"IF(O196=\"\",VLOOKUP(K196,属性表!$H:$I,2,0)&\"#\"&配件表!L196&\"|\"&VLOOKUP(M196,属性表!$H:$I,2,0)&\"#\"&配件表!N196,VLOOKUP(K196,属性表!$H:$I,2,0)&\"#\"&配件表!L196&\"|\"&VLOOKUP(M196,属性表!$H:$I,2,0)&\"#\"&配件表!N196&\"|\"&VLOOKUP(O196,属性表!$H:$I,2,0)&\"#\"&配件表!P196)","v":"1#11452|2#95"},"异妖6","橙色"]
["配件20",20,6,6020,{"$f":"E187","v":3},5,180,{"$f":"[1]!SUMSTRING(D197:E197,\"#\")","v":{"$error":"#NAME?"}},{"$f":"[1]!SUMSTRING(F197:G197,\"#\")","v":{"$error":"#NAME?"}},{"$f":"[1]!SUMSTRING(H197:I197,\"|\")","v":{"$error":"#NAME?"}},"生命",15494,"攻击",129,"风抗（%）",12,{"$f":"IF(O197=\"\",VLOOKUP(K197,属性表!$H:$I,2,0)&\"#\"&配件表!L197&\"|\"&VLOOKUP(M197,属性表!$H:$I,2,0)&\"#\"&配件表!N197,VLOOKUP(K197,属性表!$H:$I,2,0)&\"#\"&配件表!L197&\"|\"&VLOOKUP(M197,属性表!$H:$I,2,0)&\"#\"&配件表!N197&\"|\"&VLOOKUP(O197,属性表!$H:$I,2,0)&\"#\"&配件表!P197)","v":"1#15494|2#129|108#12"},"异妖6","橙色"]
["配件20",20,7,6020,{"$f":"E188","v":4},5,235,{"$f":"[1]!SUMSTRING(D198:E198,\"#\")","v":{"$error":"#NAME?"}},{"$f":"[1]!SUMSTRING(F198:G198,\"#\")","v":{"$error":"#NAME?"}},{"$f":"[1]!SUMSTRING(H198:I198,\"|\")","v":{"$error":"#NAME?"}},"生命",20210,"攻击",168,null,null,{"$f":"IF(O198=\"\",VLOOKUP(K198,属性表!$H:$I,2,0)&\"#\"&配件表!L198&\"|\"&VLOOKUP(M198,属性表!$H:$I,2,0)&\"#\"&配件表!N198,VLOOKUP(K198,属性表!$H:$I,2,0)&\"#\"&配件表!L198&\"|\"&VLOOKUP(M198,属性表!$H:$I,2,0)&\"#\"&配件表!N198&\"|\"&VLOOKUP(O198,属性表!$H:$I,2,0)&\"#\"&配件表!P198)","v":"1#20210|2#168"},"异妖6","橙色"]
["配件20",20,8,6020,{"$f":"E189","v":5},5,290,{"$f":"[1]!SUMSTRING(D199:E199,\"#\")","v":{"$error":"#NAME?"}},{"$f":"[1]!SUMSTRING(F199:G199,\"#\")","v":{"$error":"#NAME?"}},{"$f":"[1]!SUMSTRING(H199:I199,\"|\")","v":{"$error":"#NAME?"}},"生命",25600,"攻击",213,"风抗（%）",20,{"$f":"IF(O199=\"\",VLOOKUP(K199,属性表!$H:$I,2,0)&\"#\"&配件表!L199&\"|\"&VLOOKUP(M199,属性表!$H:$I,2,0)&\"#\"&配件表!N199,VLOOKUP(K199,属性表!$H:$I,2,0)&\"#\"&配件表!L199&\"|\"&VLOOKUP(M199,属性表!$H:$I,2,0)&\"#\"&配件表!N199&\"|\"&VLOOKUP(O199,属性表!$H:$I,2,0)&\"#\"&配件表!P199)","v":"1#25600|2#213|108#20"},"异妖6","橙色"]
["配件20",20,9,6020,{"$f":"E190","v":6},5,355,{"$f":"[1]!SUMSTRING(D200:E200,\"#\")","v":{"$error":"#NAME?"}},{"$f":"[1]!SUMSTRING(F200:G200,\"#\")","v":{"$error":"#NAME?"}},{"$f":"[1]!SUMSTRING(H200:I200,\"|\")","v":{"$error":"#NAME?"}},"生命",31663,"攻击",263,null,null,{"$f":"IF(O200=\"\",VLOOKUP(K200,属性表!$H:$I,2,0)&\"#\"&配件表!L200&\"|\"&VLOOKUP(M200,属性表!$H:$I,2,0)&\"#\"&配件表!N200,VLOOKUP(K200,属性表!$H:$I,2,0)&\"#\"&配件表!L200&\"|\"&VLOOKUP(M200,属性表!$H:$I,2,0)&\"#\"&配件表!N200&\"|\"&VLOOKUP(O200,属性表!$H:$I,2,0)&\"#\"&配件表!P200)","v":"1#31663|2#263"},"异妖6","橙色"]
["配件20",20,10,6020,{"$f":"E191","v":8},5,420,{"$f":"[1]!SUMSTRING(D201:E201,\"#\")","v":{"$error":"#NAME?"}},{"$f":"[1]!SUMSTRING(F201:G201,\"#\")","v":{"$error":"#NAME?"}},{"$f":"[1]!SUMSTRING(H201:I201,\"|\")","v":{"$error":"#NAME?"}},"生命",38400,"攻击",320,"风抗（%）",30,{"$f":"IF(O201=\"\",VLOOKUP(K201,属性表!$H:$I,2,0)&\"#\"&配件表!L201&\"|\"&VLOOKUP(M201,属性表!$H:$I,2,0)&\"#\"&配件表!N201,VLOOKUP(K201,属性表!$H:$I,2,0)&\"#\"&配件表!L201&\"|\"&VLOOKUP(M201,属性表!$H:$I,2,0)&\"#\"&配件表!N201&\"|\"&VLOOKUP(O201,属性表!$H:$I,2,0)&\"#\"&配件表!P201)","v":"1#38400|2#320|108#30"},"异妖6","橙色"]
["配件21",21,1,6021,{"$f":"E192","v":1},5,0,{"$f":"[1]!SUMSTRING(D202:E202,\"#\")","v":{"$error":"#NAME?"}},{"$f":"[1]!SUMSTRING(F202:G202,\"#\")","v":{"$error":"#NAME?"}},{"$f":"[1]!SUMSTRING(H202:I202,\"|\")","v":{"$error":"#NAME?"}},"生命",1347,"攻击",11,null,null,{"$f":"IF(O202=\"\",VLOOKUP(K202,属性表!$H:$I,2,0)&\"#\"&配件表!L202&\"|\"&VLOOKUP(M202,属性表!$H:$I,2,0)&\"#\"&配件表!N202,VLOOKUP(K202,属性表!$H:$I,2,0)&\"#\"&配件表!L202&\"|\"&VLOOKUP(M202,属性表!$H:$I,2,0)&\"#\"&配件表!N202&\"|\"&VLOOKUP(O202,属性表!$H:$I,2,0)&\"#\"&配件表!P202)","v":"1#1347|2#11"},"异妖7","橙色"]
["配件21",21,2,6021,{"$f":"E193","v":1},5,40,{"$f":"[1]!SUMSTRING(D203:E203,\"#\")","v":{"$error":"#NAME?"}},{"$f":"[1]!SUMSTRING(F203:G203,\"#\")","v":{"$error":"#NAME?"}},{"$f":"[1]!SUMSTRING(H203:I203,\"|\")","v":{"$error":"#NAME?"}},"生命",3368,"攻击",28,"光攻（%）",2,{"$f":"IF(O203=\"\",VLOOKUP(K203,属性表!$H:$I,2,0)&\"#\"&配件表!L203&\"|\"&VLOOKUP(M203,属性表!$H:$I,2,0)&\"#\"&配件表!N203,VLOOKUP(K203,属性表!$H:$I,2,0)&\"#\"&配件表!L203&\"|\"&VLOOKUP(M203,属性表!$H:$I,2,0)&\"#\"&配件表!N203&\"|\"&VLOOKUP(O203,属性表!$H:$I,2,0)&\"#\"&配件表!P203)","v":"1#3368|2#28|105#2"},"异妖7","橙色"]
["配件21",21,3,6021,{"$f":"E194","v":2},5,65,{"$f":"[1]!SUMSTRING(D204:E204,\"#\")","v":{"$error":"#NAME?"}},{"$f":"[1]!SUMSTRING(F204:G204,\"#\")","v":{"$error":"#NAME?"}},{"$f":"[1]!SUMSTRING(H204:I204,\"|\")","v":{"$error":"#NAME?"}},"生命",5389,"攻击",44,null,null,{"$f":"IF(O204=\"\",VLOOKUP(K204,属性表!$H:$I,2,0)&\"#\"&配件表!L204&\"|\"&VLOOKUP(M204,属性表!$H:$I,2,0)&\"#\"&配件表!N204,VLOOKUP(K204,属性表!$H:$I,2,0)&\"#\"&配件表!L204&\"|\"&VLOOKUP(M204,属性表!$H:$I,2,0)&\"#\"&配件表!N204&\"|\"&VLOOKUP(O204,属性表!$H:$I,2,0)&\"#\"&配件表!P204)","v":"1#5389|2#44"},"异妖7","橙色"]
["配件21",{"$f":"B195+1","v":21},{"$f":"C195","v":4},{"$f":"D195+1","v":6021},{"$f":"E195","v":2},5,100,{"$f":"[1]!SUMSTRING(D205:E205,\"#\")","v":{"$error":"#NAME?"}},{"$f":"[1]!SUMSTRING(F205:G205,\"#\")","v":{"$error":"#NAME?"}},{"$f":"[1]!SUMSTRING(H205:I205,\"|\")","v":{"$error":"#NAME?"}},"生命",8084,"攻击",67,"光攻（%）",6,{"$f":"IF(O205=\"\",VLOOKUP(K205,属性表!$H:$I,2,0)&\"#\"&配件表!L205&\"|\"&VLOOKUP(M205,属性表!$H:$I,2,0)&\"#\"&配件表!N205,VLOOKUP(K205,属性表!$H:$I,2,0)&\"#\"&配件表!L205&\"|\"&VLOOKUP(M205,属性表!$H:$I,2,0)&\"#\"&配件表!N205&\"|\"&VLOOKUP(O205,属性表!$H:$I,2,0)&\"#\"&配件表!P205)","v":"1#8084|2#67|105#6"},"异妖7","橙色"]
["配件21",21,5,6021,{"$f":"E196","v":3},5,135,{"$f":"[1]!SUMSTRING(D206:E206,\"#\")","v":{"$error":"#NAME?"}},{"$f":"[1]!SUMSTRING(F206:G206,\"#\")","v":{"$error":"#NAME?"}},{"$f":"[1]!SUMSTRING(H206:I206,\"|\")","v":{"$error":"#NAME?"}},"生命",11452,"攻击",95,null,null,{"$f":"IF(O206=\"\",VLOOKUP(K206,属性表!$H:$I,2,0)&\"#\"&配件表!L206&\"|\"&VLOOKUP(M206,属性表!$H:$I,2,0)&\"#\"&配件表!N206,VLOOKUP(K206,属性表!$H:$I,2,0)&\"#\"&配件表!L206&\"|\"&VLOOKUP(M206,属性表!$H:$I,2,0)&\"#\"&配件表!N206&\"|\"&VLOOKUP(O206,属性表!$H:$I,2,0)&\"#\"&配件表!P206)","v":"1#11452|2#95"},"异妖7","橙色"]
["配件21",21,6,6021,{"$f":"E197","v":3},5,180,{"$f":"[1]!SUMSTRING(D207:E207,\"#\")","v":{"$error":"#NAME?"}},{"$f":"[1]!SUMSTRING(F207:G207,\"#\")","v":{"$error":"#NAME?"}},{"$f":"[1]!SUMSTRING(H207:I207,\"|\")","v":{"$error":"#NAME?"}},"生命",15494,"攻击",129,"光攻（%）",12,{"$f":"IF(O207=\"\",VLOOKUP(K207,属性表!$H:$I,2,0)&\"#\"&配件表!L207&\"|\"&VLOOKUP(M207,属性表!$H:$I,2,0)&\"#\"&配件表!N207,VLOOKUP(K207,属性表!$H:$I,2,0)&\"#\"&配件表!L207&\"|\"&VLOOKUP(M207,属性表!$H:$I,2,0)&\"#\"&配件表!N207&\"|\"&VLOOKUP(O207,属性表!$H:$I,2,0)&\"#\"&配件表!P207)","v":"1#15494|2#129|105#12"},"异妖7","橙色"]
["配件21",21,7,6021,{"$f":"E198","v":4},5,235,{"$f":"[1]!SUMSTRING(D208:E208,\"#\")","v":{"$error":"#NAME?"}},{"$f":"[1]!SUMSTRING(F208:G208,\"#\")","v":{"$error":"#NAME?"}},{"$f":"[1]!SUMSTRING(H208:I208,\"|\")","v":{"$error":"#NAME?"}},"生命",20210,"攻击",168,null,null,{"$f":"IF(O208=\"\",VLOOKUP(K208,属性表!$H:$I,2,0)&\"#\"&配件表!L208&\"|\"&VLOOKUP(M208,属性表!$H:$I,2,0)&\"#\"&配件表!N208,VLOOKUP(K208,属性表!$H:$I,2,0)&\"#\"&配件表!L208&\"|\"&VLOOKUP(M208,属性表!$H:$I,2,0)&\"#\"&配件表!N208&\"|\"&VLOOKUP(O208,属性表!$H:$I,2,0)&\"#\"&配件表!P208)","v":"1#20210|2#168"},"异妖7","橙色"]
["配件21",21,8,6021,{"$f":"E199","v":5},5,290,{"$f":"[1]!SUMSTRING(D209:E209,\"#\")","v":{"$error":"#NAME?"}},{"$f":"[1]!SUMSTRING(F209:G209,\"#\")","v":{"$error":"#NAME?"}},{"$f":"[1]!SUMSTRING(H209:I209,\"|\")","v":{"$error":"#NAME?"}},"生命",25600,"攻击",213,"光攻（%）",20,{"$f":"IF(O209=\"\",VLOOKUP(K209,属性表!$H:$I,2,0)&\"#\"&配件表!L209&\"|\"&VLOOKUP(M209,属性表!$H:$I,2,0)&\"#\"&配件表!N209,VLOOKUP(K209,属性表!$H:$I,2,0)&\"#\"&配件表!L209&\"|\"&VLOOKUP(M209,属性表!$H:$I,2,0)&\"#\"&配件表!N209&\"|\"&VLOOKUP(O209,属性表!$H:$I,2,0)&\"#\"&配件表!P209)","v":"1#25600|2#213|105#20"},"异妖7","橙色"]
["配件21",21,9,6021,{"$f":"E200","v":6},5,355,{"$f":"[1]!SUMSTRING(D210:E210,\"#\")","v":{"$error":"#NAME?"}},{"$f":"[1]!SUMSTRING(F210:G210,\"#\")","v":{"$error":"#NAME?"}},{"$f":"[1]!SUMSTRING(H210:I210,\"|\")","v":{"$error":"#NAME?"}},"生命",31663,"攻击",263,null,null,{"$f":"IF(O210=\"\",VLOOKUP(K210,属性表!$H:$I,2,0)&\"#\"&配件表!L210&\"|\"&VLOOKUP(M210,属性表!$H:$I,2,0)&\"#\"&配件表!N210,VLOOKUP(K210,属性表!$H:$I,2,0)&\"#\"&配件表!L210&\"|\"&VLOOKUP(M210,属性表!$H:$I,2,0)&\"#\"&配件表!N210&\"|\"&VLOOKUP(O210,属性表!$H:$I,2,0)&\"#\"&配件表!P210)","v":"1#31663|2#263"},"异妖7","橙色"]
["配件21",21,10,6021,{"$f":"E201","v":8},5,420,{"$f":"[1]!SUMSTRING(D211:E211,\"#\")","v":{"$error":"#NAME?"}},{"$f":"[1]!SUMSTRING(F211:G211,\"#\")","v":{"$error":"#NAME?"}},{"$f":"[1]!SUMSTRING(H211:I211,\"|\")","v":{"$error":"#NAME?"}},"生命",38400,"攻击",320,"光攻（%）",30,{"$f":"IF(O211=\"\",VLOOKUP(K211,属性表!$H:$I,2,0)&\"#\"&配件表!L211&\"|\"&VLOOKUP(M211,属性表!$H:$I,2,0)&\"#\"&配件表!N211,VLOOKUP(K211,属性表!$H:$I,2,0)&\"#\"&配件表!L211&\"|\"&VLOOKUP(M211,属性表!$H:$I,2,0)&\"#\"&配件表!N211&\"|\"&VLOOKUP(O211,属性表!$H:$I,2,0)&\"#\"&配件表!P211)","v":"1#38400|2#320|105#30"},"异妖7","橙色"]
["配件22",22,1,6022,{"$f":"E202","v":1},5,0,{"$f":"[1]!SUMSTRING(D212:E212,\"#\")","v":{"$error":"#NAME?"}},{"$f":"[1]!SUMSTRING(F212:G212,\"#\")","v":{"$error":"#NAME?"}},{"$f":"[1]!SUMSTRING(H212:I212,\"|\")","v":{"$error":"#NAME?"}},"生命",1347,"攻击",11,null,null,{"$f":"IF(O212=\"\",VLOOKUP(K212,属性表!$H:$I,2,0)&\"#\"&配件表!L212&\"|\"&VLOOKUP(M212,属性表!$H:$I,2,0)&\"#\"&配件表!N212,VLOOKUP(K212,属性表!$H:$I,2,0)&\"#\"&配件表!L212&\"|\"&VLOOKUP(M212,属性表!$H:$I,2,0)&\"#\"&配件表!N212&\"|\"&VLOOKUP(O212,属性表!$H:$I,2,0)&\"#\"&配件表!P212)","v":"1#1347|2#11"},"异妖7","橙色"]
["配件22",22,2,6022,{"$f":"E203","v":1},5,40,{"$f":"[1]!SUMSTRING(D213:E213,\"#\")","v":{"$error":"#NAME?"}},{"$f":"[1]!SUMSTRING(F213:G213,\"#\")","v":{"$error":"#NAME?"}},{"$f":"[1]!SUMSTRING(H213:I213,\"|\")","v":{"$error":"#NAME?"}},"生命",3368,"攻击",28,"光抗（%）",3,{"$f":"IF(O213=\"\",VLOOKUP(K213,属性表!$H:$I,2,0)&\"#\"&配件表!L213&\"|\"&VLOOKUP(M213,属性表!$H:$I,2,0)&\"#\"&配件表!N213,VLOOKUP(K213,属性表!$H:$I,2,0)&\"#\"&配件表!L213&\"|\"&VLOOKUP(M213,属性表!$H:$I,2,0)&\"#\"&配件表!N213&\"|\"&VLOOKUP(O213,属性表!$H:$I,2,0)&\"#\"&配件表!P213)","v":"1#3368|2#28|111#3"},"异妖7","橙色"]
["配件22",22,3,6022,{"$f":"E204","v":2},5,65,{"$f":"[1]!SUMSTRING(D214:E214,\"#\")","v":{"$error":"#NAME?"}},{"$f":"[1]!SUMSTRING(F214:G214,\"#\")","v":{"$error":"#NAME?"}},{"$f":"[1]!SUMSTRING(H214:I214,\"|\")","v":{"$error":"#NAME?"}},"生命",5389,"攻击",44,null,null,{"$f":"IF(O214=\"\",VLOOKUP(K214,属性表!$H:$I,2,0)&\"#\"&配件表!L214&\"|\"&VLOOKUP(M214,属性表!$H:$I,2,0)&\"#\"&配件表!N214,VLOOKUP(K214,属性表!$H:$I,2,0)&\"#\"&配件表!L214&\"|\"&VLOOKUP(M214,属性表!$H:$I,2,0)&\"#\"&配件表!N214&\"|\"&VLOOKUP(O214,属性表!$H:$I,2,0)&\"#\"&配件表!P214)","v":"1#5389|2#44"},"异妖7","橙色"]
["配件22",22,4,6022,{"$f":"E205","v":2},5,100,{"$f":"[1]!SUMSTRING(D215:E215,\"#\")","v":{"$error":"#NAME?"}},{"$f":"[1]!SUMSTRING(F215:G215,\"#\")","v":{"$error":"#NAME?"}},{"$f":"[1]!SUMSTRING(H215:I215,\"|\")","v":{"$error":"#NAME?"}},"生命",8084,"攻击",67,"光抗（%）",6,{"$f":"IF(O215=\"\",VLOOKUP(K215,属性表!$H:$I,2,0)&\"#\"&配件表!L215&\"|\"&VLOOKUP(M215,属性表!$H:$I,2,0)&\"#\"&配件表!N215,VLOOKUP(K215,属性表!$H:$I,2,0)&\"#\"&配件表!L215&\"|\"&VLOOKUP(M215,属性表!$H:$I,2,0)&\"#\"&配件表!N215&\"|\"&VLOOKUP(O215,属性表!$H:$I,2,0)&\"#\"&配件表!P215)","v":"1#8084|2#67|111#6"},"异妖7","橙色"]
["配件22",22,5,6022,{"$f":"E206","v":3},5,135,{"$f":"[1]!SUMSTRING(D216:E216,\"#\")","v":{"$error":"#NAME?"}},{"$f":"[1]!SUMSTRING(F216:G216,\"#\")","v":{"$error":"#NAME?"}},{"$f":"[1]!SUMSTRING(H216:I216,\"|\")","v":{"$error":"#NAME?"}},"生命",11452,"攻击",95,null,null,{"$f":"IF(O216=\"\",VLOOKUP(K216,属性表!$H:$I,2,0)&\"#\"&配件表!L216&\"|\"&VLOOKUP(M216,属性表!$H:$I,2,0)&\"#\"&配件表!N216,VLOOKUP(K216,属性表!$H:$I,2,0)&\"#\"&配件表!L216&\"|\"&VLOOKUP(M216,属性表!$H:$I,2,0)&\"#\"&配件表!N216&\"|\"&VLOOKUP(O216,属性表!$H:$I,2,0)&\"#\"&配件表!P216)","v":"1#11452|2#95"},"异妖7","橙色"]
["配件22",22,6,6022,{"$f":"E207","v":3},5,180,{"$f":"[1]!SUMSTRING(D217:E217,\"#\")","v":{"$error":"#NAME?"}},{"$f":"[1]!SUMSTRING(F217:G217,\"#\")","v":{"$error":"#NAME?"}},{"$f":"[1]!SUMSTRING(H217:I217,\"|\")","v":{"$error":"#NAME?"}},"生命",15494,"攻击",129,"光抗（%）",9,{"$f":"IF(O217=\"\",VLOOKUP(K217,属性表!$H:$I,2,0)&\"#\"&配件表!L217&\"|\"&VLOOKUP(M217,属性表!$H:$I,2,0)&\"#\"&配件表!N217,VLOOKUP(K217,属性表!$H:$I,2,0)&\"#\"&配件表!L217&\"|\"&VLOOKUP(M217,属性表!$H:$I,2,0)&\"#\"&配件表!N217&\"|\"&VLOOKUP(O217,属性表!$H:$I,2,0)&\"#\"&配件表!P217)","v":"1#15494|2#129|111#9"},"异妖7","橙色"]
["配件22",22,7,6022,{"$f":"E208","v":4},5,235,{"$f":"[1]!SUMSTRING(D218:E218,\"#\")","v":{"$error":"#NAME?"}},{"$f":"[1]!SUMSTRING(F218:G218,\"#\")","v":{"$error":"#NAME?"}},{"$f":"[1]!SUMSTRING(H218:I218,\"|\")","v":{"$error":"#NAME?"}},"生命",20210,"攻击",168,null,null,{"$f":"IF(O218=\"\",VLOOKUP(K218,属性表!$H:$I,2,0)&\"#\"&配件表!L218&\"|\"&VLOOKUP(M218,属性表!$H:$I,2,0)&\"#\"&配件表!N218,VLOOKUP(K218,属性表!$H:$I,2,0)&\"#\"&配件表!L218&\"|\"&VLOOKUP(M218,属性表!$H:$I,2,0)&\"#\"&配件表!N218&\"|\"&VLOOKUP(O218,属性表!$H:$I,2,0)&\"#\"&配件表!P218)","v":"1#20210|2#168"},"异妖7","橙色"]
["配件22",22,8,6022,{"$f":"E209","v":5},5,290,{"$f":"[1]!SUMSTRING(D219:E219,\"#\")","v":{"$error":"#NAME?"}},{"$f":"[1]!SUMSTRING(F219:G219,\"#\")","v":{"$error":"#NAME?"}},{"$f":"[1]!SUMSTRING(H219:I219,\"|\")","v":{"$error":"#NAME?"}},"生命",25600,"攻击",213,"光抗（%）",12,{"$f":"IF(O219=\"\",VLOOKUP(K219,属性表!$H:$I,2,0)&\"#\"&配件表!L219&\"|\"&VLOOKUP(M219,属性表!$H:$I,2,0)&\"#\"&配件表!N219,VLOOKUP(K219,属性表!$H:$I,2,0)&\"#\"&配件表!L219&\"|\"&VLOOKUP(M219,属性表!$H:$I,2,0)&\"#\"&配件表!N219&\"|\"&VLOOKUP(O219,属性表!$H:$I,2,0)&\"#\"&配件表!P219)","v":"1#25600|2#213|111#12"},"异妖7","橙色"]
["配件22",22,9,6022,{"$f":"E210","v":6},5,355,{"$f":"[1]!SUMSTRING(D220:E220,\"#\")","v":{"$error":"#NAME?"}},{"$f":"[1]!SUMSTRING(F220:G220,\"#\")","v":{"$error":"#NAME?"}},{"$f":"[1]!SUMSTRING(H220:I220,\"|\")","v":{"$error":"#NAME?"}},"生命",31663,"攻击",263,null,null,{"$f":"IF(O220=\"\",VLOOKUP(K220,属性表!$H:$I,2,0)&\"#\"&配件表!L220&\"|\"&VLOOKUP(M220,属性表!$H:$I,2,0)&\"#\"&配件表!N220,VLOOKUP(K220,属性表!$H:$I,2,0)&\"#\"&配件表!L220&\"|\"&VLOOKUP(M220,属性表!$H:$I,2,0)&\"#\"&配件表!N220&\"|\"&VLOOKUP(O220,属性表!$H:$I,2,0)&\"#\"&配件表!P220)","v":"1#31663|2#263"},"异妖7","橙色"]
["配件22",22,10,6022,{"$f":"E211","v":8},5,420,{"$f":"[1]!SUMSTRING(D221:E221,\"#\")","v":{"$error":"#NAME?"}},{"$f":"[1]!SUMSTRING(F221:G221,\"#\")","v":{"$error":"#NAME?"}},{"$f":"[1]!SUMSTRING(H221:I221,\"|\")","v":{"$error":"#NAME?"}},"生命",38400,"攻击",320,"光抗（%）",15,{"$f":"IF(O221=\"\",VLOOKUP(K221,属性表!$H:$I,2,0)&\"#\"&配件表!L221&\"|\"&VLOOKUP(M221,属性表!$H:$I,2,0)&\"#\"&配件表!N221,VLOOKUP(K221,属性表!$H:$I,2,0)&\"#\"&配件表!L221&\"|\"&VLOOKUP(M221,属性表!$H:$I,2,0)&\"#\"&配件表!N221&\"|\"&VLOOKUP(O221,属性表!$H:$I,2,0)&\"#\"&配件表!P221)","v":"1#38400|2#320|111#15"},"异妖7","橙色"]
["配件23",23,1,6023,{"$f":"E212","v":1},5,0,{"$f":"[1]!SUMSTRING(D222:E222,\"#\")","v":{"$error":"#NAME?"}},{"$f":"[1]!SUMSTRING(F222:G222,\"#\")","v":{"$error":"#NAME?"}},{"$f":"[1]!SUMSTRING(H222:I222,\"|\")","v":{"$error":"#NAME?"}},"生命",1347,"攻击",11,null,null,{"$f":"IF(O222=\"\",VLOOKUP(K222,属性表!$H:$I,2,0)&\"#\"&配件表!L222&\"|\"&VLOOKUP(M222,属性表!$H:$I,2,0)&\"#\"&配件表!N222,VLOOKUP(K222,属性表!$H:$I,2,0)&\"#\"&配件表!L222&\"|\"&VLOOKUP(M222,属性表!$H:$I,2,0)&\"#\"&配件表!N222&\"|\"&VLOOKUP(O222,属性表!$H:$I,2,0)&\"#\"&配件表!P222)","v":"1#1347|2#11"},"异妖7","橙色"]
["配件23",23,2,6023,{"$f":"E213","v":1},5,40,{"$f":"[1]!SUMSTRING(D223:E223,\"#\")","v":{"$error":"#NAME?"}},{"$f":"[1]!SUMSTRING(F223:G223,\"#\")","v":{"$error":"#NAME?"}},{"$f":"[1]!SUMSTRING(H223:I223,\"|\")","v":{"$error":"#NAME?"}},"生命",3368,"攻击",28,"暗攻（%）",2,{"$f":"IF(O223=\"\",VLOOKUP(K223,属性表!$H:$I,2,0)&\"#\"&配件表!L223&\"|\"&VLOOKUP(M223,属性表!$H:$I,2,0)&\"#\"&配件表!N223,VLOOKUP(K223,属性表!$H:$I,2,0)&\"#\"&配件表!L223&\"|\"&VLOOKUP(M223,属性表!$H:$I,2,0)&\"#\"&配件表!N223&\"|\"&VLOOKUP(O223,属性表!$H:$I,2,0)&\"#\"&配件表!P223)","v":"1#3368|2#28|106#2"},"异妖7","橙色"]
["配件23",23,3,6023,{"$f":"E214","v":2},5,65,{"$f":"[1]!SUMSTRING(D224:E224,\"#\")","v":{"$error":"#NAME?"}},{"$f":"[1]!SUMSTRING(F224:G224,\"#\")","v":{"$error":"#NAME?"}},{"$f":"[1]!SUMSTRING(H224:I224,\"|\")","v":{"$error":"#NAME?"}},"生命",5389,"攻击",44,null,null,{"$f":"IF(O224=\"\",VLOOKUP(K224,属性表!$H:$I,2,0)&\"#\"&配件表!L224&\"|\"&VLOOKUP(M224,属性表!$H:$I,2,0)&\"#\"&配件表!N224,VLOOKUP(K224,属性表!$H:$I,2,0)&\"#\"&配件表!L224&\"|\"&VLOOKUP(M224,属性表!$H:$I,2,0)&\"#\"&配件表!N224&\"|\"&VLOOKUP(O224,属性表!$H:$I,2,0)&\"#\"&配件表!P224)","v":"1#5389|2#44"},"异妖7","橙色"]
["配件23",23,4,6023,{"$f":"E215","v":2},5,100,{"$f":"[1]!SUMSTRING(D225:E225,\"#\")","v":{"$error":"#NAME?"}},{"$f":"[1]!SUMSTRING(F225:G225,\"#\")","v":{"$error":"#NAME?"}},{"$f":"[1]!SUMSTRING(H225:I225,\"|\")","v":{"$error":"#NAME?"}},"生命",8084,"攻击",67,"暗攻（%）",6,{"$f":"IF(O225=\"\",VLOOKUP(K225,属性表!$H:$I,2,0)&\"#\"&配件表!L225&\"|\"&VLOOKUP(M225,属性表!$H:$I,2,0)&\"#\"&配件表!N225,VLOOKUP(K225,属性表!$H:$I,2,0)&\"#\"&配件表!L225&\"|\"&VLOOKUP(M225,属性表!$H:$I,2,0)&\"#\"&配件表!N225&\"|\"&VLOOKUP(O225,属性表!$H:$I,2,0)&\"#\"&配件表!P225)","v":"1#8084|2#67|106#6"},"异妖7","橙色"]
["配件23",23,5,6023,{"$f":"E216","v":3},5,135,{"$f":"[1]!SUMSTRING(D226:E226,\"#\")","v":{"$error":"#NAME?"}},{"$f":"[1]!SUMSTRING(F226:G226,\"#\")","v":{"$error":"#NAME?"}},{"$f":"[1]!SUMSTRING(H226:I226,\"|\")","v":{"$error":"#NAME?"}},"生命",11452,"攻击",95,null,null,{"$f":"IF(O226=\"\",VLOOKUP(K226,属性表!$H:$I,2,0)&\"#\"&配件表!L226&\"|\"&VLOOKUP(M226,属性表!$H:$I,2,0)&\"#\"&配件表!N226,VLOOKUP(K226,属性表!$H:$I,2,0)&\"#\"&配件表!L226&\"|\"&VLOOKUP(M226,属性表!$H:$I,2,0)&\"#\"&配件表!N226&\"|\"&VLOOKUP(O226,属性表!$H:$I,2,0)&\"#\"&配件表!P226)","v":"1#11452|2#95"},"异妖7","橙色"]
["配件23",23,6,6023,{"$f":"E217","v":3},5,180,{"$f":"[1]!SUMSTRING(D227:E227,\"#\")","v":{"$error":"#NAME?"}},{"$f":"[1]!SUMSTRING(F227:G227,\"#\")","v":{"$error":"#NAME?"}},{"$f":"[1]!SUMSTRING(H227:I227,\"|\")","v":{"$error":"#NAME?"}},"生命",15494,"攻击",129,"暗攻（%）",12,{"$f":"IF(O227=\"\",VLOOKUP(K227,属性表!$H:$I,2,0)&\"#\"&配件表!L227&\"|\"&VLOOKUP(M227,属性表!$H:$I,2,0)&\"#\"&配件表!N227,VLOOKUP(K227,属性表!$H:$I,2,0)&\"#\"&配件表!L227&\"|\"&VLOOKUP(M227,属性表!$H:$I,2,0)&\"#\"&配件表!N227&\"|\"&VLOOKUP(O227,属性表!$H:$I,2,0)&\"#\"&配件表!P227)","v":"1#15494|2#129|106#12"},"异妖7","橙色"]
["配件23",23,7,6023,{"$f":"E218","v":4},5,235,{"$f":"[1]!SUMSTRING(D228:E228,\"#\")","v":{"$error":"#NAME?"}},{"$f":"[1]!SUMSTRING(F228:G228,\"#\")","v":{"$error":"#NAME?"}},{"$f":"[1]!SUMSTRING(H228:I228,\"|\")","v":{"$error":"#NAME?"}},"生命",20210,"攻击",168,null,null,{"$f":"IF(O228=\"\",VLOOKUP(K228,属性表!$H:$I,2,0)&\"#\"&配件表!L228&\"|\"&VLOOKUP(M228,属性表!$H:$I,2,0)&\"#\"&配件表!N228,VLOOKUP(K228,属性表!$H:$I,2,0)&\"#\"&配件表!L228&\"|\"&VLOOKUP(M228,属性表!$H:$I,2,0)&\"#\"&配件表!N228&\"|\"&VLOOKUP(O228,属性表!$H:$I,2,0)&\"#\"&配件表!P228)","v":"1#20210|2#168"},"异妖7","橙色"]
["配件23",23,8,6023,{"$f":"E219","v":5},5,290,{"$f":"[1]!SUMSTRING(D229:E229,\"#\")","v":{"$error":"#NAME?"}},{"$f":"[1]!SUMSTRING(F229:G229,\"#\")","v":{"$error":"#NAME?"}},{"$f":"[1]!SUMSTRING(H229:I229,\"|\")","v":{"$error":"#NAME?"}},"生命",25600,"攻击",213,"暗攻（%）",20,{"$f":"IF(O229=\"\",VLOOKUP(K229,属性表!$H:$I,2,0)&\"#\"&配件表!L229&\"|\"&VLOOKUP(M229,属性表!$H:$I,2,0)&\"#\"&配件表!N229,VLOOKUP(K229,属性表!$H:$I,2,0)&\"#\"&配件表!L229&\"|\"&VLOOKUP(M229,属性表!$H:$I,2,0)&\"#\"&配件表!N229&\"|\"&VLOOKUP(O229,属性表!$H:$I,2,0)&\"#\"&配件表!P229)","v":"1#25600|2#213|106#20"},"异妖7","橙色"]
["配件23",23,9,6023,{"$f":"E220","v":6},5,355,{"$f":"[1]!SUMSTRING(D230:E230,\"#\")","v":{"$error":"#NAME?"}},{"$f":"[1]!SUMSTRING(F230:G230,\"#\")","v":{"$error":"#NAME?"}},{"$f":"[1]!SUMSTRING(H230:I230,\"|\")","v":{"$error":"#NAME?"}},"生命",31663,"攻击",263,null,null,{"$f":"IF(O230=\"\",VLOOKUP(K230,属性表!$H:$I,2,0)&\"#\"&配件表!L230&\"|\"&VLOOKUP(M230,属性表!$H:$I,2,0)&\"#\"&配件表!N230,VLOOKUP(K230,属性表!$H:$I,2,0)&\"#\"&配件表!L230&\"|\"&VLOOKUP(M230,属性表!$H:$I,2,0)&\"#\"&配件表!N230&\"|\"&VLOOKUP(O230,属性表!$H:$I,2,0)&\"#\"&配件表!P230)","v":"1#31663|2#263"},"异妖7","橙色"]
["配件23",23,10,6023,{"$f":"E221","v":8},5,420,{"$f":"[1]!SUMSTRING(D231:E231,\"#\")","v":{"$error":"#NAME?"}},{"$f":"[1]!SUMSTRING(F231:G231,\"#\")","v":{"$error":"#NAME?"}},{"$f":"[1]!SUMSTRING(H231:I231,\"|\")","v":{"$error":"#NAME?"}},"生命",38400,"攻击",320,"暗攻（%）",30,{"$f":"IF(O231=\"\",VLOOKUP(K231,属性表!$H:$I,2,0)&\"#\"&配件表!L231&\"|\"&VLOOKUP(M231,属性表!$H:$I,2,0)&\"#\"&配件表!N231,VLOOKUP(K231,属性表!$H:$I,2,0)&\"#\"&配件表!L231&\"|\"&VLOOKUP(M231,属性表!$H:$I,2,0)&\"#\"&配件表!N231&\"|\"&VLOOKUP(O231,属性表!$H:$I,2,0)&\"#\"&配件表!P231)","v":"1#38400|2#320|106#30"},"异妖7","橙色"]
["配件24",24,1,6024,{"$f":"E222","v":1},5,0,{"$f":"[1]!SUMSTRING(D232:E232,\"#\")","v":{"$error":"#NAME?"}},{"$f":"[1]!SUMSTRING(F232:G232,\"#\")","v":{"$error":"#NAME?"}},{"$f":"[1]!SUMSTRING(H232:I232,\"|\")","v":{"$error":"#NAME?"}},"生命",1347,"攻击",11,null,null,{"$f":"IF(O232=\"\",VLOOKUP(K232,属性表!$H:$I,2,0)&\"#\"&配件表!L232&\"|\"&VLOOKUP(M232,属性表!$H:$I,2,0)&\"#\"&配件表!N232,VLOOKUP(K232,属性表!$H:$I,2,0)&\"#\"&配件表!L232&\"|\"&VLOOKUP(M232,属性表!$H:$I,2,0)&\"#\"&配件表!N232&\"|\"&VLOOKUP(O232,属性表!$H:$I,2,0)&\"#\"&配件表!P232)","v":"1#1347|2#11"},"异妖7","橙色"]
["配件24",24,2,6024,{"$f":"E223","v":1},5,40,{"$f":"[1]!SUMSTRING(D233:E233,\"#\")","v":{"$error":"#NAME?"}},{"$f":"[1]!SUMSTRING(F233:G233,\"#\")","v":{"$error":"#NAME?"}},{"$f":"[1]!SUMSTRING(H233:I233,\"|\")","v":{"$error":"#NAME?"}},"生命",3368,"攻击",28,"暗抗（%）",3,{"$f":"IF(O233=\"\",VLOOKUP(K233,属性表!$H:$I,2,0)&\"#\"&配件表!L233&\"|\"&VLOOKUP(M233,属性表!$H:$I,2,0)&\"#\"&配件表!N233,VLOOKUP(K233,属性表!$H:$I,2,0)&\"#\"&配件表!L233&\"|\"&VLOOKUP(M233,属性表!$H:$I,2,0)&\"#\"&配件表!N233&\"|\"&VLOOKUP(O233,属性表!$H:$I,2,0)&\"#\"&配件表!P233)","v":"1#3368|2#28|112#3"},"异妖7","橙色"]
["配件24",24,3,6024,{"$f":"E224","v":2},5,65,{"$f":"[1]!SUMSTRING(D234:E234,\"#\")","v":{"$error":"#NAME?"}},{"$f":"[1]!SUMSTRING(F234:G234,\"#\")","v":{"$error":"#NAME?"}},{"$f":"[1]!SUMSTRING(H234:I234,\"|\")","v":{"$error":"#NAME?"}},"生命",5389,"攻击",44,null,null,{"$f":"IF(O234=\"\",VLOOKUP(K234,属性表!$H:$I,2,0)&\"#\"&配件表!L234&\"|\"&VLOOKUP(M234,属性表!$H:$I,2,0)&\"#\"&配件表!N234,VLOOKUP(K234,属性表!$H:$I,2,0)&\"#\"&配件表!L234&\"|\"&VLOOKUP(M234,属性表!$H:$I,2,0)&\"#\"&配件表!N234&\"|\"&VLOOKUP(O234,属性表!$H:$I,2,0)&\"#\"&配件表!P234)","v":"1#5389|2#44"},"异妖7","橙色"]
["配件24",24,4,6024,{"$f":"E225","v":2},5,100,{"$f":"[1]!SUMSTRING(D235:E235,\"#\")","v":{"$error":"#NAME?"}},{"$f":"[1]!SUMSTRING(F235:G235,\"#\")","v":{"$error":"#NAME?"}},{"$f":"[1]!SUMSTRING(H235:I235,\"|\")","v":{"$error":"#NAME?"}},"生命",8084,"攻击",67,"暗抗（%）",6,{"$f":"IF(O235=\"\",VLOOKUP(K235,属性表!$H:$I,2,0)&\"#\"&配件表!L235&\"|\"&VLOOKUP(M235,属性表!$H:$I,2,0)&\"#\"&配件表!N235,VLOOKUP(K235,属性表!$H:$I,2,0)&\"#\"&配件表!L235&\"|\"&VLOOKUP(M235,属性表!$H:$I,2,0)&\"#\"&配件表!N235&\"|\"&VLOOKUP(O235,属性表!$H:$I,2,0)&\"#\"&配件表!P235)","v":"1#8084|2#67|112#6"},"异妖7","橙色"]
["配件24",24,5,6024,{"$f":"E226","v":3},5,135,{"$f":"[1]!SUMSTRING(D236:E236,\"#\")","v":{"$error":"#NAME?"}},{"$f":"[1]!SUMSTRING(F236:G236,\"#\")","v":{"$error":"#NAME?"}},{"$f":"[1]!SUMSTRING(H236:I236,\"|\")","v":{"$error":"#NAME?"}},"生命",11452,"攻击",95,null,null,{"$f":"IF(O236=\"\",VLOOKUP(K236,属性表!$H:$I,2,0)&\"#\"&配件表!L236&\"|\"&VLOOKUP(M236,属性表!$H:$I,2,0)&\"#\"&配件表!N236,VLOOKUP(K236,属性表!$H:$I,2,0)&\"#\"&配件表!L236&\"|\"&VLOOKUP(M236,属性表!$H:$I,2,0)&\"#\"&配件表!N236&\"|\"&VLOOKUP(O236,属性表!$H:$I,2,0)&\"#\"&配件表!P236)","v":"1#11452|2#95"},"异妖7","橙色"]
["配件24",24,6,6024,{"$f":"E227","v":3},5,180,{"$f":"[1]!SUMSTRING(D237:E237,\"#\")","v":{"$error":"#NAME?"}},{"$f":"[1]!SUMSTRING(F237:G237,\"#\")","v":{"$error":"#NAME?"}},{"$f":"[1]!SUMSTRING(H237:I237,\"|\")","v":{"$error":"#NAME?"}},"生命",15494,"攻击",129,"暗抗（%）",9,{"$f":"IF(O237=\"\",VLOOKUP(K237,属性表!$H:$I,2,0)&\"#\"&配件表!L237&\"|\"&VLOOKUP(M237,属性表!$H:$I,2,0)&\"#\"&配件表!N237,VLOOKUP(K237,属性表!$H:$I,2,0)&\"#\"&配件表!L237&\"|\"&VLOOKUP(M237,属性表!$H:$I,2,0)&\"#\"&配件表!N237&\"|\"&VLOOKUP(O237,属性表!$H:$I,2,0)&\"#\"&配件表!P237)","v":"1#15494|2#129|112#9"},"异妖7","橙色"]
["配件24",24,7,6024,{"$f":"E228","v":4},5,235,{"$f":"[1]!SUMSTRING(D238:E238,\"#\")","v":{"$error":"#NAME?"}},{"$f":"[1]!SUMSTRING(F238:G238,\"#\")","v":{"$error":"#NAME?"}},{"$f":"[1]!SUMSTRING(H238:I238,\"|\")","v":{"$error":"#NAME?"}},"生命",20210,"攻击",168,null,null,{"$f":"IF(O238=\"\",VLOOKUP(K238,属性表!$H:$I,2,0)&\"#\"&配件表!L238&\"|\"&VLOOKUP(M238,属性表!$H:$I,2,0)&\"#\"&配件表!N238,VLOOKUP(K238,属性表!$H:$I,2,0)&\"#\"&配件表!L238&\"|\"&VLOOKUP(M238,属性表!$H:$I,2,0)&\"#\"&配件表!N238&\"|\"&VLOOKUP(O238,属性表!$H:$I,2,0)&\"#\"&配件表!P238)","v":"1#20210|2#168"},"异妖7","橙色"]
["配件24",24,8,6024,{"$f":"E229","v":5},5,290,{"$f":"[1]!SUMSTRING(D239:E239,\"#\")","v":{"$error":"#NAME?"}},{"$f":"[1]!SUMSTRING(F239:G239,\"#\")","v":{"$error":"#NAME?"}},{"$f":"[1]!SUMSTRING(H239:I239,\"|\")","v":{"$error":"#NAME?"}},"生命",25600,"攻击",213,"暗抗（%）",12,{"$f":"IF(O239=\"\",VLOOKUP(K239,属性表!$H:$I,2,0)&\"#\"&配件表!L239&\"|\"&VLOOKUP(M239,属性表!$H:$I,2,0)&\"#\"&配件表!N239,VLOOKUP(K239,属性表!$H:$I,2,0)&\"#\"&配件表!L239&\"|\"&VLOOKUP(M239,属性表!$H:$I,2,0)&\"#\"&配件表!N239&\"|\"&VLOOKUP(O239,属性表!$H:$I,2,0)&\"#\"&配件表!P239)","v":"1#25600|2#213|112#12"},"异妖7","橙色"]
["配件24",24,9,6024,{"$f":"E230","v":6},5,355,{"$f":"[1]!SUMSTRING(D240:E240,\"#\")","v":{"$error":"#NAME?"}},{"$f":"[1]!SUMSTRING(F240:G240,\"#\")","v":{"$error":"#NAME?"}},{"$f":"[1]!SUMSTRING(H240:I240,\"|\")","v":{"$error":"#NAME?"}},"生命",31663,"攻击",263,null,null,{"$f":"IF(O240=\"\",VLOOKUP(K240,属性表!$H:$I,2,0)&\"#\"&配件表!L240&\"|\"&VLOOKUP(M240,属性表!$H:$I,2,0)&\"#\"&配件表!N240,VLOOKUP(K240,属性表!$H:$I,2,0)&\"#\"&配件表!L240&\"|\"&VLOOKUP(M240,属性表!$H:$I,2,0)&\"#\"&配件表!N240&\"|\"&VLOOKUP(O240,属性表!$H:$I,2,0)&\"#\"&配件表!P240)","v":"1#31663|2#263"},"异妖7","橙色"]
["配件24",24,10,6024,{"$f":"E231","v":8},5,420,{"$f":"[1]!SUMSTRING(D241:E241,\"#\")","v":{"$error":"#NAME?"}},{"$f":"[1]!SUMSTRING(F241:G241,\"#\")","v":{"$error":"#NAME?"}},{"$f":"[1]!SUMSTRING(H241:I241,\"|\")","v":{"$error":"#NAME?"}},"生命",38400,"攻击",320,"暗抗（%）",15,{"$f":"IF(O241=\"\",VLOOKUP(K241,属性表!$H:$I,2,0)&\"#\"&配件表!L241&\"|\"&VLOOKUP(M241,属性表!$H:$I,2,0)&\"#\"&配件表!N241,VLOOKUP(K241,属性表!$H:$I,2,0)&\"#\"&配件表!L241&\"|\"&VLOOKUP(M241,属性表!$H:$I,2,0)&\"#\"&配件表!N241&\"|\"&VLOOKUP(O241,属性表!$H:$I,2,0)&\"#\"&配件表!P241)","v":"1#38400|2#320|112#15"},"异妖7","橙色"]
["配件25",25,1,6025,{"$f":"E232","v":1},5,0,{"$f":"[1]!SUMSTRING(D242:E242,\"#\")","v":{"$error":"#NAME?"}},{"$f":"[1]!SUMSTRING(F242:G242,\"#\")","v":{"$error":"#NAME?"}},{"$f":"[1]!SUMSTRING(H242:I242,\"|\")","v":{"$error":"#NAME?"}},"生命",1347,"攻击",11,null,null,{"$f":"IF(O242=\"\",VLOOKUP(K242,属性表!$H:$I,2,0)&\"#\"&配件表!L242&\"|\"&VLOOKUP(M242,属性表!$H:$I,2,0)&\"#\"&配件表!N242,VLOOKUP(K242,属性表!$H:$I,2,0)&\"#\"&配件表!L242&\"|\"&VLOOKUP(M242,属性表!$H:$I,2,0)&\"#\"&配件表!N242&\"|\"&VLOOKUP(O242,属性表!$H:$I,2,0)&\"#\"&配件表!P242)","v":"1#1347|2#11"},"异妖8","橙色"]
["配件25",25,2,6025,{"$f":"E233","v":1},5,40,{"$f":"[1]!SUMSTRING(D243:E243,\"#\")","v":{"$error":"#NAME?"}},{"$f":"[1]!SUMSTRING(F243:G243,\"#\")","v":{"$error":"#NAME?"}},{"$f":"[1]!SUMSTRING(H243:I243,\"|\")","v":{"$error":"#NAME?"}},"生命",3368,"攻击",28,"速度",34,{"$f":"IF(O243=\"\",VLOOKUP(K243,属性表!$H:$I,2,0)&\"#\"&配件表!L243&\"|\"&VLOOKUP(M243,属性表!$H:$I,2,0)&\"#\"&配件表!N243,VLOOKUP(K243,属性表!$H:$I,2,0)&\"#\"&配件表!L243&\"|\"&VLOOKUP(M243,属性表!$H:$I,2,0)&\"#\"&配件表!N243&\"|\"&VLOOKUP(O243,属性表!$H:$I,2,0)&\"#\"&配件表!P243)","v":"1#3368|2#28|5#34"},"异妖8","橙色"]
["配件25",25,3,6025,{"$f":"E234","v":2},5,65,{"$f":"[1]!SUMSTRING(D244:E244,\"#\")","v":{"$error":"#NAME?"}},{"$f":"[1]!SUMSTRING(F244:G244,\"#\")","v":{"$error":"#NAME?"}},{"$f":"[1]!SUMSTRING(H244:I244,\"|\")","v":{"$error":"#NAME?"}},"生命",5389,"攻击",44,null,null,{"$f":"IF(O244=\"\",VLOOKUP(K244,属性表!$H:$I,2,0)&\"#\"&配件表!L244&\"|\"&VLOOKUP(M244,属性表!$H:$I,2,0)&\"#\"&配件表!N244,VLOOKUP(K244,属性表!$H:$I,2,0)&\"#\"&配件表!L244&\"|\"&VLOOKUP(M244,属性表!$H:$I,2,0)&\"#\"&配件表!N244&\"|\"&VLOOKUP(O244,属性表!$H:$I,2,0)&\"#\"&配件表!P244)","v":"1#5389|2#44"},"异妖8","橙色"]
["配件25",25,4,6025,{"$f":"E235","v":2},5,100,{"$f":"[1]!SUMSTRING(D245:E245,\"#\")","v":{"$error":"#NAME?"}},{"$f":"[1]!SUMSTRING(F245:G245,\"#\")","v":{"$error":"#NAME?"}},{"$f":"[1]!SUMSTRING(H245:I245,\"|\")","v":{"$error":"#NAME?"}},"生命",8084,"攻击",67,"速度",83,{"$f":"IF(O245=\"\",VLOOKUP(K245,属性表!$H:$I,2,0)&\"#\"&配件表!L245&\"|\"&VLOOKUP(M245,属性表!$H:$I,2,0)&\"#\"&配件表!N245,VLOOKUP(K245,属性表!$H:$I,2,0)&\"#\"&配件表!L245&\"|\"&VLOOKUP(M245,属性表!$H:$I,2,0)&\"#\"&配件表!N245&\"|\"&VLOOKUP(O245,属性表!$H:$I,2,0)&\"#\"&配件表!P245)","v":"1#8084|2#67|5#83"},"异妖8","橙色"]
["配件25",25,5,6025,{"$f":"E236","v":3},5,135,{"$f":"[1]!SUMSTRING(D246:E246,\"#\")","v":{"$error":"#NAME?"}},{"$f":"[1]!SUMSTRING(F246:G246,\"#\")","v":{"$error":"#NAME?"}},{"$f":"[1]!SUMSTRING(H246:I246,\"|\")","v":{"$error":"#NAME?"}},"生命",11452,"攻击",95,null,null,{"$f":"IF(O246=\"\",VLOOKUP(K246,属性表!$H:$I,2,0)&\"#\"&配件表!L246&\"|\"&VLOOKUP(M246,属性表!$H:$I,2,0)&\"#\"&配件表!N246,VLOOKUP(K246,属性表!$H:$I,2,0)&\"#\"&配件表!L246&\"|\"&VLOOKUP(M246,属性表!$H:$I,2,0)&\"#\"&配件表!N246&\"|\"&VLOOKUP(O246,属性表!$H:$I,2,0)&\"#\"&配件表!P246)","v":"1#11452|2#95"},"异妖8","橙色"]
["配件25",25,6,6025,{"$f":"E237","v":3},5,180,{"$f":"[1]!SUMSTRING(D247:E247,\"#\")","v":{"$error":"#NAME?"}},{"$f":"[1]!SUMSTRING(F247:G247,\"#\")","v":{"$error":"#NAME?"}},{"$f":"[1]!SUMSTRING(H247:I247,\"|\")","v":{"$error":"#NAME?"}},"生命",15494,"攻击",129,"速度",160,{"$f":"IF(O247=\"\",VLOOKUP(K247,属性表!$H:$I,2,0)&\"#\"&配件表!L247&\"|\"&VLOOKUP(M247,属性表!$H:$I,2,0)&\"#\"&配件表!N247,VLOOKUP(K247,属性表!$H:$I,2,0)&\"#\"&配件表!L247&\"|\"&VLOOKUP(M247,属性表!$H:$I,2,0)&\"#\"&配件表!N247&\"|\"&VLOOKUP(O247,属性表!$H:$I,2,0)&\"#\"&配件表!P247)","v":"1#15494|2#129|5#160"},"异妖8","橙色"]
["配件25",25,7,6025,{"$f":"E238","v":4},5,235,{"$f":"[1]!SUMSTRING(D248:E248,\"#\")","v":{"$error":"#NAME?"}},{"$f":"[1]!SUMSTRING(F248:G248,\"#\")","v":{"$error":"#NAME?"}},{"$f":"[1]!SUMSTRING(H248:I248,\"|\")","v":{"$error":"#NAME?"}},"生命",20210,"攻击",168,null,null,{"$f":"IF(O248=\"\",VLOOKUP(K248,属性表!$H:$I,2,0)&\"#\"&配件表!L248&\"|\"&VLOOKUP(M248,属性表!$H:$I,2,0)&\"#\"&配件表!N248,VLOOKUP(K248,属性表!$H:$I,2,0)&\"#\"&配件表!L248&\"|\"&VLOOKUP(M248,属性表!$H:$I,2,0)&\"#\"&配件表!N248&\"|\"&VLOOKUP(O248,属性表!$H:$I,2,0)&\"#\"&配件表!P248)","v":"1#20210|2#168"},"异妖8","橙色"]
["配件25",25,8,6025,{"$f":"E239","v":5},5,290,{"$f":"[1]!SUMSTRING(D249:E249,\"#\")","v":{"$error":"#NAME?"}},{"$f":"[1]!SUMSTRING(F249:G249,\"#\")","v":{"$error":"#NAME?"}},{"$f":"[1]!SUMSTRING(H249:I249,\"|\")","v":{"$error":"#NAME?"}},"生命",25600,"攻击",213,"速度",265,{"$f":"IF(O249=\"\",VLOOKUP(K249,属性表!$H:$I,2,0)&\"#\"&配件表!L249&\"|\"&VLOOKUP(M249,属性表!$H:$I,2,0)&\"#\"&配件表!N249,VLOOKUP(K249,属性表!$H:$I,2,0)&\"#\"&配件表!L249&\"|\"&VLOOKUP(M249,属性表!$H:$I,2,0)&\"#\"&配件表!N249&\"|\"&VLOOKUP(O249,属性表!$H:$I,2,0)&\"#\"&配件表!P249)","v":"1#25600|2#213|5#265"},"异妖8","橙色"]
["配件25",25,9,6025,{"$f":"E240","v":6},5,355,{"$f":"[1]!SUMSTRING(D250:E250,\"#\")","v":{"$error":"#NAME?"}},{"$f":"[1]!SUMSTRING(F250:G250,\"#\")","v":{"$error":"#NAME?"}},{"$f":"[1]!SUMSTRING(H250:I250,\"|\")","v":{"$error":"#NAME?"}},"生命",31663,"攻击",263,null,null,{"$f":"IF(O250=\"\",VLOOKUP(K250,属性表!$H:$I,2,0)&\"#\"&配件表!L250&\"|\"&VLOOKUP(M250,属性表!$H:$I,2,0)&\"#\"&配件表!N250,VLOOKUP(K250,属性表!$H:$I,2,0)&\"#\"&配件表!L250&\"|\"&VLOOKUP(M250,属性表!$H:$I,2,0)&\"#\"&配件表!N250&\"|\"&VLOOKUP(O250,属性表!$H:$I,2,0)&\"#\"&配件表!P250)","v":"1#31663|2#263"},{"$f":"VLOOKUP(B250,$Y:$Z,2,0)","v":"异妖8"},{"$f":"VLOOKUP(R250,$Z:$AA,2,0)","v":"橙色"}]
["配件25",25,10,6025,{"$f":"E241","v":8},5,420,{"$f":"[1]!SUMSTRING(D251:E251,\"#\")","v":{"$error":"#NAME?"}},{"$f":"[1]!SUMSTRING(F251:G251,\"#\")","v":{"$error":"#NAME?"}},{"$f":"[1]!SUMSTRING(H251:I251,\"|\")","v":{"$error":"#NAME?"}},"生命",38400,"攻击",320,"速度",397,{"$f":"IF(O251=\"\",VLOOKUP(K251,属性表!$H:$I,2,0)&\"#\"&配件表!L251&\"|\"&VLOOKUP(M251,属性表!$H:$I,2,0)&\"#\"&配件表!N251,VLOOKUP(K251,属性表!$H:$I,2,0)&\"#\"&配件表!L251&\"|\"&VLOOKUP(M251,属性表!$H:$I,2,0)&\"#\"&配件表!N251&\"|\"&VLOOKUP(O251,属性表!$H:$I,2,0)&\"#\"&配件表!P251)","v":"1#38400|2#320|5#397"},"异妖8","橙色"]
["配件26",26,1,6026,{"$f":"E242","v":1},5,0,{"$f":"[1]!SUMSTRING(D252:E252,\"#\")","v":{"$error":"#NAME?"}},{"$f":"[1]!SUMSTRING(F252:G252,\"#\")","v":{"$error":"#NAME?"}},{"$f":"[1]!SUMSTRING(H252:I252,\"|\")","v":{"$error":"#NAME?"}},"生命",1347,"攻击",11,null,null,{"$f":"IF(O252=\"\",VLOOKUP(K252,属性表!$H:$I,2,0)&\"#\"&配件表!L252&\"|\"&VLOOKUP(M252,属性表!$H:$I,2,0)&\"#\"&配件表!N252,VLOOKUP(K252,属性表!$H:$I,2,0)&\"#\"&配件表!L252&\"|\"&VLOOKUP(M252,属性表!$H:$I,2,0)&\"#\"&配件表!N252&\"|\"&VLOOKUP(O252,属性表!$H:$I,2,0)&\"#\"&配件表!P252)","v":"1#1347|2#11"},"异妖8","橙色"]
["配件26",26,2,6026,{"$f":"E243","v":1},5,40,{"$f":"[1]!SUMSTRING(D253:E253,\"#\")","v":{"$error":"#NAME?"}},{"$f":"[1]!SUMSTRING(F253:G253,\"#\")","v":{"$error":"#NAME?"}},{"$f":"[1]!SUMSTRING(H253:I253,\"|\")","v":{"$error":"#NAME?"}},"生命",3368,"攻击",28,"回复系数",3,{"$f":"IF(O253=\"\",VLOOKUP(K253,属性表!$H:$I,2,0)&\"#\"&配件表!L253&\"|\"&VLOOKUP(M253,属性表!$H:$I,2,0)&\"#\"&配件表!N253,VLOOKUP(K253,属性表!$H:$I,2,0)&\"#\"&配件表!L253&\"|\"&VLOOKUP(M253,属性表!$H:$I,2,0)&\"#\"&配件表!N253&\"|\"&VLOOKUP(O253,属性表!$H:$I,2,0)&\"#\"&配件表!P253)","v":"1#3368|2#28|57#3"},"异妖8","橙色"]
["配件26",26,3,6026,{"$f":"E244","v":2},5,65,{"$f":"[1]!SUMSTRING(D254:E254,\"#\")","v":{"$error":"#NAME?"}},{"$f":"[1]!SUMSTRING(F254:G254,\"#\")","v":{"$error":"#NAME?"}},{"$f":"[1]!SUMSTRING(H254:I254,\"|\")","v":{"$error":"#NAME?"}},"生命",5389,"攻击",44,null,null,{"$f":"IF(O254=\"\",VLOOKUP(K254,属性表!$H:$I,2,0)&\"#\"&配件表!L254&\"|\"&VLOOKUP(M254,属性表!$H:$I,2,0)&\"#\"&配件表!N254,VLOOKUP(K254,属性表!$H:$I,2,0)&\"#\"&配件表!L254&\"|\"&VLOOKUP(M254,属性表!$H:$I,2,0)&\"#\"&配件表!N254&\"|\"&VLOOKUP(O254,属性表!$H:$I,2,0)&\"#\"&配件表!P254)","v":"1#5389|2#44"},"异妖8","橙色"]
["配件26",26,4,6026,{"$f":"E245","v":2},5,100,{"$f":"[1]!SUMSTRING(D255:E255,\"#\")","v":{"$error":"#NAME?"}},{"$f":"[1]!SUMSTRING(F255:G255,\"#\")","v":{"$error":"#NAME?"}},{"$f":"[1]!SUMSTRING(H255:I255,\"|\")","v":{"$error":"#NAME?"}},"生命",8084,"攻击",67,"回复系数",6,{"$f":"IF(O255=\"\",VLOOKUP(K255,属性表!$H:$I,2,0)&\"#\"&配件表!L255&\"|\"&VLOOKUP(M255,属性表!$H:$I,2,0)&\"#\"&配件表!N255,VLOOKUP(K255,属性表!$H:$I,2,0)&\"#\"&配件表!L255&\"|\"&VLOOKUP(M255,属性表!$H:$I,2,0)&\"#\"&配件表!N255&\"|\"&VLOOKUP(O255,属性表!$H:$I,2,0)&\"#\"&配件表!P255)","v":"1#8084|2#67|57#6"},"异妖8","橙色"]
["配件26",26,5,6026,{"$f":"E246","v":3},5,135,{"$f":"[1]!SUMSTRING(D256:E256,\"#\")","v":{"$error":"#NAME?"}},{"$f":"[1]!SUMSTRING(F256:G256,\"#\")","v":{"$error":"#NAME?"}},{"$f":"[1]!SUMSTRING(H256:I256,\"|\")","v":{"$error":"#NAME?"}},"生命",11452,"攻击",95,null,null,{"$f":"IF(O256=\"\",VLOOKUP(K256,属性表!$H:$I,2,0)&\"#\"&配件表!L256&\"|\"&VLOOKUP(M256,属性表!$H:$I,2,0)&\"#\"&配件表!N256,VLOOKUP(K256,属性表!$H:$I,2,0)&\"#\"&配件表!L256&\"|\"&VLOOKUP(M256,属性表!$H:$I,2,0)&\"#\"&配件表!N256&\"|\"&VLOOKUP(O256,属性表!$H:$I,2,0)&\"#\"&配件表!P256)","v":"1#11452|2#95"},"异妖8","橙色"]
["配件26",26,6,6026,{"$f":"E247","v":3},5,180,{"$f":"[1]!SUMSTRING(D257:E257,\"#\")","v":{"$error":"#NAME?"}},{"$f":"[1]!SUMSTRING(F257:G257,\"#\")","v":{"$error":"#NAME?"}},{"$f":"[1]!SUMSTRING(H257:I257,\"|\")","v":{"$error":"#NAME?"}},"生命",15494,"攻击",129,"回复系数",9,{"$f":"IF(O257=\"\",VLOOKUP(K257,属性表!$H:$I,2,0)&\"#\"&配件表!L257&\"|\"&VLOOKUP(M257,属性表!$H:$I,2,0)&\"#\"&配件表!N257,VLOOKUP(K257,属性表!$H:$I,2,0)&\"#\"&配件表!L257&\"|\"&VLOOKUP(M257,属性表!$H:$I,2,0)&\"#\"&配件表!N257&\"|\"&VLOOKUP(O257,属性表!$H:$I,2,0)&\"#\"&配件表!P257)","v":"1#15494|2#129|57#9"},"异妖8","橙色"]
["配件26",26,7,6026,{"$f":"E248","v":4},5,235,{"$f":"[1]!SUMSTRING(D258:E258,\"#\")","v":{"$error":"#NAME?"}},{"$f":"[1]!SUMSTRING(F258:G258,\"#\")","v":{"$error":"#NAME?"}},{"$f":"[1]!SUMSTRING(H258:I258,\"|\")","v":{"$error":"#NAME?"}},"生命",20210,"攻击",168,null,null,{"$f":"IF(O258=\"\",VLOOKUP(K258,属性表!$H:$I,2,0)&\"#\"&配件表!L258&\"|\"&VLOOKUP(M258,属性表!$H:$I,2,0)&\"#\"&配件表!N258,VLOOKUP(K258,属性表!$H:$I,2,0)&\"#\"&配件表!L258&\"|\"&VLOOKUP(M258,属性表!$H:$I,2,0)&\"#\"&配件表!N258&\"|\"&VLOOKUP(O258,属性表!$H:$I,2,0)&\"#\"&配件表!P258)","v":"1#20210|2#168"},"异妖8","橙色"]
[{"$f":"\"配件\"&B259","v":"配件26"},26,8,6026,{"$f":"E249","v":5},5,290,{"$f":"[1]!SUMSTRING(D259:E259,\"#\")","v":{"$error":"#NAME?"}},{"$f":"[1]!SUMSTRING(F259:G259,\"#\")","v":{"$error":"#NAME?"}},{"$f":"[1]!SUMSTRING(H259:I259,\"|\")","v":{"$error":"#NAME?"}},"生命",25600,"攻击",213,"回复系数",12,{"$f":"IF(O259=\"\",VLOOKUP(K259,属性表!$H:$I,2,0)&\"#\"&配件表!L259&\"|\"&VLOOKUP(M259,属性表!$H:$I,2,0)&\"#\"&配件表!N259,VLOOKUP(K259,属性表!$H:$I,2,0)&\"#\"&配件表!L259&\"|\"&VLOOKUP(M259,属性表!$H:$I,2,0)&\"#\"&配件表!N259&\"|\"&VLOOKUP(O259,属性表!$H:$I,2,0)&\"#\"&配件表!P259)","v":"1#25600|2#213|57#12"},"异妖8","橙色"]
["配件26",26,9,6026,{"$f":"E250","v":6},5,355,{"$f":"[1]!SUMSTRING(D260:E260,\"#\")","v":{"$error":"#NAME?"}},{"$f":"[1]!SUMSTRING(F260:G260,\"#\")","v":{"$error":"#NAME?"}},{"$f":"[1]!SUMSTRING(H260:I260,\"|\")","v":{"$error":"#NAME?"}},"生命",31663,"攻击",263,null,null,{"$f":"IF(O260=\"\",VLOOKUP(K260,属性表!$H:$I,2,0)&\"#\"&配件表!L260&\"|\"&VLOOKUP(M260,属性表!$H:$I,2,0)&\"#\"&配件表!N260,VLOOKUP(K260,属性表!$H:$I,2,0)&\"#\"&配件表!L260&\"|\"&VLOOKUP(M260,属性表!$H:$I,2,0)&\"#\"&配件表!N260&\"|\"&VLOOKUP(O260,属性表!$H:$I,2,0)&\"#\"&配件表!P260)","v":"1#31663|2#263"},"异妖8","橙色"]
["配件26",26,10,6026,{"$f":"E251","v":8},5,420,{"$f":"[1]!SUMSTRING(D261:E261,\"#\")","v":{"$error":"#NAME?"}},{"$f":"[1]!SUMSTRING(F261:G261,\"#\")","v":{"$error":"#NAME?"}},{"$f":"[1]!SUMSTRING(H261:I261,\"|\")","v":{"$error":"#NAME?"}},"生命",38400,"攻击",320,"回复系数",15,{"$f":"IF(O261=\"\",VLOOKUP(K261,属性表!$H:$I,2,0)&\"#\"&配件表!L261&\"|\"&VLOOKUP(M261,属性表!$H:$I,2,0)&\"#\"&配件表!N261,VLOOKUP(K261,属性表!$H:$I,2,0)&\"#\"&配件表!L261&\"|\"&VLOOKUP(M261,属性表!$H:$I,2,0)&\"#\"&配件表!N261&\"|\"&VLOOKUP(O261,属性表!$H:$I,2,0)&\"#\"&配件表!P261)","v":"1#38400|2#320|57#15"},"异妖8","橙色"]
["配件27",27,1,6027,{"$f":"E252","v":1},5,0,{"$f":"[1]!SUMSTRING(D262:E262,\"#\")","v":{"$error":"#NAME?"}},{"$f":"[1]!SUMSTRING(F262:G262,\"#\")","v":{"$error":"#NAME?"}},{"$f":"[1]!SUMSTRING(H262:I262,\"|\")","v":{"$error":"#NAME?"}},"生命",1347,"攻击",11,null,null,{"$f":"IF(O262=\"\",VLOOKUP(K262,属性表!$H:$I,2,0)&\"#\"&配件表!L262&\"|\"&VLOOKUP(M262,属性表!$H:$I,2,0)&\"#\"&配件表!N262,VLOOKUP(K262,属性表!$H:$I,2,0)&\"#\"&配件表!L262&\"|\"&VLOOKUP(M262,属性表!$H:$I,2,0)&\"#\"&配件表!N262&\"|\"&VLOOKUP(O262,属性表!$H:$I,2,0)&\"#\"&配件表!P262)","v":"1#1347|2#11"},"异妖8","橙色"]
["配件27",27,2,6027,{"$f":"E253","v":1},5,40,{"$f":"[1]!SUMSTRING(D263:E263,\"#\")","v":{"$error":"#NAME?"}},{"$f":"[1]!SUMSTRING(F263:G263,\"#\")","v":{"$error":"#NAME?"}},{"$f":"[1]!SUMSTRING(H263:I263,\"|\")","v":{"$error":"#NAME?"}},"生命",3368,"攻击",28,"速度",34,{"$f":"IF(O263=\"\",VLOOKUP(K263,属性表!$H:$I,2,0)&\"#\"&配件表!L263&\"|\"&VLOOKUP(M263,属性表!$H:$I,2,0)&\"#\"&配件表!N263,VLOOKUP(K263,属性表!$H:$I,2,0)&\"#\"&配件表!L263&\"|\"&VLOOKUP(M263,属性表!$H:$I,2,0)&\"#\"&配件表!N263&\"|\"&VLOOKUP(O263,属性表!$H:$I,2,0)&\"#\"&配件表!P263)","v":"1#3368|2#28|5#34"},"异妖8","橙色"]
["配件27",27,3,6027,{"$f":"E254","v":2},5,65,{"$f":"[1]!SUMSTRING(D264:E264,\"#\")","v":{"$error":"#NAME?"}},{"$f":"[1]!SUMSTRING(F264:G264,\"#\")","v":{"$error":"#NAME?"}},{"$f":"[1]!SUMSTRING(H264:I264,\"|\")","v":{"$error":"#NAME?"}},"生命",5389,"攻击",44,null,null,{"$f":"IF(O264=\"\",VLOOKUP(K264,属性表!$H:$I,2,0)&\"#\"&配件表!L264&\"|\"&VLOOKUP(M264,属性表!$H:$I,2,0)&\"#\"&配件表!N264,VLOOKUP(K264,属性表!$H:$I,2,0)&\"#\"&配件表!L264&\"|\"&VLOOKUP(M264,属性表!$H:$I,2,0)&\"#\"&配件表!N264&\"|\"&VLOOKUP(O264,属性表!$H:$I,2,0)&\"#\"&配件表!P264)","v":"1#5389|2#44"},"异妖8","橙色"]
["配件27",27,4,6027,{"$f":"E255","v":2},5,100,{"$f":"[1]!SUMSTRING(D265:E265,\"#\")","v":{"$error":"#NAME?"}},{"$f":"[1]!SUMSTRING(F265:G265,\"#\")","v":{"$error":"#NAME?"}},{"$f":"[1]!SUMSTRING(H265:I265,\"|\")","v":{"$error":"#NAME?"}},"生命",8084,"攻击",67,"速度",83,{"$f":"IF(O265=\"\",VLOOKUP(K265,属性表!$H:$I,2,0)&\"#\"&配件表!L265&\"|\"&VLOOKUP(M265,属性表!$H:$I,2,0)&\"#\"&配件表!N265,VLOOKUP(K265,属性表!$H:$I,2,0)&\"#\"&配件表!L265&\"|\"&VLOOKUP(M265,属性表!$H:$I,2,0)&\"#\"&配件表!N265&\"|\"&VLOOKUP(O265,属性表!$H:$I,2,0)&\"#\"&配件表!P265)","v":"1#8084|2#67|5#83"},"异妖8","橙色"]
["配件27",27,5,6027,{"$f":"E256","v":3},5,135,{"$f":"[1]!SUMSTRING(D266:E266,\"#\")","v":{"$error":"#NAME?"}},{"$f":"[1]!SUMSTRING(F266:G266,\"#\")","v":{"$error":"#NAME?"}},{"$f":"[1]!SUMSTRING(H266:I266,\"|\")","v":{"$error":"#NAME?"}},"生命",11452,"攻击",95,null,null,{"$f":"IF(O266=\"\",VLOOKUP(K266,属性表!$H:$I,2,0)&\"#\"&配件表!L266&\"|\"&VLOOKUP(M266,属性表!$H:$I,2,0)&\"#\"&配件表!N266,VLOOKUP(K266,属性表!$H:$I,2,0)&\"#\"&配件表!L266&\"|\"&VLOOKUP(M266,属性表!$H:$I,2,0)&\"#\"&配件表!N266&\"|\"&VLOOKUP(O266,属性表!$H:$I,2,0)&\"#\"&配件表!P266)","v":"1#11452|2#95"},"异妖8","橙色"]
["配件27",27,6,6027,{"$f":"E257","v":3},5,180,{"$f":"[1]!SUMSTRING(D267:E267,\"#\")","v":{"$error":"#NAME?"}},{"$f":"[1]!SUMSTRING(F267:G267,\"#\")","v":{"$error":"#NAME?"}},{"$f":"[1]!SUMSTRING(H267:I267,\"|\")","v":{"$error":"#NAME?"}},"生命",15494,"攻击",129,"速度",160,{"$f":"IF(O267=\"\",VLOOKUP(K267,属性表!$H:$I,2,0)&\"#\"&配件表!L267&\"|\"&VLOOKUP(M267,属性表!$H:$I,2,0)&\"#\"&配件表!N267,VLOOKUP(K267,属性表!$H:$I,2,0)&\"#\"&配件表!L267&\"|\"&VLOOKUP(M267,属性表!$H:$I,2,0)&\"#\"&配件表!N267&\"|\"&VLOOKUP(O267,属性表!$H:$I,2,0)&\"#\"&配件表!P267)","v":"1#15494|2#129|5#160"},"异妖8","橙色"]
["配件27",27,7,6027,{"$f":"E258","v":4},5,235,{"$f":"[1]!SUMSTRING(D268:E268,\"#\")","v":{"$error":"#NAME?"}},{"$f":"[1]!SUMSTRING(F268:G268,\"#\")","v":{"$error":"#NAME?"}},{"$f":"[1]!SUMSTRING(H268:I268,\"|\")","v":{"$error":"#NAME?"}},"生命",20210,"攻击",168,null,null,{"$f":"IF(O268=\"\",VLOOKUP(K268,属性表!$H:$I,2,0)&\"#\"&配件表!L268&\"|\"&VLOOKUP(M268,属性表!$H:$I,2,0)&\"#\"&配件表!N268,VLOOKUP(K268,属性表!$H:$I,2,0)&\"#\"&配件表!L268&\"|\"&VLOOKUP(M268,属性表!$H:$I,2,0)&\"#\"&配件表!N268&\"|\"&VLOOKUP(O268,属性表!$H:$I,2,0)&\"#\"&配件表!P268)","v":"1#20210|2#168"},"异妖8","橙色"]
["配件27",{"$f":"B259+1","v":27},{"$f":"C259","v":8},{"$f":"D259+1","v":6027},{"$f":"E259","v":5},5,290,{"$f":"[1]!SUMSTRING(D269:E269,\"#\")","v":{"$error":"#NAME?"}},{"$f":"[1]!SUMSTRING(F269:G269,\"#\")","v":{"$error":"#NAME?"}},{"$f":"[1]!SUMSTRING(H269:I269,\"|\")","v":{"$error":"#NAME?"}},"生命",25600,"攻击",213,"速度",265,{"$f":"IF(O269=\"\",VLOOKUP(K269,属性表!$H:$I,2,0)&\"#\"&配件表!L269&\"|\"&VLOOKUP(M269,属性表!$H:$I,2,0)&\"#\"&配件表!N269,VLOOKUP(K269,属性表!$H:$I,2,0)&\"#\"&配件表!L269&\"|\"&VLOOKUP(M269,属性表!$H:$I,2,0)&\"#\"&配件表!N269&\"|\"&VLOOKUP(O269,属性表!$H:$I,2,0)&\"#\"&配件表!P269)","v":"1#25600|2#213|5#265"},"异妖8","橙色"]
["配件27",27,9,6027,{"$f":"E260","v":6},5,355,{"$f":"[1]!SUMSTRING(D270:E270,\"#\")","v":{"$error":"#NAME?"}},{"$f":"[1]!SUMSTRING(F270:G270,\"#\")","v":{"$error":"#NAME?"}},{"$f":"[1]!SUMSTRING(H270:I270,\"|\")","v":{"$error":"#NAME?"}},"生命",31663,"攻击",263,null,null,{"$f":"IF(O270=\"\",VLOOKUP(K270,属性表!$H:$I,2,0)&\"#\"&配件表!L270&\"|\"&VLOOKUP(M270,属性表!$H:$I,2,0)&\"#\"&配件表!N270,VLOOKUP(K270,属性表!$H:$I,2,0)&\"#\"&配件表!L270&\"|\"&VLOOKUP(M270,属性表!$H:$I,2,0)&\"#\"&配件表!N270&\"|\"&VLOOKUP(O270,属性表!$H:$I,2,0)&\"#\"&配件表!P270)","v":"1#31663|2#263"},"异妖8","橙色"]
["配件27",27,10,6027,{"$f":"E261","v":8},5,420,{"$f":"[1]!SUMSTRING(D271:E271,\"#\")","v":{"$error":"#NAME?"}},{"$f":"[1]!SUMSTRING(F271:G271,\"#\")","v":{"$error":"#NAME?"}},{"$f":"[1]!SUMSTRING(H271:I271,\"|\")","v":{"$error":"#NAME?"}},"生命",38400,"攻击",320,"速度",397,{"$f":"IF(O271=\"\",VLOOKUP(K271,属性表!$H:$I,2,0)&\"#\"&配件表!L271&\"|\"&VLOOKUP(M271,属性表!$H:$I,2,0)&\"#\"&配件表!N271,VLOOKUP(K271,属性表!$H:$I,2,0)&\"#\"&配件表!L271&\"|\"&VLOOKUP(M271,属性表!$H:$I,2,0)&\"#\"&配件表!N271&\"|\"&VLOOKUP(O271,属性表!$H:$I,2,0)&\"#\"&配件表!P271)","v":"1#38400|2#320|5#397"},"异妖8","橙色"]
["配件28",28,1,6028,{"$f":"E262","v":1},5,0,{"$f":"[1]!SUMSTRING(D272:E272,\"#\")","v":{"$error":"#NAME?"}},{"$f":"[1]!SUMSTRING(F272:G272,\"#\")","v":{"$error":"#NAME?"}},{"$f":"[1]!SUMSTRING(H272:I272,\"|\")","v":{"$error":"#NAME?"}},"生命",1347,"攻击",11,null,null,{"$f":"IF(O272=\"\",VLOOKUP(K272,属性表!$H:$I,2,0)&\"#\"&配件表!L272&\"|\"&VLOOKUP(M272,属性表!$H:$I,2,0)&\"#\"&配件表!N272,VLOOKUP(K272,属性表!$H:$I,2,0)&\"#\"&配件表!L272&\"|\"&VLOOKUP(M272,属性表!$H:$I,2,0)&\"#\"&配件表!N272&\"|\"&VLOOKUP(O272,属性表!$H:$I,2,0)&\"#\"&配件表!P272)","v":"1#1347|2#11"},"异妖8","橙色"]
["配件28",28,2,6028,{"$f":"E263","v":1},5,40,{"$f":"[1]!SUMSTRING(D273:E273,\"#\")","v":{"$error":"#NAME?"}},{"$f":"[1]!SUMSTRING(F273:G273,\"#\")","v":{"$error":"#NAME?"}},{"$f":"[1]!SUMSTRING(H273:I273,\"|\")","v":{"$error":"#NAME?"}},"生命",3368,"攻击",28,"回复系数",3,{"$f":"IF(O273=\"\",VLOOKUP(K273,属性表!$H:$I,2,0)&\"#\"&配件表!L273&\"|\"&VLOOKUP(M273,属性表!$H:$I,2,0)&\"#\"&配件表!N273,VLOOKUP(K273,属性表!$H:$I,2,0)&\"#\"&配件表!L273&\"|\"&VLOOKUP(M273,属性表!$H:$I,2,0)&\"#\"&配件表!N273&\"|\"&VLOOKUP(O273,属性表!$H:$I,2,0)&\"#\"&配件表!P273)","v":"1#3368|2#28|57#3"},"异妖8","橙色"]
["配件28",28,3,6028,{"$f":"E264","v":2},5,65,{"$f":"[1]!SUMSTRING(D274:E274,\"#\")","v":{"$error":"#NAME?"}},{"$f":"[1]!SUMSTRING(F274:G274,\"#\")","v":{"$error":"#NAME?"}},{"$f":"[1]!SUMSTRING(H274:I274,\"|\")","v":{"$error":"#NAME?"}},"生命",5389,"攻击",44,null,null,{"$f":"IF(O274=\"\",VLOOKUP(K274,属性表!$H:$I,2,0)&\"#\"&配件表!L274&\"|\"&VLOOKUP(M274,属性表!$H:$I,2,0)&\"#\"&配件表!N274,VLOOKUP(K274,属性表!$H:$I,2,0)&\"#\"&配件表!L274&\"|\"&VLOOKUP(M274,属性表!$H:$I,2,0)&\"#\"&配件表!N274&\"|\"&VLOOKUP(O274,属性表!$H:$I,2,0)&\"#\"&配件表!P274)","v":"1#5389|2#44"},"异妖8","橙色"]
["配件28",28,4,6028,{"$f":"E265","v":2},5,100,{"$f":"[1]!SUMSTRING(D275:E275,\"#\")","v":{"$error":"#NAME?"}},{"$f":"[1]!SUMSTRING(F275:G275,\"#\")","v":{"$error":"#NAME?"}},{"$f":"[1]!SUMSTRING(H275:I275,\"|\")","v":{"$error":"#NAME?"}},"生命",8084,"攻击",67,"回复系数",6,{"$f":"IF(O275=\"\",VLOOKUP(K275,属性表!$H:$I,2,0)&\"#\"&配件表!L275&\"|\"&VLOOKUP(M275,属性表!$H:$I,2,0)&\"#\"&配件表!N275,VLOOKUP(K275,属性表!$H:$I,2,0)&\"#\"&配件表!L275&\"|\"&VLOOKUP(M275,属性表!$H:$I,2,0)&\"#\"&配件表!N275&\"|\"&VLOOKUP(O275,属性表!$H:$I,2,0)&\"#\"&配件表!P275)","v":"1#8084|2#67|57#6"},"异妖8","橙色"]
["配件28",28,5,6028,{"$f":"E266","v":3},5,135,{"$f":"[1]!SUMSTRING(D276:E276,\"#\")","v":{"$error":"#NAME?"}},{"$f":"[1]!SUMSTRING(F276:G276,\"#\")","v":{"$error":"#NAME?"}},{"$f":"[1]!SUMSTRING(H276:I276,\"|\")","v":{"$error":"#NAME?"}},"生命",11452,"攻击",95,null,null,{"$f":"IF(O276=\"\",VLOOKUP(K276,属性表!$H:$I,2,0)&\"#\"&配件表!L276&\"|\"&VLOOKUP(M276,属性表!$H:$I,2,0)&\"#\"&配件表!N276,VLOOKUP(K276,属性表!$H:$I,2,0)&\"#\"&配件表!L276&\"|\"&VLOOKUP(M276,属性表!$H:$I,2,0)&\"#\"&配件表!N276&\"|\"&VLOOKUP(O276,属性表!$H:$I,2,0)&\"#\"&配件表!P276)","v":"1#11452|2#95"},"异妖8","橙色"]
["配件28",28,6,6028,{"$f":"E267","v":3},5,180,{"$f":"[1]!SUMSTRING(D277:E277,\"#\")","v":{"$error":"#NAME?"}},{"$f":"[1]!SUMSTRING(F277:G277,\"#\")","v":{"$error":"#NAME?"}},{"$f":"[1]!SUMSTRING(H277:I277,\"|\")","v":{"$error":"#NAME?"}},"生命",15494,"攻击",129,"回复系数",9,{"$f":"IF(O277=\"\",VLOOKUP(K277,属性表!$H:$I,2,0)&\"#\"&配件表!L277&\"|\"&VLOOKUP(M277,属性表!$H:$I,2,0)&\"#\"&配件表!N277,VLOOKUP(K277,属性表!$H:$I,2,0)&\"#\"&配件表!L277&\"|\"&VLOOKUP(M277,属性表!$H:$I,2,0)&\"#\"&配件表!N277&\"|\"&VLOOKUP(O277,属性表!$H:$I,2,0)&\"#\"&配件表!P277)","v":"1#15494|2#129|57#9"},"异妖8","橙色"]
["配件28",28,7,6028,{"$f":"E268","v":4},5,235,{"$f":"[1]!SUMSTRING(D278:E278,\"#\")","v":{"$error":"#NAME?"}},{"$f":"[1]!SUMSTRING(F278:G278,\"#\")","v":{"$error":"#NAME?"}},{"$f":"[1]!SUMSTRING(H278:I278,\"|\")","v":{"$error":"#NAME?"}},"生命",20210,"攻击",168,null,null,{"$f":"IF(O278=\"\",VLOOKUP(K278,属性表!$H:$I,2,0)&\"#\"&配件表!L278&\"|\"&VLOOKUP(M278,属性表!$H:$I,2,0)&\"#\"&配件表!N278,VLOOKUP(K278,属性表!$H:$I,2,0)&\"#\"&配件表!L278&\"|\"&VLOOKUP(M278,属性表!$H:$I,2,0)&\"#\"&配件表!N278&\"|\"&VLOOKUP(O278,属性表!$H:$I,2,0)&\"#\"&配件表!P278)","v":"1#20210|2#168"},"异妖8","橙色"]
["配件28",28,8,6028,{"$f":"E269","v":5},5,290,{"$f":"[1]!SUMSTRING(D279:E279,\"#\")","v":{"$error":"#NAME?"}},{"$f":"[1]!SUMSTRING(F279:G279,\"#\")","v":{"$error":"#NAME?"}},{"$f":"[1]!SUMSTRING(H279:I279,\"|\")","v":{"$error":"#NAME?"}},"生命",25600,"攻击",213,"回复系数",12,{"$f":"IF(O279=\"\",VLOOKUP(K279,属性表!$H:$I,2,0)&\"#\"&配件表!L279&\"|\"&VLOOKUP(M279,属性表!$H:$I,2,0)&\"#\"&配件表!N279,VLOOKUP(K279,属性表!$H:$I,2,0)&\"#\"&配件表!L279&\"|\"&VLOOKUP(M279,属性表!$H:$I,2,0)&\"#\"&配件表!N279&\"|\"&VLOOKUP(O279,属性表!$H:$I,2,0)&\"#\"&配件表!P279)","v":"1#25600|2#213|57#12"},"异妖8","橙色"]
["配件28",28,9,6028,{"$f":"E270","v":6},5,355,{"$f":"[1]!SUMSTRING(D280:E280,\"#\")","v":{"$error":"#NAME?"}},{"$f":"[1]!SUMSTRING(F280:G280,\"#\")","v":{"$error":"#NAME?"}},{"$f":"[1]!SUMSTRING(H280:I280,\"|\")","v":{"$error":"#NAME?"}},"生命",31663,"攻击",263,null,null,{"$f":"IF(O280=\"\",VLOOKUP(K280,属性表!$H:$I,2,0)&\"#\"&配件表!L280&\"|\"&VLOOKUP(M280,属性表!$H:$I,2,0)&\"#\"&配件表!N280,VLOOKUP(K280,属性表!$H:$I,2,0)&\"#\"&配件表!L280&\"|\"&VLOOKUP(M280,属性表!$H:$I,2,0)&\"#\"&配件表!N280&\"|\"&VLOOKUP(O280,属性表!$H:$I,2,0)&\"#\"&配件表!P280)","v":"1#31663|2#263"},"异妖8","橙色"]
["配件28",28,10,6028,{"$f":"E271","v":8},5,420,{"$f":"[1]!SUMSTRING(D281:E281,\"#\")","v":{"$error":"#NAME?"}},{"$f":"[1]!SUMSTRING(F281:G281,\"#\")","v":{"$error":"#NAME?"}},{"$f":"[1]!SUMSTRING(H281:I281,\"|\")","v":{"$error":"#NAME?"}},"生命",38400,"攻击",320,"回复系数",15,{"$f":"IF(O281=\"\",VLOOKUP(K281,属性表!$H:$I,2,0)&\"#\"&配件表!L281&\"|\"&VLOOKUP(M281,属性表!$H:$I,2,0)&\"#\"&配件表!N281,VLOOKUP(K281,属性表!$H:$I,2,0)&\"#\"&配件表!L281&\"|\"&VLOOKUP(M281,属性表!$H:$I,2,0)&\"#\"&配件表!N281&\"|\"&VLOOKUP(O281,属性表!$H:$I,2,0)&\"#\"&配件表!P281)","v":"1#38400|2#320|57#15"},"异妖8","橙色"]
["配件29",29,1,6029,{"$f":"E272","v":1},5,0,{"$f":"[1]!SUMSTRING(D282:E282,\"#\")","v":{"$error":"#NAME?"}},{"$f":"[1]!SUMSTRING(F282:G282,\"#\")","v":{"$error":"#NAME?"}},{"$f":"[1]!SUMSTRING(H282:I282,\"|\")","v":{"$error":"#NAME?"}},"生命",1347,"攻击",11,null,null,{"$f":"IF(O282=\"\",VLOOKUP(K282,属性表!$H:$I,2,0)&\"#\"&配件表!L282&\"|\"&VLOOKUP(M282,属性表!$H:$I,2,0)&\"#\"&配件表!N282,VLOOKUP(K282,属性表!$H:$I,2,0)&\"#\"&配件表!L282&\"|\"&VLOOKUP(M282,属性表!$H:$I,2,0)&\"#\"&配件表!N282&\"|\"&VLOOKUP(O282,属性表!$H:$I,2,0)&\"#\"&配件表!P282)","v":"1#1347|2#11"},"异妖9","橙色"]
["配件29",29,2,6029,{"$f":"E273","v":1},5,40,{"$f":"[1]!SUMSTRING(D283:E283,\"#\")","v":{"$error":"#NAME?"}},{"$f":"[1]!SUMSTRING(F283:G283,\"#\")","v":{"$error":"#NAME?"}},{"$f":"[1]!SUMSTRING(H283:I283,\"|\")","v":{"$error":"#NAME?"}},"生命",3368,"攻击",28,"暴击",2,{"$f":"IF(O283=\"\",VLOOKUP(K283,属性表!$H:$I,2,0)&\"#\"&配件表!L283&\"|\"&VLOOKUP(M283,属性表!$H:$I,2,0)&\"#\"&配件表!N283,VLOOKUP(K283,属性表!$H:$I,2,0)&\"#\"&配件表!L283&\"|\"&VLOOKUP(M283,属性表!$H:$I,2,0)&\"#\"&配件表!N283&\"|\"&VLOOKUP(O283,属性表!$H:$I,2,0)&\"#\"&配件表!P283)","v":"1#3368|2#28|55#2"},"异妖9","橙色"]
["配件29",29,3,6029,{"$f":"E274","v":2},5,65,{"$f":"[1]!SUMSTRING(D284:E284,\"#\")","v":{"$error":"#NAME?"}},{"$f":"[1]!SUMSTRING(F284:G284,\"#\")","v":{"$error":"#NAME?"}},{"$f":"[1]!SUMSTRING(H284:I284,\"|\")","v":{"$error":"#NAME?"}},"生命",5389,"攻击",44,null,null,{"$f":"IF(O284=\"\",VLOOKUP(K284,属性表!$H:$I,2,0)&\"#\"&配件表!L284&\"|\"&VLOOKUP(M284,属性表!$H:$I,2,0)&\"#\"&配件表!N284,VLOOKUP(K284,属性表!$H:$I,2,0)&\"#\"&配件表!L284&\"|\"&VLOOKUP(M284,属性表!$H:$I,2,0)&\"#\"&配件表!N284&\"|\"&VLOOKUP(O284,属性表!$H:$I,2,0)&\"#\"&配件表!P284)","v":"1#5389|2#44"},"异妖9","橙色"]
["配件29",29,4,6029,{"$f":"E275","v":2},5,100,{"$f":"[1]!SUMSTRING(D285:E285,\"#\")","v":{"$error":"#NAME?"}},{"$f":"[1]!SUMSTRING(F285:G285,\"#\")","v":{"$error":"#NAME?"}},{"$f":"[1]!SUMSTRING(H285:I285,\"|\")","v":{"$error":"#NAME?"}},"生命",8084,"攻击",67,"暴击",4,{"$f":"IF(O285=\"\",VLOOKUP(K285,属性表!$H:$I,2,0)&\"#\"&配件表!L285&\"|\"&VLOOKUP(M285,属性表!$H:$I,2,0)&\"#\"&配件表!N285,VLOOKUP(K285,属性表!$H:$I,2,0)&\"#\"&配件表!L285&\"|\"&VLOOKUP(M285,属性表!$H:$I,2,0)&\"#\"&配件表!N285&\"|\"&VLOOKUP(O285,属性表!$H:$I,2,0)&\"#\"&配件表!P285)","v":"1#8084|2#67|55#4"},"异妖9","橙色"]
["配件29",29,5,6029,{"$f":"E276","v":3},5,135,{"$f":"[1]!SUMSTRING(D286:E286,\"#\")","v":{"$error":"#NAME?"}},{"$f":"[1]!SUMSTRING(F286:G286,\"#\")","v":{"$error":"#NAME?"}},{"$f":"[1]!SUMSTRING(H286:I286,\"|\")","v":{"$error":"#NAME?"}},"生命",11452,"攻击",95,null,null,{"$f":"IF(O286=\"\",VLOOKUP(K286,属性表!$H:$I,2,0)&\"#\"&配件表!L286&\"|\"&VLOOKUP(M286,属性表!$H:$I,2,0)&\"#\"&配件表!N286,VLOOKUP(K286,属性表!$H:$I,2,0)&\"#\"&配件表!L286&\"|\"&VLOOKUP(M286,属性表!$H:$I,2,0)&\"#\"&配件表!N286&\"|\"&VLOOKUP(O286,属性表!$H:$I,2,0)&\"#\"&配件表!P286)","v":"1#11452|2#95"},"异妖9","橙色"]
["配件29",29,6,6029,{"$f":"E277","v":3},5,180,{"$f":"[1]!SUMSTRING(D287:E287,\"#\")","v":{"$error":"#NAME?"}},{"$f":"[1]!SUMSTRING(F287:G287,\"#\")","v":{"$error":"#NAME?"}},{"$f":"[1]!SUMSTRING(H287:I287,\"|\")","v":{"$error":"#NAME?"}},"生命",15494,"攻击",129,"暴击",6,{"$f":"IF(O287=\"\",VLOOKUP(K287,属性表!$H:$I,2,0)&\"#\"&配件表!L287&\"|\"&VLOOKUP(M287,属性表!$H:$I,2,0)&\"#\"&配件表!N287,VLOOKUP(K287,属性表!$H:$I,2,0)&\"#\"&配件表!L287&\"|\"&VLOOKUP(M287,属性表!$H:$I,2,0)&\"#\"&配件表!N287&\"|\"&VLOOKUP(O287,属性表!$H:$I,2,0)&\"#\"&配件表!P287)","v":"1#15494|2#129|55#6"},"异妖9","橙色"]
["配件29",29,7,6029,{"$f":"E278","v":4},5,235,{"$f":"[1]!SUMSTRING(D288:E288,\"#\")","v":{"$error":"#NAME?"}},{"$f":"[1]!SUMSTRING(F288:G288,\"#\")","v":{"$error":"#NAME?"}},{"$f":"[1]!SUMSTRING(H288:I288,\"|\")","v":{"$error":"#NAME?"}},"生命",20210,"攻击",168,null,null,{"$f":"IF(O288=\"\",VLOOKUP(K288,属性表!$H:$I,2,0)&\"#\"&配件表!L288&\"|\"&VLOOKUP(M288,属性表!$H:$I,2,0)&\"#\"&配件表!N288,VLOOKUP(K288,属性表!$H:$I,2,0)&\"#\"&配件表!L288&\"|\"&VLOOKUP(M288,属性表!$H:$I,2,0)&\"#\"&配件表!N288&\"|\"&VLOOKUP(O288,属性表!$H:$I,2,0)&\"#\"&配件表!P288)","v":"1#20210|2#168"},"异妖9","橙色"]
["配件29",29,8,6029,{"$f":"E279","v":5},5,290,{"$f":"[1]!SUMSTRING(D289:E289,\"#\")","v":{"$error":"#NAME?"}},{"$f":"[1]!SUMSTRING(F289:G289,\"#\")","v":{"$error":"#NAME?"}},{"$f":"[1]!SUMSTRING(H289:I289,\"|\")","v":{"$error":"#NAME?"}},"生命",25600,"攻击",213,"暴击",8,{"$f":"IF(O289=\"\",VLOOKUP(K289,属性表!$H:$I,2,0)&\"#\"&配件表!L289&\"|\"&VLOOKUP(M289,属性表!$H:$I,2,0)&\"#\"&配件表!N289,VLOOKUP(K289,属性表!$H:$I,2,0)&\"#\"&配件表!L289&\"|\"&VLOOKUP(M289,属性表!$H:$I,2,0)&\"#\"&配件表!N289&\"|\"&VLOOKUP(O289,属性表!$H:$I,2,0)&\"#\"&配件表!P289)","v":"1#25600|2#213|55#8"},"异妖9","橙色"]
["配件29",29,9,6029,{"$f":"E280","v":6},5,355,{"$f":"[1]!SUMSTRING(D290:E290,\"#\")","v":{"$error":"#NAME?"}},{"$f":"[1]!SUMSTRING(F290:G290,\"#\")","v":{"$error":"#NAME?"}},{"$f":"[1]!SUMSTRING(H290:I290,\"|\")","v":{"$error":"#NAME?"}},"生命",31663,"攻击",263,null,null,{"$f":"IF(O290=\"\",VLOOKUP(K290,属性表!$H:$I,2,0)&\"#\"&配件表!L290&\"|\"&VLOOKUP(M290,属性表!$H:$I,2,0)&\"#\"&配件表!N290,VLOOKUP(K290,属性表!$H:$I,2,0)&\"#\"&配件表!L290&\"|\"&VLOOKUP(M290,属性表!$H:$I,2,0)&\"#\"&配件表!N290&\"|\"&VLOOKUP(O290,属性表!$H:$I,2,0)&\"#\"&配件表!P290)","v":"1#31663|2#263"},"异妖9","橙色"]
["配件29",29,10,6029,{"$f":"E281","v":8},5,420,{"$f":"[1]!SUMSTRING(D291:E291,\"#\")","v":{"$error":"#NAME?"}},{"$f":"[1]!SUMSTRING(F291:G291,\"#\")","v":{"$error":"#NAME?"}},{"$f":"[1]!SUMSTRING(H291:I291,\"|\")","v":{"$error":"#NAME?"}},"生命",38400,"攻击",320,"暴击",10,{"$f":"IF(O291=\"\",VLOOKUP(K291,属性表!$H:$I,2,0)&\"#\"&配件表!L291&\"|\"&VLOOKUP(M291,属性表!$H:$I,2,0)&\"#\"&配件表!N291,VLOOKUP(K291,属性表!$H:$I,2,0)&\"#\"&配件表!L291&\"|\"&VLOOKUP(M291,属性表!$H:$I,2,0)&\"#\"&配件表!N291&\"|\"&VLOOKUP(O291,属性表!$H:$I,2,0)&\"#\"&配件表!P291)","v":"1#38400|2#320|55#10"},"异妖9","橙色"]
["配件30",30,1,6030,{"$f":"E282","v":1},5,0,{"$f":"[1]!SUMSTRING(D292:E292,\"#\")","v":{"$error":"#NAME?"}},{"$f":"[1]!SUMSTRING(F292:G292,\"#\")","v":{"$error":"#NAME?"}},{"$f":"[1]!SUMSTRING(H292:I292,\"|\")","v":{"$error":"#NAME?"}},"生命",1347,"攻击",11,null,null,{"$f":"IF(O292=\"\",VLOOKUP(K292,属性表!$H:$I,2,0)&\"#\"&配件表!L292&\"|\"&VLOOKUP(M292,属性表!$H:$I,2,0)&\"#\"&配件表!N292,VLOOKUP(K292,属性表!$H:$I,2,0)&\"#\"&配件表!L292&\"|\"&VLOOKUP(M292,属性表!$H:$I,2,0)&\"#\"&配件表!N292&\"|\"&VLOOKUP(O292,属性表!$H:$I,2,0)&\"#\"&配件表!P292)","v":"1#1347|2#11"},"异妖9","橙色"]
["配件30",30,2,6030,{"$f":"E283","v":1},5,40,{"$f":"[1]!SUMSTRING(D293:E293,\"#\")","v":{"$error":"#NAME?"}},{"$f":"[1]!SUMSTRING(F293:G293,\"#\")","v":{"$error":"#NAME?"}},{"$f":"[1]!SUMSTRING(H293:I293,\"|\")","v":{"$error":"#NAME?"}},"生命",3368,"攻击",28,"暴伤",4,{"$f":"IF(O293=\"\",VLOOKUP(K293,属性表!$H:$I,2,0)&\"#\"&配件表!L293&\"|\"&VLOOKUP(M293,属性表!$H:$I,2,0)&\"#\"&配件表!N293,VLOOKUP(K293,属性表!$H:$I,2,0)&\"#\"&配件表!L293&\"|\"&VLOOKUP(M293,属性表!$H:$I,2,0)&\"#\"&配件表!N293&\"|\"&VLOOKUP(O293,属性表!$H:$I,2,0)&\"#\"&配件表!P293)","v":"1#3368|2#28|56#4"},"异妖9","橙色"]
["配件30",30,3,6030,{"$f":"E284","v":2},5,65,{"$f":"[1]!SUMSTRING(D294:E294,\"#\")","v":{"$error":"#NAME?"}},{"$f":"[1]!SUMSTRING(F294:G294,\"#\")","v":{"$error":"#NAME?"}},{"$f":"[1]!SUMSTRING(H294:I294,\"|\")","v":{"$error":"#NAME?"}},"生命",5389,"攻击",44,null,null,{"$f":"IF(O294=\"\",VLOOKUP(K294,属性表!$H:$I,2,0)&\"#\"&配件表!L294&\"|\"&VLOOKUP(M294,属性表!$H:$I,2,0)&\"#\"&配件表!N294,VLOOKUP(K294,属性表!$H:$I,2,0)&\"#\"&配件表!L294&\"|\"&VLOOKUP(M294,属性表!$H:$I,2,0)&\"#\"&配件表!N294&\"|\"&VLOOKUP(O294,属性表!$H:$I,2,0)&\"#\"&配件表!P294)","v":"1#5389|2#44"},"异妖9","橙色"]
["配件30",30,4,6030,{"$f":"E285","v":2},5,100,{"$f":"[1]!SUMSTRING(D295:E295,\"#\")","v":{"$error":"#NAME?"}},{"$f":"[1]!SUMSTRING(F295:G295,\"#\")","v":{"$error":"#NAME?"}},{"$f":"[1]!SUMSTRING(H295:I295,\"|\")","v":{"$error":"#NAME?"}},"生命",8084,"攻击",67,"暴伤",6,{"$f":"IF(O295=\"\",VLOOKUP(K295,属性表!$H:$I,2,0)&\"#\"&配件表!L295&\"|\"&VLOOKUP(M295,属性表!$H:$I,2,0)&\"#\"&配件表!N295,VLOOKUP(K295,属性表!$H:$I,2,0)&\"#\"&配件表!L295&\"|\"&VLOOKUP(M295,属性表!$H:$I,2,0)&\"#\"&配件表!N295&\"|\"&VLOOKUP(O295,属性表!$H:$I,2,0)&\"#\"&配件表!P295)","v":"1#8084|2#67|56#6"},"异妖9","橙色"]
["配件30",30,5,6030,{"$f":"E286","v":3},5,135,{"$f":"[1]!SUMSTRING(D296:E296,\"#\")","v":{"$error":"#NAME?"}},{"$f":"[1]!SUMSTRING(F296:G296,\"#\")","v":{"$error":"#NAME?"}},{"$f":"[1]!SUMSTRING(H296:I296,\"|\")","v":{"$error":"#NAME?"}},"生命",11452,"攻击",95,null,null,{"$f":"IF(O296=\"\",VLOOKUP(K296,属性表!$H:$I,2,0)&\"#\"&配件表!L296&\"|\"&VLOOKUP(M296,属性表!$H:$I,2,0)&\"#\"&配件表!N296,VLOOKUP(K296,属性表!$H:$I,2,0)&\"#\"&配件表!L296&\"|\"&VLOOKUP(M296,属性表!$H:$I,2,0)&\"#\"&配件表!N296&\"|\"&VLOOKUP(O296,属性表!$H:$I,2,0)&\"#\"&配件表!P296)","v":"1#11452|2#95"},"异妖9","橙色"]
["配件30",30,6,6030,{"$f":"E287","v":3},5,180,{"$f":"[1]!SUMSTRING(D297:E297,\"#\")","v":{"$error":"#NAME?"}},{"$f":"[1]!SUMSTRING(F297:G297,\"#\")","v":{"$error":"#NAME?"}},{"$f":"[1]!SUMSTRING(H297:I297,\"|\")","v":{"$error":"#NAME?"}},"生命",15494,"攻击",129,"暴伤",8,{"$f":"IF(O297=\"\",VLOOKUP(K297,属性表!$H:$I,2,0)&\"#\"&配件表!L297&\"|\"&VLOOKUP(M297,属性表!$H:$I,2,0)&\"#\"&配件表!N297,VLOOKUP(K297,属性表!$H:$I,2,0)&\"#\"&配件表!L297&\"|\"&VLOOKUP(M297,属性表!$H:$I,2,0)&\"#\"&配件表!N297&\"|\"&VLOOKUP(O297,属性表!$H:$I,2,0)&\"#\"&配件表!P297)","v":"1#15494|2#129|56#8"},"异妖9","橙色"]
["配件30",30,7,6030,{"$f":"E288","v":4},5,235,{"$f":"[1]!SUMSTRING(D298:E298,\"#\")","v":{"$error":"#NAME?"}},{"$f":"[1]!SUMSTRING(F298:G298,\"#\")","v":{"$error":"#NAME?"}},{"$f":"[1]!SUMSTRING(H298:I298,\"|\")","v":{"$error":"#NAME?"}},"生命",20210,"攻击",168,null,null,{"$f":"IF(O298=\"\",VLOOKUP(K298,属性表!$H:$I,2,0)&\"#\"&配件表!L298&\"|\"&VLOOKUP(M298,属性表!$H:$I,2,0)&\"#\"&配件表!N298,VLOOKUP(K298,属性表!$H:$I,2,0)&\"#\"&配件表!L298&\"|\"&VLOOKUP(M298,属性表!$H:$I,2,0)&\"#\"&配件表!N298&\"|\"&VLOOKUP(O298,属性表!$H:$I,2,0)&\"#\"&配件表!P298)","v":"1#20210|2#168"},"异妖9","橙色"]
["配件30",30,8,6030,{"$f":"E289","v":5},5,290,{"$f":"[1]!SUMSTRING(D299:E299,\"#\")","v":{"$error":"#NAME?"}},{"$f":"[1]!SUMSTRING(F299:G299,\"#\")","v":{"$error":"#NAME?"}},{"$f":"[1]!SUMSTRING(H299:I299,\"|\")","v":{"$error":"#NAME?"}},"生命",25600,"攻击",213,"暴伤",14,{"$f":"IF(O299=\"\",VLOOKUP(K299,属性表!$H:$I,2,0)&\"#\"&配件表!L299&\"|\"&VLOOKUP(M299,属性表!$H:$I,2,0)&\"#\"&配件表!N299,VLOOKUP(K299,属性表!$H:$I,2,0)&\"#\"&配件表!L299&\"|\"&VLOOKUP(M299,属性表!$H:$I,2,0)&\"#\"&配件表!N299&\"|\"&VLOOKUP(O299,属性表!$H:$I,2,0)&\"#\"&配件表!P299)","v":"1#25600|2#213|56#14"},"异妖9","橙色"]
["配件30",30,9,6030,{"$f":"E290","v":6},5,355,{"$f":"[1]!SUMSTRING(D300:E300,\"#\")","v":{"$error":"#NAME?"}},{"$f":"[1]!SUMSTRING(F300:G300,\"#\")","v":{"$error":"#NAME?"}},{"$f":"[1]!SUMSTRING(H300:I300,\"|\")","v":{"$error":"#NAME?"}},"生命",31663,"攻击",263,null,null,{"$f":"IF(O300=\"\",VLOOKUP(K300,属性表!$H:$I,2,0)&\"#\"&配件表!L300&\"|\"&VLOOKUP(M300,属性表!$H:$I,2,0)&\"#\"&配件表!N300,VLOOKUP(K300,属性表!$H:$I,2,0)&\"#\"&配件表!L300&\"|\"&VLOOKUP(M300,属性表!$H:$I,2,0)&\"#\"&配件表!N300&\"|\"&VLOOKUP(O300,属性表!$H:$I,2,0)&\"#\"&配件表!P300)","v":"1#31663|2#263"},"异妖9","橙色"]
["配件30",30,10,6030,{"$f":"E291","v":8},5,420,{"$f":"[1]!SUMSTRING(D301:E301,\"#\")","v":{"$error":"#NAME?"}},{"$f":"[1]!SUMSTRING(F301:G301,\"#\")","v":{"$error":"#NAME?"}},{"$f":"[1]!SUMSTRING(H301:I301,\"|\")","v":{"$error":"#NAME?"}},"生命",38400,"攻击",320,"暴伤",20,{"$f":"IF(O301=\"\",VLOOKUP(K301,属性表!$H:$I,2,0)&\"#\"&配件表!L301&\"|\"&VLOOKUP(M301,属性表!$H:$I,2,0)&\"#\"&配件表!N301,VLOOKUP(K301,属性表!$H:$I,2,0)&\"#\"&配件表!L301&\"|\"&VLOOKUP(M301,属性表!$H:$I,2,0)&\"#\"&配件表!N301&\"|\"&VLOOKUP(O301,属性表!$H:$I,2,0)&\"#\"&配件表!P301)","v":"1#38400|2#320|56#20"},"异妖9","橙色"]
["配件31",31,1,6031,{"$f":"E292","v":1},5,0,{"$f":"[1]!SUMSTRING(D302:E302,\"#\")","v":{"$error":"#NAME?"}},{"$f":"[1]!SUMSTRING(F302:G302,\"#\")","v":{"$error":"#NAME?"}},{"$f":"[1]!SUMSTRING(H302:I302,\"|\")","v":{"$error":"#NAME?"}},"生命",1347,"攻击",11,null,null,{"$f":"IF(O302=\"\",VLOOKUP(K302,属性表!$H:$I,2,0)&\"#\"&配件表!L302&\"|\"&VLOOKUP(M302,属性表!$H:$I,2,0)&\"#\"&配件表!N302,VLOOKUP(K302,属性表!$H:$I,2,0)&\"#\"&配件表!L302&\"|\"&VLOOKUP(M302,属性表!$H:$I,2,0)&\"#\"&配件表!N302&\"|\"&VLOOKUP(O302,属性表!$H:$I,2,0)&\"#\"&配件表!P302)","v":"1#1347|2#11"},"异妖9","橙色"]
["配件31",31,2,6031,{"$f":"E293","v":1},5,40,{"$f":"[1]!SUMSTRING(D303:E303,\"#\")","v":{"$error":"#NAME?"}},{"$f":"[1]!SUMSTRING(F303:G303,\"#\")","v":{"$error":"#NAME?"}},{"$f":"[1]!SUMSTRING(H303:I303,\"|\")","v":{"$error":"#NAME?"}},"生命",3368,"攻击",28,"抗暴",2,{"$f":"IF(O303=\"\",VLOOKUP(K303,属性表!$H:$I,2,0)&\"#\"&配件表!L303&\"|\"&VLOOKUP(M303,属性表!$H:$I,2,0)&\"#\"&配件表!N303,VLOOKUP(K303,属性表!$H:$I,2,0)&\"#\"&配件表!L303&\"|\"&VLOOKUP(M303,属性表!$H:$I,2,0)&\"#\"&配件表!N303&\"|\"&VLOOKUP(O303,属性表!$H:$I,2,0)&\"#\"&配件表!P303)","v":"1#3368|2#28|58#2"},"异妖9","橙色"]
["配件31",31,3,6031,{"$f":"E294","v":2},5,65,{"$f":"[1]!SUMSTRING(D304:E304,\"#\")","v":{"$error":"#NAME?"}},{"$f":"[1]!SUMSTRING(F304:G304,\"#\")","v":{"$error":"#NAME?"}},{"$f":"[1]!SUMSTRING(H304:I304,\"|\")","v":{"$error":"#NAME?"}},"生命",5389,"攻击",44,null,null,{"$f":"IF(O304=\"\",VLOOKUP(K304,属性表!$H:$I,2,0)&\"#\"&配件表!L304&\"|\"&VLOOKUP(M304,属性表!$H:$I,2,0)&\"#\"&配件表!N304,VLOOKUP(K304,属性表!$H:$I,2,0)&\"#\"&配件表!L304&\"|\"&VLOOKUP(M304,属性表!$H:$I,2,0)&\"#\"&配件表!N304&\"|\"&VLOOKUP(O304,属性表!$H:$I,2,0)&\"#\"&配件表!P304)","v":"1#5389|2#44"},"异妖9","橙色"]
["配件31",31,4,6031,{"$f":"E295","v":2},5,100,{"$f":"[1]!SUMSTRING(D305:E305,\"#\")","v":{"$error":"#NAME?"}},{"$f":"[1]!SUMSTRING(F305:G305,\"#\")","v":{"$error":"#NAME?"}},{"$f":"[1]!SUMSTRING(H305:I305,\"|\")","v":{"$error":"#NAME?"}},"生命",8084,"攻击",67,"抗暴",4,{"$f":"IF(O305=\"\",VLOOKUP(K305,属性表!$H:$I,2,0)&\"#\"&配件表!L305&\"|\"&VLOOKUP(M305,属性表!$H:$I,2,0)&\"#\"&配件表!N305,VLOOKUP(K305,属性表!$H:$I,2,0)&\"#\"&配件表!L305&\"|\"&VLOOKUP(M305,属性表!$H:$I,2,0)&\"#\"&配件表!N305&\"|\"&VLOOKUP(O305,属性表!$H:$I,2,0)&\"#\"&配件表!P305)","v":"1#8084|2#67|58#4"},"异妖9","橙色"]
["配件31",31,5,6031,{"$f":"E296","v":3},5,135,{"$f":"[1]!SUMSTRING(D306:E306,\"#\")","v":{"$error":"#NAME?"}},{"$f":"[1]!SUMSTRING(F306:G306,\"#\")","v":{"$error":"#NAME?"}},{"$f":"[1]!SUMSTRING(H306:I306,\"|\")","v":{"$error":"#NAME?"}},"生命",11452,"攻击",95,null,null,{"$f":"IF(O306=\"\",VLOOKUP(K306,属性表!$H:$I,2,0)&\"#\"&配件表!L306&\"|\"&VLOOKUP(M306,属性表!$H:$I,2,0)&\"#\"&配件表!N306,VLOOKUP(K306,属性表!$H:$I,2,0)&\"#\"&配件表!L306&\"|\"&VLOOKUP(M306,属性表!$H:$I,2,0)&\"#\"&配件表!N306&\"|\"&VLOOKUP(O306,属性表!$H:$I,2,0)&\"#\"&配件表!P306)","v":"1#11452|2#95"},"异妖9","橙色"]
["配件31",31,6,6031,{"$f":"E297","v":3},5,180,{"$f":"[1]!SUMSTRING(D307:E307,\"#\")","v":{"$error":"#NAME?"}},{"$f":"[1]!SUMSTRING(F307:G307,\"#\")","v":{"$error":"#NAME?"}},{"$f":"[1]!SUMSTRING(H307:I307,\"|\")","v":{"$error":"#NAME?"}},"生命",15494,"攻击",129,"抗暴",6,{"$f":"IF(O307=\"\",VLOOKUP(K307,属性表!$H:$I,2,0)&\"#\"&配件表!L307&\"|\"&VLOOKUP(M307,属性表!$H:$I,2,0)&\"#\"&配件表!N307,VLOOKUP(K307,属性表!$H:$I,2,0)&\"#\"&配件表!L307&\"|\"&VLOOKUP(M307,属性表!$H:$I,2,0)&\"#\"&配件表!N307&\"|\"&VLOOKUP(O307,属性表!$H:$I,2,0)&\"#\"&配件表!P307)","v":"1#15494|2#129|58#6"},"异妖9","橙色"]
["配件31",31,7,6031,{"$f":"E298","v":4},5,235,{"$f":"[1]!SUMSTRING(D308:E308,\"#\")","v":{"$error":"#NAME?"}},{"$f":"[1]!SUMSTRING(F308:G308,\"#\")","v":{"$error":"#NAME?"}},{"$f":"[1]!SUMSTRING(H308:I308,\"|\")","v":{"$error":"#NAME?"}},"生命",20210,"攻击",168,null,null,{"$f":"IF(O308=\"\",VLOOKUP(K308,属性表!$H:$I,2,0)&\"#\"&配件表!L308&\"|\"&VLOOKUP(M308,属性表!$H:$I,2,0)&\"#\"&配件表!N308,VLOOKUP(K308,属性表!$H:$I,2,0)&\"#\"&配件表!L308&\"|\"&VLOOKUP(M308,属性表!$H:$I,2,0)&\"#\"&配件表!N308&\"|\"&VLOOKUP(O308,属性表!$H:$I,2,0)&\"#\"&配件表!P308)","v":"1#20210|2#168"},"异妖9","橙色"]
["配件31",31,8,6031,{"$f":"E299","v":5},5,290,{"$f":"[1]!SUMSTRING(D309:E309,\"#\")","v":{"$error":"#NAME?"}},{"$f":"[1]!SUMSTRING(F309:G309,\"#\")","v":{"$error":"#NAME?"}},{"$f":"[1]!SUMSTRING(H309:I309,\"|\")","v":{"$error":"#NAME?"}},"生命",25600,"攻击",213,"抗暴",8,{"$f":"IF(O309=\"\",VLOOKUP(K309,属性表!$H:$I,2,0)&\"#\"&配件表!L309&\"|\"&VLOOKUP(M309,属性表!$H:$I,2,0)&\"#\"&配件表!N309,VLOOKUP(K309,属性表!$H:$I,2,0)&\"#\"&配件表!L309&\"|\"&VLOOKUP(M309,属性表!$H:$I,2,0)&\"#\"&配件表!N309&\"|\"&VLOOKUP(O309,属性表!$H:$I,2,0)&\"#\"&配件表!P309)","v":"1#25600|2#213|58#8"},"异妖9","橙色"]
["配件31",31,9,6031,{"$f":"E300","v":6},5,355,{"$f":"[1]!SUMSTRING(D310:E310,\"#\")","v":{"$error":"#NAME?"}},{"$f":"[1]!SUMSTRING(F310:G310,\"#\")","v":{"$error":"#NAME?"}},{"$f":"[1]!SUMSTRING(H310:I310,\"|\")","v":{"$error":"#NAME?"}},"生命",31663,"攻击",263,null,null,{"$f":"IF(O310=\"\",VLOOKUP(K310,属性表!$H:$I,2,0)&\"#\"&配件表!L310&\"|\"&VLOOKUP(M310,属性表!$H:$I,2,0)&\"#\"&配件表!N310,VLOOKUP(K310,属性表!$H:$I,2,0)&\"#\"&配件表!L310&\"|\"&VLOOKUP(M310,属性表!$H:$I,2,0)&\"#\"&配件表!N310&\"|\"&VLOOKUP(O310,属性表!$H:$I,2,0)&\"#\"&配件表!P310)","v":"1#31663|2#263"},"异妖9","橙色"]
["配件31",31,10,6031,{"$f":"E301","v":8},5,420,{"$f":"[1]!SUMSTRING(D311:E311,\"#\")","v":{"$error":"#NAME?"}},{"$f":"[1]!SUMSTRING(F311:G311,\"#\")","v":{"$error":"#NAME?"}},{"$f":"[1]!SUMSTRING(H311:I311,\"|\")","v":{"$error":"#NAME?"}},"生命",38400,"攻击",320,"抗暴",10,{"$f":"IF(O311=\"\",VLOOKUP(K311,属性表!$H:$I,2,0)&\"#\"&配件表!L311&\"|\"&VLOOKUP(M311,属性表!$H:$I,2,0)&\"#\"&配件表!N311,VLOOKUP(K311,属性表!$H:$I,2,0)&\"#\"&配件表!L311&\"|\"&VLOOKUP(M311,属性表!$H:$I,2,0)&\"#\"&配件表!N311&\"|\"&VLOOKUP(O311,属性表!$H:$I,2,0)&\"#\"&配件表!P311)","v":"1#38400|2#320|58#10"},"异妖9","橙色"]
["配件32",32,1,6032,{"$f":"E302","v":1},5,0,{"$f":"[1]!SUMSTRING(D312:E312,\"#\")","v":{"$error":"#NAME?"}},{"$f":"[1]!SUMSTRING(F312:G312,\"#\")","v":{"$error":"#NAME?"}},{"$f":"[1]!SUMSTRING(H312:I312,\"|\")","v":{"$error":"#NAME?"}},"生命",1347,"攻击",11,null,null,{"$f":"IF(O312=\"\",VLOOKUP(K312,属性表!$H:$I,2,0)&\"#\"&配件表!L312&\"|\"&VLOOKUP(M312,属性表!$H:$I,2,0)&\"#\"&配件表!N312,VLOOKUP(K312,属性表!$H:$I,2,0)&\"#\"&配件表!L312&\"|\"&VLOOKUP(M312,属性表!$H:$I,2,0)&\"#\"&配件表!N312&\"|\"&VLOOKUP(O312,属性表!$H:$I,2,0)&\"#\"&配件表!P312)","v":"1#1347|2#11"},"异妖9","橙色"]
["配件32",32,2,6032,{"$f":"E303","v":1},5,40,{"$f":"[1]!SUMSTRING(D313:E313,\"#\")","v":{"$error":"#NAME?"}},{"$f":"[1]!SUMSTRING(F313:G313,\"#\")","v":{"$error":"#NAME?"}},{"$f":"[1]!SUMSTRING(H313:I313,\"|\")","v":{"$error":"#NAME?"}},"生命",3368,"攻击",28,"暴伤",4,{"$f":"IF(O313=\"\",VLOOKUP(K313,属性表!$H:$I,2,0)&\"#\"&配件表!L313&\"|\"&VLOOKUP(M313,属性表!$H:$I,2,0)&\"#\"&配件表!N313,VLOOKUP(K313,属性表!$H:$I,2,0)&\"#\"&配件表!L313&\"|\"&VLOOKUP(M313,属性表!$H:$I,2,0)&\"#\"&配件表!N313&\"|\"&VLOOKUP(O313,属性表!$H:$I,2,0)&\"#\"&配件表!P313)","v":"1#3368|2#28|56#4"},"异妖9","橙色"]
["配件32",32,3,6032,{"$f":"E304","v":2},5,65,{"$f":"[1]!SUMSTRING(D314:E314,\"#\")","v":{"$error":"#NAME?"}},{"$f":"[1]!SUMSTRING(F314:G314,\"#\")","v":{"$error":"#NAME?"}},{"$f":"[1]!SUMSTRING(H314:I314,\"|\")","v":{"$error":"#NAME?"}},"生命",5389,"攻击",44,null,null,{"$f":"IF(O314=\"\",VLOOKUP(K314,属性表!$H:$I,2,0)&\"#\"&配件表!L314&\"|\"&VLOOKUP(M314,属性表!$H:$I,2,0)&\"#\"&配件表!N314,VLOOKUP(K314,属性表!$H:$I,2,0)&\"#\"&配件表!L314&\"|\"&VLOOKUP(M314,属性表!$H:$I,2,0)&\"#\"&配件表!N314&\"|\"&VLOOKUP(O314,属性表!$H:$I,2,0)&\"#\"&配件表!P314)","v":"1#5389|2#44"},{"$f":"VLOOKUP(B314,$Y:$Z,2,0)","v":"异妖9"},{"$f":"VLOOKUP(R314,$Z:$AA,2,0)","v":"橙色"}]
["配件32",32,4,6032,{"$f":"E305","v":2},5,100,{"$f":"[1]!SUMSTRING(D315:E315,\"#\")","v":{"$error":"#NAME?"}},{"$f":"[1]!SUMSTRING(F315:G315,\"#\")","v":{"$error":"#NAME?"}},{"$f":"[1]!SUMSTRING(H315:I315,\"|\")","v":{"$error":"#NAME?"}},"生命",8084,"攻击",67,"暴伤",6,{"$f":"IF(O315=\"\",VLOOKUP(K315,属性表!$H:$I,2,0)&\"#\"&配件表!L315&\"|\"&VLOOKUP(M315,属性表!$H:$I,2,0)&\"#\"&配件表!N315,VLOOKUP(K315,属性表!$H:$I,2,0)&\"#\"&配件表!L315&\"|\"&VLOOKUP(M315,属性表!$H:$I,2,0)&\"#\"&配件表!N315&\"|\"&VLOOKUP(O315,属性表!$H:$I,2,0)&\"#\"&配件表!P315)","v":"1#8084|2#67|56#6"},"异妖9","橙色"]
["配件32",32,5,6032,{"$f":"E306","v":3},5,135,{"$f":"[1]!SUMSTRING(D316:E316,\"#\")","v":{"$error":"#NAME?"}},{"$f":"[1]!SUMSTRING(F316:G316,\"#\")","v":{"$error":"#NAME?"}},{"$f":"[1]!SUMSTRING(H316:I316,\"|\")","v":{"$error":"#NAME?"}},"生命",11452,"攻击",95,null,null,{"$f":"IF(O316=\"\",VLOOKUP(K316,属性表!$H:$I,2,0)&\"#\"&配件表!L316&\"|\"&VLOOKUP(M316,属性表!$H:$I,2,0)&\"#\"&配件表!N316,VLOOKUP(K316,属性表!$H:$I,2,0)&\"#\"&配件表!L316&\"|\"&VLOOKUP(M316,属性表!$H:$I,2,0)&\"#\"&配件表!N316&\"|\"&VLOOKUP(O316,属性表!$H:$I,2,0)&\"#\"&配件表!P316)","v":"1#11452|2#95"},"异妖9","橙色"]
["配件32",32,6,6032,{"$f":"E307","v":3},5,180,{"$f":"[1]!SUMSTRING(D317:E317,\"#\")","v":{"$error":"#NAME?"}},{"$f":"[1]!SUMSTRING(F317:G317,\"#\")","v":{"$error":"#NAME?"}},{"$f":"[1]!SUMSTRING(H317:I317,\"|\")","v":{"$error":"#NAME?"}},"生命",15494,"攻击",129,"暴伤",8,{"$f":"IF(O317=\"\",VLOOKUP(K317,属性表!$H:$I,2,0)&\"#\"&配件表!L317&\"|\"&VLOOKUP(M317,属性表!$H:$I,2,0)&\"#\"&配件表!N317,VLOOKUP(K317,属性表!$H:$I,2,0)&\"#\"&配件表!L317&\"|\"&VLOOKUP(M317,属性表!$H:$I,2,0)&\"#\"&配件表!N317&\"|\"&VLOOKUP(O317,属性表!$H:$I,2,0)&\"#\"&配件表!P317)","v":"1#15494|2#129|56#8"},"异妖9","橙色"]
["配件32",32,7,6032,{"$f":"E308","v":4},5,235,{"$f":"[1]!SUMSTRING(D318:E318,\"#\")","v":{"$error":"#NAME?"}},{"$f":"[1]!SUMSTRING(F318:G318,\"#\")","v":{"$error":"#NAME?"}},{"$f":"[1]!SUMSTRING(H318:I318,\"|\")","v":{"$error":"#NAME?"}},"生命",20210,"攻击",168,null,null,{"$f":"IF(O318=\"\",VLOOKUP(K318,属性表!$H:$I,2,0)&\"#\"&配件表!L318&\"|\"&VLOOKUP(M318,属性表!$H:$I,2,0)&\"#\"&配件表!N318,VLOOKUP(K318,属性表!$H:$I,2,0)&\"#\"&配件表!L318&\"|\"&VLOOKUP(M318,属性表!$H:$I,2,0)&\"#\"&配件表!N318&\"|\"&VLOOKUP(O318,属性表!$H:$I,2,0)&\"#\"&配件表!P318)","v":"1#20210|2#168"},"异妖9","橙色"]
["配件32",32,8,6032,{"$f":"E309","v":5},5,290,{"$f":"[1]!SUMSTRING(D319:E319,\"#\")","v":{"$error":"#NAME?"}},{"$f":"[1]!SUMSTRING(F319:G319,\"#\")","v":{"$error":"#NAME?"}},{"$f":"[1]!SUMSTRING(H319:I319,\"|\")","v":{"$error":"#NAME?"}},"生命",25600,"攻击",213,"暴伤",14,{"$f":"IF(O319=\"\",VLOOKUP(K319,属性表!$H:$I,2,0)&\"#\"&配件表!L319&\"|\"&VLOOKUP(M319,属性表!$H:$I,2,0)&\"#\"&配件表!N319,VLOOKUP(K319,属性表!$H:$I,2,0)&\"#\"&配件表!L319&\"|\"&VLOOKUP(M319,属性表!$H:$I,2,0)&\"#\"&配件表!N319&\"|\"&VLOOKUP(O319,属性表!$H:$I,2,0)&\"#\"&配件表!P319)","v":"1#25600|2#213|56#14"},"异妖9","橙色"]
["配件32",32,9,6032,{"$f":"E310","v":6},5,355,{"$f":"[1]!SUMSTRING(D320:E320,\"#\")","v":{"$error":"#NAME?"}},{"$f":"[1]!SUMSTRING(F320:G320,\"#\")","v":{"$error":"#NAME?"}},{"$f":"[1]!SUMSTRING(H320:I320,\"|\")","v":{"$error":"#NAME?"}},"生命",31663,"攻击",263,null,null,{"$f":"IF(O320=\"\",VLOOKUP(K320,属性表!$H:$I,2,0)&\"#\"&配件表!L320&\"|\"&VLOOKUP(M320,属性表!$H:$I,2,0)&\"#\"&配件表!N320,VLOOKUP(K320,属性表!$H:$I,2,0)&\"#\"&配件表!L320&\"|\"&VLOOKUP(M320,属性表!$H:$I,2,0)&\"#\"&配件表!N320&\"|\"&VLOOKUP(O320,属性表!$H:$I,2,0)&\"#\"&配件表!P320)","v":"1#31663|2#263"},"异妖9","橙色"]
["配件32",32,10,6032,{"$f":"E311","v":8},5,420,{"$f":"[1]!SUMSTRING(D321:E321,\"#\")","v":{"$error":"#NAME?"}},{"$f":"[1]!SUMSTRING(F321:G321,\"#\")","v":{"$error":"#NAME?"}},{"$f":"[1]!SUMSTRING(H321:I321,\"|\")","v":{"$error":"#NAME?"}},"生命",38400,"攻击",320,"暴伤",20,{"$f":"IF(O321=\"\",VLOOKUP(K321,属性表!$H:$I,2,0)&\"#\"&配件表!L321&\"|\"&VLOOKUP(M321,属性表!$H:$I,2,0)&\"#\"&配件表!N321,VLOOKUP(K321,属性表!$H:$I,2,0)&\"#\"&配件表!L321&\"|\"&VLOOKUP(M321,属性表!$H:$I,2,0)&\"#\"&配件表!N321&\"|\"&VLOOKUP(O321,属性表!$H:$I,2,0)&\"#\"&配件表!P321)","v":"1#38400|2#320|56#20"},"异妖9","橙色"]

{"sheet":"整体表","index":3,"n_rows":101,"n_cols":11,"rows_kept":101}
[null,null,"异妖id",null,null,"消耗1","数量","消耗2","数量","消耗输出","前置条件"]
[null,null,1,"01",{"$f":"C2&D2","v":"101"},5,240,6,1,{"$f":"[1]!SUMSTRING(F2:G2,\"#\")&\"|\"&[1]!SUMSTRING(H2:I2,\"#\")","v":{"$error":"#NAME?"}},1]
[null,null,1,"02",{"$f":"C3&D3","v":"102"},5,360,6,1,{"$f":"[1]!SUMSTRING(F3:G3,\"#\")&\"|\"&[1]!SUMSTRING(H3:I3,\"#\")","v":{"$error":"#NAME?"}},2]
[null,null,1,"03","103",5,480,6,2,{"$f":"[1]!SUMSTRING(F4:G4,\"#\")&\"|\"&[1]!SUMSTRING(H4:I4,\"#\")","v":{"$error":"#NAME?"}},3]
[null,null,1,"04","104",5,600,6,2,{"$f":"[1]!SUMSTRING(F5:G5,\"#\")&\"|\"&[1]!SUMSTRING(H5:I5,\"#\")","v":{"$error":"#NAME?"}},4]
[null,null,1,"05","105",5,720,6,3,{"$f":"[1]!SUMSTRING(F6:G6,\"#\")&\"|\"&[1]!SUMSTRING(H6:I6,\"#\")","v":{"$error":"#NAME?"}},5]
[null,null,1,"06","106",5,840,6,3,{"$f":"[1]!SUMSTRING(F7:G7,\"#\")&\"|\"&[1]!SUMSTRING(H7:I7,\"#\")","v":{"$error":"#NAME?"}},7]
[null,null,1,"07","107",5,960,6,4,{"$f":"[1]!SUMSTRING(F8:G8,\"#\")&\"|\"&[1]!SUMSTRING(H8:I8,\"#\")","v":{"$error":"#NAME?"}},8]
[null,null,1,"08","108",5,1080,6,5,{"$f":"[1]!SUMSTRING(F9:G9,\"#\")&\"|\"&[1]!SUMSTRING(H9:I9,\"#\")","v":{"$error":"#NAME?"}},9]
[null,null,1,"09","109",5,1200,6,8,{"$f":"[1]!SUMSTRING(F10:G10,\"#\")&\"|\"&[1]!SUMSTRING(H10:I10,\"#\")","v":{"$error":"#NAME?"}},10]
[null,null,1,"10","110",5,1320,6,11,{"$f":"[1]!SUMSTRING(F11:G11,\"#\")&\"|\"&[1]!SUMSTRING(H11:I11,\"#\")","v":{"$error":"#NAME?"}}]
[null,null,{"$f":"C2+1","v":2},{"$f":"D2","v":"01"},"201",5,240,6,1,{"$f":"[1]!SUMSTRING(F12:G12,\"#\")&\"|\"&[1]!SUMSTRING(H12:I12,\"#\")","v":{"$error":"#NAME?"}},1]
[null,null,{"$f":"C3+1","v":2},{"$f":"D3","v":"02"},"202",5,360,6,1,{"$f":"[1]!SUMSTRING(F13:G13,\"#\")&\"|\"&[1]!SUMSTRING(H13:I13,\"#\")","v":{"$error":"#NAME?"}},2]
[null,null,2,"03","203",5,480,6,2,{"$f":"[1]!SUMSTRING(F14:G14,\"#\")&\"|\"&[1]!SUMSTRING(H14:I14,\"#\")","v":{"$error":"#NAME?"}},3]
[null,null,2,"04","204",5,600,6,2,{"$f":"[1]!SUMSTRING(F15:G15,\"#\")&\"|\"&[1]!SUMSTRING(H15:I15,\"#\")","v":{"$error":"#NAME?"}},4]
[null,null,2,"05","205",5,720,6,3,{"$f":"[1]!SUMSTRING(F16:G16,\"#\")&\"|\"&[1]!SUMSTRING(H16:I16,\"#\")","v":{"$error":"#NAME?"}},5]
[null,null,2,"06","206",5,840,6,3,{"$f":"[1]!SUMSTRING(F17:G17,\"#\")&\"|\"&[1]!SUMSTRING(H17:I17,\"#\")","v":{"$error":"#NAME?"}},7]
[null,null,2,"07","207",5,960,6,4,{"$f":"[1]!SUMSTRING(F18:G18,\"#\")&\"|\"&[1]!SUMSTRING(H18:I18,\"#\")","v":{"$error":"#NAME?"}},8]
[null,null,2,"08","208",5,1080,6,5,{"$f":"[1]!SUMSTRING(F19:G19,\"#\")&\"|\"&[1]!SUMSTRING(H19:I19,\"#\")","v":{"$error":"#NAME?"}},9]
[null,null,2,"09","209",5,1200,6,8,{"$f":"[1]!SUMSTRING(F20:G20,\"#\")&\"|\"&[1]!SUMSTRING(H20:I20,\"#\")","v":{"$error":"#NAME?"}},10]
[null,null,2,"10","210",5,1320,6,11,{"$f":"[1]!SUMSTRING(F21:G21,\"#\")&\"|\"&[1]!SUMSTRING(H21:I21,\"#\")","v":{"$error":"#NAME?"}}]
[null,null,3,"01","301",5,240,6,1,{"$f":"[1]!SUMSTRING(F22:G22,\"#\")&\"|\"&[1]!SUMSTRING(H22:I22,\"#\")","v":{"$error":"#NAME?"}},1]
[null,null,3,"02","302",5,360,6,1,{"$f":"[1]!SUMSTRING(F23:G23,\"#\")&\"|\"&[1]!SUMSTRING(H23:I23,\"#\")","v":{"$error":"#NAME?"}},2]
[null,null,3,"03","303",5,480,6,2,{"$f":"[1]!SUMSTRING(F24:G24,\"#\")&\"|\"&[1]!SUMSTRING(H24:I24,\"#\")","v":{"$error":"#NAME?"}},3]
[null,null,3,"04","304",5,600,6,2,{"$f":"[1]!SUMSTRING(F25:G25,\"#\")&\"|\"&[1]!SUMSTRING(H25:I25,\"#\")","v":{"$error":"#NAME?"}},4]
[null,null,3,"05","305",5,720,6,3,{"$f":"[1]!SUMSTRING(F26:G26,\"#\")&\"|\"&[1]!SUMSTRING(H26:I26,\"#\")","v":{"$error":"#NAME?"}},5]
[null,null,3,"06","306",5,840,6,3,{"$f":"[1]!SUMSTRING(F27:G27,\"#\")&\"|\"&[1]!SUMSTRING(H27:I27,\"#\")","v":{"$error":"#NAME?"}},7]
[null,null,3,"07","307",5,960,6,4,{"$f":"[1]!SUMSTRING(F28:G28,\"#\")&\"|\"&[1]!SUMSTRING(H28:I28,\"#\")","v":{"$error":"#NAME?"}},8]
[null,null,3,"08","308",5,1080,6,5,{"$f":"[1]!SUMSTRING(F29:G29,\"#\")&\"|\"&[1]!SUMSTRING(H29:I29,\"#\")","v":{"$error":"#NAME?"}},9]
[null,null,3,"09","309",5,1200,6,8,{"$f":"[1]!SUMSTRING(F30:G30,\"#\")&\"|\"&[1]!SUMSTRING(H30:I30,\"#\")","v":{"$error":"#NAME?"}},10]
[null,null,3,"10","310",5,1320,6,11,{"$f":"[1]!SUMSTRING(F31:G31,\"#\")&\"|\"&[1]!SUMSTRING(H31:I31,\"#\")","v":{"$error":"#NAME?"}}]
[null,null,4,"01","401",5,240,6,1,{"$f":"[1]!SUMSTRING(F32:G32,\"#\")&\"|\"&[1]!SUMSTRING(H32:I32,\"#\")","v":{"$error":"#NAME?"}},1]
[null,null,4,"02","402",5,360,6,1,{"$f":"[1]!SUMSTRING(F33:G33,\"#\")&\"|\"&[1]!SUMSTRING(H33:I33,\"#\")","v":{"$error":"#NAME?"}},2]
[null,null,4,"03","403",5,480,6,2,{"$f":"[1]!SUMSTRING(F34:G34,\"#\")&\"|\"&[1]!SUMSTRING(H34:I34,\"#\")","v":{"$error":"#NAME?"}},3]
[null,null,4,"04","404",5,600,6,2,{"$f":"[1]!SUMSTRING(F35:G35,\"#\")&\"|\"&[1]!SUMSTRING(H35:I35,\"#\")","v":{"$error":"#NAME?"}},4]
[null,null,4,"05","405",5,720,6,3,{"$f":"[1]!SUMSTRING(F36:G36,\"#\")&\"|\"&[1]!SUMSTRING(H36:I36,\"#\")","v":{"$error":"#NAME?"}},5]
[null,null,4,"06","406",5,840,6,3,{"$f":"[1]!SUMSTRING(F37:G37,\"#\")&\"|\"&[1]!SUMSTRING(H37:I37,\"#\")","v":{"$error":"#NAME?"}},7]
[null,null,4,"07","407",5,960,6,4,{"$f":"[1]!SUMSTRING(F38:G38,\"#\")&\"|\"&[1]!SUMSTRING(H38:I38,\"#\")","v":{"$error":"#NAME?"}},8]
[null,null,4,"08","408",5,1080,6,5,{"$f":"[1]!SUMSTRING(F39:G39,\"#\")&\"|\"&[1]!SUMSTRING(H39:I39,\"#\")","v":{"$error":"#NAME?"}},9]
[null,null,4,"09","409",5,1200,6,8,{"$f":"[1]!SUMSTRING(F40:G40,\"#\")&\"|\"&[1]!SUMSTRING(H40:I40,\"#\")","v":{"$error":"#NAME?"}},10]
[null,null,4,"10","410",5,1320,6,11,{"$f":"[1]!SUMSTRING(F41:G41,\"#\")&\"|\"&[1]!SUMSTRING(H41:I41,\"#\")","v":{"$error":"#NAME?"}}]
[null,null,5,"01","501",5,400,6,2,{"$f":"[1]!SUMSTRING(F42:G42,\"#\")&\"|\"&[1]!SUMSTRING(H42:I42,\"#\")","v":{"$error":"#NAME?"}},1]
[null,null,5,"02","502",5,600,6,2,{"$f":"[1]!SUMSTRING(F43:G43,\"#\")&\"|\"&[1]!SUMSTRING(H43:I43,\"#\")","v":{"$error":"#NAME?"}},2]
[null,null,5,"03","503",5,800,6,3,{"$f":"[1]!SUMSTRING(F44:G44,\"#\")&\"|\"&[1]!SUMSTRING(H44:I44,\"#\")","v":{"$error":"#NAME?"}},3]
[null,null,5,"04","504",5,1000,6,3,{"$f":"[1]!SUMSTRING(F45:G45,\"#\")&\"|\"&[1]!SUMSTRING(H45:I45,\"#\")","v":{"$error":"#NAME?"}},4]
[null,null,5,"05","505",5,1200,6,4,{"$f":"[1]!SUMSTRING(F46:G46,\"#\")&\"|\"&[1]!SUMSTRING(H46:I46,\"#\")","v":{"$error":"#NAME?"}},5]
[null,null,5,"06","506",5,1400,6,4,{"$f":"[1]!SUMSTRING(F47:G47,\"#\")&\"|\"&[1]!SUMSTRING(H47:I47,\"#\")","v":{"$error":"#NAME?"}},7]
[null,null,5,"07","507",5,1600,6,6,{"$f":"[1]!SUMSTRING(F48:G48,\"#\")&\"|\"&[1]!SUMSTRING(H48:I48,\"#\")","v":{"$error":"#NAME?"}},8]
[null,null,5,"08","508",5,1800,6,8,{"$f":"[1]!SUMSTRING(F49:G49,\"#\")&\"|\"&[1]!SUMSTRING(H49:I49,\"#\")","v":{"$error":"#NAME?"}},9]
[null,null,5,"09","509",5,2000,6,12,{"$f":"[1]!SUMSTRING(F50:G50,\"#\")&\"|\"&[1]!SUMSTRING(H50:I50,\"#\")","v":{"$error":"#NAME?"}},10]
[null,null,5,"10","510",5,2200,6,15,{"$f":"[1]!SUMSTRING(F51:G51,\"#\")&\"|\"&[1]!SUMSTRING(H51:I51,\"#\")","v":{"$error":"#NAME?"}}]
[null,null,6,"01","601",5,400,6,2,{"$f":"[1]!SUMSTRING(F52:G52,\"#\")&\"|\"&[1]!SUMSTRING(H52:I52,\"#\")","v":{"$error":"#NAME?"}},1]
[null,null,6,"02","602",5,600,6,2,{"$f":"[1]!SUMSTRING(F53:G53,\"#\")&\"|\"&[1]!SUMSTRING(H53:I53,\"#\")","v":{"$error":"#NAME?"}},2]
[null,null,6,"03","603",5,800,6,3,{"$f":"[1]!SUMSTRING(F54:G54,\"#\")&\"|\"&[1]!SUMSTRING(H54:I54,\"#\")","v":{"$error":"#NAME?"}},3]
[null,null,6,"04","604",5,1000,6,3,{"$f":"[1]!SUMSTRING(F55:G55,\"#\")&\"|\"&[1]!SUMSTRING(H55:I55,\"#\")","v":{"$error":"#NAME?"}},4]
[null,null,6,"05","605",5,1200,6,4,{"$f":"[1]!SUMSTRING(F56:G56,\"#\")&\"|\"&[1]!SUMSTRING(H56:I56,\"#\")","v":{"$error":"#NAME?"}},5]
[null,null,6,"06","606",5,1400,6,4,{"$f":"[1]!SUMSTRING(F57:G57,\"#\")&\"|\"&[1]!SUMSTRING(H57:I57,\"#\")","v":{"$error":"#NAME?"}},7]
[null,null,6,"07","607",5,1600,6,6,{"$f":"[1]!SUMSTRING(F58:G58,\"#\")&\"|\"&[1]!SUMSTRING(H58:I58,\"#\")","v":{"$error":"#NAME?"}},8]
[null,null,6,"08","608",5,1800,6,8,{"$f":"[1]!SUMSTRING(F59:G59,\"#\")&\"|\"&[1]!SUMSTRING(H59:I59,\"#\")","v":{"$error":"#NAME?"}},9]
[null,null,6,"09","609",5,2000,6,12,{"$f":"[1]!SUMSTRING(F60:G60,\"#\")&\"|\"&[1]!SUMSTRING(H60:I60,\"#\")","v":{"$error":"#NAME?"}},10]
[null,null,6,"10","610",5,2200,6,15,{"$f":"[1]!SUMSTRING(F61:G61,\"#\")&\"|\"&[1]!SUMSTRING(H61:I61,\"#\")","v":{"$error":"#NAME?"}}]
[null,null,7,"01","701",5,400,6,2,{"$f":"[1]!SUMSTRING(F62:G62,\"#\")&\"|\"&[1]!SUMSTRING(H62:I62,\"#\")","v":{"$error":"#NAME?"}},1]
[null,null,7,"02","702",5,600,6,2,{"$f":"[1]!SUMSTRING(F63:G63,\"#\")&\"|\"&[1]!SUMSTRING(H63:I63,\"#\")","v":{"$error":"#NAME?"}},2]
[null,null,7,"03","703",5,800,6,3,{"$f":"[1]!SUMSTRING(F64:G64,\"#\")&\"|\"&[1]!SUMSTRING(H64:I64,\"#\")","v":{"$error":"#NAME?"}},3]
[null,null,7,"04","704",5,1000,6,3,{"$f":"[1]!SUMSTRING(F65:G65,\"#\")&\"|\"&[1]!SUMSTRING(H65:I65,\"#\")","v":{"$error":"#NAME?"}},4]
[null,null,7,"05","705",5,1200,6,4,{"$f":"[1]!SUMSTRING(F66:G66,\"#\")&\"|\"&[1]!SUMSTRING(H66:I66,\"#\")","v":{"$error":"#NAME?"}},5]
[null,null,7,"06",{"$f":"C67&D67","v":"706"},5,1400,6,4,{"$f":"[1]!SUMSTRING(F67:G67,\"#\")&\"|\"&[1]!SUMSTRING(H67:I67,\"#\")","v":{"$error":"#NAME?"}},7]
[null,null,7,"07","707",5,1600,6,6,{"$f":"[1]!SUMSTRING(F68:G68,\"#\")&\"|\"&[1]!SUMSTRING(H68:I68,\"#\")","v":{"$error":"#NAME?"}},8]
[null,null,7,"08","708",5,1800,6,8,{"$f":"[1]!SUMSTRING(F69:G69,\"#\")&\"|\"&[1]!SUMSTRING(H69:I69,\"#\")","v":{"$error":"#NAME?"}},9]
[null,null,7,"09","709",5,2000,6,12,{"$f":"[1]!SUMSTRING(F70:G70,\"#\")&\"|\"&[1]!SUMSTRING(H70:I70,\"#\")","v":{"$error":"#NAME?"}},10]
[null,null,7,"10","710",5,2200,6,15,{"$f":"[1]!SUMSTRING(F71:G71,\"#\")&\"|\"&[1]!SUMSTRING(H71:I71,\"#\")","v":{"$error":"#NAME?"}}]
[null,null,8,"01","801",5,400,6,2,{"$f":"[1]!SUMSTRING(F72:G72,\"#\")&\"|\"&[1]!SUMSTRING(H72:I72,\"#\")","v":{"$error":"#NAME?"}},1]
[null,null,8,"02","802",5,600,6,2,{"$f":"[1]!SUMSTRING(F73:G73,\"#\")&\"|\"&[1]!SUMSTRING(H73:I73,\"#\")","v":{"$error":"#NAME?"}},2]
[null,null,8,"03","803",5,800,6,3,{"$f":"[1]!SUMSTRING(F74:G74,\"#\")&\"|\"&[1]!SUMSTRING(H74:I74,\"#\")","v":{"$error":"#NAME?"}},3]
[null,null,8,"04","804",5,1000,6,3,{"$f":"[1]!SUMSTRING(F75:G75,\"#\")&\"|\"&[1]!SUMSTRING(H75:I75,\"#\")","v":{"$error":"#NAME?"}},4]
[null,null,8,"05","805",5,1200,6,4,{"$f":"[1]!SUMSTRING(F76:G76,\"#\")&\"|\"&[1]!SUMSTRING(H76:I76,\"#\")","v":{"$error":"#NAME?"}},5]
[null,null,{"$f":"C67+1","v":8},{"$f":"D67","v":"06"},"806",5,1400,6,4,{"$f":"[1]!SUMSTRING(F77:G77,\"#\")&\"|\"&[1]!SUMSTRING(H77:I77,\"#\")","v":{"$error":"#NAME?"}},7]
[null,null,8,"07","807",5,1600,6,6,{"$f":"[1]!SUMSTRING(F78:G78,\"#\")&\"|\"&[1]!SUMSTRING(H78:I78,\"#\")","v":{"$error":"#NAME?"}},8]
[null,null,8,"08","808",5,1800,6,8,{"$f":"[1]!SUMSTRING(F79:G79,\"#\")&\"|\"&[1]!SUMSTRING(H79:I79,\"#\")","v":{"$error":"#NAME?"}},9]
[null,null,8,"09","809",5,2000,6,12,{"$f":"[1]!SUMSTRING(F80:G80,\"#\")&\"|\"&[1]!SUMSTRING(H80:I80,\"#\")","v":{"$error":"#NAME?"}},10]
[null,null,8,"10","810",5,2200,6,15,{"$f":"[1]!SUMSTRING(F81:G81,\"#\")&\"|\"&[1]!SUMSTRING(H81:I81,\"#\")","v":{"$error":"#NAME?"}}]
[null,null,9,"01","901",5,400,6,2,{"$f":"[1]!SUMSTRING(F82:G82,\"#\")&\"|\"&[1]!SUMSTRING(H82:I82,\"#\")","v":{"$error":"#NAME?"}},1]
[null,null,9,"02","902",5,600,6,2,{"$f":"[1]!SUMSTRING(F83:G83,\"#\")&\"|\"&[1]!SUMSTRING(H83:I83,\"#\")","v":{"$error":"#NAME?"}},2]
[null,null,9,"03","903",5,800,6,3,{"$f":"[1]!SUMSTRING(F84:G84,\"#\")&\"|\"&[1]!SUMSTRING(H84:I84,\"#\")","v":{"$error":"#NAME?"}},3]
[null,null,9,"04","904",5,1000,6,3,{"$f":"[1]!SUMSTRING(F85:G85,\"#\")&\"|\"&[1]!SUMSTRING(H85:I85,\"#\")","v":{"$error":"#NAME?"}},4]
[null,null,9,"05","905",5,1200,6,4,{"$f":"[1]!SUMSTRING(F86:G86,\"#\")&\"|\"&[1]!SUMSTRING(H86:I86,\"#\")","v":{"$error":"#NAME?"}},5]
[null,null,9,"06","906",5,1400,6,4,{"$f":"[1]!SUMSTRING(F87:G87,\"#\")&\"|\"&[1]!SUMSTRING(H87:I87,\"#\")","v":{"$error":"#NAME?"}},7]
[null,null,9,"07","907",5,1600,6,6,{"$f":"[1]!SUMSTRING(F88:G88,\"#\")&\"|\"&[1]!SUMSTRING(H88:I88,\"#\")","v":{"$error":"#NAME?"}},8]
[null,null,9,"08","908",5,1800,6,8,{"$f":"[1]!SUMSTRING(F89:G89,\"#\")&\"|\"&[1]!SUMSTRING(H89:I89,\"#\")","v":{"$error":"#NAME?"}},9]
[null,null,9,"09","909",5,2000,6,12,{"$f":"[1]!SUMSTRING(F90:G90,\"#\")&\"|\"&[1]!SUMSTRING(H90:I90,\"#\")","v":{"$error":"#NAME?"}},10]
[null,null,9,"10","910",5,2200,6,15,{"$f":"[1]!SUMSTRING(F91:G91,\"#\")&\"|\"&[1]!SUMSTRING(H91:I91,\"#\")","v":{"$error":"#NAME?"}}]
[null,null,10,"01","1001",5,400,6,2,{"$f":"[1]!SUMSTRING(F92:G92,\"#\")&\"|\"&[1]!SUMSTRING(H92:I92,\"#\")","v":{"$error":"#NAME?"}},1]
[null,null,10,"02","1002",5,600,6,2,{"$f":"[1]!SUMSTRING(F93:G93,\"#\")&\"|\"&[1]!SUMSTRING(H93:I93,\"#\")","v":{"$error":"#NAME?"}},2]
[null,null,10,"03","1003",5,800,6,3,{"$f":"[1]!SUMSTRING(F94:G94,\"#\")&\"|\"&[1]!SUMSTRING(H94:I94,\"#\")","v":{"$error":"#NAME?"}},3]
[null,null,10,"04","1004",5,1000,6,3,{"$f":"[1]!SUMSTRING(F95:G95,\"#\")&\"|\"&[1]!SUMSTRING(H95:I95,\"#\")","v":{"$error":"#NAME?"}},4]
[null,null,10,"05","1005",5,1200,6,4,{"$f":"[1]!SUMSTRING(F96:G96,\"#\")&\"|\"&[1]!SUMSTRING(H96:I96,\"#\")","v":{"$error":"#NAME?"}},5]
[null,null,10,"06","1006",5,1400,6,4,{"$f":"[1]!SUMSTRING(F97:G97,\"#\")&\"|\"&[1]!SUMSTRING(H97:I97,\"#\")","v":{"$error":"#NAME?"}},7]
[null,null,10,"07","1007",5,1600,6,6,{"$f":"[1]!SUMSTRING(F98:G98,\"#\")&\"|\"&[1]!SUMSTRING(H98:I98,\"#\")","v":{"$error":"#NAME?"}},8]
[null,null,10,"08","1008",5,1800,6,8,{"$f":"[1]!SUMSTRING(F99:G99,\"#\")&\"|\"&[1]!SUMSTRING(H99:I99,\"#\")","v":{"$error":"#NAME?"}},9]
[null,null,10,"09","1009",5,2000,6,12,{"$f":"[1]!SUMSTRING(F100:G100,\"#\")&\"|\"&[1]!SUMSTRING(H100:I100,\"#\")","v":{"$error":"#NAME?"}},10]
[null,null,10,"10","1010",5,2200,6,15,{"$f":"[1]!SUMSTRING(F101:G101,\"#\")&\"|\"&[1]!SUMSTRING(H101:I101,\"#\")","v":{"$error":"#NAME?"}}]

{"sheet":"属性表","index":4,"n_rows":30,"n_cols":10,"rows_kept":30}
[]
[]
[]
[]
[{"$nulls":7},"生命",1,"Hp"]
[{"$nulls":7},"攻击",2,"Attack"]
[{"$nulls":7},"护甲",3,"PhysicalDefence"]
[{"$nulls":7},"魔抗",4,"MagicDefence"]
[{"$nulls":7},"速度",5,"Speed"]
[{"$nulls":7},"生命上限",6]
[{"$nulls":7},"伤害加成百分比",51,"DamageBocusFactor"]
[{"$nulls":7},"伤害减免百分比",52,"DamageReduceFactor"]
[{"$nulls":7},"效果命中",53,"Hit"]
[{"$nulls":7},"效果抵抗",54,"Dodge"]
[{"$nulls":7},"暴击",55,"CritFactor"]
[{"$nulls":7},"暴伤",56,"CritDamageFactor"]
[{"$nulls":7},"回复系数",57,"TreatFacter"]
[{"$nulls":7},"抗暴",58,"AntiCritTactor"]
[{"$nulls":7},"火攻（%）",101,"FireDamageBonusFactor"]
[{"$nulls":7},"风攻（%）",102,"WindDamageBonusFactor"]
[{"$nulls":7},"水攻（%）",103,"WaterDamageBonusFactor"]
[{"$nulls":7},"地攻（%）",104,"LandDamageBonusFactor"]
[{"$nulls":7},"光攻（%）",105,"LightDamageBonusFactor"]
[{"$nulls":7},"暗攻（%）",106,"DarkDamageBonusFactor"]
[{"$nulls":7},"火抗（%）",107,"FireDamageReduceFactor"]
[{"$nulls":7},"风抗（%）",108,"WindDamageReduceFactor"]
[{"$nulls":7},"水抗（%）",109,"WaterDamageReduceFactor"]
[{"$nulls":7},"地抗（%）",110,"LandDamageReduceFactor"]
[{"$nulls":7},"光抗（%）",111,"LightDamageReduceFactor"]
[{"$nulls":7},"暗抗（%）",112,"DarkDamageReduceFactor"]