Workbook

Sheet ArenaLevel
B1: Id | C1: ArenaLevelName | D1: ArenaLevelIntegral | E1: ArenaLevelReward
B2: int | C2: string | D2: mut,int#int,1 | E2: mut,int#int,2
B3: 2 | C3: 3 | D3: 2 | E3: 2
B4: 索引 | C4: 段位名称 | D4: 段位积分 | E4: 段位奖励 | G4: 前10名，前二十段位每周升一次，二十-三十段位每两周升一次以此类推
A5: 默认值 | E5: null
A6: 正确性校对
A7: 校对值
B8: 1 | C8: 练气 | D8: 0#999
B9: 2 | C9: 筑基 | D9: 1000#1999 | E9: 5100018#1|16#2000
B10: 3 | C10: 结丹·一 | D10: 2000#2999 | E10: 5100018#1|16#2000
B11: 4 | C11: 结丹·二 | D11: 3000#3999 | E11: 5100018#1|16#2000
B12: 5 | C12: 元婴·一 | D12: 4000#4999 | E12: 5100018#1|16#4000
B13: 6 | C13: 元婴·二 | D13: 5000#5999 | E13: 5100018#1|16#4000
B14: 7 | C14: 元婴·三 | D14: 6000#6999 | E14: 5100018#1|16#4000
B15: 8 | C15: 元婴·四 | D15: 7000#7999 | E15: 5100018#1|16#4000
B16: 9 | C16: 元婴·五 | D16: 8000#8999 | E16: 5100018#1|16#4000
B17: 10 | C17: 化身·一 | D17: 9000#9999 | E17: 5100018#1|16#6000
B18: 11 | C18: 化身·二 | D18: 10000#10999 | E18: 5100018#1|16#6000
B19: 12 | C19: 化身·三 | D19: 11000#11999 | E19: 5100018#1|16#6000
B20: 13 | C20: 化身·四 | D20: 12000#12999 | E20: 5100018#1|16#6000
... B47: 40 | C47: 太乙 | D47: 74000#999999999 | E47: 5100028#3|16#18000

Sheet 竞技场赠送礼物
B2: 5100006 | C2: =ArenaLevel!$I$1&F2 -> 1 | D2: 主角专属·不可多得的至高法宝 | E2: 5 | F2: 1 | G2: =B2 -> 5100006
B3: 5100007 | C3: =ArenaLevel!$I$1&F3 -> 11 | D3: 主角专属·不可多得的至高法宝 | E3: 6 | F3: 11 | G3: =B3 -> 5100007
B4: 5100008 | C4: =ArenaLevel!$I$1&F4 -> 26 | D4: 主角专属·不可多得的至高法宝 | E4: 7 | F4: 26 | G4: =B4 -> 5100008
B5: 5100016 | C5: =ArenaLevel!$I$1&F5 -> 2 | D5: 主角专属·不可多得的至高法宝 | E5: 5 | F5: 2 | G5: =B5 -> 5100016
B6: 5100017 | C6: =ArenaLevel!$I$1&F6 -> 12 | D6: 主角专属·不可多得的至高法宝 | E6: 6 | F6: 12 | G6: =B6 -> 5100017
B7: 5100018 | C7: =ArenaLevel!$I$1&F7 -> 27 | D7: 主角专属·不可多得的至高法宝 | E7: 7 | F7: 27 | G7: =B7 -> 5100018
B8: 5100026 | C8: =ArenaLevel!$I$1&F8 -> 3 | D8: 主角专属·不可多得的至高法宝 | E8: 5 | F8: 3 | G8: =B8 -> 5100026
B9: 5100027 | C9: =ArenaLevel!$I$1&F9 -> 13 | D9: 主角专属·不可多得的至高法宝 | E9: 6 | F9: 13 | G9: =B9 -> 5100027
B10: 5100028 | C10: =ArenaLevel!$I$1&F10 -> 28 | D10: 主角专属·不可多得的至高法宝 | E10: 7 | F10: 28 | G10: =B10 -> 5100028
B11: 5100036 | C11: =ArenaLevel!$I$1&F11 -> 4 | D11: 主角专属·不可多得的至高法宝 | E11: 5 | F11: 4 | G11: =B11 -> 5100036
B12: 5100037 | C12: =ArenaLevel!$I$1&F12 -> 14 | D12: 主角专属·不可多得的至高法宝 | E12: 6 | F12: 14 | G12: =B12 -> 5100037
B13: 5100038 | C13: =ArenaLevel!$I$1&F13 -> 29 | D13: 主角专属·不可多得的至高法宝 | E13: 7 | F13: 29 | G13: =B13 -> 5100038
... B31: 5100098 | C31: =ArenaLevel!$I$1&F31 -> 35 | D31: 主角专属·不可多得的至高法宝 | E31: 7 | F31: 35 | G31: =B31 -> 5100098
B32: 5100106 | C32: 灵牙杖 | D32: 主角专属·不可多得的至高法宝 | E32: 5
B33: 5100107 | C33: =ArenaLevel!$I$1&F33 -> 21 | D33: 主角专属·不可多得的至高法宝 | E33: 6 | F33: 21 | G33: =B33 -> 5100107
B34: 5100108 | C34: =ArenaLevel!$I$1&F34 -> 36 | D34: 主角专属·不可多得的至高法宝 | E34: 7 | F34: 36 | G34: =B34 -> 5100108
B35: 5100116 | C35: 九齿钉耙 | D35: 主角专属·不可多得的至高法宝 | E35: 5
B36: 5100117 | C36: =ArenaLevel!$I$1&F36 -> 22 | D36: 主角专属·不可多得的至高法宝 | E36: 6 | F36: 22 | G36: =B36 -> 5100117
B37: 5100118 | C37: =ArenaLevel!$I$1&F37 -> 37 | D37: 主角专属·不可多得的至高法宝 | E37: 7 | F37: 37 | G37: =B37 -> 5100118
B38: 5100126 | C38: 婵羽衣 | D38: 主角专属·不可多得的至高法宝 | E38: 5
B39: 5100127 | C39: =ArenaLevel!$I$1&F39 -> 23 | D39: 主角专属·不可多得的至高法宝 | E39: 6 | F39: 23 | G39: =B39 -> 5100127
B40: 5100128 | C40: =ArenaLevel!$I$1&F40 -> 38 | D40: 主角专属·不可多得的至高法宝 | E40: 7 | F40: 38 | G40: =B40 -> 5100128
B41: 5100136 | C41: 蝶梦舞 | D41: 主角专属·不可多得的至高法宝 | E41: 5
B42: 5100137 | C42: =ArenaLevel!$I$1&F42 -> 24 | D42: 主角专属·不可多得的至高法宝 | E42: 6 | F42: 24 | G42: =B42 -> 5100137
B43: 5100138 | C43: =ArenaLevel!$I$1&F43 -> 39 | D43: 主角专属·不可多得的至高法宝 | E43: 7 | F43: 39 | G43: =B43 -> 5100138
B44: 5100146 | C44: 布鲁克心经 | D44: 主角专属·不可多得的至高法宝 | E44: 5
B45: 5100147 | C45: =ArenaLevel!$I$1&F45 -> 25 | D45: 主角专属·不可多得的至高法宝 | E45: 6 | F45: 25 | G45: =B45 -> 5100147
B46: 5100148 | C46: =ArenaLevel!$I$1&F46 -> 40 | D46: 主角专属·不可多得的至高法宝 | E46: 7 | F46: 40 | G46: =B46 -> 5100148
B47: 5100156 | C47: 龙王铠 | D47: 主角专属·不可多得的至高法宝 | E47: 5
B48: 5100157 | C48: 穿心刺 | D48: 主角专属·不可多得的至高法宝 | E48: 6
B49: 5100158 | C49: 困仙锁 | D49: 主角专属·不可多得的至高法宝 | E49: 7
