Workbook
Name 开发角色Data: '[1]角色类型&星级Ver0.1'!$B$6:$B$33

Sheet ArenaRobotConfig
B1: Id | C1: RobotName | D1: RobotLevel | E1: RobotScore | F1: RoleId | G1: RoleLv | H1: DifferDemonsId | I1: DifferDemonsLv | J1: PoolId | K1: Nouse | L1: RoleId2 | M1: RoleId3 | N1: MsScroe
B2: int | C2: string | D2: int | E2: int | F2: mut,int#int,1 | G2: int | H2: mut,int#int,1 | I2: int | J2: int | K2: string | L2: mut,int#int,1 | M2: mut,int#int,1 | N2: int
B3: 4 | C3: 4 | D3: 4 | E3: 4 | F3: 4 | G3: 4 | H3: 4 | I3: 4 | J3: 4 | K3: 0 | L3: 4 | M3: 4 | N3: 4
B4: 索引（不要超过七位数） | C4: 机器人姓名 | D4: 机器人玩家等级 | E4: 机器人玩家积分 | F4: 妖灵师列表 | G4: 妖灵师对应等级 | H4: 异妖列表 | I4: 异妖阶级 | J4: 所属库id | K4: 策划备注 | L4: 妖灵师阵容2 | M4: 妖灵师列表阵容3 | N4: 玉虚初始积分
A5: 默认值 | B5: 0 | E5: 0 | G5: 0 | H5: null | I5: 0
A6: 正确性校对
A7: 校对值
B8: 1 | C8: 竞技守卫 | D8: 9 | E8: 960 | F8: 10002#10010#10002#10089#10033#10023 | G8: 20 | J8: 1 | L8: 10017#10019#10013#10047#10089#10015 | M8: 10019#10095#10010#10013#10047#10023 | N8: 1170
B9: 2 | C9: 竞技守卫 | D9: 9 | E9: 985 | F9: 10017#10019#10013#10047#10089#10015 | G9: 23 | J9: 1 | L9: 10019#10095#10010#10013#10047#10023 | M9: 10015#10095#10010#10042#10002#10089 | N9: 1171
B10: 3 | C10: 竞技守卫 | D10: 8 | E10: 963 | F10: 10019#10095#10010#10013#10047#10023 | G10: 22 | J10: 1 | L10: 10015#10095#10010#10042#10002#10089 | M10: 10089#10042#10047#10022#10011#10013 | N10: 1172
B11: 4 | C11: 竞技守卫 | D11: 8 | E11: 985 | F11: 10015#10095#10010#10042#10002#10089 | G11: 18 | J11: 1 | L11: 10089#10042#10047#10022#10011#10013 | M11: 10019#10047#10017#10097#10089#10010 | N11: 1173
B12: 5 | C12: 竞技守卫 | D12: 10 | E12: 978 | F12: 10089#10042#10047#10022#10011#10013 | G12: 25 | J12: 1 | L12: 10019#10047#10017#10097#10089#10010 | M12: 10089#10033#10047#10087#10033#10008 | N12: 1174
B13: 6 | C13: 竞技守卫 | D13: 10 | E13: 972 | F13: 10019#10047#10017#10097#10089#10010 | G13: 21 | J13: 1 | L13: 10089#10033#10047#10087#10033#10008 | M13: 10089#10042#10023#10017#10002#10013 | N13: 1230
B14: 7 | C14: 竞技守卫 | D14: 10 | E14: 961 | F14: 10089#10033#10047#10087#10033#10008 | G14: 19 | J14: 1 | L14: 10089#10042#10023#10017#10002#10013 | M14: 10026#10026#10087#10010#10089#10047 | N14: 1231
B15: 8 | C15: 竞技守卫 | D15: 9 | E15: 954 | F15: 10089#10042#10023#10017#10002#10013 | G15: 24 | J15: 1 | L15: 10026#10026#10087#10010#10089#10047 | M15: 10089#10013#10022#10087#10010#10012 | N15: 1232
B16: 9 | C16: 竞技守卫 | D16: 8 | E16: 958 | F16: 10026#10026#10087#10010#10089#10047 | G16: 19 | J16: 1 | L16: 10089#10013#10022#10087#10010#10012 | M16: 10039#10003#10087#10026#10005#10039 | N16: 1233
B17: 10 | C17: 竞技守卫 | D17: 9 | E17: 976 | F17: 10089#10013#10022#10087#10010#10012 | G17: 20 | J17: 1 | L17: 10039#10003#10087#10026#10005#10039 | M17: 10039#10019#10003#10026#10022#10089 | N17: 1234
B18: 11 | C18: 竞技守卫 | D18: 10 | E18: 984 | F18: 10039#10003#10087#10026#10005#10039 | G18: 22 | J18: 1 | L18: 10039#10019#10003#10026#10022#10089 | M18: 10039#10089#10010#10089#10039#10022 | N18: 1290
B19: 12 | C19: 竞技守卫 | D19: 9 | E19: 978 | F19: 10039#10019#10003#10026#10022#10089 | G19: 26 | J19: 1 | L19: 10039#10089#10010#10089#10039#10022 | M19: 10001#10029#10089#10019#10047#10095 | N19: 1291
... B264: 257 | C264: 竞技守卫 | D264: 101 | E264: 1603 | F264: 10026#10026#10087#10010#10089#10047 | G264: 205 | J264: 10 | L264: 10002#10010#10002#10089#10033#10023 | M264: 10017#10019#10013#10047#10089#10015 | N264: 1000000

Sheet Sheet1
A1: id | B1: 等级 | C1: 玩家等级 | D1: 位置 | E1: 1 | F1: 2 | G1: 3 | H1: 4 | I1: 5 | J1: 6 | W1: 1 | X1: 2 | Y1: 3 | Z1: 4 | AA1: 5 | AB1: 6 | AC1: 7 | AD1: 8 | AE1: 9 | AF1: 10 | AG1: 11 | AH1: 12 | AJ1: 1 | AK1: 2 | AL1: 3 | AM1: 4 | AN1: 5 | AO1: 6 | AP1: 7 | AQ1: 8 | AR1: 9 | AS1: 10 | AT1: 11 | AU1: 12 | AX1: 10053 | AY1: 10047 | AZ1: 10054 | BA1: 10050 | BB1: 10051 | BC1: 10052
A2: 1 | B2: =VLOOKUP($A2,ArenaRobotConfig!$B:$G,6,TRUE) -> 20 | C2: =VLOOKUP($A2,ArenaRobotConfig!$B:$G,3,TRUE) -> 9 | D2: 星级 | E2: 4 | F2: 3 | G2: 3 | H2: 3 | I2: 3 | J2: 3 | L2: 10064 | M2: 10048 | N2: 10053 | O2: 10050 | P2: 10054 | Q2: 10052 | S2: =L2&"#"&M2&"#"&N2&"#"&O2&"#"&P2&"#"&Q2 -> 10064#10048#10053#10050#10054#10052 | T2: =_xlfn.TEXTJOIN("#",TRUE,AJ2:AO2) -> #NAME? | U2: =_xlfn.TEXTJOIN("#",TRUE,AP2:AU2) -> #NAME? | W2: =_xlfn.IFNA(MATCH(AJ2,$L2:$Q2,0),"") | X2: =_xlfn.IFNA(MATCH(AK2,$L2:$Q2,0),"") | Y2: =_xlfn.IFNA(MATCH(AL2,$L2:$Q2,0),"") | Z2: =_xlfn.IFNA(MATCH(AM2,$L2:$Q2,0),"") | AA2: =_xlfn.IFNA(MATCH(AN2,$L2:$Q2,0),"") | AB2: =_xlfn.IFNA(MATCH(AO2,$L2:$Q2,0),"") | AC2: =_xlfn.IFNA(MATCH(AP2,$L2:$Q2,0),"") | AD2: =_xlfn.IFNA(MATCH(AQ2,$L2:$Q2,0),"") | ... AH2: =_xlfn.IFNA(MATCH(AU2,$L2:$Q2,0),"") | AJ2: 10001 | AK2: 10002 | AL2: 10003 | AM2: 10004 | AN2: 10005 | AO2: 10006 | AP2: 10007 | AQ2: 10008 | AR2: 10009 | AS2: 10010 | AT2: 10011 | AU2: 10012 | AX2: 10051 | AY2: 10054 | AZ2: 10052 | BA2: 10049 | BB2: 10047 | BC2: 10050
A3: 2 | B3: =VLOOKUP($A3,ArenaRobotConfig!$B:$G,6,TRUE) -> 23 | C3: =VLOOKUP($A3,ArenaRobotConfig!$B:$G,3,TRUE) -> 9 | E3: 3 | F3: 3 | G3: 3 | H3: 3 | I3: 4 | J3: 3 | L3: 10047 | M3: 10048 | N3: 10053 | O3: 10050 | P3: 10059 | Q3: 10052 | S3: =L3&"#"&M3&"#"&N3&"#"&O3&"#"&P3&"#"&Q3 -> 10047#10048#10053#10050#10059#10052 | T3: =_xlfn.TEXTJOIN("#",TRUE,AJ3:AO3) -> #NAME? | U3: =_xlfn.TEXTJOIN("#",TRUE,AP3:AU3) -> #NAME? | W3: =_xlfn.IFNA(MATCH(AJ3,$L3:$Q3,0),"") | X3: =_xlfn.IFNA(MATCH(AK3,$L3:$Q3,0),"") | Y3: =_xlfn.IFNA(MATCH(AL3,$L3:$Q3,0),"") | Z3: =_xlfn.IFNA(MATCH(AM3,$L3:$Q3,0),"") | AA3: =_xlfn.IFNA(MATCH(AN3,$L3:$Q3,0),"") | AB3: =_xlfn.IFNA(MATCH(AO3,$L3:$Q3,0),"") | AC3: =_xlfn.IFNA(MATCH(AP3,$L3:$Q3,0),"") | AD3: =_xlfn.IFNA(MATCH(AQ3,$L3:$Q3,0),"") | ... AH3: =_xlfn.IFNA(MATCH(AU3,$L3:$Q3,0),"") | AJ3: 10001 | AK3: 10002 | AL3: 10003 | AM3: 10004 | AN3: 10005 | AO3: 10006 | AP3: 10007 | AQ3: 10008 | AR3: 10009 | AS3: 10010 | AT3: 10011 | AU3: 10012 | AX3: 10053 | AY3: 10047 | AZ3: 10050 | BA3: 10049 | BB3: 10054 | BC3: 10052
A4: 3 | B4: =VLOOKUP($A4,ArenaRobotConfig!$B:$G,6,TRUE) -> 22 | C4: =VLOOKUP($A4,ArenaRobotConfig!$B:$G,3,TRUE) -> 8 | E4: 3 | F4: 3 | G4: 3 | H4: 3 | I4: 3 | J4: 3 | L4: 10047 | M4: 10048 | N4: 10049 | O4: 10050 | P4: 10051 | Q4: 10052 | S4: =L4&"#"&M4&"#"&N4&"#"&O4&"#"&P4&"#"&Q4 -> 10047#10048#10049#10050#10051#10052 | T4: =_xlfn.TEXTJOIN("#",TRUE,AJ4:AO4) -> #NAME? | U4: =_xlfn.TEXTJOIN("#",TRUE,AP4:AU4) -> #NAME? | W4: =_xlfn.IFNA(MATCH(AJ4,$L4:$Q4,0),"") | X4: =_xlfn.IFNA(MATCH(AK4,$L4:$Q4,0),"") | Y4: =_xlfn.IFNA(MATCH(AL4,$L4:$Q4,0),"") | Z4: =_xlfn.IFNA(MATCH(AM4,$L4:$Q4,0),"") | AA4: =_xlfn.IFNA(MATCH(AN4,$L4:$Q4,0),"") | AB4: =_xlfn.IFNA(MATCH(AO4,$L4:$Q4,0),"") | AC4: =_xlfn.IFNA(MATCH(AP4,$L4:$Q4,0),"") | AD4: =_xlfn.IFNA(MATCH(AQ4,$L4:$Q4,0),"") | ... AH4: =_xlfn.IFNA(MATCH(AU4,$L4:$Q4,0),"") | AJ4: 10001 | AK4: 10002 | AL4: 10003 | AM4: 10004 | AN4: 10005 | AO4: 10006 | AP4: 10007 | AQ4: 10008 | AR4: 10009 | AS4: 10010 | AT4: 10011 | AU4: 10012 | AX4: 10049 | AY4: 10047 | AZ4: 10050 | BA4: 10051 | BB4: 10054 | BC4: 10052 | BH4: 10047 | BI4: 赤尾妖
A5: 4 | B5: =VLOOKUP($A5,ArenaRobotConfig!$B:$G,6,TRUE) -> 18 | C5: =VLOOKUP($A5,ArenaRobotConfig!$B:$G,3,TRUE) -> 8 | E5: 3 | F5: 3 | G5: 3 | H5: 3 | I5: 3 | J5: 3 | L5: 10047 | M5: 10048 | N5: 10049 | O5: 10050 | P5: 10051 | Q5: 10052 | S5: =L5&"#"&M5&"#"&N5&"#"&O5&"#"&P5&"#"&Q5 -> 10047#10048#10049#10050#10051#10052 | T5: =_xlfn.TEXTJOIN("#",TRUE,AJ5:AO5) -> #NAME? | U5: =_xlfn.TEXTJOIN("#",TRUE,AP5:AU5) -> #NAME? | W5: =_xlfn.IFNA(MATCH(AJ5,$L5:$Q5,0),"") | X5: =_xlfn.IFNA(MATCH(AK5,$L5:$Q5,0),"") | Y5: =_xlfn.IFNA(MATCH(AL5,$L5:$Q5,0),"") | Z5: =_xlfn.IFNA(MATCH(AM5,$L5:$Q5,0),"") | AA5: =_xlfn.IFNA(MATCH(AN5,$L5:$Q5,0),"") | AB5: =_xlfn.IFNA(MATCH(AO5,$L5:$Q5,0),"") | AC5: =_xlfn.IFNA(MATCH(AP5,$L5:$Q5,0),"") | AD5: =_xlfn.IFNA(MATCH(AQ5,$L5:$Q5,0),"") | ... AH5: =_xlfn.IFNA(MATCH(AU5,$L5:$Q5,0),"") | AJ5: 10001 | AK5: 10002 | AL5: 10003 | AM5: 10004 | AN5: 10005 | AO5: 10006 | AP5: 10007 | AQ5: 10008 | AR5: 10009 | AS5: 10010 | AT5: 10011 | AU5: 10012 | AX5: 10051 | AY5: 10047 | AZ5: 10050 | BA5: 10049 | BB5: 10054 | BC5: 10052 | BH5: 10049 | BI5: 娜迦
A6: 5 | B6: =VLOOKUP($A6,ArenaRobotConfig!$B:$G,6,TRUE) -> 25 | C6: =VLOOKUP($A6,ArenaRobotConfig!$B:$G,3,TRUE) -> 10 | E6: 4 | F6: 3 | G6: 4 | H6: 3 | I6: 3 | J6: 3 | L6: 10064 | M6: 10048 | N6: 10070 | O6: 10050 | P6: 10054 | Q6: 10052 | S6: =L6&"#"&M6&"#"&N6&"#"&O6&"#"&P6&"#"&Q6 -> 10064#10048#10070#10050#10054#10052 | T6: =_xlfn.TEXTJOIN("#",TRUE,AJ6:AO6) -> #NAME? | U6: =_xlfn.TEXTJOIN("#",TRUE,AP6:AU6) -> #NAME? | W6: =_xlfn.IFNA(MATCH(AJ6,$L6:$Q6,0),"") | X6: =_xlfn.IFNA(MATCH(AK6,$L6:$Q6,0),"") | Y6: =_xlfn.IFNA(MATCH(AL6,$L6:$Q6,0),"") | Z6: =_xlfn.IFNA(MATCH(AM6,$L6:$Q6,0),"") | AA6: =_xlfn.IFNA(MATCH(AN6,$L6:$Q6,0),"") | AB6: =_xlfn.IFNA(MATCH(AO6,$L6:$Q6,0),"") | AC6: =_xlfn.IFNA(MATCH(AP6,$L6:$Q6,0),"") | AD6: =_xlfn.IFNA(MATCH(AQ6,$L6:$Q6,0),"") | ... AH6: =_xlfn.IFNA(MATCH(AU6,$L6:$Q6,0),"") | AJ6: 10001 | AK6: 10002 | AL6: 10003 | AM6: 10004 | AN6: 10005 | AO6: 10006 | AP6: 10007 | AQ6: 10008 | AR6: 10009 | AS6: 10010 | AT6: 10011 | AU6: 10012 | BH6: 10051 | BI6: 灵使
A7: 6 | B7: =VLOOKUP($A7,ArenaRobotConfig!$B:$G,6,TRUE) -> 21 | C7: =VLOOKUP($A7,ArenaRobotConfig!$B:$G,3,TRUE) -> 10 | E7: 3 | F7: 3 | G7: 3 | H7: 3 | I7: 3 | J7: 3 | L7: 10047 | M7: 10048 | N7: 10053 | O7: 10050 | P7: 10051 | Q7: 10052 | S7: =L7&"#"&M7&"#"&N7&"#"&O7&"#"&P7&"#"&Q7 -> 10047#10048#10053#10050#10051#10052 | T7: =_xlfn.TEXTJOIN("#",TRUE,AJ7:AO7) -> #NAME? | U7: =_xlfn.TEXTJOIN("#",TRUE,AP7:AU7) -> #NAME? | W7: =_xlfn.IFNA(MATCH(AJ7,$L7:$Q7,0),"") | X7: =_xlfn.IFNA(MATCH(AK7,$L7:$Q7,0),"") | Y7: =_xlfn.IFNA(MATCH(AL7,$L7:$Q7,0),"") | Z7: =_xlfn.IFNA(MATCH(AM7,$L7:$Q7,0),"") | AA7: =_xlfn.IFNA(MATCH(AN7,$L7:$Q7,0),"") | AB7: =_xlfn.IFNA(MATCH(AO7,$L7:$Q7,0),"") | AC7: =_xlfn.IFNA(MATCH(AP7,$L7:$Q7,0),"") | AD7: =_xlfn.IFNA(MATCH(AQ7,$L7:$Q7,0),"") | ... AH7: =_xlfn.IFNA(MATCH(AU7,$L7:$Q7,0),"") | AJ7: 10001 | AK7: 10002 | AL7: 10003 | AM7: 10004 | AN7: 10005 | AO7: 10006 | AP7: 10007 | AQ7: 10008 | AR7: 10009 | AS7: 10010 | AT7: 10011 | AU7: 10012 | AW7: 1 | AX7: =VLOOKUP(AX1,[2]HeroConfig!$B:$D,3,FALSE) -> 罗琳 | AY7: =VLOOKUP(AY1,[2]HeroConfig!$B:$D,3,FALSE) -> 特蕾莎 | AZ7: =VLOOKUP(AZ1,[2]HeroConfig!$B:$D,3,FALSE) -> 仙灵 | BA7: =VLOOKUP(BA1,[2]HeroConfig!$B:$D,3,FALSE) -> 菩提遗枝 | BB7: =VLOOKUP(BB1,[2]HeroConfig!$B:$D,3,FALSE) -> 盖洛普 | BC7: =VLOOKUP(BC1,[2]HeroConfig!$B:$D,3,FALSE) -> 方士 | BH7: 10052 | BI7: 方士
A8: 7 | B8: =VLOOKUP($A8,ArenaRobotConfig!$B:$G,6,TRUE) -> 19 | C8: =VLOOKUP($A8,ArenaRobotConfig!$B:$G,3,TRUE) -> 10 | E8: 3 | F8: 3 | G8: 3 | H8: 3 | I8: 3 | J8: 3 | L8: 10047 | M8: 10048 | N8: 10049 | O8: 10050 | P8: 10054 | Q8: 10052 | S8: =L8&"#"&M8&"#"&N8&"#"&O8&"#"&P8&"#"&Q8 -> 10047#10048#10049#10050#10054#10052 | T8: =_xlfn.TEXTJOIN("#",TRUE,AJ8:AO8) -> #NAME? | U8: =_xlfn.TEXTJOIN("#",TRUE,AP8:AU8) -> #NAME? | W8: =_xlfn.IFNA(MATCH(AJ8,$L8:$Q8,0),"") | X8: =_xlfn.IFNA(MATCH(AK8,$L8:$Q8,0),"") | Y8: =_xlfn.IFNA(MATCH(AL8,$L8:$Q8,0),"") | Z8: =_xlfn.IFNA(MATCH(AM8,$L8:$Q8,0),"") | AA8: =_xlfn.IFNA(MATCH(AN8,$L8:$Q8,0),"") | AB8: =_xlfn.IFNA(MATCH(AO8,$L8:$Q8,0),"") | AC8: =_xlfn.IFNA(MATCH(AP8,$L8:$Q8,0),"") | AD8: =_xlfn.IFNA(MATCH(AQ8,$L8:$Q8,0),"") | ... AH8: =_xlfn.IFNA(MATCH(AU8,$L8:$Q8,0),"") | AJ8: 10001 | AK8: 10002 | AL8: 10003 | AM8: 10004 | AN8: 10005 | AO8: 10006 | AP8: 10007 | AQ8: 10008 | AR8: 10009 | AS8: 10010 | AT8: 10011 | AU8: 10012 | AX8: =VLOOKUP(AX2,[2]HeroConfig!$B:$D,3,FALSE) -> 盖洛普 | AY8: =VLOOKUP(AY2,[2]HeroConfig!$B:$D,3,FALSE) -> 仙灵 | AZ8: =VLOOKUP(AZ2,[2]HeroConfig!$B:$D,3,FALSE) -> 方士 | BA8: =VLOOKUP(BA2,[2]HeroConfig!$B:$D,3,FALSE) -> 索菲 | BB8: =VLOOKUP(BB2,[2]HeroConfig!$B:$D,3,FALSE) -> 特蕾莎 | BC8: =VLOOKUP(BC2,[2]HeroConfig!$B:$D,3,FALSE) -> 菩提遗枝 | BH8: 10053 | BI8: 鬼差
A9: 8 | B9: =VLOOKUP($A9,ArenaRobotConfig!$B:$G,6,TRUE) -> 24 | C9: =VLOOKUP($A9,ArenaRobotConfig!$B:$G,3,TRUE) -> 9 | E9: 3 | F9: 4 | G9: 3 | H9: 3 | I9: 3 | J9: 3 | L9: 10047 | M9: 10061 | N9: 10053 | O9: 10050 | P9: 10054 | Q9: 10052 | S9: =L9&"#"&M9&"#"&N9&"#"&O9&"#"&P9&"#"&Q9 -> 10047#10061#10053#10050#10054#10052 | T9: =_xlfn.TEXTJOIN("#",TRUE,AJ9:AO9) -> #NAME? | U9: =_xlfn.TEXTJOIN("#",TRUE,AP9:AU9) -> #NAME? | W9: =_xlfn.IFNA(MATCH(AJ9,$L9:$Q9,0),"") | X9: =_xlfn.IFNA(MATCH(AK9,$L9:$Q9,0),"") | Y9: =_xlfn.IFNA(MATCH(AL9,$L9:$Q9,0),"") | Z9: =_xlfn.IFNA(MATCH(AM9,$L9:$Q9,0),"") | AA9: =_xlfn.IFNA(MATCH(AN9,$L9:$Q9,0),"") | AB9: =_xlfn.IFNA(MATCH(AO9,$L9:$Q9,0),"") | AC9: =_xlfn.IFNA(MATCH(AP9,$L9:$Q9,0),"") | AD9: =_xlfn.IFNA(MATCH(AQ9,$L9:$Q9,0),"") | ... AH9: =_xlfn.IFNA(MATCH(AU9,$L9:$Q9,0),"") | AJ9: 10001 | AK9: 10002 | AL9: 10003 | AM9: 10004 | AN9: 10005 | AO9: 10006 | AP9: 10007 | AQ9: 10008 | AR9: 10009 | AS9: 10010 | AT9: 10011 | AU9: 10012 | AX9: =VLOOKUP(AX3,[2]HeroConfig!$B:$D,3,FALSE) -> 罗琳 | AY9: =VLOOKUP(AY3,[2]HeroConfig!$B:$D,3,FALSE) -> 特蕾莎 | AZ9: =VLOOKUP(AZ3,[2]HeroConfig!$B:$D,3,FALSE) -> 菩提遗枝 | BA9: =VLOOKUP(BA3,[2]HeroConfig!$B:$D,3,FALSE) -> 索菲 | BB9: =VLOOKUP(BB3,[2]HeroConfig!$B:$D,3,FALSE) -> 仙灵 | BC9: =VLOOKUP(BC3,[2]HeroConfig!$B:$D,3,FALSE) -> 方士 | BH9: 10054 | BI9: 仙灵
A10: 9 | B10: =VLOOKUP($A10,ArenaRobotConfig!$B:$G,6,TRUE) -> 19 | C10: =VLOOKUP($A10,ArenaRobotConfig!$B:$G,3,TRUE) -> 8 | E10: 3 | F10: 3 | G10: 3 | H10: 3 | I10: 3 | J10: 3 | L10: 10047 | M10: 10048 | N10: 10049 | O10: 10050 | P10: 10054 | Q10: 10052 | S10: =L10&"#"&M10&"#"&N10&"#"&O10&"#"&P10&"#"&Q10 -> 10047#10048#10049#10050#10054#10052 | T10: =_xlfn.TEXTJOIN("#",TRUE,AJ10:AO10) -> #NAME? | U10: =_xlfn.TEXTJOIN("#",TRUE,AP10:AU10) -> #NAME? | W10: =_xlfn.IFNA(MATCH(AJ10,$L10:$Q10,0),"") | X10: =_xlfn.IFNA(MATCH(AK10,$L10:$Q10,0),"") | Y10: =_xlfn.IFNA(MATCH(AL10,$L10:$Q10,0),"") | Z10: =_xlfn.IFNA(MATCH(AM10,$L10:$Q10,0),"") | AA10: =_xlfn.IFNA(MATCH(AN10,$L10:$Q10,0),"") | AB10: =_xlfn.IFNA(MATCH(AO10,$L10:$Q10,0),"") | AC10: =_xlfn.IFNA(MATCH(AP10,$L10:$Q10,0),"") | AD10: =_xlfn.IFNA(MATCH(AQ10,$L10:$Q10,0),"") | ... AH10: =_xlfn.IFNA(MATCH(AU10,$L10:$Q10,0),"") | AJ10: 10001 | AK10: 10002 | AL10: 10003 | AM10: 10004 | AN10: 10005 | AO10: 10006 | AP10: 10007 | AQ10: 10008 | AR10: 10009 | AS10: 10010 | AT10: 10011 | AU10: 10012 | AW10: 1 | AX10: =VLOOKUP(AX4,[2]HeroConfig!$B:$D,3,FALSE) -> 索菲 | AY10: =VLOOKUP(AY4,[2]HeroConfig!$B:$D,3,FALSE) -> 特蕾莎 | AZ10: =VLOOKUP(AZ4,[2]HeroConfig!$B:$D,3,FALSE) -> 菩提遗枝 | BA10: =VLOOKUP(BA4,[2]HeroConfig!$B:$D,3,FALSE) -> 盖洛普 | BB10: =VLOOKUP(BB4,[2]HeroConfig!$B:$D,3,FALSE) -> 仙灵 | BC10: =VLOOKUP(BC4,[2]HeroConfig!$B:$D,3,FALSE) -> 方士
A11: 10 | B11: =VLOOKUP($A11,ArenaRobotConfig!$B:$G,6,TRUE) -> 20 | C11: =VLOOKUP($A11,ArenaRobotConfig!$B:$G,3,TRUE) -> 9 | E11: 3 | F11: 3 | G11: 3 | H11: 4 | I11: 3 | J11: 3 | L11: 10047 | M11: 10048 | N11: 10053 | O11: 10066 | P11: 10051 | Q11: 10052 | S11: =L11&"#"&M11&"#"&N11&"#"&O11&"#"&P11&"#"&Q11 -> 10047#10048#10053#10066#10051#10052 | T11: =_xlfn.TEXTJOIN("#",TRUE,AJ11:AO11) -> #NAME? | U11: =_xlfn.TEXTJOIN("#",TRUE,AP11:AU11) -> #NAME? | W11: =_xlfn.IFNA(MATCH(AJ11,$L11:$Q11,0),"") | X11: =_xlfn.IFNA(MATCH(AK11,$L11:$Q11,0),"") | Y11: =_xlfn.IFNA(MATCH(AL11,$L11:$Q11,0),"") | Z11: =_xlfn.IFNA(MATCH(AM11,$L11:$Q11,0),"") | AA11: =_xlfn.IFNA(MATCH(AN11,$L11:$Q11,0),"") | AB11: =_xlfn.IFNA(MATCH(AO11,$L11:$Q11,0),"") | AC11: =_xlfn.IFNA(MATCH(AP11,$L11:$Q11,0),"") | AD11: =_xlfn.IFNA(MATCH(AQ11,$L11:$Q11,0),"") | ... AH11: =_xlfn.IFNA(MATCH(AU11,$L11:$Q11,0),"") | AJ11: 10001 | AK11: 10002 | AL11: 10003 | AM11: 10004 | AN11: 10005 | AO11: 10006 | AP11: 10007 | AQ11: 10008 | AR11: 10009 | AS11: 10010 | AT11: 10011 | AU11: 10012 | AX11: =VLOOKUP(AX5,[2]HeroConfig!$B:$D,3,FALSE) -> 盖洛普 | AY11: =VLOOKUP(AY5,[2]HeroConfig!$B:$D,3,FALSE) -> 特蕾莎 | AZ11: =VLOOKUP(AZ5,[2]HeroConfig!$B:$D,3,FALSE) -> 菩提遗枝 | BA11: =VLOOKUP(BA5,[2]HeroConfig!$B:$D,3,FALSE) -> 索菲 | BB11: =VLOOKUP(BB5,[2]HeroConfig!$B:$D,3,FALSE) -> 仙灵 | BC11: =VLOOKUP(BC5,[2]HeroConfig!$B:$D,3,FALSE) -> 方士
A12: 11 | B12: =VLOOKUP($A12,ArenaRobotConfig!$B:$G,6,TRUE) -> 22 | C12: =VLOOKUP($A12,ArenaRobotConfig!$B:$G,3,TRUE) -> 10 | E12: 3 | F12: 3 | G12: 4 | H12: 3 | I12: 4 | J12: 3 | L12: 10047 | M12: 10048 | N12: 10072 | O12: 10050 | P12: 10069 | Q12: 10052 | S12: =L12&"#"&M12&"#"&N12&"#"&O12&"#"&P12&"#"&Q12 -> 10047#10048#10072#10050#10069#10052 | T12: =_xlfn.TEXTJOIN("#",TRUE,AJ12:AO12) -> #NAME? | U12: =_xlfn.TEXTJOIN("#",TRUE,AP12:AU12) -> #NAME? | W12: =_xlfn.IFNA(MATCH(AJ12,$L12:$Q12,0),"") | X12: =_xlfn.IFNA(MATCH(AK12,$L12:$Q12,0),"") | Y12: =_xlfn.IFNA(MATCH(AL12,$L12:$Q12,0),"") | Z12: =_xlfn.IFNA(MATCH(AM12,$L12:$Q12,0),"") | AA12: =_xlfn.IFNA(MATCH(AN12,$L12:$Q12,0),"") | AB12: =_xlfn.IFNA(MATCH(AO12,$L12:$Q12,0),"") | AC12: =_xlfn.IFNA(MATCH(AP12,$L12:$Q12,0),"") | AD12: =_xlfn.IFNA(MATCH(AQ12,$L12:$Q12,0),"") | ... AH12: =_xlfn.IFNA(MATCH(AU12,$L12:$Q12,0),"") | AJ12: 10001 | AK12: 10002 | AL12: 10003 | AM12: 10004 | AN12: 10005 | AO12: 10006 | AP12: 10007 | AQ12: 10008 | AR12: 10009 | AS12: 10010 | AT12: 10011 | AU12: 10012 | BH12: #
A13: 12 | B13: =VLOOKUP($A13,ArenaRobotConfig!$B:$G,6,TRUE) -> 26 | C13: =VLOOKUP($A13,ArenaRobotConfig!$B:$G,3,TRUE) -> 9 | E13: 3 | F13: 4 | G13: 3 | H13: 3 | I13: 3 | J13: 3 | L13: 10047 | M13: 10061 | N13: 10053 | O13: 10050 | P13: 10054 | Q13: 10052 | S13: =L13&"#"&M13&"#"&N13&"#"&O13&"#"&P13&"#"&Q13 -> 10047#10061#10053#10050#10054#10052 | T13: =_xlfn.TEXTJOIN("#",TRUE,AJ13:AO13) -> #NAME? | U13: =_xlfn.TEXTJOIN("#",TRUE,AP13:AU13) -> #NAME? | W13: =_xlfn.IFNA(MATCH(AJ13,$L13:$Q13,0),"") | X13: =_xlfn.IFNA(MATCH(AK13,$L13:$Q13,0),"") | Y13: =_xlfn.IFNA(MATCH(AL13,$L13:$Q13,0),"") | Z13: =_xlfn.IFNA(MATCH(AM13,$L13:$Q13,0),"") | AA13: =_xlfn.IFNA(MATCH(AN13,$L13:$Q13,0),"") | AB13: =_xlfn.IFNA(MATCH(AO13,$L13:$Q13,0),"") | AC13: =_xlfn.IFNA(MATCH(AP13,$L13:$Q13,0),"") | AD13: =_xlfn.IFNA(MATCH(AQ13,$L13:$Q13,0),"") | ... AH13: =_xlfn.IFNA(MATCH(AU13,$L13:$Q13,0),"") | AJ13: 10001 | AK13: 10002 | AL13: 10003 | AM13: 10004 | AN13: 10005 | AO13: 10006 | AP13: 10007 | AQ13: 10008 | AR13: 10009 | AS13: 10010 | AT13: 10011 | AU13: 10012 | BH13: 10047 | BI13: 10049 | BJ13: 10051 | BK13: 10052 | BL13: 10053 | BM13: 10054
A14: 13 | B14: =VLOOKUP($A14,ArenaRobotConfig!$B:$G,6,TRUE) -> 18 | C14: =VLOOKUP($A14,ArenaRobotConfig!$B:$G,3,TRUE) -> 8 | E14: 3 | F14: 3 | G14: 3 | H14: 3 | I14: 3 | J14: 3 | L14: 10047 | M14: 10048 | N14: 10049 | O14: 10050 | P14: 10054 | Q14: 10052 | S14: =L14&"#"&M14&"#"&N14&"#"&O14&"#"&P14&"#"&Q14 -> 10047#10048#10049#10050#10054#10052 | T14: =_xlfn.TEXTJOIN("#",TRUE,AJ14:AO14) -> #NAME? | U14: =_xlfn.TEXTJOIN("#",TRUE,AP14:AU14) -> #NAME? | W14: =_xlfn.IFNA(MATCH(AJ14,$L14:$Q14,0),"") | X14: =_xlfn.IFNA(MATCH(AK14,$L14:$Q14,0),"") | Y14: =_xlfn.IFNA(MATCH(AL14,$L14:$Q14,0),"") | Z14: =_xlfn.IFNA(MATCH(AM14,$L14:$Q14,0),"") | AA14: =_xlfn.IFNA(MATCH(AN14,$L14:$Q14,0),"") | AB14: =_xlfn.IFNA(MATCH(AO14,$L14:$Q14,0),"") | AC14: =_xlfn.IFNA(MATCH(AP14,$L14:$Q14,0),"") | AD14: =_xlfn.IFNA(MATCH(AQ14,$L14:$Q14,0),"") | ... AH14: =_xlfn.IFNA(MATCH(AU14,$L14:$Q14,0),"") | AJ14: 10001 | AK14: 10002 | AL14: 10003 | AM14: 10004 | AN14: 10005 | AO14: 10006 | AP14: 10007 | AQ14: 10008 | AR14: 10009 | AS14: 10010 | AT14: 10011 | AU14: 10012 | AX14: =VLOOKUP(AX1,[2]HeroConfig!$B:$M,9,FALSE) -> 11053 | AY14: =VLOOKUP(AY1,[2]HeroConfig!$B:$M,9,FALSE) -> 11047 | AZ14: =VLOOKUP(AZ1,[2]HeroConfig!$B:$M,9,FALSE) -> 11054 | BA14: =VLOOKUP(BA1,[2]HeroConfig!$B:$M,9,FALSE) -> 11050 | BB14: =VLOOKUP(BB1,[2]HeroConfig!$B:$M,9,FALSE) -> 11051 | BC14: =VLOOKUP(BC1,[2]HeroConfig!$B:$M,9,FALSE) -> 11052 | BH14: 10049 | BI14: 10051 | BJ14: 10052 | BK14: 10053 | BL14: 10054 | BM14: 10047
A15: 14 | B15: =VLOOKUP($A15,ArenaRobotConfig!$B:$G,6,TRUE) -> 27 | C15: =VLOOKUP($A15,ArenaRobotConfig!$B:$G,3,TRUE) -> 10 | E15: 3 | F15: 4 | G15: 3 | H15: 3 | I15: 3 | J15: 4 | L15: 10047 | M15: 10057 | N15: 10053 | O15: 10050 | P15: 10054 | Q15: 10060 | S15: =L15&"#"&M15&"#"&N15&"#"&O15&"#"&P15&"#"&Q15 -> 10047#10057#10053#10050#10054#10060 | T15: =_xlfn.TEXTJOIN("#",TRUE,AJ15:AO15) -> #NAME? | U15: =_xlfn.TEXTJOIN("#",TRUE,AP15:AU15) -> #NAME? | W15: =_xlfn.IFNA(MATCH(AJ15,$L15:$Q15,0),"") | X15: =_xlfn.IFNA(MATCH(AK15,$L15:$Q15,0),"") | Y15: =_xlfn.IFNA(MATCH(AL15,$L15:$Q15,0),"") | Z15: =_xlfn.IFNA(MATCH(AM15,$L15:$Q15,0),"") | AA15: =_xlfn.IFNA(MATCH(AN15,$L15:$Q15,0),"") | AB15: =_xlfn.IFNA(MATCH(AO15,$L15:$Q15,0),"") | AC15: =_xlfn.IFNA(MATCH(AP15,$L15:$Q15,0),"") | AD15: =_xlfn.IFNA(MATCH(AQ15,$L15:$Q15,0),"") | ... AH15: =_xlfn.IFNA(MATCH(AU15,$L15:$Q15,0),"") | AJ15: 10001 | AK15: 10002 | AL15: 10003 | AM15: 10004 | AN15: 10005 | AO15: 10006 | AP15: 10007 | AQ15: 10008 | AR15: 10009 | AS15: 10010 | AT15: 10011 | AU15: 10012 | AX15: =VLOOKUP(AX2,[2]HeroConfig!$B:$M,9,FALSE) -> 11051 | AY15: =VLOOKUP(AY2,[2]HeroConfig!$B:$M,9,FALSE) -> 11054 | AZ15: =VLOOKUP(AZ2,[2]HeroConfig!$B:$M,9,FALSE) -> 11052 | BA15: =VLOOKUP(BA2,[2]HeroConfig!$B:$M,9,FALSE) -> 11049 | BB15: =VLOOKUP(BB2,[2]HeroConfig!$B:$M,9,FALSE) -> 11047 | BC15: =VLOOKUP(BC2,[2]HeroConfig!$B:$M,9,FALSE) -> 11050 | BH15: 10051 | BI15: 10052 | BJ15: 10053 | BK15: 10054 | BL15: 10047 | BM15: 10049
A16: 15 | B16: =VLOOKUP($A16,ArenaRobotConfig!$B:$G,6,TRUE) -> 21 | C16: =VLOOKUP($A16,ArenaRobotConfig!$B:$G,3,TRUE) -> 10 | E16: 3 | F16: 3 | G16: 4 | H16: 3 | I16: 4 | J16: 3 | L16: 10047 | M16: 10048 | N16: 10072 | O16: 10050 | P16: 10058 | Q16: 10052 | S16: =L16&"#"&M16&"#"&N16&"#"&O16&"#"&P16&"#"&Q16 -> 10047#10048#10072#10050#10058#10052 | T16: =_xlfn.TEXTJOIN("#",TRUE,AJ16:AO16) -> #NAME? | U16: =_xlfn.TEXTJOIN("#",TRUE,AP16:AU16) -> #NAME? | W16: =_xlfn.IFNA(MATCH(AJ16,$L16:$Q16,0),"") | X16: =_xlfn.IFNA(MATCH(AK16,$L16:$Q16,0),"") | Y16: =_xlfn.IFNA(MATCH(AL16,$L16:$Q16,0),"") | Z16: =_xlfn.IFNA(MATCH(AM16,$L16:$Q16,0),"") | AA16: =_xlfn.IFNA(MATCH(AN16,$L16:$Q16,0),"") | AB16: =_xlfn.IFNA(MATCH(AO16,$L16:$Q16,0),"") | AC16: =_xlfn.IFNA(MATCH(AP16,$L16:$Q16,0),"") | AD16: =_xlfn.IFNA(MATCH(AQ16,$L16:$Q16,0),"") | ... AH16: =_xlfn.IFNA(MATCH(AU16,$L16:$Q16,0),"") | AJ16: 10001 | AK16: 10002 | AL16: 10003 | AM16: 10004 | AN16: 10005 | AO16: 10006 | AP16: 10007 | AQ16: 10008 | AR16: 10009 | AS16: 10010 | AT16: 10011 | AU16: 10012 | AX16: =VLOOKUP(AX3,[2]HeroConfig!$B:$M,9,FALSE) -> 11053 | AY16: =VLOOKUP(AY3,[2]HeroConfig!$B:$M,9,FALSE) -> 11047 | AZ16: =VLOOKUP(AZ3,[2]HeroConfig!$B:$M,9,FALSE) -> 11050 | BA16: =VLOOKUP(BA3,[2]HeroConfig!$B:$M,9,FALSE) -> 11049 | BB16: =VLOOKUP(BB3,[2]HeroConfig!$B:$M,9,FALSE) -> 11054 | BC16: =VLOOKUP(BC3,[2]HeroConfig!$B:$M,9,FALSE) -> 11052 | BH16: 10052 | BI16: 10053 | BJ16: 10054 | BK16: 10047 | BL16: 10049 | BM16: 10051
A17: 16 | B17: =VLOOKUP($A17,ArenaRobotConfig!$B:$G,6,TRUE) -> 37 | C17: =VLOOKUP($A17,ArenaRobotConfig!$B:$G,3,TRUE) -> 13 | E17: 3 | F17: 4 | G17: 3 | H17: 4 | I17: 3 | J17: 4 | L17: 10047 | M17: 10057 | N17: 10053 | O17: 10066 | P17: 10054 | Q17: 10065 | S17: =L17&"#"&M17&"#"&N17&"#"&O17&"#"&P17&"#"&Q17 -> 10047#10057#10053#10066#10054#10065 | T17: =_xlfn.TEXTJOIN("#",TRUE,AJ17:AO17) -> #NAME? | U17: =_xlfn.TEXTJOIN("#",TRUE,AP17:AU17) -> #NAME? | W17: =_xlfn.IFNA(MATCH(AJ17,$L17:$Q17,0),"") | X17: =_xlfn.IFNA(MATCH(AK17,$L17:$Q17,0),"") | Y17: =_xlfn.IFNA(MATCH(AL17,$L17:$Q17,0),"") | Z17: =_xlfn.IFNA(MATCH(AM17,$L17:$Q17,0),"") | AA17: =_xlfn.IFNA(MATCH(AN17,$L17:$Q17,0),"") | AB17: =_xlfn.IFNA(MATCH(AO17,$L17:$Q17,0),"") | AC17: =_xlfn.IFNA(MATCH(AP17,$L17:$Q17,0),"") | AD17: =_xlfn.IFNA(MATCH(AQ17,$L17:$Q17,0),"") | ... AH17: =_xlfn.IFNA(MATCH(AU17,$L17:$Q17,0),"") | AJ17: 10001 | AK17: 10002 | AL17: 10003 | AM17: 10004 | AN17: 10005 | AO17: 10006 | AP17: 10007 | AQ17: 10008 | AR17: 10009 | AS17: 10010 | AT17: 10011 | AU17: 10012 | AX17: =VLOOKUP(AX4,[2]HeroConfig!$B:$M,9,FALSE) -> 11049 | AY17: =VLOOKUP(AY4,[2]HeroConfig!$B:$M,9,FALSE) -> 11047 | AZ17: =VLOOKUP(AZ4,[2]HeroConfig!$B:$M,9,FALSE) -> 11050 | BA17: =VLOOKUP(BA4,[2]HeroConfig!$B:$M,9,FALSE) -> 11051 | BB17: =VLOOKUP(BB4,[2]HeroConfig!$B:$M,9,FALSE) -> 11054 | BC17: =VLOOKUP(BC4,[2]HeroConfig!$B:$M,9,FALSE) -> 11052 | BH17: 10053 | BI17: 10054 | BJ17: 10047 | BK17: 10049 | BL17: 10051 | BM17: 10052
A18: 17 | B18: =VLOOKUP($A18,ArenaRobotConfig!$B:$G,6,TRUE) -> 35 | C18: =VLOOKUP($A18,ArenaRobotConfig!$B:$G,3,TRUE) -> 15 | E18: 3 | F18: 3 | G18: 3 | H18: 4 | I18: 4 | J18: 4 | L18: 10047 | M18: 10048 | N18: 10049 | O18: 10068 | P18: 10069 | Q18: 10065 | S18: =L18&"#"&M18&"#"&N18&"#"&O18&"#"&P18&"#"&Q18 -> 10047#10048#10049#10068#10069#10065 | T18: =_xlfn.TEXTJOIN("#",TRUE,AJ18:AO18) -> #NAME? | U18: =_xlfn.TEXTJOIN("#",TRUE,AP18:AU18) -> #NAME? | W18: =_xlfn.IFNA(MATCH(AJ18,$L18:$Q18,0),"") | X18: =_xlfn.IFNA(MATCH(AK18,$L18:$Q18,0),"") | Y18: =_xlfn.IFNA(MATCH(AL18,$L18:$Q18,0),"") | Z18: =_xlfn.IFNA(MATCH(AM18,$L18:$Q18,0),"") | AA18: =_xlfn.IFNA(MATCH(AN18,$L18:$Q18,0),"") | AB18: =_xlfn.IFNA(MATCH(AO18,$L18:$Q18,0),"") | AC18: =_xlfn.IFNA(MATCH(AP18,$L18:$Q18,0),"") | AD18: =_xlfn.IFNA(MATCH(AQ18,$L18:$Q18,0),"") | ... AH18: =_xlfn.IFNA(MATCH(AU18,$L18:$Q18,0),"") | AJ18: 10001 | AK18: 10002 | AL18: 10003 | AM18: 10004 | AN18: 10005 | AO18: 10006 | AP18: 10007 | AQ18: 10008 | AR18: 10009 | AS18: 10010 | AT18: 10011 | AU18: 10012 | AX18: =VLOOKUP(AX5,[2]HeroConfig!$B:$M,9,FALSE) -> 11051 | AY18: =VLOOKUP(AY5,[2]HeroConfig!$B:$M,9,FALSE) -> 11047 | AZ18: =VLOOKUP(AZ5,[2]HeroConfig!$B:$M,9,FALSE) -> 11050 | BA18: =VLOOKUP(BA5,[2]HeroConfig!$B:$M,9,FALSE) -> 11049 | BB18: =VLOOKUP(BB5,[2]HeroConfig!$B:$M,9,FALSE) -> 11054 | BC18: =VLOOKUP(BC5,[2]HeroConfig!$B:$M,9,FALSE) -> 11052
A19: 18 | B19: =VLOOKUP($A19,ArenaRobotConfig!$B:$G,6,TRUE) -> 34 | C19: =VLOOKUP($A19,ArenaRobotConfig!$B:$G,3,TRUE) -> 15 | E19: 3 | F19: 3 | G19: 3 | H19: 3 | I19: 4 | J19: 3 | L19: 10047 | M19: 10048 | N19: 10053 | O19: 10050 | P19: 10069 | Q19: 10052 | S19: =L19&"#"&M19&"#"&N19&"#"&O19&"#"&P19&"#"&Q19 -> 10047#10048#10053#10050#10069#10052 | T19: =_xlfn.TEXTJOIN("#",TRUE,AJ19:AO19) -> #NAME? | U19: =_xlfn.TEXTJOIN("#",TRUE,AP19:AU19) -> #NAME? | W19: =_xlfn.IFNA(MATCH(AJ19,$L19:$Q19,0),"") | X19: =_xlfn.IFNA(MATCH(AK19,$L19:$Q19,0),"") | Y19: =_xlfn.IFNA(MATCH(AL19,$L19:$Q19,0),"") | Z19: =_xlfn.IFNA(MATCH(AM19,$L19:$Q19,0),"") | AA19: =_xlfn.IFNA(MATCH(AN19,$L19:$Q19,0),"") | AB19: =_xlfn.IFNA(MATCH(AO19,$L19:$Q19,0),"") | AC19: =_xlfn.IFNA(MATCH(AP19,$L19:$Q19,0),"") | AD19: =_xlfn.IFNA(MATCH(AQ19,$L19:$Q19,0),"") | ... AH19: =_xlfn.IFNA(MATCH(AU19,$L19:$Q19,0),"") | AJ19: 10001 | AK19: 10002 | AL19: 10003 | AM19: 10004 | AN19: 10005 | AO19: 10006 | AP19: 10007 | AQ19: 10008 | AR19: 10009 | AS19: 10010 | AT19: 10011 | AU19: 10012
A20: 19 | B20: =VLOOKUP($A20,ArenaRobotConfig!$B:$G,6,TRUE) -> 33 | C20: =VLOOKUP($A20,ArenaRobotConfig!$B:$G,3,TRUE) -> 14 | E20: 3 | F20: 3 | G20: 4 | H20: 4 | I20: 4 | J20: 3 | L20: 10047 | M20: 10048 | N20: 10072 | O20: 10067 | P20: 10069 | Q20: 10052 | S20: =L20&"#"&M20&"#"&N20&"#"&O20&"#"&P20&"#"&Q20 -> 10047#10048#10072#10067#10069#10052 | T20: =_xlfn.TEXTJOIN("#",TRUE,AJ20:AO20) -> #NAME? | U20: =_xlfn.TEXTJOIN("#",TRUE,AP20:AU20) -> #NAME? | W20: =_xlfn.IFNA(MATCH(AJ20,$L20:$Q20,0),"") | X20: =_xlfn.IFNA(MATCH(AK20,$L20:$Q20,0),"") | Y20: =_xlfn.IFNA(MATCH(AL20,$L20:$Q20,0),"") | Z20: =_xlfn.IFNA(MATCH(AM20,$L20:$Q20,0),"") | AA20: =_xlfn.IFNA(MATCH(AN20,$L20:$Q20,0),"") | AB20: =_xlfn.IFNA(MATCH(AO20,$L20:$Q20,0),"") | AC20: =_xlfn.IFNA(MATCH(AP20,$L20:$Q20,0),"") | AD20: =_xlfn.IFNA(MATCH(AQ20,$L20:$Q20,0),"") | ... AH20: =_xlfn.IFNA(MATCH(AU20,$L20:$Q20,0),"") | AJ20: 10001 | AK20: 10002 | AL20: 10003 | AM20: 10004 | AN20: 10005 | AO20: 10006 | AP20: 10007 | AQ20: 10008 | AR20: 10009 | AS20: 10010 | AT20: 10011 | AU20: 10012 | BF20: =BH20&BI20&BJ20&BK20&BL20&BM20 -> 10047#10049#10051#10052#10053#10054 | BH20: =BH13&$BH$12 -> 10047# | BI20: =BI13&$BH$12 -> 10049# | BJ20: =BJ13&$BH$12 -> 10051# | BK20: =BK13&$BH$12 -> 10052# | BL20: =BL13&$BH$12 -> 10053# | BM20: =BM13 -> 10054
A21: 20 | B21: =VLOOKUP($A21,ArenaRobotConfig!$B:$G,6,TRUE) -> 37 | C21: =VLOOKUP($A21,ArenaRobotConfig!$B:$G,3,TRUE) -> 13 | E21: 3 | F21: 4 | G21: 3 | H21: 4 | I21: 4 | J21: 3 | L21: 10047 | M21: 10057 | N21: 10049 | O21: 10068 | P21: 10069 | Q21: 10052 | S21: =L21&"#"&M21&"#"&N21&"#"&O21&"#"&P21&"#"&Q21 -> 10047#10057#10049#10068#10069#10052 | T21: =_xlfn.TEXTJOIN("#",TRUE,AJ21:AO21) -> #NAME? | U21: =_xlfn.TEXTJOIN("#",TRUE,AP21:AU21) -> #NAME? | W21: =_xlfn.IFNA(MATCH(AJ21,$L21:$Q21,0),"") | X21: =_xlfn.IFNA(MATCH(AK21,$L21:$Q21,0),"") | Y21: =_xlfn.IFNA(MATCH(AL21,$L21:$Q21,0),"") | Z21: =_xlfn.IFNA(MATCH(AM21,$L21:$Q21,0),"") | AA21: =_xlfn.IFNA(MATCH(AN21,$L21:$Q21,0),"") | AB21: =_xlfn.IFNA(MATCH(AO21,$L21:$Q21,0),"") | AC21: =_xlfn.IFNA(MATCH(AP21,$L21:$Q21,0),"") | AD21: =_xlfn.IFNA(MATCH(AQ21,$L21:$Q21,0),"") | ... AH21: =_xlfn.IFNA(MATCH(AU21,$L21:$Q21,0),"") | AJ21: 10001 | AK21: 10002 | AL21: 10003 | AM21: 10004 | AN21: 10005 | AO21: 10006 | AP21: 10007 | AQ21: 10008 | AR21: 10009 | AS21: 10010 | AT21: 10011 | AU21: 10012 | BF21: =BH21&BI21&BJ21&BK21&BL21&BM21 -> 10049#10051#10052#10053#10054#10047 | BH21: =BH14&$BH$12 -> 10049# | BI21: =BI14&$BH$12 -> 10051# | BJ21: =BJ14&$BH$12 -> 10052# | BK21: =BK14&$BH$12 -> 10053# | BL21: =BL14&$BH$12 -> 10054# | BM21: =BM14 -> 10047
A22: 21 | B22: =VLOOKUP($A22,ArenaRobotConfig!$B:$G,6,TRUE) -> 40 | C22: =VLOOKUP($A22,ArenaRobotConfig!$B:$G,3,TRUE) -> 15 | E22: 4 | F22: 4 | G22: 4 | H22: 3 | I22: 3 | J22: 3 | L22: 10062 | M22: 10061 | N22: 10070 | O22: 10050 | P22: 10051 | Q22: 10052 | S22: =L22&"#"&M22&"#"&N22&"#"&O22&"#"&P22&"#"&Q22 -> 10062#10061#10070#10050#10051#10052 | T22: =_xlfn.TEXTJOIN("#",TRUE,AJ22:AO22) -> #NAME? | U22: =_xlfn.TEXTJOIN("#",TRUE,AP22:AU22) -> #NAME? | W22: =_xlfn.IFNA(MATCH(AJ22,$L22:$Q22,0),"") | X22: =_xlfn.IFNA(MATCH(AK22,$L22:$Q22,0),"") | Y22: =_xlfn.IFNA(MATCH(AL22,$L22:$Q22,0),"") | Z22: =_xlfn.IFNA(MATCH(AM22,$L22:$Q22,0),"") | AA22: =_xlfn.IFNA(MATCH(AN22,$L22:$Q22,0),"") | AB22: =_xlfn.IFNA(MATCH(AO22,$L22:$Q22,0),"") | AC22: =_xlfn.IFNA(MATCH(AP22,$L22:$Q22,0),"") | AD22: =_xlfn.IFNA(MATCH(AQ22,$L22:$Q22,0),"") | ... AH22: =_xlfn.IFNA(MATCH(AU22,$L22:$Q22,0),"") | AJ22: 10001 | AK22: 10002 | AL22: 10003 | AM22: 10004 | AN22: 10005 | AO22: 10006 | AP22: 10007 | AQ22: 10008 | AR22: 10009 | AS22: 10010 | AT22: 10011 | AU22: 10012 | BF22: =BH22&BI22&BJ22&BK22&BL22&BM22 -> 10051#10052#10053#10054#10047#10049 | BH22: =BH15&$BH$12 -> 10051# | BI22: =BI15&$BH$12 -> 10052# | BJ22: =BJ15&$BH$12 -> 10053# | BK22: =BK15&$BH$12 -> 10054# | BL22: =BL15&$BH$12 -> 10047# | BM22: =BM15 -> 10049
A23: 22 | B23: =VLOOKUP($A23,ArenaRobotConfig!$B:$G,6,TRUE) -> 36 | C23: =VLOOKUP($A23,ArenaRobotConfig!$B:$G,3,TRUE) -> 12 | E23: 3 | F23: 4 | G23: 3 | H23: 3 | I23: 4 | J23: 4 | L23: 10047 | M23: 10061 | N23: 10049 | O23: 10050 | P23: 10069 | Q23: 10060 | S23: =L23&"#"&M23&"#"&N23&"#"&O23&"#"&P23&"#"&Q23 -> 10047#10061#10049#10050#10069#10060 | T23: =_xlfn.TEXTJOIN("#",TRUE,AJ23:AO23) -> #NAME? | U23: =_xlfn.TEXTJOIN("#",TRUE,AP23:AU23) -> #NAME? | W23: =_xlfn.IFNA(MATCH(AJ23,$L23:$Q23,0),"") | X23: =_xlfn.IFNA(MATCH(AK23,$L23:$Q23,0),"") | Y23: =_xlfn.IFNA(MATCH(AL23,$L23:$Q23,0),"") | Z23: =_xlfn.IFNA(MATCH(AM23,$L23:$Q23,0),"") | AA23: =_xlfn.IFNA(MATCH(AN23,$L23:$Q23,0),"") | AB23: =_xlfn.IFNA(MATCH(AO23,$L23:$Q23,0),"") | AC23: =_xlfn.IFNA(MATCH(AP23,$L23:$Q23,0),"") | AD23: =_xlfn.IFNA(MATCH(AQ23,$L23:$Q23,0),"") | ... AH23: =_xlfn.IFNA(MATCH(AU23,$L23:$Q23,0),"") | AJ23: 10001 | AK23: 10002 | AL23: 10003 | AM23: 10004 | AN23: 10005 | AO23: 10006 | AP23: 10007 | AQ23: 10008 | AR23: 10009 | AS23: 10010 | AT23: 10011 | AU23: 10012 | BF23: =BH23&BI23&BJ23&BK23&BL23&BM23 -> 10052#10053#10054#10047#10049#10051 | BH23: =BH16&$BH$12 -> 10052# | BI23: =BI16&$BH$12 -> 10053# | BJ23: =BJ16&$BH$12 -> 10054# | BK23: =BK16&$BH$12 -> 10047# | BL23: =BL16&$BH$12 -> 10049# | BM23: =BM16 -> 10051
A24: 23 | B24: =VLOOKUP($A24,ArenaRobotConfig!$B:$G,6,TRUE) -> 28 | C24: =VLOOKUP($A24,ArenaRobotConfig!$B:$G,3,TRUE) -> 15 | E24: 4 | F24: 4 | G24: 3 | H24: 3 | I24: 4 | J24: 3 | L24: 10064 | M24: 10061 | N24: 10053 | O24: 10050 | P24: 10059 | Q24: 10052 | S24: =L24&"#"&M24&"#"&N24&"#"&O24&"#"&P24&"#"&Q24 -> 10064#10061#10053#10050#10059#10052 | T24: =_xlfn.TEXTJOIN("#",TRUE,AJ24:AO24) -> #NAME? | U24: =_xlfn.TEXTJOIN("#",TRUE,AP24:AU24) -> #NAME? | W24: =_xlfn.IFNA(MATCH(AJ24,$L24:$Q24,0),"") | X24: =_xlfn.IFNA(MATCH(AK24,$L24:$Q24,0),"") | Y24: =_xlfn.IFNA(MATCH(AL24,$L24:$Q24,0),"") | Z24: =_xlfn.IFNA(MATCH(AM24,$L24:$Q24,0),"") | AA24: =_xlfn.IFNA(MATCH(AN24,$L24:$Q24,0),"") | AB24: =_xlfn.IFNA(MATCH(AO24,$L24:$Q24,0),"") | AC24: =_xlfn.IFNA(MATCH(AP24,$L24:$Q24,0),"") | AD24: =_xlfn.IFNA(MATCH(AQ24,$L24:$Q24,0),"") | ... AH24: =_xlfn.IFNA(MATCH(AU24,$L24:$Q24,0),"") | AJ24: 10001 | AK24: 10002 | AL24: 10003 | AM24: 10004 | AN24: 10005 | AO24: 10006 | AP24: 10007 | AQ24: 10008 | AR24: 10009 | AS24: 10010 | AT24: 10011 | AU24: 10012 | BF24: =BH24&BI24&BJ24&BK24&BL24&BM24 -> 10053#10054#10047#10049#10051#10052 | BH24: =BH17&$BH$12 -> 10053# | BI24: =BI17&$BH$12 -> 10054# | BJ24: =BJ17&$BH$12 -> 10047# | BK24: =BK17&$BH$12 -> 10049# | BL24: =BL17&$BH$12 -> 10051# | BM24: =BM17 -> 10052
A25: 24 | B25: =VLOOKUP($A25,ArenaRobotConfig!$B:$G,6,TRUE) -> 30 | C25: =VLOOKUP($A25,ArenaRobotConfig!$B:$G,3,TRUE) -> 13 | E25: 3 | F25: 3 | G25: 4 | H25: 4 | I25: 3 | J25: 4 | L25: 10047 | M25: 10048 | N25: 10071 | O25: 10066 | P25: 10054 | Q25: 10065 | S25: =L25&"#"&M25&"#"&N25&"#"&O25&"#"&P25&"#"&Q25 -> 10047#10048#10071#10066#10054#10065 | T25: =_xlfn.TEXTJOIN("#",TRUE,AJ25:AO25) -> #NAME? | U25: =_xlfn.TEXTJOIN("#",TRUE,AP25:AU25) -> #NAME? | W25: =_xlfn.IFNA(MATCH(AJ25,$L25:$Q25,0),"") | X25: =_xlfn.IFNA(MATCH(AK25,$L25:$Q25,0),"") | Y25: =_xlfn.IFNA(MATCH(AL25,$L25:$Q25,0),"") | Z25: =_xlfn.IFNA(MATCH(AM25,$L25:$Q25,0),"") | AA25: =_xlfn.IFNA(MATCH(AN25,$L25:$Q25,0),"") | AB25: =_xlfn.IFNA(MATCH(AO25,$L25:$Q25,0),"") | AC25: =_xlfn.IFNA(MATCH(AP25,$L25:$Q25,0),"") | AD25: =_xlfn.IFNA(MATCH(AQ25,$L25:$Q25,0),"") | ... AH25: =_xlfn.IFNA(MATCH(AU25,$L25:$Q25,0),"") | AJ25: 10001 | AK25: 10002 | AL25: 10003 | AM25: 10004 | AN25: 10005 | AO25: 10006 | AP25: 10007 | AQ25: 10008 | AR25: 10009 | AS25: 10010 | AT25: 10011 | AU25: 10012
A26: 25 | B26: =VLOOKUP($A26,ArenaRobotConfig!$B:$G,6,TRUE) -> 37 | C26: =VLOOKUP($A26,ArenaRobotConfig!$B:$G,3,TRUE) -> 14 | E26: 3 | F26: 4 | G26: 3 | H26: 4 | I26: 3 | J26: 4 | L26: 10047 | M26: 10061 | N26: 10049 | O26: 10068 | P26: 10054 | Q26: 10060 | S26: =L26&"#"&M26&"#"&N26&"#"&O26&"#"&P26&"#"&Q26 -> 10047#10061#10049#10068#10054#10060 | T26: =_xlfn.TEXTJOIN("#",TRUE,AJ26:AO26) -> #NAME? | U26: =_xlfn.TEXTJOIN("#",TRUE,AP26:AU26) -> #NAME? | W26: =_xlfn.IFNA(MATCH(AJ26,$L26:$Q26,0),"") | X26: =_xlfn.IFNA(MATCH(AK26,$L26:$Q26,0),"") | Y26: =_xlfn.IFNA(MATCH(AL26,$L26:$Q26,0),"") | Z26: =_xlfn.IFNA(MATCH(AM26,$L26:$Q26,0),"") | AA26: =_xlfn.IFNA(MATCH(AN26,$L26:$Q26,0),"") | AB26: =_xlfn.IFNA(MATCH(AO26,$L26:$Q26,0),"") | AC26: =_xlfn.IFNA(MATCH(AP26,$L26:$Q26,0),"") | AD26: =_xlfn.IFNA(MATCH(AQ26,$L26:$Q26,0),"") | ... AH26: =_xlfn.IFNA(MATCH(AU26,$L26:$Q26,0),"") | AJ26: 10001 | AK26: 10002 | AL26: 10003 | AM26: 10004 | AN26: 10005 | AO26: 10006 | AP26: 10007 | AQ26: 10008 | AR26: 10009 | AS26: 10010 | AT26: 10011 | AU26: 10012
A27: 26 | B27: =VLOOKUP($A27,ArenaRobotConfig!$B:$G,6,TRUE) -> 29 | C27: =VLOOKUP($A27,ArenaRobotConfig!$B:$G,3,TRUE) -> 14 | E27: 4 | F27: 3 | G27: 4 | H27: 3 | I27: 4 | J27: 3 | L27: 10064 | M27: 10048 | N27: 10071 | O27: 10050 | P27: 10058 | Q27: 10052 | S27: =L27&"#"&M27&"#"&N27&"#"&O27&"#"&P27&"#"&Q27 -> 10064#10048#10071#10050#10058#10052 | T27: =_xlfn.TEXTJOIN("#",TRUE,AJ27:AO27) -> #NAME? | U27: =_xlfn.TEXTJOIN("#",TRUE,AP27:AU27) -> #NAME? | W27: =_xlfn.IFNA(MATCH(AJ27,$L27:$Q27,0),"") | X27: =_xlfn.IFNA(MATCH(AK27,$L27:$Q27,0),"") | Y27: =_xlfn.IFNA(MATCH(AL27,$L27:$Q27,0),"") | Z27: =_xlfn.IFNA(MATCH(AM27,$L27:$Q27,0),"") | AA27: =_xlfn.IFNA(MATCH(AN27,$L27:$Q27,0),"") | AB27: =_xlfn.IFNA(MATCH(AO27,$L27:$Q27,0),"") | AC27: =_xlfn.IFNA(MATCH(AP27,$L27:$Q27,0),"") | AD27: =_xlfn.IFNA(MATCH(AQ27,$L27:$Q27,0),"") | ... AH27: =_xlfn.IFNA(MATCH(AU27,$L27:$Q27,0),"") | AJ27: 10001 | AK27: 10002 | AL27: 10003 | AM27: 10004 | AN27: 10005 | AO27: 10006 | AP27: 10007 | AQ27: 10008 | AR27: 10009 | AS27: 10010 | AT27: 10011 | AU27: 10012
A28: 27 | B28: =VLOOKUP($A28,ArenaRobotConfig!$B:$G,6,TRUE) -> 36 | C28: =VLOOKUP($A28,ArenaRobotConfig!$B:$G,3,TRUE) -> 15 | E28: 3 | F28: 4 | G28: 3 | H28: 4 | I28: 4 | J28: 3 | L28: 10047 | M28: 10061 | N28: 10049 | O28: 10068 | P28: 10058 | Q28: 10052 | S28: =L28&"#"&M28&"#"&N28&"#"&O28&"#"&P28&"#"&Q28 -> 10047#10061#10049#10068#10058#10052 | T28: =_xlfn.TEXTJOIN("#",TRUE,AJ28:AO28) -> #NAME? | U28: =_xlfn.TEXTJOIN("#",TRUE,AP28:AU28) -> #NAME? | W28: =_xlfn.IFNA(MATCH(AJ28,$L28:$Q28,0),"") | X28: =_xlfn.IFNA(MATCH(AK28,$L28:$Q28,0),"") | Y28: =_xlfn.IFNA(MATCH(AL28,$L28:$Q28,0),"") | Z28: =_xlfn.IFNA(MATCH(AM28,$L28:$Q28,0),"") | AA28: =_xlfn.IFNA(MATCH(AN28,$L28:$Q28,0),"") | AB28: =_xlfn.IFNA(MATCH(AO28,$L28:$Q28,0),"") | AC28: =_xlfn.IFNA(MATCH(AP28,$L28:$Q28,0),"") | AD28: =_xlfn.IFNA(MATCH(AQ28,$L28:$Q28,0),"") | ... AH28: =_xlfn.IFNA(MATCH(AU28,$L28:$Q28,0),"") | AJ28: 10001 | AK28: 10002 | AL28: 10003 | AM28: 10004 | AN28: 10005 | AO28: 10006 | AP28: 10007 | AQ28: 10008 | AR28: 10009 | AS28: 10010 | AT28: 10011 | AU28: 10012
A29: 28 | B29: =VLOOKUP($A29,ArenaRobotConfig!$B:$G,6,TRUE) -> 30 | C29: =VLOOKUP($A29,ArenaRobotConfig!$B:$G,3,TRUE) -> 12 | E29: 3 | F29: 3 | G29: 4 | H29: 4 | I29: 4 | J29: 3 | L29: 10047 | M29: 10048 | N29: 10071 | O29: 10067 | P29: 10058 | Q29: 10052 | S29: =L29&"#"&M29&"#"&N29&"#"&O29&"#"&P29&"#"&Q29 -> 10047#10048#10071#10067#10058#10052 | T29: =_xlfn.TEXTJOIN("#",TRUE,AJ29:AO29) -> #NAME? | U29: =_xlfn.TEXTJOIN("#",TRUE,AP29:AU29) -> #NAME? | W29: =_xlfn.IFNA(MATCH(AJ29,$L29:$Q29,0),"") | X29: =_xlfn.IFNA(MATCH(AK29,$L29:$Q29,0),"") | Y29: =_xlfn.IFNA(MATCH(AL29,$L29:$Q29,0),"") | Z29: =_xlfn.IFNA(MATCH(AM29,$L29:$Q29,0),"") | AA29: =_xlfn.IFNA(MATCH(AN29,$L29:$Q29,0),"") | AB29: =_xlfn.IFNA(MATCH(AO29,$L29:$Q29,0),"") | AC29: =_xlfn.IFNA(MATCH(AP29,$L29:$Q29,0),"") | AD29: =_xlfn.IFNA(MATCH(AQ29,$L29:$Q29,0),"") | ... AH29: =_xlfn.IFNA(MATCH(AU29,$L29:$Q29,0),"") | AJ29: 10001 | AK29: 10002 | AL29: 10003 | AM29: 10004 | AN29: 10005 | AO29: 10006 | AP29: 10007 | AQ29: 10008 | AR29: 10009 | AS29: 10010 | AT29: 10011 | AU29: 10012
A30: 29 | B30: =VLOOKUP($A30,ArenaRobotConfig!$B:$G,6,TRUE) -> 31 | C30: =VLOOKUP($A30,ArenaRobotConfig!$B:$G,3,TRUE) -> 12 | E30: 3 | F30: 4 | G30: 3 | H30: 4 | I30: 3 | J30: 4 | L30: 10047 | M30: 10057 | N30: 10049 | O30: 10067 | P30: 10054 | Q30: 10060 | S30: =L30&"#"&M30&"#"&N30&"#"&O30&"#"&P30&"#"&Q30 -> 10047#10057#10049#10067#10054#10060 | T30: =_xlfn.TEXTJOIN("#",TRUE,AJ30:AO30) -> #NAME? | U30: =_xlfn.TEXTJOIN("#",TRUE,AP30:AU30) -> #NAME? | W30: =_xlfn.IFNA(MATCH(AJ30,$L30:$Q30,0),"") | X30: =_xlfn.IFNA(MATCH(AK30,$L30:$Q30,0),"") | Y30: =_xlfn.IFNA(MATCH(AL30,$L30:$Q30,0),"") | Z30: =_xlfn.IFNA(MATCH(AM30,$L30:$Q30,0),"") | AA30: =_xlfn.IFNA(MATCH(AN30,$L30:$Q30,0),"") | AB30: =_xlfn.IFNA(MATCH(AO30,$L30:$Q30,0),"") | AC30: =_xlfn.IFNA(MATCH(AP30,$L30:$Q30,0),"") | AD30: =_xlfn.IFNA(MATCH(AQ30,$L30:$Q30,0),"") | ... AH30: =_xlfn.IFNA(MATCH(AU30,$L30:$Q30,0),"") | AJ30: 10001 | AK30: 10002 | AL30: 10003 | AM30: 10004 | AN30: 10005 | AO30: 10006 | AP30: 10007 | AQ30: 10008 | AR30: 10009 | AS30: 10010 | AT30: 10011 | AU30: 10012
A31: 30 | B31: =VLOOKUP($A31,ArenaRobotConfig!$B:$G,6,TRUE) -> 36 | C31: =VLOOKUP($A31,ArenaRobotConfig!$B:$G,3,TRUE) -> 14 | E31: 3 | F31: 4 | G31: 4 | H31: 3 | I31: 4 | J31: 3 | L31: 10047 | M31: 10057 | N31: 10072 | O31: 10050 | P31: 10059 | Q31: 10052 | S31: =L31&"#"&M31&"#"&N31&"#"&O31&"#"&P31&"#"&Q31 -> 10047#10057#10072#10050#10059#10052 | T31: =_xlfn.TEXTJOIN("#",TRUE,AJ31:AO31) -> #NAME? | U31: =_xlfn.TEXTJOIN("#",TRUE,AP31:AU31) -> #NAME? | W31: =_xlfn.IFNA(MATCH(AJ31,$L31:$Q31,0),"") | X31: =_xlfn.IFNA(MATCH(AK31,$L31:$Q31,0),"") | Y31: =_xlfn.IFNA(MATCH(AL31,$L31:$Q31,0),"") | Z31: =_xlfn.IFNA(MATCH(AM31,$L31:$Q31,0),"") | AA31: =_xlfn.IFNA(MATCH(AN31,$L31:$Q31,0),"") | AB31: =_xlfn.IFNA(MATCH(AO31,$L31:$Q31,0),"") | AC31: =_xlfn.IFNA(MATCH(AP31,$L31:$Q31,0),"") | AD31: =_xlfn.IFNA(MATCH(AQ31,$L31:$Q31,0),"") | ... AH31: =_xlfn.IFNA(MATCH(AU31,$L31:$Q31,0),"") | AJ31: 10001 | AK31: 10002 | AL31: 10003 | AM31: 10004 | AN31: 10005 | AO31: 10006 | AP31: 10007 | AQ31: 10008 | AR31: 10009 | AS31: 10010 | AT31: 10011 | AU31: 10012
A32: 31 | B32: =VLOOKUP($A32,ArenaRobotConfig!$B:$G,6,TRUE) -> 33 | C32: =VLOOKUP($A32,ArenaRobotConfig!$B:$G,3,TRUE) -> 12 | E32: 3 | F32: 4 | G32: 4 | H32: 4 | I32: 3 | J32: 3 | L32: 10047 | M32: 10057 | N32: 10072 | O32: 10066 | P32: 10054 | Q32: 10052 | S32: =L32&"#"&M32&"#"&N32&"#"&O32&"#"&P32&"#"&Q32 -> 10047#10057#10072#10066#10054#10052 | T32: =_xlfn.TEXTJOIN("#",TRUE,AJ32:AO32) -> #NAME? | U32: =_xlfn.TEXTJOIN("#",TRUE,AP32:AU32) -> #NAME? | W32: =_xlfn.IFNA(MATCH(AJ32,$L32:$Q32,0),"") | X32: =_xlfn.IFNA(MATCH(AK32,$L32:$Q32,0),"") | Y32: =_xlfn.IFNA(MATCH(AL32,$L32:$Q32,0),"") | Z32: =_xlfn.IFNA(MATCH(AM32,$L32:$Q32,0),"") | AA32: =_xlfn.IFNA(MATCH(AN32,$L32:$Q32,0),"") | AB32: =_xlfn.IFNA(MATCH(AO32,$L32:$Q32,0),"") | AC32: =_xlfn.IFNA(MATCH(AP32,$L32:$Q32,0),"") | AD32: =_xlfn.IFNA(MATCH(AQ32,$L32:$Q32,0),"") | ... AH32: =_xlfn.IFNA(MATCH(AU32,$L32:$Q32,0),"") | AJ32: 10001 | AK32: 10002 | AL32: 10003 | AM32: 10004 | AN32: 10005 | AO32: 10006 | AP32: 10007 | AQ32: 10008 | AR32: 10009 | AS32: 10010 | AT32: 10011 | AU32: 10012
A33: 32 | B33: =VLOOKUP($A33,ArenaRobotConfig!$B:$G,6,TRUE) -> 30 | C33: =VLOOKUP($A33,ArenaRobotConfig!$B:$G,3,TRUE) -> 13 | E33: 3 | F33: 3 | G33: 4 | H33: 4 | I33: 4 | J33: 3 | L33: 10047 | M33: 10048 | N33: 10072 | O33: 10066 | P33: 10069 | Q33: 10052 | S33: =L33&"#"&M33&"#"&N33&"#"&O33&"#"&P33&"#"&Q33 -> 10047#10048#10072#10066#10069#10052 | T33: =_xlfn.TEXTJOIN("#",TRUE,AJ33:AO33) -> #NAME? | U33: =_xlfn.TEXTJOIN("#",TRUE,AP33:AU33) -> #NAME? | W33: =_xlfn.IFNA(MATCH(AJ33,$L33:$Q33,0),"") | X33: =_xlfn.IFNA(MATCH(AK33,$L33:$Q33,0),"") | Y33: =_xlfn.IFNA(MATCH(AL33,$L33:$Q33,0),"") | Z33: =_xlfn.IFNA(MATCH(AM33,$L33:$Q33,0),"") | AA33: =_xlfn.IFNA(MATCH(AN33,$L33:$Q33,0),"") | AB33: =_xlfn.IFNA(MATCH(AO33,$L33:$Q33,0),"") | AC33: =_xlfn.IFNA(MATCH(AP33,$L33:$Q33,0),"") | AD33: =_xlfn.IFNA(MATCH(AQ33,$L33:$Q33,0),"") | ... AH33: =_xlfn.IFNA(MATCH(AU33,$L33:$Q33,0),"") | AJ33: 10001 | AK33: 10002 | AL33: 10003 | AM33: 10004 | AN33: 10005 | AO33: 10006 | AP33: 10007 | AQ33: 10008 | AR33: 10009 | AS33: 10010 | AT33: 10011 | AU33: 10012
A34: 33 | B34: =VLOOKUP($A34,ArenaRobotConfig!$B:$G,6,TRUE) -> 35 | C34: =VLOOKUP($A34,ArenaRobotConfig!$B:$G,3,TRUE) -> 14 | E34: 3 | F34: 4 | G34: 4 | H34: 3 | I34: 3 | J34: 4 | L34: 10047 | M34: 10061 | N34: 10070 | O34: 10050 | P34: 10054 | Q34: 10060 | S34: =L34&"#"&M34&"#"&N34&"#"&O34&"#"&P34&"#"&Q34 -> 10047#10061#10070#10050#10054#10060 | T34: =_xlfn.TEXTJOIN("#",TRUE,AJ34:AO34) -> #NAME? | U34: =_xlfn.TEXTJOIN("#",TRUE,AP34:AU34) -> #NAME? | W34: =_xlfn.IFNA(MATCH(AJ34,$L34:$Q34,0),"") | X34: =_xlfn.IFNA(MATCH(AK34,$L34:$Q34,0),"") | Y34: =_xlfn.IFNA(MATCH(AL34,$L34:$Q34,0),"") | Z34: =_xlfn.IFNA(MATCH(AM34,$L34:$Q34,0),"") | AA34: =_xlfn.IFNA(MATCH(AN34,$L34:$Q34,0),"") | AB34: =_xlfn.IFNA(MATCH(AO34,$L34:$Q34,0),"") | AC34: =_xlfn.IFNA(MATCH(AP34,$L34:$Q34,0),"") | AD34: =_xlfn.IFNA(MATCH(AQ34,$L34:$Q34,0),"") | ... AH34: =_xlfn.IFNA(MATCH(AU34,$L34:$Q34,0),"") | AJ34: 10001 | AK34: 10002 | AL34: 10003 | AM34: 10004 | AN34: 10005 | AO34: 10006 | AP34: 10007 | AQ34: 10008 | AR34: 10009 | AS34: 10010 | AT34: 10011 | AU34: 10012
A35: 34 | B35: =VLOOKUP($A35,ArenaRobotConfig!$B:$G,6,TRUE) -> 33 | C35: =VLOOKUP($A35,ArenaRobotConfig!$B:$G,3,TRUE) -> 12 | E35: 3 | F35: 4 | G35: 3 | H35: 4 | I35: 4 | J35: 3 | L35: 10047 | M35: 10061 | N35: 10049 | O35: 10067 | P35: 10069 | Q35: 10052 | S35: =L35&"#"&M35&"#"&N35&"#"&O35&"#"&P35&"#"&Q35 -> 10047#10061#10049#10067#10069#10052 | T35: =_xlfn.TEXTJOIN("#",TRUE,AJ35:AO35) -> #NAME? | U35: =_xlfn.TEXTJOIN("#",TRUE,AP35:AU35) -> #NAME? | W35: =_xlfn.IFNA(MATCH(AJ35,$L35:$Q35,0),"") | X35: =_xlfn.IFNA(MATCH(AK35,$L35:$Q35,0),"") | Y35: =_xlfn.IFNA(MATCH(AL35,$L35:$Q35,0),"") | Z35: =_xlfn.IFNA(MATCH(AM35,$L35:$Q35,0),"") | AA35: =_xlfn.IFNA(MATCH(AN35,$L35:$Q35,0),"") | AB35: =_xlfn.IFNA(MATCH(AO35,$L35:$Q35,0),"") | AC35: =_xlfn.IFNA(MATCH(AP35,$L35:$Q35,0),"") | AD35: =_xlfn.IFNA(MATCH(AQ35,$L35:$Q35,0),"") | ... AH35: =_xlfn.IFNA(MATCH(AU35,$L35:$Q35,0),"") | AJ35: 10001 | AK35: 10002 | AL35: 10003 | AM35: 10004 | AN35: 10005 | AO35: 10006 | AP35: 10007 | AQ35: 10008 | AR35: 10009 | AS35: 10010 | AT35: 10011 | AU35: 10012
A36: 35 | B36: =VLOOKUP($A36,ArenaRobotConfig!$B:$G,6,TRUE) -> 41 | C36: =VLOOKUP($A36,ArenaRobotConfig!$B:$G,3,TRUE) -> 12 | E36: 3 | F36: 3 | G36: 4 | H36: 4 | I36: 4 | J36: 3 | L36: 10047 | M36: 10048 | N36: 10070 | O36: 10066 | P36: 10069 | Q36: 10052 | S36: =L36&"#"&M36&"#"&N36&"#"&O36&"#"&P36&"#"&Q36 -> 10047#10048#10070#10066#10069#10052 | T36: =_xlfn.TEXTJOIN("#",TRUE,AJ36:AO36) -> #NAME? | U36: =_xlfn.TEXTJOIN("#",TRUE,AP36:AU36) -> #NAME? | W36: =_xlfn.IFNA(MATCH(AJ36,$L36:$Q36,0),"") | X36: =_xlfn.IFNA(MATCH(AK36,$L36:$Q36,0),"") | Y36: =_xlfn.IFNA(MATCH(AL36,$L36:$Q36,0),"") | Z36: =_xlfn.IFNA(MATCH(AM36,$L36:$Q36,0),"") | AA36: =_xlfn.IFNA(MATCH(AN36,$L36:$Q36,0),"") | AB36: =_xlfn.IFNA(MATCH(AO36,$L36:$Q36,0),"") | AC36: =_xlfn.IFNA(MATCH(AP36,$L36:$Q36,0),"") | AD36: =_xlfn.IFNA(MATCH(AQ36,$L36:$Q36,0),"") | ... AH36: =_xlfn.IFNA(MATCH(AU36,$L36:$Q36,0),"") | AJ36: 10001 | AK36: 10002 | AL36: 10003 | AM36: 10004 | AN36: 10005 | AO36: 10006 | AP36: 10007 | AQ36: 10008 | AR36: 10009 | AS36: 10010 | AT36: 10011 | AU36: 10012
... A258: 257 | B258: =VLOOKUP($A258,ArenaRobotConfig!$B:$G,6,TRUE) -> 205 | C258: =VLOOKUP($A258,ArenaRobotConfig!$B:$G,3,TRUE) -> 101 | E258: 5 | F258: 5 | G258: 5 | H258: 5 | I258: 5 | J258: 5 | L258: 10044 | M258: 10007 | N258: 10016 | O258: 10009 | P258: 10015 | Q258: 10027 | S258: =L258&"#"&M258&"#"&N258&"#"&O258&"#"&P258&"#"&Q258 -> 10044#10007#10016#10009#10015#10027 | T258: =_xlfn.TEXTJOIN("#",TRUE,AJ258:AO258) -> #NAME? | U258: =_xlfn.TEXTJOIN("#",TRUE,AP258:AU258) -> #NAME? | W258: =_xlfn.IFNA(MATCH(AJ258,$L258:$Q258,0),"") | X258: =_xlfn.IFNA(MATCH(AK258,$L258:$Q258,0),"") | Y258: =_xlfn.IFNA(MATCH(AL258,$L258:$Q258,0),"") | Z258: =_xlfn.IFNA(MATCH(AM258,$L258:$Q258,0),"") | AA258: =_xlfn.IFNA(MATCH(AN258,$L258:$Q258,0),"") | AB258: =_xlfn.IFNA(MATCH(AO258,$L258:$Q258,0),"") | AC258: =_xlfn.IFNA(MATCH(AP258,$L258:$Q258,0),"") | AD258: =_xlfn.IFNA(MATCH(AQ258,$L258:$Q258,0),"") | ... AH258: =_xlfn.IFNA(MATCH(AU258,$L258:$Q258,0),"") | AJ258: 10001 | AK258: 10002 | AL258: 10003 | AM258: 10004 | AN258: 10005 | AO258: 10006 | AP258: 10013 | AQ258: 10008 | AR258: 10014 | AS258: 10010 | AT258: 10011 | AU258: 10012
