Workbook
Name 开发角色Data: '[1]角色类型&星级Ver0.1'!$B$6:$B$33

Sheet RobotSkill
B1: Id | C1: HeroId | D1: Skill | E1: PassiveSkill
B2: int | C2: int | D2: mut,int#int,1 | E2: mut,int#int,2
B3: 4 | C3: 4 | D3: 4 | E3: 4
B4: ID | C4: 模板ID | D4: 主动技能 | E4: 被动技能库
A5: 默认值 | B5: 0 | C5: 10001
A6: 正确性校对
A7: 校对值
A8: =VLOOKUP(C8,[2]HeroConfig!$B:$D,3,FALSE) -> 旱魃 | B8: 1 | C8: 10001 | D8: 1271#1272 | E8: |127101|127101#127102|127101#127102#127103#127104#1000007|127101#127102#127103#127104#127105#1000007#1000011|127101#127102#127103#127104#127105#127106#1000007#1000011#1000016|127101#127102#127103#127104#127105#127106#127107#1000007#1000011#1000016#1000032#127205|127101#127102#127103#127104#127105#127106#127107#127108#1000007#1000011#1000016#1000032#1000038#1000046#127205|127101#127102#127103#127104#127105#127106#127107#127108#127109#1000007#1000011#1000016#1000032#1000038#1000046#1000047#127205|127101#127102#127103#127104#127105#127106#127107#127108#127109#127110#1000007#1000011#1000016#1000032#1000038#1000046#1000047#1000048#127205|127101#127102#127103#127104#127105#127106#127107#127108#127109#127110#127111#1000007#1000011#1000016#1000032#1000038#1000046#1000047#1000048#1000050#127205|1271010#1271020#1271030#1271040#1271050#1271060#1271070#1271071#1271080#1271090#1271100#1271110#1271111#1271112#1000007#1000011#1000016#1000032#1000038#1000046#1000047#1000048#1000050#1000052#127205|1271010#1271020#1271030#1271040#1271050#1271060#1271070#1271071#1271080#1271090#1271100#1271110#1271111#1271112#127205#12000011#1000027#1000016#1000024#1000015#1000049#1000048#1000037#1000046#1000042#1000052|1271010#1271020#1271030#1271040#1271050#1271060#1271070#1271071#1271080#1271090#1271100#1271110#1271111#1271112#127205#12000011#1000027#1000016#1000024#1000015#1000049#1000048#1000037#1000046#1000042#1000052|1271010#1271020#1271030#1271040#1271050#1271060#1271070#1271071#1271080#1271090#1271100#1271110#1271111#1271112#127205#12000011#1000027#1000016#1000024#1000015#1000049#1000048#1000037#1000046#1000042#1000052|1271010#1271020#1271030#1271040#1271050#1271060#1271070#1271071#1271080#1271090#1271100#1271110#1271111#1271112#127205#12000010#1000027#1000016#1000024#1000015#1000049#1000048#1000037#1000046#1000042#1000052|1271010#1271020#1271030#1271040#1271050#1271060#1271070#1271071#1271080#1271090#1271100#1271110#1271111#1271112#127205#12000010#1000027#1000016#1000024#1000015#1000049#1000048#1000037#1000046#1000042#1000052
A9: =VLOOKUP(C9,[2]HeroConfig!$B:$D,3,FALSE) -> 白素贞 | B9: 2 | C9: 10002 | D9: 1031#1032 | E9: |103101|103101#103102|103101#103102#103103#103104#1000007|103101#103102#103103#103104#103105#1000007#1000011|103101#103102#103103#103104#103105#103106#1000007#1000011#1000016|103101#103102#103103#103104#103105#103106#103107#1000007#1000011#1000016#1000032#103205|103101#103102#103103#103104#103105#103106#103107#103108#1000007#1000011#1000016#1000032#1000038#1000046#103205|103101#103102#103103#103104#103105#103106#103107#103108#103109#1000007#1000011#1000016#1000032#1000038#1000046#1000047#103205|103101#103102#103103#103104#103105#103106#103107#103108#103109#103110#1000007#1000011#1000016#1000032#1000038#1000046#1000047#1000048#103205|103101#103102#103103#103104#103105#103106#103107#103108#103109#103110#103111#1000007#1000011#1000016#1000032#1000038#1000046#1000047#1000048#1000050#103205|1031010#1031020#1031030#1031040#1031050#1031060#1031070#1031071#1031080#1031090#1031100#1031101#1031110#1031111#1000007#1000011#1000016#1000032#1000038#1000046#1000047#1000048#1000050#1000052#103205|1031010#1031020#1031030#1031040#1031050#1031060#1031070#1031071#1031080#1031090#1031100#1031101#1031110#1031111#103205#12000011#1000027#1000016#1000024#1000015#1000049#1000048#1000037#1000046#1000042#1000052|1031010#1031020#1031030#1031040#1031050#1031060#1031070#1031071#1031080#1031090#1031100#1031101#1031110#1031111#103205#12000011#1000027#1000016#1000024#1000015#1000049#1000048#1000037#1000046#1000042#1000052|1031010#1031020#1031030#1031040#1031050#1031060#1031070#1031071#1031080#1031090#1031100#1031101#1031110#1031111#103205#12000011#1000027#1000016#1000024#1000015#1000049#1000048#1000037#1000046#1000042#1000052|1031010#1031020#1031030#1031040#1031050#1031060#1031070#1031071#1031080#1031090#1031100#1031101#1031110#1031111#103205#12000010#1000027#1000016#1000024#1000015#1000049#1000048#1000037#1000046#1000042#1000052|1031010#1031020#1031030#1031040#1031050#1031060#1031070#1031071#1031080#1031090#1031100#1031101#1031110#1031111#103205#12000010#1000027#1000016#1000024#1000015#1000049#1000048#1000037#1000046#1000042#1000052
A10: =VLOOKUP(C10,[2]HeroConfig!$B:$D,3,FALSE) -> 猪八戒 | B10: 3 | C10: 10003 | D10: 1061#1062 | E10: |106101|106101#106102|106101#106102#106103#106104#1000005|106101#106102#106103#106104#106105#1000005#1000010|106101#106102#106103#106104#106105#106106#1000005#1000010#1000015|106101#106102#106103#106104#106105#106106#106107#1000005#1000010#1000015#1000016#106205|106101#106102#106103#106104#106105#106106#106107#106108#1000005#1000010#1000015#1000016#1000028#1000047#106205|106101#106102#106103#106104#106105#106106#106107#106108#106109#1000005#1000010#1000015#1000016#1000028#1000047#1000052#106205|106101#106102#106103#106104#106105#106106#106107#106108#106109#106110#1000005#1000010#1000015#1000016#1000028#1000047#1000052#1000053#106205|106101#106102#106103#106104#106105#106106#106108#106109#106110#106111#1000005#1000010#1000015#1000016#1000028#1000047#1000052#1000053#1000054#106205|1061010#1061020#1061030#1061040#1061050#1061060#1061070#1061080#1061090#1061100#1061110#1000005#1000010#1000015#1000016#1000028#1000047#1000052#1000053#1000054#1000055#106205|1061010#1061020#1061030#1061040#1061050#1061060#1061070#1061080#1061090#1061100#1061110#106205#12000011#1000027#1000028#1000015#1000023#1000054#1000053#1000037#1000055#1000042#1000052#3061010|1061010#1061020#1061030#1061040#1061050#1061060#1061070#1061080#1061090#1061100#1061110#106205#12000011#1000027#1000028#1000015#1000023#1000054#1000053#1000037#1000055#1000042#1000052#3061010#3061020|1061010#1061020#1061030#1061040#1061050#1061060#1061070#1061080#1061090#1061100#1061110#106205#12000011#1000027#1000028#1000015#1000023#1000054#1000053#1000037#1000055#1000042#1000052#3061010#3061020#3061030|1061010#1061020#1061030#1061040#1061050#1061060#1061070#1061080#1061090#1061100#1061110#106205#12000010#1000027#1000028#1000015#1000023#1000054#1000053#1000037#1000055#1000042#1000052#3061010#3061020#3061030#3061040|1061010#1061020#1061030#1061040#1061050#1061060#1061070#1061080#1061090#1061100#1061110#106205#12000010#1000027#1000028#1000015#1000023#1000054#1000053#1000037#1000055#1000042#1000052#3061010#3061020#3061030#3061040#3061050
A11: =VLOOKUP(C11,[2]HeroConfig!$B:$D,3,FALSE) -> 慈航道人 | B11: 4 | C11: 10004 | D11: 1291#1292 | E11: |129101|129101#129102|129101#129102#129103#129104#1000005|129101#129102#129103#129104#129105#1000005#1000008|129101#129102#129103#129104#129105#129106#1000005#1000008#1000011|129101#129102#129103#129104#129105#129106#129107#1000005#1000008#1000011#1000016#129205|129101#129102#129103#129104#129105#129106#129107#129108#1000005#1000008#1000011#1000016#1000022#1000038#129205|129101#129102#129103#129104#129105#129106#129107#129108#129109#1000005#1000008#1000011#1000016#1000022#1000038#1000045#129205|129101#129102#129103#129104#129105#129106#129108#129109#129110#1000005#1000008#1000011#1000016#1000022#1000038#1000045#1000047#129205|129101#129102#129103#129104#129105#129106#129108#129109#129110#129111#1000005#1000008#1000011#1000016#1000022#1000038#1000045#1000047#1000050#129205|1291010#1291020#1291030#1291040#1291050#1291060#1291070#1291080#1291090#1291100#1291110#1291111#1000005#1000008#1000011#1000016#1000022#1000038#1000045#1000047#1000050#1000052#129205|1291010#1291020#1291030#1291040#1291050#1291060#1291070#1291080#1291090#1291100#1291110#1291111#129205#12000011#1000014#1000016#1000024#1000023#1000015#1000027#1000037#1000022#1000045#1000052#3291010|1291010#1291020#1291030#1291040#1291050#1291060#1291070#1291080#1291090#1291100#1291110#1291111#129205#12000011#1000014#1000016#1000024#1000023#1000015#1000027#1000037#1000022#1000045#1000052#3291010#3291020|1291010#1291020#1291030#1291040#1291050#1291060#1291070#1291080#1291090#1291100#1291110#1291111#129205#12000011#1000014#1000016#1000024#1000023#1000015#1000027#1000037#1000022#1000045#1000052#3291010#3291020#3291030|1291010#1291020#1291030#1291040#1291050#1291060#1291070#1291080#1291090#1291100#1291110#1291111#129205#12000010#1000014#1000016#1000024#1000023#1000015#1000027#1000037#1000022#1000045#1000052#3291010#3291020#3291030#3291040|1291010#1291020#1291030#1291040#1291050#1291060#1291070#1291080#1291090#1291100#1291110#1291111#129205#12000010#1000014#1000016#1000024#1000023#1000015#1000027#1000037#1000022#1000045#1000052#3291010#3291020#3291030#3291040#3291050
A12: =VLOOKUP(C12,[2]HeroConfig!$B:$D,3,FALSE) -> 铁扇公主 | B12: 5 | C12: 10005 | D12: 1071#1072 | E12: |107101|107101#107102|107101#107102#107103#107104#1000009|107101#107102#107103#107104#107105#1000009#1000011|107101#107102#107103#107104#107105#107106#1000009#1000011#1000016|107101#107102#107103#107104#107105#107106#107107#1000009#1000011#1000016#1000032#107205|107101#107102#107103#107104#107105#107106#107107#107108#1000009#1000011#1000016#1000032#1000038#1000047#107205|107101#107102#107103#107104#107105#107106#107107#107108#107109#1000009#1000011#1000016#1000032#1000038#1000047#1000048#107205|107101#107102#107103#107104#107105#107106#107107#107108#107109#107110#1000009#1000011#1000016#1000032#1000038#1000047#1000048#1000049#107205|107101#107102#107103#107104#107105#107106#107107#107108#107109#107110#107111#1000009#1000011#1000016#1000032#1000038#1000047#1000048#1000049#1000050#107205|1071010#1071020#1071030#1071040#1071050#1071060#1071070#1071071#1071080#1071090#1071100#1071101#1071110#1000009#1000011#1000016#1000032#1000038#1000047#1000048#1000049#1000050#1000052#107205|1071010#1071020#1071030#1071040#1071050#1071060#1071070#1071071#1071080#1071090#1071100#1071101#1071110#107205#12000011#1000027#1000016#1000009#1000024#1000023#1000015#1000037#1000046#1000042#1000052|1071010#1071020#1071030#1071040#1071050#1071060#1071070#1071071#1071080#1071090#1071100#1071101#1071110#107205#12000011#1000027#1000016#1000009#1000024#1000023#1000015#1000037#1000046#1000042#1000052|1071010#1071020#1071030#1071040#1071050#1071060#1071070#1071071#1071080#1071090#1071100#1071101#1071110#107205#12000011#1000027#1000016#1000009#1000024#1000023#1000015#1000037#1000046#1000042#1000052|1071010#1071020#1071030#1071040#1071050#1071060#1071070#1071071#1071080#1071090#1071100#1071101#1071110#107205#12000010#1000027#1000016#1000009#1000024#1000023#1000015#1000037#1000046#1000042#1000052|1071010#1071020#1071030#1071040#1071050#1071060#1071070#1071071#1071080#1071090#1071100#1071101#1071110#107205#12000010#1000027#1000016#1000009#1000024#1000023#1000015#1000037#1000046#1000042#1000052
A13: =VLOOKUP(C13,[2]HeroConfig!$B:$D,3,FALSE) -> 牛魔王 | B13: 6 | C13: 10006 | D13: 1041#1042 | E13: |104101|104101#104102|104101#104102#104103#104104#1000007|104101#104102#104103#104104#104105#1000007#1000011|104101#104102#104103#104104#104105#104106#1000007#1000011#1000016|104101#104102#104103#104104#104105#104106#104107#1000007#1000011#1000016#1000032#104205|104101#104102#104103#104104#104105#104106#104107#104108#1000007#1000011#1000016#1000032#1000038#1000046#104205|104101#104102#104103#104104#104105#104106#104107#104108#104109#1000007#1000011#1000016#1000032#1000038#1000046#1000047#104205|104101#104102#104103#104104#104105#104106#104107#104108#104109#104110#1000007#1000011#1000016#1000032#1000038#1000046#1000047#1000049#104205|104101#104102#104103#104104#104105#104106#104107#104108#104109#104110#104111#1000007#1000011#1000016#1000032#1000038#1000046#1000047#1000049#1000050#104205|1041010#1041020#1041030#1041040#1041050#1041060#1041070#1041080#1041090#1041100#1041101#1041110#1041111#1000007#1000011#1000016#1000032#1000038#1000046#1000047#1000049#1000050#1000052#104205|1041010#1041020#1041030#1041040#1041050#1041060#1041070#1041080#1041090#1041100#1041101#1041110#1041111#104205#12000011#1000027#1000016#1000024#1000023#1000015#1000019#1000037#1000028#1000042#1000052|1041010#1041020#1041030#1041040#1041050#1041060#1041070#1041080#1041090#1041100#1041101#1041110#1041111#104205#12000011#1000027#1000016#1000024#1000023#1000015#1000019#1000037#1000028#1000042#1000052|1041010#1041020#1041030#1041040#1041050#1041060#1041070#1041080#1041090#1041100#1041101#1041110#1041111#104205#12000011#1000027#1000016#1000024#1000023#1000015#1000019#1000037#1000028#1000042#1000052|1041010#1041020#1041030#1041040#1041050#1041060#1041070#1041080#1041090#1041100#1041101#1041110#1041111#104205#12000010#1000027#1000016#1000024#1000023#1000015#1000019#1000037#1000028#1000042#1000052|1041010#1041020#1041030#1041040#1041050#1041060#1041070#1041080#1041090#1041100#1041101#1041110#1041111#104205#12000010#1000027#1000016#1000024#1000023#1000015#1000019#1000037#1000028#1000042#1000052
A14: =VLOOKUP(C14,[2]HeroConfig!$B:$D,3,FALSE) -> 唐僧 | B14: 7 | C14: 10007 | D14: 1161#1162 | E14: |116101|116101#116102|116101#116102#116103#116104#1000005|116101#116102#116103#116104#116105#1000005#1000008|116101#116102#116103#116104#116105#116106#1000005#1000008#1000011|116101#116102#116103#116104#116105#116106#116107#1000005#1000008#1000011#1000016#116205|116101#116102#116103#116104#116105#116106#116107#116108#116112#1000005#1000008#1000011#1000016#1000022#1000038#116205|116101#116102#116103#116104#116105#116106#116107#116108#116112#116109#1000005#1000008#1000011#1000016#1000022#1000038#1000045#116205|116101#116102#116103#116104#116105#116106#116108#116112#116109#116110#1000005#1000008#1000011#1000016#1000022#1000038#1000045#1000047#116205|116101#116102#116103#116104#116105#116106#116108#116112#116109#116110#116111#1000005#1000008#1000011#1000016#1000022#1000038#1000045#1000047#1000050#116205|1161010#1161020#1161030#1161040#1161050#1161060#1161070#1161071#1161080#1161081#1161090#1161100#1161101#1161110#1161111#1000005#1000008#1000011#1000016#1000022#1000038#1000045#1000047#1000050#1000052#116205|1161010#1161020#1161030#1161040#1161050#1161060#1161070#1161071#1161080#1161081#1161090#1161100#1161101#1161110#1161111#116205#12000011#1000014#1000016#1000024#1000023#1000015#1000027#1000037#1000022#1000045#1000052#3161010|1161010#1161020#1161030#1161040#1161050#1161060#1161070#1161071#1161080#1161081#1161090#1161100#1161101#1161110#1161111#116205#12000011#1000014#1000016#1000024#1000023#1000015#1000027#1000037#1000022#1000045#1000052#3161010#3161020|1161010#1161020#1161030#1161040#1161050#1161060#1161070#1161071#1161080#1161081#1161090#1161100#1161101#1161110#1161111#116205#12000011#1000014#1000016#1000024#1000023#1000015#1000027#1000037#1000022#1000045#1000052#3161010#3161020#3161030|1161010#1161020#1161030#1161040#1161050#1161060#1161070#1161071#1161080#1161081#1161090#1161100#1161101#1161110#1161111#116205#12000010#1000014#1000016#1000024#1000023#1000015#1000027#1000037#1000022#1000045#1000052#3161010#3161020#3161030#3161040|1161010#1161020#1161030#1161040#1161050#1161060#1161070#1161071#1161080#1161081#1161090#1161100#1161101#1161110#1161111#116205#12000010#1000014#1000016#1000024#1000023#1000015#1000027#1000037#1000022#1000045#1000052#3161010#3161020#3161030#3161040#3161050
A15: =VLOOKUP(C15,[2]HeroConfig!$B:$D,3,FALSE) -> 精卫 | B15: 8 | C15: 10008 | D15: 1021#1022 | E15: |102101|102101#102102|102101#102102#102103#102104#1000007|102101#102102#102103#102104#102105#1000007#1000011|102101#102102#102103#102104#102105#102106#1000007#1000011#1000016|102101#102102#102103#102104#102105#102106#102107#1000007#1000011#1000016#1000032#102205|102101#102102#102103#102104#102105#102106#102107#102108#1000007#1000011#1000016#1000032#1000037#1000038#102205|102101#102102#102103#102104#102105#102106#102107#102108#102109#1000007#1000011#1000016#1000032#1000037#1000038#1000047#102205|102101#102102#102103#102104#102105#102106#102107#102108#102109#102110#1000007#1000011#1000016#1000032#1000037#1000038#1000047#1000048#102205|102101#102102#102103#102104#102105#102106#102108#102109#102110#102111#1000007#1000011#1000016#1000032#1000037#1000038#1000047#1000048#1000050#102205|1021010#1021020#1021030#1021040#1021050#1021060#1021070#1021080#1021090#1021100#1021101#1021110#1021111#1000007#1000011#1000016#1000032#1000037#1000038#1000047#1000048#1000050#1000052#102205|1021010#1021020#1021030#1021040#1021050#1021060#1021070#1021080#1021090#1021100#1021101#1021110#1021111#102205#12000011#1000027#1000016#1000013#1000024#1000023#1000015#1000037#1000046#1000042#1000052#3021010|1021010#1021020#1021030#1021040#1021050#1021060#1021070#1021080#1021090#1021100#1021101#1021110#1021111#102205#12000011#1000027#1000016#1000013#1000024#1000023#1000015#1000037#1000046#1000042#1000052#3021010#3021020|1021010#1021020#1021030#1021040#1021050#1021060#1021070#1021080#1021090#1021100#1021101#1021110#1021111#102205#12000011#1000027#1000016#1000013#1000024#1000023#1000015#1000037#1000046#1000042#1000052#3021010#3021020#3021030|1021010#1021020#1021030#1021040#1021050#1021060#1021070#1021080#1021090#1021100#1021101#1021110#1021111#102205#12000010#1000027#1000016#1000013#1000024#1000023#1000015#1000037#1000046#1000042#1000052#3021010#3021020#3021030#3021040|1021010#1021020#1021030#1021040#1021050#1021060#1021070#1021080#1021090#1021100#1021101#1021110#1021111#102205#12000010#1000027#1000016#1000013#1000024#1000023#1000015#1000037#1000046#1000042#1000052#3021010#3021020#3021030#3021040#3021050
A16: =VLOOKUP(C16,[2]HeroConfig!$B:$D,3,FALSE) -> 女儿国王 | B16: 9 | C16: 10009 | D16: 1311#1312 | E16: |131101|131101#131102|131101#131102#131103#131104#1000011|131101#131102#131103#131104#131105#1000011#1000016|131101#131102#131103#131104#131105#131106#1000011#1000016#1000021|131101#131102#131103#131104#131105#131106#131107#1000011#1000016#1000021#1000028#131205|131101#131102#131103#131104#131105#131106#131107#131108#131112#1000011#1000016#1000021#1000028#1000032#1000038#131205|131101#131102#131103#131104#131105#131106#131107#131108#131112#131109#1000011#1000016#1000021#1000028#1000032#1000038#1000047#131205|131101#131102#131103#131104#131105#131106#131107#131108#131112#131109#131110#1000011#1000016#1000021#1000028#1000032#1000038#1000047#1000049#131205|131101#131102#131103#131104#131105#131106#131107#131108#131112#131109#131110#131111#1000011#1000016#1000021#1000028#1000032#1000038#1000047#1000049#1000050#131205|1311010#1311020#1311030#1311040#1311050#1311060#1311070#1311071#1311080#1311120#1311090#1311100#1311101#1311110#1311111#1000011#1000016#1000021#1000028#1000032#1000038#1000047#1000049#1000050#1000052#131205|1311010#1311020#1311030#1311040#1311050#1311060#1311070#1311071#1311080#1311120#1311090#1311100#1311101#1311110#1311111#131205#12000011#1000027#1000016#1000021#1000024#1000023#1000015#1000037#1000046#1000042#1000052|1311010#1311020#1311030#1311040#1311050#1311060#1311070#1311071#1311080#1311120#1311090#1311100#1311101#1311110#1311111#131205#12000011#1000027#1000016#1000021#1000024#1000023#1000015#1000037#1000046#1000042#1000052|1311010#1311020#1311030#1311040#1311050#1311060#1311070#1311071#1311080#1311120#1311090#1311100#1311101#1311110#1311111#131205#12000011#1000027#1000016#1000021#1000024#1000023#1000015#1000037#1000046#1000042#1000052|1311010#1311020#1311030#1311040#1311050#1311060#1311070#1311071#1311080#1311120#1311090#1311100#1311101#1311110#1311111#131205#12000010#1000027#1000016#1000021#1000024#1000023#1000015#1000037#1000046#1000042#1000052|1311010#1311020#1311030#1311040#1311050#1311060#1311070#1311071#1311080#1311120#1311090#1311100#1311101#1311110#1311111#131205#12000010#1000027#1000016#1000021#1000024#1000023#1000015#1000037#1000046#1000042#1000052
A17: =VLOOKUP(C17,[2]HeroConfig!$B:$D,3,FALSE) -> 帝释天 | B17: 10 | C17: 10010 | D17: 1171#1172 | E17: |117101|117101#117102|117101#117102#117103#117104#1000005|117101#117102#117103#117104#117105#1000005#1000008|117101#117102#117103#117104#117105#117106#1000005#1000008#1000015|117101#117102#117103#117104#117105#117106#117107#1000005#1000008#1000015#1000018#117205|117101#117102#117103#117104#117105#117106#117107#117108#1000005#1000008#1000015#1000018#1000028#1000047#117205|117101#117102#117103#117104#117105#117106#117107#117108#117109#1000005#1000008#1000015#1000018#1000028#1000047#1000052#117205|117101#117102#117103#117104#117105#117106#117107#117108#117109#117110#1000005#1000008#1000015#1000018#1000028#1000047#1000052#1000053#117205|117101#117102#117103#117104#117105#117106#117107#117108#117109#117110#117111#1000005#1000008#1000015#1000018#1000028#1000047#1000052#1000053#1000054#117205|1171010#1171020#1171030#1171040#1171050#1171060#1171070#1171080#1171090#1171100#1171110#1000005#1000008#1000015#1000018#1000028#1000047#1000052#1000053#1000054#1000055#117205|1171010#1171020#1171030#1171040#1171050#1171060#1171070#1171080#1171090#1171100#1171110#117205#12000011#1000027#1000016#1000015#1000018#1000054#1000053#1000037#1000046#1000042#1000052#3171010|1171010#1171020#1171030#1171040#1171050#1171060#1171070#1171080#1171090#1171100#1171110#117205#12000011#1000027#1000016#1000015#1000018#1000054#1000053#1000037#1000046#1000042#1000052#3171010#3171020|1171010#1171020#1171030#1171040#1171050#1171060#1171070#1171080#1171090#1171100#1171110#117205#12000011#1000027#1000016#1000015#1000018#1000054#1000053#1000037#1000046#1000042#1000052#3171010#3171020#3171030|1171010#1171020#1171030#1171040#1171050#1171060#1171070#1171080#1171090#1171100#1171110#117205#12000010#1000027#1000016#1000015#1000018#1000054#1000053#1000037#1000046#1000042#1000052#3171010#3171020#3171030#3171040|1171010#1171020#1171030#1171040#1171050#1171060#1171070#1171080#1171090#1171100#1171110#117205#12000010#1000027#1000016#1000015#1000018#1000054#1000053#1000037#1000046#1000042#1000052#3171010#3171020#3171030#3171040#3171050
A18: =VLOOKUP(C18,[2]HeroConfig!$B:$D,3,FALSE) -> 雷震子 | B18: 11 | C18: 10011 | D18: 1011#1012 | E18: |101101|101101#101102|101101#101102#101103#101104#1000007|101101#101102#101103#101104#101105#1000007#1000011|101101#101102#101103#101104#101105#101106#1000007#1000011#1000016|101101#101102#101103#101104#101105#101106#101107#1000007#1000011#1000016#1000032#101205|101101#101102#101103#101104#101105#101106#101107#101108#1000007#1000011#1000016#1000032#1000037#1000038#101205|101101#101102#101103#101104#101105#101106#101107#101108#101109#1000007#1000011#1000016#1000032#1000037#1000038#1000047#101205|101101#101102#101103#101104#101105#101106#101107#101108#101109#101110#1000007#1000011#1000016#1000032#1000037#1000038#1000047#1000049#101205|101101#101102#101103#101104#101105#101106#101107#101108#101109#101110#101111#1000007#1000011#1000016#1000032#1000037#1000038#1000047#1000049#1000050#101205|1011010#1011020#1011030#1011040#1011050#1011060#1011070#1011071#1011080#1011090#1011100#1011110#1011111#1000007#1000011#1000016#1000032#1000037#1000038#1000047#1000049#1000050#1000052#101205|1011010#1011020#1011030#1011040#1011050#1011060#1011070#1011071#1011080#1011090#1011100#1011110#1011111#101205#12000011#1000027#1000016#1000024#1000023#1000015#1000049#1000037#1000046#1000042#1000052#3011010|1011010#1011020#1011030#1011040#1011050#1011060#1011070#1011071#1011080#1011090#1011100#1011110#1011111#101205#12000011#1000027#1000016#1000024#1000023#1000015#1000049#1000037#1000046#1000042#1000052#3011010#3011020|1011010#1011020#1011030#1011040#1011050#1011060#1011070#1011071#1011080#1011090#1011100#1011110#1011111#101205#12000011#1000027#1000016#1000024#1000023#1000015#1000049#1000037#1000046#1000042#1000052#3011010#3011020#3011030|1011010#1011020#1011030#1011040#1011050#1011060#1011070#1011071#1011080#1011090#1011100#1011110#1011111#101205#12000010#1000027#1000016#1000024#1000023#1000015#1000049#1000037#1000046#1000042#1000052#3011010#3011020#3011030#3011040#3011041|1011010#1011020#1011030#1011040#1011050#1011060#1011070#1011071#1011080#1011090#1011100#1011110#1011111#101205#12000010#1000027#1000016#1000024#1000023#1000015#1000049#1000037#1000046#1000042#1000052#3011010#3011020#3011030#3011040#3011041#3011050
A19: =VLOOKUP(C19,[2]HeroConfig!$B:$D,3,FALSE) -> 降龙罗汉 | B19: 12 | C19: 10012 | D19: 1211#1212 | E19: |121101|121101#121102|121101#121102#121103#121104#1000007|121101#121102#121103#121104#121105#1000007#1000011|121101#121102#121103#121104#121105#121106#1000007#1000011#1000016|121101#121102#121103#121104#121105#121106#121107#1000007#1000011#1000016#1000032#121205|121101#121102#121103#121104#121105#121106#121107#121108#1000007#1000011#1000016#1000032#1000037#1000038#121205|121101#121102#121103#121104#121105#121106#121107#121108#121109#1000007#1000011#1000016#1000032#1000037#1000038#1000047#121205|121101#121102#121103#121104#121105#121106#121107#121108#121109#121110#1000007#1000011#1000016#1000032#1000037#1000038#1000047#1000048#121205|121101#121102#121103#121104#121105#121106#121107#121108#121109#121110#121111#1000007#1000011#1000016#1000032#1000037#1000038#1000047#1000048#1000050#121205|1211010#1211020#1211030#1211040#1211050#1211060#1211070#1211071#1211080#1211090#1211100#1211101#1211110#1211111#1000007#1000011#1000016#1000032#1000037#1000038#1000047#1000048#1000050#1000052#121205|1211010#1211020#1211030#1211040#1211050#1211060#1211070#1211071#1211080#1211090#1211100#1211101#1211110#1211111#121205#12000011#1000027#1000016#1000024#1000015#1000049#1000048#1000037#1000046#1000042#1000052#3211010|1211010#1211020#1211030#1211040#1211050#1211060#1211070#1211071#1211080#1211090#1211100#1211101#1211110#1211111#121205#12000011#1000027#1000016#1000024#1000015#1000049#1000048#1000037#1000046#1000042#1000052#3211010#3211020|1211010#1211020#1211030#1211040#1211050#1211060#1211070#1211071#1211080#1211090#1211100#1211101#1211110#1211111#121205#12000011#1000027#1000016#1000024#1000015#1000049#1000048#1000037#1000046#1000042#1000052#3211010#3211020#3211030|1211010#1211020#1211030#1211040#1211050#1211060#1211070#1211071#1211080#1211090#1211100#1211101#1211110#1211111#121205#12000010#1000027#1000016#1000024#1000015#1000049#1000048#1000037#1000046#1000042#1000052#3211010#3211020#3211030#3211040#3211041|1211010#1211020#1211030#1211040#1211050#1211060#1211070#1211071#1211080#1211090#1211100#1211101#1211110#1211111#121205#12000010#1000027#1000016#1000024#1000015#1000049#1000048#1000037#1000046#1000042#1000052#3211010#3211020#3211030#3211040#3211041#3211050
... A53: =VLOOKUP(C53,[2]HeroConfig!$B:$D,3,FALSE) -> 花木兰 | B53: 46 | C53: 10046 | D53: 1351#1352 | E53: |135101|135101#135102|135101#135102#135103#135104#1000011|135101#135102#135103#135104#135105#1000011#1000016|135101#135102#135103#135104#135105#135106#1000011#1000016#1000025|135101#135102#135103#135104#135105#135106#135107#1000011#1000016#1000025#1000038#135205|135101#135102#135103#135104#135105#135106#135107#135108#1000011#1000016#1000025#1000038#1000039#1000040#135205|135101#135102#135103#135104#135105#135106#135107#135108#135109#1000011#1000016#1000025#1000038#1000039#1000040#1000043#135205|135101#135102#135103#135104#135105#135106#135107#135108#135109#135110#1000011#1000016#1000025#1000038#1000039#1000040#1000043#1000047#135205|135101#135102#135103#135104#135105#135106#135107#135108#135109#135110#1000011#1000016#1000025#1000038#1000039#1000040#1000043#1000047#1000052#135205|135101#135102#135103#135104#135105#135106#135107#135108#135109#135110#1000011#1000016#1000025#1000038#1000039#1000040#1000043#1000047#1000052#1000055#135205|135101#135102#135103#135104#135105#135106#135107#135108#135109#135110#135205#12000011#1000027#1000016#1000025#1000043#1000040#1000039#1000037#1000046#1000042#1000052|135101#135102#135103#135104#135105#135106#135107#135108#135109#135110#135205#12000011#1000027#1000016#1000025#1000043#1000040#1000039#1000037#1000046#1000042#1000052|135101#135102#135103#135104#135105#135106#135107#135108#135109#135110#135205#12000011#1000027#1000016#1000025#1000043#1000040#1000039#1000037#1000046#1000042#1000052|135101#135102#135103#135104#135105#135106#135107#135108#135109#135110#135205#12000010#1000027#1000016#1000025#1000043#1000040#1000039#1000037#1000046#1000042#1000052|135101#135102#135103#135104#135105#135106#135107#135108#135109#135110#135205#12000010#1000027#1000016#1000025#1000043#1000040#1000039#1000037#1000046#1000042#1000052
A54: =VLOOKUP(C54,[2]HeroConfig!$B:$D,3,FALSE) -> 赤尾妖 | B54: 47 | C54: 10047 | D54: 100471#100472
A55: =VLOOKUP(C55,[2]HeroConfig!$B:$D,3,FALSE) -> 雪女 | B55: 48 | C55: 10048 | D55: 100481#100482
A56: =VLOOKUP(C56,[2]HeroConfig!$B:$D,3,FALSE) -> 娜迦 | B56: 49 | C56: 10049 | D56: 100491#100492
A57: =VLOOKUP(C57,[2]HeroConfig!$B:$D,3,FALSE) -> 菩提遗枝 | B57: 50 | C57: 10050 | D57: 100501#100502
A58: =VLOOKUP(C58,[2]HeroConfig!$B:$D,3,FALSE) -> 灵使 | B58: 51 | C58: 10051 | D58: 100511#100512
A59: =VLOOKUP(C59,[2]HeroConfig!$B:$D,3,FALSE) -> 方士 | B59: 52 | C59: 10052 | D59: 100521#100522
A60: =VLOOKUP(C60,[2]HeroConfig!$B:$D,3,FALSE) -> 鬼差 | B60: 53 | C60: 10053 | D60: 100531#100532
A61: =VLOOKUP(C61,[2]HeroConfig!$B:$D,3,FALSE) -> 仙灵 | B61: 54 | C61: 10054 | D61: 100541#100542
A62: =VLOOKUP(C62,[2]HeroConfig!$B:$D,3,FALSE) -> 聂小倩 | B62: 55 | C62: 10057 | D62: 100571#100572 | E62: |10057101|10057101#10057102|10057101#10057102#10057103#10057104|10057101#10057102#10057103#10057104#10057105|10057101#10057102#10057103#10057104#10057105#10057106|10057101#10057102#10057103#10057104#10057105#10057106|10057101#10057102#10057103#10057104#10057105#10057106|10057101#10057102#10057103#10057104#10057105#10057106|10057101#10057102#10057103#10057104#10057105#10057106|10057101#10057102#10057103#10057104#10057105#10057106|10057101#10057102#10057103#10057104#10057105#10057106|10057101#10057102#10057103#10057104#10057105#10057106|10057101#10057102#10057103#10057104#10057105#10057106|10057101#10057102#10057103#10057104#10057105#10057106|10057101#10057102#10057103#10057104#10057105#10057106|10057101#10057102#10057103#10057104#10057105#10057106
A63: =VLOOKUP(C63,[2]HeroConfig!$B:$D,3,FALSE) -> 九婴 | B63: 56 | C63: 10058 | D63: 100581#100582 | E63: |10058101|10058101#10058102|10058101#10058102#10058103#10058104|10058101#10058102#10058103#10058104#10058105|10058101#10058102#10058103#10058104#10058105#10058106|10058101#10058102#10058103#10058104#10058105#10058106|10058101#10058102#10058103#10058104#10058105#10058106|10058101#10058102#10058103#10058104#10058105#10058106|10058101#10058102#10058103#10058104#10058105#10058106|10058101#10058102#10058103#10058104#10058105#10058106|10058101#10058102#10058103#10058104#10058105#10058106|10058101#10058102#10058103#10058104#10058105#10058106|10058101#10058102#10058103#10058104#10058105#10058106|10058101#10058102#10058103#10058104#10058105#10058106|10058101#10058102#10058103#10058104#10058105#10058106|10058101#10058102#10058103#10058104#10058105#10058106
A64: =VLOOKUP(C64,[2]HeroConfig!$B:$D,3,FALSE) -> 灵猫 | B64: 57 | C64: 10059 | D64: 100591#100592 | E64: |10059101|10059101#10059102|10059101#10059102#10059103#10059104|10059101#10059102#10059103#10059104#10059105|10059101#10059102#10059103#10059104#10059105#10059106|10059101#10059102#10059103#10059104#10059105#10059106|10059101#10059102#10059103#10059104#10059105#10059106|10059101#10059102#10059103#10059104#10059105#10059106|10059101#10059102#10059103#10059104#10059105#10059106|10059101#10059102#10059103#10059104#10059105#10059106|10059101#10059102#10059103#10059104#10059105#10059106|10059101#10059102#10059103#10059104#10059105#10059106|10059101#10059102#10059103#10059104#10059105#10059106|10059101#10059102#10059103#10059104#10059105#10059106|10059101#10059102#10059103#10059104#10059105#10059106|10059101#10059102#10059103#10059104#10059105#10059106
A65: =VLOOKUP(C65,[2]HeroConfig!$B:$D,3,FALSE) -> 半截观音 | B65: 58 | C65: 10060 | D65: 100601#100602 | E65: |10060101|10060101#10060102|10060101#10060102#10060103#10060104|10060101#10060102#10060103#10060104#10060105|10060101#10060102#10060103#10060104#10060105#10060106|10060101#10060102#10060103#10060104#10060105#10060106|10060101#10060102#10060103#10060104#10060105#10060106|10060101#10060102#10060103#10060104#10060105#10060106|10060101#10060102#10060103#10060104#10060105#10060106|10060101#10060102#10060103#10060104#10060105#10060106|10060101#10060102#10060103#10060104#10060105#10060106|10060101#10060102#10060103#10060104#10060105#10060106|10060101#10060102#10060103#10060104#10060105#10060106|10060101#10060102#10060103#10060104#10060105#10060106|10060101#10060102#10060103#10060104#10060105#10060106|10060101#10060102#10060103#10060104#10060105#10060106
A66: =VLOOKUP(C66,[2]HeroConfig!$B:$D,3,FALSE) -> 韦陀 | B66: 59 | C66: 10061 | D66: 100611#100612 | E66: |10061101|10061101#10061102|10061101#10061102#10061103#10061104|10061101#10061102#10061103#10061104#10061105|10061101#10061102#10061103#10061104#10061105#10061106|10061101#10061102#10061103#10061104#10061105#10061106|10061101#10061102#10061103#10061104#10061105#10061106|10061101#10061102#10061103#10061104#10061105#10061106|10061101#10061102#10061103#10061104#10061105#10061106|10061101#10061102#10061103#10061104#10061105#10061106|10061101#10061102#10061103#10061104#10061105#10061106|10061101#10061102#10061103#10061104#10061105#10061106|10061101#10061102#10061103#10061104#10061105#10061106|10061101#10061102#10061103#10061104#10061105#10061106|10061101#10061102#10061103#10061104#10061105#10061106|10061101#10061102#10061103#10061104#10061105#10061106
A67: =VLOOKUP(C67,[2]HeroConfig!$B:$D,3,FALSE) -> 善光公主 | B67: 60 | C67: 10062 | D67: 100621#100622 | E67: |10062101|10062101#10062102|10062101#10062102#10062103#10062104|10062101#10062102#10062103#10062104#10062105|10062101#10062102#10062103#10062104#10062105#10062106|10062101#10062102#10062103#10062104#10062105#10062106|10062101#10062102#10062103#10062104#10062105#10062106|10062101#10062102#10062103#10062104#10062105#10062106|10062101#10062102#10062103#10062104#10062105#10062106|10062101#10062102#10062103#10062104#10062105#10062106|10062101#10062102#10062103#10062104#10062105#10062106|10062101#10062102#10062103#10062104#10062105#10062106|10062101#10062102#10062103#10062104#10062105#10062106|10062101#10062102#10062103#10062104#10062105#10062106|10062101#10062102#10062103#10062104#10062105#10062106|10062101#10062102#10062103#10062104#10062105#10062106
A68: =VLOOKUP(C68,[2]HeroConfig!$B:$D,3,FALSE) -> 伽罗尊者 | B68: 61 | C68: 10063 | D68: 100631#100632 | E68: |10063101|10063101#10063102|10063101#10063102#10063103#10063104|10063101#10063102#10063103#10063104#10063105|10063101#10063102#10063103#10063104#10063105#10063106|10063101#10063102#10063103#10063104#10063105#10063106|10063101#10063102#10063103#10063104#10063105#10063106|10063101#10063102#10063103#10063104#10063105#10063106|10063101#10063102#10063103#10063104#10063105#10063106|10063101#10063102#10063103#10063104#10063105#10063106|10063101#10063102#10063103#10063104#10063105#10063106|10063101#10063102#10063103#10063104#10063105#10063106|10063101#10063102#10063103#10063104#10063105#10063106|10063101#10063102#10063103#10063104#10063105#10063106|10063101#10063102#10063103#10063104#10063105#10063106|10063101#10063102#10063103#10063104#10063105#10063106
A69: =VLOOKUP(C69,[2]HeroConfig!$B:$D,3,FALSE) -> 怒目金刚 | B69: 62 | C69: 10064 | D69: 100641#100642 | E69: |10064101|10064101#10064102|10064101#10064102#10064103#10064104|10064101#10064102#10064103#10064104#10064105|10064101#10064102#10064103#10064104#10064105#10064106|10064101#10064102#10064103#10064104#10064105#10064106|10064101#10064102#10064103#10064104#10064105#10064106|10064101#10064102#10064103#10064104#10064105#10064106|10064101#10064102#10064103#10064104#10064105#10064106|10064101#10064102#10064103#10064104#10064105#10064106|10064101#10064102#10064103#10064104#10064105#10064106|10064101#10064102#10064103#10064104#10064105#10064106|10064101#10064102#10064103#10064104#10064105#10064106|10064101#10064102#10064103#10064104#10064105#10064106|10064101#10064102#10064103#10064104#10064105#10064106|10064101#10064102#10064103#10064104#10064105#10064106
A70: =VLOOKUP(C70,[2]HeroConfig!$B:$D,3,FALSE) -> 木吒 | B70: 63 | C70: 10065 | D70: 100651#100652 | E70: |10065101|10065101#10065102|10065101#10065102#10065103#10065104|10065101#10065102#10065103#10065104#10065105|10065101#10065102#10065103#10065104#10065105#10065106|10065101#10065102#10065103#10065104#10065105#10065106|10065101#10065102#10065103#10065104#10065105#10065106|10065101#10065102#10065103#10065104#10065105#10065106|10065101#10065102#10065103#10065104#10065105#10065106|10065101#10065102#10065103#10065104#10065105#10065106|10065101#10065102#10065103#10065104#10065105#10065106|10065101#10065102#10065103#10065104#10065105#10065106|10065101#10065102#10065103#10065104#10065105#10065106|10065101#10065102#10065103#10065104#10065105#10065106|10065101#10065102#10065103#10065104#10065105#10065106|10065101#10065102#10065103#10065104#10065105#10065106
A71: =VLOOKUP(C71,[2]HeroConfig!$B:$D,3,FALSE) -> 姜后 | B71: 64 | C71: 10066 | D71: 100661#100662 | E71: |10066101|10066101#10066102|10066101#10066102#10066103#10066104|10066101#10066102#10066103#10066104#10066105|10066101#10066102#10066103#10066104#10066105#10066106|10066101#10066102#10066103#10066104#10066105#10066106|10066101#10066102#10066103#10066104#10066105#10066106|10066101#10066102#10066103#10066104#10066105#10066106|10066101#10066102#10066103#10066104#10066105#10066106|10066101#10066102#10066103#10066104#10066105#10066106|10066101#10066102#10066103#10066104#10066105#10066106|10066101#10066102#10066103#10066104#10066105#10066106|10066101#10066102#10066103#10066104#10066105#10066106|10066101#10066102#10066103#10066104#10066105#10066106|10066101#10066102#10066103#10066104#10066105#10066106|10066101#10066102#10066103#10066104#10066105#10066106
A72: =VLOOKUP(C72,[2]HeroConfig!$B:$D,3,FALSE) -> 梦蝶 | B72: 65 | C72: 10067 | D72: 100671#100672 | E72: |10067101|10067101#10067102|10067101#10067102#10067103#10067104|10067101#10067102#10067103#10067104#10067105|10067101#10067102#10067103#10067104#10067105#10067106|10067101#10067102#10067103#10067104#10067105#10067106|10067101#10067102#10067103#10067104#10067105#10067106|10067101#10067102#10067103#10067104#10067105#10067106|10067101#10067102#10067103#10067104#10067105#10067106|10067101#10067102#10067103#10067104#10067105#10067106|10067101#10067102#10067103#10067104#10067105#10067106|10067101#10067102#10067103#10067104#10067105#10067106|10067101#10067102#10067103#10067104#10067105#10067106|10067101#10067102#10067103#10067104#10067105#10067106|10067101#10067102#10067103#10067104#10067105#10067106|10067101#10067102#10067103#10067104#10067105#10067106
A73: =VLOOKUP(C73,[2]HeroConfig!$B:$D,3,FALSE) -> 金吒 | B73: 66 | C73: 10068 | D73: 100681#100682 | E73: |10068101|10068101#10068102|10068101#10068102#10068103#10068104|10068101#10068102#10068103#10068104#10068105|10068101#10068102#10068103#10068104#10068105#10068106|10068101#10068102#10068103#10068104#10068105#10068106|10068101#10068102#10068103#10068104#10068105#10068106|10068101#10068102#10068103#10068104#10068105#10068106|10068101#10068102#10068103#10068104#10068105#10068106|10068101#10068102#10068103#10068104#10068105#10068106|10068101#10068102#10068103#10068104#10068105#10068106|10068101#10068102#10068103#10068104#10068105#10068106|10068101#10068102#10068103#10068104#10068105#10068106|10068101#10068102#10068103#10068104#10068105#10068106|10068101#10068102#10068103#10068104#10068105#10068106|10068101#10068102#10068103#10068104#10068105#10068106
... A77: =VLOOKUP(C77,[2]HeroConfig!$B:$D,3,FALSE) -> 灵扇仙 | B77: 70 | C77: 10072 | D77: 100721#100722 | E77: |10072101|10072101#10072102|10072101#10072102#10072103#10072104|10072101#10072102#10072103#10072104#10072105|10072101#10072102#10072103#10072104#10072105#10072106|10072101#10072102#10072103#10072104#10072105#10072106|10072101#10072102#10072103#10072104#10072105#10072106|10072101#10072102#10072103#10072104#10072105#10072106|10072101#10072102#10072103#10072104#10072105#10072106|10072101#10072102#10072103#10072104#10072105#10072106|10072101#10072102#10072103#10072104#10072105#10072106|10072101#10072102#10072103#10072104#10072105#10072106|10072101#10072102#10072103#10072104#10072105#10072106|10072101#10072102#10072103#10072104#10072105#10072106|10072101#10072102#10072103#10072104#10072105#10072106|10072101#10072102#10072103#10072104#10072105#10072106
A78: =VLOOKUP(C78,[2]HeroConfig!$B:$D,3,FALSE) -> 少年游 | B78: 71 | C78: 10073 | D78: 100731#100732
A79: =VLOOKUP(C79,[2]HeroConfig!$B:$D,3,FALSE) -> 乾达婆 | B79: 72 | C79: 10074 | D79: 100741#100742
A80: =VLOOKUP(C80,[2]HeroConfig!$B:$D,3,FALSE) -> 玉兔精 | B80: 73 | C80: 10075 | D80: 100751#100752
A81: =VLOOKUP(C81,[2]HeroConfig!$B:$D,3,FALSE) -> 炼丹师 | B81: 74 | C81: 10076 | D81: 100761#100762
A82: =VLOOKUP(C82,[2]HeroConfig!$B:$D,3,FALSE) -> 小书童 | B82: 75 | C82: 10079 | D82: 100791#100792
A83: =VLOOKUP(C83,[2]HeroConfig!$B:$D,3,FALSE) -> 小和尚 | B83: 76 | C83: 10080 | D83: 100801#100802
A84: =VLOOKUP(C84,[2]HeroConfig!$B:$D,3,FALSE) -> 白鼠精 | B84: 77 | C84: 10081 | D84: 100811#100812
A85: =VLOOKUP(C85,[2]HeroConfig!$B:$D,3,FALSE) -> 小道童 | B85: 78 | C85: 10082 | D85: 100821#100822
A86: =VLOOKUP(C86,[2]HeroConfig!$B:$D,3,FALSE) -> 敖丙 | B86: 79 | C86: 10085 | D86: 1131#1132 | E86: |113101|113101#113102|113101#113102#113103#113104#1000011|113101#113102#113103#113104#113105#1000011#1000016|113101#113102#113103#113104#113105#113106#1000011#1000016#1000032|113101#113102#113103#113104#113105#113106#113107#1000011#1000016#1000032#1000037#113205|113101#113102#113103#113104#113105#113106#113107#113108#1000011#1000016#1000032#1000037#1000038#1000046#113205|113101#113102#113103#113104#113105#113106#113107#113108#113109#1000011#1000016#1000032#1000037#1000038#1000046#1000047#113205|113101#113102#113103#113104#113105#113106#113107#113108#113109#113110#1000011#1000016#1000032#1000037#1000038#1000046#1000047#1000049#113205|113101#113102#113103#113104#113105#113106#113107#113108#113109#113110#113111#1000011#1000016#1000032#1000037#1000038#1000046#1000047#1000049#1000050#113205|1131010#1131020#1131030#1131040#1131050#1131060#1131070#1131071#1131080#1131090#1131100#1131101#1131110#1131111#1000011#1000016#1000032#1000037#1000038#1000046#1000047#1000049#1000050#1000052#113205|1131010#1131020#1131030#1131040#1131050#1131060#1131070#1131071#1131080#1131090#1131100#1131101#1131110#1131111#113205#12000011#1000027#1000016#1000024#1000015#1000049#1000048#1000037#1000028#1000042#1000052#3131010|1131010#1131020#1131030#1131040#1131050#1131060#1131070#1131071#1131080#1131090#1131100#1131101#1131110#1131111#113205#12000011#1000027#1000016#1000024#1000015#1000049#1000048#1000037#1000028#1000042#1000052#3131010#3131020|1131010#1131020#1131030#1131040#1131050#1131060#1131070#1131071#1131080#1131090#1131100#1131101#1131110#1131111#113205#12000011#1000027#1000016#1000024#1000015#1000049#1000048#1000037#1000028#1000042#1000052#3131010#3131020#3131030|1131010#1131020#1131030#1131040#1131050#1131060#1131070#1131071#1131080#1131090#1131100#1131101#1131110#1131111#113205#12000010#1000027#1000016#1000024#1000015#1000049#1000048#1000037#1000028#1000042#1000052#3131010#3131020#3131030#3131040#3131041|1131010#1131020#1131030#1131040#1131050#1131060#1131070#1131071#1131080#1131090#1131100#1131101#1131110#1131111#113205#12000010#1000027#1000016#1000024#1000015#1000049#1000048#1000037#1000028#1000042#1000052#3131010#3131020#3131030#3131040#3131041#3131050
A87: =VLOOKUP(C87,[2]HeroConfig!$B:$D,3,FALSE) -> 不动明王 | B87: 80 | C87: 10086 | D87: 1261#1262 | E87: |126101|126101#126102|126101#126102#126103#126104#1000011|126101#126102#126103#126104#126105#1000011#1000016|126101#126102#126103#126104#126105#126106#1000011#1000016#1000032|126101#126102#126103#126104#126105#126106#126107#1000011#1000016#1000032#1000037#126205|126101#126102#126103#126104#126105#126106#126107#126108#1000011#1000016#1000032#1000037#1000038#1000046#126205|126101#126102#126103#126104#126105#126106#126107#126108#126109#1000011#1000016#1000032#1000037#1000038#1000046#1000047#126205|126101#126102#126103#126104#126105#126106#126107#126108#126109#126110#1000011#1000016#1000032#1000037#1000038#1000046#1000047#1000048#126205|126101#126102#126103#126104#126105#126106#126107#126108#126109#126110#126111#1000011#1000016#1000032#1000037#1000038#1000046#1000047#1000048#1000050#126205|1261010#1261020#1261030#1261040#1261050#1261060#1261070#1261080#1261090#1261100#1261101#1261110#1000011#1000016#1000032#1000037#1000038#1000046#1000047#1000048#1000050#1000052#126205|1261010#1261020#1261030#1261040#1261050#1261060#1261070#1261080#1261090#1261100#1261101#1261110#126205#12000011#1000027#1000016#1000024#1000015#1000049#1000048#1000037#1000046#1000042#1000052|1261010#1261020#1261030#1261040#1261050#1261060#1261070#1261080#1261090#1261100#1261101#1261110#126205#12000011#1000027#1000016#1000024#1000015#1000049#1000048#1000037#1000046#1000042#1000052|1261010#1261020#1261030#1261040#1261050#1261060#1261070#1261080#1261090#1261100#1261101#1261110#126205#12000011#1000027#1000016#1000024#1000015#1000049#1000048#1000037#1000046#1000042#1000052|1261010#1261020#1261030#1261040#1261050#1261060#1261070#1261080#1261090#1261100#1261101#1261110#126205#12000010#1000027#1000016#1000024#1000015#1000049#1000048#1000037#1000046#1000042#1000052|1261010#1261020#1261030#1261040#1261050#1261060#1261070#1261080#1261090#1261100#1261101#1261110#126205#12000010#1000027#1000016#1000024#1000015#1000049#1000048#1000037#1000046#1000042#1000052
A88: =VLOOKUP(C88,[2]HeroConfig!$B:$D,3,FALSE) -> 赵公明 | B88: 81 | C88: 10087 | D88: 1341#1342 | E88: |134101|134101#134102|134101#134102#134103#134104#1000011|134101#134102#134103#134104#134105#1000011#1000016|134101#134102#134103#134104#134105#134106#1000011#1000016#1000025|134101#134102#134103#134104#134105#134106#134107#1000011#1000016#1000025#1000038#134205|134101#134102#134103#134104#134105#134106#134107#134108#1000011#1000016#1000025#1000038#1000039#1000040#134205|134101#134102#134103#134104#134105#134106#134107#134108#134109#1000011#1000016#1000025#1000038#1000039#1000040#1000043#134205|134101#134102#134103#134104#134105#134106#134107#134108#134109#134110#1000011#1000016#1000025#1000038#1000039#1000040#1000043#1000047#134205|134101#134102#134103#134104#134105#134106#134107#134108#134109#134110#134111#1000011#1000016#1000025#1000038#1000039#1000040#1000043#1000047#1000052#134205|1341010#1341020#1341030#1341040#1341050#1341060#1341070#1341071#1341080#1341090#1341100#1341110#1341111#1000011#1000016#1000025#1000038#1000039#1000040#1000043#1000047#1000052#1000055#134205|1341010#1341020#1341030#1341040#1341050#1341060#1341070#1341071#1341080#1341090#1341100#1341110#1341111#134205#12000011#1000027#1000016#1000025#1000043#1000040#1000039#1000037#1000046#1000042#1000052|1341010#1341020#1341030#1341040#1341050#1341060#1341070#1341071#1341080#1341090#1341100#1341110#1341111#134205#12000011#1000027#1000016#1000025#1000043#1000040#1000039#1000037#1000046#1000042#1000052|1341010#1341020#1341030#1341040#1341050#1341060#1341070#1341071#1341080#1341090#1341100#1341110#1341111#134205#12000011#1000027#1000016#1000025#1000043#1000040#1000039#1000037#1000046#1000042#1000052|1341010#1341020#1341030#1341040#1341050#1341060#1341070#1341071#1341080#1341090#1341100#1341110#1341111#134205#12000010#1000027#1000016#1000025#1000043#1000040#1000039#1000037#1000046#1000042#1000052|1341010#1341020#1341030#1341040#1341050#1341060#1341070#1341071#1341080#1341090#1341100#1341110#1341111#134205#12000010#1000027#1000016#1000025#1000043#1000040#1000039#1000037#1000046#1000042#1000052
A89: =VLOOKUP(C89,[2]HeroConfig!$B:$D,3,FALSE) -> 申公豹 | B89: 82 | C89: 10088 | D89: 1401#1402 | E89: |140101|140101#140102|140101#140102#140103#140104#1000011|140101#140102#140103#140104#140105#1000011#1000016|140101#140102#140103#140104#140105#140106#1000011#1000016#1000020|140101#140102#140103#140104#140105#140106#140107#1000011#1000016#1000020#1000012#140205|140101#140102#140103#140104#140105#140106#140107#140108#1000011#1000016#1000020#1000012#1000032#1000038#140205|140101#140102#140103#140104#140105#140106#140107#140108#140109#1000011#1000016#1000020#1000012#1000032#1000038#1000047#140205|140101#140102#140103#140104#140105#140106#140108#140109#140110#1000011#1000016#1000020#1000012#1000032#1000038#1000047#1000048#140205|140101#140102#140103#140104#140105#140106#140108#140109#140110#140111#1000011#1000016#1000020#1000012#1000032#1000038#1000047#1000048#1000050#140205|1401010#1401020#1401030#1401040#1401050#1401060#140107#1401071#1401080#1401090#1401100#1401101#1401110#1401111#1000011#1000016#1000020#1000012#1000032#1000038#1000047#1000048#1000050#1000052#140205|1401010#1401020#1401030#1401040#1401050#1401060#140107#1401071#1401080#1401090#1401100#1401101#1401110#1401111#140205#12000011#1000027#1000016#1000020#1000024#1000023#1000015#1000037#1000046#1000042#1000052#3401010|1401010#1401020#1401030#1401040#1401050#1401060#140107#1401071#1401080#1401090#1401100#1401101#1401110#1401111#140205#12000011#1000027#1000016#1000020#1000024#1000023#1000015#1000037#1000046#1000042#1000052#3401010#3401020|1401010#1401020#1401030#1401040#1401050#1401060#140107#1401071#1401080#1401090#1401100#1401101#1401110#1401111#140205#12000011#1000027#1000016#1000020#1000024#1000023#1000015#1000037#1000046#1000042#1000052#3401010#3401020#3401030|1401010#1401020#1401030#1401040#1401050#1401060#140107#1401071#1401080#1401090#1401100#1401101#1401110#1401111#140205#12000010#1000027#1000016#1000020#1000024#1000023#1000015#1000037#1000046#1000042#1000052#3401010#3401020#3401030#3401040|1401010#1401020#1401030#1401040#1401050#1401060#140107#1401071#1401080#1401090#1401100#1401101#1401110#1401111#140205#12000010#1000027#1000016#1000020#1000024#1000023#1000015#1000037#1000046#1000042#1000052#3401010#3401020#3401030#3401040#3401050
A90: =VLOOKUP(C90,[2]HeroConfig!$B:$D,3,FALSE) -> 燃灯 | B90: 83 | C90: 10089 | D90: 1181#1182 | E90: |118101|118101#118102|118101#118102#118103#118104#1000005|118101#118102#118103#118104#118105#1000005#1000008|118101#118102#118103#118104#118105#118106#1000005#1000008#1000015|118101#118102#118103#118104#118105#118106#118107#1000005#1000008#1000015#1000016#118205|118101#118102#118103#118104#118105#118106#118107#118108#1000005#1000008#1000015#1000016#1000028#1000038#118205|118101#118102#118103#118104#118105#118106#118107#118108#118109#1000005#1000008#1000015#1000016#1000028#1000038#1000047#118205|118101#118102#118103#118104#118105#118106#118107#118108#118109#118110#1000005#1000008#1000015#1000016#1000028#1000038#1000047#1000051#118205|118101#118102#118103#118104#118105#118106#118107#118108#118109#118110#118111#1000005#1000008#1000015#1000016#1000028#1000038#1000047#1000051#1000052#118205|1181010#1181020#1181030#1181040#1181050#1181060#1181070#1181071#1181080#1181090#1181100#1181101#1181110#1181111#1000005#1000008#1000015#1000016#1000028#1000038#1000047#1000051#1000052#1000055#118205|1181010#1181020#1181030#1181040#1181050#1181060#1181070#1181071#1181080#1181090#1181100#1181101#1181110#1181111#118205#12000011#1000027#1000016#1000024#1000023#1000015#1000019#1000037#1000046#1000042#1000052#3181010|1181010#1181020#1181030#1181040#1181050#1181060#1181070#1181071#1181080#1181090#1181100#1181101#1181110#1181111#118205#12000011#1000027#1000016#1000024#1000023#1000015#1000019#1000037#1000046#1000042#1000052#3181010#3181020|1181010#1181020#1181030#1181040#1181050#1181060#1181070#1181071#1181080#1181090#1181100#1181101#1181110#1181111#118205#12000011#1000027#1000016#1000024#1000023#1000015#1000019#1000037#1000046#1000042#1000052#3181010#3181020#3181030|1181010#1181020#1181030#1181040#1181050#1181060#1181070#1181071#1181080#1181090#1181100#1181101#1181110#1181111#118205#12000010#1000027#1000016#1000024#1000023#1000015#1000019#1000037#1000046#1000042#1000052#3181010#3181020#3181030#3181040|1181010#1181020#1181030#1181040#1181050#1181060#1181070#1181071#1181080#1181090#1181100#1181101#1181110#1181111#118205#12000010#1000027#1000016#1000024#1000023#1000015#1000019#1000037#1000046#1000042#1000052#3181010#3181020#3181030#3181040#3181050#3181051
A91: =VLOOKUP(C91,[2]HeroConfig!$B:$D,3,FALSE) -> 九天玄女 | B91: 84 | C91: 10090 | D91: 1521#1522 | E91: |152101|152101#152102|152101#152102#152103#152104#1000007|152101#152102#152103#152104#152105#1000007#1000011|152101#152102#152103#152104#152105#152106#1000007#1000011#1000016|152101#152102#152103#152104#152105#152106#152107#1000007#1000011#1000016#1000032#152205|152101#152102#152103#152104#152105#152106#152107#152108#1000007#1000011#1000016#1000032#1000038#1000047#152205|152101#152102#152103#152104#152105#152106#152107#152108#152109#1000007#1000011#1000016#1000032#1000038#1000047#1000050#152205|152101#152102#152103#152104#152105#152106#152107#152108#152109#152110#1000007#1000011#1000016#1000032#1000038#1000047#1000050#1000052#152205|152101#152102#152103#152104#152105#152106#152107#152108#152109#152110#152111#1000007#1000011#1000016#1000032#1000038#1000047#1000050#1000052#1000058#152205|1521010#1521020#1521030#1521040#1521050#1521060#1521070#1521071#1521080#1521090#1521100#1521101#1521110#1000007#1000011#1000016#1000032#1000038#1000047#1000050#1000052#1000058#1000059#152205|1521010#1521020#1521030#1521040#1521050#1521060#1521070#1521071#1521080#1521090#1521100#1521101#1521110#152205#12000011#1000027#1000016#1000049#1000048#1000059#1000058#1000037#1000011#1000042#1000052|1521010#1521020#1521030#1521040#1521050#1521060#1521070#1521071#1521080#1521090#1521100#1521101#1521110#152205#12000011#1000027#1000016#1000049#1000048#1000059#1000058#1000037#1000011#1000042#1000052|1521010#1521020#1521030#1521040#1521050#1521060#1521070#1521071#1521080#1521090#1521100#1521101#1521110#152205#12000011#1000027#1000016#1000049#1000048#1000059#1000058#1000037#1000011#1000042#1000052|1521010#1521020#1521030#1521040#1521050#1521060#1521070#1521071#1521080#1521090#1521100#1521101#1521110#152205#12000010#1000027#1000016#1000049#1000048#1000059#1000058#1000037#1000011#1000042#1000052|1521010#1521020#1521030#1521040#1521050#1521060#1521070#1521071#1521080#1521090#1521100#1521101#1521110#152205#12000010#1000027#1000016#1000049#1000048#1000059#1000058#1000037#1000011#1000042#1000052
A92: =VLOOKUP(C92,[2]HeroConfig!$B:$D,3,FALSE) -> 白骨夫人 | B92: 85 | C92: 10091 | D92: 100911#100912 | E92: |10091101|10091101#10091102|10091101#10091102#10091103#10091104#1000011|10091101#10091102#10091103#10091104#10091105#1000011#1000016|10091101#10091102#10091103#10091104#10091105#10091106#1000011#1000016#1000032|10091101#10091102#10091103#10091104#10091105#10091106#10091107#1000011#1000016#1000032#1000037#10091205#10091206|10091101#10091102#10091103#10091104#10091105#10091106#10091107#10091108#1000011#1000016#1000032#1000037#1000038#1000046#10091205#10091206|10091101#10091102#10091103#10091104#10091105#10091106#10091107#10091108#10091109#1000011#1000016#1000032#1000037#1000038#1000046#1000047#10091205#10091206|10091101#10091102#10091103#10091104#10091105#10091106#10091107#10091108#10091109#10091110#10091111#1000011#1000016#1000032#1000037#1000038#1000046#1000047#1000049#10091205#10091206|10091101#10091102#10091103#10091104#10091105#10091106#10091107#10091108#10091109#10091110#10091111#10091112#10091113#10091114#1000011#1000016#1000032#1000037#1000038#1000046#1000047#1000049#1000050#10091205#10091206|100911010#100911020#100911030#100911040#100911050#100911060#100911071#100911072#100911080#100911090#100911101#100911102#100911111#100911112#1000011#1000016#1000032#1000037#1000038#1000046#1000047#1000049#1000050#1000052#10091205#10091206|100911010#100911020#100911030#100911040#100911050#100911060#100911071#100911072#100911080#100911090#100911101#100911102#100911111#100911112#100911113#100911114#10091205#12000011#1000027#1000016#1000024#1000023#1000064#1000019#1000037#1000011#1000042#1000052|100911010#100911020#100911030#100911040#100911050#100911060#100911071#100911072#100911080#100911090#100911101#100911102#100911111#100911112#100911113#100911114#10091205#12000011#1000027#1000016#1000024#1000023#1000064#1000019#1000037#1000011#1000042#1000052|100911010#100911020#100911030#100911040#100911050#100911060#100911071#100911072#100911080#100911090#100911101#100911102#100911111#100911112#100911113#100911114#10091205#12000011#1000027#1000016#1000024#1000023#1000064#1000019#1000037#1000011#1000042#1000052|100911010#100911020#100911030#100911040#100911050#100911060#100911071#100911072#100911080#100911090#100911101#100911102#100911111#100911112#100911113#100911114#10091205#12000010#1000027#1000016#1000024#1000023#1000064#1000019#1000037#1000011#1000042#1000052|100911010#100911020#100911030#100911040#100911050#100911060#100911071#100911072#100911080#100911090#100911101#100911102#100911111#100911112#100911113#100911114#10091205#12000010#1000027#1000016#1000024#1000023#1000064#1000019#1000037#1000011#1000042#1000052
A93: =VLOOKUP(C93,[2]HeroConfig!$B:$D,3,FALSE) -> 观音菩萨 | B93: 86 | C93: 10092 | D93: 100921#100922 | E93: |10092101|10092101#10092102|10092101#10092102#10092103#10092104#1000011|10092101#10092102#10092103#10092104#10092105#1000011#1000016|10092101#10092102#10092103#10092104#10092105#10092106#1000011#1000016#1000032|10092101#10092102#10092103#10092104#10092105#10092106#10092107#1000011#1000016#1000032#1000037#10092205|10092101#10092102#10092103#10092104#10092105#10092106#10092107#10092108#1000011#1000016#1000032#1000037#1000038#1000046#10092205|10092101#10092102#10092103#10092104#10092105#10092106#10092107#10092108#10092109#1000011#1000016#1000032#1000037#1000038#1000046#1000047#10092205|10092101#10092102#10092103#10092104#10092105#10092106#10092107#10092108#10092109#10092110#1000011#1000016#1000032#1000037#1000038#1000046#1000047#1000049#10092205|10092101#10092102#10092103#10092104#10092105#10092106#10092107#10092108#10092109#10092110#10092111#1000011#1000016#1000032#1000037#1000038#1000046#1000047#1000049#1000050#10092205|100921010#100921020#100921030#100921040#100921050#100921060#100921070#100921080#100921090#100921091#100921100#100921101#100921110#1000011#1000016#1000032#1000037#1000038#1000046#1000047#1000049#1000050#1000052#10092205|100921010#100921020#100921030#100921040#100921050#100921060#100921070#100921080#100921090#100921091#100921100#100921101#100921110#10092205#12000011#1000027#1000016#1000024#1000023#1000019#1000065#1000037#1000046#1000042#1000052|100921010#100921020#100921030#100921040#100921050#100921060#100921070#100921080#100921090#100921091#100921100#100921101#100921110#10092205#12000011#1000027#1000016#1000024#1000023#1000019#1000065#1000037#1000046#1000042#1000052|100921010#100921020#100921030#100921040#100921050#100921060#100921070#100921080#100921090#100921091#100921100#100921101#100921110#10092205#12000011#1000027#1000016#1000024#1000023#1000019#1000065#1000037#1000046#1000042#1000052|100921010#100921020#100921030#100921040#100921050#100921060#100921070#100921080#100921090#100921091#100921100#100921101#100921110#10092205#12000010#1000027#1000016#1000024#1000023#1000019#1000065#1000037#1000046#1000042#1000052|100921010#100921020#100921030#100921040#100921050#100921060#100921070#100921080#100921090#100921091#100921100#100921101#100921110#10092205#12000010#1000027#1000016#1000024#1000023#1000019#1000065#1000037#1000046#1000042#1000052
A94: 阎魔王 | B94: 87 | C94: 10094 | D94: 100941#100942 | E94: |194101|194101#194102|194101#194102#194103#194104#1000027|194101#194102#194103#194104#194105#1000027#1000016|194101#194102#194103#194104#194105#194106#1000027#1000016#1000013|194101#194102#194103#194104#194105#194106#194107#1000027#1000016#1000013#1000024#194205|194101#194102#194103#194104#194105#194106#194107#194108#1000027#1000016#1000013#1000024#1000206#1000015#194205|194101#194102#194103#194104#194105#194106#194107#194108#194109#1000027#1000016#1000013#1000024#1000206#1000015#1000037#194205|194101#194102#194103#194104#194105#194106#194107#194108#194109#194110#1000027#1000016#1000013#1000024#1000206#1000015#1000037#1000011#194205|194101#194102#194103#194104#194105#194106#194107#194108#194109#194110#194111#1000027#1000016#1000013#1000024#1000206#1000015#1000037#1000011#1000042#194205|1941010#1941020#1941030#1941040#1941050#1941060#1941070#1941080#1941090#1941100#1941101#1941110#1000027#1000016#1000013#1000024#1000206#1000015#1000037#1000011#1000042#1000052#194205|1941010#1941020#1941030#1941040#1941050#1941060#1941070#1941080#1941090#1941100#1941101#1941110#1000027#1000016#1000013#1000024#1000206#1000015#1000037#1000011#1000042#1000052#194205|1941010#1941020#1941030#1941040#1941050#1941060#1941070#1941080#1941090#1941100#1941101#1941110#1000027#1000016#1000013#1000024#1000206#1000015#1000037#1000011#1000042#1000052#194205|1941010#1941020#1941030#1941040#1941050#1941060#1941070#1941080#1941090#1941100#1941101#1941110#1000027#1000016#1000013#1000024#1000206#1000015#1000037#1000011#1000042#1000052#194205#1941124|1941010#1941020#1941030#1941040#1941050#1941060#1941070#1941080#1941090#1941100#1941101#1941110#1000027#1000016#1000013#1000024#1000206#1000015#1000037#1000011#1000042#1000052#194205#1941124|1941010#1941020#1941030#1941040#1941050#1941060#1941070#1941080#1941090#1941100#1941101#1941110#1000027#1000016#1000013#1000024#1000206#1000015#1000037#1000011#1000042#1000052#194205#1941124#1941126
A95: 女娲 | B95: 88 | C95: 10093 | D95: 100931#100932 | E95: |153101|153101#153102|153101#153102#153103#153104#1000011|153101#153102#153103#153104#153105#1000011#1000016|153101#153102#153103#153104#153105#153106#1000011#1000016#1000032|153101#153102#153103#153104#153105#153106#153107#1000011#1000016#1000032#1000037#153205|153101#153102#153103#153104#153105#153106#153107#153108#1000011#1000016#1000032#1000037#1000038#1000046#153205|153101#153102#153103#153104#153105#153106#153107#153108#153109#1000011#1000016#1000032#1000037#1000038#1000046#1000047#153205|153101#153102#153103#153104#153105#153106#153107#153108#153109#153110#1000011#1000016#1000032#1000037#1000038#1000046#1000047#1000049#153205|153101#153102#153103#153104#153105#153106#153107#153108#153109#153110#153111#1000011#1000016#1000032#1000037#1000038#1000046#1000047#1000049#1000050#153205|1531010#1531020#1531030#1531040#1531050#1531060#1531070#1531071#1531080#1531090#1531100#1531110#1000011#1000016#1000032#1000037#1000038#1000046#1000047#1000049#1000050#1000052#153205|1531010#1531020#1531030#1531040#1531050#1531060#1531070#1531071#1531080#1531090#1531100#1531110#1000011#1000016#1000032#1000037#1000038#1000046#1000047#1000049#1000050#1000052#153205|1531010#1531020#1531030#1531040#1531050#1531060#1531070#1531071#1531080#1531090#1531100#1531110#1000011#1000016#1000032#1000037#1000038#1000046#1000047#1000049#1000050#1000052#153205|1531010#1531020#1531030#1531040#1531050#1531060#1531070#1531071#1531080#1531090#1531100#1531110#1000011#1000016#1000032#1000037#1000038#1000046#1000047#1000049#1000050#1000052#153205#1531124|1531010#1531020#1531030#1531040#1531050#1531060#1531070#1531071#1531080#1531090#1531100#1531110#1000011#1000016#1000032#1000037#1000038#1000046#1000047#1000049#1000050#1000052#153205#1531124|1531010#1531020#1531030#1531040#1531050#1531060#1531070#1531071#1531080#1531090#1531100#1531110#1000011#1000016#1000032#1000037#1000038#1000046#1000047#1000049#1000050#1000052#153205#1531124#1531126
A96: 齐天·悟空 | B96: 89 | C96: 10095 | D96: 100951#100952 | E96: |153401|153401#153402|153401#153402#153403#153404#1000201|153401#153402#153403#153404#153405#1000201#200015|153401#153402#153403#153404#153405#153406#1000201#200015#1201445|153401#153402#153403#153404#153405#153406#153407#1000201#200015#1201445#1000050#153505#153516|153401#153402#153403#153404#153405#153406#153407#153408#1000201#200015#1201445#1000050#1000027#153505#153516|153401#153402#153403#153404#153405#153406#153407#153408#153409#1000201#200015#1201445#1000050#1000027#1000038#153505#153516|153401#153402#153403#153404#153405#153406#153407#153408#153409#153410#1000201#200015#1201445#1000050#1000027#1000038#1000052#153505#153516|153401#153402#153403#153404#153405#153406#153407#153408#153409#153410#153411#1000201#200015#1201445#1000050#1000027#1000038#1000052#1000046#153505#153516#12000011|1534010#1534020#1534030#1534040#1534050#1534060#1534070#1534071#1534072#1534080#1534090#1534091#1534100#1534110#1000201#200015#1201445#1000050#1000027#1000038#1000052#1000046#1000042#153505#153516#12000011|1534010#1534020#1534030#1534040#1534050#1534060#1534070#1534071#1534072#1534080#1534090#1534091#1534100#1534110#1534120#1000201#200015#1201445#1000050#1000027#1000038#1000052#1000046#1000042#1201446#153505#153516#12000011|1534010#1534020#1534030#1534040#1534050#1534060#1534070#1534071#1534072#1534080#1534090#1534091#1534100#1534110#1534120#1534130#1534140#1534150#1000201#200015#1201445#1000050#1000027#1000038#1000052#1000046#1000042#1201446#153505#153516#12000011|1534010#1534020#1534030#1534040#1534050#1534060#1534070#1534071#1534072#1534080#1534090#1534091#1534100#1534110#1534120#1534130#1534140#1534150#1534160#1000201#200015#1201445#1000050#1000027#1000038#1000052#1000046#1000042#1201446#153505#153516#12000011|1534010#1534020#1534030#1534040#1534050#1534060#1534070#1534071#1534072#1534080#1534090#1534091#1534100#1534110#1534120#1534130#1534140#1534150#1534160#1534170#1000201#200015#1201445#1000050#1000027#1000038#1000052#1000046#1000042#1201446#153505#153516#12000011|1534010#1534020#1534030#1534040#1534050#1534060#1534070#1534071#1534072#1534080#1534090#1534091#1534100#1534110#1534120#1534130#1534140#1534150#1534160#1534170#1534180#1000201#200015#1201445#1000050#1000027#1000038#1000052#1000046#1000042#1201446#153505#153516#12000011
A97: 天蓬·悟能 | B97: 90 | C97: 10096 | D97: 100961#100962 | E97: |153601|153601#153602|153601#153602#153603#153604#1000027|153601#153602#153603#153604#153605#1000027#1000028|153601#153602#153603#153604#153605#153606#1000027#1000028#1000015|153601#153602#153603#153604#153605#153606#153607#1000027#1000028#1000015#1000023#153705|153601#153602#153603#153604#153605#153606#153607#153608#1000027#1000028#1000015#1000023#1000054#153705|153601#153602#153603#153604#153605#153606#153607#153608#153609#1000027#1000028#1000015#1000023#1000054#1000053#153705|153601#153602#153603#153604#153605#153606#153607#153608#153609#153610#1000027#1000028#1000015#1000023#1000054#1000053#1000037#153705|153601#153602#153603#153604#153605#153606#153607#153608#153609#153610#153611#1000027#1000028#1000015#1000023#1000054#1000053#1000037#1000055#153705#3000004|1535010#1535020#1535030#1535040#1535050#1535060#1535070#1535080#1535090#1535100#1535110#1535111#1535112#1000027#1000028#1000015#1000023#1000054#1000053#1000037#1000055#1000042#153705#3000004|1535010#1535020#1535030#1535040#1535050#1535060#1535070#1535080#1535090#1535100#1535110#1535111#1535112#1535120#1000027#1000028#1000015#1000023#1000054#1000053#1000037#1000055#1000042#1000052#153705#3000004|1535010#1535020#1535030#1535040#1535050#1535060#1535070#1535080#1535090#1535100#1535110#1535111#1535112#1535120#1535130#1535140#1535150#1000027#1000028#1000015#1000023#1000054#1000053#1000037#1000055#1000042#1000052#153705#3000004|1535010#1535020#1535030#1535040#1535050#1535060#1535070#1535080#1535090#1535100#1535110#1535111#1535112#1535120#1535130#1535140#1535150#1535160#1000027#1000028#1000015#1000023#1000054#1000053#1000037#1000055#1000042#1000052#153705#3000004|1535010#1535020#1535030#1535040#1535050#1535060#1535070#1535080#1535090#1535100#1535110#1535111#1535112#1535120#1535130#1535140#1535150#1535160#1535170#1000027#1000028#1000015#1000023#1000054#1000053#1000037#1000055#1000042#1000052#153705#3000004|1535010#1535020#1535030#1535040#1535050#1535060#1535070#1535080#1535090#1535100#1535110#1535111#1535112#1535120#1535130#1535140#1535150#1535160#1535170#1535180#1000027#1000028#1000015#1000023#1000054#1000053#1000037#1000055#1000042#1000052#153705#3000004
A98: 玲珑·女王 | B98: 91 | C98: 10097 | D98: 100971#100972 | E98: |153821#153801|153821#153801#153802|153821#153801#153802#153803#153804#1000027|153821#153801#153802#153803#153804#153805#1000027#1000016|153821#153801#153802#153803#153804#153805#153806#1000027#1000016#1000024|153821#153801#153802#153803#153804#153805#153806#153807#153812#1000027#1000016#1000024#1000023#153820|153821#153801#153802#153803#153804#153805#153806#153807#153812#153808#1000027#1000016#1000024#1000023#1000015#153820|153821#153801#153802#153803#153804#153805#153806#153807#153812#153808#153809#1000027#1000016#1000024#1000023#1000015#1000019#153820|153821#153801#153802#153803#153804#153805#153806#153807#153812#153808#153809#153810#153813#1000027#1000016#1000024#1000023#1000015#1000019#1000037#153820|153821#153801#153802#153803#153804#153805#153806#153807#153812#153808#153809#153810#153813#153811#153814#1000027#1000016#1000024#1000023#1000015#1000019#1000037#1000046#153820#12000010|153821#1538010#1538020#1538030#1538040#1538050#1538060#1538070#1538071#1538080#1538090#1538100#1538101#1538110#1538111#1000027#1000016#1000024#1000023#1000015#1000019#1000037#1000046#1000042#153820#12000010|153821#1538010#1538020#1538030#1538040#1538050#1538060#1538070#1538071#1538080#1538090#1538100#1538101#1538110#1538111#1538120#1538121#1000027#1000016#1000024#1000023#1000015#1000019#1000037#1000046#1000042#1000052#153820#12000010|153821#1538010#1538020#1538030#1538040#1538050#1538060#1538070#1538071#1538080#1538090#1538100#1538101#1538110#1538111#1538120#1538121#1538130#1538140#1538150#1000027#1000016#1000024#1000023#1000015#1000019#1000037#1000046#1000042#1000052#153820#12000010|153821#1538010#1538020#1538030#1538040#1538050#1538060#1538070#1538071#1538080#1538090#1538100#1538101#1538110#1538111#1538120#1538121#1538130#1538140#1538150#1538160#1000027#1000016#1000024#1000023#1000015#1000019#1000037#1000046#1000042#1000052#153820#12000010|153821#1538010#1538020#1538030#1538040#1538050#1538060#1538070#1538071#1538080#1538090#1538100#1538101#1538110#1538111#1538120#1538121#1538130#1538140#1538150#1538160#1538170#1000027#1000016#1000024#1000023#1000015#1000019#1000037#1000046#1000042#1000052#153820#12000010|153821#1538010#1538020#1538030#1538040#1538050#1538060#1538070#1538071#1538080#1538090#1538100#1538101#1538110#1538111#1538120#1538121#1538130#1538140#1538150#1538160#1538170#1538180#1538181#1000027#1000016#1000024#1000023#1000015#1000019#1000037#1000046#1000042#1000052#153820#12000010
A99: 魔心·帝君 | B99: 92 | C99: 10098 | D99: 100981#100982 | E99: |153821#153801|153821#153801#153802|153821#153801#153802#153803#153804#1000027|153821#153801#153802#153803#153804#153805#1000027#1000016|153821#153801#153802#153803#153804#153805#153806#1000027#1000016#1000024|153821#153801#153802#153803#153804#153805#153806#153807#153812#1000027#1000016#1000024#1000023#153820|153821#153801#153802#153803#153804#153805#153806#153807#153812#153808#1000027#1000016#1000024#1000023#1000015#153820|153821#153801#153802#153803#153804#153805#153806#153807#153812#153808#153809#1000027#1000016#1000024#1000023#1000015#1000019#153820|153821#153801#153802#153803#153804#153805#153806#153807#153812#153808#153809#153810#153813#1000027#1000016#1000024#1000023#1000015#1000019#1000037#153820|153821#153801#153802#153803#153804#153805#153806#153807#153812#153808#153809#153810#153813#153811#153814#1000027#1000016#1000024#1000023#1000015#1000019#1000037#1000046#153820#12000010|153821#1538010#1538020#1538030#1538040#1538050#1538060#1538070#1538071#1538080#1538090#1538100#1538101#1538110#1538111#1000027#1000016#1000024#1000023#1000015#1000019#1000037#1000046#1000042#153820#12000010|153821#1538010#1538020#1538030#1538040#1538050#1538060#1538070#1538071#1538080#1538090#1538100#1538101#1538110#1538111#1538120#1538121#1000027#1000016#1000024#1000023#1000015#1000019#1000037#1000046#1000042#1000052#153820#12000010|153821#1538010#1538020#1538030#1538040#1538050#1538060#1538070#1538071#1538080#1538090#1538100#1538101#1538110#1538111#1538120#1538121#1538130#1538140#1538150#1000027#1000016#1000024#1000023#1000015#1000019#1000037#1000046#1000042#1000052#153820#12000010|153821#1538010#1538020#1538030#1538040#1538050#1538060#1538070#1538071#1538080#1538090#1538100#1538101#1538110#1538111#1538120#1538121#1538130#1538140#1538150#1538160#1000027#1000016#1000024#1000023#1000015#1000019#1000037#1000046#1000042#1000052#153820#12000010|153821#1538010#1538020#1538030#1538040#1538050#1538060#1538070#1538071#1538080#1538090#1538100#1538101#1538110#1538111#1538120#1538121#1538130#1538140#1538150#1538160#1538170#1000027#1000016#1000024#1000023#1000015#1000019#1000037#1000046#1000042#1000052#153820#12000010|153821#1538010#1538020#1538030#1538040#1538050#1538060#1538070#1538071#1538080#1538090#1538100#1538101#1538110#1538111#1538120#1538121#1538130#1538140#1538150#1538160#1538170#1538180#1538181#1000027#1000016#1000024#1000023#1000015#1000019#1000037#1000046#1000042#1000052#153820#12000010
A100: 巧变·牛魔 | B100: 93 | C100: 10099 | D100: 100991#100992 | E100: |153821#153801|153821#153801#153802|153821#153801#153802#153803#153804#1000027|153821#153801#153802#153803#153804#153805#1000027#1000016|153821#153801#153802#153803#153804#153805#153806#1000027#1000016#1000024|153821#153801#153802#153803#153804#153805#153806#153807#153812#1000027#1000016#1000024#1000023#153820|153821#153801#153802#153803#153804#153805#153806#153807#153812#153808#1000027#1000016#1000024#1000023#1000015#153820|153821#153801#153802#153803#153804#153805#153806#153807#153812#153808#153809#1000027#1000016#1000024#1000023#1000015#1000019#153820|153821#153801#153802#153803#153804#153805#153806#153807#153812#153808#153809#153810#153813#1000027#1000016#1000024#1000023#1000015#1000019#1000037#153820|153821#153801#153802#153803#153804#153805#153806#153807#153812#153808#153809#153810#153813#153811#153814#1000027#1000016#1000024#1000023#1000015#1000019#1000037#1000046#153820#12000010|153821#1538010#1538020#1538030#1538040#1538050#1538060#1538070#1538071#1538080#1538090#1538100#1538101#1538110#1538111#1000027#1000016#1000024#1000023#1000015#1000019#1000037#1000046#1000042#153820#12000010|153821#1538010#1538020#1538030#1538040#1538050#1538060#1538070#1538071#1538080#1538090#1538100#1538101#1538110#1538111#1538120#1538121#1000027#1000016#1000024#1000023#1000015#1000019#1000037#1000046#1000042#1000052#153820#12000010|153821#1538010#1538020#1538030#1538040#1538050#1538060#1538070#1538071#1538080#1538090#1538100#1538101#1538110#1538111#1538120#1538121#1538130#1538140#1538150#1000027#1000016#1000024#1000023#1000015#1000019#1000037#1000046#1000042#1000052#153820#12000010|153821#1538010#1538020#1538030#1538040#1538050#1538060#1538070#1538071#1538080#1538090#1538100#1538101#1538110#1538111#1538120#1538121#1538130#1538140#1538150#1538160#1000027#1000016#1000024#1000023#1000015#1000019#1000037#1000046#1000042#1000052#153820#12000010|153821#1538010#1538020#1538030#1538040#1538050#1538060#1538070#1538071#1538080#1538090#1538100#1538101#1538110#1538111#1538120#1538121#1538130#1538140#1538150#1538160#1538170#1000027#1000016#1000024#1000023#1000015#1000019#1000037#1000046#1000042#1000052#153820#12000010|153821#1538010#1538020#1538030#1538040#1538050#1538060#1538070#1538071#1538080#1538090#1538100#1538101#1538110#1538111#1538120#1538121#1538130#1538140#1538150#1538160#1538170#1538180#1538181#1000027#1000016#1000024#1000023#1000015#1000019#1000037#1000046#1000042#1000052#153820#12000010

Sheet Sheet1
I1: =IF($J6<>"",S6,"") -> 103101#103102#103103#103104#103105#103106#103107#103108#103109#103110#103111 | J1: 被动组 | U1: 神兵组 | V1: 锦囊组
J2: 30 | K2: 40 | L2: 60 | M2: 80 | N2: 100 | O2: 145 | P2: 165 | Q2: 185 | R2: 205 | S2: 255 | U2: 120 | V2: 70 | W2: 85 | X2: 100 | Y2: 120 | Z2: 140 | AA2: 160 | AB2: 180 | AC2: 200 | AD2: 220 | AE2: 240 | AM2: 跳过了锦囊5
J3: 品阶1 | K3: 品阶2 | L3: 品阶3 | M3: 品阶4 | N3: 品阶5 | O3: 6星 | P3: 7星 | Q3: 8星 | R3: 9星 | S3: 10星 | U3: 6星 | V3: 70 | W3: 85 | X3: 100 | Y3: 120 | Z3: 140 | AA3: 160 | AB3: 180 | AC3: 200 | AD3: 220 | AE3: 240 | AF3: 1 | AG3: 2 | AH3: 3 | AI3: 4 | AJ3: 5 | AK3: 6 | AL3: 7 | AM3: 8 | AN3: 9 | AO3: 10 | AP3: 11 | AQ3: 12 | AR3: &"|"&
A4: 模板ID | B4: 名称 | C4: 霸王名称 | D4: 阵营 | E4: 初始星级 | F4: 主动技能 | G4: 职业定位 | H4: 目标选择 | I4: 伤害类型 | J4: 被动1 | K4: 被动2 | L4: 被动3 | M4: 被动4 | N4: 被动5 | O4: 被动6 | P4: 被动7 | Q4: 被动8 | R4: 被动9 | S4: 被动10 | T4: 觉醒 | U4: 神兵 | V4: 锦囊1 | W4: 锦囊2 | X4: 锦囊3 | Y4: 锦囊4 | Z4: 锦囊5 | AA4: 锦囊6 | AB4: 锦囊7 | AC4: 锦囊8 | AD4: 锦囊9 | AE4: 锦囊10 | AF4: 1~29 | AG4: 30~39 | AH4: 40~59 | AI4: 60~79 | AJ4: 80~99 | AK4: 100~144 | AL4: 145~164 | AM4: 165~184 | AN4: 185~204 | AO4: 205~244 | AP4: 245~329 | AQ4: 330~600 | AR4: 实装
A5: 10001 | B5: 伏羲 | C5: 孙策 | D5: 1 | E5: 5 | F5: 1271#1272 | G5: 2 | H5: 后排 | I5: 物理 | J5: 127101 | K5: 127101#127102 | L5: 127101#127102#127103#127104 | M5: 127101#127102#127103#127104#127105 | N5: 127101#127102#127103#127104#127105#127106 | O5: 127101#127102#127103#127104#127105#127106#127107 | P5: 127101#127102#127103#127104#127105#127106#127107#127108 | Q5: 127101#127102#127103#127104#127105#127106#127107#127108#127109 | R5: 127101#127102#127103#127104#127105#127106#127107#127108#127109#127110 | S5: 127101#127102#127103#127104#127105#127106#127107#127108#127109#127110#127111 | T5: 1271010#1271020#1271030#1271040#1271050#1271060#1271070#1271071#1271080#1271090#1271100#1271110#1271111#1271112 | U5: 127205 | V5: 1000007 | W5: 1000007#1000011 | X5: 1000007#1000011#1000016 | Y5: 1000007#1000011#1000016#1000032 | Z5: 1000007#1000011#1000016#1000032#1000038 | AA5: 1000007#1000011#1000016#1000032#1000038#1000046 | AB5: 1000007#1000011#1000016#1000032#1000038#1000046#1000047 | AC5: 1000007#1000011#1000016#1000032#1000038#1000046#1000047#1000048 | AD5: 1000007#1000011#1000016#1000032#1000038#1000046#1000047#1000048#1000050 | AE5: 1000007#1000011#1000016#1000032#1000038#1000046#1000047#1000048#1000050#1000052 | AF5: ="" | AG5: =IF($J5<>"",J5,"") -> 127101 | AH5: =IF($J5<>"",K5,"") -> 127101#127102 | AI5: =IF($J5<>"",L5,"")&IF($V5<>"","#"&V5,"") -> 127101#127102#127103#127104#1000007 | AJ5: =IF($J5<>"",M5,"")&IF($V5<>"","#"&W5,"") -> 127101#127102#127103#127104#127105#1000007#1000011 | AK5: =IF($J5<>"",N5,"")&IF($V5<>"","#"&X5,"") -> 127101#127102#127103#127104#127105#127106#1000007#1000011#1000016 | AL5: =IF($J5<>"",O5,"")&IF($V5<>"","#"&Y5,"")&IF($U5<>"","#"&$U5,"") -> 127101#127102#127103#127104#127105#127106#127107#1000007#1000011#1000016#1000032#127205 | AM5: =IF($J5<>"",P5,"")&IF($V5<>"","#"&AA5,"")&IF($U5<>"","#"&$U5,"") -> 127101#127102#127103#127104#127105#127106#127107#127108#1000007#1000011#1000016#1000032#1000038#1000046#127205 | AN5: =IF($J5<>"",Q5,"")&IF($V5<>"","#"&AB5,"")&IF($U5<>"","#"&$U5,"") -> 127101#127102#127103#127104#127105#127106#127107#127108#127109#1000007#1000011#1000016#1000032#1000038#1000046#1000047#127205 | AO5: =IF($J5<>"",R5,"")&IF($V5<>"","#"&AC5,"")&IF($U5<>"","#"&$U5,"") -> 127101#127102#127103#127104#127105#127106#127107#127108#127109#127110#1000007#1000011#1000016#1000032#1000038#1000046#1000047#1000048#127205 | AP5: =IF($J5<>"",S5,"")&IF($V5<>"","#"&AD5,"")&IF($U5<>"","#"&$U5,"") -> 127101#127102#127103#127104#127105#127106#127107#127108#127109#127110#127111#1000007#1000011#1000016#1000032#1000038#1000046#1000047#1000048#1000050#127205 | AQ5: =IF($J5<>"",T5,"")&IF($V5<>"","#"&AE5,"")&IF($U5<>"","#"&$U5,"") -> 1271010#1271020#1271030#1271040#1271050#1271060#1271070#1271071#1271080#1271090#1271100#1271110#1271111#1271112#1000007#1000011#1000016#1000032#1000038#1000046#1000047#1000048#1000050#1000052#127205 | AR5: ="|"&AG5&"|"&AH5&"|"&AI5&"|"&AJ5&"|"&AK5&"|"&AL5&"|"&AM5&"|"&AN5&"|"&AO5&"|"&AP5&"|"&AQ5 -> |127101|127101#127102|127101#127102#127103#127104#1000007|127101#127102#127103#127104#127105#1000007#1000011|127101#127102#127103#127104#127105#127106#1000007#1000011#1000016|127101#127102#127103#127104#127105#127106#127107#1000007#1000011#1000016#1000032#127205|127101#127102#127103#127104#127105#127106#127107#127108#1000007#1000011#1000016#1000032#1000038#1000046#127205|127101#127102#127103#127104#127105#127106#127107#127108#127109#1000007#1000011#1000016#1000032#1000038#1000046#1000047#127205|127101#127102#127103#127104#127105#127106#127107#127108#127109#127110#1000007#1000011#1000016#1000032#1000038#1000046#1000047#1000048#127205|127101#127102#127103#127104#127105#127106#127107#127108#127109#127110#127111#1000007#1000011#1000016#1000032#1000038#1000046#1000047#1000048#1000050#127205|1271010#1271020#1271030#1271040#1271050#1271060#1271070#1271071#1271080#1271090#1271100#1271110#1271111#1271112#1000007#1000011#1000016#1000032#1000038#1000046#1000047#1000048#1000050#1000052#127205
A6: 10002 | B6: 洛神 | C6: 张辽 | D6: 3 | E6: 5 | F6: 1031#1032 | G6: 2 | H6: 后排 | I6: 物理 | J6: 103101 | K6: 103101#103102 | L6: 103101#103102#103103#103104 | M6: 103101#103102#103103#103104#103105 | N6: 103101#103102#103103#103104#103105#103106 | O6: 103101#103102#103103#103104#103105#103106#103107 | P6: 103101#103102#103103#103104#103105#103106#103107#103108 | Q6: 103101#103102#103103#103104#103105#103106#103107#103108#103109 | R6: 103101#103102#103103#103104#103105#103106#103107#103108#103109#103110 | S6: 103101#103102#103103#103104#103105#103106#103107#103108#103109#103110#103111 | T6: 1031010#1031020#1031030#1031040#1031050#1031060#1031070#1031071#1031080#1031090#1031100#1031101#1031110#1031111 | U6: 103205 | V6: 1000007 | W6: 1000007#1000011 | X6: 1000007#1000011#1000016 | Y6: 1000007#1000011#1000016#1000032 | Z6: 1000007#1000011#1000016#1000032#1000038 | AA6: 1000007#1000011#1000016#1000032#1000038#1000046 | AB6: 1000007#1000011#1000016#1000032#1000038#1000046#1000047 | AC6: 1000007#1000011#1000016#1000032#1000038#1000046#1000047#1000048 | AD6: 1000007#1000011#1000016#1000032#1000038#1000046#1000047#1000048#1000050 | AE6: 1000007#1000011#1000016#1000032#1000038#1000046#1000047#1000048#1000050#1000052 | AF6: ="" | AG6: =IF($J6<>"",J6,"") -> 103101 | AH6: =IF($J6<>"",K6,"") -> 103101#103102 | AI6: =IF($J6<>"",L6,"")&IF($V6<>"","#"&V6,"") -> 103101#103102#103103#103104#1000007 | AJ6: =IF($J6<>"",M6,"")&IF($V6<>"","#"&W6,"") -> 103101#103102#103103#103104#103105#1000007#1000011 | AK6: =IF($J6<>"",N6,"")&IF($V6<>"","#"&X6,"") -> 103101#103102#103103#103104#103105#103106#1000007#1000011#1000016 | AL6: =IF($J6<>"",O6,"")&IF($V6<>"","#"&Y6,"")&IF($U6<>"","#"&$U6,"") -> 103101#103102#103103#103104#103105#103106#103107#1000007#1000011#1000016#1000032#103205 | AM6: =IF($J6<>"",P6,"")&IF($V6<>"","#"&AA6,"")&IF($U6<>"","#"&$U6,"") -> 103101#103102#103103#103104#103105#103106#103107#103108#1000007#1000011#1000016#1000032#1000038#1000046#103205 | AN6: =IF($J6<>"",Q6,"")&IF($V6<>"","#"&AB6,"")&IF($U6<>"","#"&$U6,"") -> 103101#103102#103103#103104#103105#103106#103107#103108#103109#1000007#1000011#1000016#1000032#1000038#1000046#1000047#103205 | AO6: =IF($J6<>"",R6,"")&IF($V6<>"","#"&AC6,"")&IF($U6<>"","#"&$U6,"") -> 103101#103102#103103#103104#103105#103106#103107#103108#103109#103110#1000007#1000011#1000016#1000032#1000038#1000046#1000047#1000048#103205 | AP6: =IF($J6<>"",S6,"")&IF($V6<>"","#"&AD6,"")&IF($U6<>"","#"&$U6,"") -> 103101#103102#103103#103104#103105#103106#103107#103108#103109#103110#103111#1000007#1000011#1000016#1000032#1000038#1000046#1000047#1000048#1000050#103205 | AQ6: =IF($J6<>"",T6,"")&IF($V6<>"","#"&AE6,"")&IF($U6<>"","#"&$U6,"") -> 1031010#1031020#1031030#1031040#1031050#1031060#1031070#1031071#1031080#1031090#1031100#1031101#1031110#1031111#1000007#1000011#1000016#1000032#1000038#1000046#1000047#1000048#1000050#1000052#103205 | AR6: ="|"&AG6&"|"&AH6&"|"&AI6&"|"&AJ6&"|"&AK6&"|"&AL6&"|"&AM6&"|"&AN6&"|"&AO6&"|"&AP6&"|"&AQ6 -> |103101|103101#103102|103101#103102#103103#103104#1000007|103101#103102#103103#103104#103105#1000007#1000011|103101#103102#103103#103104#103105#103106#1000007#1000011#1000016|103101#103102#103103#103104#103105#103106#103107#1000007#1000011#1000016#1000032#103205|103101#103102#103103#103104#103105#103106#103107#103108#1000007#1000011#1000016#1000032#1000038#1000046#103205|103101#103102#103103#103104#103105#103106#103107#103108#103109#1000007#1000011#1000016#1000032#1000038#1000046#1000047#103205|103101#103102#103103#103104#103105#103106#103107#103108#103109#103110#1000007#1000011#1000016#1000032#1000038#1000046#1000047#1000048#103205|103101#103102#103103#103104#103105#103106#103107#103108#103109#103110#103111#1000007#1000011#1000016#1000032#1000038#1000046#1000047#1000048#1000050#103205|1031010#1031020#1031030#1031040#1031050#1031060#1031070#1031071#1031080#1031090#1031100#1031101#1031110#1031111#1000007#1000011#1000016#1000032#1000038#1000046#1000047#1000048#1000050#1000052#103205
A7: 10003 | B7: 猪八戒 | C7: 夏侯惇 | D7: 3 | E7: 5 | F7: 1061#1062 | G7: 1 | H7: 纵排 | I7: 物理 | J7: 106101 | K7: 106101#106102 | L7: 106101#106102#106103#106104 | M7: 106101#106102#106103#106104#106105 | N7: 106101#106102#106103#106104#106105#106106 | O7: 106101#106102#106103#106104#106105#106106#106107 | P7: 106101#106102#106103#106104#106105#106106#106107#106108 | Q7: 106101#106102#106103#106104#106105#106106#106107#106108#106109 | R7: 106101#106102#106103#106104#106105#106106#106107#106108#106109#106110 | S7: 106101#106102#106103#106104#106105#106106#106108#106109#106110#106111 | T7: 1061010#1061020#1061030#1061040#1061050#1061060#1061070#1061080#1061090#1061100#1061110 | U7: 106205 | V7: 1000005 | W7: 1000005#1000010 | X7: 1000005#1000010#1000015 | Y7: 1000005#1000010#1000015#1000016 | Z7: 1000005#1000010#1000015#1000016#1000028 | AA7: 1000005#1000010#1000015#1000016#1000028#1000047 | AB7: 1000005#1000010#1000015#1000016#1000028#1000047#1000052 | AC7: 1000005#1000010#1000015#1000016#1000028#1000047#1000052#1000053 | AD7: 1000005#1000010#1000015#1000016#1000028#1000047#1000052#1000053#1000054 | AE7: 1000005#1000010#1000015#1000016#1000028#1000047#1000052#1000053#1000054#1000055 | AF7: ="" | AG7: =IF($J7<>"",J7,"") -> 106101 | AH7: =IF($J7<>"",K7,"") -> 106101#106102 | AI7: =IF($J7<>"",L7,"")&IF($V7<>"","#"&V7,"") -> 106101#106102#106103#106104#1000005 | AJ7: =IF($J7<>"",M7,"")&IF($V7<>"","#"&W7,"") -> 106101#106102#106103#106104#106105#1000005#1000010 | AK7: =IF($J7<>"",N7,"")&IF($V7<>"","#"&X7,"") -> 106101#106102#106103#106104#106105#106106#1000005#1000010#1000015 | AL7: =IF($J7<>"",O7,"")&IF($V7<>"","#"&Y7,"")&IF($U7<>"","#"&$U7,"") -> 106101#106102#106103#106104#106105#106106#106107#1000005#1000010#1000015#1000016#106205 | AM7: =IF($J7<>"",P7,"")&IF($V7<>"","#"&AA7,"")&IF($U7<>"","#"&$U7,"") -> 106101#106102#106103#106104#106105#106106#106107#106108#1000005#1000010#1000015#1000016#1000028#1000047#106205 | AN7: =IF($J7<>"",Q7,"")&IF($V7<>"","#"&AB7,"")&IF($U7<>"","#"&$U7,"") -> 106101#106102#106103#106104#106105#106106#106107#106108#106109#1000005#1000010#1000015#1000016#1000028#1000047#1000052#106205 | AO7: =IF($J7<>"",R7,"")&IF($V7<>"","#"&AC7,"")&IF($U7<>"","#"&$U7,"") -> 106101#106102#106103#106104#106105#106106#106107#106108#106109#106110#1000005#1000010#1000015#1000016#1000028#1000047#1000052#1000053#106205 | AP7: =IF($J7<>"",S7,"")&IF($V7<>"","#"&AD7,"")&IF($U7<>"","#"&$U7,"") -> 106101#106102#106103#106104#106105#106106#106108#106109#106110#106111#1000005#1000010#1000015#1000016#1000028#1000047#1000052#1000053#1000054#106205 | AQ7: =IF($J7<>"",T7,"")&IF($V7<>"","#"&AE7,"")&IF($U7<>"","#"&$U7,"") -> 1061010#1061020#1061030#1061040#1061050#1061060#1061070#1061080#1061090#1061100#1061110#1000005#1000010#1000015#1000016#1000028#1000047#1000052#1000053#1000054#1000055#106205 | AR7: ="|"&AG7&"|"&AH7&"|"&AI7&"|"&AJ7&"|"&AK7&"|"&AL7&"|"&AM7&"|"&AN7&"|"&AO7&"|"&AP7&"|"&AQ7 -> |106101|106101#106102|106101#106102#106103#106104#1000005|106101#106102#106103#106104#106105#1000005#1000010|106101#106102#106103#106104#106105#106106#1000005#1000010#1000015|106101#106102#106103#106104#106105#106106#106107#1000005#1000010#1000015#1000016#106205|106101#106102#106103#106104#106105#106106#106107#106108#1000005#1000010#1000015#1000016#1000028#1000047#106205|106101#106102#106103#106104#106105#106106#106107#106108#106109#1000005#1000010#1000015#1000016#1000028#1000047#1000052#106205|106101#106102#106103#106104#106105#106106#106107#106108#106109#106110#1000005#1000010#1000015#1000016#1000028#1000047#1000052#1000053#106205|106101#106102#106103#106104#106105#106106#106108#106109#106110#106111#1000005#1000010#1000015#1000016#1000028#1000047#1000052#1000053#1000054#106205|1061010#1061020#1061030#1061040#1061050#1061060#1061070#1061080#1061090#1061100#1061110#1000005#1000010#1000015#1000016#1000028#1000047#1000052#1000053#1000054#1000055#106205
A8: 10004 | B8: 慈航道人 | C8: 大乔 | D8: 1 | E8: 5 | F8: 1291#1292 | G8: 4 | H8: 全体 | I8: 其他 | J8: 129101 | K8: 129101#129102 | L8: 129101#129102#129103#129104 | M8: 129101#129102#129103#129104#129105 | N8: 129101#129102#129103#129104#129105#129106 | O8: 129101#129102#129103#129104#129105#129106#129107 | P8: 129101#129102#129103#129104#129105#129106#129107#129108 | Q8: 129101#129102#129103#129104#129105#129106#129107#129108#129109 | R8: 129101#129102#129103#129104#129105#129106#129108#129109#129110 | S8: 129101#129102#129103#129104#129105#129106#129108#129109#129110#129111 | T8: 1291010#1291020#1291030#1291040#1291050#1291060#1291070#1291080#1291090#1291100#1291110#1291111 | U8: 129205 | V8: 1000005 | W8: 1000005#1000008 | X8: 1000005#1000008#1000011 | Y8: 1000005#1000008#1000011#1000016 | Z8: 1000005#1000008#1000011#1000016#1000022 | AA8: 1000005#1000008#1000011#1000016#1000022#1000038 | AB8: 1000005#1000008#1000011#1000016#1000022#1000038#1000045 | AC8: 1000005#1000008#1000011#1000016#1000022#1000038#1000045#1000047 | AD8: 1000005#1000008#1000011#1000016#1000022#1000038#1000045#1000047#1000050 | AE8: 1000005#1000008#1000011#1000016#1000022#1000038#1000045#1000047#1000050#1000052 | AF8: ="" | AG8: =IF($J8<>"",J8,"") -> 129101 | AH8: =IF($J8<>"",K8,"") -> 129101#129102 | AI8: =IF($J8<>"",L8,"")&IF($V8<>"","#"&V8,"") -> 129101#129102#129103#129104#1000005 | AJ8: =IF($J8<>"",M8,"")&IF($V8<>"","#"&W8,"") -> 129101#129102#129103#129104#129105#1000005#1000008 | AK8: =IF($J8<>"",N8,"")&IF($V8<>"","#"&X8,"") -> 129101#129102#129103#129104#129105#129106#1000005#1000008#1000011 | AL8: =IF($J8<>"",O8,"")&IF($V8<>"","#"&Y8,"")&IF($U8<>"","#"&$U8,"") -> 129101#129102#129103#129104#129105#129106#129107#1000005#1000008#1000011#1000016#129205 | AM8: =IF($J8<>"",P8,"")&IF($V8<>"","#"&AA8,"")&IF($U8<>"","#"&$U8,"") -> 129101#129102#129103#129104#129105#129106#129107#129108#1000005#1000008#1000011#1000016#1000022#1000038#129205 | AN8: =IF($J8<>"",Q8,"")&IF($V8<>"","#"&AB8,"")&IF($U8<>"","#"&$U8,"") -> 129101#129102#129103#129104#129105#129106#129107#129108#129109#1000005#1000008#1000011#1000016#1000022#1000038#1000045#129205 | AO8: =IF($J8<>"",R8,"")&IF($V8<>"","#"&AC8,"")&IF($U8<>"","#"&$U8,"") -> 129101#129102#129103#129104#129105#129106#129108#129109#129110#1000005#1000008#1000011#1000016#1000022#1000038#1000045#1000047#129205 | AP8: =IF($J8<>"",S8,"")&IF($V8<>"","#"&AD8,"")&IF($U8<>"","#"&$U8,"") -> 129101#129102#129103#129104#129105#129106#129108#129109#129110#129111#1000005#1000008#1000011#1000016#1000022#1000038#1000045#1000047#1000050#129205 | AQ8: =IF($J8<>"",T8,"")&IF($V8<>"","#"&AE8,"")&IF($U8<>"","#"&$U8,"") -> 1291010#1291020#1291030#1291040#1291050#1291060#1291070#1291080#1291090#1291100#1291110#1291111#1000005#1000008#1000011#1000016#1000022#1000038#1000045#1000047#1000050#1000052#129205 | AR8: ="|"&AG8&"|"&AH8&"|"&AI8&"|"&AJ8&"|"&AK8&"|"&AL8&"|"&AM8&"|"&AN8&"|"&AO8&"|"&AP8&"|"&AQ8 -> |129101|129101#129102|129101#129102#129103#129104#1000005|129101#129102#129103#129104#129105#1000005#1000008|129101#129102#129103#129104#129105#129106#1000005#1000008#1000011|129101#129102#129103#129104#129105#129106#129107#1000005#1000008#1000011#1000016#129205|129101#129102#129103#129104#129105#129106#129107#129108#1000005#1000008#1000011#1000016#1000022#1000038#129205|129101#129102#129103#129104#129105#129106#129107#129108#129109#1000005#1000008#1000011#1000016#1000022#1000038#1000045#129205|129101#129102#129103#129104#129105#129106#129108#129109#129110#1000005#1000008#1000011#1000016#1000022#1000038#1000045#1000047#129205|129101#129102#129103#129104#129105#129106#129108#129109#129110#129111#1000005#1000008#1000011#1000016#1000022#1000038#1000045#1000047#1000050#129205|1291010#1291020#1291030#1291040#1291050#1291060#1291070#1291080#1291090#1291100#1291110#1291111#1000005#1000008#1000011#1000016#1000022#1000038#1000045#1000047#1000050#1000052#129205
A9: 10005 | B9: 妲己 | C9: 郭嘉 | D9: 3 | E9: 5 | F9: 1071#1072 | G9: 3 | H9: 前排 | I9: 魔法 | J9: 107101 | K9: 107101#107102 | L9: 107101#107102#107103#107104 | M9: 107101#107102#107103#107104#107105 | N9: 107101#107102#107103#107104#107105#107106 | O9: 107101#107102#107103#107104#107105#107106#107107 | P9: 107101#107102#107103#107104#107105#107106#107107#107108 | Q9: 107101#107102#107103#107104#107105#107106#107107#107108#107109 | R9: 107101#107102#107103#107104#107105#107106#107107#107108#107109#107110 | S9: 107101#107102#107103#107104#107105#107106#107107#107108#107109#107110#107111 | T9: 1071010#1071020#1071030#1071040#1071050#1071060#1071070#1071071#1071080#1071090#1071100#1071101#1071110 | U9: 107205 | V9: 1000009 | W9: 1000009#1000011 | X9: 1000009#1000011#1000016 | Y9: 1000009#1000011#1000016#1000032 | Z9: 1000009#1000011#1000016#1000032#1000038 | AA9: 1000009#1000011#1000016#1000032#1000038#1000047 | AB9: 1000009#1000011#1000016#1000032#1000038#1000047#1000048 | AC9: 1000009#1000011#1000016#1000032#1000038#1000047#1000048#1000049 | AD9: 1000009#1000011#1000016#1000032#1000038#1000047#1000048#1000049#1000050 | AE9: 1000009#1000011#1000016#1000032#1000038#1000047#1000048#1000049#1000050#1000052 | AF9: ="" | AG9: =IF($J9<>"",J9,"") -> 107101 | AH9: =IF($J9<>"",K9,"") -> 107101#107102 | AI9: =IF($J9<>"",L9,"")&IF($V9<>"","#"&V9,"") -> 107101#107102#107103#107104#1000009 | AJ9: =IF($J9<>"",M9,"")&IF($V9<>"","#"&W9,"") -> 107101#107102#107103#107104#107105#1000009#1000011 | AK9: =IF($J9<>"",N9,"")&IF($V9<>"","#"&X9,"") -> 107101#107102#107103#107104#107105#107106#1000009#1000011#1000016 | AL9: =IF($J9<>"",O9,"")&IF($V9<>"","#"&Y9,"")&IF($U9<>"","#"&$U9,"") -> 107101#107102#107103#107104#107105#107106#107107#1000009#1000011#1000016#1000032#107205 | AM9: =IF($J9<>"",P9,"")&IF($V9<>"","#"&AA9,"")&IF($U9<>"","#"&$U9,"") -> 107101#107102#107103#107104#107105#107106#107107#107108#1000009#1000011#1000016#1000032#1000038#1000047#107205 | AN9: =IF($J9<>"",Q9,"")&IF($V9<>"","#"&AB9,"")&IF($U9<>"","#"&$U9,"") -> 107101#107102#107103#107104#107105#107106#107107#107108#107109#1000009#1000011#1000016#1000032#1000038#1000047#1000048#107205 | AO9: =IF($J9<>"",R9,"")&IF($V9<>"","#"&AC9,"")&IF($U9<>"","#"&$U9,"") -> 107101#107102#107103#107104#107105#107106#107107#107108#107109#107110#1000009#1000011#1000016#1000032#1000038#1000047#1000048#1000049#107205 | AP9: =IF($J9<>"",S9,"")&IF($V9<>"","#"&AD9,"")&IF($U9<>"","#"&$U9,"") -> 107101#107102#107103#107104#107105#107106#107107#107108#107109#107110#107111#1000009#1000011#1000016#1000032#1000038#1000047#1000048#1000049#1000050#107205 | AQ9: =IF($J9<>"",T9,"")&IF($V9<>"","#"&AE9,"")&IF($U9<>"","#"&$U9,"") -> 1071010#1071020#1071030#1071040#1071050#1071060#1071070#1071071#1071080#1071090#1071100#1071101#1071110#1000009#1000011#1000016#1000032#1000038#1000047#1000048#1000049#1000050#1000052#107205 | AR9: ="|"&AG9&"|"&AH9&"|"&AI9&"|"&AJ9&"|"&AK9&"|"&AL9&"|"&AM9&"|"&AN9&"|"&AO9&"|"&AP9&"|"&AQ9 -> |107101|107101#107102|107101#107102#107103#107104#1000009|107101#107102#107103#107104#107105#1000009#1000011|107101#107102#107103#107104#107105#107106#1000009#1000011#1000016|107101#107102#107103#107104#107105#107106#107107#1000009#1000011#1000016#1000032#107205|107101#107102#107103#107104#107105#107106#107107#107108#1000009#1000011#1000016#1000032#1000038#1000047#107205|107101#107102#107103#107104#107105#107106#107107#107108#107109#1000009#1000011#1000016#1000032#1000038#1000047#1000048#107205|107101#107102#107103#107104#107105#107106#107107#107108#107109#107110#1000009#1000011#1000016#1000032#1000038#1000047#1000048#1000049#107205|107101#107102#107103#107104#107105#107106#107107#107108#107109#107110#107111#1000009#1000011#1000016#1000032#1000038#1000047#1000048#1000049#1000050#107205|1071010#1071020#1071030#1071040#1071050#1071060#1071070#1071071#1071080#1071090#1071100#1071101#1071110#1000009#1000011#1000016#1000032#1000038#1000047#1000048#1000049#1000050#1000052#107205
A10: 10006 | B10: 共工 | C10: 张郃 | D10: 3 | E10: 5 | F10: 1041#1042 | G10: 4 | H10: 常规单体 | I10: 魔法 | J10: 104101 | K10: 104101#104102 | L10: 104101#104102#104103#104104 | M10: 104101#104102#104103#104104#104105 | N10: 104101#104102#104103#104104#104105#104106 | O10: 104101#104102#104103#104104#104105#104106#104107 | P10: 104101#104102#104103#104104#104105#104106#104107#104108 | Q10: 104101#104102#104103#104104#104105#104106#104107#104108#104109 | R10: 104101#104102#104103#104104#104105#104106#104107#104108#104109#104110 | S10: 104101#104102#104103#104104#104105#104106#104107#104108#104109#104110#104111 | T10: 1041010#1041020#1041030#1041040#1041050#1041060#1041070#1041080#1041090#1041100#1041101#1041110#1041111 | U10: 104205 | V10: 1000007 | W10: 1000007#1000011 | X10: 1000007#1000011#1000016 | Y10: 1000007#1000011#1000016#1000032 | Z10: 1000007#1000011#1000016#1000032#1000038 | AA10: 1000007#1000011#1000016#1000032#1000038#1000046 | AB10: 1000007#1000011#1000016#1000032#1000038#1000046#1000047 | AC10: 1000007#1000011#1000016#1000032#1000038#1000046#1000047#1000049 | AD10: 1000007#1000011#1000016#1000032#1000038#1000046#1000047#1000049#1000050 | AE10: 1000007#1000011#1000016#1000032#1000038#1000046#1000047#1000049#1000050#1000052 | AF10: ="" | AG10: =IF($J10<>"",J10,"") -> 104101 | AH10: =IF($J10<>"",K10,"") -> 104101#104102 | AI10: =IF($J10<>"",L10,"")&IF($V10<>"","#"&V10,"") -> 104101#104102#104103#104104#1000007 | AJ10: =IF($J10<>"",M10,"")&IF($V10<>"","#"&W10,"") -> 104101#104102#104103#104104#104105#1000007#1000011 | AK10: =IF($J10<>"",N10,"")&IF($V10<>"","#"&X10,"") -> 104101#104102#104103#104104#104105#104106#1000007#1000011#1000016 | AL10: =IF($J10<>"",O10,"")&IF($V10<>"","#"&Y10,"")&IF($U10<>"","#"&$U10,"") -> 104101#104102#104103#104104#104105#104106#104107#1000007#1000011#1000016#1000032#104205 | AM10: =IF($J10<>"",P10,"")&IF($V10<>"","#"&AA10,"")&IF($U10<>"","#"&$U10,"") -> 104101#104102#104103#104104#104105#104106#104107#104108#1000007#1000011#1000016#1000032#1000038#1000046#104205 | AN10: =IF($J10<>"",Q10,"")&IF($V10<>"","#"&AB10,"")&IF($U10<>"","#"&$U10,"") -> 104101#104102#104103#104104#104105#104106#104107#104108#104109#1000007#1000011#1000016#1000032#1000038#1000046#1000047#104205 | AO10: =IF($J10<>"",R10,"")&IF($V10<>"","#"&AC10,"")&IF($U10<>"","#"&$U10,"") -> 104101#104102#104103#104104#104105#104106#104107#104108#104109#104110#1000007#1000011#1000016#1000032#1000038#1000046#1000047#1000049#104205 | AP10: =IF($J10<>"",S10,"")&IF($V10<>"","#"&AD10,"")&IF($U10<>"","#"&$U10,"") -> 104101#104102#104103#104104#104105#104106#104107#104108#104109#104110#104111#1000007#1000011#1000016#1000032#1000038#1000046#1000047#1000049#1000050#104205 | AQ10: =IF($J10<>"",T10,"")&IF($V10<>"","#"&AE10,"")&IF($U10<>"","#"&$U10,"") -> 1041010#1041020#1041030#1041040#1041050#1041060#1041070#1041080#1041090#1041100#1041101#1041110#1041111#1000007#1000011#1000016#1000032#1000038#1000046#1000047#1000049#1000050#1000052#104205 | AR10: ="|"&AG10&"|"&AH10&"|"&AI10&"|"&AJ10&"|"&AK10&"|"&AL10&"|"&AM10&"|"&AN10&"|"&AO10&"|"&AP10&"|"&AQ10 -> |104101|104101#104102|104101#104102#104103#104104#1000007|104101#104102#104103#104104#104105#1000007#1000011|104101#104102#104103#104104#104105#104106#1000007#1000011#1000016|104101#104102#104103#104104#104105#104106#104107#1000007#1000011#1000016#1000032#104205|104101#104102#104103#104104#104105#104106#104107#104108#1000007#1000011#1000016#1000032#1000038#1000046#104205|104101#104102#104103#104104#104105#104106#104107#104108#104109#1000007#1000011#1000016#1000032#1000038#1000046#1000047#104205|104101#104102#104103#104104#104105#104106#104107#104108#104109#104110#1000007#1000011#1000016#1000032#1000038#1000046#1000047#1000049#104205|104101#104102#104103#104104#104105#104106#104107#104108#104109#104110#104111#1000007#1000011#1000016#1000032#1000038#1000046#1000047#1000049#1000050#104205|1041010#1041020#1041030#1041040#1041050#1041060#1041070#1041080#1041090#1041100#1041101#1041110#1041111#1000007#1000011#1000016#1000032#1000038#1000046#1000047#1000049#1000050#1000052#104205
A11: 10007 | B11: 唐僧 | C11: 刘备 | D11: 2 | E11: 5 | F11: 1161#1162 | G11: 4 | H11: 全体 | I11: 其他 | J11: 116101 | K11: 116101#116102 | L11: 116101#116102#116103#116104 | M11: 116101#116102#116103#116104#116105 | N11: 116101#116102#116103#116104#116105#116106 | O11: 116101#116102#116103#116104#116105#116106#116107 | P11: 116101#116102#116103#116104#116105#116106#116107#116108#116112 | Q11: 116101#116102#116103#116104#116105#116106#116107#116108#116112#116109 | R11: 116101#116102#116103#116104#116105#116106#116108#116112#116109#116110 | S11: 116101#116102#116103#116104#116105#116106#116108#116112#116109#116110#116111 | T11: 1161010#1161020#1161030#1161040#1161050#1161060#1161070#1161071#1161080#1161081#1161090#1161100#1161101#1161110#1161111 | U11: 116205 | V11: 1000005 | W11: 1000005#1000008 | X11: 1000005#1000008#1000011 | Y11: 1000005#1000008#1000011#1000016 | Z11: 1000005#1000008#1000011#1000016#1000022 | AA11: 1000005#1000008#1000011#1000016#1000022#1000038 | AB11: 1000005#1000008#1000011#1000016#1000022#1000038#1000045 | AC11: 1000005#1000008#1000011#1000016#1000022#1000038#1000045#1000047 | AD11: 1000005#1000008#1000011#1000016#1000022#1000038#1000045#1000047#1000050 | AE11: 1000005#1000008#1000011#1000016#1000022#1000038#1000045#1000047#1000050#1000052 | AF11: ="" | AG11: =IF($J11<>"",J11,"") -> 116101 | AH11: =IF($J11<>"",K11,"") -> 116101#116102 | AI11: =IF($J11<>"",L11,"")&IF($V11<>"","#"&V11,"") -> 116101#116102#116103#116104#1000005 | AJ11: =IF($J11<>"",M11,"")&IF($V11<>"","#"&W11,"") -> 116101#116102#116103#116104#116105#1000005#1000008 | AK11: =IF($J11<>"",N11,"")&IF($V11<>"","#"&X11,"") -> 116101#116102#116103#116104#116105#116106#1000005#1000008#1000011 | AL11: =IF($J11<>"",O11,"")&IF($V11<>"","#"&Y11,"")&IF($U11<>"","#"&$U11,"") -> 116101#116102#116103#116104#116105#116106#116107#1000005#1000008#1000011#1000016#116205 | AM11: =IF($J11<>"",P11,"")&IF($V11<>"","#"&AA11,"")&IF($U11<>"","#"&$U11,"") -> 116101#116102#116103#116104#116105#116106#116107#116108#116112#1000005#1000008#1000011#1000016#1000022#1000038#116205 | AN11: =IF($J11<>"",Q11,"")&IF($V11<>"","#"&AB11,"")&IF($U11<>"","#"&$U11,"") -> 116101#116102#116103#116104#116105#116106#116107#116108#116112#116109#1000005#1000008#1000011#1000016#1000022#1000038#1000045#116205 | AO11: =IF($J11<>"",R11,"")&IF($V11<>"","#"&AC11,"")&IF($U11<>"","#"&$U11,"") -> 116101#116102#116103#116104#116105#116106#116108#116112#116109#116110#1000005#1000008#1000011#1000016#1000022#1000038#1000045#1000047#116205 | AP11: =IF($J11<>"",S11,"")&IF($V11<>"","#"&AD11,"")&IF($U11<>"","#"&$U11,"") -> 116101#116102#116103#116104#116105#116106#116108#116112#116109#116110#116111#1000005#1000008#1000011#1000016#1000022#1000038#1000045#1000047#1000050#116205 | AQ11: =IF($J11<>"",T11,"")&IF($V11<>"","#"&AE11,"")&IF($U11<>"","#"&$U11,"") -> 1161010#1161020#1161030#1161040#1161050#1161060#1161070#1161071#1161080#1161081#1161090#1161100#1161101#1161110#1161111#1000005#1000008#1000011#1000016#1000022#1000038#1000045#1000047#1000050#1000052#116205 | AR11: ="|"&AG11&"|"&AH11&"|"&AI11&"|"&AJ11&"|"&AK11&"|"&AL11&"|"&AM11&"|"&AN11&"|"&AO11&"|"&AP11&"|"&AQ11 -> |116101|116101#116102|116101#116102#116103#116104#1000005|116101#116102#116103#116104#116105#1000005#1000008|116101#116102#116103#116104#116105#116106#1000005#1000008#1000011|116101#116102#116103#116104#116105#116106#116107#1000005#1000008#1000011#1000016#116205|116101#116102#116103#116104#116105#116106#116107#116108#116112#1000005#1000008#1000011#1000016#1000022#1000038#116205|116101#116102#116103#116104#116105#116106#116107#116108#116112#116109#1000005#1000008#1000011#1000016#1000022#1000038#1000045#116205|116101#116102#116103#116104#116105#116106#116108#116112#116109#116110#1000005#1000008#1000011#1000016#1000022#1000038#1000045#1000047#116205|116101#116102#116103#116104#116105#116106#116108#116112#116109#116110#116111#1000005#1000008#1000011#1000016#1000022#1000038#1000045#1000047#1000050#116205|1161010#1161020#1161030#1161040#1161050#1161060#1161070#1161071#1161080#1161081#1161090#1161100#1161101#1161110#1161111#1000005#1000008#1000011#1000016#1000022#1000038#1000045#1000047#1000050#1000052#116205
A12: 10008 | B12: 精卫 | C12: 曹操 | D12: 3 | E12: 5 | F12: 1021#1022 | G12: 4 | H12: 前排 | I12: 物理 | J12: 102101 | K12: 102101#102102 | L12: 102101#102102#102103#102104 | M12: 102101#102102#102103#102104#102105 | N12: 102101#102102#102103#102104#102105#102106 | O12: 102101#102102#102103#102104#102105#102106#102107 | P12: 102101#102102#102103#102104#102105#102106#102107#102108 | Q12: 102101#102102#102103#102104#102105#102106#102107#102108#102109 | R12: 102101#102102#102103#102104#102105#102106#102107#102108#102109#102110 | S12: 102101#102102#102103#102104#102105#102106#102108#102109#102110#102111 | T12: 1021010#1021020#1021030#1021040#1021050#1021060#1021070#1021080#1021090#1021100#1021101#1021110#1021111 | U12: 102205 | V12: 1000007 | W12: 1000007#1000011 | X12: 1000007#1000011#1000016 | Y12: 1000007#1000011#1000016#1000032 | Z12: 1000007#1000011#1000016#1000032#1000037 | AA12: 1000007#1000011#1000016#1000032#1000037#1000038 | AB12: 1000007#1000011#1000016#1000032#1000037#1000038#1000047 | AC12: 1000007#1000011#1000016#1000032#1000037#1000038#1000047#1000048 | AD12: 1000007#1000011#1000016#1000032#1000037#1000038#1000047#1000048#1000050 | AE12: 1000007#1000011#1000016#1000032#1000037#1000038#1000047#1000048#1000050#1000052 | AF12: ="" | AG12: =IF($J12<>"",J12,"") -> 102101 | AH12: =IF($J12<>"",K12,"") -> 102101#102102 | AI12: =IF($J12<>"",L12,"")&IF($V12<>"","#"&V12,"") -> 102101#102102#102103#102104#1000007 | AJ12: =IF($J12<>"",M12,"")&IF($V12<>"","#"&W12,"") -> 102101#102102#102103#102104#102105#1000007#1000011 | AK12: =IF($J12<>"",N12,"")&IF($V12<>"","#"&X12,"") -> 102101#102102#102103#102104#102105#102106#1000007#1000011#1000016 | AL12: =IF($J12<>"",O12,"")&IF($V12<>"","#"&Y12,"")&IF($U12<>"","#"&$U12,"") -> 102101#102102#102103#102104#102105#102106#102107#1000007#1000011#1000016#1000032#102205 | AM12: =IF($J12<>"",P12,"")&IF($V12<>"","#"&AA12,"")&IF($U12<>"","#"&$U12,"") -> 102101#102102#102103#102104#102105#102106#102107#102108#1000007#1000011#1000016#1000032#1000037#1000038#102205 | AN12: =IF($J12<>"",Q12,"")&IF($V12<>"","#"&AB12,"")&IF($U12<>"","#"&$U12,"") -> 102101#102102#102103#102104#102105#102106#102107#102108#102109#1000007#1000011#1000016#1000032#1000037#1000038#1000047#102205 | AO12: =IF($J12<>"",R12,"")&IF($V12<>"","#"&AC12,"")&IF($U12<>"","#"&$U12,"") -> 102101#102102#102103#102104#102105#102106#102107#102108#102109#102110#1000007#1000011#1000016#1000032#1000037#1000038#1000047#1000048#102205 | AP12: =IF($J12<>"",S12,"")&IF($V12<>"","#"&AD12,"")&IF($U12<>"","#"&$U12,"") -> 102101#102102#102103#102104#102105#102106#102108#102109#102110#102111#1000007#1000011#1000016#1000032#1000037#1000038#1000047#1000048#1000050#102205 | AQ12: =IF($J12<>"",T12,"")&IF($V12<>"","#"&AE12,"")&IF($U12<>"","#"&$U12,"") -> 1021010#1021020#1021030#1021040#1021050#1021060#1021070#1021080#1021090#1021100#1021101#1021110#1021111#1000007#1000011#1000016#1000032#1000037#1000038#1000047#1000048#1000050#1000052#102205 | AR12: ="|"&AG12&"|"&AH12&"|"&AI12&"|"&AJ12&"|"&AK12&"|"&AL12&"|"&AM12&"|"&AN12&"|"&AO12&"|"&AP12&"|"&AQ12 -> |102101|102101#102102|102101#102102#102103#102104#1000007|102101#102102#102103#102104#102105#1000007#1000011|102101#102102#102103#102104#102105#102106#1000007#1000011#1000016|102101#102102#102103#102104#102105#102106#102107#1000007#1000011#1000016#1000032#102205|102101#102102#102103#102104#102105#102106#102107#102108#1000007#1000011#1000016#1000032#1000037#1000038#102205|102101#102102#102103#102104#102105#102106#102107#102108#102109#1000007#1000011#1000016#1000032#1000037#1000038#1000047#102205|102101#102102#102103#102104#102105#102106#102107#102108#102109#102110#1000007#1000011#1000016#1000032#1000037#1000038#1000047#1000048#102205|102101#102102#102103#102104#102105#102106#102108#102109#102110#102111#1000007#1000011#1000016#1000032#1000037#1000038#1000047#1000048#1000050#102205|1021010#1021020#1021030#1021040#1021050#1021060#1021070#1021080#1021090#1021100#1021101#1021110#1021111#1000007#1000011#1000016#1000032#1000037#1000038#1000047#1000048#1000050#1000052#102205
A13: 10009 | B13: 龙吉公主 | C13: 小乔 | D13: 1 | E13: 5 | F13: 1311#1312 | G13: 4 | H13: 前排 | I13: 魔法 | J13: 131101 | K13: 131101#131102 | L13: 131101#131102#131103#131104 | M13: 131101#131102#131103#131104#131105 | N13: 131101#131102#131103#131104#131105#131106 | O13: 131101#131102#131103#131104#131105#131106#131107 | P13: 131101#131102#131103#131104#131105#131106#131107#131108#131112 | Q13: 131101#131102#131103#131104#131105#131106#131107#131108#131112#131109 | R13: 131101#131102#131103#131104#131105#131106#131107#131108#131112#131109#131110 | S13: 131101#131102#131103#131104#131105#131106#131107#131108#131112#131109#131110#131111 | T13: 1311010#1311020#1311030#1311040#1311050#1311060#1311070#1311071#1311080#1311120#1311090#1311100#1311101#1311110#1311111 | U13: 131205 | V13: 1000011 | W13: 1000011#1000016 | X13: 1000011#1000016#1000021 | Y13: 1000011#1000016#1000021#1000028 | Z13: 1000011#1000016#1000021#1000028#1000032 | AA13: 1000011#1000016#1000021#1000028#1000032#1000038 | AB13: 1000011#1000016#1000021#1000028#1000032#1000038#1000047 | AC13: 1000011#1000016#1000021#1000028#1000032#1000038#1000047#1000049 | AD13: 1000011#1000016#1000021#1000028#1000032#1000038#1000047#1000049#1000050 | AE13: 1000011#1000016#1000021#1000028#1000032#1000038#1000047#1000049#1000050#1000052 | AF13: ="" | AG13: =IF($J13<>"",J13,"") -> 131101 | AH13: =IF($J13<>"",K13,"") -> 131101#131102 | AI13: =IF($J13<>"",L13,"")&IF($V13<>"","#"&V13,"") -> 131101#131102#131103#131104#1000011 | AJ13: =IF($J13<>"",M13,"")&IF($V13<>"","#"&W13,"") -> 131101#131102#131103#131104#131105#1000011#1000016 | AK13: =IF($J13<>"",N13,"")&IF($V13<>"","#"&X13,"") -> 131101#131102#131103#131104#131105#131106#1000011#1000016#1000021 | AL13: =IF($J13<>"",O13,"")&IF($V13<>"","#"&Y13,"")&IF($U13<>"","#"&$U13,"") -> 131101#131102#131103#131104#131105#131106#131107#1000011#1000016#1000021#1000028#131205 | AM13: =IF($J13<>"",P13,"")&IF($V13<>"","#"&AA13,"")&IF($U13<>"","#"&$U13,"") -> 131101#131102#131103#131104#131105#131106#131107#131108#131112#1000011#1000016#1000021#1000028#1000032#1000038#131205 | AN13: =IF($J13<>"",Q13,"")&IF($V13<>"","#"&AB13,"")&IF($U13<>"","#"&$U13,"") -> 131101#131102#131103#131104#131105#131106#131107#131108#131112#131109#1000011#1000016#1000021#1000028#1000032#1000038#1000047#131205 | AO13: =IF($J13<>"",R13,"")&IF($V13<>"","#"&AC13,"")&IF($U13<>"","#"&$U13,"") -> 131101#131102#131103#131104#131105#131106#131107#131108#131112#131109#131110#1000011#1000016#1000021#1000028#1000032#1000038#1000047#1000049#131205 | AP13: =IF($J13<>"",S13,"")&IF($V13<>"","#"&AD13,"")&IF($U13<>"","#"&$U13,"") -> 131101#131102#131103#131104#131105#131106#131107#131108#131112#131109#131110#131111#1000011#1000016#1000021#1000028#1000032#1000038#1000047#1000049#1000050#131205 | AQ13: =IF($J13<>"",T13,"")&IF($V13<>"","#"&AE13,"")&IF($U13<>"","#"&$U13,"") -> 1311010#1311020#1311030#1311040#1311050#1311060#1311070#1311071#1311080#1311120#1311090#1311100#1311101#1311110#1311111#1000011#1000016#1000021#1000028#1000032#1000038#1000047#1000049#1000050#1000052#131205 | AR13: ="|"&AG13&"|"&AH13&"|"&AI13&"|"&AJ13&"|"&AK13&"|"&AL13&"|"&AM13&"|"&AN13&"|"&AO13&"|"&AP13&"|"&AQ13 -> |131101|131101#131102|131101#131102#131103#131104#1000011|131101#131102#131103#131104#131105#1000011#1000016|131101#131102#131103#131104#131105#131106#1000011#1000016#1000021|131101#131102#131103#131104#131105#131106#131107#1000011#1000016#1000021#1000028#131205|131101#131102#131103#131104#131105#131106#131107#131108#131112#1000011#1000016#1000021#1000028#1000032#1000038#131205|131101#131102#131103#131104#131105#131106#131107#131108#131112#131109#1000011#1000016#1000021#1000028#1000032#1000038#1000047#131205|131101#131102#131103#131104#131105#131106#131107#131108#131112#131109#131110#1000011#1000016#1000021#1000028#1000032#1000038#1000047#1000049#131205|131101#131102#131103#131104#131105#131106#131107#131108#131112#131109#131110#131111#1000011#1000016#1000021#1000028#1000032#1000038#1000047#1000049#1000050#131205|1311010#1311020#1311030#1311040#1311050#1311060#1311070#1311071#1311080#1311120#1311090#1311100#1311101#1311110#1311111#1000011#1000016#1000021#1000028#1000032#1000038#1000047#1000049#1000050#1000052#131205
A14: 10010 | B14: 孔雀明王 | C14: 马超 | D14: 2 | E14: 5 | F14: 1171#1172 | G14: 1 | H14: 前排 | I14: 物理 | J14: 117101 | K14: 117101#117102 | L14: 117101#117102#117103#117104 | M14: 117101#117102#117103#117104#117105 | N14: 117101#117102#117103#117104#117105#117106 | O14: 117101#117102#117103#117104#117105#117106#117107 | P14: 117101#117102#117103#117104#117105#117106#117107#117108 | Q14: 117101#117102#117103#117104#117105#117106#117107#117108#117109 | R14: 117101#117102#117103#117104#117105#117106#117107#117108#117109#117110 | S14: 117101#117102#117103#117104#117105#117106#117107#117108#117109#117110#117111 | T14: 1171010#1171020#1171030#1171040#1171050#1171060#1171070#1171080#1171090#1171100#1171110 | U14: 117205 | V14: 1000005 | W14: 1000005#1000008 | X14: 1000005#1000008#1000015 | Y14: 1000005#1000008#1000015#1000018 | Z14: 1000005#1000008#1000015#1000018#1000028 | AA14: 1000005#1000008#1000015#1000018#1000028#1000047 | AB14: 1000005#1000008#1000015#1000018#1000028#1000047#1000052 | AC14: 1000005#1000008#1000015#1000018#1000028#1000047#1000052#1000053 | AD14: 1000005#1000008#1000015#1000018#1000028#1000047#1000052#1000053#1000054 | AE14: 1000005#1000008#1000015#1000018#1000028#1000047#1000052#1000053#1000054#1000055 | AF14: ="" | AG14: =IF($J14<>"",J14,"") -> 117101 | AH14: =IF($J14<>"",K14,"") -> 117101#117102 | AI14: =IF($J14<>"",L14,"")&IF($V14<>"","#"&V14,"") -> 117101#117102#117103#117104#1000005 | AJ14: =IF($J14<>"",M14,"")&IF($V14<>"","#"&W14,"") -> 117101#117102#117103#117104#117105#1000005#1000008 | AK14: =IF($J14<>"",N14,"")&IF($V14<>"","#"&X14,"") -> 117101#117102#117103#117104#117105#117106#1000005#1000008#1000015 | AL14: =IF($J14<>"",O14,"")&IF($V14<>"","#"&Y14,"")&IF($U14<>"","#"&$U14,"") -> 117101#117102#117103#117104#117105#117106#117107#1000005#1000008#1000015#1000018#117205 | AM14: =IF($J14<>"",P14,"")&IF($V14<>"","#"&AA14,"")&IF($U14<>"","#"&$U14,"") -> 117101#117102#117103#117104#117105#117106#117107#117108#1000005#1000008#1000015#1000018#1000028#1000047#117205 | AN14: =IF($J14<>"",Q14,"")&IF($V14<>"","#"&AB14,"")&IF($U14<>"","#"&$U14,"") -> 117101#117102#117103#117104#117105#117106#117107#117108#117109#1000005#1000008#1000015#1000018#1000028#1000047#1000052#117205 | AO14: =IF($J14<>"",R14,"")&IF($V14<>"","#"&AC14,"")&IF($U14<>"","#"&$U14,"") -> 117101#117102#117103#117104#117105#117106#117107#117108#117109#117110#1000005#1000008#1000015#1000018#1000028#1000047#1000052#1000053#117205 | AP14: =IF($J14<>"",S14,"")&IF($V14<>"","#"&AD14,"")&IF($U14<>"","#"&$U14,"") -> 117101#117102#117103#117104#117105#117106#117107#117108#117109#117110#117111#1000005#1000008#1000015#1000018#1000028#1000047#1000052#1000053#1000054#117205 | AQ14: =IF($J14<>"",T14,"")&IF($V14<>"","#"&AE14,"")&IF($U14<>"","#"&$U14,"") -> 1171010#1171020#1171030#1171040#1171050#1171060#1171070#1171080#1171090#1171100#1171110#1000005#1000008#1000015#1000018#1000028#1000047#1000052#1000053#1000054#1000055#117205 | AR14: ="|"&AG14&"|"&AH14&"|"&AI14&"|"&AJ14&"|"&AK14&"|"&AL14&"|"&AM14&"|"&AN14&"|"&AO14&"|"&AP14&"|"&AQ14 -> |117101|117101#117102|117101#117102#117103#117104#1000005|117101#117102#117103#117104#117105#1000005#1000008|117101#117102#117103#117104#117105#117106#1000005#1000008#1000015|117101#117102#117103#117104#117105#117106#117107#1000005#1000008#1000015#1000018#117205|117101#117102#117103#117104#117105#117106#117107#117108#1000005#1000008#1000015#1000018#1000028#1000047#117205|117101#117102#117103#117104#117105#117106#117107#117108#117109#1000005#1000008#1000015#1000018#1000028#1000047#1000052#117205|117101#117102#117103#117104#117105#117106#117107#117108#117109#117110#1000005#1000008#1000015#1000018#1000028#1000047#1000052#1000053#117205|117101#117102#117103#117104#117105#117106#117107#117108#117109#117110#117111#1000005#1000008#1000015#1000018#1000028#1000047#1000052#1000053#1000054#117205|1171010#1171020#1171030#1171040#1171050#1171060#1171070#1171080#1171090#1171100#1171110#1000005#1000008#1000015#1000018#1000028#1000047#1000052#1000053#1000054#1000055#117205
A15: 10011 | B15: 雷震子 | C15: 司马懿 | D15: 3 | E15: 5 | F15: 1011#1012 | G15: 2 | H15: 全体 | I15: 魔法 | J15: 101101 | K15: 101101#101102 | L15: 101101#101102#101103#101104 | M15: 101101#101102#101103#101104#101105 | N15: 101101#101102#101103#101104#101105#101106 | O15: 101101#101102#101103#101104#101105#101106#101107 | P15: 101101#101102#101103#101104#101105#101106#101107#101108 | Q15: 101101#101102#101103#101104#101105#101106#101107#101108#101109 | R15: 101101#101102#101103#101104#101105#101106#101107#101108#101109#101110 | S15: 101101#101102#101103#101104#101105#101106#101107#101108#101109#101110#101111 | T15: 1011010#1011020#1011030#1011040#1011050#1011060#1011070#1011071#1011080#1011090#1011100#1011110#1011111 | U15: 101205 | V15: 1000007 | W15: 1000007#1000011 | X15: 1000007#1000011#1000016 | Y15: 1000007#1000011#1000016#1000032 | Z15: 1000007#1000011#1000016#1000032#1000037 | AA15: 1000007#1000011#1000016#1000032#1000037#1000038 | AB15: 1000007#1000011#1000016#1000032#1000037#1000038#1000047 | AC15: 1000007#1000011#1000016#1000032#1000037#1000038#1000047#1000049 | AD15: 1000007#1000011#1000016#1000032#1000037#1000038#1000047#1000049#1000050 | AE15: 1000007#1000011#1000016#1000032#1000037#1000038#1000047#1000049#1000050#1000052 | AF15: ="" | AG15: =IF($J15<>"",J15,"") -> 101101 | AH15: =IF($J15<>"",K15,"") -> 101101#101102 | AI15: =IF($J15<>"",L15,"")&IF($V15<>"","#"&V15,"") -> 101101#101102#101103#101104#1000007 | AJ15: =IF($J15<>"",M15,"")&IF($V15<>"","#"&W15,"") -> 101101#101102#101103#101104#101105#1000007#1000011 | AK15: =IF($J15<>"",N15,"")&IF($V15<>"","#"&X15,"") -> 101101#101102#101103#101104#101105#101106#1000007#1000011#1000016 | AL15: =IF($J15<>"",O15,"")&IF($V15<>"","#"&Y15,"")&IF($U15<>"","#"&$U15,"") -> 101101#101102#101103#101104#101105#101106#101107#1000007#1000011#1000016#1000032#101205 | AM15: =IF($J15<>"",P15,"")&IF($V15<>"","#"&AA15,"")&IF($U15<>"","#"&$U15,"") -> 101101#101102#101103#101104#101105#101106#101107#101108#1000007#1000011#1000016#1000032#1000037#1000038#101205 | AN15: =IF($J15<>"",Q15,"")&IF($V15<>"","#"&AB15,"")&IF($U15<>"","#"&$U15,"") -> 101101#101102#101103#101104#101105#101106#101107#101108#101109#1000007#1000011#1000016#1000032#1000037#1000038#1000047#101205 | AO15: =IF($J15<>"",R15,"")&IF($V15<>"","#"&AC15,"")&IF($U15<>"","#"&$U15,"") -> 101101#101102#101103#101104#101105#101106#101107#101108#101109#101110#1000007#1000011#1000016#1000032#1000037#1000038#1000047#1000049#101205 | AP15: =IF($J15<>"",S15,"")&IF($V15<>"","#"&AD15,"")&IF($U15<>"","#"&$U15,"") -> 101101#101102#101103#101104#101105#101106#101107#101108#101109#101110#101111#1000007#1000011#1000016#1000032#1000037#1000038#1000047#1000049#1000050#101205 | AQ15: =IF($J15<>"",T15,"")&IF($V15<>"","#"&AE15,"")&IF($U15<>"","#"&$U15,"") -> 1011010#1011020#1011030#1011040#1011050#1011060#1011070#1011071#1011080#1011090#1011100#1011110#1011111#1000007#1000011#1000016#1000032#1000037#1000038#1000047#1000049#1000050#1000052#101205 | AR15: ="|"&AG15&"|"&AH15&"|"&AI15&"|"&AJ15&"|"&AK15&"|"&AL15&"|"&AM15&"|"&AN15&"|"&AO15&"|"&AP15&"|"&AQ15 -> |101101|101101#101102|101101#101102#101103#101104#1000007|101101#101102#101103#101104#101105#1000007#1000011|101101#101102#101103#101104#101105#101106#1000007#1000011#1000016|101101#101102#101103#101104#101105#101106#101107#1000007#1000011#1000016#1000032#101205|101101#101102#101103#101104#101105#101106#101107#101108#1000007#1000011#1000016#1000032#1000037#1000038#101205|101101#101102#101103#101104#101105#101106#101107#101108#101109#1000007#1000011#1000016#1000032#1000037#1000038#1000047#101205|101101#101102#101103#101104#101105#101106#101107#101108#101109#101110#1000007#1000011#1000016#1000032#1000037#1000038#1000047#1000049#101205|101101#101102#101103#101104#101105#101106#101107#101108#101109#101110#101111#1000007#1000011#1000016#1000032#1000037#1000038#1000047#1000049#1000050#101205|1011010#1011020#1011030#1011040#1011050#1011060#1011070#1011071#1011080#1011090#1011100#1011110#1011111#1000007#1000011#1000016#1000032#1000037#1000038#1000047#1000049#1000050#1000052#101205
A16: 10012 | B16: 降龙罗汉 | C16: 张飞 | D16: 2 | E16: 5 | F16: 1211#1212 | G16: 2 | H16: 前排 | I16: 物理 | J16: 121101 | K16: 121101#121102 | L16: 121101#121102#121103#121104 | M16: 121101#121102#121103#121104#121105 | N16: 121101#121102#121103#121104#121105#121106 | O16: 121101#121102#121103#121104#121105#121106#121107 | P16: 121101#121102#121103#121104#121105#121106#121107#121108 | Q16: 121101#121102#121103#121104#121105#121106#121107#121108#121109 | R16: 121101#121102#121103#121104#121105#121106#121107#121108#121109#121110 | S16: 121101#121102#121103#121104#121105#121106#121107#121108#121109#121110#121111 | T16: 1211010#1211020#1211030#1211040#1211050#1211060#1211070#1211071#1211080#1211090#1211100#1211101#1211110#1211111 | U16: 121205 | V16: 1000007 | W16: 1000007#1000011 | X16: 1000007#1000011#1000016 | Y16: 1000007#1000011#1000016#1000032 | Z16: 1000007#1000011#1000016#1000032#1000037 | AA16: 1000007#1000011#1000016#1000032#1000037#1000038 | AB16: 1000007#1000011#1000016#1000032#1000037#1000038#1000047 | AC16: 1000007#1000011#1000016#1000032#1000037#1000038#1000047#1000048 | AD16: 1000007#1000011#1000016#1000032#1000037#1000038#1000047#1000048#1000050 | AE16: 1000007#1000011#1000016#1000032#1000037#1000038#1000047#1000048#1000050#1000052 | AF16: ="" | AG16: =IF($J16<>"",J16,"") -> 121101 | AH16: =IF($J16<>"",K16,"") -> 121101#121102 | AI16: =IF($J16<>"",L16,"")&IF($V16<>"","#"&V16,"") -> 121101#121102#121103#121104#1000007 | AJ16: =IF($J16<>"",M16,"")&IF($V16<>"","#"&W16,"") -> 121101#121102#121103#121104#121105#1000007#1000011 | AK16: =IF($J16<>"",N16,"")&IF($V16<>"","#"&X16,"") -> 121101#121102#121103#121104#121105#121106#1000007#1000011#1000016 | AL16: =IF($J16<>"",O16,"")&IF($V16<>"","#"&Y16,"")&IF($U16<>"","#"&$U16,"") -> 121101#121102#121103#121104#121105#121106#121107#1000007#1000011#1000016#1000032#121205 | AM16: =IF($J16<>"",P16,"")&IF($V16<>"","#"&AA16,"")&IF($U16<>"","#"&$U16,"") -> 121101#121102#121103#121104#121105#121106#121107#121108#1000007#1000011#1000016#1000032#1000037#1000038#121205 | AN16: =IF($J16<>"",Q16,"")&IF($V16<>"","#"&AB16,"")&IF($U16<>"","#"&$U16,"") -> 121101#121102#121103#121104#121105#121106#121107#121108#121109#1000007#1000011#1000016#1000032#1000037#1000038#1000047#121205 | AO16: =IF($J16<>"",R16,"")&IF($V16<>"","#"&AC16,"")&IF($U16<>"","#"&$U16,"") -> 121101#121102#121103#121104#121105#121106#121107#121108#121109#121110#1000007#1000011#1000016#1000032#1000037#1000038#1000047#1000048#121205 | AP16: =IF($J16<>"",S16,"")&IF($V16<>"","#"&AD16,"")&IF($U16<>"","#"&$U16,"") -> 121101#121102#121103#121104#121105#121106#121107#121108#121109#121110#121111#1000007#1000011#1000016#1000032#1000037#1000038#1000047#1000048#1000050#121205 | AQ16: =IF($J16<>"",T16,"")&IF($V16<>"","#"&AE16,"")&IF($U16<>"","#"&$U16,"") -> 1211010#1211020#1211030#1211040#1211050#1211060#1211070#1211071#1211080#1211090#1211100#1211101#1211110#1211111#1000007#1000011#1000016#1000032#1000037#1000038#1000047#1000048#1000050#1000052#121205 | AR16: ="|"&AG16&"|"&AH16&"|"&AI16&"|"&AJ16&"|"&AK16&"|"&AL16&"|"&AM16&"|"&AN16&"|"&AO16&"|"&AP16&"|"&AQ16 -> |121101|121101#121102|121101#121102#121103#121104#1000007|121101#121102#121103#121104#121105#1000007#1000011|121101#121102#121103#121104#121105#121106#1000007#1000011#1000016|121101#121102#121103#121104#121105#121106#121107#1000007#1000011#1000016#1000032#121205|121101#121102#121103#121104#121105#121106#121107#121108#1000007#1000011#1000016#1000032#1000037#1000038#121205|121101#121102#121103#121104#121105#121106#121107#121108#121109#1000007#1000011#1000016#1000032#1000037#1000038#1000047#121205|121101#121102#121103#121104#121105#121106#121107#121108#121109#121110#1000007#1000011#1000016#1000032#1000037#1000038#1000047#1000048#121205|121101#121102#121103#121104#121105#121106#121107#121108#121109#121110#121111#1000007#1000011#1000016#1000032#1000037#1000038#1000047#1000048#1000050#121205|1211010#1211020#1211030#1211040#1211050#1211060#1211070#1211071#1211080#1211090#1211100#1211101#1211110#1211111#1000007#1000011#1000016#1000032#1000037#1000038#1000047#1000048#1000050#1000052#121205
... A50: 10046 | B50: 女英 | C50: 吕蒙 | D50: 1 | E50: 5 | F50: 1351#1352 | G50: 4 | H50: 前排 | I50: 物理 | J50: 135101 | K50: 135101#135102 | L50: 135101#135102#135103#135104 | M50: 135101#135102#135103#135104#135105 | N50: 135101#135102#135103#135104#135105#135106 | O50: 135101#135102#135103#135104#135105#135106#135107 | P50: 135101#135102#135103#135104#135105#135106#135107#135108 | Q50: 135101#135102#135103#135104#135105#135106#135107#135108#135109 | R50: 135101#135102#135103#135104#135105#135106#135107#135108#135109#135110 | S50: 135101#135102#135103#135104#135105#135106#135107#135108#135109#135110 | T50: 135101#135102#135103#135104#135105#135106#135107#135108#135109#135110 | U50: 135205 | V50: 1000011 | W50: 1000011#1000016 | X50: 1000011#1000016#1000025 | Y50: 1000011#1000016#1000025#1000038 | Z50: 1000011#1000016#1000025#1000038#1000039 | AA50: 1000011#1000016#1000025#1000038#1000039#1000040 | AB50: 1000011#1000016#1000025#1000038#1000039#1000040#1000043 | AC50: 1000011#1000016#1000025#1000038#1000039#1000040#1000043#1000047 | AD50: 1000011#1000016#1000025#1000038#1000039#1000040#1000043#1000047#1000052 | AE50: 1000011#1000016#1000025#1000038#1000039#1000040#1000043#1000047#1000052#1000055 | AF50: ="" | AG50: =IF($J50<>"",J50,"") -> 135101 | AH50: =IF($J50<>"",K50,"") -> 135101#135102 | AI50: =IF($J50<>"",L50,"")&IF($V50<>"","#"&V50,"") -> 135101#135102#135103#135104#1000011 | AJ50: =IF($J50<>"",M50,"")&IF($V50<>"","#"&W50,"") -> 135101#135102#135103#135104#135105#1000011#1000016 | AK50: =IF($J50<>"",N50,"")&IF($V50<>"","#"&X50,"") -> 135101#135102#135103#135104#135105#135106#1000011#1000016#1000025 | AL50: =IF($J50<>"",O50,"")&IF($V50<>"","#"&Y50,"")&IF($U50<>"","#"&$U50,"") -> 135101#135102#135103#135104#135105#135106#135107#1000011#1000016#1000025#1000038#135205 | AM50: =IF($J50<>"",P50,"")&IF($V50<>"","#"&AA50,"")&IF($U50<>"","#"&$U50,"") -> 135101#135102#135103#135104#135105#135106#135107#135108#1000011#1000016#1000025#1000038#1000039#1000040#135205 | AN50: =IF($J50<>"",Q50,"")&IF($V50<>"","#"&AB50,"")&IF($U50<>"","#"&$U50,"") -> 135101#135102#135103#135104#135105#135106#135107#135108#135109#1000011#1000016#1000025#1000038#1000039#1000040#1000043#135205 | AO50: =IF($J50<>"",R50,"")&IF($V50<>"","#"&AC50,"")&IF($U50<>"","#"&$U50,"") -> 135101#135102#135103#135104#135105#135106#135107#135108#135109#135110#1000011#1000016#1000025#1000038#1000039#1000040#1000043#1000047#135205 | AP50: =IF($J50<>"",S50,"")&IF($V50<>"","#"&AD50,"")&IF($U50<>"","#"&$U50,"") -> 135101#135102#135103#135104#135105#135106#135107#135108#135109#135110#1000011#1000016#1000025#1000038#1000039#1000040#1000043#1000047#1000052#135205 | AQ50: =IF($J50<>"",T50,"")&IF($V50<>"","#"&AE50,"")&IF($U50<>"","#"&$U50,"") -> 135101#135102#135103#135104#135105#135106#135107#135108#135109#135110#1000011#1000016#1000025#1000038#1000039#1000040#1000043#1000047#1000052#1000055#135205 | AR50: ="|"&AG50&"|"&AH50&"|"&AI50&"|"&AJ50&"|"&AK50&"|"&AL50&"|"&AM50&"|"&AN50&"|"&AO50&"|"&AP50&"|"&AQ50 -> |135101|135101#135102|135101#135102#135103#135104#1000011|135101#135102#135103#135104#135105#1000011#1000016|135101#135102#135103#135104#135105#135106#1000011#1000016#1000025|135101#135102#135103#135104#135105#135106#135107#1000011#1000016#1000025#1000038#135205|135101#135102#135103#135104#135105#135106#135107#135108#1000011#1000016#1000025#1000038#1000039#1000040#135205|135101#135102#135103#135104#135105#135106#135107#135108#135109#1000011#1000016#1000025#1000038#1000039#1000040#1000043#135205|135101#135102#135103#135104#135105#135106#135107#135108#135109#135110#1000011#1000016#1000025#1000038#1000039#1000040#1000043#1000047#135205|135101#135102#135103#135104#135105#135106#135107#135108#135109#135110#1000011#1000016#1000025#1000038#1000039#1000040#1000043#1000047#1000052#135205|135101#135102#135103#135104#135105#135106#135107#135108#135109#135110#1000011#1000016#1000025#1000038#1000039#1000040#1000043#1000047#1000052#1000055#135205
A51: 10047 | B51: 大火妖 | C51: 程昱 | D51: 3 | E51: 3 | F51: 100471#100472 | G51: 2 | H51: 纵排 | I51: 魔法 | AF51: ="" | AG51: =IF($J51<>"",J51,"") | AH51: =IF($J51<>"",K51,"") | AI51: =IF($J51<>"",L51,"")&IF($V51<>"","#"&V51,"") | AJ51: =IF($J51<>"",M51,"")&IF($V51<>"","#"&W51,"") | AK51: =IF($J51<>"",N51,"")&IF($V51<>"","#"&X51,"") | AL51: =IF($J51<>"",O51,"")&IF($V51<>"","#"&Y51,"")&IF($U51<>"","#"&$U51,"") | AM51: =IF($J51<>"",P51,"")&IF($V51<>"","#"&AA51,"")&IF($U51<>"","#"&$U51,"") | AN51: =IF($J51<>"",Q51,"")&IF($V51<>"","#"&AB51,"")&IF($U51<>"","#"&$U51,"") | AO51: =IF($J51<>"",R51,"")&IF($V51<>"","#"&AC51,"")&IF($U51<>"","#"&$U51,"") | AP51: =IF($J51<>"",S51,"")&IF($V51<>"","#"&AD51,"")&IF($U51<>"","#"&$U51,"") | AQ51: =IF($J51<>"",S51,"")&IF($V51<>"","#"&AE51,"")&IF($U51<>"","#"&$U51,"")
A52: 10048 | B52: 雪女 | C52: 庞德 | D52: 3 | E52: 3 | F52: 100481#100482 | G52: 2 | H52: 常规单体 | I52: 物理 | AF52: ="" | AG52: =IF($J52<>"",J52,"") | AH52: =IF($J52<>"",K52,"") | AI52: =IF($J52<>"",L52,"")&IF($V52<>"","#"&V52,"") | AJ52: =IF($J52<>"",M52,"")&IF($V52<>"","#"&W52,"") | AK52: =IF($J52<>"",N52,"")&IF($V52<>"","#"&X52,"") | AL52: =IF($J52<>"",O52,"")&IF($V52<>"","#"&Y52,"")&IF($U52<>"","#"&$U52,"") | AM52: =IF($J52<>"",P52,"")&IF($V52<>"","#"&AA52,"")&IF($U52<>"","#"&$U52,"") | AN52: =IF($J52<>"",Q52,"")&IF($V52<>"","#"&AB52,"")&IF($U52<>"","#"&$U52,"") | AO52: =IF($J52<>"",R52,"")&IF($V52<>"","#"&AC52,"")&IF($U52<>"","#"&$U52,"") | AP52: =IF($J52<>"",S52,"")&IF($V52<>"","#"&AD52,"")&IF($U52<>"","#"&$U52,"") | AQ52: =IF($J52<>"",S52,"")&IF($V52<>"","#"&AE52,"")&IF($U52<>"","#"&$U52,"")
A53: 10049 | B53: 娜迦王 | C53: 张苞 | D53: 2 | E53: 3 | F53: 100491#100492 | G53: 2 | H53: 前排 | I53: 物理 | AF53: ="" | AG53: =IF($J53<>"",J53,"") | AH53: =IF($J53<>"",K53,"") | AI53: =IF($J53<>"",L53,"")&IF($V53<>"","#"&V53,"") | AJ53: =IF($J53<>"",M53,"")&IF($V53<>"","#"&W53,"") | AK53: =IF($J53<>"",N53,"")&IF($V53<>"","#"&X53,"") | AL53: =IF($J53<>"",O53,"")&IF($V53<>"","#"&Y53,"")&IF($U53<>"","#"&$U53,"") | AM53: =IF($J53<>"",P53,"")&IF($V53<>"","#"&AA53,"")&IF($U53<>"","#"&$U53,"") | AN53: =IF($J53<>"",Q53,"")&IF($V53<>"","#"&AB53,"")&IF($U53<>"","#"&$U53,"") | AO53: =IF($J53<>"",R53,"")&IF($V53<>"","#"&AC53,"")&IF($U53<>"","#"&$U53,"") | AP53: =IF($J53<>"",S53,"")&IF($V53<>"","#"&AD53,"")&IF($U53<>"","#"&$U53,"") | AQ53: =IF($J53<>"",S53,"")&IF($V53<>"","#"&AE53,"")&IF($U53<>"","#"&$U53,"")
A54: 10050 | B54: 摩呼 | C54: 关平 | D54: 2 | E54: 3 | F54: 100501#100502 | G54: 2 | H54: 纵排 | I54: 物理 | AF54: ="" | AG54: =IF($J54<>"",J54,"") | AH54: =IF($J54<>"",K54,"") | AI54: =IF($J54<>"",L54,"")&IF($V54<>"","#"&V54,"") | AJ54: =IF($J54<>"",M54,"")&IF($V54<>"","#"&W54,"") | AK54: =IF($J54<>"",N54,"")&IF($V54<>"","#"&X54,"") | AL54: =IF($J54<>"",O54,"")&IF($V54<>"","#"&Y54,"")&IF($U54<>"","#"&$U54,"") | AM54: =IF($J54<>"",P54,"")&IF($V54<>"","#"&AA54,"")&IF($U54<>"","#"&$U54,"") | AN54: =IF($J54<>"",Q54,"")&IF($V54<>"","#"&AB54,"")&IF($U54<>"","#"&$U54,"") | AO54: =IF($J54<>"",R54,"")&IF($V54<>"","#"&AC54,"")&IF($U54<>"","#"&$U54,"") | AP54: =IF($J54<>"",S54,"")&IF($V54<>"","#"&AD54,"")&IF($U54<>"","#"&$U54,"") | AQ54: =IF($J54<>"",S54,"")&IF($V54<>"","#"&AE54,"")&IF($U54<>"","#"&$U54,"")
A55: 10051 | B55: 半仙 | C55: 黄盖 | D55: 1 | E55: 3 | F55: 100511#100512 | G55: 2 | H55: 前排 | I55: 物理 | AF55: ="" | AG55: =IF($J55<>"",J55,"") | AH55: =IF($J55<>"",K55,"") | AI55: =IF($J55<>"",L55,"")&IF($V55<>"","#"&V55,"") | AJ55: =IF($J55<>"",M55,"")&IF($V55<>"","#"&W55,"") | AK55: =IF($J55<>"",N55,"")&IF($V55<>"","#"&X55,"") | AL55: =IF($J55<>"",O55,"")&IF($V55<>"","#"&Y55,"")&IF($U55<>"","#"&$U55,"") | AM55: =IF($J55<>"",P55,"")&IF($V55<>"","#"&AA55,"")&IF($U55<>"","#"&$U55,"") | AN55: =IF($J55<>"",Q55,"")&IF($V55<>"","#"&AB55,"")&IF($U55<>"","#"&$U55,"") | AO55: =IF($J55<>"",R55,"")&IF($V55<>"","#"&AC55,"")&IF($U55<>"","#"&$U55,"") | AP55: =IF($J55<>"",S55,"")&IF($V55<>"","#"&AD55,"")&IF($U55<>"","#"&$U55,"") | AQ55: =IF($J55<>"",S55,"")&IF($V55<>"","#"&AE55,"")&IF($U55<>"","#"&$U55,"")
A56: 10052 | B56: 荷莲 | C56: 周泰 | D56: 1 | E56: 3 | F56: 100521#100522 | G56: 2 | H56: 常规单体 | I56: 物理 | AF56: ="" | AG56: =IF($J56<>"",J56,"") | AH56: =IF($J56<>"",K56,"") | AI56: =IF($J56<>"",L56,"")&IF($V56<>"","#"&V56,"") | AJ56: =IF($J56<>"",M56,"")&IF($V56<>"","#"&W56,"") | AK56: =IF($J56<>"",N56,"")&IF($V56<>"","#"&X56,"") | AL56: =IF($J56<>"",O56,"")&IF($V56<>"","#"&Y56,"")&IF($U56<>"","#"&$U56,"") | AM56: =IF($J56<>"",P56,"")&IF($V56<>"","#"&AA56,"")&IF($U56<>"","#"&$U56,"") | AN56: =IF($J56<>"",Q56,"")&IF($V56<>"","#"&AB56,"")&IF($U56<>"","#"&$U56,"") | AO56: =IF($J56<>"",R56,"")&IF($V56<>"","#"&AC56,"")&IF($U56<>"","#"&$U56,"") | AP56: =IF($J56<>"",S56,"")&IF($V56<>"","#"&AD56,"")&IF($U56<>"","#"&$U56,"") | AQ56: =IF($J56<>"",S56,"")&IF($V56<>"","#"&AE56,"")&IF($U56<>"","#"&$U56,"")
A57: 10053 | B57: 鬼差头子 | C57: 张梁 | D57: 4 | E57: 3 | F57: 100531#100532 | G57: 2 | H57: 纵排 | I57: 物理 | AF57: ="" | AG57: =IF($J57<>"",J57,"") | AH57: =IF($J57<>"",K57,"") | AI57: =IF($J57<>"",L57,"")&IF($V57<>"","#"&V57,"") | AJ57: =IF($J57<>"",M57,"")&IF($V57<>"","#"&W57,"") | AK57: =IF($J57<>"",N57,"")&IF($V57<>"","#"&X57,"") | AL57: =IF($J57<>"",O57,"")&IF($V57<>"","#"&Y57,"")&IF($U57<>"","#"&$U57,"") | AM57: =IF($J57<>"",P57,"")&IF($V57<>"","#"&AA57,"")&IF($U57<>"","#"&$U57,"") | AN57: =IF($J57<>"",Q57,"")&IF($V57<>"","#"&AB57,"")&IF($U57<>"","#"&$U57,"") | AO57: =IF($J57<>"",R57,"")&IF($V57<>"","#"&AC57,"")&IF($U57<>"","#"&$U57,"") | AP57: =IF($J57<>"",S57,"")&IF($V57<>"","#"&AD57,"")&IF($U57<>"","#"&$U57,"") | AQ57: =IF($J57<>"",S57,"")&IF($V57<>"","#"&AE57,"")&IF($U57<>"","#"&$U57,"")
A58: 10054 | B58: 仙灵 | C58: 何进 | D58: 4 | E58: 3 | F58: 100541#100542 | G58: 2 | H58: 常规单体 | I58: 物理 | AF58: ="" | AG58: =IF($J58<>"",J58,"") | AH58: =IF($J58<>"",K58,"") | AI58: =IF($J58<>"",L58,"")&IF($V58<>"","#"&V58,"") | AJ58: =IF($J58<>"",M58,"")&IF($V58<>"","#"&W58,"") | AK58: =IF($J58<>"",N58,"")&IF($V58<>"","#"&X58,"") | AL58: =IF($J58<>"",O58,"")&IF($V58<>"","#"&Y58,"")&IF($U58<>"","#"&$U58,"") | AM58: =IF($J58<>"",P58,"")&IF($V58<>"","#"&AA58,"")&IF($U58<>"","#"&$U58,"") | AN58: =IF($J58<>"",Q58,"")&IF($V58<>"","#"&AB58,"")&IF($U58<>"","#"&$U58,"") | AO58: =IF($J58<>"",R58,"")&IF($V58<>"","#"&AC58,"")&IF($U58<>"","#"&$U58,"") | AP58: =IF($J58<>"",S58,"")&IF($V58<>"","#"&AD58,"")&IF($U58<>"","#"&$U58,"") | AQ58: =IF($J58<>"",S58,"")&IF($V58<>"","#"&AE58,"")&IF($U58<>"","#"&$U58,"")
A59: 10057 | B59: 聂小倩 | C59: 乐进 | D59: 3 | E59: 4 | F59: 100571#100572 | G59: 2 | H59: 前排 | I59: 物理 | J59: 10057101 | K59: 10057101#10057102 | L59: 10057101#10057102#10057103#10057104 | M59: 10057101#10057102#10057103#10057104#10057105 | N59: 10057101#10057102#10057103#10057104#10057105#10057106 | O59: 10057101#10057102#10057103#10057104#10057105#10057106 | P59: 10057101#10057102#10057103#10057104#10057105#10057106 | Q59: 10057101#10057102#10057103#10057104#10057105#10057106 | R59: 10057101#10057102#10057103#10057104#10057105#10057106 | S59: 10057101#10057102#10057103#10057104#10057105#10057106 | AF59: ="" | AG59: =IF($J59<>"",J59,"") -> 10057101 | AH59: =IF($J59<>"",K59,"") -> 10057101#10057102 | AI59: =IF($J59<>"",L59,"")&IF($V59<>"","#"&V59,"") -> 10057101#10057102#10057103#10057104 | AJ59: =IF($J59<>"",M59,"")&IF($V59<>"","#"&W59,"") -> 10057101#10057102#10057103#10057104#10057105 | AK59: =IF($J59<>"",N59,"")&IF($V59<>"","#"&X59,"") -> 10057101#10057102#10057103#10057104#10057105#10057106 | AL59: =IF($J59<>"",O59,"")&IF($V59<>"","#"&Y59,"")&IF($U59<>"","#"&$U59,"") -> 10057101#10057102#10057103#10057104#10057105#10057106 | AM59: =IF($J59<>"",P59,"")&IF($V59<>"","#"&AA59,"")&IF($U59<>"","#"&$U59,"") -> 10057101#10057102#10057103#10057104#10057105#10057106 | AN59: =IF($J59<>"",Q59,"")&IF($V59<>"","#"&AB59,"")&IF($U59<>"","#"&$U59,"") -> 10057101#10057102#10057103#10057104#10057105#10057106 | AO59: =IF($J59<>"",R59,"")&IF($V59<>"","#"&AC59,"")&IF($U59<>"","#"&$U59,"") -> 10057101#10057102#10057103#10057104#10057105#10057106 | AP59: =IF($J59<>"",S59,"")&IF($V59<>"","#"&AD59,"")&IF($U59<>"","#"&$U59,"") -> 10057101#10057102#10057103#10057104#10057105#10057106 | AQ59: =IF($J59<>"",S59,"")&IF($V59<>"","#"&AE59,"")&IF($U59<>"","#"&$U59,"") -> 10057101#10057102#10057103#10057104#10057105#10057106 | AR59: ="|"&AG59&"|"&AH59&"|"&AI59&"|"&AJ59&"|"&AK59&"|"&AL59&"|"&AM59&"|"&AN59&"|"&AO59&"|"&AP59&"|"&AQ59 -> |10057101|10057101#10057102|10057101#10057102#10057103#10057104|10057101#10057102#10057103#10057104#10057105|10057101#10057102#10057103#10057104#10057105#10057106|10057101#10057102#10057103#10057104#10057105#10057106|10057101#10057102#10057103#10057104#10057105#10057106|10057101#10057102#10057103#10057104#10057105#10057106|10057101#10057102#10057103#10057104#10057105#10057106|10057101#10057102#10057103#10057104#10057105#10057106|10057101#10057102#10057103#10057104#10057105#10057106
A60: 10058 | B60: 九婴 | C60: 夏侯渊 | D60: 3 | E60: 4 | F60: 100581#100582 | G60: 4 | H60: 纵排 | I60: 物理 | J60: 10058101 | K60: 10058101#10058102 | L60: 10058101#10058102#10058103#10058104 | M60: 10058101#10058102#10058103#10058104#10058105 | N60: 10058101#10058102#10058103#10058104#10058105#10058106 | O60: 10058101#10058102#10058103#10058104#10058105#10058106 | P60: 10058101#10058102#10058103#10058104#10058105#10058106 | Q60: 10058101#10058102#10058103#10058104#10058105#10058106 | R60: 10058101#10058102#10058103#10058104#10058105#10058106 | S60: 10058101#10058102#10058103#10058104#10058105#10058106 | AF60: ="" | AG60: =IF($J60<>"",J60,"") -> 10058101 | AH60: =IF($J60<>"",K60,"") -> 10058101#10058102 | AI60: =IF($J60<>"",L60,"")&IF($V60<>"","#"&V60,"") -> 10058101#10058102#10058103#10058104 | AJ60: =IF($J60<>"",M60,"")&IF($V60<>"","#"&W60,"") -> 10058101#10058102#10058103#10058104#10058105 | AK60: =IF($J60<>"",N60,"")&IF($V60<>"","#"&X60,"") -> 10058101#10058102#10058103#10058104#10058105#10058106 | AL60: =IF($J60<>"",O60,"")&IF($V60<>"","#"&Y60,"")&IF($U60<>"","#"&$U60,"") -> 10058101#10058102#10058103#10058104#10058105#10058106 | AM60: =IF($J60<>"",P60,"")&IF($V60<>"","#"&AA60,"")&IF($U60<>"","#"&$U60,"") -> 10058101#10058102#10058103#10058104#10058105#10058106 | AN60: =IF($J60<>"",Q60,"")&IF($V60<>"","#"&AB60,"")&IF($U60<>"","#"&$U60,"") -> 10058101#10058102#10058103#10058104#10058105#10058106 | AO60: =IF($J60<>"",R60,"")&IF($V60<>"","#"&AC60,"")&IF($U60<>"","#"&$U60,"") -> 10058101#10058102#10058103#10058104#10058105#10058106 | AP60: =IF($J60<>"",S60,"")&IF($V60<>"","#"&AD60,"")&IF($U60<>"","#"&$U60,"") -> 10058101#10058102#10058103#10058104#10058105#10058106 | AQ60: =IF($J60<>"",S60,"")&IF($V60<>"","#"&AE60,"")&IF($U60<>"","#"&$U60,"") -> 10058101#10058102#10058103#10058104#10058105#10058106 | AR60: ="|"&AG60&"|"&AH60&"|"&AI60&"|"&AJ60&"|"&AK60&"|"&AL60&"|"&AM60&"|"&AN60&"|"&AO60&"|"&AP60&"|"&AQ60 -> |10058101|10058101#10058102|10058101#10058102#10058103#10058104|10058101#10058102#10058103#10058104#10058105|10058101#10058102#10058103#10058104#10058105#10058106|10058101#10058102#10058103#10058104#10058105#10058106|10058101#10058102#10058103#10058104#10058105#10058106|10058101#10058102#10058103#10058104#10058105#10058106|10058101#10058102#10058103#10058104#10058105#10058106|10058101#10058102#10058103#10058104#10058105#10058106|10058101#10058102#10058103#10058104#10058105#10058106
A61: 10059 | B61: 怨鬼灵 | C61: 少年曹操 | D61: 3 | E61: 4 | F61: 100591#100592 | G61: 4 | H61: 随机3体 | I61: 物理 | J61: 10059101 | K61: 10059101#10059102 | L61: 10059101#10059102#10059103#10059104 | M61: 10059101#10059102#10059103#10059104#10059105 | N61: 10059101#10059102#10059103#10059104#10059105#10059106 | O61: 10059101#10059102#10059103#10059104#10059105#10059106 | P61: 10059101#10059102#10059103#10059104#10059105#10059106 | Q61: 10059101#10059102#10059103#10059104#10059105#10059106 | R61: 10059101#10059102#10059103#10059104#10059105#10059106 | S61: 10059101#10059102#10059103#10059104#10059105#10059106 | AF61: ="" | AG61: =IF($J61<>"",J61,"") -> 10059101 | AH61: =IF($J61<>"",K61,"") -> 10059101#10059102 | AI61: =IF($J61<>"",L61,"")&IF($V61<>"","#"&V61,"") -> 10059101#10059102#10059103#10059104 | AJ61: =IF($J61<>"",M61,"")&IF($V61<>"","#"&W61,"") -> 10059101#10059102#10059103#10059104#10059105 | AK61: =IF($J61<>"",N61,"")&IF($V61<>"","#"&X61,"") -> 10059101#10059102#10059103#10059104#10059105#10059106 | AL61: =IF($J61<>"",O61,"")&IF($V61<>"","#"&Y61,"")&IF($U61<>"","#"&$U61,"") -> 10059101#10059102#10059103#10059104#10059105#10059106 | AM61: =IF($J61<>"",P61,"")&IF($V61<>"","#"&AA61,"")&IF($U61<>"","#"&$U61,"") -> 10059101#10059102#10059103#10059104#10059105#10059106 | AN61: =IF($J61<>"",Q61,"")&IF($V61<>"","#"&AB61,"")&IF($U61<>"","#"&$U61,"") -> 10059101#10059102#10059103#10059104#10059105#10059106 | AO61: =IF($J61<>"",R61,"")&IF($V61<>"","#"&AC61,"")&IF($U61<>"","#"&$U61,"") -> 10059101#10059102#10059103#10059104#10059105#10059106 | AP61: =IF($J61<>"",S61,"")&IF($V61<>"","#"&AD61,"")&IF($U61<>"","#"&$U61,"") -> 10059101#10059102#10059103#10059104#10059105#10059106 | AQ61: =IF($J61<>"",S61,"")&IF($V61<>"","#"&AE61,"")&IF($U61<>"","#"&$U61,"") -> 10059101#10059102#10059103#10059104#10059105#10059106 | AR61: ="|"&AG61&"|"&AH61&"|"&AI61&"|"&AJ61&"|"&AK61&"|"&AL61&"|"&AM61&"|"&AN61&"|"&AO61&"|"&AP61&"|"&AQ61 -> |10059101|10059101#10059102|10059101#10059102#10059103#10059104|10059101#10059102#10059103#10059104#10059105|10059101#10059102#10059103#10059104#10059105#10059106|10059101#10059102#10059103#10059104#10059105#10059106|10059101#10059102#10059103#10059104#10059105#10059106|10059101#10059102#10059103#10059104#10059105#10059106|10059101#10059102#10059103#10059104#10059105#10059106|10059101#10059102#10059103#10059104#10059105#10059106|10059101#10059102#10059103#10059104#10059105#10059106
A62: 10060 | B62: 幽魂姬 | C62: 少女甄姬 | D62: 3 | E62: 4 | F62: 100601#100602 | G62: 4 | H62: 常规单体 | I62: 魔法 | J62: 10060101 | K62: 10060101#10060102 | L62: 10060101#10060102#10060103#10060104 | M62: 10060101#10060102#10060103#10060104#10060105 | N62: 10060101#10060102#10060103#10060104#10060105#10060106 | O62: 10060101#10060102#10060103#10060104#10060105#10060106 | P62: 10060101#10060102#10060103#10060104#10060105#10060106 | Q62: 10060101#10060102#10060103#10060104#10060105#10060106 | R62: 10060101#10060102#10060103#10060104#10060105#10060106 | S62: 10060101#10060102#10060103#10060104#10060105#10060106 | AF62: ="" | AG62: =IF($J62<>"",J62,"") -> 10060101 | AH62: =IF($J62<>"",K62,"") -> 10060101#10060102 | AI62: =IF($J62<>"",L62,"")&IF($V62<>"","#"&V62,"") -> 10060101#10060102#10060103#10060104 | AJ62: =IF($J62<>"",M62,"")&IF($V62<>"","#"&W62,"") -> 10060101#10060102#10060103#10060104#10060105 | AK62: =IF($J62<>"",N62,"")&IF($V62<>"","#"&X62,"") -> 10060101#10060102#10060103#10060104#10060105#10060106 | AL62: =IF($J62<>"",O62,"")&IF($V62<>"","#"&Y62,"")&IF($U62<>"","#"&$U62,"") -> 10060101#10060102#10060103#10060104#10060105#10060106 | AM62: =IF($J62<>"",P62,"")&IF($V62<>"","#"&AA62,"")&IF($U62<>"","#"&$U62,"") -> 10060101#10060102#10060103#10060104#10060105#10060106 | AN62: =IF($J62<>"",Q62,"")&IF($V62<>"","#"&AB62,"")&IF($U62<>"","#"&$U62,"") -> 10060101#10060102#10060103#10060104#10060105#10060106 | AO62: =IF($J62<>"",R62,"")&IF($V62<>"","#"&AC62,"")&IF($U62<>"","#"&$U62,"") -> 10060101#10060102#10060103#10060104#10060105#10060106 | AP62: =IF($J62<>"",S62,"")&IF($V62<>"","#"&AD62,"")&IF($U62<>"","#"&$U62,"") -> 10060101#10060102#10060103#10060104#10060105#10060106 | AQ62: =IF($J62<>"",S62,"")&IF($V62<>"","#"&AE62,"")&IF($U62<>"","#"&$U62,"") -> 10060101#10060102#10060103#10060104#10060105#10060106 | AR62: ="|"&AG62&"|"&AH62&"|"&AI62&"|"&AJ62&"|"&AK62&"|"&AL62&"|"&AM62&"|"&AN62&"|"&AO62&"|"&AP62&"|"&AQ62 -> |10060101|10060101#10060102|10060101#10060102#10060103#10060104|10060101#10060102#10060103#10060104#10060105|10060101#10060102#10060103#10060104#10060105#10060106|10060101#10060102#10060103#10060104#10060105#10060106|10060101#10060102#10060103#10060104#10060105#10060106|10060101#10060102#10060103#10060104#10060105#10060106|10060101#10060102#10060103#10060104#10060105#10060106|10060101#10060102#10060103#10060104#10060105#10060106|10060101#10060102#10060103#10060104#10060105#10060106
A63: 10061 | B63: 地藏 | C63: 孟获 | D63: 2 | E63: 4 | F63: 100611#100612 | G63: 2 | H63: 常规单体 | I63: 物理 | J63: 10061101 | K63: 10061101#10061102 | L63: 10061101#10061102#10061103#10061104 | M63: 10061101#10061102#10061103#10061104#10061105 | N63: 10061101#10061102#10061103#10061104#10061105#10061106 | O63: 10061101#10061102#10061103#10061104#10061105#10061106 | P63: 10061101#10061102#10061103#10061104#10061105#10061106 | Q63: 10061101#10061102#10061103#10061104#10061105#10061106 | R63: 10061101#10061102#10061103#10061104#10061105#10061106 | S63: 10061101#10061102#10061103#10061104#10061105#10061106 | AF63: ="" | AG63: =IF($J63<>"",J63,"") -> 10061101 | AH63: =IF($J63<>"",K63,"") -> 10061101#10061102 | AI63: =IF($J63<>"",L63,"")&IF($V63<>"","#"&V63,"") -> 10061101#10061102#10061103#10061104 | AJ63: =IF($J63<>"",M63,"")&IF($V63<>"","#"&W63,"") -> 10061101#10061102#10061103#10061104#10061105 | AK63: =IF($J63<>"",N63,"")&IF($V63<>"","#"&X63,"") -> 10061101#10061102#10061103#10061104#10061105#10061106 | AL63: =IF($J63<>"",O63,"")&IF($V63<>"","#"&Y63,"")&IF($U63<>"","#"&$U63,"") -> 10061101#10061102#10061103#10061104#10061105#10061106 | AM63: =IF($J63<>"",P63,"")&IF($V63<>"","#"&AA63,"")&IF($U63<>"","#"&$U63,"") -> 10061101#10061102#10061103#10061104#10061105#10061106 | AN63: =IF($J63<>"",Q63,"")&IF($V63<>"","#"&AB63,"")&IF($U63<>"","#"&$U63,"") -> 10061101#10061102#10061103#10061104#10061105#10061106 | AO63: =IF($J63<>"",R63,"")&IF($V63<>"","#"&AC63,"")&IF($U63<>"","#"&$U63,"") -> 10061101#10061102#10061103#10061104#10061105#10061106 | AP63: =IF($J63<>"",S63,"")&IF($V63<>"","#"&AD63,"")&IF($U63<>"","#"&$U63,"") -> 10061101#10061102#10061103#10061104#10061105#10061106 | AQ63: =IF($J63<>"",S63,"")&IF($V63<>"","#"&AE63,"")&IF($U63<>"","#"&$U63,"") -> 10061101#10061102#10061103#10061104#10061105#10061106 | AR63: ="|"&AG63&"|"&AH63&"|"&AI63&"|"&AJ63&"|"&AK63&"|"&AL63&"|"&AM63&"|"&AN63&"|"&AO63&"|"&AP63&"|"&AQ63 -> |10061101|10061101#10061102|10061101#10061102#10061103#10061104|10061101#10061102#10061103#10061104#10061105|10061101#10061102#10061103#10061104#10061105#10061106|10061101#10061102#10061103#10061104#10061105#10061106|10061101#10061102#10061103#10061104#10061105#10061106|10061101#10061102#10061103#10061104#10061105#10061106|10061101#10061102#10061103#10061104#10061105#10061106|10061101#10061102#10061103#10061104#10061105#10061106|10061101#10061102#10061103#10061104#10061105#10061106
A64: 10062 | B64: 迦楼罗 | C64: 祝融 | D64: 2 | E64: 4 | F64: 100621#100622 | G64: 2 | H64: 纵排 | I64: 物理 | J64: 10062101 | K64: 10062101#10062102 | L64: 10062101#10062102#10062103#10062104 | M64: 10062101#10062102#10062103#10062104#10062105 | N64: 10062101#10062102#10062103#10062104#10062105#10062106 | O64: 10062101#10062102#10062103#10062104#10062105#10062106 | P64: 10062101#10062102#10062103#10062104#10062105#10062106 | Q64: 10062101#10062102#10062103#10062104#10062105#10062106 | R64: 10062101#10062102#10062103#10062104#10062105#10062106 | S64: 10062101#10062102#10062103#10062104#10062105#10062106 | AF64: ="" | AG64: =IF($J64<>"",J64,"") -> 10062101 | AH64: =IF($J64<>"",K64,"") -> 10062101#10062102 | AI64: =IF($J64<>"",L64,"")&IF($V64<>"","#"&V64,"") -> 10062101#10062102#10062103#10062104 | AJ64: =IF($J64<>"",M64,"")&IF($V64<>"","#"&W64,"") -> 10062101#10062102#10062103#10062104#10062105 | AK64: =IF($J64<>"",N64,"")&IF($V64<>"","#"&X64,"") -> 10062101#10062102#10062103#10062104#10062105#10062106 | AL64: =IF($J64<>"",O64,"")&IF($V64<>"","#"&Y64,"")&IF($U64<>"","#"&$U64,"") -> 10062101#10062102#10062103#10062104#10062105#10062106 | AM64: =IF($J64<>"",P64,"")&IF($V64<>"","#"&AA64,"")&IF($U64<>"","#"&$U64,"") -> 10062101#10062102#10062103#10062104#10062105#10062106 | AN64: =IF($J64<>"",Q64,"")&IF($V64<>"","#"&AB64,"")&IF($U64<>"","#"&$U64,"") -> 10062101#10062102#10062103#10062104#10062105#10062106 | AO64: =IF($J64<>"",R64,"")&IF($V64<>"","#"&AC64,"")&IF($U64<>"","#"&$U64,"") -> 10062101#10062102#10062103#10062104#10062105#10062106 | AP64: =IF($J64<>"",S64,"")&IF($V64<>"","#"&AD64,"")&IF($U64<>"","#"&$U64,"") -> 10062101#10062102#10062103#10062104#10062105#10062106 | AQ64: =IF($J64<>"",S64,"")&IF($V64<>"","#"&AE64,"")&IF($U64<>"","#"&$U64,"") -> 10062101#10062102#10062103#10062104#10062105#10062106 | AR64: ="|"&AG64&"|"&AH64&"|"&AI64&"|"&AJ64&"|"&AK64&"|"&AL64&"|"&AM64&"|"&AN64&"|"&AO64&"|"&AP64&"|"&AQ64 -> |10062101|10062101#10062102|10062101#10062102#10062103#10062104|10062101#10062102#10062103#10062104#10062105|10062101#10062102#10062103#10062104#10062105#10062106|10062101#10062102#10062103#10062104#10062105#10062106|10062101#10062102#10062103#10062104#10062105#10062106|10062101#10062102#10062103#10062104#10062105#10062106|10062101#10062102#10062103#10062104#10062105#10062106|10062101#10062102#10062103#10062104#10062105#10062106|10062101#10062102#10062103#10062104#10062105#10062106
A65: 10063 | B65: 伽罗尊者 | C65: 少年赵云 | D65: 2 | E65: 4 | F65: 100631#100632 | G65: 2 | H65: 纵排 | I65: 物理 | J65: 10063101 | K65: 10063101#10063102 | L65: 10063101#10063102#10063103#10063104 | M65: 10063101#10063102#10063103#10063104#10063105 | N65: 10063101#10063102#10063103#10063104#10063105#10063106 | O65: 10063101#10063102#10063103#10063104#10063105#10063106 | P65: 10063101#10063102#10063103#10063104#10063105#10063106 | Q65: 10063101#10063102#10063103#10063104#10063105#10063106 | R65: 10063101#10063102#10063103#10063104#10063105#10063106 | S65: 10063101#10063102#10063103#10063104#10063105#10063106 | AF65: ="" | AG65: =IF($J65<>"",J65,"") -> 10063101 | AH65: =IF($J65<>"",K65,"") -> 10063101#10063102 | AI65: =IF($J65<>"",L65,"")&IF($V65<>"","#"&V65,"") -> 10063101#10063102#10063103#10063104 | AJ65: =IF($J65<>"",M65,"")&IF($V65<>"","#"&W65,"") -> 10063101#10063102#10063103#10063104#10063105 | AK65: =IF($J65<>"",N65,"")&IF($V65<>"","#"&X65,"") -> 10063101#10063102#10063103#10063104#10063105#10063106 | AL65: =IF($J65<>"",O65,"")&IF($V65<>"","#"&Y65,"")&IF($U65<>"","#"&$U65,"") -> 10063101#10063102#10063103#10063104#10063105#10063106 | AM65: =IF($J65<>"",P65,"")&IF($V65<>"","#"&AA65,"")&IF($U65<>"","#"&$U65,"") -> 10063101#10063102#10063103#10063104#10063105#10063106 | AN65: =IF($J65<>"",Q65,"")&IF($V65<>"","#"&AB65,"")&IF($U65<>"","#"&$U65,"") -> 10063101#10063102#10063103#10063104#10063105#10063106 | AO65: =IF($J65<>"",R65,"")&IF($V65<>"","#"&AC65,"")&IF($U65<>"","#"&$U65,"") -> 10063101#10063102#10063103#10063104#10063105#10063106 | AP65: =IF($J65<>"",S65,"")&IF($V65<>"","#"&AD65,"")&IF($U65<>"","#"&$U65,"") -> 10063101#10063102#10063103#10063104#10063105#10063106 | AQ65: =IF($J65<>"",S65,"")&IF($V65<>"","#"&AE65,"")&IF($U65<>"","#"&$U65,"") -> 10063101#10063102#10063103#10063104#10063105#10063106 | AR65: ="|"&AG65&"|"&AH65&"|"&AI65&"|"&AJ65&"|"&AK65&"|"&AL65&"|"&AM65&"|"&AN65&"|"&AO65&"|"&AP65&"|"&AQ65 -> |10063101|10063101#10063102|10063101#10063102#10063103#10063104|10063101#10063102#10063103#10063104#10063105|10063101#10063102#10063103#10063104#10063105#10063106|10063101#10063102#10063103#10063104#10063105#10063106|10063101#10063102#10063103#10063104#10063105#10063106|10063101#10063102#10063103#10063104#10063105#10063106|10063101#10063102#10063103#10063104#10063105#10063106|10063101#10063102#10063103#10063104#10063105#10063106|10063101#10063102#10063103#10063104#10063105#10063106
A66: 10064 | B66: 阿修罗 | C66: 少年关羽 | D66: 2 | E66: 4 | F66: 100641#100642 | G66: 3 | H66: 常规单体 | I66: 物理 | J66: 10064101 | K66: 10064101#10064102 | L66: 10064101#10064102#10064103#10064104 | M66: 10064101#10064102#10064103#10064104#10064105 | N66: 10064101#10064102#10064103#10064104#10064105#10064106 | O66: 10064101#10064102#10064103#10064104#10064105#10064106 | P66: 10064101#10064102#10064103#10064104#10064105#10064106 | Q66: 10064101#10064102#10064103#10064104#10064105#10064106 | R66: 10064101#10064102#10064103#10064104#10064105#10064106 | S66: 10064101#10064102#10064103#10064104#10064105#10064106 | AF66: ="" | AG66: =IF($J66<>"",J66,"") -> 10064101 | AH66: =IF($J66<>"",K66,"") -> 10064101#10064102 | AI66: =IF($J66<>"",L66,"")&IF($V66<>"","#"&V66,"") -> 10064101#10064102#10064103#10064104 | AJ66: =IF($J66<>"",M66,"")&IF($V66<>"","#"&W66,"") -> 10064101#10064102#10064103#10064104#10064105 | AK66: =IF($J66<>"",N66,"")&IF($V66<>"","#"&X66,"") -> 10064101#10064102#10064103#10064104#10064105#10064106 | AL66: =IF($J66<>"",O66,"")&IF($V66<>"","#"&Y66,"")&IF($U66<>"","#"&$U66,"") -> 10064101#10064102#10064103#10064104#10064105#10064106 | AM66: =IF($J66<>"",P66,"")&IF($V66<>"","#"&AA66,"")&IF($U66<>"","#"&$U66,"") -> 10064101#10064102#10064103#10064104#10064105#10064106 | AN66: =IF($J66<>"",Q66,"")&IF($V66<>"","#"&AB66,"")&IF($U66<>"","#"&$U66,"") -> 10064101#10064102#10064103#10064104#10064105#10064106 | AO66: =IF($J66<>"",R66,"")&IF($V66<>"","#"&AC66,"")&IF($U66<>"","#"&$U66,"") -> 10064101#10064102#10064103#10064104#10064105#10064106 | AP66: =IF($J66<>"",S66,"")&IF($V66<>"","#"&AD66,"")&IF($U66<>"","#"&$U66,"") -> 10064101#10064102#10064103#10064104#10064105#10064106 | AQ66: =IF($J66<>"",S66,"")&IF($V66<>"","#"&AE66,"")&IF($U66<>"","#"&$U66,"") -> 10064101#10064102#10064103#10064104#10064105#10064106 | AR66: ="|"&AG66&"|"&AH66&"|"&AI66&"|"&AJ66&"|"&AK66&"|"&AL66&"|"&AM66&"|"&AN66&"|"&AO66&"|"&AP66&"|"&AQ66 -> |10064101|10064101#10064102|10064101#10064102#10064103#10064104|10064101#10064102#10064103#10064104#10064105|10064101#10064102#10064103#10064104#10064105#10064106|10064101#10064102#10064103#10064104#10064105#10064106|10064101#10064102#10064103#10064104#10064105#10064106|10064101#10064102#10064103#10064104#10064105#10064106|10064101#10064102#10064103#10064104#10064105#10064106|10064101#10064102#10064103#10064104#10064105#10064106|10064101#10064102#10064103#10064104#10064105#10064106
A67: 10065 | B67: 木吒 | C67: 凌统 | D67: 1 | E67: 4 | F67: 100651#100652 | G67: 4 | H67: 常规单体 | I67: 物理 | J67: 10065101 | K67: 10065101#10065102 | L67: 10065101#10065102#10065103#10065104 | M67: 10065101#10065102#10065103#10065104#10065105 | N67: 10065101#10065102#10065103#10065104#10065105#10065106 | O67: 10065101#10065102#10065103#10065104#10065105#10065106 | P67: 10065101#10065102#10065103#10065104#10065105#10065106 | Q67: 10065101#10065102#10065103#10065104#10065105#10065106 | R67: 10065101#10065102#10065103#10065104#10065105#10065106 | S67: 10065101#10065102#10065103#10065104#10065105#10065106 | AF67: ="" | AG67: =IF($J67<>"",J67,"") -> 10065101 | AH67: =IF($J67<>"",K67,"") -> 10065101#10065102 | AI67: =IF($J67<>"",L67,"")&IF($V67<>"","#"&V67,"") -> 10065101#10065102#10065103#10065104 | AJ67: =IF($J67<>"",M67,"")&IF($V67<>"","#"&W67,"") -> 10065101#10065102#10065103#10065104#10065105 | AK67: =IF($J67<>"",N67,"")&IF($V67<>"","#"&X67,"") -> 10065101#10065102#10065103#10065104#10065105#10065106 | AL67: =IF($J67<>"",O67,"")&IF($V67<>"","#"&Y67,"")&IF($U67<>"","#"&$U67,"") -> 10065101#10065102#10065103#10065104#10065105#10065106 | AM67: =IF($J67<>"",P67,"")&IF($V67<>"","#"&AA67,"")&IF($U67<>"","#"&$U67,"") -> 10065101#10065102#10065103#10065104#10065105#10065106 | AN67: =IF($J67<>"",Q67,"")&IF($V67<>"","#"&AB67,"")&IF($U67<>"","#"&$U67,"") -> 10065101#10065102#10065103#10065104#10065105#10065106 | AO67: =IF($J67<>"",R67,"")&IF($V67<>"","#"&AC67,"")&IF($U67<>"","#"&$U67,"") -> 10065101#10065102#10065103#10065104#10065105#10065106 | AP67: =IF($J67<>"",S67,"")&IF($V67<>"","#"&AD67,"")&IF($U67<>"","#"&$U67,"") -> 10065101#10065102#10065103#10065104#10065105#10065106 | AQ67: =IF($J67<>"",S67,"")&IF($V67<>"","#"&AE67,"")&IF($U67<>"","#"&$U67,"") -> 10065101#10065102#10065103#10065104#10065105#10065106 | AR67: ="|"&AG67&"|"&AH67&"|"&AI67&"|"&AJ67&"|"&AK67&"|"&AL67&"|"&AM67&"|"&AN67&"|"&AO67&"|"&AP67&"|"&AQ67 -> |10065101|10065101#10065102|10065101#10065102#10065103#10065104|10065101#10065102#10065103#10065104#10065105|10065101#10065102#10065103#10065104#10065105#10065106|10065101#10065102#10065103#10065104#10065105#10065106|10065101#10065102#10065103#10065104#10065105#10065106|10065101#10065102#10065103#10065104#10065105#10065106|10065101#10065102#10065103#10065104#10065105#10065106|10065101#10065102#10065103#10065104#10065105#10065106|10065101#10065102#10065103#10065104#10065105#10065106
A68: 10066 | B68: 孟姜女 | C68: 步练师 | D68: 1 | E68: 4 | F68: 100661#100662 | G68: 2 | H68: 常规单体 | I68: 物理 | J68: 10066101 | K68: 10066101#10066102 | L68: 10066101#10066102#10066103#10066104 | M68: 10066101#10066102#10066103#10066104#10066105 | N68: 10066101#10066102#10066103#10066104#10066105#10066106 | O68: 10066101#10066102#10066103#10066104#10066105#10066106 | P68: 10066101#10066102#10066103#10066104#10066105#10066106 | Q68: 10066101#10066102#10066103#10066104#10066105#10066106 | R68: 10066101#10066102#10066103#10066104#10066105#10066106 | S68: 10066101#10066102#10066103#10066104#10066105#10066106 | AF68: ="" | AG68: =IF($J68<>"",J68,"") -> 10066101 | AH68: =IF($J68<>"",K68,"") -> 10066101#10066102 | AI68: =IF($J68<>"",L68,"")&IF($V68<>"","#"&V68,"") -> 10066101#10066102#10066103#10066104 | AJ68: =IF($J68<>"",M68,"")&IF($V68<>"","#"&W68,"") -> 10066101#10066102#10066103#10066104#10066105 | AK68: =IF($J68<>"",N68,"")&IF($V68<>"","#"&X68,"") -> 10066101#10066102#10066103#10066104#10066105#10066106 | AL68: =IF($J68<>"",O68,"")&IF($V68<>"","#"&Y68,"")&IF($U68<>"","#"&$U68,"") -> 10066101#10066102#10066103#10066104#10066105#10066106 | AM68: =IF($J68<>"",P68,"")&IF($V68<>"","#"&AA68,"")&IF($U68<>"","#"&$U68,"") -> 10066101#10066102#10066103#10066104#10066105#10066106 | AN68: =IF($J68<>"",Q68,"")&IF($V68<>"","#"&AB68,"")&IF($U68<>"","#"&$U68,"") -> 10066101#10066102#10066103#10066104#10066105#10066106 | AO68: =IF($J68<>"",R68,"")&IF($V68<>"","#"&AC68,"")&IF($U68<>"","#"&$U68,"") -> 10066101#10066102#10066103#10066104#10066105#10066106 | AP68: =IF($J68<>"",S68,"")&IF($V68<>"","#"&AD68,"")&IF($U68<>"","#"&$U68,"") -> 10066101#10066102#10066103#10066104#10066105#10066106 | AQ68: =IF($J68<>"",S68,"")&IF($V68<>"","#"&AE68,"")&IF($U68<>"","#"&$U68,"") -> 10066101#10066102#10066103#10066104#10066105#10066106 | AR68: ="|"&AG68&"|"&AH68&"|"&AI68&"|"&AJ68&"|"&AK68&"|"&AL68&"|"&AM68&"|"&AN68&"|"&AO68&"|"&AP68&"|"&AQ68 -> |10066101|10066101#10066102|10066101#10066102#10066103#10066104|10066101#10066102#10066103#10066104#10066105|10066101#10066102#10066103#10066104#10066105#10066106|10066101#10066102#10066103#10066104#10066105#10066106|10066101#10066102#10066103#10066104#10066105#10066106|10066101#10066102#10066103#10066104#10066105#10066106|10066101#10066102#10066103#10066104#10066105#10066106|10066101#10066102#10066103#10066104#10066105#10066106|10066101#10066102#10066103#10066104#10066105#10066106
A69: 10067 | B69: 梦蝶 | C69: 少年周瑜 | D69: 1 | E69: 4 | F69: 100671#100672 | G69: 4 | H69: 随机3体 | I69: 魔法 | J69: 10067101 | K69: 10067101#10067102 | L69: 10067101#10067102#10067103#10067104 | M69: 10067101#10067102#10067103#10067104#10067105 | N69: 10067101#10067102#10067103#10067104#10067105#10067106 | O69: 10067101#10067102#10067103#10067104#10067105#10067106 | P69: 10067101#10067102#10067103#10067104#10067105#10067106 | Q69: 10067101#10067102#10067103#10067104#10067105#10067106 | R69: 10067101#10067102#10067103#10067104#10067105#10067106 | S69: 10067101#10067102#10067103#10067104#10067105#10067106 | AF69: ="" | AG69: =IF($J69<>"",J69,"") -> 10067101 | AH69: =IF($J69<>"",K69,"") -> 10067101#10067102 | AI69: =IF($J69<>"",L69,"")&IF($V69<>"","#"&V69,"") -> 10067101#10067102#10067103#10067104 | AJ69: =IF($J69<>"",M69,"")&IF($V69<>"","#"&W69,"") -> 10067101#10067102#10067103#10067104#10067105 | AK69: =IF($J69<>"",N69,"")&IF($V69<>"","#"&X69,"") -> 10067101#10067102#10067103#10067104#10067105#10067106 | AL69: =IF($J69<>"",O69,"")&IF($V69<>"","#"&Y69,"")&IF($U69<>"","#"&$U69,"") -> 10067101#10067102#10067103#10067104#10067105#10067106 | AM69: =IF($J69<>"",P69,"")&IF($V69<>"","#"&AA69,"")&IF($U69<>"","#"&$U69,"") -> 10067101#10067102#10067103#10067104#10067105#10067106 | AN69: =IF($J69<>"",Q69,"")&IF($V69<>"","#"&AB69,"")&IF($U69<>"","#"&$U69,"") -> 10067101#10067102#10067103#10067104#10067105#10067106 | AO69: =IF($J69<>"",R69,"")&IF($V69<>"","#"&AC69,"")&IF($U69<>"","#"&$U69,"") -> 10067101#10067102#10067103#10067104#10067105#10067106 | AP69: =IF($J69<>"",S69,"")&IF($V69<>"","#"&AD69,"")&IF($U69<>"","#"&$U69,"") -> 10067101#10067102#10067103#10067104#10067105#10067106 | AQ69: =IF($J69<>"",S69,"")&IF($V69<>"","#"&AE69,"")&IF($U69<>"","#"&$U69,"") -> 10067101#10067102#10067103#10067104#10067105#10067106 | AR69: ="|"&AG69&"|"&AH69&"|"&AI69&"|"&AJ69&"|"&AK69&"|"&AL69&"|"&AM69&"|"&AN69&"|"&AO69&"|"&AP69&"|"&AQ69 -> |10067101|10067101#10067102|10067101#10067102#10067103#10067104|10067101#10067102#10067103#10067104#10067105|10067101#10067102#10067103#10067104#10067105#10067106|10067101#10067102#10067103#10067104#10067105#10067106|10067101#10067102#10067103#10067104#10067105#10067106|10067101#10067102#10067103#10067104#10067105#10067106|10067101#10067102#10067103#10067104#10067105#10067106|10067101#10067102#10067103#10067104#10067105#10067106|10067101#10067102#10067103#10067104#10067105#10067106
A70: 10068 | B70: 金吒 | C70: 少女小乔 | D70: 1 | E70: 4 | F70: 100681#100682 | G70: 4 | H70: 随机3体 | I70: 魔法 | J70: 10068101 | K70: 10068101#10068102 | L70: 10068101#10068102#10068103#10068104 | M70: 10068101#10068102#10068103#10068104#10068105 | N70: 10068101#10068102#10068103#10068104#10068105#10068106 | O70: 10068101#10068102#10068103#10068104#10068105#10068106 | P70: 10068101#10068102#10068103#10068104#10068105#10068106 | Q70: 10068101#10068102#10068103#10068104#10068105#10068106 | R70: 10068101#10068102#10068103#10068104#10068105#10068106 | S70: 10068101#10068102#10068103#10068104#10068105#10068106 | AF70: ="" | AG70: =IF($J70<>"",J70,"") -> 10068101 | AH70: =IF($J70<>"",K70,"") -> 10068101#10068102 | AI70: =IF($J70<>"",L70,"")&IF($V70<>"","#"&V70,"") -> 10068101#10068102#10068103#10068104 | AJ70: =IF($J70<>"",M70,"")&IF($V70<>"","#"&W70,"") -> 10068101#10068102#10068103#10068104#10068105 | AK70: =IF($J70<>"",N70,"")&IF($V70<>"","#"&X70,"") -> 10068101#10068102#10068103#10068104#10068105#10068106 | AL70: =IF($J70<>"",O70,"")&IF($V70<>"","#"&Y70,"")&IF($U70<>"","#"&$U70,"") -> 10068101#10068102#10068103#10068104#10068105#10068106 | AM70: =IF($J70<>"",P70,"")&IF($V70<>"","#"&AA70,"")&IF($U70<>"","#"&$U70,"") -> 10068101#10068102#10068103#10068104#10068105#10068106 | AN70: =IF($J70<>"",Q70,"")&IF($V70<>"","#"&AB70,"")&IF($U70<>"","#"&$U70,"") -> 10068101#10068102#10068103#10068104#10068105#10068106 | AO70: =IF($J70<>"",R70,"")&IF($V70<>"","#"&AC70,"")&IF($U70<>"","#"&$U70,"") -> 10068101#10068102#10068103#10068104#10068105#10068106 | AP70: =IF($J70<>"",S70,"")&IF($V70<>"","#"&AD70,"")&IF($U70<>"","#"&$U70,"") -> 10068101#10068102#10068103#10068104#10068105#10068106 | AQ70: =IF($J70<>"",S70,"")&IF($V70<>"","#"&AE70,"")&IF($U70<>"","#"&$U70,"") -> 10068101#10068102#10068103#10068104#10068105#10068106 | AR70: ="|"&AG70&"|"&AH70&"|"&AI70&"|"&AJ70&"|"&AK70&"|"&AL70&"|"&AM70&"|"&AN70&"|"&AO70&"|"&AP70&"|"&AQ70 -> |10068101|10068101#10068102|10068101#10068102#10068103#10068104|10068101#10068102#10068103#10068104#10068105|10068101#10068102#10068103#10068104#10068105#10068106|10068101#10068102#10068103#10068104#10068105#10068106|10068101#10068102#10068103#10068104#10068105#10068106|10068101#10068102#10068103#10068104#10068105#10068106|10068101#10068102#10068103#10068104#10068105#10068106|10068101#10068102#10068103#10068104#10068105#10068106|10068101#10068102#10068103#10068104#10068105#10068106
... A74: 10072 | B74: 灵扇仙 | C74: 少女貂蝉 | D74: 4 | E74: 4 | F74: 100721#100722 | G74: 4 | H74: 常规单体 | I74: 魔法 | J74: 10072101 | K74: 10072101#10072102 | L74: 10072101#10072102#10072103#10072104 | M74: 10072101#10072102#10072103#10072104#10072105 | N74: 10072101#10072102#10072103#10072104#10072105#10072106 | O74: 10072101#10072102#10072103#10072104#10072105#10072106 | P74: 10072101#10072102#10072103#10072104#10072105#10072106 | Q74: 10072101#10072102#10072103#10072104#10072105#10072106 | R74: 10072101#10072102#10072103#10072104#10072105#10072106 | S74: 10072101#10072102#10072103#10072104#10072105#10072106 | AF74: ="" | AG74: =IF($J74<>"",J74,"") -> 10072101 | AH74: =IF($J74<>"",K74,"") -> 10072101#10072102 | AI74: =IF($J74<>"",L74,"")&IF($V74<>"","#"&V74,"") -> 10072101#10072102#10072103#10072104 | AJ74: =IF($J74<>"",M74,"")&IF($V74<>"","#"&W74,"") -> 10072101#10072102#10072103#10072104#10072105 | AK74: =IF($J74<>"",N74,"")&IF($V74<>"","#"&X74,"") -> 10072101#10072102#10072103#10072104#10072105#10072106 | AL74: =IF($J74<>"",O74,"")&IF($V74<>"","#"&Y74,"")&IF($U74<>"","#"&$U74,"") -> 10072101#10072102#10072103#10072104#10072105#10072106 | AM74: =IF($J74<>"",P74,"")&IF($V74<>"","#"&AA74,"")&IF($U74<>"","#"&$U74,"") -> 10072101#10072102#10072103#10072104#10072105#10072106 | AN74: =IF($J74<>"",Q74,"")&IF($V74<>"","#"&AB74,"")&IF($U74<>"","#"&$U74,"") -> 10072101#10072102#10072103#10072104#10072105#10072106 | AO74: =IF($J74<>"",R74,"")&IF($V74<>"","#"&AC74,"")&IF($U74<>"","#"&$U74,"") -> 10072101#10072102#10072103#10072104#10072105#10072106 | AP74: =IF($J74<>"",S74,"")&IF($V74<>"","#"&AD74,"")&IF($U74<>"","#"&$U74,"") -> 10072101#10072102#10072103#10072104#10072105#10072106 | AQ74: =IF($J74<>"",S74,"")&IF($V74<>"","#"&AE74,"")&IF($U74<>"","#"&$U74,"") -> 10072101#10072102#10072103#10072104#10072105#10072106 | AR74: ="|"&AG74&"|"&AH74&"|"&AI74&"|"&AJ74&"|"&AK74&"|"&AL74&"|"&AM74&"|"&AN74&"|"&AO74&"|"&AP74&"|"&AQ74 -> |10072101|10072101#10072102|10072101#10072102#10072103#10072104|10072101#10072102#10072103#10072104#10072105|10072101#10072102#10072103#10072104#10072105#10072106|10072101#10072102#10072103#10072104#10072105#10072106|10072101#10072102#10072103#10072104#10072105#10072106|10072101#10072102#10072103#10072104#10072105#10072106|10072101#10072102#10072103#10072104#10072105#10072106|10072101#10072102#10072103#10072104#10072105#10072106|10072101#10072102#10072103#10072104#10072105#10072106
A75: 10073 | B75: 火妖 | C75: 魏2星 | D75: 1 | E75: 2 | F75: 100731#100732 | G75: 2 | H75: 常规单体 | I75: 物理 | AF75: ="" | AG75: =IF($J75<>"",J75,"") | AH75: =IF($J75<>"",K75,"") | AI75: =IF($J75<>"",L75,"")&IF($V75<>"","#"&V75,"") | AJ75: =IF($J75<>"",M75,"")&IF($V75<>"","#"&W75,"") | AK75: =IF($J75<>"",N75,"")&IF($V75<>"","#"&X75,"") | AL75: =IF($J75<>"",O75,"")&IF($V75<>"","#"&Y75,"")&IF($U75<>"","#"&$U75,"") | AM75: =IF($J75<>"",P75,"")&IF($V75<>"","#"&AA75,"")&IF($U75<>"","#"&$U75,"") | AN75: =IF($J75<>"",Q75,"")&IF($V75<>"","#"&AB75,"")&IF($U75<>"","#"&$U75,"") | AO75: =IF($J75<>"",R75,"")&IF($V75<>"","#"&AC75,"")&IF($U75<>"","#"&$U75,"") | AP75: =IF($J75<>"",S75,"")&IF($V75<>"","#"&AD75,"")&IF($U75<>"","#"&$U75,"") | AQ75: =IF($J75<>"",S75,"")&IF($V75<>"","#"&AE75,"")&IF($U75<>"","#"&$U75,"")
A76: 10074 | B76: 迦奴 | C76: 蜀2星 | D76: 2 | E76: 2 | F76: 100741#100742 | G76: 2 | H76: 前排 | I76: 物理 | AF76: ="" | AG76: =IF($J76<>"",J76,"") | AH76: =IF($J76<>"",K76,"") | AI76: =IF($J76<>"",L76,"")&IF($V76<>"","#"&V76,"") | AJ76: =IF($J76<>"",M76,"")&IF($V76<>"","#"&W76,"") | AK76: =IF($J76<>"",N76,"")&IF($V76<>"","#"&X76,"") | AL76: =IF($J76<>"",O76,"")&IF($V76<>"","#"&Y76,"")&IF($U76<>"","#"&$U76,"") | AM76: =IF($J76<>"",P76,"")&IF($V76<>"","#"&AA76,"")&IF($U76<>"","#"&$U76,"") | AN76: =IF($J76<>"",Q76,"")&IF($V76<>"","#"&AB76,"")&IF($U76<>"","#"&$U76,"") | AO76: =IF($J76<>"",R76,"")&IF($V76<>"","#"&AC76,"")&IF($U76<>"","#"&$U76,"") | AP76: =IF($J76<>"",S76,"")&IF($V76<>"","#"&AD76,"")&IF($U76<>"","#"&$U76,"") | AQ76: =IF($J76<>"",S76,"")&IF($V76<>"","#"&AE76,"")&IF($U76<>"","#"&$U76,"")
A77: 10075 | B77: 方士 | C77: 吴2星 | D77: 3 | E77: 2 | F77: 100751#100752 | G77: 2 | H77: 前排 | I77: 物理 | AF77: ="" | AG77: =IF($J77<>"",J77,"") | AH77: =IF($J77<>"",K77,"") | AI77: =IF($J77<>"",L77,"")&IF($V77<>"","#"&V77,"") | AJ77: =IF($J77<>"",M77,"")&IF($V77<>"","#"&W77,"") | AK77: =IF($J77<>"",N77,"")&IF($V77<>"","#"&X77,"") | AL77: =IF($J77<>"",O77,"")&IF($V77<>"","#"&Y77,"")&IF($U77<>"","#"&$U77,"") | AM77: =IF($J77<>"",P77,"")&IF($V77<>"","#"&AA77,"")&IF($U77<>"","#"&$U77,"") | AN77: =IF($J77<>"",Q77,"")&IF($V77<>"","#"&AB77,"")&IF($U77<>"","#"&$U77,"") | AO77: =IF($J77<>"",R77,"")&IF($V77<>"","#"&AC77,"")&IF($U77<>"","#"&$U77,"") | AP77: =IF($J77<>"",S77,"")&IF($V77<>"","#"&AD77,"")&IF($U77<>"","#"&$U77,"") | AQ77: =IF($J77<>"",S77,"")&IF($V77<>"","#"&AE77,"")&IF($U77<>"","#"&$U77,"")
A78: 10076 | B78: 鬼差 | C78: 群2星 | D78: 4 | E78: 2 | F78: 100761#100762 | G78: 2 | H78: 前排 | I78: 物理 | AF78: ="" | AG78: =IF($J78<>"",J78,"") | AH78: =IF($J78<>"",K78,"") | AI78: =IF($J78<>"",L78,"")&IF($V78<>"","#"&V78,"") | AJ78: =IF($J78<>"",M78,"")&IF($V78<>"","#"&W78,"") | AK78: =IF($J78<>"",N78,"")&IF($V78<>"","#"&X78,"") | AL78: =IF($J78<>"",O78,"")&IF($V78<>"","#"&Y78,"")&IF($U78<>"","#"&$U78,"") | AM78: =IF($J78<>"",P78,"")&IF($V78<>"","#"&AA78,"")&IF($U78<>"","#"&$U78,"") | AN78: =IF($J78<>"",Q78,"")&IF($V78<>"","#"&AB78,"")&IF($U78<>"","#"&$U78,"") | AO78: =IF($J78<>"",R78,"")&IF($V78<>"","#"&AC78,"")&IF($U78<>"","#"&$U78,"") | AP78: =IF($J78<>"",S78,"")&IF($V78<>"","#"&AD78,"")&IF($U78<>"","#"&$U78,"") | AQ78: =IF($J78<>"",S78,"")&IF($V78<>"","#"&AE78,"")&IF($U78<>"","#"&$U78,"")
A79: 10079 | B79: 小妖灵 | C79: 魏1星 | D79: 1 | E79: 1 | F79: 100791#100792 | G79: 2 | H79: 纵排 | I79: 物理 | AF79: ="" | AG79: =IF($J79<>"",J79,"") | AH79: =IF($J79<>"",K79,"") | AI79: =IF($J79<>"",L79,"")&IF($V79<>"","#"&V79,"") | AJ79: =IF($J79<>"",M79,"")&IF($V79<>"","#"&W79,"") | AK79: =IF($J79<>"",N79,"")&IF($V79<>"","#"&X79,"") | AL79: =IF($J79<>"",O79,"")&IF($V79<>"","#"&Y79,"")&IF($U79<>"","#"&$U79,"") | AM79: =IF($J79<>"",P79,"")&IF($V79<>"","#"&AA79,"")&IF($U79<>"","#"&$U79,"") | AN79: =IF($J79<>"",Q79,"")&IF($V79<>"","#"&AB79,"")&IF($U79<>"","#"&$U79,"") | AO79: =IF($J79<>"",R79,"")&IF($V79<>"","#"&AC79,"")&IF($U79<>"","#"&$U79,"") | AP79: =IF($J79<>"",S79,"")&IF($V79<>"","#"&AD79,"")&IF($U79<>"","#"&$U79,"") | AQ79: =IF($J79<>"",S79,"")&IF($V79<>"","#"&AE79,"")&IF($U79<>"","#"&$U79,"")
A80: 10080 | B80: 幼娜灵 | C80: 蜀1星 | D80: 2 | E80: 1 | F80: 100801#100802 | G80: 2 | H80: 常规单体 | I80: 物理 | AF80: ="" | AG80: =IF($J80<>"",J80,"") | AH80: =IF($J80<>"",K80,"") | AI80: =IF($J80<>"",L80,"")&IF($V80<>"","#"&V80,"") | AJ80: =IF($J80<>"",M80,"")&IF($V80<>"","#"&W80,"") | AK80: =IF($J80<>"",N80,"")&IF($V80<>"","#"&X80,"") | AL80: =IF($J80<>"",O80,"")&IF($V80<>"","#"&Y80,"")&IF($U80<>"","#"&$U80,"") | AM80: =IF($J80<>"",P80,"")&IF($V80<>"","#"&AA80,"")&IF($U80<>"","#"&$U80,"") | AN80: =IF($J80<>"",Q80,"")&IF($V80<>"","#"&AB80,"")&IF($U80<>"","#"&$U80,"") | AO80: =IF($J80<>"",R80,"")&IF($V80<>"","#"&AC80,"")&IF($U80<>"","#"&$U80,"") | AP80: =IF($J80<>"",S80,"")&IF($V80<>"","#"&AD80,"")&IF($U80<>"","#"&$U80,"") | AQ80: =IF($J80<>"",S80,"")&IF($V80<>"","#"&AE80,"")&IF($U80<>"","#"&$U80,"")
A81: 10081 | B81: 方术灵 | C81: 吴1星 | D81: 3 | E81: 1 | F81: 100811#100812 | G81: 2 | H81: 常规单体 | I81: 物理 | AF81: ="" | AG81: =IF($J81<>"",J81,"") | AH81: =IF($J81<>"",K81,"") | AI81: =IF($J81<>"",L81,"")&IF($V81<>"","#"&V81,"") | AJ81: =IF($J81<>"",M81,"")&IF($V81<>"","#"&W81,"") | AK81: =IF($J81<>"",N81,"")&IF($V81<>"","#"&X81,"") | AL81: =IF($J81<>"",O81,"")&IF($V81<>"","#"&Y81,"")&IF($U81<>"","#"&$U81,"") | AM81: =IF($J81<>"",P81,"")&IF($V81<>"","#"&AA81,"")&IF($U81<>"","#"&$U81,"") | AN81: =IF($J81<>"",Q81,"")&IF($V81<>"","#"&AB81,"")&IF($U81<>"","#"&$U81,"") | AO81: =IF($J81<>"",R81,"")&IF($V81<>"","#"&AC81,"")&IF($U81<>"","#"&$U81,"") | AP81: =IF($J81<>"",S81,"")&IF($V81<>"","#"&AD81,"")&IF($U81<>"","#"&$U81,"") | AQ81: =IF($J81<>"",S81,"")&IF($V81<>"","#"&AE81,"")&IF($U81<>"","#"&$U81,"")
A82: 10082 | B82: 小道灵 | C82: 群1星 | D82: 4 | E82: 1 | F82: 100821#100822 | G82: 2 | H82: 随机3体 | I82: 魔法 | AF82: ="" | AG82: =IF($J82<>"",J82,"") | AH82: =IF($J82<>"",K82,"") | AI82: =IF($J82<>"",L82,"")&IF($V82<>"","#"&V82,"") | AJ82: =IF($J82<>"",M82,"")&IF($V82<>"","#"&W82,"") | AK82: =IF($J82<>"",N82,"")&IF($V82<>"","#"&X82,"") | AL82: =IF($J82<>"",O82,"")&IF($V82<>"","#"&Y82,"")&IF($U82<>"","#"&$U82,"") | AM82: =IF($J82<>"",P82,"")&IF($V82<>"","#"&AA82,"")&IF($U82<>"","#"&$U82,"") | AN82: =IF($J82<>"",Q82,"")&IF($V82<>"","#"&AB82,"")&IF($U82<>"","#"&$U82,"") | AO82: =IF($J82<>"",R82,"")&IF($V82<>"","#"&AC82,"")&IF($U82<>"","#"&$U82,"") | AP82: =IF($J82<>"",S82,"")&IF($V82<>"","#"&AD82,"")&IF($U82<>"","#"&$U82,"") | AQ82: =IF($J82<>"",S82,"")&IF($V82<>"","#"&AE82,"")&IF($U82<>"","#"&$U82,"")
A83: 10085 | B83: 敖丙 | C83: 曹植 | D83: 3 | E83: 5 | F83: 1131#1132 | G83: 2 | H83: 生命最低2体 | I83: 物理 | J83: 113101 | K83: 113101#113102 | L83: 113101#113102#113103#113104 | M83: 113101#113102#113103#113104#113105 | N83: 113101#113102#113103#113104#113105#113106 | O83: 113101#113102#113103#113104#113105#113106#113107 | P83: 113101#113102#113103#113104#113105#113106#113107#113108 | Q83: 113101#113102#113103#113104#113105#113106#113107#113108#113109 | R83: 113101#113102#113103#113104#113105#113106#113107#113108#113109#113110 | S83: 113101#113102#113103#113104#113105#113106#113107#113108#113109#113110#113111 | T83: =VLOOKUP(A83,[3]英雄被动1!$C:$Q,14,FALSE) -> 1131010#1131020#1131030#1131040#1131050#1131060#1131070#1131071#1131080#1131090#1131100#1131101#1131110#1131111 | U83: 113205 | V83: 1000011 | W83: 1000011#1000016 | X83: 1000011#1000016#1000032 | Y83: 1000011#1000016#1000032#1000037 | Z83: 1000011#1000016#1000032#1000037#1000038 | AA83: 1000011#1000016#1000032#1000037#1000038#1000046 | AB83: 1000011#1000016#1000032#1000037#1000038#1000046#1000047 | AC83: 1000011#1000016#1000032#1000037#1000038#1000046#1000047#1000049 | AD83: 1000011#1000016#1000032#1000037#1000038#1000046#1000047#1000049#1000050 | AE83: 1000011#1000016#1000032#1000037#1000038#1000046#1000047#1000049#1000050#1000052 | AF83: ="" | AG83: =IF($J83<>"",J83,"") -> 113101 | AH83: =IF($J83<>"",K83,"") -> 113101#113102 | AI83: =IF($J83<>"",L83,"")&IF($V83<>"","#"&V83,"") -> 113101#113102#113103#113104#1000011 | AJ83: =IF($J83<>"",M83,"")&IF($V83<>"","#"&W83,"") -> 113101#113102#113103#113104#113105#1000011#1000016 | AK83: =IF($J83<>"",N83,"")&IF($V83<>"","#"&X83,"") -> 113101#113102#113103#113104#113105#113106#1000011#1000016#1000032 | AL83: =IF($J83<>"",O83,"")&IF($V83<>"","#"&Y83,"")&IF($U83<>"","#"&$U83,"") -> 113101#113102#113103#113104#113105#113106#113107#1000011#1000016#1000032#1000037#113205 | AM83: =IF($J83<>"",P83,"")&IF($V83<>"","#"&AA83,"")&IF($U83<>"","#"&$U83,"") -> 113101#113102#113103#113104#113105#113106#113107#113108#1000011#1000016#1000032#1000037#1000038#1000046#113205 | AN83: =IF($J83<>"",Q83,"")&IF($V83<>"","#"&AB83,"")&IF($U83<>"","#"&$U83,"") -> 113101#113102#113103#113104#113105#113106#113107#113108#113109#1000011#1000016#1000032#1000037#1000038#1000046#1000047#113205 | AO83: =IF($J83<>"",R83,"")&IF($V83<>"","#"&AC83,"")&IF($U83<>"","#"&$U83,"") -> 113101#113102#113103#113104#113105#113106#113107#113108#113109#113110#1000011#1000016#1000032#1000037#1000038#1000046#1000047#1000049#113205 | AP83: =IF($J83<>"",S83,"")&IF($V83<>"","#"&AD83,"")&IF($U83<>"","#"&$U83,"") -> 113101#113102#113103#113104#113105#113106#113107#113108#113109#113110#113111#1000011#1000016#1000032#1000037#1000038#1000046#1000047#1000049#1000050#113205 | AQ83: =IF($J83<>"",T83,"")&IF($V83<>"","#"&AE83,"")&IF($U83<>"","#"&$U83,"") -> 1131010#1131020#1131030#1131040#1131050#1131060#1131070#1131071#1131080#1131090#1131100#1131101#1131110#1131111#1000011#1000016#1000032#1000037#1000038#1000046#1000047#1000049#1000050#1000052#113205 | AR83: ="|"&AG83&"|"&AH83&"|"&AI83&"|"&AJ83&"|"&AK83&"|"&AL83&"|"&AM83&"|"&AN83&"|"&AO83&"|"&AP83&"|"&AQ83 -> |113101|113101#113102|113101#113102#113103#113104#1000011|113101#113102#113103#113104#113105#1000011#1000016|113101#113102#113103#113104#113105#113106#1000011#1000016#1000032|113101#113102#113103#113104#113105#113106#113107#1000011#1000016#1000032#1000037#113205|113101#113102#113103#113104#113105#113106#113107#113108#1000011#1000016#1000032#1000037#1000038#1000046#113205|113101#113102#113103#113104#113105#113106#113107#113108#113109#1000011#1000016#1000032#1000037#1000038#1000046#1000047#113205|113101#113102#113103#113104#113105#113106#113107#113108#113109#113110#1000011#1000016#1000032#1000037#1000038#1000046#1000047#1000049#113205|113101#113102#113103#113104#113105#113106#113107#113108#113109#113110#113111#1000011#1000016#1000032#1000037#1000038#1000046#1000047#1000049#1000050#113205|1131010#1131020#1131030#1131040#1131050#1131060#1131070#1131071#1131080#1131090#1131100#1131101#1131110#1131111#1000011#1000016#1000032#1000037#1000038#1000046#1000047#1000049#1000050#1000052#113205
A84: 10086 | B84: 金翅大鹏 | C84: 刘禅 | D84: 2 | E84: 5 | F84: 1261#1262 | G84: 2 | H84: 纵排 | I84: 物理 | J84: 126101 | K84: 126101#126102 | L84: 126101#126102#126103#126104 | M84: 126101#126102#126103#126104#126105 | N84: 126101#126102#126103#126104#126105#126106 | O84: 126101#126102#126103#126104#126105#126106#126107 | P84: 126101#126102#126103#126104#126105#126106#126107#126108 | Q84: 126101#126102#126103#126104#126105#126106#126107#126108#126109 | R84: 126101#126102#126103#126104#126105#126106#126107#126108#126109#126110 | S84: 126101#126102#126103#126104#126105#126106#126107#126108#126109#126110#126111 | T84: =VLOOKUP(A84,[3]英雄被动1!$C:$Q,14,FALSE) -> 1261010#1261020#1261030#1261040#1261050#1261060#1261070#1261080#1261090#1261100#1261101#1261110 | U84: 126205 | V84: 1000011 | W84: 1000011#1000016 | X84: 1000011#1000016#1000032 | Y84: 1000011#1000016#1000032#1000037 | Z84: 1000011#1000016#1000032#1000037#1000038 | AA84: 1000011#1000016#1000032#1000037#1000038#1000046 | AB84: 1000011#1000016#1000032#1000037#1000038#1000046#1000047 | AC84: 1000011#1000016#1000032#1000037#1000038#1000046#1000047#1000048 | AD84: 1000011#1000016#1000032#1000037#1000038#1000046#1000047#1000048#1000050 | AE84: 1000011#1000016#1000032#1000037#1000038#1000046#1000047#1000048#1000050#1000052 | AF84: ="" | AG84: =IF($J84<>"",J84,"") -> 126101 | AH84: =IF($J84<>"",K84,"") -> 126101#126102 | AI84: =IF($J84<>"",L84,"")&IF($V84<>"","#"&V84,"") -> 126101#126102#126103#126104#1000011 | AJ84: =IF($J84<>"",M84,"")&IF($V84<>"","#"&W84,"") -> 126101#126102#126103#126104#126105#1000011#1000016 | AK84: =IF($J84<>"",N84,"")&IF($V84<>"","#"&X84,"") -> 126101#126102#126103#126104#126105#126106#1000011#1000016#1000032 | AL84: =IF($J84<>"",O84,"")&IF($V84<>"","#"&Y84,"")&IF($U84<>"","#"&$U84,"") -> 126101#126102#126103#126104#126105#126106#126107#1000011#1000016#1000032#1000037#126205 | AM84: =IF($J84<>"",P84,"")&IF($V84<>"","#"&AA84,"")&IF($U84<>"","#"&$U84,"") -> 126101#126102#126103#126104#126105#126106#126107#126108#1000011#1000016#1000032#1000037#1000038#1000046#126205 | AN84: =IF($J84<>"",Q84,"")&IF($V84<>"","#"&AB84,"")&IF($U84<>"","#"&$U84,"") -> 126101#126102#126103#126104#126105#126106#126107#126108#126109#1000011#1000016#1000032#1000037#1000038#1000046#1000047#126205 | AO84: =IF($J84<>"",R84,"")&IF($V84<>"","#"&AC84,"")&IF($U84<>"","#"&$U84,"") -> 126101#126102#126103#126104#126105#126106#126107#126108#126109#126110#1000011#1000016#1000032#1000037#1000038#1000046#1000047#1000048#126205 | AP84: =IF($J84<>"",S84,"")&IF($V84<>"","#"&AD84,"")&IF($U84<>"","#"&$U84,"") -> 126101#126102#126103#126104#126105#126106#126107#126108#126109#126110#126111#1000011#1000016#1000032#1000037#1000038#1000046#1000047#1000048#1000050#126205 | AQ84: =IF($J84<>"",T84,"")&IF($V84<>"","#"&AE84,"")&IF($U84<>"","#"&$U84,"") -> 1261010#1261020#1261030#1261040#1261050#1261060#1261070#1261080#1261090#1261100#1261101#1261110#1000011#1000016#1000032#1000037#1000038#1000046#1000047#1000048#1000050#1000052#126205 | AR84: ="|"&AG84&"|"&AH84&"|"&AI84&"|"&AJ84&"|"&AK84&"|"&AL84&"|"&AM84&"|"&AN84&"|"&AO84&"|"&AP84&"|"&AQ84 -> |126101|126101#126102|126101#126102#126103#126104#1000011|126101#126102#126103#126104#126105#1000011#1000016|126101#126102#126103#126104#126105#126106#1000011#1000016#1000032|126101#126102#126103#126104#126105#126106#126107#1000011#1000016#1000032#1000037#126205|126101#126102#126103#126104#126105#126106#126107#126108#1000011#1000016#1000032#1000037#1000038#1000046#126205|126101#126102#126103#126104#126105#126106#126107#126108#126109#1000011#1000016#1000032#1000037#1000038#1000046#1000047#126205|126101#126102#126103#126104#126105#126106#126107#126108#126109#126110#1000011#1000016#1000032#1000037#1000038#1000046#1000047#1000048#126205|126101#126102#126103#126104#126105#126106#126107#126108#126109#126110#126111#1000011#1000016#1000032#1000037#1000038#1000046#1000047#1000048#1000050#126205|1261010#1261020#1261030#1261040#1261050#1261060#1261070#1261080#1261090#1261100#1261101#1261110#1000011#1000016#1000032#1000037#1000038#1000046#1000047#1000048#1000050#1000052#126205
A85: 10087 | B85: 娥皇 | C85: 孙尚香 | D85: 1 | E85: 5 | F85: 1341#1342 | G85: 4 | H85: 后排 | I85: 魔法 | J85: 134101 | K85: 134101#134102 | L85: 134101#134102#134103#134104 | M85: 134101#134102#134103#134104#134105 | N85: 134101#134102#134103#134104#134105#134106 | O85: 134101#134102#134103#134104#134105#134106#134107 | P85: 134101#134102#134103#134104#134105#134106#134107#134108 | Q85: 134101#134102#134103#134104#134105#134106#134107#134108#134109 | R85: 134101#134102#134103#134104#134105#134106#134107#134108#134109#134110 | S85: 134101#134102#134103#134104#134105#134106#134107#134108#134109#134110#134111 | T85: =VLOOKUP(A85,[3]英雄被动1!$C:$Q,14,FALSE) -> 1341010#1341020#1341030#1341040#1341050#1341060#1341070#1341071#1341080#1341090#1341100#1341110#1341111 | U85: 134205 | V85: 1000011 | W85: 1000011#1000016 | X85: 1000011#1000016#1000025 | Y85: 1000011#1000016#1000025#1000038 | Z85: 1000011#1000016#1000025#1000038#1000039 | AA85: 1000011#1000016#1000025#1000038#1000039#1000040 | AB85: 1000011#1000016#1000025#1000038#1000039#1000040#1000043 | AC85: 1000011#1000016#1000025#1000038#1000039#1000040#1000043#1000047 | AD85: 1000011#1000016#1000025#1000038#1000039#1000040#1000043#1000047#1000052 | AE85: 1000011#1000016#1000025#1000038#1000039#1000040#1000043#1000047#1000052#1000055 | AF85: ="" | AG85: =IF($J85<>"",J85,"") -> 134101 | AH85: =IF($J85<>"",K85,"") -> 134101#134102 | AI85: =IF($J85<>"",L85,"")&IF($V85<>"","#"&V85,"") -> 134101#134102#134103#134104#1000011 | AJ85: =IF($J85<>"",M85,"")&IF($V85<>"","#"&W85,"") -> 134101#134102#134103#134104#134105#1000011#1000016 | AK85: =IF($J85<>"",N85,"")&IF($V85<>"","#"&X85,"") -> 134101#134102#134103#134104#134105#134106#1000011#1000016#1000025 | AL85: =IF($J85<>"",O85,"")&IF($V85<>"","#"&Y85,"")&IF($U85<>"","#"&$U85,"") -> 134101#134102#134103#134104#134105#134106#134107#1000011#1000016#1000025#1000038#134205 | AM85: =IF($J85<>"",P85,"")&IF($V85<>"","#"&AA85,"")&IF($U85<>"","#"&$U85,"") -> 134101#134102#134103#134104#134105#134106#134107#134108#1000011#1000016#1000025#1000038#1000039#1000040#134205 | AN85: =IF($J85<>"",Q85,"")&IF($V85<>"","#"&AB85,"")&IF($U85<>"","#"&$U85,"") -> 134101#134102#134103#134104#134105#134106#134107#134108#134109#1000011#1000016#1000025#1000038#1000039#1000040#1000043#134205 | AO85: =IF($J85<>"",R85,"")&IF($V85<>"","#"&AC85,"")&IF($U85<>"","#"&$U85,"") -> 134101#134102#134103#134104#134105#134106#134107#134108#134109#134110#1000011#1000016#1000025#1000038#1000039#1000040#1000043#1000047#134205 | AP85: =IF($J85<>"",S85,"")&IF($V85<>"","#"&AD85,"")&IF($U85<>"","#"&$U85,"") -> 134101#134102#134103#134104#134105#134106#134107#134108#134109#134110#134111#1000011#1000016#1000025#1000038#1000039#1000040#1000043#1000047#1000052#134205 | AQ85: =IF($J85<>"",T85,"")&IF($V85<>"","#"&AE85,"")&IF($U85<>"","#"&$U85,"") -> 1341010#1341020#1341030#1341040#1341050#1341060#1341070#1341071#1341080#1341090#1341100#1341110#1341111#1000011#1000016#1000025#1000038#1000039#1000040#1000043#1000047#1000052#1000055#134205 | AR85: ="|"&AG85&"|"&AH85&"|"&AI85&"|"&AJ85&"|"&AK85&"|"&AL85&"|"&AM85&"|"&AN85&"|"&AO85&"|"&AP85&"|"&AQ85 -> |134101|134101#134102|134101#134102#134103#134104#1000011|134101#134102#134103#134104#134105#1000011#1000016|134101#134102#134103#134104#134105#134106#1000011#1000016#1000025|134101#134102#134103#134104#134105#134106#134107#1000011#1000016#1000025#1000038#134205|134101#134102#134103#134104#134105#134106#134107#134108#1000011#1000016#1000025#1000038#1000039#1000040#134205|134101#134102#134103#134104#134105#134106#134107#134108#134109#1000011#1000016#1000025#1000038#1000039#1000040#1000043#134205|134101#134102#134103#134104#134105#134106#134107#134108#134109#134110#1000011#1000016#1000025#1000038#1000039#1000040#1000043#1000047#134205|134101#134102#134103#134104#134105#134106#134107#134108#134109#134110#134111#1000011#1000016#1000025#1000038#1000039#1000040#1000043#1000047#1000052#134205|1341010#1341020#1341030#1341040#1341050#1341060#1341070#1341071#1341080#1341090#1341100#1341110#1341111#1000011#1000016#1000025#1000038#1000039#1000040#1000043#1000047#1000052#1000055#134205
A86: 10088 | B86: 申公豹 | C86: 左慈 | D86: 4 | E86: 5 | F86: 1401#1402 | G86: 3 | H86: 前排 | I86: 魔法 | J86: 140101 | K86: 140101#140102 | L86: 140101#140102#140103#140104 | M86: 140101#140102#140103#140104#140105 | N86: 140101#140102#140103#140104#140105#140106 | O86: 140101#140102#140103#140104#140105#140106#140107 | P86: 140101#140102#140103#140104#140105#140106#140107#140108 | Q86: 140101#140102#140103#140104#140105#140106#140107#140108#140109 | R86: 140101#140102#140103#140104#140105#140106#140108#140109#140110 | S86: 140101#140102#140103#140104#140105#140106#140108#140109#140110#140111 | T86: =VLOOKUP(A86,[3]英雄被动1!$C:$Q,14,FALSE) -> 1401010#1401020#1401030#1401040#1401050#1401060#140107#1401071#1401080#1401090#1401100#1401101#1401110#1401111 | U86: 140205 | V86: 1000011 | W86: 1000011#1000016 | X86: 1000011#1000016#1000020 | Y86: 1000011#1000016#1000020#1000012 | Z86: 1000011#1000016#1000020#1000012#1000032 | AA86: 1000011#1000016#1000020#1000012#1000032#1000038 | AB86: 1000011#1000016#1000020#1000012#1000032#1000038#1000047 | AC86: 1000011#1000016#1000020#1000012#1000032#1000038#1000047#1000048 | AD86: 1000011#1000016#1000020#1000012#1000032#1000038#1000047#1000048#1000050 | AE86: 1000011#1000016#1000020#1000012#1000032#1000038#1000047#1000048#1000050#1000052 | AF86: ="" | AG86: =IF($J86<>"",J86,"") -> 140101 | AH86: =IF($J86<>"",K86,"") -> 140101#140102 | AI86: =IF($J86<>"",L86,"")&IF($V86<>"","#"&V86,"") -> 140101#140102#140103#140104#1000011 | AJ86: =IF($J86<>"",M86,"")&IF($V86<>"","#"&W86,"") -> 140101#140102#140103#140104#140105#1000011#1000016 | AK86: =IF($J86<>"",N86,"")&IF($V86<>"","#"&X86,"") -> 140101#140102#140103#140104#140105#140106#1000011#1000016#1000020 | AL86: =IF($J86<>"",O86,"")&IF($V86<>"","#"&Y86,"")&IF($U86<>"","#"&$U86,"") -> 140101#140102#140103#140104#140105#140106#140107#1000011#1000016#1000020#1000012#140205 | AM86: =IF($J86<>"",P86,"")&IF($V86<>"","#"&AA86,"")&IF($U86<>"","#"&$U86,"") -> 140101#140102#140103#140104#140105#140106#140107#140108#1000011#1000016#1000020#1000012#1000032#1000038#140205 | AN86: =IF($J86<>"",Q86,"")&IF($V86<>"","#"&AB86,"")&IF($U86<>"","#"&$U86,"") -> 140101#140102#140103#140104#140105#140106#140107#140108#140109#1000011#1000016#1000020#1000012#1000032#1000038#1000047#140205 | AO86: =IF($J86<>"",R86,"")&IF($V86<>"","#"&AC86,"")&IF($U86<>"","#"&$U86,"") -> 140101#140102#140103#140104#140105#140106#140108#140109#140110#1000011#1000016#1000020#1000012#1000032#1000038#1000047#1000048#140205 | AP86: =IF($J86<>"",S86,"")&IF($V86<>"","#"&AD86,"")&IF($U86<>"","#"&$U86,"") -> 140101#140102#140103#140104#140105#140106#140108#140109#140110#140111#1000011#1000016#1000020#1000012#1000032#1000038#1000047#1000048#1000050#140205 | AQ86: =IF($J86<>"",T86,"")&IF($V86<>"","#"&AE86,"")&IF($U86<>"","#"&$U86,"") -> 1401010#1401020#1401030#1401040#1401050#1401060#140107#1401071#1401080#1401090#1401100#1401101#1401110#1401111#1000011#1000016#1000020#1000012#1000032#1000038#1000047#1000048#1000050#1000052#140205 | AR86: ="|"&AG86&"|"&AH86&"|"&AI86&"|"&AJ86&"|"&AK86&"|"&AL86&"|"&AM86&"|"&AN86&"|"&AO86&"|"&AP86&"|"&AQ86 -> |140101|140101#140102|140101#140102#140103#140104#1000011|140101#140102#140103#140104#140105#1000011#1000016|140101#140102#140103#140104#140105#140106#1000011#1000016#1000020|140101#140102#140103#140104#140105#140106#140107#1000011#1000016#1000020#1000012#140205|140101#140102#140103#140104#140105#140106#140107#140108#1000011#1000016#1000020#1000012#1000032#1000038#140205|140101#140102#140103#140104#140105#140106#140107#140108#140109#1000011#1000016#1000020#1000012#1000032#1000038#1000047#140205|140101#140102#140103#140104#140105#140106#140108#140109#140110#1000011#1000016#1000020#1000012#1000032#1000038#1000047#1000048#140205|140101#140102#140103#140104#140105#140106#140108#140109#140110#140111#1000011#1000016#1000020#1000012#1000032#1000038#1000047#1000048#1000050#140205|1401010#1401020#1401030#1401040#1401050#1401060#140107#1401071#1401080#1401090#1401100#1401101#1401110#1401111#1000011#1000016#1000020#1000012#1000032#1000038#1000047#1000048#1000050#1000052#140205
A87: 10089 | B87: 燃灯 | C87: 黄忠 | D87: 2 | E87: 5 | F87: 1181#1182 | G87: 4 | H87: 纵排 | I87: 物理 | J87: 118101 | K87: 118101#118102 | L87: 118101#118102#118103#118104 | M87: 118101#118102#118103#118104#118105 | N87: 118101#118102#118103#118104#118105#118106 | O87: 118101#118102#118103#118104#118105#118106#118107 | P87: 118101#118102#118103#118104#118105#118106#118107#118108 | Q87: 118101#118102#118103#118104#118105#118106#118107#118108#118109 | R87: 118101#118102#118103#118104#118105#118106#118107#118108#118109#118110 | S87: 118101#118102#118103#118104#118105#118106#118107#118108#118109#118110#118111 | T87: =VLOOKUP(A87,[3]英雄被动1!$C:$Q,14,FALSE) -> 1181010#1181020#1181030#1181040#1181050#1181060#1181070#1181071#1181080#1181090#1181100#1181101#1181110#1181111 | U87: 118205 | V87: 1000005 | W87: 1000005#1000008 | X87: 1000005#1000008#1000015 | Y87: 1000005#1000008#1000015#1000016 | Z87: 1000005#1000008#1000015#1000016#1000028 | AA87: 1000005#1000008#1000015#1000016#1000028#1000038 | AB87: 1000005#1000008#1000015#1000016#1000028#1000038#1000047 | AC87: 1000005#1000008#1000015#1000016#1000028#1000038#1000047#1000051 | AD87: 1000005#1000008#1000015#1000016#1000028#1000038#1000047#1000051#1000052 | AE87: 1000005#1000008#1000015#1000016#1000028#1000038#1000047#1000051#1000052#1000055 | AF87: ="" | AG87: =IF($J87<>"",J87,"") -> 118101 | AH87: =IF($J87<>"",K87,"") -> 118101#118102 | AI87: =IF($J87<>"",L87,"")&IF($V87<>"","#"&V87,"") -> 118101#118102#118103#118104#1000005 | AJ87: =IF($J87<>"",M87,"")&IF($V87<>"","#"&W87,"") -> 118101#118102#118103#118104#118105#1000005#1000008 | AK87: =IF($J87<>"",N87,"")&IF($V87<>"","#"&X87,"") -> 118101#118102#118103#118104#118105#118106#1000005#1000008#1000015 | AL87: =IF($J87<>"",O87,"")&IF($V87<>"","#"&Y87,"")&IF($U87<>"","#"&$U87,"") -> 118101#118102#118103#118104#118105#118106#118107#1000005#1000008#1000015#1000016#118205 | AM87: =IF($J87<>"",P87,"")&IF($V87<>"","#"&AA87,"")&IF($U87<>"","#"&$U87,"") -> 118101#118102#118103#118104#118105#118106#118107#118108#1000005#1000008#1000015#1000016#1000028#1000038#118205 | AN87: =IF($J87<>"",Q87,"")&IF($V87<>"","#"&AB87,"")&IF($U87<>"","#"&$U87,"") -> 118101#118102#118103#118104#118105#118106#118107#118108#118109#1000005#1000008#1000015#1000016#1000028#1000038#1000047#118205 | AO87: =IF($J87<>"",R87,"")&IF($V87<>"","#"&AC87,"")&IF($U87<>"","#"&$U87,"") -> 118101#118102#118103#118104#118105#118106#118107#118108#118109#118110#1000005#1000008#1000015#1000016#1000028#1000038#1000047#1000051#118205 | AP87: =IF($J87<>"",S87,"")&IF($V87<>"","#"&AD87,"")&IF($U87<>"","#"&$U87,"") -> 118101#118102#118103#118104#118105#118106#118107#118108#118109#118110#118111#1000005#1000008#1000015#1000016#1000028#1000038#1000047#1000051#1000052#118205 | AQ87: =IF($J87<>"",T87,"")&IF($V87<>"","#"&AE87,"")&IF($U87<>"","#"&$U87,"") -> 1181010#1181020#1181030#1181040#1181050#1181060#1181070#1181071#1181080#1181090#1181100#1181101#1181110#1181111#1000005#1000008#1000015#1000016#1000028#1000038#1000047#1000051#1000052#1000055#118205 | AR87: ="|"&AG87&"|"&AH87&"|"&AI87&"|"&AJ87&"|"&AK87&"|"&AL87&"|"&AM87&"|"&AN87&"|"&AO87&"|"&AP87&"|"&AQ87 -> |118101|118101#118102|118101#118102#118103#118104#1000005|118101#118102#118103#118104#118105#1000005#1000008|118101#118102#118103#118104#118105#118106#1000005#1000008#1000015|118101#118102#118103#118104#118105#118106#118107#1000005#1000008#1000015#1000016#118205|118101#118102#118103#118104#118105#118106#118107#118108#1000005#1000008#1000015#1000016#1000028#1000038#118205|118101#118102#118103#118104#118105#118106#118107#118108#118109#1000005#1000008#1000015#1000016#1000028#1000038#1000047#118205|118101#118102#118103#118104#118105#118106#118107#118108#118109#118110#1000005#1000008#1000015#1000016#1000028#1000038#1000047#1000051#118205|118101#118102#118103#118104#118105#118106#118107#118108#118109#118110#118111#1000005#1000008#1000015#1000016#1000028#1000038#1000047#1000051#1000052#118205|1181010#1181020#1181030#1181040#1181050#1181060#1181070#1181071#1181080#1181090#1181100#1181101#1181110#1181111#1000005#1000008#1000015#1000016#1000028#1000038#1000047#1000051#1000052#1000055#118205
A88: 10090 | B88: 阎罗王 | C88: 陈宫 | D88: 4 | E88: 5 | F88: 1521#1522 | G88: 2 | H88: 随机3体 | I88: 物理 | J88: 152101 | K88: 152101#152102 | L88: 152101#152102#152103#152104 | M88: 152101#152102#152103#152104#152105 | N88: 152101#152102#152103#152104#152105#152106 | O88: 152101#152102#152103#152104#152105#152106#152107 | P88: 152101#152102#152103#152104#152105#152106#152107#152108 | Q88: 152101#152102#152103#152104#152105#152106#152107#152108#152109 | R88: 152101#152102#152103#152104#152105#152106#152107#152108#152109#152110 | S88: 152101#152102#152103#152104#152105#152106#152107#152108#152109#152110#152111 | T88: =VLOOKUP(A88,[3]英雄被动1!$C:$Q,14,FALSE) -> 1521010#1521020#1521030#1521040#1521050#1521060#1521070#1521071#1521080#1521090#1521100#1521101#1521110 | U88: 152205 | V88: 1000007 | W88: 1000007#1000011 | X88: 1000007#1000011#1000016 | Y88: 1000007#1000011#1000016#1000032 | Z88: 1000007#1000011#1000016#1000032#1000038 | AA88: 1000007#1000011#1000016#1000032#1000038#1000047 | AB88: 1000007#1000011#1000016#1000032#1000038#1000047#1000050 | AC88: 1000007#1000011#1000016#1000032#1000038#1000047#1000050#1000052 | AD88: 1000007#1000011#1000016#1000032#1000038#1000047#1000050#1000052#1000058 | AE88: 1000007#1000011#1000016#1000032#1000038#1000047#1000050#1000052#1000058#1000059 | AF88: ="" | AG88: =IF($J88<>"",J88,"") -> 152101 | AH88: =IF($J88<>"",K88,"") -> 152101#152102 | AI88: =IF($J88<>"",L88,"")&IF($V88<>"","#"&V88,"") -> 152101#152102#152103#152104#1000007 | AJ88: =IF($J88<>"",M88,"")&IF($V88<>"","#"&W88,"") -> 152101#152102#152103#152104#152105#1000007#1000011 | AK88: =IF($J88<>"",N88,"")&IF($V88<>"","#"&X88,"") -> 152101#152102#152103#152104#152105#152106#1000007#1000011#1000016 | AL88: =IF($J88<>"",O88,"")&IF($V88<>"","#"&Y88,"")&IF($U88<>"","#"&$U88,"") -> 152101#152102#152103#152104#152105#152106#152107#1000007#1000011#1000016#1000032#152205 | AM88: =IF($J88<>"",P88,"")&IF($V88<>"","#"&AA88,"")&IF($U88<>"","#"&$U88,"") -> 152101#152102#152103#152104#152105#152106#152107#152108#1000007#1000011#1000016#1000032#1000038#1000047#152205 | AN88: =IF($J88<>"",Q88,"")&IF($V88<>"","#"&AB88,"")&IF($U88<>"","#"&$U88,"") -> 152101#152102#152103#152104#152105#152106#152107#152108#152109#1000007#1000011#1000016#1000032#1000038#1000047#1000050#152205 | AO88: =IF($J88<>"",R88,"")&IF($V88<>"","#"&AC88,"")&IF($U88<>"","#"&$U88,"") -> 152101#152102#152103#152104#152105#152106#152107#152108#152109#152110#1000007#1000011#1000016#1000032#1000038#1000047#1000050#1000052#152205 | AP88: =IF($J88<>"",S88,"")&IF($V88<>"","#"&AD88,"")&IF($U88<>"","#"&$U88,"") -> 152101#152102#152103#152104#152105#152106#152107#152108#152109#152110#152111#1000007#1000011#1000016#1000032#1000038#1000047#1000050#1000052#1000058#152205 | AQ88: =IF($J88<>"",T88,"")&IF($V88<>"","#"&AE88,"")&IF($U88<>"","#"&$U88,"") -> 1521010#1521020#1521030#1521040#1521050#1521060#1521070#1521071#1521080#1521090#1521100#1521101#1521110#1000007#1000011#1000016#1000032#1000038#1000047#1000050#1000052#1000058#1000059#152205 | AR88: ="|"&AG88&"|"&AH88&"|"&AI88&"|"&AJ88&"|"&AK88&"|"&AL88&"|"&AM88&"|"&AN88&"|"&AO88&"|"&AP88&"|"&AQ88 -> |152101|152101#152102|152101#152102#152103#152104#1000007|152101#152102#152103#152104#152105#1000007#1000011|152101#152102#152103#152104#152105#152106#1000007#1000011#1000016|152101#152102#152103#152104#152105#152106#152107#1000007#1000011#1000016#1000032#152205|152101#152102#152103#152104#152105#152106#152107#152108#1000007#1000011#1000016#1000032#1000038#1000047#152205|152101#152102#152103#152104#152105#152106#152107#152108#152109#1000007#1000011#1000016#1000032#1000038#1000047#1000050#152205|152101#152102#152103#152104#152105#152106#152107#152108#152109#152110#1000007#1000011#1000016#1000032#1000038#1000047#1000050#1000052#152205|152101#152102#152103#152104#152105#152106#152107#152108#152109#152110#152111#1000007#1000011#1000016#1000032#1000038#1000047#1000050#1000052#1000058#152205|1521010#1521020#1521030#1521040#1521050#1521060#1521070#1521071#1521080#1521090#1521100#1521101#1521110#1000007#1000011#1000016#1000032#1000038#1000047#1000050#1000052#1000058#1000059#152205
