Workbook
Name 开发角色Data: '[1]角色类型&星级Ver0.1'!$B$6:$B$33

Sheet RobotSkill
B1: Id | C1: HeroId | D1: Skill | E1: PassiveSkill
B2: int | C2: int | D2: mut,int#int,1 | E2: mut,int#int,2
B3: 4 | C3: 4 | D3: 4 | E3: 4
B4: ID | C4: 模板ID | D4: 主动技能 | E4: 被动技能库
A5: 默认值 | B5: 0 | C5: 10001
A6: 正确性校对
A7: 校对值
A8: =VLOOKUP(C8,[2]HeroConfig!$B:$D,3,FALSE) -> 旱魃 | B8: 1 | C8: 10001 | D8: 1271#1272 | E8: |127101|127101#127102|127101#127102#127103#127104#1000007|127101#127102#127103#127104#127105#1000007#1000011|127101#127102#127103#127104#127105#127106#1000007#1000011#1000016|127101#127102#127103#127104#127105#127106#127107#1000007#1000011#1000016#1000032#127205|127101#127102#127103#127104#127105#127106#127107#127108#1000007#1000011#1000016#1000032#1000038#1000046#127205|127101#127102#127103#127104#127105#127106#127107#127108#127109#1000007#1000011#1000016#1000032#1000038#1000046#1000047#127205|127101#127102#127103#127104#127105#127106#127107#127108#127109#127110#1000007#1000011#1000016#1000032#1000038#1000046#1000047#1000048#127205|127101#127102#127103#127104#127105#127106#127107#127108#127109#127110#127111#1000007#1000011#1000016#1000032#1000038#1000046#1000047#1000048#1000050#127205|1271010#1271020#1271030#1271040#1271050#1271060#1271070#1271071#1271080#1271090#1271100#1271110#1271111#1271112#1000007#1000011#1000016#1000032#1000038#1000046#1000047#1000048#1000050#1000052#127205|1271010#1271020#1271030#1271040#1271050#1271060#1271070#1271071#1271080#1271090#1271100#1271110#1271111#1271112#127205#12000011#1000027#1000016#1000024#1000015#1000049#1000048#1000037#1000046#1000042#1000052|1271010#1271020#1271030#1271040#1271050#1271060#1271070#1271071#1271080#1271090#1271100#1271110#1271111#1271112#127205#12000011#1000027#1000016#1000024#1000015#1000049#1000048#1000037#1000046#1000042#1000052|1271010#1271020#1271030#1271040#1271050#1271060#1271070#1271071#1271080#1271090#1271100#1271110#1271111#1271112#127205#12000011#1000027#1000016#1000024#1000015#1000049#1000048#1000037#1000046#1000042#1000052|1271010#1271020#1271030#1271040#1271050#1271060#1271070#1271071#1271080#1271090#1271100#1271110#1271111#1271112#127205#12000010#1000027#1000016#1000024#1000015#1000049#1000048#1000037#1000046#1000042#1000052|1271010#1271020#1271030#1271040#1271050#1271060#1271070#1271071#1271080#1271090#1271100#1271110#1271111#1271112#127205#12000010#1000027#1000016#1000024#1000015#1000049#1000048#1000037#1000046#1000042#1000052
A9: =VLOOKUP(C9,[2]HeroConfig!$B:$D,3,FALSE) -> 白素贞 | B9: 2 | C9: 10002 | D9: 1031#1032 | E9: |103101|103101#103102|103101#103102#103103#103104#1000007|103101#103102#103103#103104#103105#1000007#1000011|103101#103102#103103#103104#103105#103106#1000007#1000011#1000016|103101#103102#103103#103104#103105#103106#103107#1000007#1000011#1000016#1000032#103205|103101#103102#103103#103104#103105#103106#103107#103108#1000007#1000011#1000016#1000032#1000038#1000046#103205|103101#103102#103103#103104#103105#103106#103107#103108#103109#1000007#1000011#1000016#1000032#1000038#1000046#1000047#103205|103101#103102#103103#103104#103105#103106#103107#103108#103109#103110#1000007#1000011#1000016#1000032#1000038#1000046#1000047#1000048#103205|103101#103102#103103#103104#103105#103106#103107#103108#103109#103110#103111#1000007#1000011#1000016#1000032#1000038#1000046#1000047#1000048#1000050#103205|1031010#1031020#1031030#1031040#1031050#1031060#1031070#1031071#1031080#1031090#1031100#1031101#1031110#1031111#1000007#1000011#1000016#1000032#1000038#1000046#1000047#1000048#1000050#1000052#103205|1031010#1031020#1031030#1031040#1031050#1031060#1031070#1031071#1031080#1031090#1031100#1031101#1031110#1031111#103205#12000011#1000027#1000016#1000024#1000015#1000049#1000048#1000037#1000046#1000042#1000052|1031010#1031020#1031030#1031040#1031050#1031060#1031070#1031071#1031080#1031090#1031100#1031101#1031110#1031111#103205#12000011#1000027#1000016#1000024#1000015#1000049#1000048#1000037#1000046#1000042#1000052|1031010#1031020#1031030#1031040#1031050#1031060#1031070#1031071#1031080#1031090#1031100#1031101#1031110#1031111#103205#12000011#1000027#1000016#1000024#1000015#1000049#1000048#1000037#1000046#1000042#1000052|1031010#1031020#1031030#1031040#1031050#1031060#1031070#1031071#1031080#1031090#1031100#1031101#1031110#1031111#103205#12000010#1000027#1000016#1000024#1000015#1000049#1000048#1000037#1000046#1000042#1000052|1031010#1031020#1031030#1031040#1031050#1031060#1031070#1031071#1031080#1031090#1031100#1031101#1031110#1031111#103205#12000010#1000027#1000016#1000024#1000015#1000049#1000048#1000037#1000046#1000042#1000052
A10: =VLOOKUP(C10,[2]HeroConfig!$B:$D,3,FALSE) -> 猪八戒 | B10: 3 | C10: 10003 | D10: 1061#1062 | E10: |106101|106101#106102|106101#106102#106103#106104#1000005|106101#106102#106103#106104#106105#1000005#1000010|106101#106102#106103#106104#106105#106106#1000005#1000010#1000015|106101#106102#106103#106104#106105#106106#106107#1000005#1000010#1000015#1000016#106205|106101#106102#106103#106104#106105#106106#106107#106108#1000005#1000010#1000015#1000016#1000028#1000047#106205|106101#106102#106103#106104#106105#106106#106107#106108#106109#1000005#1000010#1000015#1000016#1000028#1000047#1000052#106205|106101#106102#106103#106104#106105#106106#106107#106108#106109#106110#1000005#1000010#1000015#1000016#1000028#1000047#1000052#1000053#106205|106101#106102#106103#106104#106105#106106#106108#106109#106110#106111#1000005#1000010#1000015#1000016#1000028#1000047#1000052#1000053#1000054#106205|1061010#1061020#1061030#1061040#1061050#1061060#1061070#1061080#1061090#1061100#1061110#1000005#1000010#1000015#1000016#1000028#1000047#1000052#1000053#1000054#1000055#106205|1061010#1061020#1061030#1061040#1061050#1061060#1061070#1061080#1061090#1061100#1061110#106205#12000011#1000027#1000028#1000015#1000023#1000054#1000053#1000037#1000055#1000042#1000052#3061010|1061010#1061020#1061030#1061040#1061050#1061060#1061070#1061080#1061090#1061100#1061110#106205#12000011#1000027#1000028#1000015#1000023#1000054#1000053#1000037#1000055#1000042#1000052#3061010#3061020|1061010#1061020#1061030#1061040#1061050#1061060#1061070#1061080#1061090#1061100#1061110#106205#12000011#1000027#1000028#1000015#1000023#1000054#1000053#1000037#1000055#1000042#1000052#3061010#3061020#3061030|1061010#1061020#1061030#1061040#1061050#1061060#1061070#1061080#1061090#1061100#1061110#106205#12000010#1000027#1000028#1000015#1000023#1000054#1000053#1000037#1000055#1000042#1000052#3061010#3061020#3061030#3061040|1061010#1061020#1061030#1061040#1061050#1061060#1061070#1061080#1061090#1061100#1061110#106205#12000010#1000027#1000028#1000015#1000023#1000054#1000053#1000037#1000055#1000042#1000052#3061010#3061020#3061030#3061040#3061050
A11: =VLOOKUP(C11,[2]HeroConfig!$B:$D,3,FALSE) -> 慈航道人 | B11: 4 | C11: 10004 | D11: 1291#1292 | E11: |129101|129101#129102|129101#129102#129103#129104#1000005|129101#129102#129103#129104#129105#1000005#1000008|129101#129102#129103#129104#129105#129106#1000005#1000008#1000011|129101#129102#129103#129104#129105#129106#129107#1000005#1000008#1000011#1000016#129205|129101#129102#129103#129104#129105#129106#129107#129108#1000005#1000008#1000011#1000016#1000022#1000038#129205|129101#129102#129103#129104#129105#129106#129107#129108#129109#1000005#1000008#1000011#1000016#1000022#1000038#1000045#129205|129101#129102#129103#129104#129105#129106#129108#129109#129110#1000005#1000008#1000011#1000016#1000022#1000038#1000045#1000047#129205|129101#129102#129103#129104#129105#129106#129108#129109#129110#129111#1000005#1000008#1000011#1000016#1000022#1000038#1000045#1000047#1000050#129205|1291010#1291020#1291030#1291040#1291050#1291060#1291070#1291080#1291090#1291100#1291110#1291111#1000005#1000008#1000011#1000016#1000022#1000038#1000045#1000047#1000050#1000052#129205|1291010#1291020#1291030#1291040#1291050#1291060#1291070#1291080#1291090#1291100#1291110#1291111#129205#12000011#1000014#1000016#1000024#1000023#1000015#1000027#1000037#1000022#1000045#1000052#3291010|1291010#1291020#1291030#1291040#1291050#1291060#1291070#1291080#1291090#1291100#1291110#1291111#129205#12000011#1000014#1000016#1000024#1000023#1000015#1000027#1000037#1000022#1000045#1000052#3291010#3291020|1291010#1291020#1291030#1291040#1291050#1291060#1291070#1291080#1291090#1291100#1291110#1291111#129205#12000011#1000014#1000016#1000024#1000023#1000015#1000027#1000037#1000022#1000045#1000052#3291010#3291020#3291030|1291010#1291020#1291030#1291040#1291050#1291060#1291070#1291080#1291090#1291100#1291110#1291111#129205#12000010#1000014#1000016#1000024#1000023#1000015#1000027#1000037#1000022#1000045#1000052#3291010#3291020#3291030#3291040|1291010#1291020#1291030#1291040#1291050#1291060#1291070#1291080#1291090#1291100#1291110#1291111#129205#12000010#1000014#1000016#1000024#1000023#1000015#1000027#1000037#1000022#1000045#1000052#3291010#3291020#3291030#3291040#3291050
A12: =VLOOKUP(C12,[2]HeroConfig!$B:$D,3,FALSE) -> 铁扇公主 | B12: 5 | C12: 10005 | D12: 1071#1072 | E12: |107101|107101#107102|107101#107102#107103#107104#1000009|107101#107102#107103#107104#107105#1000009#1000011|107101#107102#107103#107104#107105#107106#1000009#1000011#1000016|107101#107102#107103#107104#107105#107106#107107#1000009#1000011#1000016#1000032#107205|107101#107102#107103#107104#107105#107106#107107#107108#1000009#1000011#1000016#1000032#1000038#1000047#107205|107101#107102#107103#107104#107105#107106#107107#107108#107109#1000009#1000011#1000016#1000032#1000038#1000047#1000048#107205|107101#107102#107103#107104#107105#107106#107107#107108#107109#107110#1000009#1000011#1000016#1000032#1000038#1000047#1000048#1000049#107205|107101#107102#107103#107104#107105#107106#107107#107108#107109#107110#107111#1000009#1000011#1000016#1000032#1000038#1000047#1000048#1000049#1000050#107205|1071010#1071020#1071030#1071040#1071050#1071060#1071070#1071071#1071080#1071090#1071100#1071101#1071110#1000009#1000011#1000016#1000032#1000038#1000047#1000048#1000049#1000050#1000052#107205|1071010#1071020#1071030#1071040#1071050#1071060#1071070#1071071#1071080#1071090#1071100#1071101#1071110#107205#12000011#1000027#1000016#1000009#1000024#1000023#1000015#1000037#1000046#1000042#1000052|1071010#1071020#1071030#1071040#1071050#1071060#1071070#1071071#1071080#1071090#1071100#1071101#1071110#107205#12000011#1000027#1000016#1000009#1000024#1000023#1000015#1000037#1000046#1000042#1000052|1071010#1071020#1071030#1071040#1071050#1071060#1071070#1071071#1071080#1071090#1071100#1071101#1071110#107205#12000011#1000027#1000016#1000009#1000024#1000023#1000015#1000037#1000046#1000042#1000052|1071010#1071020#1071030#1071040#1071050#1071060#1071070#1071071#1071080#1071090#1071100#1071101#1071110#107205#12000010#1000027#1000016#1000009#1000024#1000023#1000015#1000037#1000046#1000042#1000052|1071010#1071020#1071030#1071040#1071050#1071060#1071070#1071071#1071080#1071090#1071100#1071101#1071110#107205#12000010#1000027#1000016#1000009#1000024#1000023#1000015#1000037#1000046#1000042#1000052
A13: =VLOOKUP(C13,[2]HeroConfig!$B:$D,3,FALSE) -> 牛魔王 | B13: 6 | C13: 10006 | D13: 1041#1042 | E13: |104101|104101#104102|104101#104102#104103#104104#1000007|104101#104102#104103#104104#104105#1000007#1000011|104101#104102#104103#104104#104105#104106#1000007#1000011#1000016|104101#104102#104103#104104#104105#104106#104107#1000007#1000011#1000016#1000032#104205|104101#104102#104103#104104#104105#104106#104107#104108#1000007#1000011#1000016#1000032#1000038#1000046#104205|104101#104102#104103#104104#104105#104106#104107#104108#104109#1000007#1000011#1000016#1000032#1000038#1000046#1000047#104205|104101#104102#104103#104104#104105#104106#104107#104108#104109#104110#1000007#1000011#1000016#1000032#1000038#1000046#1000047#1000049#104205|104101#104102#104103#104104#104105#104106#104107#104108#104109#104110#104111#1000007#1000011#1000016#1000032#1000038#1000046#1000047#1000049#1000050#104205|1041010#1041020#1041030#1041040#1041050#1041060#1041070#1041080#1041090#1041100#1041101#1041110#1041111#1000007#1000011#1000016#1000032#1000038#1000046#1000047#1000049#1000050#1000052#104205|1041010#1041020#1041030#1041040#1041050#1041060#1041070#1041080#1041090#1041100#1041101#1041110#1041111#104205#12000011#1000027#1000016#1000024#1000023#1000015#1000019#1000037#1000028#1000042#1000052|1041010#1041020#1041030#1041040#1041050#1041060#1041070#1041080#1041090#1041100#1041101#1041110#1041111#104205#12000011#1000027#1000016#1000024#1000023#1000015#1000019#1000037#1000028#1000042#1000052|1041010#1041020#1041030#1041040#1041050#1041060#1041070#1041080#1041090#1041100#1041101#1041110#1041111#104205#12000011#1000027#1000016#1000024#1000023#1000015#1000019#1000037#1000028#1000042#1000052|1041010#1041020#1041030#1041040#1041050#1041060#1041070#1041080#1041090#1041100#1041101#1041110#1041111#104205#12000010#1000027#1000016#1000024#1000023#1000015#1000019#1000037#1000028#1000042#1000052|1041010#1041020#1041030#1041040#1041050#1041060#1041070#1041080#1041090#1041100#1041101#1041110#1041111#104205#12000010#1000027#1000016#1000024#1000023#1000015#1000019#1000037#1000028#1000042#1000052
A14: =VLOOKUP(C14,[2]HeroConfig!$B:$D,3,FALSE) -> 唐僧 | B14: 7 | C14: 10007 | D14: 1161#1162 | E14: |116101|116101#116102|116101#116102#116103#116104#1000005|116101#116102#116103#116104#116105#1000005#1000008|116101#116102#116103#116104#116105#116106#1000005#1000008#1000011|116101#116102#116103#116104#116105#116106#116107#1000005#1000008#1000011#1000016#116205|116101#116102#116103#116104#116105#116106#116107#116108#116112#1000005#1000008#1000011#1000016#1000022#1000038#116205|116101#116102#116103#116104#116105#116106#116107#116108#116112#116109#1000005#1000008#1000011#1000016#1000022#1000038#1000045#116205|116101#116102#116103#116104#116105#116106#116108#116112#116109#116110#1000005#1000008#1000011#1000016#1000022#1000038#1000045#1000047#116205|116101#116102#116103#116104#116105#116106#116108#116112#116109#116110#116111#1000005#1000008#1000011#1000016#1000022#1000038#1000045#1000047#1000050#116205|1161010#1161020#1161030#1161040#1161050#1161060#1161070#1161071#1161080#1161081#1161090#1161100#1161101#1161110#1161111#1000005#1000008#1000011#1000016#1000022#1000038#1000045#1000047#1000050#1000052#116205|1161010#1161020#1161030#1161040#1161050#1161060#1161070#1161071#1161080#1161081#1161090#1161100#1161101#1161110#1161111#116205#12000011#1000014#1000016#1000024#1000023#1000015#1000027#1000037#1000022#1000045#1000052#3161010|1161010#1161020#1161030#1161040#1161050#1161060#1161070#1161071#1161080#1161081#1161090#1161100#1161101#1161110#1161111#116205#12000011#1000014#1000016#1000024#1000023#1000015#1000027#1000037#1000022#1000045#1000052#3161010#3161020|1161010#1161020#1161030#1161040#1161050#1161060#1161070#1161071#1161080#1161081#1161090#1161100#1161101#1161110#1161111#116205#12000011#1000014#1000016#1000024#1000023#1000015#1000027#1000037#1000022#1000045#1000052#3161010#3161020#3161030|1161010#1161020#1161030#1161040#1161050#1161060#1161070#1161071#1161080#1161081#1161090#1161100#1161101#1161110#1161111#116205#12000010#1000014#1000016#1000024#1000023#1000015#1000027#1000037#1000022#1000045#1000052#3161010#3161020#3161030#3161040|1161010#1161020#1161030#1161040#1161050#1161060#1161070#1161071#1161080#1161081#1161090#1161100#1161101#1161110#1161111#116205#12000010#1000014#1000016#1000024#1000023#1000015#1000027#1000037#1000022#1000045#1000052#3161010#3161020#3161030#3161040#3161050
A15: =VLOOKUP(C15,[2]HeroConfig!$B:$D,3,FALSE) -> 精卫 | B15: 8 | C15: 10008 | D15: 1021#1022 | E15: |102101|102101#102102|102101#102102#102103#102104#1000007|102101#102102#102103#102104#102105#1000007#1000011|102101#102102#102103#102104#102105#102106#1000007#1000011#1000016|102101#102102#102103#102104#102105#102106#102107#1000007#1000011#1000016#1000032#102205|102101#102102#102103#102104#102105#102106#102107#102108#1000007#1000011#1000016#1000032#1000037#1000038#102205|102101#102102#102103#102104#102105#102106#102107#102108#102109#1000007#1000011#1000016#1000032#1000037#1000038#1000047#102205|102101#102102#102103#102104#102105#102106#102107#102108#102109#102110#1000007#1000011#1000016#1000032#1000037#1000038#1000047#1000048#102205|102101#102102#102103#102104#102105#102106#102108#102109#102110#102111#1000007#1000011#1000016#1000032#1000037#1000038#1000047#1000048#1000050#102205|1021010#1021020#1021030#1021040#1021050#1021060#1021070#1021080#1021090#1021100#1021101#1021110#1021111#1000007#1000011#1000016#1000032#1000037#1000038#1000047#1000048#1000050#1000052#102205|1021010#1021020#1021030#1021040#1021050#1021060#1021070#1021080#1021090#1021100#1021101#1021110#1021111#102205#12000011#1000027#1000016#1000013#1000024#1000023#1000015#1000037#1000046#1000042#1000052#3021010|1021010#1021020#1021030#1021040#1021050#1021060#1021070#1021080#1021090#1021100#1021101#1021110#1021111#102205#12000011#1000027#1000016#1000013#1000024#1000023#1000015#1000037#1000046#1000042#1000052#3021010#3021020|1021010#1021020#1021030#1021040#1021050#1021060#1021070#1021080#1021090#1021100#1021101#1021110#1021111#102205#12000011#1000027#1000016#1000013#1000024#1000023#1000015#1000037#1000046#1000042#1000052#3021010#3021020#3021030|1021010#1021020#1021030#1021040#1021050#1021060#1021070#1021080#1021090#1021100#1021101#1021110#1021111#102205#12000010#1000027#1000016#1000013#1000024#1000023#1000015#1000037#1000046#1000042#1000052#3021010#3021020#3021030#3021040|1021010#1021020#1021030#1021040#1021050#1021060#1021070#1021080#1021090#1021100#1021101#1021110#1021111#102205#12000010#1000027#1000016#1000013#1000024#1000023#1000015#1000037#1000046#1000042#1000052#3021010#3021020#3021030#3021040#3021050
A16: =VLOOKUP(C16,[2]HeroConfig!$B:$D,3,FALSE) -> 女儿国王 | B16: 9 | C16: 10009 | D16: 1311#1312 | E16: |131101|131101#131102|131101#131102#131103#131104#1000011|131101#131102#131103#131104#131105#1000011#1000016|131101#131102#131103#131104#131105#131106#1000011#1000016#1000021|131101#131102#131103#131104#131105#131106#131107#1000011#1000016#1000021#1000028#131205|131101#131102#131103#131104#131105#131106#131107#131108#131112#1000011#1000016#1000021#1000028#1000032#1000038#131205|131101#131102#131103#131104#131105#131106#131107#131108#131112#131109#1000011#1000016#1000021#1000028#1000032#1000038#1000047#131205|131101#131102#131103#131104#131105#131106#131107#131108#131112#131109#131110#1000011#1000016#1000021#1000028#1000032#1000038#1000047#1000049#131205|131101#131102#131103#131104#131105#131106#131107#131108#131112#131109#131110#131111#1000011#1000016#1000021#1000028#1000032#1000038#1000047#1000049#1000050#131205|1311010#1311020#1311030#1311040#1311050#1311060#1311070#1311071#1311080#1311120#1311090#1311100#1311101#1311110#1311111#1000011#1000016#1000021#1000028#1000032#1000038#1000047#1000049#1000050#1000052#131205|1311010#1311020#1311030#1311040#1311050#1311060#1311070#1311071#1311080#1311120#1311090#1311100#1311101#1311110#1311111#131205#12000011#1000027#1000016#1000021#1000024#1000023#1000015#1000037#1000046#1000042#1000052|1311010#1311020#1311030#1311040#1311050#1311060#1311070#1311071#1311080#1311120#1311090#1311100#1311101#1311110#1311111#131205#12000011#1000027#1000016#1000021#1000024#1000023#1000015#1000037#1000046#1000042#1000052|1311010#1311020#1311030#1311040#1311050#1311060#1311070#1311071#1311080#1311120#1311090#1311100#1311101#1311110#1311111#131205#12000011#1000027#1000016#1000021#1000024#1000023#1000015#1000037#1000046#1000042#1000052|1311010#1311020#1311030#1311040#1311050#1311060#1311070#1311071#1311080#1311120#1311090#1311100#1311101#1311110#1311111#131205#12000010#1000027#1000016#1000021#1000024#1000023#1000015#1000037#1000046#1000042#1000052|1311010#1311020#1311030#1311040#1311050#1311060#1311070#1311071#1311080#1311120#1311090#1311100#1311101#1311110#1311111#131205#12000010#1000027#1000016#1000021#1000024#1000023#1000015#1000037#1000046#1000042#1000052
A17: =VLOOKUP(C17,[2]HeroConfig!$B:$D,3,FALSE) -> 帝释天 | B17: 10 | C17: 10010 | D17: 1171#1172 | E17: |117101|117101#117102|117101#117102#117103#117104#1000005|117101#117102#117103#117104#117105#1000005#1000008|117101#117102#117103#117104#117105#117106#1000005#1000008#1000015|117101#117102#117103#117104#117105#117106#117107#1000005#1000008#1000015#1000018#117205|117101#117102#117103#117104#117105#117106#117107#117108#1000005#1000008#1000015#1000018#1000028#1000047#117205|117101#117102#117103#117104#117105#117106#117107#117108#117109#1000005#1000008#1000015#1000018#1000028#1000047#1000052#117205|117101#117102#117103#117104#117105#117106#117107#117108#117109#117110#1000005#1000008#1000015#1000018#1000028#1000047#1000052#1000053#117205|117101#117102#117103#117104#117105#117106#117107#117108#117109#117110#117111#1000005#1000008#1000015#1000018#1000028#1000047#1000052#1000053#1000054#117205|1171010#1171020#1171030#1171040#1171050#1171060#1171070#1171080#1171090#1171100#1171110#1000005#1000008#1000015#1000018#1000028#1000047#1000052#1000053#1000054#1000055#117205|1171010#1171020#1171030#1171040#1171050#1171060#1171070#1171080#1171090#1171100#1171110#117205#12000011#1000027#1000016#1000015#1000018#1000054#1000053#1000037#1000046#1000042#1000052#3171010|1171010#1171020#1171030#1171040#1171050#1171060#1171070#1171080#1171090#1171100#1171110#117205#12000011#1000027#1000016#1000015#1000018#1000054#1000053#1000037#1000046#1000042#1000052#3171010#3171020|1171010#1171020#1171030#1171040#1171050#1171060#1171070#1171080#1171090#1171100#1171110#117205#12000011#1000027#1000016#1000015#1000018#1000054#1000053#1000037#1000046#1000042#1000052#3171010#3171020#3171030|1171010#1171020#1171030#1171040#1171050#1171060#1171070#1171080#1171090#1171100#1171110#117205#12000010#1000027#1000016#1000015#1000018#1000054#1000053#1000037#1000046#1000042#1000052#3171010#3171020#3171030#3171040|1171010#1171020#1171030#1171040#1171050#1171060#1171070#1171080#1171090#1171100#1171110#117205#12000010#1000027#1000016#1000015#1000018#1000054#1000053#1000037#1000046#1000042#1000052#3171010#3171020#3171030#3171040#3171050
A18: =VLOOKUP(C18,[2]HeroConfig!$B:$D,3,FALSE) -> 雷震子 | B18: 11 | C18: 10011 | D18: 1011#1012 | E18: |101101|101101#101102|101101#101102#101103#101104#1000007|101101#101102#101103#101104#101105#1000007#1000011|101101#101102#101103#101104#101105#101106#1000007#1000011#1000016|101101#101102#101103#101104#101105#101106#101107#1000007#1000011#1000016#1000032#101205|101101#101102#101103#101104#101105#101106#101107#101108#1000007#1000011#1000016#1000032#1000037#1000038#101205|101101#101102#101103#101104#101105#101106#101107#101108#101109#1000007#1000011#1000016#1000032#1000037#1000038#1000047#101205|101101#101102#101103#101104#101105#101106#101107#101108#101109#101110#1000007#1000011#1000016#1000032#1000037#1000038#1000047#1000049#101205|101101#101102#101103#101104#101105#101106#101107#101108#101109#101110#101111#1000007#1000011#1000016#1000032#1000037#1000038#1000047#1000049#1000050#101205|1011010#1011020#1011030#1011040#1011050#1011060#1011070#1011071#1011080#1011090#1011100#1011110#1011111#1000007#1000011#1000016#1000032#1000037#1000038#1000047#1000049#1000050#1000052#101205|1011010#1011020#1011030#1011040#1011050#1011060#1011070#1011071#1011080#1011090#1011100#1011110#1011111#101205#12000011#1000027#1000016#1000024#1000023#1000015#1000049#1000037#1000046#1000042#1000052#3011010|1011010#1011020#1011030#1011040#1011050#1011060#1011070#1011071#1011080#1011090#1011100#1011110#1011111#101205#12000011#1000027#1000016#1000024#1000023#1000015#1000049#1000037#1000046#1000042#1000052#3011010#3011020|1011010#1011020#1011030#1011040#1011050#1011060#1011070#1011071#1011080#1011090#1011100#1011110#1011111#101205#12000011#1000027#1000016#1000024#1000023#1000015#1000049#1000037#1000046#1000042#1000052#3011010#3011020#3011030|1011010#1011020#1011030#1011040#1011050#1011060#1011070#1011071#1011080#1011090#1011100#1011110#1011111#101205#12000010#1000027#1000016#1000024#1000023#1000015#1000049#1000037#1000046#1000042#1000052#3011010#3011020#3011030#3011040#3011041|1011010#1011020#1011030#1011040#1011050#1011060#1011070#1011071#1011080#1011090#1011100#1011110#1011111#101205#12000010#1000027#1000016#1000024#1000023#1000015#1000049#1000037#1000046#1000042#1000052#3011010#3011020#3011030#3011040#3011041#3011050
A19: =VLOOKUP(C19,[2]HeroConfig!$B:$D,3,FALSE) -> 降龙罗汉 | B19: 12 | C19: 10012 | D19: 1211#1212 | E19: |121101|121101#121102|121101#121102#121103#121104#1000007|121101#121102#121103#121104#121105#1000007#1000011|121101#121102#121103#121104#121105#121106#1000007#1000011#1000016|121101#121102#121103#121104#121105#121106#121107#1000007#1000011#1000016#1000032#121205|121101#121102#121103#121104#121105#121106#121107#121108#1000007#1000011#1000016#1000032#1000037#1000038#121205|121101#121102#121103#121104#121105#121106#121107#121108#121109#1000007#1000011#1000016#1000032#1000037#1000038#1000047#121205|121101#121102#121103#121104#121105#121106#121107#121108#121109#121110#1000007#1000011#1000016#1000032#1000037#1000038#1000047#1000048#121205|121101#121102#121103#121104#121105#121106#121107#121108#121109#121110#121111#1000007#1000011#1000016#1000032#1000037#1000038#1000047#1000048#1000050#121205|1211010#1211020#1211030#1211040#1211050#1211060#1211070#1211071#1211080#1211090#1211100#1211101#1211110#1211111#1000007#1000011#1000016#1000032#1000037#1000038#1000047#1000048#1000050#1000052#121205|1211010#1211020#1211030#1211040#1211050#1211060#1211070#1211071#1211080#1211090#1211100#1211101#1211110#1211111#121205#12000011#1000027#1000016#1000024#1000015#1000049#1000048#1000037#1000046#1000042#1000052#3211010|1211010#1211020#1211030#1211040#1211050#1211060#1211070#1211071#1211080#1211090#1211100#1211101#1211110#1211111#121205#12000011#1000027#1000016#1000024#1000015#1000049#1000048#1000037#1000046#1000042#1000052#3211010#3211020|1211010#1211020#1211030#1211040#1211050#1211060#1211070#1211071#1211080#1211090#1211100#1211101#1211110#1211111#121205#12000011#1000027#1000016#1000024#1000015#1000049#1000048#1000037#1000046#1000042#1000052#3211010#3211020#3211030|1211010#1211020#1211030#1211040#1211050#1211060#1211070#1211071#1211080#1211090#1211100#1211101#1211110#1211111#121205#12000010#1000027#1000016#1000024#1000015#1000049#1000048#1000037#1000046#1000042#1000052#3211010#3211020#3211030#3211040#3211041|1211010#1211020#1211030#1211040#1211050#1211060#1211070#1211071#1211080#1211090#1211100#1211101#1211110#1211111#121205#12000010#1000027#1000016#1000024#1000015#1000049#1000048#1000037#1000046#1000042#1000052#3211010#3211020#3211030#3211040#3211041#3211050
... A53: =VLOOKUP(C53,[2]HeroConfig!$B:$D,3,FALSE) -> 花木兰 | B53: 46 | C53: 10046 | D53: 1351#1352 | E53: |135101|135101#135102|135101#135102#135103#135104#1000011|135101#135102#135103#135104#135105#1000011#1000016|135101#135102#135103#135104#135105#135106#1000011#1000016#1000025|135101#135102#135103#135104#135105#135106#135107#1000011#1000016#1000025#1000038#135205|135101#135102#135103#135104#135105#135106#135107#135108#1000011#1000016#1000025#1000038#1000039#1000040#135205|135101#135102#135103#135104#135105#135106#135107#135108#135109#1000011#1000016#1000025#1000038#1000039#1000040#1000043#135205|135101#135102#135103#135104#135105#135106#135107#135108#135109#135110#1000011#1000016#1000025#1000038#1000039#1000040#1000043#1000047#135205|135101#135102#135103#135104#135105#135106#135107#135108#135109#135110#1000011#1000016#1000025#1000038#1000039#1000040#1000043#1000047#1000052#135205|135101#135102#135103#135104#135105#135106#135107#135108#135109#135110#1000011#1000016#1000025#1000038#1000039#1000040#1000043#1000047#1000052#1000055#135205|135101#135102#135103#135104#135105#135106#135107#135108#135109#135110#135205#12000011#1000027#1000016#1000025#1000043#1000040#1000039#1000037#1000046#1000042#1000052|135101#135102#135103#135104#135105#135106#135107#135108#135109#135110#135205#12000011#1000027#1000016#1000025#1000043#1000040#1000039#1000037#1000046#1000042#1000052|135101#135102#135103#135104#135105#135106#135107#135108#135109#135110#135205#12000011#1000027#1000016#1000025#1000043#1000040#1000039#1000037#1000046#1000042#1000052|135101#135102#135103#135104#135105#135106#135107#135108#135109#135110#135205#12000010#1000027#1000016#1000025#1000043#1000040#1000039#1000037#1000046#1000042#1000052|135101#135102#135103#135104#135105#135106#135107#135108#135109#135110#135205#12000010#1000027#1000016#1000025#1000043#1000040#1000039#1000037#1000046#1000042#1000052
A54: =VLOOKUP(C54,[2]HeroConfig!$B:$D,3,FALSE) -> 赤尾妖 | B54: 47 | C54: 10047 | D54: 100471#100472
A55: =VLOOKUP(C55,[2]HeroConfig!$B:$D,3,FALSE) -> 雪女 | B55: 48 | C55: 10048 | D55: 100481#100482
A56: =VLOOKUP(C56,[2]HeroConfig!$B:$D,3,FALSE) -> 娜迦 | B56: 49 | C56: 10049 | D56: 100491#100492
A57: =VLOOKUP(C57,[2]HeroConfig!$B:$D,3,FALSE) -> 菩提遗枝 | B57: 50 | C57: 10050 | D57: 100501#100502
A58: =VLOOKUP(C58,[2]HeroConfig!$B:$D,3,FALSE) -> 灵使 | B58: 51 | C58: 10051 | D58: 100511#100512
A59: =VLOOKUP(C59,[2]HeroConfig!$B:$D,3,FALSE) -> 方士 | B59: 52 | C59: 10052 | D59: 100521#100522
A60: =VLOOKUP(C60,[2]HeroConfig!$B:$D,3,FALSE) -> 鬼差 | B60: 53 | C60: 10053 | D60: 100531#100532
A61: =VLOOKUP(C61,[2]HeroConfig!$B:$D,3,FALSE) -> 仙灵 | B61: 54 | C61: 10054 | D61: 100541#100542
A62: =VLOOKUP(C62,[2]HeroConfig!$B:$D,3,FALSE) -> 聂小倩 | B62: 55 | C62: 10057 | D62: 100571#100572 | E62: |10057101|10057101#10057102|10057101#10057102#10057103#10057104|10057101#10057102#10057103#10057104#10057105|10057101#10057102#10057103#10057104#10057105#10057106|10057101#10057102#10057103#10057104#10057105#10057106|10057101#10057102#10057103#10057104#10057105#10057106|10057101#10057102#10057103#10057104#10057105#10057106|10057101#10057102#10057103#10057104#10057105#10057106|10057101#10057102#10057103#10057104#10057105#10057106|10057101#10057102#10057103#10057104#10057105#10057106|10057101#10057102#10057103#10057104#10057105#10057106|10057101#10057102#10057103#10057104#10057105#10057106|10057101#10057102#10057103#10057104#10057105#10057106|10057101#10057102#10057103#10057104#10057105#10057106|10057101#10057102#10057103#10057104#10057105#10057106
A63: =VLOOKUP(C63,[2]HeroConfig!$B:$D,3,FALSE) -> 九婴 | B63: 56 | C63: 10058 | D63: 100581#100582 | E63: |10058101|10058101#10058102|10058101#10058102#10058103#10058104|10058101#10058102#10058103#10058104#10058105|10058101#10058102#10058103#10058104#10058105#10058106|10058101#10058102#10058103#10058104#10058105#10058106|10058101#10058102#10058103#10058104#10058105#10058106|10058101#10058102#10058103#10058104#10058105#10058106|10058101#10058102#10058103#10058104#10058105#10058106|10058101#10058102#10058103#10058104#10058105#10058106|10058101#10058102#10058103#10058104#10058105#10058106|10058101#10058102#10058103#10058104#10058105#10058106|10058101#10058102#10058103#10058104#10058105#10058106|10058101#10058102#10058103#10058104#10058105#10058106|10058101#10058102#10058103#10058104#10058105#10058106|10058101#10058102#10058103#10058104#10058105#10058106
A64: =VLOOKUP(C64,[2]HeroConfig!$B:$D,3,FALSE) -> 灵猫 | B64: 57 | C64: 10059 | D64: 100591#100592 | E64: |10059101|10059101#10059102|10059101#10059102#10059103#10059104|10059101#10059102#10059103#10059104#10059105|10059101#10059102#10059103#10059104#10059105#10059106|10059101#10059102#10059103#10059104#10059105#10059106|10059101#10059102#10059103#10059104#10059105#10059106|10059101#10059102#10059103#10059104#10059105#10059106|10059101#10059102#10059103#10059104#10059105#10059106|10059101#10059102#10059103#10059104#10059105#10059106|10059101#10059102#10059103#10059104#10059105#10059106|10059101#10059102#10059103#10059104#10059105#10059106|10059101#10059102#10059103#10059104#10059105#10059106|10059101#10059102#10059103#10059104#10059105#10059106|10059101#10059102#10059103#10059104#10059105#10059106|10059101#10059102#10059103#10059104#10059105#10059106
A65: =VLOOKUP(C65,[2]HeroConfig!$B:$D,3,FALSE) -> 半截观音 | B65: 58 | C65: 10060 | D65: 100601#100602 | E65: |10060101|10060101#10060102|10060101#10060102#10060103#10060104|10060101#10060102#10060103#10060104#10060105|10060101#10060102#10060103#10060104#10060105#10060106|10060101#10060102#10060103#10060104#10060105#10060106|10060101#10060102#10060103#10060104#10060105#10060106|10060101#10060102#10060103#10060104#10060105#10060106|10060101#10060102#10060103#10060104#10060105#10060106|10060101#10060102#10060103#10060104#10060105#10060106|10060101#10060102#10060103#10060104#10060105#10060106|10060101#10060102#10060103#10060104#10060105#10060106|10060101#10060102#10060103#10060104#10060105#10060106|10060101#10060102#10060103#10060104#10060105#10060106|10060101#10060102#10060103#10060104#10060105#10060106|10060101#10060102#10060103#10060104#10060105#10060106
A66: =VLOOKUP(C66,[2]HeroConfig!$B:$D,3,FALSE) -> 韦陀 | B66: 59 | C66: 10061 | D66: 100611#100612 | E66: |10061101|10061101#10061102|10061101#10061102#10061103#10061104|10061101#10061102#10061103#10061104#10061105|10061101#10061102#10061103#10061104#10061105#10061106|10061101#10061102#10061103#10061104#10061105#10061106|10061101#10061102#10061103#10061104#10061105#10061106|10061101#10061102#10061103#10061104#10061105#10061106|10061101#10061102#10061103#10061104#10061105#10061106|10061101#10061102#10061103#10061104#10061105#10061106|10061101#10061102#10061103#10061104#10061105#10061106|10061101#10061102#10061103#10061104#10061105#10061106|10061101#10061102#10061103#10061104#10061105#10061106|10061101#10061102#10061103#10061104#10061105#10061106|10061101#10061102#10061103#10061104#10061105#10061106|10061101#10061102#10061103#10061104#10061105#10061106
A67: =VLOOKUP(C67,[2]HeroConfig!$B:$D,3,FALSE) -> 善光公主 | B67: 60 | C67: 10062 | D67: 100621#100622 | E67: |10062101|10062101#10062102|10062101#10062102#10062103#10062104|10062101#10062102#10062103#10062104#10062105|10062101#10062102#10062103#10062104#10062105#10062106|10062101#10062102#10062103#10062104#10062105#10062106|10062101#10062102#10062103#10062104#10062105#10062106|10062101#10062102#10062103#10062104#10062105#10062106|10062101#10062102#10062103#10062104#10062105#10062106|10062101#10062102#10062103#10062104#10062105#10062106|10062101#10062102#10062103#10062104#10062105#10062106|10062101#10062102#10062103#10062104#10062105#10062106|10062101#10062102#10062103#10062104#10062105#10062106|10062101#10062102#10062103#10062104#10062105#10062106|10062101#10062102#10062103#10062104#10062105#10062106|10062101#10062102#10062103#10062104#10062105#10062106
A68: =VLOOKUP(C68,[2]HeroConfig!$B:$D,3,FALSE) -> 伽罗尊者 | B68: 61 | C68: 10063 | D68: 100631#100632 | E68: |10063101|10063101#10063102|10063101#10063102#10063103#10063104|10063101#10063102#10063103#10063104#10063105|10063101#10063102#10063103#10063104#10063105#10063106|10063101#10063102#10063103#10063104#10063105#10063106|10063101#10063102#10063103#10063104#10063105#10063106|10063101#10063102#10063103#10063104#10063105#10063106|10063101#10063102#10063103#10063104#10063105#10063106|10063101#10063102#10063103#10063104#10063105#10063106|10063101#10063102#10063103#10063104#10063105#10063106|10063101#10063102#10063103#10063104#10063105#10063106|10063101#10063102#10063103#10063104#10063105#10063106|10063101#10063102#10063103#10063104#10063105#10063106|10063101#10063102#10063103#10063104#10063105#10063106|10063101#10063102#10063103#10063104#10063105#10063106
A69: =VLOOKUP(C69,[2]HeroConfig!$B:$D,3,FALSE) -> 怒目金刚 | B69: 62 | C69: 10064 | D69: 100641#100642 | E69: |10064101|10064101#10064102|10064101#10064102#10064103#10064104|10064101#10064102#10064103#10064104#10064105|10064101#10064102#10064103#10064104#10064105#10064106|10064101#10064102#10064103#10064104#10064105#10064106|10064101#10064102#10064103#10064104#10064105#10064106|10064101#10064102#10064103#10064104#10064105#10064106|10064101#10064102#10064103#10064104#10064105#10064106|10064101#10064102#10064103#10064104#10064105#10064106|10064101#10064102#10064103#10064104#10064105#10064106|10064101#10064102#10064103#10064104#10064105#10064106|10064101#10064102#10064103#10064104#10064105#10064106|10064101#10064102#10064103#10064104#10064105#10064106|10064101#10064102#10064103#10064104#10064105#10064106|10064101#10064102#10064103#10064104#10064105#10064106
A70: =VLOOKUP(C70,[2]HeroConfig!$B:$D,3,FALSE) -> 木吒 | B70: 63 | C70: 10065 | D70: 100651#100652 | E70: |10065101|10065101#10065102|10065101#10065102#10065103#10065104|10065101#10065102#10065103#10065104#10065105|10065101#10065102#10065103#10065104#10065105#10065106|10065101#10065102#10065103#10065104#10065105#10065106|10065101#10065102#10065103#10065104#10065105#10065106|10065101#10065102#10065103#10065104#10065105#10065106|10065101#10065102#10065103#10065104#10065105#10065106|10065101#10065102#10065103#10065104#10065105#10065106|10065101#10065102#10065103#10065104#10065105#10065106|10065101#10065102#10065103#10065104#10065105#10065106|10065101#10065102#10065103#10065104#10065105#10065106|10065101#10065102#10065103#10065104#10065105#10065106|10065101#10065102#10065103#10065104#10065105#10065106|10065101#10065102#10065103#10065104#10065105#10065106
A71: =VLOOKUP(C71,[2]HeroConfig!$B:$D,3,FALSE) -> 姜后 | B71: 64 | C71: 10066 | D71: 100661#100662 | E71: |10066101|10066101#10066102|10066101#10066102#10066103#10066104|10066101#10066102#10066103#10066104#10066105|10066101#10066102#10066103#10066104#10066105#10066106|10066101#10066102#10066103#10066104#10066105#10066106|10066101#10066102#10066103#10066104#10066105#10066106|10066101#10066102#10066103#10066104#10066105#10066106|10066101#10066102#10066103#10066104#10066105#10066106|10066101#10066102#10066103#10066104#10066105#10066106|10066101#10066102#10066103#10066104#10066105#10066106|10066101#10066102#10066103#10066104#10066105#10066106|10066101#10066102#10066103#10066104#10066105#10066106|10066101#10066102#10066103#10066104#10066105#10066106|10066101#10066102#10066103#10066104#10066105#10066106|10066101#10066102#10066103#10066104#10066105#10066106
A72: =VLOOKUP(C72,[2]HeroConfig!$B:$D,3,FALSE) -> 梦蝶 | B72: 65 | C72: 10067 | D72: 100671#100672 | E72: |10067101|10067101#10067102|10067101#10067102#10067103#10067104|10067101#10067102#10067103#10067104#10067105|10067101#10067102#10067103#10067104#10067105#10067106|10067101#10067102#10067103#10067104#10067105#10067106|10067101#10067102#10067103#10067104#10067105#10067106|10067101#10067102#10067103#10067104#10067105#10067106|10067101#10067102#10067103#10067104#10067105#10067106|10067101#10067102#10067103#10067104#10067105#10067106|10067101#10067102#10067103#10067104#10067105#10067106|10067101#10067102#10067103#10067104#10067105#10067106|10067101#10067102#10067103#10067104#10067105#10067106|10067101#10067102#10067103#10067104#10067105#10067106|10067101#10067102#10067103#10067104#10067105#10067106|10067101#10067102#10067103#10067104#10067105#10067106
A73: =VLOOKUP(C73,[2]HeroConfig!$B:$D,3,FALSE) -> 金吒 | B73: 66 | C73: 10068 | D73: 100681#100682 | E73: |10068101|10068101#10068102|10068101#10068102#10068103#10068104|10068101#10068102#10068103#10068104#10068105|10068101#10068102#10068103#10068104#10068105#10068106|10068101#10068102#10068103#10068104#10068105#10068106|10068101#10068102#10068103#10068104#10068105#10068106|10068101#10068102#10068103#10068104#10068105#10068106|10068101#10068102#10068103#10068104#10068105#10068106|10068101#10068102#10068103#10068104#10068105#10068106|10068101#10068102#10068103#10068104#10068105#10068106|10068101#10068102#10068103#10068104#10068105#10068106|10068101#10068102#10068103#10068104#10068105#10068106|10068101#10068102#10068103#10068104#10068105#10068106|10068101#10068102#10068103#10068104#10068105#10068106|10068101#10068102#10068103#10068104#10068105#10068106
...

Sheet Sheet1
I1: =IF($J6<>"",S6,"") -> 103101#103102#103103#103104#103105#103106#103107#103108#103109#103110#103111 | J1: 被动组 | U1: 神兵组 | V1: 锦囊组
J2: 30 | K2: 40 | L2: 60 | M2: 80 | N2: 100 | O2: 145 | P2: 165 | Q2: 185 | R2: 205 | S2: 255 | U2: 120 | V2: 70 | W2: 85 | X2: 100 | Y2: 120 | Z2: 140 | AA2: 160 | AB2: 180 | AC2: 200 | AD2: 220 | AE2: 240 | AM2: 跳过了锦囊5
J3: 品阶1 | K3: 品阶2 | L3: 品阶3 | M3: 品阶4 | N3: 品阶5 | O3: 6星 | P3: 7星 | Q3: 8星 | R3: 9星 | S3: 10星 | U3: 6星 | V3: 70 | W3: 85 | X3: 100 | Y3: 120 | Z3: 140 | AA3: 160 | AB3: 180 | AC3: 200 | AD3: 220 | AE3: 240 | AF3: 1 | AG3: 2 | AH3: 3 | AI3: 4 | AJ3: 5 | AK3: 6 | AL3: 7 | AM3: 8 | AN3: 9 | AO3: 10 | AP3: 11 | AQ3: 12 | AR3: &"|"&
A4: 模板ID | B4: 名称 | C4: 霸王名称 | D4: 阵营 | E4: 初始星级 | F4: 主动技能 | G4: 职业定位 | H4: 目标选择 | I4: 伤害类型 | J4: 被动1 | K4: 被动2 | L4: 被动3 | M4: 被动4 | N4: 被动5 | O4: 被动6 | P4: 被动7 | Q4: 被动8 | R4: 被动9 | S4: 被动10 | T4: 觉醒 | U4: 神兵 | V4: 锦囊1 | W4: 锦囊2 | X4: 锦囊3 | Y4: 锦囊4 | Z4: 锦囊5 | AA4: 锦囊6 | AB4: 锦囊7 | AC4: 锦囊8 | AD4: 锦囊9 | AE4: 锦囊10 | AF4: 1~29 | AG4: 30~39 | AH4: 40~59 | AI4: 60~79 | AJ4: 80~99 | AK4: 100~144 | AL4: 145~164 | AM4: 165~184 | AN4: 185~204 | AO4: 205~244 | AP4: 245~329 | AQ4: 330~600 | AR4: 实装
A5: 10001 | B5: 伏羲 | C5: 孙策 | D5: 1 | E5: 5 | F5: 1271#1272 | G5: 2 | H5: 后排 | I5: 物理 | J5: 127101 | K5: 127101#127102 | L5: 127101#127102#127103#127104 | M5: 127101#127102#127103#127104#127105 | N5: 127101#127102#127103#127104#127105#127106 | O5: 127101#127102#127103#127104#127105#127106#127107 | P5: 127101#127102#127103#127104#127105#127106#127107#127108 | Q5: 127101#127102#127103#127104#127105#127106#127107#127108#127109 | R5: 127101#127102#127103#127104#127105#127106#127107#127108#127109#127110 | S5: 127101#127102#127103#127104#127105#127106#127107#127108#127109#127110#127111 | T5: 1271010#1271020#1271030#1271040#1271050#1271060#1271070#1271071#1271080#1271090#1271100#1271110#1271111#1271112 | U5: 127205 | V5: 1000007 | W5: 1000007#1000011 | X5: 1000007#1000011#1000016 | Y5: 1000007#1000011#1000016#1000032 | Z5: 1000007#1000011#1000016#1000032#1000038 | AA5: 1000007#1000011#1000016#1000032#1000038#1000046 | AB5: 1000007#1000011#1000016#1000032#1000038#1000046#1000047 | AC5: 1000007#1000011#1000016#1000032#1000038#1000046#1000047#1000048 | AD5: 1000007#1000011#1000016#1000032#1000038#1000046#1000047#1000048#1000050 | AE5: 1000007#1000011#1000016#1000032#1000038#1000046#1000047#1000048#1000050#1000052 | AF5: ="" | AG5: =IF($J5<>"",J5,"") -> 127101 | AH5: =IF($J5<>"",K5,"") -> 127101#127102 | AI5: =IF($J5<>"",L5,"")&IF($V5<>"","#"&V5,"") -> 127101#127102#127103#127104#1000007 | AJ5: =IF($J5<>"",M5,"")&IF($V5<>"","#"&W5,"") -> 127101#127102#127103#127104#127105#1000007#1000011 | AK5: =IF($J5<>"",N5,"")&IF($V5<>"","#"&X5,"") -> 127101#127102#127103#127104#127105#127106#1000007#1000011#1000016 | AL5: =IF($J5<>"",O5,"")&IF($V5<>"","#"&Y5,"")&IF($U5<>"","#"&$U5,"") -> 127101#127102#127103#127104#127105#127106#127107#1000007#1000011#1000016#1000032#127205 | AM5: =IF($J5<>"",P5,"")&IF($V5<>"","#"&AA5,"")&IF($U5<>"","#"&$U5,"") -> 127101#127102#127103#127104#127105#127106#127107#127108#1000007#1000011#1000016#1000032#1000038#1000046#127205 | AN5: =IF($J5<>"",Q5,"")&IF($V5<>"","#"&AB5,"")&IF($U5<>"","#"&$U5,"") -> 127101#127102#127103#127104#127105#127106#127107#127108#127109#1000007#1000011#1000016#1000032#1000038#1000046#1000047#127205 | AO5: =IF($J5<>"",R5,"")&IF($V5<>"","#"&AC5,"")&IF($U5<>"","#"&$U5,"") -> 127101#127102#127103#127104#127105#127106#127107#127108#127109#127110#1000007#1000011#1000016#1000032#1000038#1000046#1000047#1000048#127205 | AP5: =IF($J5<>"",S5,"")&IF($V5<>"","#"&AD5,"")&IF($U5<>"","#"&$U5,"") -> 127101#127102#127103#127104#127105#127106#127107#127108#127109#127110#127111#1000007#1000011#1000016#1000032#1000038#1000046#1000047#1000048#1000050#127205 | AQ5: =IF($J5<>"",T5,"")&IF($V5<>"","#"&AE5,"")&IF($U5<>"","#"&$U5,"") -> 1271010#1271020#1271030#1271040#1271050#1271060#1271070#1271071#1271080#1271090#1271100#1271110#1271111#1271112#1000007#1000011#1000016#1000032#1000038#1000046#1000047#1000048#1000050#1000052#127205 | AR5: ="|"&AG5&"|"&AH5&"|"&AI5&"|"&AJ5&"|"&AK5&"|"&AL5&"|"&AM5&"|"&AN5&"|"&AO5&"|"&AP5&"|"&AQ5 -> |127101|127101#127102|127101#127102#127103#127104#1000007|127101#127102#127103#127104#127105#1000007#1000011|127101#127102#127103#127104#127105#127106#1000007#1000011#1000016|127101#127102#127103#127104#127105#127106#127107#1000007#1000011#1000016#1000032#127205|127101#127102#127103#127104#127105#127106#127107#127108#1000007#1000011#1000016#1000032#1000038#1000046#127205|127101#127102#127103#127104#127105#127106#127107#127108#127109#1000007#1000011#1000016#1000032#1000038#1000046#1000047#127205|127101#127102#127103#127104#127105#127106#127107#127108#127109#127110#1000007#1000011#1000016#1000032#1000038#1000046#1000047#1000048#127205|127101#127102#127103#127104#127105#127106#127107#127108#127109#127110#127111#1000007#1000011#1000016#1000032#1000038#1000046#1000047#1000048#1000050#127205|1271010#1271020#1271030#1271040#1271050#1271060#1271070#1271071#1271080#1271090#1271100#1271110#1271111#1271112#1000007#1000011#1000016#1000032#1000038#1000046#1000047#1000048#1000050#1000052#127205
A6: 10002 | B6: 洛神 | C6: 张辽 | D6: 3 | E6: 5 | F6: 1031#1032 | G6: 2 | H6: 后排 | I6: 物理 | J6: 103101 | K6: 103101#103102 | L6: 103101#103102#103103#103104 | M6: 103101#103102#103103#103104#103105 | N6: 103101#103102#103103#103104#103105#103106 | O6: 103101#103102#103103#103104#103105#103106#103107 | P6: 103101#103102#103103#103104#103105#103106#103107#103108 | Q6: 103101#103102#103103#103104#103105#103106#103107#103108#103109 | R6: 103101#103102#103103#103104#103105#103106#103107#103108#103109#103110 | S6: 103101#103102#103103#103104#103105#103106#103107#103108#103109#103110#103111 | T6: 1031010#1031020#1031030#1031040#1031050#1031060#1031070#1031071#1031080#1031090#1031100#1031101#1031110#1031111 | U6: 103205 | V6: 1000007 | W6: 1000007#1000011 | X6: 1000007#1000011#1000016 | Y6: 1000007#1000011#1000016#1000032 | Z6: 1000007#1000011#1000016#1000032#1000038 | AA6: 1000007#1000011#1000016#1000032#1000038#1000046 | AB6: 1000007#1000011#1000016#1000032#1000038#1000046#1000047 | AC6: 1000007#1000011#1000016#1000032#1000038#1000046#1000047#1000048 | AD6: 1000007#1000011#1000016#1000032#1000038#1000046#1000047#1000048#1000050 | AE6: 1000007#1000011#1000016#1000032#1000038#1000046#1000047#1000048#1000050#1000052 | AF6: ="" | AG6: =IF($J6<>"",J6,"") -> 103101 | AH6: =IF($J6<>"",K6,"") -> 103101#103102 | AI6: =IF($J6<>"",L6,"")&IF($V6<>"","#"&V6,"") -> 103101#103102#103103#103104#1000007 | AJ6: =IF($J6<>"",M6,"")&IF($V6<>"","#"&W6,"") -> 103101#103102#103103#103104#103105#1000007#1000011 | AK6: =IF($J6<>"",N6,"")&IF($V6<>"","#"&X6,"") -> 103101#103102#103103#103104#103105#103106#1000007#1000011#1000016 | AL6: =IF($J6<>"",O6,"")&IF($V6<>"","#"&Y6,"")&IF($U6<>"","#"&$U6,"") -> 103101#103102#103103#103104#103105#103106#103107#1000007#1000011#1000016#1000032#103205 | AM6: =IF($J6<>"",P6,"")&IF($V6<>"","#"&AA6,"")&IF($U6<>"","#"&$U6,"") -> 103101#103102#103103#103104#103105#103106#103107#103108#1000007#1000011#1000016#1000032#1000038#1000046#103205 | AN6: =IF($J6<>"",Q6,"")&IF($V6<>"","#"&AB6,"")&IF($U6<>"","#"&$U6,"") -> 103101#103102#103103#103104#103105#103106#103107#103108#103109#1000007#1000011#1000016#1000032#1000038#1000046#1000047#103205 | AO6: =IF($J6<>"",R6,"")&IF($V6<>"","#"&AC6,"")&IF($U6<>"","#"&$U6,"") -> 103101#103102#103103#103104#103105#103106#103107#103108#103109#103110#1000007#1000011#1000016#1000032#1000038#1000046#1000047#1000048#103205 | AP6: =IF($J6<>"",S6,"")&IF($V6<>"","#"&AD6,"")&IF($U6<>"","#"&$U6,"") -> 103101#103102#103103#103104#103105#103106#103107#103108#103109#103110#103111#1000007#1000011#1000016#1000032#1000038#1000046#1000047#1000048#1000050#103205 | AQ6: =IF($J6<>"",T6,"")&IF($V6<>"","#"&AE6,"")&IF($U6<>"","#"&$U6,"") -> 1031010#1031020#1031030#1031040#1031050#1031060#1031070#1031071#1031080#1031090#1031100#1031101#1031110#1031111#1000007#1000011#1000016#1000032#1000038#1000046#1000047#1000048#1000050#1000052#103205 | AR6: ="|"&AG6&"|"&AH6&"|"&AI6&"|"&AJ6&"|"&AK6&"|"&AL6&"|"&AM6&"|"&AN6&"|"&AO6&"|"&AP6&"|"&AQ6 -> |103101|103101#103102|103101#103102#103103#103104#1000007|103101#103102#103103#103104#103105#1000007#1000011|103101#103102#103103#103104#103105#103106#1000007#1000011#1000016|103101#103102#103103#103104#103105#103106#103107#1000007#1000011#1000016#1000032#103205|103101#103102#103103#103104#103105#103106#103107#103108#1000007#1000011#1000016#1000032#1000038#1000046#103205|103101#103102#103103#103104#103105#103106#103107#103108#103109#1000007#1000011#1000016#1000032#1000038#1000046#1000047#103205|103101#103102#103103#103104#103105#103106#103107#103108#103109#103110#1000007#1000011#1000016#1000032#1000038#1000046#1000047#1000048#103205|103101#103102#103103#103104#103105#103106#103107#103108#103109#103110#103111#1000007#1000011#1000016#1000032#1000038#1000046#1000047#1000048#1000050#103205|1031010#1031020#1031030#1031040#1031050#1031060#1031070#1031071#1031080#1031090#1031100#1031101#1031110#1031111#1000007#1000011#1000016#1000032#1000038#1000046#1000047#1000048#1000050#1000052#103205
A7: 10003 | B7: 猪八戒 | C7: 夏侯惇 | D7: 3 | E7: 5 | F7: 1061#1062 | G7: 1 | H7: 纵排 | I7: 物理 | J7: 106101 | K7: 106101#106102 | L7: 106101#106102#106103#106104 | M7: 106101#106102#106103#106104#106105 | N7: 106101#106102#106103#106104#106105#106106 | O7: 106101#106102#106103#106104#106105#106106#106107 | P7: 106101#106102#106103#106104#106105#106106#106107#106108 | Q7: 106101#106102#106103#106104#106105#106106#106107#106108#106109 | R7: 106101#106102#106103#106104#106105#106106#106107#106108#106109#106110 | S7: 106101#106102#106103#106104#106105#106106#106108#106109#106110#106111 | T7: 1061010#1061020#1061030#1061040#1061050#1061060#1061070#1061080#1061090#1061100#1061110 | U7: 106205 | V7: 1000005 | W7: 1000005#1000010 | X7: 1000005#1000010#1000015 | Y7: 1000005#1000010#1000015#1000016 | Z7: 1000005#1000010#1000015#1000016#1000028 | AA7: 1000005#1000010#1000015#1000016#1000028#1000047 | AB7: 1000005#1000010#1000015#1000016#1000028#1000047#1000052 | AC7: 1000005#1000010#1000015#1000016#1000028#1000047#1000052#1000053 | AD7: 1000005#1000010#1000015#1000016#1000028#1000047#1000052#1000053#1000054 | AE7: 1000005#1000010#1000015#1000016#1000028#1000047#1000052#1000053#1000054#1000055 | AF7: ="" | AG7: =IF($J7<>"",J7,"") -> 106101 | AH7: =IF($J7<>"",K7,"") -> 106101#106102 | AI7: =IF($J7<>"",L7,"")&IF($V7<>"","#"&V7,"") -> 106101#106102#106103#106104#1000005 | AJ7: =IF($J7<>"",M7,"")&IF($V7<>"","#"&W7,"") -> 106101#106102#106103#106104#106105#1000005#1000010 | AK7: =IF($J7<>"",N7,"")&IF($V7<>"","#"&X7,"") -> 106101#106102#106103#106104#106105#106106#1000005#1000010#1000015 | AL7: =IF($J7<>"",O7,"")&IF($V7<>"","#"&Y7,"")&IF($U7<>"","#"&$U7,"") -> 106101#106102#106103#106104#106105#106106#106107#1000005#1000010#1000015#1000016#106205 | AM7: =IF($J7<>"",P7,"")&IF($V7<>"","#"&AA7,"")&IF($U7<>"","#"&$U7,"") -> 106101#106102#106103#106104#106105#106106#106107#106108#1000005#1000010#1000015#1000016#1000028#1000047#106205 | AN7: =IF($J7<>"",Q7,"")&IF($V7<>"","#"&AB7,"")&IF($U7<>"","#"&$U7,"") -> 106101#106102#106103#106104#106105#106106#106107#106108#106109#1000005#1000010#1000015#1000016#1000028#1000047#1000052#106205 | AO7: =IF($J7<>"",R7,"")&IF($V7<>"","#"&AC7,"")&IF($U7<>"","#"&$U7,"") -> 106101#106102#106103#106104#106105#106106#106107#106108#106109#106110#1000005#1000010#1000015#1000016#1000028#1000047#1000052#1000053#106205 | AP7: =IF($J7<>"",S7,"")&IF($V7<>"","#"&AD7,"")&IF($U7<>"","#"&$U7,"") -> 106101#106102#106103#106104#106105#106106#106108#106109#106110#106111#1000005#1000010#1000015#1000016#1000028#1000047#1000052#1000053#1000054#106205 | AQ7: =IF($J7<>"",T7,"")&IF($V7<>"","#"&AE7,"")&IF($U7<>"","#"&$U7,"") -> 1061010#1061020#1061030#1061040#1061050#1061060#1061070#1061080#1061090#1061100#1061110#1000005#1000010#1000015#1000016#1000028#1000047#1000052#1000053#1000054#1000055#106205 | AR7: ="|"&AG7&"|"&AH7&"|"&AI7&"|"&AJ7&"|"&AK7&"|"&AL7&"|"&AM7&"|"&AN7&"|"&AO7&"|"&AP7&"|"&AQ7 -> |106101|106101#106102|106101#106102#106103#106104#1000005|106101#106102#106103#106104#106105#1000005#1000010|106101#106102#106103#106104#106105#106106#1000005#1000010#1000015|106101#106102#106103#106104#106105#106106#106107#1000005#1000010#1000015#1000016#106205|106101#106102#106103#106104#106105#106106#106107#106108#1000005#1000010#1000015#1000016#1000028#1000047#106205|106101#106102#106103#106104#106105#106106#106107#106108#106109#1000005#1000010#1000015#1000016#1000028#1000047#1000052#106205|106101#106102#106103#106104#106105#106106#106107#106108#106109#106110#1000005#1000010#1000015#1000016#1000028#1000047#1000052#1000053#106205|106101#106102#106103#106104#106105#106106#106108#106109#106110#106111#1000005#1000010#1000015#1000016#1000028#1000047#1000052#1000053#1000054#106205|1061010#1061020#1061030#1061040#1061050#1061060#1061070#1061080#1061090#1061100#1061110#1000005#1000010#1000015#1000016#1000028#1000047#1000052#1000053#1000054#1000055#106205
A8: 10004 | B8: 慈航道人 | C8: 大乔 | D8: 1 | E8: 5 | F8: 1291#1292 | G8: 4 | H8: 全体 | I8: 其他 | J8: 129101 | K8: 129101#129102 | L8: 129101#129102#129103#129104 | M8: 129101#129102#129103#129104#129105 | N8: 129101#129102#129103#129104#129105#129106 | O8: 129101#129102#129103#129104#129105#129106#129107 | P8: 129101#129102#129103#129104#129105#129106#129107#129108 | Q8: 129101#129102#129103#129104#129105#129106#129107#129108#129109 | R8: 129101#129102#129103#129104#129105#129106#129108#129109#129110 | S8: 129101#129102#129103#129104#129105#129106#129108#129109#129110#129111 | T8: 1291010#1291020#1291030#1291040#1291050#1291060#1291070#1291080#1291090#1291100#1291110#1291111 | U8: 129205 | V8: 1000005 | W8: 1000005#1000008 | X8: 1000005#1000008#1000011 | Y8: 1000005#1000008#1000011#1000016 | Z8: 1000005#1000008#1000011#1000016#1000022 | AA8: 1000005#1000008#1000011#1000016#1000022#1000038 | AB8: 1000005#1000008#1000011#1000016#1000022#1000038#1000045 | AC8: 1000005#1000008#1000011#1000016#1000022#1000038#1000045#1000047 | AD8: 1000005#1000008#1000011#1000016#1000022#1000038#1000045#1000047#1000050 | AE8: 1000005#1000008#1000011#1000016#1000022#1000038#1000045#1000047#1000050#1000052 | AF8: ="" | AG8: =IF($J8<>"",J8,"") -> 129101 | AH8: =IF($J8<>"",K8,"") -> 129101#129102 | AI8: =IF($J8<>"",L8,"")&IF($V8<>"","#"&V8,"") -> 129101#129102#129103#129104#1000005 | AJ8: =IF($J8<>"",M8,"")&IF($V8<>"","#"&W8,"") -> 129101#129102#129103#129104#129105#1000005#1000008 | AK8: =IF($J8<>"",N8,"")&IF($V8<>"","#"&X8,"") -> 129101#129102#129103#129104#129105#129106#1000005#1000008#1000011 | AL8: =IF($J8<>"",O8,"")&IF($V8<>"","#"&Y8,"")&IF($U8<>"","#"&$U8,"") -> 129101#129102#129103#129104#129105#129106#129107#1000005#1000008#1000011#1000016#129205 | AM8: =IF($J8<>"",P8,"")&IF($V8<>"","#"&AA8,"")&IF($U8<>"","#"&$U8,"") -> 129101#129102#129103#129104#129105#129106#129107#129108#1000005#1000008#1000011#1000016#1000022#1000038#129205 | AN8: =IF($J8<>"",Q8,"")&IF($V8<>"","#"&AB8,"")&IF($U8<>"","#"&$U8,"") -> 129101#129102#129103#129104#129105#129106#129107#129108#129109#1000005#1000008#1000011#1000016#1000022#1000038#1000045#129205 | AO8: =IF($J8<>"",R8,"")&IF($V8<>"","#"&AC8,"")&IF($U8<>"","#"&$U8,"") -> 129101#129102#129103#129104#129105#129106#129108#129109#129110#1000005#1000008#1000011#1000016#1000022#1000038#1000045#1000047#129205 | AP8: =IF($J8<>"",S8,"")&IF($V8<>"","#"&AD8,"")&IF($U8<>"","#"&$U8,"") -> 129101#129102#129103#129104#129105#129106#129108#129109#129110#129111#1000005#1000008#1000011#1000016#1000022#1000038#1000045#1000047#1000050#129205 | AQ8: =IF($J8<>"",T8,"")&IF($V8<>"","#"&AE8,"")&IF($U8<>"","#"&$U8,"") -> 1291010#1291020#1291030#1291040#1291050#1291060#1291070#1291080#1291090#1291100#1291110#1291111#1000005#1000008#1000011#1000016#1000022#1000038#1000045#1000047#1000050#1000052#129205 | AR8: ="|"&AG8&"|"&AH8&"|"&AI8&"|"&AJ8&"|"&AK8&"|"&AL8&"|"&AM8&"|"&AN8&"|"&AO8&"|"&AP8&"|"&AQ8 -> |129101|129101#129102|129101#129102#129103#129104#1000005|129101#129102#129103#129104#129105#1000005#1000008|129101#129102#129103#129104#129105#129106#1000005#1000008#1000011|129101#129102#129103#129104#129105#129106#129107#1000005#1000008#1000011#1000016#129205|129101#129102#129103#129104#129105#129106#129107#129108#1000005#1000008#1000011#1000016#1000022#1000038#129205|129101#129102#129103#129104#129105#129106#129107#129108#129109#1000005#1000008#1000011#1000016#1000022#1000038#1000045#129205|129101#129102#129103#129104#129105#129106#129108#129109#129110#1000005#1000008#1000011#1000016#1000022#1000038#1000045#1000047#129205|129101#129102#129103#129104#129105#129106#129108#129109#129110#129111#1000005#1000008#1000011#1000016#1000022#1000038#1000045#1000047#1000050#129205|1291010#1291020#1291030#1291040#1291050#1291060#1291070#1291080#1291090#1291100#1291110#1291111#1000005#1000008#1000011#1000016#1000022#1000038#1000045#1000047#1000050#1000052#129205
