Workbook
Name 开发角色Data: '[1]角色类型&星级Ver0.1'!$B$6:$B$33

Sheet SkillLogicConfig
B1: Id | C1: Target | D1: Effect | E1: EffectValue | F1: CD | G1: SkillDisplay | H1: Hero | I1: NoUse1 | J1: NoUse2 | K1: NoUse3 | L1: NoUse6 | M1: NoUse4 | N1: NoUse5
B2: int | C2: mut,float#float,2 | D2: mut,int#int,2 | E2: mut,float#float,2 | F2: float | G2: mut,int#int,2 | H2: int | I2: string | J2: string | K2: string | L2: string | M2: string | N2: string
B3: 2 | C3: 2 | D3: 2 | E3: 2 | F3: 2 | G3: 2 | H3: 3 | I3: 0 | J3: 0 | K3: 0 | L3: 0 | M3: 0 | N3: 0
B4: 技能id | C4: 目标选择 | D4: 技能效果组合 同一个目标用#分割 | E4: 技能效果参数 | F4: 上滑技施法时间 | G4: 技能特效引用 | H4: 变身卡变成的英雄id | I4: 备注 | J4: 备注 | K4: 备注 | L4: 空值校验 | M4: 目标校验 | N4: 效果校验
A5: 默认值 | B5: 0 | C5: null | D5: null | E5: null | F5: 0 | G5: 0
A6: 正确性校对
A7: 校对值
B8: 1 | C8: 400001#0.4 | D8: 1#3 | E8: 0.1#1|1#2#5 | I8: 沉默 | L8: =IF(AND(ISBLANK(C8)=ISBLANK(D8),ISBLANK(D8)=ISBLANK(E8),ISBLANK(E8)=ISBLANK(C8)),"",FALSE) | M8: =IF((LEN(C8)-LEN(SUBSTITUTE(C8,"|","")))=(LEN(D8)-LEN(SUBSTITUTE(D8,"|",""))),"",FALSE) | N8: =IF((LEN(D8)-LEN(SUBSTITUTE(SUBSTITUTE(D8,"|",""),"#","")))=(LEN(E8)-LEN(SUBSTITUTE(E8,"|",""))),"",FALSE)
B9: 2 | C9: 400001#0.4 | D9: 1#3 | E9: 0.1#2|1#1#2 | I9: 晕 | L9: =IF(AND(ISBLANK(C9)=ISBLANK(D9),ISBLANK(D9)=ISBLANK(E9),ISBLANK(E9)=ISBLANK(C9)),"",FALSE) | M9: =IF((LEN(C9)-LEN(SUBSTITUTE(C9,"|","")))=(LEN(D9)-LEN(SUBSTITUTE(D9,"|",""))),"",FALSE) | N9: =IF((LEN(D9)-LEN(SUBSTITUTE(SUBSTITUTE(D9,"|",""),"#","")))=(LEN(E9)-LEN(SUBSTITUTE(E9,"|",""))),"",FALSE)
B10: 3 | C10: 100000#0.4 | D10: 5 | E10: 1#1#4 | I10: 持续治疗 | L10: =IF(AND(ISBLANK(C10)=ISBLANK(D10),ISBLANK(D10)=ISBLANK(E10),ISBLANK(E10)=ISBLANK(C10)),"",FALSE) | M10: =IF((LEN(C10)-LEN(SUBSTITUTE(C10,"|","")))=(LEN(D10)-LEN(SUBSTITUTE(D10,"|",""))),"",FALSE) | N10: =IF((LEN(D10)-LEN(SUBSTITUTE(SUBSTITUTE(D10,"|",""),"#","")))=(LEN(E10)-LEN(SUBSTITUTE(E10,"|",""))),"",FALSE)
B11: 4 | C11: 300001#0.4 | D11: 13 | E11: 1#0.1#1#10 | I11: 自己燃烧 | L11: =IF(AND(ISBLANK(C11)=ISBLANK(D11),ISBLANK(D11)=ISBLANK(E11),ISBLANK(E11)=ISBLANK(C11)),"",FALSE) | M11: =IF((LEN(C11)-LEN(SUBSTITUTE(C11,"|","")))=(LEN(D11)-LEN(SUBSTITUTE(D11,"|",""))),"",FALSE) | N11: =IF((LEN(D11)-LEN(SUBSTITUTE(SUBSTITUTE(D11,"|",""),"#","")))=(LEN(E11)-LEN(SUBSTITUTE(E11,"|",""))),"",FALSE)
B12: 5 | C12: 300001#0.4 | D12: 13 | E12: 2#0.1#1#10 | I12: 自己中毒 | L12: =IF(AND(ISBLANK(C12)=ISBLANK(D12),ISBLANK(D12)=ISBLANK(E12),ISBLANK(E12)=ISBLANK(C12)),"",FALSE) | M12: =IF((LEN(C12)-LEN(SUBSTITUTE(C12,"|","")))=(LEN(D12)-LEN(SUBSTITUTE(D12,"|",""))),"",FALSE) | N12: =IF((LEN(D12)-LEN(SUBSTITUTE(SUBSTITUTE(D12,"|",""),"#","")))=(LEN(E12)-LEN(SUBSTITUTE(E12,"|",""))),"",FALSE)
B13: 6 | C13: 300001#0.4 | D13: 13 | E13: 3#0.1#1#10 | I13: 自己流血 | L13: =IF(AND(ISBLANK(C13)=ISBLANK(D13),ISBLANK(D13)=ISBLANK(E13),ISBLANK(E13)=ISBLANK(C13)),"",FALSE) | M13: =IF((LEN(C13)-LEN(SUBSTITUTE(C13,"|","")))=(LEN(D13)-LEN(SUBSTITUTE(D13,"|",""))),"",FALSE) | N13: =IF((LEN(D13)-LEN(SUBSTITUTE(SUBSTITUTE(D13,"|",""),"#","")))=(LEN(E13)-LEN(SUBSTITUTE(E13,"|",""))),"",FALSE)
B14: 7 | C14: 400001#0.4 | D14: 13 | E14: 1#0.1#1#10 | I14: 敌人燃烧 | M14: =IF((LEN(C14)-LEN(SUBSTITUTE(C14,"|","")))=(LEN(D14)-LEN(SUBSTITUTE(D14,"|",""))),"",FALSE)
B15: 8 | C15: 400001#0.4 | D15: 13 | E15: 2#0.1#1#10 | I15: 敌人中毒 | M15: =IF((LEN(C15)-LEN(SUBSTITUTE(C15,"|","")))=(LEN(D15)-LEN(SUBSTITUTE(D15,"|",""))),"",FALSE)
B16: 9 | C16: 400001#0.4 | D16: 13 | E16: 3#0.1#1#10 | I16: 敌人流血 | M16: =IF((LEN(C16)-LEN(SUBSTITUTE(C16,"|","")))=(LEN(D16)-LEN(SUBSTITUTE(D16,"|",""))),"",FALSE)
B17: 10 | C17: 300001#0.4 | D17: 9 | E17: 12#0.1#10#0 | I17: 盾 | M17: =IF((LEN(C17)-LEN(SUBSTITUTE(C17,"|","")))=(LEN(D17)-LEN(SUBSTITUTE(D17,"|",""))),"",FALSE)
B18: 11 | C18: 200000#0.4 | D18: 4 | E18: 1#0.5#10#4 | I18: 减攻 | M18: =IF((LEN(C18)-LEN(SUBSTITUTE(C18,"|","")))=(LEN(D18)-LEN(SUBSTITUTE(D18,"|",""))),"",FALSE)
B19: 12 | C19: 100000#0.4 | D19: 4 | E19: 2#0.3#10#2 | I19: 加防 | M19: =IF((LEN(C19)-LEN(SUBSTITUTE(C19,"|","")))=(LEN(D19)-LEN(SUBSTITUTE(D19,"|",""))),"",FALSE)
B20: 13 | C20: 400001#0.4 | D20: 1 | E20: 0.1#1 | L20: =IF(AND(ISBLANK(C20)=ISBLANK(D20),ISBLANK(D20)=ISBLANK(E20),ISBLANK(E20)=ISBLANK(C20)),"",FALSE) | M20: =IF((LEN(C20)-LEN(SUBSTITUTE(C20,"|","")))=(LEN(D20)-LEN(SUBSTITUTE(D20,"|",""))),"",FALSE) | N20: =IF((LEN(D20)-LEN(SUBSTITUTE(SUBSTITUTE(D20,"|",""),"#","")))=(LEN(E20)-LEN(SUBSTITUTE(E20,"|",""))),"",FALSE)
B21: 1000001 | C21: 400001#0.4 | D21: 1#13 | E21: 2.6#1|3#0.2#1#5 | I21: 巨魔 | L21: =IF(AND(ISBLANK(C21)=ISBLANK(D21),ISBLANK(D21)=ISBLANK(E21),ISBLANK(E21)=ISBLANK(C21)),"",FALSE) | M21: =IF((LEN(C21)-LEN(SUBSTITUTE(C21,"|","")))=(LEN(D21)-LEN(SUBSTITUTE(D21,"|",""))),"",FALSE) | N21: =IF((LEN(D21)-LEN(SUBSTITUTE(SUBSTITUTE(D21,"|",""),"#","")))=(LEN(E21)-LEN(SUBSTITUTE(E21,"|",""))),"",FALSE)
B22: 1000002 | C22: 200000#0.4 | D22: 2#3 | E22: 1.44#2|0.3#1#4 | F22: 75000 | I22: 巨魔 | L22: =IF(AND(ISBLANK(C22)=ISBLANK(D22),ISBLANK(D22)=ISBLANK(E22),ISBLANK(E22)=ISBLANK(C22)),"",FALSE) | M22: =IF((LEN(C22)-LEN(SUBSTITUTE(C22,"|","")))=(LEN(D22)-LEN(SUBSTITUTE(D22,"|",""))),"",FALSE) | N22: =IF((LEN(D22)-LEN(SUBSTITUTE(SUBSTITUTE(D22,"|",""),"#","")))=(LEN(E22)-LEN(SUBSTITUTE(E22,"|",""))),"",FALSE)
B23: 100714 | C23: 200001#0.4 | D23: 6#4#4 | E23: 3#3#0.693#1|2#0.3#10#4|3#0.3#10#4 | I23: 外敌技能 | L23: =IF(AND(ISBLANK(C23)=ISBLANK(D23),ISBLANK(D23)=ISBLANK(E23),ISBLANK(E23)=ISBLANK(C23)),"",FALSE) | M23: =IF((LEN(C23)-LEN(SUBSTITUTE(C23,"|","")))=(LEN(D23)-LEN(SUBSTITUTE(D23,"|",""))),"",FALSE) | N23: =IF((LEN(D23)-LEN(SUBSTITUTE(SUBSTITUTE(D23,"|",""),"#","")))=(LEN(E23)-LEN(SUBSTITUTE(E23,"|",""))),"",FALSE)
B24: 100724 | C24: 200001#0.4|100721#0.4 | D24: 1|8 | E24: 2.08#1|0#1#1 | I24: 外敌技能 | L24: =IF(AND(ISBLANK(C24)=ISBLANK(D24),ISBLANK(D24)=ISBLANK(E24),ISBLANK(E24)=ISBLANK(C24)),"",FALSE) | M24: =IF((LEN(C24)-LEN(SUBSTITUTE(C24,"|","")))=(LEN(D24)-LEN(SUBSTITUTE(D24,"|",""))),"",FALSE) | N24: =IF((LEN(D24)-LEN(SUBSTITUTE(SUBSTITUTE(D24,"|",""),"#","")))=(LEN(E24)-LEN(SUBSTITUTE(E24,"|",""))),"",FALSE)
B25: 101614 | C25: 200001#0.4 | D25: 30 | E25: 2.08#2#0#0.38 | I25: 外敌技能 | L25: =IF(AND(ISBLANK(C25)=ISBLANK(D25),ISBLANK(D25)=ISBLANK(E25),ISBLANK(E25)=ISBLANK(C25)),"",FALSE) | M25: =IF((LEN(C25)-LEN(SUBSTITUTE(C25,"|","")))=(LEN(D25)-LEN(SUBSTITUTE(D25,"|",""))),"",FALSE) | N25: =IF((LEN(D25)-LEN(SUBSTITUTE(SUBSTITUTE(D25,"|",""),"#","")))=(LEN(E25)-LEN(SUBSTITUTE(E25,"|",""))),"",FALSE)
B26: 101624 | C26: 200003#0.4|300001#0.4 | D26: 23|4#4 | E26: 1.11#2#0#0.3|3#0.2#6#4|1#0.3#6#2 | I26: 外敌技能 | L26: =IF(AND(ISBLANK(C26)=ISBLANK(D26),ISBLANK(D26)=ISBLANK(E26),ISBLANK(E26)=ISBLANK(C26)),"",FALSE) | M26: =IF((LEN(C26)-LEN(SUBSTITUTE(C26,"|","")))=(LEN(D26)-LEN(SUBSTITUTE(D26,"|",""))),"",FALSE) | N26: =IF((LEN(D26)-LEN(SUBSTITUTE(SUBSTITUTE(D26,"|",""),"#","")))=(LEN(E26)-LEN(SUBSTITUTE(E26,"|",""))),"",FALSE)
B27: 102214 | C27: 200001#0.4|300001#0.4|300001#0.4 | D27: 1|4|4 | E27: 2.08#2|9#0.2#9#1|10#0.2#9#1 | I27: 外敌技能 | L27: =IF(AND(ISBLANK(C27)=ISBLANK(D27),ISBLANK(D27)=ISBLANK(E27),ISBLANK(E27)=ISBLANK(C27)),"",FALSE) | M27: =IF((LEN(C27)-LEN(SUBSTITUTE(C27,"|","")))=(LEN(D27)-LEN(SUBSTITUTE(D27,"|",""))),"",FALSE) | N27: =IF((LEN(D27)-LEN(SUBSTITUTE(SUBSTITUTE(D27,"|",""),"#","")))=(LEN(E27)-LEN(SUBSTITUTE(E27,"|",""))),"",FALSE)
B28: 102224 | C28: 200221#0.4 | D28: 15 | E28: 2.08#2#0.3 | I28: 外敌技能 | L28: =IF(AND(ISBLANK(C28)=ISBLANK(D28),ISBLANK(D28)=ISBLANK(E28),ISBLANK(E28)=ISBLANK(C28)),"",FALSE) | M28: =IF((LEN(C28)-LEN(SUBSTITUTE(C28,"|","")))=(LEN(D28)-LEN(SUBSTITUTE(D28,"|",""))),"",FALSE) | N28: =IF((LEN(D28)-LEN(SUBSTITUTE(SUBSTITUTE(D28,"|",""),"#","")))=(LEN(E28)-LEN(SUBSTITUTE(E28,"|",""))),"",FALSE)
B29: 102514 | C29: 200001#0.4 | D29: 6 | E29: 2#2#1.04#2 | I29: 外敌技能 | L29: =IF(AND(ISBLANK(C29)=ISBLANK(D29),ISBLANK(D29)=ISBLANK(E29),ISBLANK(E29)=ISBLANK(C29)),"",FALSE) | M29: =IF((LEN(C29)-LEN(SUBSTITUTE(C29,"|","")))=(LEN(D29)-LEN(SUBSTITUTE(D29,"|",""))),"",FALSE) | N29: =IF((LEN(D29)-LEN(SUBSTITUTE(SUBSTITUTE(D29,"|",""),"#","")))=(LEN(E29)-LEN(SUBSTITUTE(E29,"|",""))),"",FALSE)
B30: 102524 | C30: 200001#0.4 | D30: 1#3 | E30: 2.08#2|0.5#1#8 | I30: 外敌技能 | L30: =IF(AND(ISBLANK(C30)=ISBLANK(D30),ISBLANK(D30)=ISBLANK(E30),ISBLANK(E30)=ISBLANK(C30)),"",FALSE) | M30: =IF((LEN(C30)-LEN(SUBSTITUTE(C30,"|","")))=(LEN(D30)-LEN(SUBSTITUTE(D30,"|",""))),"",FALSE) | N30: =IF((LEN(D30)-LEN(SUBSTITUTE(SUBSTITUTE(D30,"|",""),"#","")))=(LEN(E30)-LEN(SUBSTITUTE(E30,"|",""))),"",FALSE)
B31: 103014 | C31: 200001#0.4 | D31: 6 | E31: 2#2#1.04#2 | I31: 外敌技能 | L31: =IF(AND(ISBLANK(C31)=ISBLANK(D31),ISBLANK(D31)=ISBLANK(E31),ISBLANK(E31)=ISBLANK(C31)),"",FALSE) | M31: =IF((LEN(C31)-LEN(SUBSTITUTE(C31,"|","")))=(LEN(D31)-LEN(SUBSTITUTE(D31,"|",""))),"",FALSE) | N31: =IF((LEN(D31)-LEN(SUBSTITUTE(SUBSTITUTE(D31,"|",""),"#","")))=(LEN(E31)-LEN(SUBSTITUTE(E31,"|",""))),"",FALSE)
B32: 103024 | C32: 200001#0.4 | D32: 1#4 | E32: 2.08#2|2#0.3#12#4 | I32: 外敌技能 | L32: =IF(AND(ISBLANK(C32)=ISBLANK(D32),ISBLANK(D32)=ISBLANK(E32),ISBLANK(E32)=ISBLANK(C32)),"",FALSE) | M32: =IF((LEN(C32)-LEN(SUBSTITUTE(C32,"|","")))=(LEN(D32)-LEN(SUBSTITUTE(D32,"|",""))),"",FALSE) | N32: =IF((LEN(D32)-LEN(SUBSTITUTE(SUBSTITUTE(D32,"|",""),"#","")))=(LEN(E32)-LEN(SUBSTITUTE(E32,"|",""))),"",FALSE)
B33: 103114 | C33: 200001#0.4 | D33: 1 | E33: 2.08#1 | I33: 外敌技能 | L33: =IF(AND(ISBLANK(C33)=ISBLANK(D33),ISBLANK(D33)=ISBLANK(E33),ISBLANK(E33)=ISBLANK(C33)),"",FALSE) | M33: =IF((LEN(C33)-LEN(SUBSTITUTE(C33,"|","")))=(LEN(D33)-LEN(SUBSTITUTE(D33,"|",""))),"",FALSE) | N33: =IF((LEN(D33)-LEN(SUBSTITUTE(SUBSTITUTE(D33,"|",""),"#","")))=(LEN(E33)-LEN(SUBSTITUTE(E33,"|",""))),"",FALSE)
B34: 103124 | C34: 200001#0.4 | D34: 29 | E34: 2#2#1.456#1#3#0.2 | I34: 外敌技能 | L34: =IF(AND(ISBLANK(C34)=ISBLANK(D34),ISBLANK(D34)=ISBLANK(E34),ISBLANK(E34)=ISBLANK(C34)),"",FALSE) | M34: =IF((LEN(C34)-LEN(SUBSTITUTE(C34,"|","")))=(LEN(D34)-LEN(SUBSTITUTE(D34,"|",""))),"",FALSE) | N34: =IF((LEN(D34)-LEN(SUBSTITUTE(SUBSTITUTE(D34,"|",""),"#","")))=(LEN(E34)-LEN(SUBSTITUTE(E34,"|",""))),"",FALSE)
B35: 103214 | C35: 200001#0.4 | D35: 6 | E35: 2#2#1.04#2 | I35: 外敌技能 | L35: =IF(AND(ISBLANK(C35)=ISBLANK(D35),ISBLANK(D35)=ISBLANK(E35),ISBLANK(E35)=ISBLANK(C35)),"",FALSE) | M35: =IF((LEN(C35)-LEN(SUBSTITUTE(C35,"|","")))=(LEN(D35)-LEN(SUBSTITUTE(D35,"|",""))),"",FALSE) | N35: =IF((LEN(D35)-LEN(SUBSTITUTE(SUBSTITUTE(D35,"|",""),"#","")))=(LEN(E35)-LEN(SUBSTITUTE(E35,"|",""))),"",FALSE)
B36: 103224 | C36: 200001#0.4 | D36: 1#13 | E36: 1.328#1|1#0.2#1#10 | I36: 外敌技能 | L36: =IF(AND(ISBLANK(C36)=ISBLANK(D36),ISBLANK(D36)=ISBLANK(E36),ISBLANK(E36)=ISBLANK(C36)),"",FALSE) | M36: =IF((LEN(C36)-LEN(SUBSTITUTE(C36,"|","")))=(LEN(D36)-LEN(SUBSTITUTE(D36,"|",""))),"",FALSE) | N36: =IF((LEN(D36)-LEN(SUBSTITUTE(SUBSTITUTE(D36,"|",""),"#","")))=(LEN(E36)-LEN(SUBSTITUTE(E36,"|",""))),"",FALSE)
B37: 103314 | C37: 200001#0.4 | D37: 6 | E37: 2#2#1.04#1 | I37: 外敌技能 | L37: =IF(AND(ISBLANK(C37)=ISBLANK(D37),ISBLANK(D37)=ISBLANK(E37),ISBLANK(E37)=ISBLANK(C37)),"",FALSE) | M37: =IF((LEN(C37)-LEN(SUBSTITUTE(C37,"|","")))=(LEN(D37)-LEN(SUBSTITUTE(D37,"|",""))),"",FALSE) | N37: =IF((LEN(D37)-LEN(SUBSTITUTE(SUBSTITUTE(D37,"|",""),"#","")))=(LEN(E37)-LEN(SUBSTITUTE(E37,"|",""))),"",FALSE)
B38: 103324 | C38: 200001#0.4 | D38: 29 | E38: 2#2#1.664#1#2#0.2 | I38: 外敌技能 | L38: =IF(AND(ISBLANK(C38)=ISBLANK(D38),ISBLANK(D38)=ISBLANK(E38),ISBLANK(E38)=ISBLANK(C38)),"",FALSE) | M38: =IF((LEN(C38)-LEN(SUBSTITUTE(C38,"|","")))=(LEN(D38)-LEN(SUBSTITUTE(D38,"|",""))),"",FALSE) | N38: =IF((LEN(D38)-LEN(SUBSTITUTE(SUBSTITUTE(D38,"|",""),"#","")))=(LEN(E38)-LEN(SUBSTITUTE(E38,"|",""))),"",FALSE)
B39: 103514 | C39: 200001#0.4 | D39: 29 | E39: 3#3#0.693#1#1#0.2 | I39: 外敌技能 | L39: =IF(AND(ISBLANK(C39)=ISBLANK(D39),ISBLANK(D39)=ISBLANK(E39),ISBLANK(E39)=ISBLANK(C39)),"",FALSE) | M39: =IF((LEN(C39)-LEN(SUBSTITUTE(C39,"|","")))=(LEN(D39)-LEN(SUBSTITUTE(D39,"|",""))),"",FALSE) | N39: =IF((LEN(D39)-LEN(SUBSTITUTE(SUBSTITUTE(D39,"|",""),"#","")))=(LEN(E39)-LEN(SUBSTITUTE(E39,"|",""))),"",FALSE)
B40: 103524 | C40: 200111#0.4 | D40: 1 | E40: 2.912#1 | I40: 外敌技能 | L40: =IF(AND(ISBLANK(C40)=ISBLANK(D40),ISBLANK(D40)=ISBLANK(E40),ISBLANK(E40)=ISBLANK(C40)),"",FALSE) | M40: =IF((LEN(C40)-LEN(SUBSTITUTE(C40,"|","")))=(LEN(D40)-LEN(SUBSTITUTE(D40,"|",""))),"",FALSE) | N40: =IF((LEN(D40)-LEN(SUBSTITUTE(SUBSTITUTE(D40,"|",""),"#","")))=(LEN(E40)-LEN(SUBSTITUTE(E40,"|",""))),"",FALSE)
B41: 103614 | C41: 200001#0.4 | D41: 1 | E41: 2.08#2 | I41: 外敌技能 | L41: =IF(AND(ISBLANK(C41)=ISBLANK(D41),ISBLANK(D41)=ISBLANK(E41),ISBLANK(E41)=ISBLANK(C41)),"",FALSE) | M41: =IF((LEN(C41)-LEN(SUBSTITUTE(C41,"|","")))=(LEN(D41)-LEN(SUBSTITUTE(D41,"|",""))),"",FALSE) | N41: =IF((LEN(D41)-LEN(SUBSTITUTE(SUBSTITUTE(D41,"|",""),"#","")))=(LEN(E41)-LEN(SUBSTITUTE(E41,"|",""))),"",FALSE)
B42: 103624 | C42: 200001#0.4 | D42: 29 | E42: 2#2#1.456#2#4#0.2 | I42: 外敌技能 | L42: =IF(AND(ISBLANK(C42)=ISBLANK(D42),ISBLANK(D42)=ISBLANK(E42),ISBLANK(E42)=ISBLANK(C42)),"",FALSE) | M42: =IF((LEN(C42)-LEN(SUBSTITUTE(C42,"|","")))=(LEN(D42)-LEN(SUBSTITUTE(D42,"|",""))),"",FALSE) | N42: =IF((LEN(D42)-LEN(SUBSTITUTE(SUBSTITUTE(D42,"|",""),"#","")))=(LEN(E42)-LEN(SUBSTITUTE(E42,"|",""))),"",FALSE)
B43: 103714 | C43: 200001#0.4 | D43: 6 | E43: 2#2#1.04#1 | I43: 外敌技能 | L43: =IF(AND(ISBLANK(C43)=ISBLANK(D43),ISBLANK(D43)=ISBLANK(E43),ISBLANK(E43)=ISBLANK(C43)),"",FALSE) | M43: =IF((LEN(C43)-LEN(SUBSTITUTE(C43,"|","")))=(LEN(D43)-LEN(SUBSTITUTE(D43,"|",""))),"",FALSE) | N43: =IF((LEN(D43)-LEN(SUBSTITUTE(SUBSTITUTE(D43,"|",""),"#","")))=(LEN(E43)-LEN(SUBSTITUTE(E43,"|",""))),"",FALSE)
B44: 103724 | C44: 200001#0.4|3004001#0.4|300501#0.4 | D44: 1|4|4 | E44: 2.08#1|2#0.3#9#1|3#0.3#9#1 | I44: 外敌技能 | L44: =IF(AND(ISBLANK(C44)=ISBLANK(D44),ISBLANK(D44)=ISBLANK(E44),ISBLANK(E44)=ISBLANK(C44)),"",FALSE) | M44: =IF((LEN(C44)-LEN(SUBSTITUTE(C44,"|","")))=(LEN(D44)-LEN(SUBSTITUTE(D44,"|",""))),"",FALSE) | N44: =IF((LEN(D44)-LEN(SUBSTITUTE(SUBSTITUTE(D44,"|",""),"#","")))=(LEN(E44)-LEN(SUBSTITUTE(E44,"|",""))),"",FALSE)
B45: 103914 | C45: 200001#0.4 | D45: 6 | E45: 2#2#1.04#1 | I45: 外敌技能 | L45: =IF(AND(ISBLANK(C45)=ISBLANK(D45),ISBLANK(D45)=ISBLANK(E45),ISBLANK(E45)=ISBLANK(C45)),"",FALSE) | M45: =IF((LEN(C45)-LEN(SUBSTITUTE(C45,"|","")))=(LEN(D45)-LEN(SUBSTITUTE(D45,"|",""))),"",FALSE) | N45: =IF((LEN(D45)-LEN(SUBSTITUTE(SUBSTITUTE(D45,"|",""),"#","")))=(LEN(E45)-LEN(SUBSTITUTE(E45,"|",""))),"",FALSE)
B46: 103924 | C46: 200001#0.4 | D46: 1#4 | E46: 2.5#1|3#0.4#9#4 | I46: 外敌技能 | L46: =IF(AND(ISBLANK(C46)=ISBLANK(D46),ISBLANK(D46)=ISBLANK(E46),ISBLANK(E46)=ISBLANK(C46)),"",FALSE) | M46: =IF((LEN(C46)-LEN(SUBSTITUTE(C46,"|","")))=(LEN(D46)-LEN(SUBSTITUTE(D46,"|",""))),"",FALSE) | N46: =IF((LEN(D46)-LEN(SUBSTITUTE(SUBSTITUTE(D46,"|",""),"#","")))=(LEN(E46)-LEN(SUBSTITUTE(E46,"|",""))),"",FALSE)
B47: 104014 | C47: 200001#0.4 | D47: 1 | E47: 2.08#1 | I47: 外敌技能 | L47: =IF(AND(ISBLANK(C47)=ISBLANK(D47),ISBLANK(D47)=ISBLANK(E47),ISBLANK(E47)=ISBLANK(C47)),"",FALSE) | M47: =IF((LEN(C47)-LEN(SUBSTITUTE(C47,"|","")))=(LEN(D47)-LEN(SUBSTITUTE(D47,"|",""))),"",FALSE) | N47: =IF((LEN(D47)-LEN(SUBSTITUTE(SUBSTITUTE(D47,"|",""),"#","")))=(LEN(E47)-LEN(SUBSTITUTE(E47,"|",""))),"",FALSE)
B48: 104024 | C48: 200001#0.4 | D48: 29 | E48: 2#2#1.456#1#5#0.2 | I48: 外敌技能 | L48: =IF(AND(ISBLANK(C48)=ISBLANK(D48),ISBLANK(D48)=ISBLANK(E48),ISBLANK(E48)=ISBLANK(C48)),"",FALSE) | M48: =IF((LEN(C48)-LEN(SUBSTITUTE(C48,"|","")))=(LEN(D48)-LEN(SUBSTITUTE(D48,"|",""))),"",FALSE) | N48: =IF((LEN(D48)-LEN(SUBSTITUTE(SUBSTITUTE(D48,"|",""),"#","")))=(LEN(E48)-LEN(SUBSTITUTE(E48,"|",""))),"",FALSE)
B49: 104214 | C49: 200001#0.4 | D49: 6 | E49: 2#2#1.04#1 | I49: 外敌技能 | L49: =IF(AND(ISBLANK(C49)=ISBLANK(D49),ISBLANK(D49)=ISBLANK(E49),ISBLANK(E49)=ISBLANK(C49)),"",FALSE) | M49: =IF((LEN(C49)-LEN(SUBSTITUTE(C49,"|","")))=(LEN(D49)-LEN(SUBSTITUTE(D49,"|",""))),"",FALSE) | N49: =IF((LEN(D49)-LEN(SUBSTITUTE(SUBSTITUTE(D49,"|",""),"#","")))=(LEN(E49)-LEN(SUBSTITUTE(E49,"|",""))),"",FALSE)
B50: 104224 | C50: 200001#0.4|300001#0.4 | D50: 1|4 | E50: 2.08#1|1#0.3#9#2 | I50: 外敌技能 | L50: =IF(AND(ISBLANK(C50)=ISBLANK(D50),ISBLANK(D50)=ISBLANK(E50),ISBLANK(E50)=ISBLANK(C50)),"",FALSE) | M50: =IF((LEN(C50)-LEN(SUBSTITUTE(C50,"|","")))=(LEN(D50)-LEN(SUBSTITUTE(D50,"|",""))),"",FALSE) | N50: =IF((LEN(D50)-LEN(SUBSTITUTE(SUBSTITUTE(D50,"|",""),"#","")))=(LEN(E50)-LEN(SUBSTITUTE(E50,"|",""))),"",FALSE)
B51: 100001 | C51: 400001#0.4 | D51: 1#91 | E51: 1.4#1|1#3#0.2#2#10#5 | I51: 公会boss技能
B52: 100002 | C52: 200003#0.4 | D52: 1 | E52: 2.88#2 | F52: 50000 | I52: 公会boss技能
B53: 1000111 | C53: 400001#0.4|200000#0.4 | D53: 1|3 | E53: 2.2#1|0.8#3#10 | G53: 0#1 | K53: =IF(I53=J53,"","错") | L53: =IF(AND(ISBLANK(C53)=ISBLANK(D53),ISBLANK(D53)=ISBLANK(E53),ISBLANK(E53)=ISBLANK(C53)),"",FALSE) | M53: =IF((LEN(C53)-LEN(SUBSTITUTE(C53,"|","")))=(LEN(D53)-LEN(SUBSTITUTE(D53,"|",""))),"",FALSE) | N53: =IF((LEN(D53)-LEN(SUBSTITUTE(SUBSTITUTE(D53,"|",""),"#","")))=(LEN(E53)-LEN(SUBSTITUTE(E53,"|",""))),"",FALSE)
B54: 1000112 | C54: 400001#0.4|200000#0.4 | D54: 1|3 | E54: 2.5#1|0.8#3#10 | G54: 0#1 | K54: =IF(I54=J54,"","错") | L54: =IF(AND(ISBLANK(C54)=ISBLANK(D54),ISBLANK(D54)=ISBLANK(E54),ISBLANK(E54)=ISBLANK(C54)),"",FALSE) | M54: =IF((LEN(C54)-LEN(SUBSTITUTE(C54,"|","")))=(LEN(D54)-LEN(SUBSTITUTE(D54,"|",""))),"",FALSE) | N54: =IF((LEN(D54)-LEN(SUBSTITUTE(SUBSTITUTE(D54,"|",""),"#","")))=(LEN(E54)-LEN(SUBSTITUTE(E54,"|",""))),"",FALSE)
B55: 1000113 | C55: 400001#0.4|200000#0.4 | D55: 1|3 | E55: 3.6#1|0.8#3#10 | G55: 0#1 | K55: =IF(I55=J55,"","错") | L55: =IF(AND(ISBLANK(C55)=ISBLANK(D55),ISBLANK(D55)=ISBLANK(E55),ISBLANK(E55)=ISBLANK(C55)),"",FALSE) | M55: =IF((LEN(C55)-LEN(SUBSTITUTE(C55,"|","")))=(LEN(D55)-LEN(SUBSTITUTE(D55,"|",""))),"",FALSE) | N55: =IF((LEN(D55)-LEN(SUBSTITUTE(SUBSTITUTE(D55,"|",""),"#","")))=(LEN(E55)-LEN(SUBSTITUTE(E55,"|",""))),"",FALSE)
B56: 1000114 | C56: 400001#0.4|200000#0.4 | D56: 1|3 | E56: 4.3#1|0.8#3#10 | G56: 0#1 | K56: =IF(I56=J56,"","错") | L56: =IF(AND(ISBLANK(C56)=ISBLANK(D56),ISBLANK(D56)=ISBLANK(E56),ISBLANK(E56)=ISBLANK(C56)),"",FALSE) | M56: =IF((LEN(C56)-LEN(SUBSTITUTE(C56,"|","")))=(LEN(D56)-LEN(SUBSTITUTE(D56,"|",""))),"",FALSE) | N56: =IF((LEN(D56)-LEN(SUBSTITUTE(SUBSTITUTE(D56,"|",""),"#","")))=(LEN(E56)-LEN(SUBSTITUTE(E56,"|",""))),"",FALSE)
B57: 1000115 | C57: 400001#0.4|200000#0.4 | D57: 1|3 | E57: 5.4#1|0.8#3#10 | G57: 0#1 | K57: =IF(I57=J57,"","错") | L57: =IF(AND(ISBLANK(C57)=ISBLANK(D57),ISBLANK(D57)=ISBLANK(E57),ISBLANK(E57)=ISBLANK(C57)),"",FALSE) | M57: =IF((LEN(C57)-LEN(SUBSTITUTE(C57,"|","")))=(LEN(D57)-LEN(SUBSTITUTE(D57,"|",""))),"",FALSE) | N57: =IF((LEN(D57)-LEN(SUBSTITUTE(SUBSTITUTE(D57,"|",""),"#","")))=(LEN(E57)-LEN(SUBSTITUTE(E57,"|",""))),"",FALSE)
B58: 1000121 | K58: =IF(I58=J58,"","错") | L58: =IF(AND(ISBLANK(C58)=ISBLANK(D58),ISBLANK(D58)=ISBLANK(E58),ISBLANK(E58)=ISBLANK(C58)),"",FALSE) | M58: =IF((LEN(C58)-LEN(SUBSTITUTE(C58,"|","")))=(LEN(D58)-LEN(SUBSTITUTE(D58,"|",""))),"",FALSE) | N58: =IF((LEN(D58)-LEN(SUBSTITUTE(SUBSTITUTE(D58,"|",""),"#","")))=(LEN(E58)-LEN(SUBSTITUTE(E58,"|",""))),"",FALSE)
B59: 1000122 | K59: =IF(I59=J59,"","错") | L59: =IF(AND(ISBLANK(C59)=ISBLANK(D59),ISBLANK(D59)=ISBLANK(E59),ISBLANK(E59)=ISBLANK(C59)),"",FALSE) | M59: =IF((LEN(C59)-LEN(SUBSTITUTE(C59,"|","")))=(LEN(D59)-LEN(SUBSTITUTE(D59,"|",""))),"",FALSE) | N59: =IF((LEN(D59)-LEN(SUBSTITUTE(SUBSTITUTE(D59,"|",""),"#","")))=(LEN(E59)-LEN(SUBSTITUTE(E59,"|",""))),"",FALSE)
B60: 1000123 | K60: =IF(I60=J60,"","错") | L60: =IF(AND(ISBLANK(C60)=ISBLANK(D60),ISBLANK(D60)=ISBLANK(E60),ISBLANK(E60)=ISBLANK(C60)),"",FALSE) | M60: =IF((LEN(C60)-LEN(SUBSTITUTE(C60,"|","")))=(LEN(D60)-LEN(SUBSTITUTE(D60,"|",""))),"",FALSE) | N60: =IF((LEN(D60)-LEN(SUBSTITUTE(SUBSTITUTE(D60,"|",""),"#","")))=(LEN(E60)-LEN(SUBSTITUTE(E60,"|",""))),"",FALSE)
B61: 1000124 | K61: =IF(I61=J61,"","错") | L61: =IF(AND(ISBLANK(C61)=ISBLANK(D61),ISBLANK(D61)=ISBLANK(E61),ISBLANK(E61)=ISBLANK(C61)),"",FALSE) | M61: =IF((LEN(C61)-LEN(SUBSTITUTE(C61,"|","")))=(LEN(D61)-LEN(SUBSTITUTE(D61,"|",""))),"",FALSE) | N61: =IF((LEN(D61)-LEN(SUBSTITUTE(SUBSTITUTE(D61,"|",""),"#","")))=(LEN(E61)-LEN(SUBSTITUTE(E61,"|",""))),"",FALSE)
B62: 1000125 | K62: =IF(I62=J62,"","错") | L62: =IF(AND(ISBLANK(C62)=ISBLANK(D62),ISBLANK(D62)=ISBLANK(E62),ISBLANK(E62)=ISBLANK(C62)),"",FALSE) | M62: =IF((LEN(C62)-LEN(SUBSTITUTE(C62,"|","")))=(LEN(D62)-LEN(SUBSTITUTE(D62,"|",""))),"",FALSE) | N62: =IF((LEN(D62)-LEN(SUBSTITUTE(SUBSTITUTE(D62,"|",""),"#","")))=(LEN(E62)-LEN(SUBSTITUTE(E62,"|",""))),"",FALSE)
B63: 1000211 | C63: 220003#0.4|220003#0.4 | D63: 81|3 | E63: 2.2#1#1#1.4#5|0.6#3#10 | G63: 0#3 | K63: =IF(I63=J63,"","错") | L63: =IF(AND(ISBLANK(C63)=ISBLANK(D63),ISBLANK(D63)=ISBLANK(E63),ISBLANK(E63)=ISBLANK(C63)),"",FALSE) | M63: =IF((LEN(C63)-LEN(SUBSTITUTE(C63,"|","")))=(LEN(D63)-LEN(SUBSTITUTE(D63,"|",""))),"",FALSE) | N63: =IF((LEN(D63)-LEN(SUBSTITUTE(SUBSTITUTE(D63,"|",""),"#","")))=(LEN(E63)-LEN(SUBSTITUTE(E63,"|",""))),"",FALSE)
B64: 1000212 | C64: 220003#0.4|220003#0.4 | D64: 81|3 | E64: 2.5#1#1#1.6#5|0.6#3#10 | G64: 0#3 | K64: =IF(I64=J64,"","错") | L64: =IF(AND(ISBLANK(C64)=ISBLANK(D64),ISBLANK(D64)=ISBLANK(E64),ISBLANK(E64)=ISBLANK(C64)),"",FALSE) | M64: =IF((LEN(C64)-LEN(SUBSTITUTE(C64,"|","")))=(LEN(D64)-LEN(SUBSTITUTE(D64,"|",""))),"",FALSE) | N64: =IF((LEN(D64)-LEN(SUBSTITUTE(SUBSTITUTE(D64,"|",""),"#","")))=(LEN(E64)-LEN(SUBSTITUTE(E64,"|",""))),"",FALSE)
B65: 1000213 | C65: 220003#0.4|220003#0.4 | D65: 81|3 | E65: 3.6#1#1#2.3#5|0.6#3#10 | G65: 0#3 | K65: =IF(I65=J65,"","错") | L65: =IF(AND(ISBLANK(C65)=ISBLANK(D65),ISBLANK(D65)=ISBLANK(E65),ISBLANK(E65)=ISBLANK(C65)),"",FALSE) | M65: =IF((LEN(C65)-LEN(SUBSTITUTE(C65,"|","")))=(LEN(D65)-LEN(SUBSTITUTE(D65,"|",""))),"",FALSE) | N65: =IF((LEN(D65)-LEN(SUBSTITUTE(SUBSTITUTE(D65,"|",""),"#","")))=(LEN(E65)-LEN(SUBSTITUTE(E65,"|",""))),"",FALSE)
B66: 1000214 | C66: 220003#0.4|220003#0.4 | D66: 81|3 | E66: 4.3#1#1#2.7#5|0.6#3#10 | G66: 0#3 | K66: =IF(I66=J66,"","错") | L66: =IF(AND(ISBLANK(C66)=ISBLANK(D66),ISBLANK(D66)=ISBLANK(E66),ISBLANK(E66)=ISBLANK(C66)),"",FALSE) | M66: =IF((LEN(C66)-LEN(SUBSTITUTE(C66,"|","")))=(LEN(D66)-LEN(SUBSTITUTE(D66,"|",""))),"",FALSE) | N66: =IF((LEN(D66)-LEN(SUBSTITUTE(SUBSTITUTE(D66,"|",""),"#","")))=(LEN(E66)-LEN(SUBSTITUTE(E66,"|",""))),"",FALSE)
B67: 1000215 | C67: 220003#0.4|220003#0.4 | D67: 81|3 | E67: 5.4#1#1#3.4#5|0.6#3#10 | G67: 0#3 | K67: =IF(I67=J67,"","错") | L67: =IF(AND(ISBLANK(C67)=ISBLANK(D67),ISBLANK(D67)=ISBLANK(E67),ISBLANK(E67)=ISBLANK(C67)),"",FALSE) | M67: =IF((LEN(C67)-LEN(SUBSTITUTE(C67,"|","")))=(LEN(D67)-LEN(SUBSTITUTE(D67,"|",""))),"",FALSE) | N67: =IF((LEN(D67)-LEN(SUBSTITUTE(SUBSTITUTE(D67,"|",""),"#","")))=(LEN(E67)-LEN(SUBSTITUTE(E67,"|",""))),"",FALSE)
B68: 1000221 | C68: 400001#0.4|300001#0.4 | D68: 1|82#4 | E68: 3.4#1|0.4#6|6#0.4#6#1 | F68: 45000 | G68: 0#4 | K68: =IF(I68=J68,"","错") | L68: =IF(AND(ISBLANK(C68)=ISBLANK(D68),ISBLANK(D68)=ISBLANK(E68),ISBLANK(E68)=ISBLANK(C68)),"",FALSE) | M68: =IF((LEN(C68)-LEN(SUBSTITUTE(C68,"|","")))=(LEN(D68)-LEN(SUBSTITUTE(D68,"|",""))),"",FALSE) | N68: =IF((LEN(D68)-LEN(SUBSTITUTE(SUBSTITUTE(D68,"|",""),"#","")))=(LEN(E68)-LEN(SUBSTITUTE(E68,"|",""))),"",FALSE)
B69: 1000222 | C69: 400001#0.4|300001#0.4 | D69: 1|82#4 | E69: 3.8#1|0.4#6|6#0.4#6#1 | F69: 45000 | G69: 0#4 | K69: =IF(I69=J69,"","错") | L69: =IF(AND(ISBLANK(C69)=ISBLANK(D69),ISBLANK(D69)=ISBLANK(E69),ISBLANK(E69)=ISBLANK(C69)),"",FALSE) | M69: =IF((LEN(C69)-LEN(SUBSTITUTE(C69,"|","")))=(LEN(D69)-LEN(SUBSTITUTE(D69,"|",""))),"",FALSE) | N69: =IF((LEN(D69)-LEN(SUBSTITUTE(SUBSTITUTE(D69,"|",""),"#","")))=(LEN(E69)-LEN(SUBSTITUTE(E69,"|",""))),"",FALSE)
B70: 1000223 | C70: 400001#0.4|300001#0.4 | D70: 1|82#4 | E70: 4.3#1|0.5#6|6#0.4#6#1 | F70: 45000 | G70: 0#4 | K70: =IF(I70=J70,"","错") | L70: =IF(AND(ISBLANK(C70)=ISBLANK(D70),ISBLANK(D70)=ISBLANK(E70),ISBLANK(E70)=ISBLANK(C70)),"",FALSE) | M70: =IF((LEN(C70)-LEN(SUBSTITUTE(C70,"|","")))=(LEN(D70)-LEN(SUBSTITUTE(D70,"|",""))),"",FALSE) | N70: =IF((LEN(D70)-LEN(SUBSTITUTE(SUBSTITUTE(D70,"|",""),"#","")))=(LEN(E70)-LEN(SUBSTITUTE(E70,"|",""))),"",FALSE)
B71: 1000224 | C71: 400001#0.4|300001#0.4 | D71: 1|82#4 | E71: 5.8#1|0.5#6|6#0.4#6#1 | F71: 45000 | G71: 0#4 | K71: =IF(I71=J71,"","错") | L71: =IF(AND(ISBLANK(C71)=ISBLANK(D71),ISBLANK(D71)=ISBLANK(E71),ISBLANK(E71)=ISBLANK(C71)),"",FALSE) | M71: =IF((LEN(C71)-LEN(SUBSTITUTE(C71,"|","")))=(LEN(D71)-LEN(SUBSTITUTE(D71,"|",""))),"",FALSE) | N71: =IF((LEN(D71)-LEN(SUBSTITUTE(SUBSTITUTE(D71,"|",""),"#","")))=(LEN(E71)-LEN(SUBSTITUTE(E71,"|",""))),"",FALSE)
B72: 1000225 | C72: 400001#0.4|300001#0.4 | D72: 1|82#4 | E72: 7.2#1|0.5#6|6#0.6#6#1 | F72: 45000 | G72: 0#4 | K72: =IF(I72=J72,"","错") | L72: =IF(AND(ISBLANK(C72)=ISBLANK(D72),ISBLANK(D72)=ISBLANK(E72),ISBLANK(E72)=ISBLANK(C72)),"",FALSE) | M72: =IF((LEN(C72)-LEN(SUBSTITUTE(C72,"|","")))=(LEN(D72)-LEN(SUBSTITUTE(D72,"|",""))),"",FALSE) | N72: =IF((LEN(D72)-LEN(SUBSTITUTE(SUBSTITUTE(D72,"|",""),"#","")))=(LEN(E72)-LEN(SUBSTITUTE(E72,"|",""))),"",FALSE)
B73: 1000311 | C73: 400001#0.4|200000#0.4 | D73: 1|3 | E73: 2.2#1|0.6#3#10 | G73: 0#3 | K73: =IF(I73=J73,"","错") | L73: =IF(AND(ISBLANK(C73)=ISBLANK(D73),ISBLANK(D73)=ISBLANK(E73),ISBLANK(E73)=ISBLANK(C73)),"",FALSE) | M73: =IF((LEN(C73)-LEN(SUBSTITUTE(C73,"|","")))=(LEN(D73)-LEN(SUBSTITUTE(D73,"|",""))),"",FALSE) | N73: =IF((LEN(D73)-LEN(SUBSTITUTE(SUBSTITUTE(D73,"|",""),"#","")))=(LEN(E73)-LEN(SUBSTITUTE(E73,"|",""))),"",FALSE)
B74: 1000312 | C74: 400001#0.4|200000#0.4 | D74: 1|3 | E74: 2.5#1|0.6#3#10 | G74: 0#3 | K74: =IF(I74=J74,"","错") | L74: =IF(AND(ISBLANK(C74)=ISBLANK(D74),ISBLANK(D74)=ISBLANK(E74),ISBLANK(E74)=ISBLANK(C74)),"",FALSE) | M74: =IF((LEN(C74)-LEN(SUBSTITUTE(C74,"|","")))=(LEN(D74)-LEN(SUBSTITUTE(D74,"|",""))),"",FALSE) | N74: =IF((LEN(D74)-LEN(SUBSTITUTE(SUBSTITUTE(D74,"|",""),"#","")))=(LEN(E74)-LEN(SUBSTITUTE(E74,"|",""))),"",FALSE)
B75: 1000313 | C75: 400001#0.4|200000#0.4 | D75: 1|3 | E75: 3.6#1|0.6#3#10 | G75: 0#3 | K75: =IF(I75=J75,"","错") | L75: =IF(AND(ISBLANK(C75)=ISBLANK(D75),ISBLANK(D75)=ISBLANK(E75),ISBLANK(E75)=ISBLANK(C75)),"",FALSE) | M75: =IF((LEN(C75)-LEN(SUBSTITUTE(C75,"|","")))=(LEN(D75)-LEN(SUBSTITUTE(D75,"|",""))),"",FALSE) | N75: =IF((LEN(D75)-LEN(SUBSTITUTE(SUBSTITUTE(D75,"|",""),"#","")))=(LEN(E75)-LEN(SUBSTITUTE(E75,"|",""))),"",FALSE)
B76: 1000314 | C76: 400001#0.4|200000#0.4 | D76: 1|3 | E76: 4.3#1|0.6#3#10 | G76: 0#3 | K76: =IF(I76=J76,"","错") | L76: =IF(AND(ISBLANK(C76)=ISBLANK(D76),ISBLANK(D76)=ISBLANK(E76),ISBLANK(E76)=ISBLANK(C76)),"",FALSE) | M76: =IF((LEN(C76)-LEN(SUBSTITUTE(C76,"|","")))=(LEN(D76)-LEN(SUBSTITUTE(D76,"|",""))),"",FALSE) | N76: =IF((LEN(D76)-LEN(SUBSTITUTE(SUBSTITUTE(D76,"|",""),"#","")))=(LEN(E76)-LEN(SUBSTITUTE(E76,"|",""))),"",FALSE)
B77: 1000315 | C77: 400001#0.4|200000#0.4 | D77: 1|3 | E77: 5.4#1|0.6#3#10 | G77: 0#3 | K77: =IF(I77=J77,"","错") | L77: =IF(AND(ISBLANK(C77)=ISBLANK(D77),ISBLANK(D77)=ISBLANK(E77),ISBLANK(E77)=ISBLANK(C77)),"",FALSE) | M77: =IF((LEN(C77)-LEN(SUBSTITUTE(C77,"|","")))=(LEN(D77)-LEN(SUBSTITUTE(D77,"|",""))),"",FALSE) | N77: =IF((LEN(D77)-LEN(SUBSTITUTE(SUBSTITUTE(D77,"|",""),"#","")))=(LEN(E77)-LEN(SUBSTITUTE(E77,"|",""))),"",FALSE)
B78: 1000321 | K78: =IF(I78=J78,"","错") | L78: =IF(AND(ISBLANK(C78)=ISBLANK(D78),ISBLANK(D78)=ISBLANK(E78),ISBLANK(E78)=ISBLANK(C78)),"",FALSE) | M78: =IF((LEN(C78)-LEN(SUBSTITUTE(C78,"|","")))=(LEN(D78)-LEN(SUBSTITUTE(D78,"|",""))),"",FALSE) | N78: =IF((LEN(D78)-LEN(SUBSTITUTE(SUBSTITUTE(D78,"|",""),"#","")))=(LEN(E78)-LEN(SUBSTITUTE(E78,"|",""))),"",FALSE)
B79: 1000322 | K79: =IF(I79=J79,"","错") | L79: =IF(AND(ISBLANK(C79)=ISBLANK(D79),ISBLANK(D79)=ISBLANK(E79),ISBLANK(E79)=ISBLANK(C79)),"",FALSE) | M79: =IF((LEN(C79)-LEN(SUBSTITUTE(C79,"|","")))=(LEN(D79)-LEN(SUBSTITUTE(D79,"|",""))),"",FALSE) | N79: =IF((LEN(D79)-LEN(SUBSTITUTE(SUBSTITUTE(D79,"|",""),"#","")))=(LEN(E79)-LEN(SUBSTITUTE(E79,"|",""))),"",FALSE)
B80: 1000323 | K80: =IF(I80=J80,"","错") | L80: =IF(AND(ISBLANK(C80)=ISBLANK(D80),ISBLANK(D80)=ISBLANK(E80),ISBLANK(E80)=ISBLANK(C80)),"",FALSE) | M80: =IF((LEN(C80)-LEN(SUBSTITUTE(C80,"|","")))=(LEN(D80)-LEN(SUBSTITUTE(D80,"|",""))),"",FALSE) | N80: =IF((LEN(D80)-LEN(SUBSTITUTE(SUBSTITUTE(D80,"|",""),"#","")))=(LEN(E80)-LEN(SUBSTITUTE(E80,"|",""))),"",FALSE)
B81: 1000324 | K81: =IF(I81=J81,"","错") | L81: =IF(AND(ISBLANK(C81)=ISBLANK(D81),ISBLANK(D81)=ISBLANK(E81),ISBLANK(E81)=ISBLANK(C81)),"",FALSE) | M81: =IF((LEN(C81)-LEN(SUBSTITUTE(C81,"|","")))=(LEN(D81)-LEN(SUBSTITUTE(D81,"|",""))),"",FALSE) | N81: =IF((LEN(D81)-LEN(SUBSTITUTE(SUBSTITUTE(D81,"|",""),"#","")))=(LEN(E81)-LEN(SUBSTITUTE(E81,"|",""))),"",FALSE)
B82: 1000325 | K82: =IF(I82=J82,"","错") | L82: =IF(AND(ISBLANK(C82)=ISBLANK(D82),ISBLANK(D82)=ISBLANK(E82),ISBLANK(E82)=ISBLANK(C82)),"",FALSE) | M82: =IF((LEN(C82)-LEN(SUBSTITUTE(C82,"|","")))=(LEN(D82)-LEN(SUBSTITUTE(D82,"|",""))),"",FALSE) | N82: =IF((LEN(D82)-LEN(SUBSTITUTE(SUBSTITUTE(D82,"|",""),"#","")))=(LEN(E82)-LEN(SUBSTITUTE(E82,"|",""))),"",FALSE)
B83: 1000411 | C83: 400001#0.4|100211#0.4 | D83: 1|89#83 | E83: 2.3#2|1#1#1.8#6#2|1#1#4 | G83: 0#3 | K83: =IF(I83=J83,"","错") | L83: =IF(AND(ISBLANK(C83)=ISBLANK(D83),ISBLANK(D83)=ISBLANK(E83),ISBLANK(E83)=ISBLANK(C83)),"",FALSE) | M83: =IF((LEN(C83)-LEN(SUBSTITUTE(C83,"|","")))=(LEN(D83)-LEN(SUBSTITUTE(D83,"|",""))),"",FALSE) | N83: =IF((LEN(D83)-LEN(SUBSTITUTE(SUBSTITUTE(D83,"|",""),"#","")))=(LEN(E83)-LEN(SUBSTITUTE(E83,"|",""))),"",FALSE)
B84: 1000412 | C84: 400001#0.4|100211#0.4 | D84: 1|89#83 | E84: 2.6#2|1#1#2.1#6#2|1#1#4 | G84: 0#3 | K84: =IF(I84=J84,"","错") | L84: =IF(AND(ISBLANK(C84)=ISBLANK(D84),ISBLANK(D84)=ISBLANK(E84),ISBLANK(E84)=ISBLANK(C84)),"",FALSE) | M84: =IF((LEN(C84)-LEN(SUBSTITUTE(C84,"|","")))=(LEN(D84)-LEN(SUBSTITUTE(D84,"|",""))),"",FALSE) | N84: =IF((LEN(D84)-LEN(SUBSTITUTE(SUBSTITUTE(D84,"|",""),"#","")))=(LEN(E84)-LEN(SUBSTITUTE(E84,"|",""))),"",FALSE)
B85: 1000413 | C85: 400001#0.4|100211#0.4 | D85: 1|89#83 | E85: 3.8#2|1#1#3#6#2|1#1#4 | G85: 0#3 | K85: =IF(I85=J85,"","错") | L85: =IF(AND(ISBLANK(C85)=ISBLANK(D85),ISBLANK(D85)=ISBLANK(E85),ISBLANK(E85)=ISBLANK(C85)),"",FALSE) | M85: =IF((LEN(C85)-LEN(SUBSTITUTE(C85,"|","")))=(LEN(D85)-LEN(SUBSTITUTE(D85,"|",""))),"",FALSE) | N85: =IF((LEN(D85)-LEN(SUBSTITUTE(SUBSTITUTE(D85,"|",""),"#","")))=(LEN(E85)-LEN(SUBSTITUTE(E85,"|",""))),"",FALSE)
B86: 1000414 | C86: 400001#0.4|100211#0.4 | D86: 1|89#83 | E86: 4.8#2|1#1#3.6#6#2|1#1#4 | G86: 0#3 | K86: =IF(I86=J86,"","错") | L86: =IF(AND(ISBLANK(C86)=ISBLANK(D86),ISBLANK(D86)=ISBLANK(E86),ISBLANK(E86)=ISBLANK(C86)),"",FALSE) | M86: =IF((LEN(C86)-LEN(SUBSTITUTE(C86,"|","")))=(LEN(D86)-LEN(SUBSTITUTE(D86,"|",""))),"",FALSE) | N86: =IF((LEN(D86)-LEN(SUBSTITUTE(SUBSTITUTE(D86,"|",""),"#","")))=(LEN(E86)-LEN(SUBSTITUTE(E86,"|",""))),"",FALSE)
B87: 1000415 | C87: 400001#0.4|100211#0.4 | D87: 1|89#83 | E87: 5.6#2|1#1#4.5#6#2|1#2#4 | G87: 0#3 | K87: =IF(I87=J87,"","错") | L87: =IF(AND(ISBLANK(C87)=ISBLANK(D87),ISBLANK(D87)=ISBLANK(E87),ISBLANK(E87)=ISBLANK(C87)),"",FALSE) | M87: =IF((LEN(C87)-LEN(SUBSTITUTE(C87,"|","")))=(LEN(D87)-LEN(SUBSTITUTE(D87,"|",""))),"",FALSE) | N87: =IF((LEN(D87)-LEN(SUBSTITUTE(SUBSTITUTE(D87,"|",""),"#","")))=(LEN(E87)-LEN(SUBSTITUTE(E87,"|",""))),"",FALSE)
B88: 1000421 | C88: 200000#0.4|100000#0.4 | D88: 2#4|24 | E88: 3.5#2|8#0.2#12#3|1#2.8 | F88: 45000 | G88: 0#3 | K88: =IF(I88=J88,"","错") | L88: =IF(AND(ISBLANK(C88)=ISBLANK(D88),ISBLANK(D88)=ISBLANK(E88),ISBLANK(E88)=ISBLANK(C88)),"",FALSE) | M88: =IF((LEN(C88)-LEN(SUBSTITUTE(C88,"|","")))=(LEN(D88)-LEN(SUBSTITUTE(D88,"|",""))),"",FALSE) | N88: =IF((LEN(D88)-LEN(SUBSTITUTE(SUBSTITUTE(D88,"|",""),"#","")))=(LEN(E88)-LEN(SUBSTITUTE(E88,"|",""))),"",FALSE)
B89: 1000422 | C89: 200000#0.4|100000#0.4 | D89: 2#4|24 | E89: 4#2|8#0.2#12#3|1#3.2 | F89: 45000 | G89: 0#3 | K89: =IF(I89=J89,"","错") | L89: =IF(AND(ISBLANK(C89)=ISBLANK(D89),ISBLANK(D89)=ISBLANK(E89),ISBLANK(E89)=ISBLANK(C89)),"",FALSE) | M89: =IF((LEN(C89)-LEN(SUBSTITUTE(C89,"|","")))=(LEN(D89)-LEN(SUBSTITUTE(D89,"|",""))),"",FALSE) | N89: =IF((LEN(D89)-LEN(SUBSTITUTE(SUBSTITUTE(D89,"|",""),"#","")))=(LEN(E89)-LEN(SUBSTITUTE(E89,"|",""))),"",FALSE)
B90: 1000423 | C90: 200000#0.4|100000#0.4 | D90: 2#4|24 | E90: 4.5#2|8#0.2#12#3|1#3.6 | F90: 45000 | G90: 0#3 | K90: =IF(I90=J90,"","错") | L90: =IF(AND(ISBLANK(C90)=ISBLANK(D90),ISBLANK(D90)=ISBLANK(E90),ISBLANK(E90)=ISBLANK(C90)),"",FALSE) | M90: =IF((LEN(C90)-LEN(SUBSTITUTE(C90,"|","")))=(LEN(D90)-LEN(SUBSTITUTE(D90,"|",""))),"",FALSE) | N90: =IF((LEN(D90)-LEN(SUBSTITUTE(SUBSTITUTE(D90,"|",""),"#","")))=(LEN(E90)-LEN(SUBSTITUTE(E90,"|",""))),"",FALSE)
B91: 1000424 | C91: 200000#0.4|100000#0.4 | D91: 2#4|24 | E91: 6#2|8#0.3#12#3|1#4.8 | F91: 45000 | G91: 0#3 | K91: =IF(I91=J91,"","错") | L91: =IF(AND(ISBLANK(C91)=ISBLANK(D91),ISBLANK(D91)=ISBLANK(E91),ISBLANK(E91)=ISBLANK(C91)),"",FALSE) | M91: =IF((LEN(C91)-LEN(SUBSTITUTE(C91,"|","")))=(LEN(D91)-LEN(SUBSTITUTE(D91,"|",""))),"",FALSE) | N91: =IF((LEN(D91)-LEN(SUBSTITUTE(SUBSTITUTE(D91,"|",""),"#","")))=(LEN(E91)-LEN(SUBSTITUTE(E91,"|",""))),"",FALSE)
B92: 1000425 | C92: 200000#0.4|100000#0.4 | D92: 2#4|24 | E92: 7.5#2|8#0.4#12#3|1#6 | F92: 45000 | G92: 0#3 | K92: =IF(I92=J92,"","错") | L92: =IF(AND(ISBLANK(C92)=ISBLANK(D92),ISBLANK(D92)=ISBLANK(E92),ISBLANK(E92)=ISBLANK(C92)),"",FALSE) | M92: =IF((LEN(C92)-LEN(SUBSTITUTE(C92,"|","")))=(LEN(D92)-LEN(SUBSTITUTE(D92,"|",""))),"",FALSE) | N92: =IF((LEN(D92)-LEN(SUBSTITUTE(SUBSTITUTE(D92,"|",""),"#","")))=(LEN(E92)-LEN(SUBSTITUTE(E92,"|",""))),"",FALSE)
B93: 1000511 | C93: 220003#0.4 | D93: 20 | E93: 1.2#2#1#2 | G93: 0#3 | K93: =IF(I93=J93,"","错") | L93: =IF(AND(ISBLANK(C93)=ISBLANK(D93),ISBLANK(D93)=ISBLANK(E93),ISBLANK(E93)=ISBLANK(C93)),"",FALSE) | M93: =IF((LEN(C93)-LEN(SUBSTITUTE(C93,"|","")))=(LEN(D93)-LEN(SUBSTITUTE(D93,"|",""))),"",FALSE) | N93: =IF((LEN(D93)-LEN(SUBSTITUTE(SUBSTITUTE(D93,"|",""),"#","")))=(LEN(E93)-LEN(SUBSTITUTE(E93,"|",""))),"",FALSE)
B94: 1000512 | C94: 220003#0.4 | D94: 20 | E94: 1.4#2#1#2 | G94: 0#3 | K94: =IF(I94=J94,"","错") | L94: =IF(AND(ISBLANK(C94)=ISBLANK(D94),ISBLANK(D94)=ISBLANK(E94),ISBLANK(E94)=ISBLANK(C94)),"",FALSE) | M94: =IF((LEN(C94)-LEN(SUBSTITUTE(C94,"|","")))=(LEN(D94)-LEN(SUBSTITUTE(D94,"|",""))),"",FALSE) | N94: =IF((LEN(D94)-LEN(SUBSTITUTE(SUBSTITUTE(D94,"|",""),"#","")))=(LEN(E94)-LEN(SUBSTITUTE(E94,"|",""))),"",FALSE)
B95: 1000513 | C95: 220003#0.4 | D95: 20 | E95: 2#2#1#2 | G95: 0#3 | K95: =IF(I95=J95,"","错") | L95: =IF(AND(ISBLANK(C95)=ISBLANK(D95),ISBLANK(D95)=ISBLANK(E95),ISBLANK(E95)=ISBLANK(C95)),"",FALSE) | M95: =IF((LEN(C95)-LEN(SUBSTITUTE(C95,"|","")))=(LEN(D95)-LEN(SUBSTITUTE(D95,"|",""))),"",FALSE) | N95: =IF((LEN(D95)-LEN(SUBSTITUTE(SUBSTITUTE(D95,"|",""),"#","")))=(LEN(E95)-LEN(SUBSTITUTE(E95,"|",""))),"",FALSE)
B96: 1000514 | C96: 220003#0.4 | D96: 20 | E96: 2.4#2#1#2 | G96: 0#3 | K96: =IF(I96=J96,"","错") | L96: =IF(AND(ISBLANK(C96)=ISBLANK(D96),ISBLANK(D96)=ISBLANK(E96),ISBLANK(E96)=ISBLANK(C96)),"",FALSE) | M96: =IF((LEN(C96)-LEN(SUBSTITUTE(C96,"|","")))=(LEN(D96)-LEN(SUBSTITUTE(D96,"|",""))),"",FALSE) | N96: =IF((LEN(D96)-LEN(SUBSTITUTE(SUBSTITUTE(D96,"|",""),"#","")))=(LEN(E96)-LEN(SUBSTITUTE(E96,"|",""))),"",FALSE)
B97: 1000515 | C97: 220003#0.4 | D97: 20 | E97: 3#2#1#2 | G97: 0#3 | K97: =IF(I97=J97,"","错") | L97: =IF(AND(ISBLANK(C97)=ISBLANK(D97),ISBLANK(D97)=ISBLANK(E97),ISBLANK(E97)=ISBLANK(C97)),"",FALSE) | M97: =IF((LEN(C97)-LEN(SUBSTITUTE(C97,"|","")))=(LEN(D97)-LEN(SUBSTITUTE(D97,"|",""))),"",FALSE) | N97: =IF((LEN(D97)-LEN(SUBSTITUTE(SUBSTITUTE(D97,"|",""),"#","")))=(LEN(E97)-LEN(SUBSTITUTE(E97,"|",""))),"",FALSE)
B98: 1000521 | C98: 200000#0.4 | D98: 20 | E98: 2.1#2#1#2 | F98: 45000 | G98: 0#3 | K98: =IF(I98=J98,"","错") | L98: =IF(AND(ISBLANK(C98)=ISBLANK(D98),ISBLANK(D98)=ISBLANK(E98),ISBLANK(E98)=ISBLANK(C98)),"",FALSE) | M98: =IF((LEN(C98)-LEN(SUBSTITUTE(C98,"|","")))=(LEN(D98)-LEN(SUBSTITUTE(D98,"|",""))),"",FALSE) | N98: =IF((LEN(D98)-LEN(SUBSTITUTE(SUBSTITUTE(D98,"|",""),"#","")))=(LEN(E98)-LEN(SUBSTITUTE(E98,"|",""))),"",FALSE)
B99: 1000522 | C99: 200000#0.4 | D99: 20 | E99: 2.4#2#1#2 | F99: 45000 | G99: 0#3 | K99: =IF(I99=J99,"","错") | L99: =IF(AND(ISBLANK(C99)=ISBLANK(D99),ISBLANK(D99)=ISBLANK(E99),ISBLANK(E99)=ISBLANK(C99)),"",FALSE) | M99: =IF((LEN(C99)-LEN(SUBSTITUTE(C99,"|","")))=(LEN(D99)-LEN(SUBSTITUTE(D99,"|",""))),"",FALSE) | N99: =IF((LEN(D99)-LEN(SUBSTITUTE(SUBSTITUTE(D99,"|",""),"#","")))=(LEN(E99)-LEN(SUBSTITUTE(E99,"|",""))),"",FALSE)
B100: 1000523 | C100: 200000#0.4 | D100: 20 | E100: 2.7#2#1#2 | F100: 45000 | G100: 0#3 | K100: =IF(I100=J100,"","错") | L100: =IF(AND(ISBLANK(C100)=ISBLANK(D100),ISBLANK(D100)=ISBLANK(E100),ISBLANK(E100)=ISBLANK(C100)),"",FALSE) | M100: =IF((LEN(C100)-LEN(SUBSTITUTE(C100,"|","")))=(LEN(D100)-LEN(SUBSTITUTE(D100,"|",""))),"",FALSE) | N100: =IF((LEN(D100)-LEN(SUBSTITUTE(SUBSTITUTE(D100,"|",""),"#","")))=(LEN(E100)-LEN(SUBSTITUTE(E100,"|",""))),"",FALSE)
...

Sheet 辅助
A1: [属性] | B1: 描述 | C1: [职业] | D1: 描述 | F1: [控制状态] | I1: [伤害类型] | M1: [持续回复状态] | P1: [持续伤害状态] | T1: [改变类型] | V1: a(当前属性) oa（战斗初始属性）b（增量） | AC1: [免疫buff] | AF1: [清除状态] | AI1: 元素 | AK1: 位置 | AM1: 战斗外数据
A2: 1 | B2: 攻击 | C2: 1 | D2: 战士 | F2: 0 | G2: 代表所有 | I2: 1 | J2: 物理伤害 | M2: 0 | N2: 代表所有 | Q2: 0 | R2: 代表所有 | U2: 1 | V2: 加算 | W2: a+b | X2: 增益 | AC2: 0 | AD2: 负面状态
A3: 2 | B3: 护甲 | C3: 2 | D3: 牧师 | F3: 1 | G3: 眩晕 | I3: 2 | J3: 魔法伤害 | M3: 1 | N3: 持续恢复生命 | Q3: 1 | R3: 灼烧 | U3: 2 | V3: 乘算 | W3: a+oa*b | X3: 增益 | Y3: 对基础属性其效果，不是当前属性 | AC3: 1 | AD3: 控制状态 | AF3: 1 | AG3: 持续恢复 | AI3: 1 | AJ3: 火 | AK3: 1 | AL3: 前排 | AM3: 1 | AN3: 夜明珠数量
A4: 3 | B4: 魔抗 | C4: 3 | D4: 法师 | F4: 2 | G4: 沉默 | Q4: 2 | R4: 中毒 | U4: 3 | V4: 减算 | W4: a-b | X4: 减益 | AC4: 2 | AD4: 持续伤害状态 | AF4: 2 | AG4: 护盾 | AI4: 2 | AJ4: 风 | AK4: 2 | AL4: 后排 | AM4: 2 | AN4: 当前猎妖之路层数
A5: 4 | B5: 速度 | C5: 4 | D5: 刺客 | F5: 3 | G5: 嘲讽 | Q5: 3 | R5: 流血 | U5: 4 | V5: 乘减算 | W5: a*(1-b) | X5: 减益 | Y5: 对当前属性其效果，不是基础属性 | AC5: 3 | AF5: 3 | AG5: 增益状态 | AI5: 3 | AJ5: 水 | AM5: 3 | AN5: 紫色圣物数量
A6: 5 | B6: 伤害加成 | C6: 5 | D6: 游侠 | F6: 4 | G6: 禁疗 | H6: （改状态下，技能目标选择无效，改为随机打，打击数量不变） | AC6: 4 | AD6: 自定义免疫 | AF6: 4 | AG6: 减益状态 | AI6: 4 | AJ6: 地 | AM6: 4 | AN6: 橙色圣物数量
A7: 6 | B7: 伤害减免 | F7: 5 | G7: 致盲 | AF7: 5 | AG7: 持续伤害 | AI7: 5 | AJ7: 光 | AM7: 5 | AN7: 神秘药水使用次数
A8: 7 | B8: 命中 | F8: 6 | G8: 免疫控制状态 | M8: 状态类型类型 | P8: 类型5护盾 | AF8: 6 | AG8: 负面状态 | AI8: 6 | AJ8: 暗
A9: 8 | B9: 闪避 | F9: 7 | G9: 麻痹 | M9: 1 | N9: 属性改变 | P9: 1 | Q9: 固定值减伤
A10: 9 | B10: 暴击率 | F10: 8 | G10: 混乱 | M10: 2 | N10: 控制 | P10: 2 | Q10: 百分比减伤
A11: 10 | B11: 暴伤 | I11: 状态类型类型 | M11: 3 | N11: 持续伤害 | P11: 3 | Q11: 无敌盾
A12: 11 | B12: 治疗系数 | I12: 1 | J12: 属性改变 | M12: 4 | N12: 持续治疗 | P12: 4 | Q12: 无敌吸血盾
A13: 12 | B13: 最大生命 | I13: 2 | J13: 控制 | M13: 5 | N13: 护盾 | P13: 5 | Q13: 反伤盾
A14: 13 | B14: 当前生命 | I14: 3 | J14: 持续伤害 | M14: 6 | N14: 免疫 | P14: 6 | Q14: 免疫盾
A15: 14 | B15: 受治疗系数 | I15: 4 | J15: 持续治疗 | M15: 7 | N15: 连接符
A16: 15 | B16: 抗暴率 | I16: 5 | J16: 护盾 | M16: 8 | N16: 麒麟印记
A17: 16 | B17: 初始怒气 | I17: 6 | J17: 免疫 | M17: 9 | N17: 放逐
A18: 17 | B18: 灭人 | I18: 7 | J18: 连接符 | M18: 10 | N18: 不灭 | P18: 类型17
A19: 18 | B19: 灭佛 | I19: 8 | J19: 麒麟印记 | M19: 11 | N19: 没用 | P19: 1 | Q19: 破军
A20: 19 | B20: 灭妖 | I20: 9 | J20: 放逐 | M20: 12 | N20: 没用 | P20: 2 | Q20: 迷魂
A21: 20 | B21: 灭道 | I21: 10 | J21: 不灭 | M21: 13 | N21: 御甲 | P21: 3
A22: 21 | B22: 抗人 | C22: 114 | D22: 主角技增伤 | I22: 11 | J22: 没用 | M22: 14 | N22: 禁御甲 | P22: 4 | Q22: 主角状态
A23: 22 | B23: 抗佛 | C23: 115 | D23: 主角技减伤 | I23: 12 | J23: 没用 | M23: 15 | N23: 魔符标记 | P23: 5 | Q23: 仇视
A24: 23 | B24: 抗妖 | C24: 116 | D24: 主角攻击力 | I24: 13 | J24: 御甲 | M24: 16 | N24: 仙音环绕 | P24: 6 | Q24: 战意
A25: 24 | B25: 抗道 | C25: 117 | D25: 主角连击 | M25: 17 | N25: 是破军，迷魂，战意印记
A26: 25 | B26: 暴伤减免 | M26: 18 | N26: 添加攻击
M27: 19 | N27: 压制
A28: 100000 | B28: 10000 | C28: 100 | E28: 10 | H28: 1 | M28: 20 | N28: 金刚印记
A29: 2 | B29: 0 | C29: 1 | E29: 1 | H29: 2 | M29: 21 | N29: 伪不灭
A30: =A29*A28+B29*B28+C29*C28+E29*E28+H29*H28 -> 200112 | M30: 22 | N30: 嗜血
A31: 200111
A32: 260004
A33: 100211
A34: 目标选择类型id | B34: 目标选择范围 | C34: 权重类型 | E34: 排序类型 | H34: 数量 | J34: 效果触发的间隔时间 = 效果持续时间/选取目标的个数 | P34: 状态类型定义
A35: 1我方 | B35: 0全体 | C35: 0随机 | E35: 0不排序 | H35: [1,理论最大数量] 0表示全体 | R35: hot（持续治疗状态）
A36: 2敌方 | B36: 1前排 | C36: 1生命 | E36: 1升序（从最低到最高） | H36: [1,理论最大数量] 0表示全体 | J36: 目前的问题是： | P36: 正面状态
A37: 3自身 | B37: 2后排 | C37: 2剩余血量百分比 | E37: 2降序（从最高到最低） | J37: 1仇恨切换的间隔时间根据效果持续时间定，是否影响收益 | R37: 增益状态（包括护盾）
A38: 4仇恨目标 | B38: 3对列 | C38: 3攻击 | H38: 权重类型为对位的情况下，数量3表示对位及相邻 | J38: 2嘲讽如何处理仇恨间隔问题
A39: 5神兵对应的英雄 | B39: 4处于灼烧状态 | C39: 4防御 | R39: 控制状态
B40: 5人阵营 | C40: 5护甲 | J40: skill = {cd, {效果1, 效果2, ...}} | P40: 负面状态 | R40: dot（持续伤害状态）
A41: 4仇恨目标=2敌方+1前排+8对位 | B41: 6两纵排 | C41: 6魔抗 | J41: 效果={{目标id,目标id}, 效果总时间, 效果类型id, 效果参数1, 效果参数2, ...} | R41: 减益状态
B42: 7佛阵营 | C42: 7目标及相邻 | J42: passivity = {被动1, 被动2, ...}
C43: 8对位 | J43: 效果触发规则：
C44: 9攻击最高且没被放逐过 | J44: 根据目标id确定作用目标，算出作用目标个数
C45: 10剩余血量百分比低于25%且生命绝对值 | J45: 根据个数，确定效果触发时间
C46: 11剩余血量百分比低于32%且生命绝对值 | J46: 举例:目标id->2003， (随机选取3名敌方) 效果持续时间->1.5秒
A47: 211401 | C47: 12剩余血量百分比低于40%且生命绝对值最小 | J47: 则3名目标效果延迟触发的时间分别为0.5秒，1秒，1.5秒
C48: 13剩余血量百分比低于50%且生命绝对值最小
C49: 14我方战位最靠前的单位 的对位及相邻
C50: 15我方阵亡
C51: 16剩余血量百分比 （含不灭） | J51: 仇恨目标选取规则
C52: 17 怒气 | J52: 1战斗开始时，我方默认仇恨目标为敌方第一个，敌方默认仇恨目标为我方第一个
C53: 18剩余血量百分比低于30%且生命绝对值最小 | J53: 2选取仇恨目标时，若该目标已死亡，则默认从剩下的存活目标里选择第一个
C54: 19剩余血量百分比低于35%且生命绝对值最小 | J54: 3释放点击技，会自动把自身变成敌方的仇恨目标
C55: 20剩余血量百分比低于45%且生命绝对值最小 | J55: 4若滑技选取多个目标，根据效果触发规则，依次按照触发间隔改变仇恨目标
C56: 21战力 | J56: 5为避免频繁切换，仇恨目标的切换有间隔时间，默认间隔时间为效果触发的间隔时间
C57: 22剩余血量百分比低于20%且生命绝对值 | J57: 6嘲讽时，敌方单体技能目标都换为嘲讽施法者
C58: 23剩余血量百分比低于15%且生命绝对值
C75: 权重选7时，目标不能选2
A76: 目标id计算公式=目标选择类型id*100000+ 选择范围*10000+ 权重类型*100+ 排序类型*10 + 数量
A77: 我方aoe技能统一 | B77: 100000
A78: 敌方aoe统一 | B78: 200000
A79: 敌方对位及相邻统一 | B79: 200803 | C79: 备注：若相邻单位死亡，不会另外选择目标
A80: 我方对位及相邻统一 | B80: 100803 | C80: 备注：若相邻单位死亡，不会另外选择目标
A84: 举例
A85: 敌方攻击力最高的2人 | B85: 200312
A86: 我方随机3人 | B86: 100003 | C86: 随机权重无需计算排序类型
A87: 自身 | B87: 300000 | C87: 自身类型无需计算数量，权重类型，排序类型
A88: 仇恨目标 | B88: 400000 | C88: 仇恨类型无需计算数量，权重类型，排序类型
B92: 210003 | C92: 敌方前排
B93: 230002 | C93: 敌方纵排
B94: 220003 | C94: 后排
B95: 200000 | C95: 敌方全体

Sheet 技能效果附表
B4: 描述 | C4: 参数类型 | D4: 备注修改时间
A5: 1 | B5: 造成[a]%的[b]伤害 | C5: a[float],b[伤害类型]
A6: 2 | B6: 造成[a]%的[b]伤害【AOE】 | C6: a[float],b[伤害类型]
A7: 3 | B7: [a]%概率[b]，持续[c]回合 | C7: a[float],b[控制状态],c[int] | D7: 43916
A8: 4 | B8: [a]属性[b]%,持续[c]秒[d]改变 | C8: a[属性],b[float],c[int],d[改变类型] | D8: 43916
A9: 5 | B9: 持续恢复[a]*[b]%生命，持续[c]秒 | C9: a[属性],b[float],c[int]
A10: 6 | B10: 造成[a]到[b]次[c]%的[d]伤害 | C10: a[int],b[int],c[float],d[伤害类型] | J10: 清除正在使用中的技能CD最长的技能的CD
A11: 7 | B11: 造成[a]到[b]次[c]%的[d]伤害【AOE】 | C11: a[int],b[int],c[float],d[伤害类型]
A12: 8 | B12: [b]%改变[c]下次重击技能CD[a]秒 （0代表清除所有） | C12: a[float],b[float],c[改变类型] | AL12: 叛军士兵3_1
A13: 9 | B13: 添加[a]的[b]%护盾,持续[c]回合,盾消失的时候反射吸收伤害的[d]% | C13: a[属性],b[float],c[int],d[float] | D13: 43921
A14: 10 | B14: 造成[a]%的[b]伤害，自身恢复造成伤害[c]%的生命 | C14: a[float],b[伤害类型],c[float]
A15: 11 | B15: 造成[a]%的[b]伤害，对[c]造成额外[d]%伤害 | C15: a[float],b[伤害类型,]c[职业],d[float]
A16: 12 | B16: 每秒造成[a]的[b]的伤害，持续[c]秒 | C16: a[float]b[伤害类型]c[int] | D16: 43921
A17: 13 | B17: 造成[a]，每秒造成[b]的[c]的伤害，持续[d]秒 | C17: a[持续伤害类型]b[float]c[伤害类型],d[int] | D17: 43921
A18: 14(废) | B18: 造成[a]%的[b]伤害,[c]%概率[d]专属伤害加深印记(如果有印记，无印记伤害*（1+印记数量*[e]）（减益印记，不可驱散） | C18: a[float],b[伤害类型],c[float],d[角色id],e[float]
A19: 14 | B19: 造成[a]%的[b]伤害,[c]%概率[d]专属伤害加深印记(如果有印记，无印记伤害*（1+印记数量*[e]）,印记最多叠加[f]层。（减益印记，不可驱散） | C19: a[float],b[伤害类型],c[float],d[角色id],e[float],f[float] | D19: 43571
A20: 15 | B20: 造成[a]%的[b]伤害，如果击杀，则其他人再受到此次伤害的[c]%的伤害 | C20: a[float],b[伤害类型],c[float]
A21: 16(废) | B21: 吸取[a]%的[b],持续[c]秒 | C21: a[float],b[属性],c[float]
A22: 16 | B22: 吸取[a]%的[b],持续[c]秒，累积不高于自身该属性的[d]% | C22: a[float],b[属性],c[float],d[float] | D22: 43620
A23: 17 | B23: 造成[a]%的[b]伤害，如果是[c]，有[d]%必定暴击 | C23: a[float],b[伤害类型],c[职业],d[float]
A24: 18 | B24: 造成[a]%的[b]伤害，若暴击，则减少下次发动技能CD[c]秒。 | C24: a[float],b[伤害类型],c[float]
A25: 19 | B25: 造成[a]%的[b]伤害，有[c]%的概率追加伤害，最多可追加[d]次。(0无限追加) | C25: a[float],b[伤害类型],c[float],d[int]
A26: 20 | B26: 造成[a]%的[b]伤害，对[c]造成额外[d]%伤害 | C26: a[float],b[伤害类型,]c[控制状态],d[float]
A27: 21 | B27: 造成[a]%的[b]伤害，对[c]有[d]%造成[e]，持续[f]回合【AOE】 | C27: a[float],b[伤害类型],c[持续伤害状态],d[float],e[控制状态],f[int] | D27: 43921
A28: 22 | B28: 造成[a]%的[b]伤害，对[c]造成额外[d]%伤害【AOE】 | C28: a[float],b[伤害类型,]c[持续伤害状态],d[float]
A29: 23 | B29: 造成[a]%的[b]伤害，对[c]造成额外[d]%伤害 | C29: a[float],b[伤害类型,]c[持续回复状态],d[float]
A30: 24 | B30: 瞬间恢复[a]*[b]%生命 | C30: a[属性],b[float] | D30: 43536
A31: 25 | B31: 使拥有[a]的敌人受到增加[b]%，持续[c]秒 | C31: a[持续伤害状态],b[float],c[int] | D31: 43544
A32: 26 | B32: 造成[a]的伤害【AOE】(真实伤害） | C32: a[int] | D32: 43544
A33: 27 | B33: 每秒造成[d]的伤害，持续[f]秒【AOE】（真实伤害） | C33: d[float],f[int] | D33: 43544
A34: 28 | B34: 造成[a]%的[b]伤害，对[c]造成额外[d]%伤害 | C34: a[float],b[伤害类型,]c[持续伤害状态],d[float] | D34: 43545
A35: 29 | B35: 造成[a]到[b]次[c]%的[d]伤害，对[e]造成额外[f]%伤害 | C35: a[int],b[int],c[float],d[伤害类型],e[职业],f[float] | D35: 43549
A36: 30 | B36: 造成[a]%的[b]伤害，若为[c]，则无视敌人[d]%的防御 | C36: a[float],b[伤害类型,]c[控制状态],d[float] | D36: 43550
A37: 31 | B37: [a]%概率[b]，持续[c]秒 | C37: a[float],b[免疫buff],c[int] | D37: 43550
A38: 32 | B38: [b]%改变[d]重击技能CD[a]秒 ，持续[c]秒 （0代表清除所有） | C38: a[float],b[float],c[float]，d[改变类型] | D38: 43570
A39: 33 | B39: 造成[a]%的[b]伤害,[c]%概率添加[d]的印记，该角色在攻击拥有印记的目标时，额外获得(印记层数*[e])的暴击伤害，印记最多叠加[f]层。（减益印记，不可驱散） | C39: a[folat],b[伤害类型],c[float],d[角色id],e[float],f[float] | D39: 43608
A40: 34 | B40: 对[a]职业，[e]改变目标的[b]属性[c]%，持续[d]秒 | C40: a[职业],b[属性],c[float],d[int],e[改变类型] | D40: 43608
A41: 35 | B41: 使拥有[a]的敌人受到增加[b]%，持续[c]秒 | C41: a[控制状态],b[float],c[int] | D41: 43613
... A55: 49 | B55: 造成[a]%的[b]伤害，自身发动下一个技能时增加[c]%的伤害 | C55: a[float],b[伤害类型],c[float] | D55: 43703
A56: 50 | B56: 造成[a]%的[b]伤害，如果目标受到此次伤害前，生命低于最大生命[c]%，则直接击杀。（斩杀上限是攻击者10倍攻击）【aoe】 | C56: a[float],b[伤害类型],c[float] | D56: 43703 | E56: 2020/1/14修改特效
A57: 51 | B57: 增加[c]层缚灵印记，每层使受到的伤害增加[d]，减少[e]%的受治疗效果，最大[f]层（0为无限）（减益印记，不可驱散） | C57: c[int],d[float],e[float],f[int] | D57: 43704
A58: 52 | B58: 造成[a]%的[b]伤害,引爆目标身上所有缚灵印记，每层造成攻击*[c]的真实伤害。 | C58: a[float],b[伤害类型],c[float] | D58: 43703
A59: 53 | B59: 若目标生命低于最大生命的[a]%,则有[b]%概率[c]，持续[d]秒 | C59: a[float],b[float],c[控制状态],d[int] | D59: 43703
A60: 54 | B60: [e]改变[a]*[b]%的[c],持续[d]秒 | C60: a[属性],b[float],c[属性],d[int],e[改变类型] | D60: 43703
A61: 55 | B61: 清除[a]状态 | C61: a[清除状态] | D61: 43703
A62: 56 | B62: 造成目标当前生命[a]%的真实伤害，为我方角色回复此技能所有由此效果带来的伤害，平均分配给我方生命最低的[b]个角色。 | C62: a[float],b[int] | D62: 43705
A63: 57 | B63: 造成[a]%的[b]伤害，若目标血量低于最大生命值的[c]%，则必定暴击。 | C63: a[float],b[伤害类型],c[float] | D63: 43752
A64: 58 | B64: 造成[a]%的[b]伤害，计算伤害时无视目标[c]%的[d]。 | C64: a[float],b[伤害类型],c[float],d[属性] | D64: 43752
A65: 59 | B65: 造成[a]次[b]%的[c]伤害，每段攻击随机选择敌方目标。 | C65: a[int],b[float],c[伤害类型] | D65: 43752
A66: 60 | B66: 施加印记，拥有印记的角色受到暴击攻击后会[b]改变[a]秒技能cd，印记持续[c]秒。（增益印记，可以驱散） | C66: a[int],b[float]c[int] | D66: 43752
A67: 61 | B67: 消耗自身[a]%的当前生命值，为我方生命百分比最低的角色造成[b]%最大生命值的治疗。若目标为施法者，则不消耗生命。 | C67: a[float],b[float] | D67: 43752
A68: 62 | B68: 造成[a]到[b]段[c]%的[d]伤害，若任意一段攻击前目标已死亡，则目标变为敌方生命最低的角色，继续造成后续伤害。 | C68: a[int],b[int],c[float],d[伤害类型] | D68: 43752
A69: 63 | B69: 造成[a]%的[b]伤害，若造成击杀，[c]的概率立即发动一次上滑技。 | C69: a[float],b[伤害类型],c[float] | D69: 43752
A70: 64 | B70: 造成[a]%的[b]伤害，自身每种增益的每一层会提高此技能[c]%的伤害。【aoe】 | C70: a[float],b[伤害类型],c[float] | D70: 43752 | E70: 2019/10/31修改特效
A71: 65 | B71: 造成[a]%的[b]伤害，[c]的概率造成眩晕，持续[d]秒。若未造成眩晕，则为目标施加增伤印记，最大[e]层。（减益印记，不可驱散） | C71: a[float],b[伤害类型],c[float],d[int],e[int] | D71: 43752 | E71: 2020/1/14修改效果
A72: 66 | B72: 造成[a]%的[b]伤害，[c]的概率附加一层增伤印记，最大[d]层。目标身上每层印记增加此技能[e]%的伤害。（减益印记，不可驱散） | C72: a[float],b[伤害类型],c[float],d[int],e[float] | D72: 43752 | E72: 2019/10/31修改特效
A73: 67 | B73: 造成[a]到[b]段[c]%的[d]伤害，每段伤害有[e]的概率改变[g]目标[f]秒技能cd。 | C73: a[int],b[int],c[float],d[伤害类型],e[float],f[float],g[改变类型] | D73: 43752
A74: 68 | B74: 造成[a]%的[b]伤害，附带持续伤害，每秒造成自身最大生命值[c]%的真实伤害，持续[d]秒。【aoe】 | C74: a[float],b[伤害类型],c[float],d[int] | D74: 43769 | E74: 2019/10/31修改特效
A75: 69 | B75: 损失自身[c]%的[d]的生命。 | C75: c[float],d[属性] | D75: 43752
A76: 70 | B76: 造成[a]%的[b]伤害，基于损失生命额外增加[c]%的技能伤害。【aoe】 | C76: a[float],b[伤害类型],c[float] | D76: 43752 | E76: 2019/10/31修改特效
A77: 71 | B77: 造成[a]到[b]段[c]%的[d]伤害，每段伤害有[e]的概率造成[f]，持续[g]秒。若目标处于[h]状态，则必定暴击。 | C77: a[int],b[int],c[float],d[伤害类型],e[float],f[控制状态],g[int],h[控制状态] | D77: 43752
A78: 72 | B78: [b]概率造成[c]，每秒造成[d]的[e]的伤害，持续[f]秒（属于减益）（13） | C78: b[float],c[持续伤害状态].d[float],e[伤害类型],f[int] | D78: 43752
A79: 73 | B79: 造成[a]%的[b]伤害，立即结算目标身上所有dot的剩余伤害。【aoe】 | C79: a[float],b[伤害类型] | D79: 43752 | E79: 2019/10/31修改特效
A80: 74 | B80: [a]概率瞬间恢复[b]*[c]%生命（24） | C80: a[float],b[属性],c[float] | D80: 43752
A81: 75 | B81: 造成[a]%的[b]伤害，计算伤害时额外计算[c]%的[d][e]，若该技能造成击杀，则有[f]%的概率清除自身CD | C81: a[float],b[伤害类型],c[float],d[属性],e[改变类型],f[float] | D81: 43752
A82: 76 | B82: 造成[a]%的[b]伤害，对拥有护盾的敌人额外造成[c]%伤害。 | C82: a[float],b[伤害类型],c[float] | D82: 43752
A83: 77 | B83: [a]%概率对敌方全体造成[b]，持续[c]秒，对技能目标概率上升[d]。（3） | C83: a[float],b[控制状态],c[int],d[float] | D83: 43752
A84: 78 | B84: 造成[a]%的[b]伤害，挂控制印记，最大[c]层。若暴击，[d]概率为敌方随机其他1人挂控制印记。（减益印记，可以驱散） | C84: a[float],b[伤害类型],c[int],d[float] | D84: 43752
A85: 79 | B85: [a]%概率[b]，持续[c]秒，每层控制印记提高[d]%概率。 | C85: a[float],b[控制状态],c[int],d[float] | D85: 43752
A86: 80 | B86: 添加[a]的[b]%护盾,持续[c]秒。为自身挂护盾印记，每层额外增加护盾值[d]%，印记最多[e]层。印记不显示。（增益印记，不可驱散） | C86: a[属性],b[float],c[int],d[float],e[int] | D86: 43752
A87: 81 | B87: 造成[a]%的[b]伤害，自身附加受控印记，受到控制时自身回复[c]*[d]%生命，印记持续[e]秒。（增益印记，不可驱散） | C87: a[float],b[伤害类型],c[属性],d[float],e[int] | D87: 43752
A88: 82 | B88: 代替相邻友军承受[a]%受到的伤害，持续[b]秒。自身死亡时该效果消失。 | C88: a[float],b[int] | D88: 43752
A89: 83 | B89: [a]概率驱散[b]个（0表示所有）[c]状态。 | C89: a[float],b[int],c[状态类型] | D89: 43752
A90: 84 | B90: 施加[a]的[b]%护盾，持续[c]秒。护盾被击破时，对击破者造成自身最大生命值[d]%的伤害。 | C90: a[属性],b[float],c[int],d[float] | D90: 43752 | E90: 2019/12/28修改特效
A91: 85 | B91: 施加[a]的[b]%护盾，持续[c]秒。拥有该护盾的角色，[f]改变[d]属性[e]%，[i]改变[g]属性[h]%。护盾消失时增益消失。 | C91: a[属性],b[float],c[int],d[属性],e[float],f[改变类型],g[属性],h[float],i[改变类型] | D91: 43752
A92: 86 | B92: [a]概率吸取[b]%的[c],持续[d]秒（属于增益），累积不高于自身该属性的[e]%（16） | C92: a[float],b[float],c[属性],d[int],e[float] | D92: 43752
A93: 87 | B93: 造成[a]%的[b]伤害，对没有增益的目标[c]概率造成[d]，持续[e]秒。 | C93: a[float],b[伤害类型],c[float],d[控制状态],e[int] | D93: 43752
A94: 88 | B94: 造成[a]%的[b]伤害，对拥有减益的目标[c]概率造成[d]，持续[e]秒。 | C94: a[float],b[伤害类型],c[float],d[控制状态],e[int] | D94: 43752
A95: 89 | B95: [a]概率在[d]秒里总共回复[e]次生命，每次恢复[b]*[c]%生命，。 | C95: a[float],b[属性],c[float],d[int],e[int] | D95: 43755
A96: 90 | B96: 造成[a]%的[b]伤害，如果击杀，则其他人受到[c]%的溢出伤害 | C96: a[float],b[伤害类型],c[float] | D96: 43755
A97: 91 | B97: [b]概率造成[c]，每次造成[d]的[e]的伤害，在[f]秒内造成[g]次伤害。 | C97: b[float],c[持续伤害状态].d[float],e[伤害类型],f[int],g[int] | D97: 43755
A98: 92 | B98: 造成[a]%的[b]伤害，若暴击，[g][c]%概率改变我方随机1人[d]属性[e]%,持续[f]秒。 | C98: a[float],b[伤害类型],c[float],d[属性],e[float],f[int],g[改变类型] | D98: 43759
A99: 93 | B99: 造成[a]%的[b]伤害，若暴击，[c]概率驱散[d]个（0表示所有）[e]状态。【aoe】 | C99: a[float],b[伤害类型],c[float],d[int],e[状态类型] | D99: 43759 | E99: 2019/10/31修改特效
A100: 94 | B100: 造成[a]%的[b]伤害，为自己施加一层印记，最大[c]层。（增益印记，不可驱散）（与95使用同一个印记） | C100: a[float],b[伤害类型],c[int] | D100: 43827
A101: 95 | B101: 造成[a]%的[b]伤害，自身每层印记增加此技能[c]%的伤害。（增益印记，不可驱散）（与94使用同一个印记） | C101: a[float],b[伤害类型],c[float] | D101: 43827
A102: 96 | B102: [b]概率造成[c]，每次造成[d]的真实伤害，在[e]秒内造成[f]次伤害。（91，异妖用）（属于减益，不可驱散） | C102: b[float],c[持续伤害状态].d[float],e[int],f[int] | D102: 43827
A103: 97 | B103: [a]概率在[c]秒里总共回复[d]次生命，每次恢复[b]生命。（89，异妖用）（属于增益，不可驱散） | C103: a[float],b[float],c[int],d[int] | D103: 43827
A104: 98 | B104: 造成[a]到[b]段[c]%的[d]伤害，每段伤害有[e]的概率造成[f]，持续[g]秒。若目标处于[h]状态，则必定暴击。【aoe】（71） | C104: a[int],b[int],c[float],d[伤害类型],e[float],f[控制状态],g[int],h[控制状态] | D104: 43844
A105: 99 | B105: 造成[a]%的[b]伤害，目标每减少[c]个伤害提升[d]% | C105: a{float]b[伤害类型]c[int]d[float] | D105: 43916
A106: 100 | B106: [a]改变[b]点怒气 | C106: a[改变类型]b[int] | D106: 43916
A107: 101 | B107: 对仇恨目标追加[a]次1技能（追加的1技能不回怒气） | C107: a[int] | D107: 43936
A108: 102 | B108: 造成[a]%的[b]伤害，如果目标数量大于[c]个，增加自身[d]点怒气（白字效果由被动效果167实现，参数c对应167中参数a，参数d对应167中参数b） | C108: a[float]b[伤害类型]c[int]d[int] | D108: 43916
A109: 103 | B109: 造成[a]%的[b]伤害，造成伤害的[c]%用于医疗生命值最低[d]名队友 | C109: a[float],b[伤害类型],c[float] ,d[int] | D109: 43916
A110: 104 | B110: 添加[a]%抵抗效果的减伤盾的持续[c]回合 | C110: a[float]c[int] | D110: 43924
A111: 105 | B111: 造成[a]%的[b]伤害如目标[c]则本次技能造成伤害增加[d]% | C111: a[float]b[伤害类型]c[持续伤害状态]d[float] | D111: 43920
... A121: 115 | B121: 回复自身最大生命值的[a]% | C121: a[float] | D121: 43938
A122: 116 | B122: 追加一次普攻
A123: 117 | B123: [a]%概率[b]改变[c]点怒气(暂时无法实现） | C123: a[float],b[改变类型],c[int] | D123: 44123
A124: 118 | B124: 造成[a]*[b]%的直接伤害（不会被分摊机制分摊） | C124: a[属性],b[float]
A125: 119 | B125: 瞬间恢复目标自身[a]*[b]的生命 | C125: a[属性],b[float]
...

Sheet Sheet1
A1: 10001 | B1: 石御霏 | F1: 10001 | G1: 1 | H1: 1 | I1: 1000111 | J1: =VLOOKUP(F1,$A:$B,2,0) -> 石御霏 | K1: 凌甲 | L1: 对敌方单体造成灵魂力%的水属性物理伤害， 对自身有%的概率(+效果命中)造成嘲讽，并提升护甲%，持续x秒。
A2: 10002 | B2: 楚恒 | F2: 10002 | G2: 1 | H2: 1 | I2: 1000211 | J2: =VLOOKUP(F2,$A:$B,2,0) -> 楚恒 | K2: 啸牙 | L2: 对敌方单体造成灵魂力%的风属性物理伤害， 对自身有%的概率(+效果命中)造成嘲讽，并提升灵魂力%，持续x秒。
A3: 10003 | B3: 夏侯鸿天 | F3: 10003 | G3: 1 | H3: 1 | I3: 1000311 | J3: =VLOOKUP(F3,$A:$B,2,0) -> 夏侯鸿天 | K3: 断鸿 | L3: 对敌方单体造成灵魂力%的地属性物理伤害， 将造成伤害的%转化为生命
A4: 10004 | B4: 应茹 | F4: 10004 | G4: 1 | H4: 1 | I4: 1000411 | J4: =VLOOKUP(F4,$A:$B,2,0) -> 应茹 | K4: 轻流 | L4: 对敌方单体造成灵魂力%的风属性魔法伤害， 为当前生命最低的x名队友在x秒内，每秒恢复灵魂力%的生命
A5: 10005 | B5: 端木葵 | F5: 10005 | G5: 1 | H5: 1 | I5: 1000511 | J5: =VLOOKUP(F5,$A:$B,2,0) -> 端木葵 | K5: 长槐琼灯 | L5: 对敌方单体造成灵魂力%的地属性魔法伤害， 恢复自身灵魂力%的生命， 持续x秒灵魂力增加25%
A6: 10006 | B6: 兰卿 | F6: 10006 | G6: 1 | H6: 1 | I6: 1000611 | J6: =VLOOKUP(F6,$A:$B,2,0) -> 兰卿 | K6: 阳炎破阵曲 | L6: 对敌方全体造成灵魂力%的火属性魔法伤害， 在x秒内，友方全体灵魂力增加%
A7: 10007 | B7: 靖之 | F7: 10007 | G7: 1 | H7: 1 | I7: 1000711 | J7: =VLOOKUP(F7,$A:$B,2,0) -> 靖之 | K7: 破甲裂 | L7: 对随机3名敌方造成灵魂力%的水属性物理伤害， 造成伤害后，在x秒内降低目标%的护甲
A8: 10008 | B8: 白梦凡 | F8: 10008 | G8: 1 | H8: 1 | I8: 1000811 | J8: =VLOOKUP(F8,$A:$B,2,0) -> 白梦凡 | K8: 幻境之瞳 | L8: 对敌方单体造成灵魂力%的光属性魔法伤害， 对生花类妖灵师造成额外%伤害。
A9: 10009 | B9: 祁菲 | F9: 10009 | G9: 1 | H9: 1 | I9: 1000911 | J9: =VLOOKUP(F9,$A:$B,2,0) -> 祁菲 | K9: 黑符 | L9: 对随机3名敌人造成灵魂力%的暗属性物理伤害， 造成伤害时，在x秒内对敌人造成燃烧效果， 燃烧效果持续期间，每秒造成灵魂力%的伤害。
A10: 10010 | B10: 颜祈佳 | F10: 10010 | G10: 1 | H10: 1 | I10: 1001011 | J10: =VLOOKUP(F10,$A:$B,2,0) -> 颜祈佳 | K10: 涡流 | L10: 对随机3名敌人造成灵魂力%的水属性魔法伤害， 对武卫类妖灵师造成额外%伤害。
A11: 10011 | B11: 叶延 | F11: 10011 | G11: 1 | H11: 1 | I11: 1001111 | J11: =VLOOKUP(F11,$A:$B,2,0) -> 叶延 | K11: 地灵咒 | L11: 对随机2名敌人造成灵魂力%的地属性魔法伤害， 造成伤害时，在x秒内对敌人造成中毒效果， 中毒效果持续期间，每秒造成灵魂力%的伤害。
A12: 10012 | B12: 慕容子期 | F12: 10012 | G12: 1 | H12: 1 | I12: 1001211 | J12: =VLOOKUP(F12,$A:$B,2,0) -> 慕容子期 | K12: 焚花 | L12: 对敌方单体造成灵魂力%的火属性物理伤害， 施展技能后，冷却时间增加x秒， 造成伤害时，为敌人附加1层中毒效果，最多叠加x层。
... A52: 10052 | B52: 阴魔 | F52: 10052 | G52: 1 | H52: 1 | I52: 1005211 | J52: =VLOOKUP(F52,$A:$B,2,0) -> 阴魔 | K52: 混沌 | L52: 对敌方单体造成灵魂力%的暗属性魔法伤害。
F53: 10001 | G53: 2 | H53: 1 | I53: 1000121 | J53: =VLOOKUP(F53,$A:$B,2,0) -> 石御霏 | K53: 震岳 | L53: 对敌方单体造成灵魂力%的水属性物理伤害， 造成伤害时，有%的概率(+效果命中)眩晕x秒。
F54: 10002 | G54: 2 | H54: 1 | I54: 1000221 | J54: =VLOOKUP(F54,$A:$B,2,0) -> 楚恒 | K54: 白虎风涛 | L54: 对随机2名敌方造成灵魂力%的风属性物理伤害， 自身在x秒内获得最大生命%的伤害吸收盾 护盾消失时，对随机1名敌人造成护盾吸收伤害的80%。
F55: 10003 | G55: 2 | H55: 1 | I55: 1000321 | J55: =VLOOKUP(F55,$A:$B,2,0) -> 夏侯鸿天 | K55: 裂山贯云 | L55: 对敌方单体造成灵魂力%的地属性物理伤害， 造成伤害时，在x秒内抗性降低% 施展技能后，在x秒内有%的概率对自己施展嘲讽
F56: 10004 | G56: 2 | H56: 1 | I56: 1000421 | J56: =VLOOKUP(F56,$A:$B,2,0) -> 应茹 | K56: 天咏诀 | L56: 对敌方全体造成灵魂力%的风属性魔法伤害， 在x秒内，全体队友每秒恢复灵魂力%的生命 技能满级：每次恢复生命时，有%的概率额外恢复%生命
F57: 10005 | G57: 2 | H57: 1 | I57: 1000521 | J57: =VLOOKUP(F57,$A:$B,2,0) -> 端木葵 | K57: 百卉含英 | L57: 对随机3名敌人造成灵魂力%的地属性魔法伤害， 施展技能后，全体友方在x秒内，每秒持续恢复灵魂力%的生命
F58: 10006 | G58: 2 | H58: 1 | I58: 1000621 | J58: =VLOOKUP(F58,$A:$B,2,0) -> 兰卿 | K58: 焚心引 | L58: 对敌方全体造成灵魂力%的火属性魔法伤害， 受到伤害时，在x秒内灵魂力降低%
F59: 10007 | G59: 2 | H59: 1 | I59: 1000721 | J59: =VLOOKUP(F59,$A:$B,2,0) -> 靖之 | K59: 轮转之海 | L59: 对敌方单体造成灵魂力%的水属性物理伤害， 清除CD最长的1名友军立刻成可释放技能， 技能满级：造成伤害后，虚弱敌人x秒
F60: 10008 | G60: 2 | H60: 1 | I60: 1000821 | J60: =VLOOKUP(F60,$A:$B,2,0) -> 白梦凡 | K60: 无尽莲塘 | L60: 对敌方全体造成灵魂力%的光属性魔法伤害， 造成伤害时，有%的概率（+效果命中）晕眩敌方，持续x秒 技能满级：造成伤害后，降低目标暴击率，提升自己灵魂力
F61: 10009 | G61: 2 | H61: 1 | I61: 1000921 | J61: =VLOOKUP(F61,$A:$B,2,0) -> 祁菲 | K61: 炎冥锁狱 | L61: 对敌方全体造成灵魂力%的暗属性物理伤害， 对燃烧效果的敌人造成额外伤害
F62: 10010 | G62: 2 | H62: 1 | I62: 1001021 | J62: =VLOOKUP(F62,$A:$B,2,0) -> 颜祈佳 | K62: 龙兴之潮 | L62: 对敌方全体造成灵魂力%的水属性魔法伤害， 造成伤害后，有%的概率（+效果命中）增加随机2名敌人的冷却时间
F63: 10011 | G63: 2 | H63: 1 | I63: 1001121 | J63: =VLOOKUP(F63,$A:$B,2,0) -> 叶延 | K63: 缚傀诀 | L63: 对敌方全体造成灵魂力%的地属性魔法伤害， 对中毒目标有%的概率（+效果命中）眩晕x秒
F64: 10012 | G64: 2 | H64: 1 | I64: 1001221 | J64: =VLOOKUP(F64,$A:$B,2,0) -> 慕容子期 | K64: 断雨 | L64: 对血量最低的2名敌人造成灵魂力%的火属性物理伤害， 造成伤害后，有%的概率（+效果命中）使得对方x秒禁疗。
... F75: 10023 | G75: 2 | H75: 1 | I75: 1002321 | J75: =VLOOKUP(F75,$A:$B,2,0) -> 荧荧 | K75: 苍穹天雷 | L75: 对敌方全体造成灵魂力%的光属性魔法伤害， 造成伤害后，对目标附加荧光，最多叠加10层 对携带荧光的敌人造成伤害时，每层荧光使得本次伤害增加10%。
F76: 10024 | G76: 2 | H76: 1 | I76: 1002421 | J76: =VLOOKUP(F76,$A:$B,2,0) -> 许槿然
F77: 10025 | G77: 2 | H77: 1 | I77: 1002521 | J77: =VLOOKUP(F77,$A:$B,2,0) -> 唐萱
F78: 10026 | G78: 2 | H78: 1 | I78: 1002621 | J78: =VLOOKUP(F78,$A:$B,2,0) -> 孙晴 | K78: 崩雷式 | L78: 对随机3名敌方造成灵魂力%的光属性物理伤害， 针对眩晕目标，暴击时，造成额外%的伤害。
F79: 10027 | G79: 2 | H79: 1 | I79: 1002721 | J79: =VLOOKUP(F79,$A:$B,2,0) -> 宁月 | K79: 兔兔拳 | L79: 对随机2名敌方造成灵魂力%的光属性物理伤害， 在x秒内，自身暴击率提高%
F80: 10028 | G80: 2 | H80: 1 | I80: 1002821 | J80: =VLOOKUP(F80,$A:$B,2,0) -> 紫川 | K80: 月舞灵息 | L80: 对敌方单体造成灵魂力%的光属性魔法伤害， 造成伤害暴击时，降低1秒冷却时间。
F81: 10029 | G81: 2 | H81: 1 | I81: 1002921 | J81: =VLOOKUP(F81,$A:$B,2,0) -> 晏息
F82: 10030 | G82: 2 | H82: 1 | I82: 1003021 | J82: =VLOOKUP(F82,$A:$B,2,0) -> 瑶瑶
F83: 10031 | G83: 2 | H83: 1 | I83: 1003121 | J83: =VLOOKUP(F83,$A:$B,2,0) -> 贾裴武
F84: 10032 | G84: 2 | H84: 1 | I84: 1003221 | J84: =VLOOKUP(F84,$A:$B,2,0) -> 雷燕
F85: 10033 | G85: 2 | H85: 1 | I85: 1003321 | J85: =VLOOKUP(F85,$A:$B,2,0) -> 辛夷
F86: 10034 | G86: 2 | H86: 1 | I86: 1003421 | J86: =VLOOKUP(F86,$A:$B,2,0) -> 伏冥 | K86: 夺形之雾 | L86: 对敌方全体造成灵魂力%的暗属性魔法伤害。
F87: 10035 | G87: 2 | H87: 1 | I87: 1003521 | J87: =VLOOKUP(F87,$A:$B,2,0) -> 司空染 | K87: 沥血诛心 | L87: 对生命比例最低的敌方造成灵魂力%的暗属性物理伤害，
F88: 10036 | G88: 2 | H88: 1 | I88: 1003621 | J88: =VLOOKUP(F88,$A:$B,2,0) -> 解幽
F89: 10037 | G89: 2 | H89: 1 | I89: 1003721 | J89: =VLOOKUP(F89,$A:$B,2,0) -> 薛苓
F90: 10038 | G90: 2 | H90: 1 | I90: 1003821 | J90: =VLOOKUP(F90,$A:$B,2,0) -> 常申
F91: 10039 | G91: 2 | H91: 1 | I91: 1003921 | J91: =VLOOKUP(F91,$A:$B,2,0) -> 呼延腾
F92: 10040 | G92: 2 | H92: 1 | I92: 1004021 | J92: =VLOOKUP(F92,$A:$B,2,0) -> 冉宜
F93: 10041 | G93: 2 | H93: 1 | I93: 1004121 | J93: =VLOOKUP(F93,$A:$B,2,0) -> 孟灿
F94: 10042 | G94: 2 | H94: 1 | I94: 1004221 | J94: =VLOOKUP(F94,$A:$B,2,0) -> 叶辽
F95: 10043 | G95: 2 | H95: 1 | I95: 1004321 | J95: =VLOOKUP(F95,$A:$B,2,0) -> 乌廉
F96: 10044 | G96: 2 | H96: 1 | I96: 1004421 | J96: =VLOOKUP(F96,$A:$B,2,0) -> 姜燧 | K96: 化灵灭影 | L96: 对3名敌人造成灵魂力%的暗属性魔法伤害。 针对处于燃烧或流血状态的敌人，伤害增加%。
F97: 10045 | G97: 2 | H97: 1 | I97: 1004521 | J97: =VLOOKUP(F97,$A:$B,2,0) -> 苏可
F98: 10046 | G98: 2 | H98: 1 | I98: 1004621 | J98: =VLOOKUP(F98,$A:$B,2,0) -> 林越 | K98: 月曜闪裂 | L98: 对敌方单体造成灵魂力%的光属性魔法伤害， 造成伤害时，在x秒内对敌人造成流血效果， 流血效果持续期间，每秒造成灵魂力%的伤害。
F99: 10047 | G99: 2 | H99: 1 | I99: 1004721 | J99: =VLOOKUP(F99,$A:$B,2,0) -> 赤肥肥
F100: 10048 | G100: 2 | H100: 1 | I100: 1004821 | J100: =VLOOKUP(F100,$A:$B,2,0) -> 银肥肥
F101: 10049 | G101: 2 | H101: 1 | I101: 1004921 | J101: =VLOOKUP(F101,$A:$B,2,0) -> 苍肥肥
F102: 10050 | G102: 2 | H102: 1 | I102: 1005021 | J102: =VLOOKUP(F102,$A:$B,2,0) -> 金肥肥
F103: 10051 | G103: 2 | H103: 1 | I103: 1005121 | J103: =VLOOKUP(F103,$A:$B,2,0) -> 阳魔
F104: 10052 | G104: 2 | H104: 1 | I104: 1005221 | J104: =VLOOKUP(F104,$A:$B,2,0) -> 阴魔

Sheet Sheet2
J1: # | K1: 0.0001 | L1: 2000 | M1: 2 | N1: =K1&$J$1&L1&$J$1&M1 -> 0.0001#2000#2
B2: 1000114 | C2: =VLOOKUP($B2,SkillLogicConfig!$B:$F,2,FALSE) -> 400001#0.4|200000#0.4 | D2: =VLOOKUP($B2,SkillLogicConfig!$B:$F,3,FALSE) -> 1|3 | E2: =VLOOKUP($B2,SkillLogicConfig!$B:$F,4,FALSE) -> 4.3#1|0.8#3#10 | F2: =VLOOKUP($B2,SkillLogicConfig!$B:$F,5,FALSE) -> 0 | K2: 0.0002 | L2: 4000 | M2: 2 | N2: =K2&$J$1&L2&$J$1&M2 -> 0.0002#4000#2
B3: 1000124 | C3: =VLOOKUP($B3,SkillLogicConfig!$B:$F,2,FALSE) -> 0 | D3: =VLOOKUP($B3,SkillLogicConfig!$B:$F,3,FALSE) -> 0 | E3: =VLOOKUP($B3,SkillLogicConfig!$B:$F,4,FALSE) -> 0 | F3: =VLOOKUP($B3,SkillLogicConfig!$B:$F,5,FALSE) -> 0 | K3: 0.0003 | L3: 6000 | M3: 2 | N3: =K3&$J$1&L3&$J$1&M3 -> 0.0003#6000#2
B4: =B2+100 -> 1000214 | C4: =VLOOKUP($B4,SkillLogicConfig!$B:$F,2,FALSE) -> 220003#0.4|220003#0.4 | D4: =VLOOKUP($B4,SkillLogicConfig!$B:$F,3,FALSE) -> 81|3 | E4: =VLOOKUP($B4,SkillLogicConfig!$B:$F,4,FALSE) -> 4.3#1#1#2.7#5|0.6#3#10 | F4: =VLOOKUP($B4,SkillLogicConfig!$B:$F,5,FALSE) -> 0 | K4: 0.0004 | L4: 8000 | M4: 2 | N4: =K4&$J$1&L4&$J$1&M4 -> 0.0004#8000#2
B5: =B3+100 -> 1000224 | C5: =VLOOKUP($B5,SkillLogicConfig!$B:$F,2,FALSE) -> 400001#0.4|300001#0.4 | D5: =VLOOKUP($B5,SkillLogicConfig!$B:$F,3,FALSE) -> 1|82#4 | E5: =VLOOKUP($B5,SkillLogicConfig!$B:$F,4,FALSE) -> 5.8#1|0.5#6|6#0.4#6#1 | F5: =VLOOKUP($B5,SkillLogicConfig!$B:$F,5,FALSE) -> 45000 | K5: 0.0005 | L5: 10000 | M5: 2 | N5: =K5&$J$1&L5&$J$1&M5 -> 0.0005#10000#2
B6: =B4+100 -> 1000314 | C6: =VLOOKUP($B6,SkillLogicConfig!$B:$F,2,FALSE) -> 400001#0.4|200000#0.4 | D6: =VLOOKUP($B6,SkillLogicConfig!$B:$F,3,FALSE) -> 1|3 | E6: =VLOOKUP($B6,SkillLogicConfig!$B:$F,4,FALSE) -> 4.3#1|0.6#3#10 | F6: =VLOOKUP($B6,SkillLogicConfig!$B:$F,5,FALSE) -> 0 | K6: 0.0006 | L6: 12000 | M6: 2 | N6: =K6&$J$1&L6&$J$1&M6 -> 0.0006#12000#2
B7: =B5+100 -> 1000324 | C7: =VLOOKUP($B7,SkillLogicConfig!$B:$F,2,FALSE) -> 0 | D7: =VLOOKUP($B7,SkillLogicConfig!$B:$F,3,FALSE) -> 0 | E7: =VLOOKUP($B7,SkillLogicConfig!$B:$F,4,FALSE) -> 0 | F7: =VLOOKUP($B7,SkillLogicConfig!$B:$F,5,FALSE) -> 0 | K7: 0.0007 | L7: 14000 | M7: 2 | N7: =K7&$J$1&L7&$J$1&M7 -> 0.0007#14000#2
B8: =B6+100 -> 1000414 | C8: =VLOOKUP($B8,SkillLogicConfig!$B:$F,2,FALSE) -> 400001#0.4|100211#0.4 | D8: =VLOOKUP($B8,SkillLogicConfig!$B:$F,3,FALSE) -> 1|89#83 | E8: =VLOOKUP($B8,SkillLogicConfig!$B:$F,4,FALSE) -> 4.8#2|1#1#3.6#6#2|1#1#4 | F8: =VLOOKUP($B8,SkillLogicConfig!$B:$F,5,FALSE) -> 0 | K8: 0.0008 | L8: 16000 | M8: 2 | N8: =K8&$J$1&L8&$J$1&M8 -> 0.0008#16000#2
B9: =B7+100 -> 1000424 | C9: =VLOOKUP($B9,SkillLogicConfig!$B:$F,2,FALSE) -> 200000#0.4|100000#0.4 | D9: =VLOOKUP($B9,SkillLogicConfig!$B:$F,3,FALSE) -> 2#4|24 | E9: =VLOOKUP($B9,SkillLogicConfig!$B:$F,4,FALSE) -> 6#2|8#0.3#12#3|1#4.8 | F9: =VLOOKUP($B9,SkillLogicConfig!$B:$F,5,FALSE) -> 45000 | K9: 0.0009 | L9: 18000 | M9: 2 | N9: =K9&$J$1&L9&$J$1&M9 -> 0.0009#18000#2
B10: =B8+100 -> 1000514 | C10: =VLOOKUP($B10,SkillLogicConfig!$B:$F,2,FALSE) -> 220003#0.4 | D10: =VLOOKUP($B10,SkillLogicConfig!$B:$F,3,FALSE) -> 20 | E10: =VLOOKUP($B10,SkillLogicConfig!$B:$F,4,FALSE) -> 2.4#2#1#2 | F10: =VLOOKUP($B10,SkillLogicConfig!$B:$F,5,FALSE) -> 0 | K10: 0.001 | L10: 20000 | M10: 2 | N10: =K10&$J$1&L10&$J$1&M10 -> 0.001#20000#2
B11: =B9+100 -> 1000524 | C11: =VLOOKUP($B11,SkillLogicConfig!$B:$F,2,FALSE) -> 200000#0.4 | D11: =VLOOKUP($B11,SkillLogicConfig!$B:$F,3,FALSE) -> 20 | E11: =VLOOKUP($B11,SkillLogicConfig!$B:$F,4,FALSE) -> 3.6#2#1#2 | F11: =VLOOKUP($B11,SkillLogicConfig!$B:$F,5,FALSE) -> 45000 | K11: 0.0011 | L11: 24000 | M11: 2 | N11: =K11&$J$1&L11&$J$1&M11 -> 0.0011#24000#2
B12: =B10+100 -> 1000614 | C12: =VLOOKUP($B12,SkillLogicConfig!$B:$F,2,FALSE) -> 400001#0.4 | D12: =VLOOKUP($B12,SkillLogicConfig!$B:$F,3,FALSE) -> 91#1#25 | E12: =VLOOKUP($B12,SkillLogicConfig!$B:$F,4,FALSE) -> 1#1#0.2#2#10#5|2.4#2|1#0.1#10 | F12: =VLOOKUP($B12,SkillLogicConfig!$B:$F,5,FALSE) -> 0 | K12: 0.0012 | L12: 28000 | M12: 2 | N12: =K12&$J$1&L12&$J$1&M12 -> 0.0012#28000#2
B13: =B11+100 -> 1000624 | C13: =VLOOKUP($B13,SkillLogicConfig!$B:$F,2,FALSE) -> 200003#0.4 | D13: =VLOOKUP($B13,SkillLogicConfig!$B:$F,3,FALSE) -> 91#1#25 | E13: =VLOOKUP($B13,SkillLogicConfig!$B:$F,4,FALSE) -> 1#1#0.3#2#10#5|4#2|1#0.25#10 | F13: =VLOOKUP($B13,SkillLogicConfig!$B:$F,5,FALSE) -> 45000 | K13: 0.0013 | L13: 32000 | M13: 2 | N13: =K13&$J$1&L13&$J$1&M13 -> 0.0013#32000#2
B14: =B12+100 -> 1000714 | C14: =VLOOKUP($B14,SkillLogicConfig!$B:$F,2,FALSE) -> 400001#0.4|300001#0.4 | D14: =VLOOKUP($B14,SkillLogicConfig!$B:$F,3,FALSE) -> 1|9 | E14: =VLOOKUP($B14,SkillLogicConfig!$B:$F,4,FALSE) -> 4.3#2|1#3#10#0 | F14: =VLOOKUP($B14,SkillLogicConfig!$B:$F,5,FALSE) -> 0 | K14: 0.0014 | L14: 36000 | M14: 2 | N14: =K14&$J$1&L14&$J$1&M14 -> 0.0014#36000#2
B15: =B13+100 -> 1000724 | C15: =VLOOKUP($B15,SkillLogicConfig!$B:$F,2,FALSE) -> 0 | D15: =VLOOKUP($B15,SkillLogicConfig!$B:$F,3,FALSE) -> 0 | E15: =VLOOKUP($B15,SkillLogicConfig!$B:$F,4,FALSE) -> 0 | F15: =VLOOKUP($B15,SkillLogicConfig!$B:$F,5,FALSE) -> 0 | K15: 0.0015 | L15: 40000 | M15: 2 | N15: =K15&$J$1&L15&$J$1&M15 -> 0.0015#40000#2
... B47: =B45+100 -> 1002324 | C47: =VLOOKUP($B47,SkillLogicConfig!$B:$F,2,FALSE) -> 0 | D47: =VLOOKUP($B47,SkillLogicConfig!$B:$F,3,FALSE) -> 0 | E47: =VLOOKUP($B47,SkillLogicConfig!$B:$F,4,FALSE) -> 0 | F47: =VLOOKUP($B47,SkillLogicConfig!$B:$F,5,FALSE) -> 0 | K47: 0.0047 | L47: 270000 | M47: 2 | N47: =K47&$J$1&L47&$J$1&M47 -> 0.0047#270000#2
K48: 0.0048 | L48: 280000 | M48: 2 | N48: =K48&$J$1&L48&$J$1&M48 -> 0.0048#280000#2
K49: 0.0049 | L49: 290000 | M49: 2 | N49: =K49&$J$1&L49&$J$1&M49 -> 0.0049#290000#2
K50: 0.005 | L50: 300000 | M50: 2 | N50: =K50&$J$1&L50&$J$1&M50 -> 0.005#300000#2
K51: 0.0051 | L51: 312000 | M51: 2 | N51: =K51&$J$1&L51&$J$1&M51 -> 0.0051#312000#2
K52: 0.0052 | L52: 324000 | M52: 2 | N52: =K52&$J$1&L52&$J$1&M52 -> 0.0052#324000#2
K53: 0.0053 | L53: 336000 | M53: 2 | N53: =K53&$J$1&L53&$J$1&M53 -> 0.0053#336000#2
K54: 0.0054 | L54: 348000 | M54: 2 | N54: =K54&$J$1&L54&$J$1&M54 -> 0.0054#348000#2
K55: 0.0055 | L55: 360000 | M55: 2 | N55: =K55&$J$1&L55&$J$1&M55 -> 0.0055#360000#2
K56: 0.0056 | L56: 372000 | M56: 2 | N56: =K56&$J$1&L56&$J$1&M56 -> 0.0056#372000#2
K57: 0.0057 | L57: 384000 | M57: 2 | N57: =K57&$J$1&L57&$J$1&M57 -> 0.0057#384000#2
K58: 0.0058 | L58: 396000 | M58: 2 | N58: =K58&$J$1&L58&$J$1&M58 -> 0.0058#396000#2
K59: 0.0059 | L59: 408000 | M59: 2 | N59: =K59&$J$1&L59&$J$1&M59 -> 0.0059#408000#2
... K200: 0.01 | L200: 1100000 | M200: 2 | N200: =K200&$J$1&L200&$J$1&M200 -> 0.01#1100000#2

Sheet Sheet3
B1: 1#15 | C1: 0.25#1#1
B2: 1#16 | C2: 0.3#1#1
B3: 1#17 | C3: 0.35#1#1
B4: 1#18 | C4: 0.39#1#1
B5: 1#19 | C5: 0.42#1#1
B6: 1#20 | C6: 0.45#1#1

Sheet 结构解析规则
A1: 技能数据结构 | B1: {cd, {目标id1, 效果时间, 效果1, 效果2, ...},{目标id2, 效果时间, 效果3, 效果4, ...}, ...}
A2: 效果 = {效果类型id, 效果参数1, 效果参数2, ...}
A4: Target | B4: Effect | C4: EffectValue | D4: CD
A5: mut,float#float,2 | B5: mut,int#int,2 | C5: mut,float#float,2 | D5: float
A6: 40001#0.7|30011#0.7 | B6: 1|3#4#4 | C6: 1.08#1|1#3#10|2#0.3#3#1|3#0.3#3#1 | D6: 2
A8: json = { 2,{40001,0.7,{1,1.08,1}},{30011,0.7,{3,1,3,10},{4,2,0.3,3,1},{4,3,0.3,3,1}}}
A9: json = {
B10: 2,
B11: {
C12: 40001,
C13: 0.7,
C14: {
D15: 1,
D16: 1.08,
D17: 1
C18: }
B19: },
B20: {
C21: 30011,
C22: 0.7,
C23: {
D24: 3,
D25: 1,
D26: 3,
D27: 10
C28: },
C29: {
D30: 4,
D31: 2,
D32: 0.3,
D33: 3,
D34: 1
C35: },
C36: {
D37: 4,
D38: 3,
D39: 0.3,
D40: 3,
D41: 1
C42: }
B43: }
A44: }

Sheet 怪物技能辅助表
B1: Id | C1: Target | D1: Effect | E1: EffectValue | F1: CD | J1: NoUse
B2: int | C2: mut,float#float,2 | D2: mut,int#int,2 | E2: mut,float#float,2 | F2: float | J2: string
B3: 2 | C3: 2 | D3: 2 | E3: 2 | F3: 2 | J3: 0
B4: 技能id | C4: 目标选择 | D4: 技能效果组合 | E4: 技能效果参数 | F4: 上滑技施法时间 | J4: 备注
A5: 默认值 | B5: 0 | C5: null | D5: null | E5: null | F5: 0
A6: 正确性校对
A7: 校对值
A9: 怪物技能 | G9: 辅助列 | I9: c出手速度
N11: 伤害目标人数 | P11: 伤害系数1 | Q11: 伤害段数 | S11: 伤害系数2
A12: 20001 | B12: 20001 | C12: 20003#0.7 | D12: 1 | E12: 0.45#1 | F12: 0 | G12: =ROUNDUP((B12-20000)/3,0) -> 1 | H12: =INDEX(#REF!,MATCH(I12,#REF!,0),1) -> #REF! | I12: 3 | J12: =REPLACE(E12,1,FIND("#",E12,1)-1,S12) -> 0.416#1 | K12: 1.248 | N12: =IF(--LEFT(C12,1)=2,MID(C12,5,1),"") -> 3 | O12: =IF(N12="",K12,IF(N12=0,ROUND(K12/3,3),ROUND(K12/N12,3))) -> 0.416 | P12: =IFERROR(O12,ROUND(K12/3,3)) -> 0.416 | Q12: =FIND("6",D12,1) -> #VALUE! | R12: =IFERROR(IF(Q12=1,ROUNDUP((MID(E12,3,1)+MID(E12,1,1))/2,0),1),0) -> 0 | S12: =IF(R12=0,P12,ROUND(P12/R12,3)) -> 0.416
A13: 20002 | B13: 20002 | C13: 20003#0.7 | D13: 1 | E13: 0.45#1 | F13: 0 | G13: =ROUNDUP((B13-20000)/3,0) -> 1 | H13: =INDEX(#REF!,MATCH(I13,#REF!,0),1) -> #REF! | I13: 5 | J13: =REPLACE(E13,1,FIND("#",E13,1)-1,S13) -> 0.693#1 | K13: 2.08 | N13: =IF(--LEFT(C13,1)=2,MID(C13,5,1),"") -> 3 | O13: =IF(N13="",K13,IF(N13=0,ROUND(K13/3,3),ROUND(K13/N13,3))) -> 0.693 | P13: =IFERROR(O13,ROUND(K13/3,3)) -> 0.693 | Q13: =FIND("6",D13,1) -> #VALUE! | R13: =IFERROR(IF(Q13=1,ROUNDUP((MID(E13,3,1)+MID(E13,1,1))/2,0),1),0) -> 0 | S13: =IF(R13=0,P13,ROUND(P13/R13,3)) -> 0.693
A14: 20003 | B14: 20003 | C14: 20003#0.7 | D14: 1 | E14: 0.45#1 | F14: 0 | G14: =ROUNDUP((B14-20000)/3,0) -> 1 | H14: =INDEX(#REF!,MATCH(I14,#REF!,0),1) -> #REF! | I14: 7.9 | J14: =REPLACE(E14,1,FIND("#",E14,1)-1,S14) -> 1.095#1 | K14: 3.2864 | N14: =IF(--LEFT(C14,1)=2,MID(C14,5,1),"") -> 3 | O14: =IF(N14="",K14,IF(N14=0,ROUND(K14/3,3),ROUND(K14/N14,3))) -> 1.095 | P14: =IFERROR(O14,ROUND(K14/3,3)) -> 1.095 | Q14: =FIND("6",D14,1) -> #VALUE! | R14: =IFERROR(IF(Q14=1,ROUNDUP((MID(E14,3,1)+MID(E14,1,1))/2,0),1),0) -> 0 | S14: =IF(R14=0,P14,ROUND(P14/R14,3)) -> 1.095
A15: 20004 | B15: 20004 | C15: 40001#0.7 | D15: 1 | E15: 1.25#1 | F15: 0 | G15: =ROUNDUP((B15-20000)/3,0) -> 2 | H15: =INDEX(#REF!,MATCH(I15,#REF!,0),1) -> #REF! | I15: =I12 -> 3 | J15: =REPLACE(E15,1,FIND("#",E15,1)-1,S15) -> 1.248#1 | K15: 1.248 | N15: =IF(--LEFT(C15,1)=2,MID(C15,5,1),"") | O15: =IF(N15="",K15,IF(N15=0,ROUND(K15/3,3),ROUND(K15/N15,3))) -> 1.248 | P15: =IFERROR(O15,ROUND(K15/3,3)) -> 1.248 | Q15: =FIND("6",D15,1) -> #VALUE! | R15: =IFERROR(IF(Q15=1,ROUNDUP((MID(E15,3,1)+MID(E15,1,1))/2,0),1),0) -> 0 | S15: =IF(R15=0,P15,ROUND(P15/R15,3)) -> 1.248
A16: 20005 | B16: 20005 | C16: 40001#0.7 | D16: 1 | E16: 1.25#1 | F16: 0 | G16: =ROUNDUP((B16-20000)/3,0) -> 2 | H16: =INDEX(#REF!,MATCH(I16,#REF!,0),1) -> #REF! | I16: =I13 -> 5 | J16: =REPLACE(E16,1,FIND("#",E16,1)-1,S16) -> 2.08#1 | K16: 2.08 | N16: =IF(--LEFT(C16,1)=2,MID(C16,5,1),"") | O16: =IF(N16="",K16,IF(N16=0,ROUND(K16/3,3),ROUND(K16/N16,3))) -> 2.08 | P16: =IFERROR(O16,ROUND(K16/3,3)) -> 2.08 | Q16: =FIND("6",D16,1) -> #VALUE! | R16: =IFERROR(IF(Q16=1,ROUNDUP((MID(E16,3,1)+MID(E16,1,1))/2,0),1),0) -> 0 | S16: =IF(R16=0,P16,ROUND(P16/R16,3)) -> 2.08
A17: 20006 | B17: 20006 | C17: 40001#0.7 | D17: 1 | E17: 1.25#1 | F17: 0 | G17: =ROUNDUP((B17-20000)/3,0) -> 2 | H17: =INDEX(#REF!,MATCH(I17,#REF!,0),1) -> #REF! | I17: =I14 -> 7.9 | J17: =REPLACE(E17,1,FIND("#",E17,1)-1,S17) -> 3.2864#1 | K17: 3.2864 | N17: =IF(--LEFT(C17,1)=2,MID(C17,5,1),"") | O17: =IF(N17="",K17,IF(N17=0,ROUND(K17/3,3),ROUND(K17/N17,3))) -> 3.2864 | P17: =IFERROR(O17,ROUND(K17/3,3)) -> 3.2864 | Q17: =FIND("6",D17,1) -> #VALUE! | R17: =IFERROR(IF(Q17=1,ROUNDUP((MID(E17,3,1)+MID(E17,1,1))/2,0),1),0) -> 0 | S17: =IF(R17=0,P17,ROUND(P17/R17,3)) -> 3.2864
A18: 20007 | B18: 20007 | C18: 40001#0.7 | D18: 1#13 | E18: 0.8#1|1#0.1#2#5 | F18: 0 | G18: =ROUNDUP((B18-20000)/3,0) -> 3 | H18: =INDEX(#REF!,MATCH(I18,#REF!,0),1) -> #REF! | I18: =I15 -> 3 | J18: =REPLACE(E18,1,FIND("#",E18,1)-1,S18) -> 1.248#1|1#0.1#2#5 | K18: 1.248 | N18: =IF(--LEFT(C18,1)=2,MID(C18,5,1),"") | O18: =IF(N18="",K18,IF(N18=0,ROUND(K18/3,3),ROUND(K18/N18,3))) -> 1.248 | P18: =IFERROR(O18,ROUND(K18/3,3)) -> 1.248 | Q18: =FIND("6",D18,1) -> #VALUE! | R18: =IFERROR(IF(Q18=1,ROUNDUP((MID(E18,3,1)+MID(E18,1,1))/2,0),1),0) -> 0 | S18: =IF(R18=0,P18,ROUND(P18/R18,3)) -> 1.248
A19: 20008 | B19: 20008 | C19: 40001#0.7 | D19: 1#13 | E19: 0.8#1|1#0.1#2#5 | F19: 0 | G19: =ROUNDUP((B19-20000)/3,0) -> 3 | H19: =INDEX(#REF!,MATCH(I19,#REF!,0),1) -> #REF! | I19: =I16 -> 5 | J19: =REPLACE(E19,1,FIND("#",E19,1)-1,S19) -> 2.08#1|1#0.1#2#5 | K19: 2.08 | N19: =IF(--LEFT(C19,1)=2,MID(C19,5,1),"") | O19: =IF(N19="",K19,IF(N19=0,ROUND(K19/3,3),ROUND(K19/N19,3))) -> 2.08 | P19: =IFERROR(O19,ROUND(K19/3,3)) -> 2.08 | Q19: =FIND("6",D19,1) -> #VALUE! | R19: =IFERROR(IF(Q19=1,ROUNDUP((MID(E19,3,1)+MID(E19,1,1))/2,0),1),0) -> 0 | S19: =IF(R19=0,P19,ROUND(P19/R19,3)) -> 2.08
A20: 20009 | B20: 20009 | C20: 40001#0.7 | D20: 1#13 | E20: 0.8#1|1#0.1#2#5 | F20: 0 | G20: =ROUNDUP((B20-20000)/3,0) -> 3 | H20: =INDEX(#REF!,MATCH(I20,#REF!,0),1) -> #REF! | I20: =I17 -> 7.9 | J20: =REPLACE(E20,1,FIND("#",E20,1)-1,S20) -> 3.2864#1|1#0.1#2#5 | K20: 3.2864 | N20: =IF(--LEFT(C20,1)=2,MID(C20,5,1),"") | O20: =IF(N20="",K20,IF(N20=0,ROUND(K20/3,3),ROUND(K20/N20,3))) -> 3.2864 | P20: =IFERROR(O20,ROUND(K20/3,3)) -> 3.2864 | Q20: =FIND("6",D20,1) -> #VALUE! | R20: =IFERROR(IF(Q20=1,ROUNDUP((MID(E20,3,1)+MID(E20,1,1))/2,0),1),0) -> 0 | S20: =IF(R20=0,P20,ROUND(P20/R20,3)) -> 3.2864
A21: 20010 | B21: 20010 | C21: 40001#0.7 | D21: 1 | E21: 1.25#1 | F21: 0 | G21: =ROUNDUP((B21-20000)/3,0) -> 4 | H21: =INDEX(#REF!,MATCH(I21,#REF!,0),1) -> #REF! | I21: =I18 -> 3 | J21: =REPLACE(E21,1,FIND("#",E21,1)-1,S21) -> 1.248#1 | K21: 1.248 | N21: =IF(--LEFT(C21,1)=2,MID(C21,5,1),"") | O21: =IF(N21="",K21,IF(N21=0,ROUND(K21/3,3),ROUND(K21/N21,3))) -> 1.248 | P21: =IFERROR(O21,ROUND(K21/3,3)) -> 1.248 | Q21: =FIND("6",D21,1) -> #VALUE! | R21: =IFERROR(IF(Q21=1,ROUNDUP((MID(E21,3,1)+MID(E21,1,1))/2,0),1),0) -> 0 | S21: =IF(R21=0,P21,ROUND(P21/R21,3)) -> 1.248
A22: 20011 | B22: 20011 | C22: 40001#0.7 | D22: 1 | E22: 1.25#1 | F22: 0 | G22: =ROUNDUP((B22-20000)/3,0) -> 4 | H22: =INDEX(#REF!,MATCH(I22,#REF!,0),1) -> #REF! | I22: =I19 -> 5 | J22: =REPLACE(E22,1,FIND("#",E22,1)-1,S22) -> 2.08#1 | K22: 2.08 | N22: =IF(--LEFT(C22,1)=2,MID(C22,5,1),"") | O22: =IF(N22="",K22,IF(N22=0,ROUND(K22/3,3),ROUND(K22/N22,3))) -> 2.08 | P22: =IFERROR(O22,ROUND(K22/3,3)) -> 2.08 | Q22: =FIND("6",D22,1) -> #VALUE! | R22: =IFERROR(IF(Q22=1,ROUNDUP((MID(E22,3,1)+MID(E22,1,1))/2,0),1),0) -> 0 | S22: =IF(R22=0,P22,ROUND(P22/R22,3)) -> 2.08
A23: 20012 | B23: 20012 | C23: 40001#0.7 | D23: 1 | E23: 1.25#1 | F23: 0 | G23: =ROUNDUP((B23-20000)/3,0) -> 4 | H23: =INDEX(#REF!,MATCH(I23,#REF!,0),1) -> #REF! | I23: =I20 -> 7.9 | J23: =REPLACE(E23,1,FIND("#",E23,1)-1,S23) -> 3.2864#1 | K23: 3.2864 | N23: =IF(--LEFT(C23,1)=2,MID(C23,5,1),"") | O23: =IF(N23="",K23,IF(N23=0,ROUND(K23/3,3),ROUND(K23/N23,3))) -> 3.2864 | P23: =IFERROR(O23,ROUND(K23/3,3)) -> 3.2864 | Q23: =FIND("6",D23,1) -> #VALUE! | R23: =IFERROR(IF(Q23=1,ROUNDUP((MID(E23,3,1)+MID(E23,1,1))/2,0),1),0) -> 0 | S23: =IF(R23=0,P23,ROUND(P23/R23,3)) -> 3.2864
A24: 20013 | B24: 20013 | C24: 40001#0.7 | D24: 1#3 | E24: 1#1|0.3#1#3 | F24: 0 | G24: =ROUNDUP((B24-20000)/3,0) -> 5 | H24: 灵巧 | I24: =I21 -> 3 | J24: =REPLACE(E24,1,FIND("#",E24,1)-1,S24) -> 1.248#1|0.3#1#3 | K24: 1.248 | N24: =IF(--LEFT(C24,1)=2,MID(C24,5,1),"") | O24: =IF(N24="",K24,IF(N24=0,ROUND(K24/3,3),ROUND(K24/N24,3))) -> 1.248 | P24: =IFERROR(O24,ROUND(K24/3,3)) -> 1.248 | Q24: =FIND("6",D24,1) -> #VALUE! | R24: =IFERROR(IF(Q24=1,ROUNDUP((MID(E24,3,1)+MID(E24,1,1))/2,0),1),0) -> 0 | S24: =IF(R24=0,P24,ROUND(P24/R24,3)) -> 1.248
A25: 20014 | B25: 20014 | C25: 40001#0.7 | D25: 1#3 | E25: 1#1|0.3#1#3 | F25: 0 | G25: =ROUNDUP((B25-20000)/3,0) -> 5 | H25: 均衡 | I25: =I22 -> 5 | J25: =REPLACE(E25,1,FIND("#",E25,1)-1,S25) -> 2.08#1|0.3#1#3 | K25: 2.08 | N25: =IF(--LEFT(C25,1)=2,MID(C25,5,1),"") | O25: =IF(N25="",K25,IF(N25=0,ROUND(K25/3,3),ROUND(K25/N25,3))) -> 2.08 | P25: =IFERROR(O25,ROUND(K25/3,3)) -> 2.08 | Q25: =FIND("6",D25,1) -> #VALUE! | R25: =IFERROR(IF(Q25=1,ROUNDUP((MID(E25,3,1)+MID(E25,1,1))/2,0),1),0) -> 0 | S25: =IF(R25=0,P25,ROUND(P25/R25,3)) -> 2.08
A26: 20015 | B26: 20015 | C26: 40001#0.7 | D26: 1#3 | E26: 1#1|0.3#1#3 | F26: 0 | G26: =ROUNDUP((B26-20000)/3,0) -> 5 | H26: 强壮 | I26: =I23 -> 7.9 | J26: =REPLACE(E26,1,FIND("#",E26,1)-1,S26) -> 3.2864#1|0.3#1#3 | K26: 3.2864 | N26: =IF(--LEFT(C26,1)=2,MID(C26,5,1),"") | O26: =IF(N26="",K26,IF(N26=0,ROUND(K26/3,3),ROUND(K26/N26,3))) -> 3.2864 | P26: =IFERROR(O26,ROUND(K26/3,3)) -> 3.2864 | Q26: =FIND("6",D26,1) -> #VALUE! | R26: =IFERROR(IF(Q26=1,ROUNDUP((MID(E26,3,1)+MID(E26,1,1))/2,0),1),0) -> 0 | S26: =IF(R26=0,P26,ROUND(P26/R26,3)) -> 3.2864
A27: 20016 | B27: 20016 | C27: 40001#0.7 | D27: 1 | E27: 1.25#2 | F27: 0 | G27: =ROUNDUP((B27-20000)/3,0) -> 6 | H27: 灵巧 | I27: =I24 -> 3 | J27: =REPLACE(E27,1,FIND("#",E27,1)-1,S27) -> 1.248#2 | K27: 1.248 | N27: =IF(--LEFT(C27,1)=2,MID(C27,5,1),"") | O27: =IF(N27="",K27,IF(N27=0,ROUND(K27/3,3),ROUND(K27/N27,3))) -> 1.248 | P27: =IFERROR(O27,ROUND(K27/3,3)) -> 1.248 | Q27: =FIND("6",D27,1) -> #VALUE! | R27: =IFERROR(IF(Q27=1,ROUNDUP((MID(E27,3,1)+MID(E27,1,1))/2,0),1),0) -> 0 | S27: =IF(R27=0,P27,ROUND(P27/R27,3)) -> 1.248
A28: 20017 | B28: 20017 | C28: 40001#0.7 | D28: 1 | E28: 1.25#2 | F28: 0 | G28: =ROUNDUP((B28-20000)/3,0) -> 6 | H28: 均衡 | I28: =I25 -> 5 | J28: =REPLACE(E28,1,FIND("#",E28,1)-1,S28) -> 2.08#2 | K28: 2.08 | N28: =IF(--LEFT(C28,1)=2,MID(C28,5,1),"") | O28: =IF(N28="",K28,IF(N28=0,ROUND(K28/3,3),ROUND(K28/N28,3))) -> 2.08 | P28: =IFERROR(O28,ROUND(K28/3,3)) -> 2.08 | Q28: =FIND("6",D28,1) -> #VALUE! | R28: =IFERROR(IF(Q28=1,ROUNDUP((MID(E28,3,1)+MID(E28,1,1))/2,0),1),0) -> 0 | S28: =IF(R28=0,P28,ROUND(P28/R28,3)) -> 2.08
A29: 20018 | B29: 20018 | C29: 40001#0.7 | D29: 1 | E29: 1.25#2 | F29: 0 | G29: =ROUNDUP((B29-20000)/3,0) -> 6 | H29: 强壮 | I29: =I26 -> 7.9 | J29: =REPLACE(E29,1,FIND("#",E29,1)-1,S29) -> 3.2864#2 | K29: 3.2864 | N29: =IF(--LEFT(C29,1)=2,MID(C29,5,1),"") | O29: =IF(N29="",K29,IF(N29=0,ROUND(K29/3,3),ROUND(K29/N29,3))) -> 3.2864 | P29: =IFERROR(O29,ROUND(K29/3,3)) -> 3.2864 | Q29: =FIND("6",D29,1) -> #VALUE! | R29: =IFERROR(IF(Q29=1,ROUNDUP((MID(E29,3,1)+MID(E29,1,1))/2,0),1),0) -> 0 | S29: =IF(R29=0,P29,ROUND(P29/R29,3)) -> 3.2864
A30: 20019 | B30: 20019 | C30: 40001#0.7 | D30: 1#13 | E30: 0.8#1|2#0.1#2#5 | F30: 0 | G30: =ROUNDUP((B30-20000)/3,0) -> 7 | H30: 灵巧 | I30: =I27 -> 3 | J30: =REPLACE(E30,1,FIND("#",E30,1)-1,S30) -> 1.248#1|2#0.1#2#5 | K30: 1.248 | N30: =IF(--LEFT(C30,1)=2,MID(C30,5,1),"") | O30: =IF(N30="",K30,IF(N30=0,ROUND(K30/3,3),ROUND(K30/N30,3))) -> 1.248 | P30: =IFERROR(O30,ROUND(K30/3,3)) -> 1.248 | Q30: =FIND("6",D30,1) -> #VALUE! | R30: =IFERROR(IF(Q30=1,ROUNDUP((MID(E30,3,1)+MID(E30,1,1))/2,0),1),0) -> 0 | S30: =IF(R30=0,P30,ROUND(P30/R30,3)) -> 1.248
A31: 20020 | B31: 20020 | C31: 40001#0.7 | D31: 1#13 | E31: 0.8#1|2#0.1#2#5 | F31: 0 | G31: =ROUNDUP((B31-20000)/3,0) -> 7 | H31: 均衡 | I31: =I28 -> 5 | J31: =REPLACE(E31,1,FIND("#",E31,1)-1,S31) -> 2.08#1|2#0.1#2#5 | K31: 2.08 | N31: =IF(--LEFT(C31,1)=2,MID(C31,5,1),"") | O31: =IF(N31="",K31,IF(N31=0,ROUND(K31/3,3),ROUND(K31/N31,3))) -> 2.08 | P31: =IFERROR(O31,ROUND(K31/3,3)) -> 2.08 | Q31: =FIND("6",D31,1) -> #VALUE! | R31: =IFERROR(IF(Q31=1,ROUNDUP((MID(E31,3,1)+MID(E31,1,1))/2,0),1),0) -> 0 | S31: =IF(R31=0,P31,ROUND(P31/R31,3)) -> 2.08
A32: 20021 | B32: 20021 | C32: 40001#0.7 | D32: 1#13 | E32: 0.8#1|2#0.1#2#5 | F32: 0 | G32: =ROUNDUP((B32-20000)/3,0) -> 7 | H32: 强壮 | I32: =I29 -> 7.9 | J32: =REPLACE(E32,1,FIND("#",E32,1)-1,S32) -> 3.2864#1|2#0.1#2#5 | K32: 3.2864 | N32: =IF(--LEFT(C32,1)=2,MID(C32,5,1),"") | O32: =IF(N32="",K32,IF(N32=0,ROUND(K32/3,3),ROUND(K32/N32,3))) -> 3.2864 | P32: =IFERROR(O32,ROUND(K32/3,3)) -> 3.2864 | Q32: =FIND("6",D32,1) -> #VALUE! | R32: =IFERROR(IF(Q32=1,ROUNDUP((MID(E32,3,1)+MID(E32,1,1))/2,0),1),0) -> 0 | S32: =IF(R32=0,P32,ROUND(P32/R32,3)) -> 3.2864
A33: 20022 | B33: 20022 | C33: 20000#0.7 | D33: 2#4 | E33: 0.2#1|1#0.1#4#4 | F33: 0 | G33: =ROUNDUP((B33-20000)/3,0) -> 8 | H33: 灵巧 | I33: =I30 -> 3 | J33: =REPLACE(E33,1,FIND("#",E33,1)-1,S33) -> 0.416#1|1#0.1#4#4 | K33: 1.248 | N33: =IF(--LEFT(C33,1)=2,MID(C33,5,1),"") -> 0 | O33: =IF(N33="",K33,IF(N33=0,ROUND(K33/3,3),ROUND(K33/N33,3))) -> #DIV/0! | P33: =IFERROR(O33,ROUND(K33/3,3)) -> 0.416 | Q33: =FIND("6",D33,1) -> #VALUE! | R33: =IFERROR(IF(Q33=1,ROUNDUP((MID(E33,3,1)+MID(E33,1,1))/2,0),1),0) -> 0 | S33: =IF(R33=0,P33,ROUND(P33/R33,3)) -> 0.416
A34: 20023 | B34: 20023 | C34: 20000#0.7 | D34: 2#4 | E34: 0.2#1|1#0.1#4#4 | F34: 0 | G34: =ROUNDUP((B34-20000)/3,0) -> 8 | H34: 均衡 | I34: =I31 -> 5 | J34: =REPLACE(E34,1,FIND("#",E34,1)-1,S34) -> 0.693#1|1#0.1#4#4 | K34: 2.08 | N34: =IF(--LEFT(C34,1)=2,MID(C34,5,1),"") -> 0 | O34: =IF(N34="",K34,IF(N34=0,ROUND(K34/3,3),ROUND(K34/N34,3))) -> #DIV/0! | P34: =IFERROR(O34,ROUND(K34/3,3)) -> 0.693 | Q34: =FIND("6",D34,1) -> #VALUE! | R34: =IFERROR(IF(Q34=1,ROUNDUP((MID(E34,3,1)+MID(E34,1,1))/2,0),1),0) -> 0 | S34: =IF(R34=0,P34,ROUND(P34/R34,3)) -> 0.693
A35: 20024 | B35: 20024 | C35: 20000#0.7 | D35: 2#4 | E35: 0.2#1|1#0.1#4#4 | F35: 0 | G35: =ROUNDUP((B35-20000)/3,0) -> 8 | H35: 强壮 | I35: =I32 -> 7.9 | J35: =REPLACE(E35,1,FIND("#",E35,1)-1,S35) -> 1.095#1|1#0.1#4#4 | K35: 3.2864 | N35: =IF(--LEFT(C35,1)=2,MID(C35,5,1),"") -> 0 | O35: =IF(N35="",K35,IF(N35=0,ROUND(K35/3,3),ROUND(K35/N35,3))) -> #DIV/0! | P35: =IFERROR(O35,ROUND(K35/3,3)) -> 1.095 | Q35: =FIND("6",D35,1) -> #VALUE! | R35: =IFERROR(IF(Q35=1,ROUNDUP((MID(E35,3,1)+MID(E35,1,1))/2,0),1),0) -> 0 | S35: =IF(R35=0,P35,ROUND(P35/R35,3)) -> 1.095
... A143: 20132 | B143: 20132 | C143: 20012#0.7|10014#0.7 | D143: 1|4 | E143: 0.8#1|9#0.3#6.5#2 | F143: 0 | G143: =ROUNDUP((B143-20000)/3,0) -> 44 | H143: 强壮 | I143: =I140 -> 7.9 | J143: =REPLACE(E143,1,FIND("#",E143,1)-1,S143) -> 1.643#1|9#0.3#6.5#2 | K143: 3.2864 | N143: =IF(--LEFT(C143,1)=2,MID(C143,5,1),"") -> 2 | O143: =IF(N143="",K143,IF(N143=0,ROUND(K143/3,3),ROUND(K143/N143,3))) -> 1.643 | P143: =IFERROR(O143,ROUND(K143/3,3)) -> 1.643 | Q143: =FIND("6",D143,1) -> #VALUE! | R143: =IFERROR(IF(Q143=1,ROUNDUP((MID(E143,3,1)+MID(E143,1,1))/2,0),1),0) -> 0 | S143: =IF(R143=0,P143,ROUND(P143/R143,3)) -> 1.643
A144: 100001 | B144: 20133 | C144: 40001#0.7 | D144: 6 | E144: 3#3#a#1 | F144: 0 | G144: =ROUNDUP((B144-20000)/3,0) -> 45 | H144: 灵巧 | I144: 3 | J144: =SUBSTITUTE(E144,"a",S144) -> 3#3#0.416#1 | K144: 1.248 | L144: 骷髅 | M144: 1 | N144: =IF(--LEFT(C144,1)=2,MID(C144,5,1),"") | O144: =IF(N144="",K144,IF(N144=0,ROUND(K144/3,3),ROUND(K144/N144,3))) -> 1.248 | P144: =IFERROR(O144,ROUND(K144/3,3)) -> 1.248 | Q144: =FIND("6",D144,1) -> 1 | R144: =IFERROR(IF(Q144=1,ROUNDUP((MID(E144,3,1)+MID(E144,1,1))/2,0),1),0) -> 3 | S144: =IF(R144=0,P144,ROUND(P144/R144,3)) -> 0.416
A145: 100002 | B145: =B144+3 -> 20136 | C145: 40001#0.7 | D145: 1#13 | E145: a#1|1#0.1#2#5 | F145: 0 | G145: =ROUNDUP((B145-20000)/3,0) -> 46 | H145: 灵巧 | I145: 3 | J145: =SUBSTITUTE(E145,"a",S145) -> 1.248#1|1#0.1#2#5 | K145: 1.248 | L145: 烛刃1 | M145: 3 | N145: =IF(--LEFT(C145,1)=2,MID(C145,5,1),"") | O145: =IF(N145="",K145,IF(N145=0,ROUND(K145/3,3),ROUND(K145/N145,3))) -> 1.248 | P145: =IFERROR(O145,ROUND(K145/3,3)) -> 1.248 | Q145: =FIND("6",D145,1) -> #VALUE! | R145: =IFERROR(IF(Q145=1,ROUNDUP((MID(E145,3,1)+MID(E145,1,1))/2,0),1),0) -> 0 | S145: =IF(R145=0,P145,ROUND(P145/R145,3)) -> 1.248
A146: 100003 | B146: =B145+3 -> 20139 | C146: 30000#0.7|10000#0.7 | D146: 5|4 | E146: 1#0.15#4|1#0.3#6#2 | F146: 2 | G146: =ROUNDUP((B146-20000)/3,0) -> 47 | H146: 灵巧 | I146: 3 | J146: =SUBSTITUTE(E146,"a",S146) -> 1#0.15#4|1#0.3#6#2 | K146: 1.248 | L146: 烛刃2 | M146: 3 | N146: =IF(--LEFT(C146,1)=2,MID(C146,5,1),"") | O146: =IF(N146="",K146,IF(N146=0,ROUND(K146/3,3),ROUND(K146/N146,3))) -> 1.248 | P146: =IFERROR(O146,ROUND(K146/3,3)) -> 1.248 | Q146: =FIND("6",D146,1) -> #VALUE! | R146: =IFERROR(IF(Q146=1,ROUNDUP((MID(E146,3,1)+MID(E146,1,1))/2,0),1),0) -> 0 | S146: =IF(R146=0,P146,ROUND(P146/R146,3)) -> 1.248
A147: 100004 | B147: =B146+3 -> 20142 | C147: 40001#0.7 | D147: 1#3 | E147: a#1|0.5#1#3 | F147: 0 | G147: =ROUNDUP((B147-20000)/3,0) -> 48 | H147: 灵巧 | I147: 3 | J147: =SUBSTITUTE(E147,"a",S147) -> 1.248#1|0.5#1#3 | K147: 1.248 | L147: 典狱官1 | M147: 5 | N147: =IF(--LEFT(C147,1)=2,MID(C147,5,1),"") | O147: =IF(N147="",K147,IF(N147=0,ROUND(K147/3,3),ROUND(K147/N147,3))) -> 1.248 | P147: =IFERROR(O147,ROUND(K147/3,3)) -> 1.248 | Q147: =FIND("6",D147,1) -> #VALUE! | R147: =IFERROR(IF(Q147=1,ROUNDUP((MID(E147,3,1)+MID(E147,1,1))/2,0),1),0) -> 0 | S147: =IF(R147=0,P147,ROUND(P147/R147,3)) -> 1.248
A148: 100005 | B148: =B147+3 -> 20145 | C148: 20000#0.7 | D148: 2#4 | E148: a#2|2#0.2#6#4 | F148: 2 | G148: =ROUNDUP((B148-20000)/3,0) -> 49 | H148: 灵巧 | I148: 3 | J148: =SUBSTITUTE(E148,"a",S148) -> 0.416#2|2#0.2#6#4 | K148: 1.248 | L148: 典狱官2 | M148: 5 | N148: =IF(--LEFT(C148,1)=2,MID(C148,5,1),"") -> 0 | O148: =IF(N148="",K148,IF(N148=0,ROUND(K148/3,3),ROUND(K148/N148,3))) -> #DIV/0! | P148: =IFERROR(O148,ROUND(K148/3,3)) -> 0.416 | Q148: =FIND("6",D148,1) -> #VALUE! | R148: =IFERROR(IF(Q148=1,ROUNDUP((MID(E148,3,1)+MID(E148,1,1))/2,0),1),0) -> 0 | S148: =IF(R148=0,P148,ROUND(P148/R148,3)) -> 0.416
A149: 100006 | B149: =B148+3 -> 20148 | C149: 40001#0.7 | D149: 1#13 | E149: a#1|2#0.15#2#4 | F149: 0 | G149: =ROUNDUP((B149-20000)/3,0) -> 50 | H149: 灵巧 | I149: 3 | J149: =SUBSTITUTE(E149,"a",S149) -> 1.248#1|2#0.15#2#4 | K149: 1.248 | L149: 符文骷髅 | M149: 6 | N149: =IF(--LEFT(C149,1)=2,MID(C149,5,1),"") | O149: =IF(N149="",K149,IF(N149=0,ROUND(K149/3,3),ROUND(K149/N149,3))) -> 1.248 | P149: =IFERROR(O149,ROUND(K149/3,3)) -> 1.248 | Q149: =FIND("6",D149,1) -> #VALUE! | R149: =IFERROR(IF(Q149=1,ROUNDUP((MID(E149,3,1)+MID(E149,1,1))/2,0),1),0) -> 0 | S149: =IF(R149=0,P149,ROUND(P149/R149,3)) -> 1.248
A150: 100007 | B150: =B149+3 -> 20151 | C150: 40001#0.7 | D150: 1#3 | E150: a#1|0.3#1#2 | F150: 0 | G150: =ROUNDUP((B150-20000)/3,0) -> 51 | H150: 灵巧 | I150: 3 | J150: =SUBSTITUTE(E150,"a",S150) -> 1.248#1|0.3#1#2 | K150: 1.248 | L150: 角羊 | M150: 2 | N150: =IF(--LEFT(C150,1)=2,MID(C150,5,1),"") | O150: =IF(N150="",K150,IF(N150=0,ROUND(K150/3,3),ROUND(K150/N150,3))) -> 1.248 | P150: =IFERROR(O150,ROUND(K150/3,3)) -> 1.248 | Q150: =FIND("6",D150,1) -> #VALUE! | R150: =IFERROR(IF(Q150=1,ROUNDUP((MID(E150,3,1)+MID(E150,1,1))/2,0),1),0) -> 0 | S150: =IF(R150=0,P150,ROUND(P150/R150,3)) -> 1.248
A151: 100008 | B151: =B150+3 -> 20154 | C151: 40001#0.7 | D151: 1#4#13 | E151: a#1|3#0.3#6#4|3#0.12#1#4 | F151: 0 | G151: =ROUNDUP((B151-20000)/3,0) -> 52 | H151: 灵巧 | I151: 3 | J151: =SUBSTITUTE(E151,"a",S151) -> 1.248#1|3#0.3#6#4|3#0.12#1#4 | K151: 1.248 | L151: 角羊王1 | M151: 4 | N151: =IF(--LEFT(C151,1)=2,MID(C151,5,1),"") | O151: =IF(N151="",K151,IF(N151=0,ROUND(K151/3,3),ROUND(K151/N151,3))) -> 1.248 | P151: =IFERROR(O151,ROUND(K151/3,3)) -> 1.248 | Q151: =FIND("6",D151,1) -> #VALUE! | R151: =IFERROR(IF(Q151=1,ROUNDUP((MID(E151,3,1)+MID(E151,1,1))/2,0),1),0) -> 0 | S151: =IF(R151=0,P151,ROUND(P151/R151,3)) -> 1.248
A152: 100009 | B152: =B151+3 -> 20157 | C152: 20000#0.7 | D152: 2#3 | E152: a#2|0.5#1#2.5 | F152: 2 | G152: =ROUNDUP((B152-20000)/3,0) -> 53 | H152: 灵巧 | I152: 3 | J152: =SUBSTITUTE(E152,"a",S152) -> 0.416#2|0.5#1#2.5 | K152: 1.248 | L152: 角羊王2 | M152: 4 | N152: =IF(--LEFT(C152,1)=2,MID(C152,5,1),"") -> 0 | O152: =IF(N152="",K152,IF(N152=0,ROUND(K152/3,3),ROUND(K152/N152,3))) -> #DIV/0! | P152: =IFERROR(O152,ROUND(K152/3,3)) -> 0.416 | Q152: =FIND("6",D152,1) -> #VALUE! | R152: =IFERROR(IF(Q152=1,ROUNDUP((MID(E152,3,1)+MID(E152,1,1))/2,0),1),0) -> 0 | S152: =IF(R152=0,P152,ROUND(P152/R152,3)) -> 0.416
A153: 100010 | B153: =B152+3 -> 20160 | C153: 40001#0.7 | D153: 1#4#13 | E153: a#1|2#0.2#6#4|2#0.1#2#5 | F153: 0 | G153: =ROUNDUP((B153-20000)/3,0) -> 54 | H153: 灵巧 | I153: 3 | J153: =SUBSTITUTE(E153,"a",S153) -> 1.248#1|2#0.2#6#4|2#0.1#2#5 | K153: 1.248 | L153: 地鼠 | M153: 9 | N153: =IF(--LEFT(C153,1)=2,MID(C153,5,1),"") | O153: =IF(N153="",K153,IF(N153=0,ROUND(K153/3,3),ROUND(K153/N153,3))) -> 1.248 | P153: =IFERROR(O153,ROUND(K153/3,3)) -> 1.248 | Q153: =FIND("6",D153,1) -> #VALUE! | R153: =IFERROR(IF(Q153=1,ROUNDUP((MID(E153,3,1)+MID(E153,1,1))/2,0),1),0) -> 0 | S153: =IF(R153=0,P153,ROUND(P153/R153,3)) -> 1.248
A154: 100011 | B154: =B153+3 -> 20163 | C154: 40001#0.7|20000#0.7|30001#0.7 | D154: 1|3|4 | E154: a#1|1#3#6|6#0.08#6#1 | F154: 0 | G154: =ROUNDUP((B154-20000)/3,0) -> 55 | H154: 灵巧 | I154: 3 | J154: =SUBSTITUTE(E154,"a",S154) -> 1.248#1|1#3#6|6#0.08#6#1 | K154: 1.248 | L154: 兔 | M154: 10 | N154: =IF(--LEFT(C154,1)=2,MID(C154,5,1),"") | O154: =IF(N154="",K154,IF(N154=0,ROUND(K154/3,3),ROUND(K154/N154,3))) -> 1.248 | P154: =IFERROR(O154,ROUND(K154/3,3)) -> 1.248 | Q154: =FIND("6",D154,1) -> #VALUE! | R154: =IFERROR(IF(Q154=1,ROUNDUP((MID(E154,3,1)+MID(E154,1,1))/2,0),1),0) -> 0 | S154: =IF(R154=0,P154,ROUND(P154/R154,3)) -> 1.248
A155: 100012 | B155: =B154+3 -> 20166 | C155: 20211#0.7 | D155: 1 | E155: a#1 | F155: 0 | G155: =ROUNDUP((B155-20000)/3,0) -> 56 | H155: 灵巧 | I155: 3 | J155: =SUBSTITUTE(E155,"a",S155) -> 1.248#1 | K155: 1.248 | L155: 巨猿1 | M155: 11 | N155: =IF(--LEFT(C155,1)=2,MID(C155,5,1),"") -> 1 | O155: =IF(N155="",K155,IF(N155=0,ROUND(K155/3,3),ROUND(K155/N155,3))) -> 1.248 | P155: =IFERROR(O155,ROUND(K155/3,3)) -> 1.248 | Q155: =FIND("6",D155,1) -> #VALUE! | R155: =IFERROR(IF(Q155=1,ROUNDUP((MID(E155,3,1)+MID(E155,1,1))/2,0),1),0) -> 0 | S155: =IF(R155=0,P155,ROUND(P155/R155,3)) -> 1.248
A156: 100013 | B156: =B155+3 -> 20169 | C156: 20000#0.7 | D156: 2#4 | E156: a#2|4#0.3#5#4 | F156: 2 | G156: =ROUNDUP((B156-20000)/3,0) -> 57 | H156: 灵巧 | I156: 3 | J156: =SUBSTITUTE(E156,"a",S156) -> 0.416#2|4#0.3#5#4 | K156: 1.248 | L156: 巨猿2 | M156: 11 | N156: =IF(--LEFT(C156,1)=2,MID(C156,5,1),"") -> 0 | O156: =IF(N156="",K156,IF(N156=0,ROUND(K156/3,3),ROUND(K156/N156,3))) -> #DIV/0! | P156: =IFERROR(O156,ROUND(K156/3,3)) -> 0.416 | Q156: =FIND("6",D156,1) -> #VALUE! | R156: =IFERROR(IF(Q156=1,ROUNDUP((MID(E156,3,1)+MID(E156,1,1))/2,0),1),0) -> 0 | S156: =IF(R156=0,P156,ROUND(P156/R156,3)) -> 0.416
... A178: 100035 | B178: =B177+3 -> 20235 | C178: 20000#0.7 | D178: 2#3 | E178: a#2|0.45#2#2.5 | F178: 2 | G178: =ROUNDUP((B178-20000)/3,0) -> 79 | H178: 灵巧 | I178: 3 | J178: =SUBSTITUTE(E178,"a",S178) -> 0.416#2|0.45#2#2.5 | K178: 1.248 | L178: 花妖2 | M178: 7 | N178: =IF(--LEFT(C178,1)=2,MID(C178,5,1),"") -> 0 | O178: =IF(N178="",K178,IF(N178=0,ROUND(K178/3,3),ROUND(K178/N178,3))) -> #DIV/0! | P178: =IFERROR(O178,ROUND(K178/3,3)) -> 0.416 | Q178: =FIND("6",D178,1) -> #VALUE! | R178: =IFERROR(IF(Q178=1,ROUNDUP((MID(E178,3,1)+MID(E178,1,1))/2,0),1),0) -> 0 | S178: =IF(R178=0,P178,ROUND(P178/R178,3)) -> 0.416
A179: 100036 | B179: =B178+3 -> 20238 | C179: 20000#0.7 | D179: 2#13#4 | E179: a#2|1#0.1#2#5|3#0.3#6#4 | F179: 0 | G179: =ROUNDUP((B179-20000)/3,0) -> 80 | H179: 灵巧 | I179: 3 | J179: =SUBSTITUTE(E179,"a",S179) -> 0.416#2|1#0.1#2#5|3#0.3#6#4 | K179: 1.248 | L179: 强化棺材1 | N179: =IF(--LEFT(C179,1)=2,MID(C179,5,1),"") -> 0 | O179: =IF(N179="",K179,IF(N179=0,ROUND(K179/3,3),ROUND(K179/N179,3))) -> #DIV/0! | P179: =IFERROR(O179,ROUND(K179/3,3)) -> 0.416 | Q179: =FIND("6",D179,1) -> #VALUE! | R179: =IFERROR(IF(Q179=1,ROUNDUP((MID(E179,3,1)+MID(E179,1,1))/2,0),1),0) -> 0 | S179: =IF(R179=0,P179,ROUND(P179/R179,3)) -> 0.416
A180: 100037 | B180: =B179+3 -> 20241 | C180: 30000#0.7 | D180: 5#4#4#4 | E180: 1#0.06#7|1#0.2#6#2|4#0.25#6.5#2|2#0.25#6.5#2 | F180: 2 | G180: =ROUNDUP((B180-20000)/3,0) -> 81 | H180: 灵巧 | I180: 3 | J180: =SUBSTITUTE(E180,"a",S180) -> 1#0.06#7|1#0.2#6#2|4#0.25#6.5#2|2#0.25#6.5#2 | K180: 1.248 | L180: 强化棺材2 | N180: =IF(--LEFT(C180,1)=2,MID(C180,5,1),"") | O180: =IF(N180="",K180,IF(N180=0,ROUND(K180/3,3),ROUND(K180/N180,3))) -> 1.248 | P180: =IFERROR(O180,ROUND(K180/3,3)) -> 1.248 | Q180: =FIND("6",D180,1) -> #VALUE! | R180: =IFERROR(IF(Q180=1,ROUNDUP((MID(E180,3,1)+MID(E180,1,1))/2,0),1),0) -> 0 | S180: =IF(R180=0,P180,ROUND(P180/R180,3)) -> 1.248
A181: 100038 | B181: =B180+3 -> 20244 | C181: 40001#0.7 | D181: 1#3 | E181: a#1|1#4#3.5 | F181: 0 | G181: =ROUNDUP((B181-20000)/3,0) -> 82 | H181: 灵巧 | I181: 3 | J181: =SUBSTITUTE(E181,"a",S181) -> 1.248#1|1#4#3.5 | K181: 1.248 | L181: 利刃虎1 | M181: 35 | N181: =IF(--LEFT(C181,1)=2,MID(C181,5,1),"") | O181: =IF(N181="",K181,IF(N181=0,ROUND(K181/3,3),ROUND(K181/N181,3))) -> 1.248 | P181: =IFERROR(O181,ROUND(K181/3,3)) -> 1.248 | Q181: =FIND("6",D181,1) -> #VALUE! | R181: =IFERROR(IF(Q181=1,ROUNDUP((MID(E181,3,1)+MID(E181,1,1))/2,0),1),0) -> 0 | S181: =IF(R181=0,P181,ROUND(P181/R181,3)) -> 1.248
A182: 100039 | B182: =B181+3 -> 20247 | C182: 20000#0.7 | D182: 2#13 | E182: a#1|3#0.1#1#5 | F182: 2 | G182: =ROUNDUP((B182-20000)/3,0) -> 83 | H182: 灵巧 | I182: 3 | J182: =SUBSTITUTE(E182,"a",S182) -> 0.416#1|3#0.1#1#5 | K182: 1.248 | L182: 利刃虎2 | M182: 35 | N182: =IF(--LEFT(C182,1)=2,MID(C182,5,1),"") -> 0 | O182: =IF(N182="",K182,IF(N182=0,ROUND(K182/3,3),ROUND(K182/N182,3))) -> #DIV/0! | P182: =IFERROR(O182,ROUND(K182/3,3)) -> 0.416 | Q182: =FIND("6",D182,1) -> #VALUE! | R182: =IFERROR(IF(Q182=1,ROUNDUP((MID(E182,3,1)+MID(E182,1,1))/2,0),1),0) -> 0 | S182: =IF(R182=0,P182,ROUND(P182/R182,3)) -> 0.416
A183: 100040 | B183: =B182+3 -> 20250 | C183: 40001#0.7|30000#0.7 | D183: 6|4 | E183: 2#4#a#2|1#0.3#6#2 | F183: 0 | G183: =ROUNDUP((B183-20000)/3,0) -> 84 | H183: 灵巧 | I183: 3 | J183: =SUBSTITUTE(E183,"a",S183) -> 2#4#0.416#2|1#0.3#6#2 | K183: 1.248 | L183: 樱首1 | M183: 36 | N183: =IF(--LEFT(C183,1)=2,MID(C183,5,1),"") | O183: =IF(N183="",K183,IF(N183=0,ROUND(K183/3,3),ROUND(K183/N183,3))) -> 1.248 | P183: =IFERROR(O183,ROUND(K183/3,3)) -> 1.248 | Q183: =FIND("6",D183,1) -> 1 | R183: =IFERROR(IF(Q183=1,ROUNDUP((MID(E183,3,1)+MID(E183,1,1))/2,0),1),0) -> 3 | S183: =IF(R183=0,P183,ROUND(P183/R183,3)) -> 0.416
A184: 100041 | B184: =B183+3 -> 20253 | C184: 20000#0.7|30000#0.7 | D184: 2#4|24 | E184: a#2|1#0.15#6#4|1#0.3 | F184: 2 | G184: =ROUNDUP((B184-20000)/3,0) -> 85 | H184: 灵巧 | I184: 3 | J184: =SUBSTITUTE(E184,"a",S184) -> 0.416#2|1#0.15#6#4|1#0.3 | K184: 1.248 | L184: 樱首2 | M184: 36 | N184: =IF(--LEFT(C184,1)=2,MID(C184,5,1),"") -> 0 | O184: =IF(N184="",K184,IF(N184=0,ROUND(K184/3,3),ROUND(K184/N184,3))) -> #DIV/0! | P184: =IFERROR(O184,ROUND(K184/3,3)) -> 0.416 | Q184: =FIND("6",D184,1) -> #VALUE! | R184: =IFERROR(IF(Q184=1,ROUNDUP((MID(E184,3,1)+MID(E184,1,1))/2,0),1),0) -> 0 | S184: =IF(R184=0,P184,ROUND(P184/R184,3)) -> 0.416
A185: 100042 | B185: =B184+3 -> 20256 | C185: 40001#0.7|10321#0.7 | D185: 1|8 | E185: a#1|1.5#1#3 | F185: 0 | G185: =ROUNDUP((B185-20000)/3,0) -> 86 | H185: 灵巧 | I185: 3 | J185: =SUBSTITUTE(E185,"a",S185) -> 1.248#1|1.5#1#3 | K185: 1.248 | L185: 黑狱炮兵1 | M185: 42 | N185: =IF(--LEFT(C185,1)=2,MID(C185,5,1),"") | O185: =IF(N185="",K185,IF(N185=0,ROUND(K185/3,3),ROUND(K185/N185,3))) -> 1.248 | P185: =IFERROR(O185,ROUND(K185/3,3)) -> 1.248 | Q185: =FIND("6",D185,1) -> #VALUE! | R185: =IFERROR(IF(Q185=1,ROUNDUP((MID(E185,3,1)+MID(E185,1,1))/2,0),1),0) -> 0 | S185: =IF(R185=0,P185,ROUND(P185/R185,3)) -> 1.248
A186: 100043 | B186: =B185+3 -> 20259 | C186: 20000#0.7 | D186: 2#13 | E186: a#1|1#0.1#2#4 | F186: 2 | G186: =ROUNDUP((B186-20000)/3,0) -> 87 | H186: 灵巧 | I186: 3 | J186: =SUBSTITUTE(E186,"a",S186) -> 0.416#1|1#0.1#2#4 | K186: 1.248 | L186: 黑狱炮兵2 | M186: 42 | N186: =IF(--LEFT(C186,1)=2,MID(C186,5,1),"") -> 0 | O186: =IF(N186="",K186,IF(N186=0,ROUND(K186/3,3),ROUND(K186/N186,3))) -> #DIV/0! | P186: =IFERROR(O186,ROUND(K186/3,3)) -> 0.416 | Q186: =FIND("6",D186,1) -> #VALUE! | R186: =IFERROR(IF(Q186=1,ROUNDUP((MID(E186,3,1)+MID(E186,1,1))/2,0),1),0) -> 0 | S186: =IF(R186=0,P186,ROUND(P186/R186,3)) -> 0.416
A187: 100044 | B187: =B186+3 -> 20262 | C187: 20000#0.7 | D187: 2#3 | E187: a#2|0.4#1#2.5 | F187: 0 | G187: =ROUNDUP((B187-20000)/3,0) -> 88 | H187: 灵巧 | I187: 3 | J187: =SUBSTITUTE(E187,"a",S187) -> 0.416#2|0.4#1#2.5 | K187: 1.248 | L187: 蒜头妹1 | M187: 38 | N187: =IF(--LEFT(C187,1)=2,MID(C187,5,1),"") -> 0 | O187: =IF(N187="",K187,IF(N187=0,ROUND(K187/3,3),ROUND(K187/N187,3))) -> #DIV/0! | P187: =IFERROR(O187,ROUND(K187/3,3)) -> 0.416 | Q187: =FIND("6",D187,1) -> #VALUE! | R187: =IFERROR(IF(Q187=1,ROUNDUP((MID(E187,3,1)+MID(E187,1,1))/2,0),1),0) -> 0 | S187: =IF(R187=0,P187,ROUND(P187/R187,3)) -> 0.416
A188: 100045 | B188: =B187+3 -> 20265 | C188: 40001#0.7 | D188: 6#4 | E188: 1#3#a#1|3#0.2#6#4 | F188: 2 | G188: =ROUNDUP((B188-20000)/3,0) -> 89 | H188: 灵巧 | I188: 3 | J188: =SUBSTITUTE(E188,"a",S188) -> 1#3#0.624#1|3#0.2#6#4 | K188: 1.248 | L188: 蒜头妹2 | M188: 38 | N188: =IF(--LEFT(C188,1)=2,MID(C188,5,1),"") | O188: =IF(N188="",K188,IF(N188=0,ROUND(K188/3,3),ROUND(K188/N188,3))) -> 1.248 | P188: =IFERROR(O188,ROUND(K188/3,3)) -> 1.248 | Q188: =FIND("6",D188,1) -> 1 | R188: =IFERROR(IF(Q188=1,ROUNDUP((MID(E188,3,1)+MID(E188,1,1))/2,0),1),0) -> 2 | S188: =IF(R188=0,P188,ROUND(P188/R188,3)) -> 0.624
A189: 100046 | B189: =B188+3 -> 20268 | C189: 20000#0.7 | D189: 2#3 | E189: a#2|0.2#1#4 | F189: 0 | G189: =ROUNDUP((B189-20000)/3,0) -> 90 | H189: 灵巧 | I189: 3 | J189: =SUBSTITUTE(E189,"a",S189) -> 0.416#2|0.2#1#4 | K189: 1.248 | L189: 黑狱精灵1 | M189: 41 | N189: =IF(--LEFT(C189,1)=2,MID(C189,5,1),"") -> 0 | O189: =IF(N189="",K189,IF(N189=0,ROUND(K189/3,3),ROUND(K189/N189,3))) -> #DIV/0! | P189: =IFERROR(O189,ROUND(K189/3,3)) -> 0.416 | Q189: =FIND("6",D189,1) -> #VALUE! | R189: =IFERROR(IF(Q189=1,ROUNDUP((MID(E189,3,1)+MID(E189,1,1))/2,0),1),0) -> 0 | S189: =IF(R189=0,P189,ROUND(P189/R189,3)) -> 0.416
A190: 100047 | B190: =B189+3 -> 20271 | C190: 40001#0.7 | D190: 20 | E190: a#2#0#0.2 | F190: 2 | G190: =ROUNDUP((B190-20000)/3,0) -> 91 | H190: 灵巧 | I190: 3 | J190: =SUBSTITUTE(E190,"a",S190) -> 1.248#2#0#0.2 | K190: 1.248 | L190: 黑狱精灵2 | M190: 41 | N190: =IF(--LEFT(C190,1)=2,MID(C190,5,1),"") | O190: =IF(N190="",K190,IF(N190=0,ROUND(K190/3,3),ROUND(K190/N190,3))) -> 1.248 | P190: =IFERROR(O190,ROUND(K190/3,3)) -> 1.248 | Q190: =FIND("6",D190,1) -> #VALUE! | R190: =IFERROR(IF(Q190=1,ROUNDUP((MID(E190,3,1)+MID(E190,1,1))/2,0),1),0) -> 0 | S190: =IF(R190=0,P190,ROUND(P190/R190,3)) -> 1.248
A191: 100048 | B191: =B190+3 -> 20274 | C191: 20111#0.7|30000#0.7 | D191: 1|4#4 | E191: a#2|4#0.3#6.5#2|9#15#6.5#1 | F191: 0 | G191: =ROUNDUP((B191-20000)/3,0) -> 92 | H191: 灵巧 | I191: 3 | J191: =SUBSTITUTE(E191,"a",S191) -> 1.248#2|4#0.3#6.5#2|9#15#6.5#1 | K191: 1.248 | L191: 天麟1 | M191: 10048 | N191: =IF(--LEFT(C191,1)=2,MID(C191,5,1),"") -> 1 | O191: =IF(N191="",K191,IF(N191=0,ROUND(K191/3,3),ROUND(K191/N191,3))) -> 1.248 | P191: =IFERROR(O191,ROUND(K191/3,3)) -> 1.248 | Q191: =FIND("6",D191,1) -> #VALUE! | R191: =IFERROR(IF(Q191=1,ROUNDUP((MID(E191,3,1)+MID(E191,1,1))/2,0),1),0) -> 0 | S191: =IF(R191=0,P191,ROUND(P191/R191,3)) -> 1.248
A192: 100049 | B192: =B191+3 -> 20277 | C192: 20000#0.7|30000#0.7 | D192: 2|31#9#4 | E192: a#2|1#1#6.5|1#0.2#6.5#0|1#0.25#6.5#2 | F192: 2 | G192: =ROUNDUP((B192-20000)/3,0) -> 93 | H192: 灵巧 | I192: 3 | J192: =SUBSTITUTE(E192,"a",S192) -> 0.416#2|1#1#6.5|1#0.2#6.5#0|1#0.25#6.5#2 | K192: 1.248 | L192: 天麟2 | M192: 10048 | N192: =IF(--LEFT(C192,1)=2,MID(C192,5,1),"") -> 0 | O192: =IF(N192="",K192,IF(N192=0,ROUND(K192/3,3),ROUND(K192/N192,3))) -> #DIV/0! | P192: =IFERROR(O192,ROUND(K192/3,3)) -> 0.416 | Q192: =FIND("6",D192,1) -> #VALUE! | R192: =IFERROR(IF(Q192=1,ROUNDUP((MID(E192,3,1)+MID(E192,1,1))/2,0),1),0) -> 0 | S192: =IF(R192=0,P192,ROUND(P192/R192,3)) -> 0.416
... A194: 100051 | B194: =B193+3 -> 20283 | C194: 40001#0.7|10001#0.7 | D194: 1|24 | E194: a#2|1#0.45 | F194: 0 | G194: =ROUNDUP((B194-20000)/3,0) -> 95 | H194: 灵巧 | I194: 3 | J194: =SUBSTITUTE(E194,"a",S194) -> 1.248#2|1#0.45 | K194: 1.248 | L194: 小叶延始祖1 | M194: 43 | N194: =IF(--LEFT(C194,1)=2,MID(C194,5,1),"") | O194: =IF(N194="",K194,IF(N194=0,ROUND(K194/3,3),ROUND(K194/N194,3))) -> 1.248 | P194: =IFERROR(O194,ROUND(K194/3,3)) -> 1.248 | Q194: =FIND("6",D194,1) -> #VALUE! | R194: =IFERROR(IF(Q194=1,ROUNDUP((MID(E194,3,1)+MID(E194,1,1))/2,0),1),0) -> 0 | S194: =IF(R194=0,P194,ROUND(P194/R194,3)) -> 1.248
B195: =B144+1 -> 20134 | C195: 40001#0.7 | D195: 6 | E195: 3#3#a#1 | F195: 0 | G195: =ROUNDUP((B195-20000)/3,0) -> 45 | H195: 均衡 | I195: 5 | J195: =SUBSTITUTE(E195,"a",S195) -> 3#3#0.693#1 | K195: 2.08 | L195: 骷髅 | N195: =IF(--LEFT(C195,1)=2,MID(C195,5,1),"") | O195: =IF(N195="",K195,IF(N195=0,ROUND(K195/3,3),ROUND(K195/N195,3))) -> 2.08 | P195: =IFERROR(O195,ROUND(K195/3,3)) -> 2.08 | Q195: =FIND("6",D195,1) -> 1 | R195: =IFERROR(IF(Q195=1,ROUNDUP((MID(E195,3,1)+MID(E195,1,1))/2,0),1),0) -> 3 | S195: =IF(R195=0,P195,ROUND(P195/R195,3)) -> 0.693
B196: =B145+1 -> 20137 | C196: 40001#0.7 | D196: 1#13 | E196: a#1|1#0.1#2#5 | F196: 0 | G196: =ROUNDUP((B196-20000)/3,0) -> 46 | H196: 均衡 | I196: 5 | J196: =SUBSTITUTE(E196,"a",S196) -> 2.08#1|1#0.1#2#5 | K196: 2.08 | L196: 烛刃1 | N196: =IF(--LEFT(C196,1)=2,MID(C196,5,1),"") | O196: =IF(N196="",K196,IF(N196=0,ROUND(K196/3,3),ROUND(K196/N196,3))) -> 2.08 | P196: =IFERROR(O196,ROUND(K196/3,3)) -> 2.08 | Q196: =FIND("6",D196,1) -> #VALUE! | R196: =IFERROR(IF(Q196=1,ROUNDUP((MID(E196,3,1)+MID(E196,1,1))/2,0),1),0) -> 0 | S196: =IF(R196=0,P196,ROUND(P196/R196,3)) -> 2.08
B197: =B146+1 -> 20140 | C197: 30000#0.7|10000#0.7 | D197: 5|4 | E197: 1#0.15#4|1#0.3#6#2 | F197: 2 | G197: =ROUNDUP((B197-20000)/3,0) -> 47 | H197: 均衡 | I197: 5 | J197: =SUBSTITUTE(E197,"a",S197) -> 1#0.15#4|1#0.3#6#2 | K197: 2.08 | L197: 烛刃2 | N197: =IF(--LEFT(C197,1)=2,MID(C197,5,1),"") | O197: =IF(N197="",K197,IF(N197=0,ROUND(K197/3,3),ROUND(K197/N197,3))) -> 2.08 | P197: =IFERROR(O197,ROUND(K197/3,3)) -> 2.08 | Q197: =FIND("6",D197,1) -> #VALUE! | R197: =IFERROR(IF(Q197=1,ROUNDUP((MID(E197,3,1)+MID(E197,1,1))/2,0),1),0) -> 0 | S197: =IF(R197=0,P197,ROUND(P197/R197,3)) -> 2.08
B198: =B147+1 -> 20143 | C198: 40001#0.7 | D198: 1#3 | E198: a#1|0.5#1#3 | F198: 0 | G198: =ROUNDUP((B198-20000)/3,0) -> 48 | H198: 均衡 | I198: 5 | J198: =SUBSTITUTE(E198,"a",S198) -> 2.08#1|0.5#1#3 | K198: 2.08 | L198: 典狱官1 | N198: =IF(--LEFT(C198,1)=2,MID(C198,5,1),"") | O198: =IF(N198="",K198,IF(N198=0,ROUND(K198/3,3),ROUND(K198/N198,3))) -> 2.08 | P198: =IFERROR(O198,ROUND(K198/3,3)) -> 2.08 | Q198: =FIND("6",D198,1) -> #VALUE! | R198: =IFERROR(IF(Q198=1,ROUNDUP((MID(E198,3,1)+MID(E198,1,1))/2,0),1),0) -> 0 | S198: =IF(R198=0,P198,ROUND(P198/R198,3)) -> 2.08
B199: =B148+1 -> 20146 | C199: 20000#0.7 | D199: 2#4 | E199: a#2|2#0.2#6#4 | F199: 2 | G199: =ROUNDUP((B199-20000)/3,0) -> 49 | H199: 均衡 | I199: 5 | J199: =SUBSTITUTE(E199,"a",S199) -> 0.693#2|2#0.2#6#4 | K199: 2.08 | L199: 典狱官2 | N199: =IF(--LEFT(C199,1)=2,MID(C199,5,1),"") -> 0 | O199: =IF(N199="",K199,IF(N199=0,ROUND(K199/3,3),ROUND(K199/N199,3))) -> #DIV/0! | P199: =IFERROR(O199,ROUND(K199/3,3)) -> 0.693 | Q199: =FIND("6",D199,1) -> #VALUE! | R199: =IFERROR(IF(Q199=1,ROUNDUP((MID(E199,3,1)+MID(E199,1,1))/2,0),1),0) -> 0 | S199: =IF(R199=0,P199,ROUND(P199/R199,3)) -> 0.693
B200: =B149+1 -> 20149 | C200: 40001#0.7 | D200: 1#13 | E200: a#1|2#0.15#2#4 | F200: 0 | G200: =ROUNDUP((B200-20000)/3,0) -> 50 | H200: 均衡 | I200: 5 | J200: =SUBSTITUTE(E200,"a",S200) -> 2.08#1|2#0.15#2#4 | K200: 2.08 | L200: 符文骷髅 | N200: =IF(--LEFT(C200,1)=2,MID(C200,5,1),"") | O200: =IF(N200="",K200,IF(N200=0,ROUND(K200/3,3),ROUND(K200/N200,3))) -> 2.08 | P200: =IFERROR(O200,ROUND(K200/3,3)) -> 2.08 | Q200: =FIND("6",D200,1) -> #VALUE! | R200: =IFERROR(IF(Q200=1,ROUNDUP((MID(E200,3,1)+MID(E200,1,1))/2,0),1),0) -> 0 | S200: =IF(R200=0,P200,ROUND(P200/R200,3)) -> 2.08
B201: =B150+1 -> 20152 | C201: 40001#0.7 | D201: 1#3 | E201: a#1|0.7#1#2 | F201: 0 | G201: =ROUNDUP((B201-20000)/3,0) -> 51 | H201: 均衡 | I201: 5 | J201: =SUBSTITUTE(E201,"a",S201) -> 2.08#1|0.7#1#2 | K201: 2.08 | L201: 角羊 | N201: =IF(--LEFT(C201,1)=2,MID(C201,5,1),"") | O201: =IF(N201="",K201,IF(N201=0,ROUND(K201/3,3),ROUND(K201/N201,3))) -> 2.08 | P201: =IFERROR(O201,ROUND(K201/3,3)) -> 2.08 | Q201: =FIND("6",D201,1) -> #VALUE! | R201: =IFERROR(IF(Q201=1,ROUNDUP((MID(E201,3,1)+MID(E201,1,1))/2,0),1),0) -> 0 | S201: =IF(R201=0,P201,ROUND(P201/R201,3)) -> 2.08
B202: =B151+1 -> 20155 | C202: 40001#0.7 | D202: 1#4#13 | E202: a#1|3#0.3#6#4|3#0.12#1#4 | F202: 0 | G202: =ROUNDUP((B202-20000)/3,0) -> 52 | H202: 均衡 | I202: 5 | J202: =SUBSTITUTE(E202,"a",S202) -> 2.08#1|3#0.3#6#4|3#0.12#1#4 | K202: 2.08 | L202: 角羊王1 | N202: =IF(--LEFT(C202,1)=2,MID(C202,5,1),"") | O202: =IF(N202="",K202,IF(N202=0,ROUND(K202/3,3),ROUND(K202/N202,3))) -> 2.08 | P202: =IFERROR(O202,ROUND(K202/3,3)) -> 2.08 | Q202: =FIND("6",D202,1) -> #VALUE! | R202: =IFERROR(IF(Q202=1,ROUNDUP((MID(E202,3,1)+MID(E202,1,1))/2,0),1),0) -> 0 | S202: =IF(R202=0,P202,ROUND(P202/R202,3)) -> 2.08
B203: =B152+1 -> 20158 | C203: 20000#0.7 | D203: 2#3 | E203: a#2|0.8#1#2.5 | F203: 2 | G203: =ROUNDUP((B203-20000)/3,0) -> 53 | H203: 均衡 | I203: 5 | J203: =SUBSTITUTE(E203,"a",S203) -> 0.693#2|0.8#1#2.5 | K203: 2.08 | L203: 角羊王2 | N203: =IF(--LEFT(C203,1)=2,MID(C203,5,1),"") -> 0 | O203: =IF(N203="",K203,IF(N203=0,ROUND(K203/3,3),ROUND(K203/N203,3))) -> #DIV/0! | P203: =IFERROR(O203,ROUND(K203/3,3)) -> 0.693 | Q203: =FIND("6",D203,1) -> #VALUE! | R203: =IFERROR(IF(Q203=1,ROUNDUP((MID(E203,3,1)+MID(E203,1,1))/2,0),1),0) -> 0 | S203: =IF(R203=0,P203,ROUND(P203/R203,3)) -> 0.693
B204: =B153+1 -> 20161 | C204: 40001#0.7 | D204: 1#4#13 | E204: a#1|2#0.2#6#4|2#0.1#2#5 | F204: 0 | G204: =ROUNDUP((B204-20000)/3,0) -> 54 | H204: 均衡 | I204: 5 | J204: =SUBSTITUTE(E204,"a",S204) -> 2.08#1|2#0.2#6#4|2#0.1#2#5 | K204: 2.08 | L204: 地鼠 | N204: =IF(--LEFT(C204,1)=2,MID(C204,5,1),"") | O204: =IF(N204="",K204,IF(N204=0,ROUND(K204/3,3),ROUND(K204/N204,3))) -> 2.08 | P204: =IFERROR(O204,ROUND(K204/3,3)) -> 2.08 | Q204: =FIND("6",D204,1) -> #VALUE! | R204: =IFERROR(IF(Q204=1,ROUNDUP((MID(E204,3,1)+MID(E204,1,1))/2,0),1),0) -> 0 | S204: =IF(R204=0,P204,ROUND(P204/R204,3)) -> 2.08
B205: =B154+1 -> 20164 | C205: 40001#0.7|20000#0.7|30001#0.7 | D205: 1|3|4 | E205: a#1|1#3#6|6#0.08#6#1 | F205: 0 | G205: =ROUNDUP((B205-20000)/3,0) -> 55 | H205: 均衡 | I205: 5 | J205: =SUBSTITUTE(E205,"a",S205) -> 2.08#1|1#3#6|6#0.08#6#1 | K205: 2.08 | L205: 兔 | N205: =IF(--LEFT(C205,1)=2,MID(C205,5,1),"") | O205: =IF(N205="",K205,IF(N205=0,ROUND(K205/3,3),ROUND(K205/N205,3))) -> 2.08 | P205: =IFERROR(O205,ROUND(K205/3,3)) -> 2.08 | Q205: =FIND("6",D205,1) -> #VALUE! | R205: =IFERROR(IF(Q205=1,ROUNDUP((MID(E205,3,1)+MID(E205,1,1))/2,0),1),0) -> 0 | S205: =IF(R205=0,P205,ROUND(P205/R205,3)) -> 2.08
B206: =B155+1 -> 20167 | C206: 20211#0.7 | D206: 1 | E206: a#1 | F206: 0 | G206: =ROUNDUP((B206-20000)/3,0) -> 56 | H206: 均衡 | I206: 5 | J206: =SUBSTITUTE(E206,"a",S206) -> 2.08#1 | K206: 2.08 | L206: 巨猿1 | N206: =IF(--LEFT(C206,1)=2,MID(C206,5,1),"") -> 1 | O206: =IF(N206="",K206,IF(N206=0,ROUND(K206/3,3),ROUND(K206/N206,3))) -> 2.08 | P206: =IFERROR(O206,ROUND(K206/3,3)) -> 2.08 | Q206: =FIND("6",D206,1) -> #VALUE! | R206: =IFERROR(IF(Q206=1,ROUNDUP((MID(E206,3,1)+MID(E206,1,1))/2,0),1),0) -> 0 | S206: =IF(R206=0,P206,ROUND(P206/R206,3)) -> 2.08
... B296: =B245+1 -> 20285 | C296: 40001#0.7|10001#0.7 | D296: 1|24 | E296: a#2|1#0.45 | F296: 0 | G296: =ROUNDUP((B296-20000)/3,0) -> 95 | H296: 强壮 | I296: 7.9 | J296: =SUBSTITUTE(E296,"a",S296) -> 3.2864#2|1#0.45 | K296: 3.2864 | L296: 小叶延始祖1 | N296: =IF(--LEFT(C296,1)=2,MID(C296,5,1),"") | O296: =IF(N296="",K296,IF(N296=0,ROUND(K296/3,3),ROUND(K296/N296,3))) -> 3.2864 | P296: =IFERROR(O296,ROUND(K296/3,3)) -> 3.2864 | Q296: =FIND("6",D296,1) -> #VALUE! | R296: =IFERROR(IF(Q296=1,ROUNDUP((MID(E296,3,1)+MID(E296,1,1))/2,0),1),0) -> 0 | S296: =IF(R296=0,P296,ROUND(P296/R296,3)) -> 3.2864

Sheet 爬塔怪物技能设计
B1: 目标 | C1: 效果 | D1: 具体效果 | E1: 特点
B2: 20001#0.7|10111#0.7 | C2: 1#24 | D2: 单体伤害+单体治疗 | E2: 单体、治疗 | H2: 20000#0.7|10000#0.7 | I2: 2|24 | J2: 群体伤害+群体治疗
B3: 20001#0.7|10111#0.7 | C3: 1#5 | D3: 单体伤害+单体hot | E3: 单体、治疗 | H3: 20001#0.7|10111#0.7 | I3: 1|24 | J3: 单体伤害+单体治疗
B4: 20000#0.7|10000#0.7 | C4: 2#24 | D4: 群体伤害+群体治疗 | E4: 群体、治疗 | H4: 20000#0.7|10000#0.7 | I4: 2|5#4 | J4: 群体伤害+群体hot
B5: 20000#0.7|10000#0.7 | C5: 2#5 | D5: 群体伤害+群体hot | E5: 群体、治疗 | H5: 20000#0.7|10000#0.7 | I5: 2#4|5 | J5: 群体伤害+群体hot
B6: 20001#0.7 | C6: 1#3 | D6: 单体伤害+单体控 | E6: 单体、控制 | H6: 20000#0.7 | I6: 2#3 | J6: 群体伤害+群体控
B7: 20000#0.7 | C7: 2#3 | D7: 群体伤害+群体控 | E7: 群体、控制 | H7: 20001#0.7 | I7: 20 | J7: 单体+对控制额外伤害
B8: 20000#0.7|20003#0.7 | C8: 2|3 | D8: 群体伤害+几人控 | E8: 群体、控制 | H8: 20000#0.7 | I8: 35 | J8: 群体+被控额外受伤
B9: 20001#0.7 | C9: 20 | D9: 单体+对控制额外伤害 | E9: 单体、控制 | H9: 20001#0.7 | I9: 1#3 | J9: 单体伤害+单体控
B10: 20000#0.7 | C10: 20 | D10: 群体+对控制额外伤害 | E10: 群体、控制 | H10: 20001#0.7 | I10: 20 | J10: 单体+对控制额外伤害
B11: 20001#0.7 | C11: 30 | D11: 单体+对控制额外真伤 | E11: 单体、控制
B12: 20000#0.7 | C12: 30 | D12: 群体+对控制额外真伤 | E12: 群体、控制
B13: 20001#0.7 | C13: 35 | D13: 单体+被控额外受伤 | E13: 单体、控制
B14: 20000#0.7 | C14: 35 | D14: 群体+被控额外受伤 | E14: 群体、控制
B15: 20001#0.7 | C15: 1#13 | D15: 单体+dot | E15: 单体、dot | H15: 20001#0.7 | I15: 1#13 | J15: 单体+dot
B16: 20000#0.7 | C16: 2#13 | D16: 群体+dot | E16: 群体、dot | H16: 20000#0.7 | I16: 22 | J16: 群体+dot额外伤害
B17: 20000#0.7 | C17: 21 | D17: 群体+dot控制 | E17: 群体、dot | H17: 20000#0.7 | I17: 35 | J17: 群体+dot额外受伤
B18: 20000#0.7 | C18: 22 | D18: 群体+dot额外伤害 | E18: 群体、dot | H18: 20000#0.7 | I18: 21 | J18: 群体+dot控制
B19: 20001#0.7 | C19: 35 | D19: 单体+dot额外受伤 | E19: 单体、dot
B20: 20000#0.7 | C20: 35 | D20: 群体+dot额外受伤 | E20: 群体、dot
B21: 20001#0.7|10001#0.7 | C21: 1#4 | D21: 单体+加时间buff | E21: 单体、加buff | H21: 20001#0.7|10000#0.7 | I21: 1#4 | J21: 单体+群加攻
B22: 20000#0.7|10000#0.7 | C22: 2#4 | D22: 群体+加时间buff | E22: 群体、加buff | H22: 20000#0.7|10000#0.7 | I22: 2#4 | J22: 群攻+群加防
B23: 20001#0.7|10001#0.7 | C23: 1#36 | D23: 单体+加层数buff | E23: 单体、加buff | H23: 20001#0.7|10000#0.7 | I23: 1#4 | J23: 单体+群加速
B24: 20000#0.7|10000#0.7 | C24: 2#36 | D24: 群体+加层数buff | E24: 群体、加buff | H24: 20000#0.7|10000#0.7 | I24: 2#4 | J24: 群体+群加暴
B25: 20001#0.7 | C25: 1#4 | D25: 单体+加时间debuff | E25: 单体、加debuff | H25: 20001#0.7|10321#0.7 | I25: 1#4 | J25: 单体+单加攻
B26: 20000#0.7 | C26: 2#4 | D26: 群体+加时间debuff | E26: 群体、加debuff | H26: 20001#0.7|20000#0.7 | I26: 1#4 | J26: 单体+群减攻
B27: 20001#0.7 | C27: 1#16 | D27: 单体+偷属性 | E27: 单体、加debuff | H27: 20000#0.7 | I27: 2#4 | J27: 群攻+群减防
B28: 20000#0.7 | C28: 2#16 | D28: 群体+偷属性 | E28: 群体、加debuff | H28: 20001#0.7|20000#0.7 | I28: 1#4 | J28: 单体+群减速
B29: 20001#0.7 | C29: 1#36 | D29: 单体+加层数debuff | E29: 单体、加debuff | H29: 20000#0.7 | I29: 2#4 | J29: 群体+群减暴
B30: 20000#0.7 | C30: 2#36 | D30: 群体+加层数debuff | E30: 群体、加debuff
B31: 20001#0.7|10001#0.7 | C31: 1#8 | D31: 单体+减单次cd | E31: 单体、减cd
B32: 20000#0.7|10000#0.7 | C32: 2#8 | D32: 群体+减单次cd | E32: 群体、减cd
B33: 20001#0.7|10001#0.7 | C33: 1#32 | D33: 单体+减时间cd | E33: 单体、减cd
B34: 20000#0.7|10000#0.7 | C34: 2#32 | D34: 群体+减时间cd | E34: 群体、减cd
B35: 20001#0.7 | C35: 1#8 | D35: 单体+加单次cd | E35: 单体、加cd
B36: 20000#0.7 | C36: 2#8 | D36: 群体+加单次cd | E36: 群体、加cd
B37: 20001#0.7 | C37: 1#32 | D37: 单体+加时间cd | E37: 单体、加cd
B38: 20000#0.7 | C38: 2#32 | D38: 群体+加时间cd | E38: 群体、加cd
B39: 20001#0.7 | C39: 6 | D39: 单体 | E39: 单体
B40: 20001#0.7 | C40: 19 | D40: 单体 | E40: 单体
B41: 20000#0.7 | C41: 7 | D41: 群体 | E41: 群体
B42: 20000#0.7|30001#0.7 | C42: 3|4 | D42: 嘲讽+减伤 | E42: 嘲讽 | H42: 20000#0.7|30001#0.7 | I42: 3|4 | J42: 嘲讽+减伤
B43: 20001#0.7 | C43: 11 | D43: 单体+对职业额外伤害 | E43: 单体、职业 | H43: 20001#0.7|20000#0.7|30000#0.7 | I43: 1|3|4#4 | J43: 嘲讽+加双抗
B44: 20000#0.7 | C44: 11 | D44: 群体+对职业额外伤害 | E44: 群体、职业
B45: 20001#0.7 | C45: 17 | D45: 单体+对职业必暴击 | E45: 单体、职业
B46: 20001#0.7 | C46: 29 | D46: 单体+对职业额外伤害 | E46: 单体、职业
B47: 20001#0.7 | C47: 34 | D47: 单体+对职业debuff | E47: 单体、职业
B48: 20000#0.7 | C48: 34 | D48: 群体+对职业debuff | E48: 群体、职业
B49: 20001#0.7 | C49: 3 | D49: 单体禁疗 | E49: 禁疗 | H49: 20002#0.7 | I49: 1#3 | J49: 两人+禁疗
B50: 20000#0.7 | C50: 3 | D50: 群体禁疗 | E50: 禁疗
