Workbook
Name 开发角色Data: '[1]角色类型&星级Ver0.1'!$B$6:$B$33

Sheet RecommendTeam
B1: Id | C1: Type | D1: Sort | E1: Name | F1: Desc | G1: HeroList | H1: HeroDesc | I1: IsShowInTeam
B2: int | C2: int | D2: int | E2: String | F2: String | G2: mut,int#int,1 | H2: String | I2: int
B3: 3 | C3: 3 | D3: 3 | E3: 3 | F3: 3 | G3: 3 | H3: 3 | I3: 3
B4: id | C4: 1新手、2综合、3人、4佛、5妖、6道、 | D4: 排序 | E4: 流派名称 | F4: 流派特色描述 | G4: 流派神将列表 按照站位顺序填写六个神将 神将显示为默认星级 | H4: 每个位置的神将功能描述 | I4: 是否显示在编队界面的推荐队伍中
A5: 默认值 | E5: 0
A6: 正确性校对
A7: 校对值
B8: 1 | C8: 1 | D8: 1 | E8: <size=40>火毒双煞</size> | F8: <size=34><color=#1CC853>Đặc sắc môn phái:</color></size>\nThông qua kỹ năng của Thông Thiên Giáo Chủ và Na Tra, sở hữu khả năng gây sát thương liên tục. Sát thương liên tục này bỏ qua phòng thủ, độ sát thương cực kỳ cao, kết hợp với hào quang của Nhiên Đăng, Nữ Nhi Quốc Vương và Thần Bồ Đề, dù là trong chiến đấu hay vượt ải đều là sự kết hợp hoàn hảo. Hạn Bạt cũng có thể được thay thế bằng Hằng Nga hoặc Tôn Ngộ Không. | G8: 10014#10041#10089#10009#10033#10001 | H8: Vị trí 1: Nezha, đốt cháy kẻ địch, phong ấn hắn bất khả chiến bại; Vị trí số 2: Thủ lĩnh giáo phái Tongtian, đầu độc, phong ấn hồi máu, bỏ qua sát thương phòng thủ; Vị trí số 3: Đốt đèn, tấn công quầng sáng, tái tạo cơn giận ở hàng sau; : Con gái Vua, lá chắn bất khả chiến bại, hào quang tấn công, tái tạo cơn giận #5: Thần cây bồ đề, điều trị một mục tiêu, hỗ trợ hào quang #6: Quỷ hạn hán, thưởng sát thương, tái tạo hành động; | I8: 1
B9: 2 | C9: 2 | D9: 2 | E9: <size=40>极限收割</size> | F9: <size=34><color=#1CC853>Đặc sắc môn phái:</color></size>\nThái Thượng Lão Quân khởi đầu bằng việc giảm nộ khí, khống chế trận địa và dồn ép sinh lực đối thủ. Bồ Đề và Nhiên Đăng có thể kích hoạt công kích truy đuổi của Tôn Ngộ Không, nhanh chóng tăng sát thương cho Tôn Ngộ Không, giúp hắn thu thập các đối thủ còn sót lại và liên tục truy sát, làm sạch trận địa. Nữ Nhi Quốc Vương và Ngưu Ma Vương với khả năng hồi nộ kép vô địch, cung cấp khả năng sinh tồn mạnh mẽ. Trận hình này hiện tại là đội hình mạnh nhất trong phiên bản này, dù là chiến đấu hay vượt ải đều không có đối thủ, tuy nhiên điểm yếu là yêu cầu phát triển cao, Tôn Ngộ Không và Thái Thượng Lão Quân cần đạt đến Phi Thăng 5. | G9: 10026#10033#10089#10023#10009#10006 | H9: Hạng 1: Taishang Laojun, hóa giải sát thương tập thể, trấn áp huyết áp; Hạng 2: Thần thụ bồ đề, trị liệu một mục tiêu, hỗ trợ hào quang, phát động đòn đánh cơ bản của Tôn Ngộ Không gây sát thương chồng chéo; , kích hoạt đòn tấn công cơ bản của Tôn Ngộ Không; #4: Tôn Ngộ Không, thu hoạch, dồn sát thương, truy đuổi; #5: Con gái Vương, khiên bất khả chiến bại, hào quang tấn công, tái sinh cơn giận #6: Bull Demon King, khiên bất khả chiến bại, hào quang tấn công, tái tạo lại sự tức giận; | I9: 1
B10: 3 | C10: 3 | D10: 3 | E10: <size=40>人皇无敌</size> | F10: <size=34><color=#1CC853>Đặc sắc môn phái:</color></size>\nNhân tộc thần tướng có năng lực tổng hợp mạnh mẽ, công thủ vẹn toàn.\n<size=34><color=#1CC853>Chiến lược trận hình:</color></size>\nLấy Hạn Bạt làm trọng tâm tấn công, Nữ Nhi Quốc Vương bảo vệ đồng minh và nâng cao năng lực tấn công, cùng với khả năng khống chế đối thủ. Na Tra kết hợp với pháp thuật có thể phong ấn khiên vô địch của đối phương và sở hữu hiệu ứng sát thương liên tục, kết hợp với sự khống chế của Đông Lăng Thánh Mẫu, đây chính là đội hình vô địch trong bốn đại trận pháp. | G10: 10014#10009#10001#10004#10021#10016 | H10: Vị trí thứ nhất: Nezha, đốt cháy, phong ấn bất khả chiến bại; vị trí thứ hai: Nữ vương, lá chắn bất khả chiến bại, hào quang tấn công, hồi phục tức giận, khống chế; Vị trí: Đạo sĩ Cihang Cihang Đạo sĩ, tất cả người chữa lành, điều trị liên tục; #5: Đức Mẹ Dongling, tất cả choáng váng, kỹ năng bổ sung khi chết #6: Wu Gang, khiên người, giảm sát thương cao, | I10: 1
B11: 4 | C11: 4 | D11: 1 | E11: <size=40>佛主显圣</size> | F11: <size=34><color=#1CC853>Đặc sắc môn phái:</color></size>\nChư Phật thần tướng sở hữu năng lực duy trì sinh lực cực cao.\n<size=34><color=#1CC853>Chiến lược trận hình:</color></size>\nLấy Tôn Ngộ Không làm trọng tâm tấn công, mỗi lần công kích sẽ tăng cường sức mạnh bản thân. Kết hợp với khả năng hồi phục sinh lực của Thần Bồ Đề và Thiện Tài Đồng Tử, chiến đấu đến cùng sẽ là kẻ chiến thắng cuối cùng. | G11: 10023#10089#10033#10007#10010#10022 | H11: Vị trí thứ nhất: Tôn Ngộ Không, cốt lõi tuyệt đối của đội hình, sản lượng bùng nổ, thu hoạch không giới hạn; vị trí thứ 2: Ran Deng, hào quang tấn công, hồi phục tức giận hàng sau; vị trí thứ 3: Thần Thụ Bồ Đề, hào quang giảm sát thương, hồi phục tức giận, hồi phục; đồng đội; Vị trí số 4: Shancai Boy, chữa lành mọi vết thương; Vị trí số 5: Hoàng đế Shitian, lá chắn người, giảm sát thương ở hàng trước; Vị trí số 6: Bồ Đề Đạt Ma, làm choáng ở hàng sau, giảm giận dữ, thêm kỹ năng; | I11: 1
B12: 5 | C12: 5 | D12: 1 | E12: <size=40>妖王再临</size> | F12: <size=34><color=#1CC853>Đặc sắc môn phái:</color></size>\nYêu tộc thần tướng có khả năng bộc phát sức mạnh cực kỳ lớn.\n<size=34><color=#1CC853>Chiến lược trận hình:</color></size>\nLấy Lôi Chấn Tử làm trọng tâm tấn công, Tinh Vệ bảo đảm lượng nộ khí. Điều đáng nói là Trư Bát Giới sở hữu năng lực phản sát thương mạnh mẽ, và sát thương phản hồi đều là sát thương thực sự bỏ qua phòng thủ, có thể khiến đối phương chủ lực bị phản kích đến chết sau khi ra chiêu. Kết hợp cùng các thần tướng khác, ai dám tranh phong? | G12: 10011#10003#10006#10018#10008#10020 | H12: Hạng 1: Lôi Chân Tử, tấn công quần thể, thu lấy phẫn nộ; hạng 2: Chu Bát Giới, khiên người, phản sát thương, hút máu hạng 3: Ngưu Ma Vương, khiên bất khả chiến bại, khí tức tấn công, tái sinh phẫn nộ; : Cửu Mệnh Cát , chữa bệnh, chữa vết thương, dỡ bỏ lệnh cấm chữa bệnh. ; #5: Jingwei, hồi phục tức giận, hào quang chí mạng, không tiêu hao kỹ năng #6: Black Bird, choáng dọc, đường dọc để giảm giận, làm choáng kẻ địch thấp máu nhất; | I12: 1
B13: 6 | C13: 6 | D13: 1 | E13: <size=40>和光同尘</size> | F13: <size=34><color=#1CC853>Đặc sắc môn phái:</color></size>\nĐạo tộc thần tướng sở hữu khả năng giảm nộ khí rất cao, thông qua việc hạ thấp nộ khí của đối phương để khống chế sức mạnh của họ.\n<size=34><color=#1CC853>Chiến lược trận hình:</color></size>\nLấy Thái Thượng Lão Quân làm trọng tâm tấn công, Diêu Trì Thánh Mẫu cung cấp nộ khí hỗ trợ tấn công, phối hợp với các nhân vật khác hỗ trợ hồi phục và khống chế, nhanh chóng làm giảm nộ khí của đối phương và thu hoạch chiến công. | G13: 10026#10041#10024#10043#10019#10088 | H13: Vị trí 1: Taishang Laojun, đầu ra chính, giảm giận dữ cho tất cả, tăng sát thương và cộng dồn Vị trí số 2: Master Tongtian, đầu độc, chữa bệnh, bỏ qua sát thương phòng thủ Vị trí số 3: Jiang Ziya, hồi máu cho tất cả, hồi sinh, bổ sung kỹ năng; khi chết; #4: Đức Mẹ Yaochi, hào quang tấn công, giảm giận dữ trên một mục tiêu và khôi phục cơn giận trên một mục tiêu duy nhất; #5: Golden Spirit Madonna, lá chắn của con người, giảm giận dữ khi bị thương; , gây choáng ở hàng ghế đầu, giảm bớt cơn giận ở hàng ghế đầu; | I13: 1

Sheet Sheet1
R3: ，
P4: 1位： | Q4: 姑获鸟 | R4: =VLOOKUP(Q4,[2]HeroConfig!$F:$G,2,FALSE) | S4: =VLOOKUP(Q4,Sheet2!E:F,2,FALSE) | V4: =P4&Q4&$R$3&S4 | Z4: =V4&V5&V6&V7&V8&V9
P5: #2位： | Q5: 申公豹 | R5: =VLOOKUP(Q5,[2]HeroConfig!$F:$G,2,FALSE) | S5: =VLOOKUP(Q5,Sheet2!E:F,2,FALSE) | V5: =P5&Q5&$R$3&S5
P6: #3位： | Q6: 达摩 | R6: =VLOOKUP(Q6,[2]HeroConfig!$F:$G,2,FALSE) | S6: =VLOOKUP(Q6,Sheet2!E:F,2,FALSE) | V6: =P6&Q6&$R$3&S6
P7: #4位： | Q7: 阎魔王 | R7: =VLOOKUP(Q7,[2]HeroConfig!$F:$G,2,FALSE) | S7: 治疗，光环辅助； | V7: =P7&Q7&$R$3&S7
P8: #5位： | Q8: 白骨精 | R8: =VLOOKUP(Q8,[2]HeroConfig!$F:$G,2,FALSE) | S8: =VLOOKUP(Q8,Sheet2!E:F,2,FALSE) | V8: =P8&Q8&$R$3&S8
A9: 新手 | B9: 10003 | C9: 10005 | D9: 10021 | E9: 10016 | F9: 10007 | G9: 叶辽 | H9: 兰卿 | I9: 清然 | J9: 枫元正 | K9: 应茹 | L9: =_xlfn.TEXTJOIN("#",TRUE,B9:F9) | P9: #6位： | Q9: 精卫 | R9: =VLOOKUP(Q9,[2]HeroConfig!$F:$G,2,FALSE) | S9: =VLOOKUP(Q9,Sheet2!E:F,2,FALSE) | V9: =P9&Q9&$R$3&S9
A10: 风 | B10: 10002 | C10: 10004 | D10: 10008 | E10: 10019 | F10: 10022 | G10: 石御霏 | H10: 孔谦 | I10: 颜无雍 | J10: 云 | K10: 云灵 | L10: =_xlfn.TEXTJOIN("#",TRUE,B10:F10)
A11: 地 | B11: 10003 | C11: 10005 | D11: 10011 | E11: 10013 | F11: 10018 | G11: 叶辽 | H11: 兰卿 | I11: 尹正霄 | J11: 白梦凡 | K11: 紫苏 | L11: =_xlfn.TEXTJOIN("#",TRUE,B11:F11) | P11: 1位： | Q11: 观音菩萨 | R11: =VLOOKUP(Q11,[2]HeroConfig!$F:$G,2,FALSE) | S11: =VLOOKUP(Q11,Sheet2!E:F,2,FALSE) | V11: =P11&Q11&$R$3&S11 | Z11: =V11&V12&V13&V14&V15&V16
A12: 水火 | B12: 10001 | C12: 10012 | D12: 10006 | E12: 10010 | F12: 10020 | G12: 夏侯鸿天 | H12: 慕容子期 | I12: 朱贺 | J12: 颜祈佳 | K12: 司空染 | L12: =_xlfn.TEXTJOIN("#",TRUE,B12:F12) | P12: #2位： | Q12: 女儿国王 | R12: =VLOOKUP(Q12,[2]HeroConfig!$F:$G,2,FALSE) | S12: =VLOOKUP(Q12,Sheet2!E:F,2,FALSE) | V12: =P12&Q12&$R$3&S12
A13: 光暗 | B13: 10009 | C13: 10014 | D13: 10017 | E13: 10015 | F13: 10023 | G13: 祁菲 | H13: 颜无诡 | I13: 解幽 | J13: 凝儿 | K13: 荧荧 | L13: =_xlfn.TEXTJOIN("#",TRUE,B13:F13) | P13: #3位： | Q13: 阎魔王 | R13: =VLOOKUP(Q13,[2]HeroConfig!$F:$G,2,FALSE) | S13: 治疗，光环辅助； | V13: =P13&Q13&$R$3&S13
P14: #4位： | Q14: 燃灯 | R14: =VLOOKUP(Q14,[2]HeroConfig!$F:$G,2,FALSE) | S14: =VLOOKUP(Q14,Sheet2!E:F,2,FALSE) | V14: =P14&Q14&$R$3&S14
P15: #5位： | Q15: 姜子牙 | R15: =VLOOKUP(Q15,[2]HeroConfig!$F:$G,2,FALSE) | S15: =VLOOKUP(Q15,Sheet2!E:F,2,FALSE) | V15: =P15&Q15&$R$3&S15
P16: #6位： | Q16: 牛魔王 | R16: =VLOOKUP(Q16,[2]HeroConfig!$F:$G,2,FALSE) | S16: =VLOOKUP(Q16,Sheet2!E:F,2,FALSE) | V16: =P16&Q16&$R$3&S16
P20: 玉皇大帝 | Q20: =VLOOKUP(P20,[2]HeroConfig!$C:$D,2,FALSE) | R20: 雷震子 | S20: =VLOOKUP(R20,[2]HeroConfig!$C:$D,2,FALSE) | T20: 孙悟空 | U20: =VLOOKUP(T20,[2]HeroConfig!$C:$D,2,FALSE) | V20: 哪吒 | W20: =VLOOKUP(V20,[2]HeroConfig!$C:$D,2,FALSE) | Y20: 通天教主 | Z20: =VLOOKUP(Y20,[2]HeroConfig!$C:$D,2,FALSE)
P21: 通天教主 | Q21: =VLOOKUP(P21,[2]HeroConfig!$C:$D,2,FALSE) | R21: 猪八戒 | S21: =VLOOKUP(R21,[2]HeroConfig!$C:$D,2,FALSE) | T21: 燃灯 | U21: =VLOOKUP(T21,[2]HeroConfig!$C:$D,2,FALSE) | V21: 女儿国王 | W21: =VLOOKUP(V21,[2]HeroConfig!$C:$D,2,FALSE) | Y21: 女儿国王 | Z21: =VLOOKUP(Y21,[2]HeroConfig!$C:$D,2,FALSE)
P22: 姜子牙 | Q22: =VLOOKUP(P22,[2]HeroConfig!$C:$D,2,FALSE) | R22: 牛魔王 | S22: =VLOOKUP(R22,[2]HeroConfig!$C:$D,2,FALSE) | T22: 菩提树神 | U22: =VLOOKUP(T22,[2]HeroConfig!$C:$D,2,FALSE) | V22: 蚩尤 | W22: =VLOOKUP(V22,[2]HeroConfig!$C:$D,2,FALSE) | Y22: 牛魔王 | Z22: =VLOOKUP(Y22,[2]HeroConfig!$C:$D,2,FALSE)
P23: 王母娘娘 | Q23: =VLOOKUP(P23,[2]HeroConfig!$C:$D,2,FALSE) | R23: 九命猫 | S23: =VLOOKUP(R23,[2]HeroConfig!$C:$D,2,FALSE) | T23: 唐僧 | U23: =VLOOKUP(T23,[2]HeroConfig!$C:$D,2,FALSE) | V23: 慈航道人 | W23: =VLOOKUP(V23,[2]HeroConfig!$C:$D,2,FALSE) | Y23: 燃灯 | Z23: =VLOOKUP(Y23,[2]HeroConfig!$C:$D,2,FALSE)
P24: 钟馗 | Q24: =VLOOKUP(P24,[2]HeroConfig!$C:$D,2,FALSE) | R24: 精卫 | S24: =VLOOKUP(R24,[2]HeroConfig!$C:$D,2,FALSE) | T24: 孔雀明王 | U24: =VLOOKUP(T24,[2]HeroConfig!$C:$D,2,FALSE) | V24: 东陵圣母 | W24: =VLOOKUP(V24,[2]HeroConfig!$C:$D,2,FALSE) | Y24: 王母娘娘 | Z24: =VLOOKUP(Y24,[2]HeroConfig!$C:$D,2,FALSE)
P25: 申公豹 | Q25: =VLOOKUP(P25,[2]HeroConfig!$C:$D,2,FALSE) | R25: 姑获鸟 | S25: =VLOOKUP(R25,[2]HeroConfig!$C:$D,2,FALSE) | T25: 达摩 | U25: =VLOOKUP(T25,[2]HeroConfig!$C:$D,2,FALSE) | V25: 吴刚 | W25: =VLOOKUP(V25,[2]HeroConfig!$C:$D,2,FALSE) | Y25: 菩提树神 | Z25: =VLOOKUP(Y25,[2]HeroConfig!$C:$D,2,FALSE)
Q26: #
Q27: =Q20&$Q$26&Q21&$Q$26&Q22&$Q$26&Q23&$Q$26&Q24&$Q$26&Q25 | S27: =S20&$Q$26&S21&$Q$26&S22&$Q$26&S23&$Q$26&S24&$Q$26&S25 | U27: =U20&$Q$26&U21&$Q$26&U22&$Q$26&U23&$Q$26&U24&$Q$26&U25 | W27: =W20&$Q$26&W21&$Q$26&W22&$Q$26&W23&$Q$26&W24&$Q$26&W25 | Z27: =Z20&$Q$26&Z21&$Q$26&Z22&$Q$26&Z23&$Q$26&Z24&$Q$26&Z25

Sheet Sheet2
B1: 白素贞 | C1: 后排输出，追加普攻，伤害叠加；
B2: 女儿国王 | C2: 无敌盾，攻击光环，回怒； | E2: 杨戬 | F2: 收割，斩杀；
B3: 哪吒 | C3: 灼烧敌人，封无敌； | E3: 哪吒 | F3: 灼烧敌人，封无敌；
B4: 妲己 | C4: 前排沉默，技能无消耗； | E4: 女儿国王 | F4: 无敌盾，攻击光环，回怒；
B5: 雷震子 | C5: 核心输出，追加技能； | E5: 蚩尤 | F5: 伤害加成，行动回怒；
B6: 孙悟空 | C6: 纵排输出，增伤叠加追加普攻； | E6: 达摩 | F6: 后排眩晕，减怒，追加技能；
B7: 女儿国王 | C7: 无敌盾，攻击光环，回怒； | E7: 孙悟空 | F7: 纵排输出，增伤叠加追加普攻；
B8: 通天教主 | C8: 中毒，封治疗，无视防御的伤害； | E8: 不动明王 | F8: 承伤反击，暴力输出；
B9: 申公豹 | C9: 前排眩晕，前排减怒； | E9: 燃灯 | F9: 攻击光环，后排回怒；
B10: 孔雀明王 | C10: 肉盾，前排减伤； | E10: 观音菩萨 | F10: 双纵排输出，追加技能；
B11: 女儿国王 | C11: 无敌盾，攻击光环，回怒； | E11: 牛魔王 | F11: 光环辅助，无敌护盾；
B12: 女儿国王 | C12: 无敌盾，攻击光环，回怒； | E12: 精卫 | F12: 回怒，暴击光环，技能无消耗；
B13: 哪吒 | C13: 阵容核心，纵火灼烧； | E13: 敖丙 | F13: 爆发，收割，追击；
... B40: 吴刚 | C40: 肉盾，高额减伤，无敌盾； | E40: 阎魔王 | F40: 治疗，光环辅助；
B41: 杨戬 | C41: 收割，斩杀；
B42: 通天教主 | C42: 中毒，封治疗，无视防御的伤害；
B43: 通天教主 | C43: 中毒，封治疗，无视防御的伤害；
B44: 通天教主 | C44: 中毒，封治疗，无视防御的伤害；
B45: 通天教主 | C45: 中毒，封治疗，无视防御的伤害；
B46: 猪八戒 | C46: 肉盾、反伤、吸血；
B47: 达摩 | C47: 后排眩晕，减怒，追加技能；
B48: 牛魔王 | C48: 光环辅助，无敌护盾；
B49: 蚩尤 | C49: 伤害加成，行动回怒；
B50: 哪吒 | C50: 纵火灼烧；
B51: 猪八戒 | C51: 肉盾、反伤、吸血；
B52: 哪吒 | C52: 纵火灼烧；
... B161: 嫦娥 | C161: 单点收割，高爆发.

Sheet 原来的配置保存
B2: 1 | C2: 3 | D2: 3 | E2: <size=40>永动输出队</size> | F2: <size=34><color=#00FF66>流派特色：</color></size>\n妖系神将可以通过技能效果快速的回复怒气，从而实现技能的连续释放。通过治疗减伤和肉盾的配合，保障输出生存。\n<size=34><color=#00FF66>阵容思路：</color></size>\n以雷震子为核心对敌人造成巨额伤害，白素贞协助输出，猪八戒作为肉盾抵挡伤害，九命猫、牛魔王和精卫为全队提供治疗、无敌盾、光环和回怒等辅助，实现续航永动。 | G2: 10002#10003#10018#10011#10006#10008 | H2: 1位：白素贞，后排输出，追加普攻，伤害叠加；#2位：猪八戒，肉盾反伤，吸血；#3位：九命猫，治疗，受伤治疗；#4位：雷震子，核心输出，追加技能；#5位：牛魔王，无敌盾，攻击光环，回怒；#6位：精卫，回怒，暴击光环，技能无消耗. | I2: 1
B3: 2 | C3: 3 | D3: 1 | E3: <size=40>灭世惊雷</size> | F3: <size=34><color=#00FF66>流派特色：</color></size>\n五保一，其余五人提供各种辅助，以雷震子为核心造成毁天灭地的输出。 | G3: 10009#10011#10043#10006#10033#10089 | H3: 1位：女儿国王，无敌盾，攻击光环，回怒；#2位：雷震子，阵容核心，输出毁天灭地；#3位：王母娘娘，攻击光环，单体减怒，单体回怒；#4位：牛魔王，攻击光环，回怒，无敌盾；#5位：菩提树神，减伤光环，回怒，治疗队友；#6位：燃灯，攻击光环，后排回怒. | I3: 1
B4: 3 | C4: 3 | D4: 4 | E4: <size=40>妖系混搭队</size> | F4: <size=34><color=#00FF66>流派特色：</color></size>\n各系输出辅助混搭，伤害最大化，快速结束战斗 | G4: 10014#10011#10085#10009#10089#10006 | H4: 1位：哪吒，灼烧敌人，封无敌；#2位：雷震子，群体爆发输出；#3位：敖丙，爆发，收割，追击；#4位：女儿国王，无敌盾，回怒，攻击光环；#5位：燃灯，攻击光环，回怒；#6位：牛魔王，攻击光环，无敌盾，回怒. | I4: 1
B5: 4 | C5: 3 | D5: 5 | E5: <size=40>永动控制队</size> | F5: <size=34><color=#00FF66>流派特色：</color></size>\n妖系神将快速回复怒气的特性，可以保证对进行持续的控制。从而给输出提供足够的输出空间。\n<size=34><color=#00FF66>阵容思路：</color></size>\n以雷震子为输出核心配合其他拥有控制技能的角色，达到持续输出 | G5: 10005#10020#10018#10011#10006#10008 | H5: 1位：妲己，前排沉默，技能无消耗；#2位：姑获鸟，纵排眩晕，纵排减怒；#3位：九命猫，治疗，受伤治疗；#4位：雷震子，输出核心，追加技能；#5位：牛魔王，无敌盾，攻击光环，回怒；#6位：精卫，回怒，暴击光环，技能无消耗. | I5: 1
B6: 5 | C6: 3 | D6: 6 | E6: <size=40>万妖来朝</size> | F6: <size=34><color=#00FF66>流派特色：</color></size>\n雷震子核心爆炸输出，敖丙、白素贞收割追击，配合九命猫、精卫和牛魔王辅助保命，快速结束战斗 | G6: 10011#10002#10085#10008#10006#10018 | H6: 1位：雷震子，核心输出，追加技能；#2位：白素贞，后排输出，追加普攻，增伤叠加；#3位：敖丙，爆发，收割，追击；#4位：精卫，回怒，暴击光环，技能无消耗；#5位：牛魔王，无敌盾，攻击光环，回怒；#6位：九命猫，治疗，受伤治疗. | I6: 1
B7: 6 | C7: 2 | D7: 3 | E7: <size=40>暴力输出队</size> | F7: <size=34><size=34><color=#00FF66>流派特色：</color></size>\n佛系神将拥有极高的输出能力，通过暴力的输出来快速解决敌人。通过输出之间的配合来加强输出能力。\n<size=34><color=#00FF66>阵容思路：</color></size>\n以孙悟空为核心输出，降龙罗汉辅助输出，配合其他角色辅助治疗控制，平稳输出</size> | G7: 10023#10022#10007#10012#10015#10089 | H7: 1位：孙悟空，纵排输出，增伤叠加追加普攻；#2位：达摩，后排眩晕，减怒，追加技能；#3位：唐僧，全体治疗，受伤治疗；#4位：降龙罗汉，前排输出，增伤叠加，追加普攻；#5位：伏虎罗汉，单点收割，高爆发，击杀后必暴击；#6位：燃灯，攻击光环，后排回怒. | I7: 1
B8: 7 | C8: 2 | D8: 1 | E8: <size=40>踏碎凌霄</size> | F8: <size=34><color=#00FF66>流派特色：</color></size>\n以孙悟空为核心，其他角色辅助配合，孙悟空爆炸输出无限收割 | G8: 10009#10023#10043#10006#10089#10008 | H8: 1位：女儿国王，无敌盾，攻击光环，回怒；#2位：孙悟空，阵容绝对核心，爆炸输出，无限收割；#3位：王母娘娘，攻击光环，单体减怒，单体回怒；#4位：牛魔王，无敌盾，攻击光环，回怒；#5位：燃灯，攻击光环，后排回怒；#6位：精卫，回怒，暴击光环，技能无消耗. | I8: 1
B9: 8 | C9: 2 | D9: 4 | E9: <size=40>佛系混搭队</size> | F9: <size=34><color=#00FF66>流派特色：</color></size>\n不动明王承伤复活，孙悟空、通天教主输出配合辅助治疗增益，平稳输出 | G9: 10041#10086#10009#10023#10033#10089 | H9: 1位：通天教主，中毒，封治疗，无视防御的伤害；#2位：不动明王，承伤反击，暴力输出；#3位：女儿国王，无敌盾，攻击光环，回怒；#4位：孙悟空，纵排输出，增伤叠加追加普攻；#5位：菩提树神，减伤光环，回怒，治疗队友；#6位：燃灯，攻击光环，后排回怒. | I9: 1
B10: 9 | C10: 2 | D10: 5 | E10: <size=40>无限眩晕</size> | F10: <size=34><color=#00FF66>流派特色：</color></size>\n达摩、申公豹控住，通天教主核心输出，菩提树神、精卫、牛魔王回怒辅助，达到永动无限控制 | G10: 10088#10041#10022#10006#10008#10033 | H10: 1位：申公豹，前排眩晕，前排减怒；#2位：通天教主，核心输出，中毒，封治疗，无视防御的伤害；#3位：达摩，后排眩晕，减怒，追加技能；#4位：牛魔王，无敌盾，攻击光环，回怒；#5位：精卫，回怒，暴击光环，技能无消耗；#6位：菩提树神，减伤光环，回怒，治疗队友. | I10: 0
B11: 10 | C11: 2 | D11: 6 | E11: <size=40>暴力控制队</size> | F11: <size=34><color=#00FF66>流派特色：</color></size>\n佛系神将的输出能力，搭配其他治疗控制等，来最大化的保障输出的生存和输出空间。\n<size=34><color=#00FF66>阵容思路：</color></size>\n孔雀明王肉盾减伤，孙悟空核心输出，其余角色治疗辅助，控制消耗 | G11: 10010#10022#10007#10023#10033#10089 | H11: 1位：孔雀明王，肉盾，前排减伤；#2位：达摩，后排眩晕，减怒，追加技能；#3位：唐僧，全体治疗，受伤治疗；#4位：孙悟空，纵排输出，增伤叠加追加普攻；#5位：菩提树神，减伤光环，回怒，治疗队友；#6位：燃灯，攻击光环，后排回怒. | I11: 1
B12: 11 | C12: 2 | D12: 2 | E12: <size=40>罗汉伏虎</size> | F12: <size=34><color=#00FF66>流派特色：</color></size>\n以伏虎罗汉为绝对核心，其他角色辅助增益，单点击杀无限收割 | G12: 10009#10015#10043#10006#10089#10008 | H12: 1位：女儿国王，无敌盾，攻击光环，回怒；#2位：伏虎罗汉，单点收割，必定暴击，击杀回怒；#3位：王母娘娘，攻击光环，单体减怒，单体回怒；#4位：牛魔王，无敌盾，攻击光环，回怒；#5位：燃灯，攻击光环，后排回怒；#6位：精卫，回怒，暴击光环，技能无消耗. | I12: 1
B13: 12 | C13: 1 | D13: 3 | E13: <size=40>灼烧输出队</size> | F13: <size=34><color=#00FF66>流派特色：</color></size>\n人系神将具有强大的灼烧能力，并且对处于灼烧状态的敌人有大量输出加成。围绕灼烧武将的能力进行搭配，利用灼烧后的巨量伤害加成，最大化发挥灼烧队伍的优势。\n<size=34><color=#00FF66>阵容思路：</color></size>\n闻太师为核心配合嫦娥和蚩尤输出，吴刚肉盾抗伤女儿国王和慈航道人辅助治疗，能力综合平稳输出 | G13: 10009#10087#10016#10001#10004#10017 | H13: 1位：女儿国王，无敌盾，攻击光环，回怒；#2位：闻太师，阵容核心，对后排纵火；#3位：吴刚，肉盾，高额减伤，无敌盾；#4位：蚩尤，后排输出，高爆发，追加普攻；#5位：慈航道人，全体治疗，持续治疗；#6位：嫦娥，单点收割，高爆发. | I13: 1
... B28: 27 | C28: 2 | D28: 10 | E28: <size=40>观音显威</size> | F28: <size=34><color=#00FF66>流派特色：</color></size>\n以观音为主要输出并通过其他辅助对攻击的加成，打出爆炸伤害。\n<size=34><color=#00FF66>阵容思路：</color></size>\n以观音菩萨为核心输出，通过女儿国王、燃灯、牛魔王增加伤害加成，用阎魔王、牛魔王和姜子牙确保足够的防御能力，达到超高爆发的效果 | G28: 10092#10009#10094#10089#10024#10006 | H28: 1位：观音菩萨，双纵排输出，追加技能；#2位：女儿国王，无敌盾，攻击光环，回怒；#3位：阎魔王，治疗，光环辅助；#4位：燃灯，攻击光环，后排回怒；#5位：姜子牙，全体治疗，复活，死亡追加技能；#6位：牛魔王，光环辅助，无敌护盾； | I28: 1
