{"text_format":"3","workbook":"xlsx","n_sheets":5,"sheets":["HeroRankupConfig","Sheet3","Sheet1","说明表","Sheet2"],"not_rendered":{"external_links":1},"read":"whole","date_system":"1900"}

{"sheet":"HeroRankupConfig","index":0,"n_rows":31,"n_cols":15,"rows_kept":31}
[null,"Id","Type","RankupPara","LimitLevel","OpenLevel","LimitStar","OpenStar","ConsumeMaterial","Star","Show","SumConsume","JudgeClass","PropertiesDisplay","Phase"]
[null,"int","int","mut,int#int,2","int","int","int","int","mut,int#int,2","int","int","mut,int#int,2","int","int","mut,int#int,1"]
[null,2,2,2,2,2,2,2,2,2,2,2,3,3,2]
[null,"无意义","1突破\n2升星","升星变量/升星系数/突破变量                                                                                                                           1突破增加值为突破定值\n2攻/血升星增加值为角色初始属性加升级属性乘星级参数（万分比）                                                                             3防御为升星定值\n总属性=（角色基础属性+角色升级属性）* 星级系数+升星变量+进阶总属性                                                    （星级系数有系数乘系数没系数乘1，升星变量有变量加变量没变量加0）                 ","限制等级","开放等级","星级限制","星级变化","消耗材料","初始星级","页签显示\n1成长\n2进阶","累计养成材料\n（计算返还使用，仅限做为狗粮被吃掉时）","判断是否为突破的最后一阶，用于突破后显示的等级上限\n（如果为最后一阶，需要判断当前星级和初始星级的关系，取星级对应的最大等级）","属性提升（界面显示）","突破/升星#星级/突破阶段\n1突破\n2升星"]
["默认值",0,0,0,null,0,0,0,"null",0,0,"null",0,0]
["正确性校对"]
["校对值"]
[null,1,1,"2#300#0|1#2000#0|3#100#0|4#100#0",30,40,5,5,"14#10000|4#50",5,1,null,0,3000,"1#1"]
[null,2,1,"2#1050#0|1#7000#0|3#350#0|4#350#0",40,50,5,5,"14#20000|4#100",5,1,null,0,1900,"1#2"]
[null,3,1,"2#2460#0|1#16400#0|3#820#0|4#820#0",50,60,5,5,"14#40000|4#200",5,1,null,0,4100,"1#3"]
[null,4,1,"2#4800#0|1#32000#0|3#1600#0|4#1600#0",60,80,5,5,"14#100000|4#500",5,1,null,0,3500,"1#4"]
[null,5,1,"2#8580#0|1#57200#0|3#2860#0|4#2860#0",80,100,5,5,"14#200000|4#1000",5,1,null,1,3100,"1#5"]
[null,6,1,"2#14814#0|1#98760#0|3#4938#0|4#4938#0",100,145,6,6,"14#500000|4#2000",5,1,null,1,2700,"1#6"]
[null,7,2,"2#0#15000|1#0#14600|3#60#0|4#60#0",1,145,5,6,"14#0|4#0",5,2,null,0,6600,"2#6"]
[null,8,2,"2#0#23000|1#0#21300|3#120#0|4#120#0",1,165,6,7,"14#0|4#1000",5,2,null,0,1100,"2#7"]
[null,9,2,"2#0#34900|1#0#31100|3#180#0|4#180#0",1,185,7,8,"14#0|4#2000",5,2,null,0,2100,"2#8"]
[null,10,2,"2#0#53000|1#0#45000|3#240#0|4#240#0",1,205,8,9,"14#0|4#4000",5,2,null,0,3200,"2#9"]
[null,11,2,"2#0#80000|1#0#66000|3#300#0|4#300#0",1,255,9,10,"14#0|4#10000",5,2,null,0,1200,"2#10"]
[null,12,2,"2#0#122000|1#0#96800|3#360#0|4#360#0",1,330,10,11,"14#0|4#20000",5,2,null,1,1100,"2#11"]
[null,13,1,"2#300#0|1#2000#0|3#100#0|4#100#0",30,40,4,4,"14#10000|4#50",4,1,null,0,1300,"1#1"]
[null,14,1,"2#1050#0|1#7000#0|3#350#0|4#350#0",40,50,4,4,"14#20000|4#100",4,1,null,0,1200,"1#2"]
[null,15,1,"2#2460#0|1#16400#0|3#820#0|4#820#0",50,60,4,4,"14#40000|4#200",4,1,null,0,800,"1#3"]
[null,16,1,"2#4800#0|1#32000#0|3#1600#0|4#1600#0",60,80,4,4,"14#100000|4#500",4,1,null,1,700,"1#4"]
[null,17,1,"2#8580#0|1#57200#0|3#2860#0|4#2860#0",80,100,5,5,"14#500000|4#2000",4,1,null,1,1400,"1#5"]
[null,18,2,"2#0#12307|1#0#12000|3#50#0|4#50#0",1,100,4,5,"14#0|4#0",4,2,null,1,3000,"2#5"]
[null,19,1,"2#300#0|1#2000#0|3#100#0|4#100#0",30,40,3,3,"14#10000|4#50",3,1,null,0,1900,"1#1"]
[null,20,1,"2#1050#0|1#7000#0|3#350#0|4#350#0",40,50,3,3,"14#20000|4#100",3,1,null,0,4100,"1#2"]
[null,21,1,"2#2460#0|1#16400#0|3#820#0|4#820#0",50,60,3,3,"14#40000|4#200",3,1,null,1,3500,"1#3"]
[null,22,1,"2#300#0|1#2000#0|3#100#0|4#100#0",30,40,2,2,"14#10000|4#50",2,1,null,0,3500,"1#1"]
[null,23,1,"2#1050#0|1#7000#0|3#350#0|4#350#0",40,50,2,2,"14#20000|4#100",2,1,null,1,3500,"1#2"]
[null,24,1,"2#300#0|1#2000#0|3#100#0|4#100#0",30,40,1,1,"14#10000|4#50",1,1,null,1,3500,"1#1"]

{"sheet":"Sheet3","index":1,"n_rows":78,"n_cols":26,"rows_kept":78}
[]
[]
[]
[1,2,{"$f":"B4&G4&E4&G4&F4","v":"2#300#0"},null,300,0,"#",null,1,{"$f":"I4&N4&L4&N4&M4","v":"1#2000#0"},null,2000,0,"#",4,{"$f":"O4&T4&R4&T4&S4","v":"4#100#0"},null,100,0,"#",4,null,null,100,0,"#"]
[1,2,{"$f":"B5&G5&E5&G5&F5","v":"2#1050#0"},null,1050,0,"#",null,1,{"$f":"I5&N5&L5&N5&M5","v":"1#7000#0"},null,7000,0,"#",4,{"$f":"O5&T5&R5&T5&S5","v":"4#350#0"},null,350,0,"#",4,null,null,350,0,"#"]
[1,2,"2#2460#0",null,2460,0,"#",null,1,"1#16400#0",null,16400,0,"#",4,"4#820#0",null,820,0,"#",4,null,null,820,0,"#"]
[1,2,"2#4800#0",null,4800,0,"#",null,1,"1#32000#0",null,32000,0,"#",4,"4#1600#0",null,1600,0,"#",4,null,null,1600,0,"#"]
[1,2,"2#8580#0",null,8580,0,"#",null,1,"1#57200#0",null,57200,0,"#",4,"4#2860#0",null,2860,0,"#",4,null,null,2860,0,"#"]
[1,2,"2#14814#0",null,14814,0,"#",null,1,"1#98760#0",null,98760,0,"#",4,"4#4938#0",null,4938,0,"#",4,null,null,4938,0,"#"]
[2,2,"2#0#15000",null,0,15000,"#",null,1,"1#0#14600",null,0,14600,"#",4,"4#60#0",null,60,0,"#",4,null,null,60,0,"#"]
[2,2,"2#0#38000",null,0,38000,"#",null,1,"1#0#35900",null,0,35900,"#",4,"4#180#0",null,180,0,"#",4,null,null,180,0,"#"]
[2,2,"2#0#72900",null,0,72900,"#",null,1,"1#0#67000",null,0,67000,"#",4,"4#360#0",null,360,0,"#",4,null,null,360,0,"#"]
[2,2,"2#0#125900",null,0,125900,"#",null,1,"1#0#112000",null,0,112000,"#",4,"4#600#0",null,600,0,"#",4,null,null,600,0,"#"]
[2,2,"2#0#205900",null,0,205900,"#",null,1,"1#0#178000",null,0,178000,"#",4,"4#900#0",null,900,0,"#",4,null,null,900,0,"#"]
[2,2,"2#0#327900",null,0,327900,"#",null,1,"1#0#274800",null,0,274800,"#",4,"4#1260#0",null,1260,0,"#",4,null,null,1260,0,"#"]
[1,2,"2#300#0",null,300,0,"#",null,1,"1#2000#0",null,2000,0,"#",4,"4#100#0",null,100,0,"#",4,null,null,100,0,"#"]
[1,2,"2#1050#0",null,1050,0,"#",null,1,"1#7000#0",null,7000,0,"#",4,"4#350#0",null,350,0,"#",4,null,null,350,0,"#"]
[1,2,"2#2460#0",null,2460,0,"#",null,1,"1#16400#0",null,16400,0,"#",4,"4#820#0",null,820,0,"#",4,null,null,820,0,"#"]
[1,2,"2#4800#0",null,4800,0,"#",null,1,"1#32000#0",null,32000,0,"#",4,"4#1600#0",null,1600,0,"#",4,null,null,1600,0,"#"]
[1,2,"2#8580#0",null,8580,0,"#",null,1,"1#57200#0",null,57200,0,"#",4,"4#2860#0",null,2860,0,"#",4,null,null,2860,0,"#"]
[2,2,"2#0#12307",null,0,12307,"#",null,1,"1#0#12000",null,0,12000,"#",4,"4#50#0",null,50,0,"#",4,null,null,50,0,"#"]
[1,2,"2#300#0",null,300,0,"#",null,1,"1#2000#0",null,2000,0,"#",4,"4#100#0",null,100,0,"#",4,null,null,100,0,"#"]
[1,2,"2#1050#0",null,1050,0,"#",null,1,"1#7000#0",null,7000,0,"#",4,"4#350#0",null,350,0,"#",4,null,null,350,0,"#"]
[1,2,"2#2460#0",null,2460,0,"#",null,1,"1#16400#0",null,16400,0,"#",4,"4#820#0",null,820,0,"#",4,null,null,820,0,"#"]
[1,2,"2#300#0",null,300,0,"#",null,1,"1#2000#0",null,2000,0,"#",4,"4#100#0",null,100,0,"#",4,null,null,100,0,"#"]
[1,2,"2#1050#0",null,1050,0,"#",null,1,"1#7000#0",null,7000,0,"#",4,"4#350#0",null,350,0,"#",4,null,null,350,0,"#"]
[1,2,"2#300#0",null,300,0,"#",null,1,"1#2000#0",null,2000,0,"#",4,"4#100#0",null,100,0,"#",4,null,null,100,0,"#"]
[]
[null,"|","2#300#0",null,{"$f":"C29&B29&J29&B29&P29&B29&V29","v":"2#300#0|1#2000#0|3#100#0|4#100#0"},{"$nulls":4},"1#2000#0",{"$nulls":5},"3#100#0",{"$nulls":5},"4#100#0"]
[null,"|","2#1050#0",null,{"$f":"C30&B30&J30&B30&P30&B30&V30","v":"2#1050#0|1#7000#0|3#350#0|4#350#0"},{"$nulls":4},"1#7000#0",{"$nulls":5},"3#350#0",{"$nulls":5},"4#350#0"]
[null,"|","2#2460#0",null,"2#2460#0|1#16400#0|3#820#0|4#820#0",{"$nulls":4},"1#16400#0",{"$nulls":5},"3#820#0",{"$nulls":5},"4#820#0"]
[null,"|","2#4800#0",null,"2#4800#0|1#32000#0|3#1600#0|4#1600#0",{"$nulls":4},"1#32000#0",{"$nulls":5},"3#1600#0",{"$nulls":5},"4#1600#0"]
[null,"|","2#8580#0",null,"2#8580#0|1#57200#0|3#2860#0|4#2860#0",{"$nulls":4},"1#57200#0",{"$nulls":5},"3#2860#0",{"$nulls":5},"4#2860#0"]
[null,"|","2#14814#0",null,"2#14814#0|1#98760#0|3#4938#0|4#4938#0",{"$nulls":4},"1#98760#0",{"$nulls":5},"3#4938#0",{"$nulls":5},"4#4938#0"]
[null,"|","2#0#15000",null,"2#0#15000|1#0#14600|3#60#0|4#60#0",{"$nulls":4},"1#0#14600",{"$nulls":5},"3#60#0",{"$nulls":5},"4#60#0"]
[null,"|","2#0#38000",null,"2#0#38000|1#0#35900|3#180#0|4#180#0",{"$nulls":4},"1#0#35900",{"$nulls":5},"3#180#0",{"$nulls":5},"4#180#0"]
[null,"|","2#0#72900",null,"2#0#72900|1#0#67000|3#360#0|4#360#0",{"$nulls":4},"1#0#67000",{"$nulls":5},"3#360#0",{"$nulls":5},"4#360#0"]
[null,"|","2#0#125900",null,"2#0#125900|1#0#112000|3#600#0|4#600#0",{"$nulls":4},"1#0#112000",{"$nulls":5},"3#600#0",{"$nulls":5},"4#600#0"]
[null,"|","2#0#205900",null,"2#0#205900|1#0#178000|3#900#0|4#900#0",{"$nulls":4},"1#0#178000",{"$nulls":5},"3#900#0",{"$nulls":5},"4#900#0"]
[null,"|","2#0#327900",null,"2#0#327900|1#0#274800|3#1260#0|4#1260#0",{"$nulls":4},"1#0#274800",{"$nulls":5},"3#1260#0",{"$nulls":5},"4#1260#0"]
[null,"|","2#300#0",null,"2#300#0|1#2000#0|3#100#0|4#100#0",{"$nulls":4},"1#2000#0",{"$nulls":5},"3#100#0",{"$nulls":5},"4#100#0"]
[null,"|","2#1050#0",null,"2#1050#0|1#7000#0|3#350#0|4#350#0",{"$nulls":4},"1#7000#0",{"$nulls":5},"3#350#0",{"$nulls":5},"4#350#0"]
[null,"|","2#2460#0",null,"2#2460#0|1#16400#0|3#820#0|4#820#0",{"$nulls":4},"1#16400#0",{"$nulls":5},"3#820#0",{"$nulls":5},"4#820#0"]
[null,"|","2#4800#0",null,"2#4800#0|1#32000#0|3#1600#0|4#1600#0",{"$nulls":4},"1#32000#0",{"$nulls":5},"3#1600#0",{"$nulls":5},"4#1600#0"]
[null,"|","2#8580#0",null,"2#8580#0|1#57200#0|3#2860#0|4#2860#0",{"$nulls":4},"1#57200#0",{"$nulls":5},"3#2860#0",{"$nulls":5},"4#2860#0"]
[null,"|","2#0#12307",null,"2#0#12307|1#0#12000|3#50#0|4#50#0",{"$nulls":4},"1#0#12000",{"$nulls":5},"3#50#0",{"$nulls":5},"4#50#0"]
[null,"|","2#300#0",null,"2#300#0|1#2000#0|3#100#0|4#100#0",{"$nulls":4},"1#2000#0",{"$nulls":5},"3#100#0",{"$nulls":5},"4#100#0"]
[null,"|","2#1050#0",null,"2#1050#0|1#7000#0|3#350#0|4#350#0",{"$nulls":4},"1#7000#0",{"$nulls":5},"3#350#0",{"$nulls":5},"4#350#0"]
[null,"|","2#2460#0",null,"2#2460#0|1#16400#0|3#820#0|4#820#0",{"$nulls":4},"1#16400#0",{"$nulls":5},"3#820#0",{"$nulls":5},"4#820#0"]
[null,"|","2#300#0",null,"2#300#0|1#2000#0|3#100#0|4#100#0",{"$nulls":4},"1#2000#0",{"$nulls":5},"3#100#0",{"$nulls":5},"4#100#0"]
[null,"|","2#1050#0",null,"2#1050#0|1#7000#0|3#350#0|4#350#0",{"$nulls":4},"1#7000#0",{"$nulls":5},"3#350#0",{"$nulls":5},"4#350#0"]
[null,"|","2#300#0",null,"2#300#0|1#2000#0|3#100#0|4#100#0",{"$nulls":4},"1#2000#0",{"$nulls":5},"3#100#0",{"$nulls":5},"4#100#0"]
[]
[]
[null,null,"2#300#0|1#2000#0|3#100#0|4#100#0"]
[null,null,"2#1050#0|1#7000#0|3#350#0|4#350#0"]
[null,null,"2#2460#0|1#16400#0|3#820#0|4#820#0"]
[null,null,"2#4800#0|1#32000#0|3#1600#0|4#1600#0"]
[null,null,"2#8580#0|1#57200#0|3#2860#0|4#2860#0"]
[null,null,"2#14814#0|1#98760#0|3#4938#0|4#4938#0"]
[null,null,"2#0#15000|1#0#14600|3#60#0|4#60#0"]
[null,null,"2#0#38000|1#0#35900|3#180#0|4#180#0"]
[null,null,"2#0#72900|1#0#67000|3#360#0|4#360#0"]
[null,null,"2#0#125900|1#0#112000|3#600#0|4#600#0"]
[null,null,"2#0#205900|1#0#178000|3#900#0|4#900#0"]
[null,null,"2#0#327900|1#0#274800|3#1260#0|4#1260#0"]
[null,null,"2#300#0|1#2000#0|3#100#0|4#100#0"]
[null,null,"2#1050#0|1#7000#0|3#350#0|4#350#0"]
[null,null,"2#2460#0|1#16400#0|3#820#0|4#820#0"]
[null,null,"2#4800#0|1#32000#0|3#1600#0|4#1600#0"]
[null,null,"2#8580#0|1#57200#0|3#2860#0|4#2860#0"]
[null,null,"2#0#12307|1#0#12000|3#50#0|4#50#0"]
[null,null,"2#300#0|1#2000#0|3#100#0|4#100#0"]
[null,null,"2#1050#0|1#7000#0|3#350#0|4#350#0"]
[null,null,"2#2460#0|1#16400#0|3#820#0|4#820#0"]
[null,null,"2#300#0|1#2000#0|3#100#0|4#100#0"]
[null,null,"2#1050#0|1#7000#0|3#350#0|4#350#0"]
[null,null,"2#300#0|1#2000#0|3#100#0|4#100#0"]

{"sheet":"Sheet1","index":2,"n_rows":40,"n_cols":20,"rows_kept":40}
[]
[]
["突破次数","金币","数量","紫球","数量","输出1","输出2","输出"]
[1,2,10000,1101,20,{"$f":"[1]!SUMSTRING(B4:C4,\"#\")","v":{"$error":"#NAME?"}},{"$f":"[1]!SUMSTRING(D4:E4,\"#\")","v":{"$error":"#NAME?"}},{"$f":"[1]!SUMSTRING(F4:G4,\"|\")","v":{"$error":"#NAME?"}},null,null,{"$f":"SUM($E$4:E4)","v":20}]
[2,2,20000,1101,40,{"$f":"[1]!SUMSTRING(B5:C5,\"#\")","v":{"$error":"#NAME?"}},{"$f":"[1]!SUMSTRING(D5:E5,\"#\")","v":{"$error":"#NAME?"}},{"$f":"[1]!SUMSTRING(F5:G5,\"|\")","v":{"$error":"#NAME?"}},null,null,{"$f":"SUM($E$4:E5)","v":60}]
[3,2,30000,1101,100,{"$f":"[1]!SUMSTRING(B6:C6,\"#\")","v":{"$error":"#NAME?"}},{"$f":"[1]!SUMSTRING(D6:E6,\"#\")","v":{"$error":"#NAME?"}},{"$f":"[1]!SUMSTRING(F6:G6,\"|\")","v":{"$error":"#NAME?"}},null,null,{"$f":"SUM($E$4:E6)","v":160}]
[4,2,30000,1101,300,{"$f":"[1]!SUMSTRING(B7:C7,\"#\")","v":{"$error":"#NAME?"}},{"$f":"[1]!SUMSTRING(D7:E7,\"#\")","v":{"$error":"#NAME?"}},{"$f":"[1]!SUMSTRING(F7:G7,\"|\")","v":{"$error":"#NAME?"}},null,null,{"$f":"SUM($E$4:E7)","v":460}]
[5,2,70000,1101,1000,{"$f":"[1]!SUMSTRING(B8:C8,\"#\")","v":{"$error":"#NAME?"}},{"$f":"[1]!SUMSTRING(D8:E8,\"#\")","v":{"$error":"#NAME?"}},{"$f":"[1]!SUMSTRING(F8:G8,\"|\")","v":{"$error":"#NAME?"}},null,null,{"$f":"SUM($E$4:E8)","v":1460}]
[6,2,120000,1101,0,{"$f":"[1]!SUMSTRING(B9:C9,\"#\")","v":{"$error":"#NAME?"}},{"$f":"[1]!SUMSTRING(D9:E9,\"#\")","v":{"$error":"#NAME?"}},{"$f":"[1]!SUMSTRING(F9:G9,\"|\")","v":{"$error":"#NAME?"}},null,null,{"$f":"SUM($E$4:E9)","v":1460}]
[7,2,0,1101,2000,{"$f":"[1]!SUMSTRING(B10:C10,\"#\")","v":{"$error":"#NAME?"}},{"$f":"[1]!SUMSTRING(D10:E10,\"#\")","v":{"$error":"#NAME?"}},{"$f":"[1]!SUMSTRING(F10:G10,\"|\")","v":{"$error":"#NAME?"}},null,null,{"$f":"SUM($E$4:E10)","v":3460}]
[8,2,0,1101,3000,{"$f":"[1]!SUMSTRING(B11:C11,\"#\")","v":{"$error":"#NAME?"}},{"$f":"[1]!SUMSTRING(D11:E11,\"#\")","v":{"$error":"#NAME?"}},{"$f":"[1]!SUMSTRING(F11:G11,\"|\")","v":{"$error":"#NAME?"}},null,null,{"$f":"SUM($E$4:E11)","v":6460}]
[9,2,0,1101,4000,{"$f":"[1]!SUMSTRING(B12:C12,\"#\")","v":{"$error":"#NAME?"}},{"$f":"[1]!SUMSTRING(D12:E12,\"#\")","v":{"$error":"#NAME?"}},{"$f":"[1]!SUMSTRING(F12:G12,\"|\")","v":{"$error":"#NAME?"}},null,null,{"$f":"SUM($E$4:E12)","v":10460}]
[10,2,0,1101,10000,{"$f":"[1]!SUMSTRING(B13:C13,\"#\")","v":{"$error":"#NAME?"}},{"$f":"[1]!SUMSTRING(D13:E13,\"#\")","v":{"$error":"#NAME?"}},{"$f":"[1]!SUMSTRING(F13:G13,\"|\")","v":{"$error":"#NAME?"}},null,null,{"$f":"SUM($E$4:E13)","v":20460}]
[]
[]
[]
[]
[]
[{"$nulls":8},4,20,null,26,250,null,{"$f":"[1]!SUMSTRING(I19:J19,\"#\")","v":{"$error":"#NAME?"}},null,null,{"$f":"[1]!SUMSTRING(L19:M19,\"#\")","v":{"$error":"#NAME?"}},null,{"$f":"[1]!SUMSTRING(O19:R19,\"|\")","v":{"$error":"#NAME?"}}]
[{"$nulls":8},4,60,null,26,250,null,{"$f":"[1]!SUMSTRING(I20:J20,\"#\")","v":{"$error":"#NAME?"}},null,null,{"$f":"[1]!SUMSTRING(L20:M20,\"#\")","v":{"$error":"#NAME?"}},null,{"$f":"[1]!SUMSTRING(O20:R20,\"|\")","v":{"$error":"#NAME?"}}]
[{"$nulls":8},4,160,null,26,250,null,{"$f":"[1]!SUMSTRING(I21:J21,\"#\")","v":{"$error":"#NAME?"}},null,null,{"$f":"[1]!SUMSTRING(L21:M21,\"#\")","v":{"$error":"#NAME?"}},null,{"$f":"[1]!SUMSTRING(O21:R21,\"|\")","v":{"$error":"#NAME?"}}]
[{"$nulls":8},4,460,null,26,250,null,{"$f":"[1]!SUMSTRING(I22:J22,\"#\")","v":{"$error":"#NAME?"}},null,null,{"$f":"[1]!SUMSTRING(L22:M22,\"#\")","v":{"$error":"#NAME?"}},null,{"$f":"[1]!SUMSTRING(O22:R22,\"|\")","v":{"$error":"#NAME?"}}]
[{"$nulls":8},4,1460,null,26,250,null,{"$f":"[1]!SUMSTRING(I23:J23,\"#\")","v":{"$error":"#NAME?"}},null,null,{"$f":"[1]!SUMSTRING(L23:M23,\"#\")","v":{"$error":"#NAME?"}},null,{"$f":"[1]!SUMSTRING(O23:R23,\"|\")","v":{"$error":"#NAME?"}}]
[{"$nulls":8},4,1460,null,26,1250,null,{"$f":"[1]!SUMSTRING(I24:J24,\"#\")","v":{"$error":"#NAME?"}},null,null,{"$f":"[1]!SUMSTRING(L24:M24,\"#\")","v":{"$error":"#NAME?"}},null,{"$f":"[1]!SUMSTRING(O24:R24,\"|\")","v":{"$error":"#NAME?"}}]
[{"$nulls":8},4,3460,null,26,1250,null,{"$f":"[1]!SUMSTRING(I25:J25,\"#\")","v":{"$error":"#NAME?"}},null,null,{"$f":"[1]!SUMSTRING(L25:M25,\"#\")","v":{"$error":"#NAME?"}},null,{"$f":"[1]!SUMSTRING(O25:R25,\"|\")","v":{"$error":"#NAME?"}}]
[{"$nulls":8},4,6460,null,26,1250,null,{"$f":"[1]!SUMSTRING(I26:J26,\"#\")","v":{"$error":"#NAME?"}},null,null,{"$f":"[1]!SUMSTRING(L26:M26,\"#\")","v":{"$error":"#NAME?"}},null,{"$f":"[1]!SUMSTRING(O26:R26,\"|\")","v":{"$error":"#NAME?"}}]
[{"$nulls":8},4,10460,null,26,1250,null,{"$f":"[1]!SUMSTRING(I27:J27,\"#\")","v":{"$error":"#NAME?"}},null,null,{"$f":"[1]!SUMSTRING(L27:M27,\"#\")","v":{"$error":"#NAME?"}},null,{"$f":"[1]!SUMSTRING(O27:R27,\"|\")","v":{"$error":"#NAME?"}}]
[{"$nulls":8},4,20460,null,26,1250,null,{"$f":"[1]!SUMSTRING(I28:J28,\"#\")","v":{"$error":"#NAME?"}},null,null,{"$f":"[1]!SUMSTRING(L28:M28,\"#\")","v":{"$error":"#NAME?"}},null,{"$f":"[1]!SUMSTRING(O28:R28,\"|\")","v":{"$error":"#NAME?"}}]
[{"$nulls":8},4,20,null,26,25,null,{"$f":"[1]!SUMSTRING(I29:J29,\"#\")","v":{"$error":"#NAME?"}},null,null,{"$f":"[1]!SUMSTRING(L29:M29,\"#\")","v":{"$error":"#NAME?"}},null,{"$f":"[1]!SUMSTRING(O29:R29,\"|\")","v":{"$error":"#NAME?"}}]
[{"$nulls":8},4,60,null,26,25,null,{"$f":"[1]!SUMSTRING(I30:J30,\"#\")","v":{"$error":"#NAME?"}},null,null,{"$f":"[1]!SUMSTRING(L30:M30,\"#\")","v":{"$error":"#NAME?"}},null,{"$f":"[1]!SUMSTRING(O30:R30,\"|\")","v":{"$error":"#NAME?"}}]
[{"$nulls":8},4,160,null,26,25,null,{"$f":"[1]!SUMSTRING(I31:J31,\"#\")","v":{"$error":"#NAME?"}},null,null,{"$f":"[1]!SUMSTRING(L31:M31,\"#\")","v":{"$error":"#NAME?"}},null,{"$f":"[1]!SUMSTRING(O31:R31,\"|\")","v":{"$error":"#NAME?"}}]
[{"$nulls":8},4,460,null,26,25,null,{"$f":"[1]!SUMSTRING(I32:J32,\"#\")","v":{"$error":"#NAME?"}},null,null,{"$f":"[1]!SUMSTRING(L32:M32,\"#\")","v":{"$error":"#NAME?"}},null,{"$f":"[1]!SUMSTRING(O32:R32,\"|\")","v":{"$error":"#NAME?"}}]
[{"$nulls":8},4,1460,null,26,250,null,{"$f":"[1]!SUMSTRING(I33:J33,\"#\")","v":{"$error":"#NAME?"}},null,null,{"$f":"[1]!SUMSTRING(L33:M33,\"#\")","v":{"$error":"#NAME?"}},null,{"$f":"[1]!SUMSTRING(O33:R33,\"|\")","v":{"$error":"#NAME?"}}]
[{"$nulls":8},4,1460,null,26,1250,null,{"$f":"[1]!SUMSTRING(I34:J34,\"#\")","v":{"$error":"#NAME?"}},null,null,{"$f":"[1]!SUMSTRING(L34:M34,\"#\")","v":{"$error":"#NAME?"}},null,{"$f":"[1]!SUMSTRING(O34:R34,\"|\")","v":{"$error":"#NAME?"}}]
[{"$nulls":8},4,3460,null,26,1250,null,{"$f":"[1]!SUMSTRING(I35:J35,\"#\")","v":{"$error":"#NAME?"}},null,null,{"$f":"[1]!SUMSTRING(L35:M35,\"#\")","v":{"$error":"#NAME?"}},null,{"$f":"[1]!SUMSTRING(O35:R35,\"|\")","v":{"$error":"#NAME?"}}]
[{"$nulls":8},4,6460,null,26,1250,null,{"$f":"[1]!SUMSTRING(I36:J36,\"#\")","v":{"$error":"#NAME?"}},null,null,{"$f":"[1]!SUMSTRING(L36:M36,\"#\")","v":{"$error":"#NAME?"}},null,{"$f":"[1]!SUMSTRING(O36:R36,\"|\")","v":{"$error":"#NAME?"}}]
[{"$nulls":8},4,10460,null,26,1250,null,{"$f":"[1]!SUMSTRING(I37:J37,\"#\")","v":{"$error":"#NAME?"}},null,null,{"$f":"[1]!SUMSTRING(L37:M37,\"#\")","v":{"$error":"#NAME?"}},null,{"$f":"[1]!SUMSTRING(O37:R37,\"|\")","v":{"$error":"#NAME?"}}]
[{"$nulls":8},4,20460,null,26,1250,null,{"$f":"[1]!SUMSTRING(I38:J38,\"#\")","v":{"$error":"#NAME?"}},null,null,{"$f":"[1]!SUMSTRING(L38:M38,\"#\")","v":{"$error":"#NAME?"}},null,{"$f":"[1]!SUMSTRING(O38:R38,\"|\")","v":{"$error":"#NAME?"}}]
[{"$nulls":8},4,20,null,26,10,null,{"$f":"[1]!SUMSTRING(I39:J39,\"#\")","v":{"$error":"#NAME?"}},null,null,{"$f":"[1]!SUMSTRING(L39:M39,\"#\")","v":{"$error":"#NAME?"}},null,{"$f":"[1]!SUMSTRING(O39:R39,\"|\")","v":{"$error":"#NAME?"}}]
[{"$nulls":8},4,60,null,26,10,null,{"$f":"[1]!SUMSTRING(I40:J40,\"#\")","v":{"$error":"#NAME?"}},null,null,{"$f":"[1]!SUMSTRING(L40:M40,\"#\")","v":{"$error":"#NAME?"}},null,{"$f":"[1]!SUMSTRING(O40:R40,\"|\")","v":{"$error":"#NAME?"}}]

{"sheet":"说明表","index":3,"n_rows":1,"n_cols":1,"rows_kept":1}
["属性#绝对值#万分比|"]

{"sheet":"Sheet2","index":4,"n_rows":1,"n_cols":7,"rows_kept":1}
[2,"2#8125|1#8333|3#30|4#30","1#1#2#2",1,100,3,4]